{"text_format":"1","workbook":"xlsx","n_sheets":16,"sheets":["交付規程様式(コミュニティFM)⇒","1_様式1_応募申請書","2_別紙1-2_実施計画書","3_共同事業者追加シート","4_別紙2-2_経費内訳","5_様式第１_交付申請書","6_様式第１０_完了実績報告書","7_別紙1-2_実施報告書","8_別紙2-2_経費所要額精算調書","PDCAシート様式⇒","9_PDCAシート（手順書）","10_PDCAチェックシート【事業開始時】事業全体","11_PDCAチェックシート【実施期間中】個別事業","12_PDCAチェックシート【事業終了時】事業全体","13_（参考）普及啓発テーマ・訴求手法","【管理者用】"],"not_rendered":{"charts":0,"images":0,"macros":1,"external_links":0,"defined_names":18,"comments":3,"pivot_tables":0},"unopened":[],"bounds":{"document_bytes":16777216,"sheet_cells":100000,"rows_first":2000,"rows_last":500,"rows_between":2000,"halvings":0,"cell_chars":16384,"cell_head_chars":4096},"cells_cut":0,"cells_raw":0,"read":"whole","date_system":"1900"}

{"sheet":"交付規程様式(コミュニティFM)⇒","index":0,"n_rows":19,"n_cols":3,"rows_kept":19,"cut":false,"hidden":false,"merged":[]}
["地域コミュニティを活用した地球温暖化対策啓発事業　様式集"]
[1,"様式１","応募申請書"]
[2,"別紙１－２","実施計画書"]
[3,null,"共同事業者追加シート"]
[4,"別紙２－２","経費内訳"]
[5,"様式第１","交付申請書"]
[6,"様式第１０","完了実績報告書"]
[7,"別紙１－２","実施報告書"]
[8,"別紙２－２","経費所要額精算調書"]
[null,"PDCAシート様式等"]
[9,null,"PDCAシート（手順書）"]
[10,null,"PDCAチェックシート（事業全体）※事業開始当初記入"]
[11,null,"PDCAチェックシート（個別事業）"]
[12,null,"PDCAチェックシート（事業全体）※事業終了時記入"]
[13,null,"（参考）普及啓発テーマ・訴求手法"]
[]
[null,"応募申請時には１、２、４を使用してください。"]
[null,"交付申請時には５、２、４を使用してください。"]
[null,"３は別紙１－１の共同事業者欄が不足する場合に使用してください。"]

{"sheet":"1_様式1_応募申請書","index":1,"n_rows":40,"n_cols":23,"rows_kept":40,"cut":false,"hidden":false,"merged":[[37,4,37,21],[38,4,38,21],[39,4,39,21],[10,3,10,7],[31,11,31,14],[31,16,31,22],[32,11,32,14],[32,16,32,22],[33,2,33,3],[28,11,28,14],[28,16,28,22],[29,11,29,14],[29,16,29,22],[30,11,30,14],[30,16,30,22],[25,11,25,14],[25,16,25,22],[26,11,26,14],[26,16,26,22],[27,11,27,14],[27,16,27,22],[24,11,24,23],[12,8,12,11],[13,8,13,11],[15,2,15,22],[16,2,16,22],[17,2,17,22],[19,2,19,22],[20,2,20,22],[22,2,22,22],[13,13,13,16],[13,18,13,20],[12,13,12,20],[10,8,10,11],[1,2,1,22],[3,16,3,21],[6,2,6,22],[7,2,7,22],[4,15,4,16],[10,13,11,20]]}
[]
[null,null,"【様式1】"]
[]
[null,null,null,null,null,null,null,null,null,null,null,null,null,null,null,null,null,null,null,null,null,null,"号"]
[null,null,null,null,null,null,null,null,null,null,null,null,null,null,null,"平成",null,null,"年",null,"月",null,"日"]
[]
[null,null,"一般社団法人低炭素社会創出促進協会"]
[null,null,"　代表理事　　吉　澤　　保　幸　　殿"]
[]
[]
[null,null,"　　　　　　　　　　　          　申請者　住　　　　所","申  請  者",null,null,null,null,"住所"]
[]
[null,null,null,null,null,null,null,null,"氏名又は名称"]
[null,null,null,null,null,null,null,null,"代表者の職・氏名",null,null,null,null,null,null,null,null,"・",null,null,null,"印"]
[]
[null,null,"２０１９年度（平成３１年度）二酸化炭素排出抑制対策事業費等補助金"]
[null,null,"地方公共団体と連携したCO2排出削減促進事業　"]
[null,null,"（地域コミュニティを活用した地球温暖化啓発事業）応募申請書"]
[]
[null,null,"　標記について、以下の必要書類を添えて申請します。\n　\n １．実施計画書（別紙１-２）及び、記載事項に係る根拠資料\n ２．経費内訳（別紙２-２）及び、記載事項に係る根拠資料\n ３．応募者の業務概要及び定款又は寄附行為\n ４．応募者の経理状況説明書（直近２決算期の貸借対照表及び損益計算書）\n ５．その他参考資料\n"]
[null,null,"記"]
[]
[]
[]
[null,null,null,null,null,null,null,null,null,null,null,"（担当者欄）"]
[null,null,null,null,null,null,null,null,null,null,null,"郵便番号",null,null,null,"："]
[null,null,null,null,null,null,null,null,null,null,null,"住　所",null,null,null,"："]
[null,null,null,null,null,null,null,null,null,null,null,"所属",null,null,null,"："]
[null,null,null,null,null,null,null,null,null,null,null,"役職名",null,null,null,"："]
[null,null,null,null,null,null,null,null,null,null,null,"氏　名",null,null,null,"："]
[null,null,null,null,null,null,null,null,null,null,null,"ＴＥＬ　　　",null,null,null,"："]
[null,null,null,null,null,null,null,null,null,null,null,"ＦＡＸ",null,null,null,"："]
[null,null,null,null,null,null,null,null,null,null,null,"Ｅ－mail",null,null,null,"："]
[null,null,null,null,null,null,null,null,null,null,null,null,null,null,null,null,null,null,null,null,null,"ver. 1.0"]
[]
[]
[]
[null,null,"注",1,"　３.「応募者の業務概要及び定款又は寄附行為」について、個人企業の場合は、業務概要及び定款又は寄附行為として、印鑑証明書の原本及び住民票の原本（いずれも発行後３ヶ月以内のもの）を提出すること。また、認可を受けている者等は、設立の認可を受け、又は設立の認可が適当であるとされた法人の定款又は寄附行為の案を提出すること。ただし、この案が作成されていない場合には、提出を要しない。"]
[null,null,null,2,"　４．「応募者の経理状況説明書（直近２決算期の貸借対照表及び損益計算書）」について、応募者が地方公共団体以外の者である場合は、経理状況説明書として、直近２決算期の貸借対照表及び損益計算書（応募の申請時に、法人の設立から１会計年度を経過していない場合には、申請年度の事業計画及び収支予算、法人の設立から１会計年度を経過し、かつ、２会計年度を経過していない場合には、直近の１決算期に関する貸借対照表及び損益計算書）を提出すること。申請者が個人企業の場合は、提出を要しない。また、地方公共団体が申請する場合は、申請年度の予算書を添付すること。"]
[null,null,null,3,"　共同事業者がある場合は、共同事業者に係る業務概要、定款又は寄附行為、経理状況説明書を添付すること。"]

{"sheet":"2_別紙1-2_実施計画書","index":2,"n_rows":954,"n_cols":44,"rows_kept":954,"cut":false,"hidden":false,"merged":[[728,2,728,3],[728,4,728,25],[729,4,729,25],[730,2,733,3],[730,4,730,25],[720,2,726,3],[679,11,679,17],[679,18,679,25],[10,4,12,8],[10,9,12,9],[10,10,12,18],[18,19,18,26],[15,19,15,21],[15,22,15,26],[16,19,17,26],[451,22,451,23],[451,20,451,21],[451,12,451,13],[451,10,451,11],[451,8,451,9],[452,14,452,15],[451,6,451,7],[451,4,451,5],[450,4,450,25],[453,24,453,25],[659,8,659,9],[720,4,720,25],[721,4,721,20],[721,21,722,25],[722,4,722,7],[423,6,423,14],[382,4,382,7],[607,10,607,13],[607,17,607,20],[722,8,722,11],[722,12,722,15],[487,15,487,25],[488,15,488,25],[491,10,491,14],[491,15,491,25],[492,10,492,14],[610,12,610,15],[715,4,715,7],[731,4,731,5],[731,6,731,7],[731,8,731,9],[810,17,810,25],[811,17,811,25],[663,4,663,7],[663,10,663,13],[663,17,663,20],[662,10,662,13],[731,10,731,11],[619,12,619,13],[619,14,619,15],[619,16,619,17],[731,12,731,13],[680,11,680,17],[777,21,778,25],[779,8,779,11],[755,15,755,16],[760,6,760,14],[662,4,662,7],[660,8,660,9],[337,4,337,25],[254,6,254,14],[395,22,395,23],[395,24,395,25],[438,10,438,13],[438,17,438,20],[435,8,435,9],[950,1,951,26],[623,11,623,17],[623,18,623,25],[624,4,624,10],[624,11,624,17],[624,18,624,25],[894,4,894,7],[894,9,894,11],[782,9,782,11],[883,4,883,7],[823,4,823,7],[832,2,838,3],[832,4,832,25],[833,4,833,20],[833,21,834,25],[834,4,834,7],[834,8,834,11],[834,12,834,15],[834,16,834,20],[835,4,835,7],[883,10,883,14],[774,4,774,7],[830,2,831,3],[830,4,830,7],[776,2,782,3],[436,15,436,25],[213,4,213,7],[211,4,211,7],[214,4,214,7],[256,6,256,14],[249,15,249,16],[200,6,200,14],[326,10,326,13],[211,10,211,14],[211,15,211,25],[439,4,439,7],[439,10,439,13],[439,17,439,20],[431,15,431,25],[432,10,432,14],[432,15,432,25],[435,10,435,14],[435,15,435,25],[338,4,338,25],[339,4,339,5],[339,6,339,7],[339,8,339,9],[339,10,339,11],[339,12,339,13],[339,14,339,15],[393,4,393,25],[340,10,340,11],[340,12,340,13],[340,14,340,15],[368,6,368,14],[213,8,213,25],[207,4,207,7],[340,24,340,25],[341,4,341,5],[181,4,184,4],[156,8,156,9],[155,8,155,9],[158,4,158,7],[171,18,171,19],[171,20,171,21],[171,22,171,23],[171,24,171,25],[172,4,172,5],[172,6,172,7],[438,4,438,7],[151,10,151,14],[151,15,151,25],[152,10,152,14],[152,15,152,25],[155,10,155,14],[155,15,155,25],[156,10,156,14],[156,15,156,25],[207,10,207,14],[207,15,207,25],[208,10,208,14],[208,15,208,25],[208,8,208,9],[207,8,207,9],[209,4,209,7],[209,8,209,25],[210,4,210,14],[212,4,212,7],[436,10,436,14],[330,8,330,11],[330,12,330,15],[250,4,250,5],[385,4,385,20],[385,21,386,25],[386,4,386,7],[386,8,386,11],[386,12,386,15],[386,16,386,20],[387,4,387,7],[387,8,387,11],[387,12,387,15],[387,16,387,20],[387,21,387,25],[250,15,250,16],[251,4,251,5],[253,15,253,16],[253,17,253,25],[251,6,251,14],[251,15,251,16],[368,4,368,5],[368,15,368,16],[368,17,368,25],[330,16,330,20],[307,4,307,5],[334,4,334,7],[334,9,334,11],[340,16,340,17],[367,6,367,14],[340,18,340,19],[340,20,340,21],[340,22,340,23],[448,2,448,3],[452,24,452,25],[247,15,247,16],[252,6,252,14],[248,4,248,5],[248,6,248,14],[248,15,248,16],[253,6,253,14],[249,4,249,5],[249,6,249,14],[250,6,250,14],[323,15,323,25],[312,6,312,14],[254,15,254,16],[342,4,342,25],[343,4,343,10],[343,11,343,17],[343,18,343,25],[270,4,270,7],[324,8,324,9],[323,8,323,9],[326,4,326,7],[331,4,331,7],[331,8,331,11],[331,12,331,15],[331,16,331,20],[255,6,255,14],[255,4,255,5],[254,4,254,5],[329,4,329,20],[329,21,330,25],[330,4,330,7],[440,4,440,25],[441,4,441,20],[441,21,442,25],[442,4,442,7],[442,8,442,11],[442,12,442,15],[442,16,442,20],[443,4,443,7],[443,8,443,11],[443,16,443,20],[443,21,443,25],[444,6,444,24],[445,4,445,7],[452,6,452,7],[452,10,452,11],[452,8,452,9],[445,9,445,11],[446,4,446,7],[446,9,446,11],[451,24,451,25],[674,2,677,3],[674,4,674,25],[675,4,675,5],[619,18,619,19],[619,20,619,21],[619,22,619,23],[619,24,619,25],[676,14,676,15],[677,20,677,21],[616,2,616,3],[616,4,616,25],[617,4,617,25],[618,2,621,3],[618,4,618,25],[619,4,619,5],[667,8,667,11],[669,9,669,11],[620,14,620,15],[620,16,620,17],[620,18,620,19],[620,20,620,21],[620,22,620,23],[620,24,620,25],[621,4,621,5],[621,6,621,7],[643,6,643,14],[643,15,643,16],[631,5,631,7],[631,11,631,14],[653,2,653,3],[653,4,653,25],[654,2,661,3],[664,2,670,3],[665,4,665,20],[665,21,666,25],[666,4,666,7],[622,2,625,3],[628,2,636,3],[628,4,628,25],[629,4,632,4],[629,5,629,7],[629,8,629,10],[622,4,622,25],[637,2,637,3],[638,2,638,3],[641,4,641,5],[641,6,641,14],[641,15,641,16],[646,6,646,14],[642,4,642,5],[642,6,642,14],[642,15,642,16],[647,6,647,14],[643,4,643,5],[647,4,647,5],[648,4,648,5],[662,2,663,3],[644,6,644,14],[640,4,640,5],[640,6,640,14],[656,8,656,9],[655,8,655,9],[657,4,657,7],[657,8,657,25],[635,8,635,10],[723,12,723,15],[723,16,723,20],[723,21,723,25],[651,4,651,25],[635,5,635,7],[635,11,635,14],[635,15,635,25],[636,5,636,7],[636,8,636,25],[629,11,629,14],[629,15,629,25],[630,5,630,7],[625,4,625,10],[625,11,625,17],[625,18,625,25],[630,11,630,14],[630,15,630,25],[652,4,652,25],[637,4,637,12],[637,13,637,16],[637,17,637,25],[640,15,640,16],[645,6,645,14],[680,4,680,10],[666,16,666,20],[675,12,675,13],[675,14,675,15],[675,16,675,17],[675,18,675,19],[664,4,664,25],[661,8,661,25],[554,4,554,7],[554,8,554,11],[554,12,554,15],[554,16,554,20],[555,4,555,7],[724,6,724,24],[555,12,555,15],[555,16,555,20],[555,21,555,25],[556,6,556,24],[557,4,557,7],[557,9,557,11],[558,4,558,7],[613,4,613,7],[613,9,613,11],[614,4,614,7],[614,9,614,11],[611,4,611,7],[611,8,611,11],[611,12,611,15],[611,16,611,20],[611,21,611,25],[612,6,612,24],[561,4,561,25],[577,5,577,7],[568,18,568,25],[606,4,606,7],[610,16,610,20],[620,4,620,5],[620,6,620,7],[581,13,581,16],[581,17,581,25],[392,2,392,3],[431,10,431,14],[336,4,336,25],[338,2,341,3],[324,10,324,14],[324,15,324,25],[375,10,375,14],[336,2,336,3],[560,2,560,3],[560,4,560,25],[609,4,609,20],[609,21,610,25],[610,4,610,7],[610,8,610,11],[392,4,392,25],[398,2,401,3],[398,4,398,25],[399,4,399,10],[399,11,399,17],[399,18,399,25],[400,4,400,10],[400,11,400,17],[400,18,400,25],[401,4,401,10],[401,11,401,17],[401,18,401,25],[567,4,567,10],[567,11,567,17],[570,2,571,3],[570,4,571,14],[448,4,448,25],[440,2,446,3],[357,2,357,3],[357,4,357,12],[357,13,357,16],[469,13,469,16],[469,17,469,25],[470,2,470,3],[470,4,470,25],[471,4,471,5],[471,6,471,14],[471,15,471,16],[476,6,476,14],[472,4,472,5],[472,6,472,14],[280,2,280,3],[280,4,280,25],[281,4,281,25],[282,2,285,3],[282,4,282,25],[283,4,283,5],[283,6,283,7],[283,8,283,9],[283,10,283,11],[283,12,283,13],[283,14,283,15],[451,18,451,19],[451,16,451,17],[451,14,451,15],[452,12,452,13],[384,2,390,3],[384,4,384,25],[382,2,383,3],[438,2,439,3],[552,2,558,3],[552,4,552,25],[553,4,553,20],[553,21,554,25],[496,2,502,3],[496,4,496,25],[497,4,497,20],[497,21,498,25],[498,4,498,7],[498,8,498,11],[498,12,498,15],[498,16,498,20],[499,4,499,7],[555,8,555,11],[453,4,453,5],[494,2,495,3],[550,2,551,3],[450,2,453,3],[483,2,484,3],[483,4,483,25],[484,4,484,25],[469,4,469,12],[453,14,453,15],[453,12,453,13],[453,10,453,11],[472,15,472,16],[477,6,477,14],[473,4,473,5],[473,6,473,14],[473,15,473,16],[478,6,478,14],[475,15,475,16],[182,8,182,10],[183,8,183,10],[186,8,186,10],[183,11,183,14],[183,15,183,25],[136,6,136,14],[136,15,136,16],[141,6,141,14],[358,2,358,3],[358,4,358,25],[359,4,359,5],[375,15,375,25],[273,4,273,20],[273,21,274,25],[274,4,274,7],[274,8,274,11],[274,12,274,15],[274,16,274,20],[275,4,275,7],[275,8,275,11],[275,12,275,15],[275,16,275,20],[275,21,275,25],[276,6,276,24],[277,4,277,7],[277,9,277,11],[278,4,278,7],[278,9,278,11],[284,12,284,13],[284,14,284,15],[284,24,284,25],[290,2,291,3],[92,2,92,3],[88,2,88,3],[93,2,100,3],[95,8,95,9],[94,8,94,9],[97,4,97,14],[99,4,99,7],[95,4,95,7],[80,17,80,25],[81,15,81,16],[67,2,75,3],[69,5,69,7],[69,11,69,14],[172,8,172,9],[149,4,149,25],[173,10,173,11],[173,12,173,13],[94,4,94,7],[93,4,93,14],[89,4,89,25],[163,12,163,15],[163,16,163,20],[163,21,163,25],[164,6,164,24],[165,4,165,7],[165,9,165,11],[166,4,166,7],[166,9,166,11],[146,4,146,25],[172,12,172,13],[68,5,68,7],[68,4,71,4],[34,1,34,26],[84,6,84,14],[76,2,76,3],[54,1,54,26],[55,2,55,3],[59,4,59,5],[59,6,59,7],[20,1,20,2],[21,1,21,2],[22,1,22,2],[25,1,25,2],[60,4,60,5],[58,20,58,21],[58,24,58,25],[64,4,64,10],[64,11,64,17],[83,4,83,5],[78,4,78,5],[78,2,87,3],[80,4,80,5],[62,4,62,10],[62,11,62,17],[62,18,62,25],[61,4,61,25],[26,4,26,26],[28,3,29,3],[29,16,29,20],[28,16,28,20],[32,21,33,26],[58,4,58,5],[58,16,58,17],[26,1,33,2],[28,41,29,41],[28,42,29,42],[77,2,77,3],[77,4,77,25],[85,6,85,14],[86,6,86,14],[87,6,87,14],[60,22,60,23],[76,4,76,12],[76,17,76,25],[78,6,78,14],[83,6,83,14],[87,4,87,5],[35,1,35,26],[36,1,36,26],[37,1,48,26],[49,1,49,26],[28,40,29,40],[32,3,33,3],[73,11,73,14],[65,15,66,25],[58,14,58,15],[80,6,80,14],[64,18,64,25],[65,4,66,14],[84,4,84,5],[87,17,87,25],[30,4,31,8],[69,15,69,25],[73,5,73,7],[73,15,73,25],[75,5,75,7],[2,2,2,24],[3,2,3,24],[5,1,5,2],[5,3,5,26],[6,1,6,2],[6,3,6,26],[9,4,9,18],[14,19,14,26],[18,9,18,18],[19,9,19,18],[28,21,29,26],[28,4,29,8],[28,9,29,15],[10,22,10,26],[30,21,31,26],[8,1,19,2],[8,3,8,26],[9,19,9,26],[14,4,14,18],[27,21,27,26],[27,16,27,20],[27,9,27,15],[27,4,27,8],[18,4,18,8],[19,4,19,8],[23,1,23,2],[24,1,24,2],[15,4,15,8],[10,19,10,21],[11,19,12,26],[7,1,7,2],[7,3,7,26],[19,19,19,26],[10,3,12,3],[58,18,58,19],[13,3,13,26],[59,8,59,9],[59,10,59,11],[59,12,59,13],[59,14,59,15],[59,16,59,17],[59,18,59,19],[15,3,17,3],[20,3,20,26],[16,4,16,8],[17,4,17,8],[15,9,15,18],[16,9,16,18],[17,9,17,18],[32,4,33,8],[30,9,31,15],[32,9,33,15],[59,20,59,21],[59,22,59,23],[59,24,59,25],[57,4,57,25],[30,3,31,3],[26,3,27,3],[50,1,50,26],[58,22,58,23],[32,16,32,20],[33,16,33,20],[31,16,31,20],[30,16,30,20],[55,4,55,25],[108,9,108,11],[108,4,108,7],[107,6,107,24],[85,4,85,5],[79,4,79,5],[89,2,89,3],[81,4,81,5],[82,4,82,5],[79,6,79,14],[63,11,63,17],[63,18,63,25],[61,2,64,3],[60,6,60,7],[81,6,81,14],[60,16,60,17],[60,18,60,19],[60,20,60,21],[91,4,91,25],[90,4,90,25],[90,2,91,3],[86,4,86,5],[72,11,72,14],[72,15,72,25],[74,11,74,14],[56,4,56,25],[63,4,63,10],[82,6,82,14],[76,13,76,16],[75,8,75,25],[71,5,71,7],[70,5,70,7],[86,15,86,16],[86,17,86,25],[87,15,87,16],[72,8,72,10],[74,15,74,25],[60,24,60,25],[57,2,60,3],[84,17,84,25],[85,15,85,16],[85,17,85,25],[58,6,58,7],[58,8,58,9],[58,10,58,11],[58,12,58,13],[60,8,60,9],[60,10,60,11],[60,12,60,13],[60,14,60,15],[69,8,69,10],[70,8,70,10],[94,10,94,14],[95,10,95,14],[95,15,95,25],[94,15,94,25],[98,10,98,14],[98,15,98,25],[898,1,898,26],[899,1,899,26],[900,1,900,26],[897,8,897,11],[912,2,913,2],[897,1,897,7],[912,6,912,9],[913,6,913,9],[912,3,912,5],[913,3,913,5],[909,1,909,26],[910,1,910,26],[911,1,911,26],[117,18,117,19],[117,20,117,21],[117,22,117,23],[99,8,99,9],[96,4,96,7],[96,8,96,25],[100,4,100,7],[100,8,100,25],[109,9,109,11],[109,4,109,7],[112,2,112,3],[112,4,112,25],[113,4,113,25],[92,4,92,25],[93,15,93,25],[160,2,166,3],[160,4,160,25],[161,4,161,20],[161,21,162,25],[162,4,162,7],[162,8,162,11],[162,12,162,15],[162,16,162,20],[163,4,163,7],[163,8,163,11],[74,5,74,7],[72,5,72,7],[105,4,105,7],[104,21,105,25],[104,4,104,20],[99,10,99,14],[99,15,99,25],[72,4,75,4],[88,4,88,25],[81,17,81,25],[82,15,82,16],[82,17,82,25],[103,4,103,25],[101,4,101,7],[83,15,83,16],[83,17,83,25],[84,15,84,16],[115,14,115,15],[147,2,148,3],[149,2,149,3],[98,4,98,7],[98,8,98,9],[106,12,106,15],[106,8,106,11],[135,6,135,14],[135,15,135,16],[140,6,140,14],[137,4,137,5],[137,6,137,14],[137,15,137,16],[142,6,142,14],[138,4,138,5],[138,6,138,14],[106,4,106,7],[102,4,102,7],[102,10,102,13],[101,10,101,13],[136,4,136,5],[139,4,139,5],[139,6,139,14],[105,16,105,20],[105,12,105,15],[105,8,105,11],[138,15,138,16],[102,17,102,20],[101,17,101,20],[111,2,111,25],[110,2,110,25],[103,2,109,3],[133,2,133,3],[133,4,133,12],[133,13,133,16],[144,4,144,5],[144,15,144,16],[146,2,146,3],[116,20,116,21],[116,22,116,23],[116,24,116,25],[117,4,117,5],[117,6,117,7],[117,8,117,9],[117,10,117,11],[117,12,117,13],[117,14,117,15],[117,16,117,17],[106,21,106,25],[117,24,117,25],[922,2,926,5],[922,6,926,25],[914,2,915,5],[914,6,915,25],[917,1,917,26],[916,1,916,26],[920,6,920,9],[921,6,921,9],[921,2,921,5],[920,2,920,5],[114,2,117,3],[114,4,114,25],[115,4,115,5],[115,6,115,7],[115,8,115,9],[115,10,115,11],[115,12,115,13],[192,4,192,5],[192,6,192,14],[192,15,192,16],[147,4,147,25],[148,4,148,25],[184,5,184,7],[197,4,197,5],[197,15,197,16],[197,17,197,25],[183,5,183,7],[177,18,177,25],[156,4,156,7],[157,4,157,7],[174,2,177,3],[174,4,174,25],[175,4,175,10],[175,11,175,17],[193,15,193,16],[196,4,196,5],[196,15,196,16],[178,2,179,3],[172,14,172,15],[173,6,173,7],[186,11,186,14],[186,15,186,25],[175,18,175,25],[176,4,176,10],[176,11,176,17],[176,18,176,25],[173,8,173,9],[171,12,171,13],[150,2,157,3],[186,5,186,7],[181,5,181,7],[181,8,181,10],[135,2,144,3],[150,15,150,25],[154,15,154,25],[139,15,139,16],[144,6,144,14],[159,4,159,7],[159,10,159,13],[159,17,159,20],[158,10,158,13],[158,17,158,20],[137,17,137,25],[138,17,138,25],[139,17,139,25],[191,17,191,25],[150,4,150,14],[152,4,152,7],[152,8,152,9],[151,8,151,9],[153,4,153,7],[140,17,140,25],[141,4,141,5],[141,15,141,16],[141,17,141,25],[142,4,142,5],[142,15,142,16],[142,17,142,25],[143,4,143,5],[143,15,143,16],[143,17,143,25],[133,17,133,25],[134,2,134,3],[134,4,134,25],[135,4,135,5],[172,10,172,11],[197,6,197,14],[193,4,193,5],[193,6,193,14],[155,4,155,7],[168,2,168,3],[168,4,168,25],[169,4,169,25],[170,2,173,3],[170,4,170,25],[191,2,200,3],[171,14,171,15],[171,16,171,17],[177,11,177,17],[158,2,159,3],[151,4,151,7],[143,6,143,14],[190,2,190,3],[190,4,190,25],[191,4,191,5],[191,6,191,14],[191,15,191,16],[145,2,145,3],[145,4,145,25],[144,17,144,25],[153,8,153,25],[154,4,154,14],[157,8,157,25],[198,17,198,25],[199,4,199,5],[199,15,199,16],[199,17,199,25],[200,4,200,5],[200,15,200,16],[200,17,200,25],[196,17,196,25],[196,6,196,14],[216,2,222,3],[216,4,216,25],[217,4,217,20],[217,21,218,25],[198,6,198,14],[201,2,201,3],[201,4,201,25],[202,2,202,3],[202,4,202,25],[203,2,204,3],[203,4,203,25],[204,4,204,25],[198,4,198,5],[198,15,198,16],[218,4,218,7],[218,8,218,11],[218,12,218,15],[218,16,218,20],[220,6,220,24],[221,4,221,7],[221,9,221,11],[222,4,222,7],[222,9,222,11],[236,2,244,3],[236,4,236,25],[227,24,227,25],[228,4,228,5],[228,6,228,7],[228,8,228,9],[228,10,228,11],[228,12,228,13],[228,14,228,15],[263,10,263,14],[263,15,263,25],[264,10,264,14],[264,15,264,25],[267,10,267,14],[267,15,267,25],[262,15,262,25],[266,15,266,25],[267,8,267,9],[257,4,257,25],[258,2,258,3],[258,4,258,25],[259,2,260,3],[259,4,259,25],[260,4,260,25],[245,2,245,3],[245,4,245,12],[245,13,245,16],[245,17,245,25],[246,2,246,3],[246,4,246,25],[247,4,247,5],[247,6,247,14]],"merged_total":2995,"flags":["merged_cut"]}
[]
[null,null,"別紙１―2"]
[null,null,"地方と連携した地球温暖化対策活動推進事業実施計画書"]
[null,null,"(地域コミュニティを活用した地球温暖化対策啓発事業)"]
[]
[null,"事業名",null,{"$f":"'5_様式第１_交付申請書'!D27","v":"地域コミュニティを活用した地球温暖化対策啓発事業"}]
[null,"事業実施の団体名",null,{"$f":"'5_様式第１_交付申請書'!N13","v":0}]
[null,"局名"]
[null,"事業実施の担当者",null,"事業実施の代表者"]
[null,null,null,"氏名","事業者名・役職名",null,null,null,null,null,null,null,null,null,null,null,null,null,null,"所在地"]
[null,null,null,{"$f":"'1_様式1_応募申請書'!S14","v":0},{"$f":"'5_様式第１_交付申請書'!N13","v":0},null,null,null,null,"・",{"$f":"'5_様式第１_交付申請書'!N14","v":0},null,null,null,null,null,null,null,null,"郵便番号"]
[null,null,null,null,null,null,null,null,null,null,null,null,null,null,null,null,null,null,null,{"$f":"IF('5_様式第１_交付申請書'!N11=\"\",\"\",'5_様式第１_交付申請書'!N11)","v":0}]
[]
[null,null,null,"事業実施の担当者（事業の窓口となる方）"]
[null,null,null,"氏名","事業者名・所属・役職名",null,null,null,null,null,null,null,null,null,null,null,null,null,null,"所在地"]
[null,null,null,{"$f":"'1_様式1_応募申請書'!$Q$30","v":0},"事業者名",null,null,null,null,{"$f":"'1_様式1_応募申請書'!N13","v":0},null,null,null,null,null,null,null,null,null,"郵便番号",null,null,{"$f":"'1_様式1_応募申請書'!Q26","v":0}]
[null,null,null,null,"所　属",null,null,null,null,{"$f":"'1_様式1_応募申請書'!$Q$28","v":0},null,null,null,null,null,null,null,null,null,{"$f":"'1_様式1_応募申請書'!Q27","v":0}]
[null,null,null,null,"役職名",null,null,null,null,{"$f":"'1_様式1_応募申請書'!$Q$29","v":0}]
[null,null,null,"電話番号","FAX番号",null,null,null,null,"E-mailアドレス",null,null,null,null,null,null,null,null,null,"備　　考"]
[null,null,null,{"$f":"'1_様式1_応募申請書'!Q31","v":0},{"$f":"'1_様式1_応募申請書'!Q32","v":0},null,null,null,null,{"$f":"'1_様式1_応募申請書'!Q33","v":0}]
[null,"主な株主",null,"別添のとおり・・・・既存書類の添付で可。"]
[null,"主たるスタジオ",null,"住所を記載してください。"]
[null,"開局日"]
[null,"放送区域"]
[null,"区域内人口・世帯"]
[null,"周波数・送信出力"]
[null,"共同\n事業者",null,"団体等の名称","事業実施責任者",null,null,null,null,null,null,null,null,null,null,null,null,null,null,null,null,null,null,null,null,null,null,null,"＜全体＞"]
[null,null,null,null,"氏名",null,null,null,null,"所属・役職名",null,null,null,null,null,null,"電話・FAX番号",null,null,null,null,"E-mailアドレス"]
[null,null,null,null,null,null,null,null,null,null,null,null,null,null,null,null,null,null,null,null,null,null,null,null,null,null,null,null,"①","②","③","④","⑤","⑥","⑦","⑧","⑨","⑩","⑪",null,"a)","b)","c)"]
[null,null,null,null,null,null,null,null,null,null,null,null,null,null,null,null,null,null,null,null,null,null,null,null,null,null,null,null,"省ｴﾈ機器","省ｴﾈ住宅","ｴｺｶｰ","ｸｰﾙﾋﾞｽﾞ","ｳｫｰﾑﾋﾞｽﾞ","照明の\n高効率利用","ｴｺﾄﾞﾗｲﾌﾞ","ｶｰｼｪｱ","公共交通\n機関の利用","再配達防止","シェアエコ"]
[null,null,null,null,null,null,null,null,null,null,null,null,null,null,null,null,null,null,null,null,null,null,null,null,null,null,null,null,{"$f":"COUNTIFS(AC$59:AC$846,1)+COUNTIFS(AC$59:AC$846,TRUE)","v":0},0,0,0,0,0,0,0,0,0,0,null,{"$f":"COUNTIFS(AO$59:AO$850,1)+COUNTIFS(AO$59:AO$850,TRUE)","v":0},{"$f":"COUNTIFS(AP$59:AP$850,1)+COUNTIFS(AP$59:AP$850,TRUE)","v":0},{"$f":"COUNTIFS(AQ$59:AQ$850,1)+COUNTIFS(AQ$59:AQ$850,TRUE)","v":0}]
[]
[]
[]
[null,"＜事業の目的・概要＞"]
[null,"【事業の目的】"]
[null,"本提案が、国民運動「COOL CHOICE」を推進していく上で、どのような目的をもって実施するのかを記載してください。"]
[]
[]
[]
[]
[]
[]
[]
[]
[]
[]
[]
[]
[null,"【事業の概要】"]
[]
[null,"（１）情報発信する内容やコンテンツ並びに放送頻度等を具体的に記載してください。その際、通年にわたる実施により、地域住民の意識や関心をどの程度高めるのか、また取組等をどこまで促すか等の目標を明確に記載し、それに必要なコンテンツを明確にしてください。なお、補足資料があれば添付してください。"]
[]
[]
[]
[null,null,"項目",null,"内容"]
[null,null,"事業1","事業名\n（番組・CM名）"]
[null,null,"普及啓発テーマ",null,"※公募要領　別表第１　で対象とする間接補助事業の内容に合致していること。\n※該当するテーマすべてをチェックしてください。"]
[null,null,null,null,"①",null,"②",null,"③",null,"④",null,"⑤",null,"⑥",null,"⑦",null,"⑧",null,"⑨",null,"⑩",null,"⑪",null,null,null,"①","②","③","④","⑤","⑥","⑦","⑧","⑨","⑩","⑪"]
[null,null,null,null,"省ｴﾈ機器",null,"省ｴﾈ住宅",null,"ｴｺｶｰ",null,"ｸｰﾙﾋﾞｽﾞ",null,"ｳｫｰﾑﾋﾞｽﾞ",null,"照明の\n高効率利用",null,"ｴｺﾄﾞﾗｲﾌﾞ",null,"ｶｰｼｪｱ",null,"公共交通\n機関の利用",null,"再配達防止",null,"シェアエコ",null,null,null,"省ｴﾈ機器","省ｴﾈ住宅","ｴｺｶｰ","ｸｰﾙﾋﾞｽﾞ","ｳｫｰﾑﾋﾞｽﾞ","照明の\n高効率利用","ｴｺﾄﾞﾗｲﾌﾞ","ｶｰｼｪｱ","公共交通\n機関の利用","再配達防止","シェアエコ"]
[null,null,null,null,null,null,null,null,null,null,null,null,null,null,null,null,null,null,null,null,null,null,null,null,null,null,null,null,false,false,false,false,false,false,false,false,false,false,false,{"$f":"COUNTIFS($AC$61:$AM$61,\"TRUE\")","v":0}]
[null,null,"訴求手法",null,"※訴求手法については、該当する欄にチェックしてください。"]
[null,null,null,null,"a) 情報発信型（受動型）",null,null,null,null,null,null,"b) 情報発信型（能動型）",null,null,null,null,null,null,"c) 双方向体験交流型"]
[null,null,null,null,"ラジオ、新聞・広報紙等",null,null,null,null,null,null,"講演会・パネル展示等",null,null,null,null,null,null,"試乗・体験会、省ｴﾈ診断等",null,null,null,null,null,null,null,null,null,null,null,null,null,null,null,null,null,null,null,null,null,"a)","b)","c)"]
[null,null,null,null,null,null,null,null,null,null,null,null,null,null,null,null,null,null,null,null,null,null,null,null,null,null,null,null,null,null,null,null,null,null,null,null,null,null,null,null,false,false,false,{"$f":"COUNTIFS($AO$65:$AQ$65,\"TRUE\")","v":0}]
[null,null,"情報発信カテゴリー\n（プルダウン選択）",null,"-",null,null,null,null,null,null,null,null,null,null,"-"]
[]
[null,null,"尺・放送回数",null,"※収録本数、放送回数を定量的に必ず記載のこと"]
[null,null,null,null,"①","尺",null,null,null,null,null,"（秒）",null,null,null,"※単位はプルダウン選択"]
[null,null,null,null,null,"収録本数",null,null,null,null,null,"（本）"]
[null,null,null,null,null,"放送回数",null,null,null,null,null,"（回）",null,null,null,"※再放送を含む"]
[null,null,null,null,null,"備考"]
[null,null,null,null,"②","尺",null,null,null,null,null,"（秒）",null,null,null,"※単位はプルダウン選択"]
[null,null,null,null,null,"収録本数",null,null,null,null,null,"（本）"]
[null,null,null,null,null,"放送回数",null,null,null,null,null,"（回）",null,null,null,"※再放送を含む"]
[null,null,null,null,null,"備考"]
[null,null,"実施期間",null,null,null,null,null,null,null,null,null,null,"～"]
[null,null,"放送時間、その他備考"]
[null,null,"実施日\n（※同一事業内で、同一の内容を複数日実施する場合）",null,1,null,null,null,null,null,null,null,null,null,null,11]
[null,null,null,null,2,null,null,null,null,null,null,null,null,null,null,12]
[null,null,null,null,3,null,null,null,null,null,null,null,null,null,null,13]
[null,null,null,null,4,null,null,null,null,null,null,null,null,null,null,14]
[null,null,null,null,5,null,null,null,null,null,null,null,null,null,null,15]
[null,null,null,null,6,null,null,null,null,null,null,null,null,null,null,16]
[null,null,null,null,7,null,null,null,null,null,null,null,null,null,null,17]
[null,null,null,null,8,null,null,null,null,null,null,null,null,null,null,18]
[null,null,null,null,9,null,null,null,null,null,null,null,null,null,null,19]
[null,null,null,null,10,null,null,null,null,null,null,null,null,null,null,20]
[null,null,"事業の概要"]
[null,null,"地域団体との連携\n※地方公共団体を含む"]
[null,null,"効果的な実施の\nための工夫\n\n※訴求テーマに応じた適切なメッセージ、時期、訴求対象\nとの関係等を記載",null,"※訴求テーマ及び訴求対象に応じた適切なメッセージ、時期設定の考え方や訴求対象にアプローチするための工夫等を記入してください。"]
[]
[null,null,"主な訴求対象"]
[null,null,"規模（リーチ数）\n（想定及び実績）",null,"カテゴリ①（プルダウン選択）⇒",null,null,null,null,null,null,null,null,null,null,"　"]
[null,null,null,null,"昨年度実績",null,null,null,"計",null,0]
[null,null,null,null,"想定",null,null,null,"計",null,0]
[null,null,null,null,"算出根拠"]
[null,null,null,null,"カテゴリ②（プルダウン選択）⇒"]
[null,null,null,null,"昨年度実績",null,null,null,"計",null,0]
[null,null,null,null,"想定",null,null,null,"計",null,0]
[null,null,null,null,"算出根拠"]
[null,null,"COOL CHOICE 賛同数\n（想定及び実績）",null,"昨年度実績",null,null,null,"団体",null,0,null,null,null,null,"、個人",null,0]
[null,null,null,null,"想定",null,null,null,"団体",null,0,null,null,null,null,"、個人",null,0]
[null,null,"効果検証\n（アンケート）予定",null,"※アンケートの実施予定をプルダウンより選択してください。"]
[null,null,null,null,"公募要領に規定のアンケート",null,null,null,null,null,null,null,null,null,null,null,null,null,null,null,null,"貴事業者独自のアンケート"]
[null,null,null,null,"省エネ機器",null,null,null,"省エネ住宅",null,null,null,"エコドライブ",null,null,null,"低炭素物流（宅配便の再配達防止）"]
[null,null,null,null,"- 選択 -",null,null,null,"- 選択 -",null,null,null,"- 選択 -",null,null,null,"- 選択 -",null,null,null,null,"- 選択 -"]
[null,null,null,null,"内容（",null,null,null,null,null,null,null,null,null,null,null,null,null,null,null,null,null,null,null,null,"）"]
[null,null,null,null,"昨年度実績",null,null,null,"計",0,null,null,"枚",null,"※複数ある場合は、平均アンケート回収数"]
[null,null,null,null,"目標回収数",null,null,null,"計",0,null,null,"枚",null,"※複数ある場合は、平均アンケート回収数"]
[null,null,"（実施する事業については、別紙を使用せず、必ず上記記載例に沿って事業実施計画に記載すること）"]
[]
[null,null,"項目",null,"内容"]
[null,null,"事業2","事業名\n（番組・CM名）"]
[null,null,"普及啓発テーマ",null,"※公募要領　別表第１　で対象とする間接補助事業の内容に合致していること。\n※該当するテーマすべてをチェックしてください。"]
[null,null,null,null,"①",null,"②",null,"③",null,"④",null,"⑤",null,"⑥",null,"⑦",null,"⑧",null,"⑨",null,"⑩",null,"⑪",null,null,null,"①","②","③","④","⑤","⑥","⑦","⑧","⑨","⑩","⑪"]
[null,null,null,null,"省ｴﾈ機器",null,"省ｴﾈ住宅",null,"ｴｺｶｰ",null,"ｸｰﾙﾋﾞｽﾞ",null,"ｳｫｰﾑﾋﾞｽﾞ",null,"照明の\n高効率利用",null,"ｴｺﾄﾞﾗｲﾌﾞ",null,"ｶｰｼｪｱ",null,"公共交通\n機関の利用",null,"再配達防止",null,"シェアエコ",null,null,null,"省ｴﾈ機器","省ｴﾈ住宅","ｴｺｶｰ","ｸｰﾙﾋﾞｽﾞ","ｳｫｰﾑﾋﾞｽﾞ","照明の\n高効率利用","ｴｺﾄﾞﾗｲﾌﾞ","ｶｰｼｪｱ","公共交通\n機関の利用","再配達防止","シェアエコ"]
[null,null,null,null,null,null,null,null,null,null,null,null,null,null,null,null,null,null,null,null,null,null,null,null,null,null,null,null,0,0,0,0,0,0,false,0,false,0,false,{"$f":"COUNTIFS($AC$118:$AM$118,\"TRUE\")","v":0}]
[null,null,"訴求手法",null,"※訴求手法については、該当する欄にチェックしてください。"]
[null,null,null,null,"a) 情報発信型（受動型）",null,null,null,null,null,null,"b) 情報発信型（能動型）",null,null,null,null,null,null,"c) 双方向体験交流型"]
[null,null,null,null,"ラジオ、新聞・広報紙等",null,null,null,null,null,null,"講演会・パネル展示等",null,null,null,null,null,null,"試乗・体験会、省ｴﾈ診断等",null,null,null,null,null,null,null,null,null,null,null,null,null,null,null,null,null,null,null,null,null,"a)","b)","c)"]
[null,null,null,null,null,null,null,null,null,null,null,null,null,null,null,null,null,null,null,null,null,null,null,null,null,null,null,null,null,null,null,null,null,null,null,null,null,null,null,null,false,false,false,{"$f":"COUNTIFS($AO$122:$AQ$122,\"TRUE\")","v":0}]
[null,null,"情報発信カテゴリー\n（プルダウン選択）",null,"-",null,null,null,null,null,null,null,null,null,null,"-"]
[]
[null,null,"尺・放送回数",null,"※収録本数、放送回数を定量的に必ず記載のこと"]
[null,null,null,null,"①","尺",null,null,null,null,null,"（秒）",null,null,null,"※単位はプルダウン選択"]
[null,null,null,null,null,"収録本数",null,null,null,null,null,"（本）"]
[null,null,null,null,null,"放送回数",null,null,null,null,null,"（回）",null,null,null,"※再放送を含む"]
[null,null,null,null,null,"備考"]
[null,null,null,null,"②","尺",null,null,null,null,null,"（秒）",null,null,null,"※単位はプルダウン選択"]
[null,null,null,null,null,"収録本数",null,null,null,null,null,"（本）"]
[null,null,null,null,null,"放送回数",null,null,null,null,null,"（回）",null,null,null,"※再放送を含む"]
[null,null,null,null,null,"備考"]
[null,null,"実施期間",null,null,null,null,null,null,null,null,null,null,"～"]
[null,null,"放送時間、その他備考"]
[null,null,"実施日\n（※同一事業内で、\n同一の内容・場所において\n複数日実施する場合）",null,1,null,null,null,null,null,null,null,null,null,null,11]
[null,null,null,null,2,null,null,null,null,null,null,null,null,null,null,12]
[null,null,null,null,3,null,null,null,null,null,null,null,null,null,null,13]
[null,null,null,null,4,null,null,null,null,null,null,null,null,null,null,14]
[null,null,null,null,5,null,null,null,null,null,null,null,null,null,null,15]
[null,null,null,null,6,null,null,null,null,null,null,null,null,null,null,16]
[null,null,null,null,7,null,null,null,null,null,null,null,null,null,null,17]
[null,null,null,null,8,null,null,null,null,null,null,null,null,null,null,18]
[null,null,null,null,9,null,null,null,null,null,null,null,null,null,null,19]
[null,null,null,null,10,null,null,null,null,null,null,null,null,null,null,20]
[null,null,"事業の概要"]
[null,null,"地域団体との連携\n※地方公共団体を含む"]
[null,null,"効果的な実施の\nための工夫",null,"※訴求テーマ及び訴求対象に応じた適切なメッセージ、時期設定の考え方や訴求対象にアプローチするための工夫等を記入してください。"]
[]
[null,null,"主な訴求対象"]
[null,null,"規模（リーチ数）\n（想定及び実績）",null,"カテゴリ①（プルダウン選択）⇒",null,null,null,null,null,null,null,null,null,null,"聴取人口（番組・CM単位であれば）"]
[null,null,null,null,"昨年度実績",null,null,null,"計",null,0]
[null,null,null,null,"想定",null,null,null,"計",null,0]
[null,null,null,null,"算出根拠"]
[null,null,null,null,"カテゴリ②（プルダウン選択）⇒"]
[null,null,null,null,"昨年度実績",null,null,null,"計",null,0]
[null,null,null,null,"想定",null,null,null,"計",null,0]
[null,null,null,null,"算出根拠"]
[null,null,"COOL CHOICE 賛同数\n（想定及び実績）",null,"昨年度実績",null,null,null,"団体",null,0,null,null,null,null,"、個人",null,0]
[null,null,null,null,"想定",null,null,null,"団体",null,0,null,null,null,null,"、個人",null,0]
[null,null,"効果検証\n（アンケート）予定",null,"※アンケートの実施予定をプルダウンより選択してください。"]
[null,null,null,null,"公募要領に規定のアンケート",null,null,null,null,null,null,null,null,null,null,null,null,null,null,null,null,"貴事業者独自のアンケート"]
[null,null,null,null,"省エネ機器",null,null,null,"省エネ住宅",null,null,null,"エコドライブ",null,null,null,"低炭素物流（宅配便の再配達防止）"]
[null,null,null,null,"- 選択 -",null,null,null,"- 選択 -",null,null,null,"- 選択 -",null,null,null,"- 選択 -",null,null,null,null,"- 選択 -"]
[null,null,null,null,"内容（",null,null,null,null,null,null,null,null,null,null,null,null,null,null,null,null,null,null,null,null,"）"]
[null,null,null,null,"昨年度実績",null,null,null,"計",0,null,null,"枚",null,"※複数ある場合は、平均アンケート回収数"]
[null,null,null,null,"目標回収数",null,null,null,"計",0,null,null,"枚",null,"※複数ある場合は、平均アンケート回収数"]
[]
[null,null,"項目",null,"内容"]
[null,null,"事業3","事業名\n（番組・CM名）"]
[null,null,"普及啓発テーマ",null,"※公募要領　別表第１　で対象とする間接補助事業の内容に合致していること。\n※該当するテーマすべてをチェックしてください。"]
[null,null,null,null,"①",null,"②",null,"③",null,"④",null,"⑤",null,"⑥",null,"⑦",null,"⑧",null,"⑨",null,"⑩",null,"⑪",null,null,null,"①","②","③","④","⑤","⑥","⑦","⑧","⑨","⑩","⑪"]
[null,null,null,null,"省ｴﾈ機器",null,"省ｴﾈ住宅",null,"ｴｺｶｰ",null,"ｸｰﾙﾋﾞｽﾞ",null,"ｳｫｰﾑﾋﾞｽﾞ",null,"照明の\n高効率利用",null,"ｴｺﾄﾞﾗｲﾌﾞ",null,"ｶｰｼｪｱ",null,"公共交通\n機関の利用",null,"再配達防止",null,"シェアエコ",null,null,null,"省ｴﾈ機器","省ｴﾈ住宅","ｴｺｶｰ","ｸｰﾙﾋﾞｽﾞ","ｳｫｰﾑﾋﾞｽﾞ","照明の\n高効率利用","ｴｺﾄﾞﾗｲﾌﾞ","ｶｰｼｪｱ","公共交通\n機関の利用","再配達防止","シェアエコ"]
[null,null,null,null,null,null,null,null,null,null,null,null,null,null,null,null,null,null,null,null,null,null,null,null,null,null,null,null,false,false,false,false,false,false,false,false,false,false,false,{"$f":"COUNTIFS($AC$174:$AM$174,\"TRUE\")","v":0}]
[null,null,"訴求手法",null,"※訴求手法については、該当する欄にチェックしてください。"]
[null,null,null,null,"a) 情報発信型（受動型）",null,null,null,null,null,null,"b) 情報発信型（能動型）",null,null,null,null,null,null,"c) 双方向体験交流型"]
[null,null,null,null,"ラジオ、新聞・広報紙等",null,null,null,null,null,null,"講演会・パネル展示等",null,null,null,null,null,null,"試乗・体験会、省ｴﾈ診断等",null,null,null,null,null,null,null,null,null,null,null,null,null,null,null,null,null,null,null,null,null,"a)","b)","c)"]
[null,null,null,null,null,null,null,null,null,null,null,null,null,null,null,null,null,null,null,null,null,null,null,null,null,null,null,null,null,null,null,null,null,null,null,null,null,null,null,null,false,false,false,{"$f":"COUNTIFS($AO$178:$AQ$178,\"TRUE\")","v":0}]
[null,null,"情報発信カテゴリー\n（プルダウン選択）",null,"-",null,null,null,null,null,null,null,null,null,null,"-"]
[]
[null,null,"尺・放送回数",null,"※収録本数、放送回数を定量的に必ず記載のこと"]
[null,null,null,null,"①","尺",null,null,null,null,null,"（秒）",null,null,null,"※単位はプルダウン選択"]
[null,null,null,null,null,"収録本数",null,null,null,null,null,"（本）"]
[null,null,null,null,null,"放送回数",null,null,null,null,null,"（回）",null,null,null,"※再放送を含む"]
[null,null,null,null,null,"備考"]
[null,null,null,null,"②","尺",null,null,null,null,null,"（秒）",null,null,null,"※単位はプルダウン選択"]
[null,null,null,null,null,"収録本数",null,null,null,null,null,"（本）"]
[null,null,null,null,null,"放送回数",null,null,null,null,null,"（回）",null,null,null,"※再放送を含む"]
[null,null,null,null,null,"備考"]
[null,null,"実施期間",null,null,null,null,null,null,null,null,null,null,"～"]
[null,null,"放送時間、その他備考"]
[null,null,"実施日\n（※同一事業内で、\n同一の内容・場所において\n複数日実施する場合）",null,1,null,null,null,null,null,null,null,null,null,null,11]
[null,null,null,null,2,null,null,null,null,null,null,null,null,null,null,12]
[null,null,null,null,3,null,null,null,null,null,null,null,null,null,null,13]
[null,null,null,null,4,null,null,null,null,null,null,null,null,null,null,14]
[null,null,null,null,5,null,null,null,null,null,null,null,null,null,null,15]
[null,null,null,null,6,null,null,null,null,null,null,null,null,null,null,16]
[null,null,null,null,7,null,null,null,null,null,null,null,null,null,null,17]
[null,null,null,null,8,null,null,null,null,null,null,null,null,null,null,18]
[null,null,null,null,9,null,null,null,null,null,null,null,null,null,null,19]
[null,null,null,null,10,null,null,null,null,null,null,null,null,null,null,20]
[null,null,"事業の概要"]
[null,null,"地域団体との連携\n※地方公共団体を含む"]
[null,null,"効果的な実施の\nための工夫",null,"※訴求テーマ及び訴求対象に応じた適切なメッセージ、時期設定の考え方や訴求対象にアプローチするための工夫等を記入してください。"]
[]
[null,null,"主な訴求対象"]
[null,null,"規模（リーチ数）\n（想定及び実績）",null,"カテゴリ①（プルダウン選択）⇒",null,null,null,null,null,null,null,null,null,null,"聴取人口（番組・CM単位であれば）"]
[null,null,null,null,"昨年度実績",null,null,null,"計",null,0]
[null,null,null,null,"想定",null,null,null,"計",null,0]
[null,null,null,null,"算出根拠"]
[null,null,null,null,"カテゴリ②（プルダウン選択）⇒"]
[null,null,null,null,"昨年度実績",null,null,null,"計",null,0]
[null,null,null,null,"想定",null,null,null,"計",null,0]
[null,null,null,null,"算出根拠"]
[null,null,"COOL CHOICE 賛同数\n（想定及び実績）",null,"昨年度実績",null,null,null,"団体",null,0,null,null,null,null,"、個人",null,0]
[null,null,null,null,"想定",null,null,null,"団体",null,0,null,null,null,null,"、個人",null,0]
[null,null,"効果検証\n（アンケート）予定",null,"※アンケートの実施予定をプルダウンより選択してください。"]
[null,null,null,null,"公募要領に規定のアンケート",null,null,null,null,null,null,null,null,null,null,null,null,null,null,null,null,"貴事業者独自のアンケート"]
[null,null,null,null,"省エネ機器",null,null,null,"省エネ住宅",null,null,null,"エコドライブ",null,null,null,"低炭素物流（宅配便の再配達防止）"]
[null,null,null,null,"- 選択 -",null,null,null,"- 選択 -",null,null,null,"- 選択 -",null,null,null,"- 選択 -",null,null,null,null,"- 選択 -"]
[null,null,null,null,"内容（",null,null,null,null,null,null,null,null,null,null,null,null,null,null,null,null,null,null,null,null,"）"]
[null,null,null,null,"昨年度実績",null,null,null,"計",0,null,null,"枚",null,"※複数ある場合は、平均アンケート回収数"]
[null,null,null,null,"目標回収数",null,null,null,"計",0,null,null,"枚",null,"※複数ある場合は、平均アンケート回収数"]
[]
[null,null,"項目",null,"内容"]
[null,null,"事業4","事業名\n（番組・CM名）"]
[null,null,"普及啓発テーマ",null,"※公募要領　別表第１　で対象とする間接補助事業の内容に合致していること。\n※該当するテーマすべてをチェックしてください。"]
[null,null,null,null,"①",null,"②",null,"③",null,"④",null,"⑤",null,"⑥",null,"⑦",null,"⑧",null,"⑨",null,"⑩",null,"⑪",null,null,null,"①","②","③","④","⑤","⑥","⑦","⑧","⑨","⑩","⑪"]
[null,null,null,null,"省ｴﾈ機器",null,"省ｴﾈ住宅",null,"ｴｺｶｰ",null,"ｸｰﾙﾋﾞｽﾞ",null,"ｳｫｰﾑﾋﾞｽﾞ",null,"照明の\n高効率利用",null,"ｴｺﾄﾞﾗｲﾌﾞ",null,"ｶｰｼｪｱ",null,"公共交通\n機関の利用",null,"再配達防止",null,"シェアエコ",null,null,null,"省ｴﾈ機器","省ｴﾈ住宅","ｴｺｶｰ","ｸｰﾙﾋﾞｽﾞ","ｳｫｰﾑﾋﾞｽﾞ","照明の\n高効率利用","ｴｺﾄﾞﾗｲﾌﾞ","ｶｰｼｪｱ","公共交通\n機関の利用","再配達防止","シェアエコ"]
[null,null,null,null,null,null,null,null,null,null,null,null,null,null,null,null,null,null,null,null,null,null,null,null,null,null,null,null,false,false,false,false,false,false,false,false,false,false,false,{"$f":"COUNTIFS($AC$230:$AM$230,\"TRUE\")","v":0}]
[null,null,"訴求手法",null,"※訴求手法については、該当する欄にチェックしてください。"]
[null,null,null,null,"a) 情報発信型（受動型）",null,null,null,null,null,null,"b) 情報発信型（能動型）",null,null,null,null,null,null,"c) 双方向体験交流型"]
[null,null,null,null,"ラジオ、新聞・広報紙等",null,null,null,null,null,null,"講演会・パネル展示等",null,null,null,null,null,null,"試乗・体験会、省ｴﾈ診断等",null,null,null,null,null,null,null,null,null,null,null,null,null,null,null,null,null,null,null,null,null,"a)","b)","c)"]
[null,null,null,null,null,null,null,null,null,null,null,null,null,null,null,null,null,null,null,null,null,null,null,null,null,null,null,null,null,null,null,null,null,null,null,null,null,null,null,null,false,false,false,{"$f":"COUNTIFS($AO$234:$AQ$234,\"TRUE\")","v":0}]
[null,null,"情報発信カテゴリー\n（プルダウン選択）",null,"-",null,null,null,null,null,null,null,null,null,null,"-"]
[]
[null,null,"尺・放送回数",null,"※収録本数、放送回数を定量的に必ず記載のこと"]
[null,null,null,null,"①","尺",null,null,null,null,null,"（秒）",null,null,null,"※単位はプルダウン選択"]
[null,null,null,null,null,"収録本数",null,null,null,null,null,"（本）"]
[null,null,null,null,null,"放送回数",null,null,null,null,null,"（回）",null,null,null,"※再放送を含む"]
[null,null,null,null,null,"備考"]
[null,null,null,null,"②","尺",null,null,null,null,null,"（秒）",null,null,null,"※単位はプルダウン選択"]
[null,null,null,null,null,"収録本数",null,null,null,null,null,"（本）"]
[null,null,null,null,null,"放送回数",null,null,null,null,null,"（回）",null,null,null,"※再放送を含む"]
[null,null,null,null,null,"備考"]
[null,null,"実施期間",null,null,null,null,null,null,null,null,null,null,"～"]
[null,null,"放送時間、その他備考"]
[null,null,"実施日\n（※同一事業内で、\n同一の内容・場所において\n複数日実施する場合）",null,1,null,null,null,null,null,null,null,null,null,null,11]
[null,null,null,null,2,null,null,null,null,null,null,null,null,null,null,12]
[null,null,null,null,3,null,null,null,null,null,null,null,null,null,null,13]
[null,null,null,null,4,null,null,null,null,null,null,null,null,null,null,14]
[null,null,null,null,5,null,null,null,null,null,null,null,null,null,null,15]
[null,null,null,null,6,null,null,null,null,null,null,null,null,null,null,16]
[null,null,null,null,7,null,null,null,null,null,null,null,null,null,null,17]
[null,null,null,null,8,null,null,null,null,null,null,null,null,null,null,18]
[null,null,null,null,9,null,null,null,null,null,null,null,null,null,null,19]
[null,null,null,null,10,null,null,null,null,null,null,null,null,null,null,20]
[null,null,"事業の概要"]
[null,null,"地域団体との連携\n※地方公共団体を含む"]
[null,null,"効果的な実施の\nための工夫",null,"※訴求テーマ及び訴求対象に応じた適切なメッセージ、時期設定の考え方や訴求対象にアプローチするための工夫等を記入してください。"]
[]
[null,null,"主な訴求対象"]
[null,null,"規模（リーチ数）\n（想定及び実績）",null,"カテゴリ①（プルダウン選択）⇒",null,null,null,null,null,null,null,null,null,null,"聴取人口（番組・CM単位であれば）"]
[null,null,null,null,"昨年度実績",null,null,null,"計",null,0]
[null,null,null,null,"想定",null,null,null,"計",null,0]
[null,null,null,null,"算出根拠"]
[null,null,null,null,"カテゴリ②（プルダウン選択）⇒"]
[null,null,null,null,"昨年度実績",null,null,null,"計",null,0]
[null,null,null,null,"想定",null,null,null,"計",null,0]
[null,null,null,null,"算出根拠"]
[null,null,"COOL CHOICE 賛同数\n（想定及び実績）",null,"昨年度実績",null,null,null,"団体",null,0,null,null,null,null,"、個人",null,0]
[null,null,null,null,"想定",null,null,null,"団体",null,0,null,null,null,null,"、個人",null,0]
[null,null,"効果検証\n（アンケート）予定",null,"※アンケートの実施予定をプルダウンより選択してください。"]
[null,null,null,null,"公募要領に規定のアンケート",null,null,null,null,null,null,null,null,null,null,null,null,null,null,null,null,"貴事業者独自のアンケート"]
[null,null,null,null,"省エネ機器",null,null,null,"省エネ住宅",null,null,null,"エコドライブ",null,null,null,"低炭素物流（宅配便の再配達防止）"]
[null,null,null,null,"- 選択 -",null,null,null,"- 選択 -",null,null,null,"- 選択 -",null,null,null,"- 選択 -",null,null,null,null,"- 選択 -"]
[null,null,null,null,"内容（",null,null,null,null,null,null,null,null,null,null,null,null,null,null,null,null,null,null,null,null,"）"]
[null,null,null,null,"昨年度実績",null,null,null,"計",0,null,null,"枚",null,"※複数ある場合は、平均アンケート回収数"]
[null,null,null,null,"目標回収数",null,null,null,"計",0,null,null,"枚",null,"※複数ある場合は、平均アンケート回収数"]
[]
[null,null,"項目",null,"内容"]
[null,null,"事業5","事業名\n（番組・CM名）"]
[null,null,"普及啓発テーマ",null,"※公募要領　別表第１　で対象とする間接補助事業の内容に合致していること。\n※該当するテーマすべてをチェックしてください。"]
[null,null,null,null,"①",null,"②",null,"③",null,"④",null,"⑤",null,"⑥",null,"⑦",null,"⑧",null,"⑨",null,"⑩",null,"⑪",null,null,null,"①","②","③","④","⑤","⑥","⑦","⑧","⑨","⑩","⑪"]
[null,null,null,null,"省ｴﾈ機器",null,"省ｴﾈ住宅",null,"ｴｺｶｰ",null,"ｸｰﾙﾋﾞｽﾞ",null,"ｳｫｰﾑﾋﾞｽﾞ",null,"照明の\n高効率利用",null,"ｴｺﾄﾞﾗｲﾌﾞ",null,"ｶｰｼｪｱ",null,"公共交通\n機関の利用",null,"再配達防止",null,"シェアエコ",null,null,null,"省ｴﾈ機器","省ｴﾈ住宅","ｴｺｶｰ","ｸｰﾙﾋﾞｽﾞ","ｳｫｰﾑﾋﾞｽﾞ","照明の\n高効率利用","ｴｺﾄﾞﾗｲﾌﾞ","ｶｰｼｪｱ","公共交通\n機関の利用","再配達防止","シェアエコ"]
[null,null,null,null,null,null,null,null,null,null,null,null,null,null,null,null,null,null,null,null,null,null,null,null,null,null,null,null,false,false,false,false,false,false,false,false,false,false,false,{"$f":"COUNTIFS($AC$286:$AM$286,\"TRUE\")","v":0}]
[null,null,"訴求手法",null,"※訴求手法については、該当する欄にチェックしてください。"]
[null,null,null,null,"a) 情報発信型（受動型）",null,null,null,null,null,null,"b) 情報発信型（能動型）",null,null,null,null,null,null,"c) 双方向体験交流型"]
[null,null,null,null,"ラジオ、新聞・広報紙等",null,null,null,null,null,null,"講演会・パネル展示等",null,null,null,null,null,null,"試乗・体験会、省ｴﾈ診断等",null,null,null,null,null,null,null,null,null,null,null,null,null,null,null,null,null,null,null,null,null,"a)","b)","c)"]
[null,null,null,null,null,null,null,null,null,null,null,null,null,null,null,null,null,null,null,null,null,null,null,null,null,null,null,null,null,null,null,null,null,null,null,null,null,null,null,null,false,false,false,{"$f":"COUNTIFS($AO$290:$AQ$290,\"TRUE\")","v":0}]
[null,null,"情報発信カテゴリー\n（プルダウン選択）",null,"-",null,null,null,null,null,null,null,null,null,null,"-"]
[]
[null,null,"尺・放送回数",null,"※収録本数、放送回数を定量的に必ず記載のこと"]
[null,null,null,null,"①","尺",null,null,null,null,null,"（秒）",null,null,null,"※単位はプルダウン選択"]
[null,null,null,null,null,"収録本数",null,null,null,null,null,"（本）"]
[null,null,null,null,null,"放送回数",null,null,null,null,null,"（回）",null,null,null,"※再放送を含む"]
[null,null,null,null,null,"備考"]
[null,null,null,null,"②","尺",null,null,null,null,null,"（秒）",null,null,null,"※単位はプルダウン選択"]
[null,null,null,null,null,"収録本数",null,null,null,null,null,"（本）"]
[null,null,null,null,null,"放送回数",null,null,null,null,null,"（回）",null,null,null,"※再放送を含む"]
[null,null,null,null,null,"備考"]
[null,null,"実施期間",null,null,null,null,null,null,null,null,null,null,"～"]
[null,null,"放送時間、その他備考"]
[null,null,"実施日\n（※同一事業内で、\n同一の内容・場所において\n複数日実施する場合）",null,1,null,null,null,null,null,null,null,null,null,null,11]
[null,null,null,null,2,null,null,null,null,null,null,null,null,null,null,12]
[null,null,null,null,3,null,null,null,null,null,null,null,null,null,null,13]
[null,null,null,null,4,null,null,null,null,null,null,null,null,null,null,14]
[null,null,null,null,5,null,null,null,null,null,null,null,null,null,null,15]
[null,null,null,null,6,null,null,null,null,null,null,null,null,null,null,16]
[null,null,null,null,7,null,null,null,null,null,null,null,null,null,null,17]
[null,null,null,null,8,null,null,null,null,null,null,null,null,null,null,18]
[null,null,null,null,9,null,null,null,null,null,null,null,null,null,null,19]
[null,null,null,null,10,null,null,null,null,null,null,null,null,null,null,20]
[null,null,"事業の概要"]
[null,null,"地域団体との連携\n※地方公共団体を含む"]
[null,null,"効果的な実施の\nための工夫",null,"※訴求テーマ及び訴求対象に応じた適切なメッセージ、時期設定の考え方や訴求対象にアプローチするための工夫等を記入してください。"]
[]
[null,null,"主な訴求対象"]
[null,null,"規模（リーチ数）\n（想定及び実績）",null,"カテゴリ①（プルダウン選択）⇒",null,null,null,null,null,null,null,null,null,null,"聴取人口（番組・CM単位であれば）"]
[null,null,null,null,"昨年度実績",null,null,null,"計",null,0]
[null,null,null,null,"想定",null,null,null,"計",null,0]
[null,null,null,null,"算出根拠"]
[null,null,null,null,"カテゴリ②（プルダウン選択）⇒"]
[null,null,null,null,"昨年度実績",null,null,null,"計",null,0]
[null,null,null,null,"想定",null,null,null,"計",null,0]
[null,null,null,null,"算出根拠"]
[null,null,"COOL CHOICE 賛同数\n（想定及び実績）",null,"昨年度実績",null,null,null,"団体",null,0,null,null,null,null,"、個人",null,0]
[null,null,null,null,"想定",null,null,null,"団体",null,0,null,null,null,null,"、個人",null,0]
[null,null,"効果検証\n（アンケート）予定",null,"※アンケートの実施予定をプルダウンより選択してください。"]
[null,null,null,null,"公募要領に規定のアンケート",null,null,null,null,null,null,null,null,null,null,null,null,null,null,null,null,"貴事業者独自のアンケート"]
[null,null,null,null,"省エネ機器",null,null,null,"省エネ住宅",null,null,null,"エコドライブ",null,null,null,"低炭素物流（宅配便の再配達防止）"]
[null,null,null,null,"- 選択 -",null,null,null,"- 選択 -",null,null,null,"- 選択 -",null,null,null,"- 選択 -",null,null,null,null,"- 選択 -"]
[null,null,null,null,"内容（",null,null,null,null,null,null,null,null,null,null,null,null,null,null,null,null,null,null,null,null,"）"]
[null,null,null,null,"昨年度実績",null,null,null,"計",0,null,null,"枚",null,"※複数ある場合は、平均アンケート回収数"]
[null,null,null,null,"目標回収数",null,null,null,"計",0,null,null,"枚",null,"※複数ある場合は、平均アンケート回収数"]
[]
[null,null,"項目",null,"内容"]
[null,null,"事業6","事業名\n（番組・CM名）"]
[null,null,"普及啓発テーマ",null,"※公募要領　別表第１　で対象とする間接補助事業の内容に合致していること。\n※該当するテーマすべてをチェックしてください。"]
[null,null,null,null,"①",null,"②",null,"③",null,"④",null,"⑤",null,"⑥",null,"⑦",null,"⑧",null,"⑨",null,"⑩",null,"⑪",null,null,null,"①","②","③","④","⑤","⑥","⑦","⑧","⑨","⑩","⑪"]
[null,null,null,null,"省ｴﾈ機器",null,"省ｴﾈ住宅",null,"ｴｺｶｰ",null,"ｸｰﾙﾋﾞｽﾞ",null,"ｳｫｰﾑﾋﾞｽﾞ",null,"照明の\n高効率利用",null,"ｴｺﾄﾞﾗｲﾌﾞ",null,"ｶｰｼｪｱ",null,"公共交通\n機関の利用",null,"再配達防止",null,"シェアエコ",null,null,null,"省ｴﾈ機器","省ｴﾈ住宅","ｴｺｶｰ","ｸｰﾙﾋﾞｽﾞ","ｳｫｰﾑﾋﾞｽﾞ","照明の\n高効率利用","ｴｺﾄﾞﾗｲﾌﾞ","ｶｰｼｪｱ","公共交通\n機関の利用","再配達防止","シェアエコ"]
[null,null,null,null,null,null,null,null,null,null,null,null,null,null,null,null,null,null,null,null,null,null,null,null,null,null,null,null,false,false,false,false,false,false,false,false,false,false,false,{"$f":"COUNTIFS($AC$342:$AM$342,\"TRUE\")","v":0}]
[null,null,"訴求手法",null,"※訴求手法については、該当する欄にチェックしてください。"]
[null,null,null,null,"a) 情報発信型（受動型）",null,null,null,null,null,null,"b) 情報発信型（能動型）",null,null,null,null,null,null,"c) 双方向体験交流型"]
[null,null,null,null,"ラジオ、新聞・広報紙等",null,null,null,null,null,null,"講演会・パネル展示等",null,null,null,null,null,null,"試乗・体験会、省ｴﾈ診断等",null,null,null,null,null,null,null,null,null,null,null,null,null,null,null,null,null,null,null,null,null,"a)","b)","c)"]
[null,null,null,null,null,null,null,null,null,null,null,null,null,null,null,null,null,null,null,null,null,null,null,null,null,null,null,null,null,null,null,null,null,null,null,null,null,null,null,null,false,false,false,{"$f":"COUNTIFS($AO$346:$AQ$346,\"TRUE\")","v":0}]
[null,null,"情報発信カテゴリー\n（プルダウン選択）",null,"-",null,null,null,null,null,null,null,null,null,null,"-"]
[]
[null,null,"尺・放送回数",null,"※収録本数、放送回数を定量的に必ず記載のこと"]
[null,null,null,null,"①","尺",null,null,null,null,null,"（秒）",null,null,null,"※単位はプルダウン選択"]
[null,null,null,null,null,"収録本数",null,null,null,null,null,"（本）"]
[null,null,null,null,null,"放送回数",null,null,null,null,null,"（回）",null,null,null,"※再放送を含む"]
[null,null,null,null,null,"備考"]
[null,null,null,null,"②","尺",null,null,null,null,null,"（秒）",null,null,null,"※単位はプルダウン選択"]
[null,null,null,null,null,"収録本数",null,null,null,null,null,"（本）"]
[null,null,null,null,null,"放送回数",null,null,null,null,null,"（回）",null,null,null,"※再放送を含む"]
[null,null,null,null,null,"備考"]
[null,null,"実施期間",null,null,null,null,null,null,null,null,null,null,"～"]
[null,null,"放送時間、その他備考"]
[null,null,"実施日\n（※同一事業内で、\n同一の内容・場所において\n複数日実施する場合）",null,1,null,null,null,null,null,null,null,null,null,null,11]
[null,null,null,null,2,null,null,null,null,null,null,null,null,null,null,12]
[null,null,null,null,3,null,null,null,null,null,null,null,null,null,null,13]
[null,null,null,null,4,null,null,null,null,null,null,null,null,null,null,14]
[null,null,null,null,5,null,null,null,null,null,null,null,null,null,null,15]
[null,null,null,null,6,null,null,null,null,null,null,null,null,null,null,16]
[null,null,null,null,7,null,null,null,null,null,null,null,null,null,null,17]
[null,null,null,null,8,null,null,null,null,null,null,null,null,null,null,18]
[null,null,null,null,9,null,null,null,null,null,null,null,null,null,null,19]
[null,null,null,null,10,null,null,null,null,null,null,null,null,null,null,20]
[null,null,"事業の概要"]
[null,null,"地域団体との連携\n※地方公共団体を含む"]
[null,null,"効果的な実施の\nための工夫",null,"※訴求テーマ及び訴求対象に応じた適切なメッセージ、時期設定の考え方や訴求対象にアプローチするための工夫等を記入してください。"]
[]
[null,null,"主な訴求対象"]
[null,null,"規模（リーチ数）\n（想定及び実績）",null,"カテゴリ①（プルダウン選択）⇒",null,null,null,null,null,null,null,null,null,null,"聴取人口（番組・CM単位であれば）"]
[null,null,null,null,"昨年度実績",null,null,null,"計",null,0]
[null,null,null,null,"想定",null,null,null,"計",null,0]
[null,null,null,null,"算出根拠"]
[null,null,null,null,"カテゴリ②（プルダウン選択）⇒"]
[null,null,null,null,"昨年度実績",null,null,null,"計",null,0]
[null,null,null,null,"想定",null,null,null,"計",null,0]
[null,null,null,null,"算出根拠"]
[null,null,"COOL CHOICE 賛同数\n（想定及び実績）",null,"昨年度実績",null,null,null,"団体",null,0,null,null,null,null,"、個人",null,0]
[null,null,null,null,"想定",null,null,null,"団体",null,0,null,null,null,null,"、個人",null,0]
[null,null,"効果検証\n（アンケート）予定",null,"※アンケートの実施予定をプルダウンより選択してください。"]
[null,null,null,null,"公募要領に規定のアンケート",null,null,null,null,null,null,null,null,null,null,null,null,null,null,null,null,"貴事業者独自のアンケート"]
[null,null,null,null,"省エネ機器",null,null,null,"省エネ住宅",null,null,null,"エコドライブ",null,null,null,"低炭素物流（宅配便の再配達防止）"]
[null,null,null,null,"- 選択 -",null,null,null,"- 選択 -",null,null,null,"- 選択 -",null,null,null,"- 選択 -",null,null,null,null,"- 選択 -"]
[null,null,null,null,"内容（",null,null,null,null,null,null,null,null,null,null,null,null,null,null,null,null,null,null,null,null,"）"]
[null,null,null,null,"昨年度実績",null,null,null,"計",0,null,null,"枚",null,"※複数ある場合は、平均アンケート回収数"]
[null,null,null,null,"目標回収数",null,null,null,"計",0,null,null,"枚",null,"※複数ある場合は、平均アンケート回収数"]
[]
[null,null,"項目",null,"内容"]
[null,null,"事業7","事業名\n（番組・CM名）"]
[null,null,"普及啓発テーマ",null,"※公募要領　別表第１　で対象とする間接補助事業の内容に合致していること。\n※該当するテーマすべてをチェックしてください。"]
[null,null,null,null,"①",null,"②",null,"③",null,"④",null,"⑤",null,"⑥",null,"⑦",null,"⑧",null,"⑨",null,"⑩",null,"⑪",null,null,null,"①","②","③","④","⑤","⑥","⑦","⑧","⑨","⑩","⑪"]
[null,null,null,null,"省ｴﾈ機器",null,"省ｴﾈ住宅",null,"ｴｺｶｰ",null,"ｸｰﾙﾋﾞｽﾞ",null,"ｳｫｰﾑﾋﾞｽﾞ",null,"照明の\n高効率利用",null,"ｴｺﾄﾞﾗｲﾌﾞ",null,"ｶｰｼｪｱ",null,"公共交通\n機関の利用",null,"再配達防止",null,"シェアエコ",null,null,null,"省ｴﾈ機器","省ｴﾈ住宅","ｴｺｶｰ","ｸｰﾙﾋﾞｽﾞ","ｳｫｰﾑﾋﾞｽﾞ","照明の\n高効率利用","ｴｺﾄﾞﾗｲﾌﾞ","ｶｰｼｪｱ","公共交通\n機関の利用","再配達防止","シェアエコ"]
[null,null,null,null,null,null,null,null,null,null,null,null,null,null,null,null,null,null,null,null,null,null,null,null,null,null,null,null,false,false,false,false,false,false,false,false,false,false,false,{"$f":"COUNTIFS($AC$398:$AM$398,\"TRUE\")","v":0}]
[null,null,"訴求手法",null,"※訴求手法については、該当する欄にチェックしてください。"]
[null,null,null,null,"a) 情報発信型（受動型）",null,null,null,null,null,null,"b) 情報発信型（能動型）",null,null,null,null,null,null,"c) 双方向体験交流型"]
[null,null,null,null,"ラジオ、新聞・広報紙等",null,null,null,null,null,null,"講演会・パネル展示等",null,null,null,null,null,null,"試乗・体験会、省ｴﾈ診断等",null,null,null,null,null,null,null,null,null,null,null,null,null,null,null,null,null,null,null,null,null,"a)","b)","c)"]
[null,null,null,null,null,null,null,null,null,null,null,null,null,null,null,null,null,null,null,null,null,null,null,null,null,null,null,null,null,null,null,null,null,null,null,null,null,null,null,null,false,false,false,{"$f":"COUNTIFS($AO$402:$AQ$402,\"TRUE\")","v":0}]
[null,null,"情報発信カテゴリー\n（プルダウン選択）",null,"-",null,null,null,null,null,null,null,null,null,null,"-"]
[]
[null,null,"尺・放送回数",null,"※収録本数、放送回数を定量的に必ず記載のこと"]
[null,null,null,null,"①","尺",null,null,null,null,null,"（秒）",null,null,null,"※単位はプルダウン選択"]
[null,null,null,null,null,"収録本数",null,null,null,null,null,"（本）"]
[null,null,null,null,null,"放送回数",null,null,null,null,null,"（回）",null,null,null,"※再放送を含む"]
[null,null,null,null,null,"備考"]
[null,null,null,null,"②","尺",null,null,null,null,null,"（秒）",null,null,null,"※単位はプルダウン選択"]
[null,null,null,null,null,"収録本数",null,null,null,null,null,"（本）"]
[null,null,null,null,null,"放送回数",null,null,null,null,null,"（回）",null,null,null,"※再放送を含む"]
[null,null,null,null,null,"備考"]
[null,null,"実施期間",null,null,null,null,null,null,null,null,null,null,"～"]
[null,null,"放送時間、その他備考"]
[null,null,"実施日\n（※同一事業内で、\n同一の内容・場所において\n複数日実施する場合）",null,1,null,null,null,null,null,null,null,null,null,null,11]
[null,null,null,null,2,null,null,null,null,null,null,null,null,null,null,12]
[null,null,null,null,3,null,null,null,null,null,null,null,null,null,null,13]
[null,null,null,null,4,null,null,null,null,null,null,null,null,null,null,14]
[null,null,null,null,5,null,null,null,null,null,null,null,null,null,null,15]
[null,null,null,null,6,null,null,null,null,null,null,null,null,null,null,16]
[null,null,null,null,7,null,null,null,null,null,null,null,null,null,null,17]
[null,null,null,null,8,null,null,null,null,null,null,null,null,null,null,18]
[null,null,null,null,9,null,null,null,null,null,null,null,null,null,null,19]
[null,null,null,null,10,null,null,null,null,null,null,null,null,null,null,20]
[null,null,"事業の概要"]
[null,null,"地域団体との連携\n※地方公共団体を含む"]
[null,null,"効果的な実施の\nための工夫",null,"※訴求テーマ及び訴求対象に応じた適切なメッセージ、時期設定の考え方や訴求対象にアプローチするための工夫等を記入してください。"]
[]
[null,null,"主な訴求対象"]
[null,null,"規模（リーチ数）\n（想定及び実績）",null,"カテゴリ①（プルダウン選択）⇒",null,null,null,null,null,null,null,null,null,null,"聴取人口（番組・CM単位であれば）"]
[null,null,null,null,"昨年度実績",null,null,null,"計",null,0]
[null,null,null,null,"想定",null,null,null,"計",null,0]
[null,null,null,null,"算出根拠"]
[null,null,null,null,"カテゴリ②（プルダウン選択）⇒"]
[null,null,null,null,"昨年度実績",null,null,null,"計",null,0]
[null,null,null,null,"想定",null,null,null,"計",null,0]
[null,null,null,null,"算出根拠"]
[null,null,"COOL CHOICE 賛同数\n（想定及び実績）",null,"昨年度実績",null,null,null,"団体",null,0,null,null,null,null,"、個人",null,0]
[null,null,null,null,"想定",null,null,null,"団体",null,0,null,null,null,null,"、個人",null,0]
[null,null,"効果検証\n（アンケート）予定",null,"※アンケートの実施予定をプルダウンより選択してください。"]
[null,null,null,null,"公募要領に規定のアンケート",null,null,null,null,null,null,null,null,null,null,null,null,null,null,null,null,"貴事業者独自のアンケート"]
[null,null,null,null,"省エネ機器",null,null,null,"省エネ住宅",null,null,null,"エコドライブ",null,null,null,"低炭素物流（宅配便の再配達防止）"]
[null,null,null,null,"- 選択 -",null,null,null,"- 選択 -",null,null,null,"- 選択 -",null,null,null,"- 選択 -",null,null,null,null,"- 選択 -"]
[null,null,null,null,"内容（",null,null,null,null,null,null,null,null,null,null,null,null,null,null,null,null,null,null,null,null,"）"]
[null,null,null,null,"昨年度実績",null,null,null,"計",0,null,null,"枚",null,"※複数ある場合は、平均アンケート回収数"]
[null,null,null,null,"目標回収数",null,null,null,"計",0,null,null,"枚",null,"※複数ある場合は、平均アンケート回収数"]
[]
[null,null,"項目",null,"内容"]
[null,null,"事業8","事業名\n（番組・CM名）"]
[null,null,"普及啓発テーマ",null,"※公募要領　別表第１　で対象とする間接補助事業の内容に合致していること。\n※該当するテーマすべてをチェックしてください。"]
[null,null,null,null,"①",null,"②",null,"③",null,"④",null,"⑤",null,"⑥",null,"⑦",null,"⑧",null,"⑨",null,"⑩",null,"⑪",null,null,null,"①","②","③","④","⑤","⑥","⑦","⑧","⑨","⑩","⑪"]
[null,null,null,null,"省ｴﾈ機器",null,"省ｴﾈ住宅",null,"ｴｺｶｰ",null,"ｸｰﾙﾋﾞｽﾞ",null,"ｳｫｰﾑﾋﾞｽﾞ",null,"照明の\n高効率利用",null,"ｴｺﾄﾞﾗｲﾌﾞ",null,"ｶｰｼｪｱ",null,"公共交通\n機関の利用",null,"再配達防止",null,"シェアエコ",null,null,null,"省ｴﾈ機器","省ｴﾈ住宅","ｴｺｶｰ","ｸｰﾙﾋﾞｽﾞ","ｳｫｰﾑﾋﾞｽﾞ","照明の\n高効率利用","ｴｺﾄﾞﾗｲﾌﾞ","ｶｰｼｪｱ","公共交通\n機関の利用","再配達防止","シェアエコ"]
[null,null,null,null,null,null,null,null,null,null,null,null,null,null,null,null,null,null,null,null,null,null,null,null,null,null,null,null,false,false,false,false,false,false,false,false,false,false,false,{"$f":"COUNTIFS($AC$454:$AM$454,\"TRUE\")","v":0}]
[null,null,"訴求手法",null,"※訴求手法については、該当する欄にチェックしてください。"]
[null,null,null,null,"a) 情報発信型（受動型）",null,null,null,null,null,null,"b) 情報発信型（能動型）",null,null,null,null,null,null,"c) 双方向体験交流型"]
[null,null,null,null,"ラジオ、新聞・広報紙等",null,null,null,null,null,null,"講演会・パネル展示等",null,null,null,null,null,null,"試乗・体験会、省ｴﾈ診断等",null,null,null,null,null,null,null,null,null,null,null,null,null,null,null,null,null,null,null,null,null,"a)","b)","c)"]
[null,null,null,null,null,null,null,null,null,null,null,null,null,null,null,null,null,null,null,null,null,null,null,null,null,null,null,null,null,null,null,null,null,null,null,null,null,null,null,null,false,false,false,{"$f":"COUNTIFS($AO$458:$AQ$458,\"TRUE\")","v":0}]
[null,null,"情報発信カテゴリー\n（プルダウン選択）",null,"-",null,null,null,null,null,null,null,null,null,null,"-"]
[]
[null,null,"尺・放送回数",null,"※収録本数、放送回数を定量的に必ず記載のこと"]
[null,null,null,null,"①","尺",null,null,null,null,null,"（秒）",null,null,null,"※単位はプルダウン選択"]
[null,null,null,null,null,"収録本数",null,null,null,null,null,"（本）"]
[null,null,null,null,null,"放送回数",null,null,null,null,null,"（回）",null,null,null,"※再放送を含む"]
[null,null,null,null,null,"備考"]
[null,null,null,null,"②","尺",null,null,null,null,null,"（秒）",null,null,null,"※単位はプルダウン選択"]
[null,null,null,null,null,"収録本数",null,null,null,null,null,"（本）"]
[null,null,null,null,null,"放送回数",null,null,null,null,null,"（回）",null,null,null,"※再放送を含む"]
[null,null,null,null,null,"備考"]
[null,null,"実施期間",null,null,null,null,null,null,null,null,null,null,"～"]
[null,null,"放送時間、その他備考"]
[null,null,"実施日\n（※同一事業内で、\n同一の内容・場所において\n複数日実施する場合）",null,1,null,null,null,null,null,null,null,null,null,null,11]
[null,null,null,null,2,null,null,null,null,null,null,null,null,null,null,12]
[null,null,null,null,3,null,null,null,null,null,null,null,null,null,null,13]
[null,null,null,null,4,null,null,null,null,null,null,null,null,null,null,14]
[null,null,null,null,5,null,null,null,null,null,null,null,null,null,null,15]
[null,null,null,null,6,null,null,null,null,null,null,null,null,null,null,16]
[null,null,null,null,7,null,null,null,null,null,null,null,null,null,null,17]
[null,null,null,null,8,null,null,null,null,null,null,null,null,null,null,18]
[null,null,null,null,9,null,null,null,null,null,null,null,null,null,null,19]
[null,null,null,null,10,null,null,null,null,null,null,null,null,null,null,20]
[null,null,"事業の概要"]
[null,null,"地域団体との連携\n※地方公共団体を含む"]
[null,null,"効果的な実施の\nための工夫",null,"※訴求テーマ及び訴求対象に応じた適切なメッセージ、時期設定の考え方や訴求対象にアプローチするための工夫等を記入してください。"]
[]
[null,null,"主な訴求対象"]
[null,null,"規模（リーチ数）\n（想定及び実績）",null,"カテゴリ①（プルダウン選択）⇒",null,null,null,null,null,null,null,null,null,null,"聴取人口（番組・CM単位であれば）"]
[null,null,null,null,"昨年度実績",null,null,null,"計",null,0]
[null,null,null,null,"想定",null,null,null,"計",null,0]
[null,null,null,null,"算出根拠"]
[null,null,null,null,"カテゴリ②（プルダウン選択）⇒"]
[null,null,null,null,"昨年度実績",null,null,null,"計",null,0]
[null,null,null,null,"想定",null,null,null,"計",null,0]
[null,null,null,null,"算出根拠"]
[null,null,"COOL CHOICE 賛同数\n（想定及び実績）",null,"昨年度実績",null,null,null,"団体",null,0,null,null,null,null,"、個人",null,0]
[null,null,null,null,"想定",null,null,null,"団体",null,0,null,null,null,null,"、個人",null,0]
[null,null,"効果検証\n（アンケート）予定",null,"※アンケートの実施予定をプルダウンより選択してください。"]
[null,null,null,null,"公募要領に規定のアンケート",null,null,null,null,null,null,null,null,null,null,null,null,null,null,null,null,"貴事業者独自のアンケート"]
[null,null,null,null,"省エネ機器",null,null,null,"省エネ住宅",null,null,null,"エコドライブ",null,null,null,"低炭素物流（宅配便の再配達防止）"]
[null,null,null,null,"- 選択 -",null,null,null,"- 選択 -",null,null,null,"- 選択 -",null,null,null,"- 選択 -",null,null,null,null,"- 選択 -"]
[null,null,null,null,"内容（",null,null,null,null,null,null,null,null,null,null,null,null,null,null,null,null,null,null,null,null,"）"]
[null,null,null,null,"昨年度実績",null,null,null,"計",0,null,null,"枚",null,"※複数ある場合は、平均アンケート回収数"]
[null,null,null,null,"目標回収数",null,null,null,"計",0,null,null,"枚",null,"※複数ある場合は、平均アンケート回収数"]
[]
[null,null,"項目",null,"内容"]
[null,null,"事業9","事業名\n（番組・CM名）"]
[null,null,"普及啓発テーマ",null,"※公募要領　別表第１　で対象とする間接補助事業の内容に合致していること。\n※該当するテーマすべてをチェックしてください。"]
[null,null,null,null,"①",null,"②",null,"③",null,"④",null,"⑤",null,"⑥",null,"⑦",null,"⑧",null,"⑨",null,"⑩",null,"⑪",null,null,null,"①","②","③","④","⑤","⑥","⑦","⑧","⑨","⑩","⑪"]
[null,null,null,null,"省ｴﾈ機器",null,"省ｴﾈ住宅",null,"ｴｺｶｰ",null,"ｸｰﾙﾋﾞｽﾞ",null,"ｳｫｰﾑﾋﾞｽﾞ",null,"照明の\n高効率利用",null,"ｴｺﾄﾞﾗｲﾌﾞ",null,"ｶｰｼｪｱ",null,"公共交通\n機関の利用",null,"再配達防止",null,"シェアエコ",null,null,null,"省ｴﾈ機器","省ｴﾈ住宅","ｴｺｶｰ","ｸｰﾙﾋﾞｽﾞ","ｳｫｰﾑﾋﾞｽﾞ","照明の\n高効率利用","ｴｺﾄﾞﾗｲﾌﾞ","ｶｰｼｪｱ","公共交通\n機関の利用","再配達防止","シェアエコ"]
[null,null,null,null,null,null,null,null,null,null,null,null,null,null,null,null,null,null,null,null,null,null,null,null,null,null,null,null,false,false,false,false,false,false,false,false,false,false,false,{"$f":"COUNTIFS($AC$510:$AM$510,\"TRUE\")","v":0}]
[null,null,"訴求手法",null,"※訴求手法については、該当する欄にチェックしてください。"]
[null,null,null,null,"a) 情報発信型（受動型）",null,null,null,null,null,null,"b) 情報発信型（能動型）",null,null,null,null,null,null,"c) 双方向体験交流型"]
[null,null,null,null,"ラジオ、新聞・広報紙等",null,null,null,null,null,null,"講演会・パネル展示等",null,null,null,null,null,null,"試乗・体験会、省ｴﾈ診断等",null,null,null,null,null,null,null,null,null,null,null,null,null,null,null,null,null,null,null,null,null,"a)","b)","c)"]
[null,null,null,null,null,null,null,null,null,null,null,null,null,null,null,null,null,null,null,null,null,null,null,null,null,null,null,null,null,null,null,null,null,null,null,null,null,null,null,null,false,false,false,{"$f":"COUNTIFS($AO$514:$AQ$514,\"TRUE\")","v":0}]
[null,null,"情報発信カテゴリー\n（プルダウン選択）",null,"-",null,null,null,null,null,null,null,null,null,null,"-"]
[]
[null,null,"尺・放送回数",null,"※収録本数、放送回数を定量的に必ず記載のこと"]
[null,null,null,null,"①","尺",null,null,null,null,null,"（秒）",null,null,null,"※単位はプルダウン選択"]
[null,null,null,null,null,"収録本数",null,null,null,null,null,"（本）"]
[null,null,null,null,null,"放送回数",null,null,null,null,null,"（回）",null,null,null,"※再放送を含む"]
[null,null,null,null,null,"備考"]
[null,null,null,null,"②","尺",null,null,null,null,null,"（秒）",null,null,null,"※単位はプルダウン選択"]
[null,null,null,null,null,"収録本数",null,null,null,null,null,"（本）"]
[null,null,null,null,null,"放送回数",null,null,null,null,null,"（回）",null,null,null,"※再放送を含む"]
[null,null,null,null,null,"備考"]
[null,null,"実施期間",null,null,null,null,null,null,null,null,null,null,"～"]
[null,null,"放送時間、その他備考"]
[null,null,"実施日\n（※同一事業内で、\n同一の内容・場所において\n複数日実施する場合）",null,1,null,null,null,null,null,null,null,null,null,null,11]
[null,null,null,null,2,null,null,null,null,null,null,null,null,null,null,12]
[null,null,null,null,3,null,null,null,null,null,null,null,null,null,null,13]
[null,null,null,null,4,null,null,null,null,null,null,null,null,null,null,14]
[null,null,null,null,5,null,null,null,null,null,null,null,null,null,null,15]
[null,null,null,null,6,null,null,null,null,null,null,null,null,null,null,16]
[null,null,null,null,7,null,null,null,null,null,null,null,null,null,null,17]
[null,null,null,null,8,null,null,null,null,null,null,null,null,null,null,18]
[null,null,null,null,9,null,null,null,null,null,null,null,null,null,null,19]
[null,null,null,null,10,null,null,null,null,null,null,null,null,null,null,20]
[null,null,"事業の概要"]
[null,null,"地域団体との連携\n※地方公共団体を含む"]
[null,null,"効果的な実施の\nための工夫",null,"※訴求テーマ及び訴求対象に応じた適切なメッセージ、時期設定の考え方や訴求対象にアプローチするための工夫等を記入してください。"]
[]
[null,null,"主な訴求対象"]
[null,null,"規模（リーチ数）\n（想定及び実績）",null,"カテゴリ①（プルダウン選択）⇒",null,null,null,null,null,null,null,null,null,null,"聴取人口（番組・CM単位であれば）"]
[null,null,null,null,"昨年度実績",null,null,null,"計",null,0]
[null,null,null,null,"想定",null,null,null,"計",null,0]
[null,null,null,null,"算出根拠"]
[null,null,null,null,"カテゴリ②（プルダウン選択）⇒"]
[null,null,null,null,"昨年度実績",null,null,null,"計",null,0]
[null,null,null,null,"想定",null,null,null,"計",null,0]
[null,null,null,null,"算出根拠"]
[null,null,"COOL CHOICE 賛同数\n（想定及び実績）",null,"昨年度実績",null,null,null,"団体",null,0,null,null,null,null,"、個人",null,0]
[null,null,null,null,"想定",null,null,null,"団体",null,0,null,null,null,null,"、個人",null,0]
[null,null,"効果検証\n（アンケート）予定",null,"※アンケートの実施予定をプルダウンより選択してください。"]
[null,null,null,null,"公募要領に規定のアンケート",null,null,null,null,null,null,null,null,null,null,null,null,null,null,null,null,"貴事業者独自のアンケート"]
[null,null,null,null,"省エネ機器",null,null,null,"省エネ住宅",null,null,null,"エコドライブ",null,null,null,"低炭素物流（宅配便の再配達防止）"]
[null,null,null,null,"- 選択 -",null,null,null,"- 選択 -",null,null,null,"- 選択 -",null,null,null,"- 選択 -",null,null,null,null,"- 選択 -"]
[null,null,null,null,"内容（",null,null,null,null,null,null,null,null,null,null,null,null,null,null,null,null,null,null,null,null,"）"]
[null,null,null,null,"昨年度実績",null,null,null,"計",0,null,null,"枚",null,"※複数ある場合は、平均アンケート回収数"]
[null,null,null,null,"目標回収数",null,null,null,"計",0,null,null,"枚",null,"※複数ある場合は、平均アンケート回収数"]
[]
[null,null,"項目",null,"内容"]
[null,null,"事業10","事業名\n（番組・CM名）"]
[null,null,"普及啓発テーマ",null,"※公募要領　別表第１　で対象とする間接補助事業の内容に合致していること。\n※該当するテーマすべてをチェックしてください。"]
[null,null,null,null,"①",null,"②",null,"③",null,"④",null,"⑤",null,"⑥",null,"⑦",null,"⑧",null,"⑨",null,"⑩",null,"⑪",null,null,null,"①","②","③","④","⑤","⑥","⑦","⑧","⑨","⑩","⑪"]
[null,null,null,null,"省ｴﾈ機器",null,"省ｴﾈ住宅",null,"ｴｺｶｰ",null,"ｸｰﾙﾋﾞｽﾞ",null,"ｳｫｰﾑﾋﾞｽﾞ",null,"照明の\n高効率利用",null,"ｴｺﾄﾞﾗｲﾌﾞ",null,"ｶｰｼｪｱ",null,"公共交通\n機関の利用",null,"再配達防止",null,"シェアエコ",null,null,null,"省ｴﾈ機器","省ｴﾈ住宅","ｴｺｶｰ","ｸｰﾙﾋﾞｽﾞ","ｳｫｰﾑﾋﾞｽﾞ","照明の\n高効率利用","ｴｺﾄﾞﾗｲﾌﾞ","ｶｰｼｪｱ","公共交通\n機関の利用","再配達防止","シェアエコ"]
[null,null,null,null,null,null,null,null,null,null,null,null,null,null,null,null,null,null,null,null,null,null,null,null,null,null,null,null,false,false,false,false,false,false,false,false,false,false,false,{"$f":"COUNTIFS($AC$566:$AM$566,\"TRUE\")","v":0}]
[null,null,"訴求手法",null,"※訴求手法については、該当する欄にチェックしてください。"]
[null,null,null,null,"a) 情報発信型（受動型）",null,null,null,null,null,null,"b) 情報発信型（能動型）",null,null,null,null,null,null,"c) 双方向体験交流型"]
[null,null,null,null,"ラジオ、新聞・広報紙等",null,null,null,null,null,null,"講演会・パネル展示等",null,null,null,null,null,null,"試乗・体験会、省ｴﾈ診断等",null,null,null,null,null,null,null,null,null,null,null,null,null,null,null,null,null,null,null,null,null,"a)","b)","c)"]
[null,null,null,null,null,null,null,null,null,null,null,null,null,null,null,null,null,null,null,null,null,null,null,null,null,null,null,null,null,null,null,null,null,null,null,null,null,null,null,null,false,false,false,{"$f":"COUNTIFS($AO$570:$AQ$570,\"TRUE\")","v":0}]
[null,null,"情報発信カテゴリー\n（プルダウン選択）",null,"-",null,null,null,null,null,null,null,null,null,null,"-"]
[]
[null,null,"尺・放送回数",null,"※収録本数、放送回数を定量的に必ず記載のこと"]
[null,null,null,null,"①","尺",null,null,null,null,null,"（秒）",null,null,null,"※単位はプルダウン選択"]
[null,null,null,null,null,"収録本数",null,null,null,null,null,"（本）"]
[null,null,null,null,null,"放送回数",null,null,null,null,null,"（回）",null,null,null,"※再放送を含む"]
[null,null,null,null,null,"備考"]
[null,null,null,null,"②","尺",null,null,null,null,null,"（秒）",null,null,null,"※単位はプルダウン選択"]
[null,null,null,null,null,"収録本数",null,null,null,null,null,"（本）"]
[null,null,null,null,null,"放送回数",null,null,null,null,null,"（回）",null,null,null,"※再放送を含む"]
[null,null,null,null,null,"備考"]
[null,null,"実施期間",null,null,null,null,null,null,null,null,null,null,"～"]
[null,null,"放送時間、その他備考"]
[null,null,"実施日\n（※同一事業内で、\n同一の内容・場所において\n複数日実施する場合）",null,1,null,null,null,null,null,null,null,null,null,null,11]
[null,null,null,null,2,null,null,null,null,null,null,null,null,null,null,12]
[null,null,null,null,3,null,null,null,null,null,null,null,null,null,null,13]
[null,null,null,null,4,null,null,null,null,null,null,null,null,null,null,14]
[null,null,null,null,5,null,null,null,null,null,null,null,null,null,null,15]
[null,null,null,null,6,null,null,null,null,null,null,null,null,null,null,16]
[null,null,null,null,7,null,null,null,null,null,null,null,null,null,null,17]
[null,null,null,null,8,null,null,null,null,null,null,null,null,null,null,18]
[null,null,null,null,9,null,null,null,null,null,null,null,null,null,null,19]
[null,null,null,null,10,null,null,null,null,null,null,null,null,null,null,20]
[null,null,"事業の概要"]
[null,null,"地域団体との連携\n※地方公共団体を含む"]
[null,null,"効果的な実施の\nための工夫",null,"※訴求テーマ及び訴求対象に応じた適切なメッセージ、時期設定の考え方や訴求対象にアプローチするための工夫等を記入してください。"]
[]
[null,null,"主な訴求対象"]
[null,null,"規模（リーチ数）\n（想定及び実績）",null,"カテゴリ①（プルダウン選択）⇒",null,null,null,null,null,null,null,null,null,null,"聴取人口（番組・CM単位であれば）"]
[null,null,null,null,"昨年度実績",null,null,null,"計",null,0]
[null,null,null,null,"想定",null,null,null,"計",null,0]
[null,null,null,null,"算出根拠"]
[null,null,null,null,"カテゴリ②（プルダウン選択）⇒"]
[null,null,null,null,"昨年度実績",null,null,null,"計",null,0]
[null,null,null,null,"想定",null,null,null,"計",null,0]
[null,null,null,null,"算出根拠"]
[null,null,"COOL CHOICE 賛同数\n（想定及び実績）",null,"昨年度実績",null,null,null,"団体",null,0,null,null,null,null,"、個人",null,0]
[null,null,null,null,"想定",null,null,null,"団体",null,0,null,null,null,null,"、個人",null,0]
[null,null,"効果検証\n（アンケート）予定",null,"※アンケートの実施予定をプルダウンより選択してください。"]
[null,null,null,null,"公募要領に規定のアンケート",null,null,null,null,null,null,null,null,null,null,null,null,null,null,null,null,"貴事業者独自のアンケート"]
[null,null,null,null,"省エネ機器",null,null,null,"省エネ住宅",null,null,null,"エコドライブ",null,null,null,"低炭素物流（宅配便の再配達防止）"]
[null,null,null,null,"- 選択 -",null,null,null,"- 選択 -",null,null,null,"- 選択 -",null,null,null,"- 選択 -",null,null,null,null,"- 選択 -"]
[null,null,null,null,"内容（",null,null,null,null,null,null,null,null,null,null,null,null,null,null,null,null,null,null,null,null,"）"]
[null,null,null,null,"昨年度実績",null,null,null,"計",0,null,null,"枚",null,"※複数ある場合は、平均アンケート回収数"]
[null,null,null,null,"目標回収数",null,null,null,"計",0,null,null,"枚",null,"※複数ある場合は、平均アンケート回収数"]
[]
[null,null,"項目",null,"内容"]
[null,null,"事業11","事業名\n（番組・CM名）"]
[null,null,"普及啓発テーマ",null,"※公募要領　別表第１　で対象とする間接補助事業の内容に合致していること。\n※該当するテーマすべてをチェックしてください。"]
[null,null,null,null,"①",null,"②",null,"③",null,"④",null,"⑤",null,"⑥",null,"⑦",null,"⑧",null,"⑨",null,"⑩",null,"⑪",null,null,null,"①","②","③","④","⑤","⑥","⑦","⑧","⑨","⑩","⑪"]
[null,null,null,null,"省ｴﾈ機器",null,"省ｴﾈ住宅",null,"ｴｺｶｰ",null,"ｸｰﾙﾋﾞｽﾞ",null,"ｳｫｰﾑﾋﾞｽﾞ",null,"照明の\n高効率利用",null,"ｴｺﾄﾞﾗｲﾌﾞ",null,"ｶｰｼｪｱ",null,"公共交通\n機関の利用",null,"再配達防止",null,"シェアエコ",null,null,null,"省ｴﾈ機器","省ｴﾈ住宅","ｴｺｶｰ","ｸｰﾙﾋﾞｽﾞ","ｳｫｰﾑﾋﾞｽﾞ","照明の\n高効率利用","ｴｺﾄﾞﾗｲﾌﾞ","ｶｰｼｪｱ","公共交通\n機関の利用","再配達防止","シェアエコ"]
[null,null,null,null,null,null,null,null,null,null,null,null,null,null,null,null,null,null,null,null,null,null,null,null,null,null,null,null,false,false,false,false,false,false,false,false,false,false,false,{"$f":"COUNTIFS($AC$622:$AM$622,\"TRUE\")","v":0}]
[null,null,"訴求手法",null,"※訴求手法については、該当する欄にチェックしてください。"]
[null,null,null,null,"a) 情報発信型（受動型）",null,null,null,null,null,null,"b) 情報発信型（能動型）",null,null,null,null,null,null,"c) 双方向体験交流型"]
[null,null,null,null,"ラジオ、新聞・広報紙等",null,null,null,null,null,null,"講演会・パネル展示等",null,null,null,null,null,null,"試乗・体験会、省ｴﾈ診断等",null,null,null,null,null,null,null,null,null,null,null,null,null,null,null,null,null,null,null,null,null,"a)","b)","c)"]
[null,null,null,null,null,null,null,null,null,null,null,null,null,null,null,null,null,null,null,null,null,null,null,null,null,null,null,null,null,null,null,null,null,null,null,null,null,null,null,null,false,false,false,{"$f":"COUNTIFS($AO$626:$AQ$626,\"TRUE\")","v":0}]
[null,null,"情報発信カテゴリー\n（プルダウン選択）",null,"-",null,null,null,null,null,null,null,null,null,null,"-"]
[]
[null,null,"尺・放送回数",null,"※収録本数、放送回数を定量的に必ず記載のこと"]
[null,null,null,null,"①","尺",null,null,null,null,null,"（秒）",null,null,null,"※単位はプルダウン選択"]
[null,null,null,null,null,"収録本数",null,null,null,null,null,"（本）"]
[null,null,null,null,null,"放送回数",null,null,null,null,null,"（回）",null,null,null,"※再放送を含む"]
[null,null,null,null,null,"備考"]
[null,null,null,null,"②","尺",null,null,null,null,null,"（分）",null,null,null,"※単位はプルダウン選択"]
[null,null,null,null,null,"収録本数",null,null,null,null,null,"（本）"]
[null,null,null,null,null,"放送回数",null,null,null,null,null,"（回）",null,null,null,"※再放送を含む"]
[null,null,null,null,null,"備考"]
[null,null,"実施期間",null,null,null,null,null,null,null,null,null,null,"～"]
[null,null,"放送時間、その他備考"]
[null,null,"実施日\n（※同一事業内で、\n同一の内容・場所において\n複数日実施する場合）",null,1,null,null,null,null,null,null,null,null,null,null,11]
[null,null,null,null,2,null,null,null,null,null,null,null,null,null,null,12]
[null,null,null,null,3,null,null,null,null,null,null,null,null,null,null,13]
[null,null,null,null,4,null,null,null,null,null,null,null,null,null,null,14]
[null,null,null,null,5,null,null,null,null,null,null,null,null,null,null,15]
[null,null,null,null,6,null,null,null,null,null,null,null,null,null,null,16]
[null,null,null,null,7,null,null,null,null,null,null,null,null,null,null,17]
[null,null,null,null,8,null,null,null,null,null,null,null,null,null,null,18]
[null,null,null,null,9,null,null,null,null,null,null,null,null,null,null,19]
[null,null,null,null,10,null,null,null,null,null,null,null,null,null,null,20]
[null,null,"事業の概要"]
[null,null,"地域団体との連携\n※地方公共団体を含む"]
[null,null,"効果的な実施の\nための工夫",null,"※訴求テーマ及び訴求対象に応じた適切なメッセージ、時期設定の考え方や訴求対象にアプローチするための工夫等を記入してください。"]
[]
[null,null,"主な訴求対象"]
[null,null,"規模（リーチ数）\n（想定及び実績）",null,"カテゴリ①（プルダウン選択）⇒",null,null,null,null,null,null,null,null,null,null,"聴取人口（番組・CM単位であれば）"]
[null,null,null,null,"昨年度実績",null,null,null,"計",null,0]
[null,null,null,null,"想定",null,null,null,"計",null,0]
[null,null,null,null,"算出根拠"]
[null,null,null,null,"カテゴリ②（プルダウン選択）⇒"]
[null,null,null,null,"昨年度実績",null,null,null,"計",null,0]
[null,null,null,null,"想定",null,null,null,"計",null,0]
[null,null,null,null,"算出根拠"]
[null,null,"COOL CHOICE 賛同数\n（想定及び実績）",null,"昨年度実績",null,null,null,"団体",null,0,null,null,null,null,"、個人",null,0]
[null,null,null,null,"想定",null,null,null,"団体",null,0,null,null,null,null,"、個人",null,0]
[null,null,"効果検証\n（アンケート）予定",null,"※アンケートの実施予定をプルダウンより選択してください。"]
[null,null,null,null,"公募要領に規定のアンケート",null,null,null,null,null,null,null,null,null,null,null,null,null,null,null,null,"貴事業者独自のアンケート"]
[null,null,null,null,"省エネ機器",null,null,null,"省エネ住宅",null,null,null,"エコドライブ",null,null,null,"低炭素物流（宅配便の再配達防止）"]
[null,null,null,null,"- 選択 -",null,null,null,"- 選択 -",null,null,null,"- 選択 -",null,null,null,"- 選択 -",null,null,null,null,"- 選択 -"]
[null,null,null,null,"内容（",null,null,null,null,null,null,null,null,null,null,null,null,null,null,null,null,null,null,null,null,"）"]
[null,null,null,null,"昨年度実績",null,null,null,"計",0,null,null,"枚",null,"※複数ある場合は、平均アンケート回収数"]
[null,null,null,null,"目標回収数",null,null,null,"計",0,null,null,"枚",null,"※複数ある場合は、平均アンケート回収数"]
[]
[null,null,"項目",null,"内容"]
[null,null,"事業12","事業名\n（番組・CM名）"]
[null,null,"普及啓発テーマ",null,"※公募要領　別表第１　で対象とする間接補助事業の内容に合致していること。\n※該当するテーマすべてをチェックしてください。"]
[null,null,null,null,"①",null,"②",null,"③",null,"④",null,"⑤",null,"⑥",null,"⑦",null,"⑧",null,"⑨",null,"⑩",null,"⑪",null,null,null,"①","②","③","④","⑤","⑥","⑦","⑧","⑨","⑩","⑪"]
[null,null,null,null,"省ｴﾈ機器",null,"省ｴﾈ住宅",null,"ｴｺｶｰ",null,"ｸｰﾙﾋﾞｽﾞ",null,"ｳｫｰﾑﾋﾞｽﾞ",null,"照明の\n高効率利用",null,"ｴｺﾄﾞﾗｲﾌﾞ",null,"ｶｰｼｪｱ",null,"公共交通\n機関の利用",null,"再配達防止",null,"シェアエコ",null,null,null,"省ｴﾈ機器","省ｴﾈ住宅","ｴｺｶｰ","ｸｰﾙﾋﾞｽﾞ","ｳｫｰﾑﾋﾞｽﾞ","照明の\n高効率利用","ｴｺﾄﾞﾗｲﾌﾞ","ｶｰｼｪｱ","公共交通\n機関の利用","再配達防止","シェアエコ"]
[null,null,null,null,null,null,null,null,null,null,null,null,null,null,null,null,null,null,null,null,null,null,null,null,null,null,null,null,false,false,false,false,false,false,false,false,false,false,false,{"$f":"COUNTIFS($AC$678:$AM$678,\"TRUE\")","v":0}]
[null,null,"訴求手法",null,"※訴求手法については、該当する欄にチェックしてください。"]
[null,null,null,null,"a) 情報発信型（受動型）",null,null,null,null,null,null,"b) 情報発信型（能動型）",null,null,null,null,null,null,"c) 双方向体験交流型"]
[null,null,null,null,"ラジオ、新聞・広報紙等",null,null,null,null,null,null,"講演会・パネル展示等",null,null,null,null,null,null,"試乗・体験会、省ｴﾈ診断等",null,null,null,null,null,null,null,null,null,null,null,null,null,null,null,null,null,null,null,null,null,"a)","b)","c)"]
[null,null,null,null,null,null,null,null,null,null,null,null,null,null,null,null,null,null,null,null,null,null,null,null,null,null,null,null,null,null,null,null,null,null,null,null,null,null,null,null,false,false,false,{"$f":"COUNTIFS($AO$682:$AQ$682,\"TRUE\")","v":0}]
[null,null,"情報発信カテゴリー\n（プルダウン選択）",null,"-",null,null,null,null,null,null,null,null,null,null,"-"]
[]
[null,null,"尺・放送回数",null,"※収録本数、放送回数を定量的に必ず記載のこと"]
[null,null,null,null,"①","尺",null,null,null,null,null,"（秒）",null,null,null,"※単位はプルダウン選択"]
[null,null,null,null,null,"収録本数",null,null,null,null,null,"（本）"]
[null,null,null,null,null,"放送回数",null,null,null,null,null,"（回）",null,null,null,"※再放送を含む"]
[null,null,null,null,null,"備考"]
[null,null,null,null,"②","尺",null,null,null,null,null,"（秒）",null,null,null,"※単位はプルダウン選択"]
[null,null,null,null,null,"収録本数",null,null,null,null,null,"（本）"]
[null,null,null,null,null,"放送回数",null,null,null,null,null,"（回）",null,null,null,"※再放送を含む"]
[null,null,null,null,null,"備考"]
[null,null,"実施期間",null,null,null,null,null,null,null,null,null,null,"～"]
[null,null,"放送時間、その他備考"]
[null,null,"実施日\n（※同一事業内で、\n同一の内容・場所において\n複数日実施する場合）",null,1,null,null,null,null,null,null,null,null,null,null,11]
[null,null,null,null,2,null,null,null,null,null,null,null,null,null,null,12]
[null,null,null,null,3,null,null,null,null,null,null,null,null,null,null,13]
[null,null,null,null,4,null,null,null,null,null,null,null,null,null,null,14]
[null,null,null,null,5,null,null,null,null,null,null,null,null,null,null,15]
[null,null,null,null,6,null,null,null,null,null,null,null,null,null,null,16]
[null,null,null,null,7,null,null,null,null,null,null,null,null,null,null,17]
[null,null,null,null,8,null,null,null,null,null,null,null,null,null,null,18]
[null,null,null,null,9,null,null,null,null,null,null,null,null,null,null,19]
[null,null,null,null,10,null,null,null,null,null,null,null,null,null,null,20]
[null,null,"事業の概要"]
[null,null,"地域団体との連携\n※地方公共団体を含む"]
[null,null,"効果的な実施の\nための工夫",null,"※訴求テーマ及び訴求対象に応じた適切なメッセージ、時期設定の考え方や訴求対象にアプローチするための工夫等を記入してください。"]
[]
[null,null,"主な訴求対象"]
[null,null,"規模（リーチ数）\n（想定及び実績）",null,"カテゴリ①（プルダウン選択）⇒",null,null,null,null,null,null,null,null,null,null,"聴取人口（番組・CM単位であれば）"]
[null,null,null,null,"昨年度実績",null,null,null,"計",null,0]
[null,null,null,null,"想定",null,null,null,"計",null,0]
[null,null,null,null,"算出根拠"]
[null,null,null,null,"カテゴリ②（プルダウン選択）⇒"]
[null,null,null,null,"昨年度実績",null,null,null,"計",null,0]
[null,null,null,null,"想定",null,null,null,"計",null,0]
[null,null,null,null,"算出根拠"]
[null,null,"COOL CHOICE 賛同数\n（想定及び実績）",null,"昨年度実績",null,null,null,"団体",null,0,null,null,null,null,"、個人",null,0]
[null,null,null,null,"想定",null,null,null,"団体",null,0,null,null,null,null,"、個人",null,0]
[null,null,"効果検証\n（アンケート）予定",null,"※アンケートの実施予定をプルダウンより選択してください。"]
[null,null,null,null,"公募要領に規定のアンケート",null,null,null,null,null,null,null,null,null,null,null,null,null,null,null,null,"貴事業者独自のアンケート"]
[null,null,null,null,"省エネ機器",null,null,null,"省エネ住宅",null,null,null,"エコドライブ",null,null,null,"低炭素物流（宅配便の再配達防止）"]
[null,null,null,null,"- 選択 -",null,null,null,"- 選択 -",null,null,null,"- 選択 -",null,null,null,"- 選択 -",null,null,null,null,"- 選択 -"]
[null,null,null,null,"内容（",null,null,null,null,null,null,null,null,null,null,null,null,null,null,null,null,null,null,null,null,"）"]
[null,null,null,null,"昨年度実績",null,null,null,"計",0,null,null,"枚",null,"※複数ある場合は、平均アンケート回収数"]
[null,null,null,null,"目標回収数",null,null,null,"計",0,null,null,"枚",null,"※複数ある場合は、平均アンケート回収数"]
[]
[null,null,"項目",null,"内容"]
[null,null,"事業13","事業名\n（番組・CM名）"]
[null,null,"普及啓発テーマ",null,"※公募要領　別表第１　で対象とする間接補助事業の内容に合致していること。\n※該当するテーマすべてをチェックしてください。"]
[null,null,null,null,"①",null,"②",null,"③",null,"④",null,"⑤",null,"⑥",null,"⑦",null,"⑧",null,"⑨",null,"⑩",null,"⑪",null,null,null,"①","②","③","④","⑤","⑥","⑦","⑧","⑨","⑩","⑪"]
[null,null,null,null,"省ｴﾈ機器",null,"省ｴﾈ住宅",null,"ｴｺｶｰ",null,"ｸｰﾙﾋﾞｽﾞ",null,"ｳｫｰﾑﾋﾞｽﾞ",null,"照明の\n高効率利用",null,"ｴｺﾄﾞﾗｲﾌﾞ",null,"ｶｰｼｪｱ",null,"公共交通\n機関の利用",null,"再配達防止",null,"シェアエコ",null,null,null,"省ｴﾈ機器","省ｴﾈ住宅","ｴｺｶｰ","ｸｰﾙﾋﾞｽﾞ","ｳｫｰﾑﾋﾞｽﾞ","照明の\n高効率利用","ｴｺﾄﾞﾗｲﾌﾞ","ｶｰｼｪｱ","公共交通\n機関の利用","再配達防止","シェアエコ"]
[null,null,null,null,null,null,null,null,null,null,null,null,null,null,null,null,null,null,null,null,null,null,null,null,null,null,null,null,false,false,false,false,false,false,false,false,false,false,false,{"$f":"COUNTIFS($AC$734:$AM$734,\"TRUE\")","v":0}]
[null,null,"訴求手法",null,"※訴求手法については、該当する欄にチェックしてください。"]
[null,null,null,null,"a) 情報発信型（受動型）",null,null,null,null,null,null,"b) 情報発信型（能動型）",null,null,null,null,null,null,"c) 双方向体験交流型"]
[null,null,null,null,"ラジオ、新聞・広報紙等",null,null,null,null,null,null,"講演会・パネル展示等",null,null,null,null,null,null,"試乗・体験会、省ｴﾈ診断等",null,null,null,null,null,null,null,null,null,null,null,null,null,null,null,null,null,null,null,null,null,"a)","b)","c)"]
[null,null,null,null,null,null,null,null,null,null,null,null,null,null,null,null,null,null,null,null,null,null,null,null,null,null,null,null,null,null,null,null,null,null,null,null,null,null,null,null,false,false,false,{"$f":"COUNTIFS($AO$738:$AQ$738,\"TRUE\")","v":0}]
[null,null,"情報発信カテゴリー\n（プルダウン選択）",null,"-",null,null,null,null,null,null,null,null,null,null,"-"]
[]
[null,null,"尺・放送回数",null,"※収録本数、放送回数を定量的に必ず記載のこと"]
[null,null,null,null,"①","尺",null,null,null,null,null,"（秒）",null,null,null,"※単位はプルダウン選択"]
[null,null,null,null,null,"収録本数",null,null,null,null,null,"（本）"]
[null,null,null,null,null,"放送回数",null,null,null,null,null,"（回）",null,null,null,"※再放送を含む"]
[null,null,null,null,null,"備考"]
[null,null,null,null,"②","尺",null,null,null,null,null,"（秒）",null,null,null,"※単位はプルダウン選択"]
[null,null,null,null,null,"収録本数",null,null,null,null,null,"（本）"]
[null,null,null,null,null,"放送回数",null,null,null,null,null,"（回）",null,null,null,"※再放送を含む"]
[null,null,null,null,null,"備考"]
[null,null,"実施期間",null,null,null,null,null,null,null,null,null,null,"～"]
[null,null,"放送時間、その他備考"]
[null,null,"実施日\n（※同一事業内で、\n同一の内容・場所において\n複数日実施する場合）",null,1,null,null,null,null,null,null,null,null,null,null,11]
[null,null,null,null,2,null,null,null,null,null,null,null,null,null,null,12]
[null,null,null,null,3,null,null,null,null,null,null,null,null,null,null,13]
[null,null,null,null,4,null,null,null,null,null,null,null,null,null,null,14]
[null,null,null,null,5,null,null,null,null,null,null,null,null,null,null,15]
[null,null,null,null,6,null,null,null,null,null,null,null,null,null,null,16]
[null,null,null,null,7,null,null,null,null,null,null,null,null,null,null,17]
[null,null,null,null,8,null,null,null,null,null,null,null,null,null,null,18]
[null,null,null,null,9,null,null,null,null,null,null,null,null,null,null,19]
[null,null,null,null,10,null,null,null,null,null,null,null,null,null,null,20]
[null,null,"事業の概要"]
[null,null,"地域団体との連携\n※地方公共団体を含む"]
[null,null,"効果的な実施の\nための工夫",null,"※訴求テーマ及び訴求対象に応じた適切なメッセージ、時期設定の考え方や訴求対象にアプローチするための工夫等を記入してください。"]
[]
[null,null,"主な訴求対象"]
[null,null,"規模（リーチ数）\n（想定及び実績）",null,"カテゴリ①（プルダウン選択）⇒",null,null,null,null,null,null,null,null,null,null,"聴取人口（番組・CM単位であれば）"]
[null,null,null,null,"昨年度実績",null,null,null,"計",null,0]
[null,null,null,null,"想定",null,null,null,"計",null,0]
[null,null,null,null,"算出根拠"]
[null,null,null,null,"カテゴリ②（プルダウン選択）⇒"]
[null,null,null,null,"昨年度実績",null,null,null,"計",null,0]
[null,null,null,null,"想定",null,null,null,"計",null,0]
[null,null,null,null,"算出根拠"]
[null,null,"COOL CHOICE 賛同数\n（想定及び実績）",null,"昨年度実績",null,null,null,"団体",null,0,null,null,null,null,"、個人",null,0]
[null,null,null,null,"想定",null,null,null,"団体",null,0,null,null,null,null,"、個人",null,0]
[null,null,"効果検証\n（アンケート）予定",null,"※アンケートの実施予定をプルダウンより選択してください。"]
[null,null,null,null,"公募要領に規定のアンケート",null,null,null,null,null,null,null,null,null,null,null,null,null,null,null,null,"貴事業者独自のアンケート"]
[null,null,null,null,"省エネ機器",null,null,null,"省エネ住宅",null,null,null,"エコドライブ",null,null,null,"低炭素物流（宅配便の再配達防止）"]
[null,null,null,null,"- 選択 -",null,null,null,"- 選択 -",null,null,null,"- 選択 -",null,null,null,"- 選択 -",null,null,null,null,"- 選択 -"]
[null,null,null,null,"内容（",null,null,null,null,null,null,null,null,null,null,null,null,null,null,null,null,null,null,null,null,"）"]
[null,null,null,null,"昨年度実績",null,null,null,"計",0,null,null,"枚",null,"※複数ある場合は、平均アンケート回収数"]
[null,null,null,null,"目標回収数",null,null,null,"計",0,null,null,"枚",null,"※複数ある場合は、平均アンケート回収数"]
[]
[null,null,"項目",null,"内容"]
[null,null,"事業14","事業名\n（番組・CM名）"]
[null,null,"普及啓発テーマ",null,"※公募要領　別表第１　で対象とする間接補助事業の内容に合致していること。\n※該当するテーマすべてをチェックしてください。"]
[null,null,null,null,"①",null,"②",null,"③",null,"④",null,"⑤",null,"⑥",null,"⑦",null,"⑧",null,"⑨",null,"⑩",null,"⑪",null,null,null,"①","②","③","④","⑤","⑥","⑦","⑧","⑨","⑩","⑪"]
[null,null,null,null,"省ｴﾈ機器",null,"省ｴﾈ住宅",null,"ｴｺｶｰ",null,"ｸｰﾙﾋﾞｽﾞ",null,"ｳｫｰﾑﾋﾞｽﾞ",null,"照明の\n高効率利用",null,"ｴｺﾄﾞﾗｲﾌﾞ",null,"ｶｰｼｪｱ",null,"公共交通\n機関の利用",null,"再配達防止",null,"シェアエコ",null,null,null,"省ｴﾈ機器","省ｴﾈ住宅","ｴｺｶｰ","ｸｰﾙﾋﾞｽﾞ","ｳｫｰﾑﾋﾞｽﾞ","照明の\n高効率利用","ｴｺﾄﾞﾗｲﾌﾞ","ｶｰｼｪｱ","公共交通\n機関の利用","再配達防止","シェアエコ"]
[null,null,null,null,null,null,null,null,null,null,null,null,null,null,null,null,null,null,null,null,null,null,null,null,null,null,null,null,false,false,false,false,false,false,false,false,false,false,false,{"$f":"COUNTIFS($AC$790:$AM$790,\"TRUE\")","v":0}]
[null,null,"訴求手法",null,"※訴求手法については、該当する欄にチェックしてください。"]
[null,null,null,null,"a) 情報発信型（受動型）",null,null,null,null,null,null,"b) 情報発信型（能動型）",null,null,null,null,null,null,"c) 双方向体験交流型"]
[null,null,null,null,"ラジオ、新聞・広報紙等",null,null,null,null,null,null,"講演会・パネル展示等",null,null,null,null,null,null,"試乗・体験会、省ｴﾈ診断等",null,null,null,null,null,null,null,null,null,null,null,null,null,null,null,null,null,null,null,null,null,"a)","b)","c)"]
[null,null,null,null,null,null,null,null,null,null,null,null,null,null,null,null,null,null,null,null,null,null,null,null,null,null,null,null,null,null,null,null,null,null,null,null,null,null,null,null,false,false,false,{"$f":"COUNTIFS($AO$794:$AQ$794,\"TRUE\")","v":0}]
[null,null,"情報発信カテゴリー\n（プルダウン選択）",null,"-",null,null,null,null,null,null,null,null,null,null,"-"]
[]
[null,null,"尺・放送回数",null,"※収録本数、放送回数を定量的に必ず記載のこと"]
[null,null,null,null,"①","尺",null,null,null,null,null,"（秒）",null,null,null,"※単位はプルダウン選択"]
[null,null,null,null,null,"収録本数",null,null,null,null,null,"（本）"]
[null,null,null,null,null,"放送回数",null,null,null,null,null,"（回）",null,null,null,"※再放送を含む"]
[null,null,null,null,null,"備考"]
[null,null,null,null,"②","尺",null,null,null,null,null,"（秒）",null,null,null,"※単位はプルダウン選択"]
[null,null,null,null,null,"収録本数",null,null,null,null,null,"（本）"]
[null,null,null,null,null,"放送回数",null,null,null,null,null,"（回）",null,null,null,"※再放送を含む"]
[null,null,null,null,null,"備考"]
[null,null,"実施期間",null,null,null,null,null,null,null,null,null,null,"～"]
[null,null,"放送時間、その他備考"]
[null,null,"実施日\n（※同一事業内で、\n同一の内容・場所において\n複数日実施する場合）",null,1,null,null,null,null,null,null,null,null,null,null,11]
[null,null,null,null,2,null,null,null,null,null,null,null,null,null,null,12]
[null,null,null,null,3,null,null,null,null,null,null,null,null,null,null,13]
[null,null,null,null,4,null,null,null,null,null,null,null,null,null,null,14]
[null,null,null,null,5,null,null,null,null,null,null,null,null,null,null,15]
[null,null,null,null,6,null,null,null,null,null,null,null,null,null,null,16]
[null,null,null,null,7,null,null,null,null,null,null,null,null,null,null,17]
[null,null,null,null,8,null,null,null,null,null,null,null,null,null,null,18]
[null,null,null,null,9,null,null,null,null,null,null,null,null,null,null,19]
[null,null,null,null,10,null,null,null,null,null,null,null,null,null,null,20]
[null,null,"事業の概要"]
[null,null,"地域団体との連携\n※地方公共団体を含む"]
[null,null,"効果的な実施の\nための工夫",null,"※訴求テーマ及び訴求対象に応じた適切なメッセージ、時期設定の考え方や訴求対象にアプローチするための工夫等を記入してください。"]
[]
[null,null,"主な訴求対象"]
[null,null,"規模（リーチ数）\n（想定及び実績）",null,"カテゴリ①（プルダウン選択）⇒",null,null,null,null,null,null,null,null,null,null,"聴取人口（番組・CM単位であれば）"]
[null,null,null,null,"昨年度実績",null,null,null,"計",null,0]
[null,null,null,null,"想定",null,null,null,"計",null,0]
[null,null,null,null,"算出根拠"]
[null,null,null,null,"カテゴリ②（プルダウン選択）⇒"]
[null,null,null,null,"昨年度実績",null,null,null,"計",null,0]
[null,null,null,null,"想定",null,null,null,"計",null,0]
[null,null,null,null,"算出根拠"]
[null,null,"COOL CHOICE 賛同数\n（想定及び実績）",null,"昨年度実績",null,null,null,"団体",null,0,null,null,null,null,"、個人",null,0]
[null,null,null,null,"想定",null,null,null,"団体",null,0,null,null,null,null,"、個人",null,0]
[null,null,"効果検証\n（アンケート）予定",null,"※アンケートの実施予定をプルダウンより選択してください。"]
[null,null,null,null,"公募要領に規定のアンケート",null,null,null,null,null,null,null,null,null,null,null,null,null,null,null,null,"貴事業者独自のアンケート"]
[null,null,null,null,"省エネ機器",null,null,null,"省エネ住宅",null,null,null,"エコドライブ",null,null,null,"低炭素物流（宅配便の再配達防止）"]
[null,null,null,null,"- 選択 -",null,null,null,"- 選択 -",null,null,null,"- 選択 -",null,null,null,"- 選択 -",null,null,null,null,"- 選択 -"]
[null,null,null,null,"内容（",null,null,null,null,null,null,null,null,null,null,null,null,null,null,null,null,null,null,null,null,"）"]
[null,null,null,null,"昨年度実績",null,null,null,"計",0,null,null,"枚",null,"※複数ある場合は、平均アンケート回収数"]
[null,null,null,null,"目標回収数",null,null,null,"計",0,null,null,"枚",null,"※複数ある場合は、平均アンケート回収数"]
[]
[null,null,"項目",null,"内容"]
[null,null,"事業15","事業名\n（番組・CM名）"]
[null,null,"普及啓発テーマ",null,"※公募要領　別表第１　で対象とする間接補助事業の内容に合致していること。\n※該当するテーマすべてをチェックしてください。"]
[null,null,null,null,"①",null,"②",null,"③",null,"④",null,"⑤",null,"⑥",null,"⑦",null,"⑧",null,"⑨",null,"⑩",null,"⑪",null,null,null,"①","②","③","④","⑤","⑥","⑦","⑧","⑨","⑩","⑪"]
[null,null,null,null,"省ｴﾈ機器",null,"省ｴﾈ住宅",null,"ｴｺｶｰ",null,"ｸｰﾙﾋﾞｽﾞ",null,"ｳｫｰﾑﾋﾞｽﾞ",null,"照明の\n高効率利用",null,"ｴｺﾄﾞﾗｲﾌﾞ",null,"ｶｰｼｪｱ",null,"公共交通\n機関の利用",null,"再配達防止",null,"シェアエコ",null,null,null,"省ｴﾈ機器","省ｴﾈ住宅","ｴｺｶｰ","ｸｰﾙﾋﾞｽﾞ","ｳｫｰﾑﾋﾞｽﾞ","照明の\n高効率利用","ｴｺﾄﾞﾗｲﾌﾞ","ｶｰｼｪｱ","公共交通\n機関の利用","再配達防止","シェアエコ"]
[null,null,null,null,null,null,null,null,null,null,null,null,null,null,null,null,null,null,null,null,null,null,null,null,null,null,null,null,false,false,false,false,false,false,false,false,false,false,false,{"$f":"COUNTIFS($AC$846:$AM$846,\"TRUE\")","v":0}]
[null,null,"訴求手法",null,"※訴求手法については、該当する欄にチェックしてください。"]
[null,null,null,null,"a) 情報発信型（受動型）",null,null,null,null,null,null,"b) 情報発信型（能動型）",null,null,null,null,null,null,"c) 双方向体験交流型"]
[null,null,null,null,"ラジオ、新聞・広報紙等",null,null,null,null,null,null,"講演会・パネル展示等",null,null,null,null,null,null,"試乗・体験会、省ｴﾈ診断等",null,null,null,null,null,null,null,null,null,null,null,null,null,null,null,null,null,null,null,null,null,"a)","b)","c)"]
[null,null,null,null,null,null,null,null,null,null,null,null,null,null,null,null,null,null,null,null,null,null,null,null,null,null,null,null,null,null,null,null,null,null,null,null,null,null,null,null,false,false,false,{"$f":"COUNTIFS($AO$850:$AQ$850,\"TRUE\")","v":0}]
[null,null,"情報発信カテゴリー\n（プルダウン選択）",null,"-",null,null,null,null,null,null,null,null,null,null,"-"]
[]
[null,null,"尺・放送回数",null,"※収録本数、放送回数を定量的に必ず記載のこと"]
[null,null,null,null,"①","尺",null,null,null,null,null,"（秒）",null,null,null,"※単位はプルダウン選択"]
[null,null,null,null,null,"収録本数",null,null,null,null,null,"（本）"]
[null,null,null,null,null,"放送回数",null,null,null,null,null,"（回）",null,null,null,"※再放送を含む"]
[null,null,null,null,null,"備考"]
[null,null,null,null,"②","尺",null,null,null,null,null,"（秒）",null,null,null,"※単位はプルダウン選択"]
[null,null,null,null,null,"収録本数",null,null,null,null,null,"（本）"]
[null,null,null,null,null,"放送回数",null,null,null,null,null,"（回）",null,null,null,"※再放送を含む"]
[null,null,null,null,null,"備考"]
[null,null,"実施期間",null,null,null,null,null,null,null,null,null,null,"～"]
[null,null,"放送時間、その他備考"]
[null,null,"実施日\n（※同一事業内で、\n同一の内容・場所において\n複数日実施する場合）",null,1,null,null,null,null,null,null,null,null,null,null,11]
[null,null,null,null,2,null,null,null,null,null,null,null,null,null,null,12]
[null,null,null,null,3,null,null,null,null,null,null,null,null,null,null,13]
[null,null,null,null,4,null,null,null,null,null,null,null,null,null,null,14]
[null,null,null,null,5,null,null,null,null,null,null,null,null,null,null,15]
[null,null,null,null,6,null,null,null,null,null,null,null,null,null,null,16]
[null,null,null,null,7,null,null,null,null,null,null,null,null,null,null,17]
[null,null,null,null,8,null,null,null,null,null,null,null,null,null,null,18]
[null,null,null,null,9,null,null,null,null,null,null,null,null,null,null,19]
[null,null,null,null,10,null,null,null,null,null,null,null,null,null,null,20]
[null,null,"事業の概要"]
[null,null,"地域団体との連携\n※地方公共団体を含む"]
[null,null,"効果的な実施の\nための工夫",null,"※訴求テーマ及び訴求対象に応じた適切なメッセージ、時期設定の考え方や訴求対象にアプローチするための工夫等を記入してください。"]
[]
[null,null,"主な訴求対象"]
[null,null,"規模（リーチ数）\n（想定及び実績）",null,"カテゴリ①（プルダウン選択）⇒",null,null,null,null,null,null,null,null,null,null,"聴取人口（番組・CM単位であれば）"]
[null,null,null,null,"昨年度実績",null,null,null,"計",null,0]
[null,null,null,null,"想定",null,null,null,"計",null,0]
[null,null,null,null,"算出根拠"]
[null,null,null,null,"カテゴリ②（プルダウン選択）⇒"]
[null,null,null,null,"昨年度実績",null,null,null,"計",null,0]
[null,null,null,null,"想定",null,null,null,"計",null,0]
[null,null,null,null,"算出根拠"]
[null,null,"COOL CHOICE 賛同数\n（想定及び実績）",null,"昨年度実績",null,null,null,"団体",null,0,null,null,null,null,"、個人",null,0]
[null,null,null,null,"想定",null,null,null,"団体",null,0,null,null,null,null,"、個人",null,0]
[null,null,"効果検証\n（アンケート）予定",null,"※アンケートの実施予定をプルダウンより選択してください。"]
[null,null,null,null,"公募要領に規定のアンケート",null,null,null,null,null,null,null,null,null,null,null,null,null,null,null,null,"貴事業者独自のアンケート"]
[null,null,null,null,"省エネ機器",null,null,null,"省エネ住宅",null,null,null,"エコドライブ",null,null,null,"低炭素物流（宅配便の再配達防止）"]
[null,null,null,null,"- 選択 -",null,null,null,"- 選択 -",null,null,null,"- 選択 -",null,null,null,"- 選択 -",null,null,null,null,"- 選択 -"]
[null,null,null,null,"内容（",null,null,null,null,null,null,null,null,null,null,null,null,null,null,null,null,null,null,null,null,"）"]
[null,null,null,null,"昨年度実績",null,null,null,"計",0,null,null,"枚",null,"※複数ある場合は、平均アンケート回収数"]
[null,null,null,null,"目標回収数",null,null,null,"計",0,null,null,"枚",null,"※複数ある場合は、平均アンケート回収数"]
[]
[]
[null,"（２）「COOL CHOICE」の賛同",null,null,null,null,null,null,"- 選択 -"]
[null,"（賛同の有無をプルダウンから選択する。有の場合、登録証明書を添付すること。"]
[]
[]
[]
[null,"（３）放送区域内の地方公共団体との連携内容や体制を記載してください。"]
[]
[]
[]
[]
[]
[]
[null,"＜事業の効果＞"]
[null,"（１）COOL CHOICE 賛同団体、賛同者の拡大について"]
[null,"本事業をとおして、拡大するCOOL CHOICE 賛同団体、賛同者数の目標とその方法を記載してください。"]
[null,null,"賛同数\n目標","賛同団体",null,null,{"$f":"SUM(K103,K160,K216,K272,K328,K384,K440,K496,K552,K608,K664,K720,K776,K832,K888)","v":0}]
[null,null,null,"賛同者数（個人）",null,null,{"$f":"SUM(R103,R160,R216,R272,R328,R384,R440,R496,R552,R608,R664,R720,R776,R832,R888)","v":0}]
[null,null,"賛同団体、賛同者の拡大方法"]
[]
[]
[]
[null,"（２）本事業の効果"]
[null,"本事業による普及啓発の目標とその効果測定方法を記載してください。"]
[null,null,"規模（リーチ数）",null,null,null,0]
[null,null,"アンケート回収数",null,null,null,0]
[null,null,"効果測定方法"]
[]
[]
[]
[]
[]
[null,"＜事業の実施体制＞"]
[null,"＊　補助事業の実施体制について、発注先に加え、補助事業者内の事業実施・経理等の体制及び関係者との協力・連携の内容・体制を記入する（別紙添付でも可）。"]
[]
[]
[]
[]
[]
[null,"＜事業実施に関連する事項＞"]
[null,"【他の補助金との関係】"]
[null,"＊　他の国の補助金等（固定価格買取制度を含む。）への応募状況等を記入する。"]
[]
[]
[]
[]
[null,"【許認可、権利関係等事業実施の前提となる事項及び実施上問題となる事項】"]
[null,"＊　補助事業遂行上、許認可、権利関係等関係者間の調整が必要となる事項について記入する。"]
[]
[]
[]
[]
[null,"＜事業実施スケジュール＞"]
[null,"＊　事業の実施スケジュールを記入する。＊　実施スケジュールは別紙を添付してもよい。"]
[]
[]
[null,null,"注１　本計画書に、仕様書、記入内容の根拠資料等を添付する。"]
[null,null,"注２　記入欄が少ない場合は、本様式を引き伸ばして使用する。"]

{"sheet":"3_共同事業者追加シート","index":3,"n_rows":38,"n_cols":28,"rows_kept":38,"cut":false,"hidden":false,"merged":[[4,21,4,26],[5,3,6,3],[5,4,6,8],[5,9,6,15],[5,16,5,20],[5,21,6,26],[1,1,1,2],[1,3,1,26],[2,1,2,2],[2,3,2,26],[3,1,38,2],[3,3,4,3],[3,4,3,26],[4,4,4,8],[4,9,4,15],[4,16,4,20],[9,3,10,3],[9,4,10,8],[9,9,10,15],[9,16,9,20],[9,21,10,26],[13,3,14,3],[13,4,14,8],[13,9,14,15],[9,27,10,27],[10,16,10,20],[5,27,6,27],[6,16,6,20],[7,3,8,3],[7,4,8,8],[7,9,8,15],[7,16,7,20],[7,21,8,26],[7,27,8,27],[8,16,8,20],[13,16,13,20],[13,21,14,26],[13,27,14,27],[14,16,14,20],[11,3,12,3],[11,4,12,8],[11,9,12,15],[11,16,11,20],[11,21,12,26],[11,27,12,27],[12,16,12,20],[17,3,18,3],[17,4,18,8],[17,9,18,15],[17,16,17,20],[17,21,18,26],[17,27,18,27],[18,16,18,20],[15,3,16,3],[15,4,16,8],[15,9,16,15],[15,16,15,20],[15,21,16,26],[15,27,16,27],[16,16,16,20],[21,3,22,3],[21,4,22,8],[21,9,22,15],[21,16,21,20],[21,21,22,26],[21,27,22,27],[22,16,22,20],[19,3,20,3],[19,4,20,8],[19,9,20,15],[19,16,19,20],[19,21,20,26],[19,27,20,27],[20,16,20,20],[25,3,26,3],[25,4,26,8],[25,9,26,15],[25,16,25,20],[25,21,26,26],[25,27,26,27],[26,16,26,20],[23,3,24,3],[23,4,24,8],[23,9,24,15],[23,16,23,20],[23,21,24,26],[23,27,24,27],[24,16,24,20],[29,3,30,3],[29,4,30,8],[29,9,30,15],[29,16,29,20],[29,21,30,26],[29,27,30,27],[30,16,30,20],[27,3,28,3],[27,4,28,8],[27,9,28,15],[27,16,27,20],[27,21,28,26],[27,27,28,27],[28,16,28,20],[33,3,34,3],[33,4,34,8],[33,9,34,15],[33,16,33,20],[33,21,34,26],[33,27,34,27],[34,16,34,20],[31,3,32,3],[31,4,32,8],[31,9,32,15],[31,16,31,20],[31,21,32,26],[31,27,32,27],[32,16,32,20],[37,3,38,3],[37,4,38,8],[37,9,38,15],[37,16,37,20],[37,21,38,26],[37,27,38,27],[38,16,38,20],[35,3,36,3],[35,4,36,8],[35,9,36,15],[35,16,35,20],[35,21,36,26],[35,27,36,27],[36,16,36,20]]}
[]
[null,"事業名",null,{"$f":"'2_別紙1-2_実施計画書'!D6:AA6","v":"地域コミュニティを活用した地球温暖化対策啓発事業"}]
[null,"事業実施の団体名",null,{"$f":"'2_別紙1-2_実施計画書'!D7:AA7","v":0}]
[null,"共同\n事業者",null,"団体等の名称","事業実施責任者"]
[null,null,null,null,"氏名",null,null,null,null,"所属・役職名",null,null,null,null,null,null,"電話・FAX番号",null,null,null,null,"E-mailアドレス"]
[null,null,null,null,null,null,null,null,null,null,null,null,null,null,null,null,null,null,null,null,null,null,null,null,null,null,null,4]
[]
[null,null,null,null,null,null,null,null,null,null,null,null,null,null,null,null,null,null,null,null,null,null,null,null,null,null,null,5]
[]
[null,null,null,null,null,null,null,null,null,null,null,null,null,null,null,null,null,null,null,null,null,null,null,null,null,null,null,6]
[]
[null,null,null,null,null,null,null,null,null,null,null,null,null,null,null,null,null,null,null,null,null,null,null,null,null,null,null,7]
[]
[null,null,null,null,null,null,null,null,null,null,null,null,null,null,null,null,null,null,null,null,null,null,null,null,null,null,null,8]
[]
[null,null,null,null,null,null,null,null,null,null,null,null,null,null,null,null,null,null,null,null,null,null,null,null,null,null,null,9]
[]
[null,null,null,null,null,null,null,null,null,null,null,null,null,null,null,null,null,null,null,null,null,null,null,null,null,null,null,10]
[]
[null,null,null,null,null,null,null,null,null,null,null,null,null,null,null,null,null,null,null,null,null,null,null,null,null,null,null,11]
[]
[null,null,null,null,null,null,null,null,null,null,null,null,null,null,null,null,null,null,null,null,null,null,null,null,null,null,null,12]
[]
[null,null,null,null,null,null,null,null,null,null,null,null,null,null,null,null,null,null,null,null,null,null,null,null,null,null,null,13]
[]
[null,null,null,null,null,null,null,null,null,null,null,null,null,null,null,null,null,null,null,null,null,null,null,null,null,null,null,14]
[]
[null,null,null,null,null,null,null,null,null,null,null,null,null,null,null,null,null,null,null,null,null,null,null,null,null,null,null,15]
[]
[null,null,null,null,null,null,null,null,null,null,null,null,null,null,null,null,null,null,null,null,null,null,null,null,null,null,null,16]
[]
[null,null,null,null,null,null,null,null,null,null,null,null,null,null,null,null,null,null,null,null,null,null,null,null,null,null,null,17]
[]
[null,null,null,null,null,null,null,null,null,null,null,null,null,null,null,null,null,null,null,null,null,null,null,null,null,null,null,18]
[]
[null,null,null,null,null,null,null,null,null,null,null,null,null,null,null,null,null,null,null,null,null,null,null,null,null,null,null,19]
[]
[null,null,null,null,null,null,null,null,null,null,null,null,null,null,null,null,null,null,null,null,null,null,null,null,null,null,null,20]

{"sheet":"4_別紙2-2_経費内訳","index":4,"n_rows":34,"n_cols":21,"rows_kept":34,"cut":false,"hidden":false,"merged":[[12,1,12,7],[12,8,12,12],[12,13,12,23],[5,10,5,13],[1,1,1,23],[2,1,2,23],[3,1,3,23],[7,10,7,13],[7,5,7,8],[8,9,8,13],[8,14,8,18],[5,1,9,3],[7,15,7,18],[8,19,8,23],[8,4,8,8],[10,1,10,23],[13,1,13,7],[14,8,14,12],[13,8,13,12],[13,13,13,23],[14,13,14,23],[31,8,31,12],[27,13,27,23],[20,13,20,23],[17,13,17,23],[18,13,18,23],[18,8,18,12],[19,8,19,12],[20,8,20,12],[21,13,21,23],[22,13,22,23],[19,13,19,23],[23,13,23,23],[24,13,24,23],[26,8,26,12],[27,8,27,12],[28,8,28,12],[16,8,16,12],[15,8,15,12],[15,13,15,23],[16,13,16,23],[17,8,17,12],[33,1,33,23],[5,5,5,8],[5,15,5,18],[5,20,5,23],[6,4,6,8],[6,9,6,13],[6,14,6,18],[6,19,6,23],[9,4,9,8],[9,9,9,13],[9,14,9,18],[9,19,9,23],[7,20,7,23],[28,13,28,23],[25,13,25,23],[26,13,26,23],[11,1,11,7],[11,8,11,12],[11,13,11,23],[21,8,21,12],[32,1,32,7],[29,13,29,23],[30,13,30,23],[31,13,31,23],[32,13,32,23],[32,8,32,12],[30,8,30,12],[29,8,29,12],[22,8,22,12],[23,8,23,12],[24,8,24,12],[25,8,25,12]]}
[]
[null,"別紙２－２"]
[null,"地方と連携した地球温暖化対策活動推進事業に要する経費内訳"]
[null,"(地域コミュニティを活用した地球温暖化対策啓発事業)"]
[]
[null,"所要経費",null,null,"(1)","総事業費",null,null,null,"(2)","寄付金その他の収入",null,null,null,"(3)","差引額\n(1)－(2)",null,null,null,"(4)","補助対象経費支出予定額"]
[null,null,null,null,0,null,null,null,null,null,null,null,null,null,{"$f":"E7-J7","v":0},null,null,null,null,{"$f":"I33","v":0}]
[null,null,null,null,"(5)","基準額",null,null,null,"(6)","選定額",null,null,null,"(7)","補助基本額",null,null,null,"(8)","補助金所要額"]
[null,null,null,null,null,null,null,null,null,"(4)と(5)を比較して少ない方の額",null,null,null,null,"(3)と(6)を比較して少ない方の額",null,null,null,null,"(7)の額\n※千円未満切捨"]
[null,null,null,null,"‐",null,null,null,null,{"$f":"IF(T7>E10,E10,T7)","v":0},null,null,null,null,{"$f":"IF(O7>J10,J10,O7)","v":0},null,null,null,null,{"$f":"ROUNDDOWN(O10,-3)","v":0}]
[null,"補助対象経費支出予定額内訳"]
[null,"経費区分・費目",null,null,null,null,null,null,"金　　額",null,null,null,null,"積　　算　　内　　訳"]
[null,"（記載例）"]
[null,"業務費"]
[null,null,"・賃金",null,null,null,null,null,0]
[null,null,"・諸謝金",null,null,null,null,null,0,null,null,null,null,"（数量）×（単価）= 金額"]
[null,null,"・旅費",null,null,null,null,null,0]
[]
[]
[]
[]
[]
[]
[]
[]
[]
[]
[]
[]
[]
[]
[]
[null,"合　　計",null,null,null,null,null,null,{"$f":"SUM(I13:M32)","v":0}]
[null,"注　本内訳に、見積書又は計算書等を添付する。"]

{"sheet":"5_様式第１_交付申請書","index":5,"n_rows":49,"n_cols":23,"rows_kept":49,"cut":false,"hidden":false,"merged":[[15,2,15,22],[16,2,16,22],[1,2,1,22],[6,2,6,22],[7,2,7,22],[10,8,10,11],[12,8,12,11],[13,8,13,11],[3,16,3,21],[4,15,4,16],[13,13,13,16],[13,18,13,21],[12,13,12,21],[10,13,11,21],[46,2,46,3],[46,4,47,22],[32,12,32,16],[33,12,33,16],[43,2,43,22],[37,2,37,22],[39,2,39,22],[41,9,41,10],[30,2,30,22],[32,2,32,7],[35,2,35,22],[28,2,28,22],[17,2,17,22],[19,2,19,22],[21,2,21,22],[24,2,24,22],[23,2,23,22],[26,3,26,21]]}
[]
[null,null,"様式第１（第５条関係）"]
[]
[null,null,null,null,null,null,null,null,null,null,null,null,null,null,null,null,null,null,null,null,null,null,"号"]
[null,null,null,null,null,null,null,null,null,null,null,null,null,null,null,"令和",null,"元","年",null,"月",null,"日"]
[]
[null,null,"一般社団法人低炭素社会創出促進協会"]
[null,null,"　代表理事　　吉　澤　　保　幸　　殿"]
[]
[]
[null,null,"　　　　　　　　　　　          　申請者　住　　　　所",null,null,null,"申請者",null,"住所",null,null,null,null,{"$f":"'1_様式1_応募申請書'!$N$11","v":0}]
[]
[null,null,null,null,null,null,null,null,"氏名又は名称",null,null,null,null,{"$f":"'1_様式1_応募申請書'!$N$13","v":0}]
[null,null,null,null,null,null,null,null,"代表者の職・氏名",null,null,null,null,{"$f":"'1_様式1_応募申請書'!$N$14","v":0},null,null,null,{"$f":"'1_様式1_応募申請書'!$R$14","v":"・"},{"$f":"'1_様式1_応募申請書'!S14","v":0},null,null,null,"印"]
[]
[null,null,"２０１９年度（平成３１年度）二酸化炭素排出抑制対策事業費等補助金"]
[null,null,"(地域コミュニティを活用した地球温暖化対策啓発事業)"]
[null,null,"交付申請書"]
[]
[null,null,"　２０１９年度（平成３１年度）二酸化炭素排出抑制対策事業費等補助金（地方と連携した地球温暖化対策活動推進事業）交付規程（以下「交付規程」という。）第５条の規定により上記補助金の交付について下記のとおり申請します。\n　なお、交付決定を受けて補助事業を実施する際には、補助金等に係る予算の執行の適正化に関する法律（昭和３０年法律第１７９号）、補助金等に係る予算の執行の適正化に関する法律施行令（昭和３０年政令第２５５号）及び交付規程の定めるところに従います。"]
[]
[null,null,"記"]
[]
[null,null,"１　事業の名称"]
[null,null,"　　※別表第１第１欄記載の補助事業名を記載すること。"]
[]
[null,null,null,"地域コミュニティを活用した地球温暖化対策啓発事業"]
[]
[null,null,"２　補助事業の目的及び内容"]
[]
[null,null,"      　別紙１－２　実施計画書のとおり"]
[]
[null,null,"３　補助金交付申請額　　　　　　　　　　　　　　　　　　",null,null,null,null,null,null,null,null,null,null,null,null,null,null,"円"]
[null,null,"　　（うち消費税及び地方消費税相当額  　　　　　　　　",null,null,null,null,null,null,null,null,null,null,null,null,null,null,"円）"]
[]
[null,null,"４　補助事業に要する経費"]
[]
[null,null,"      　別紙２－２　経費内訳のとおり"]
[]
[null,null,"５　補助事業の開始及び完了予定年月日"]
[]
[null,null,null,null,"交付決定の日",null,null,null,"～","令和",null,null,"年",null,"月",null,"日"]
[]
[null,null,"６　その他参考資料"]
[]
[]
[null,null,"注１",null,"別紙１－１、２－１において事業ごとに求めている仕様書、補助事業に関する見積書・各種計算書、法律に基づく登録に係る通知の写し等を添付すること。"]
[]
[null,null,null,null,null,null,null,null,null,null,null,null,null,null,null,null,null,null,null,null,null,{"$f":"'1_様式1_応募申請書'!V34","v":"ver. 1.0"}]

{"sheet":"6_様式第１０_完了実績報告書","index":6,"n_rows":51,"n_cols":23,"rows_kept":51,"cut":false,"hidden":false,"merged":[[43,12,43,13],[19,2,19,22],[21,2,21,22],[23,2,23,22],[49,3,49,4],[31,12,31,16],[35,2,35,22],[47,3,47,4],[48,3,48,4],[37,2,37,22],[39,2,39,22],[41,2,41,22],[43,14,43,15],[45,2,45,22],[30,11,30,12],[43,3,43,4],[1,2,1,22],[3,16,3,21],[6,2,6,22],[7,2,7,22],[4,15,4,16],[33,2,33,23],[30,5,30,9],[10,8,10,11],[12,8,12,11],[13,8,13,11],[24,2,24,22],[26,3,26,21],[28,2,28,22],[15,2,15,22],[16,2,16,22],[17,2,17,22],[13,13,13,17],[13,19,13,21],[12,13,12,21],[10,13,11,21],[30,19,30,20]]}
[]
[null,null,"様式第１０（第１１条関係）"]
[]
[null,null,null,null,null,null,null,null,null,null,null,null,null,null,null,null,null,null,null,null,null,null,"号"]
[null,null,null,null,null,null,null,null,null,null,null,null,null,null,null,"令和",null,null,"年",null,"月",null,"日"]
[]
[null,null,"一般社団法人低炭素社会創出促進協会"]
[null,null,"　代表理事　　吉　澤　　保　幸　　殿"]
[]
[]
[null,null,"　　　　　　　　　　　          　申請者　住　　　　所",null,null,null,null,"補助事業者","住所",null,null,null,null,{"$f":"'5_様式第１_交付申請書'!N11","v":0}]
[]
[null,null,null,null,null,null,null,null,"氏名又は名称",null,null,null,null,{"$f":"'5_様式第１_交付申請書'!N13","v":0}]
[null,null,null,null,null,null,null,null,"代表者の職・氏名",null,null,null,null,{"$f":"'5_様式第１_交付申請書'!N14","v":0},null,null,null,null,"・",{"$f":"'5_様式第１_交付申請書'!S14","v":0},null,null,"印"]
[]
[null,null,"２０１９年度（平成３１年度）二酸化炭素排出抑制対策事業費等補助金"]
[null,null,"(地域コミュニティを活用した地球温暖化対策啓発事業)"]
[null,null,"完了実績報告書"]
[]
[null,null,"　令和　年　　月　　日付け低炭社協事第         号で交付決定の通知を受けた二酸化炭素排出抑制対策事業費等補助金（地方と連携した地球温暖化対策活動推進事業）を完了（中止・廃止）しましたので、２０１９年度（平成３１年度）二酸化炭素排出抑制対策事業費等補助金（地方と連携した地球温暖化対策活動推進事業）交付規程第１１条第１項の規定に基づき下記のとおり報告します。"]
[]
[null,null,"記"]
[]
[null,null,"１　事業の名称"]
[null,null,"　　※別表第１第１欄記載の補助事業名を記載すること。"]
[]
[null,null,null,{"$f":"'5_様式第１_交付申請書'!D27","v":"地域コミュニティを活用した地球温暖化対策啓発事業"}]
[]
[null,null,"２　補助金の交付決定額及び交付決定年月日"]
[]
[null,null,"      　別紙１－１、１－２　実施計画書のとおり",null,"金　　　　　　　　　　　",null,null,null,null,null,"円","（令和",null,null,"年",null,"月",null,"日 低炭社協事第","低炭社協事第",null,"番号","号）"]
[null,null,"　　（うち消費税及び地方消費税相当額  　　　　　　　　",null,null,null,null,null,null,null,null,null,null,null,null,null,null,"円）"]
[]
[null,null,"３　補助事業の実施状況"]
[]
[null,null,"      　別紙１－２　実施計画書のとおり"]
[]
[null,null,"４　補助金の経費収支実績"]
[]
[null,null,"      　別紙２－２　経費所要額精算調書のとおり"]
[]
[null,null,"５　補助事業の実施期間"]
[]
[null,null,null,"令和",null,null,"年",null,"月",null,"日","～","令和",null,null,null,"年",null,"月",null,"日"]
[]
[null,null,"６　添付資料"]
[]
[null,null,null,"（１）",null,"広報媒体資料（例、チラシ、市報、番組シナリオなど）"]
[null,null,null,"（２）",null,"写真（取組の内容等が分かるもの）"]
[null,null,null,"（３）",null,"その他参考資料（領収書等含む。）"]
[null,null,null,null,null,null,null,null,null,null,null,null,null,null,null,null,null,null,null,null,null,{"$f":"'1_様式1_応募申請書'!V34","v":"ver. 1.0"}]

{"sheet":"7_別紙1-2_実施報告書","index":7,"n_rows":925,"n_cols":40,"rows_kept":925,"cut":false,"hidden":false,"merged":[[770,9,770,11],[759,4,759,14],[10,3,12,3],[10,4,12,8],[10,9,12,9],[10,10,12,18],[15,19,15,21],[15,22,15,26],[16,19,17,26],[18,19,18,26],[312,12,312,15],[312,16,312,20],[312,21,312,25],[313,6,313,24],[314,4,314,7],[314,9,314,11],[596,12,596,15],[596,16,596,20],[756,10,756,14],[128,15,128,25],[132,15,132,25],[154,11,154,17],[154,18,154,25],[155,4,155,10],[155,11,155,17],[185,15,185,25],[84,16,84,20],[84,21,84,25],[85,6,85,24],[86,4,86,7],[86,9,86,11],[597,21,597,25],[598,6,598,24],[599,4,599,7],[757,10,757,14],[760,10,760,14],[761,10,761,14],[813,10,813,14],[814,10,814,14],[817,10,817,14],[767,8,767,11],[767,12,767,15],[785,4,785,25],[786,4,789,4],[786,5,786,7],[786,8,786,10],[786,11,786,14],[786,15,786,25],[787,5,787,7],[787,8,787,10],[787,11,787,14],[787,15,787,25],[771,4,771,7],[771,9,771,11],[774,4,774,25],[801,4,801,5],[801,6,801,14],[768,4,768,7],[768,8,768,11],[768,12,768,15],[768,16,768,20],[768,21,768,25],[769,6,769,24],[756,4,756,7],[133,15,133,25],[134,15,134,25],[129,15,129,25],[246,15,246,25],[299,15,299,25],[303,15,303,25],[312,8,312,11],[72,15,72,25],[73,15,73,25],[72,10,72,14],[73,10,73,14],[76,10,76,14],[77,10,77,14],[129,10,129,14],[130,10,130,14],[133,10,133,14],[134,10,134,14],[186,10,186,14],[82,4,82,20],[82,21,83,25],[83,4,83,7],[83,8,83,11],[83,12,83,15],[83,16,83,20],[84,4,84,7],[84,8,84,11],[84,12,84,15],[248,10,248,14],[140,12,140,15],[140,16,140,20],[141,4,141,7],[141,8,141,11],[874,10,874,14],[875,10,875,14],[869,15,869,25],[873,15,873,25],[883,6,883,24],[884,4,884,7],[884,9,884,11],[885,4,885,7],[885,9,885,11],[859,17,859,25],[130,15,130,25],[76,15,76,25],[77,15,77,25],[833,12,833,13],[833,14,833,15],[778,14,778,15],[627,15,627,16],[612,15,613,25],[620,8,620,10],[620,11,620,14],[620,15,620,25],[726,15,727,25],[792,8,792,10],[792,11,792,14],[792,15,792,25],[244,10,244,14],[247,10,247,14],[646,15,646,25],[647,15,647,25],[767,16,767,20],[189,15,189,25],[242,15,242,25],[880,4,880,20],[880,21,881,25],[881,4,881,7],[881,8,881,11],[881,12,881,15],[882,4,882,7],[867,2,868,2],[857,4,857,5],[857,6,857,14],[857,15,857,16],[839,4,839,10],[839,11,839,17],[839,18,839,25],[920,1,921,26],[642,10,642,14],[643,10,643,14],[643,15,643,25],[642,15,642,25],[874,15,874,25],[875,15,875,25],[870,15,870,25],[871,15,871,25],[817,15,817,25],[818,15,818,25],[813,15,813,25],[814,15,814,25],[760,15,760,25],[761,15,761,25],[756,15,756,25],[757,15,757,25],[766,21,767,25],[767,4,767,7],[911,1,912,26],[822,2,828,3],[822,4,822,25],[823,4,823,20],[823,21,824,25],[824,4,824,7],[824,8,824,11],[824,12,824,15],[824,16,824,20],[825,4,825,7],[825,8,825,11],[825,12,825,15],[825,16,825,20],[825,21,825,25],[826,6,826,24],[827,4,827,7],[827,9,827,11],[863,4,863,25],[864,2,864,3],[831,4,831,25],[832,2,835,3],[867,4,867,25],[868,4,868,25],[864,4,864,25],[856,4,856,5],[856,6,856,14],[856,15,856,16],[856,17,856,25],[861,4,861,5],[861,6,861,14],[861,15,861,16],[861,17,861,25],[756,8,756,9],[757,4,757,7],[757,8,757,9],[758,4,758,7],[836,2,839,3],[838,11,838,17],[838,18,838,25],[842,2,850,3],[842,4,842,25],[708,2,714,3],[708,4,708,25],[709,4,709,20],[709,21,710,25],[710,4,710,7],[710,8,710,11],[710,12,710,15],[710,16,710,20],[711,4,711,7],[711,8,711,11],[711,12,711,15],[711,16,711,20],[711,21,711,25],[712,6,712,24],[713,4,713,7],[713,9,713,11],[833,16,833,17],[828,4,828,7],[828,9,828,11],[714,4,714,7],[714,9,714,11],[770,4,770,7],[838,4,838,10],[599,9,599,11],[600,4,600,7],[600,9,600,11],[765,2,771,3],[765,4,765,25],[766,4,766,20],[651,2,657,3],[651,4,651,25],[652,4,652,20],[652,21,653,25],[653,4,653,7],[653,8,653,11],[653,12,653,15],[653,16,653,20],[654,4,654,7],[654,8,654,11],[654,12,654,15],[654,16,654,20],[654,21,654,25],[655,6,655,24],[656,4,656,7],[656,9,656,11],[657,4,657,7],[743,4,743,5],[743,6,743,14],[753,2,754,2],[753,4,753,25],[754,4,754,25],[755,2,762,3],[743,15,743,16],[744,4,744,5],[758,8,758,25],[537,2,543,3],[537,4,537,25],[538,4,538,20],[538,21,539,25],[539,4,539,7],[539,8,539,11],[539,12,539,15],[539,16,539,20],[540,4,540,7],[540,8,540,11],[540,12,540,15],[540,16,540,20],[540,21,540,25],[541,6,541,24],[542,4,542,7],[542,9,542,11],[543,4,543,7],[543,9,543,11],[480,2,486,3],[480,4,480,25],[481,4,481,20],[481,21,482,25],[482,4,482,7],[482,8,482,11],[482,12,482,15],[482,16,482,20],[483,4,483,7],[483,8,483,11],[483,12,483,15],[483,16,483,20],[483,21,483,25],[484,6,484,24],[485,4,485,7],[485,9,485,11],[486,4,486,7],[486,9,486,11],[423,2,429,3],[423,4,423,25],[424,4,424,20],[424,21,425,25],[425,4,425,7],[425,8,425,11],[425,12,425,15],[425,16,425,20],[426,4,426,7],[426,8,426,11],[426,12,426,15],[426,16,426,20],[426,21,426,25],[427,6,427,24],[428,4,428,7],[428,9,428,11],[429,4,429,7],[429,9,429,11],[252,2,258,3],[252,4,252,25],[253,4,253,20],[253,21,254,25],[254,4,254,7],[366,2,372,3],[366,4,366,25],[367,4,367,20],[367,21,368,25],[368,4,368,7],[368,8,368,11],[368,12,368,15],[368,16,368,20],[369,4,369,7],[369,8,369,11],[369,12,369,15],[369,16,369,20],[369,21,369,25],[370,6,370,24],[371,4,371,7],[371,9,371,11],[372,4,372,7],[372,9,372,11],[309,2,315,3],[309,4,309,25],[310,4,310,20],[310,21,311,25],[311,4,311,7],[311,8,311,11],[311,12,311,15],[311,16,311,20],[312,4,312,7],[142,6,142,24],[143,4,143,7],[143,9,143,11],[144,4,144,7],[144,9,144,11],[315,4,315,7],[315,9,315,11],[255,4,255,7],[255,8,255,11],[255,12,255,15],[255,16,255,20],[255,21,255,25],[256,6,256,24],[257,4,257,7],[257,9,257,11],[258,4,258,7],[258,9,258,11],[279,5,279,7],[279,8,279,10],[279,11,279,14],[264,24,264,25],[265,4,265,5],[265,6,265,7],[265,8,265,9],[265,10,265,11],[254,8,254,11],[254,12,254,15],[254,16,254,20],[274,15,274,25],[275,5,275,7],[275,8,275,10],[275,11,275,14],[835,4,835,5],[835,6,835,7],[835,8,835,9],[835,10,835,11],[835,12,835,13],[835,14,835,15],[835,16,835,17],[835,18,835,19],[87,4,87,7],[87,9,87,11],[134,8,134,9],[130,8,130,9],[131,4,131,7],[131,8,131,25],[202,2,202,25],[197,16,197,20],[171,17,171,25],[172,4,172,5],[172,6,172,14],[172,15,172,16],[81,2,87,3],[81,4,81,25],[138,2,144,3],[138,4,138,25],[139,4,139,20],[139,21,140,25],[140,4,140,7],[140,8,140,11],[835,20,835,21],[141,12,141,15],[141,16,141,20],[141,21,141,25],[835,22,835,23],[835,24,835,25],[798,17,798,25],[781,4,781,10],[781,11,781,17],[781,18,781,25],[782,4,782,10],[782,11,782,17],[782,18,782,25],[836,4,836,25],[837,4,837,10],[837,11,837,17],[837,18,837,25],[265,12,265,13],[265,20,265,21],[265,22,265,23],[265,24,265,25],[287,17,287,25],[273,5,273,7],[273,8,273,10],[273,11,273,14],[273,15,273,25],[274,5,274,7],[274,8,274,10],[274,11,274,14],[597,4,597,7],[597,8,597,11],[597,12,597,15],[833,18,833,19],[833,20,833,21],[833,22,833,23],[833,24,833,25],[876,4,876,7],[876,8,876,25],[882,12,882,15],[882,16,882,20],[882,21,882,25],[886,2,886,25],[877,2,878,3],[877,4,877,7],[877,10,877,13],[877,17,877,20],[878,4,878,7],[878,10,878,13],[878,17,878,20],[874,4,874,7],[874,8,874,9],[875,4,875,7],[875,8,875,9],[879,2,885,3],[879,4,879,25],[881,16,881,20],[869,2,876,3],[882,8,882,11],[870,10,870,14],[871,10,871,14],[871,4,871,7],[871,8,871,9],[872,4,872,7],[872,8,872,25],[873,4,873,14],[869,4,869,14],[870,4,870,7],[870,8,870,9],[865,2,866,3],[865,4,866,25],[851,2,851,3],[851,4,851,12],[851,13,851,16],[851,17,851,25],[852,2,852,3],[852,4,852,25],[853,4,853,5],[853,6,853,14],[853,15,853,16],[853,17,853,25],[854,4,854,5],[854,6,854,14],[854,15,854,16],[854,17,854,25],[855,4,855,5],[855,6,855,14],[855,15,855,16],[855,17,855,25],[859,4,859,5],[860,4,860,5],[860,6,860,14],[860,15,860,16],[860,17,860,25],[863,2,863,3],[859,6,859,14],[857,17,857,25],[859,15,859,16],[834,4,834,5],[834,6,834,7],[834,8,834,9],[834,10,834,11],[834,12,834,13],[834,20,834,21],[834,22,834,23],[834,24,834,25],[833,4,833,5],[833,6,833,7],[833,8,833,9],[833,10,833,11],[834,14,834,15],[834,16,834,17],[834,18,834,19],[832,4,832,25],[819,4,819,7],[819,8,819,25],[829,2,829,25],[830,2,830,3],[830,4,830,25],[812,15,812,25],[816,15,816,25],[806,2,806,3],[806,4,806,25],[807,2,807,3],[807,4,807,25],[808,2,809,3],[808,4,809,25],[818,10,818,14],[820,2,821,3],[820,4,820,7],[820,10,820,13],[820,17,820,20],[821,4,821,7],[821,10,821,13],[821,17,821,20],[817,4,817,7],[817,8,817,9],[818,4,818,7],[818,8,818,9],[816,4,816,14],[814,4,814,7],[814,8,814,9],[815,4,815,7],[815,8,815,25],[813,8,813,9],[794,2,794,3],[794,4,794,12],[794,13,794,16],[794,17,794,25],[788,5,788,7],[788,8,788,10],[788,11,788,14],[788,15,788,25],[789,5,789,7],[789,8,789,25],[790,4,793,4],[790,5,790,7],[790,8,790,10],[790,11,790,14],[790,15,790,25],[791,5,791,7],[793,5,793,7],[793,8,793,25],[791,8,791,10],[791,11,791,14],[791,15,791,25],[792,5,792,7],[779,2,782,3],[779,4,779,25],[780,4,780,10],[780,11,780,17],[780,18,780,25],[783,2,784,3],[783,4,784,14],[783,15,784,25],[785,2,793,3],[777,16,777,17],[777,18,777,19],[777,20,777,21],[777,22,777,23],[777,24,777,25],[778,4,778,5],[778,6,778,7],[778,8,778,9],[778,10,778,11],[778,12,778,13],[777,4,777,5],[762,4,762,7],[762,8,762,25],[755,15,755,25],[759,15,759,25],[778,16,778,17],[778,18,778,19],[778,20,778,21],[778,22,778,23],[778,24,778,25],[763,2,764,3],[763,4,763,7],[763,10,763,13],[763,17,763,20],[764,4,764,7],[764,10,764,13],[764,17,764,20],[760,4,760,7],[760,8,760,9],[761,4,761,7],[761,8,761,9],[775,2,778,3],[775,4,775,25],[776,4,776,5],[776,6,776,7],[776,8,776,9],[776,10,776,11],[773,2,773,3],[773,4,773,25],[776,22,776,23],[776,24,776,25],[776,20,776,21],[755,4,755,14],[738,2,738,3],[738,4,738,25],[739,4,739,5],[739,6,739,14],[739,15,739,16],[739,17,739,25],[740,4,740,5],[740,6,740,14],[740,15,740,16],[740,17,740,25],[741,4,741,5],[741,6,741,14],[741,15,741,16],[741,17,741,25],[726,2,727,3],[726,4,727,14],[722,2,725,3],[722,4,722,25],[723,4,723,10],[723,11,723,17],[723,18,723,25],[724,4,724,10],[724,11,724,17],[724,18,724,25],[725,4,725,10],[725,11,725,17],[725,18,725,25],[737,2,737,3],[737,13,737,16],[737,4,737,12],[720,20,720,21],[720,22,720,23],[720,24,720,25],[721,4,721,5],[721,6,721,7],[721,8,721,9],[721,10,721,11],[721,12,721,13],[721,14,721,15],[721,16,721,17],[721,18,721,19],[721,20,721,21],[721,22,721,23],[721,24,721,25],[720,6,720,7],[720,8,720,9],[720,10,720,11],[720,12,720,13],[720,14,720,15],[720,16,720,17],[720,18,720,19],[689,6,689,14],[689,15,689,16],[706,2,707,3],[706,4,706,7],[706,10,706,13],[706,17,706,20],[707,4,707,7],[707,10,707,13],[707,17,707,20],[703,4,703,7],[703,8,703,9],[704,4,704,7],[704,8,704,9],[743,17,743,25],[715,2,715,25],[716,2,716,3],[716,4,716,25],[717,4,717,25],[718,2,721,3],[718,4,718,25],[719,4,719,5],[719,6,719,7],[719,8,719,9],[719,10,719,11],[719,12,719,13],[719,14,719,15],[719,16,719,17],[719,18,719,19],[719,20,719,21],[719,22,719,23],[719,24,719,25],[720,4,720,5],[698,2,705,3],[698,4,698,14],[699,4,699,7],[699,8,699,9],[700,4,700,7],[700,8,700,9],[701,4,701,7],[701,8,701,25],[702,4,702,14],[705,4,705,7],[705,8,705,25],[698,15,698,25],[702,15,702,25],[692,2,692,3],[692,4,692,25],[693,2,693,3],[693,4,693,25],[694,2,695,3],[694,4,695,25],[703,15,703,25],[704,15,704,25],[699,15,699,25],[700,15,700,25],[700,10,700,14],[703,10,703,14],[704,10,704,14],[699,10,699,14],[681,2,681,3],[681,4,681,25],[682,4,682,5],[682,6,682,14],[682,15,682,16],[682,17,682,25],[683,4,683,5],[683,6,683,14],[683,15,683,16],[683,17,683,25],[684,4,684,5],[684,6,684,14],[684,15,684,16],[684,17,684,25],[696,2,697,2],[696,4,696,25],[697,4,697,25],[691,4,691,5],[691,6,691,14],[691,15,691,16],[691,17,691,25],[686,17,686,25],[689,17,689,25],[687,4,687,5],[687,6,687,14],[687,15,687,16],[687,17,687,25],[688,4,688,5],[688,6,688,14],[688,15,688,16],[688,17,688,25],[689,4,689,5],[649,2,650,3],[649,4,649,7],[649,10,649,13],[649,17,649,20],[650,4,650,7],[650,10,650,13],[650,17,650,20],[685,4,685,5],[685,6,685,14],[685,15,685,16],[685,17,685,25],[686,4,686,5],[686,6,686,14],[686,15,686,16],[690,4,690,5],[665,2,668,3],[665,4,665,25],[666,4,666,10],[666,11,666,17],[666,18,666,25],[667,4,667,10],[667,11,667,17],[667,18,667,25],[668,4,668,10],[668,11,668,17],[668,18,668,25],[690,6,690,14],[690,15,690,16],[690,17,690,25],[680,2,680,3],[680,4,680,12],[680,13,680,16],[663,16,663,17],[663,18,663,19],[663,20,663,21],[663,22,663,23],[663,24,663,25],[664,4,664,5],[664,6,664,7],[664,8,664,9],[664,10,664,11],[664,12,664,13],[664,14,664,15],[664,16,664,17],[664,18,664,19],[664,20,664,21],[664,22,664,23],[664,24,664,25],[678,15,678,25],[663,4,663,5],[677,8,677,10],[663,14,663,15],[676,4,679,4],[676,5,676,7],[676,8,676,10],[676,11,676,14],[676,15,676,25],[677,5,677,7],[663,6,663,7],[663,12,663,13],[641,2,648,3],[641,4,641,14],[642,4,642,7],[642,8,642,9],[643,4,643,7],[643,8,643,9],[644,4,644,7],[644,8,644,25],[645,4,645,14],[648,4,648,7],[648,8,648,25],[641,15,641,25],[645,15,645,25],[630,6,630,14],[630,15,630,16],[630,17,630,25],[631,4,631,5],[631,6,631,14],[631,15,631,16],[631,17,631,25],[646,4,646,7],[646,8,646,9],[647,4,647,7],[647,8,647,9],[632,4,632,5],[647,10,647,14],[646,10,646,14],[629,6,629,14],[629,15,629,16],[630,4,630,5],[629,17,629,25],[632,6,632,14],[632,15,632,16],[632,17,632,25],[628,15,628,16],[633,4,633,5],[628,17,628,25],[608,2,611,3],[608,4,608,25],[609,4,609,10],[612,2,613,3],[639,2,640,2],[639,4,639,25],[640,4,640,25],[621,15,621,25],[625,4,625,5],[625,6,625,14],[625,15,625,16],[625,17,625,25],[626,4,626,5],[626,6,626,14],[626,15,626,16],[626,17,626,25],[627,4,627,5],[637,2,638,3],[606,8,606,9],[606,10,606,11],[606,12,606,13],[606,14,606,15],[607,24,607,25],[607,18,607,19],[607,20,607,21],[607,22,607,23],[605,4,605,5],[606,16,606,17],[606,18,606,19],[606,20,606,21],[606,22,606,23],[606,24,606,25],[607,4,607,5],[607,6,607,7],[607,8,607,9],[607,10,607,11],[607,12,607,13],[607,14,607,15],[607,16,607,17],[579,2,579,3],[579,4,579,25],[580,2,581,3],[580,4,581,25],[589,4,589,7],[589,8,589,9],[590,4,590,7],[590,8,590,9],[589,15,589,25],[585,10,585,14],[586,10,586,14],[589,10,589,14],[573,4,573,5],[573,6,573,14],[578,2,578,3],[605,6,605,7],[605,8,605,9],[605,10,605,11],[605,12,605,13],[605,14,605,15],[605,16,605,17],[605,18,605,19],[605,20,605,21],[605,22,605,23],[605,24,605,25],[594,2,600,3],[594,4,594,25],[595,4,595,20],[595,21,596,25],[596,4,596,7],[596,8,596,11],[597,16,597,20],[567,2,567,3],[567,4,567,25],[568,4,568,5],[568,6,568,14],[568,15,568,16],[568,17,568,25],[569,4,569,5],[569,6,569,14],[569,15,569,16],[569,17,569,25],[570,4,570,5],[570,6,570,14],[570,15,570,16],[570,17,570,25],[572,15,572,16],[582,2,583,2],[582,4,582,25],[583,4,583,25],[573,15,573,16],[573,17,573,25],[574,4,574,5],[574,6,574,14],[574,15,574,16],[574,17,574,25],[576,4,576,5],[576,6,576,14],[576,15,576,16],[576,17,576,25],[577,4,577,5],[577,6,577,14],[577,15,577,16],[577,17,577,25],[553,11,553,17],[553,18,553,25],[554,4,554,10],[554,11,554,17],[554,18,554,25],[549,16,549,17],[549,18,549,19],[549,20,549,21],[549,22,549,23],[549,24,549,25],[550,4,550,5],[550,6,550,7],[550,8,550,9],[550,10,550,11],[566,2,566,3],[566,4,566,12],[566,13,566,16],[566,17,566,25],[550,20,550,21],[550,22,550,23],[550,24,550,25],[558,11,558,14],[558,15,558,25],[559,5,559,7],[559,8,559,10],[559,11,559,14],[559,15,559,25],[560,5,560,7],[560,8,560,10],[560,11,560,14],[560,15,560,25],[561,5,561,7],[535,2,536,3],[535,4,535,7],[535,10,535,13],[535,17,535,20],[536,4,536,7],[536,10,536,13]],"merged_total":2979,"flags":["merged_cut"]}
[]
[null,null,"別紙１―２"]
[null,null,"地方と連携した地球温暖化対策活動推進事業実施報告書"]
[null,null,"(地域コミュニティを活用した地球温暖化対策啓発事業)"]
[]
[null,"事業名",null,{"$f":"'2_別紙1-2_実施計画書'!D6","v":"地域コミュニティを活用した地球温暖化対策啓発事業"}]
[null,"事業実施の団体名",null,{"$f":"'2_別紙1-2_実施計画書'!D7","v":0}]
[null,"局名",null,{"$f":"'2_別紙1-2_実施計画書'!D8","v":0}]
[null,"事業実施の\n担当者",null,"事業実施の代表者"]
[null,null,null,"氏名","事業者名・役職名",null,null,null,null,null,null,null,null,null,null,null,null,null,null,"所在地"]
[null,null,null,{"$f":"'2_別紙1-2_実施計画書'!D11:D13","v":0},{"$f":"'2_別紙1-2_実施計画書'!E11","v":0},null,null,null,null,"・",{"$f":"'2_別紙1-2_実施計画書'!K11","v":0},null,null,null,null,null,null,null,null,"郵便番号",null,null,{"$f":"'2_別紙1-2_実施計画書'!W11","v":0}]
[null,null,null,null,null,null,null,null,null,null,null,null,null,null,null,null,null,null,null,{"$f":"'2_別紙1-2_実施計画書'!T12","v":0}]
[]
[null,null,null,"事業実施の担当者（事業の窓口となる方）"]
[null,null,null,"氏名","事業者名・所属・役職名",null,null,null,null,null,null,null,null,null,null,null,null,null,null,"所在地"]
[null,null,null,{"$f":"'2_別紙1-2_実施計画書'!D16","v":0},"事業者名",null,null,null,null,{"$f":"'2_別紙1-2_実施計画書'!J16","v":0},null,null,null,null,null,null,null,null,null,"郵便番号",null,null,{"$f":"'2_別紙1-2_実施計画書'!W16","v":0}]
[null,null,null,null,"所　属",null,null,null,null,{"$f":"'2_別紙1-2_実施計画書'!J17","v":0},null,null,null,null,null,null,null,null,null,{"$f":"'2_別紙1-2_実施計画書'!T17:AA18","v":0}]
[null,null,null,null,"役職名",null,null,null,null,{"$f":"'2_別紙1-2_実施計画書'!J18","v":0}]
[null,null,null,"電話番号","FAX番号",null,null,null,null,"E-mailアドレス",null,null,null,null,null,null,null,null,null,"備　　考"]
[null,null,null,{"$f":"'2_別紙1-2_実施計画書'!D20","v":0},{"$f":"'2_別紙1-2_実施計画書'!E20","v":0},null,null,null,null,{"$f":"'2_別紙1-2_実施計画書'!J20","v":0}]
[null,"共同事業者",null,"団体等の名称","事業実施責任者"]
[null,null,null,null,"氏名",null,null,null,null,"所属・役職名",null,null,null,null,null,null,"電話・FAX番号",null,null,null,null,"E-mailアドレス"]
[null,null,null,{"$f":"IF('2_別紙1-2_実施計画書'!D29=\"\",\"\",'2_別紙1-2_実施計画書'!D29)","v":""},{"$f":"IF('2_別紙1-2_実施計画書'!E29=\"\",\"\",'2_別紙1-2_実施計画書'!E29)","v":""},null,null,null,null,{"$f":"IF('2_別紙1-2_実施計画書'!J29=\"\",\"\",'2_別紙1-2_実施計画書'!J29)","v":""},null,null,null,null,null,null,{"$f":"IF('2_別紙1-2_実施計画書'!Q29=\"\",\"\",'2_別紙1-2_実施計画書'!Q29)","v":""},null,null,null,null,{"$f":"IF('2_別紙1-2_実施計画書'!V29=\"\",\"\",'2_別紙1-2_実施計画書'!V29)","v":""}]
[null,null,null,null,null,null,null,null,null,null,null,null,null,null,null,null,{"$f":"IF('2_別紙1-2_実施計画書'!Q30=\"\",\"\",'2_別紙1-2_実施計画書'!Q30)","v":""}]
[null,null,null,{"$f":"IF('2_別紙1-2_実施計画書'!D31=\"\",\"\",'2_別紙1-2_実施計画書'!D31)","v":""},{"$f":"IF('2_別紙1-2_実施計画書'!E31=\"\",\"\",'2_別紙1-2_実施計画書'!E31)","v":""},null,null,null,null,{"$f":"IF('2_別紙1-2_実施計画書'!J31=\"\",\"\",'2_別紙1-2_実施計画書'!J31)","v":""},null,null,null,null,null,null,{"$f":"IF('2_別紙1-2_実施計画書'!Q31=\"\",\"\",'2_別紙1-2_実施計画書'!Q31)","v":""},null,null,null,null,{"$f":"IF('2_別紙1-2_実施計画書'!V31=\"\",\"\",'2_別紙1-2_実施計画書'!V31)","v":""}]
[null,null,null,null,null,null,null,null,null,null,null,null,null,null,null,null,{"$f":"IF('2_別紙1-2_実施計画書'!Q32=\"\",\"\",'2_別紙1-2_実施計画書'!Q32)","v":""}]
[null,null,null,{"$f":"IF('2_別紙1-2_実施計画書'!D33=\"\",\"\",'2_別紙1-2_実施計画書'!D33)","v":""},{"$f":"IF('2_別紙1-2_実施計画書'!E33=\"\",\"\",'2_別紙1-2_実施計画書'!E33)","v":""},null,null,null,null,{"$f":"IF('2_別紙1-2_実施計画書'!J33=\"\",\"\",'2_別紙1-2_実施計画書'!J33)","v":""},null,null,null,null,null,null,{"$f":"IF('2_別紙1-2_実施計画書'!Q33=\"\",\"\",'2_別紙1-2_実施計画書'!Q33)","v":""},null,null,null,null,{"$f":"IF('2_別紙1-2_実施計画書'!V33=\"\",\"\",'2_別紙1-2_実施計画書'!V33)","v":""}]
[null,null,null,null,null,null,null,null,null,null,null,null,null,null,null,null,{"$f":"IF('2_別紙1-2_実施計画書'!Q34=\"\",\"\",'2_別紙1-2_実施計画書'!Q34)","v":""}]
[null,"＜事業の概要＞"]
[]
[null,"（１）実施する全ての事業について、それぞれの内容・規模、地域団体との連携等を記入してください。"]
[]
[null,null,"項目",null,"内容"]
[null,null,"事業1","事業名\n（番組・CM名）",{"$f":"OFFSET('11_PDCAチェックシート【実施期間中】個別事業'!$A$6,,MATCH(C34,'11_PDCAチェックシート【実施期間中】個別事業'!$H$4:$V$4,0)+6)","v":0},null,null,null,null,null,null,null,null,null,null,null,null,null,null,null,null,null,null,null,null,null,null,null,{"$f":"'11_PDCAチェックシート【実施期間中】個別事業'!H$6","v":0}]
[null,null,"普及啓発テーマ",null,"※該当する普及啓発テーマすべてをチェックしてください。"]
[null,null,null,null,"①",null,"②",null,"③",null,"④",null,"⑤",null,"⑥",null,"⑦",null,"⑧",null,"⑨",null,"⑩",null,"⑪",null,null,null,"①","②","③","④","⑤","⑥","⑦","⑧","⑨","⑩","⑪"]
[null,null,null,null,"省ｴﾈ機器",null,"省ｴﾈ住宅",null,"ｴｺｶｰ",null,"ｸｰﾙﾋﾞｽﾞ",null,"ｳｫｰﾑﾋﾞｽﾞ",null,"照明の\n高効率利用",null,"ｴｺﾄﾞﾗｲﾌﾞ",null,"ｶｰｼｪｱ",null,"公共交通\n機関の利用",null,"再配達防止",null,"シェアエコ",null,null,null,"省ｴﾈ機器","省ｴﾈ住宅","ｴｺｶｰ","ｸｰﾙﾋﾞｽﾞ","ｳｫｰﾑﾋﾞｽﾞ","照明の\n高効率利用","ｴｺﾄﾞﾗｲﾌﾞ","ｶｰｼｪｱ","公共交通\n機関の利用","再配達防止","シェアエコ"]
[null,null,null,null,null,null,null,null,null,null,null,null,null,null,null,null,null,null,null,null,null,null,null,null,null,null,null,null,false,{"$f":"IF(COUNTIFS('11_PDCAチェックシート【実施期間中】個別事業'!$E$7:$E$17,'7_別紙1-2_実施報告書'!AD36,OFFSET('11_PDCAチェックシート【実施期間中】個別事業'!$F$7,,MATCH('7_別紙1-2_実施報告書'!$C34,'11_PDCAチェックシート【実施期間中】個別事業'!$H$4:$V$4,0)+1,11,1),1),1,0)","v":0},{"$f":"IF(COUNTIFS('11_PDCAチェックシート【実施期間中】個別事業'!$E$7:$E$17,'7_別紙1-2_実施報告書'!AE36,OFFSET('11_PDCAチェックシート【実施期間中】個別事業'!$F$7,,MATCH('7_別紙1-2_実施報告書'!$C34,'11_PDCAチェックシート【実施期間中】個別事業'!$H$4:$V$4,0)+1,11,1),1),1,0)","v":0},{"$f":"IF(COUNTIFS('11_PDCAチェックシート【実施期間中】個別事業'!$E$7:$E$17,'7_別紙1-2_実施報告書'!AF36,OFFSET('11_PDCAチェックシート【実施期間中】個別事業'!$F$7,,MATCH('7_別紙1-2_実施報告書'!$C34,'11_PDCAチェックシート【実施期間中】個別事業'!$H$4:$V$4,0)+1,11,1),1),1,0)","v":0},{"$f":"IF(COUNTIFS('11_PDCAチェックシート【実施期間中】個別事業'!$E$7:$E$17,'7_別紙1-2_実施報告書'!AG36,OFFSET('11_PDCAチェックシート【実施期間中】個別事業'!$F$7,,MATCH('7_別紙1-2_実施報告書'!$C34,'11_PDCAチェックシート【実施期間中】個別事業'!$H$4:$V$4,0)+1,11,1),1),1,0)","v":0},{"$f":"IF(COUNTIFS('11_PDCAチェックシート【実施期間中】個別事業'!$E$7:$E$17,'7_別紙1-2_実施報告書'!AH36,OFFSET('11_PDCAチェックシート【実施期間中】個別事業'!$F$7,,MATCH('7_別紙1-2_実施報告書'!$C34,'11_PDCAチェックシート【実施期間中】個別事業'!$H$4:$V$4,0)+1,11,1),1),1,0)","v":0},false,false,{"$f":"IF(COUNTIFS('11_PDCAチェックシート【実施期間中】個別事業'!$E$7:$E$17,'7_別紙1-2_実施報告書'!AK36,OFFSET('11_PDCAチェックシート【実施期間中】個別事業'!$F$7,,MATCH('7_別紙1-2_実施報告書'!$C34,'11_PDCAチェックシート【実施期間中】個別事業'!$H$4:$V$4,0)+1,11,1),1),1,0)","v":0},false,false,{"$f":"COUNTIFS(AC38:AM38,\"TRUE\")","v":0}]
[null,null,"訴求手法",null,"※訴求手法については、該当する欄にチェックしてください。"]
[null,null,null,null,"a) 情報発信型（受動型）",null,null,null,null,null,null,"b) 情報発信型（能動型）",null,null,null,null,null,null,"c) 双方向体験交流型"]
[null,null,null,null,"ラジオ、新聞・広報紙等",null,null,null,null,null,null,"講演会・パネル展示等",null,null,null,null,null,null,"試乗・体験会、省ｴﾈ診断等",null,null,null,null,null,null,null,null,null,"a)","b)","c)"]
[null,null,null,null,null,null,null,null,null,null,null,null,null,null,null,null,null,null,null,null,null,null,null,null,null,null,null,null,false,false,false,null,null,null,null,null,null,null,null,{"$f":"COUNTIFS(AC42:AM42,\"TRUE\")","v":0}]
[null,null,"情報発信カテゴリー\n（プルダウン選択）",null,{"$f":"OFFSET('11_PDCAチェックシート【実施期間中】個別事業'!$A$6,'11_PDCAチェックシート【実施期間中】個別事業'!$A$21,MATCH($C34,'11_PDCAチェックシート【実施期間中】個別事業'!$H$4:$V$4,0)+6)","v":"-"},null,null,null,null,null,null,null,null,null,null,{"$f":"IF(OFFSET('11_PDCAチェックシート【実施期間中】個別事業'!$A$6,'11_PDCAチェックシート【実施期間中】個別事業'!$A$22,MATCH($C34,'11_PDCAチェックシート【実施期間中】個別事業'!$H$4:$V$4,0)+6)=\"\",\"\",OFFSET('11_PDCAチェックシート【実施期間中】個別事業'!$A$6,'11_PDCAチェックシート【実施期間中】個別事業'!$A$22,MATCH($C34,'11_PDCAチェックシート【実施期間中】個別事業'!$H$4:$V$4,0)+6))","v":"-"}]
[]
[null,null,"尺・放送回数",null,"※収録本数、放送回数を定量的に必ず記載のこと"]
[null,null,null,null,"①","尺",null,null,{"$f":"OFFSET('11_PDCAチェックシート【実施期間中】個別事業'!$A$6,'11_PDCAチェックシート【実施期間中】個別事業'!$A$23,MATCH($C34,'11_PDCAチェックシート【実施期間中】個別事業'!$H$4:$V$4,0)+6)","v":""},null,null,"（秒）",null,null,null,"※単位はプルダウン選択"]
[null,null,null,null,null,"収録本数",null,null,{"$f":"OFFSET('11_PDCAチェックシート【実施期間中】個別事業'!$A$6,'11_PDCAチェックシート【実施期間中】個別事業'!$A$24,MATCH($C34,'11_PDCAチェックシート【実施期間中】個別事業'!$H$4:$V$4,0)+6)","v":""},null,null,"（本）"]
[null,null,null,null,null,"放送回数",null,null,{"$f":"OFFSET('11_PDCAチェックシート【実施期間中】個別事業'!$A$6,'11_PDCAチェックシート【実施期間中】個別事業'!$A$25,MATCH($C34,'11_PDCAチェックシート【実施期間中】個別事業'!$H$4:$V$4,0)+6)","v":""},null,null,"（回）",null,null,null,"※再放送を含む"]
[null,null,null,null,null,"備考",null,null,{"$f":"OFFSET('11_PDCAチェックシート【実施期間中】個別事業'!$A$6,'11_PDCAチェックシート【実施期間中】個別事業'!$A$26,MATCH($C34,'11_PDCAチェックシート【実施期間中】個別事業'!$H$4:$V$4,0)+6)","v":""},null,null,{"$f":"OFFSET('11_PDCAチェックシート【実施期間中】個別事業'!$A$6,'11_PDCAチェックシート【実施期間中】個別事業'!#REF!,MATCH($C37,'11_PDCAチェックシート【実施期間中】個別事業'!$H$4:$V$4,0)+6)","v":{"$error":"#REF!"}},null,null,{"$f":"OFFSET('11_PDCAチェックシート【実施期間中】個別事業'!$A$6,'11_PDCAチェックシート【実施期間中】個別事業'!#REF!,MATCH($C37,'11_PDCAチェックシート【実施期間中】個別事業'!$H$4:$V$4,0)+6)","v":{"$error":"#REF!"}},null,null,{"$f":"OFFSET('11_PDCAチェックシート【実施期間中】個別事業'!$A$6,'11_PDCAチェックシート【実施期間中】個別事業'!#REF!,MATCH($C37,'11_PDCAチェックシート【実施期間中】個別事業'!$H$4:$V$4,0)+6)","v":{"$error":"#REF!"}},null,null,{"$f":"OFFSET('11_PDCAチェックシート【実施期間中】個別事業'!$A$6,'11_PDCAチェックシート【実施期間中】個別事業'!#REF!,MATCH($C37,'11_PDCAチェックシート【実施期間中】個別事業'!$H$4:$V$4,0)+6)","v":{"$error":"#REF!"}},null,null,{"$f":"OFFSET('11_PDCAチェックシート【実施期間中】個別事業'!$A$6,'11_PDCAチェックシート【実施期間中】個別事業'!#REF!,MATCH($C37,'11_PDCAチェックシート【実施期間中】個別事業'!$H$4:$V$4,0)+6)","v":{"$error":"#REF!"}}]
[null,null,null,null,"②","尺",null,null,{"$f":"OFFSET('11_PDCAチェックシート【実施期間中】個別事業'!$A$6,'11_PDCAチェックシート【実施期間中】個別事業'!$A$27,MATCH($C34,'11_PDCAチェックシート【実施期間中】個別事業'!$H$4:$V$4,0)+6)","v":""},null,null,"（秒）",null,null,null,"※単位はプルダウン選択"]
[null,null,null,null,null,"収録本数",null,null,{"$f":"OFFSET('11_PDCAチェックシート【実施期間中】個別事業'!$A$6,'11_PDCAチェックシート【実施期間中】個別事業'!$A$28,MATCH($C34,'11_PDCAチェックシート【実施期間中】個別事業'!$H$4:$V$4,0)+6)","v":""},null,null,"（本）"]
[null,null,null,null,null,"放送回数",null,null,{"$f":"OFFSET('11_PDCAチェックシート【実施期間中】個別事業'!$A$6,'11_PDCAチェックシート【実施期間中】個別事業'!$A$29,MATCH($C34,'11_PDCAチェックシート【実施期間中】個別事業'!$H$4:$V$4,0)+6)","v":""},null,null,"（回）",null,null,null,"※再放送を含む"]
[null,null,null,null,null,"備考",null,null,{"$f":"OFFSET('11_PDCAチェックシート【実施期間中】個別事業'!$A$6,'11_PDCAチェックシート【実施期間中】個別事業'!$A$30,MATCH($C34,'11_PDCAチェックシート【実施期間中】個別事業'!$H$4:$V$4,0)+6)","v":""},null,null,{"$f":"OFFSET('11_PDCAチェックシート【実施期間中】個別事業'!$A$6,'11_PDCAチェックシート【実施期間中】個別事業'!#REF!,MATCH($C41,'11_PDCAチェックシート【実施期間中】個別事業'!$H$4:$V$4,0)+6)","v":{"$error":"#REF!"}},null,null,{"$f":"OFFSET('11_PDCAチェックシート【実施期間中】個別事業'!$A$6,'11_PDCAチェックシート【実施期間中】個別事業'!#REF!,MATCH($C41,'11_PDCAチェックシート【実施期間中】個別事業'!$H$4:$V$4,0)+6)","v":{"$error":"#REF!"}},null,null,{"$f":"OFFSET('11_PDCAチェックシート【実施期間中】個別事業'!$A$6,'11_PDCAチェックシート【実施期間中】個別事業'!#REF!,MATCH($C41,'11_PDCAチェックシート【実施期間中】個別事業'!$H$4:$V$4,0)+6)","v":{"$error":"#REF!"}},null,null,{"$f":"OFFSET('11_PDCAチェックシート【実施期間中】個別事業'!$A$6,'11_PDCAチェックシート【実施期間中】個別事業'!#REF!,MATCH($C41,'11_PDCAチェックシート【実施期間中】個別事業'!$H$4:$V$4,0)+6)","v":{"$error":"#REF!"}},null,null,{"$f":"OFFSET('11_PDCAチェックシート【実施期間中】個別事業'!$A$6,'11_PDCAチェックシート【実施期間中】個別事業'!#REF!,MATCH($C41,'11_PDCAチェックシート【実施期間中】個別事業'!$H$4:$V$4,0)+6)","v":{"$error":"#REF!"}}]
[null,null,"実施期間",null,{"$f":"OFFSET('11_PDCAチェックシート【実施期間中】個別事業'!$A$6,'11_PDCAチェックシート【実施期間中】個別事業'!$A$31,MATCH($C34,'11_PDCAチェックシート【実施期間中】個別事業'!$H$4:$V$4,0)+6)","v":""},null,null,null,null,null,null,null,null,"～",null,null,null,{"$f":"OFFSET('11_PDCAチェックシート【実施期間中】個別事業'!$A$6,'11_PDCAチェックシート【実施期間中】個別事業'!$A$33,MATCH($C34,'11_PDCAチェックシート【実施期間中】個別事業'!$H$4:$V$4,0)+6)","v":""}]
[null,null,"放送時間、その他備考",null,{"$f":"OFFSET('11_PDCAチェックシート【実施期間中】個別事業'!$A$6,'11_PDCAチェックシート【実施期間中】個別事業'!$A$34,MATCH($C34,'11_PDCAチェックシート【実施期間中】個別事業'!$H$4:$V$4,0)+6)","v":""}]
[null,null,"実施日\n（※同一事業内で、\n同一の内容・場所において\n複数日実施する場合）",null,1,null,{"$f":"OFFSET('11_PDCAチェックシート【実施期間中】個別事業'!$A$6,'11_PDCAチェックシート【実施期間中】個別事業'!$A$35,MATCH($C34,'11_PDCAチェックシート【実施期間中】個別事業'!$H$4:$V$4,0)+6)","v":""},null,null,null,null,null,null,null,null,11,null,{"$f":"OFFSET('11_PDCAチェックシート【実施期間中】個別事業'!$A$6,'11_PDCAチェックシート【実施期間中】個別事業'!$A$45,MATCH($C34,'11_PDCAチェックシート【実施期間中】個別事業'!$H$4:$V$4,0)+6)","v":""}]
[null,null,null,null,2,null,{"$f":"OFFSET('11_PDCAチェックシート【実施期間中】個別事業'!$A$6,'11_PDCAチェックシート【実施期間中】個別事業'!$A$36,MATCH($C34,'11_PDCAチェックシート【実施期間中】個別事業'!$H$4:$V$4,0)+6)","v":""},null,null,null,null,null,null,null,null,12,null,{"$f":"OFFSET('11_PDCAチェックシート【実施期間中】個別事業'!$A$6,'11_PDCAチェックシート【実施期間中】個別事業'!$A$46,MATCH($C34,'11_PDCAチェックシート【実施期間中】個別事業'!$H$4:$V$4,0)+6)","v":""}]
[null,null,null,null,3,null,{"$f":"OFFSET('11_PDCAチェックシート【実施期間中】個別事業'!$A$6,'11_PDCAチェックシート【実施期間中】個別事業'!$A$37,MATCH($C34,'11_PDCAチェックシート【実施期間中】個別事業'!$H$4:$V$4,0)+6)","v":""},null,null,null,null,null,null,null,null,13,null,{"$f":"OFFSET('11_PDCAチェックシート【実施期間中】個別事業'!$A$6,'11_PDCAチェックシート【実施期間中】個別事業'!$A$47,MATCH($C34,'11_PDCAチェックシート【実施期間中】個別事業'!$H$4:$V$4,0)+6)","v":""}]
[null,null,null,null,4,null,{"$f":"OFFSET('11_PDCAチェックシート【実施期間中】個別事業'!$A$6,'11_PDCAチェックシート【実施期間中】個別事業'!$A$38,MATCH($C34,'11_PDCAチェックシート【実施期間中】個別事業'!$H$4:$V$4,0)+6)","v":""},null,null,null,null,null,null,null,null,14,null,{"$f":"OFFSET('11_PDCAチェックシート【実施期間中】個別事業'!$A$6,'11_PDCAチェックシート【実施期間中】個別事業'!$A$48,MATCH($C34,'11_PDCAチェックシート【実施期間中】個別事業'!$H$4:$V$4,0)+6)","v":""}]
[null,null,null,null,5,null,{"$f":"OFFSET('11_PDCAチェックシート【実施期間中】個別事業'!$A$6,'11_PDCAチェックシート【実施期間中】個別事業'!$A$39,MATCH($C34,'11_PDCAチェックシート【実施期間中】個別事業'!$H$4:$V$4,0)+6)","v":""},null,null,null,null,null,null,null,null,15,null,{"$f":"OFFSET('11_PDCAチェックシート【実施期間中】個別事業'!$A$6,'11_PDCAチェックシート【実施期間中】個別事業'!$A$49,MATCH($C34,'11_PDCAチェックシート【実施期間中】個別事業'!$H$4:$V$4,0)+6)","v":""}]
[null,null,null,null,6,null,{"$f":"OFFSET('11_PDCAチェックシート【実施期間中】個別事業'!$A$6,'11_PDCAチェックシート【実施期間中】個別事業'!$A$40,MATCH($C34,'11_PDCAチェックシート【実施期間中】個別事業'!$H$4:$V$4,0)+6)","v":""},null,null,null,null,null,null,null,null,16,null,{"$f":"OFFSET('11_PDCAチェックシート【実施期間中】個別事業'!$A$6,'11_PDCAチェックシート【実施期間中】個別事業'!$A$50,MATCH($C34,'11_PDCAチェックシート【実施期間中】個別事業'!$H$4:$V$4,0)+6)","v":""}]
[null,null,null,null,7,null,{"$f":"OFFSET('11_PDCAチェックシート【実施期間中】個別事業'!$A$6,'11_PDCAチェックシート【実施期間中】個別事業'!$A$41,MATCH($C34,'11_PDCAチェックシート【実施期間中】個別事業'!$H$4:$V$4,0)+6)","v":""},null,null,null,null,null,null,null,null,17,null,{"$f":"OFFSET('11_PDCAチェックシート【実施期間中】個別事業'!$A$6,'11_PDCAチェックシート【実施期間中】個別事業'!$A$51,MATCH($C34,'11_PDCAチェックシート【実施期間中】個別事業'!$H$4:$V$4,0)+6)","v":""}]
[null,null,null,null,8,null,{"$f":"OFFSET('11_PDCAチェックシート【実施期間中】個別事業'!$A$6,'11_PDCAチェックシート【実施期間中】個別事業'!$A$42,MATCH($C34,'11_PDCAチェックシート【実施期間中】個別事業'!$H$4:$V$4,0)+6)","v":""},null,null,null,null,null,null,null,null,18,null,{"$f":"OFFSET('11_PDCAチェックシート【実施期間中】個別事業'!$A$6,'11_PDCAチェックシート【実施期間中】個別事業'!$A$52,MATCH($C34,'11_PDCAチェックシート【実施期間中】個別事業'!$H$4:$V$4,0)+6)","v":""}]
[null,null,null,null,9,null,{"$f":"OFFSET('11_PDCAチェックシート【実施期間中】個別事業'!$A$6,'11_PDCAチェックシート【実施期間中】個別事業'!$A$43,MATCH($C34,'11_PDCAチェックシート【実施期間中】個別事業'!$H$4:$V$4,0)+6)","v":""},null,null,null,null,null,null,null,null,19,null,{"$f":"OFFSET('11_PDCAチェックシート【実施期間中】個別事業'!$A$6,'11_PDCAチェックシート【実施期間中】個別事業'!$A$53,MATCH($C34,'11_PDCAチェックシート【実施期間中】個別事業'!$H$4:$V$4,0)+6)","v":""}]
[null,null,null,null,10,null,{"$f":"OFFSET('11_PDCAチェックシート【実施期間中】個別事業'!$A$6,'11_PDCAチェックシート【実施期間中】個別事業'!$A$44,MATCH($C34,'11_PDCAチェックシート【実施期間中】個別事業'!$H$4:$V$4,0)+6)","v":""},null,null,null,null,null,null,null,null,20,null,{"$f":"OFFSET('11_PDCAチェックシート【実施期間中】個別事業'!$A$6,'11_PDCAチェックシート【実施期間中】個別事業'!$A$54,MATCH($C34,'11_PDCAチェックシート【実施期間中】個別事業'!$H$4:$V$4,0)+6)","v":""}]
[null,null,"事業の概要",null,{"$f":"OFFSET('11_PDCAチェックシート【実施期間中】個別事業'!$A$6,'11_PDCAチェックシート【実施期間中】個別事業'!$A$55,MATCH($C34,'11_PDCAチェックシート【実施期間中】個別事業'!$H$4:$V$4,0)+6)","v":""}]
[null,null,"地域団体との連携\n※地方公共団体を含む",null,{"$f":"'2_別紙1-2_実施計画書'!E90","v":0}]
[null,null,"実施結果",null,{"$f":"OFFSET('11_PDCAチェックシート【実施期間中】個別事業'!$A$6,'11_PDCAチェックシート【実施期間中】個別事業'!$A$57,MATCH($C34,'11_PDCAチェックシート【実施期間中】個別事業'!$H$4:$V$4,0)+6)","v":0}]
[]
[null,null,"主な訴求対象","計画",{"$f":"OFFSET('11_PDCAチェックシート【実施期間中】個別事業'!$A$6,'11_PDCAチェックシート【実施期間中】個別事業'!$A$58,MATCH($C34,'11_PDCAチェックシート【実施期間中】個別事業'!$H$4:$V$4,0)+6)","v":""}]
[null,null,null,"結果",{"$f":"OFFSET('11_PDCAチェックシート【実施期間中】個別事業'!$A$6,'11_PDCAチェックシート【実施期間中】個別事業'!$A$59,MATCH($C34,'11_PDCAチェックシート【実施期間中】個別事業'!$H$4:$V$4,0)+6)","v":0}]
[null,null,"規模（リーチ数）\n（想定及び実績）",null,"カテゴリ①（プルダウン選択）⇒",null,null,null,null,null,null,null,null,null,null,{"$f":"OFFSET('11_PDCAチェックシート【実施期間中】個別事業'!$A$6,'11_PDCAチェックシート【実施期間中】個別事業'!$A$60,MATCH($C34,'11_PDCAチェックシート【実施期間中】個別事業'!$H$4:$V$4,0)+6)","v":"　"}]
[null,null,null,null,"計画値",null,null,null,"計",null,{"$f":"'2_別紙1-2_実施計画書'!K96","v":0}]
[null,null,null,null,"実績値",null,null,null,"計",null,{"$f":"OFFSET('11_PDCAチェックシート【実施期間中】個別事業'!$A$6,'11_PDCAチェックシート【実施期間中】個別事業'!$A$63,MATCH($C34,'11_PDCAチェックシート【実施期間中】個別事業'!$H$4:$V$4,0)+6)","v":0}]
[null,null,null,null,"算出根拠",null,null,null,{"$f":"OFFSET('11_PDCAチェックシート【実施期間中】個別事業'!$A$6,'11_PDCAチェックシート【実施期間中】個別事業'!$A$64,MATCH($C34,'11_PDCAチェックシート【実施期間中】個別事業'!$H$4:$V$4,0)+6)","v":""}]
[null,null,null,null,"カテゴリ②（プルダウン選択）⇒",null,null,null,null,null,null,null,null,null,null,{"$f":"OFFSET('11_PDCAチェックシート【実施期間中】個別事業'!$A$6,'11_PDCAチェックシート【実施期間中】個別事業'!$A$65,MATCH($C34,'11_PDCAチェックシート【実施期間中】個別事業'!$H$4:$V$4,0)+6)","v":""}]
[null,null,null,null,"計画値",null,null,null,"計",null,{"$f":"'2_別紙1-2_実施計画書'!K100","v":0}]
[null,null,null,null,"実績値",null,null,null,"計",null,{"$f":"OFFSET('11_PDCAチェックシート【実施期間中】個別事業'!$A$6,'11_PDCAチェックシート【実施期間中】個別事業'!$A$68,MATCH($C34,'11_PDCAチェックシート【実施期間中】個別事業'!$H$4:$V$4,0)+6)","v":0}]
[null,null,null,null,"算出根拠",null,null,null,{"$f":"OFFSET('11_PDCAチェックシート【実施期間中】個別事業'!$A$6,'11_PDCAチェックシート【実施期間中】個別事業'!$A$69,MATCH($C34,'11_PDCAチェックシート【実施期間中】個別事業'!$H$4:$V$4,0)+6)","v":""}]
[null,null,"COOL CHOICE 賛同数\n（想定及び実績）",null,"計画値",null,null,null,"団体",null,{"$f":"OFFSET('11_PDCAチェックシート【実施期間中】個別事業'!$A$6,'11_PDCAチェックシート【実施期間中】個別事業'!$A$71,MATCH($C34,'11_PDCAチェックシート【実施期間中】個別事業'!$H$4:$V$4,0)+6)","v":0},null,null,null,null,"、個人",null,{"$f":"OFFSET('11_PDCAチェックシート【実施期間中】個別事業'!$A$6,'11_PDCAチェックシート【実施期間中】個別事業'!$A$74,MATCH($C34,'11_PDCAチェックシート【実施期間中】個別事業'!$H$4:$V$4,0)+6)","v":0}]
[null,null,null,null,"実績値",null,null,null,"団体",null,{"$f":"OFFSET('11_PDCAチェックシート【実施期間中】個別事業'!$A$6,'11_PDCAチェックシート【実施期間中】個別事業'!$A$72,MATCH($C34,'11_PDCAチェックシート【実施期間中】個別事業'!$H$4:$V$4,0)+6)","v":0},null,null,null,null,"、個人",null,{"$f":"OFFSET('11_PDCAチェックシート【実施期間中】個別事業'!$A$6,'11_PDCAチェックシート【実施期間中】個別事業'!$A$75,MATCH($C34,'11_PDCAチェックシート【実施期間中】個別事業'!$H$4:$V$4,0)+6)","v":0}]
[null,null,"効果検証\n（アンケート）予定",null,"※アンケートの実施予定をプルダウンより選択してください。"]
[null,null,null,null,"公募要領に規定のアンケート",null,null,null,null,null,null,null,null,null,null,null,null,null,null,null,null,"貴事業者独自のアンケート"]
[null,null,null,null,"省エネ機器",null,null,null,"省エネ住宅",null,null,null,"エコドライブ",null,null,null,"低炭素物流（宅配便の再配達防止）"]
[null,null,null,null,{"$f":"OFFSET('11_PDCAチェックシート【実施期間中】個別事業'!$A$6,'11_PDCAチェックシート【実施期間中】個別事業'!$A$76,MATCH($C34,'11_PDCAチェックシート【実施期間中】個別事業'!$H$4:$V$4,0)+6)","v":"- 選択 -"},null,null,null,{"$f":"OFFSET('11_PDCAチェックシート【実施期間中】個別事業'!$A$6,'11_PDCAチェックシート【実施期間中】個別事業'!$A$77,MATCH($C34,'11_PDCAチェックシート【実施期間中】個別事業'!$H$4:$V$4,0)+6)","v":"- 選択 -"},null,null,null,{"$f":"OFFSET('11_PDCAチェックシート【実施期間中】個別事業'!$A$6,'11_PDCAチェックシート【実施期間中】個別事業'!$A$78,MATCH($C34,'11_PDCAチェックシート【実施期間中】個別事業'!$H$4:$V$4,0)+6)","v":"- 選択 -"},null,null,null,{"$f":"OFFSET('11_PDCAチェックシート【実施期間中】個別事業'!$A$6,'11_PDCAチェックシート【実施期間中】個別事業'!$A$79,MATCH($C34,'11_PDCAチェックシート【実施期間中】個別事業'!$H$4:$V$4,0)+6)","v":"- 選択 -"},null,null,null,null,{"$f":"OFFSET('11_PDCAチェックシート【実施期間中】個別事業'!$A$6,'11_PDCAチェックシート【実施期間中】個別事業'!$A$80,MATCH($C34,'11_PDCAチェックシート【実施期間中】個別事業'!$H$4:$V$4,0)+6)","v":"- 選択 -"}]
[null,null,null,null,"内容（",null,{"$f":"OFFSET('11_PDCAチェックシート【実施期間中】個別事業'!$A$6,'11_PDCAチェックシート【実施期間中】個別事業'!$A$81,MATCH($C34,'11_PDCAチェックシート【実施期間中】個別事業'!$H$4:$V$4,0)+6)","v":""},null,null,null,null,null,null,null,null,null,null,null,null,null,null,null,null,null,null,"）"]
[null,null,null,null,"目標回収数",null,null,null,"計",{"$f":"OFFSET('11_PDCAチェックシート【実施期間中】個別事業'!$A$6,'11_PDCAチェックシート【実施期間中】個別事業'!$A$83,MATCH($C34,'11_PDCAチェックシート【実施期間中】個別事業'!$H$4:$V$4,0)+6)","v":0},null,null,"枚",null,"※複数ある場合は、平均アンケート回収数"]
[null,null,null,null,"実績値",null,null,null,"計",{"$f":"OFFSET('11_PDCAチェックシート【実施期間中】個別事業'!$A$6,'11_PDCAチェックシート【実施期間中】個別事業'!$A$84,MATCH($C34,'11_PDCAチェックシート【実施期間中】個別事業'!$H$4:$V$4,0)+6)","v":0},null,null,"枚",null,"※複数ある場合は、平均アンケート回収数"]
[null,null,"（実施する事業については、別紙を使用せず、必ず上記記載例に沿って事業実施計画に記載すること）"]
[null,null,"項目",null,"内容"]
[null,null,"事業2","事業名\n（番組・CM名）",{"$f":"OFFSET('11_PDCAチェックシート【実施期間中】個別事業'!$A$6,,MATCH(C91,'11_PDCAチェックシート【実施期間中】個別事業'!$H$4:$V$4,0)+6)","v":0}]
[null,null,"普及啓発テーマ",null,"※該当する普及啓発テーマすべてをチェックしてください。"]
[null,null,null,null,"①",null,"②",null,"③",null,"④",null,"⑤",null,"⑥",null,"⑦",null,"⑧",null,"⑨",null,"⑩",null,"⑪",null,null,null,"①","②","③","④","⑤","⑥","⑦","⑧","⑨","⑩","⑪"]
[null,null,null,null,"省ｴﾈ機器",null,"省ｴﾈ住宅",null,"ｴｺｶｰ",null,"ｸｰﾙﾋﾞｽﾞ",null,"ｳｫｰﾑﾋﾞｽﾞ",null,"照明の\n高効率利用",null,"ｴｺﾄﾞﾗｲﾌﾞ",null,"ｶｰｼｪｱ",null,"公共交通\n機関の利用",null,"再配達防止",null,"シェアエコ",null,null,null,"省ｴﾈ機器","省ｴﾈ住宅","ｴｺｶｰ","ｸｰﾙﾋﾞｽﾞ","ｳｫｰﾑﾋﾞｽﾞ","照明の\n高効率利用","ｴｺﾄﾞﾗｲﾌﾞ","ｶｰｼｪｱ","公共交通\n機関の利用","再配達防止","シェアエコ"]
[null,null,null,null,null,null,null,null,null,null,null,null,null,null,null,null,null,null,null,null,null,null,null,null,null,null,null,null,{"$f":"IF(COUNTIFS('11_PDCAチェックシート【実施期間中】個別事業'!$E$7:$E$17,'7_別紙1-2_実施報告書'!AC93,OFFSET('11_PDCAチェックシート【実施期間中】個別事業'!$F$7,,MATCH('7_別紙1-2_実施報告書'!$C91,'11_PDCAチェックシート【実施期間中】個別事業'!$H$4:$V$4,0)+1,11,1),1),1,0)","v":0},{"$f":"IF(COUNTIFS('11_PDCAチェックシート【実施期間中】個別事業'!$E$7:$E$17,'7_別紙1-2_実施報告書'!AD93,OFFSET('11_PDCAチェックシート【実施期間中】個別事業'!$F$7,,MATCH('7_別紙1-2_実施報告書'!$C91,'11_PDCAチェックシート【実施期間中】個別事業'!$H$4:$V$4,0)+1,11,1),1),1,0)","v":0},false,{"$f":"IF(COUNTIFS('11_PDCAチェックシート【実施期間中】個別事業'!$E$7:$E$17,'7_別紙1-2_実施報告書'!AF93,OFFSET('11_PDCAチェックシート【実施期間中】個別事業'!$F$7,,MATCH('7_別紙1-2_実施報告書'!$C91,'11_PDCAチェックシート【実施期間中】個別事業'!$H$4:$V$4,0)+1,11,1),1),1,0)","v":0},{"$f":"IF(COUNTIFS('11_PDCAチェックシート【実施期間中】個別事業'!$E$7:$E$17,'7_別紙1-2_実施報告書'!AG93,OFFSET('11_PDCAチェックシート【実施期間中】個別事業'!$F$7,,MATCH('7_別紙1-2_実施報告書'!$C91,'11_PDCAチェックシート【実施期間中】個別事業'!$H$4:$V$4,0)+1,11,1),1),1,0)","v":0},{"$f":"IF(COUNTIFS('11_PDCAチェックシート【実施期間中】個別事業'!$E$7:$E$17,'7_別紙1-2_実施報告書'!AH93,OFFSET('11_PDCAチェックシート【実施期間中】個別事業'!$F$7,,MATCH('7_別紙1-2_実施報告書'!$C91,'11_PDCAチェックシート【実施期間中】個別事業'!$H$4:$V$4,0)+1,11,1),1),1,0)","v":0},{"$f":"IF(COUNTIFS('11_PDCAチェックシート【実施期間中】個別事業'!$E$7:$E$17,'7_別紙1-2_実施報告書'!AI93,OFFSET('11_PDCAチェックシート【実施期間中】個別事業'!$F$7,,MATCH('7_別紙1-2_実施報告書'!$C91,'11_PDCAチェックシート【実施期間中】個別事業'!$H$4:$V$4,0)+1,11,1),1),1,0)","v":0},false,{"$f":"IF(COUNTIFS('11_PDCAチェックシート【実施期間中】個別事業'!$E$7:$E$17,'7_別紙1-2_実施報告書'!AK93,OFFSET('11_PDCAチェックシート【実施期間中】個別事業'!$F$7,,MATCH('7_別紙1-2_実施報告書'!$C91,'11_PDCAチェックシート【実施期間中】個別事業'!$H$4:$V$4,0)+1,11,1),1),1,0)","v":0},{"$f":"IF(COUNTIFS('11_PDCAチェックシート【実施期間中】個別事業'!$E$7:$E$17,'7_別紙1-2_実施報告書'!AL93,OFFSET('11_PDCAチェックシート【実施期間中】個別事業'!$F$7,,MATCH('7_別紙1-2_実施報告書'!$C91,'11_PDCAチェックシート【実施期間中】個別事業'!$H$4:$V$4,0)+1,11,1),1),1,0)","v":0},{"$f":"IF(COUNTIFS('11_PDCAチェックシート【実施期間中】個別事業'!$E$7:$E$17,'7_別紙1-2_実施報告書'!AM93,OFFSET('11_PDCAチェックシート【実施期間中】個別事業'!$F$7,,MATCH('7_別紙1-2_実施報告書'!$C91,'11_PDCAチェックシート【実施期間中】個別事業'!$H$4:$V$4,0)+1,11,1),1),1,0)","v":0},{"$f":"COUNTIFS(AC95:AM95,\"TRUE\")","v":0}]
[null,null,"訴求手法",null,"※訴求手法については、該当する欄にチェックしてください。"]
[null,null,null,null,"a) 情報発信型（受動型）",null,null,null,null,null,null,"b) 情報発信型（能動型）",null,null,null,null,null,null,"c) 双方向体験交流型"]
[null,null,null,null,"ラジオ、新聞・広報紙等",null,null,null,null,null,null,"講演会・パネル展示等",null,null,null,null,null,null,"試乗・体験会、省ｴﾈ診断等",null,null,null,null,null,null,null,null,null,"a)","b)","c)"]
[null,null,null,null,null,null,null,null,null,null,null,null,null,null,null,null,null,null,null,null,null,null,null,null,null,null,null,null,false,false,false,null,null,null,null,null,null,null,null,{"$f":"COUNTIFS(AC99:AM99,\"TRUE\")","v":0}]
[null,null,"情報発信カテゴリー\n（プルダウン選択）",null,{"$f":"OFFSET('11_PDCAチェックシート【実施期間中】個別事業'!$A$6,'11_PDCAチェックシート【実施期間中】個別事業'!$A$21,MATCH($C91,'11_PDCAチェックシート【実施期間中】個別事業'!$H$4:$V$4,0)+6)","v":"-"},null,null,null,null,null,null,null,null,null,null,{"$f":"IF(OFFSET('11_PDCAチェックシート【実施期間中】個別事業'!$A$6,'11_PDCAチェックシート【実施期間中】個別事業'!$A$22,MATCH($C91,'11_PDCAチェックシート【実施期間中】個別事業'!$H$4:$V$4,0)+6)=\"\",\"\",OFFSET('11_PDCAチェックシート【実施期間中】個別事業'!$A$6,'11_PDCAチェックシート【実施期間中】個別事業'!$A$22,MATCH($C91,'11_PDCAチェックシート【実施期間中】個別事業'!$H$4:$V$4,0)+6))","v":""}]
[]
[null,null,"尺・放送回数",null,"※収録本数、放送回数を定量的に必ず記載のこと"]
[null,null,null,null,"①","尺",null,null,{"$f":"OFFSET('11_PDCAチェックシート【実施期間中】個別事業'!$A$6,'11_PDCAチェックシート【実施期間中】個別事業'!$A$23,MATCH($C91,'11_PDCAチェックシート【実施期間中】個別事業'!$H$4:$V$4,0)+6)","v":""},null,null,"（秒）",null,null,null,"※単位はプルダウン選択"]
[null,null,null,null,null,"収録本数",null,null,{"$f":"OFFSET('11_PDCAチェックシート【実施期間中】個別事業'!$A$6,'11_PDCAチェックシート【実施期間中】個別事業'!$A$24,MATCH($C91,'11_PDCAチェックシート【実施期間中】個別事業'!$H$4:$V$4,0)+6)","v":""},null,null,"（本）"]
[null,null,null,null,null,"放送回数",null,null,{"$f":"OFFSET('11_PDCAチェックシート【実施期間中】個別事業'!$A$6,'11_PDCAチェックシート【実施期間中】個別事業'!$A$25,MATCH($C91,'11_PDCAチェックシート【実施期間中】個別事業'!$H$4:$V$4,0)+6)","v":""},null,null,"（回）",null,null,null,"※再放送を含む"]
[null,null,null,null,null,"備考",null,null,{"$f":"OFFSET('11_PDCAチェックシート【実施期間中】個別事業'!$A$6,'11_PDCAチェックシート【実施期間中】個別事業'!$A$26,MATCH($C91,'11_PDCAチェックシート【実施期間中】個別事業'!$H$4:$V$4,0)+6)","v":""},null,null,{"$f":"OFFSET('11_PDCAチェックシート【実施期間中】個別事業'!$A$6,'11_PDCAチェックシート【実施期間中】個別事業'!#REF!,MATCH($C94,'11_PDCAチェックシート【実施期間中】個別事業'!$H$4:$V$4,0)+6)","v":{"$error":"#REF!"}},null,null,{"$f":"OFFSET('11_PDCAチェックシート【実施期間中】個別事業'!$A$6,'11_PDCAチェックシート【実施期間中】個別事業'!#REF!,MATCH($C94,'11_PDCAチェックシート【実施期間中】個別事業'!$H$4:$V$4,0)+6)","v":{"$error":"#REF!"}},null,null,{"$f":"OFFSET('11_PDCAチェックシート【実施期間中】個別事業'!$A$6,'11_PDCAチェックシート【実施期間中】個別事業'!#REF!,MATCH($C94,'11_PDCAチェックシート【実施期間中】個別事業'!$H$4:$V$4,0)+6)","v":{"$error":"#REF!"}},null,null,{"$f":"OFFSET('11_PDCAチェックシート【実施期間中】個別事業'!$A$6,'11_PDCAチェックシート【実施期間中】個別事業'!#REF!,MATCH($C94,'11_PDCAチェックシート【実施期間中】個別事業'!$H$4:$V$4,0)+6)","v":{"$error":"#REF!"}},null,null,{"$f":"OFFSET('11_PDCAチェックシート【実施期間中】個別事業'!$A$6,'11_PDCAチェックシート【実施期間中】個別事業'!#REF!,MATCH($C94,'11_PDCAチェックシート【実施期間中】個別事業'!$H$4:$V$4,0)+6)","v":{"$error":"#REF!"}}]
[null,null,null,null,"②","尺",null,null,{"$f":"OFFSET('11_PDCAチェックシート【実施期間中】個別事業'!$A$6,'11_PDCAチェックシート【実施期間中】個別事業'!$A$27,MATCH($C91,'11_PDCAチェックシート【実施期間中】個別事業'!$H$4:$V$4,0)+6)","v":""},null,null,"（秒）",null,null,null,"※単位はプルダウン選択"]
[null,null,null,null,null,"収録本数",null,null,{"$f":"OFFSET('11_PDCAチェックシート【実施期間中】個別事業'!$A$6,'11_PDCAチェックシート【実施期間中】個別事業'!$A$28,MATCH($C91,'11_PDCAチェックシート【実施期間中】個別事業'!$H$4:$V$4,0)+6)","v":""},null,null,"（本）"]
[null,null,null,null,null,"放送回数",null,null,{"$f":"OFFSET('11_PDCAチェックシート【実施期間中】個別事業'!$A$6,'11_PDCAチェックシート【実施期間中】個別事業'!$A$29,MATCH($C91,'11_PDCAチェックシート【実施期間中】個別事業'!$H$4:$V$4,0)+6)","v":""},null,null,"（回）",null,null,null,"※再放送を含む"]
[null,null,null,null,null,"備考",null,null,{"$f":"OFFSET('11_PDCAチェックシート【実施期間中】個別事業'!$A$6,'11_PDCAチェックシート【実施期間中】個別事業'!$A$30,MATCH($C91,'11_PDCAチェックシート【実施期間中】個別事業'!$H$4:$V$4,0)+6)","v":""},null,null,{"$f":"OFFSET('11_PDCAチェックシート【実施期間中】個別事業'!$A$6,'11_PDCAチェックシート【実施期間中】個別事業'!#REF!,MATCH($C98,'11_PDCAチェックシート【実施期間中】個別事業'!$H$4:$V$4,0)+6)","v":{"$error":"#REF!"}},null,null,{"$f":"OFFSET('11_PDCAチェックシート【実施期間中】個別事業'!$A$6,'11_PDCAチェックシート【実施期間中】個別事業'!#REF!,MATCH($C98,'11_PDCAチェックシート【実施期間中】個別事業'!$H$4:$V$4,0)+6)","v":{"$error":"#REF!"}},null,null,{"$f":"OFFSET('11_PDCAチェックシート【実施期間中】個別事業'!$A$6,'11_PDCAチェックシート【実施期間中】個別事業'!#REF!,MATCH($C98,'11_PDCAチェックシート【実施期間中】個別事業'!$H$4:$V$4,0)+6)","v":{"$error":"#REF!"}},null,null,{"$f":"OFFSET('11_PDCAチェックシート【実施期間中】個別事業'!$A$6,'11_PDCAチェックシート【実施期間中】個別事業'!#REF!,MATCH($C98,'11_PDCAチェックシート【実施期間中】個別事業'!$H$4:$V$4,0)+6)","v":{"$error":"#REF!"}},null,null,{"$f":"OFFSET('11_PDCAチェックシート【実施期間中】個別事業'!$A$6,'11_PDCAチェックシート【実施期間中】個別事業'!#REF!,MATCH($C98,'11_PDCAチェックシート【実施期間中】個別事業'!$H$4:$V$4,0)+6)","v":{"$error":"#REF!"}}]
[null,null,"実施期間",null,{"$f":"OFFSET('11_PDCAチェックシート【実施期間中】個別事業'!$A$6,'11_PDCAチェックシート【実施期間中】個別事業'!$A$31,MATCH($C91,'11_PDCAチェックシート【実施期間中】個別事業'!$H$4:$V$4,0)+6)","v":""},null,null,null,null,null,null,null,null,"～",null,null,null,{"$f":"OFFSET('11_PDCAチェックシート【実施期間中】個別事業'!$A$6,'11_PDCAチェックシート【実施期間中】個別事業'!$A$33,MATCH($C91,'11_PDCAチェックシート【実施期間中】個別事業'!$H$4:$V$4,0)+6)","v":""}]
[null,null,"放送時間、その他備考",null,{"$f":"OFFSET('11_PDCAチェックシート【実施期間中】個別事業'!$A$6,'11_PDCAチェックシート【実施期間中】個別事業'!$A$34,MATCH($C91,'11_PDCAチェックシート【実施期間中】個別事業'!$H$4:$V$4,0)+6)","v":""}]
[null,null,"実施日\n（※同一事業内で、\n同一の内容・場所において\n複数日実施する場合）",null,1,null,{"$f":"OFFSET('11_PDCAチェックシート【実施期間中】個別事業'!$A$6,'11_PDCAチェックシート【実施期間中】個別事業'!$A$35,MATCH($C91,'11_PDCAチェックシート【実施期間中】個別事業'!$H$4:$V$4,0)+6)","v":""},null,null,null,null,null,null,null,null,11,null,{"$f":"OFFSET('11_PDCAチェックシート【実施期間中】個別事業'!$A$6,'11_PDCAチェックシート【実施期間中】個別事業'!$A$45,MATCH($C91,'11_PDCAチェックシート【実施期間中】個別事業'!$H$4:$V$4,0)+6)","v":""}]
[null,null,null,null,2,null,{"$f":"OFFSET('11_PDCAチェックシート【実施期間中】個別事業'!$A$6,'11_PDCAチェックシート【実施期間中】個別事業'!$A$36,MATCH($C91,'11_PDCAチェックシート【実施期間中】個別事業'!$H$4:$V$4,0)+6)","v":""},null,null,null,null,null,null,null,null,12,null,{"$f":"OFFSET('11_PDCAチェックシート【実施期間中】個別事業'!$A$6,'11_PDCAチェックシート【実施期間中】個別事業'!$A$46,MATCH($C91,'11_PDCAチェックシート【実施期間中】個別事業'!$H$4:$V$4,0)+6)","v":""}]
[null,null,null,null,3,null,{"$f":"OFFSET('11_PDCAチェックシート【実施期間中】個別事業'!$A$6,'11_PDCAチェックシート【実施期間中】個別事業'!$A$37,MATCH($C91,'11_PDCAチェックシート【実施期間中】個別事業'!$H$4:$V$4,0)+6)","v":""},null,null,null,null,null,null,null,null,13,null,{"$f":"OFFSET('11_PDCAチェックシート【実施期間中】個別事業'!$A$6,'11_PDCAチェックシート【実施期間中】個別事業'!$A$47,MATCH($C91,'11_PDCAチェックシート【実施期間中】個別事業'!$H$4:$V$4,0)+6)","v":""}]
[null,null,null,null,4,null,{"$f":"OFFSET('11_PDCAチェックシート【実施期間中】個別事業'!$A$6,'11_PDCAチェックシート【実施期間中】個別事業'!$A$38,MATCH($C91,'11_PDCAチェックシート【実施期間中】個別事業'!$H$4:$V$4,0)+6)","v":""},null,null,null,null,null,null,null,null,14,null,{"$f":"OFFSET('11_PDCAチェックシート【実施期間中】個別事業'!$A$6,'11_PDCAチェックシート【実施期間中】個別事業'!$A$48,MATCH($C91,'11_PDCAチェックシート【実施期間中】個別事業'!$H$4:$V$4,0)+6)","v":""}]
[null,null,null,null,5,null,{"$f":"OFFSET('11_PDCAチェックシート【実施期間中】個別事業'!$A$6,'11_PDCAチェックシート【実施期間中】個別事業'!$A$39,MATCH($C91,'11_PDCAチェックシート【実施期間中】個別事業'!$H$4:$V$4,0)+6)","v":""},null,null,null,null,null,null,null,null,15,null,{"$f":"OFFSET('11_PDCAチェックシート【実施期間中】個別事業'!$A$6,'11_PDCAチェックシート【実施期間中】個別事業'!$A$49,MATCH($C91,'11_PDCAチェックシート【実施期間中】個別事業'!$H$4:$V$4,0)+6)","v":""}]
[null,null,null,null,6,null,{"$f":"OFFSET('11_PDCAチェックシート【実施期間中】個別事業'!$A$6,'11_PDCAチェックシート【実施期間中】個別事業'!$A$40,MATCH($C91,'11_PDCAチェックシート【実施期間中】個別事業'!$H$4:$V$4,0)+6)","v":""},null,null,null,null,null,null,null,null,16,null,{"$f":"OFFSET('11_PDCAチェックシート【実施期間中】個別事業'!$A$6,'11_PDCAチェックシート【実施期間中】個別事業'!$A$50,MATCH($C91,'11_PDCAチェックシート【実施期間中】個別事業'!$H$4:$V$4,0)+6)","v":""}]
[null,null,null,null,7,null,{"$f":"OFFSET('11_PDCAチェックシート【実施期間中】個別事業'!$A$6,'11_PDCAチェックシート【実施期間中】個別事業'!$A$41,MATCH($C91,'11_PDCAチェックシート【実施期間中】個別事業'!$H$4:$V$4,0)+6)","v":""},null,null,null,null,null,null,null,null,17,null,{"$f":"OFFSET('11_PDCAチェックシート【実施期間中】個別事業'!$A$6,'11_PDCAチェックシート【実施期間中】個別事業'!$A$51,MATCH($C91,'11_PDCAチェックシート【実施期間中】個別事業'!$H$4:$V$4,0)+6)","v":""}]
[null,null,null,null,8,null,{"$f":"OFFSET('11_PDCAチェックシート【実施期間中】個別事業'!$A$6,'11_PDCAチェックシート【実施期間中】個別事業'!$A$42,MATCH($C91,'11_PDCAチェックシート【実施期間中】個別事業'!$H$4:$V$4,0)+6)","v":""},null,null,null,null,null,null,null,null,18,null,{"$f":"OFFSET('11_PDCAチェックシート【実施期間中】個別事業'!$A$6,'11_PDCAチェックシート【実施期間中】個別事業'!$A$52,MATCH($C91,'11_PDCAチェックシート【実施期間中】個別事業'!$H$4:$V$4,0)+6)","v":""}]
[null,null,null,null,9,null,{"$f":"OFFSET('11_PDCAチェックシート【実施期間中】個別事業'!$A$6,'11_PDCAチェックシート【実施期間中】個別事業'!$A$43,MATCH($C91,'11_PDCAチェックシート【実施期間中】個別事業'!$H$4:$V$4,0)+6)","v":""},null,null,null,null,null,null,null,null,19,null,{"$f":"OFFSET('11_PDCAチェックシート【実施期間中】個別事業'!$A$6,'11_PDCAチェックシート【実施期間中】個別事業'!$A$53,MATCH($C91,'11_PDCAチェックシート【実施期間中】個別事業'!$H$4:$V$4,0)+6)","v":""}]
[null,null,null,null,10,null,{"$f":"OFFSET('11_PDCAチェックシート【実施期間中】個別事業'!$A$6,'11_PDCAチェックシート【実施期間中】個別事業'!$A$44,MATCH($C91,'11_PDCAチェックシート【実施期間中】個別事業'!$H$4:$V$4,0)+6)","v":""},null,null,null,null,null,null,null,null,20,null,{"$f":"OFFSET('11_PDCAチェックシート【実施期間中】個別事業'!$A$6,'11_PDCAチェックシート【実施期間中】個別事業'!$A$54,MATCH($C91,'11_PDCAチェックシート【実施期間中】個別事業'!$H$4:$V$4,0)+6)","v":""}]
[null,null,"事業の概要",null,{"$f":"OFFSET('11_PDCAチェックシート【実施期間中】個別事業'!$A$6,'11_PDCAチェックシート【実施期間中】個別事業'!$A$55,MATCH($C91,'11_PDCAチェックシート【実施期間中】個別事業'!$H$4:$V$4,0)+6)","v":""}]
[null,null,"地域団体との連携\n※地方公共団体を含む",null,{"$f":"'2_別紙1-2_実施計画書'!E147","v":0}]
[null,null,"実施結果",null,{"$f":"OFFSET('11_PDCAチェックシート【実施期間中】個別事業'!$A$6,'11_PDCAチェックシート【実施期間中】個別事業'!$A$57,MATCH($C91,'11_PDCAチェックシート【実施期間中】個別事業'!$H$4:$V$4,0)+6)","v":0}]
[]
[null,null,"主な訴求対象","計画",{"$f":"OFFSET('11_PDCAチェックシート【実施期間中】個別事業'!$A$6,'11_PDCAチェックシート【実施期間中】個別事業'!$A$58,MATCH($C91,'11_PDCAチェックシート【実施期間中】個別事業'!$H$4:$V$4,0)+6)","v":""}]
[null,null,null,"結果",{"$f":"OFFSET('11_PDCAチェックシート【実施期間中】個別事業'!$A$6,'11_PDCAチェックシート【実施期間中】個別事業'!$A$59,MATCH($C91,'11_PDCAチェックシート【実施期間中】個別事業'!$H$4:$V$4,0)+6)","v":0}]
[null,null,"規模（リーチ数）\n（想定及び実績）",null,"カテゴリ①（プルダウン選択）⇒",null,null,null,null,null,null,null,null,null,null,{"$f":"OFFSET('11_PDCAチェックシート【実施期間中】個別事業'!$A$6,'11_PDCAチェックシート【実施期間中】個別事業'!$A$60,MATCH($C91,'11_PDCAチェックシート【実施期間中】個別事業'!$H$4:$V$4,0)+6)","v":"聴取人口（番組・CM単位であれば）"}]
[null,null,null,null,"計画値",null,null,null,"計",null,{"$f":"'2_別紙1-2_実施計画書'!K153","v":0}]
[null,null,null,null,"実績値",null,null,null,"計",null,{"$f":"OFFSET('11_PDCAチェックシート【実施期間中】個別事業'!$A$6,'11_PDCAチェックシート【実施期間中】個別事業'!$A$63,MATCH($C91,'11_PDCAチェックシート【実施期間中】個別事業'!$H$4:$V$4,0)+6)","v":0}]
[null,null,null,null,"算出根拠",null,null,null,{"$f":"OFFSET('11_PDCAチェックシート【実施期間中】個別事業'!$A$6,'11_PDCAチェックシート【実施期間中】個別事業'!$A$64,MATCH($C91,'11_PDCAチェックシート【実施期間中】個別事業'!$H$4:$V$4,0)+6)","v":""}]
[null,null,null,null,"カテゴリ②（プルダウン選択）⇒",null,null,null,null,null,null,null,null,null,null,{"$f":"OFFSET('11_PDCAチェックシート【実施期間中】個別事業'!$A$6,'11_PDCAチェックシート【実施期間中】個別事業'!$A$65,MATCH($C91,'11_PDCAチェックシート【実施期間中】個別事業'!$H$4:$V$4,0)+6)","v":""}]
[null,null,null,null,"計画値",null,null,null,"計",null,{"$f":"'2_別紙1-2_実施計画書'!K157","v":0}]
[null,null,null,null,"実績値",null,null,null,"計",null,{"$f":"OFFSET('11_PDCAチェックシート【実施期間中】個別事業'!$A$6,'11_PDCAチェックシート【実施期間中】個別事業'!$A$68,MATCH($C91,'11_PDCAチェックシート【実施期間中】個別事業'!$H$4:$V$4,0)+6)","v":0}]
[null,null,null,null,"算出根拠",null,null,null,{"$f":"OFFSET('11_PDCAチェックシート【実施期間中】個別事業'!$A$6,'11_PDCAチェックシート【実施期間中】個別事業'!$A$69,MATCH($C91,'11_PDCAチェックシート【実施期間中】個別事業'!$H$4:$V$4,0)+6)","v":""}]
[null,null,"COOL CHOICE 賛同数\n（想定及び実績）",null,"計画値",null,null,null,"団体",null,{"$f":"OFFSET('11_PDCAチェックシート【実施期間中】個別事業'!$A$6,'11_PDCAチェックシート【実施期間中】個別事業'!$A$71,MATCH($C91,'11_PDCAチェックシート【実施期間中】個別事業'!$H$4:$V$4,0)+6)","v":0},null,null,null,null,"、個人",null,{"$f":"OFFSET('11_PDCAチェックシート【実施期間中】個別事業'!$A$6,'11_PDCAチェックシート【実施期間中】個別事業'!$A$74,MATCH($C91,'11_PDCAチェックシート【実施期間中】個別事業'!$H$4:$V$4,0)+6)","v":0}]
[null,null,null,null,"実績値",null,null,null,"団体",null,{"$f":"OFFSET('11_PDCAチェックシート【実施期間中】個別事業'!$A$6,'11_PDCAチェックシート【実施期間中】個別事業'!$A$72,MATCH($C91,'11_PDCAチェックシート【実施期間中】個別事業'!$H$4:$V$4,0)+6)","v":0},null,null,null,null,"、個人",null,{"$f":"OFFSET('11_PDCAチェックシート【実施期間中】個別事業'!$A$6,'11_PDCAチェックシート【実施期間中】個別事業'!$A$75,MATCH($C91,'11_PDCAチェックシート【実施期間中】個別事業'!$H$4:$V$4,0)+6)","v":0}]
[null,null,"効果検証\n（アンケート）予定",null,"※アンケートの実施予定をプルダウンより選択してください。"]
[null,null,null,null,"公募要領に規定のアンケート",null,null,null,null,null,null,null,null,null,null,null,null,null,null,null,null,"貴事業者独自のアンケート"]
[null,null,null,null,"省エネ機器",null,null,null,"省エネ住宅",null,null,null,"エコドライブ",null,null,null,"低炭素物流（宅配便の再配達防止）"]
[null,null,null,null,{"$f":"OFFSET('11_PDCAチェックシート【実施期間中】個別事業'!$A$6,'11_PDCAチェックシート【実施期間中】個別事業'!$A$76,MATCH($C91,'11_PDCAチェックシート【実施期間中】個別事業'!$H$4:$V$4,0)+6)","v":"- 選択 -"},null,null,null,{"$f":"OFFSET('11_PDCAチェックシート【実施期間中】個別事業'!$A$6,'11_PDCAチェックシート【実施期間中】個別事業'!$A$77,MATCH($C91,'11_PDCAチェックシート【実施期間中】個別事業'!$H$4:$V$4,0)+6)","v":"- 選択 -"},null,null,null,{"$f":"OFFSET('11_PDCAチェックシート【実施期間中】個別事業'!$A$6,'11_PDCAチェックシート【実施期間中】個別事業'!$A$78,MATCH($C91,'11_PDCAチェックシート【実施期間中】個別事業'!$H$4:$V$4,0)+6)","v":"- 選択 -"},null,null,null,{"$f":"OFFSET('11_PDCAチェックシート【実施期間中】個別事業'!$A$6,'11_PDCAチェックシート【実施期間中】個別事業'!$A$79,MATCH($C91,'11_PDCAチェックシート【実施期間中】個別事業'!$H$4:$V$4,0)+6)","v":"- 選択 -"},null,null,null,null,{"$f":"OFFSET('11_PDCAチェックシート【実施期間中】個別事業'!$A$6,'11_PDCAチェックシート【実施期間中】個別事業'!$A$80,MATCH($C91,'11_PDCAチェックシート【実施期間中】個別事業'!$H$4:$V$4,0)+6)","v":"- 選択 -"}]
[null,null,null,null,"内容（",null,{"$f":"OFFSET('11_PDCAチェックシート【実施期間中】個別事業'!$A$6,'11_PDCAチェックシート【実施期間中】個別事業'!$A$81,MATCH($C91,'11_PDCAチェックシート【実施期間中】個別事業'!$H$4:$V$4,0)+6)","v":""},null,null,null,null,null,null,null,null,null,null,null,null,null,null,null,null,null,null,"）"]
[null,null,null,null,"目標回収数",null,null,null,"計",{"$f":"OFFSET('11_PDCAチェックシート【実施期間中】個別事業'!$A$6,'11_PDCAチェックシート【実施期間中】個別事業'!$A$83,MATCH($C91,'11_PDCAチェックシート【実施期間中】個別事業'!$H$4:$V$4,0)+6)","v":0},null,null,"枚",null,"※複数ある場合は、平均アンケート回収数"]
[null,null,null,null,"実績値",null,null,null,"計",{"$f":"OFFSET('11_PDCAチェックシート【実施期間中】個別事業'!$A$6,'11_PDCAチェックシート【実施期間中】個別事業'!$A$84,MATCH($C91,'11_PDCAチェックシート【実施期間中】個別事業'!$H$4:$V$4,0)+6)","v":0},null,null,"枚",null,"※複数ある場合は、平均アンケート回収数"]
[]
[null,null,"項目",null,"内容"]
[null,null,"事業3","事業名\n（番組・CM名）",{"$f":"OFFSET('11_PDCAチェックシート【実施期間中】個別事業'!$A$6,,MATCH(C148,'11_PDCAチェックシート【実施期間中】個別事業'!$H$4:$V$4,0)+6)","v":0}]
[null,null,"普及啓発テーマ",null,"※該当する普及啓発テーマすべてをチェックしてください。"]
[null,null,null,null,"①",null,"②",null,"③",null,"④",null,"⑤",null,"⑥",null,"⑦",null,"⑧",null,"⑨",null,"⑩",null,"⑪",null,null,null,"①","②","③","④","⑤","⑥","⑦","⑧","⑨","⑩","⑪"]
[null,null,null,null,"省ｴﾈ機器",null,"省ｴﾈ住宅",null,"ｴｺｶｰ",null,"ｸｰﾙﾋﾞｽﾞ",null,"ｳｫｰﾑﾋﾞｽﾞ",null,"照明の\n高効率利用",null,"ｴｺﾄﾞﾗｲﾌﾞ",null,"ｶｰｼｪｱ",null,"公共交通\n機関の利用",null,"再配達防止",null,"シェアエコ",null,null,null,"省ｴﾈ機器","省ｴﾈ住宅","ｴｺｶｰ","ｸｰﾙﾋﾞｽﾞ","ｳｫｰﾑﾋﾞｽﾞ","照明の\n高効率利用","ｴｺﾄﾞﾗｲﾌﾞ","ｶｰｼｪｱ","公共交通\n機関の利用","再配達防止","シェアエコ"]
[null,null,null,null,null,null,null,null,null,null,null,null,null,null,null,null,null,null,null,null,null,null,null,null,null,null,null,null,{"$f":"IF(COUNTIFS('11_PDCAチェックシート【実施期間中】個別事業'!$E$7:$E$17,'7_別紙1-2_実施報告書'!AC150,OFFSET('11_PDCAチェックシート【実施期間中】個別事業'!$F$7,,MATCH('7_別紙1-2_実施報告書'!$C148,'11_PDCAチェックシート【実施期間中】個別事業'!$H$4:$V$4,0)+1,11,1),1),1,0)","v":0},false,false,{"$f":"IF(COUNTIFS('11_PDCAチェックシート【実施期間中】個別事業'!$E$7:$E$17,'7_別紙1-2_実施報告書'!AF150,OFFSET('11_PDCAチェックシート【実施期間中】個別事業'!$F$7,,MATCH('7_別紙1-2_実施報告書'!$C148,'11_PDCAチェックシート【実施期間中】個別事業'!$H$4:$V$4,0)+1,11,1),1),1,0)","v":0},{"$f":"IF(COUNTIFS('11_PDCAチェックシート【実施期間中】個別事業'!$E$7:$E$17,'7_別紙1-2_実施報告書'!AG150,OFFSET('11_PDCAチェックシート【実施期間中】個別事業'!$F$7,,MATCH('7_別紙1-2_実施報告書'!$C148,'11_PDCAチェックシート【実施期間中】個別事業'!$H$4:$V$4,0)+1,11,1),1),1,0)","v":0},{"$f":"IF(COUNTIFS('11_PDCAチェックシート【実施期間中】個別事業'!$E$7:$E$17,'7_別紙1-2_実施報告書'!AH150,OFFSET('11_PDCAチェックシート【実施期間中】個別事業'!$F$7,,MATCH('7_別紙1-2_実施報告書'!$C148,'11_PDCAチェックシート【実施期間中】個別事業'!$H$4:$V$4,0)+1,11,1),1),1,0)","v":0},{"$f":"IF(COUNTIFS('11_PDCAチェックシート【実施期間中】個別事業'!$E$7:$E$17,'7_別紙1-2_実施報告書'!AI150,OFFSET('11_PDCAチェックシート【実施期間中】個別事業'!$F$7,,MATCH('7_別紙1-2_実施報告書'!$C148,'11_PDCAチェックシート【実施期間中】個別事業'!$H$4:$V$4,0)+1,11,1),1),1,0)","v":0},{"$f":"IF(COUNTIFS('11_PDCAチェックシート【実施期間中】個別事業'!$E$7:$E$17,'7_別紙1-2_実施報告書'!AJ150,OFFSET('11_PDCAチェックシート【実施期間中】個別事業'!$F$7,,MATCH('7_別紙1-2_実施報告書'!$C148,'11_PDCAチェックシート【実施期間中】個別事業'!$H$4:$V$4,0)+1,11,1),1),1,0)","v":0},{"$f":"IF(COUNTIFS('11_PDCAチェックシート【実施期間中】個別事業'!$E$7:$E$17,'7_別紙1-2_実施報告書'!AK150,OFFSET('11_PDCAチェックシート【実施期間中】個別事業'!$F$7,,MATCH('7_別紙1-2_実施報告書'!$C148,'11_PDCAチェックシート【実施期間中】個別事業'!$H$4:$V$4,0)+1,11,1),1),1,0)","v":0},{"$f":"IF(COUNTIFS('11_PDCAチェックシート【実施期間中】個別事業'!$E$7:$E$17,'7_別紙1-2_実施報告書'!AL150,OFFSET('11_PDCAチェックシート【実施期間中】個別事業'!$F$7,,MATCH('7_別紙1-2_実施報告書'!$C148,'11_PDCAチェックシート【実施期間中】個別事業'!$H$4:$V$4,0)+1,11,1),1),1,0)","v":0},{"$f":"IF(COUNTIFS('11_PDCAチェックシート【実施期間中】個別事業'!$E$7:$E$17,'7_別紙1-2_実施報告書'!AM150,OFFSET('11_PDCAチェックシート【実施期間中】個別事業'!$F$7,,MATCH('7_別紙1-2_実施報告書'!$C148,'11_PDCAチェックシート【実施期間中】個別事業'!$H$4:$V$4,0)+1,11,1),1),1,0)","v":0},{"$f":"COUNTIFS(AC152:AM152,\"TRUE\")","v":0}]
[null,null,"訴求手法",null,"※訴求手法については、該当する欄にチェックしてください。"]
[null,null,null,null,"a) 情報発信型（受動型）",null,null,null,null,null,null,"b) 情報発信型（能動型）",null,null,null,null,null,null,"c) 双方向体験交流型"]
[null,null,null,null,"ラジオ、新聞・広報紙等",null,null,null,null,null,null,"講演会・パネル展示等",null,null,null,null,null,null,"試乗・体験会、省ｴﾈ診断等",null,null,null,null,null,null,null,null,null,"a)","b)","c)"]
[null,null,null,null,null,null,null,null,null,null,null,null,null,null,null,null,null,null,null,null,null,null,null,null,null,null,null,null,false,false,false,null,null,null,null,null,null,null,null,{"$f":"COUNTIFS(AC156:AM156,\"TRUE\")","v":0}]
[null,null,"情報発信カテゴリー\n（プルダウン選択）",null,{"$f":"OFFSET('11_PDCAチェックシート【実施期間中】個別事業'!$A$6,'11_PDCAチェックシート【実施期間中】個別事業'!$A$21,MATCH($C148,'11_PDCAチェックシート【実施期間中】個別事業'!$H$4:$V$4,0)+6)","v":"-"},null,null,null,null,null,null,null,null,null,null,{"$f":"IF(OFFSET('11_PDCAチェックシート【実施期間中】個別事業'!$A$6,'11_PDCAチェックシート【実施期間中】個別事業'!$A$22,MATCH($C148,'11_PDCAチェックシート【実施期間中】個別事業'!$H$4:$V$4,0)+6)=\"\",\"\",OFFSET('11_PDCAチェックシート【実施期間中】個別事業'!$A$6,'11_PDCAチェックシート【実施期間中】個別事業'!$A$22,MATCH($C148,'11_PDCAチェックシート【実施期間中】個別事業'!$H$4:$V$4,0)+6))","v":""}]
[]
[null,null,"尺・放送回数",null,"※収録本数、放送回数を定量的に必ず記載のこと"]
[null,null,null,null,"①","尺",null,null,{"$f":"OFFSET('11_PDCAチェックシート【実施期間中】個別事業'!$A$6,'11_PDCAチェックシート【実施期間中】個別事業'!$A$23,MATCH($C148,'11_PDCAチェックシート【実施期間中】個別事業'!$H$4:$V$4,0)+6)","v":""},null,null,"（秒）",null,null,null,"※単位はプルダウン選択"]
[null,null,null,null,null,"収録本数",null,null,{"$f":"OFFSET('11_PDCAチェックシート【実施期間中】個別事業'!$A$6,'11_PDCAチェックシート【実施期間中】個別事業'!$A$24,MATCH($C148,'11_PDCAチェックシート【実施期間中】個別事業'!$H$4:$V$4,0)+6)","v":""},null,null,"（本）"]
[null,null,null,null,null,"放送回数",null,null,{"$f":"OFFSET('11_PDCAチェックシート【実施期間中】個別事業'!$A$6,'11_PDCAチェックシート【実施期間中】個別事業'!$A$25,MATCH($C148,'11_PDCAチェックシート【実施期間中】個別事業'!$H$4:$V$4,0)+6)","v":""},null,null,"（回）",null,null,null,"※再放送を含む"]
[null,null,null,null,null,"備考",null,null,{"$f":"OFFSET('11_PDCAチェックシート【実施期間中】個別事業'!$A$6,'11_PDCAチェックシート【実施期間中】個別事業'!$A$26,MATCH($C148,'11_PDCAチェックシート【実施期間中】個別事業'!$H$4:$V$4,0)+6)","v":""},null,null,{"$f":"OFFSET('11_PDCAチェックシート【実施期間中】個別事業'!$A$6,'11_PDCAチェックシート【実施期間中】個別事業'!#REF!,MATCH($C151,'11_PDCAチェックシート【実施期間中】個別事業'!$H$4:$V$4,0)+6)","v":{"$error":"#REF!"}},null,null,{"$f":"OFFSET('11_PDCAチェックシート【実施期間中】個別事業'!$A$6,'11_PDCAチェックシート【実施期間中】個別事業'!#REF!,MATCH($C151,'11_PDCAチェックシート【実施期間中】個別事業'!$H$4:$V$4,0)+6)","v":{"$error":"#REF!"}},null,null,{"$f":"OFFSET('11_PDCAチェックシート【実施期間中】個別事業'!$A$6,'11_PDCAチェックシート【実施期間中】個別事業'!#REF!,MATCH($C151,'11_PDCAチェックシート【実施期間中】個別事業'!$H$4:$V$4,0)+6)","v":{"$error":"#REF!"}},null,null,{"$f":"OFFSET('11_PDCAチェックシート【実施期間中】個別事業'!$A$6,'11_PDCAチェックシート【実施期間中】個別事業'!#REF!,MATCH($C151,'11_PDCAチェックシート【実施期間中】個別事業'!$H$4:$V$4,0)+6)","v":{"$error":"#REF!"}},null,null,{"$f":"OFFSET('11_PDCAチェックシート【実施期間中】個別事業'!$A$6,'11_PDCAチェックシート【実施期間中】個別事業'!#REF!,MATCH($C151,'11_PDCAチェックシート【実施期間中】個別事業'!$H$4:$V$4,0)+6)","v":{"$error":"#REF!"}}]
[null,null,null,null,"②","尺",null,null,{"$f":"OFFSET('11_PDCAチェックシート【実施期間中】個別事業'!$A$6,'11_PDCAチェックシート【実施期間中】個別事業'!$A$27,MATCH($C148,'11_PDCAチェックシート【実施期間中】個別事業'!$H$4:$V$4,0)+6)","v":""},null,null,"（秒）",null,null,null,"※単位はプルダウン選択"]
[null,null,null,null,null,"収録本数",null,null,{"$f":"OFFSET('11_PDCAチェックシート【実施期間中】個別事業'!$A$6,'11_PDCAチェックシート【実施期間中】個別事業'!$A$28,MATCH($C148,'11_PDCAチェックシート【実施期間中】個別事業'!$H$4:$V$4,0)+6)","v":""},null,null,"（本）"]
[null,null,null,null,null,"放送回数",null,null,{"$f":"OFFSET('11_PDCAチェックシート【実施期間中】個別事業'!$A$6,'11_PDCAチェックシート【実施期間中】個別事業'!$A$29,MATCH($C148,'11_PDCAチェックシート【実施期間中】個別事業'!$H$4:$V$4,0)+6)","v":""},null,null,"（回）",null,null,null,"※再放送を含む"]
[null,null,null,null,null,"備考",null,null,{"$f":"OFFSET('11_PDCAチェックシート【実施期間中】個別事業'!$A$6,'11_PDCAチェックシート【実施期間中】個別事業'!$A$30,MATCH($C148,'11_PDCAチェックシート【実施期間中】個別事業'!$H$4:$V$4,0)+6)","v":""},null,null,{"$f":"OFFSET('11_PDCAチェックシート【実施期間中】個別事業'!$A$6,'11_PDCAチェックシート【実施期間中】個別事業'!#REF!,MATCH($C155,'11_PDCAチェックシート【実施期間中】個別事業'!$H$4:$V$4,0)+6)","v":{"$error":"#REF!"}},null,null,{"$f":"OFFSET('11_PDCAチェックシート【実施期間中】個別事業'!$A$6,'11_PDCAチェックシート【実施期間中】個別事業'!#REF!,MATCH($C155,'11_PDCAチェックシート【実施期間中】個別事業'!$H$4:$V$4,0)+6)","v":{"$error":"#REF!"}},null,null,{"$f":"OFFSET('11_PDCAチェックシート【実施期間中】個別事業'!$A$6,'11_PDCAチェックシート【実施期間中】個別事業'!#REF!,MATCH($C155,'11_PDCAチェックシート【実施期間中】個別事業'!$H$4:$V$4,0)+6)","v":{"$error":"#REF!"}},null,null,{"$f":"OFFSET('11_PDCAチェックシート【実施期間中】個別事業'!$A$6,'11_PDCAチェックシート【実施期間中】個別事業'!#REF!,MATCH($C155,'11_PDCAチェックシート【実施期間中】個別事業'!$H$4:$V$4,0)+6)","v":{"$error":"#REF!"}},null,null,{"$f":"OFFSET('11_PDCAチェックシート【実施期間中】個別事業'!$A$6,'11_PDCAチェックシート【実施期間中】個別事業'!#REF!,MATCH($C155,'11_PDCAチェックシート【実施期間中】個別事業'!$H$4:$V$4,0)+6)","v":{"$error":"#REF!"}}]
[null,null,"実施期間",null,{"$f":"OFFSET('11_PDCAチェックシート【実施期間中】個別事業'!$A$6,'11_PDCAチェックシート【実施期間中】個別事業'!$A$31,MATCH($C148,'11_PDCAチェックシート【実施期間中】個別事業'!$H$4:$V$4,0)+6)","v":""},null,null,null,null,null,null,null,null,"～",null,null,null,{"$f":"OFFSET('11_PDCAチェックシート【実施期間中】個別事業'!$A$6,'11_PDCAチェックシート【実施期間中】個別事業'!$A$33,MATCH($C148,'11_PDCAチェックシート【実施期間中】個別事業'!$H$4:$V$4,0)+6)","v":""}]
[null,null,"放送時間、その他備考",null,{"$f":"OFFSET('11_PDCAチェックシート【実施期間中】個別事業'!$A$6,'11_PDCAチェックシート【実施期間中】個別事業'!$A$34,MATCH($C148,'11_PDCAチェックシート【実施期間中】個別事業'!$H$4:$V$4,0)+6)","v":""}]
[null,null,"実施日\n（※同一事業内で、\n同一の内容・場所において\n複数日実施する場合）",null,1,null,{"$f":"OFFSET('11_PDCAチェックシート【実施期間中】個別事業'!$A$6,'11_PDCAチェックシート【実施期間中】個別事業'!$A$35,MATCH($C148,'11_PDCAチェックシート【実施期間中】個別事業'!$H$4:$V$4,0)+6)","v":""},null,null,null,null,null,null,null,null,11,null,{"$f":"OFFSET('11_PDCAチェックシート【実施期間中】個別事業'!$A$6,'11_PDCAチェックシート【実施期間中】個別事業'!$A$45,MATCH($C148,'11_PDCAチェックシート【実施期間中】個別事業'!$H$4:$V$4,0)+6)","v":""}]
[null,null,null,null,2,null,{"$f":"OFFSET('11_PDCAチェックシート【実施期間中】個別事業'!$A$6,'11_PDCAチェックシート【実施期間中】個別事業'!$A$36,MATCH($C148,'11_PDCAチェックシート【実施期間中】個別事業'!$H$4:$V$4,0)+6)","v":""},null,null,null,null,null,null,null,null,12,null,{"$f":"OFFSET('11_PDCAチェックシート【実施期間中】個別事業'!$A$6,'11_PDCAチェックシート【実施期間中】個別事業'!$A$46,MATCH($C148,'11_PDCAチェックシート【実施期間中】個別事業'!$H$4:$V$4,0)+6)","v":""}]
[null,null,null,null,3,null,{"$f":"OFFSET('11_PDCAチェックシート【実施期間中】個別事業'!$A$6,'11_PDCAチェックシート【実施期間中】個別事業'!$A$37,MATCH($C148,'11_PDCAチェックシート【実施期間中】個別事業'!$H$4:$V$4,0)+6)","v":""},null,null,null,null,null,null,null,null,13,null,{"$f":"OFFSET('11_PDCAチェックシート【実施期間中】個別事業'!$A$6,'11_PDCAチェックシート【実施期間中】個別事業'!$A$47,MATCH($C148,'11_PDCAチェックシート【実施期間中】個別事業'!$H$4:$V$4,0)+6)","v":""}]
[null,null,null,null,4,null,{"$f":"OFFSET('11_PDCAチェックシート【実施期間中】個別事業'!$A$6,'11_PDCAチェックシート【実施期間中】個別事業'!$A$38,MATCH($C148,'11_PDCAチェックシート【実施期間中】個別事業'!$H$4:$V$4,0)+6)","v":""},null,null,null,null,null,null,null,null,14,null,{"$f":"OFFSET('11_PDCAチェックシート【実施期間中】個別事業'!$A$6,'11_PDCAチェックシート【実施期間中】個別事業'!$A$48,MATCH($C148,'11_PDCAチェックシート【実施期間中】個別事業'!$H$4:$V$4,0)+6)","v":""}]
[null,null,null,null,5,null,{"$f":"OFFSET('11_PDCAチェックシート【実施期間中】個別事業'!$A$6,'11_PDCAチェックシート【実施期間中】個別事業'!$A$39,MATCH($C148,'11_PDCAチェックシート【実施期間中】個別事業'!$H$4:$V$4,0)+6)","v":""},null,null,null,null,null,null,null,null,15,null,{"$f":"OFFSET('11_PDCAチェックシート【実施期間中】個別事業'!$A$6,'11_PDCAチェックシート【実施期間中】個別事業'!$A$49,MATCH($C148,'11_PDCAチェックシート【実施期間中】個別事業'!$H$4:$V$4,0)+6)","v":""}]
[null,null,null,null,6,null,{"$f":"OFFSET('11_PDCAチェックシート【実施期間中】個別事業'!$A$6,'11_PDCAチェックシート【実施期間中】個別事業'!$A$40,MATCH($C148,'11_PDCAチェックシート【実施期間中】個別事業'!$H$4:$V$4,0)+6)","v":""},null,null,null,null,null,null,null,null,16,null,{"$f":"OFFSET('11_PDCAチェックシート【実施期間中】個別事業'!$A$6,'11_PDCAチェックシート【実施期間中】個別事業'!$A$50,MATCH($C148,'11_PDCAチェックシート【実施期間中】個別事業'!$H$4:$V$4,0)+6)","v":""}]
[null,null,null,null,7,null,{"$f":"OFFSET('11_PDCAチェックシート【実施期間中】個別事業'!$A$6,'11_PDCAチェックシート【実施期間中】個別事業'!$A$41,MATCH($C148,'11_PDCAチェックシート【実施期間中】個別事業'!$H$4:$V$4,0)+6)","v":""},null,null,null,null,null,null,null,null,17,null,{"$f":"OFFSET('11_PDCAチェックシート【実施期間中】個別事業'!$A$6,'11_PDCAチェックシート【実施期間中】個別事業'!$A$51,MATCH($C148,'11_PDCAチェックシート【実施期間中】個別事業'!$H$4:$V$4,0)+6)","v":""}]
[null,null,null,null,8,null,{"$f":"OFFSET('11_PDCAチェックシート【実施期間中】個別事業'!$A$6,'11_PDCAチェックシート【実施期間中】個別事業'!$A$42,MATCH($C148,'11_PDCAチェックシート【実施期間中】個別事業'!$H$4:$V$4,0)+6)","v":""},null,null,null,null,null,null,null,null,18,null,{"$f":"OFFSET('11_PDCAチェックシート【実施期間中】個別事業'!$A$6,'11_PDCAチェックシート【実施期間中】個別事業'!$A$52,MATCH($C148,'11_PDCAチェックシート【実施期間中】個別事業'!$H$4:$V$4,0)+6)","v":""}]
[null,null,null,null,9,null,{"$f":"OFFSET('11_PDCAチェックシート【実施期間中】個別事業'!$A$6,'11_PDCAチェックシート【実施期間中】個別事業'!$A$43,MATCH($C148,'11_PDCAチェックシート【実施期間中】個別事業'!$H$4:$V$4,0)+6)","v":""},null,null,null,null,null,null,null,null,19,null,{"$f":"OFFSET('11_PDCAチェックシート【実施期間中】個別事業'!$A$6,'11_PDCAチェックシート【実施期間中】個別事業'!$A$53,MATCH($C148,'11_PDCAチェックシート【実施期間中】個別事業'!$H$4:$V$4,0)+6)","v":""}]
[null,null,null,null,10,null,{"$f":"OFFSET('11_PDCAチェックシート【実施期間中】個別事業'!$A$6,'11_PDCAチェックシート【実施期間中】個別事業'!$A$44,MATCH($C148,'11_PDCAチェックシート【実施期間中】個別事業'!$H$4:$V$4,0)+6)","v":""},null,null,null,null,null,null,null,null,20,null,{"$f":"OFFSET('11_PDCAチェックシート【実施期間中】個別事業'!$A$6,'11_PDCAチェックシート【実施期間中】個別事業'!$A$54,MATCH($C148,'11_PDCAチェックシート【実施期間中】個別事業'!$H$4:$V$4,0)+6)","v":""}]
[null,null,"事業の概要",null,{"$f":"OFFSET('11_PDCAチェックシート【実施期間中】個別事業'!$A$6,'11_PDCAチェックシート【実施期間中】個別事業'!$A$55,MATCH($C148,'11_PDCAチェックシート【実施期間中】個別事業'!$H$4:$V$4,0)+6)","v":""}]
[null,null,"地域団体との連携\n※地方公共団体を含む",null,{"$f":"'2_別紙1-2_実施計画書'!E203","v":0}]
[null,null,"実施結果",null,{"$f":"OFFSET('11_PDCAチェックシート【実施期間中】個別事業'!$A$6,'11_PDCAチェックシート【実施期間中】個別事業'!$A$57,MATCH($C148,'11_PDCAチェックシート【実施期間中】個別事業'!$H$4:$V$4,0)+6)","v":0}]
[]
[null,null,"主な訴求対象","計画",{"$f":"OFFSET('11_PDCAチェックシート【実施期間中】個別事業'!$A$6,'11_PDCAチェックシート【実施期間中】個別事業'!$A$58,MATCH($C148,'11_PDCAチェックシート【実施期間中】個別事業'!$H$4:$V$4,0)+6)","v":""}]
[null,null,null,"結果",{"$f":"OFFSET('11_PDCAチェックシート【実施期間中】個別事業'!$A$6,'11_PDCAチェックシート【実施期間中】個別事業'!$A$59,MATCH($C148,'11_PDCAチェックシート【実施期間中】個別事業'!$H$4:$V$4,0)+6)","v":0}]
[null,null,"規模（リーチ数）\n（想定及び実績）",null,"カテゴリ①（プルダウン選択）⇒",null,null,null,null,null,null,null,null,null,null,{"$f":"OFFSET('11_PDCAチェックシート【実施期間中】個別事業'!$A$6,'11_PDCAチェックシート【実施期間中】個別事業'!$A$60,MATCH($C148,'11_PDCAチェックシート【実施期間中】個別事業'!$H$4:$V$4,0)+6)","v":"聴取人口（番組・CM単位であれば）"}]
[null,null,null,null,"計画値",null,null,null,"計",null,{"$f":"'2_別紙1-2_実施計画書'!K209","v":0}]
[null,null,null,null,"実績値",null,null,null,"計",null,{"$f":"OFFSET('11_PDCAチェックシート【実施期間中】個別事業'!$A$6,'11_PDCAチェックシート【実施期間中】個別事業'!$A$63,MATCH($C148,'11_PDCAチェックシート【実施期間中】個別事業'!$H$4:$V$4,0)+6)","v":0}]
[null,null,null,null,"算出根拠",null,null,null,{"$f":"OFFSET('11_PDCAチェックシート【実施期間中】個別事業'!$A$6,'11_PDCAチェックシート【実施期間中】個別事業'!$A$64,MATCH($C148,'11_PDCAチェックシート【実施期間中】個別事業'!$H$4:$V$4,0)+6)","v":""}]
[null,null,null,null,"カテゴリ②（プルダウン選択）⇒",null,null,null,null,null,null,null,null,null,null,{"$f":"OFFSET('11_PDCAチェックシート【実施期間中】個別事業'!$A$6,'11_PDCAチェックシート【実施期間中】個別事業'!$A$65,MATCH($C148,'11_PDCAチェックシート【実施期間中】個別事業'!$H$4:$V$4,0)+6)","v":""}]
[null,null,null,null,"計画値",null,null,null,"計",null,{"$f":"'2_別紙1-2_実施計画書'!K213","v":0}]
[null,null,null,null,"実績値",null,null,null,"計",null,{"$f":"OFFSET('11_PDCAチェックシート【実施期間中】個別事業'!$A$6,'11_PDCAチェックシート【実施期間中】個別事業'!$A$68,MATCH($C148,'11_PDCAチェックシート【実施期間中】個別事業'!$H$4:$V$4,0)+6)","v":0}]
[null,null,null,null,"算出根拠",null,null,null,{"$f":"OFFSET('11_PDCAチェックシート【実施期間中】個別事業'!$A$6,'11_PDCAチェックシート【実施期間中】個別事業'!$A$69,MATCH($C148,'11_PDCAチェックシート【実施期間中】個別事業'!$H$4:$V$4,0)+6)","v":""}]
[null,null,"COOL CHOICE 賛同数\n（想定及び実績）",null,"計画値",null,null,null,"団体",null,{"$f":"OFFSET('11_PDCAチェックシート【実施期間中】個別事業'!$A$6,'11_PDCAチェックシート【実施期間中】個別事業'!$A$71,MATCH($C148,'11_PDCAチェックシート【実施期間中】個別事業'!$H$4:$V$4,0)+6)","v":0},null,null,null,null,"、個人",null,{"$f":"OFFSET('11_PDCAチェックシート【実施期間中】個別事業'!$A$6,'11_PDCAチェックシート【実施期間中】個別事業'!$A$74,MATCH($C148,'11_PDCAチェックシート【実施期間中】個別事業'!$H$4:$V$4,0)+6)","v":0}]
[null,null,null,null,"実績値",null,null,null,"団体",null,{"$f":"OFFSET('11_PDCAチェックシート【実施期間中】個別事業'!$A$6,'11_PDCAチェックシート【実施期間中】個別事業'!$A$72,MATCH($C148,'11_PDCAチェックシート【実施期間中】個別事業'!$H$4:$V$4,0)+6)","v":0},null,null,null,null,"、個人",null,{"$f":"OFFSET('11_PDCAチェックシート【実施期間中】個別事業'!$A$6,'11_PDCAチェックシート【実施期間中】個別事業'!$A$75,MATCH($C148,'11_PDCAチェックシート【実施期間中】個別事業'!$H$4:$V$4,0)+6)","v":0}]
[null,null,"効果検証\n（アンケート）予定",null,"※アンケートの実施予定をプルダウンより選択してください。"]
[null,null,null,null,"公募要領に規定のアンケート",null,null,null,null,null,null,null,null,null,null,null,null,null,null,null,null,"貴事業者独自のアンケート"]
[null,null,null,null,"省エネ機器",null,null,null,"省エネ住宅",null,null,null,"エコドライブ",null,null,null,"低炭素物流（宅配便の再配達防止）"]
[null,null,null,null,{"$f":"OFFSET('11_PDCAチェックシート【実施期間中】個別事業'!$A$6,'11_PDCAチェックシート【実施期間中】個別事業'!$A$76,MATCH($C148,'11_PDCAチェックシート【実施期間中】個別事業'!$H$4:$V$4,0)+6)","v":"- 選択 -"},null,null,null,{"$f":"OFFSET('11_PDCAチェックシート【実施期間中】個別事業'!$A$6,'11_PDCAチェックシート【実施期間中】個別事業'!$A$77,MATCH($C148,'11_PDCAチェックシート【実施期間中】個別事業'!$H$4:$V$4,0)+6)","v":"- 選択 -"},null,null,null,{"$f":"OFFSET('11_PDCAチェックシート【実施期間中】個別事業'!$A$6,'11_PDCAチェックシート【実施期間中】個別事業'!$A$78,MATCH($C148,'11_PDCAチェックシート【実施期間中】個別事業'!$H$4:$V$4,0)+6)","v":"- 選択 -"},null,null,null,{"$f":"OFFSET('11_PDCAチェックシート【実施期間中】個別事業'!$A$6,'11_PDCAチェックシート【実施期間中】個別事業'!$A$79,MATCH($C148,'11_PDCAチェックシート【実施期間中】個別事業'!$H$4:$V$4,0)+6)","v":"- 選択 -"},null,null,null,null,{"$f":"OFFSET('11_PDCAチェックシート【実施期間中】個別事業'!$A$6,'11_PDCAチェックシート【実施期間中】個別事業'!$A$80,MATCH($C148,'11_PDCAチェックシート【実施期間中】個別事業'!$H$4:$V$4,0)+6)","v":"- 選択 -"}]
[null,null,null,null,"内容（",null,{"$f":"OFFSET('11_PDCAチェックシート【実施期間中】個別事業'!$A$6,'11_PDCAチェックシート【実施期間中】個別事業'!$A$81,MATCH($C148,'11_PDCAチェックシート【実施期間中】個別事業'!$H$4:$V$4,0)+6)","v":""},null,null,null,null,null,null,null,null,null,null,null,null,null,null,null,null,null,null,"）"]
[null,null,null,null,"目標回収数",null,null,null,"計",{"$f":"OFFSET('11_PDCAチェックシート【実施期間中】個別事業'!$A$6,'11_PDCAチェックシート【実施期間中】個別事業'!$A$83,MATCH($C148,'11_PDCAチェックシート【実施期間中】個別事業'!$H$4:$V$4,0)+6)","v":0},null,null,"枚",null,"※複数ある場合は、平均アンケート回収数"]
[null,null,null,null,"実績値",null,null,null,"計",{"$f":"OFFSET('11_PDCAチェックシート【実施期間中】個別事業'!$A$6,'11_PDCAチェックシート【実施期間中】個別事業'!$A$84,MATCH($C148,'11_PDCAチェックシート【実施期間中】個別事業'!$H$4:$V$4,0)+6)","v":0},null,null,"枚",null,"※複数ある場合は、平均アンケート回収数"]
[]
[null,null,"項目",null,"内容"]
[null,null,"事業4","事業名\n（番組・CM名）",{"$f":"OFFSET('11_PDCAチェックシート【実施期間中】個別事業'!$A$6,,MATCH(C205,'11_PDCAチェックシート【実施期間中】個別事業'!$H$4:$V$4,0)+6)","v":0}]
[null,null,"普及啓発テーマ",null,"※該当する普及啓発テーマすべてをチェックしてください。"]
[null,null,null,null,"①",null,"②",null,"③",null,"④",null,"⑤",null,"⑥",null,"⑦",null,"⑧",null,"⑨",null,"⑩",null,"⑪",null,null,null,"①","②","③","④","⑤","⑥","⑦","⑧","⑨","⑩","⑪"]
[null,null,null,null,"省ｴﾈ機器",null,"省ｴﾈ住宅",null,"ｴｺｶｰ",null,"ｸｰﾙﾋﾞｽﾞ",null,"ｳｫｰﾑﾋﾞｽﾞ",null,"照明の\n高効率利用",null,"ｴｺﾄﾞﾗｲﾌﾞ",null,"ｶｰｼｪｱ",null,"公共交通\n機関の利用",null,"再配達防止",null,"シェアエコ",null,null,null,"省ｴﾈ機器","省ｴﾈ住宅","ｴｺｶｰ","ｸｰﾙﾋﾞｽﾞ","ｳｫｰﾑﾋﾞｽﾞ","照明の\n高効率利用","ｴｺﾄﾞﾗｲﾌﾞ","ｶｰｼｪｱ","公共交通\n機関の利用","再配達防止","シェアエコ"]
[null,null,null,null,null,null,null,null,null,null,null,null,null,null,null,null,null,null,null,null,null,null,null,null,null,null,null,null,{"$f":"IF(COUNTIFS('11_PDCAチェックシート【実施期間中】個別事業'!$E$7:$E$17,'7_別紙1-2_実施報告書'!AC207,OFFSET('11_PDCAチェックシート【実施期間中】個別事業'!$F$7,,MATCH('7_別紙1-2_実施報告書'!$C205,'11_PDCAチェックシート【実施期間中】個別事業'!$H$4:$V$4,0)+1,11,1),1),1,0)","v":0},{"$f":"IF(COUNTIFS('11_PDCAチェックシート【実施期間中】個別事業'!$E$7:$E$17,'7_別紙1-2_実施報告書'!AD207,OFFSET('11_PDCAチェックシート【実施期間中】個別事業'!$F$7,,MATCH('7_別紙1-2_実施報告書'!$C205,'11_PDCAチェックシート【実施期間中】個別事業'!$H$4:$V$4,0)+1,11,1),1),1,0)","v":0},{"$f":"IF(COUNTIFS('11_PDCAチェックシート【実施期間中】個別事業'!$E$7:$E$17,'7_別紙1-2_実施報告書'!AE207,OFFSET('11_PDCAチェックシート【実施期間中】個別事業'!$F$7,,MATCH('7_別紙1-2_実施報告書'!$C205,'11_PDCAチェックシート【実施期間中】個別事業'!$H$4:$V$4,0)+1,11,1),1),1,0)","v":0},{"$f":"IF(COUNTIFS('11_PDCAチェックシート【実施期間中】個別事業'!$E$7:$E$17,'7_別紙1-2_実施報告書'!AF207,OFFSET('11_PDCAチェックシート【実施期間中】個別事業'!$F$7,,MATCH('7_別紙1-2_実施報告書'!$C205,'11_PDCAチェックシート【実施期間中】個別事業'!$H$4:$V$4,0)+1,11,1),1),1,0)","v":0},{"$f":"IF(COUNTIFS('11_PDCAチェックシート【実施期間中】個別事業'!$E$7:$E$17,'7_別紙1-2_実施報告書'!AG207,OFFSET('11_PDCAチェックシート【実施期間中】個別事業'!$F$7,,MATCH('7_別紙1-2_実施報告書'!$C205,'11_PDCAチェックシート【実施期間中】個別事業'!$H$4:$V$4,0)+1,11,1),1),1,0)","v":0},{"$f":"IF(COUNTIFS('11_PDCAチェックシート【実施期間中】個別事業'!$E$7:$E$17,'7_別紙1-2_実施報告書'!AH207,OFFSET('11_PDCAチェックシート【実施期間中】個別事業'!$F$7,,MATCH('7_別紙1-2_実施報告書'!$C205,'11_PDCAチェックシート【実施期間中】個別事業'!$H$4:$V$4,0)+1,11,1),1),1,0)","v":0},false,{"$f":"IF(COUNTIFS('11_PDCAチェックシート【実施期間中】個別事業'!$E$7:$E$17,'7_別紙1-2_実施報告書'!AJ207,OFFSET('11_PDCAチェックシート【実施期間中】個別事業'!$F$7,,MATCH('7_別紙1-2_実施報告書'!$C205,'11_PDCAチェックシート【実施期間中】個別事業'!$H$4:$V$4,0)+1,11,1),1),1,0)","v":0},{"$f":"IF(COUNTIFS('11_PDCAチェックシート【実施期間中】個別事業'!$E$7:$E$17,'7_別紙1-2_実施報告書'!AK207,OFFSET('11_PDCAチェックシート【実施期間中】個別事業'!$F$7,,MATCH('7_別紙1-2_実施報告書'!$C205,'11_PDCAチェックシート【実施期間中】個別事業'!$H$4:$V$4,0)+1,11,1),1),1,0)","v":0},{"$f":"IF(COUNTIFS('11_PDCAチェックシート【実施期間中】個別事業'!$E$7:$E$17,'7_別紙1-2_実施報告書'!AL207,OFFSET('11_PDCAチェックシート【実施期間中】個別事業'!$F$7,,MATCH('7_別紙1-2_実施報告書'!$C205,'11_PDCAチェックシート【実施期間中】個別事業'!$H$4:$V$4,0)+1,11,1),1),1,0)","v":0},{"$f":"IF(COUNTIFS('11_PDCAチェックシート【実施期間中】個別事業'!$E$7:$E$17,'7_別紙1-2_実施報告書'!AM207,OFFSET('11_PDCAチェックシート【実施期間中】個別事業'!$F$7,,MATCH('7_別紙1-2_実施報告書'!$C205,'11_PDCAチェックシート【実施期間中】個別事業'!$H$4:$V$4,0)+1,11,1),1),1,0)","v":0},{"$f":"COUNTIFS(AC209:AM209,\"TRUE\")","v":0}]
[null,null,"訴求手法",null,"※訴求手法については、該当する欄にチェックしてください。"]
[null,null,null,null,"a) 情報発信型（受動型）",null,null,null,null,null,null,"b) 情報発信型（能動型）",null,null,null,null,null,null,"c) 双方向体験交流型"]
[null,null,null,null,"ラジオ、新聞・広報紙等",null,null,null,null,null,null,"講演会・パネル展示等",null,null,null,null,null,null,"試乗・体験会、省ｴﾈ診断等",null,null,null,null,null,null,null,null,null,"a)","b)","c)"]
[null,null,null,null,null,null,null,null,null,null,null,null,null,null,null,null,null,null,null,null,null,null,null,null,null,null,null,null,false,false,false,null,null,null,null,null,null,null,null,{"$f":"COUNTIFS(AC213:AM213,\"TRUE\")","v":0}]
[null,null,"情報発信カテゴリー\n（プルダウン選択）",null,{"$f":"OFFSET('11_PDCAチェックシート【実施期間中】個別事業'!$A$6,'11_PDCAチェックシート【実施期間中】個別事業'!$A$21,MATCH($C205,'11_PDCAチェックシート【実施期間中】個別事業'!$H$4:$V$4,0)+6)","v":"-"},null,null,null,null,null,null,null,null,null,null,{"$f":"IF(OFFSET('11_PDCAチェックシート【実施期間中】個別事業'!$A$6,'11_PDCAチェックシート【実施期間中】個別事業'!$A$22,MATCH($C205,'11_PDCAチェックシート【実施期間中】個別事業'!$H$4:$V$4,0)+6)=\"\",\"\",OFFSET('11_PDCAチェックシート【実施期間中】個別事業'!$A$6,'11_PDCAチェックシート【実施期間中】個別事業'!$A$22,MATCH($C205,'11_PDCAチェックシート【実施期間中】個別事業'!$H$4:$V$4,0)+6))","v":""}]
[]
[null,null,"尺・放送回数",null,"※収録本数、放送回数を定量的に必ず記載のこと"]
[null,null,null,null,"①","尺",null,null,{"$f":"OFFSET('11_PDCAチェックシート【実施期間中】個別事業'!$A$6,'11_PDCAチェックシート【実施期間中】個別事業'!$A$23,MATCH($C205,'11_PDCAチェックシート【実施期間中】個別事業'!$H$4:$V$4,0)+6)","v":""},null,null,"（秒）",null,null,null,"※単位はプルダウン選択"]
[null,null,null,null,null,"収録本数",null,null,{"$f":"OFFSET('11_PDCAチェックシート【実施期間中】個別事業'!$A$6,'11_PDCAチェックシート【実施期間中】個別事業'!$A$24,MATCH($C205,'11_PDCAチェックシート【実施期間中】個別事業'!$H$4:$V$4,0)+6)","v":""},null,null,"（本）"]
[null,null,null,null,null,"放送回数",null,null,{"$f":"OFFSET('11_PDCAチェックシート【実施期間中】個別事業'!$A$6,'11_PDCAチェックシート【実施期間中】個別事業'!$A$25,MATCH($C205,'11_PDCAチェックシート【実施期間中】個別事業'!$H$4:$V$4,0)+6)","v":""},null,null,"（回）",null,null,null,"※再放送を含む"]
[null,null,null,null,null,"備考",null,null,{"$f":"OFFSET('11_PDCAチェックシート【実施期間中】個別事業'!$A$6,'11_PDCAチェックシート【実施期間中】個別事業'!$A$26,MATCH($C205,'11_PDCAチェックシート【実施期間中】個別事業'!$H$4:$V$4,0)+6)","v":""},null,null,{"$f":"OFFSET('11_PDCAチェックシート【実施期間中】個別事業'!$A$6,'11_PDCAチェックシート【実施期間中】個別事業'!#REF!,MATCH($C208,'11_PDCAチェックシート【実施期間中】個別事業'!$H$4:$V$4,0)+6)","v":{"$error":"#REF!"}},null,null,{"$f":"OFFSET('11_PDCAチェックシート【実施期間中】個別事業'!$A$6,'11_PDCAチェックシート【実施期間中】個別事業'!#REF!,MATCH($C208,'11_PDCAチェックシート【実施期間中】個別事業'!$H$4:$V$4,0)+6)","v":{"$error":"#REF!"}},null,null,{"$f":"OFFSET('11_PDCAチェックシート【実施期間中】個別事業'!$A$6,'11_PDCAチェックシート【実施期間中】個別事業'!#REF!,MATCH($C208,'11_PDCAチェックシート【実施期間中】個別事業'!$H$4:$V$4,0)+6)","v":{"$error":"#REF!"}},null,null,{"$f":"OFFSET('11_PDCAチェックシート【実施期間中】個別事業'!$A$6,'11_PDCAチェックシート【実施期間中】個別事業'!#REF!,MATCH($C208,'11_PDCAチェックシート【実施期間中】個別事業'!$H$4:$V$4,0)+6)","v":{"$error":"#REF!"}},null,null,{"$f":"OFFSET('11_PDCAチェックシート【実施期間中】個別事業'!$A$6,'11_PDCAチェックシート【実施期間中】個別事業'!#REF!,MATCH($C208,'11_PDCAチェックシート【実施期間中】個別事業'!$H$4:$V$4,0)+6)","v":{"$error":"#REF!"}}]
[null,null,null,null,"②","尺",null,null,{"$f":"OFFSET('11_PDCAチェックシート【実施期間中】個別事業'!$A$6,'11_PDCAチェックシート【実施期間中】個別事業'!$A$27,MATCH($C205,'11_PDCAチェックシート【実施期間中】個別事業'!$H$4:$V$4,0)+6)","v":""},null,null,"（秒）",null,null,null,"※単位はプルダウン選択"]
[null,null,null,null,null,"収録本数",null,null,{"$f":"OFFSET('11_PDCAチェックシート【実施期間中】個別事業'!$A$6,'11_PDCAチェックシート【実施期間中】個別事業'!$A$28,MATCH($C205,'11_PDCAチェックシート【実施期間中】個別事業'!$H$4:$V$4,0)+6)","v":""},null,null,"（本）"]
[null,null,null,null,null,"放送回数",null,null,{"$f":"OFFSET('11_PDCAチェックシート【実施期間中】個別事業'!$A$6,'11_PDCAチェックシート【実施期間中】個別事業'!$A$29,MATCH($C205,'11_PDCAチェックシート【実施期間中】個別事業'!$H$4:$V$4,0)+6)","v":""},null,null,"（回）",null,null,null,"※再放送を含む"]
[null,null,null,null,null,"備考",null,null,{"$f":"OFFSET('11_PDCAチェックシート【実施期間中】個別事業'!$A$6,'11_PDCAチェックシート【実施期間中】個別事業'!$A$30,MATCH($C205,'11_PDCAチェックシート【実施期間中】個別事業'!$H$4:$V$4,0)+6)","v":""},null,null,{"$f":"OFFSET('11_PDCAチェックシート【実施期間中】個別事業'!$A$6,'11_PDCAチェックシート【実施期間中】個別事業'!#REF!,MATCH($C212,'11_PDCAチェックシート【実施期間中】個別事業'!$H$4:$V$4,0)+6)","v":{"$error":"#REF!"}},null,null,{"$f":"OFFSET('11_PDCAチェックシート【実施期間中】個別事業'!$A$6,'11_PDCAチェックシート【実施期間中】個別事業'!#REF!,MATCH($C212,'11_PDCAチェックシート【実施期間中】個別事業'!$H$4:$V$4,0)+6)","v":{"$error":"#REF!"}},null,null,{"$f":"OFFSET('11_PDCAチェックシート【実施期間中】個別事業'!$A$6,'11_PDCAチェックシート【実施期間中】個別事業'!#REF!,MATCH($C212,'11_PDCAチェックシート【実施期間中】個別事業'!$H$4:$V$4,0)+6)","v":{"$error":"#REF!"}},null,null,{"$f":"OFFSET('11_PDCAチェックシート【実施期間中】個別事業'!$A$6,'11_PDCAチェックシート【実施期間中】個別事業'!#REF!,MATCH($C212,'11_PDCAチェックシート【実施期間中】個別事業'!$H$4:$V$4,0)+6)","v":{"$error":"#REF!"}},null,null,{"$f":"OFFSET('11_PDCAチェックシート【実施期間中】個別事業'!$A$6,'11_PDCAチェックシート【実施期間中】個別事業'!#REF!,MATCH($C212,'11_PDCAチェックシート【実施期間中】個別事業'!$H$4:$V$4,0)+6)","v":{"$error":"#REF!"}}]
[null,null,"実施期間",null,{"$f":"OFFSET('11_PDCAチェックシート【実施期間中】個別事業'!$A$6,'11_PDCAチェックシート【実施期間中】個別事業'!$A$31,MATCH($C205,'11_PDCAチェックシート【実施期間中】個別事業'!$H$4:$V$4,0)+6)","v":""},null,null,null,null,null,null,null,null,"～",null,null,null,{"$f":"OFFSET('11_PDCAチェックシート【実施期間中】個別事業'!$A$6,'11_PDCAチェックシート【実施期間中】個別事業'!$A$33,MATCH($C205,'11_PDCAチェックシート【実施期間中】個別事業'!$H$4:$V$4,0)+6)","v":""}]
[null,null,"放送時間、その他備考",null,{"$f":"OFFSET('11_PDCAチェックシート【実施期間中】個別事業'!$A$6,'11_PDCAチェックシート【実施期間中】個別事業'!$A$34,MATCH($C205,'11_PDCAチェックシート【実施期間中】個別事業'!$H$4:$V$4,0)+6)","v":""}]
[null,null,"実施日\n（※同一事業内で、\n同一の内容・場所において\n複数日実施する場合）",null,1,null,{"$f":"OFFSET('11_PDCAチェックシート【実施期間中】個別事業'!$A$6,'11_PDCAチェックシート【実施期間中】個別事業'!$A$35,MATCH($C205,'11_PDCAチェックシート【実施期間中】個別事業'!$H$4:$V$4,0)+6)","v":""},null,null,null,null,null,null,null,null,11,null,{"$f":"OFFSET('11_PDCAチェックシート【実施期間中】個別事業'!$A$6,'11_PDCAチェックシート【実施期間中】個別事業'!$A$45,MATCH($C205,'11_PDCAチェックシート【実施期間中】個別事業'!$H$4:$V$4,0)+6)","v":""}]
[null,null,null,null,2,null,{"$f":"OFFSET('11_PDCAチェックシート【実施期間中】個別事業'!$A$6,'11_PDCAチェックシート【実施期間中】個別事業'!$A$36,MATCH($C205,'11_PDCAチェックシート【実施期間中】個別事業'!$H$4:$V$4,0)+6)","v":""},null,null,null,null,null,null,null,null,12,null,{"$f":"OFFSET('11_PDCAチェックシート【実施期間中】個別事業'!$A$6,'11_PDCAチェックシート【実施期間中】個別事業'!$A$46,MATCH($C205,'11_PDCAチェックシート【実施期間中】個別事業'!$H$4:$V$4,0)+6)","v":""}]
[null,null,null,null,3,null,{"$f":"OFFSET('11_PDCAチェックシート【実施期間中】個別事業'!$A$6,'11_PDCAチェックシート【実施期間中】個別事業'!$A$37,MATCH($C205,'11_PDCAチェックシート【実施期間中】個別事業'!$H$4:$V$4,0)+6)","v":""},null,null,null,null,null,null,null,null,13,null,{"$f":"OFFSET('11_PDCAチェックシート【実施期間中】個別事業'!$A$6,'11_PDCAチェックシート【実施期間中】個別事業'!$A$47,MATCH($C205,'11_PDCAチェックシート【実施期間中】個別事業'!$H$4:$V$4,0)+6)","v":""}]
[null,null,null,null,4,null,{"$f":"OFFSET('11_PDCAチェックシート【実施期間中】個別事業'!$A$6,'11_PDCAチェックシート【実施期間中】個別事業'!$A$38,MATCH($C205,'11_PDCAチェックシート【実施期間中】個別事業'!$H$4:$V$4,0)+6)","v":""},null,null,null,null,null,null,null,null,14,null,{"$f":"OFFSET('11_PDCAチェックシート【実施期間中】個別事業'!$A$6,'11_PDCAチェックシート【実施期間中】個別事業'!$A$48,MATCH($C205,'11_PDCAチェックシート【実施期間中】個別事業'!$H$4:$V$4,0)+6)","v":""}]
[null,null,null,null,5,null,{"$f":"OFFSET('11_PDCAチェックシート【実施期間中】個別事業'!$A$6,'11_PDCAチェックシート【実施期間中】個別事業'!$A$39,MATCH($C205,'11_PDCAチェックシート【実施期間中】個別事業'!$H$4:$V$4,0)+6)","v":""},null,null,null,null,null,null,null,null,15,null,{"$f":"OFFSET('11_PDCAチェックシート【実施期間中】個別事業'!$A$6,'11_PDCAチェックシート【実施期間中】個別事業'!$A$49,MATCH($C205,'11_PDCAチェックシート【実施期間中】個別事業'!$H$4:$V$4,0)+6)","v":""}]
[null,null,null,null,6,null,{"$f":"OFFSET('11_PDCAチェックシート【実施期間中】個別事業'!$A$6,'11_PDCAチェックシート【実施期間中】個別事業'!$A$40,MATCH($C205,'11_PDCAチェックシート【実施期間中】個別事業'!$H$4:$V$4,0)+6)","v":""},null,null,null,null,null,null,null,null,16,null,{"$f":"OFFSET('11_PDCAチェックシート【実施期間中】個別事業'!$A$6,'11_PDCAチェックシート【実施期間中】個別事業'!$A$50,MATCH($C205,'11_PDCAチェックシート【実施期間中】個別事業'!$H$4:$V$4,0)+6)","v":""}]
[null,null,null,null,7,null,{"$f":"OFFSET('11_PDCAチェックシート【実施期間中】個別事業'!$A$6,'11_PDCAチェックシート【実施期間中】個別事業'!$A$41,MATCH($C205,'11_PDCAチェックシート【実施期間中】個別事業'!$H$4:$V$4,0)+6)","v":""},null,null,null,null,null,null,null,null,17,null,{"$f":"OFFSET('11_PDCAチェックシート【実施期間中】個別事業'!$A$6,'11_PDCAチェックシート【実施期間中】個別事業'!$A$51,MATCH($C205,'11_PDCAチェックシート【実施期間中】個別事業'!$H$4:$V$4,0)+6)","v":""}]
[null,null,null,null,8,null,{"$f":"OFFSET('11_PDCAチェックシート【実施期間中】個別事業'!$A$6,'11_PDCAチェックシート【実施期間中】個別事業'!$A$42,MATCH($C205,'11_PDCAチェックシート【実施期間中】個別事業'!$H$4:$V$4,0)+6)","v":""},null,null,null,null,null,null,null,null,18,null,{"$f":"OFFSET('11_PDCAチェックシート【実施期間中】個別事業'!$A$6,'11_PDCAチェックシート【実施期間中】個別事業'!$A$52,MATCH($C205,'11_PDCAチェックシート【実施期間中】個別事業'!$H$4:$V$4,0)+6)","v":""}]
[null,null,null,null,9,null,{"$f":"OFFSET('11_PDCAチェックシート【実施期間中】個別事業'!$A$6,'11_PDCAチェックシート【実施期間中】個別事業'!$A$43,MATCH($C205,'11_PDCAチェックシート【実施期間中】個別事業'!$H$4:$V$4,0)+6)","v":""},null,null,null,null,null,null,null,null,19,null,{"$f":"OFFSET('11_PDCAチェックシート【実施期間中】個別事業'!$A$6,'11_PDCAチェックシート【実施期間中】個別事業'!$A$53,MATCH($C205,'11_PDCAチェックシート【実施期間中】個別事業'!$H$4:$V$4,0)+6)","v":""}]
[null,null,null,null,10,null,{"$f":"OFFSET('11_PDCAチェックシート【実施期間中】個別事業'!$A$6,'11_PDCAチェックシート【実施期間中】個別事業'!$A$44,MATCH($C205,'11_PDCAチェックシート【実施期間中】個別事業'!$H$4:$V$4,0)+6)","v":""},null,null,null,null,null,null,null,null,20,null,{"$f":"OFFSET('11_PDCAチェックシート【実施期間中】個別事業'!$A$6,'11_PDCAチェックシート【実施期間中】個別事業'!$A$54,MATCH($C205,'11_PDCAチェックシート【実施期間中】個別事業'!$H$4:$V$4,0)+6)","v":""}]
[null,null,"事業の概要",null,{"$f":"OFFSET('11_PDCAチェックシート【実施期間中】個別事業'!$A$6,'11_PDCAチェックシート【実施期間中】個別事業'!$A$55,MATCH($C205,'11_PDCAチェックシート【実施期間中】個別事業'!$H$4:$V$4,0)+6)","v":""}]
[null,null,"地域団体との連携\n※地方公共団体を含む",null,{"$f":"'2_別紙1-2_実施計画書'!E259","v":0}]
[null,null,"実施結果",null,{"$f":"OFFSET('11_PDCAチェックシート【実施期間中】個別事業'!$A$6,'11_PDCAチェックシート【実施期間中】個別事業'!$A$57,MATCH($C205,'11_PDCAチェックシート【実施期間中】個別事業'!$H$4:$V$4,0)+6)","v":0}]
[]
[null,null,"主な訴求対象","計画",{"$f":"OFFSET('11_PDCAチェックシート【実施期間中】個別事業'!$A$6,'11_PDCAチェックシート【実施期間中】個別事業'!$A$58,MATCH($C205,'11_PDCAチェックシート【実施期間中】個別事業'!$H$4:$V$4,0)+6)","v":""}]
[null,null,null,"結果",{"$f":"OFFSET('11_PDCAチェックシート【実施期間中】個別事業'!$A$6,'11_PDCAチェックシート【実施期間中】個別事業'!$A$59,MATCH($C205,'11_PDCAチェックシート【実施期間中】個別事業'!$H$4:$V$4,0)+6)","v":0}]
[null,null,"規模（リーチ数）\n（想定及び実績）",null,"カテゴリ①（プルダウン選択）⇒",null,null,null,null,null,null,null,null,null,null,{"$f":"OFFSET('11_PDCAチェックシート【実施期間中】個別事業'!$A$6,'11_PDCAチェックシート【実施期間中】個別事業'!$A$60,MATCH($C205,'11_PDCAチェックシート【実施期間中】個別事業'!$H$4:$V$4,0)+6)","v":"聴取人口（番組・CM単位であれば）"}]
[null,null,null,null,"計画値",null,null,null,"計",null,{"$f":"'2_別紙1-2_実施計画書'!K265","v":0}]
[null,null,null,null,"実績値",null,null,null,"計",null,{"$f":"OFFSET('11_PDCAチェックシート【実施期間中】個別事業'!$A$6,'11_PDCAチェックシート【実施期間中】個別事業'!$A$63,MATCH($C205,'11_PDCAチェックシート【実施期間中】個別事業'!$H$4:$V$4,0)+6)","v":0}]
[null,null,null,null,"算出根拠",null,null,null,{"$f":"OFFSET('11_PDCAチェックシート【実施期間中】個別事業'!$A$6,'11_PDCAチェックシート【実施期間中】個別事業'!$A$64,MATCH($C205,'11_PDCAチェックシート【実施期間中】個別事業'!$H$4:$V$4,0)+6)","v":""}]
[null,null,null,null,"カテゴリ②（プルダウン選択）⇒",null,null,null,null,null,null,null,null,null,null,{"$f":"OFFSET('11_PDCAチェックシート【実施期間中】個別事業'!$A$6,'11_PDCAチェックシート【実施期間中】個別事業'!$A$65,MATCH($C205,'11_PDCAチェックシート【実施期間中】個別事業'!$H$4:$V$4,0)+6)","v":""}]
[null,null,null,null,"計画値",null,null,null,"計",null,{"$f":"'2_別紙1-2_実施計画書'!K269","v":0}]
[null,null,null,null,"実績値",null,null,null,"計",null,{"$f":"OFFSET('11_PDCAチェックシート【実施期間中】個別事業'!$A$6,'11_PDCAチェックシート【実施期間中】個別事業'!$A$68,MATCH($C205,'11_PDCAチェックシート【実施期間中】個別事業'!$H$4:$V$4,0)+6)","v":0}]
[null,null,null,null,"算出根拠",null,null,null,{"$f":"OFFSET('11_PDCAチェックシート【実施期間中】個別事業'!$A$6,'11_PDCAチェックシート【実施期間中】個別事業'!$A$69,MATCH($C205,'11_PDCAチェックシート【実施期間中】個別事業'!$H$4:$V$4,0)+6)","v":""}]
[null,null,"COOL CHOICE 賛同数\n（想定及び実績）",null,"計画値",null,null,null,"団体",null,{"$f":"OFFSET('11_PDCAチェックシート【実施期間中】個別事業'!$A$6,'11_PDCAチェックシート【実施期間中】個別事業'!$A$71,MATCH($C205,'11_PDCAチェックシート【実施期間中】個別事業'!$H$4:$V$4,0)+6)","v":0},null,null,null,null,"、個人",null,{"$f":"OFFSET('11_PDCAチェックシート【実施期間中】個別事業'!$A$6,'11_PDCAチェックシート【実施期間中】個別事業'!$A$74,MATCH($C205,'11_PDCAチェックシート【実施期間中】個別事業'!$H$4:$V$4,0)+6)","v":0}]
[null,null,null,null,"実績値",null,null,null,"団体",null,{"$f":"OFFSET('11_PDCAチェックシート【実施期間中】個別事業'!$A$6,'11_PDCAチェックシート【実施期間中】個別事業'!$A$72,MATCH($C205,'11_PDCAチェックシート【実施期間中】個別事業'!$H$4:$V$4,0)+6)","v":0},null,null,null,null,"、個人",null,{"$f":"OFFSET('11_PDCAチェックシート【実施期間中】個別事業'!$A$6,'11_PDCAチェックシート【実施期間中】個別事業'!$A$75,MATCH($C205,'11_PDCAチェックシート【実施期間中】個別事業'!$H$4:$V$4,0)+6)","v":0}]
[null,null,"効果検証\n（アンケート）予定",null,"※アンケートの実施予定をプルダウンより選択してください。"]
[null,null,null,null,"公募要領に規定のアンケート",null,null,null,null,null,null,null,null,null,null,null,null,null,null,null,null,"貴事業者独自のアンケート"]
[null,null,null,null,"省エネ機器",null,null,null,"省エネ住宅",null,null,null,"エコドライブ",null,null,null,"低炭素物流（宅配便の再配達防止）"]
[null,null,null,null,{"$f":"OFFSET('11_PDCAチェックシート【実施期間中】個別事業'!$A$6,'11_PDCAチェックシート【実施期間中】個別事業'!$A$76,MATCH($C205,'11_PDCAチェックシート【実施期間中】個別事業'!$H$4:$V$4,0)+6)","v":"- 選択 -"},null,null,null,{"$f":"OFFSET('11_PDCAチェックシート【実施期間中】個別事業'!$A$6,'11_PDCAチェックシート【実施期間中】個別事業'!$A$77,MATCH($C205,'11_PDCAチェックシート【実施期間中】個別事業'!$H$4:$V$4,0)+6)","v":"- 選択 -"},null,null,null,{"$f":"OFFSET('11_PDCAチェックシート【実施期間中】個別事業'!$A$6,'11_PDCAチェックシート【実施期間中】個別事業'!$A$78,MATCH($C205,'11_PDCAチェックシート【実施期間中】個別事業'!$H$4:$V$4,0)+6)","v":"- 選択 -"},null,null,null,{"$f":"OFFSET('11_PDCAチェックシート【実施期間中】個別事業'!$A$6,'11_PDCAチェックシート【実施期間中】個別事業'!$A$79,MATCH($C205,'11_PDCAチェックシート【実施期間中】個別事業'!$H$4:$V$4,0)+6)","v":"- 選択 -"},null,null,null,null,{"$f":"OFFSET('11_PDCAチェックシート【実施期間中】個別事業'!$A$6,'11_PDCAチェックシート【実施期間中】個別事業'!$A$80,MATCH($C205,'11_PDCAチェックシート【実施期間中】個別事業'!$H$4:$V$4,0)+6)","v":"- 選択 -"}]
[null,null,null,null,"内容（",null,{"$f":"OFFSET('11_PDCAチェックシート【実施期間中】個別事業'!$A$6,'11_PDCAチェックシート【実施期間中】個別事業'!$A$81,MATCH($C205,'11_PDCAチェックシート【実施期間中】個別事業'!$H$4:$V$4,0)+6)","v":""},null,null,null,null,null,null,null,null,null,null,null,null,null,null,null,null,null,null,"）"]
[null,null,null,null,"目標回収数",null,null,null,"計",{"$f":"OFFSET('11_PDCAチェックシート【実施期間中】個別事業'!$A$6,'11_PDCAチェックシート【実施期間中】個別事業'!$A$83,MATCH($C205,'11_PDCAチェックシート【実施期間中】個別事業'!$H$4:$V$4,0)+6)","v":0},null,null,"枚",null,"※複数ある場合は、平均アンケート回収数"]
[null,null,null,null,"実績値",null,null,null,"計",{"$f":"OFFSET('11_PDCAチェックシート【実施期間中】個別事業'!$A$6,'11_PDCAチェックシート【実施期間中】個別事業'!$A$84,MATCH($C205,'11_PDCAチェックシート【実施期間中】個別事業'!$H$4:$V$4,0)+6)","v":0},null,null,"枚",null,"※複数ある場合は、平均アンケート回収数"]
[]
[null,null,"項目",null,"内容"]
[null,null,"事業5","事業名\n（番組・CM名）",{"$f":"OFFSET('11_PDCAチェックシート【実施期間中】個別事業'!$A$6,,MATCH(C262,'11_PDCAチェックシート【実施期間中】個別事業'!$H$4:$V$4,0)+6)","v":0}]
[null,null,"普及啓発テーマ",null,"※該当する普及啓発テーマすべてをチェックしてください。"]
[null,null,null,null,"①",null,"②",null,"③",null,"④",null,"⑤",null,"⑥",null,"⑦",null,"⑧",null,"⑨",null,"⑩",null,"⑪",null,null,null,"①","②","③","④","⑤","⑥","⑦","⑧","⑨","⑩","⑪"]
[null,null,null,null,"省ｴﾈ機器",null,"省ｴﾈ住宅",null,"ｴｺｶｰ",null,"ｸｰﾙﾋﾞｽﾞ",null,"ｳｫｰﾑﾋﾞｽﾞ",null,"照明の\n高効率利用",null,"ｴｺﾄﾞﾗｲﾌﾞ",null,"ｶｰｼｪｱ",null,"公共交通\n機関の利用",null,"再配達防止",null,"シェアエコ",null,null,null,"省ｴﾈ機器","省ｴﾈ住宅","ｴｺｶｰ","ｸｰﾙﾋﾞｽﾞ","ｳｫｰﾑﾋﾞｽﾞ","照明の\n高効率利用","ｴｺﾄﾞﾗｲﾌﾞ","ｶｰｼｪｱ","公共交通\n機関の利用","再配達防止","シェアエコ"]
[null,null,null,null,null,null,null,null,null,null,null,null,null,null,null,null,null,null,null,null,null,null,null,null,null,null,null,null,{"$f":"IF(COUNTIFS('11_PDCAチェックシート【実施期間中】個別事業'!$E$7:$E$17,'7_別紙1-2_実施報告書'!AC264,OFFSET('11_PDCAチェックシート【実施期間中】個別事業'!$F$7,,MATCH('7_別紙1-2_実施報告書'!$C262,'11_PDCAチェックシート【実施期間中】個別事業'!$H$4:$V$4,0)+1,11,1),1),1,0)","v":0},{"$f":"IF(COUNTIFS('11_PDCAチェックシート【実施期間中】個別事業'!$E$7:$E$17,'7_別紙1-2_実施報告書'!AD264,OFFSET('11_PDCAチェックシート【実施期間中】個別事業'!$F$7,,MATCH('7_別紙1-2_実施報告書'!$C262,'11_PDCAチェックシート【実施期間中】個別事業'!$H$4:$V$4,0)+1,11,1),1),1,0)","v":0},{"$f":"IF(COUNTIFS('11_PDCAチェックシート【実施期間中】個別事業'!$E$7:$E$17,'7_別紙1-2_実施報告書'!AE264,OFFSET('11_PDCAチェックシート【実施期間中】個別事業'!$F$7,,MATCH('7_別紙1-2_実施報告書'!$C262,'11_PDCAチェックシート【実施期間中】個別事業'!$H$4:$V$4,0)+1,11,1),1),1,0)","v":0},{"$f":"IF(COUNTIFS('11_PDCAチェックシート【実施期間中】個別事業'!$E$7:$E$17,'7_別紙1-2_実施報告書'!AF264,OFFSET('11_PDCAチェックシート【実施期間中】個別事業'!$F$7,,MATCH('7_別紙1-2_実施報告書'!$C262,'11_PDCAチェックシート【実施期間中】個別事業'!$H$4:$V$4,0)+1,11,1),1),1,0)","v":0},{"$f":"IF(COUNTIFS('11_PDCAチェックシート【実施期間中】個別事業'!$E$7:$E$17,'7_別紙1-2_実施報告書'!AG264,OFFSET('11_PDCAチェックシート【実施期間中】個別事業'!$F$7,,MATCH('7_別紙1-2_実施報告書'!$C262,'11_PDCAチェックシート【実施期間中】個別事業'!$H$4:$V$4,0)+1,11,1),1),1,0)","v":0},false,{"$f":"IF(COUNTIFS('11_PDCAチェックシート【実施期間中】個別事業'!$E$7:$E$17,'7_別紙1-2_実施報告書'!AI264,OFFSET('11_PDCAチェックシート【実施期間中】個別事業'!$F$7,,MATCH('7_別紙1-2_実施報告書'!$C262,'11_PDCAチェックシート【実施期間中】個別事業'!$H$4:$V$4,0)+1,11,1),1),1,0)","v":0},false,{"$f":"IF(COUNTIFS('11_PDCAチェックシート【実施期間中】個別事業'!$E$7:$E$17,'7_別紙1-2_実施報告書'!AK264,OFFSET('11_PDCAチェックシート【実施期間中】個別事業'!$F$7,,MATCH('7_別紙1-2_実施報告書'!$C262,'11_PDCAチェックシート【実施期間中】個別事業'!$H$4:$V$4,0)+1,11,1),1),1,0)","v":0},{"$f":"IF(COUNTIFS('11_PDCAチェックシート【実施期間中】個別事業'!$E$7:$E$17,'7_別紙1-2_実施報告書'!AL264,OFFSET('11_PDCAチェックシート【実施期間中】個別事業'!$F$7,,MATCH('7_別紙1-2_実施報告書'!$C262,'11_PDCAチェックシート【実施期間中】個別事業'!$H$4:$V$4,0)+1,11,1),1),1,0)","v":0},{"$f":"IF(COUNTIFS('11_PDCAチェックシート【実施期間中】個別事業'!$E$7:$E$17,'7_別紙1-2_実施報告書'!AM264,OFFSET('11_PDCAチェックシート【実施期間中】個別事業'!$F$7,,MATCH('7_別紙1-2_実施報告書'!$C262,'11_PDCAチェックシート【実施期間中】個別事業'!$H$4:$V$4,0)+1,11,1),1),1,0)","v":0},{"$f":"COUNTIFS(AC266:AM266,\"TRUE\")","v":0}]
[null,null,"訴求手法",null,"※訴求手法については、該当する欄にチェックしてください。"]
[null,null,null,null,"a) 情報発信型（受動型）",null,null,null,null,null,null,"b) 情報発信型（能動型）",null,null,null,null,null,null,"c) 双方向体験交流型"]
[null,null,null,null,"ラジオ、新聞・広報紙等",null,null,null,null,null,null,"講演会・パネル展示等",null,null,null,null,null,null,"試乗・体験会、省ｴﾈ診断等",null,null,null,null,null,null,null,null,null,"a)","b)","c)"]
[null,null,null,null,null,null,null,null,null,null,null,null,null,null,null,null,null,null,null,null,null,null,null,null,null,null,null,null,false,false,false,null,null,null,null,null,null,null,null,{"$f":"COUNTIFS(AC270:AM270,\"TRUE\")","v":0}]
[null,null,"情報発信カテゴリー\n（プルダウン選択）",null,{"$f":"OFFSET('11_PDCAチェックシート【実施期間中】個別事業'!$A$6,'11_PDCAチェックシート【実施期間中】個別事業'!$A$21,MATCH($C262,'11_PDCAチェックシート【実施期間中】個別事業'!$H$4:$V$4,0)+6)","v":"-"},null,null,null,null,null,null,null,null,null,null,{"$f":"IF(OFFSET('11_PDCAチェックシート【実施期間中】個別事業'!$A$6,'11_PDCAチェックシート【実施期間中】個別事業'!$A$22,MATCH($C262,'11_PDCAチェックシート【実施期間中】個別事業'!$H$4:$V$4,0)+6)=\"\",\"\",OFFSET('11_PDCAチェックシート【実施期間中】個別事業'!$A$6,'11_PDCAチェックシート【実施期間中】個別事業'!$A$22,MATCH($C262,'11_PDCAチェックシート【実施期間中】個別事業'!$H$4:$V$4,0)+6))","v":""}]
[]
[null,null,"尺・放送回数",null,"※収録本数、放送回数を定量的に必ず記載のこと"]
[null,null,null,null,"①","尺",null,null,{"$f":"OFFSET('11_PDCAチェックシート【実施期間中】個別事業'!$A$6,'11_PDCAチェックシート【実施期間中】個別事業'!$A$23,MATCH($C262,'11_PDCAチェックシート【実施期間中】個別事業'!$H$4:$V$4,0)+6)","v":""},null,null,"（秒）",null,null,null,"※単位はプルダウン選択"]
[null,null,null,null,null,"収録本数",null,null,{"$f":"OFFSET('11_PDCAチェックシート【実施期間中】個別事業'!$A$6,'11_PDCAチェックシート【実施期間中】個別事業'!$A$24,MATCH($C262,'11_PDCAチェックシート【実施期間中】個別事業'!$H$4:$V$4,0)+6)","v":""},null,null,"（本）"]
[null,null,null,null,null,"放送回数",null,null,{"$f":"OFFSET('11_PDCAチェックシート【実施期間中】個別事業'!$A$6,'11_PDCAチェックシート【実施期間中】個別事業'!$A$25,MATCH($C262,'11_PDCAチェックシート【実施期間中】個別事業'!$H$4:$V$4,0)+6)","v":""},null,null,"（回）",null,null,null,"※再放送を含む"]
[null,null,null,null,null,"備考",null,null,{"$f":"OFFSET('11_PDCAチェックシート【実施期間中】個別事業'!$A$6,'11_PDCAチェックシート【実施期間中】個別事業'!$A$26,MATCH($C262,'11_PDCAチェックシート【実施期間中】個別事業'!$H$4:$V$4,0)+6)","v":""},null,null,{"$f":"OFFSET('11_PDCAチェックシート【実施期間中】個別事業'!$A$6,'11_PDCAチェックシート【実施期間中】個別事業'!#REF!,MATCH($C265,'11_PDCAチェックシート【実施期間中】個別事業'!$H$4:$V$4,0)+6)","v":{"$error":"#REF!"}},null,null,{"$f":"OFFSET('11_PDCAチェックシート【実施期間中】個別事業'!$A$6,'11_PDCAチェックシート【実施期間中】個別事業'!#REF!,MATCH($C265,'11_PDCAチェックシート【実施期間中】個別事業'!$H$4:$V$4,0)+6)","v":{"$error":"#REF!"}},null,null,{"$f":"OFFSET('11_PDCAチェックシート【実施期間中】個別事業'!$A$6,'11_PDCAチェックシート【実施期間中】個別事業'!#REF!,MATCH($C265,'11_PDCAチェックシート【実施期間中】個別事業'!$H$4:$V$4,0)+6)","v":{"$error":"#REF!"}},null,null,{"$f":"OFFSET('11_PDCAチェックシート【実施期間中】個別事業'!$A$6,'11_PDCAチェックシート【実施期間中】個別事業'!#REF!,MATCH($C265,'11_PDCAチェックシート【実施期間中】個別事業'!$H$4:$V$4,0)+6)","v":{"$error":"#REF!"}},null,null,{"$f":"OFFSET('11_PDCAチェックシート【実施期間中】個別事業'!$A$6,'11_PDCAチェックシート【実施期間中】個別事業'!#REF!,MATCH($C265,'11_PDCAチェックシート【実施期間中】個別事業'!$H$4:$V$4,0)+6)","v":{"$error":"#REF!"}}]
[null,null,null,null,"②","尺",null,null,{"$f":"OFFSET('11_PDCAチェックシート【実施期間中】個別事業'!$A$6,'11_PDCAチェックシート【実施期間中】個別事業'!$A$27,MATCH($C262,'11_PDCAチェックシート【実施期間中】個別事業'!$H$4:$V$4,0)+6)","v":""},null,null,"（秒）",null,null,null,"※単位はプルダウン選択"]
[null,null,null,null,null,"収録本数",null,null,{"$f":"OFFSET('11_PDCAチェックシート【実施期間中】個別事業'!$A$6,'11_PDCAチェックシート【実施期間中】個別事業'!$A$28,MATCH($C262,'11_PDCAチェックシート【実施期間中】個別事業'!$H$4:$V$4,0)+6)","v":""},null,null,"（本）"]
[null,null,null,null,null,"放送回数",null,null,{"$f":"OFFSET('11_PDCAチェックシート【実施期間中】個別事業'!$A$6,'11_PDCAチェックシート【実施期間中】個別事業'!$A$29,MATCH($C262,'11_PDCAチェックシート【実施期間中】個別事業'!$H$4:$V$4,0)+6)","v":""},null,null,"（回）",null,null,null,"※再放送を含む"]
[null,null,null,null,null,"備考",null,null,{"$f":"OFFSET('11_PDCAチェックシート【実施期間中】個別事業'!$A$6,'11_PDCAチェックシート【実施期間中】個別事業'!$A$30,MATCH($C262,'11_PDCAチェックシート【実施期間中】個別事業'!$H$4:$V$4,0)+6)","v":""},null,null,{"$f":"OFFSET('11_PDCAチェックシート【実施期間中】個別事業'!$A$6,'11_PDCAチェックシート【実施期間中】個別事業'!#REF!,MATCH($C269,'11_PDCAチェックシート【実施期間中】個別事業'!$H$4:$V$4,0)+6)","v":{"$error":"#REF!"}},null,null,{"$f":"OFFSET('11_PDCAチェックシート【実施期間中】個別事業'!$A$6,'11_PDCAチェックシート【実施期間中】個別事業'!#REF!,MATCH($C269,'11_PDCAチェックシート【実施期間中】個別事業'!$H$4:$V$4,0)+6)","v":{"$error":"#REF!"}},null,null,{"$f":"OFFSET('11_PDCAチェックシート【実施期間中】個別事業'!$A$6,'11_PDCAチェックシート【実施期間中】個別事業'!#REF!,MATCH($C269,'11_PDCAチェックシート【実施期間中】個別事業'!$H$4:$V$4,0)+6)","v":{"$error":"#REF!"}},null,null,{"$f":"OFFSET('11_PDCAチェックシート【実施期間中】個別事業'!$A$6,'11_PDCAチェックシート【実施期間中】個別事業'!#REF!,MATCH($C269,'11_PDCAチェックシート【実施期間中】個別事業'!$H$4:$V$4,0)+6)","v":{"$error":"#REF!"}},null,null,{"$f":"OFFSET('11_PDCAチェックシート【実施期間中】個別事業'!$A$6,'11_PDCAチェックシート【実施期間中】個別事業'!#REF!,MATCH($C269,'11_PDCAチェックシート【実施期間中】個別事業'!$H$4:$V$4,0)+6)","v":{"$error":"#REF!"}}]
[null,null,"実施期間",null,{"$f":"OFFSET('11_PDCAチェックシート【実施期間中】個別事業'!$A$6,'11_PDCAチェックシート【実施期間中】個別事業'!$A$31,MATCH($C262,'11_PDCAチェックシート【実施期間中】個別事業'!$H$4:$V$4,0)+6)","v":""},null,null,null,null,null,null,null,null,"～",null,null,null,{"$f":"OFFSET('11_PDCAチェックシート【実施期間中】個別事業'!$A$6,'11_PDCAチェックシート【実施期間中】個別事業'!$A$33,MATCH($C262,'11_PDCAチェックシート【実施期間中】個別事業'!$H$4:$V$4,0)+6)","v":""}]
[null,null,"放送時間、その他備考",null,{"$f":"OFFSET('11_PDCAチェックシート【実施期間中】個別事業'!$A$6,'11_PDCAチェックシート【実施期間中】個別事業'!$A$34,MATCH($C262,'11_PDCAチェックシート【実施期間中】個別事業'!$H$4:$V$4,0)+6)","v":""}]
[null,null,"実施日\n（※同一事業内で、\n同一の内容・場所において\n複数日実施する場合）",null,1,null,{"$f":"OFFSET('11_PDCAチェックシート【実施期間中】個別事業'!$A$6,'11_PDCAチェックシート【実施期間中】個別事業'!$A$35,MATCH($C262,'11_PDCAチェックシート【実施期間中】個別事業'!$H$4:$V$4,0)+6)","v":""},null,null,null,null,null,null,null,null,11,null,{"$f":"OFFSET('11_PDCAチェックシート【実施期間中】個別事業'!$A$6,'11_PDCAチェックシート【実施期間中】個別事業'!$A$45,MATCH($C262,'11_PDCAチェックシート【実施期間中】個別事業'!$H$4:$V$4,0)+6)","v":""}]
[null,null,null,null,2,null,{"$f":"OFFSET('11_PDCAチェックシート【実施期間中】個別事業'!$A$6,'11_PDCAチェックシート【実施期間中】個別事業'!$A$36,MATCH($C262,'11_PDCAチェックシート【実施期間中】個別事業'!$H$4:$V$4,0)+6)","v":""},null,null,null,null,null,null,null,null,12,null,{"$f":"OFFSET('11_PDCAチェックシート【実施期間中】個別事業'!$A$6,'11_PDCAチェックシート【実施期間中】個別事業'!$A$46,MATCH($C262,'11_PDCAチェックシート【実施期間中】個別事業'!$H$4:$V$4,0)+6)","v":""}]
[null,null,null,null,3,null,{"$f":"OFFSET('11_PDCAチェックシート【実施期間中】個別事業'!$A$6,'11_PDCAチェックシート【実施期間中】個別事業'!$A$37,MATCH($C262,'11_PDCAチェックシート【実施期間中】個別事業'!$H$4:$V$4,0)+6)","v":""},null,null,null,null,null,null,null,null,13,null,{"$f":"OFFSET('11_PDCAチェックシート【実施期間中】個別事業'!$A$6,'11_PDCAチェックシート【実施期間中】個別事業'!$A$47,MATCH($C262,'11_PDCAチェックシート【実施期間中】個別事業'!$H$4:$V$4,0)+6)","v":""}]
[null,null,null,null,4,null,{"$f":"OFFSET('11_PDCAチェックシート【実施期間中】個別事業'!$A$6,'11_PDCAチェックシート【実施期間中】個別事業'!$A$38,MATCH($C262,'11_PDCAチェックシート【実施期間中】個別事業'!$H$4:$V$4,0)+6)","v":""},null,null,null,null,null,null,null,null,14,null,{"$f":"OFFSET('11_PDCAチェックシート【実施期間中】個別事業'!$A$6,'11_PDCAチェックシート【実施期間中】個別事業'!$A$48,MATCH($C262,'11_PDCAチェックシート【実施期間中】個別事業'!$H$4:$V$4,0)+6)","v":""}]
[null,null,null,null,5,null,{"$f":"OFFSET('11_PDCAチェックシート【実施期間中】個別事業'!$A$6,'11_PDCAチェックシート【実施期間中】個別事業'!$A$39,MATCH($C262,'11_PDCAチェックシート【実施期間中】個別事業'!$H$4:$V$4,0)+6)","v":""},null,null,null,null,null,null,null,null,15,null,{"$f":"OFFSET('11_PDCAチェックシート【実施期間中】個別事業'!$A$6,'11_PDCAチェックシート【実施期間中】個別事業'!$A$49,MATCH($C262,'11_PDCAチェックシート【実施期間中】個別事業'!$H$4:$V$4,0)+6)","v":""}]
[null,null,null,null,6,null,{"$f":"OFFSET('11_PDCAチェックシート【実施期間中】個別事業'!$A$6,'11_PDCAチェックシート【実施期間中】個別事業'!$A$40,MATCH($C262,'11_PDCAチェックシート【実施期間中】個別事業'!$H$4:$V$4,0)+6)","v":""},null,null,null,null,null,null,null,null,16,null,{"$f":"OFFSET('11_PDCAチェックシート【実施期間中】個別事業'!$A$6,'11_PDCAチェックシート【実施期間中】個別事業'!$A$50,MATCH($C262,'11_PDCAチェックシート【実施期間中】個別事業'!$H$4:$V$4,0)+6)","v":""}]
[null,null,null,null,7,null,{"$f":"OFFSET('11_PDCAチェックシート【実施期間中】個別事業'!$A$6,'11_PDCAチェックシート【実施期間中】個別事業'!$A$41,MATCH($C262,'11_PDCAチェックシート【実施期間中】個別事業'!$H$4:$V$4,0)+6)","v":""},null,null,null,null,null,null,null,null,17,null,{"$f":"OFFSET('11_PDCAチェックシート【実施期間中】個別事業'!$A$6,'11_PDCAチェックシート【実施期間中】個別事業'!$A$51,MATCH($C262,'11_PDCAチェックシート【実施期間中】個別事業'!$H$4:$V$4,0)+6)","v":""}]
[null,null,null,null,8,null,{"$f":"OFFSET('11_PDCAチェックシート【実施期間中】個別事業'!$A$6,'11_PDCAチェックシート【実施期間中】個別事業'!$A$42,MATCH($C262,'11_PDCAチェックシート【実施期間中】個別事業'!$H$4:$V$4,0)+6)","v":""},null,null,null,null,null,null,null,null,18,null,{"$f":"OFFSET('11_PDCAチェックシート【実施期間中】個別事業'!$A$6,'11_PDCAチェックシート【実施期間中】個別事業'!$A$52,MATCH($C262,'11_PDCAチェックシート【実施期間中】個別事業'!$H$4:$V$4,0)+6)","v":""}]
[null,null,null,null,9,null,{"$f":"OFFSET('11_PDCAチェックシート【実施期間中】個別事業'!$A$6,'11_PDCAチェックシート【実施期間中】個別事業'!$A$43,MATCH($C262,'11_PDCAチェックシート【実施期間中】個別事業'!$H$4:$V$4,0)+6)","v":""},null,null,null,null,null,null,null,null,19,null,{"$f":"OFFSET('11_PDCAチェックシート【実施期間中】個別事業'!$A$6,'11_PDCAチェックシート【実施期間中】個別事業'!$A$53,MATCH($C262,'11_PDCAチェックシート【実施期間中】個別事業'!$H$4:$V$4,0)+6)","v":""}]
[null,null,null,null,10,null,{"$f":"OFFSET('11_PDCAチェックシート【実施期間中】個別事業'!$A$6,'11_PDCAチェックシート【実施期間中】個別事業'!$A$44,MATCH($C262,'11_PDCAチェックシート【実施期間中】個別事業'!$H$4:$V$4,0)+6)","v":""},null,null,null,null,null,null,null,null,20,null,{"$f":"OFFSET('11_PDCAチェックシート【実施期間中】個別事業'!$A$6,'11_PDCAチェックシート【実施期間中】個別事業'!$A$54,MATCH($C262,'11_PDCAチェックシート【実施期間中】個別事業'!$H$4:$V$4,0)+6)","v":""}]
[null,null,"事業の概要",null,{"$f":"OFFSET('11_PDCAチェックシート【実施期間中】個別事業'!$A$6,'11_PDCAチェックシート【実施期間中】個別事業'!$A$55,MATCH($C262,'11_PDCAチェックシート【実施期間中】個別事業'!$H$4:$V$4,0)+6)","v":""}]
[null,null,"地域団体との連携\n※地方公共団体を含む",null,{"$f":"'2_別紙1-2_実施計画書'!E315","v":0}]
[null,null,"実施結果",null,{"$f":"OFFSET('11_PDCAチェックシート【実施期間中】個別事業'!$A$6,'11_PDCAチェックシート【実施期間中】個別事業'!$A$57,MATCH($C262,'11_PDCAチェックシート【実施期間中】個別事業'!$H$4:$V$4,0)+6)","v":0}]
[]
[null,null,"主な訴求対象","計画",{"$f":"OFFSET('11_PDCAチェックシート【実施期間中】個別事業'!$A$6,'11_PDCAチェックシート【実施期間中】個別事業'!$A$58,MATCH($C262,'11_PDCAチェックシート【実施期間中】個別事業'!$H$4:$V$4,0)+6)","v":""}]
[null,null,null,"結果",{"$f":"OFFSET('11_PDCAチェックシート【実施期間中】個別事業'!$A$6,'11_PDCAチェックシート【実施期間中】個別事業'!$A$59,MATCH($C262,'11_PDCAチェックシート【実施期間中】個別事業'!$H$4:$V$4,0)+6)","v":0}]
[null,null,"規模（リーチ数）\n（想定及び実績）",null,"カテゴリ①（プルダウン選択）⇒",null,null,null,null,null,null,null,null,null,null,{"$f":"OFFSET('11_PDCAチェックシート【実施期間中】個別事業'!$A$6,'11_PDCAチェックシート【実施期間中】個別事業'!$A$60,MATCH($C262,'11_PDCAチェックシート【実施期間中】個別事業'!$H$4:$V$4,0)+6)","v":"聴取人口（番組・CM単位であれば）"}]
[null,null,null,null,"計画値",null,null,null,"計",null,{"$f":"'2_別紙1-2_実施計画書'!K321","v":0}]
[null,null,null,null,"実績値",null,null,null,"計",null,{"$f":"OFFSET('11_PDCAチェックシート【実施期間中】個別事業'!$A$6,'11_PDCAチェックシート【実施期間中】個別事業'!$A$63,MATCH($C262,'11_PDCAチェックシート【実施期間中】個別事業'!$H$4:$V$4,0)+6)","v":0}]
[null,null,null,null,"算出根拠",null,null,null,{"$f":"OFFSET('11_PDCAチェックシート【実施期間中】個別事業'!$A$6,'11_PDCAチェックシート【実施期間中】個別事業'!$A$64,MATCH($C262,'11_PDCAチェックシート【実施期間中】個別事業'!$H$4:$V$4,0)+6)","v":""}]
[null,null,null,null,"カテゴリ②（プルダウン選択）⇒",null,null,null,null,null,null,null,null,null,null,{"$f":"OFFSET('11_PDCAチェックシート【実施期間中】個別事業'!$A$6,'11_PDCAチェックシート【実施期間中】個別事業'!$A$65,MATCH($C262,'11_PDCAチェックシート【実施期間中】個別事業'!$H$4:$V$4,0)+6)","v":""}]
[null,null,null,null,"計画値",null,null,null,"計",null,{"$f":"'2_別紙1-2_実施計画書'!K325","v":0}]
[null,null,null,null,"実績値",null,null,null,"計",null,{"$f":"OFFSET('11_PDCAチェックシート【実施期間中】個別事業'!$A$6,'11_PDCAチェックシート【実施期間中】個別事業'!$A$68,MATCH($C262,'11_PDCAチェックシート【実施期間中】個別事業'!$H$4:$V$4,0)+6)","v":0}]
[null,null,null,null,"算出根拠",null,null,null,{"$f":"OFFSET('11_PDCAチェックシート【実施期間中】個別事業'!$A$6,'11_PDCAチェックシート【実施期間中】個別事業'!$A$69,MATCH($C262,'11_PDCAチェックシート【実施期間中】個別事業'!$H$4:$V$4,0)+6)","v":""}]
[null,null,"COOL CHOICE 賛同数\n（想定及び実績）",null,"計画値",null,null,null,"団体",null,{"$f":"OFFSET('11_PDCAチェックシート【実施期間中】個別事業'!$A$6,'11_PDCAチェックシート【実施期間中】個別事業'!$A$71,MATCH($C262,'11_PDCAチェックシート【実施期間中】個別事業'!$H$4:$V$4,0)+6)","v":0},null,null,null,null,"、個人",null,{"$f":"OFFSET('11_PDCAチェックシート【実施期間中】個別事業'!$A$6,'11_PDCAチェックシート【実施期間中】個別事業'!$A$74,MATCH($C262,'11_PDCAチェックシート【実施期間中】個別事業'!$H$4:$V$4,0)+6)","v":0}]
[null,null,null,null,"実績値",null,null,null,"団体",null,{"$f":"OFFSET('11_PDCAチェックシート【実施期間中】個別事業'!$A$6,'11_PDCAチェックシート【実施期間中】個別事業'!$A$72,MATCH($C262,'11_PDCAチェックシート【実施期間中】個別事業'!$H$4:$V$4,0)+6)","v":0},null,null,null,null,"、個人",null,{"$f":"OFFSET('11_PDCAチェックシート【実施期間中】個別事業'!$A$6,'11_PDCAチェックシート【実施期間中】個別事業'!$A$75,MATCH($C262,'11_PDCAチェックシート【実施期間中】個別事業'!$H$4:$V$4,0)+6)","v":0}]
[null,null,"効果検証\n（アンケート）予定",null,"※アンケートの実施予定をプルダウンより選択してください。"]
[null,null,null,null,"公募要領に規定のアンケート",null,null,null,null,null,null,null,null,null,null,null,null,null,null,null,null,"貴事業者独自のアンケート"]
[null,null,null,null,"省エネ機器",null,null,null,"省エネ住宅",null,null,null,"エコドライブ",null,null,null,"低炭素物流（宅配便の再配達防止）"]
[null,null,null,null,{"$f":"OFFSET('11_PDCAチェックシート【実施期間中】個別事業'!$A$6,'11_PDCAチェックシート【実施期間中】個別事業'!$A$76,MATCH($C262,'11_PDCAチェックシート【実施期間中】個別事業'!$H$4:$V$4,0)+6)","v":"- 選択 -"},null,null,null,{"$f":"OFFSET('11_PDCAチェックシート【実施期間中】個別事業'!$A$6,'11_PDCAチェックシート【実施期間中】個別事業'!$A$77,MATCH($C262,'11_PDCAチェックシート【実施期間中】個別事業'!$H$4:$V$4,0)+6)","v":"- 選択 -"},null,null,null,{"$f":"OFFSET('11_PDCAチェックシート【実施期間中】個別事業'!$A$6,'11_PDCAチェックシート【実施期間中】個別事業'!$A$78,MATCH($C262,'11_PDCAチェックシート【実施期間中】個別事業'!$H$4:$V$4,0)+6)","v":"- 選択 -"},null,null,null,{"$f":"OFFSET('11_PDCAチェックシート【実施期間中】個別事業'!$A$6,'11_PDCAチェックシート【実施期間中】個別事業'!$A$79,MATCH($C262,'11_PDCAチェックシート【実施期間中】個別事業'!$H$4:$V$4,0)+6)","v":"- 選択 -"},null,null,null,null,{"$f":"OFFSET('11_PDCAチェックシート【実施期間中】個別事業'!$A$6,'11_PDCAチェックシート【実施期間中】個別事業'!$A$80,MATCH($C262,'11_PDCAチェックシート【実施期間中】個別事業'!$H$4:$V$4,0)+6)","v":"- 選択 -"}]
[null,null,null,null,"内容（",null,{"$f":"OFFSET('11_PDCAチェックシート【実施期間中】個別事業'!$A$6,'11_PDCAチェックシート【実施期間中】個別事業'!$A$81,MATCH($C262,'11_PDCAチェックシート【実施期間中】個別事業'!$H$4:$V$4,0)+6)","v":""},null,null,null,null,null,null,null,null,null,null,null,null,null,null,null,null,null,null,"）"]
[null,null,null,null,"目標回収数",null,null,null,"計",{"$f":"OFFSET('11_PDCAチェックシート【実施期間中】個別事業'!$A$6,'11_PDCAチェックシート【実施期間中】個別事業'!$A$83,MATCH($C262,'11_PDCAチェックシート【実施期間中】個別事業'!$H$4:$V$4,0)+6)","v":0},null,null,"枚",null,"※複数ある場合は、平均アンケート回収数"]
[null,null,null,null,"実績値",null,null,null,"計",{"$f":"OFFSET('11_PDCAチェックシート【実施期間中】個別事業'!$A$6,'11_PDCAチェックシート【実施期間中】個別事業'!$A$84,MATCH($C262,'11_PDCAチェックシート【実施期間中】個別事業'!$H$4:$V$4,0)+6)","v":0},null,null,"枚",null,"※複数ある場合は、平均アンケート回収数"]
[]
[null,null,"項目",null,"内容"]
[null,null,"事業6","事業名\n（番組・CM名）",{"$f":"OFFSET('11_PDCAチェックシート【実施期間中】個別事業'!$A$6,,MATCH(C319,'11_PDCAチェックシート【実施期間中】個別事業'!$H$4:$V$4,0)+6)","v":0}]
[null,null,"普及啓発テーマ",null,"※該当する普及啓発テーマすべてをチェックしてください。"]
[null,null,null,null,"①",null,"②",null,"③",null,"④",null,"⑤",null,"⑥",null,"⑦",null,"⑧",null,"⑨",null,"⑩",null,"⑪",null,null,null,"①","②","③","④","⑤","⑥","⑦","⑧","⑨","⑩","⑪"]
[null,null,null,null,"省ｴﾈ機器",null,"省ｴﾈ住宅",null,"ｴｺｶｰ",null,"ｸｰﾙﾋﾞｽﾞ",null,"ｳｫｰﾑﾋﾞｽﾞ",null,"照明の\n高効率利用",null,"ｴｺﾄﾞﾗｲﾌﾞ",null,"ｶｰｼｪｱ",null,"公共交通\n機関の利用",null,"再配達防止",null,"シェアエコ",null,null,null,"省ｴﾈ機器","省ｴﾈ住宅","ｴｺｶｰ","ｸｰﾙﾋﾞｽﾞ","ｳｫｰﾑﾋﾞｽﾞ","照明の\n高効率利用","ｴｺﾄﾞﾗｲﾌﾞ","ｶｰｼｪｱ","公共交通\n機関の利用","再配達防止","シェアエコ"]
[null,null,null,null,null,null,null,null,null,null,null,null,null,null,null,null,null,null,null,null,null,null,null,null,null,null,null,null,{"$f":"IF(COUNTIFS('11_PDCAチェックシート【実施期間中】個別事業'!$E$7:$E$17,'7_別紙1-2_実施報告書'!AC321,OFFSET('11_PDCAチェックシート【実施期間中】個別事業'!$F$7,,MATCH('7_別紙1-2_実施報告書'!$C319,'11_PDCAチェックシート【実施期間中】個別事業'!$H$4:$V$4,0)+1,11,1),1),1,0)","v":0},{"$f":"IF(COUNTIFS('11_PDCAチェックシート【実施期間中】個別事業'!$E$7:$E$17,'7_別紙1-2_実施報告書'!AD321,OFFSET('11_PDCAチェックシート【実施期間中】個別事業'!$F$7,,MATCH('7_別紙1-2_実施報告書'!$C319,'11_PDCAチェックシート【実施期間中】個別事業'!$H$4:$V$4,0)+1,11,1),1),1,0)","v":0},false,{"$f":"IF(COUNTIFS('11_PDCAチェックシート【実施期間中】個別事業'!$E$7:$E$17,'7_別紙1-2_実施報告書'!AF321,OFFSET('11_PDCAチェックシート【実施期間中】個別事業'!$F$7,,MATCH('7_別紙1-2_実施報告書'!$C319,'11_PDCAチェックシート【実施期間中】個別事業'!$H$4:$V$4,0)+1,11,1),1),1,0)","v":0},{"$f":"IF(COUNTIFS('11_PDCAチェックシート【実施期間中】個別事業'!$E$7:$E$17,'7_別紙1-2_実施報告書'!AG321,OFFSET('11_PDCAチェックシート【実施期間中】個別事業'!$F$7,,MATCH('7_別紙1-2_実施報告書'!$C319,'11_PDCAチェックシート【実施期間中】個別事業'!$H$4:$V$4,0)+1,11,1),1),1,0)","v":0},{"$f":"IF(COUNTIFS('11_PDCAチェックシート【実施期間中】個別事業'!$E$7:$E$17,'7_別紙1-2_実施報告書'!AH321,OFFSET('11_PDCAチェックシート【実施期間中】個別事業'!$F$7,,MATCH('7_別紙1-2_実施報告書'!$C319,'11_PDCAチェックシート【実施期間中】個別事業'!$H$4:$V$4,0)+1,11,1),1),1,0)","v":0},{"$f":"IF(COUNTIFS('11_PDCAチェックシート【実施期間中】個別事業'!$E$7:$E$17,'7_別紙1-2_実施報告書'!AI321,OFFSET('11_PDCAチェックシート【実施期間中】個別事業'!$F$7,,MATCH('7_別紙1-2_実施報告書'!$C319,'11_PDCAチェックシート【実施期間中】個別事業'!$H$4:$V$4,0)+1,11,1),1),1,0)","v":0},{"$f":"IF(COUNTIFS('11_PDCAチェックシート【実施期間中】個別事業'!$E$7:$E$17,'7_別紙1-2_実施報告書'!AJ321,OFFSET('11_PDCAチェックシート【実施期間中】個別事業'!$F$7,,MATCH('7_別紙1-2_実施報告書'!$C319,'11_PDCAチェックシート【実施期間中】個別事業'!$H$4:$V$4,0)+1,11,1),1),1,0)","v":0},{"$f":"IF(COUNTIFS('11_PDCAチェックシート【実施期間中】個別事業'!$E$7:$E$17,'7_別紙1-2_実施報告書'!AK321,OFFSET('11_PDCAチェックシート【実施期間中】個別事業'!$F$7,,MATCH('7_別紙1-2_実施報告書'!$C319,'11_PDCAチェックシート【実施期間中】個別事業'!$H$4:$V$4,0)+1,11,1),1),1,0)","v":0},{"$f":"IF(COUNTIFS('11_PDCAチェックシート【実施期間中】個別事業'!$E$7:$E$17,'7_別紙1-2_実施報告書'!AL321,OFFSET('11_PDCAチェックシート【実施期間中】個別事業'!$F$7,,MATCH('7_別紙1-2_実施報告書'!$C319,'11_PDCAチェックシート【実施期間中】個別事業'!$H$4:$V$4,0)+1,11,1),1),1,0)","v":0},{"$f":"IF(COUNTIFS('11_PDCAチェックシート【実施期間中】個別事業'!$E$7:$E$17,'7_別紙1-2_実施報告書'!AM321,OFFSET('11_PDCAチェックシート【実施期間中】個別事業'!$F$7,,MATCH('7_別紙1-2_実施報告書'!$C319,'11_PDCAチェックシート【実施期間中】個別事業'!$H$4:$V$4,0)+1,11,1),1),1,0)","v":0},{"$f":"COUNTIFS(AC323:AM323,\"TRUE\")","v":0}]
[null,null,"訴求手法",null,"※訴求手法については、該当する欄にチェックしてください。"]
[null,null,null,null,"a) 情報発信型（受動型）",null,null,null,null,null,null,"b) 情報発信型（能動型）",null,null,null,null,null,null,"c) 双方向体験交流型"]
[null,null,null,null,"ラジオ、新聞・広報紙等",null,null,null,null,null,null,"講演会・パネル展示等",null,null,null,null,null,null,"試乗・体験会、省ｴﾈ診断等",null,null,null,null,null,null,null,null,null,"a)","b)","c)"]
[null,null,null,null,null,null,null,null,null,null,null,null,null,null,null,null,null,null,null,null,null,null,null,null,null,null,null,null,false,false,false,null,null,null,null,null,null,null,null,{"$f":"COUNTIFS(AC327:AM327,\"TRUE\")","v":0}]
[null,null,"情報発信カテゴリー\n（プルダウン選択）",null,{"$f":"OFFSET('11_PDCAチェックシート【実施期間中】個別事業'!$A$6,'11_PDCAチェックシート【実施期間中】個別事業'!$A$21,MATCH($C319,'11_PDCAチェックシート【実施期間中】個別事業'!$H$4:$V$4,0)+6)","v":"-"},null,null,null,null,null,null,null,null,null,null,{"$f":"IF(OFFSET('11_PDCAチェックシート【実施期間中】個別事業'!$A$6,'11_PDCAチェックシート【実施期間中】個別事業'!$A$22,MATCH($C319,'11_PDCAチェックシート【実施期間中】個別事業'!$H$4:$V$4,0)+6)=\"\",\"\",OFFSET('11_PDCAチェックシート【実施期間中】個別事業'!$A$6,'11_PDCAチェックシート【実施期間中】個別事業'!$A$22,MATCH($C319,'11_PDCAチェックシート【実施期間中】個別事業'!$H$4:$V$4,0)+6))","v":""}]
[]
[null,null,"尺・放送回数",null,"※収録本数、放送回数を定量的に必ず記載のこと"]
[null,null,null,null,"①","尺",null,null,{"$f":"OFFSET('11_PDCAチェックシート【実施期間中】個別事業'!$A$6,'11_PDCAチェックシート【実施期間中】個別事業'!$A$23,MATCH($C319,'11_PDCAチェックシート【実施期間中】個別事業'!$H$4:$V$4,0)+6)","v":""},null,null,"（秒）",null,null,null,"※単位はプルダウン選択"]
[null,null,null,null,null,"収録本数",null,null,{"$f":"OFFSET('11_PDCAチェックシート【実施期間中】個別事業'!$A$6,'11_PDCAチェックシート【実施期間中】個別事業'!$A$24,MATCH($C319,'11_PDCAチェックシート【実施期間中】個別事業'!$H$4:$V$4,0)+6)","v":""},null,null,"（本）"]
[null,null,null,null,null,"放送回数",null,null,{"$f":"OFFSET('11_PDCAチェックシート【実施期間中】個別事業'!$A$6,'11_PDCAチェックシート【実施期間中】個別事業'!$A$25,MATCH($C319,'11_PDCAチェックシート【実施期間中】個別事業'!$H$4:$V$4,0)+6)","v":""},null,null,"（回）",null,null,null,"※再放送を含む"]
[null,null,null,null,null,"備考",null,null,{"$f":"OFFSET('11_PDCAチェックシート【実施期間中】個別事業'!$A$6,'11_PDCAチェックシート【実施期間中】個別事業'!$A$26,MATCH($C319,'11_PDCAチェックシート【実施期間中】個別事業'!$H$4:$V$4,0)+6)","v":""},null,null,{"$f":"OFFSET('11_PDCAチェックシート【実施期間中】個別事業'!$A$6,'11_PDCAチェックシート【実施期間中】個別事業'!#REF!,MATCH($C322,'11_PDCAチェックシート【実施期間中】個別事業'!$H$4:$V$4,0)+6)","v":{"$error":"#REF!"}},null,null,{"$f":"OFFSET('11_PDCAチェックシート【実施期間中】個別事業'!$A$6,'11_PDCAチェックシート【実施期間中】個別事業'!#REF!,MATCH($C322,'11_PDCAチェックシート【実施期間中】個別事業'!$H$4:$V$4,0)+6)","v":{"$error":"#REF!"}},null,null,{"$f":"OFFSET('11_PDCAチェックシート【実施期間中】個別事業'!$A$6,'11_PDCAチェックシート【実施期間中】個別事業'!#REF!,MATCH($C322,'11_PDCAチェックシート【実施期間中】個別事業'!$H$4:$V$4,0)+6)","v":{"$error":"#REF!"}},null,null,{"$f":"OFFSET('11_PDCAチェックシート【実施期間中】個別事業'!$A$6,'11_PDCAチェックシート【実施期間中】個別事業'!#REF!,MATCH($C322,'11_PDCAチェックシート【実施期間中】個別事業'!$H$4:$V$4,0)+6)","v":{"$error":"#REF!"}},null,null,{"$f":"OFFSET('11_PDCAチェックシート【実施期間中】個別事業'!$A$6,'11_PDCAチェックシート【実施期間中】個別事業'!#REF!,MATCH($C322,'11_PDCAチェックシート【実施期間中】個別事業'!$H$4:$V$4,0)+6)","v":{"$error":"#REF!"}}]
[null,null,null,null,"②","尺",null,null,{"$f":"OFFSET('11_PDCAチェックシート【実施期間中】個別事業'!$A$6,'11_PDCAチェックシート【実施期間中】個別事業'!$A$27,MATCH($C319,'11_PDCAチェックシート【実施期間中】個別事業'!$H$4:$V$4,0)+6)","v":""},null,null,"（秒）",null,null,null,"※単位はプルダウン選択"]
[null,null,null,null,null,"収録本数",null,null,{"$f":"OFFSET('11_PDCAチェックシート【実施期間中】個別事業'!$A$6,'11_PDCAチェックシート【実施期間中】個別事業'!$A$28,MATCH($C319,'11_PDCAチェックシート【実施期間中】個別事業'!$H$4:$V$4,0)+6)","v":""},null,null,"（本）"]
[null,null,null,null,null,"放送回数",null,null,{"$f":"OFFSET('11_PDCAチェックシート【実施期間中】個別事業'!$A$6,'11_PDCAチェックシート【実施期間中】個別事業'!$A$29,MATCH($C319,'11_PDCAチェックシート【実施期間中】個別事業'!$H$4:$V$4,0)+6)","v":""},null,null,"（回）",null,null,null,"※再放送を含む"]
[null,null,null,null,null,"備考",null,null,{"$f":"OFFSET('11_PDCAチェックシート【実施期間中】個別事業'!$A$6,'11_PDCAチェックシート【実施期間中】個別事業'!$A$30,MATCH($C319,'11_PDCAチェックシート【実施期間中】個別事業'!$H$4:$V$4,0)+6)","v":""},null,null,{"$f":"OFFSET('11_PDCAチェックシート【実施期間中】個別事業'!$A$6,'11_PDCAチェックシート【実施期間中】個別事業'!#REF!,MATCH($C326,'11_PDCAチェックシート【実施期間中】個別事業'!$H$4:$V$4,0)+6)","v":{"$error":"#REF!"}},null,null,{"$f":"OFFSET('11_PDCAチェックシート【実施期間中】個別事業'!$A$6,'11_PDCAチェックシート【実施期間中】個別事業'!#REF!,MATCH($C326,'11_PDCAチェックシート【実施期間中】個別事業'!$H$4:$V$4,0)+6)","v":{"$error":"#REF!"}},null,null,{"$f":"OFFSET('11_PDCAチェックシート【実施期間中】個別事業'!$A$6,'11_PDCAチェックシート【実施期間中】個別事業'!#REF!,MATCH($C326,'11_PDCAチェックシート【実施期間中】個別事業'!$H$4:$V$4,0)+6)","v":{"$error":"#REF!"}},null,null,{"$f":"OFFSET('11_PDCAチェックシート【実施期間中】個別事業'!$A$6,'11_PDCAチェックシート【実施期間中】個別事業'!#REF!,MATCH($C326,'11_PDCAチェックシート【実施期間中】個別事業'!$H$4:$V$4,0)+6)","v":{"$error":"#REF!"}},null,null,{"$f":"OFFSET('11_PDCAチェックシート【実施期間中】個別事業'!$A$6,'11_PDCAチェックシート【実施期間中】個別事業'!#REF!,MATCH($C326,'11_PDCAチェックシート【実施期間中】個別事業'!$H$4:$V$4,0)+6)","v":{"$error":"#REF!"}}]
[null,null,"実施期間",null,{"$f":"OFFSET('11_PDCAチェックシート【実施期間中】個別事業'!$A$6,'11_PDCAチェックシート【実施期間中】個別事業'!$A$31,MATCH($C319,'11_PDCAチェックシート【実施期間中】個別事業'!$H$4:$V$4,0)+6)","v":""},null,null,null,null,null,null,null,null,"～",null,null,null,{"$f":"OFFSET('11_PDCAチェックシート【実施期間中】個別事業'!$A$6,'11_PDCAチェックシート【実施期間中】個別事業'!$A$33,MATCH($C319,'11_PDCAチェックシート【実施期間中】個別事業'!$H$4:$V$4,0)+6)","v":""}]
[null,null,"放送時間、その他備考",null,{"$f":"OFFSET('11_PDCAチェックシート【実施期間中】個別事業'!$A$6,'11_PDCAチェックシート【実施期間中】個別事業'!$A$34,MATCH($C319,'11_PDCAチェックシート【実施期間中】個別事業'!$H$4:$V$4,0)+6)","v":""}]
[null,null,"実施日\n（※同一事業内で、\n同一の内容・場所において\n複数日実施する場合）",null,1,null,{"$f":"OFFSET('11_PDCAチェックシート【実施期間中】個別事業'!$A$6,'11_PDCAチェックシート【実施期間中】個別事業'!$A$35,MATCH($C319,'11_PDCAチェックシート【実施期間中】個別事業'!$H$4:$V$4,0)+6)","v":""},null,null,null,null,null,null,null,null,11,null,{"$f":"OFFSET('11_PDCAチェックシート【実施期間中】個別事業'!$A$6,'11_PDCAチェックシート【実施期間中】個別事業'!$A$45,MATCH($C319,'11_PDCAチェックシート【実施期間中】個別事業'!$H$4:$V$4,0)+6)","v":""}]
[null,null,null,null,2,null,{"$f":"OFFSET('11_PDCAチェックシート【実施期間中】個別事業'!$A$6,'11_PDCAチェックシート【実施期間中】個別事業'!$A$36,MATCH($C319,'11_PDCAチェックシート【実施期間中】個別事業'!$H$4:$V$4,0)+6)","v":""},null,null,null,null,null,null,null,null,12,null,{"$f":"OFFSET('11_PDCAチェックシート【実施期間中】個別事業'!$A$6,'11_PDCAチェックシート【実施期間中】個別事業'!$A$46,MATCH($C319,'11_PDCAチェックシート【実施期間中】個別事業'!$H$4:$V$4,0)+6)","v":""}]
[null,null,null,null,3,null,{"$f":"OFFSET('11_PDCAチェックシート【実施期間中】個別事業'!$A$6,'11_PDCAチェックシート【実施期間中】個別事業'!$A$37,MATCH($C319,'11_PDCAチェックシート【実施期間中】個別事業'!$H$4:$V$4,0)+6)","v":""},null,null,null,null,null,null,null,null,13,null,{"$f":"OFFSET('11_PDCAチェックシート【実施期間中】個別事業'!$A$6,'11_PDCAチェックシート【実施期間中】個別事業'!$A$47,MATCH($C319,'11_PDCAチェックシート【実施期間中】個別事業'!$H$4:$V$4,0)+6)","v":""}]
[null,null,null,null,4,null,{"$f":"OFFSET('11_PDCAチェックシート【実施期間中】個別事業'!$A$6,'11_PDCAチェックシート【実施期間中】個別事業'!$A$38,MATCH($C319,'11_PDCAチェックシート【実施期間中】個別事業'!$H$4:$V$4,0)+6)","v":""},null,null,null,null,null,null,null,null,14,null,{"$f":"OFFSET('11_PDCAチェックシート【実施期間中】個別事業'!$A$6,'11_PDCAチェックシート【実施期間中】個別事業'!$A$48,MATCH($C319,'11_PDCAチェックシート【実施期間中】個別事業'!$H$4:$V$4,0)+6)","v":""}]
[null,null,null,null,5,null,{"$f":"OFFSET('11_PDCAチェックシート【実施期間中】個別事業'!$A$6,'11_PDCAチェックシート【実施期間中】個別事業'!$A$39,MATCH($C319,'11_PDCAチェックシート【実施期間中】個別事業'!$H$4:$V$4,0)+6)","v":""},null,null,null,null,null,null,null,null,15,null,{"$f":"OFFSET('11_PDCAチェックシート【実施期間中】個別事業'!$A$6,'11_PDCAチェックシート【実施期間中】個別事業'!$A$49,MATCH($C319,'11_PDCAチェックシート【実施期間中】個別事業'!$H$4:$V$4,0)+6)","v":""}]
[null,null,null,null,6,null,{"$f":"OFFSET('11_PDCAチェックシート【実施期間中】個別事業'!$A$6,'11_PDCAチェックシート【実施期間中】個別事業'!$A$40,MATCH($C319,'11_PDCAチェックシート【実施期間中】個別事業'!$H$4:$V$4,0)+6)","v":""},null,null,null,null,null,null,null,null,16,null,{"$f":"OFFSET('11_PDCAチェックシート【実施期間中】個別事業'!$A$6,'11_PDCAチェックシート【実施期間中】個別事業'!$A$50,MATCH($C319,'11_PDCAチェックシート【実施期間中】個別事業'!$H$4:$V$4,0)+6)","v":""}]
[null,null,null,null,7,null,{"$f":"OFFSET('11_PDCAチェックシート【実施期間中】個別事業'!$A$6,'11_PDCAチェックシート【実施期間中】個別事業'!$A$41,MATCH($C319,'11_PDCAチェックシート【実施期間中】個別事業'!$H$4:$V$4,0)+6)","v":""},null,null,null,null,null,null,null,null,17,null,{"$f":"OFFSET('11_PDCAチェックシート【実施期間中】個別事業'!$A$6,'11_PDCAチェックシート【実施期間中】個別事業'!$A$51,MATCH($C319,'11_PDCAチェックシート【実施期間中】個別事業'!$H$4:$V$4,0)+6)","v":""}]
[null,null,null,null,8,null,{"$f":"OFFSET('11_PDCAチェックシート【実施期間中】個別事業'!$A$6,'11_PDCAチェックシート【実施期間中】個別事業'!$A$42,MATCH($C319,'11_PDCAチェックシート【実施期間中】個別事業'!$H$4:$V$4,0)+6)","v":""},null,null,null,null,null,null,null,null,18,null,{"$f":"OFFSET('11_PDCAチェックシート【実施期間中】個別事業'!$A$6,'11_PDCAチェックシート【実施期間中】個別事業'!$A$52,MATCH($C319,'11_PDCAチェックシート【実施期間中】個別事業'!$H$4:$V$4,0)+6)","v":""}]
[null,null,null,null,9,null,{"$f":"OFFSET('11_PDCAチェックシート【実施期間中】個別事業'!$A$6,'11_PDCAチェックシート【実施期間中】個別事業'!$A$43,MATCH($C319,'11_PDCAチェックシート【実施期間中】個別事業'!$H$4:$V$4,0)+6)","v":""},null,null,null,null,null,null,null,null,19,null,{"$f":"OFFSET('11_PDCAチェックシート【実施期間中】個別事業'!$A$6,'11_PDCAチェックシート【実施期間中】個別事業'!$A$53,MATCH($C319,'11_PDCAチェックシート【実施期間中】個別事業'!$H$4:$V$4,0)+6)","v":""}]
[null,null,null,null,10,null,{"$f":"OFFSET('11_PDCAチェックシート【実施期間中】個別事業'!$A$6,'11_PDCAチェックシート【実施期間中】個別事業'!$A$44,MATCH($C319,'11_PDCAチェックシート【実施期間中】個別事業'!$H$4:$V$4,0)+6)","v":""},null,null,null,null,null,null,null,null,20,null,{"$f":"OFFSET('11_PDCAチェックシート【実施期間中】個別事業'!$A$6,'11_PDCAチェックシート【実施期間中】個別事業'!$A$54,MATCH($C319,'11_PDCAチェックシート【実施期間中】個別事業'!$H$4:$V$4,0)+6)","v":""}]
[null,null,"事業の概要",null,{"$f":"OFFSET('11_PDCAチェックシート【実施期間中】個別事業'!$A$6,'11_PDCAチェックシート【実施期間中】個別事業'!$A$55,MATCH($C319,'11_PDCAチェックシート【実施期間中】個別事業'!$H$4:$V$4,0)+6)","v":""}]
[null,null,"地域団体との連携\n※地方公共団体を含む",null,{"$f":"'2_別紙1-2_実施計画書'!E371","v":0}]
[null,null,"実施結果",null,{"$f":"OFFSET('11_PDCAチェックシート【実施期間中】個別事業'!$A$6,'11_PDCAチェックシート【実施期間中】個別事業'!$A$57,MATCH($C319,'11_PDCAチェックシート【実施期間中】個別事業'!$H$4:$V$4,0)+6)","v":0}]
[]
[null,null,"主な訴求対象","計画",{"$f":"OFFSET('11_PDCAチェックシート【実施期間中】個別事業'!$A$6,'11_PDCAチェックシート【実施期間中】個別事業'!$A$58,MATCH($C319,'11_PDCAチェックシート【実施期間中】個別事業'!$H$4:$V$4,0)+6)","v":""}]
[null,null,null,"結果",{"$f":"OFFSET('11_PDCAチェックシート【実施期間中】個別事業'!$A$6,'11_PDCAチェックシート【実施期間中】個別事業'!$A$59,MATCH($C319,'11_PDCAチェックシート【実施期間中】個別事業'!$H$4:$V$4,0)+6)","v":0}]
[null,null,"規模（リーチ数）\n（想定及び実績）",null,"カテゴリ①（プルダウン選択）⇒",null,null,null,null,null,null,null,null,null,null,{"$f":"OFFSET('11_PDCAチェックシート【実施期間中】個別事業'!$A$6,'11_PDCAチェックシート【実施期間中】個別事業'!$A$60,MATCH($C319,'11_PDCAチェックシート【実施期間中】個別事業'!$H$4:$V$4,0)+6)","v":"聴取人口（番組・CM単位であれば）"}]
[null,null,null,null,"計画値",null,null,null,"計",null,{"$f":"'2_別紙1-2_実施計画書'!K377","v":0}]
[null,null,null,null,"実績値",null,null,null,"計",null,{"$f":"OFFSET('11_PDCAチェックシート【実施期間中】個別事業'!$A$6,'11_PDCAチェックシート【実施期間中】個別事業'!$A$63,MATCH($C319,'11_PDCAチェックシート【実施期間中】個別事業'!$H$4:$V$4,0)+6)","v":0}]
[null,null,null,null,"算出根拠",null,null,null,{"$f":"OFFSET('11_PDCAチェックシート【実施期間中】個別事業'!$A$6,'11_PDCAチェックシート【実施期間中】個別事業'!$A$64,MATCH($C319,'11_PDCAチェックシート【実施期間中】個別事業'!$H$4:$V$4,0)+6)","v":""}]
[null,null,null,null,"カテゴリ②（プルダウン選択）⇒",null,null,null,null,null,null,null,null,null,null,{"$f":"OFFSET('11_PDCAチェックシート【実施期間中】個別事業'!$A$6,'11_PDCAチェックシート【実施期間中】個別事業'!$A$65,MATCH($C319,'11_PDCAチェックシート【実施期間中】個別事業'!$H$4:$V$4,0)+6)","v":""}]
[null,null,null,null,"計画値",null,null,null,"計",null,{"$f":"'2_別紙1-2_実施計画書'!K381","v":0}]
[null,null,null,null,"実績値",null,null,null,"計",null,{"$f":"OFFSET('11_PDCAチェックシート【実施期間中】個別事業'!$A$6,'11_PDCAチェックシート【実施期間中】個別事業'!$A$68,MATCH($C319,'11_PDCAチェックシート【実施期間中】個別事業'!$H$4:$V$4,0)+6)","v":0}]
[null,null,null,null,"算出根拠",null,null,null,{"$f":"OFFSET('11_PDCAチェックシート【実施期間中】個別事業'!$A$6,'11_PDCAチェックシート【実施期間中】個別事業'!$A$69,MATCH($C319,'11_PDCAチェックシート【実施期間中】個別事業'!$H$4:$V$4,0)+6)","v":""}]
[null,null,"COOL CHOICE 賛同数\n（想定及び実績）",null,"計画値",null,null,null,"団体",null,{"$f":"OFFSET('11_PDCAチェックシート【実施期間中】個別事業'!$A$6,'11_PDCAチェックシート【実施期間中】個別事業'!$A$71,MATCH($C319,'11_PDCAチェックシート【実施期間中】個別事業'!$H$4:$V$4,0)+6)","v":0},null,null,null,null,"、個人",null,{"$f":"OFFSET('11_PDCAチェックシート【実施期間中】個別事業'!$A$6,'11_PDCAチェックシート【実施期間中】個別事業'!$A$74,MATCH($C319,'11_PDCAチェックシート【実施期間中】個別事業'!$H$4:$V$4,0)+6)","v":0}]
[null,null,null,null,"実績値",null,null,null,"団体",null,{"$f":"OFFSET('11_PDCAチェックシート【実施期間中】個別事業'!$A$6,'11_PDCAチェックシート【実施期間中】個別事業'!$A$72,MATCH($C319,'11_PDCAチェックシート【実施期間中】個別事業'!$H$4:$V$4,0)+6)","v":0},null,null,null,null,"、個人",null,{"$f":"OFFSET('11_PDCAチェックシート【実施期間中】個別事業'!$A$6,'11_PDCAチェックシート【実施期間中】個別事業'!$A$75,MATCH($C319,'11_PDCAチェックシート【実施期間中】個別事業'!$H$4:$V$4,0)+6)","v":0}]
[null,null,"効果検証\n（アンケート）予定",null,"※アンケートの実施予定をプルダウンより選択してください。"]
[null,null,null,null,"公募要領に規定のアンケート",null,null,null,null,null,null,null,null,null,null,null,null,null,null,null,null,"貴事業者独自のアンケート"]
[null,null,null,null,"省エネ機器",null,null,null,"省エネ住宅",null,null,null,"エコドライブ",null,null,null,"低炭素物流（宅配便の再配達防止）"]
[null,null,null,null,{"$f":"OFFSET('11_PDCAチェックシート【実施期間中】個別事業'!$A$6,'11_PDCAチェックシート【実施期間中】個別事業'!$A$76,MATCH($C319,'11_PDCAチェックシート【実施期間中】個別事業'!$H$4:$V$4,0)+6)","v":"- 選択 -"},null,null,null,{"$f":"OFFSET('11_PDCAチェックシート【実施期間中】個別事業'!$A$6,'11_PDCAチェックシート【実施期間中】個別事業'!$A$77,MATCH($C319,'11_PDCAチェックシート【実施期間中】個別事業'!$H$4:$V$4,0)+6)","v":"- 選択 -"},null,null,null,{"$f":"OFFSET('11_PDCAチェックシート【実施期間中】個別事業'!$A$6,'11_PDCAチェックシート【実施期間中】個別事業'!$A$78,MATCH($C319,'11_PDCAチェックシート【実施期間中】個別事業'!$H$4:$V$4,0)+6)","v":"- 選択 -"},null,null,null,{"$f":"OFFSET('11_PDCAチェックシート【実施期間中】個別事業'!$A$6,'11_PDCAチェックシート【実施期間中】個別事業'!$A$79,MATCH($C319,'11_PDCAチェックシート【実施期間中】個別事業'!$H$4:$V$4,0)+6)","v":"- 選択 -"},null,null,null,null,{"$f":"OFFSET('11_PDCAチェックシート【実施期間中】個別事業'!$A$6,'11_PDCAチェックシート【実施期間中】個別事業'!$A$80,MATCH($C319,'11_PDCAチェックシート【実施期間中】個別事業'!$H$4:$V$4,0)+6)","v":"- 選択 -"}]
[null,null,null,null,"内容（",null,{"$f":"OFFSET('11_PDCAチェックシート【実施期間中】個別事業'!$A$6,'11_PDCAチェックシート【実施期間中】個別事業'!$A$81,MATCH($C319,'11_PDCAチェックシート【実施期間中】個別事業'!$H$4:$V$4,0)+6)","v":""},null,null,null,null,null,null,null,null,null,null,null,null,null,null,null,null,null,null,"）"]
[null,null,null,null,"目標回収数",null,null,null,"計",{"$f":"OFFSET('11_PDCAチェックシート【実施期間中】個別事業'!$A$6,'11_PDCAチェックシート【実施期間中】個別事業'!$A$83,MATCH($C319,'11_PDCAチェックシート【実施期間中】個別事業'!$H$4:$V$4,0)+6)","v":0},null,null,"枚",null,"※複数ある場合は、平均アンケート回収数"]
[null,null,null,null,"実績値",null,null,null,"計",{"$f":"OFFSET('11_PDCAチェックシート【実施期間中】個別事業'!$A$6,'11_PDCAチェックシート【実施期間中】個別事業'!$A$84,MATCH($C319,'11_PDCAチェックシート【実施期間中】個別事業'!$H$4:$V$4,0)+6)","v":0},null,null,"枚",null,"※複数ある場合は、平均アンケート回収数"]
[]
[null,null,"項目",null,"内容"]
[null,null,"事業7","事業名\n（番組・CM名）",{"$f":"OFFSET('11_PDCAチェックシート【実施期間中】個別事業'!$A$6,,MATCH(C376,'11_PDCAチェックシート【実施期間中】個別事業'!$H$4:$V$4,0)+6)","v":0}]
[null,null,"普及啓発テーマ",null,"※該当する普及啓発テーマすべてをチェックしてください。"]
[null,null,null,null,"①",null,"②",null,"③",null,"④",null,"⑤",null,"⑥",null,"⑦",null,"⑧",null,"⑨",null,"⑩",null,"⑪",null,null,null,"①","②","③","④","⑤","⑥","⑦","⑧","⑨","⑩","⑪"]
[null,null,null,null,"省ｴﾈ機器",null,"省ｴﾈ住宅",null,"ｴｺｶｰ",null,"ｸｰﾙﾋﾞｽﾞ",null,"ｳｫｰﾑﾋﾞｽﾞ",null,"照明の\n高効率利用",null,"ｴｺﾄﾞﾗｲﾌﾞ",null,"ｶｰｼｪｱ",null,"公共交通\n機関の利用",null,"再配達防止",null,"シェアエコ",null,null,null,"省ｴﾈ機器","省ｴﾈ住宅","ｴｺｶｰ","ｸｰﾙﾋﾞｽﾞ","ｳｫｰﾑﾋﾞｽﾞ","照明の\n高効率利用","ｴｺﾄﾞﾗｲﾌﾞ","ｶｰｼｪｱ","公共交通\n機関の利用","再配達防止","シェアエコ"]
[null,null,null,null,null,null,null,null,null,null,null,null,null,null,null,null,null,null,null,null,null,null,null,null,null,null,null,null,{"$f":"IF(COUNTIFS('11_PDCAチェックシート【実施期間中】個別事業'!$E$7:$E$17,'7_別紙1-2_実施報告書'!AC378,OFFSET('11_PDCAチェックシート【実施期間中】個別事業'!$F$7,,MATCH('7_別紙1-2_実施報告書'!$C376,'11_PDCAチェックシート【実施期間中】個別事業'!$H$4:$V$4,0)+1,11,1),1),1,0)","v":0},{"$f":"IF(COUNTIFS('11_PDCAチェックシート【実施期間中】個別事業'!$E$7:$E$17,'7_別紙1-2_実施報告書'!AD378,OFFSET('11_PDCAチェックシート【実施期間中】個別事業'!$F$7,,MATCH('7_別紙1-2_実施報告書'!$C376,'11_PDCAチェックシート【実施期間中】個別事業'!$H$4:$V$4,0)+1,11,1),1),1,0)","v":0},{"$f":"IF(COUNTIFS('11_PDCAチェックシート【実施期間中】個別事業'!$E$7:$E$17,'7_別紙1-2_実施報告書'!AE378,OFFSET('11_PDCAチェックシート【実施期間中】個別事業'!$F$7,,MATCH('7_別紙1-2_実施報告書'!$C376,'11_PDCAチェックシート【実施期間中】個別事業'!$H$4:$V$4,0)+1,11,1),1),1,0)","v":0},{"$f":"IF(COUNTIFS('11_PDCAチェックシート【実施期間中】個別事業'!$E$7:$E$17,'7_別紙1-2_実施報告書'!AF378,OFFSET('11_PDCAチェックシート【実施期間中】個別事業'!$F$7,,MATCH('7_別紙1-2_実施報告書'!$C376,'11_PDCAチェックシート【実施期間中】個別事業'!$H$4:$V$4,0)+1,11,1),1),1,0)","v":0},{"$f":"IF(COUNTIFS('11_PDCAチェックシート【実施期間中】個別事業'!$E$7:$E$17,'7_別紙1-2_実施報告書'!AG378,OFFSET('11_PDCAチェックシート【実施期間中】個別事業'!$F$7,,MATCH('7_別紙1-2_実施報告書'!$C376,'11_PDCAチェックシート【実施期間中】個別事業'!$H$4:$V$4,0)+1,11,1),1),1,0)","v":0},{"$f":"IF(COUNTIFS('11_PDCAチェックシート【実施期間中】個別事業'!$E$7:$E$17,'7_別紙1-2_実施報告書'!AH378,OFFSET('11_PDCAチェックシート【実施期間中】個別事業'!$F$7,,MATCH('7_別紙1-2_実施報告書'!$C376,'11_PDCAチェックシート【実施期間中】個別事業'!$H$4:$V$4,0)+1,11,1),1),1,0)","v":0},false,{"$f":"IF(COUNTIFS('11_PDCAチェックシート【実施期間中】個別事業'!$E$7:$E$17,'7_別紙1-2_実施報告書'!AJ378,OFFSET('11_PDCAチェックシート【実施期間中】個別事業'!$F$7,,MATCH('7_別紙1-2_実施報告書'!$C376,'11_PDCAチェックシート【実施期間中】個別事業'!$H$4:$V$4,0)+1,11,1),1),1,0)","v":0},{"$f":"IF(COUNTIFS('11_PDCAチェックシート【実施期間中】個別事業'!$E$7:$E$17,'7_別紙1-2_実施報告書'!AK378,OFFSET('11_PDCAチェックシート【実施期間中】個別事業'!$F$7,,MATCH('7_別紙1-2_実施報告書'!$C376,'11_PDCAチェックシート【実施期間中】個別事業'!$H$4:$V$4,0)+1,11,1),1),1,0)","v":0},{"$f":"IF(COUNTIFS('11_PDCAチェックシート【実施期間中】個別事業'!$E$7:$E$17,'7_別紙1-2_実施報告書'!AL378,OFFSET('11_PDCAチェックシート【実施期間中】個別事業'!$F$7,,MATCH('7_別紙1-2_実施報告書'!$C376,'11_PDCAチェックシート【実施期間中】個別事業'!$H$4:$V$4,0)+1,11,1),1),1,0)","v":0},false,{"$f":"COUNTIFS(AC380:AM380,\"TRUE\")","v":0}]
[null,null,"訴求手法",null,"※訴求手法については、該当する欄にチェックしてください。"]
[null,null,null,null,"a) 情報発信型（受動型）",null,null,null,null,null,null,"b) 情報発信型（能動型）",null,null,null,null,null,null,"c) 双方向体験交流型"]
[null,null,null,null,"ラジオ、新聞・広報紙等",null,null,null,null,null,null,"講演会・パネル展示等",null,null,null,null,null,null,"試乗・体験会、省ｴﾈ診断等",null,null,null,null,null,null,null,null,null,"a)","b)","c)"]
[null,null,null,null,null,null,null,null,null,null,null,null,null,null,null,null,null,null,null,null,null,null,null,null,null,null,null,null,false,false,false,null,null,null,null,null,null,null,null,{"$f":"COUNTIFS(AC384:AM384,\"TRUE\")","v":0}]
[null,null,"情報発信カテゴリー\n（プルダウン選択）",null,{"$f":"OFFSET('11_PDCAチェックシート【実施期間中】個別事業'!$A$6,'11_PDCAチェックシート【実施期間中】個別事業'!$A$21,MATCH($C376,'11_PDCAチェックシート【実施期間中】個別事業'!$H$4:$V$4,0)+6)","v":"-"},null,null,null,null,null,null,null,null,null,null,{"$f":"IF(OFFSET('11_PDCAチェックシート【実施期間中】個別事業'!$A$6,'11_PDCAチェックシート【実施期間中】個別事業'!$A$22,MATCH($C376,'11_PDCAチェックシート【実施期間中】個別事業'!$H$4:$V$4,0)+6)=\"\",\"\",OFFSET('11_PDCAチェックシート【実施期間中】個別事業'!$A$6,'11_PDCAチェックシート【実施期間中】個別事業'!$A$22,MATCH($C376,'11_PDCAチェックシート【実施期間中】個別事業'!$H$4:$V$4,0)+6))","v":""}]
[]
[null,null,"尺・放送回数",null,"※収録本数、放送回数を定量的に必ず記載のこと"]
[null,null,null,null,"①","尺",null,null,{"$f":"OFFSET('11_PDCAチェックシート【実施期間中】個別事業'!$A$6,'11_PDCAチェックシート【実施期間中】個別事業'!$A$23,MATCH($C376,'11_PDCAチェックシート【実施期間中】個別事業'!$H$4:$V$4,0)+6)","v":""},null,null,"（秒）",null,null,null,"※単位はプルダウン選択"]
[null,null,null,null,null,"収録本数",null,null,{"$f":"OFFSET('11_PDCAチェックシート【実施期間中】個別事業'!$A$6,'11_PDCAチェックシート【実施期間中】個別事業'!$A$24,MATCH($C376,'11_PDCAチェックシート【実施期間中】個別事業'!$H$4:$V$4,0)+6)","v":""},null,null,"（本）"]
[null,null,null,null,null,"放送回数",null,null,{"$f":"OFFSET('11_PDCAチェックシート【実施期間中】個別事業'!$A$6,'11_PDCAチェックシート【実施期間中】個別事業'!$A$25,MATCH($C376,'11_PDCAチェックシート【実施期間中】個別事業'!$H$4:$V$4,0)+6)","v":""},null,null,"（回）",null,null,null,"※再放送を含む"]
[null,null,null,null,null,"備考",null,null,{"$f":"OFFSET('11_PDCAチェックシート【実施期間中】個別事業'!$A$6,'11_PDCAチェックシート【実施期間中】個別事業'!$A$26,MATCH($C376,'11_PDCAチェックシート【実施期間中】個別事業'!$H$4:$V$4,0)+6)","v":""},null,null,{"$f":"OFFSET('11_PDCAチェックシート【実施期間中】個別事業'!$A$6,'11_PDCAチェックシート【実施期間中】個別事業'!#REF!,MATCH($C379,'11_PDCAチェックシート【実施期間中】個別事業'!$H$4:$V$4,0)+6)","v":{"$error":"#REF!"}},null,null,{"$f":"OFFSET('11_PDCAチェックシート【実施期間中】個別事業'!$A$6,'11_PDCAチェックシート【実施期間中】個別事業'!#REF!,MATCH($C379,'11_PDCAチェックシート【実施期間中】個別事業'!$H$4:$V$4,0)+6)","v":{"$error":"#REF!"}},null,null,{"$f":"OFFSET('11_PDCAチェックシート【実施期間中】個別事業'!$A$6,'11_PDCAチェックシート【実施期間中】個別事業'!#REF!,MATCH($C379,'11_PDCAチェックシート【実施期間中】個別事業'!$H$4:$V$4,0)+6)","v":{"$error":"#REF!"}},null,null,{"$f":"OFFSET('11_PDCAチェックシート【実施期間中】個別事業'!$A$6,'11_PDCAチェックシート【実施期間中】個別事業'!#REF!,MATCH($C379,'11_PDCAチェックシート【実施期間中】個別事業'!$H$4:$V$4,0)+6)","v":{"$error":"#REF!"}},null,null,{"$f":"OFFSET('11_PDCAチェックシート【実施期間中】個別事業'!$A$6,'11_PDCAチェックシート【実施期間中】個別事業'!#REF!,MATCH($C379,'11_PDCAチェックシート【実施期間中】個別事業'!$H$4:$V$4,0)+6)","v":{"$error":"#REF!"}}]
[null,null,null,null,"②","尺",null,null,{"$f":"OFFSET('11_PDCAチェックシート【実施期間中】個別事業'!$A$6,'11_PDCAチェックシート【実施期間中】個別事業'!$A$27,MATCH($C376,'11_PDCAチェックシート【実施期間中】個別事業'!$H$4:$V$4,0)+6)","v":""},null,null,"（秒）",null,null,null,"※単位はプルダウン選択"]
[null,null,null,null,null,"収録本数",null,null,{"$f":"OFFSET('11_PDCAチェックシート【実施期間中】個別事業'!$A$6,'11_PDCAチェックシート【実施期間中】個別事業'!$A$28,MATCH($C376,'11_PDCAチェックシート【実施期間中】個別事業'!$H$4:$V$4,0)+6)","v":""},null,null,"（本）"]
[null,null,null,null,null,"放送回数",null,null,{"$f":"OFFSET('11_PDCAチェックシート【実施期間中】個別事業'!$A$6,'11_PDCAチェックシート【実施期間中】個別事業'!$A$29,MATCH($C376,'11_PDCAチェックシート【実施期間中】個別事業'!$H$4:$V$4,0)+6)","v":""},null,null,"（回）",null,null,null,"※再放送を含む"]
[null,null,null,null,null,"備考",null,null,{"$f":"OFFSET('11_PDCAチェックシート【実施期間中】個別事業'!$A$6,'11_PDCAチェックシート【実施期間中】個別事業'!$A$30,MATCH($C376,'11_PDCAチェックシート【実施期間中】個別事業'!$H$4:$V$4,0)+6)","v":""},null,null,{"$f":"OFFSET('11_PDCAチェックシート【実施期間中】個別事業'!$A$6,'11_PDCAチェックシート【実施期間中】個別事業'!#REF!,MATCH($C383,'11_PDCAチェックシート【実施期間中】個別事業'!$H$4:$V$4,0)+6)","v":{"$error":"#REF!"}},null,null,{"$f":"OFFSET('11_PDCAチェックシート【実施期間中】個別事業'!$A$6,'11_PDCAチェックシート【実施期間中】個別事業'!#REF!,MATCH($C383,'11_PDCAチェックシート【実施期間中】個別事業'!$H$4:$V$4,0)+6)","v":{"$error":"#REF!"}},null,null,{"$f":"OFFSET('11_PDCAチェックシート【実施期間中】個別事業'!$A$6,'11_PDCAチェックシート【実施期間中】個別事業'!#REF!,MATCH($C383,'11_PDCAチェックシート【実施期間中】個別事業'!$H$4:$V$4,0)+6)","v":{"$error":"#REF!"}},null,null,{"$f":"OFFSET('11_PDCAチェックシート【実施期間中】個別事業'!$A$6,'11_PDCAチェックシート【実施期間中】個別事業'!#REF!,MATCH($C383,'11_PDCAチェックシート【実施期間中】個別事業'!$H$4:$V$4,0)+6)","v":{"$error":"#REF!"}},null,null,{"$f":"OFFSET('11_PDCAチェックシート【実施期間中】個別事業'!$A$6,'11_PDCAチェックシート【実施期間中】個別事業'!#REF!,MATCH($C383,'11_PDCAチェックシート【実施期間中】個別事業'!$H$4:$V$4,0)+6)","v":{"$error":"#REF!"}}]
[null,null,"実施期間",null,{"$f":"OFFSET('11_PDCAチェックシート【実施期間中】個別事業'!$A$6,'11_PDCAチェックシート【実施期間中】個別事業'!$A$31,MATCH($C376,'11_PDCAチェックシート【実施期間中】個別事業'!$H$4:$V$4,0)+6)","v":""},null,null,null,null,null,null,null,null,"～",null,null,null,{"$f":"OFFSET('11_PDCAチェックシート【実施期間中】個別事業'!$A$6,'11_PDCAチェックシート【実施期間中】個別事業'!$A$33,MATCH($C376,'11_PDCAチェックシート【実施期間中】個別事業'!$H$4:$V$4,0)+6)","v":""}]
[null,null,"放送時間、その他備考",null,{"$f":"OFFSET('11_PDCAチェックシート【実施期間中】個別事業'!$A$6,'11_PDCAチェックシート【実施期間中】個別事業'!$A$34,MATCH($C376,'11_PDCAチェックシート【実施期間中】個別事業'!$H$4:$V$4,0)+6)","v":""}]
[null,null,"実施日\n（※同一事業内で、\n同一の内容・場所において\n複数日実施する場合）",null,1,null,{"$f":"OFFSET('11_PDCAチェックシート【実施期間中】個別事業'!$A$6,'11_PDCAチェックシート【実施期間中】個別事業'!$A$35,MATCH($C376,'11_PDCAチェックシート【実施期間中】個別事業'!$H$4:$V$4,0)+6)","v":""},null,null,null,null,null,null,null,null,11,null,{"$f":"OFFSET('11_PDCAチェックシート【実施期間中】個別事業'!$A$6,'11_PDCAチェックシート【実施期間中】個別事業'!$A$45,MATCH($C376,'11_PDCAチェックシート【実施期間中】個別事業'!$H$4:$V$4,0)+6)","v":""}]
[null,null,null,null,2,null,{"$f":"OFFSET('11_PDCAチェックシート【実施期間中】個別事業'!$A$6,'11_PDCAチェックシート【実施期間中】個別事業'!$A$36,MATCH($C376,'11_PDCAチェックシート【実施期間中】個別事業'!$H$4:$V$4,0)+6)","v":""},null,null,null,null,null,null,null,null,12,null,{"$f":"OFFSET('11_PDCAチェックシート【実施期間中】個別事業'!$A$6,'11_PDCAチェックシート【実施期間中】個別事業'!$A$46,MATCH($C376,'11_PDCAチェックシート【実施期間中】個別事業'!$H$4:$V$4,0)+6)","v":""}]
[null,null,null,null,3,null,{"$f":"OFFSET('11_PDCAチェックシート【実施期間中】個別事業'!$A$6,'11_PDCAチェックシート【実施期間中】個別事業'!$A$37,MATCH($C376,'11_PDCAチェックシート【実施期間中】個別事業'!$H$4:$V$4,0)+6)","v":""},null,null,null,null,null,null,null,null,13,null,{"$f":"OFFSET('11_PDCAチェックシート【実施期間中】個別事業'!$A$6,'11_PDCAチェックシート【実施期間中】個別事業'!$A$47,MATCH($C376,'11_PDCAチェックシート【実施期間中】個別事業'!$H$4:$V$4,0)+6)","v":""}]
[null,null,null,null,4,null,{"$f":"OFFSET('11_PDCAチェックシート【実施期間中】個別事業'!$A$6,'11_PDCAチェックシート【実施期間中】個別事業'!$A$38,MATCH($C376,'11_PDCAチェックシート【実施期間中】個別事業'!$H$4:$V$4,0)+6)","v":""},null,null,null,null,null,null,null,null,14,null,{"$f":"OFFSET('11_PDCAチェックシート【実施期間中】個別事業'!$A$6,'11_PDCAチェックシート【実施期間中】個別事業'!$A$48,MATCH($C376,'11_PDCAチェックシート【実施期間中】個別事業'!$H$4:$V$4,0)+6)","v":""}]
[null,null,null,null,5,null,{"$f":"OFFSET('11_PDCAチェックシート【実施期間中】個別事業'!$A$6,'11_PDCAチェックシート【実施期間中】個別事業'!$A$39,MATCH($C376,'11_PDCAチェックシート【実施期間中】個別事業'!$H$4:$V$4,0)+6)","v":""},null,null,null,null,null,null,null,null,15,null,{"$f":"OFFSET('11_PDCAチェックシート【実施期間中】個別事業'!$A$6,'11_PDCAチェックシート【実施期間中】個別事業'!$A$49,MATCH($C376,'11_PDCAチェックシート【実施期間中】個別事業'!$H$4:$V$4,0)+6)","v":""}]
[null,null,null,null,6,null,{"$f":"OFFSET('11_PDCAチェックシート【実施期間中】個別事業'!$A$6,'11_PDCAチェックシート【実施期間中】個別事業'!$A$40,MATCH($C376,'11_PDCAチェックシート【実施期間中】個別事業'!$H$4:$V$4,0)+6)","v":""},null,null,null,null,null,null,null,null,16,null,{"$f":"OFFSET('11_PDCAチェックシート【実施期間中】個別事業'!$A$6,'11_PDCAチェックシート【実施期間中】個別事業'!$A$50,MATCH($C376,'11_PDCAチェックシート【実施期間中】個別事業'!$H$4:$V$4,0)+6)","v":""}]
[null,null,null,null,7,null,{"$f":"OFFSET('11_PDCAチェックシート【実施期間中】個別事業'!$A$6,'11_PDCAチェックシート【実施期間中】個別事業'!$A$41,MATCH($C376,'11_PDCAチェックシート【実施期間中】個別事業'!$H$4:$V$4,0)+6)","v":""},null,null,null,null,null,null,null,null,17,null,{"$f":"OFFSET('11_PDCAチェックシート【実施期間中】個別事業'!$A$6,'11_PDCAチェックシート【実施期間中】個別事業'!$A$51,MATCH($C376,'11_PDCAチェックシート【実施期間中】個別事業'!$H$4:$V$4,0)+6)","v":""}]
[null,null,null,null,8,null,{"$f":"OFFSET('11_PDCAチェックシート【実施期間中】個別事業'!$A$6,'11_PDCAチェックシート【実施期間中】個別事業'!$A$42,MATCH($C376,'11_PDCAチェックシート【実施期間中】個別事業'!$H$4:$V$4,0)+6)","v":""},null,null,null,null,null,null,null,null,18,null,{"$f":"OFFSET('11_PDCAチェックシート【実施期間中】個別事業'!$A$6,'11_PDCAチェックシート【実施期間中】個別事業'!$A$52,MATCH($C376,'11_PDCAチェックシート【実施期間中】個別事業'!$H$4:$V$4,0)+6)","v":""}]
[null,null,null,null,9,null,{"$f":"OFFSET('11_PDCAチェックシート【実施期間中】個別事業'!$A$6,'11_PDCAチェックシート【実施期間中】個別事業'!$A$43,MATCH($C376,'11_PDCAチェックシート【実施期間中】個別事業'!$H$4:$V$4,0)+6)","v":""},null,null,null,null,null,null,null,null,19,null,{"$f":"OFFSET('11_PDCAチェックシート【実施期間中】個別事業'!$A$6,'11_PDCAチェックシート【実施期間中】個別事業'!$A$53,MATCH($C376,'11_PDCAチェックシート【実施期間中】個別事業'!$H$4:$V$4,0)+6)","v":""}]
[null,null,null,null,10,null,{"$f":"OFFSET('11_PDCAチェックシート【実施期間中】個別事業'!$A$6,'11_PDCAチェックシート【実施期間中】個別事業'!$A$44,MATCH($C376,'11_PDCAチェックシート【実施期間中】個別事業'!$H$4:$V$4,0)+6)","v":""},null,null,null,null,null,null,null,null,20,null,{"$f":"OFFSET('11_PDCAチェックシート【実施期間中】個別事業'!$A$6,'11_PDCAチェックシート【実施期間中】個別事業'!$A$54,MATCH($C376,'11_PDCAチェックシート【実施期間中】個別事業'!$H$4:$V$4,0)+6)","v":""}]
[null,null,"事業の概要",null,{"$f":"OFFSET('11_PDCAチェックシート【実施期間中】個別事業'!$A$6,'11_PDCAチェックシート【実施期間中】個別事業'!$A$55,MATCH($C376,'11_PDCAチェックシート【実施期間中】個別事業'!$H$4:$V$4,0)+6)","v":""}]
[null,null,"地域団体との連携\n※地方公共団体を含む",null,{"$f":"'2_別紙1-2_実施計画書'!E427","v":0}]
[null,null,"実施結果",null,{"$f":"OFFSET('11_PDCAチェックシート【実施期間中】個別事業'!$A$6,'11_PDCAチェックシート【実施期間中】個別事業'!$A$57,MATCH($C376,'11_PDCAチェックシート【実施期間中】個別事業'!$H$4:$V$4,0)+6)","v":0}]
[]
[null,null,"主な訴求対象","計画",{"$f":"OFFSET('11_PDCAチェックシート【実施期間中】個別事業'!$A$6,'11_PDCAチェックシート【実施期間中】個別事業'!$A$58,MATCH($C376,'11_PDCAチェックシート【実施期間中】個別事業'!$H$4:$V$4,0)+6)","v":""}]
[null,null,null,"結果",{"$f":"OFFSET('11_PDCAチェックシート【実施期間中】個別事業'!$A$6,'11_PDCAチェックシート【実施期間中】個別事業'!$A$59,MATCH($C376,'11_PDCAチェックシート【実施期間中】個別事業'!$H$4:$V$4,0)+6)","v":0}]
[null,null,"規模（リーチ数）\n（想定及び実績）",null,"カテゴリ①（プルダウン選択）⇒",null,null,null,null,null,null,null,null,null,null,{"$f":"OFFSET('11_PDCAチェックシート【実施期間中】個別事業'!$A$6,'11_PDCAチェックシート【実施期間中】個別事業'!$A$60,MATCH($C376,'11_PDCAチェックシート【実施期間中】個別事業'!$H$4:$V$4,0)+6)","v":"聴取人口（番組・CM単位であれば）"}]
[null,null,null,null,"計画値",null,null,null,"計",null,{"$f":"'2_別紙1-2_実施計画書'!K433","v":0}]
[null,null,null,null,"実績値",null,null,null,"計",null,{"$f":"OFFSET('11_PDCAチェックシート【実施期間中】個別事業'!$A$6,'11_PDCAチェックシート【実施期間中】個別事業'!$A$63,MATCH($C376,'11_PDCAチェックシート【実施期間中】個別事業'!$H$4:$V$4,0)+6)","v":0}]
[null,null,null,null,"算出根拠",null,null,null,{"$f":"OFFSET('11_PDCAチェックシート【実施期間中】個別事業'!$A$6,'11_PDCAチェックシート【実施期間中】個別事業'!$A$64,MATCH($C376,'11_PDCAチェックシート【実施期間中】個別事業'!$H$4:$V$4,0)+6)","v":""}]
[null,null,null,null,"カテゴリ②（プルダウン選択）⇒",null,null,null,null,null,null,null,null,null,null,{"$f":"OFFSET('11_PDCAチェックシート【実施期間中】個別事業'!$A$6,'11_PDCAチェックシート【実施期間中】個別事業'!$A$65,MATCH($C376,'11_PDCAチェックシート【実施期間中】個別事業'!$H$4:$V$4,0)+6)","v":""}]
[null,null,null,null,"計画値",null,null,null,"計",null,{"$f":"'2_別紙1-2_実施計画書'!K437","v":0}]
[null,null,null,null,"実績値",null,null,null,"計",null,{"$f":"OFFSET('11_PDCAチェックシート【実施期間中】個別事業'!$A$6,'11_PDCAチェックシート【実施期間中】個別事業'!$A$68,MATCH($C376,'11_PDCAチェックシート【実施期間中】個別事業'!$H$4:$V$4,0)+6)","v":0}]
[null,null,null,null,"算出根拠",null,null,null,{"$f":"OFFSET('11_PDCAチェックシート【実施期間中】個別事業'!$A$6,'11_PDCAチェックシート【実施期間中】個別事業'!$A$69,MATCH($C376,'11_PDCAチェックシート【実施期間中】個別事業'!$H$4:$V$4,0)+6)","v":""}]
[null,null,"COOL CHOICE 賛同数\n（想定及び実績）",null,"計画値",null,null,null,"団体",null,{"$f":"OFFSET('11_PDCAチェックシート【実施期間中】個別事業'!$A$6,'11_PDCAチェックシート【実施期間中】個別事業'!$A$71,MATCH($C376,'11_PDCAチェックシート【実施期間中】個別事業'!$H$4:$V$4,0)+6)","v":0},null,null,null,null,"、個人",null,{"$f":"OFFSET('11_PDCAチェックシート【実施期間中】個別事業'!$A$6,'11_PDCAチェックシート【実施期間中】個別事業'!$A$74,MATCH($C376,'11_PDCAチェックシート【実施期間中】個別事業'!$H$4:$V$4,0)+6)","v":0}]
[null,null,null,null,"実績値",null,null,null,"団体",null,{"$f":"OFFSET('11_PDCAチェックシート【実施期間中】個別事業'!$A$6,'11_PDCAチェックシート【実施期間中】個別事業'!$A$72,MATCH($C376,'11_PDCAチェックシート【実施期間中】個別事業'!$H$4:$V$4,0)+6)","v":0},null,null,null,null,"、個人",null,{"$f":"OFFSET('11_PDCAチェックシート【実施期間中】個別事業'!$A$6,'11_PDCAチェックシート【実施期間中】個別事業'!$A$75,MATCH($C376,'11_PDCAチェックシート【実施期間中】個別事業'!$H$4:$V$4,0)+6)","v":0}]
[null,null,"効果検証\n（アンケート）予定",null,"※アンケートの実施予定をプルダウンより選択してください。"]
[null,null,null,null,"公募要領に規定のアンケート",null,null,null,null,null,null,null,null,null,null,null,null,null,null,null,null,"貴事業者独自のアンケート"]
[null,null,null,null,"省エネ機器",null,null,null,"省エネ住宅",null,null,null,"エコドライブ",null,null,null,"低炭素物流（宅配便の再配達防止）"]
[null,null,null,null,{"$f":"OFFSET('11_PDCAチェックシート【実施期間中】個別事業'!$A$6,'11_PDCAチェックシート【実施期間中】個別事業'!$A$76,MATCH($C376,'11_PDCAチェックシート【実施期間中】個別事業'!$H$4:$V$4,0)+6)","v":"- 選択 -"},null,null,null,{"$f":"OFFSET('11_PDCAチェックシート【実施期間中】個別事業'!$A$6,'11_PDCAチェックシート【実施期間中】個別事業'!$A$77,MATCH($C376,'11_PDCAチェックシート【実施期間中】個別事業'!$H$4:$V$4,0)+6)","v":"- 選択 -"},null,null,null,{"$f":"OFFSET('11_PDCAチェックシート【実施期間中】個別事業'!$A$6,'11_PDCAチェックシート【実施期間中】個別事業'!$A$78,MATCH($C376,'11_PDCAチェックシート【実施期間中】個別事業'!$H$4:$V$4,0)+6)","v":"- 選択 -"},null,null,null,{"$f":"OFFSET('11_PDCAチェックシート【実施期間中】個別事業'!$A$6,'11_PDCAチェックシート【実施期間中】個別事業'!$A$79,MATCH($C376,'11_PDCAチェックシート【実施期間中】個別事業'!$H$4:$V$4,0)+6)","v":"- 選択 -"},null,null,null,null,{"$f":"OFFSET('11_PDCAチェックシート【実施期間中】個別事業'!$A$6,'11_PDCAチェックシート【実施期間中】個別事業'!$A$80,MATCH($C376,'11_PDCAチェックシート【実施期間中】個別事業'!$H$4:$V$4,0)+6)","v":"- 選択 -"}]
[null,null,null,null,"内容（",null,{"$f":"OFFSET('11_PDCAチェックシート【実施期間中】個別事業'!$A$6,'11_PDCAチェックシート【実施期間中】個別事業'!$A$81,MATCH($C376,'11_PDCAチェックシート【実施期間中】個別事業'!$H$4:$V$4,0)+6)","v":""},null,null,null,null,null,null,null,null,null,null,null,null,null,null,null,null,null,null,"）"]
[null,null,null,null,"目標回収数",null,null,null,"計",{"$f":"OFFSET('11_PDCAチェックシート【実施期間中】個別事業'!$A$6,'11_PDCAチェックシート【実施期間中】個別事業'!$A$83,MATCH($C376,'11_PDCAチェックシート【実施期間中】個別事業'!$H$4:$V$4,0)+6)","v":0},null,null,"枚",null,"※複数ある場合は、平均アンケート回収数"]
[null,null,null,null,"実績値",null,null,null,"計",{"$f":"OFFSET('11_PDCAチェックシート【実施期間中】個別事業'!$A$6,'11_PDCAチェックシート【実施期間中】個別事業'!$A$84,MATCH($C376,'11_PDCAチェックシート【実施期間中】個別事業'!$H$4:$V$4,0)+6)","v":0},null,null,"枚",null,"※複数ある場合は、平均アンケート回収数"]
[]
[null,null,"項目",null,"内容"]
[null,null,"事業8","事業名\n（番組・CM名）",{"$f":"OFFSET('11_PDCAチェックシート【実施期間中】個別事業'!$A$6,,MATCH(C433,'11_PDCAチェックシート【実施期間中】個別事業'!$H$4:$V$4,0)+6)","v":0}]
[null,null,"普及啓発テーマ",null,"※該当する普及啓発テーマすべてをチェックしてください。"]
[null,null,null,null,"①",null,"②",null,"③",null,"④",null,"⑤",null,"⑥",null,"⑦",null,"⑧",null,"⑨",null,"⑩",null,"⑪",null,null,null,"①","②","③","④","⑤","⑥","⑦","⑧","⑨","⑩","⑪"]
[null,null,null,null,"省ｴﾈ機器",null,"省ｴﾈ住宅",null,"ｴｺｶｰ",null,"ｸｰﾙﾋﾞｽﾞ",null,"ｳｫｰﾑﾋﾞｽﾞ",null,"照明の\n高効率利用",null,"ｴｺﾄﾞﾗｲﾌﾞ",null,"ｶｰｼｪｱ",null,"公共交通\n機関の利用",null,"再配達防止",null,"シェアエコ",null,null,null,"省ｴﾈ機器","省ｴﾈ住宅","ｴｺｶｰ","ｸｰﾙﾋﾞｽﾞ","ｳｫｰﾑﾋﾞｽﾞ","照明の\n高効率利用","ｴｺﾄﾞﾗｲﾌﾞ","ｶｰｼｪｱ","公共交通\n機関の利用","再配達防止","シェアエコ"]
[null,null,null,null,null,null,null,null,null,null,null,null,null,null,null,null,null,null,null,null,null,null,null,null,null,null,null,null,false,{"$f":"IF(COUNTIFS('11_PDCAチェックシート【実施期間中】個別事業'!$E$7:$E$17,'7_別紙1-2_実施報告書'!AD435,OFFSET('11_PDCAチェックシート【実施期間中】個別事業'!$F$7,,MATCH('7_別紙1-2_実施報告書'!$C433,'11_PDCAチェックシート【実施期間中】個別事業'!$H$4:$V$4,0)+1,11,1),1),1,0)","v":0},{"$f":"IF(COUNTIFS('11_PDCAチェックシート【実施期間中】個別事業'!$E$7:$E$17,'7_別紙1-2_実施報告書'!AE435,OFFSET('11_PDCAチェックシート【実施期間中】個別事業'!$F$7,,MATCH('7_別紙1-2_実施報告書'!$C433,'11_PDCAチェックシート【実施期間中】個別事業'!$H$4:$V$4,0)+1,11,1),1),1,0)","v":0},{"$f":"IF(COUNTIFS('11_PDCAチェックシート【実施期間中】個別事業'!$E$7:$E$17,'7_別紙1-2_実施報告書'!AF435,OFFSET('11_PDCAチェックシート【実施期間中】個別事業'!$F$7,,MATCH('7_別紙1-2_実施報告書'!$C433,'11_PDCAチェックシート【実施期間中】個別事業'!$H$4:$V$4,0)+1,11,1),1),1,0)","v":0},false,{"$f":"IF(COUNTIFS('11_PDCAチェックシート【実施期間中】個別事業'!$E$7:$E$17,'7_別紙1-2_実施報告書'!AH435,OFFSET('11_PDCAチェックシート【実施期間中】個別事業'!$F$7,,MATCH('7_別紙1-2_実施報告書'!$C433,'11_PDCAチェックシート【実施期間中】個別事業'!$H$4:$V$4,0)+1,11,1),1),1,0)","v":0},{"$f":"IF(COUNTIFS('11_PDCAチェックシート【実施期間中】個別事業'!$E$7:$E$17,'7_別紙1-2_実施報告書'!AI435,OFFSET('11_PDCAチェックシート【実施期間中】個別事業'!$F$7,,MATCH('7_別紙1-2_実施報告書'!$C433,'11_PDCAチェックシート【実施期間中】個別事業'!$H$4:$V$4,0)+1,11,1),1),1,0)","v":0},{"$f":"IF(COUNTIFS('11_PDCAチェックシート【実施期間中】個別事業'!$E$7:$E$17,'7_別紙1-2_実施報告書'!AJ435,OFFSET('11_PDCAチェックシート【実施期間中】個別事業'!$F$7,,MATCH('7_別紙1-2_実施報告書'!$C433,'11_PDCAチェックシート【実施期間中】個別事業'!$H$4:$V$4,0)+1,11,1),1),1,0)","v":0},{"$f":"IF(COUNTIFS('11_PDCAチェックシート【実施期間中】個別事業'!$E$7:$E$17,'7_別紙1-2_実施報告書'!AK435,OFFSET('11_PDCAチェックシート【実施期間中】個別事業'!$F$7,,MATCH('7_別紙1-2_実施報告書'!$C433,'11_PDCAチェックシート【実施期間中】個別事業'!$H$4:$V$4,0)+1,11,1),1),1,0)","v":0},{"$f":"IF(COUNTIFS('11_PDCAチェックシート【実施期間中】個別事業'!$E$7:$E$17,'7_別紙1-2_実施報告書'!AL435,OFFSET('11_PDCAチェックシート【実施期間中】個別事業'!$F$7,,MATCH('7_別紙1-2_実施報告書'!$C433,'11_PDCAチェックシート【実施期間中】個別事業'!$H$4:$V$4,0)+1,11,1),1),1,0)","v":0},{"$f":"IF(COUNTIFS('11_PDCAチェックシート【実施期間中】個別事業'!$E$7:$E$17,'7_別紙1-2_実施報告書'!AM435,OFFSET('11_PDCAチェックシート【実施期間中】個別事業'!$F$7,,MATCH('7_別紙1-2_実施報告書'!$C433,'11_PDCAチェックシート【実施期間中】個別事業'!$H$4:$V$4,0)+1,11,1),1),1,0)","v":0},{"$f":"COUNTIFS(AC437:AM437,\"TRUE\")","v":0}]
[null,null,"訴求手法",null,"※訴求手法については、該当する欄にチェックしてください。"]
[null,null,null,null,"a) 情報発信型（受動型）",null,null,null,null,null,null,"b) 情報発信型（能動型）",null,null,null,null,null,null,"c) 双方向体験交流型"]
[null,null,null,null,"ラジオ、新聞・広報紙等",null,null,null,null,null,null,"講演会・パネル展示等",null,null,null,null,null,null,"試乗・体験会、省ｴﾈ診断等",null,null,null,null,null,null,null,null,null,"a)","b)","c)"]
[null,null,null,null,null,null,null,null,null,null,null,null,null,null,null,null,null,null,null,null,null,null,null,null,null,null,null,null,false,false,false,null,null,null,null,null,null,null,null,{"$f":"COUNTIFS(AC441:AM441,\"TRUE\")","v":0}]
[null,null,"情報発信カテゴリー\n（プルダウン選択）",null,{"$f":"OFFSET('11_PDCAチェックシート【実施期間中】個別事業'!$A$6,'11_PDCAチェックシート【実施期間中】個別事業'!$A$21,MATCH($C433,'11_PDCAチェックシート【実施期間中】個別事業'!$H$4:$V$4,0)+6)","v":"-"},null,null,null,null,null,null,null,null,null,null,{"$f":"IF(OFFSET('11_PDCAチェックシート【実施期間中】個別事業'!$A$6,'11_PDCAチェックシート【実施期間中】個別事業'!$A$22,MATCH($C433,'11_PDCAチェックシート【実施期間中】個別事業'!$H$4:$V$4,0)+6)=\"\",\"\",OFFSET('11_PDCAチェックシート【実施期間中】個別事業'!$A$6,'11_PDCAチェックシート【実施期間中】個別事業'!$A$22,MATCH($C433,'11_PDCAチェックシート【実施期間中】個別事業'!$H$4:$V$4,0)+6))","v":""}]
[]
[null,null,"尺・放送回数",null,"※収録本数、放送回数を定量的に必ず記載のこと"]
[null,null,null,null,"①","尺",null,null,{"$f":"OFFSET('11_PDCAチェックシート【実施期間中】個別事業'!$A$6,'11_PDCAチェックシート【実施期間中】個別事業'!$A$23,MATCH($C433,'11_PDCAチェックシート【実施期間中】個別事業'!$H$4:$V$4,0)+6)","v":""},null,null,"（秒）",null,null,null,"※単位はプルダウン選択"]
[null,null,null,null,null,"収録本数",null,null,{"$f":"OFFSET('11_PDCAチェックシート【実施期間中】個別事業'!$A$6,'11_PDCAチェックシート【実施期間中】個別事業'!$A$24,MATCH($C433,'11_PDCAチェックシート【実施期間中】個別事業'!$H$4:$V$4,0)+6)","v":""},null,null,"（本）"]
[null,null,null,null,null,"放送回数",null,null,{"$f":"OFFSET('11_PDCAチェックシート【実施期間中】個別事業'!$A$6,'11_PDCAチェックシート【実施期間中】個別事業'!$A$25,MATCH($C433,'11_PDCAチェックシート【実施期間中】個別事業'!$H$4:$V$4,0)+6)","v":""},null,null,"（回）",null,null,null,"※再放送を含む"]
[null,null,null,null,null,"備考",null,null,{"$f":"OFFSET('11_PDCAチェックシート【実施期間中】個別事業'!$A$6,'11_PDCAチェックシート【実施期間中】個別事業'!$A$26,MATCH($C433,'11_PDCAチェックシート【実施期間中】個別事業'!$H$4:$V$4,0)+6)","v":""},null,null,{"$f":"OFFSET('11_PDCAチェックシート【実施期間中】個別事業'!$A$6,'11_PDCAチェックシート【実施期間中】個別事業'!$A26,MATCH($C436,'11_PDCAチェックシート【実施期間中】個別事業'!$H$4:$V$4,0)+6)","v":{"$error":"#N/A"}},null,null,{"$f":"OFFSET('11_PDCAチェックシート【実施期間中】個別事業'!$A$6,'11_PDCAチェックシート【実施期間中】個別事業'!$A26,MATCH($C436,'11_PDCAチェックシート【実施期間中】個別事業'!$H$4:$V$4,0)+6)","v":{"$error":"#N/A"}},null,null,{"$f":"OFFSET('11_PDCAチェックシート【実施期間中】個別事業'!$A$6,'11_PDCAチェックシート【実施期間中】個別事業'!$A26,MATCH($C436,'11_PDCAチェックシート【実施期間中】個別事業'!$H$4:$V$4,0)+6)","v":{"$error":"#N/A"}},null,null,{"$f":"OFFSET('11_PDCAチェックシート【実施期間中】個別事業'!$A$6,'11_PDCAチェックシート【実施期間中】個別事業'!$A26,MATCH($C436,'11_PDCAチェックシート【実施期間中】個別事業'!$H$4:$V$4,0)+6)","v":{"$error":"#N/A"}},null,null,{"$f":"OFFSET('11_PDCAチェックシート【実施期間中】個別事業'!$A$6,'11_PDCAチェックシート【実施期間中】個別事業'!$A26,MATCH($C436,'11_PDCAチェックシート【実施期間中】個別事業'!$H$4:$V$4,0)+6)","v":{"$error":"#N/A"}}]
[null,null,null,null,"②","尺",null,null,{"$f":"OFFSET('11_PDCAチェックシート【実施期間中】個別事業'!$A$6,'11_PDCAチェックシート【実施期間中】個別事業'!$A$27,MATCH($C433,'11_PDCAチェックシート【実施期間中】個別事業'!$H$4:$V$4,0)+6)","v":""},null,null,"（秒）",null,null,null,"※単位はプルダウン選択"]
[null,null,null,null,null,"収録本数",null,null,{"$f":"OFFSET('11_PDCAチェックシート【実施期間中】個別事業'!$A$6,'11_PDCAチェックシート【実施期間中】個別事業'!$A$28,MATCH($C433,'11_PDCAチェックシート【実施期間中】個別事業'!$H$4:$V$4,0)+6)","v":""},null,null,"（本）"]
[null,null,null,null,null,"放送回数",null,null,{"$f":"OFFSET('11_PDCAチェックシート【実施期間中】個別事業'!$A$6,'11_PDCAチェックシート【実施期間中】個別事業'!$A$29,MATCH($C433,'11_PDCAチェックシート【実施期間中】個別事業'!$H$4:$V$4,0)+6)","v":""},null,null,"（回）",null,null,null,"※再放送を含む"]
[null,null,null,null,null,"備考",null,null,{"$f":"OFFSET('11_PDCAチェックシート【実施期間中】個別事業'!$A$6,'11_PDCAチェックシート【実施期間中】個別事業'!$A$30,MATCH($C433,'11_PDCAチェックシート【実施期間中】個別事業'!$H$4:$V$4,0)+6)","v":""},null,null,{"$f":"OFFSET('11_PDCAチェックシート【実施期間中】個別事業'!$A$6,'11_PDCAチェックシート【実施期間中】個別事業'!$A30,MATCH($C440,'11_PDCAチェックシート【実施期間中】個別事業'!$H$4:$V$4,0)+6)","v":{"$error":"#N/A"}},null,null,{"$f":"OFFSET('11_PDCAチェックシート【実施期間中】個別事業'!$A$6,'11_PDCAチェックシート【実施期間中】個別事業'!$A30,MATCH($C440,'11_PDCAチェックシート【実施期間中】個別事業'!$H$4:$V$4,0)+6)","v":{"$error":"#N/A"}},null,null,{"$f":"OFFSET('11_PDCAチェックシート【実施期間中】個別事業'!$A$6,'11_PDCAチェックシート【実施期間中】個別事業'!$A30,MATCH($C440,'11_PDCAチェックシート【実施期間中】個別事業'!$H$4:$V$4,0)+6)","v":{"$error":"#N/A"}},null,null,{"$f":"OFFSET('11_PDCAチェックシート【実施期間中】個別事業'!$A$6,'11_PDCAチェックシート【実施期間中】個別事業'!$A30,MATCH($C440,'11_PDCAチェックシート【実施期間中】個別事業'!$H$4:$V$4,0)+6)","v":{"$error":"#N/A"}},null,null,{"$f":"OFFSET('11_PDCAチェックシート【実施期間中】個別事業'!$A$6,'11_PDCAチェックシート【実施期間中】個別事業'!$A30,MATCH($C440,'11_PDCAチェックシート【実施期間中】個別事業'!$H$4:$V$4,0)+6)","v":{"$error":"#N/A"}}]
[null,null,"実施期間",null,{"$f":"OFFSET('11_PDCAチェックシート【実施期間中】個別事業'!$A$6,'11_PDCAチェックシート【実施期間中】個別事業'!$A$31,MATCH($C433,'11_PDCAチェックシート【実施期間中】個別事業'!$H$4:$V$4,0)+6)","v":""},null,null,null,null,null,null,null,null,"～",null,null,null,{"$f":"OFFSET('11_PDCAチェックシート【実施期間中】個別事業'!$A$6,'11_PDCAチェックシート【実施期間中】個別事業'!$A$33,MATCH($C433,'11_PDCAチェックシート【実施期間中】個別事業'!$H$4:$V$4,0)+6)","v":""}]
[null,null,"放送時間、その他備考",null,{"$f":"OFFSET('11_PDCAチェックシート【実施期間中】個別事業'!$A$6,'11_PDCAチェックシート【実施期間中】個別事業'!$A$34,MATCH($C433,'11_PDCAチェックシート【実施期間中】個別事業'!$H$4:$V$4,0)+6)","v":""}]
[null,null,"実施日\n（※同一事業内で、\n同一の内容・場所において\n複数日実施する場合）",null,1,null,{"$f":"OFFSET('11_PDCAチェックシート【実施期間中】個別事業'!$A$6,'11_PDCAチェックシート【実施期間中】個別事業'!$A$35,MATCH($C433,'11_PDCAチェックシート【実施期間中】個別事業'!$H$4:$V$4,0)+6)","v":""},null,null,null,null,null,null,null,null,11,null,{"$f":"OFFSET('11_PDCAチェックシート【実施期間中】個別事業'!$A$6,'11_PDCAチェックシート【実施期間中】個別事業'!$A$45,MATCH($C433,'11_PDCAチェックシート【実施期間中】個別事業'!$H$4:$V$4,0)+6)","v":""}]
[null,null,null,null,2,null,{"$f":"OFFSET('11_PDCAチェックシート【実施期間中】個別事業'!$A$6,'11_PDCAチェックシート【実施期間中】個別事業'!$A$36,MATCH($C433,'11_PDCAチェックシート【実施期間中】個別事業'!$H$4:$V$4,0)+6)","v":""},null,null,null,null,null,null,null,null,12,null,{"$f":"OFFSET('11_PDCAチェックシート【実施期間中】個別事業'!$A$6,'11_PDCAチェックシート【実施期間中】個別事業'!$A$46,MATCH($C433,'11_PDCAチェックシート【実施期間中】個別事業'!$H$4:$V$4,0)+6)","v":""}]
[null,null,null,null,3,null,{"$f":"OFFSET('11_PDCAチェックシート【実施期間中】個別事業'!$A$6,'11_PDCAチェックシート【実施期間中】個別事業'!$A$37,MATCH($C433,'11_PDCAチェックシート【実施期間中】個別事業'!$H$4:$V$4,0)+6)","v":""},null,null,null,null,null,null,null,null,13,null,{"$f":"OFFSET('11_PDCAチェックシート【実施期間中】個別事業'!$A$6,'11_PDCAチェックシート【実施期間中】個別事業'!$A$47,MATCH($C433,'11_PDCAチェックシート【実施期間中】個別事業'!$H$4:$V$4,0)+6)","v":""}]
[null,null,null,null,4,null,{"$f":"OFFSET('11_PDCAチェックシート【実施期間中】個別事業'!$A$6,'11_PDCAチェックシート【実施期間中】個別事業'!$A$38,MATCH($C433,'11_PDCAチェックシート【実施期間中】個別事業'!$H$4:$V$4,0)+6)","v":""},null,null,null,null,null,null,null,null,14,null,{"$f":"OFFSET('11_PDCAチェックシート【実施期間中】個別事業'!$A$6,'11_PDCAチェックシート【実施期間中】個別事業'!$A$48,MATCH($C433,'11_PDCAチェックシート【実施期間中】個別事業'!$H$4:$V$4,0)+6)","v":""}]
[null,null,null,null,5,null,{"$f":"OFFSET('11_PDCAチェックシート【実施期間中】個別事業'!$A$6,'11_PDCAチェックシート【実施期間中】個別事業'!$A$39,MATCH($C433,'11_PDCAチェックシート【実施期間中】個別事業'!$H$4:$V$4,0)+6)","v":""},null,null,null,null,null,null,null,null,15,null,{"$f":"OFFSET('11_PDCAチェックシート【実施期間中】個別事業'!$A$6,'11_PDCAチェックシート【実施期間中】個別事業'!$A$49,MATCH($C433,'11_PDCAチェックシート【実施期間中】個別事業'!$H$4:$V$4,0)+6)","v":""}]
[null,null,null,null,6,null,{"$f":"OFFSET('11_PDCAチェックシート【実施期間中】個別事業'!$A$6,'11_PDCAチェックシート【実施期間中】個別事業'!$A$40,MATCH($C433,'11_PDCAチェックシート【実施期間中】個別事業'!$H$4:$V$4,0)+6)","v":""},null,null,null,null,null,null,null,null,16,null,{"$f":"OFFSET('11_PDCAチェックシート【実施期間中】個別事業'!$A$6,'11_PDCAチェックシート【実施期間中】個別事業'!$A$50,MATCH($C433,'11_PDCAチェックシート【実施期間中】個別事業'!$H$4:$V$4,0)+6)","v":""}]
[null,null,null,null,7,null,{"$f":"OFFSET('11_PDCAチェックシート【実施期間中】個別事業'!$A$6,'11_PDCAチェックシート【実施期間中】個別事業'!$A$41,MATCH($C433,'11_PDCAチェックシート【実施期間中】個別事業'!$H$4:$V$4,0)+6)","v":""},null,null,null,null,null,null,null,null,17,null,{"$f":"OFFSET('11_PDCAチェックシート【実施期間中】個別事業'!$A$6,'11_PDCAチェックシート【実施期間中】個別事業'!$A$51,MATCH($C433,'11_PDCAチェックシート【実施期間中】個別事業'!$H$4:$V$4,0)+6)","v":""}]
[null,null,null,null,8,null,{"$f":"OFFSET('11_PDCAチェックシート【実施期間中】個別事業'!$A$6,'11_PDCAチェックシート【実施期間中】個別事業'!$A$42,MATCH($C433,'11_PDCAチェックシート【実施期間中】個別事業'!$H$4:$V$4,0)+6)","v":""},null,null,null,null,null,null,null,null,18,null,{"$f":"OFFSET('11_PDCAチェックシート【実施期間中】個別事業'!$A$6,'11_PDCAチェックシート【実施期間中】個別事業'!$A$52,MATCH($C433,'11_PDCAチェックシート【実施期間中】個別事業'!$H$4:$V$4,0)+6)","v":""}]
[null,null,null,null,9,null,{"$f":"OFFSET('11_PDCAチェックシート【実施期間中】個別事業'!$A$6,'11_PDCAチェックシート【実施期間中】個別事業'!$A$43,MATCH($C433,'11_PDCAチェックシート【実施期間中】個別事業'!$H$4:$V$4,0)+6)","v":""},null,null,null,null,null,null,null,null,19,null,{"$f":"OFFSET('11_PDCAチェックシート【実施期間中】個別事業'!$A$6,'11_PDCAチェックシート【実施期間中】個別事業'!$A$53,MATCH($C433,'11_PDCAチェックシート【実施期間中】個別事業'!$H$4:$V$4,0)+6)","v":""}]
[null,null,null,null,10,null,{"$f":"OFFSET('11_PDCAチェックシート【実施期間中】個別事業'!$A$6,'11_PDCAチェックシート【実施期間中】個別事業'!$A$44,MATCH($C433,'11_PDCAチェックシート【実施期間中】個別事業'!$H$4:$V$4,0)+6)","v":""},null,null,null,null,null,null,null,null,20,null,{"$f":"OFFSET('11_PDCAチェックシート【実施期間中】個別事業'!$A$6,'11_PDCAチェックシート【実施期間中】個別事業'!$A$54,MATCH($C433,'11_PDCAチェックシート【実施期間中】個別事業'!$H$4:$V$4,0)+6)","v":""}]
[null,null,"事業の概要",null,{"$f":"OFFSET('11_PDCAチェックシート【実施期間中】個別事業'!$A$6,'11_PDCAチェックシート【実施期間中】個別事業'!$A$55,MATCH($C433,'11_PDCAチェックシート【実施期間中】個別事業'!$H$4:$V$4,0)+6)","v":""}]
[null,null,"地域団体との連携\n※地方公共団体を含む",null,{"$f":"'2_別紙1-2_実施計画書'!E483","v":0}]
[null,null,"実施結果",null,{"$f":"OFFSET('11_PDCAチェックシート【実施期間中】個別事業'!$A$6,'11_PDCAチェックシート【実施期間中】個別事業'!$A$57,MATCH($C433,'11_PDCAチェックシート【実施期間中】個別事業'!$H$4:$V$4,0)+6)","v":0}]
[]
[null,null,"主な訴求対象","計画",{"$f":"OFFSET('11_PDCAチェックシート【実施期間中】個別事業'!$A$6,'11_PDCAチェックシート【実施期間中】個別事業'!$A$58,MATCH($C433,'11_PDCAチェックシート【実施期間中】個別事業'!$H$4:$V$4,0)+6)","v":""}]
[null,null,null,"結果",{"$f":"OFFSET('11_PDCAチェックシート【実施期間中】個別事業'!$A$6,'11_PDCAチェックシート【実施期間中】個別事業'!$A$59,MATCH($C433,'11_PDCAチェックシート【実施期間中】個別事業'!$H$4:$V$4,0)+6)","v":0}]
[null,null,"規模（リーチ数）\n（想定及び実績）",null,"カテゴリ①（プルダウン選択）⇒",null,null,null,null,null,null,null,null,null,null,{"$f":"OFFSET('11_PDCAチェックシート【実施期間中】個別事業'!$A$6,'11_PDCAチェックシート【実施期間中】個別事業'!$A$60,MATCH($C433,'11_PDCAチェックシート【実施期間中】個別事業'!$H$4:$V$4,0)+6)","v":"聴取人口（番組・CM単位であれば）"}]
[null,null,null,null,"計画値",null,null,null,"計",null,{"$f":"'2_別紙1-2_実施計画書'!K489","v":0}]
[null,null,null,null,"実績値",null,null,null,"計",null,{"$f":"OFFSET('11_PDCAチェックシート【実施期間中】個別事業'!$A$6,'11_PDCAチェックシート【実施期間中】個別事業'!$A$63,MATCH($C433,'11_PDCAチェックシート【実施期間中】個別事業'!$H$4:$V$4,0)+6)","v":0}]
[null,null,null,null,"算出根拠",null,null,null,{"$f":"OFFSET('11_PDCAチェックシート【実施期間中】個別事業'!$A$6,'11_PDCAチェックシート【実施期間中】個別事業'!$A$64,MATCH($C433,'11_PDCAチェックシート【実施期間中】個別事業'!$H$4:$V$4,0)+6)","v":""}]
[null,null,null,null,"カテゴリ②（プルダウン選択）⇒",null,null,null,null,null,null,null,null,null,null,{"$f":"OFFSET('11_PDCAチェックシート【実施期間中】個別事業'!$A$6,'11_PDCAチェックシート【実施期間中】個別事業'!$A$65,MATCH($C433,'11_PDCAチェックシート【実施期間中】個別事業'!$H$4:$V$4,0)+6)","v":""}]
[null,null,null,null,"計画値",null,null,null,"計",null,{"$f":"'2_別紙1-2_実施計画書'!K493","v":0}]
[null,null,null,null,"実績値",null,null,null,"計",null,{"$f":"OFFSET('11_PDCAチェックシート【実施期間中】個別事業'!$A$6,'11_PDCAチェックシート【実施期間中】個別事業'!$A$68,MATCH($C433,'11_PDCAチェックシート【実施期間中】個別事業'!$H$4:$V$4,0)+6)","v":0}]
[null,null,null,null,"算出根拠",null,null,null,{"$f":"OFFSET('11_PDCAチェックシート【実施期間中】個別事業'!$A$6,'11_PDCAチェックシート【実施期間中】個別事業'!$A$69,MATCH($C433,'11_PDCAチェックシート【実施期間中】個別事業'!$H$4:$V$4,0)+6)","v":""}]
[null,null,"COOL CHOICE 賛同数\n（想定及び実績）",null,"計画値",null,null,null,"団体",null,{"$f":"OFFSET('11_PDCAチェックシート【実施期間中】個別事業'!$A$6,'11_PDCAチェックシート【実施期間中】個別事業'!$A$71,MATCH($C433,'11_PDCAチェックシート【実施期間中】個別事業'!$H$4:$V$4,0)+6)","v":0},null,null,null,null,"、個人",null,{"$f":"OFFSET('11_PDCAチェックシート【実施期間中】個別事業'!$A$6,'11_PDCAチェックシート【実施期間中】個別事業'!$A$74,MATCH($C433,'11_PDCAチェックシート【実施期間中】個別事業'!$H$4:$V$4,0)+6)","v":0}]
[null,null,null,null,"実績値",null,null,null,"団体",null,{"$f":"OFFSET('11_PDCAチェックシート【実施期間中】個別事業'!$A$6,'11_PDCAチェックシート【実施期間中】個別事業'!$A$72,MATCH($C433,'11_PDCAチェックシート【実施期間中】個別事業'!$H$4:$V$4,0)+6)","v":0},null,null,null,null,"、個人",null,{"$f":"OFFSET('11_PDCAチェックシート【実施期間中】個別事業'!$A$6,'11_PDCAチェックシート【実施期間中】個別事業'!$A$75,MATCH($C433,'11_PDCAチェックシート【実施期間中】個別事業'!$H$4:$V$4,0)+6)","v":0}]
[null,null,"効果検証\n（アンケート）予定",null,"※アンケートの実施予定をプルダウンより選択してください。"]
[null,null,null,null,"公募要領に規定のアンケート",null,null,null,null,null,null,null,null,null,null,null,null,null,null,null,null,"貴事業者独自のアンケート"]
[null,null,null,null,"省エネ機器",null,null,null,"省エネ住宅",null,null,null,"エコドライブ",null,null,null,"低炭素物流（宅配便の再配達防止）"]
[null,null,null,null,{"$f":"OFFSET('11_PDCAチェックシート【実施期間中】個別事業'!$A$6,'11_PDCAチェックシート【実施期間中】個別事業'!$A$76,MATCH($C433,'11_PDCAチェックシート【実施期間中】個別事業'!$H$4:$V$4,0)+6)","v":"- 選択 -"},null,null,null,{"$f":"OFFSET('11_PDCAチェックシート【実施期間中】個別事業'!$A$6,'11_PDCAチェックシート【実施期間中】個別事業'!$A$77,MATCH($C433,'11_PDCAチェックシート【実施期間中】個別事業'!$H$4:$V$4,0)+6)","v":"- 選択 -"},null,null,null,{"$f":"OFFSET('11_PDCAチェックシート【実施期間中】個別事業'!$A$6,'11_PDCAチェックシート【実施期間中】個別事業'!$A$78,MATCH($C433,'11_PDCAチェックシート【実施期間中】個別事業'!$H$4:$V$4,0)+6)","v":"- 選択 -"},null,null,null,{"$f":"OFFSET('11_PDCAチェックシート【実施期間中】個別事業'!$A$6,'11_PDCAチェックシート【実施期間中】個別事業'!$A$79,MATCH($C433,'11_PDCAチェックシート【実施期間中】個別事業'!$H$4:$V$4,0)+6)","v":"- 選択 -"},null,null,null,null,{"$f":"OFFSET('11_PDCAチェックシート【実施期間中】個別事業'!$A$6,'11_PDCAチェックシート【実施期間中】個別事業'!$A$80,MATCH($C433,'11_PDCAチェックシート【実施期間中】個別事業'!$H$4:$V$4,0)+6)","v":"- 選択 -"}]
[null,null,null,null,"内容（",null,{"$f":"OFFSET('11_PDCAチェックシート【実施期間中】個別事業'!$A$6,'11_PDCAチェックシート【実施期間中】個別事業'!$A$81,MATCH($C433,'11_PDCAチェックシート【実施期間中】個別事業'!$H$4:$V$4,0)+6)","v":""},null,null,null,null,null,null,null,null,null,null,null,null,null,null,null,null,null,null,"）"]
[null,null,null,null,"目標回収数",null,null,null,"計",{"$f":"OFFSET('11_PDCAチェックシート【実施期間中】個別事業'!$A$6,'11_PDCAチェックシート【実施期間中】個別事業'!$A$83,MATCH($C433,'11_PDCAチェックシート【実施期間中】個別事業'!$H$4:$V$4,0)+6)","v":0},null,null,"枚",null,"※複数ある場合は、平均アンケート回収数"]
[null,null,null,null,"実績値",null,null,null,"計",{"$f":"OFFSET('11_PDCAチェックシート【実施期間中】個別事業'!$A$6,'11_PDCAチェックシート【実施期間中】個別事業'!$A$84,MATCH($C433,'11_PDCAチェックシート【実施期間中】個別事業'!$H$4:$V$4,0)+6)","v":0},null,null,"枚",null,"※複数ある場合は、平均アンケート回収数"]
[]
[null,null,"項目",null,"内容"]
[null,null,"事業9","事業名\n（番組・CM名）",{"$f":"OFFSET('11_PDCAチェックシート【実施期間中】個別事業'!$A$6,,MATCH(C490,'11_PDCAチェックシート【実施期間中】個別事業'!$H$4:$V$4,0)+6)","v":0}]
[null,null,"普及啓発テーマ",null,"※該当する普及啓発テーマすべてをチェックしてください。"]
[null,null,null,null,"①",null,"②",null,"③",null,"④",null,"⑤",null,"⑥",null,"⑦",null,"⑧",null,"⑨",null,"⑩",null,"⑪",null,null,null,"①","②","③","④","⑤","⑥","⑦","⑧","⑨","⑩","⑪"]
[null,null,null,null,"省ｴﾈ機器",null,"省ｴﾈ住宅",null,"ｴｺｶｰ",null,"ｸｰﾙﾋﾞｽﾞ",null,"ｳｫｰﾑﾋﾞｽﾞ",null,"照明の\n高効率利用",null,"ｴｺﾄﾞﾗｲﾌﾞ",null,"ｶｰｼｪｱ",null,"公共交通\n機関の利用",null,"再配達防止",null,"シェアエコ",null,null,null,"省ｴﾈ機器","省ｴﾈ住宅","ｴｺｶｰ","ｸｰﾙﾋﾞｽﾞ","ｳｫｰﾑﾋﾞｽﾞ","照明の\n高効率利用","ｴｺﾄﾞﾗｲﾌﾞ","ｶｰｼｪｱ","公共交通\n機関の利用","再配達防止","シェアエコ"]
[null,null,null,null,null,null,null,null,null,null,null,null,null,null,null,null,null,null,null,null,null,null,null,null,null,null,null,null,{"$f":"IF(COUNTIFS('11_PDCAチェックシート【実施期間中】個別事業'!$E$7:$E$17,'7_別紙1-2_実施報告書'!AC492,OFFSET('11_PDCAチェックシート【実施期間中】個別事業'!$F$7,,MATCH('7_別紙1-2_実施報告書'!$C490,'11_PDCAチェックシート【実施期間中】個別事業'!$H$4:$V$4,0)+1,11,1),1),1,0)","v":0},{"$f":"IF(COUNTIFS('11_PDCAチェックシート【実施期間中】個別事業'!$E$7:$E$17,'7_別紙1-2_実施報告書'!AD492,OFFSET('11_PDCAチェックシート【実施期間中】個別事業'!$F$7,,MATCH('7_別紙1-2_実施報告書'!$C490,'11_PDCAチェックシート【実施期間中】個別事業'!$H$4:$V$4,0)+1,11,1),1),1,0)","v":0},{"$f":"IF(COUNTIFS('11_PDCAチェックシート【実施期間中】個別事業'!$E$7:$E$17,'7_別紙1-2_実施報告書'!AE492,OFFSET('11_PDCAチェックシート【実施期間中】個別事業'!$F$7,,MATCH('7_別紙1-2_実施報告書'!$C490,'11_PDCAチェックシート【実施期間中】個別事業'!$H$4:$V$4,0)+1,11,1),1),1,0)","v":0},{"$f":"IF(COUNTIFS('11_PDCAチェックシート【実施期間中】個別事業'!$E$7:$E$17,'7_別紙1-2_実施報告書'!AF492,OFFSET('11_PDCAチェックシート【実施期間中】個別事業'!$F$7,,MATCH('7_別紙1-2_実施報告書'!$C490,'11_PDCAチェックシート【実施期間中】個別事業'!$H$4:$V$4,0)+1,11,1),1),1,0)","v":0},{"$f":"IF(COUNTIFS('11_PDCAチェックシート【実施期間中】個別事業'!$E$7:$E$17,'7_別紙1-2_実施報告書'!AG492,OFFSET('11_PDCAチェックシート【実施期間中】個別事業'!$F$7,,MATCH('7_別紙1-2_実施報告書'!$C490,'11_PDCAチェックシート【実施期間中】個別事業'!$H$4:$V$4,0)+1,11,1),1),1,0)","v":0},{"$f":"IF(COUNTIFS('11_PDCAチェックシート【実施期間中】個別事業'!$E$7:$E$17,'7_別紙1-2_実施報告書'!AH492,OFFSET('11_PDCAチェックシート【実施期間中】個別事業'!$F$7,,MATCH('7_別紙1-2_実施報告書'!$C490,'11_PDCAチェックシート【実施期間中】個別事業'!$H$4:$V$4,0)+1,11,1),1),1,0)","v":0},{"$f":"IF(COUNTIFS('11_PDCAチェックシート【実施期間中】個別事業'!$E$7:$E$17,'7_別紙1-2_実施報告書'!AI492,OFFSET('11_PDCAチェックシート【実施期間中】個別事業'!$F$7,,MATCH('7_別紙1-2_実施報告書'!$C490,'11_PDCAチェックシート【実施期間中】個別事業'!$H$4:$V$4,0)+1,11,1),1),1,0)","v":0},{"$f":"IF(COUNTIFS('11_PDCAチェックシート【実施期間中】個別事業'!$E$7:$E$17,'7_別紙1-2_実施報告書'!AJ492,OFFSET('11_PDCAチェックシート【実施期間中】個別事業'!$F$7,,MATCH('7_別紙1-2_実施報告書'!$C490,'11_PDCAチェックシート【実施期間中】個別事業'!$H$4:$V$4,0)+1,11,1),1),1,0)","v":0},false,false,{"$f":"IF(COUNTIFS('11_PDCAチェックシート【実施期間中】個別事業'!$E$7:$E$17,'7_別紙1-2_実施報告書'!AM492,OFFSET('11_PDCAチェックシート【実施期間中】個別事業'!$F$7,,MATCH('7_別紙1-2_実施報告書'!$C490,'11_PDCAチェックシート【実施期間中】個別事業'!$H$4:$V$4,0)+1,11,1),1),1,0)","v":0},{"$f":"COUNTIFS(AC494:AM494,\"TRUE\")","v":0}]
[null,null,"訴求手法",null,"※訴求手法については、該当する欄にチェックしてください。"]
[null,null,null,null,"a) 情報発信型（受動型）",null,null,null,null,null,null,"b) 情報発信型（能動型）",null,null,null,null,null,null,"c) 双方向体験交流型"]
[null,null,null,null,"ラジオ、新聞・広報紙等",null,null,null,null,null,null,"講演会・パネル展示等",null,null,null,null,null,null,"試乗・体験会、省ｴﾈ診断等",null,null,null,null,null,null,null,null,null,"a)","b)","c)"]
[null,null,null,null,null,null,null,null,null,null,null,null,null,null,null,null,null,null,null,null,null,null,null,null,null,null,null,null,false,false,false,null,null,null,null,null,null,null,null,{"$f":"COUNTIFS(AC498:AM498,\"TRUE\")","v":0}]
[null,null,"情報発信カテゴリー\n（プルダウン選択）",null,{"$f":"OFFSET('11_PDCAチェックシート【実施期間中】個別事業'!$A$6,'11_PDCAチェックシート【実施期間中】個別事業'!$A$21,MATCH($C490,'11_PDCAチェックシート【実施期間中】個別事業'!$H$4:$V$4,0)+6)","v":"-"},null,null,null,null,null,null,null,null,null,null,{"$f":"IF(OFFSET('11_PDCAチェックシート【実施期間中】個別事業'!$A$6,'11_PDCAチェックシート【実施期間中】個別事業'!$A$22,MATCH($C490,'11_PDCAチェックシート【実施期間中】個別事業'!$H$4:$V$4,0)+6)=\"\",\"\",OFFSET('11_PDCAチェックシート【実施期間中】個別事業'!$A$6,'11_PDCAチェックシート【実施期間中】個別事業'!$A$22,MATCH($C490,'11_PDCAチェックシート【実施期間中】個別事業'!$H$4:$V$4,0)+6))","v":""}]
[]
[null,null,"尺・放送回数",null,"※収録本数、放送回数を定量的に必ず記載のこと"]
[null,null,null,null,"①","尺",null,null,{"$f":"OFFSET('11_PDCAチェックシート【実施期間中】個別事業'!$A$6,'11_PDCAチェックシート【実施期間中】個別事業'!$A$23,MATCH($C490,'11_PDCAチェックシート【実施期間中】個別事業'!$H$4:$V$4,0)+6)","v":""},null,null,"（秒）",null,null,null,"※単位はプルダウン選択"]
[null,null,null,null,null,"収録本数",null,null,{"$f":"OFFSET('11_PDCAチェックシート【実施期間中】個別事業'!$A$6,'11_PDCAチェックシート【実施期間中】個別事業'!$A$24,MATCH($C490,'11_PDCAチェックシート【実施期間中】個別事業'!$H$4:$V$4,0)+6)","v":""},null,null,"（本）"]
[null,null,null,null,null,"放送回数",null,null,{"$f":"OFFSET('11_PDCAチェックシート【実施期間中】個別事業'!$A$6,'11_PDCAチェックシート【実施期間中】個別事業'!$A$25,MATCH($C490,'11_PDCAチェックシート【実施期間中】個別事業'!$H$4:$V$4,0)+6)","v":""},null,null,"（回）",null,null,null,"※再放送を含む"]
[null,null,null,null,null,"備考",null,null,{"$f":"OFFSET('11_PDCAチェックシート【実施期間中】個別事業'!$A$6,'11_PDCAチェックシート【実施期間中】個別事業'!$A$26,MATCH($C490,'11_PDCAチェックシート【実施期間中】個別事業'!$H$4:$V$4,0)+6)","v":""},null,null,{"$f":"OFFSET('11_PDCAチェックシート【実施期間中】個別事業'!$A$6,'11_PDCAチェックシート【実施期間中】個別事業'!#REF!,MATCH($C493,'11_PDCAチェックシート【実施期間中】個別事業'!$H$4:$V$4,0)+6)","v":{"$error":"#REF!"}},null,null,{"$f":"OFFSET('11_PDCAチェックシート【実施期間中】個別事業'!$A$6,'11_PDCAチェックシート【実施期間中】個別事業'!#REF!,MATCH($C493,'11_PDCAチェックシート【実施期間中】個別事業'!$H$4:$V$4,0)+6)","v":{"$error":"#REF!"}},null,null,{"$f":"OFFSET('11_PDCAチェックシート【実施期間中】個別事業'!$A$6,'11_PDCAチェックシート【実施期間中】個別事業'!#REF!,MATCH($C493,'11_PDCAチェックシート【実施期間中】個別事業'!$H$4:$V$4,0)+6)","v":{"$error":"#REF!"}},null,null,{"$f":"OFFSET('11_PDCAチェックシート【実施期間中】個別事業'!$A$6,'11_PDCAチェックシート【実施期間中】個別事業'!#REF!,MATCH($C493,'11_PDCAチェックシート【実施期間中】個別事業'!$H$4:$V$4,0)+6)","v":{"$error":"#REF!"}},null,null,{"$f":"OFFSET('11_PDCAチェックシート【実施期間中】個別事業'!$A$6,'11_PDCAチェックシート【実施期間中】個別事業'!#REF!,MATCH($C493,'11_PDCAチェックシート【実施期間中】個別事業'!$H$4:$V$4,0)+6)","v":{"$error":"#REF!"}}]
[null,null,null,null,"②","尺",null,null,{"$f":"OFFSET('11_PDCAチェックシート【実施期間中】個別事業'!$A$6,'11_PDCAチェックシート【実施期間中】個別事業'!$A$27,MATCH($C490,'11_PDCAチェックシート【実施期間中】個別事業'!$H$4:$V$4,0)+6)","v":""},null,null,"（秒）",null,null,null,"※単位はプルダウン選択"]
[null,null,null,null,null,"収録本数",null,null,{"$f":"OFFSET('11_PDCAチェックシート【実施期間中】個別事業'!$A$6,'11_PDCAチェックシート【実施期間中】個別事業'!$A$28,MATCH($C490,'11_PDCAチェックシート【実施期間中】個別事業'!$H$4:$V$4,0)+6)","v":""},null,null,"（本）"]
[null,null,null,null,null,"放送回数",null,null,{"$f":"OFFSET('11_PDCAチェックシート【実施期間中】個別事業'!$A$6,'11_PDCAチェックシート【実施期間中】個別事業'!$A$29,MATCH($C490,'11_PDCAチェックシート【実施期間中】個別事業'!$H$4:$V$4,0)+6)","v":""},null,null,"（回）",null,null,null,"※再放送を含む"]
[null,null,null,null,null,"備考",null,null,{"$f":"OFFSET('11_PDCAチェックシート【実施期間中】個別事業'!$A$6,'11_PDCAチェックシート【実施期間中】個別事業'!$A$30,MATCH($C490,'11_PDCAチェックシート【実施期間中】個別事業'!$H$4:$V$4,0)+6)","v":""},null,null,{"$f":"OFFSET('11_PDCAチェックシート【実施期間中】個別事業'!$A$6,'11_PDCAチェックシート【実施期間中】個別事業'!#REF!,MATCH($C497,'11_PDCAチェックシート【実施期間中】個別事業'!$H$4:$V$4,0)+6)","v":{"$error":"#REF!"}},null,null,{"$f":"OFFSET('11_PDCAチェックシート【実施期間中】個別事業'!$A$6,'11_PDCAチェックシート【実施期間中】個別事業'!#REF!,MATCH($C497,'11_PDCAチェックシート【実施期間中】個別事業'!$H$4:$V$4,0)+6)","v":{"$error":"#REF!"}},null,null,{"$f":"OFFSET('11_PDCAチェックシート【実施期間中】個別事業'!$A$6,'11_PDCAチェックシート【実施期間中】個別事業'!#REF!,MATCH($C497,'11_PDCAチェックシート【実施期間中】個別事業'!$H$4:$V$4,0)+6)","v":{"$error":"#REF!"}},null,null,{"$f":"OFFSET('11_PDCAチェックシート【実施期間中】個別事業'!$A$6,'11_PDCAチェックシート【実施期間中】個別事業'!#REF!,MATCH($C497,'11_PDCAチェックシート【実施期間中】個別事業'!$H$4:$V$4,0)+6)","v":{"$error":"#REF!"}},null,null,{"$f":"OFFSET('11_PDCAチェックシート【実施期間中】個別事業'!$A$6,'11_PDCAチェックシート【実施期間中】個別事業'!#REF!,MATCH($C497,'11_PDCAチェックシート【実施期間中】個別事業'!$H$4:$V$4,0)+6)","v":{"$error":"#REF!"}}]
[null,null,"実施期間",null,{"$f":"OFFSET('11_PDCAチェックシート【実施期間中】個別事業'!$A$6,'11_PDCAチェックシート【実施期間中】個別事業'!$A$31,MATCH($C490,'11_PDCAチェックシート【実施期間中】個別事業'!$H$4:$V$4,0)+6)","v":""},null,null,null,null,null,null,null,null,"～",null,null,null,{"$f":"OFFSET('11_PDCAチェックシート【実施期間中】個別事業'!$A$6,'11_PDCAチェックシート【実施期間中】個別事業'!$A$33,MATCH($C490,'11_PDCAチェックシート【実施期間中】個別事業'!$H$4:$V$4,0)+6)","v":""}]
[null,null,"放送時間、その他備考",null,{"$f":"OFFSET('11_PDCAチェックシート【実施期間中】個別事業'!$A$6,'11_PDCAチェックシート【実施期間中】個別事業'!$A$34,MATCH($C490,'11_PDCAチェックシート【実施期間中】個別事業'!$H$4:$V$4,0)+6)","v":""}]
[null,null,"実施日\n（※同一事業内で、\n同一の内容・場所において\n複数日実施する場合）",null,1,null,{"$f":"OFFSET('11_PDCAチェックシート【実施期間中】個別事業'!$A$6,'11_PDCAチェックシート【実施期間中】個別事業'!$A$35,MATCH($C490,'11_PDCAチェックシート【実施期間中】個別事業'!$H$4:$V$4,0)+6)","v":""},null,null,null,null,null,null,null,null,11,null,{"$f":"OFFSET('11_PDCAチェックシート【実施期間中】個別事業'!$A$6,'11_PDCAチェックシート【実施期間中】個別事業'!$A$45,MATCH($C490,'11_PDCAチェックシート【実施期間中】個別事業'!$H$4:$V$4,0)+6)","v":""}]
[null,null,null,null,2,null,{"$f":"OFFSET('11_PDCAチェックシート【実施期間中】個別事業'!$A$6,'11_PDCAチェックシート【実施期間中】個別事業'!$A$36,MATCH($C490,'11_PDCAチェックシート【実施期間中】個別事業'!$H$4:$V$4,0)+6)","v":""},null,null,null,null,null,null,null,null,12,null,{"$f":"OFFSET('11_PDCAチェックシート【実施期間中】個別事業'!$A$6,'11_PDCAチェックシート【実施期間中】個別事業'!$A$46,MATCH($C490,'11_PDCAチェックシート【実施期間中】個別事業'!$H$4:$V$4,0)+6)","v":""}]
[null,null,null,null,3,null,{"$f":"OFFSET('11_PDCAチェックシート【実施期間中】個別事業'!$A$6,'11_PDCAチェックシート【実施期間中】個別事業'!$A$37,MATCH($C490,'11_PDCAチェックシート【実施期間中】個別事業'!$H$4:$V$4,0)+6)","v":""},null,null,null,null,null,null,null,null,13,null,{"$f":"OFFSET('11_PDCAチェックシート【実施期間中】個別事業'!$A$6,'11_PDCAチェックシート【実施期間中】個別事業'!$A$47,MATCH($C490,'11_PDCAチェックシート【実施期間中】個別事業'!$H$4:$V$4,0)+6)","v":""}]
[null,null,null,null,4,null,{"$f":"OFFSET('11_PDCAチェックシート【実施期間中】個別事業'!$A$6,'11_PDCAチェックシート【実施期間中】個別事業'!$A$38,MATCH($C490,'11_PDCAチェックシート【実施期間中】個別事業'!$H$4:$V$4,0)+6)","v":""},null,null,null,null,null,null,null,null,14,null,{"$f":"OFFSET('11_PDCAチェックシート【実施期間中】個別事業'!$A$6,'11_PDCAチェックシート【実施期間中】個別事業'!$A$48,MATCH($C490,'11_PDCAチェックシート【実施期間中】個別事業'!$H$4:$V$4,0)+6)","v":""}]
[null,null,null,null,5,null,{"$f":"OFFSET('11_PDCAチェックシート【実施期間中】個別事業'!$A$6,'11_PDCAチェックシート【実施期間中】個別事業'!$A$39,MATCH($C490,'11_PDCAチェックシート【実施期間中】個別事業'!$H$4:$V$4,0)+6)","v":""},null,null,null,null,null,null,null,null,15,null,{"$f":"OFFSET('11_PDCAチェックシート【実施期間中】個別事業'!$A$6,'11_PDCAチェックシート【実施期間中】個別事業'!$A$49,MATCH($C490,'11_PDCAチェックシート【実施期間中】個別事業'!$H$4:$V$4,0)+6)","v":""}]
[null,null,null,null,6,null,{"$f":"OFFSET('11_PDCAチェックシート【実施期間中】個別事業'!$A$6,'11_PDCAチェックシート【実施期間中】個別事業'!$A$40,MATCH($C490,'11_PDCAチェックシート【実施期間中】個別事業'!$H$4:$V$4,0)+6)","v":""},null,null,null,null,null,null,null,null,16,null,{"$f":"OFFSET('11_PDCAチェックシート【実施期間中】個別事業'!$A$6,'11_PDCAチェックシート【実施期間中】個別事業'!$A$50,MATCH($C490,'11_PDCAチェックシート【実施期間中】個別事業'!$H$4:$V$4,0)+6)","v":""}]
[null,null,null,null,7,null,{"$f":"OFFSET('11_PDCAチェックシート【実施期間中】個別事業'!$A$6,'11_PDCAチェックシート【実施期間中】個別事業'!$A$41,MATCH($C490,'11_PDCAチェックシート【実施期間中】個別事業'!$H$4:$V$4,0)+6)","v":""},null,null,null,null,null,null,null,null,17,null,{"$f":"OFFSET('11_PDCAチェックシート【実施期間中】個別事業'!$A$6,'11_PDCAチェックシート【実施期間中】個別事業'!$A$51,MATCH($C490,'11_PDCAチェックシート【実施期間中】個別事業'!$H$4:$V$4,0)+6)","v":""}]
[null,null,null,null,8,null,{"$f":"OFFSET('11_PDCAチェックシート【実施期間中】個別事業'!$A$6,'11_PDCAチェックシート【実施期間中】個別事業'!$A$42,MATCH($C490,'11_PDCAチェックシート【実施期間中】個別事業'!$H$4:$V$4,0)+6)","v":""},null,null,null,null,null,null,null,null,18,null,{"$f":"OFFSET('11_PDCAチェックシート【実施期間中】個別事業'!$A$6,'11_PDCAチェックシート【実施期間中】個別事業'!$A$52,MATCH($C490,'11_PDCAチェックシート【実施期間中】個別事業'!$H$4:$V$4,0)+6)","v":""}]
[null,null,null,null,9,null,{"$f":"OFFSET('11_PDCAチェックシート【実施期間中】個別事業'!$A$6,'11_PDCAチェックシート【実施期間中】個別事業'!$A$43,MATCH($C490,'11_PDCAチェックシート【実施期間中】個別事業'!$H$4:$V$4,0)+6)","v":""},null,null,null,null,null,null,null,null,19,null,{"$f":"OFFSET('11_PDCAチェックシート【実施期間中】個別事業'!$A$6,'11_PDCAチェックシート【実施期間中】個別事業'!$A$53,MATCH($C490,'11_PDCAチェックシート【実施期間中】個別事業'!$H$4:$V$4,0)+6)","v":""}]
[null,null,null,null,10,null,{"$f":"OFFSET('11_PDCAチェックシート【実施期間中】個別事業'!$A$6,'11_PDCAチェックシート【実施期間中】個別事業'!$A$44,MATCH($C490,'11_PDCAチェックシート【実施期間中】個別事業'!$H$4:$V$4,0)+6)","v":""},null,null,null,null,null,null,null,null,20,null,{"$f":"OFFSET('11_PDCAチェックシート【実施期間中】個別事業'!$A$6,'11_PDCAチェックシート【実施期間中】個別事業'!$A$54,MATCH($C490,'11_PDCAチェックシート【実施期間中】個別事業'!$H$4:$V$4,0)+6)","v":""}]
[null,null,"事業の概要",null,{"$f":"OFFSET('11_PDCAチェックシート【実施期間中】個別事業'!$A$6,'11_PDCAチェックシート【実施期間中】個別事業'!$A$55,MATCH($C490,'11_PDCAチェックシート【実施期間中】個別事業'!$H$4:$V$4,0)+6)","v":""}]
[null,null,"地域団体との連携\n※地方公共団体を含む",null,{"$f":"'2_別紙1-2_実施計画書'!E539","v":0}]
[null,null,"実施結果",null,{"$f":"OFFSET('11_PDCAチェックシート【実施期間中】個別事業'!$A$6,'11_PDCAチェックシート【実施期間中】個別事業'!$A$57,MATCH($C490,'11_PDCAチェックシート【実施期間中】個別事業'!$H$4:$V$4,0)+6)","v":0}]
[]
[null,null,"主な訴求対象","計画",{"$f":"OFFSET('11_PDCAチェックシート【実施期間中】個別事業'!$A$6,'11_PDCAチェックシート【実施期間中】個別事業'!$A$58,MATCH($C490,'11_PDCAチェックシート【実施期間中】個別事業'!$H$4:$V$4,0)+6)","v":""}]
[null,null,null,"結果",{"$f":"OFFSET('11_PDCAチェックシート【実施期間中】個別事業'!$A$6,'11_PDCAチェックシート【実施期間中】個別事業'!$A$59,MATCH($C490,'11_PDCAチェックシート【実施期間中】個別事業'!$H$4:$V$4,0)+6)","v":0}]
[null,null,"規模（リーチ数）\n（想定及び実績）",null,"カテゴリ①（プルダウン選択）⇒",null,null,null,null,null,null,null,null,null,null,{"$f":"OFFSET('11_PDCAチェックシート【実施期間中】個別事業'!$A$6,'11_PDCAチェックシート【実施期間中】個別事業'!$A$60,MATCH($C490,'11_PDCAチェックシート【実施期間中】個別事業'!$H$4:$V$4,0)+6)","v":"聴取人口（番組・CM単位であれば）"}]
[null,null,null,null,"計画値",null,null,null,"計",null,{"$f":"'2_別紙1-2_実施計画書'!K545","v":0}]
[null,null,null,null,"実績値",null,null,null,"計",null,{"$f":"OFFSET('11_PDCAチェックシート【実施期間中】個別事業'!$A$6,'11_PDCAチェックシート【実施期間中】個別事業'!$A$63,MATCH($C490,'11_PDCAチェックシート【実施期間中】個別事業'!$H$4:$V$4,0)+6)","v":0}]
[null,null,null,null,"算出根拠",null,null,null,{"$f":"OFFSET('11_PDCAチェックシート【実施期間中】個別事業'!$A$6,'11_PDCAチェックシート【実施期間中】個別事業'!$A$64,MATCH($C490,'11_PDCAチェックシート【実施期間中】個別事業'!$H$4:$V$4,0)+6)","v":""}]
[null,null,null,null,"カテゴリ②（プルダウン選択）⇒",null,null,null,null,null,null,null,null,null,null,{"$f":"OFFSET('11_PDCAチェックシート【実施期間中】個別事業'!$A$6,'11_PDCAチェックシート【実施期間中】個別事業'!$A$65,MATCH($C490,'11_PDCAチェックシート【実施期間中】個別事業'!$H$4:$V$4,0)+6)","v":""}]
[null,null,null,null,"計画値",null,null,null,"計",null,{"$f":"'2_別紙1-2_実施計画書'!K549","v":0}]
[null,null,null,null,"実績値",null,null,null,"計",null,{"$f":"OFFSET('11_PDCAチェックシート【実施期間中】個別事業'!$A$6,'11_PDCAチェックシート【実施期間中】個別事業'!$A$68,MATCH($C490,'11_PDCAチェックシート【実施期間中】個別事業'!$H$4:$V$4,0)+6)","v":0}]
[null,null,null,null,"算出根拠",null,null,null,{"$f":"OFFSET('11_PDCAチェックシート【実施期間中】個別事業'!$A$6,'11_PDCAチェックシート【実施期間中】個別事業'!$A$69,MATCH($C490,'11_PDCAチェックシート【実施期間中】個別事業'!$H$4:$V$4,0)+6)","v":""}]
[null,null,"COOL CHOICE 賛同数\n（想定及び実績）",null,"計画値",null,null,null,"団体",null,{"$f":"OFFSET('11_PDCAチェックシート【実施期間中】個別事業'!$A$6,'11_PDCAチェックシート【実施期間中】個別事業'!$A$71,MATCH($C490,'11_PDCAチェックシート【実施期間中】個別事業'!$H$4:$V$4,0)+6)","v":0},null,null,null,null,"、個人",null,{"$f":"OFFSET('11_PDCAチェックシート【実施期間中】個別事業'!$A$6,'11_PDCAチェックシート【実施期間中】個別事業'!$A$74,MATCH($C490,'11_PDCAチェックシート【実施期間中】個別事業'!$H$4:$V$4,0)+6)","v":0}]
[null,null,null,null,"実績値",null,null,null,"団体",null,{"$f":"OFFSET('11_PDCAチェックシート【実施期間中】個別事業'!$A$6,'11_PDCAチェックシート【実施期間中】個別事業'!$A$72,MATCH($C490,'11_PDCAチェックシート【実施期間中】個別事業'!$H$4:$V$4,0)+6)","v":0},null,null,null,null,"、個人",null,{"$f":"OFFSET('11_PDCAチェックシート【実施期間中】個別事業'!$A$6,'11_PDCAチェックシート【実施期間中】個別事業'!$A$75,MATCH($C490,'11_PDCAチェックシート【実施期間中】個別事業'!$H$4:$V$4,0)+6)","v":0}]
[null,null,"効果検証\n（アンケート）予定",null,"※アンケートの実施予定をプルダウンより選択してください。"]
[null,null,null,null,"公募要領に規定のアンケート",null,null,null,null,null,null,null,null,null,null,null,null,null,null,null,null,"貴事業者独自のアンケート"]
[null,null,null,null,"省エネ機器",null,null,null,"省エネ住宅",null,null,null,"エコドライブ",null,null,null,"低炭素物流（宅配便の再配達防止）"]
[null,null,null,null,{"$f":"OFFSET('11_PDCAチェックシート【実施期間中】個別事業'!$A$6,'11_PDCAチェックシート【実施期間中】個別事業'!$A$76,MATCH($C490,'11_PDCAチェックシート【実施期間中】個別事業'!$H$4:$V$4,0)+6)","v":"- 選択 -"},null,null,null,{"$f":"OFFSET('11_PDCAチェックシート【実施期間中】個別事業'!$A$6,'11_PDCAチェックシート【実施期間中】個別事業'!$A$77,MATCH($C490,'11_PDCAチェックシート【実施期間中】個別事業'!$H$4:$V$4,0)+6)","v":"- 選択 -"},null,null,null,{"$f":"OFFSET('11_PDCAチェックシート【実施期間中】個別事業'!$A$6,'11_PDCAチェックシート【実施期間中】個別事業'!$A$78,MATCH($C490,'11_PDCAチェックシート【実施期間中】個別事業'!$H$4:$V$4,0)+6)","v":"- 選択 -"},null,null,null,{"$f":"OFFSET('11_PDCAチェックシート【実施期間中】個別事業'!$A$6,'11_PDCAチェックシート【実施期間中】個別事業'!$A$79,MATCH($C490,'11_PDCAチェックシート【実施期間中】個別事業'!$H$4:$V$4,0)+6)","v":"- 選択 -"},null,null,null,null,{"$f":"OFFSET('11_PDCAチェックシート【実施期間中】個別事業'!$A$6,'11_PDCAチェックシート【実施期間中】個別事業'!$A$80,MATCH($C490,'11_PDCAチェックシート【実施期間中】個別事業'!$H$4:$V$4,0)+6)","v":"- 選択 -"}]
[null,null,null,null,"内容（",null,{"$f":"OFFSET('11_PDCAチェックシート【実施期間中】個別事業'!$A$6,'11_PDCAチェックシート【実施期間中】個別事業'!$A$81,MATCH($C490,'11_PDCAチェックシート【実施期間中】個別事業'!$H$4:$V$4,0)+6)","v":""},null,null,null,null,null,null,null,null,null,null,null,null,null,null,null,null,null,null,"）"]
[null,null,null,null,"目標回収数",null,null,null,"計",{"$f":"OFFSET('11_PDCAチェックシート【実施期間中】個別事業'!$A$6,'11_PDCAチェックシート【実施期間中】個別事業'!$A$83,MATCH($C490,'11_PDCAチェックシート【実施期間中】個別事業'!$H$4:$V$4,0)+6)","v":0},null,null,"枚",null,"※複数ある場合は、平均アンケート回収数"]
[null,null,null,null,"実績値",null,null,null,"計",{"$f":"OFFSET('11_PDCAチェックシート【実施期間中】個別事業'!$A$6,'11_PDCAチェックシート【実施期間中】個別事業'!$A$84,MATCH($C490,'11_PDCAチェックシート【実施期間中】個別事業'!$H$4:$V$4,0)+6)","v":0},null,null,"枚",null,"※複数ある場合は、平均アンケート回収数"]
[]
[null,null,"項目",null,"内容"]
[null,null,"事業10","事業名\n（番組・CM名）",{"$f":"OFFSET('11_PDCAチェックシート【実施期間中】個別事業'!$A$6,,MATCH(C547,'11_PDCAチェックシート【実施期間中】個別事業'!$H$4:$V$4,0)+6)","v":0}]
[null,null,"普及啓発テーマ",null,"※該当する普及啓発テーマすべてをチェックしてください。"]
[null,null,null,null,"①",null,"②",null,"③",null,"④",null,"⑤",null,"⑥",null,"⑦",null,"⑧",null,"⑨",null,"⑩",null,"⑪",null,null,null,"①","②","③","④","⑤","⑥","⑦","⑧","⑨","⑩","⑪"]
[null,null,null,null,"省ｴﾈ機器",null,"省ｴﾈ住宅",null,"ｴｺｶｰ",null,"ｸｰﾙﾋﾞｽﾞ",null,"ｳｫｰﾑﾋﾞｽﾞ",null,"照明の\n高効率利用",null,"ｴｺﾄﾞﾗｲﾌﾞ",null,"ｶｰｼｪｱ",null,"公共交通\n機関の利用",null,"再配達防止",null,"シェアエコ",null,null,null,"省ｴﾈ機器","省ｴﾈ住宅","ｴｺｶｰ","ｸｰﾙﾋﾞｽﾞ","ｳｫｰﾑﾋﾞｽﾞ","照明の\n高効率利用","ｴｺﾄﾞﾗｲﾌﾞ","ｶｰｼｪｱ","公共交通\n機関の利用","再配達防止","シェアエコ"]
[null,null,null,null,null,null,null,null,null,null,null,null,null,null,null,null,null,null,null,null,null,null,null,null,null,null,null,null,false,{"$f":"IF(COUNTIFS('11_PDCAチェックシート【実施期間中】個別事業'!$E$7:$E$17,'7_別紙1-2_実施報告書'!AD549,OFFSET('11_PDCAチェックシート【実施期間中】個別事業'!$F$7,,MATCH('7_別紙1-2_実施報告書'!$C547,'11_PDCAチェックシート【実施期間中】個別事業'!$H$4:$V$4,0)+1,11,1),1),1,0)","v":0},false,{"$f":"IF(COUNTIFS('11_PDCAチェックシート【実施期間中】個別事業'!$E$7:$E$17,'7_別紙1-2_実施報告書'!AF549,OFFSET('11_PDCAチェックシート【実施期間中】個別事業'!$F$7,,MATCH('7_別紙1-2_実施報告書'!$C547,'11_PDCAチェックシート【実施期間中】個別事業'!$H$4:$V$4,0)+1,11,1),1),1,0)","v":0},{"$f":"IF(COUNTIFS('11_PDCAチェックシート【実施期間中】個別事業'!$E$7:$E$17,'7_別紙1-2_実施報告書'!AG549,OFFSET('11_PDCAチェックシート【実施期間中】個別事業'!$F$7,,MATCH('7_別紙1-2_実施報告書'!$C547,'11_PDCAチェックシート【実施期間中】個別事業'!$H$4:$V$4,0)+1,11,1),1),1,0)","v":0},{"$f":"IF(COUNTIFS('11_PDCAチェックシート【実施期間中】個別事業'!$E$7:$E$17,'7_別紙1-2_実施報告書'!AH549,OFFSET('11_PDCAチェックシート【実施期間中】個別事業'!$F$7,,MATCH('7_別紙1-2_実施報告書'!$C547,'11_PDCAチェックシート【実施期間中】個別事業'!$H$4:$V$4,0)+1,11,1),1),1,0)","v":0},{"$f":"IF(COUNTIFS('11_PDCAチェックシート【実施期間中】個別事業'!$E$7:$E$17,'7_別紙1-2_実施報告書'!AI549,OFFSET('11_PDCAチェックシート【実施期間中】個別事業'!$F$7,,MATCH('7_別紙1-2_実施報告書'!$C547,'11_PDCAチェックシート【実施期間中】個別事業'!$H$4:$V$4,0)+1,11,1),1),1,0)","v":0},{"$f":"IF(COUNTIFS('11_PDCAチェックシート【実施期間中】個別事業'!$E$7:$E$17,'7_別紙1-2_実施報告書'!AJ549,OFFSET('11_PDCAチェックシート【実施期間中】個別事業'!$F$7,,MATCH('7_別紙1-2_実施報告書'!$C547,'11_PDCAチェックシート【実施期間中】個別事業'!$H$4:$V$4,0)+1,11,1),1),1,0)","v":0},{"$f":"IF(COUNTIFS('11_PDCAチェックシート【実施期間中】個別事業'!$E$7:$E$17,'7_別紙1-2_実施報告書'!AK549,OFFSET('11_PDCAチェックシート【実施期間中】個別事業'!$F$7,,MATCH('7_別紙1-2_実施報告書'!$C547,'11_PDCAチェックシート【実施期間中】個別事業'!$H$4:$V$4,0)+1,11,1),1),1,0)","v":0},{"$f":"IF(COUNTIFS('11_PDCAチェックシート【実施期間中】個別事業'!$E$7:$E$17,'7_別紙1-2_実施報告書'!AL549,OFFSET('11_PDCAチェックシート【実施期間中】個別事業'!$F$7,,MATCH('7_別紙1-2_実施報告書'!$C547,'11_PDCAチェックシート【実施期間中】個別事業'!$H$4:$V$4,0)+1,11,1),1),1,0)","v":0},{"$f":"IF(COUNTIFS('11_PDCAチェックシート【実施期間中】個別事業'!$E$7:$E$17,'7_別紙1-2_実施報告書'!AM549,OFFSET('11_PDCAチェックシート【実施期間中】個別事業'!$F$7,,MATCH('7_別紙1-2_実施報告書'!$C547,'11_PDCAチェックシート【実施期間中】個別事業'!$H$4:$V$4,0)+1,11,1),1),1,0)","v":0},{"$f":"COUNTIFS(AC551:AM551,\"TRUE\")","v":0}]
[null,null,"訴求手法",null,"※訴求手法については、該当する欄にチェックしてください。"]
[null,null,null,null,"a) 情報発信型（受動型）",null,null,null,null,null,null,"b) 情報発信型（能動型）",null,null,null,null,null,null,"c) 双方向体験交流型"]
[null,null,null,null,"ラジオ、新聞・広報紙等",null,null,null,null,null,null,"講演会・パネル展示等",null,null,null,null,null,null,"試乗・体験会、省ｴﾈ診断等",null,null,null,null,null,null,null,null,null,"a)","b)","c)"]
[null,null,null,null,null,null,null,null,null,null,null,null,null,null,null,null,null,null,null,null,null,null,null,null,null,null,null,null,false,false,false,null,null,null,null,null,null,null,null,{"$f":"COUNTIFS(AC555:AM555,\"TRUE\")","v":0}]
[null,null,"情報発信カテゴリー\n（プルダウン選択）",null,{"$f":"OFFSET('11_PDCAチェックシート【実施期間中】個別事業'!$A$6,'11_PDCAチェックシート【実施期間中】個別事業'!$A$21,MATCH($C547,'11_PDCAチェックシート【実施期間中】個別事業'!$H$4:$V$4,0)+6)","v":"-"},null,null,null,null,null,null,null,null,null,null,{"$f":"IF(OFFSET('11_PDCAチェックシート【実施期間中】個別事業'!$A$6,'11_PDCAチェックシート【実施期間中】個別事業'!$A$22,MATCH($C547,'11_PDCAチェックシート【実施期間中】個別事業'!$H$4:$V$4,0)+6)=\"\",\"\",OFFSET('11_PDCAチェックシート【実施期間中】個別事業'!$A$6,'11_PDCAチェックシート【実施期間中】個別事業'!$A$22,MATCH($C547,'11_PDCAチェックシート【実施期間中】個別事業'!$H$4:$V$4,0)+6))","v":""}]
[]
[null,null,"尺・放送回数",null,"※収録本数、放送回数を定量的に必ず記載のこと"]
[null,null,null,null,"①","尺",null,null,{"$f":"OFFSET('11_PDCAチェックシート【実施期間中】個別事業'!$A$6,'11_PDCAチェックシート【実施期間中】個別事業'!$A$23,MATCH($C547,'11_PDCAチェックシート【実施期間中】個別事業'!$H$4:$V$4,0)+6)","v":""},null,null,"（秒）",null,null,null,"※単位はプルダウン選択"]
[null,null,null,null,null,"収録本数",null,null,{"$f":"OFFSET('11_PDCAチェックシート【実施期間中】個別事業'!$A$6,'11_PDCAチェックシート【実施期間中】個別事業'!$A$24,MATCH($C547,'11_PDCAチェックシート【実施期間中】個別事業'!$H$4:$V$4,0)+6)","v":""},null,null,"（本）"]
[null,null,null,null,null,"放送回数",null,null,{"$f":"OFFSET('11_PDCAチェックシート【実施期間中】個別事業'!$A$6,'11_PDCAチェックシート【実施期間中】個別事業'!$A$25,MATCH($C547,'11_PDCAチェックシート【実施期間中】個別事業'!$H$4:$V$4,0)+6)","v":""},null,null,"（回）",null,null,null,"※再放送を含む"]
[null,null,null,null,null,"備考",null,null,{"$f":"OFFSET('11_PDCAチェックシート【実施期間中】個別事業'!$A$6,'11_PDCAチェックシート【実施期間中】個別事業'!$A$26,MATCH($C547,'11_PDCAチェックシート【実施期間中】個別事業'!$H$4:$V$4,0)+6)","v":""},null,null,{"$f":"OFFSET('11_PDCAチェックシート【実施期間中】個別事業'!$A$6,'11_PDCAチェックシート【実施期間中】個別事業'!#REF!,MATCH($C550,'11_PDCAチェックシート【実施期間中】個別事業'!$H$4:$V$4,0)+6)","v":{"$error":"#REF!"}},null,null,{"$f":"OFFSET('11_PDCAチェックシート【実施期間中】個別事業'!$A$6,'11_PDCAチェックシート【実施期間中】個別事業'!#REF!,MATCH($C550,'11_PDCAチェックシート【実施期間中】個別事業'!$H$4:$V$4,0)+6)","v":{"$error":"#REF!"}},null,null,{"$f":"OFFSET('11_PDCAチェックシート【実施期間中】個別事業'!$A$6,'11_PDCAチェックシート【実施期間中】個別事業'!#REF!,MATCH($C550,'11_PDCAチェックシート【実施期間中】個別事業'!$H$4:$V$4,0)+6)","v":{"$error":"#REF!"}},null,null,{"$f":"OFFSET('11_PDCAチェックシート【実施期間中】個別事業'!$A$6,'11_PDCAチェックシート【実施期間中】個別事業'!#REF!,MATCH($C550,'11_PDCAチェックシート【実施期間中】個別事業'!$H$4:$V$4,0)+6)","v":{"$error":"#REF!"}},null,null,{"$f":"OFFSET('11_PDCAチェックシート【実施期間中】個別事業'!$A$6,'11_PDCAチェックシート【実施期間中】個別事業'!#REF!,MATCH($C550,'11_PDCAチェックシート【実施期間中】個別事業'!$H$4:$V$4,0)+6)","v":{"$error":"#REF!"}}]
[null,null,null,null,"②","尺",null,null,{"$f":"OFFSET('11_PDCAチェックシート【実施期間中】個別事業'!$A$6,'11_PDCAチェックシート【実施期間中】個別事業'!$A$27,MATCH($C547,'11_PDCAチェックシート【実施期間中】個別事業'!$H$4:$V$4,0)+6)","v":""},null,null,"（秒）",null,null,null,"※単位はプルダウン選択"]
[null,null,null,null,null,"収録本数",null,null,{"$f":"OFFSET('11_PDCAチェックシート【実施期間中】個別事業'!$A$6,'11_PDCAチェックシート【実施期間中】個別事業'!$A$28,MATCH($C547,'11_PDCAチェックシート【実施期間中】個別事業'!$H$4:$V$4,0)+6)","v":""},null,null,"（本）"]
[null,null,null,null,null,"放送回数",null,null,{"$f":"OFFSET('11_PDCAチェックシート【実施期間中】個別事業'!$A$6,'11_PDCAチェックシート【実施期間中】個別事業'!$A$29,MATCH($C547,'11_PDCAチェックシート【実施期間中】個別事業'!$H$4:$V$4,0)+6)","v":""},null,null,"（回）",null,null,null,"※再放送を含む"]
[null,null,null,null,null,"備考",null,null,{"$f":"OFFSET('11_PDCAチェックシート【実施期間中】個別事業'!$A$6,'11_PDCAチェックシート【実施期間中】個別事業'!$A$30,MATCH($C547,'11_PDCAチェックシート【実施期間中】個別事業'!$H$4:$V$4,0)+6)","v":""},null,null,{"$f":"OFFSET('11_PDCAチェックシート【実施期間中】個別事業'!$A$6,'11_PDCAチェックシート【実施期間中】個別事業'!#REF!,MATCH($C554,'11_PDCAチェックシート【実施期間中】個別事業'!$H$4:$V$4,0)+6)","v":{"$error":"#REF!"}},null,null,{"$f":"OFFSET('11_PDCAチェックシート【実施期間中】個別事業'!$A$6,'11_PDCAチェックシート【実施期間中】個別事業'!#REF!,MATCH($C554,'11_PDCAチェックシート【実施期間中】個別事業'!$H$4:$V$4,0)+6)","v":{"$error":"#REF!"}},null,null,{"$f":"OFFSET('11_PDCAチェックシート【実施期間中】個別事業'!$A$6,'11_PDCAチェックシート【実施期間中】個別事業'!#REF!,MATCH($C554,'11_PDCAチェックシート【実施期間中】個別事業'!$H$4:$V$4,0)+6)","v":{"$error":"#REF!"}},null,null,{"$f":"OFFSET('11_PDCAチェックシート【実施期間中】個別事業'!$A$6,'11_PDCAチェックシート【実施期間中】個別事業'!#REF!,MATCH($C554,'11_PDCAチェックシート【実施期間中】個別事業'!$H$4:$V$4,0)+6)","v":{"$error":"#REF!"}},null,null,{"$f":"OFFSET('11_PDCAチェックシート【実施期間中】個別事業'!$A$6,'11_PDCAチェックシート【実施期間中】個別事業'!#REF!,MATCH($C554,'11_PDCAチェックシート【実施期間中】個別事業'!$H$4:$V$4,0)+6)","v":{"$error":"#REF!"}}]
[null,null,"実施期間",null,{"$f":"OFFSET('11_PDCAチェックシート【実施期間中】個別事業'!$A$6,'11_PDCAチェックシート【実施期間中】個別事業'!$A$31,MATCH($C547,'11_PDCAチェックシート【実施期間中】個別事業'!$H$4:$V$4,0)+6)","v":""},null,null,null,null,null,null,null,null,"～",null,null,null,{"$f":"OFFSET('11_PDCAチェックシート【実施期間中】個別事業'!$A$6,'11_PDCAチェックシート【実施期間中】個別事業'!$A$33,MATCH($C547,'11_PDCAチェックシート【実施期間中】個別事業'!$H$4:$V$4,0)+6)","v":""}]
[null,null,"放送時間、その他備考",null,{"$f":"OFFSET('11_PDCAチェックシート【実施期間中】個別事業'!$A$6,'11_PDCAチェックシート【実施期間中】個別事業'!$A$34,MATCH($C547,'11_PDCAチェックシート【実施期間中】個別事業'!$H$4:$V$4,0)+6)","v":""}]
[null,null,"実施日\n（※同一事業内で、\n同一の内容・場所において\n複数日実施する場合）",null,1,null,{"$f":"OFFSET('11_PDCAチェックシート【実施期間中】個別事業'!$A$6,'11_PDCAチェックシート【実施期間中】個別事業'!$A$35,MATCH($C547,'11_PDCAチェックシート【実施期間中】個別事業'!$H$4:$V$4,0)+6)","v":""},null,null,null,null,null,null,null,null,11,null,{"$f":"OFFSET('11_PDCAチェックシート【実施期間中】個別事業'!$A$6,'11_PDCAチェックシート【実施期間中】個別事業'!$A$45,MATCH($C547,'11_PDCAチェックシート【実施期間中】個別事業'!$H$4:$V$4,0)+6)","v":""}]
[null,null,null,null,2,null,{"$f":"OFFSET('11_PDCAチェックシート【実施期間中】個別事業'!$A$6,'11_PDCAチェックシート【実施期間中】個別事業'!$A$36,MATCH($C547,'11_PDCAチェックシート【実施期間中】個別事業'!$H$4:$V$4,0)+6)","v":""},null,null,null,null,null,null,null,null,12,null,{"$f":"OFFSET('11_PDCAチェックシート【実施期間中】個別事業'!$A$6,'11_PDCAチェックシート【実施期間中】個別事業'!$A$46,MATCH($C547,'11_PDCAチェックシート【実施期間中】個別事業'!$H$4:$V$4,0)+6)","v":""}]
[null,null,null,null,3,null,{"$f":"OFFSET('11_PDCAチェックシート【実施期間中】個別事業'!$A$6,'11_PDCAチェックシート【実施期間中】個別事業'!$A$37,MATCH($C547,'11_PDCAチェックシート【実施期間中】個別事業'!$H$4:$V$4,0)+6)","v":""},null,null,null,null,null,null,null,null,13,null,{"$f":"OFFSET('11_PDCAチェックシート【実施期間中】個別事業'!$A$6,'11_PDCAチェックシート【実施期間中】個別事業'!$A$47,MATCH($C547,'11_PDCAチェックシート【実施期間中】個別事業'!$H$4:$V$4,0)+6)","v":""}]
[null,null,null,null,4,null,{"$f":"OFFSET('11_PDCAチェックシート【実施期間中】個別事業'!$A$6,'11_PDCAチェックシート【実施期間中】個別事業'!$A$38,MATCH($C547,'11_PDCAチェックシート【実施期間中】個別事業'!$H$4:$V$4,0)+6)","v":""},null,null,null,null,null,null,null,null,14,null,{"$f":"OFFSET('11_PDCAチェックシート【実施期間中】個別事業'!$A$6,'11_PDCAチェックシート【実施期間中】個別事業'!$A$48,MATCH($C547,'11_PDCAチェックシート【実施期間中】個別事業'!$H$4:$V$4,0)+6)","v":""}]
[null,null,null,null,5,null,{"$f":"OFFSET('11_PDCAチェックシート【実施期間中】個別事業'!$A$6,'11_PDCAチェックシート【実施期間中】個別事業'!$A$39,MATCH($C547,'11_PDCAチェックシート【実施期間中】個別事業'!$H$4:$V$4,0)+6)","v":""},null,null,null,null,null,null,null,null,15,null,{"$f":"OFFSET('11_PDCAチェックシート【実施期間中】個別事業'!$A$6,'11_PDCAチェックシート【実施期間中】個別事業'!$A$49,MATCH($C547,'11_PDCAチェックシート【実施期間中】個別事業'!$H$4:$V$4,0)+6)","v":""}]
[null,null,null,null,6,null,{"$f":"OFFSET('11_PDCAチェックシート【実施期間中】個別事業'!$A$6,'11_PDCAチェックシート【実施期間中】個別事業'!$A$40,MATCH($C547,'11_PDCAチェックシート【実施期間中】個別事業'!$H$4:$V$4,0)+6)","v":""},null,null,null,null,null,null,null,null,16,null,{"$f":"OFFSET('11_PDCAチェックシート【実施期間中】個別事業'!$A$6,'11_PDCAチェックシート【実施期間中】個別事業'!$A$50,MATCH($C547,'11_PDCAチェックシート【実施期間中】個別事業'!$H$4:$V$4,0)+6)","v":""}]
[null,null,null,null,7,null,{"$f":"OFFSET('11_PDCAチェックシート【実施期間中】個別事業'!$A$6,'11_PDCAチェックシート【実施期間中】個別事業'!$A$41,MATCH($C547,'11_PDCAチェックシート【実施期間中】個別事業'!$H$4:$V$4,0)+6)","v":""},null,null,null,null,null,null,null,null,17,null,{"$f":"OFFSET('11_PDCAチェックシート【実施期間中】個別事業'!$A$6,'11_PDCAチェックシート【実施期間中】個別事業'!$A$51,MATCH($C547,'11_PDCAチェックシート【実施期間中】個別事業'!$H$4:$V$4,0)+6)","v":""}]
[null,null,null,null,8,null,{"$f":"OFFSET('11_PDCAチェックシート【実施期間中】個別事業'!$A$6,'11_PDCAチェックシート【実施期間中】個別事業'!$A$42,MATCH($C547,'11_PDCAチェックシート【実施期間中】個別事業'!$H$4:$V$4,0)+6)","v":""},null,null,null,null,null,null,null,null,18,null,{"$f":"OFFSET('11_PDCAチェックシート【実施期間中】個別事業'!$A$6,'11_PDCAチェックシート【実施期間中】個別事業'!$A$52,MATCH($C547,'11_PDCAチェックシート【実施期間中】個別事業'!$H$4:$V$4,0)+6)","v":""}]
[null,null,null,null,9,null,{"$f":"OFFSET('11_PDCAチェックシート【実施期間中】個別事業'!$A$6,'11_PDCAチェックシート【実施期間中】個別事業'!$A$43,MATCH($C547,'11_PDCAチェックシート【実施期間中】個別事業'!$H$4:$V$4,0)+6)","v":""},null,null,null,null,null,null,null,null,19,null,{"$f":"OFFSET('11_PDCAチェックシート【実施期間中】個別事業'!$A$6,'11_PDCAチェックシート【実施期間中】個別事業'!$A$53,MATCH($C547,'11_PDCAチェックシート【実施期間中】個別事業'!$H$4:$V$4,0)+6)","v":""}]
[null,null,null,null,10,null,{"$f":"OFFSET('11_PDCAチェックシート【実施期間中】個別事業'!$A$6,'11_PDCAチェックシート【実施期間中】個別事業'!$A$44,MATCH($C547,'11_PDCAチェックシート【実施期間中】個別事業'!$H$4:$V$4,0)+6)","v":""},null,null,null,null,null,null,null,null,20,null,{"$f":"OFFSET('11_PDCAチェックシート【実施期間中】個別事業'!$A$6,'11_PDCAチェックシート【実施期間中】個別事業'!$A$54,MATCH($C547,'11_PDCAチェックシート【実施期間中】個別事業'!$H$4:$V$4,0)+6)","v":""}]
[null,null,"事業の概要",null,{"$f":"OFFSET('11_PDCAチェックシート【実施期間中】個別事業'!$A$6,'11_PDCAチェックシート【実施期間中】個別事業'!$A$55,MATCH($C547,'11_PDCAチェックシート【実施期間中】個別事業'!$H$4:$V$4,0)+6)","v":""}]
[null,null,"地域団体との連携\n※地方公共団体を含む",null,{"$f":"'2_別紙1-2_実施計画書'!E595","v":0}]
[null,null,"実施結果",null,{"$f":"OFFSET('11_PDCAチェックシート【実施期間中】個別事業'!$A$6,'11_PDCAチェックシート【実施期間中】個別事業'!$A$57,MATCH($C547,'11_PDCAチェックシート【実施期間中】個別事業'!$H$4:$V$4,0)+6)","v":0}]
[]
[null,null,"主な訴求対象","計画",{"$f":"OFFSET('11_PDCAチェックシート【実施期間中】個別事業'!$A$6,'11_PDCAチェックシート【実施期間中】個別事業'!$A$58,MATCH($C547,'11_PDCAチェックシート【実施期間中】個別事業'!$H$4:$V$4,0)+6)","v":""}]
[null,null,null,"結果",{"$f":"OFFSET('11_PDCAチェックシート【実施期間中】個別事業'!$A$6,'11_PDCAチェックシート【実施期間中】個別事業'!$A$59,MATCH($C547,'11_PDCAチェックシート【実施期間中】個別事業'!$H$4:$V$4,0)+6)","v":0}]
[null,null,"規模（リーチ数）\n（想定及び実績）",null,"カテゴリ①（プルダウン選択）⇒",null,null,null,null,null,null,null,null,null,null,{"$f":"OFFSET('11_PDCAチェックシート【実施期間中】個別事業'!$A$6,'11_PDCAチェックシート【実施期間中】個別事業'!$A$60,MATCH($C547,'11_PDCAチェックシート【実施期間中】個別事業'!$H$4:$V$4,0)+6)","v":"聴取人口（番組・CM単位であれば）"}]
[null,null,null,null,"計画値",null,null,null,"計",null,{"$f":"'2_別紙1-2_実施計画書'!K601","v":0}]
[null,null,null,null,"実績値",null,null,null,"計",null,{"$f":"OFFSET('11_PDCAチェックシート【実施期間中】個別事業'!$A$6,'11_PDCAチェックシート【実施期間中】個別事業'!$A$63,MATCH($C547,'11_PDCAチェックシート【実施期間中】個別事業'!$H$4:$V$4,0)+6)","v":0}]
[null,null,null,null,"算出根拠",null,null,null,{"$f":"OFFSET('11_PDCAチェックシート【実施期間中】個別事業'!$A$6,'11_PDCAチェックシート【実施期間中】個別事業'!$A$64,MATCH($C547,'11_PDCAチェックシート【実施期間中】個別事業'!$H$4:$V$4,0)+6)","v":""}]
[null,null,null,null,"カテゴリ②（プルダウン選択）⇒",null,null,null,null,null,null,null,null,null,null,{"$f":"OFFSET('11_PDCAチェックシート【実施期間中】個別事業'!$A$6,'11_PDCAチェックシート【実施期間中】個別事業'!$A$65,MATCH($C547,'11_PDCAチェックシート【実施期間中】個別事業'!$H$4:$V$4,0)+6)","v":""}]
[null,null,null,null,"計画値",null,null,null,"計",null,{"$f":"'2_別紙1-2_実施計画書'!K605","v":0}]
[null,null,null,null,"実績値",null,null,null,"計",null,{"$f":"OFFSET('11_PDCAチェックシート【実施期間中】個別事業'!$A$6,'11_PDCAチェックシート【実施期間中】個別事業'!$A$68,MATCH($C547,'11_PDCAチェックシート【実施期間中】個別事業'!$H$4:$V$4,0)+6)","v":0}]
[null,null,null,null,"算出根拠",null,null,null,{"$f":"OFFSET('11_PDCAチェックシート【実施期間中】個別事業'!$A$6,'11_PDCAチェックシート【実施期間中】個別事業'!$A$69,MATCH($C547,'11_PDCAチェックシート【実施期間中】個別事業'!$H$4:$V$4,0)+6)","v":""}]
[null,null,"COOL CHOICE 賛同数\n（想定及び実績）",null,"計画値",null,null,null,"団体",null,{"$f":"OFFSET('11_PDCAチェックシート【実施期間中】個別事業'!$A$6,'11_PDCAチェックシート【実施期間中】個別事業'!$A$71,MATCH($C547,'11_PDCAチェックシート【実施期間中】個別事業'!$H$4:$V$4,0)+6)","v":0},null,null,null,null,"、個人",null,{"$f":"OFFSET('11_PDCAチェックシート【実施期間中】個別事業'!$A$6,'11_PDCAチェックシート【実施期間中】個別事業'!$A$74,MATCH($C547,'11_PDCAチェックシート【実施期間中】個別事業'!$H$4:$V$4,0)+6)","v":0}]
[null,null,null,null,"実績値",null,null,null,"団体",null,{"$f":"OFFSET('11_PDCAチェックシート【実施期間中】個別事業'!$A$6,'11_PDCAチェックシート【実施期間中】個別事業'!$A$72,MATCH($C547,'11_PDCAチェックシート【実施期間中】個別事業'!$H$4:$V$4,0)+6)","v":0},null,null,null,null,"、個人",null,{"$f":"OFFSET('11_PDCAチェックシート【実施期間中】個別事業'!$A$6,'11_PDCAチェックシート【実施期間中】個別事業'!$A$75,MATCH($C547,'11_PDCAチェックシート【実施期間中】個別事業'!$H$4:$V$4,0)+6)","v":0}]
[null,null,"効果検証\n（アンケート）予定",null,"※アンケートの実施予定をプルダウンより選択してください。"]
[null,null,null,null,"公募要領に規定のアンケート",null,null,null,null,null,null,null,null,null,null,null,null,null,null,null,null,"貴事業者独自のアンケート"]
[null,null,null,null,"省エネ機器",null,null,null,"省エネ住宅",null,null,null,"エコドライブ",null,null,null,"低炭素物流（宅配便の再配達防止）"]
[null,null,null,null,{"$f":"OFFSET('11_PDCAチェックシート【実施期間中】個別事業'!$A$6,'11_PDCAチェックシート【実施期間中】個別事業'!$A$76,MATCH($C547,'11_PDCAチェックシート【実施期間中】個別事業'!$H$4:$V$4,0)+6)","v":"- 選択 -"},null,null,null,{"$f":"OFFSET('11_PDCAチェックシート【実施期間中】個別事業'!$A$6,'11_PDCAチェックシート【実施期間中】個別事業'!$A$77,MATCH($C547,'11_PDCAチェックシート【実施期間中】個別事業'!$H$4:$V$4,0)+6)","v":"- 選択 -"},null,null,null,{"$f":"OFFSET('11_PDCAチェックシート【実施期間中】個別事業'!$A$6,'11_PDCAチェックシート【実施期間中】個別事業'!$A$78,MATCH($C547,'11_PDCAチェックシート【実施期間中】個別事業'!$H$4:$V$4,0)+6)","v":"- 選択 -"},null,null,null,{"$f":"OFFSET('11_PDCAチェックシート【実施期間中】個別事業'!$A$6,'11_PDCAチェックシート【実施期間中】個別事業'!$A$79,MATCH($C547,'11_PDCAチェックシート【実施期間中】個別事業'!$H$4:$V$4,0)+6)","v":"- 選択 -"},null,null,null,null,{"$f":"OFFSET('11_PDCAチェックシート【実施期間中】個別事業'!$A$6,'11_PDCAチェックシート【実施期間中】個別事業'!$A$80,MATCH($C547,'11_PDCAチェックシート【実施期間中】個別事業'!$H$4:$V$4,0)+6)","v":"- 選択 -"}]
[null,null,null,null,"内容（",null,{"$f":"OFFSET('11_PDCAチェックシート【実施期間中】個別事業'!$A$6,'11_PDCAチェックシート【実施期間中】個別事業'!$A$81,MATCH($C547,'11_PDCAチェックシート【実施期間中】個別事業'!$H$4:$V$4,0)+6)","v":""},null,null,null,null,null,null,null,null,null,null,null,null,null,null,null,null,null,null,"）"]
[null,null,null,null,"目標回収数",null,null,null,"計",{"$f":"OFFSET('11_PDCAチェックシート【実施期間中】個別事業'!$A$6,'11_PDCAチェックシート【実施期間中】個別事業'!$A$83,MATCH($C547,'11_PDCAチェックシート【実施期間中】個別事業'!$H$4:$V$4,0)+6)","v":0},null,null,"枚",null,"※複数ある場合は、平均アンケート回収数"]
[null,null,null,null,"実績値",null,null,null,"計",{"$f":"OFFSET('11_PDCAチェックシート【実施期間中】個別事業'!$A$6,'11_PDCAチェックシート【実施期間中】個別事業'!$A$84,MATCH($C547,'11_PDCAチェックシート【実施期間中】個別事業'!$H$4:$V$4,0)+6)","v":0},null,null,"枚",null,"※複数ある場合は、平均アンケート回収数"]
[]
[null,null,"項目",null,"内容"]
[null,null,"事業11","事業名\n（番組・CM名）",{"$f":"OFFSET('11_PDCAチェックシート【実施期間中】個別事業'!$A$6,,MATCH(C604,'11_PDCAチェックシート【実施期間中】個別事業'!$H$4:$V$4,0)+6)","v":0}]
[null,null,"普及啓発テーマ",null,"※該当する普及啓発テーマすべてをチェックしてください。"]
[null,null,null,null,"①",null,"②",null,"③",null,"④",null,"⑤",null,"⑥",null,"⑦",null,"⑧",null,"⑨",null,"⑩",null,"⑪",null,null,null,"①","②","③","④","⑤","⑥","⑦","⑧","⑨","⑩","⑪"]
[null,null,null,null,"省ｴﾈ機器",null,"省ｴﾈ住宅",null,"ｴｺｶｰ",null,"ｸｰﾙﾋﾞｽﾞ",null,"ｳｫｰﾑﾋﾞｽﾞ",null,"照明の\n高効率利用",null,"ｴｺﾄﾞﾗｲﾌﾞ",null,"ｶｰｼｪｱ",null,"公共交通\n機関の利用",null,"再配達防止",null,"シェアエコ",null,null,null,"省ｴﾈ機器","省ｴﾈ住宅","ｴｺｶｰ","ｸｰﾙﾋﾞｽﾞ","ｳｫｰﾑﾋﾞｽﾞ","照明の\n高効率利用","ｴｺﾄﾞﾗｲﾌﾞ","ｶｰｼｪｱ","公共交通\n機関の利用","再配達防止","シェアエコ"]
[null,null,null,null,null,null,null,null,null,null,null,null,null,null,null,null,null,null,null,null,null,null,null,null,null,null,null,null,{"$f":"IF(COUNTIFS('11_PDCAチェックシート【実施期間中】個別事業'!$E$7:$E$17,'7_別紙1-2_実施報告書'!AC606,OFFSET('11_PDCAチェックシート【実施期間中】個別事業'!$F$7,,MATCH('7_別紙1-2_実施報告書'!$C604,'11_PDCAチェックシート【実施期間中】個別事業'!$H$4:$V$4,0)+1,11,1),1),1,0)","v":0},{"$f":"IF(COUNTIFS('11_PDCAチェックシート【実施期間中】個別事業'!$E$7:$E$17,'7_別紙1-2_実施報告書'!AD606,OFFSET('11_PDCAチェックシート【実施期間中】個別事業'!$F$7,,MATCH('7_別紙1-2_実施報告書'!$C604,'11_PDCAチェックシート【実施期間中】個別事業'!$H$4:$V$4,0)+1,11,1),1),1,0)","v":0},{"$f":"IF(COUNTIFS('11_PDCAチェックシート【実施期間中】個別事業'!$E$7:$E$17,'7_別紙1-2_実施報告書'!AE606,OFFSET('11_PDCAチェックシート【実施期間中】個別事業'!$F$7,,MATCH('7_別紙1-2_実施報告書'!$C604,'11_PDCAチェックシート【実施期間中】個別事業'!$H$4:$V$4,0)+1,11,1),1),1,0)","v":0},false,{"$f":"IF(COUNTIFS('11_PDCAチェックシート【実施期間中】個別事業'!$E$7:$E$17,'7_別紙1-2_実施報告書'!AG606,OFFSET('11_PDCAチェックシート【実施期間中】個別事業'!$F$7,,MATCH('7_別紙1-2_実施報告書'!$C604,'11_PDCAチェックシート【実施期間中】個別事業'!$H$4:$V$4,0)+1,11,1),1),1,0)","v":0},{"$f":"IF(COUNTIFS('11_PDCAチェックシート【実施期間中】個別事業'!$E$7:$E$17,'7_別紙1-2_実施報告書'!AH606,OFFSET('11_PDCAチェックシート【実施期間中】個別事業'!$F$7,,MATCH('7_別紙1-2_実施報告書'!$C604,'11_PDCAチェックシート【実施期間中】個別事業'!$H$4:$V$4,0)+1,11,1),1),1,0)","v":0},{"$f":"IF(COUNTIFS('11_PDCAチェックシート【実施期間中】個別事業'!$E$7:$E$17,'7_別紙1-2_実施報告書'!AI606,OFFSET('11_PDCAチェックシート【実施期間中】個別事業'!$F$7,,MATCH('7_別紙1-2_実施報告書'!$C604,'11_PDCAチェックシート【実施期間中】個別事業'!$H$4:$V$4,0)+1,11,1),1),1,0)","v":0},{"$f":"IF(COUNTIFS('11_PDCAチェックシート【実施期間中】個別事業'!$E$7:$E$17,'7_別紙1-2_実施報告書'!AJ606,OFFSET('11_PDCAチェックシート【実施期間中】個別事業'!$F$7,,MATCH('7_別紙1-2_実施報告書'!$C604,'11_PDCAチェックシート【実施期間中】個別事業'!$H$4:$V$4,0)+1,11,1),1),1,0)","v":0},{"$f":"IF(COUNTIFS('11_PDCAチェックシート【実施期間中】個別事業'!$E$7:$E$17,'7_別紙1-2_実施報告書'!AK606,OFFSET('11_PDCAチェックシート【実施期間中】個別事業'!$F$7,,MATCH('7_別紙1-2_実施報告書'!$C604,'11_PDCAチェックシート【実施期間中】個別事業'!$H$4:$V$4,0)+1,11,1),1),1,0)","v":0},{"$f":"IF(COUNTIFS('11_PDCAチェックシート【実施期間中】個別事業'!$E$7:$E$17,'7_別紙1-2_実施報告書'!AL606,OFFSET('11_PDCAチェックシート【実施期間中】個別事業'!$F$7,,MATCH('7_別紙1-2_実施報告書'!$C604,'11_PDCAチェックシート【実施期間中】個別事業'!$H$4:$V$4,0)+1,11,1),1),1,0)","v":0},false,{"$f":"COUNTIFS(AC608:AM608,\"TRUE\")","v":0}]
[null,null,"訴求手法",null,"※訴求手法については、該当する欄にチェックしてください。"]
[null,null,null,null,"a) 情報発信型（受動型）",null,null,null,null,null,null,"b) 情報発信型（能動型）",null,null,null,null,null,null,"c) 双方向体験交流型"]
[null,null,null,null,"ラジオ、新聞・広報紙等",null,null,null,null,null,null,"講演会・パネル展示等",null,null,null,null,null,null,"試乗・体験会、省ｴﾈ診断等",null,null,null,null,null,null,null,null,null,"a)","b)","c)"]
[null,null,null,null,null,null,null,null,null,null,null,null,null,null,null,null,null,null,null,null,null,null,null,null,null,null,null,null,false,false,false,null,null,null,null,null,null,null,null,{"$f":"COUNTIFS(AC612:AM612,\"TRUE\")","v":0}]
[null,null,"情報発信カテゴリー\n（プルダウン選択）",null,{"$f":"OFFSET('11_PDCAチェックシート【実施期間中】個別事業'!$A$6,'11_PDCAチェックシート【実施期間中】個別事業'!$A$21,MATCH($C604,'11_PDCAチェックシート【実施期間中】個別事業'!$H$4:$V$4,0)+6)","v":"-"},null,null,null,null,null,null,null,null,null,null,{"$f":"IF(OFFSET('11_PDCAチェックシート【実施期間中】個別事業'!$A$6,'11_PDCAチェックシート【実施期間中】個別事業'!$A$22,MATCH($C604,'11_PDCAチェックシート【実施期間中】個別事業'!$H$4:$V$4,0)+6)=\"\",\"\",OFFSET('11_PDCAチェックシート【実施期間中】個別事業'!$A$6,'11_PDCAチェックシート【実施期間中】個別事業'!$A$22,MATCH($C604,'11_PDCAチェックシート【実施期間中】個別事業'!$H$4:$V$4,0)+6))","v":""}]
[]
[null,null,"尺・放送回数",null,"※収録本数、放送回数を定量的に必ず記載のこと"]
[null,null,null,null,"①","尺",null,null,{"$f":"OFFSET('11_PDCAチェックシート【実施期間中】個別事業'!$A$6,'11_PDCAチェックシート【実施期間中】個別事業'!$A$23,MATCH($C604,'11_PDCAチェックシート【実施期間中】個別事業'!$H$4:$V$4,0)+6)","v":""},null,null,"（秒）",null,null,null,"※単位はプルダウン選択"]
[null,null,null,null,null,"収録本数",null,null,{"$f":"OFFSET('11_PDCAチェックシート【実施期間中】個別事業'!$A$6,'11_PDCAチェックシート【実施期間中】個別事業'!$A$24,MATCH($C604,'11_PDCAチェックシート【実施期間中】個別事業'!$H$4:$V$4,0)+6)","v":""},null,null,"（本）"]
[null,null,null,null,null,"放送回数",null,null,{"$f":"OFFSET('11_PDCAチェックシート【実施期間中】個別事業'!$A$6,'11_PDCAチェックシート【実施期間中】個別事業'!$A$25,MATCH($C604,'11_PDCAチェックシート【実施期間中】個別事業'!$H$4:$V$4,0)+6)","v":""},null,null,"（回）",null,null,null,"※再放送を含む"]
[null,null,null,null,null,"備考",null,null,{"$f":"OFFSET('11_PDCAチェックシート【実施期間中】個別事業'!$A$6,'11_PDCAチェックシート【実施期間中】個別事業'!$A$26,MATCH($C604,'11_PDCAチェックシート【実施期間中】個別事業'!$H$4:$V$4,0)+6)","v":""},null,null,{"$f":"OFFSET('11_PDCAチェックシート【実施期間中】個別事業'!$A$6,'11_PDCAチェックシート【実施期間中】個別事業'!#REF!,MATCH($C607,'11_PDCAチェックシート【実施期間中】個別事業'!$H$4:$V$4,0)+6)","v":{"$error":"#REF!"}},null,null,{"$f":"OFFSET('11_PDCAチェックシート【実施期間中】個別事業'!$A$6,'11_PDCAチェックシート【実施期間中】個別事業'!#REF!,MATCH($C607,'11_PDCAチェックシート【実施期間中】個別事業'!$H$4:$V$4,0)+6)","v":{"$error":"#REF!"}},null,null,{"$f":"OFFSET('11_PDCAチェックシート【実施期間中】個別事業'!$A$6,'11_PDCAチェックシート【実施期間中】個別事業'!#REF!,MATCH($C607,'11_PDCAチェックシート【実施期間中】個別事業'!$H$4:$V$4,0)+6)","v":{"$error":"#REF!"}},null,null,{"$f":"OFFSET('11_PDCAチェックシート【実施期間中】個別事業'!$A$6,'11_PDCAチェックシート【実施期間中】個別事業'!#REF!,MATCH($C607,'11_PDCAチェックシート【実施期間中】個別事業'!$H$4:$V$4,0)+6)","v":{"$error":"#REF!"}},null,null,{"$f":"OFFSET('11_PDCAチェックシート【実施期間中】個別事業'!$A$6,'11_PDCAチェックシート【実施期間中】個別事業'!#REF!,MATCH($C607,'11_PDCAチェックシート【実施期間中】個別事業'!$H$4:$V$4,0)+6)","v":{"$error":"#REF!"}}]
[null,null,null,null,"②","尺",null,null,{"$f":"OFFSET('11_PDCAチェックシート【実施期間中】個別事業'!$A$6,'11_PDCAチェックシート【実施期間中】個別事業'!$A$27,MATCH($C604,'11_PDCAチェックシート【実施期間中】個別事業'!$H$4:$V$4,0)+6)","v":""},null,null,"（秒）",null,null,null,"※単位はプルダウン選択"]
[null,null,null,null,null,"収録本数",null,null,{"$f":"OFFSET('11_PDCAチェックシート【実施期間中】個別事業'!$A$6,'11_PDCAチェックシート【実施期間中】個別事業'!$A$28,MATCH($C604,'11_PDCAチェックシート【実施期間中】個別事業'!$H$4:$V$4,0)+6)","v":""},null,null,"（本）"]
[null,null,null,null,null,"放送回数",null,null,{"$f":"OFFSET('11_PDCAチェックシート【実施期間中】個別事業'!$A$6,'11_PDCAチェックシート【実施期間中】個別事業'!$A$29,MATCH($C604,'11_PDCAチェックシート【実施期間中】個別事業'!$H$4:$V$4,0)+6)","v":""},null,null,"（回）",null,null,null,"※再放送を含む"]
[null,null,null,null,null,"備考",null,null,{"$f":"OFFSET('11_PDCAチェックシート【実施期間中】個別事業'!$A$6,'11_PDCAチェックシート【実施期間中】個別事業'!$A$30,MATCH($C604,'11_PDCAチェックシート【実施期間中】個別事業'!$H$4:$V$4,0)+6)","v":""},null,null,{"$f":"OFFSET('11_PDCAチェックシート【実施期間中】個別事業'!$A$6,'11_PDCAチェックシート【実施期間中】個別事業'!#REF!,MATCH($C611,'11_PDCAチェックシート【実施期間中】個別事業'!$H$4:$V$4,0)+6)","v":{"$error":"#REF!"}},null,null,{"$f":"OFFSET('11_PDCAチェックシート【実施期間中】個別事業'!$A$6,'11_PDCAチェックシート【実施期間中】個別事業'!#REF!,MATCH($C611,'11_PDCAチェックシート【実施期間中】個別事業'!$H$4:$V$4,0)+6)","v":{"$error":"#REF!"}},null,null,{"$f":"OFFSET('11_PDCAチェックシート【実施期間中】個別事業'!$A$6,'11_PDCAチェックシート【実施期間中】個別事業'!#REF!,MATCH($C611,'11_PDCAチェックシート【実施期間中】個別事業'!$H$4:$V$4,0)+6)","v":{"$error":"#REF!"}},null,null,{"$f":"OFFSET('11_PDCAチェックシート【実施期間中】個別事業'!$A$6,'11_PDCAチェックシート【実施期間中】個別事業'!#REF!,MATCH($C611,'11_PDCAチェックシート【実施期間中】個別事業'!$H$4:$V$4,0)+6)","v":{"$error":"#REF!"}},null,null,{"$f":"OFFSET('11_PDCAチェックシート【実施期間中】個別事業'!$A$6,'11_PDCAチェックシート【実施期間中】個別事業'!#REF!,MATCH($C611,'11_PDCAチェックシート【実施期間中】個別事業'!$H$4:$V$4,0)+6)","v":{"$error":"#REF!"}}]
[null,null,"実施期間",null,{"$f":"OFFSET('11_PDCAチェックシート【実施期間中】個別事業'!$A$6,'11_PDCAチェックシート【実施期間中】個別事業'!$A$31,MATCH($C604,'11_PDCAチェックシート【実施期間中】個別事業'!$H$4:$V$4,0)+6)","v":""},null,null,null,null,null,null,null,null,"～",null,null,null,{"$f":"OFFSET('11_PDCAチェックシート【実施期間中】個別事業'!$A$6,'11_PDCAチェックシート【実施期間中】個別事業'!$A$33,MATCH($C604,'11_PDCAチェックシート【実施期間中】個別事業'!$H$4:$V$4,0)+6)","v":""}]
[null,null,"放送時間、その他備考",null,{"$f":"OFFSET('11_PDCAチェックシート【実施期間中】個別事業'!$A$6,'11_PDCAチェックシート【実施期間中】個別事業'!$A$34,MATCH($C604,'11_PDCAチェックシート【実施期間中】個別事業'!$H$4:$V$4,0)+6)","v":""}]
[null,null,"実施日\n（※同一事業内で、\n同一の内容・場所において\n複数日実施する場合）",null,1,null,{"$f":"OFFSET('11_PDCAチェックシート【実施期間中】個別事業'!$A$6,'11_PDCAチェックシート【実施期間中】個別事業'!$A$35,MATCH($C604,'11_PDCAチェックシート【実施期間中】個別事業'!$H$4:$V$4,0)+6)","v":""},null,null,null,null,null,null,null,null,11,null,{"$f":"OFFSET('11_PDCAチェックシート【実施期間中】個別事業'!$A$6,'11_PDCAチェックシート【実施期間中】個別事業'!$A$45,MATCH($C604,'11_PDCAチェックシート【実施期間中】個別事業'!$H$4:$V$4,0)+6)","v":""}]
[null,null,null,null,2,null,{"$f":"OFFSET('11_PDCAチェックシート【実施期間中】個別事業'!$A$6,'11_PDCAチェックシート【実施期間中】個別事業'!$A$36,MATCH($C604,'11_PDCAチェックシート【実施期間中】個別事業'!$H$4:$V$4,0)+6)","v":""},null,null,null,null,null,null,null,null,12,null,{"$f":"OFFSET('11_PDCAチェックシート【実施期間中】個別事業'!$A$6,'11_PDCAチェックシート【実施期間中】個別事業'!$A$46,MATCH($C604,'11_PDCAチェックシート【実施期間中】個別事業'!$H$4:$V$4,0)+6)","v":""}]
[null,null,null,null,3,null,{"$f":"OFFSET('11_PDCAチェックシート【実施期間中】個別事業'!$A$6,'11_PDCAチェックシート【実施期間中】個別事業'!$A$37,MATCH($C604,'11_PDCAチェックシート【実施期間中】個別事業'!$H$4:$V$4,0)+6)","v":""},null,null,null,null,null,null,null,null,13,null,{"$f":"OFFSET('11_PDCAチェックシート【実施期間中】個別事業'!$A$6,'11_PDCAチェックシート【実施期間中】個別事業'!$A$47,MATCH($C604,'11_PDCAチェックシート【実施期間中】個別事業'!$H$4:$V$4,0)+6)","v":""}]
[null,null,null,null,4,null,{"$f":"OFFSET('11_PDCAチェックシート【実施期間中】個別事業'!$A$6,'11_PDCAチェックシート【実施期間中】個別事業'!$A$38,MATCH($C604,'11_PDCAチェックシート【実施期間中】個別事業'!$H$4:$V$4,0)+6)","v":""},null,null,null,null,null,null,null,null,14,null,{"$f":"OFFSET('11_PDCAチェックシート【実施期間中】個別事業'!$A$6,'11_PDCAチェックシート【実施期間中】個別事業'!$A$48,MATCH($C604,'11_PDCAチェックシート【実施期間中】個別事業'!$H$4:$V$4,0)+6)","v":""}]
[null,null,null,null,5,null,{"$f":"OFFSET('11_PDCAチェックシート【実施期間中】個別事業'!$A$6,'11_PDCAチェックシート【実施期間中】個別事業'!$A$39,MATCH($C604,'11_PDCAチェックシート【実施期間中】個別事業'!$H$4:$V$4,0)+6)","v":""},null,null,null,null,null,null,null,null,15,null,{"$f":"OFFSET('11_PDCAチェックシート【実施期間中】個別事業'!$A$6,'11_PDCAチェックシート【実施期間中】個別事業'!$A$49,MATCH($C604,'11_PDCAチェックシート【実施期間中】個別事業'!$H$4:$V$4,0)+6)","v":""}]
[null,null,null,null,6,null,{"$f":"OFFSET('11_PDCAチェックシート【実施期間中】個別事業'!$A$6,'11_PDCAチェックシート【実施期間中】個別事業'!$A$40,MATCH($C604,'11_PDCAチェックシート【実施期間中】個別事業'!$H$4:$V$4,0)+6)","v":""},null,null,null,null,null,null,null,null,16,null,{"$f":"OFFSET('11_PDCAチェックシート【実施期間中】個別事業'!$A$6,'11_PDCAチェックシート【実施期間中】個別事業'!$A$50,MATCH($C604,'11_PDCAチェックシート【実施期間中】個別事業'!$H$4:$V$4,0)+6)","v":""}]
[null,null,null,null,7,null,{"$f":"OFFSET('11_PDCAチェックシート【実施期間中】個別事業'!$A$6,'11_PDCAチェックシート【実施期間中】個別事業'!$A$41,MATCH($C604,'11_PDCAチェックシート【実施期間中】個別事業'!$H$4:$V$4,0)+6)","v":""},null,null,null,null,null,null,null,null,17,null,{"$f":"OFFSET('11_PDCAチェックシート【実施期間中】個別事業'!$A$6,'11_PDCAチェックシート【実施期間中】個別事業'!$A$51,MATCH($C604,'11_PDCAチェックシート【実施期間中】個別事業'!$H$4:$V$4,0)+6)","v":""}]
[null,null,null,null,8,null,{"$f":"OFFSET('11_PDCAチェックシート【実施期間中】個別事業'!$A$6,'11_PDCAチェックシート【実施期間中】個別事業'!$A$42,MATCH($C604,'11_PDCAチェックシート【実施期間中】個別事業'!$H$4:$V$4,0)+6)","v":""},null,null,null,null,null,null,null,null,18,null,{"$f":"OFFSET('11_PDCAチェックシート【実施期間中】個別事業'!$A$6,'11_PDCAチェックシート【実施期間中】個別事業'!$A$52,MATCH($C604,'11_PDCAチェックシート【実施期間中】個別事業'!$H$4:$V$4,0)+6)","v":""}]
[null,null,null,null,9,null,{"$f":"OFFSET('11_PDCAチェックシート【実施期間中】個別事業'!$A$6,'11_PDCAチェックシート【実施期間中】個別事業'!$A$43,MATCH($C604,'11_PDCAチェックシート【実施期間中】個別事業'!$H$4:$V$4,0)+6)","v":""},null,null,null,null,null,null,null,null,19,null,{"$f":"OFFSET('11_PDCAチェックシート【実施期間中】個別事業'!$A$6,'11_PDCAチェックシート【実施期間中】個別事業'!$A$53,MATCH($C604,'11_PDCAチェックシート【実施期間中】個別事業'!$H$4:$V$4,0)+6)","v":""}]
[null,null,null,null,10,null,{"$f":"OFFSET('11_PDCAチェックシート【実施期間中】個別事業'!$A$6,'11_PDCAチェックシート【実施期間中】個別事業'!$A$44,MATCH($C604,'11_PDCAチェックシート【実施期間中】個別事業'!$H$4:$V$4,0)+6)","v":""},null,null,null,null,null,null,null,null,20,null,{"$f":"OFFSET('11_PDCAチェックシート【実施期間中】個別事業'!$A$6,'11_PDCAチェックシート【実施期間中】個別事業'!$A$54,MATCH($C604,'11_PDCAチェックシート【実施期間中】個別事業'!$H$4:$V$4,0)+6)","v":""}]
[null,null,"事業の概要",null,{"$f":"OFFSET('11_PDCAチェックシート【実施期間中】個別事業'!$A$6,'11_PDCAチェックシート【実施期間中】個別事業'!$A$55,MATCH($C604,'11_PDCAチェックシート【実施期間中】個別事業'!$H$4:$V$4,0)+6)","v":""}]
[null,null,"地域団体との連携\n※地方公共団体を含む",null,{"$f":"'2_別紙1-2_実施計画書'!E651","v":0}]
[null,null,"実施結果",null,{"$f":"OFFSET('11_PDCAチェックシート【実施期間中】個別事業'!$A$6,'11_PDCAチェックシート【実施期間中】個別事業'!$A$57,MATCH($C604,'11_PDCAチェックシート【実施期間中】個別事業'!$H$4:$V$4,0)+6)","v":0}]
[]
[null,null,"主な訴求対象","計画",{"$f":"OFFSET('11_PDCAチェックシート【実施期間中】個別事業'!$A$6,'11_PDCAチェックシート【実施期間中】個別事業'!$A$58,MATCH($C604,'11_PDCAチェックシート【実施期間中】個別事業'!$H$4:$V$4,0)+6)","v":""}]
[null,null,null,"結果",{"$f":"OFFSET('11_PDCAチェックシート【実施期間中】個別事業'!$A$6,'11_PDCAチェックシート【実施期間中】個別事業'!$A$59,MATCH($C604,'11_PDCAチェックシート【実施期間中】個別事業'!$H$4:$V$4,0)+6)","v":0}]
[null,null,"規模（リーチ数）\n（想定及び実績）",null,"カテゴリ①（プルダウン選択）⇒",null,null,null,null,null,null,null,null,null,null,{"$f":"OFFSET('11_PDCAチェックシート【実施期間中】個別事業'!$A$6,'11_PDCAチェックシート【実施期間中】個別事業'!$A$60,MATCH($C604,'11_PDCAチェックシート【実施期間中】個別事業'!$H$4:$V$4,0)+6)","v":"聴取人口（番組・CM単位であれば）"}]
[null,null,null,null,"計画値",null,null,null,"計",null,{"$f":"'2_別紙1-2_実施計画書'!K657","v":0}]
[null,null,null,null,"実績値",null,null,null,"計",null,{"$f":"OFFSET('11_PDCAチェックシート【実施期間中】個別事業'!$A$6,'11_PDCAチェックシート【実施期間中】個別事業'!$A$63,MATCH($C604,'11_PDCAチェックシート【実施期間中】個別事業'!$H$4:$V$4,0)+6)","v":0}]
[null,null,null,null,"算出根拠",null,null,null,{"$f":"OFFSET('11_PDCAチェックシート【実施期間中】個別事業'!$A$6,'11_PDCAチェックシート【実施期間中】個別事業'!$A$64,MATCH($C604,'11_PDCAチェックシート【実施期間中】個別事業'!$H$4:$V$4,0)+6)","v":""}]
[null,null,null,null,"カテゴリ②（プルダウン選択）⇒",null,null,null,null,null,null,null,null,null,null,{"$f":"OFFSET('11_PDCAチェックシート【実施期間中】個別事業'!$A$6,'11_PDCAチェックシート【実施期間中】個別事業'!$A$65,MATCH($C604,'11_PDCAチェックシート【実施期間中】個別事業'!$H$4:$V$4,0)+6)","v":""}]
[null,null,null,null,"計画値",null,null,null,"計",null,{"$f":"'2_別紙1-2_実施計画書'!K661","v":0}]
[null,null,null,null,"実績値",null,null,null,"計",null,{"$f":"OFFSET('11_PDCAチェックシート【実施期間中】個別事業'!$A$6,'11_PDCAチェックシート【実施期間中】個別事業'!$A$68,MATCH($C604,'11_PDCAチェックシート【実施期間中】個別事業'!$H$4:$V$4,0)+6)","v":0}]
[null,null,null,null,"算出根拠",null,null,null,{"$f":"OFFSET('11_PDCAチェックシート【実施期間中】個別事業'!$A$6,'11_PDCAチェックシート【実施期間中】個別事業'!$A$69,MATCH($C604,'11_PDCAチェックシート【実施期間中】個別事業'!$H$4:$V$4,0)+6)","v":""}]
[null,null,"COOL CHOICE 賛同数\n（想定及び実績）",null,"計画値",null,null,null,"団体",null,{"$f":"OFFSET('11_PDCAチェックシート【実施期間中】個別事業'!$A$6,'11_PDCAチェックシート【実施期間中】個別事業'!$A$71,MATCH($C604,'11_PDCAチェックシート【実施期間中】個別事業'!$H$4:$V$4,0)+6)","v":0},null,null,null,null,"、個人",null,{"$f":"OFFSET('11_PDCAチェックシート【実施期間中】個別事業'!$A$6,'11_PDCAチェックシート【実施期間中】個別事業'!$A$74,MATCH($C604,'11_PDCAチェックシート【実施期間中】個別事業'!$H$4:$V$4,0)+6)","v":0}]
[null,null,null,null,"実績値",null,null,null,"団体",null,{"$f":"OFFSET('11_PDCAチェックシート【実施期間中】個別事業'!$A$6,'11_PDCAチェックシート【実施期間中】個別事業'!$A$72,MATCH($C604,'11_PDCAチェックシート【実施期間中】個別事業'!$H$4:$V$4,0)+6)","v":0},null,null,null,null,"、個人",null,{"$f":"OFFSET('11_PDCAチェックシート【実施期間中】個別事業'!$A$6,'11_PDCAチェックシート【実施期間中】個別事業'!$A$75,MATCH($C604,'11_PDCAチェックシート【実施期間中】個別事業'!$H$4:$V$4,0)+6)","v":0}]
[null,null,"効果検証\n（アンケート）予定",null,"※アンケートの実施予定をプルダウンより選択してください。"]
[null,null,null,null,"公募要領に規定のアンケート",null,null,null,null,null,null,null,null,null,null,null,null,null,null,null,null,"貴事業者独自のアンケート"]
[null,null,null,null,"省エネ機器",null,null,null,"省エネ住宅",null,null,null,"エコドライブ",null,null,null,"低炭素物流（宅配便の再配達防止）"]
[null,null,null,null,{"$f":"OFFSET('11_PDCAチェックシート【実施期間中】個別事業'!$A$6,'11_PDCAチェックシート【実施期間中】個別事業'!$A$76,MATCH($C604,'11_PDCAチェックシート【実施期間中】個別事業'!$H$4:$V$4,0)+6)","v":"- 選択 -"},null,null,null,{"$f":"OFFSET('11_PDCAチェックシート【実施期間中】個別事業'!$A$6,'11_PDCAチェックシート【実施期間中】個別事業'!$A$77,MATCH($C604,'11_PDCAチェックシート【実施期間中】個別事業'!$H$4:$V$4,0)+6)","v":"- 選択 -"},null,null,null,{"$f":"OFFSET('11_PDCAチェックシート【実施期間中】個別事業'!$A$6,'11_PDCAチェックシート【実施期間中】個別事業'!$A$78,MATCH($C604,'11_PDCAチェックシート【実施期間中】個別事業'!$H$4:$V$4,0)+6)","v":"- 選択 -"},null,null,null,{"$f":"OFFSET('11_PDCAチェックシート【実施期間中】個別事業'!$A$6,'11_PDCAチェックシート【実施期間中】個別事業'!$A$79,MATCH($C604,'11_PDCAチェックシート【実施期間中】個別事業'!$H$4:$V$4,0)+6)","v":"- 選択 -"},null,null,null,null,{"$f":"OFFSET('11_PDCAチェックシート【実施期間中】個別事業'!$A$6,'11_PDCAチェックシート【実施期間中】個別事業'!$A$80,MATCH($C604,'11_PDCAチェックシート【実施期間中】個別事業'!$H$4:$V$4,0)+6)","v":"- 選択 -"}]
[null,null,null,null,"内容（",null,{"$f":"OFFSET('11_PDCAチェックシート【実施期間中】個別事業'!$A$6,'11_PDCAチェックシート【実施期間中】個別事業'!$A$81,MATCH($C604,'11_PDCAチェックシート【実施期間中】個別事業'!$H$4:$V$4,0)+6)","v":""},null,null,null,null,null,null,null,null,null,null,null,null,null,null,null,null,null,null,"）"]
[null,null,null,null,"目標回収数",null,null,null,"計",{"$f":"OFFSET('11_PDCAチェックシート【実施期間中】個別事業'!$A$6,'11_PDCAチェックシート【実施期間中】個別事業'!$A$83,MATCH($C604,'11_PDCAチェックシート【実施期間中】個別事業'!$H$4:$V$4,0)+6)","v":0},null,null,"枚",null,"※複数ある場合は、平均アンケート回収数"]
[null,null,null,null,"実績値",null,null,null,"計",{"$f":"OFFSET('11_PDCAチェックシート【実施期間中】個別事業'!$A$6,'11_PDCAチェックシート【実施期間中】個別事業'!$A$84,MATCH($C604,'11_PDCAチェックシート【実施期間中】個別事業'!$H$4:$V$4,0)+6)","v":0},null,null,"枚",null,"※複数ある場合は、平均アンケート回収数"]
[]
[null,null,"項目",null,"内容"]
[null,null,"事業12","事業名\n（番組・CM名）",{"$f":"OFFSET('11_PDCAチェックシート【実施期間中】個別事業'!$A$6,,MATCH(C661,'11_PDCAチェックシート【実施期間中】個別事業'!$H$4:$V$4,0)+6)","v":0}]
[null,null,"普及啓発テーマ",null,"※該当する普及啓発テーマすべてをチェックしてください。"]
[null,null,null,null,"①",null,"②",null,"③",null,"④",null,"⑤",null,"⑥",null,"⑦",null,"⑧",null,"⑨",null,"⑩",null,"⑪",null,null,null,"①","②","③","④","⑤","⑥","⑦","⑧","⑨","⑩","⑪"]
[null,null,null,null,"省ｴﾈ機器",null,"省ｴﾈ住宅",null,"ｴｺｶｰ",null,"ｸｰﾙﾋﾞｽﾞ",null,"ｳｫｰﾑﾋﾞｽﾞ",null,"照明の\n高効率利用",null,"ｴｺﾄﾞﾗｲﾌﾞ",null,"ｶｰｼｪｱ",null,"公共交通\n機関の利用",null,"再配達防止",null,"シェアエコ",null,null,null,"省ｴﾈ機器","省ｴﾈ住宅","ｴｺｶｰ","ｸｰﾙﾋﾞｽﾞ","ｳｫｰﾑﾋﾞｽﾞ","照明の\n高効率利用","ｴｺﾄﾞﾗｲﾌﾞ","ｶｰｼｪｱ","公共交通\n機関の利用","再配達防止","シェアエコ"]
[null,null,null,null,null,null,null,null,null,null,null,null,null,null,null,null,null,null,null,null,null,null,null,null,null,null,null,null,{"$f":"IF(COUNTIFS('11_PDCAチェックシート【実施期間中】個別事業'!$E$7:$E$17,'7_別紙1-2_実施報告書'!AC663,OFFSET('11_PDCAチェックシート【実施期間中】個別事業'!$F$7,,MATCH('7_別紙1-2_実施報告書'!$C661,'11_PDCAチェックシート【実施期間中】個別事業'!$H$4:$V$4,0)+1,11,1),1),1,0)","v":0},{"$f":"IF(COUNTIFS('11_PDCAチェックシート【実施期間中】個別事業'!$E$7:$E$17,'7_別紙1-2_実施報告書'!AD663,OFFSET('11_PDCAチェックシート【実施期間中】個別事業'!$F$7,,MATCH('7_別紙1-2_実施報告書'!$C661,'11_PDCAチェックシート【実施期間中】個別事業'!$H$4:$V$4,0)+1,11,1),1),1,0)","v":0},false,{"$f":"IF(COUNTIFS('11_PDCAチェックシート【実施期間中】個別事業'!$E$7:$E$17,'7_別紙1-2_実施報告書'!AF663,OFFSET('11_PDCAチェックシート【実施期間中】個別事業'!$F$7,,MATCH('7_別紙1-2_実施報告書'!$C661,'11_PDCAチェックシート【実施期間中】個別事業'!$H$4:$V$4,0)+1,11,1),1),1,0)","v":0},{"$f":"IF(COUNTIFS('11_PDCAチェックシート【実施期間中】個別事業'!$E$7:$E$17,'7_別紙1-2_実施報告書'!AG663,OFFSET('11_PDCAチェックシート【実施期間中】個別事業'!$F$7,,MATCH('7_別紙1-2_実施報告書'!$C661,'11_PDCAチェックシート【実施期間中】個別事業'!$H$4:$V$4,0)+1,11,1),1),1,0)","v":0},{"$f":"IF(COUNTIFS('11_PDCAチェックシート【実施期間中】個別事業'!$E$7:$E$17,'7_別紙1-2_実施報告書'!AH663,OFFSET('11_PDCAチェックシート【実施期間中】個別事業'!$F$7,,MATCH('7_別紙1-2_実施報告書'!$C661,'11_PDCAチェックシート【実施期間中】個別事業'!$H$4:$V$4,0)+1,11,1),1),1,0)","v":0},{"$f":"IF(COUNTIFS('11_PDCAチェックシート【実施期間中】個別事業'!$E$7:$E$17,'7_別紙1-2_実施報告書'!AI663,OFFSET('11_PDCAチェックシート【実施期間中】個別事業'!$F$7,,MATCH('7_別紙1-2_実施報告書'!$C661,'11_PDCAチェックシート【実施期間中】個別事業'!$H$4:$V$4,0)+1,11,1),1),1,0)","v":0},false,{"$f":"IF(COUNTIFS('11_PDCAチェックシート【実施期間中】個別事業'!$E$7:$E$17,'7_別紙1-2_実施報告書'!AK663,OFFSET('11_PDCAチェックシート【実施期間中】個別事業'!$F$7,,MATCH('7_別紙1-2_実施報告書'!$C661,'11_PDCAチェックシート【実施期間中】個別事業'!$H$4:$V$4,0)+1,11,1),1),1,0)","v":0},{"$f":"IF(COUNTIFS('11_PDCAチェックシート【実施期間中】個別事業'!$E$7:$E$17,'7_別紙1-2_実施報告書'!AL663,OFFSET('11_PDCAチェックシート【実施期間中】個別事業'!$F$7,,MATCH('7_別紙1-2_実施報告書'!$C661,'11_PDCAチェックシート【実施期間中】個別事業'!$H$4:$V$4,0)+1,11,1),1),1,0)","v":0},false,{"$f":"COUNTIFS(AC665:AM665,\"TRUE\")","v":0}]
[null,null,"訴求手法",null,"※訴求手法については、該当する欄にチェックしてください。"]
[null,null,null,null,"a) 情報発信型（受動型）",null,null,null,null,null,null,"b) 情報発信型（能動型）",null,null,null,null,null,null,"c) 双方向体験交流型"]
[null,null,null,null,"ラジオ、新聞・広報紙等",null,null,null,null,null,null,"講演会・パネル展示等",null,null,null,null,null,null,"試乗・体験会、省ｴﾈ診断等",null,null,null,null,null,null,null,null,null,"a)","b)","c)"]
[null,null,null,null,null,null,null,null,null,null,null,null,null,null,null,null,null,null,null,null,null,null,null,null,null,null,null,null,false,false,false,null,null,null,null,null,null,null,null,{"$f":"COUNTIFS(AC669:AM669,\"TRUE\")","v":0}]
[null,null,"情報発信カテゴリー\n（プルダウン選択）",null,{"$f":"OFFSET('11_PDCAチェックシート【実施期間中】個別事業'!$A$6,'11_PDCAチェックシート【実施期間中】個別事業'!$A$21,MATCH($C661,'11_PDCAチェックシート【実施期間中】個別事業'!$H$4:$V$4,0)+6)","v":"-"},null,null,null,null,null,null,null,null,null,null,{"$f":"IF(OFFSET('11_PDCAチェックシート【実施期間中】個別事業'!$A$6,'11_PDCAチェックシート【実施期間中】個別事業'!$A$22,MATCH($C661,'11_PDCAチェックシート【実施期間中】個別事業'!$H$4:$V$4,0)+6)=\"\",\"\",OFFSET('11_PDCAチェックシート【実施期間中】個別事業'!$A$6,'11_PDCAチェックシート【実施期間中】個別事業'!$A$22,MATCH($C661,'11_PDCAチェックシート【実施期間中】個別事業'!$H$4:$V$4,0)+6))","v":""}]
[]
[null,null,"尺・放送回数",null,"※収録本数、放送回数を定量的に必ず記載のこと"]
[null,null,null,null,"①","尺",null,null,{"$f":"OFFSET('11_PDCAチェックシート【実施期間中】個別事業'!$A$6,'11_PDCAチェックシート【実施期間中】個別事業'!$A$23,MATCH($C661,'11_PDCAチェックシート【実施期間中】個別事業'!$H$4:$V$4,0)+6)","v":""},null,null,"（秒）",null,null,null,"※単位はプルダウン選択"]
[null,null,null,null,null,"収録本数",null,null,{"$f":"OFFSET('11_PDCAチェックシート【実施期間中】個別事業'!$A$6,'11_PDCAチェックシート【実施期間中】個別事業'!$A$24,MATCH($C661,'11_PDCAチェックシート【実施期間中】個別事業'!$H$4:$V$4,0)+6)","v":""},null,null,"（本）"]
[null,null,null,null,null,"放送回数",null,null,{"$f":"OFFSET('11_PDCAチェックシート【実施期間中】個別事業'!$A$6,'11_PDCAチェックシート【実施期間中】個別事業'!$A$25,MATCH($C661,'11_PDCAチェックシート【実施期間中】個別事業'!$H$4:$V$4,0)+6)","v":""},null,null,"（回）",null,null,null,"※再放送を含む"]
[null,null,null,null,null,"備考",null,null,{"$f":"OFFSET('11_PDCAチェックシート【実施期間中】個別事業'!$A$6,'11_PDCAチェックシート【実施期間中】個別事業'!$A$26,MATCH($C661,'11_PDCAチェックシート【実施期間中】個別事業'!$H$4:$V$4,0)+6)","v":""},null,null,{"$f":"OFFSET('11_PDCAチェックシート【実施期間中】個別事業'!$A$6,'11_PDCAチェックシート【実施期間中】個別事業'!#REF!,MATCH($C664,'11_PDCAチェックシート【実施期間中】個別事業'!$H$4:$V$4,0)+6)","v":{"$error":"#REF!"}},null,null,{"$f":"OFFSET('11_PDCAチェックシート【実施期間中】個別事業'!$A$6,'11_PDCAチェックシート【実施期間中】個別事業'!#REF!,MATCH($C664,'11_PDCAチェックシート【実施期間中】個別事業'!$H$4:$V$4,0)+6)","v":{"$error":"#REF!"}},null,null,{"$f":"OFFSET('11_PDCAチェックシート【実施期間中】個別事業'!$A$6,'11_PDCAチェックシート【実施期間中】個別事業'!#REF!,MATCH($C664,'11_PDCAチェックシート【実施期間中】個別事業'!$H$4:$V$4,0)+6)","v":{"$error":"#REF!"}},null,null,{"$f":"OFFSET('11_PDCAチェックシート【実施期間中】個別事業'!$A$6,'11_PDCAチェックシート【実施期間中】個別事業'!#REF!,MATCH($C664,'11_PDCAチェックシート【実施期間中】個別事業'!$H$4:$V$4,0)+6)","v":{"$error":"#REF!"}},null,null,{"$f":"OFFSET('11_PDCAチェックシート【実施期間中】個別事業'!$A$6,'11_PDCAチェックシート【実施期間中】個別事業'!#REF!,MATCH($C664,'11_PDCAチェックシート【実施期間中】個別事業'!$H$4:$V$4,0)+6)","v":{"$error":"#REF!"}}]
[null,null,null,null,"②","尺",null,null,{"$f":"OFFSET('11_PDCAチェックシート【実施期間中】個別事業'!$A$6,'11_PDCAチェックシート【実施期間中】個別事業'!$A$27,MATCH($C661,'11_PDCAチェックシート【実施期間中】個別事業'!$H$4:$V$4,0)+6)","v":""},null,null,"（秒）",null,null,null,"※単位はプルダウン選択"]
[null,null,null,null,null,"収録本数",null,null,{"$f":"OFFSET('11_PDCAチェックシート【実施期間中】個別事業'!$A$6,'11_PDCAチェックシート【実施期間中】個別事業'!$A$28,MATCH($C661,'11_PDCAチェックシート【実施期間中】個別事業'!$H$4:$V$4,0)+6)","v":""},null,null,"（本）"]
[null,null,null,null,null,"放送回数",null,null,{"$f":"OFFSET('11_PDCAチェックシート【実施期間中】個別事業'!$A$6,'11_PDCAチェックシート【実施期間中】個別事業'!$A$29,MATCH($C661,'11_PDCAチェックシート【実施期間中】個別事業'!$H$4:$V$4,0)+6)","v":""},null,null,"（回）",null,null,null,"※再放送を含む"]
[null,null,null,null,null,"備考",null,null,{"$f":"OFFSET('11_PDCAチェックシート【実施期間中】個別事業'!$A$6,'11_PDCAチェックシート【実施期間中】個別事業'!$A$30,MATCH($C661,'11_PDCAチェックシート【実施期間中】個別事業'!$H$4:$V$4,0)+6)","v":""},null,null,{"$f":"OFFSET('11_PDCAチェックシート【実施期間中】個別事業'!$A$6,'11_PDCAチェックシート【実施期間中】個別事業'!#REF!,MATCH($C668,'11_PDCAチェックシート【実施期間中】個別事業'!$H$4:$V$4,0)+6)","v":{"$error":"#REF!"}},null,null,{"$f":"OFFSET('11_PDCAチェックシート【実施期間中】個別事業'!$A$6,'11_PDCAチェックシート【実施期間中】個別事業'!#REF!,MATCH($C668,'11_PDCAチェックシート【実施期間中】個別事業'!$H$4:$V$4,0)+6)","v":{"$error":"#REF!"}},null,null,{"$f":"OFFSET('11_PDCAチェックシート【実施期間中】個別事業'!$A$6,'11_PDCAチェックシート【実施期間中】個別事業'!#REF!,MATCH($C668,'11_PDCAチェックシート【実施期間中】個別事業'!$H$4:$V$4,0)+6)","v":{"$error":"#REF!"}},null,null,{"$f":"OFFSET('11_PDCAチェックシート【実施期間中】個別事業'!$A$6,'11_PDCAチェックシート【実施期間中】個別事業'!#REF!,MATCH($C668,'11_PDCAチェックシート【実施期間中】個別事業'!$H$4:$V$4,0)+6)","v":{"$error":"#REF!"}},null,null,{"$f":"OFFSET('11_PDCAチェックシート【実施期間中】個別事業'!$A$6,'11_PDCAチェックシート【実施期間中】個別事業'!#REF!,MATCH($C668,'11_PDCAチェックシート【実施期間中】個別事業'!$H$4:$V$4,0)+6)","v":{"$error":"#REF!"}}]
[null,null,"実施期間",null,{"$f":"OFFSET('11_PDCAチェックシート【実施期間中】個別事業'!$A$6,'11_PDCAチェックシート【実施期間中】個別事業'!$A$31,MATCH($C661,'11_PDCAチェックシート【実施期間中】個別事業'!$H$4:$V$4,0)+6)","v":""},null,null,null,null,null,null,null,null,"～",null,null,null,{"$f":"OFFSET('11_PDCAチェックシート【実施期間中】個別事業'!$A$6,'11_PDCAチェックシート【実施期間中】個別事業'!$A$33,MATCH($C661,'11_PDCAチェックシート【実施期間中】個別事業'!$H$4:$V$4,0)+6)","v":""}]
[null,null,"放送時間、その他備考",null,{"$f":"OFFSET('11_PDCAチェックシート【実施期間中】個別事業'!$A$6,'11_PDCAチェックシート【実施期間中】個別事業'!$A$34,MATCH($C661,'11_PDCAチェックシート【実施期間中】個別事業'!$H$4:$V$4,0)+6)","v":""}]
[null,null,"実施日\n（※同一事業内で、\n同一の内容・場所において\n複数日実施する場合）",null,1,null,{"$f":"OFFSET('11_PDCAチェックシート【実施期間中】個別事業'!$A$6,'11_PDCAチェックシート【実施期間中】個別事業'!$A$35,MATCH($C661,'11_PDCAチェックシート【実施期間中】個別事業'!$H$4:$V$4,0)+6)","v":""},null,null,null,null,null,null,null,null,11,null,{"$f":"OFFSET('11_PDCAチェックシート【実施期間中】個別事業'!$A$6,'11_PDCAチェックシート【実施期間中】個別事業'!$A$45,MATCH($C661,'11_PDCAチェックシート【実施期間中】個別事業'!$H$4:$V$4,0)+6)","v":""}]
[null,null,null,null,2,null,{"$f":"OFFSET('11_PDCAチェックシート【実施期間中】個別事業'!$A$6,'11_PDCAチェックシート【実施期間中】個別事業'!$A$36,MATCH($C661,'11_PDCAチェックシート【実施期間中】個別事業'!$H$4:$V$4,0)+6)","v":""},null,null,null,null,null,null,null,null,12,null,{"$f":"OFFSET('11_PDCAチェックシート【実施期間中】個別事業'!$A$6,'11_PDCAチェックシート【実施期間中】個別事業'!$A$46,MATCH($C661,'11_PDCAチェックシート【実施期間中】個別事業'!$H$4:$V$4,0)+6)","v":""}]
[null,null,null,null,3,null,{"$f":"OFFSET('11_PDCAチェックシート【実施期間中】個別事業'!$A$6,'11_PDCAチェックシート【実施期間中】個別事業'!$A$37,MATCH($C661,'11_PDCAチェックシート【実施期間中】個別事業'!$H$4:$V$4,0)+6)","v":""},null,null,null,null,null,null,null,null,13,null,{"$f":"OFFSET('11_PDCAチェックシート【実施期間中】個別事業'!$A$6,'11_PDCAチェックシート【実施期間中】個別事業'!$A$47,MATCH($C661,'11_PDCAチェックシート【実施期間中】個別事業'!$H$4:$V$4,0)+6)","v":""}]
[null,null,null,null,4,null,{"$f":"OFFSET('11_PDCAチェックシート【実施期間中】個別事業'!$A$6,'11_PDCAチェックシート【実施期間中】個別事業'!$A$38,MATCH($C661,'11_PDCAチェックシート【実施期間中】個別事業'!$H$4:$V$4,0)+6)","v":""},null,null,null,null,null,null,null,null,14,null,{"$f":"OFFSET('11_PDCAチェックシート【実施期間中】個別事業'!$A$6,'11_PDCAチェックシート【実施期間中】個別事業'!$A$48,MATCH($C661,'11_PDCAチェックシート【実施期間中】個別事業'!$H$4:$V$4,0)+6)","v":""}]
[null,null,null,null,5,null,{"$f":"OFFSET('11_PDCAチェックシート【実施期間中】個別事業'!$A$6,'11_PDCAチェックシート【実施期間中】個別事業'!$A$39,MATCH($C661,'11_PDCAチェックシート【実施期間中】個別事業'!$H$4:$V$4,0)+6)","v":""},null,null,null,null,null,null,null,null,15,null,{"$f":"OFFSET('11_PDCAチェックシート【実施期間中】個別事業'!$A$6,'11_PDCAチェックシート【実施期間中】個別事業'!$A$49,MATCH($C661,'11_PDCAチェックシート【実施期間中】個別事業'!$H$4:$V$4,0)+6)","v":""}]
[null,null,null,null,6,null,{"$f":"OFFSET('11_PDCAチェックシート【実施期間中】個別事業'!$A$6,'11_PDCAチェックシート【実施期間中】個別事業'!$A$40,MATCH($C661,'11_PDCAチェックシート【実施期間中】個別事業'!$H$4:$V$4,0)+6)","v":""},null,null,null,null,null,null,null,null,16,null,{"$f":"OFFSET('11_PDCAチェックシート【実施期間中】個別事業'!$A$6,'11_PDCAチェックシート【実施期間中】個別事業'!$A$50,MATCH($C661,'11_PDCAチェックシート【実施期間中】個別事業'!$H$4:$V$4,0)+6)","v":""}]
[null,null,null,null,7,null,{"$f":"OFFSET('11_PDCAチェックシート【実施期間中】個別事業'!$A$6,'11_PDCAチェックシート【実施期間中】個別事業'!$A$41,MATCH($C661,'11_PDCAチェックシート【実施期間中】個別事業'!$H$4:$V$4,0)+6)","v":""},null,null,null,null,null,null,null,null,17,null,{"$f":"OFFSET('11_PDCAチェックシート【実施期間中】個別事業'!$A$6,'11_PDCAチェックシート【実施期間中】個別事業'!$A$51,MATCH($C661,'11_PDCAチェックシート【実施期間中】個別事業'!$H$4:$V$4,0)+6)","v":""}]
[null,null,null,null,8,null,{"$f":"OFFSET('11_PDCAチェックシート【実施期間中】個別事業'!$A$6,'11_PDCAチェックシート【実施期間中】個別事業'!$A$42,MATCH($C661,'11_PDCAチェックシート【実施期間中】個別事業'!$H$4:$V$4,0)+6)","v":""},null,null,null,null,null,null,null,null,18,null,{"$f":"OFFSET('11_PDCAチェックシート【実施期間中】個別事業'!$A$6,'11_PDCAチェックシート【実施期間中】個別事業'!$A$52,MATCH($C661,'11_PDCAチェックシート【実施期間中】個別事業'!$H$4:$V$4,0)+6)","v":""}]
[null,null,null,null,9,null,{"$f":"OFFSET('11_PDCAチェックシート【実施期間中】個別事業'!$A$6,'11_PDCAチェックシート【実施期間中】個別事業'!$A$43,MATCH($C661,'11_PDCAチェックシート【実施期間中】個別事業'!$H$4:$V$4,0)+6)","v":""},null,null,null,null,null,null,null,null,19,null,{"$f":"OFFSET('11_PDCAチェックシート【実施期間中】個別事業'!$A$6,'11_PDCAチェックシート【実施期間中】個別事業'!$A$53,MATCH($C661,'11_PDCAチェックシート【実施期間中】個別事業'!$H$4:$V$4,0)+6)","v":""}]
[null,null,null,null,10,null,{"$f":"OFFSET('11_PDCAチェックシート【実施期間中】個別事業'!$A$6,'11_PDCAチェックシート【実施期間中】個別事業'!$A$44,MATCH($C661,'11_PDCAチェックシート【実施期間中】個別事業'!$H$4:$V$4,0)+6)","v":""},null,null,null,null,null,null,null,null,20,null,{"$f":"OFFSET('11_PDCAチェックシート【実施期間中】個別事業'!$A$6,'11_PDCAチェックシート【実施期間中】個別事業'!$A$54,MATCH($C661,'11_PDCAチェックシート【実施期間中】個別事業'!$H$4:$V$4,0)+6)","v":""}]
[null,null,"事業の概要",null,{"$f":"OFFSET('11_PDCAチェックシート【実施期間中】個別事業'!$A$6,'11_PDCAチェックシート【実施期間中】個別事業'!$A$55,MATCH($C661,'11_PDCAチェックシート【実施期間中】個別事業'!$H$4:$V$4,0)+6)","v":""}]
[null,null,"地域団体との連携\n※地方公共団体を含む",null,{"$f":"'2_別紙1-2_実施計画書'!E707","v":0}]
[null,null,"実施結果",null,{"$f":"OFFSET('11_PDCAチェックシート【実施期間中】個別事業'!$A$6,'11_PDCAチェックシート【実施期間中】個別事業'!$A$57,MATCH($C661,'11_PDCAチェックシート【実施期間中】個別事業'!$H$4:$V$4,0)+6)","v":0}]
[]
[null,null,"主な訴求対象","計画",{"$f":"OFFSET('11_PDCAチェックシート【実施期間中】個別事業'!$A$6,'11_PDCAチェックシート【実施期間中】個別事業'!$A$58,MATCH($C661,'11_PDCAチェックシート【実施期間中】個別事業'!$H$4:$V$4,0)+6)","v":""}]
[null,null,null,"結果",{"$f":"OFFSET('11_PDCAチェックシート【実施期間中】個別事業'!$A$6,'11_PDCAチェックシート【実施期間中】個別事業'!$A$59,MATCH($C661,'11_PDCAチェックシート【実施期間中】個別事業'!$H$4:$V$4,0)+6)","v":0}]
[null,null,"規模（リーチ数）\n（想定及び実績）",null,"カテゴリ①（プルダウン選択）⇒",null,null,null,null,null,null,null,null,null,null,{"$f":"OFFSET('11_PDCAチェックシート【実施期間中】個別事業'!$A$6,'11_PDCAチェックシート【実施期間中】個別事業'!$A$60,MATCH($C661,'11_PDCAチェックシート【実施期間中】個別事業'!$H$4:$V$4,0)+6)","v":"聴取人口（番組・CM単位であれば）"}]
[null,null,null,null,"計画値",null,null,null,"計",null,{"$f":"'2_別紙1-2_実施計画書'!K713","v":0}]
[null,null,null,null,"実績値",null,null,null,"計",null,{"$f":"OFFSET('11_PDCAチェックシート【実施期間中】個別事業'!$A$6,'11_PDCAチェックシート【実施期間中】個別事業'!$A$63,MATCH($C661,'11_PDCAチェックシート【実施期間中】個別事業'!$H$4:$V$4,0)+6)","v":0}]
[null,null,null,null,"算出根拠",null,null,null,{"$f":"OFFSET('11_PDCAチェックシート【実施期間中】個別事業'!$A$6,'11_PDCAチェックシート【実施期間中】個別事業'!$A$64,MATCH($C661,'11_PDCAチェックシート【実施期間中】個別事業'!$H$4:$V$4,0)+6)","v":""}]
[null,null,null,null,"カテゴリ②（プルダウン選択）⇒",null,null,null,null,null,null,null,null,null,null,{"$f":"OFFSET('11_PDCAチェックシート【実施期間中】個別事業'!$A$6,'11_PDCAチェックシート【実施期間中】個別事業'!$A$65,MATCH($C661,'11_PDCAチェックシート【実施期間中】個別事業'!$H$4:$V$4,0)+6)","v":""}]
[null,null,null,null,"計画値",null,null,null,"計",null,{"$f":"'2_別紙1-2_実施計画書'!K717","v":0}]
[null,null,null,null,"実績値",null,null,null,"計",null,{"$f":"OFFSET('11_PDCAチェックシート【実施期間中】個別事業'!$A$6,'11_PDCAチェックシート【実施期間中】個別事業'!$A$68,MATCH($C661,'11_PDCAチェックシート【実施期間中】個別事業'!$H$4:$V$4,0)+6)","v":0}]
[null,null,null,null,"算出根拠",null,null,null,{"$f":"OFFSET('11_PDCAチェックシート【実施期間中】個別事業'!$A$6,'11_PDCAチェックシート【実施期間中】個別事業'!$A$69,MATCH($C661,'11_PDCAチェックシート【実施期間中】個別事業'!$H$4:$V$4,0)+6)","v":""}]
[null,null,"COOL CHOICE 賛同数\n（想定及び実績）",null,"計画値",null,null,null,"団体",null,{"$f":"OFFSET('11_PDCAチェックシート【実施期間中】個別事業'!$A$6,'11_PDCAチェックシート【実施期間中】個別事業'!$A$71,MATCH($C661,'11_PDCAチェックシート【実施期間中】個別事業'!$H$4:$V$4,0)+6)","v":0},null,null,null,null,"、個人",null,{"$f":"OFFSET('11_PDCAチェックシート【実施期間中】個別事業'!$A$6,'11_PDCAチェックシート【実施期間中】個別事業'!$A$74,MATCH($C661,'11_PDCAチェックシート【実施期間中】個別事業'!$H$4:$V$4,0)+6)","v":0}]
[null,null,null,null,"実績値",null,null,null,"団体",null,{"$f":"OFFSET('11_PDCAチェックシート【実施期間中】個別事業'!$A$6,'11_PDCAチェックシート【実施期間中】個別事業'!$A$72,MATCH($C661,'11_PDCAチェックシート【実施期間中】個別事業'!$H$4:$V$4,0)+6)","v":0},null,null,null,null,"、個人",null,{"$f":"OFFSET('11_PDCAチェックシート【実施期間中】個別事業'!$A$6,'11_PDCAチェックシート【実施期間中】個別事業'!$A$75,MATCH($C661,'11_PDCAチェックシート【実施期間中】個別事業'!$H$4:$V$4,0)+6)","v":0}]
[null,null,"効果検証\n（アンケート）予定",null,"※アンケートの実施予定をプルダウンより選択してください。"]
[null,null,null,null,"公募要領に規定のアンケート",null,null,null,null,null,null,null,null,null,null,null,null,null,null,null,null,"貴事業者独自のアンケート"]
[null,null,null,null,"省エネ機器",null,null,null,"省エネ住宅",null,null,null,"エコドライブ",null,null,null,"低炭素物流（宅配便の再配達防止）"]
[null,null,null,null,{"$f":"OFFSET('11_PDCAチェックシート【実施期間中】個別事業'!$A$6,'11_PDCAチェックシート【実施期間中】個別事業'!$A$76,MATCH($C661,'11_PDCAチェックシート【実施期間中】個別事業'!$H$4:$V$4,0)+6)","v":"- 選択 -"},null,null,null,{"$f":"OFFSET('11_PDCAチェックシート【実施期間中】個別事業'!$A$6,'11_PDCAチェックシート【実施期間中】個別事業'!$A$77,MATCH($C661,'11_PDCAチェックシート【実施期間中】個別事業'!$H$4:$V$4,0)+6)","v":"- 選択 -"},null,null,null,{"$f":"OFFSET('11_PDCAチェックシート【実施期間中】個別事業'!$A$6,'11_PDCAチェックシート【実施期間中】個別事業'!$A$78,MATCH($C661,'11_PDCAチェックシート【実施期間中】個別事業'!$H$4:$V$4,0)+6)","v":"- 選択 -"},null,null,null,{"$f":"OFFSET('11_PDCAチェックシート【実施期間中】個別事業'!$A$6,'11_PDCAチェックシート【実施期間中】個別事業'!$A$79,MATCH($C661,'11_PDCAチェックシート【実施期間中】個別事業'!$H$4:$V$4,0)+6)","v":"- 選択 -"},null,null,null,null,{"$f":"OFFSET('11_PDCAチェックシート【実施期間中】個別事業'!$A$6,'11_PDCAチェックシート【実施期間中】個別事業'!$A$80,MATCH($C661,'11_PDCAチェックシート【実施期間中】個別事業'!$H$4:$V$4,0)+6)","v":"- 選択 -"}]
[null,null,null,null,"内容（",null,{"$f":"OFFSET('11_PDCAチェックシート【実施期間中】個別事業'!$A$6,'11_PDCAチェックシート【実施期間中】個別事業'!$A$81,MATCH($C661,'11_PDCAチェックシート【実施期間中】個別事業'!$H$4:$V$4,0)+6)","v":""},null,null,null,null,null,null,null,null,null,null,null,null,null,null,null,null,null,null,"）"]
[null,null,null,null,"目標回収数",null,null,null,"計",{"$f":"OFFSET('11_PDCAチェックシート【実施期間中】個別事業'!$A$6,'11_PDCAチェックシート【実施期間中】個別事業'!$A$83,MATCH($C661,'11_PDCAチェックシート【実施期間中】個別事業'!$H$4:$V$4,0)+6)","v":0},null,null,"枚",null,"※複数ある場合は、平均アンケート回収数"]
[null,null,null,null,"実績値",null,null,null,"計",{"$f":"OFFSET('11_PDCAチェックシート【実施期間中】個別事業'!$A$6,'11_PDCAチェックシート【実施期間中】個別事業'!$A$84,MATCH($C661,'11_PDCAチェックシート【実施期間中】個別事業'!$H$4:$V$4,0)+6)","v":0},null,null,"枚",null,"※複数ある場合は、平均アンケート回収数"]
[]
[null,null,"項目",null,"内容"]
[null,null,"事業13","事業名\n（番組・CM名）",{"$f":"OFFSET('11_PDCAチェックシート【実施期間中】個別事業'!$A$6,,MATCH(C718,'11_PDCAチェックシート【実施期間中】個別事業'!$H$4:$V$4,0)+6)","v":0}]
[null,null,"普及啓発テーマ",null,"※該当する普及啓発テーマすべてをチェックしてください。"]
[null,null,null,null,"①",null,"②",null,"③",null,"④",null,"⑤",null,"⑥",null,"⑦",null,"⑧",null,"⑨",null,"⑩",null,"⑪",null,null,null,"①","②","③","④","⑤","⑥","⑦","⑧","⑨","⑩","⑪"]
[null,null,null,null,"省ｴﾈ機器",null,"省ｴﾈ住宅",null,"ｴｺｶｰ",null,"ｸｰﾙﾋﾞｽﾞ",null,"ｳｫｰﾑﾋﾞｽﾞ",null,"照明の\n高効率利用",null,"ｴｺﾄﾞﾗｲﾌﾞ",null,"ｶｰｼｪｱ",null,"公共交通\n機関の利用",null,"再配達防止",null,"シェアエコ",null,null,null,"省ｴﾈ機器","省ｴﾈ住宅","ｴｺｶｰ","ｸｰﾙﾋﾞｽﾞ","ｳｫｰﾑﾋﾞｽﾞ","照明の\n高効率利用","ｴｺﾄﾞﾗｲﾌﾞ","ｶｰｼｪｱ","公共交通\n機関の利用","再配達防止","シェアエコ"]
[null,null,null,null,null,null,null,null,null,null,null,null,null,null,null,null,null,null,null,null,null,null,null,null,null,null,null,null,false,{"$f":"IF(COUNTIFS('11_PDCAチェックシート【実施期間中】個別事業'!$E$7:$E$17,'7_別紙1-2_実施報告書'!AD720,OFFSET('11_PDCAチェックシート【実施期間中】個別事業'!$F$7,,MATCH('7_別紙1-2_実施報告書'!$C718,'11_PDCAチェックシート【実施期間中】個別事業'!$H$4:$V$4,0)+1,11,1),1),1,0)","v":0},{"$f":"IF(COUNTIFS('11_PDCAチェックシート【実施期間中】個別事業'!$E$7:$E$17,'7_別紙1-2_実施報告書'!AE720,OFFSET('11_PDCAチェックシート【実施期間中】個別事業'!$F$7,,MATCH('7_別紙1-2_実施報告書'!$C718,'11_PDCAチェックシート【実施期間中】個別事業'!$H$4:$V$4,0)+1,11,1),1),1,0)","v":0},{"$f":"IF(COUNTIFS('11_PDCAチェックシート【実施期間中】個別事業'!$E$7:$E$17,'7_別紙1-2_実施報告書'!AF720,OFFSET('11_PDCAチェックシート【実施期間中】個別事業'!$F$7,,MATCH('7_別紙1-2_実施報告書'!$C718,'11_PDCAチェックシート【実施期間中】個別事業'!$H$4:$V$4,0)+1,11,1),1),1,0)","v":0},{"$f":"IF(COUNTIFS('11_PDCAチェックシート【実施期間中】個別事業'!$E$7:$E$17,'7_別紙1-2_実施報告書'!AG720,OFFSET('11_PDCAチェックシート【実施期間中】個別事業'!$F$7,,MATCH('7_別紙1-2_実施報告書'!$C718,'11_PDCAチェックシート【実施期間中】個別事業'!$H$4:$V$4,0)+1,11,1),1),1,0)","v":0},false,{"$f":"IF(COUNTIFS('11_PDCAチェックシート【実施期間中】個別事業'!$E$7:$E$17,'7_別紙1-2_実施報告書'!AI720,OFFSET('11_PDCAチェックシート【実施期間中】個別事業'!$F$7,,MATCH('7_別紙1-2_実施報告書'!$C718,'11_PDCAチェックシート【実施期間中】個別事業'!$H$4:$V$4,0)+1,11,1),1),1,0)","v":0},{"$f":"IF(COUNTIFS('11_PDCAチェックシート【実施期間中】個別事業'!$E$7:$E$17,'7_別紙1-2_実施報告書'!AJ720,OFFSET('11_PDCAチェックシート【実施期間中】個別事業'!$F$7,,MATCH('7_別紙1-2_実施報告書'!$C718,'11_PDCAチェックシート【実施期間中】個別事業'!$H$4:$V$4,0)+1,11,1),1),1,0)","v":0},{"$f":"IF(COUNTIFS('11_PDCAチェックシート【実施期間中】個別事業'!$E$7:$E$17,'7_別紙1-2_実施報告書'!AK720,OFFSET('11_PDCAチェックシート【実施期間中】個別事業'!$F$7,,MATCH('7_別紙1-2_実施報告書'!$C718,'11_PDCAチェックシート【実施期間中】個別事業'!$H$4:$V$4,0)+1,11,1),1),1,0)","v":0},{"$f":"IF(COUNTIFS('11_PDCAチェックシート【実施期間中】個別事業'!$E$7:$E$17,'7_別紙1-2_実施報告書'!AL720,OFFSET('11_PDCAチェックシート【実施期間中】個別事業'!$F$7,,MATCH('7_別紙1-2_実施報告書'!$C718,'11_PDCAチェックシート【実施期間中】個別事業'!$H$4:$V$4,0)+1,11,1),1),1,0)","v":0},{"$f":"IF(COUNTIFS('11_PDCAチェックシート【実施期間中】個別事業'!$E$7:$E$17,'7_別紙1-2_実施報告書'!AM720,OFFSET('11_PDCAチェックシート【実施期間中】個別事業'!$F$7,,MATCH('7_別紙1-2_実施報告書'!$C718,'11_PDCAチェックシート【実施期間中】個別事業'!$H$4:$V$4,0)+1,11,1),1),1,0)","v":0},{"$f":"COUNTIFS(AC722:AM722,\"TRUE\")","v":0}]
[null,null,"訴求手法",null,"※訴求手法については、該当する欄にチェックしてください。"]
[null,null,null,null,"a) 情報発信型（受動型）",null,null,null,null,null,null,"b) 情報発信型（能動型）",null,null,null,null,null,null,"c) 双方向体験交流型"]
[null,null,null,null,"ラジオ、新聞・広報紙等",null,null,null,null,null,null,"講演会・パネル展示等",null,null,null,null,null,null,"試乗・体験会、省ｴﾈ診断等",null,null,null,null,null,null,null,null,null,"a)","b)","c)"]
[null,null,null,null,null,null,null,null,null,null,null,null,null,null,null,null,null,null,null,null,null,null,null,null,null,null,null,null,false,false,false,null,null,null,null,null,null,null,null,{"$f":"COUNTIFS(AC726:AM726,\"TRUE\")","v":0}]
[null,null,"情報発信カテゴリー\n（プルダウン選択）",null,{"$f":"OFFSET('11_PDCAチェックシート【実施期間中】個別事業'!$A$6,'11_PDCAチェックシート【実施期間中】個別事業'!$A$21,MATCH($C718,'11_PDCAチェックシート【実施期間中】個別事業'!$H$4:$V$4,0)+6)","v":"-"},null,null,null,null,null,null,null,null,null,null,{"$f":"IF(OFFSET('11_PDCAチェックシート【実施期間中】個別事業'!$A$6,'11_PDCAチェックシート【実施期間中】個別事業'!$A$22,MATCH($C718,'11_PDCAチェックシート【実施期間中】個別事業'!$H$4:$V$4,0)+6)=\"\",\"\",OFFSET('11_PDCAチェックシート【実施期間中】個別事業'!$A$6,'11_PDCAチェックシート【実施期間中】個別事業'!$A$22,MATCH($C718,'11_PDCAチェックシート【実施期間中】個別事業'!$H$4:$V$4,0)+6))","v":""}]
[]
[null,null,"尺・放送回数",null,"※収録本数、放送回数を定量的に必ず記載のこと"]
[null,null,null,null,"①","尺",null,null,{"$f":"OFFSET('11_PDCAチェックシート【実施期間中】個別事業'!$A$6,'11_PDCAチェックシート【実施期間中】個別事業'!$A$23,MATCH($C718,'11_PDCAチェックシート【実施期間中】個別事業'!$H$4:$V$4,0)+6)","v":""},null,null,"（秒）",null,null,null,"※単位はプルダウン選択"]
[null,null,null,null,null,"収録本数",null,null,{"$f":"OFFSET('11_PDCAチェックシート【実施期間中】個別事業'!$A$6,'11_PDCAチェックシート【実施期間中】個別事業'!$A$24,MATCH($C718,'11_PDCAチェックシート【実施期間中】個別事業'!$H$4:$V$4,0)+6)","v":""},null,null,"（本）"]
[null,null,null,null,null,"放送回数",null,null,{"$f":"OFFSET('11_PDCAチェックシート【実施期間中】個別事業'!$A$6,'11_PDCAチェックシート【実施期間中】個別事業'!$A$25,MATCH($C718,'11_PDCAチェックシート【実施期間中】個別事業'!$H$4:$V$4,0)+6)","v":""},null,null,"（回）",null,null,null,"※再放送を含む"]
[null,null,null,null,null,"備考",null,null,{"$f":"OFFSET('11_PDCAチェックシート【実施期間中】個別事業'!$A$6,'11_PDCAチェックシート【実施期間中】個別事業'!$A$26,MATCH($C718,'11_PDCAチェックシート【実施期間中】個別事業'!$H$4:$V$4,0)+6)","v":""},null,null,{"$f":"OFFSET('11_PDCAチェックシート【実施期間中】個別事業'!$A$6,'11_PDCAチェックシート【実施期間中】個別事業'!#REF!,MATCH($C721,'11_PDCAチェックシート【実施期間中】個別事業'!$H$4:$V$4,0)+6)","v":{"$error":"#REF!"}},null,null,{"$f":"OFFSET('11_PDCAチェックシート【実施期間中】個別事業'!$A$6,'11_PDCAチェックシート【実施期間中】個別事業'!#REF!,MATCH($C721,'11_PDCAチェックシート【実施期間中】個別事業'!$H$4:$V$4,0)+6)","v":{"$error":"#REF!"}},null,null,{"$f":"OFFSET('11_PDCAチェックシート【実施期間中】個別事業'!$A$6,'11_PDCAチェックシート【実施期間中】個別事業'!#REF!,MATCH($C721,'11_PDCAチェックシート【実施期間中】個別事業'!$H$4:$V$4,0)+6)","v":{"$error":"#REF!"}},null,null,{"$f":"OFFSET('11_PDCAチェックシート【実施期間中】個別事業'!$A$6,'11_PDCAチェックシート【実施期間中】個別事業'!#REF!,MATCH($C721,'11_PDCAチェックシート【実施期間中】個別事業'!$H$4:$V$4,0)+6)","v":{"$error":"#REF!"}},null,null,{"$f":"OFFSET('11_PDCAチェックシート【実施期間中】個別事業'!$A$6,'11_PDCAチェックシート【実施期間中】個別事業'!#REF!,MATCH($C721,'11_PDCAチェックシート【実施期間中】個別事業'!$H$4:$V$4,0)+6)","v":{"$error":"#REF!"}}]
[null,null,null,null,"②","尺",null,null,{"$f":"OFFSET('11_PDCAチェックシート【実施期間中】個別事業'!$A$6,'11_PDCAチェックシート【実施期間中】個別事業'!$A$27,MATCH($C718,'11_PDCAチェックシート【実施期間中】個別事業'!$H$4:$V$4,0)+6)","v":""},null,null,"（秒）",null,null,null,"※単位はプルダウン選択"]
[null,null,null,null,null,"収録本数",null,null,{"$f":"OFFSET('11_PDCAチェックシート【実施期間中】個別事業'!$A$6,'11_PDCAチェックシート【実施期間中】個別事業'!$A$28,MATCH($C718,'11_PDCAチェックシート【実施期間中】個別事業'!$H$4:$V$4,0)+6)","v":""},null,null,"（本）"]
[null,null,null,null,null,"放送回数",null,null,{"$f":"OFFSET('11_PDCAチェックシート【実施期間中】個別事業'!$A$6,'11_PDCAチェックシート【実施期間中】個別事業'!$A$29,MATCH($C718,'11_PDCAチェックシート【実施期間中】個別事業'!$H$4:$V$4,0)+6)","v":""},null,null,"（回）",null,null,null,"※再放送を含む"]
[null,null,null,null,null,"備考",null,null,{"$f":"OFFSET('11_PDCAチェックシート【実施期間中】個別事業'!$A$6,'11_PDCAチェックシート【実施期間中】個別事業'!$A$30,MATCH($C718,'11_PDCAチェックシート【実施期間中】個別事業'!$H$4:$V$4,0)+6)","v":""},null,null,{"$f":"OFFSET('11_PDCAチェックシート【実施期間中】個別事業'!$A$6,'11_PDCAチェックシート【実施期間中】個別事業'!#REF!,MATCH($C725,'11_PDCAチェックシート【実施期間中】個別事業'!$H$4:$V$4,0)+6)","v":{"$error":"#REF!"}},null,null,{"$f":"OFFSET('11_PDCAチェックシート【実施期間中】個別事業'!$A$6,'11_PDCAチェックシート【実施期間中】個別事業'!#REF!,MATCH($C725,'11_PDCAチェックシート【実施期間中】個別事業'!$H$4:$V$4,0)+6)","v":{"$error":"#REF!"}},null,null,{"$f":"OFFSET('11_PDCAチェックシート【実施期間中】個別事業'!$A$6,'11_PDCAチェックシート【実施期間中】個別事業'!#REF!,MATCH($C725,'11_PDCAチェックシート【実施期間中】個別事業'!$H$4:$V$4,0)+6)","v":{"$error":"#REF!"}},null,null,{"$f":"OFFSET('11_PDCAチェックシート【実施期間中】個別事業'!$A$6,'11_PDCAチェックシート【実施期間中】個別事業'!#REF!,MATCH($C725,'11_PDCAチェックシート【実施期間中】個別事業'!$H$4:$V$4,0)+6)","v":{"$error":"#REF!"}},null,null,{"$f":"OFFSET('11_PDCAチェックシート【実施期間中】個別事業'!$A$6,'11_PDCAチェックシート【実施期間中】個別事業'!#REF!,MATCH($C725,'11_PDCAチェックシート【実施期間中】個別事業'!$H$4:$V$4,0)+6)","v":{"$error":"#REF!"}}]
[null,null,"実施期間",null,{"$f":"OFFSET('11_PDCAチェックシート【実施期間中】個別事業'!$A$6,'11_PDCAチェックシート【実施期間中】個別事業'!$A$31,MATCH($C718,'11_PDCAチェックシート【実施期間中】個別事業'!$H$4:$V$4,0)+6)","v":""},null,null,null,null,null,null,null,null,"～",null,null,null,{"$f":"OFFSET('11_PDCAチェックシート【実施期間中】個別事業'!$A$6,'11_PDCAチェックシート【実施期間中】個別事業'!$A$33,MATCH($C718,'11_PDCAチェックシート【実施期間中】個別事業'!$H$4:$V$4,0)+6)","v":""}]
[null,null,"放送時間、その他備考",null,{"$f":"OFFSET('11_PDCAチェックシート【実施期間中】個別事業'!$A$6,'11_PDCAチェックシート【実施期間中】個別事業'!$A$34,MATCH($C718,'11_PDCAチェックシート【実施期間中】個別事業'!$H$4:$V$4,0)+6)","v":""}]
[null,null,"実施日\n（※同一事業内で、\n同一の内容・場所において\n複数日実施する場合）",null,1,null,{"$f":"OFFSET('11_PDCAチェックシート【実施期間中】個別事業'!$A$6,'11_PDCAチェックシート【実施期間中】個別事業'!$A$35,MATCH($C718,'11_PDCAチェックシート【実施期間中】個別事業'!$H$4:$V$4,0)+6)","v":""},null,null,null,null,null,null,null,null,11,null,{"$f":"OFFSET('11_PDCAチェックシート【実施期間中】個別事業'!$A$6,'11_PDCAチェックシート【実施期間中】個別事業'!$A$45,MATCH($C718,'11_PDCAチェックシート【実施期間中】個別事業'!$H$4:$V$4,0)+6)","v":""}]
[null,null,null,null,2,null,{"$f":"OFFSET('11_PDCAチェックシート【実施期間中】個別事業'!$A$6,'11_PDCAチェックシート【実施期間中】個別事業'!$A$36,MATCH($C718,'11_PDCAチェックシート【実施期間中】個別事業'!$H$4:$V$4,0)+6)","v":""},null,null,null,null,null,null,null,null,12,null,{"$f":"OFFSET('11_PDCAチェックシート【実施期間中】個別事業'!$A$6,'11_PDCAチェックシート【実施期間中】個別事業'!$A$46,MATCH($C718,'11_PDCAチェックシート【実施期間中】個別事業'!$H$4:$V$4,0)+6)","v":""}]
[null,null,null,null,3,null,{"$f":"OFFSET('11_PDCAチェックシート【実施期間中】個別事業'!$A$6,'11_PDCAチェックシート【実施期間中】個別事業'!$A$37,MATCH($C718,'11_PDCAチェックシート【実施期間中】個別事業'!$H$4:$V$4,0)+6)","v":""},null,null,null,null,null,null,null,null,13,null,{"$f":"OFFSET('11_PDCAチェックシート【実施期間中】個別事業'!$A$6,'11_PDCAチェックシート【実施期間中】個別事業'!$A$47,MATCH($C718,'11_PDCAチェックシート【実施期間中】個別事業'!$H$4:$V$4,0)+6)","v":""}]
[null,null,null,null,4,null,{"$f":"OFFSET('11_PDCAチェックシート【実施期間中】個別事業'!$A$6,'11_PDCAチェックシート【実施期間中】個別事業'!$A$38,MATCH($C718,'11_PDCAチェックシート【実施期間中】個別事業'!$H$4:$V$4,0)+6)","v":""},null,null,null,null,null,null,null,null,14,null,{"$f":"OFFSET('11_PDCAチェックシート【実施期間中】個別事業'!$A$6,'11_PDCAチェックシート【実施期間中】個別事業'!$A$48,MATCH($C718,'11_PDCAチェックシート【実施期間中】個別事業'!$H$4:$V$4,0)+6)","v":""}]
[null,null,null,null,5,null,{"$f":"OFFSET('11_PDCAチェックシート【実施期間中】個別事業'!$A$6,'11_PDCAチェックシート【実施期間中】個別事業'!$A$39,MATCH($C718,'11_PDCAチェックシート【実施期間中】個別事業'!$H$4:$V$4,0)+6)","v":""},null,null,null,null,null,null,null,null,15,null,{"$f":"OFFSET('11_PDCAチェックシート【実施期間中】個別事業'!$A$6,'11_PDCAチェックシート【実施期間中】個別事業'!$A$49,MATCH($C718,'11_PDCAチェックシート【実施期間中】個別事業'!$H$4:$V$4,0)+6)","v":""}]
[null,null,null,null,6,null,{"$f":"OFFSET('11_PDCAチェックシート【実施期間中】個別事業'!$A$6,'11_PDCAチェックシート【実施期間中】個別事業'!$A$40,MATCH($C718,'11_PDCAチェックシート【実施期間中】個別事業'!$H$4:$V$4,0)+6)","v":""},null,null,null,null,null,null,null,null,16,null,{"$f":"OFFSET('11_PDCAチェックシート【実施期間中】個別事業'!$A$6,'11_PDCAチェックシート【実施期間中】個別事業'!$A$50,MATCH($C718,'11_PDCAチェックシート【実施期間中】個別事業'!$H$4:$V$4,0)+6)","v":""}]
[null,null,null,null,7,null,{"$f":"OFFSET('11_PDCAチェックシート【実施期間中】個別事業'!$A$6,'11_PDCAチェックシート【実施期間中】個別事業'!$A$41,MATCH($C718,'11_PDCAチェックシート【実施期間中】個別事業'!$H$4:$V$4,0)+6)","v":""},null,null,null,null,null,null,null,null,17,null,{"$f":"OFFSET('11_PDCAチェックシート【実施期間中】個別事業'!$A$6,'11_PDCAチェックシート【実施期間中】個別事業'!$A$51,MATCH($C718,'11_PDCAチェックシート【実施期間中】個別事業'!$H$4:$V$4,0)+6)","v":""}]
[null,null,null,null,8,null,{"$f":"OFFSET('11_PDCAチェックシート【実施期間中】個別事業'!$A$6,'11_PDCAチェックシート【実施期間中】個別事業'!$A$42,MATCH($C718,'11_PDCAチェックシート【実施期間中】個別事業'!$H$4:$V$4,0)+6)","v":""},null,null,null,null,null,null,null,null,18,null,{"$f":"OFFSET('11_PDCAチェックシート【実施期間中】個別事業'!$A$6,'11_PDCAチェックシート【実施期間中】個別事業'!$A$52,MATCH($C718,'11_PDCAチェックシート【実施期間中】個別事業'!$H$4:$V$4,0)+6)","v":""}]
[null,null,null,null,9,null,{"$f":"OFFSET('11_PDCAチェックシート【実施期間中】個別事業'!$A$6,'11_PDCAチェックシート【実施期間中】個別事業'!$A$43,MATCH($C718,'11_PDCAチェックシート【実施期間中】個別事業'!$H$4:$V$4,0)+6)","v":""},null,null,null,null,null,null,null,null,19,null,{"$f":"OFFSET('11_PDCAチェックシート【実施期間中】個別事業'!$A$6,'11_PDCAチェックシート【実施期間中】個別事業'!$A$53,MATCH($C718,'11_PDCAチェックシート【実施期間中】個別事業'!$H$4:$V$4,0)+6)","v":""}]
[null,null,null,null,10,null,{"$f":"OFFSET('11_PDCAチェックシート【実施期間中】個別事業'!$A$6,'11_PDCAチェックシート【実施期間中】個別事業'!$A$44,MATCH($C718,'11_PDCAチェックシート【実施期間中】個別事業'!$H$4:$V$4,0)+6)","v":""},null,null,null,null,null,null,null,null,20,null,{"$f":"OFFSET('11_PDCAチェックシート【実施期間中】個別事業'!$A$6,'11_PDCAチェックシート【実施期間中】個別事業'!$A$54,MATCH($C718,'11_PDCAチェックシート【実施期間中】個別事業'!$H$4:$V$4,0)+6)","v":""}]
[null,null,"事業の概要",null,{"$f":"OFFSET('11_PDCAチェックシート【実施期間中】個別事業'!$A$6,'11_PDCAチェックシート【実施期間中】個別事業'!$A$55,MATCH($C718,'11_PDCAチェックシート【実施期間中】個別事業'!$H$4:$V$4,0)+6)","v":""}]
[null,null,"地域団体との連携\n※地方公共団体を含む",null,{"$f":"'2_別紙1-2_実施計画書'!E763","v":0}]
[null,null,"実施結果",null,{"$f":"OFFSET('11_PDCAチェックシート【実施期間中】個別事業'!$A$6,'11_PDCAチェックシート【実施期間中】個別事業'!$A$57,MATCH($C718,'11_PDCAチェックシート【実施期間中】個別事業'!$H$4:$V$4,0)+6)","v":0}]
[]
[null,null,"主な訴求対象","計画",{"$f":"OFFSET('11_PDCAチェックシート【実施期間中】個別事業'!$A$6,'11_PDCAチェックシート【実施期間中】個別事業'!$A$58,MATCH($C718,'11_PDCAチェックシート【実施期間中】個別事業'!$H$4:$V$4,0)+6)","v":""}]
[null,null,null,"結果",{"$f":"OFFSET('11_PDCAチェックシート【実施期間中】個別事業'!$A$6,'11_PDCAチェックシート【実施期間中】個別事業'!$A$59,MATCH($C718,'11_PDCAチェックシート【実施期間中】個別事業'!$H$4:$V$4,0)+6)","v":0}]
[null,null,"規模（リーチ数）\n（想定及び実績）",null,"カテゴリ①（プルダウン選択）⇒",null,null,null,null,null,null,null,null,null,null,{"$f":"OFFSET('11_PDCAチェックシート【実施期間中】個別事業'!$A$6,'11_PDCAチェックシート【実施期間中】個別事業'!$A$60,MATCH($C718,'11_PDCAチェックシート【実施期間中】個別事業'!$H$4:$V$4,0)+6)","v":"聴取人口（番組・CM単位であれば）"}]
[null,null,null,null,"計画値",null,null,null,"計",null,{"$f":"'2_別紙1-2_実施計画書'!K769","v":0}]
[null,null,null,null,"実績値",null,null,null,"計",null,{"$f":"OFFSET('11_PDCAチェックシート【実施期間中】個別事業'!$A$6,'11_PDCAチェックシート【実施期間中】個別事業'!$A$63,MATCH($C718,'11_PDCAチェックシート【実施期間中】個別事業'!$H$4:$V$4,0)+6)","v":0}]
[null,null,null,null,"算出根拠",null,null,null,{"$f":"OFFSET('11_PDCAチェックシート【実施期間中】個別事業'!$A$6,'11_PDCAチェックシート【実施期間中】個別事業'!$A$64,MATCH($C718,'11_PDCAチェックシート【実施期間中】個別事業'!$H$4:$V$4,0)+6)","v":""}]
[null,null,null,null,"カテゴリ②（プルダウン選択）⇒",null,null,null,null,null,null,null,null,null,null,{"$f":"OFFSET('11_PDCAチェックシート【実施期間中】個別事業'!$A$6,'11_PDCAチェックシート【実施期間中】個別事業'!$A$65,MATCH($C718,'11_PDCAチェックシート【実施期間中】個別事業'!$H$4:$V$4,0)+6)","v":""}]
[null,null,null,null,"計画値",null,null,null,"計",null,{"$f":"'2_別紙1-2_実施計画書'!K773","v":0}]
[null,null,null,null,"実績値",null,null,null,"計",null,{"$f":"OFFSET('11_PDCAチェックシート【実施期間中】個別事業'!$A$6,'11_PDCAチェックシート【実施期間中】個別事業'!$A$68,MATCH($C718,'11_PDCAチェックシート【実施期間中】個別事業'!$H$4:$V$4,0)+6)","v":0}]
[null,null,null,null,"算出根拠",null,null,null,{"$f":"OFFSET('11_PDCAチェックシート【実施期間中】個別事業'!$A$6,'11_PDCAチェックシート【実施期間中】個別事業'!$A$69,MATCH($C718,'11_PDCAチェックシート【実施期間中】個別事業'!$H$4:$V$4,0)+6)","v":""}]
[null,null,"COOL CHOICE 賛同数\n（想定及び実績）",null,"計画値",null,null,null,"団体",null,{"$f":"OFFSET('11_PDCAチェックシート【実施期間中】個別事業'!$A$6,'11_PDCAチェックシート【実施期間中】個別事業'!$A$71,MATCH($C718,'11_PDCAチェックシート【実施期間中】個別事業'!$H$4:$V$4,0)+6)","v":0},null,null,null,null,"、個人",null,{"$f":"OFFSET('11_PDCAチェックシート【実施期間中】個別事業'!$A$6,'11_PDCAチェックシート【実施期間中】個別事業'!$A$74,MATCH($C718,'11_PDCAチェックシート【実施期間中】個別事業'!$H$4:$V$4,0)+6)","v":0}]
[null,null,null,null,"実績値",null,null,null,"団体",null,{"$f":"OFFSET('11_PDCAチェックシート【実施期間中】個別事業'!$A$6,'11_PDCAチェックシート【実施期間中】個別事業'!$A$72,MATCH($C718,'11_PDCAチェックシート【実施期間中】個別事業'!$H$4:$V$4,0)+6)","v":0},null,null,null,null,"、個人",null,{"$f":"OFFSET('11_PDCAチェックシート【実施期間中】個別事業'!$A$6,'11_PDCAチェックシート【実施期間中】個別事業'!$A$75,MATCH($C718,'11_PDCAチェックシート【実施期間中】個別事業'!$H$4:$V$4,0)+6)","v":0}]
[null,null,"効果検証\n（アンケート）予定",null,"※アンケートの実施予定をプルダウンより選択してください。"]
[null,null,null,null,"公募要領に規定のアンケート",null,null,null,null,null,null,null,null,null,null,null,null,null,null,null,null,"貴事業者独自のアンケート"]
[null,null,null,null,"省エネ機器",null,null,null,"省エネ住宅",null,null,null,"エコドライブ",null,null,null,"低炭素物流（宅配便の再配達防止）"]
[null,null,null,null,{"$f":"OFFSET('11_PDCAチェックシート【実施期間中】個別事業'!$A$6,'11_PDCAチェックシート【実施期間中】個別事業'!$A$76,MATCH($C718,'11_PDCAチェックシート【実施期間中】個別事業'!$H$4:$V$4,0)+6)","v":"- 選択 -"},null,null,null,{"$f":"OFFSET('11_PDCAチェックシート【実施期間中】個別事業'!$A$6,'11_PDCAチェックシート【実施期間中】個別事業'!$A$77,MATCH($C718,'11_PDCAチェックシート【実施期間中】個別事業'!$H$4:$V$4,0)+6)","v":"- 選択 -"},null,null,null,{"$f":"OFFSET('11_PDCAチェックシート【実施期間中】個別事業'!$A$6,'11_PDCAチェックシート【実施期間中】個別事業'!$A$78,MATCH($C718,'11_PDCAチェックシート【実施期間中】個別事業'!$H$4:$V$4,0)+6)","v":"- 選択 -"},null,null,null,{"$f":"OFFSET('11_PDCAチェックシート【実施期間中】個別事業'!$A$6,'11_PDCAチェックシート【実施期間中】個別事業'!$A$79,MATCH($C718,'11_PDCAチェックシート【実施期間中】個別事業'!$H$4:$V$4,0)+6)","v":"- 選択 -"},null,null,null,null,{"$f":"OFFSET('11_PDCAチェックシート【実施期間中】個別事業'!$A$6,'11_PDCAチェックシート【実施期間中】個別事業'!$A$80,MATCH($C718,'11_PDCAチェックシート【実施期間中】個別事業'!$H$4:$V$4,0)+6)","v":"- 選択 -"}]
[null,null,null,null,"内容（",null,{"$f":"OFFSET('11_PDCAチェックシート【実施期間中】個別事業'!$A$6,'11_PDCAチェックシート【実施期間中】個別事業'!$A$81,MATCH($C718,'11_PDCAチェックシート【実施期間中】個別事業'!$H$4:$V$4,0)+6)","v":""},null,null,null,null,null,null,null,null,null,null,null,null,null,null,null,null,null,null,"）"]
[null,null,null,null,"目標回収数",null,null,null,"計",{"$f":"OFFSET('11_PDCAチェックシート【実施期間中】個別事業'!$A$6,'11_PDCAチェックシート【実施期間中】個別事業'!$A$83,MATCH($C718,'11_PDCAチェックシート【実施期間中】個別事業'!$H$4:$V$4,0)+6)","v":0},null,null,"枚",null,"※複数ある場合は、平均アンケート回収数"]
[null,null,null,null,"実績値",null,null,null,"計",{"$f":"OFFSET('11_PDCAチェックシート【実施期間中】個別事業'!$A$6,'11_PDCAチェックシート【実施期間中】個別事業'!$A$84,MATCH($C718,'11_PDCAチェックシート【実施期間中】個別事業'!$H$4:$V$4,0)+6)","v":0},null,null,"枚",null,"※複数ある場合は、平均アンケート回収数"]
[]
[null,null,"項目",null,"内容"]
[null,null,"事業14","事業名\n（番組・CM名）",{"$f":"OFFSET('11_PDCAチェックシート【実施期間中】個別事業'!$A$6,,MATCH(C775,'11_PDCAチェックシート【実施期間中】個別事業'!$H$4:$V$4,0)+6)","v":0}]
[null,null,"普及啓発テーマ",null,"※該当する普及啓発テーマすべてをチェックしてください。"]
[null,null,null,null,"①",null,"②",null,"③",null,"④",null,"⑤",null,"⑥",null,"⑦",null,"⑧",null,"⑨",null,"⑩",null,"⑪",null,null,null,"①","②","③","④","⑤","⑥","⑦","⑧","⑨","⑩","⑪"]
[null,null,null,null,"省ｴﾈ機器",null,"省ｴﾈ住宅",null,"ｴｺｶｰ",null,"ｸｰﾙﾋﾞｽﾞ",null,"ｳｫｰﾑﾋﾞｽﾞ",null,"照明の\n高効率利用",null,"ｴｺﾄﾞﾗｲﾌﾞ",null,"ｶｰｼｪｱ",null,"公共交通\n機関の利用",null,"再配達防止",null,"シェアエコ",null,null,null,"省ｴﾈ機器","省ｴﾈ住宅","ｴｺｶｰ","ｸｰﾙﾋﾞｽﾞ","ｳｫｰﾑﾋﾞｽﾞ","照明の\n高効率利用","ｴｺﾄﾞﾗｲﾌﾞ","ｶｰｼｪｱ","公共交通\n機関の利用","再配達防止","シェアエコ"]
[null,null,null,null,null,null,null,null,null,null,null,null,null,null,null,null,null,null,null,null,null,null,null,null,null,null,null,null,{"$f":"IF(COUNTIFS('11_PDCAチェックシート【実施期間中】個別事業'!$E$7:$E$17,'7_別紙1-2_実施報告書'!AC777,OFFSET('11_PDCAチェックシート【実施期間中】個別事業'!$F$7,,MATCH('7_別紙1-2_実施報告書'!$C775,'11_PDCAチェックシート【実施期間中】個別事業'!$H$4:$V$4,0)+1,11,1),1),1,0)","v":0},{"$f":"IF(COUNTIFS('11_PDCAチェックシート【実施期間中】個別事業'!$E$7:$E$17,'7_別紙1-2_実施報告書'!AD777,OFFSET('11_PDCAチェックシート【実施期間中】個別事業'!$F$7,,MATCH('7_別紙1-2_実施報告書'!$C775,'11_PDCAチェックシート【実施期間中】個別事業'!$H$4:$V$4,0)+1,11,1),1),1,0)","v":0},{"$f":"IF(COUNTIFS('11_PDCAチェックシート【実施期間中】個別事業'!$E$7:$E$17,'7_別紙1-2_実施報告書'!AE777,OFFSET('11_PDCAチェックシート【実施期間中】個別事業'!$F$7,,MATCH('7_別紙1-2_実施報告書'!$C775,'11_PDCAチェックシート【実施期間中】個別事業'!$H$4:$V$4,0)+1,11,1),1),1,0)","v":0},{"$f":"IF(COUNTIFS('11_PDCAチェックシート【実施期間中】個別事業'!$E$7:$E$17,'7_別紙1-2_実施報告書'!AF777,OFFSET('11_PDCAチェックシート【実施期間中】個別事業'!$F$7,,MATCH('7_別紙1-2_実施報告書'!$C775,'11_PDCAチェックシート【実施期間中】個別事業'!$H$4:$V$4,0)+1,11,1),1),1,0)","v":0},false,{"$f":"IF(COUNTIFS('11_PDCAチェックシート【実施期間中】個別事業'!$E$7:$E$17,'7_別紙1-2_実施報告書'!AH777,OFFSET('11_PDCAチェックシート【実施期間中】個別事業'!$F$7,,MATCH('7_別紙1-2_実施報告書'!$C775,'11_PDCAチェックシート【実施期間中】個別事業'!$H$4:$V$4,0)+1,11,1),1),1,0)","v":0},{"$f":"IF(COUNTIFS('11_PDCAチェックシート【実施期間中】個別事業'!$E$7:$E$17,'7_別紙1-2_実施報告書'!AI777,OFFSET('11_PDCAチェックシート【実施期間中】個別事業'!$F$7,,MATCH('7_別紙1-2_実施報告書'!$C775,'11_PDCAチェックシート【実施期間中】個別事業'!$H$4:$V$4,0)+1,11,1),1),1,0)","v":0},false,{"$f":"IF(COUNTIFS('11_PDCAチェックシート【実施期間中】個別事業'!$E$7:$E$17,'7_別紙1-2_実施報告書'!AK777,OFFSET('11_PDCAチェックシート【実施期間中】個別事業'!$F$7,,MATCH('7_別紙1-2_実施報告書'!$C775,'11_PDCAチェックシート【実施期間中】個別事業'!$H$4:$V$4,0)+1,11,1),1),1,0)","v":0},{"$f":"IF(COUNTIFS('11_PDCAチェックシート【実施期間中】個別事業'!$E$7:$E$17,'7_別紙1-2_実施報告書'!AL777,OFFSET('11_PDCAチェックシート【実施期間中】個別事業'!$F$7,,MATCH('7_別紙1-2_実施報告書'!$C775,'11_PDCAチェックシート【実施期間中】個別事業'!$H$4:$V$4,0)+1,11,1),1),1,0)","v":0},{"$f":"IF(COUNTIFS('11_PDCAチェックシート【実施期間中】個別事業'!$E$7:$E$17,'7_別紙1-2_実施報告書'!AM777,OFFSET('11_PDCAチェックシート【実施期間中】個別事業'!$F$7,,MATCH('7_別紙1-2_実施報告書'!$C775,'11_PDCAチェックシート【実施期間中】個別事業'!$H$4:$V$4,0)+1,11,1),1),1,0)","v":0},{"$f":"COUNTIFS(AC779:AM779,\"TRUE\")","v":0}]
[null,null,"訴求手法",null,"※訴求手法については、該当する欄にチェックしてください。"]
[null,null,null,null,"a) 情報発信型（受動型）",null,null,null,null,null,null,"b) 情報発信型（能動型）",null,null,null,null,null,null,"c) 双方向体験交流型"]
[null,null,null,null,"ラジオ、新聞・広報紙等",null,null,null,null,null,null,"講演会・パネル展示等",null,null,null,null,null,null,"試乗・体験会、省ｴﾈ診断等",null,null,null,null,null,null,null,null,null,"a)","b)","c)"]
[null,null,null,null,null,null,null,null,null,null,null,null,null,null,null,null,null,null,null,null,null,null,null,null,null,null,null,null,false,false,false,null,null,null,null,null,null,null,null,{"$f":"COUNTIFS(AC783:AM783,\"TRUE\")","v":0}]
[null,null,"情報発信カテゴリー\n（プルダウン選択）",null,{"$f":"OFFSET('11_PDCAチェックシート【実施期間中】個別事業'!$A$6,'11_PDCAチェックシート【実施期間中】個別事業'!$A$21,MATCH($C775,'11_PDCAチェックシート【実施期間中】個別事業'!$H$4:$V$4,0)+6)","v":"-"},null,null,null,null,null,null,null,null,null,null,{"$f":"IF(OFFSET('11_PDCAチェックシート【実施期間中】個別事業'!$A$6,'11_PDCAチェックシート【実施期間中】個別事業'!$A$22,MATCH($C775,'11_PDCAチェックシート【実施期間中】個別事業'!$H$4:$V$4,0)+6)=\"\",\"\",OFFSET('11_PDCAチェックシート【実施期間中】個別事業'!$A$6,'11_PDCAチェックシート【実施期間中】個別事業'!$A$22,MATCH($C775,'11_PDCAチェックシート【実施期間中】個別事業'!$H$4:$V$4,0)+6))","v":""}]
[]
[null,null,"尺・放送回数",null,"※収録本数、放送回数を定量的に必ず記載のこと"]
[null,null,null,null,"①","尺",null,null,{"$f":"OFFSET('11_PDCAチェックシート【実施期間中】個別事業'!$A$6,'11_PDCAチェックシート【実施期間中】個別事業'!$A$23,MATCH($C775,'11_PDCAチェックシート【実施期間中】個別事業'!$H$4:$V$4,0)+6)","v":""},null,null,"（秒）",null,null,null,"※単位はプルダウン選択"]
[null,null,null,null,null,"収録本数",null,null,{"$f":"OFFSET('11_PDCAチェックシート【実施期間中】個別事業'!$A$6,'11_PDCAチェックシート【実施期間中】個別事業'!$A$24,MATCH($C775,'11_PDCAチェックシート【実施期間中】個別事業'!$H$4:$V$4,0)+6)","v":""},null,null,"（本）"]
[null,null,null,null,null,"放送回数",null,null,{"$f":"OFFSET('11_PDCAチェックシート【実施期間中】個別事業'!$A$6,'11_PDCAチェックシート【実施期間中】個別事業'!$A$25,MATCH($C775,'11_PDCAチェックシート【実施期間中】個別事業'!$H$4:$V$4,0)+6)","v":""},null,null,"（回）",null,null,null,"※再放送を含む"]
[null,null,null,null,null,"備考",null,null,{"$f":"OFFSET('11_PDCAチェックシート【実施期間中】個別事業'!$A$6,'11_PDCAチェックシート【実施期間中】個別事業'!$A$26,MATCH($C775,'11_PDCAチェックシート【実施期間中】個別事業'!$H$4:$V$4,0)+6)","v":""},null,null,{"$f":"OFFSET('11_PDCAチェックシート【実施期間中】個別事業'!$A$6,'11_PDCAチェックシート【実施期間中】個別事業'!#REF!,MATCH($C778,'11_PDCAチェックシート【実施期間中】個別事業'!$H$4:$V$4,0)+6)","v":{"$error":"#REF!"}},null,null,{"$f":"OFFSET('11_PDCAチェックシート【実施期間中】個別事業'!$A$6,'11_PDCAチェックシート【実施期間中】個別事業'!#REF!,MATCH($C778,'11_PDCAチェックシート【実施期間中】個別事業'!$H$4:$V$4,0)+6)","v":{"$error":"#REF!"}},null,null,{"$f":"OFFSET('11_PDCAチェックシート【実施期間中】個別事業'!$A$6,'11_PDCAチェックシート【実施期間中】個別事業'!#REF!,MATCH($C778,'11_PDCAチェックシート【実施期間中】個別事業'!$H$4:$V$4,0)+6)","v":{"$error":"#REF!"}},null,null,{"$f":"OFFSET('11_PDCAチェックシート【実施期間中】個別事業'!$A$6,'11_PDCAチェックシート【実施期間中】個別事業'!#REF!,MATCH($C778,'11_PDCAチェックシート【実施期間中】個別事業'!$H$4:$V$4,0)+6)","v":{"$error":"#REF!"}},null,null,{"$f":"OFFSET('11_PDCAチェックシート【実施期間中】個別事業'!$A$6,'11_PDCAチェックシート【実施期間中】個別事業'!#REF!,MATCH($C778,'11_PDCAチェックシート【実施期間中】個別事業'!$H$4:$V$4,0)+6)","v":{"$error":"#REF!"}}]
[null,null,null,null,"②","尺",null,null,{"$f":"OFFSET('11_PDCAチェックシート【実施期間中】個別事業'!$A$6,'11_PDCAチェックシート【実施期間中】個別事業'!$A$27,MATCH($C775,'11_PDCAチェックシート【実施期間中】個別事業'!$H$4:$V$4,0)+6)","v":""},null,null,"（秒）",null,null,null,"※単位はプルダウン選択"]
[null,null,null,null,null,"収録本数",null,null,{"$f":"OFFSET('11_PDCAチェックシート【実施期間中】個別事業'!$A$6,'11_PDCAチェックシート【実施期間中】個別事業'!$A$28,MATCH($C775,'11_PDCAチェックシート【実施期間中】個別事業'!$H$4:$V$4,0)+6)","v":""},null,null,"（本）"]
[null,null,null,null,null,"放送回数",null,null,{"$f":"OFFSET('11_PDCAチェックシート【実施期間中】個別事業'!$A$6,'11_PDCAチェックシート【実施期間中】個別事業'!$A$29,MATCH($C775,'11_PDCAチェックシート【実施期間中】個別事業'!$H$4:$V$4,0)+6)","v":""},null,null,"（回）",null,null,null,"※再放送を含む"]
[null,null,null,null,null,"備考",null,null,{"$f":"OFFSET('11_PDCAチェックシート【実施期間中】個別事業'!$A$6,'11_PDCAチェックシート【実施期間中】個別事業'!$A$30,MATCH($C775,'11_PDCAチェックシート【実施期間中】個別事業'!$H$4:$V$4,0)+6)","v":""},null,null,{"$f":"OFFSET('11_PDCAチェックシート【実施期間中】個別事業'!$A$6,'11_PDCAチェックシート【実施期間中】個別事業'!#REF!,MATCH($C782,'11_PDCAチェックシート【実施期間中】個別事業'!$H$4:$V$4,0)+6)","v":{"$error":"#REF!"}},null,null,{"$f":"OFFSET('11_PDCAチェックシート【実施期間中】個別事業'!$A$6,'11_PDCAチェックシート【実施期間中】個別事業'!#REF!,MATCH($C782,'11_PDCAチェックシート【実施期間中】個別事業'!$H$4:$V$4,0)+6)","v":{"$error":"#REF!"}},null,null,{"$f":"OFFSET('11_PDCAチェックシート【実施期間中】個別事業'!$A$6,'11_PDCAチェックシート【実施期間中】個別事業'!#REF!,MATCH($C782,'11_PDCAチェックシート【実施期間中】個別事業'!$H$4:$V$4,0)+6)","v":{"$error":"#REF!"}},null,null,{"$f":"OFFSET('11_PDCAチェックシート【実施期間中】個別事業'!$A$6,'11_PDCAチェックシート【実施期間中】個別事業'!#REF!,MATCH($C782,'11_PDCAチェックシート【実施期間中】個別事業'!$H$4:$V$4,0)+6)","v":{"$error":"#REF!"}},null,null,{"$f":"OFFSET('11_PDCAチェックシート【実施期間中】個別事業'!$A$6,'11_PDCAチェックシート【実施期間中】個別事業'!#REF!,MATCH($C782,'11_PDCAチェックシート【実施期間中】個別事業'!$H$4:$V$4,0)+6)","v":{"$error":"#REF!"}}]
[null,null,"実施期間",null,{"$f":"OFFSET('11_PDCAチェックシート【実施期間中】個別事業'!$A$6,'11_PDCAチェックシート【実施期間中】個別事業'!$A$31,MATCH($C775,'11_PDCAチェックシート【実施期間中】個別事業'!$H$4:$V$4,0)+6)","v":""},null,null,null,null,null,null,null,null,"～",null,null,null,{"$f":"OFFSET('11_PDCAチェックシート【実施期間中】個別事業'!$A$6,'11_PDCAチェックシート【実施期間中】個別事業'!$A$33,MATCH($C775,'11_PDCAチェックシート【実施期間中】個別事業'!$H$4:$V$4,0)+6)","v":""}]
[null,null,"放送時間、その他備考",null,{"$f":"OFFSET('11_PDCAチェックシート【実施期間中】個別事業'!$A$6,'11_PDCAチェックシート【実施期間中】個別事業'!$A$34,MATCH($C775,'11_PDCAチェックシート【実施期間中】個別事業'!$H$4:$V$4,0)+6)","v":""}]
[null,null,"実施日\n（※同一事業内で、\n同一の内容・場所において\n複数日実施する場合）",null,1,null,{"$f":"OFFSET('11_PDCAチェックシート【実施期間中】個別事業'!$A$6,'11_PDCAチェックシート【実施期間中】個別事業'!$A$35,MATCH($C775,'11_PDCAチェックシート【実施期間中】個別事業'!$H$4:$V$4,0)+6)","v":""},null,null,null,null,null,null,null,null,11,null,{"$f":"OFFSET('11_PDCAチェックシート【実施期間中】個別事業'!$A$6,'11_PDCAチェックシート【実施期間中】個別事業'!$A$45,MATCH($C775,'11_PDCAチェックシート【実施期間中】個別事業'!$H$4:$V$4,0)+6)","v":""}]
[null,null,null,null,2,null,{"$f":"OFFSET('11_PDCAチェックシート【実施期間中】個別事業'!$A$6,'11_PDCAチェックシート【実施期間中】個別事業'!$A$36,MATCH($C775,'11_PDCAチェックシート【実施期間中】個別事業'!$H$4:$V$4,0)+6)","v":""},null,null,null,null,null,null,null,null,12,null,{"$f":"OFFSET('11_PDCAチェックシート【実施期間中】個別事業'!$A$6,'11_PDCAチェックシート【実施期間中】個別事業'!$A$46,MATCH($C775,'11_PDCAチェックシート【実施期間中】個別事業'!$H$4:$V$4,0)+6)","v":""}]
[null,null,null,null,3,null,{"$f":"OFFSET('11_PDCAチェックシート【実施期間中】個別事業'!$A$6,'11_PDCAチェックシート【実施期間中】個別事業'!$A$37,MATCH($C775,'11_PDCAチェックシート【実施期間中】個別事業'!$H$4:$V$4,0)+6)","v":""},null,null,null,null,null,null,null,null,13,null,{"$f":"OFFSET('11_PDCAチェックシート【実施期間中】個別事業'!$A$6,'11_PDCAチェックシート【実施期間中】個別事業'!$A$47,MATCH($C775,'11_PDCAチェックシート【実施期間中】個別事業'!$H$4:$V$4,0)+6)","v":""}]
[null,null,null,null,4,null,{"$f":"OFFSET('11_PDCAチェックシート【実施期間中】個別事業'!$A$6,'11_PDCAチェックシート【実施期間中】個別事業'!$A$38,MATCH($C775,'11_PDCAチェックシート【実施期間中】個別事業'!$H$4:$V$4,0)+6)","v":""},null,null,null,null,null,null,null,null,14,null,{"$f":"OFFSET('11_PDCAチェックシート【実施期間中】個別事業'!$A$6,'11_PDCAチェックシート【実施期間中】個別事業'!$A$48,MATCH($C775,'11_PDCAチェックシート【実施期間中】個別事業'!$H$4:$V$4,0)+6)","v":""}]
[null,null,null,null,5,null,{"$f":"OFFSET('11_PDCAチェックシート【実施期間中】個別事業'!$A$6,'11_PDCAチェックシート【実施期間中】個別事業'!$A$39,MATCH($C775,'11_PDCAチェックシート【実施期間中】個別事業'!$H$4:$V$4,0)+6)","v":""},null,null,null,null,null,null,null,null,15,null,{"$f":"OFFSET('11_PDCAチェックシート【実施期間中】個別事業'!$A$6,'11_PDCAチェックシート【実施期間中】個別事業'!$A$49,MATCH($C775,'11_PDCAチェックシート【実施期間中】個別事業'!$H$4:$V$4,0)+6)","v":""}]
[null,null,null,null,6,null,{"$f":"OFFSET('11_PDCAチェックシート【実施期間中】個別事業'!$A$6,'11_PDCAチェックシート【実施期間中】個別事業'!$A$40,MATCH($C775,'11_PDCAチェックシート【実施期間中】個別事業'!$H$4:$V$4,0)+6)","v":""},null,null,null,null,null,null,null,null,16,null,{"$f":"OFFSET('11_PDCAチェックシート【実施期間中】個別事業'!$A$6,'11_PDCAチェックシート【実施期間中】個別事業'!$A$50,MATCH($C775,'11_PDCAチェックシート【実施期間中】個別事業'!$H$4:$V$4,0)+6)","v":""}]
[null,null,null,null,7,null,{"$f":"OFFSET('11_PDCAチェックシート【実施期間中】個別事業'!$A$6,'11_PDCAチェックシート【実施期間中】個別事業'!$A$41,MATCH($C775,'11_PDCAチェックシート【実施期間中】個別事業'!$H$4:$V$4,0)+6)","v":""},null,null,null,null,null,null,null,null,17,null,{"$f":"OFFSET('11_PDCAチェックシート【実施期間中】個別事業'!$A$6,'11_PDCAチェックシート【実施期間中】個別事業'!$A$51,MATCH($C775,'11_PDCAチェックシート【実施期間中】個別事業'!$H$4:$V$4,0)+6)","v":""}]
[null,null,null,null,8,null,{"$f":"OFFSET('11_PDCAチェックシート【実施期間中】個別事業'!$A$6,'11_PDCAチェックシート【実施期間中】個別事業'!$A$42,MATCH($C775,'11_PDCAチェックシート【実施期間中】個別事業'!$H$4:$V$4,0)+6)","v":""},null,null,null,null,null,null,null,null,18,null,{"$f":"OFFSET('11_PDCAチェックシート【実施期間中】個別事業'!$A$6,'11_PDCAチェックシート【実施期間中】個別事業'!$A$52,MATCH($C775,'11_PDCAチェックシート【実施期間中】個別事業'!$H$4:$V$4,0)+6)","v":""}]
[null,null,null,null,9,null,{"$f":"OFFSET('11_PDCAチェックシート【実施期間中】個別事業'!$A$6,'11_PDCAチェックシート【実施期間中】個別事業'!$A$43,MATCH($C775,'11_PDCAチェックシート【実施期間中】個別事業'!$H$4:$V$4,0)+6)","v":""},null,null,null,null,null,null,null,null,19,null,{"$f":"OFFSET('11_PDCAチェックシート【実施期間中】個別事業'!$A$6,'11_PDCAチェックシート【実施期間中】個別事業'!$A$53,MATCH($C775,'11_PDCAチェックシート【実施期間中】個別事業'!$H$4:$V$4,0)+6)","v":""}]
[null,null,null,null,10,null,{"$f":"OFFSET('11_PDCAチェックシート【実施期間中】個別事業'!$A$6,'11_PDCAチェックシート【実施期間中】個別事業'!$A$44,MATCH($C775,'11_PDCAチェックシート【実施期間中】個別事業'!$H$4:$V$4,0)+6)","v":""},null,null,null,null,null,null,null,null,20,null,{"$f":"OFFSET('11_PDCAチェックシート【実施期間中】個別事業'!$A$6,'11_PDCAチェックシート【実施期間中】個別事業'!$A$54,MATCH($C775,'11_PDCAチェックシート【実施期間中】個別事業'!$H$4:$V$4,0)+6)","v":""}]
[null,null,"事業の概要",null,{"$f":"OFFSET('11_PDCAチェックシート【実施期間中】個別事業'!$A$6,'11_PDCAチェックシート【実施期間中】個別事業'!$A$55,MATCH($C775,'11_PDCAチェックシート【実施期間中】個別事業'!$H$4:$V$4,0)+6)","v":""}]
[null,null,"地域団体との連携\n※地方公共団体を含む",null,{"$f":"'2_別紙1-2_実施計画書'!E819","v":0}]
[null,null,"実施結果",null,{"$f":"OFFSET('11_PDCAチェックシート【実施期間中】個別事業'!$A$6,'11_PDCAチェックシート【実施期間中】個別事業'!$A$57,MATCH($C775,'11_PDCAチェックシート【実施期間中】個別事業'!$H$4:$V$4,0)+6)","v":0}]
[]
[null,null,"主な訴求対象","計画",{"$f":"OFFSET('11_PDCAチェックシート【実施期間中】個別事業'!$A$6,'11_PDCAチェックシート【実施期間中】個別事業'!$A$58,MATCH($C775,'11_PDCAチェックシート【実施期間中】個別事業'!$H$4:$V$4,0)+6)","v":""}]
[null,null,null,"結果",{"$f":"OFFSET('11_PDCAチェックシート【実施期間中】個別事業'!$A$6,'11_PDCAチェックシート【実施期間中】個別事業'!$A$59,MATCH($C775,'11_PDCAチェックシート【実施期間中】個別事業'!$H$4:$V$4,0)+6)","v":0}]
[null,null,"規模（リーチ数）\n（想定及び実績）",null,"カテゴリ①（プルダウン選択）⇒",null,null,null,null,null,null,null,null,null,null,{"$f":"OFFSET('11_PDCAチェックシート【実施期間中】個別事業'!$A$6,'11_PDCAチェックシート【実施期間中】個別事業'!$A$60,MATCH($C775,'11_PDCAチェックシート【実施期間中】個別事業'!$H$4:$V$4,0)+6)","v":"聴取人口（番組・CM単位であれば）"}]
[null,null,null,null,"計画値",null,null,null,"計",null,{"$f":"'2_別紙1-2_実施計画書'!K825","v":0}]
[null,null,null,null,"実績値",null,null,null,"計",null,{"$f":"OFFSET('11_PDCAチェックシート【実施期間中】個別事業'!$A$6,'11_PDCAチェックシート【実施期間中】個別事業'!$A$63,MATCH($C775,'11_PDCAチェックシート【実施期間中】個別事業'!$H$4:$V$4,0)+6)","v":0}]
[null,null,null,null,"算出根拠",null,null,null,{"$f":"OFFSET('11_PDCAチェックシート【実施期間中】個別事業'!$A$6,'11_PDCAチェックシート【実施期間中】個別事業'!$A$64,MATCH($C775,'11_PDCAチェックシート【実施期間中】個別事業'!$H$4:$V$4,0)+6)","v":""}]
[null,null,null,null,"カテゴリ②（プルダウン選択）⇒",null,null,null,null,null,null,null,null,null,null,{"$f":"OFFSET('11_PDCAチェックシート【実施期間中】個別事業'!$A$6,'11_PDCAチェックシート【実施期間中】個別事業'!$A$65,MATCH($C775,'11_PDCAチェックシート【実施期間中】個別事業'!$H$4:$V$4,0)+6)","v":""}]
[null,null,null,null,"計画値",null,null,null,"計",null,{"$f":"'2_別紙1-2_実施計画書'!K829","v":0}]
[null,null,null,null,"実績値",null,null,null,"計",null,{"$f":"OFFSET('11_PDCAチェックシート【実施期間中】個別事業'!$A$6,'11_PDCAチェックシート【実施期間中】個別事業'!$A$68,MATCH($C775,'11_PDCAチェックシート【実施期間中】個別事業'!$H$4:$V$4,0)+6)","v":0}]
[null,null,null,null,"算出根拠",null,null,null,{"$f":"OFFSET('11_PDCAチェックシート【実施期間中】個別事業'!$A$6,'11_PDCAチェックシート【実施期間中】個別事業'!$A$69,MATCH($C775,'11_PDCAチェックシート【実施期間中】個別事業'!$H$4:$V$4,0)+6)","v":""}]
[null,null,"COOL CHOICE 賛同数\n（想定及び実績）",null,"計画値",null,null,null,"団体",null,{"$f":"OFFSET('11_PDCAチェックシート【実施期間中】個別事業'!$A$6,'11_PDCAチェックシート【実施期間中】個別事業'!$A$71,MATCH($C775,'11_PDCAチェックシート【実施期間中】個別事業'!$H$4:$V$4,0)+6)","v":0},null,null,null,null,"、個人",null,{"$f":"OFFSET('11_PDCAチェックシート【実施期間中】個別事業'!$A$6,'11_PDCAチェックシート【実施期間中】個別事業'!$A$74,MATCH($C775,'11_PDCAチェックシート【実施期間中】個別事業'!$H$4:$V$4,0)+6)","v":0}]
[null,null,null,null,"実績値",null,null,null,"団体",null,{"$f":"OFFSET('11_PDCAチェックシート【実施期間中】個別事業'!$A$6,'11_PDCAチェックシート【実施期間中】個別事業'!$A$72,MATCH($C775,'11_PDCAチェックシート【実施期間中】個別事業'!$H$4:$V$4,0)+6)","v":0},null,null,null,null,"、個人",null,{"$f":"OFFSET('11_PDCAチェックシート【実施期間中】個別事業'!$A$6,'11_PDCAチェックシート【実施期間中】個別事業'!$A$75,MATCH($C775,'11_PDCAチェックシート【実施期間中】個別事業'!$H$4:$V$4,0)+6)","v":0}]
[null,null,"効果検証\n（アンケート）予定",null,"※アンケートの実施予定をプルダウンより選択してください。"]
[null,null,null,null,"公募要領に規定のアンケート",null,null,null,null,null,null,null,null,null,null,null,null,null,null,null,null,"貴事業者独自のアンケート"]
[null,null,null,null,"省エネ機器",null,null,null,"省エネ住宅",null,null,null,"エコドライブ",null,null,null,"低炭素物流（宅配便の再配達防止）"]
[null,null,null,null,{"$f":"OFFSET('11_PDCAチェックシート【実施期間中】個別事業'!$A$6,'11_PDCAチェックシート【実施期間中】個別事業'!$A$76,MATCH($C775,'11_PDCAチェックシート【実施期間中】個別事業'!$H$4:$V$4,0)+6)","v":"- 選択 -"},null,null,null,{"$f":"OFFSET('11_PDCAチェックシート【実施期間中】個別事業'!$A$6,'11_PDCAチェックシート【実施期間中】個別事業'!$A$77,MATCH($C775,'11_PDCAチェックシート【実施期間中】個別事業'!$H$4:$V$4,0)+6)","v":"- 選択 -"},null,null,null,{"$f":"OFFSET('11_PDCAチェックシート【実施期間中】個別事業'!$A$6,'11_PDCAチェックシート【実施期間中】個別事業'!$A$78,MATCH($C775,'11_PDCAチェックシート【実施期間中】個別事業'!$H$4:$V$4,0)+6)","v":"- 選択 -"},null,null,null,{"$f":"OFFSET('11_PDCAチェックシート【実施期間中】個別事業'!$A$6,'11_PDCAチェックシート【実施期間中】個別事業'!$A$79,MATCH($C775,'11_PDCAチェックシート【実施期間中】個別事業'!$H$4:$V$4,0)+6)","v":"- 選択 -"},null,null,null,null,{"$f":"OFFSET('11_PDCAチェックシート【実施期間中】個別事業'!$A$6,'11_PDCAチェックシート【実施期間中】個別事業'!$A$80,MATCH($C775,'11_PDCAチェックシート【実施期間中】個別事業'!$H$4:$V$4,0)+6)","v":"- 選択 -"}]
[null,null,null,null,"内容（",null,{"$f":"OFFSET('11_PDCAチェックシート【実施期間中】個別事業'!$A$6,'11_PDCAチェックシート【実施期間中】個別事業'!$A$81,MATCH($C775,'11_PDCAチェックシート【実施期間中】個別事業'!$H$4:$V$4,0)+6)","v":""},null,null,null,null,null,null,null,null,null,null,null,null,null,null,null,null,null,null,"）"]
[null,null,null,null,"目標回収数",null,null,null,"計",{"$f":"OFFSET('11_PDCAチェックシート【実施期間中】個別事業'!$A$6,'11_PDCAチェックシート【実施期間中】個別事業'!$A$83,MATCH($C775,'11_PDCAチェックシート【実施期間中】個別事業'!$H$4:$V$4,0)+6)","v":0},null,null,"枚",null,"※複数ある場合は、平均アンケート回収数"]
[null,null,null,null,"実績値",null,null,null,"計",{"$f":"OFFSET('11_PDCAチェックシート【実施期間中】個別事業'!$A$6,'11_PDCAチェックシート【実施期間中】個別事業'!$A$84,MATCH($C775,'11_PDCAチェックシート【実施期間中】個別事業'!$H$4:$V$4,0)+6)","v":0},null,null,"枚",null,"※複数ある場合は、平均アンケート回収数"]
[]
[null,null,"項目",null,"内容"]
[null,null,"事業15","事業名\n（番組・CM名）",{"$f":"OFFSET('11_PDCAチェックシート【実施期間中】個別事業'!$A$6,,MATCH(C832,'11_PDCAチェックシート【実施期間中】個別事業'!$H$4:$V$4,0)+6)","v":0}]
[null,null,"普及啓発テーマ",null,"※該当する普及啓発テーマすべてをチェックしてください。"]
[null,null,null,null,"①",null,"②",null,"③",null,"④",null,"⑤",null,"⑥",null,"⑦",null,"⑧",null,"⑨",null,"⑩",null,"⑪",null,null,null,"①","②","③","④","⑤","⑥","⑦","⑧","⑨","⑩","⑪"]
[null,null,null,null,"省ｴﾈ機器",null,"省ｴﾈ住宅",null,"ｴｺｶｰ",null,"ｸｰﾙﾋﾞｽﾞ",null,"ｳｫｰﾑﾋﾞｽﾞ",null,"照明の\n高効率利用",null,"ｴｺﾄﾞﾗｲﾌﾞ",null,"ｶｰｼｪｱ",null,"公共交通\n機関の利用",null,"再配達防止",null,"シェアエコ",null,null,null,"省ｴﾈ機器","省ｴﾈ住宅","ｴｺｶｰ","ｸｰﾙﾋﾞｽﾞ","ｳｫｰﾑﾋﾞｽﾞ","照明の\n高効率利用","ｴｺﾄﾞﾗｲﾌﾞ","ｶｰｼｪｱ","公共交通\n機関の利用","再配達防止","シェアエコ"]
[null,null,null,null,null,null,null,null,null,null,null,null,null,null,null,null,null,null,null,null,null,null,null,null,null,null,null,null,{"$f":"IF(COUNTIFS('11_PDCAチェックシート【実施期間中】個別事業'!$E$7:$E$17,'7_別紙1-2_実施報告書'!AC834,OFFSET('11_PDCAチェックシート【実施期間中】個別事業'!$F$7,,MATCH('7_別紙1-2_実施報告書'!$C832,'11_PDCAチェックシート【実施期間中】個別事業'!$H$4:$V$4,0)+1,11,1),1),1,0)","v":0},false,{"$f":"IF(COUNTIFS('11_PDCAチェックシート【実施期間中】個別事業'!$E$7:$E$17,'7_別紙1-2_実施報告書'!AE834,OFFSET('11_PDCAチェックシート【実施期間中】個別事業'!$F$7,,MATCH('7_別紙1-2_実施報告書'!$C832,'11_PDCAチェックシート【実施期間中】個別事業'!$H$4:$V$4,0)+1,11,1),1),1,0)","v":0},{"$f":"IF(COUNTIFS('11_PDCAチェックシート【実施期間中】個別事業'!$E$7:$E$17,'7_別紙1-2_実施報告書'!AF834,OFFSET('11_PDCAチェックシート【実施期間中】個別事業'!$F$7,,MATCH('7_別紙1-2_実施報告書'!$C832,'11_PDCAチェックシート【実施期間中】個別事業'!$H$4:$V$4,0)+1,11,1),1),1,0)","v":0},{"$f":"IF(COUNTIFS('11_PDCAチェックシート【実施期間中】個別事業'!$E$7:$E$17,'7_別紙1-2_実施報告書'!AG834,OFFSET('11_PDCAチェックシート【実施期間中】個別事業'!$F$7,,MATCH('7_別紙1-2_実施報告書'!$C832,'11_PDCAチェックシート【実施期間中】個別事業'!$H$4:$V$4,0)+1,11,1),1),1,0)","v":0},{"$f":"IF(COUNTIFS('11_PDCAチェックシート【実施期間中】個別事業'!$E$7:$E$17,'7_別紙1-2_実施報告書'!AH834,OFFSET('11_PDCAチェックシート【実施期間中】個別事業'!$F$7,,MATCH('7_別紙1-2_実施報告書'!$C832,'11_PDCAチェックシート【実施期間中】個別事業'!$H$4:$V$4,0)+1,11,1),1),1,0)","v":0},{"$f":"IF(COUNTIFS('11_PDCAチェックシート【実施期間中】個別事業'!$E$7:$E$17,'7_別紙1-2_実施報告書'!AI834,OFFSET('11_PDCAチェックシート【実施期間中】個別事業'!$F$7,,MATCH('7_別紙1-2_実施報告書'!$C832,'11_PDCAチェックシート【実施期間中】個別事業'!$H$4:$V$4,0)+1,11,1),1),1,0)","v":0},false,{"$f":"IF(COUNTIFS('11_PDCAチェックシート【実施期間中】個別事業'!$E$7:$E$17,'7_別紙1-2_実施報告書'!AK834,OFFSET('11_PDCAチェックシート【実施期間中】個別事業'!$F$7,,MATCH('7_別紙1-2_実施報告書'!$C832,'11_PDCAチェックシート【実施期間中】個別事業'!$H$4:$V$4,0)+1,11,1),1),1,0)","v":0},{"$f":"IF(COUNTIFS('11_PDCAチェックシート【実施期間中】個別事業'!$E$7:$E$17,'7_別紙1-2_実施報告書'!AL834,OFFSET('11_PDCAチェックシート【実施期間中】個別事業'!$F$7,,MATCH('7_別紙1-2_実施報告書'!$C832,'11_PDCAチェックシート【実施期間中】個別事業'!$H$4:$V$4,0)+1,11,1),1),1,0)","v":0},{"$f":"IF(COUNTIFS('11_PDCAチェックシート【実施期間中】個別事業'!$E$7:$E$17,'7_別紙1-2_実施報告書'!AM834,OFFSET('11_PDCAチェックシート【実施期間中】個別事業'!$F$7,,MATCH('7_別紙1-2_実施報告書'!$C832,'11_PDCAチェックシート【実施期間中】個別事業'!$H$4:$V$4,0)+1,11,1),1),1,0)","v":0},{"$f":"COUNTIFS(AC836:AM836,\"TRUE\")","v":0}]
[null,null,"訴求手法",null,"※訴求手法については、該当する欄にチェックしてください。"]
[null,null,null,null,"a) 情報発信型（受動型）",null,null,null,null,null,null,"b) 情報発信型（能動型）",null,null,null,null,null,null,"c) 双方向体験交流型"]
[null,null,null,null,"ラジオ、新聞・広報紙等",null,null,null,null,null,null,"講演会・パネル展示等",null,null,null,null,null,null,"試乗・体験会、省ｴﾈ診断等",null,null,null,null,null,null,null,null,null,"a)","b)","c)"]
[null,null,null,null,null,null,null,null,null,null,null,null,null,null,null,null,null,null,null,null,null,null,null,null,null,null,null,null,false,false,false,null,null,null,null,null,null,null,null,{"$f":"COUNTIFS(AC840:AM840,\"TRUE\")","v":0}]
[null,null,"情報発信カテゴリー\n（プルダウン選択）",null,{"$f":"OFFSET('11_PDCAチェックシート【実施期間中】個別事業'!$A$6,'11_PDCAチェックシート【実施期間中】個別事業'!$A$21,MATCH($C832,'11_PDCAチェックシート【実施期間中】個別事業'!$H$4:$V$4,0)+6)","v":"-"},null,null,null,null,null,null,null,null,null,null,{"$f":"IF(OFFSET('11_PDCAチェックシート【実施期間中】個別事業'!$A$6,'11_PDCAチェックシート【実施期間中】個別事業'!$A$22,MATCH($C832,'11_PDCAチェックシート【実施期間中】個別事業'!$H$4:$V$4,0)+6)=\"\",\"\",OFFSET('11_PDCAチェックシート【実施期間中】個別事業'!$A$6,'11_PDCAチェックシート【実施期間中】個別事業'!$A$22,MATCH($C832,'11_PDCAチェックシート【実施期間中】個別事業'!$H$4:$V$4,0)+6))","v":""}]
[]
[null,null,"尺・放送回数",null,"※収録本数、放送回数を定量的に必ず記載のこと"]
[null,null,null,null,"①","尺",null,null,{"$f":"OFFSET('11_PDCAチェックシート【実施期間中】個別事業'!$A$6,'11_PDCAチェックシート【実施期間中】個別事業'!$A$23,MATCH($C832,'11_PDCAチェックシート【実施期間中】個別事業'!$H$4:$V$4,0)+6)","v":""},null,null,"（秒）",null,null,null,"※単位はプルダウン選択"]
[null,null,null,null,null,"収録本数",null,null,{"$f":"OFFSET('11_PDCAチェックシート【実施期間中】個別事業'!$A$6,'11_PDCAチェックシート【実施期間中】個別事業'!$A$24,MATCH($C832,'11_PDCAチェックシート【実施期間中】個別事業'!$H$4:$V$4,0)+6)","v":""},null,null,"（本）"]
[null,null,null,null,null,"放送回数",null,null,{"$f":"OFFSET('11_PDCAチェックシート【実施期間中】個別事業'!$A$6,'11_PDCAチェックシート【実施期間中】個別事業'!$A$25,MATCH($C832,'11_PDCAチェックシート【実施期間中】個別事業'!$H$4:$V$4,0)+6)","v":""},null,null,"（回）",null,null,null,"※再放送を含む"]
[null,null,null,null,null,"備考",null,null,{"$f":"OFFSET('11_PDCAチェックシート【実施期間中】個別事業'!$A$6,'11_PDCAチェックシート【実施期間中】個別事業'!$A$26,MATCH($C832,'11_PDCAチェックシート【実施期間中】個別事業'!$H$4:$V$4,0)+6)","v":""},null,null,{"$f":"OFFSET('11_PDCAチェックシート【実施期間中】個別事業'!$A$6,'11_PDCAチェックシート【実施期間中】個別事業'!#REF!,MATCH($C835,'11_PDCAチェックシート【実施期間中】個別事業'!$H$4:$V$4,0)+6)","v":{"$error":"#REF!"}},null,null,{"$f":"OFFSET('11_PDCAチェックシート【実施期間中】個別事業'!$A$6,'11_PDCAチェックシート【実施期間中】個別事業'!#REF!,MATCH($C835,'11_PDCAチェックシート【実施期間中】個別事業'!$H$4:$V$4,0)+6)","v":{"$error":"#REF!"}},null,null,{"$f":"OFFSET('11_PDCAチェックシート【実施期間中】個別事業'!$A$6,'11_PDCAチェックシート【実施期間中】個別事業'!#REF!,MATCH($C835,'11_PDCAチェックシート【実施期間中】個別事業'!$H$4:$V$4,0)+6)","v":{"$error":"#REF!"}},null,null,{"$f":"OFFSET('11_PDCAチェックシート【実施期間中】個別事業'!$A$6,'11_PDCAチェックシート【実施期間中】個別事業'!#REF!,MATCH($C835,'11_PDCAチェックシート【実施期間中】個別事業'!$H$4:$V$4,0)+6)","v":{"$error":"#REF!"}},null,null,{"$f":"OFFSET('11_PDCAチェックシート【実施期間中】個別事業'!$A$6,'11_PDCAチェックシート【実施期間中】個別事業'!#REF!,MATCH($C835,'11_PDCAチェックシート【実施期間中】個別事業'!$H$4:$V$4,0)+6)","v":{"$error":"#REF!"}}]
[null,null,null,null,"②","尺",null,null,{"$f":"OFFSET('11_PDCAチェックシート【実施期間中】個別事業'!$A$6,'11_PDCAチェックシート【実施期間中】個別事業'!$A$27,MATCH($C832,'11_PDCAチェックシート【実施期間中】個別事業'!$H$4:$V$4,0)+6)","v":""},null,null,"（秒）",null,null,null,"※単位はプルダウン選択"]
[null,null,null,null,null,"収録本数",null,null,{"$f":"OFFSET('11_PDCAチェックシート【実施期間中】個別事業'!$A$6,'11_PDCAチェックシート【実施期間中】個別事業'!$A$28,MATCH($C832,'11_PDCAチェックシート【実施期間中】個別事業'!$H$4:$V$4,0)+6)","v":""},null,null,"（本）"]
[null,null,null,null,null,"放送回数",null,null,{"$f":"OFFSET('11_PDCAチェックシート【実施期間中】個別事業'!$A$6,'11_PDCAチェックシート【実施期間中】個別事業'!$A$29,MATCH($C832,'11_PDCAチェックシート【実施期間中】個別事業'!$H$4:$V$4,0)+6)","v":""},null,null,"（回）",null,null,null,"※再放送を含む"]
[null,null,null,null,null,"備考",null,null,{"$f":"OFFSET('11_PDCAチェックシート【実施期間中】個別事業'!$A$6,'11_PDCAチェックシート【実施期間中】個別事業'!$A$30,MATCH($C832,'11_PDCAチェックシート【実施期間中】個別事業'!$H$4:$V$4,0)+6)","v":""},null,null,{"$f":"OFFSET('11_PDCAチェックシート【実施期間中】個別事業'!$A$6,'11_PDCAチェックシート【実施期間中】個別事業'!#REF!,MATCH($C839,'11_PDCAチェックシート【実施期間中】個別事業'!$H$4:$V$4,0)+6)","v":{"$error":"#REF!"}},null,null,{"$f":"OFFSET('11_PDCAチェックシート【実施期間中】個別事業'!$A$6,'11_PDCAチェックシート【実施期間中】個別事業'!#REF!,MATCH($C839,'11_PDCAチェックシート【実施期間中】個別事業'!$H$4:$V$4,0)+6)","v":{"$error":"#REF!"}},null,null,{"$f":"OFFSET('11_PDCAチェックシート【実施期間中】個別事業'!$A$6,'11_PDCAチェックシート【実施期間中】個別事業'!#REF!,MATCH($C839,'11_PDCAチェックシート【実施期間中】個別事業'!$H$4:$V$4,0)+6)","v":{"$error":"#REF!"}},null,null,{"$f":"OFFSET('11_PDCAチェックシート【実施期間中】個別事業'!$A$6,'11_PDCAチェックシート【実施期間中】個別事業'!#REF!,MATCH($C839,'11_PDCAチェックシート【実施期間中】個別事業'!$H$4:$V$4,0)+6)","v":{"$error":"#REF!"}},null,null,{"$f":"OFFSET('11_PDCAチェックシート【実施期間中】個別事業'!$A$6,'11_PDCAチェックシート【実施期間中】個別事業'!#REF!,MATCH($C839,'11_PDCAチェックシート【実施期間中】個別事業'!$H$4:$V$4,0)+6)","v":{"$error":"#REF!"}}]
[null,null,"実施期間",null,{"$f":"OFFSET('11_PDCAチェックシート【実施期間中】個別事業'!$A$6,'11_PDCAチェックシート【実施期間中】個別事業'!$A$31,MATCH($C832,'11_PDCAチェックシート【実施期間中】個別事業'!$H$4:$V$4,0)+6)","v":""},null,null,null,null,null,null,null,null,"～",null,null,null,{"$f":"OFFSET('11_PDCAチェックシート【実施期間中】個別事業'!$A$6,'11_PDCAチェックシート【実施期間中】個別事業'!$A$33,MATCH($C832,'11_PDCAチェックシート【実施期間中】個別事業'!$H$4:$V$4,0)+6)","v":""}]
[null,null,"放送時間、その他備考",null,{"$f":"OFFSET('11_PDCAチェックシート【実施期間中】個別事業'!$A$6,'11_PDCAチェックシート【実施期間中】個別事業'!$A$34,MATCH($C832,'11_PDCAチェックシート【実施期間中】個別事業'!$H$4:$V$4,0)+6)","v":""}]
[null,null,"実施日\n（※同一事業内で、\n同一の内容・場所において\n複数日実施する場合）",null,1,null,{"$f":"OFFSET('11_PDCAチェックシート【実施期間中】個別事業'!$A$6,'11_PDCAチェックシート【実施期間中】個別事業'!$A$35,MATCH($C832,'11_PDCAチェックシート【実施期間中】個別事業'!$H$4:$V$4,0)+6)","v":""},null,null,null,null,null,null,null,null,11,null,{"$f":"OFFSET('11_PDCAチェックシート【実施期間中】個別事業'!$A$6,'11_PDCAチェックシート【実施期間中】個別事業'!$A$45,MATCH($C832,'11_PDCAチェックシート【実施期間中】個別事業'!$H$4:$V$4,0)+6)","v":""}]
[null,null,null,null,2,null,{"$f":"OFFSET('11_PDCAチェックシート【実施期間中】個別事業'!$A$6,'11_PDCAチェックシート【実施期間中】個別事業'!$A$36,MATCH($C832,'11_PDCAチェックシート【実施期間中】個別事業'!$H$4:$V$4,0)+6)","v":""},null,null,null,null,null,null,null,null,12,null,{"$f":"OFFSET('11_PDCAチェックシート【実施期間中】個別事業'!$A$6,'11_PDCAチェックシート【実施期間中】個別事業'!$A$46,MATCH($C832,'11_PDCAチェックシート【実施期間中】個別事業'!$H$4:$V$4,0)+6)","v":""}]
[null,null,null,null,3,null,{"$f":"OFFSET('11_PDCAチェックシート【実施期間中】個別事業'!$A$6,'11_PDCAチェックシート【実施期間中】個別事業'!$A$37,MATCH($C832,'11_PDCAチェックシート【実施期間中】個別事業'!$H$4:$V$4,0)+6)","v":""},null,null,null,null,null,null,null,null,13,null,{"$f":"OFFSET('11_PDCAチェックシート【実施期間中】個別事業'!$A$6,'11_PDCAチェックシート【実施期間中】個別事業'!$A$47,MATCH($C832,'11_PDCAチェックシート【実施期間中】個別事業'!$H$4:$V$4,0)+6)","v":""}]
[null,null,null,null,4,null,{"$f":"OFFSET('11_PDCAチェックシート【実施期間中】個別事業'!$A$6,'11_PDCAチェックシート【実施期間中】個別事業'!$A$38,MATCH($C832,'11_PDCAチェックシート【実施期間中】個別事業'!$H$4:$V$4,0)+6)","v":""},null,null,null,null,null,null,null,null,14,null,{"$f":"OFFSET('11_PDCAチェックシート【実施期間中】個別事業'!$A$6,'11_PDCAチェックシート【実施期間中】個別事業'!$A$48,MATCH($C832,'11_PDCAチェックシート【実施期間中】個別事業'!$H$4:$V$4,0)+6)","v":""}]
[null,null,null,null,5,null,{"$f":"OFFSET('11_PDCAチェックシート【実施期間中】個別事業'!$A$6,'11_PDCAチェックシート【実施期間中】個別事業'!$A$39,MATCH($C832,'11_PDCAチェックシート【実施期間中】個別事業'!$H$4:$V$4,0)+6)","v":""},null,null,null,null,null,null,null,null,15,null,{"$f":"OFFSET('11_PDCAチェックシート【実施期間中】個別事業'!$A$6,'11_PDCAチェックシート【実施期間中】個別事業'!$A$49,MATCH($C832,'11_PDCAチェックシート【実施期間中】個別事業'!$H$4:$V$4,0)+6)","v":""}]
[null,null,null,null,6,null,{"$f":"OFFSET('11_PDCAチェックシート【実施期間中】個別事業'!$A$6,'11_PDCAチェックシート【実施期間中】個別事業'!$A$40,MATCH($C832,'11_PDCAチェックシート【実施期間中】個別事業'!$H$4:$V$4,0)+6)","v":""},null,null,null,null,null,null,null,null,16,null,{"$f":"OFFSET('11_PDCAチェックシート【実施期間中】個別事業'!$A$6,'11_PDCAチェックシート【実施期間中】個別事業'!$A$50,MATCH($C832,'11_PDCAチェックシート【実施期間中】個別事業'!$H$4:$V$4,0)+6)","v":""}]
[null,null,null,null,7,null,{"$f":"OFFSET('11_PDCAチェックシート【実施期間中】個別事業'!$A$6,'11_PDCAチェックシート【実施期間中】個別事業'!$A$41,MATCH($C832,'11_PDCAチェックシート【実施期間中】個別事業'!$H$4:$V$4,0)+6)","v":""},null,null,null,null,null,null,null,null,17,null,{"$f":"OFFSET('11_PDCAチェックシート【実施期間中】個別事業'!$A$6,'11_PDCAチェックシート【実施期間中】個別事業'!$A$51,MATCH($C832,'11_PDCAチェックシート【実施期間中】個別事業'!$H$4:$V$4,0)+6)","v":""}]
[null,null,null,null,8,null,{"$f":"OFFSET('11_PDCAチェックシート【実施期間中】個別事業'!$A$6,'11_PDCAチェックシート【実施期間中】個別事業'!$A$42,MATCH($C832,'11_PDCAチェックシート【実施期間中】個別事業'!$H$4:$V$4,0)+6)","v":""},null,null,null,null,null,null,null,null,18,null,{"$f":"OFFSET('11_PDCAチェックシート【実施期間中】個別事業'!$A$6,'11_PDCAチェックシート【実施期間中】個別事業'!$A$52,MATCH($C832,'11_PDCAチェックシート【実施期間中】個別事業'!$H$4:$V$4,0)+6)","v":""}]
[null,null,null,null,9,null,{"$f":"OFFSET('11_PDCAチェックシート【実施期間中】個別事業'!$A$6,'11_PDCAチェックシート【実施期間中】個別事業'!$A$43,MATCH($C832,'11_PDCAチェックシート【実施期間中】個別事業'!$H$4:$V$4,0)+6)","v":""},null,null,null,null,null,null,null,null,19,null,{"$f":"OFFSET('11_PDCAチェックシート【実施期間中】個別事業'!$A$6,'11_PDCAチェックシート【実施期間中】個別事業'!$A$53,MATCH($C832,'11_PDCAチェックシート【実施期間中】個別事業'!$H$4:$V$4,0)+6)","v":""}]
[null,null,null,null,10,null,{"$f":"OFFSET('11_PDCAチェックシート【実施期間中】個別事業'!$A$6,'11_PDCAチェックシート【実施期間中】個別事業'!$A$44,MATCH($C832,'11_PDCAチェックシート【実施期間中】個別事業'!$H$4:$V$4,0)+6)","v":""},null,null,null,null,null,null,null,null,20,null,{"$f":"OFFSET('11_PDCAチェックシート【実施期間中】個別事業'!$A$6,'11_PDCAチェックシート【実施期間中】個別事業'!$A$54,MATCH($C832,'11_PDCAチェックシート【実施期間中】個別事業'!$H$4:$V$4,0)+6)","v":""}]
[null,null,"事業の概要",null,{"$f":"OFFSET('11_PDCAチェックシート【実施期間中】個別事業'!$A$6,'11_PDCAチェックシート【実施期間中】個別事業'!$A$55,MATCH($C832,'11_PDCAチェックシート【実施期間中】個別事業'!$H$4:$V$4,0)+6)","v":""}]
[null,null,"地域団体との連携\n※地方公共団体を含む",null,{"$f":"'2_別紙1-2_実施計画書'!E875","v":0}]
[null,null,"実施結果",null,{"$f":"OFFSET('11_PDCAチェックシート【実施期間中】個別事業'!$A$6,'11_PDCAチェックシート【実施期間中】個別事業'!$A$57,MATCH($C832,'11_PDCAチェックシート【実施期間中】個別事業'!$H$4:$V$4,0)+6)","v":0}]
[]
[null,null,"主な訴求対象","計画",{"$f":"OFFSET('11_PDCAチェックシート【実施期間中】個別事業'!$A$6,'11_PDCAチェックシート【実施期間中】個別事業'!$A$58,MATCH($C832,'11_PDCAチェックシート【実施期間中】個別事業'!$H$4:$V$4,0)+6)","v":""}]
[null,null,null,"結果",{"$f":"OFFSET('11_PDCAチェックシート【実施期間中】個別事業'!$A$6,'11_PDCAチェックシート【実施期間中】個別事業'!$A$59,MATCH($C832,'11_PDCAチェックシート【実施期間中】個別事業'!$H$4:$V$4,0)+6)","v":0}]
[null,null,"規模（リーチ数）\n（想定及び実績）",null,"カテゴリ①（プルダウン選択）⇒",null,null,null,null,null,null,null,null,null,null,{"$f":"OFFSET('11_PDCAチェックシート【実施期間中】個別事業'!$A$6,'11_PDCAチェックシート【実施期間中】個別事業'!$A$60,MATCH($C832,'11_PDCAチェックシート【実施期間中】個別事業'!$H$4:$V$4,0)+6)","v":"聴取人口（番組・CM単位であれば）"}]
[null,null,null,null,"計画値",null,null,null,"計",null,{"$f":"'2_別紙1-2_実施計画書'!K881","v":0}]
[null,null,null,null,"実績値",null,null,null,"計",null,{"$f":"OFFSET('11_PDCAチェックシート【実施期間中】個別事業'!$A$6,'11_PDCAチェックシート【実施期間中】個別事業'!$A$63,MATCH($C832,'11_PDCAチェックシート【実施期間中】個別事業'!$H$4:$V$4,0)+6)","v":0}]
[null,null,null,null,"算出根拠",null,null,null,{"$f":"OFFSET('11_PDCAチェックシート【実施期間中】個別事業'!$A$6,'11_PDCAチェックシート【実施期間中】個別事業'!$A$64,MATCH($C832,'11_PDCAチェックシート【実施期間中】個別事業'!$H$4:$V$4,0)+6)","v":""}]
[null,null,null,null,"カテゴリ②（プルダウン選択）⇒",null,null,null,null,null,null,null,null,null,null,{"$f":"OFFSET('11_PDCAチェックシート【実施期間中】個別事業'!$A$6,'11_PDCAチェックシート【実施期間中】個別事業'!$A$65,MATCH($C832,'11_PDCAチェックシート【実施期間中】個別事業'!$H$4:$V$4,0)+6)","v":""}]
[null,null,null,null,"計画値",null,null,null,"計",null,{"$f":"'2_別紙1-2_実施計画書'!K885","v":0}]
[null,null,null,null,"実績値",null,null,null,"計",null,{"$f":"OFFSET('11_PDCAチェックシート【実施期間中】個別事業'!$A$6,'11_PDCAチェックシート【実施期間中】個別事業'!$A$68,MATCH($C832,'11_PDCAチェックシート【実施期間中】個別事業'!$H$4:$V$4,0)+6)","v":0}]
[null,null,null,null,"算出根拠",null,null,null,{"$f":"OFFSET('11_PDCAチェックシート【実施期間中】個別事業'!$A$6,'11_PDCAチェックシート【実施期間中】個別事業'!$A$69,MATCH($C832,'11_PDCAチェックシート【実施期間中】個別事業'!$H$4:$V$4,0)+6)","v":""}]
[null,null,"COOL CHOICE 賛同数\n（想定及び実績）",null,"計画値",null,null,null,"団体",null,{"$f":"OFFSET('11_PDCAチェックシート【実施期間中】個別事業'!$A$6,'11_PDCAチェックシート【実施期間中】個別事業'!$A$71,MATCH($C832,'11_PDCAチェックシート【実施期間中】個別事業'!$H$4:$V$4,0)+6)","v":0},null,null,null,null,"、個人",null,{"$f":"OFFSET('11_PDCAチェックシート【実施期間中】個別事業'!$A$6,'11_PDCAチェックシート【実施期間中】個別事業'!$A$74,MATCH($C832,'11_PDCAチェックシート【実施期間中】個別事業'!$H$4:$V$4,0)+6)","v":0}]
[null,null,null,null,"実績値",null,null,null,"団体",null,{"$f":"OFFSET('11_PDCAチェックシート【実施期間中】個別事業'!$A$6,'11_PDCAチェックシート【実施期間中】個別事業'!$A$72,MATCH($C832,'11_PDCAチェックシート【実施期間中】個別事業'!$H$4:$V$4,0)+6)","v":0},null,null,null,null,"、個人",null,{"$f":"OFFSET('11_PDCAチェックシート【実施期間中】個別事業'!$A$6,'11_PDCAチェックシート【実施期間中】個別事業'!$A$75,MATCH($C832,'11_PDCAチェックシート【実施期間中】個別事業'!$H$4:$V$4,0)+6)","v":0}]
[null,null,"効果検証\n（アンケート）予定",null,"※アンケートの実施予定をプルダウンより選択してください。"]
[null,null,null,null,"公募要領に規定のアンケート",null,null,null,null,null,null,null,null,null,null,null,null,null,null,null,null,"貴事業者独自のアンケート"]
[null,null,null,null,"省エネ機器",null,null,null,"省エネ住宅",null,null,null,"エコドライブ",null,null,null,"低炭素物流（宅配便の再配達防止）"]
[null,null,null,null,{"$f":"OFFSET('11_PDCAチェックシート【実施期間中】個別事業'!$A$6,'11_PDCAチェックシート【実施期間中】個別事業'!$A$76,MATCH($C832,'11_PDCAチェックシート【実施期間中】個別事業'!$H$4:$V$4,0)+6)","v":"- 選択 -"},null,null,null,{"$f":"OFFSET('11_PDCAチェックシート【実施期間中】個別事業'!$A$6,'11_PDCAチェックシート【実施期間中】個別事業'!$A$77,MATCH($C832,'11_PDCAチェックシート【実施期間中】個別事業'!$H$4:$V$4,0)+6)","v":"- 選択 -"},null,null,null,{"$f":"OFFSET('11_PDCAチェックシート【実施期間中】個別事業'!$A$6,'11_PDCAチェックシート【実施期間中】個別事業'!$A$78,MATCH($C832,'11_PDCAチェックシート【実施期間中】個別事業'!$H$4:$V$4,0)+6)","v":"- 選択 -"},null,null,null,{"$f":"OFFSET('11_PDCAチェックシート【実施期間中】個別事業'!$A$6,'11_PDCAチェックシート【実施期間中】個別事業'!$A$79,MATCH($C832,'11_PDCAチェックシート【実施期間中】個別事業'!$H$4:$V$4,0)+6)","v":"- 選択 -"},null,null,null,null,{"$f":"OFFSET('11_PDCAチェックシート【実施期間中】個別事業'!$A$6,'11_PDCAチェックシート【実施期間中】個別事業'!$A$80,MATCH($C832,'11_PDCAチェックシート【実施期間中】個別事業'!$H$4:$V$4,0)+6)","v":"- 選択 -"}]
[null,null,null,null,"内容（",null,{"$f":"OFFSET('11_PDCAチェックシート【実施期間中】個別事業'!$A$6,'11_PDCAチェックシート【実施期間中】個別事業'!$A$81,MATCH($C832,'11_PDCAチェックシート【実施期間中】個別事業'!$H$4:$V$4,0)+6)","v":""},null,null,null,null,null,null,null,null,null,null,null,null,null,null,null,null,null,null,"）"]
[null,null,null,null,"目標回収数",null,null,null,"計",{"$f":"OFFSET('11_PDCAチェックシート【実施期間中】個別事業'!$A$6,'11_PDCAチェックシート【実施期間中】個別事業'!$A$83,MATCH($C832,'11_PDCAチェックシート【実施期間中】個別事業'!$H$4:$V$4,0)+6)","v":0},null,null,"枚",null,"※複数ある場合は、平均アンケート回収数"]
[null,null,null,null,"実績値",null,null,null,"計",{"$f":"OFFSET('11_PDCAチェックシート【実施期間中】個別事業'!$A$6,'11_PDCAチェックシート【実施期間中】個別事業'!$A$84,MATCH($C832,'11_PDCAチェックシート【実施期間中】個別事業'!$H$4:$V$4,0)+6)","v":0},null,null,"枚",null,"※複数ある場合は、平均アンケート回収数"]
[]
[]
[null,"（２）COOL CHOICE 賛同団体、賛同者の拡大について"]
[null,"本事業をとおした、COOL CHOICE 賛同団体、賛同者数を記載してください。"]
[null,"≪COOL CHOICE 賛同数（延べ人数等）≫ "]
[null,null,"賛同団体","達成目標",null,null,{"$f":"'2_別紙1-2_実施計画書'!G913","v":0}]
[null,null,null,"達成結果",null,null,{"$f":"SUM(K81,K138,K195,K252,K309,K366,K423,K480,K537,K594,K651,K708,K765,K822,K879)","v":0}]
[null,null,"賛同者数（個人）","達成目標",null,null,{"$f":"'2_別紙1-2_実施計画書'!G922","v":0}]
[null,null,null,"達成結果",null,null,{"$f":"SUM(R81,R138,R195,R252,R309,R366,R423,R480,R537,R594,R651,R708,R765,R822,R879)","v":0}]
[]
[]
[null,"（３）本事業の効果"]
[null,"本事業による普及啓発の目標の達成結果とその効果測定結果を記載してください。"]
[null,"≪普及啓発活動の概算規模（延べ人数等）≫ "]
[null,null,"規模\n(ﾘｰﾁ数)","達成目標",null,null,{"$f":"'2_別紙1-2_実施計画書'!G921","v":0}]
[null,null,null,"達成結果",null,null,0]
[null,null,"ｱﾝｹｰﾄ\n回収数","達成目標",null,null,{"$f":"'2_別紙1-2_実施計画書'!G922","v":0}]
[null,null,null,"達成結果",null,null,0]
[null,null,"波及効果の測定方法\n（計算式等）"]
[]
[]
[]
[]
[]
[null,"＜事業の実施体制＞、＜事業実施に関連する事項＞"]
[null,"※交付申請書の＜事業の実施体制＞、＜事業実施に関連する事項＞の記入内容に変更がない場合は、「交付申請書のとおり」と記入し、変更がある場合は、変更の内容を記入すること。"]
[]
[]
[]
[]
[]
[]
[null,"＜事業実施スケジュール＞"]
[null,"＊　事業の実施スケジュール（実績）を記入する。（別紙を添付してもよい。）"]
[]
[]
[null,null,"注１　本報告書に、二酸化炭素排出抑制対策事業費等補助金（地方と連携した地球温暖化対策活動推進\n　　　事業）交付申請書に添付した書類に変更がある場合、変更後の書類を添付する。"]
[]
[null,null,"注２　記入欄が少ない場合は、本様式を引き伸ばして使用する。"]

{"sheet":"8_別紙2-2_経費所要額精算調書","index":8,"n_rows":37,"n_cols":22,"rows_kept":37,"cut":false,"hidden":false,"merged":[[11,1,11,5],[11,6,11,10],[11,11,11,15],[11,16,11,20],[11,21,11,25],[8,1,8,5],[8,6,8,10],[8,11,8,15],[8,21,8,25],[10,6,10,10],[10,1,10,5],[9,1,9,5],[9,6,9,10],[9,11,9,15],[10,11,10,15],[9,16,10,20],[8,16,8,20],[9,21,10,25],[6,1,7,5],[6,6,7,10],[6,11,7,15],[6,16,7,20],[6,21,7,25],[30,9,30,13],[30,14,30,25],[36,1,36,25],[31,9,31,13],[31,14,31,25],[32,9,32,13],[32,14,32,25],[33,9,33,13],[33,14,33,25],[34,9,34,13],[34,14,34,25],[35,1,35,8],[35,9,35,13],[35,14,35,25],[27,9,27,13],[27,14,27,25],[28,9,28,13],[28,14,28,25],[29,9,29,13],[29,14,29,25],[24,9,24,13],[24,14,24,25],[25,9,25,13],[25,14,25,25],[26,9,26,13],[26,14,26,25],[21,9,21,13],[21,14,21,25],[22,9,22,13],[22,14,22,25],[23,9,23,13],[23,14,23,25],[17,14,17,25],[19,9,19,13],[19,14,19,25],[20,9,20,13],[20,14,20,25],[1,1,1,25],[2,1,2,25],[3,1,3,25],[18,9,18,13],[18,14,18,25],[13,1,13,25],[14,1,14,8],[14,9,14,13],[14,14,14,25],[15,1,15,8],[15,9,15,13],[15,14,15,25],[16,1,16,8],[16,9,16,13],[16,14,16,25],[17,9,17,13]]}
[]
[null,"別紙２－２"]
[null,"地方と連携した地球温暖化対策活動推進事業に要する経費所要額精算調書"]
[null,"(地域コミュニティを活用した地球温暖化対策啓発事業)"]
[]
[null,"１．経費実績額"]
[null,"(1)総事業費",null,null,null,null,"(2)寄付金その他の収入",null,null,null,null,"(3)差引額\n(1)－(2)",null,null,null,null,"(4)補助対象経費支出予定額",null,null,null,null,"(5)基準額"]
[]
[null,{"$f":"'4_別紙2-2_経費内訳'!E7","v":0},null,null,null,null,0,null,null,null,null,{"$f":"'4_別紙2-2_経費内訳'!O7","v":0},null,null,null,null,{"$f":"J36","v":0},null,null,null,null,{"$f":"'4_別紙2-2_経費内訳'!O10","v":0}]
[null,"(6)選定額",null,null,null,null,"(7)補助基本額",null,null,null,null,"(8)補助金所要額",null,null,null,null,"(9)補助金交付決定額",null,null,null,null,"(10)過不足額\n(9)－(8)"]
[null,"(4)と(5)を比較して少ない方の額",null,null,null,null,"(3)と(6)を比較して少ない方の額",null,null,null,null,"(7)の額\n※千円未満切捨"]
[null,{"$f":"IF(Q9>V9,V9,Q9)","v":0},null,null,null,null,{"$f":"IF(L9>B12,B12,L9)","v":0},null,null,null,null,{"$f":"ROUNDDOWN(G12,-3)","v":0},null,null,null,null,{"$f":"'6_様式第１０_完了実績報告書'!F31","v":0},null,null,null,null,{"$f":"Q12-L12","v":0}]
[]
[null,"２．補助対象経費実支出額内訳"]
[null,"経費区分・費目",null,null,null,null,null,null,null,"金　　額",null,null,null,null,"積　　算　　内　　訳"]
[null,"（記載例）"]
[null,"業務費"]
[null,null,"・賃金",null,null,null,null,null,null,0]
[null,null,"・諸謝金",null,null,null,null,null,null,0,null,null,null,null,"（数量）×（単価）= 金額"]
[null,null,"・旅費",null,null,null,null,null,null,0]
[]
[]
[]
[]
[]
[]
[]
[]
[]
[]
[]
[]
[]
[]
[]
[null,"合　　計",null,null,null,null,null,null,null,{"$f":"SUM(J16:N35)","v":0}]
[null,"注　本調書に、請求書、領収書又は計算書等を添付する。"]

{"sheet":"PDCAシート様式⇒","index":9,"n_rows":0,"n_cols":0,"rows_kept":0,"cut":false,"hidden":false,"merged":[]}

{"sheet":"9_PDCAシート（手順書）","index":10,"n_rows":41,"n_cols":28,"rows_kept":41,"cut":false,"hidden":false,"merged":[[5,6,6,26],[16,27,16,30],[17,27,17,30],[18,27,18,30],[20,27,20,30],[20,3,20,4],[24,4,24,29],[22,11,22,26],[22,2,22,10],[21,27,21,30],[22,27,22,30],[40,26,40,29],[36,4,37,29],[38,4,38,29],[9,4,11,29],[14,4,14,29],[16,11,16,26],[21,3,21,10],[27,4,28,29],[31,4,34,29],[17,11,17,26],[18,11,18,26],[19,11,19,26],[20,11,20,26],[21,11,21,26],[19,3,19,4],[19,27,19,30]]}
[]
[]
[]
[]
[]
[null,null,null,null,null,null,"PDCAシート（手順書）"]
[]
[]
[null,null,"■","PDCAシートの目的"]
[null,null,null,"・","地域普及啓発事業における事業全体及び個別事業の事業概要やKPI（数値データ）を集計することで、地域普及啓発事業の成果を定量的に算定することを目的とする。"]
[]
[]
[]
[null,null,"■","本資料の構成"]
[null,null,null,"・","本資料の構成は以下のとおり。"]
[]
[null,null,null,null,null,null,null,null,null,null,null,"概要",null,null,null,null,null,null,null,null,null,null,null,null,null,null,null,"提出時期"]
[null,null,1,"PDCAシート手順書",null,null,null,null,null,null,null,"PDCAシートの使用方法を説明したもの",null,null,null,null,null,null,null,null,null,null,null,null,null,null,null,"-"]
[null,null,2,"事業全体の概要",null,null,null,null,null,null,null,"事業全体で管理すべき事業内容をまとめたもの",null,null,null,null,null,null,null,null,null,null,null,null,null,null,null,"-"]
[null,null,null,"2-1",null,"事業開始当初記入",null,null,null,null,null,"事業開始当初に実施する普及啓発テーマや費用、KPIを記入",null,null,null,null,null,null,null,null,null,null,null,null,null,null,null,"事業開始後7月まで"]
[null,null,null,"2-2",null,"事業終了時記入",null,null,null,null,null,"事業終了時に費用、KPIの実績値を記入するとともに、地域普及啓発事業の振り返りを記入",null,null,null,null,null,null,null,null,null,null,null,null,null,null,null,"事業実施報告書提出時まで"]
[null,null,3,"個別事業におけるPDCAシート",null,null,null,null,null,null,null,"個別事業の事業概要や費用、KPI等をそれぞれ記入",null,null,null,null,null,null,null,null,null,null,null,null,null,null,null,"事業開始後、7月、9月、11月、1月に提出"]
[null,null,"（参考）\n普及啓発テーマ・訴求手法",null,null,null,null,null,null,null,null,"普及啓発テーマ、訴求手法の一覧",null,null,null,null,null,null,null,null,null,null,null,null,null,null,null,"-"]
[]
[]
[null,null,"■","PDCAシートの使用方法"]
[null,null,null,"＜事業開始時＞"]
[null,null,null,"・","補助金交付申請書の内容に基づき、当年度の地域普及啓発事業で実施する普及啓発テーマ、\n補助金所要額、KPI（COOL CHOICE 賛同数、普及啓発人数、アンケート回収数）を記入"]
[]
[null,null,null,"＜補助金事業実施中＞"]
[null,null,null,"（7月：計画内容の更新（確定した日時の追記等）、9月、11月、1月：実施結果の更新）"]
[null,null,null,"・","個別事業がそれぞれ終了した時点で、各事業の内容、実績値を整理する\n-事業概要（事業名、普及啓発テーマ、訴求手法、事業実施時期、事業概要、普及啓発対象）\n-KPI（賛同数、普及啓発人数、アンケート回収数）\n-事業実施に要した費用実績"]
[]
[]
[]
[null,null,null,"＜事業終了時＞"]
[null,null,null,"・","当年度すべての地域普及啓発事業が終了した時点で、事業全体の補助金使用額実績値、KPI\n実績値（賛同数、普及啓発人数、アンケート回収数）を記入"]
[]
[]
[]
[null,null,null,null,null,null,null,null,null,null,null,null,null,null,null,null,null,null,null,null,null,null,null,null,null,null,"以上"]

{"sheet":"10_PDCAチェックシート【事業開始時】事業全体","index":11,"n_rows":33,"n_cols":16,"rows_kept":33,"cut":false,"hidden":false,"merged":[[8,8,8,15],[7,5,7,7],[15,5,15,9],[7,8,7,15],[16,3,16,4],[10,2,10,4],[15,3,15,4],[12,5,12,9],[13,2,13,4],[24,5,24,7],[19,5,19,9],[13,5,13,9],[14,5,14,9],[16,5,16,9],[18,5,18,9],[17,5,17,9],[22,8,22,16],[23,8,23,16],[24,8,24,16],[30,8,30,16],[31,8,31,16],[32,8,32,16],[2,1,2,4],[2,5,2,15],[25,8,25,16],[26,8,26,16],[27,8,27,16],[28,8,28,16],[29,8,29,16],[25,2,32,4],[25,5,32,7],[22,2,24,4],[22,5,22,7],[23,5,23,7],[19,3,19,4]]}
[]
[null,"都道府県",null,null,null,"事業者名"]
[null,null,null,null,null,{"$f":"'2_別紙1-2_実施計画書'!E11","v":0}]
[]
[null,"＜事業開始当初＞"]
[]
[null,"事業計画報告"]
[null,null,null,null,null,"購買選好の変化",null,null,"価値観の変化"]
[null,null,null,null,null,"省エネ家電","省エネ住宅","エコカー","エコなライフスタイル選択"]
[null,null,null,null,null,"①","②","③","④","⑤","⑥","⑦","⑧","⑨","⑩","⑪"]
[null,null,"普及啓発テーマ（実施するテーマについて○をつける）",null,null,{"$f":"IF('2_別紙1-2_実施計画書'!AC31>0,\"○\",\"－\")","v":"－"},{"$f":"IF('2_別紙1-2_実施計画書'!AD31>0,\"○\",\"－\")","v":"－"},{"$f":"IF('2_別紙1-2_実施計画書'!AE31>0,\"○\",\"－\")","v":"－"},{"$f":"IF('2_別紙1-2_実施計画書'!AF31>0,\"○\",\"－\")","v":"－"},{"$f":"IF('2_別紙1-2_実施計画書'!AG31>0,\"○\",\"－\")","v":"－"},{"$f":"IF('2_別紙1-2_実施計画書'!AH31>0,\"○\",\"－\")","v":"－"},{"$f":"IF('2_別紙1-2_実施計画書'!AI31>0,\"○\",\"－\")","v":"－"},{"$f":"IF('2_別紙1-2_実施計画書'!AJ31>0,\"○\",\"－\")","v":"－"},{"$f":"IF('2_別紙1-2_実施計画書'!AK31>0,\"○\",\"－\")","v":"－"},{"$f":"IF('2_別紙1-2_実施計画書'!AL31>0,\"○\",\"－\")","v":"－"},{"$f":"IF('2_別紙1-2_実施計画書'!AM31>0,\"○\",\"－\")","v":"－"}]
[]
[null,null,null,null,null,"計画値"]
[null,null,"補助金所要額（円）",null,null,{"$f":"'4_別紙2-2_経費内訳'!I10","v":0}]
[null,null,"KPI"]
[null,null,null,"普及啓発人数（リーチ数）",null,{"$f":"'2_別紙1-2_実施計画書'!G921","v":0}]
[null,null,null,"COOL CHOICE 賛同数",null,"-"]
[null,null,null,null,"団体賛同数",{"$f":"'2_別紙1-2_実施計画書'!G913","v":0}]
[null,null,null,null,"個人賛同数",{"$f":"'2_別紙1-2_実施計画書'!G914","v":0}]
[null,null,null,"アンケート回収数",null,{"$f":"'2_別紙1-2_実施計画書'!G922","v":0}]
[]
[null,null,"（参考）普及啓発テーマ一覧"]
[null,null,"購買選好の変化",null,null,"省エネ家電買換え",null,null,"①省エネ機器の買換え促進"]
[null,null,null,null,null,"省エネ住宅購入",null,null,"②省エネ住宅の普及促進"]
[null,null,null,null,null,"エコカー買換え",null,null,"③エコカーの普及促進"]
[null,null,"価値観の変化",null,null,"エコなライフスタイル選択",null,null,"④クールビズ実施の推進"]
[null,null,null,null,null,null,null,null,"⑤ウォームビズ実施の推進"]
[null,null,null,null,null,null,null,null,"⑥照明の効率的な利用促進"]
[null,null,null,null,null,null,null,null,"⑦エコドライブの推進"]
[null,null,null,null,null,null,null,null,"⑧カーシェアリングの利用促進"]
[null,null,null,null,null,null,null,null,"⑨公共交通機関の利用促進"]
[null,null,null,null,null,null,null,null,"⑩低炭素物流の普及促進（宅配便の再配達防止）"]
[null,null,null,null,null,null,null,null,"⑪シェアリングエコノミーの普及促進（バイクシェア、コミュニティサイクル）"]

{"sheet":"11_PDCAチェックシート【実施期間中】個別事業","index":12,"n_rows":86,"n_cols":23,"rows_kept":86,"cut":false,"hidden":false,"merged":[[4,1,4,5],[59,2,63,4],[64,2,68,4],[80,2,83,4],[84,1,84,5],[5,2,5,5],[56,2,56,5],[30,2,32,5],[54,2,54,5],[72,2,74,4],[69,2,71,4],[57,2,57,5],[58,2,58,5],[55,2,55,5],[75,2,79,4],[5,1,58,1],[6,2,16,3],[17,2,19,3],[59,1,74,1],[75,1,83,1],[20,2,21,4],[22,2,29,3],[22,4,25,4],[26,4,29,4],[34,2,53,4]]}
[null,null,null,null,null,null,null,null,null,null,null,null,null,null,null,null,null,null,null,null,null,null,"*"]
[null,"＜個別事業におけるPDCAシート（四半期に一度提出）＞",null,null,null,null,null,null,null,null,null,null,null,null,null,null,null,null,null,null,null,null,"*"]
[null,null,null,null,null,null,null,null,null,null,null,null,null,null,null,null,null,null,null,null,null,null,"*"]
[null,null,null,null,null,null,"記入例","事業1","事業2","事業3","事業4","事業5","事業6","事業7","事業8","事業9","事業10","事業11","事業12","事業13","事業14","事業15","*"]
[null,"更新日",null,null,null,null,"2019-04-01",null,null,null,null,null,null,null,null,null,null,null,null,null,null,null,"*"]
[0,"事業概要","事業名（番組・CM名）\n※広報時の正式名称",null,null,null,"エコドライブスポットCM",{"$f":"'2_別紙1-2_実施計画書'!E57","v":0},{"$f":"'2_別紙1-2_実施計画書'!$E114","v":0},{"$f":"'2_別紙1-2_実施計画書'!E170","v":0},{"$f":"'2_別紙1-2_実施計画書'!$E226","v":0},{"$f":"'2_別紙1-2_実施計画書'!$E282","v":0},{"$f":"'2_別紙1-2_実施計画書'!$E338","v":0},{"$f":"'2_別紙1-2_実施計画書'!$E394","v":0},{"$f":"'2_別紙1-2_実施計画書'!$E450","v":0},{"$f":"'2_別紙1-2_実施計画書'!$E506","v":0},{"$f":"'2_別紙1-2_実施計画書'!$E562","v":0},{"$f":"'2_別紙1-2_実施計画書'!$E618","v":0},{"$f":"'2_別紙1-2_実施計画書'!$E674","v":0},{"$f":"'2_別紙1-2_実施計画書'!$E730","v":0},{"$f":"'2_別紙1-2_実施計画書'!$E786","v":0},{"$f":"'2_別紙1-2_実施計画書'!$E842","v":0},"*"]
[1,null,"普及啓発テーマ\n（該当する欄に「1」と記入）",null,"①","省エネ機器",null,{"$f":"IF(OR(HLOOKUP($E7,'2_別紙1-2_実施計画書'!$AC$59:$AM$61,3,0)=1,HLOOKUP($E7,'2_別紙1-2_実施計画書'!$AC$59:$AM$61,3,0)=TRUE),1,\"-\")","v":"-"},{"$f":"IF(OR(HLOOKUP($E7,'2_別紙1-2_実施計画書'!$AC$116:$AM$118,3,0)=1,HLOOKUP($E7,'2_別紙1-2_実施計画書'!$AC$116:$AM$118,3,0)=TRUE),1,\"-\")","v":"-"},{"$f":"IF(OR(HLOOKUP($E7,'2_別紙1-2_実施計画書'!$AC$172:$AM$174,3,0)=1,HLOOKUP($E7,'2_別紙1-2_実施計画書'!$AC$172:$AM$174,3,0)=TRUE),1,\"-\")","v":"-"},{"$f":"IF(OR(HLOOKUP($E7,'2_別紙1-2_実施計画書'!$AC$228:$AM$230,3,0)=1,HLOOKUP($E7,'2_別紙1-2_実施計画書'!$AC$228:$AM$230,3,0)=TRUE),1,\"-\")","v":"-"},{"$f":"IF(OR(HLOOKUP($E7,'2_別紙1-2_実施計画書'!$AC$284:$AM$286,3,0)=1,HLOOKUP($E7,'2_別紙1-2_実施計画書'!$AC$284:$AM$286,3,0)=TRUE),1,\"-\")","v":"-"},{"$f":"IF(OR(HLOOKUP($E7,'2_別紙1-2_実施計画書'!$AC$340:$AM$342,3,0)=1,HLOOKUP($E7,'2_別紙1-2_実施計画書'!$AC$340:$AM$342,3,0)=TRUE),1,\"-\")","v":"-"},{"$f":"IF(OR(HLOOKUP($E7,'2_別紙1-2_実施計画書'!$AC$396:$AM$398,3,0)=1,HLOOKUP($E7,'2_別紙1-2_実施計画書'!$AC$396:$AM$398,3,0)=TRUE),1,\"-\")","v":"-"},{"$f":"IF(OR(HLOOKUP($E7,'2_別紙1-2_実施計画書'!$AC$452:$AM$454,3,0)=1,HLOOKUP($E7,'2_別紙1-2_実施計画書'!$AC$452:$AM$454,3,0)=TRUE),1,\"-\")","v":"-"},{"$f":"IF(OR(HLOOKUP($E7,'2_別紙1-2_実施計画書'!$AC$508:$AM$510,3,0)=1,HLOOKUP($E7,'2_別紙1-2_実施計画書'!$AC$508:$AM$510,3,0)=TRUE),1,\"-\")","v":"-"},{"$f":"IF(OR(HLOOKUP($E7,'2_別紙1-2_実施計画書'!$AC$564:$AM$566,3,0)=1,HLOOKUP($E7,'2_別紙1-2_実施計画書'!$AC$564:$AM$566,3,0)=TRUE),1,\"-\")","v":"-"},{"$f":"IF(OR(HLOOKUP($E7,'2_別紙1-2_実施計画書'!$AC$620:$AM$622,3,0)=1,HLOOKUP($E7,'2_別紙1-2_実施計画書'!$AC$620:$AM$622,3,0)=TRUE),1,\"-\")","v":"-"},{"$f":"IF(OR(HLOOKUP($E7,'2_別紙1-2_実施計画書'!$AC$676:$AM$678,3,0)=1,HLOOKUP($E7,'2_別紙1-2_実施計画書'!$AC$676:$AM$678,3,0)=TRUE),1,\"-\")","v":"-"},{"$f":"IF(OR(HLOOKUP($E7,'2_別紙1-2_実施計画書'!$AC$732:$AM$734,3,0)=1,HLOOKUP($E7,'2_別紙1-2_実施計画書'!$AC$732:$AM$734,3,0)=TRUE),1,\"-\")","v":"-"},{"$f":"IF(OR(HLOOKUP($E7,'2_別紙1-2_実施計画書'!$AC$788:$AM$790,3,0)=1,HLOOKUP($E7,'2_別紙1-2_実施計画書'!$AC$788:$AM$790,3,0)=TRUE),1,\"-\")","v":"-"},{"$f":"IF(OR(HLOOKUP($E7,'2_別紙1-2_実施計画書'!$AC$844:$AM$846,3,0)=1,HLOOKUP($E7,'2_別紙1-2_実施計画書'!$AC$844:$AM$846,3,0)=TRUE),1,\"-\")","v":"-"},"*"]
[2,null,null,null,"②","省エネ住宅",null,{"$f":"IF(OR(HLOOKUP($E8,'2_別紙1-2_実施計画書'!$AC$59:$AM$61,3,0)=1,HLOOKUP($E8,'2_別紙1-2_実施計画書'!$AC$59:$AM$61,3,0)=TRUE),1,\"-\")","v":"-"},{"$f":"IF(OR(HLOOKUP($E8,'2_別紙1-2_実施計画書'!$AC$116:$AM$118,3,0)=1,HLOOKUP($E8,'2_別紙1-2_実施計画書'!$AC$116:$AM$118,3,0)=TRUE),1,\"-\")","v":"-"},{"$f":"IF(OR(HLOOKUP($E8,'2_別紙1-2_実施計画書'!$AC$172:$AM$174,3,0)=1,HLOOKUP($E8,'2_別紙1-2_実施計画書'!$AC$172:$AM$174,3,0)=TRUE),1,\"-\")","v":"-"},{"$f":"IF(OR(HLOOKUP($E8,'2_別紙1-2_実施計画書'!$AC$228:$AM$230,3,0)=1,HLOOKUP($E8,'2_別紙1-2_実施計画書'!$AC$228:$AM$230,3,0)=TRUE),1,\"-\")","v":"-"},{"$f":"IF(OR(HLOOKUP($E8,'2_別紙1-2_実施計画書'!$AC$284:$AM$286,3,0)=1,HLOOKUP($E8,'2_別紙1-2_実施計画書'!$AC$284:$AM$286,3,0)=TRUE),1,\"-\")","v":"-"},{"$f":"IF(OR(HLOOKUP($E8,'2_別紙1-2_実施計画書'!$AC$340:$AM$342,3,0)=1,HLOOKUP($E8,'2_別紙1-2_実施計画書'!$AC$340:$AM$342,3,0)=TRUE),1,\"-\")","v":"-"},{"$f":"IF(OR(HLOOKUP($E8,'2_別紙1-2_実施計画書'!$AC$396:$AM$398,3,0)=1,HLOOKUP($E8,'2_別紙1-2_実施計画書'!$AC$396:$AM$398,3,0)=TRUE),1,\"-\")","v":"-"},{"$f":"IF(OR(HLOOKUP($E8,'2_別紙1-2_実施計画書'!$AC$452:$AM$454,3,0)=1,HLOOKUP($E8,'2_別紙1-2_実施計画書'!$AC$452:$AM$454,3,0)=TRUE),1,\"-\")","v":"-"},{"$f":"IF(OR(HLOOKUP($E8,'2_別紙1-2_実施計画書'!$AC$508:$AM$510,3,0)=1,HLOOKUP($E8,'2_別紙1-2_実施計画書'!$AC$508:$AM$510,3,0)=TRUE),1,\"-\")","v":"-"},{"$f":"IF(OR(HLOOKUP($E8,'2_別紙1-2_実施計画書'!$AC$564:$AM$566,3,0)=1,HLOOKUP($E8,'2_別紙1-2_実施計画書'!$AC$564:$AM$566,3,0)=TRUE),1,\"-\")","v":"-"},{"$f":"IF(OR(HLOOKUP($E8,'2_別紙1-2_実施計画書'!$AC$620:$AM$622,3,0)=1,HLOOKUP($E8,'2_別紙1-2_実施計画書'!$AC$620:$AM$622,3,0)=TRUE),1,\"-\")","v":"-"},{"$f":"IF(OR(HLOOKUP($E8,'2_別紙1-2_実施計画書'!$AC$676:$AM$678,3,0)=1,HLOOKUP($E8,'2_別紙1-2_実施計画書'!$AC$676:$AM$678,3,0)=TRUE),1,\"-\")","v":"-"},{"$f":"IF(OR(HLOOKUP($E8,'2_別紙1-2_実施計画書'!$AC$732:$AM$734,3,0)=1,HLOOKUP($E8,'2_別紙1-2_実施計画書'!$AC$732:$AM$734,3,0)=TRUE),1,\"-\")","v":"-"},{"$f":"IF(OR(HLOOKUP($E8,'2_別紙1-2_実施計画書'!$AC$788:$AM$790,3,0)=1,HLOOKUP($E8,'2_別紙1-2_実施計画書'!$AC$788:$AM$790,3,0)=TRUE),1,\"-\")","v":"-"},{"$f":"IF(OR(HLOOKUP($E8,'2_別紙1-2_実施計画書'!$AC$844:$AM$846,3,0)=1,HLOOKUP($E8,'2_別紙1-2_実施計画書'!$AC$844:$AM$846,3,0)=TRUE),1,\"-\")","v":"-"},"*"]
[3,null,null,null,"③","エコカー",null,{"$f":"IF(OR(HLOOKUP($E9,'2_別紙1-2_実施計画書'!$AC$59:$AM$61,3,0)=1,HLOOKUP($E9,'2_別紙1-2_実施計画書'!$AC$59:$AM$61,3,0)=TRUE),1,\"-\")","v":"-"},{"$f":"IF(OR(HLOOKUP($E9,'2_別紙1-2_実施計画書'!$AC$116:$AM$118,3,0)=1,HLOOKUP($E9,'2_別紙1-2_実施計画書'!$AC$116:$AM$118,3,0)=TRUE),1,\"-\")","v":"-"},{"$f":"IF(OR(HLOOKUP($E9,'2_別紙1-2_実施計画書'!$AC$172:$AM$174,3,0)=1,HLOOKUP($E9,'2_別紙1-2_実施計画書'!$AC$172:$AM$174,3,0)=TRUE),1,\"-\")","v":"-"},{"$f":"IF(OR(HLOOKUP($E9,'2_別紙1-2_実施計画書'!$AC$228:$AM$230,3,0)=1,HLOOKUP($E9,'2_別紙1-2_実施計画書'!$AC$228:$AM$230,3,0)=TRUE),1,\"-\")","v":"-"},{"$f":"IF(OR(HLOOKUP($E9,'2_別紙1-2_実施計画書'!$AC$284:$AM$286,3,0)=1,HLOOKUP($E9,'2_別紙1-2_実施計画書'!$AC$284:$AM$286,3,0)=TRUE),1,\"-\")","v":"-"},{"$f":"IF(OR(HLOOKUP($E9,'2_別紙1-2_実施計画書'!$AC$340:$AM$342,3,0)=1,HLOOKUP($E9,'2_別紙1-2_実施計画書'!$AC$340:$AM$342,3,0)=TRUE),1,\"-\")","v":"-"},{"$f":"IF(OR(HLOOKUP($E9,'2_別紙1-2_実施計画書'!$AC$396:$AM$398,3,0)=1,HLOOKUP($E9,'2_別紙1-2_実施計画書'!$AC$396:$AM$398,3,0)=TRUE),1,\"-\")","v":"-"},{"$f":"IF(OR(HLOOKUP($E9,'2_別紙1-2_実施計画書'!$AC$452:$AM$454,3,0)=1,HLOOKUP($E9,'2_別紙1-2_実施計画書'!$AC$452:$AM$454,3,0)=TRUE),1,\"-\")","v":"-"},{"$f":"IF(OR(HLOOKUP($E9,'2_別紙1-2_実施計画書'!$AC$508:$AM$510,3,0)=1,HLOOKUP($E9,'2_別紙1-2_実施計画書'!$AC$508:$AM$510,3,0)=TRUE),1,\"-\")","v":"-"},{"$f":"IF(OR(HLOOKUP($E9,'2_別紙1-2_実施計画書'!$AC$564:$AM$566,3,0)=1,HLOOKUP($E9,'2_別紙1-2_実施計画書'!$AC$564:$AM$566,3,0)=TRUE),1,\"-\")","v":"-"},{"$f":"IF(OR(HLOOKUP($E9,'2_別紙1-2_実施計画書'!$AC$620:$AM$622,3,0)=1,HLOOKUP($E9,'2_別紙1-2_実施計画書'!$AC$620:$AM$622,3,0)=TRUE),1,\"-\")","v":"-"},{"$f":"IF(OR(HLOOKUP($E9,'2_別紙1-2_実施計画書'!$AC$676:$AM$678,3,0)=1,HLOOKUP($E9,'2_別紙1-2_実施計画書'!$AC$676:$AM$678,3,0)=TRUE),1,\"-\")","v":"-"},{"$f":"IF(OR(HLOOKUP($E9,'2_別紙1-2_実施計画書'!$AC$732:$AM$734,3,0)=1,HLOOKUP($E9,'2_別紙1-2_実施計画書'!$AC$732:$AM$734,3,0)=TRUE),1,\"-\")","v":"-"},{"$f":"IF(OR(HLOOKUP($E9,'2_別紙1-2_実施計画書'!$AC$788:$AM$790,3,0)=1,HLOOKUP($E9,'2_別紙1-2_実施計画書'!$AC$788:$AM$790,3,0)=TRUE),1,\"-\")","v":"-"},{"$f":"IF(OR(HLOOKUP($E9,'2_別紙1-2_実施計画書'!$AC$844:$AM$846,3,0)=1,HLOOKUP($E9,'2_別紙1-2_実施計画書'!$AC$844:$AM$846,3,0)=TRUE),1,\"-\")","v":"-"},"*"]
[4,null,null,null,"④","クールビズ",null,{"$f":"IF(OR(HLOOKUP($E10,'2_別紙1-2_実施計画書'!$AC$59:$AM$61,3,0)=1,HLOOKUP($E10,'2_別紙1-2_実施計画書'!$AC$59:$AM$61,3,0)=TRUE),1,\"-\")","v":"-"},{"$f":"IF(OR(HLOOKUP($E10,'2_別紙1-2_実施計画書'!$AC$116:$AM$118,3,0)=1,HLOOKUP($E10,'2_別紙1-2_実施計画書'!$AC$116:$AM$118,3,0)=TRUE),1,\"-\")","v":"-"},{"$f":"IF(OR(HLOOKUP($E10,'2_別紙1-2_実施計画書'!$AC$172:$AM$174,3,0)=1,HLOOKUP($E10,'2_別紙1-2_実施計画書'!$AC$172:$AM$174,3,0)=TRUE),1,\"-\")","v":"-"},{"$f":"IF(OR(HLOOKUP($E10,'2_別紙1-2_実施計画書'!$AC$228:$AM$230,3,0)=1,HLOOKUP($E10,'2_別紙1-2_実施計画書'!$AC$228:$AM$230,3,0)=TRUE),1,\"-\")","v":"-"},{"$f":"IF(OR(HLOOKUP($E10,'2_別紙1-2_実施計画書'!$AC$284:$AM$286,3,0)=1,HLOOKUP($E10,'2_別紙1-2_実施計画書'!$AC$284:$AM$286,3,0)=TRUE),1,\"-\")","v":"-"},{"$f":"IF(OR(HLOOKUP($E10,'2_別紙1-2_実施計画書'!$AC$340:$AM$342,3,0)=1,HLOOKUP($E10,'2_別紙1-2_実施計画書'!$AC$340:$AM$342,3,0)=TRUE),1,\"-\")","v":"-"},{"$f":"IF(OR(HLOOKUP($E10,'2_別紙1-2_実施計画書'!$AC$396:$AM$398,3,0)=1,HLOOKUP($E10,'2_別紙1-2_実施計画書'!$AC$396:$AM$398,3,0)=TRUE),1,\"-\")","v":"-"},{"$f":"IF(OR(HLOOKUP($E10,'2_別紙1-2_実施計画書'!$AC$452:$AM$454,3,0)=1,HLOOKUP($E10,'2_別紙1-2_実施計画書'!$AC$452:$AM$454,3,0)=TRUE),1,\"-\")","v":"-"},{"$f":"IF(OR(HLOOKUP($E10,'2_別紙1-2_実施計画書'!$AC$508:$AM$510,3,0)=1,HLOOKUP($E10,'2_別紙1-2_実施計画書'!$AC$508:$AM$510,3,0)=TRUE),1,\"-\")","v":"-"},{"$f":"IF(OR(HLOOKUP($E10,'2_別紙1-2_実施計画書'!$AC$564:$AM$566,3,0)=1,HLOOKUP($E10,'2_別紙1-2_実施計画書'!$AC$564:$AM$566,3,0)=TRUE),1,\"-\")","v":"-"},{"$f":"IF(OR(HLOOKUP($E10,'2_別紙1-2_実施計画書'!$AC$620:$AM$622,3,0)=1,HLOOKUP($E10,'2_別紙1-2_実施計画書'!$AC$620:$AM$622,3,0)=TRUE),1,\"-\")","v":"-"},{"$f":"IF(OR(HLOOKUP($E10,'2_別紙1-2_実施計画書'!$AC$676:$AM$678,3,0)=1,HLOOKUP($E10,'2_別紙1-2_実施計画書'!$AC$676:$AM$678,3,0)=TRUE),1,\"-\")","v":"-"},{"$f":"IF(OR(HLOOKUP($E10,'2_別紙1-2_実施計画書'!$AC$732:$AM$734,3,0)=1,HLOOKUP($E10,'2_別紙1-2_実施計画書'!$AC$732:$AM$734,3,0)=TRUE),1,\"-\")","v":"-"},{"$f":"IF(OR(HLOOKUP($E10,'2_別紙1-2_実施計画書'!$AC$788:$AM$790,3,0)=1,HLOOKUP($E10,'2_別紙1-2_実施計画書'!$AC$788:$AM$790,3,0)=TRUE),1,\"-\")","v":"-"},{"$f":"IF(OR(HLOOKUP($E10,'2_別紙1-2_実施計画書'!$AC$844:$AM$846,3,0)=1,HLOOKUP($E10,'2_別紙1-2_実施計画書'!$AC$844:$AM$846,3,0)=TRUE),1,\"-\")","v":"-"},"*"]
[5,null,null,null,"⑤","ウォームビズ",null,{"$f":"IF(OR(HLOOKUP($E11,'2_別紙1-2_実施計画書'!$AC$59:$AM$61,3,0)=1,HLOOKUP($E11,'2_別紙1-2_実施計画書'!$AC$59:$AM$61,3,0)=TRUE),1,\"-\")","v":"-"},{"$f":"IF(OR(HLOOKUP($E11,'2_別紙1-2_実施計画書'!$AC$116:$AM$118,3,0)=1,HLOOKUP($E11,'2_別紙1-2_実施計画書'!$AC$116:$AM$118,3,0)=TRUE),1,\"-\")","v":"-"},{"$f":"IF(OR(HLOOKUP($E11,'2_別紙1-2_実施計画書'!$AC$172:$AM$174,3,0)=1,HLOOKUP($E11,'2_別紙1-2_実施計画書'!$AC$172:$AM$174,3,0)=TRUE),1,\"-\")","v":"-"},{"$f":"IF(OR(HLOOKUP($E11,'2_別紙1-2_実施計画書'!$AC$228:$AM$230,3,0)=1,HLOOKUP($E11,'2_別紙1-2_実施計画書'!$AC$228:$AM$230,3,0)=TRUE),1,\"-\")","v":"-"},{"$f":"IF(OR(HLOOKUP($E11,'2_別紙1-2_実施計画書'!$AC$284:$AM$286,3,0)=1,HLOOKUP($E11,'2_別紙1-2_実施計画書'!$AC$284:$AM$286,3,0)=TRUE),1,\"-\")","v":"-"},{"$f":"IF(OR(HLOOKUP($E11,'2_別紙1-2_実施計画書'!$AC$340:$AM$342,3,0)=1,HLOOKUP($E11,'2_別紙1-2_実施計画書'!$AC$340:$AM$342,3,0)=TRUE),1,\"-\")","v":"-"},{"$f":"IF(OR(HLOOKUP($E11,'2_別紙1-2_実施計画書'!$AC$396:$AM$398,3,0)=1,HLOOKUP($E11,'2_別紙1-2_実施計画書'!$AC$396:$AM$398,3,0)=TRUE),1,\"-\")","v":"-"},{"$f":"IF(OR(HLOOKUP($E11,'2_別紙1-2_実施計画書'!$AC$452:$AM$454,3,0)=1,HLOOKUP($E11,'2_別紙1-2_実施計画書'!$AC$452:$AM$454,3,0)=TRUE),1,\"-\")","v":"-"},{"$f":"IF(OR(HLOOKUP($E11,'2_別紙1-2_実施計画書'!$AC$508:$AM$510,3,0)=1,HLOOKUP($E11,'2_別紙1-2_実施計画書'!$AC$508:$AM$510,3,0)=TRUE),1,\"-\")","v":"-"},{"$f":"IF(OR(HLOOKUP($E11,'2_別紙1-2_実施計画書'!$AC$564:$AM$566,3,0)=1,HLOOKUP($E11,'2_別紙1-2_実施計画書'!$AC$564:$AM$566,3,0)=TRUE),1,\"-\")","v":"-"},{"$f":"IF(OR(HLOOKUP($E11,'2_別紙1-2_実施計画書'!$AC$620:$AM$622,3,0)=1,HLOOKUP($E11,'2_別紙1-2_実施計画書'!$AC$620:$AM$622,3,0)=TRUE),1,\"-\")","v":"-"},{"$f":"IF(OR(HLOOKUP($E11,'2_別紙1-2_実施計画書'!$AC$676:$AM$678,3,0)=1,HLOOKUP($E11,'2_別紙1-2_実施計画書'!$AC$676:$AM$678,3,0)=TRUE),1,\"-\")","v":"-"},{"$f":"IF(OR(HLOOKUP($E11,'2_別紙1-2_実施計画書'!$AC$732:$AM$734,3,0)=1,HLOOKUP($E11,'2_別紙1-2_実施計画書'!$AC$732:$AM$734,3,0)=TRUE),1,\"-\")","v":"-"},{"$f":"IF(OR(HLOOKUP($E11,'2_別紙1-2_実施計画書'!$AC$788:$AM$790,3,0)=1,HLOOKUP($E11,'2_別紙1-2_実施計画書'!$AC$788:$AM$790,3,0)=TRUE),1,\"-\")","v":"-"},{"$f":"IF(OR(HLOOKUP($E11,'2_別紙1-2_実施計画書'!$AC$844:$AM$846,3,0)=1,HLOOKUP($E11,'2_別紙1-2_実施計画書'!$AC$844:$AM$846,3,0)=TRUE),1,\"-\")","v":"-"},"*"]
[6,null,null,null,"⑥","照明の効率的利用",null,{"$f":"IF(OR(HLOOKUP($E12,'2_別紙1-2_実施計画書'!$AC$59:$AM$61,3,0)=1,HLOOKUP($E12,'2_別紙1-2_実施計画書'!$AC$59:$AM$61,3,0)=TRUE),1,\"-\")","v":"-"},{"$f":"IF(OR(HLOOKUP($E12,'2_別紙1-2_実施計画書'!$AC$116:$AM$118,3,0)=1,HLOOKUP($E12,'2_別紙1-2_実施計画書'!$AC$116:$AM$118,3,0)=TRUE),1,\"-\")","v":"-"},{"$f":"IF(OR(HLOOKUP($E12,'2_別紙1-2_実施計画書'!$AC$172:$AM$174,3,0)=1,HLOOKUP($E12,'2_別紙1-2_実施計画書'!$AC$172:$AM$174,3,0)=TRUE),1,\"-\")","v":"-"},{"$f":"IF(OR(HLOOKUP($E12,'2_別紙1-2_実施計画書'!$AC$228:$AM$230,3,0)=1,HLOOKUP($E12,'2_別紙1-2_実施計画書'!$AC$228:$AM$230,3,0)=TRUE),1,\"-\")","v":"-"},{"$f":"IF(OR(HLOOKUP($E12,'2_別紙1-2_実施計画書'!$AC$284:$AM$286,3,0)=1,HLOOKUP($E12,'2_別紙1-2_実施計画書'!$AC$284:$AM$286,3,0)=TRUE),1,\"-\")","v":"-"},{"$f":"IF(OR(HLOOKUP($E12,'2_別紙1-2_実施計画書'!$AC$340:$AM$342,3,0)=1,HLOOKUP($E12,'2_別紙1-2_実施計画書'!$AC$340:$AM$342,3,0)=TRUE),1,\"-\")","v":"-"},{"$f":"IF(OR(HLOOKUP($E12,'2_別紙1-2_実施計画書'!$AC$396:$AM$398,3,0)=1,HLOOKUP($E12,'2_別紙1-2_実施計画書'!$AC$396:$AM$398,3,0)=TRUE),1,\"-\")","v":"-"},{"$f":"IF(OR(HLOOKUP($E12,'2_別紙1-2_実施計画書'!$AC$452:$AM$454,3,0)=1,HLOOKUP($E12,'2_別紙1-2_実施計画書'!$AC$452:$AM$454,3,0)=TRUE),1,\"-\")","v":"-"},{"$f":"IF(OR(HLOOKUP($E12,'2_別紙1-2_実施計画書'!$AC$508:$AM$510,3,0)=1,HLOOKUP($E12,'2_別紙1-2_実施計画書'!$AC$508:$AM$510,3,0)=TRUE),1,\"-\")","v":"-"},{"$f":"IF(OR(HLOOKUP($E12,'2_別紙1-2_実施計画書'!$AC$564:$AM$566,3,0)=1,HLOOKUP($E12,'2_別紙1-2_実施計画書'!$AC$564:$AM$566,3,0)=TRUE),1,\"-\")","v":"-"},{"$f":"IF(OR(HLOOKUP($E12,'2_別紙1-2_実施計画書'!$AC$620:$AM$622,3,0)=1,HLOOKUP($E12,'2_別紙1-2_実施計画書'!$AC$620:$AM$622,3,0)=TRUE),1,\"-\")","v":"-"},{"$f":"IF(OR(HLOOKUP($E12,'2_別紙1-2_実施計画書'!$AC$676:$AM$678,3,0)=1,HLOOKUP($E12,'2_別紙1-2_実施計画書'!$AC$676:$AM$678,3,0)=TRUE),1,\"-\")","v":"-"},{"$f":"IF(OR(HLOOKUP($E12,'2_別紙1-2_実施計画書'!$AC$732:$AM$734,3,0)=1,HLOOKUP($E12,'2_別紙1-2_実施計画書'!$AC$732:$AM$734,3,0)=TRUE),1,\"-\")","v":"-"},{"$f":"IF(OR(HLOOKUP($E12,'2_別紙1-2_実施計画書'!$AC$788:$AM$790,3,0)=1,HLOOKUP($E12,'2_別紙1-2_実施計画書'!$AC$788:$AM$790,3,0)=TRUE),1,\"-\")","v":"-"},{"$f":"IF(OR(HLOOKUP($E12,'2_別紙1-2_実施計画書'!$AC$844:$AM$846,3,0)=1,HLOOKUP($E12,'2_別紙1-2_実施計画書'!$AC$844:$AM$846,3,0)=TRUE),1,\"-\")","v":"-"},"*"]
[7,null,null,null,"⑦","エコドライブ",1,{"$f":"IF(OR(HLOOKUP($E13,'2_別紙1-2_実施計画書'!$AC$59:$AM$61,3,0)=1,HLOOKUP($E13,'2_別紙1-2_実施計画書'!$AC$59:$AM$61,3,0)=TRUE),1,\"-\")","v":"-"},{"$f":"IF(OR(HLOOKUP($E13,'2_別紙1-2_実施計画書'!$AC$116:$AM$118,3,0)=1,HLOOKUP($E13,'2_別紙1-2_実施計画書'!$AC$116:$AM$118,3,0)=TRUE),1,\"-\")","v":"-"},{"$f":"IF(OR(HLOOKUP($E13,'2_別紙1-2_実施計画書'!$AC$172:$AM$174,3,0)=1,HLOOKUP($E13,'2_別紙1-2_実施計画書'!$AC$172:$AM$174,3,0)=TRUE),1,\"-\")","v":"-"},{"$f":"IF(OR(HLOOKUP($E13,'2_別紙1-2_実施計画書'!$AC$228:$AM$230,3,0)=1,HLOOKUP($E13,'2_別紙1-2_実施計画書'!$AC$228:$AM$230,3,0)=TRUE),1,\"-\")","v":"-"},{"$f":"IF(OR(HLOOKUP($E13,'2_別紙1-2_実施計画書'!$AC$284:$AM$286,3,0)=1,HLOOKUP($E13,'2_別紙1-2_実施計画書'!$AC$284:$AM$286,3,0)=TRUE),1,\"-\")","v":"-"},{"$f":"IF(OR(HLOOKUP($E13,'2_別紙1-2_実施計画書'!$AC$340:$AM$342,3,0)=1,HLOOKUP($E13,'2_別紙1-2_実施計画書'!$AC$340:$AM$342,3,0)=TRUE),1,\"-\")","v":"-"},{"$f":"IF(OR(HLOOKUP($E13,'2_別紙1-2_実施計画書'!$AC$396:$AM$398,3,0)=1,HLOOKUP($E13,'2_別紙1-2_実施計画書'!$AC$396:$AM$398,3,0)=TRUE),1,\"-\")","v":"-"},{"$f":"IF(OR(HLOOKUP($E13,'2_別紙1-2_実施計画書'!$AC$452:$AM$454,3,0)=1,HLOOKUP($E13,'2_別紙1-2_実施計画書'!$AC$452:$AM$454,3,0)=TRUE),1,\"-\")","v":"-"},{"$f":"IF(OR(HLOOKUP($E13,'2_別紙1-2_実施計画書'!$AC$508:$AM$510,3,0)=1,HLOOKUP($E13,'2_別紙1-2_実施計画書'!$AC$508:$AM$510,3,0)=TRUE),1,\"-\")","v":"-"},{"$f":"IF(OR(HLOOKUP($E13,'2_別紙1-2_実施計画書'!$AC$564:$AM$566,3,0)=1,HLOOKUP($E13,'2_別紙1-2_実施計画書'!$AC$564:$AM$566,3,0)=TRUE),1,\"-\")","v":"-"},{"$f":"IF(OR(HLOOKUP($E13,'2_別紙1-2_実施計画書'!$AC$620:$AM$622,3,0)=1,HLOOKUP($E13,'2_別紙1-2_実施計画書'!$AC$620:$AM$622,3,0)=TRUE),1,\"-\")","v":"-"},{"$f":"IF(OR(HLOOKUP($E13,'2_別紙1-2_実施計画書'!$AC$676:$AM$678,3,0)=1,HLOOKUP($E13,'2_別紙1-2_実施計画書'!$AC$676:$AM$678,3,0)=TRUE),1,\"-\")","v":"-"},{"$f":"IF(OR(HLOOKUP($E13,'2_別紙1-2_実施計画書'!$AC$732:$AM$734,3,0)=1,HLOOKUP($E13,'2_別紙1-2_実施計画書'!$AC$732:$AM$734,3,0)=TRUE),1,\"-\")","v":"-"},{"$f":"IF(OR(HLOOKUP($E13,'2_別紙1-2_実施計画書'!$AC$788:$AM$790,3,0)=1,HLOOKUP($E13,'2_別紙1-2_実施計画書'!$AC$788:$AM$790,3,0)=TRUE),1,\"-\")","v":"-"},{"$f":"IF(OR(HLOOKUP($E13,'2_別紙1-2_実施計画書'!$AC$844:$AM$846,3,0)=1,HLOOKUP($E13,'2_別紙1-2_実施計画書'!$AC$844:$AM$846,3,0)=TRUE),1,\"-\")","v":"-"},"*"]
[8,null,null,null,"⑧","カーシェア",null,{"$f":"IF(OR(HLOOKUP($E14,'2_別紙1-2_実施計画書'!$AC$59:$AM$61,3,0)=1,HLOOKUP($E14,'2_別紙1-2_実施計画書'!$AC$59:$AM$61,3,0)=TRUE),1,\"-\")","v":"-"},{"$f":"IF(OR(HLOOKUP($E14,'2_別紙1-2_実施計画書'!$AC$116:$AM$118,3,0)=1,HLOOKUP($E14,'2_別紙1-2_実施計画書'!$AC$116:$AM$118,3,0)=TRUE),1,\"-\")","v":"-"},{"$f":"IF(OR(HLOOKUP($E14,'2_別紙1-2_実施計画書'!$AC$172:$AM$174,3,0)=1,HLOOKUP($E14,'2_別紙1-2_実施計画書'!$AC$172:$AM$174,3,0)=TRUE),1,\"-\")","v":"-"},{"$f":"IF(OR(HLOOKUP($E14,'2_別紙1-2_実施計画書'!$AC$228:$AM$230,3,0)=1,HLOOKUP($E14,'2_別紙1-2_実施計画書'!$AC$228:$AM$230,3,0)=TRUE),1,\"-\")","v":"-"},{"$f":"IF(OR(HLOOKUP($E14,'2_別紙1-2_実施計画書'!$AC$284:$AM$286,3,0)=1,HLOOKUP($E14,'2_別紙1-2_実施計画書'!$AC$284:$AM$286,3,0)=TRUE),1,\"-\")","v":"-"},{"$f":"IF(OR(HLOOKUP($E14,'2_別紙1-2_実施計画書'!$AC$340:$AM$342,3,0)=1,HLOOKUP($E14,'2_別紙1-2_実施計画書'!$AC$340:$AM$342,3,0)=TRUE),1,\"-\")","v":"-"},{"$f":"IF(OR(HLOOKUP($E14,'2_別紙1-2_実施計画書'!$AC$396:$AM$398,3,0)=1,HLOOKUP($E14,'2_別紙1-2_実施計画書'!$AC$396:$AM$398,3,0)=TRUE),1,\"-\")","v":"-"},{"$f":"IF(OR(HLOOKUP($E14,'2_別紙1-2_実施計画書'!$AC$452:$AM$454,3,0)=1,HLOOKUP($E14,'2_別紙1-2_実施計画書'!$AC$452:$AM$454,3,0)=TRUE),1,\"-\")","v":"-"},{"$f":"IF(OR(HLOOKUP($E14,'2_別紙1-2_実施計画書'!$AC$508:$AM$510,3,0)=1,HLOOKUP($E14,'2_別紙1-2_実施計画書'!$AC$508:$AM$510,3,0)=TRUE),1,\"-\")","v":"-"},{"$f":"IF(OR(HLOOKUP($E14,'2_別紙1-2_実施計画書'!$AC$564:$AM$566,3,0)=1,HLOOKUP($E14,'2_別紙1-2_実施計画書'!$AC$564:$AM$566,3,0)=TRUE),1,\"-\")","v":"-"},{"$f":"IF(OR(HLOOKUP($E14,'2_別紙1-2_実施計画書'!$AC$620:$AM$622,3,0)=1,HLOOKUP($E14,'2_別紙1-2_実施計画書'!$AC$620:$AM$622,3,0)=TRUE),1,\"-\")","v":"-"},{"$f":"IF(OR(HLOOKUP($E14,'2_別紙1-2_実施計画書'!$AC$676:$AM$678,3,0)=1,HLOOKUP($E14,'2_別紙1-2_実施計画書'!$AC$676:$AM$678,3,0)=TRUE),1,\"-\")","v":"-"},{"$f":"IF(OR(HLOOKUP($E14,'2_別紙1-2_実施計画書'!$AC$732:$AM$734,3,0)=1,HLOOKUP($E14,'2_別紙1-2_実施計画書'!$AC$732:$AM$734,3,0)=TRUE),1,\"-\")","v":"-"},{"$f":"IF(OR(HLOOKUP($E14,'2_別紙1-2_実施計画書'!$AC$788:$AM$790,3,0)=1,HLOOKUP($E14,'2_別紙1-2_実施計画書'!$AC$788:$AM$790,3,0)=TRUE),1,\"-\")","v":"-"},{"$f":"IF(OR(HLOOKUP($E14,'2_別紙1-2_実施計画書'!$AC$844:$AM$846,3,0)=1,HLOOKUP($E14,'2_別紙1-2_実施計画書'!$AC$844:$AM$846,3,0)=TRUE),1,\"-\")","v":"-"},"*"]
[9,null,null,null,"⑨","スマートムーブ",null,{"$f":"IF(OR(HLOOKUP($E15,'2_別紙1-2_実施計画書'!$AC$59:$AM$61,3,0)=1,HLOOKUP($E15,'2_別紙1-2_実施計画書'!$AC$59:$AM$61,3,0)=TRUE),1,\"-\")","v":"-"},{"$f":"IF(OR(HLOOKUP($E15,'2_別紙1-2_実施計画書'!$AC$116:$AM$118,3,0)=1,HLOOKUP($E15,'2_別紙1-2_実施計画書'!$AC$116:$AM$118,3,0)=TRUE),1,\"-\")","v":"-"},{"$f":"IF(OR(HLOOKUP($E15,'2_別紙1-2_実施計画書'!$AC$172:$AM$174,3,0)=1,HLOOKUP($E15,'2_別紙1-2_実施計画書'!$AC$172:$AM$174,3,0)=TRUE),1,\"-\")","v":"-"},{"$f":"IF(OR(HLOOKUP($E15,'2_別紙1-2_実施計画書'!$AC$228:$AM$230,3,0)=1,HLOOKUP($E15,'2_別紙1-2_実施計画書'!$AC$228:$AM$230,3,0)=TRUE),1,\"-\")","v":"-"},{"$f":"IF(OR(HLOOKUP($E15,'2_別紙1-2_実施計画書'!$AC$284:$AM$286,3,0)=1,HLOOKUP($E15,'2_別紙1-2_実施計画書'!$AC$284:$AM$286,3,0)=TRUE),1,\"-\")","v":"-"},{"$f":"IF(OR(HLOOKUP($E15,'2_別紙1-2_実施計画書'!$AC$340:$AM$342,3,0)=1,HLOOKUP($E15,'2_別紙1-2_実施計画書'!$AC$340:$AM$342,3,0)=TRUE),1,\"-\")","v":"-"},{"$f":"IF(OR(HLOOKUP($E15,'2_別紙1-2_実施計画書'!$AC$396:$AM$398,3,0)=1,HLOOKUP($E15,'2_別紙1-2_実施計画書'!$AC$396:$AM$398,3,0)=TRUE),1,\"-\")","v":"-"},{"$f":"IF(OR(HLOOKUP($E15,'2_別紙1-2_実施計画書'!$AC$452:$AM$454,3,0)=1,HLOOKUP($E15,'2_別紙1-2_実施計画書'!$AC$452:$AM$454,3,0)=TRUE),1,\"-\")","v":"-"},{"$f":"IF(OR(HLOOKUP($E15,'2_別紙1-2_実施計画書'!$AC$508:$AM$510,3,0)=1,HLOOKUP($E15,'2_別紙1-2_実施計画書'!$AC$508:$AM$510,3,0)=TRUE),1,\"-\")","v":"-"},{"$f":"IF(OR(HLOOKUP($E15,'2_別紙1-2_実施計画書'!$AC$564:$AM$566,3,0)=1,HLOOKUP($E15,'2_別紙1-2_実施計画書'!$AC$564:$AM$566,3,0)=TRUE),1,\"-\")","v":"-"},{"$f":"IF(OR(HLOOKUP($E15,'2_別紙1-2_実施計画書'!$AC$620:$AM$622,3,0)=1,HLOOKUP($E15,'2_別紙1-2_実施計画書'!$AC$620:$AM$622,3,0)=TRUE),1,\"-\")","v":"-"},{"$f":"IF(OR(HLOOKUP($E15,'2_別紙1-2_実施計画書'!$AC$676:$AM$678,3,0)=1,HLOOKUP($E15,'2_別紙1-2_実施計画書'!$AC$676:$AM$678,3,0)=TRUE),1,\"-\")","v":"-"},{"$f":"IF(OR(HLOOKUP($E15,'2_別紙1-2_実施計画書'!$AC$732:$AM$734,3,0)=1,HLOOKUP($E15,'2_別紙1-2_実施計画書'!$AC$732:$AM$734,3,0)=TRUE),1,\"-\")","v":"-"},{"$f":"IF(OR(HLOOKUP($E15,'2_別紙1-2_実施計画書'!$AC$788:$AM$790,3,0)=1,HLOOKUP($E15,'2_別紙1-2_実施計画書'!$AC$788:$AM$790,3,0)=TRUE),1,\"-\")","v":"-"},{"$f":"IF(OR(HLOOKUP($E15,'2_別紙1-2_実施計画書'!$AC$844:$AM$846,3,0)=1,HLOOKUP($E15,'2_別紙1-2_実施計画書'!$AC$844:$AM$846,3,0)=TRUE),1,\"-\")","v":"-"},"*"]
[10,null,null,null,"⑩","再配達防止",null,{"$f":"IF(OR(HLOOKUP($E16,'2_別紙1-2_実施計画書'!$AC$59:$AM$61,3,0)=1,HLOOKUP($E16,'2_別紙1-2_実施計画書'!$AC$59:$AM$61,3,0)=TRUE),1,\"-\")","v":"-"},{"$f":"IF(OR(HLOOKUP($E16,'2_別紙1-2_実施計画書'!$AC$116:$AM$118,3,0)=1,HLOOKUP($E16,'2_別紙1-2_実施計画書'!$AC$116:$AM$118,3,0)=TRUE),1,\"-\")","v":"-"},{"$f":"IF(OR(HLOOKUP($E16,'2_別紙1-2_実施計画書'!$AC$172:$AM$174,3,0)=1,HLOOKUP($E16,'2_別紙1-2_実施計画書'!$AC$172:$AM$174,3,0)=TRUE),1,\"-\")","v":"-"},{"$f":"IF(OR(HLOOKUP($E16,'2_別紙1-2_実施計画書'!$AC$228:$AM$230,3,0)=1,HLOOKUP($E16,'2_別紙1-2_実施計画書'!$AC$228:$AM$230,3,0)=TRUE),1,\"-\")","v":"-"},{"$f":"IF(OR(HLOOKUP($E16,'2_別紙1-2_実施計画書'!$AC$284:$AM$286,3,0)=1,HLOOKUP($E16,'2_別紙1-2_実施計画書'!$AC$284:$AM$286,3,0)=TRUE),1,\"-\")","v":"-"},{"$f":"IF(OR(HLOOKUP($E16,'2_別紙1-2_実施計画書'!$AC$340:$AM$342,3,0)=1,HLOOKUP($E16,'2_別紙1-2_実施計画書'!$AC$340:$AM$342,3,0)=TRUE),1,\"-\")","v":"-"},{"$f":"IF(OR(HLOOKUP($E16,'2_別紙1-2_実施計画書'!$AC$396:$AM$398,3,0)=1,HLOOKUP($E16,'2_別紙1-2_実施計画書'!$AC$396:$AM$398,3,0)=TRUE),1,\"-\")","v":"-"},{"$f":"IF(OR(HLOOKUP($E16,'2_別紙1-2_実施計画書'!$AC$452:$AM$454,3,0)=1,HLOOKUP($E16,'2_別紙1-2_実施計画書'!$AC$452:$AM$454,3,0)=TRUE),1,\"-\")","v":"-"},{"$f":"IF(OR(HLOOKUP($E16,'2_別紙1-2_実施計画書'!$AC$508:$AM$510,3,0)=1,HLOOKUP($E16,'2_別紙1-2_実施計画書'!$AC$508:$AM$510,3,0)=TRUE),1,\"-\")","v":"-"},{"$f":"IF(OR(HLOOKUP($E16,'2_別紙1-2_実施計画書'!$AC$564:$AM$566,3,0)=1,HLOOKUP($E16,'2_別紙1-2_実施計画書'!$AC$564:$AM$566,3,0)=TRUE),1,\"-\")","v":"-"},{"$f":"IF(OR(HLOOKUP($E16,'2_別紙1-2_実施計画書'!$AC$620:$AM$622,3,0)=1,HLOOKUP($E16,'2_別紙1-2_実施計画書'!$AC$620:$AM$622,3,0)=TRUE),1,\"-\")","v":"-"},{"$f":"IF(OR(HLOOKUP($E16,'2_別紙1-2_実施計画書'!$AC$676:$AM$678,3,0)=1,HLOOKUP($E16,'2_別紙1-2_実施計画書'!$AC$676:$AM$678,3,0)=TRUE),1,\"-\")","v":"-"},{"$f":"IF(OR(HLOOKUP($E16,'2_別紙1-2_実施計画書'!$AC$732:$AM$734,3,0)=1,HLOOKUP($E16,'2_別紙1-2_実施計画書'!$AC$732:$AM$734,3,0)=TRUE),1,\"-\")","v":"-"},{"$f":"IF(OR(HLOOKUP($E16,'2_別紙1-2_実施計画書'!$AC$788:$AM$790,3,0)=1,HLOOKUP($E16,'2_別紙1-2_実施計画書'!$AC$788:$AM$790,3,0)=TRUE),1,\"-\")","v":"-"},{"$f":"IF(OR(HLOOKUP($E16,'2_別紙1-2_実施計画書'!$AC$844:$AM$846,3,0)=1,HLOOKUP($E16,'2_別紙1-2_実施計画書'!$AC$844:$AM$846,3,0)=TRUE),1,\"-\")","v":"-"},"*"]
[11,null,null,null,"⑪","ｼｪｱﾘﾝｸﾞｴｺﾉﾐｰ",null,{"$f":"IF(OR(HLOOKUP($E17,'2_別紙1-2_実施計画書'!$AC$59:$AM$61,3,0)=1,HLOOKUP($E17,'2_別紙1-2_実施計画書'!$AC$59:$AM$61,3,0)=TRUE),1,\"-\")","v":"-"},{"$f":"IF(OR(HLOOKUP($E17,'2_別紙1-2_実施計画書'!$AC$116:$AM$118,3,0)=1,HLOOKUP($E17,'2_別紙1-2_実施計画書'!$AC$116:$AM$118,3,0)=TRUE),1,\"-\")","v":"-"},{"$f":"IF(OR(HLOOKUP($E17,'2_別紙1-2_実施計画書'!$AC$172:$AM$174,3,0)=1,HLOOKUP($E17,'2_別紙1-2_実施計画書'!$AC$172:$AM$174,3,0)=TRUE),1,\"-\")","v":"-"},{"$f":"IF(OR(HLOOKUP($E17,'2_別紙1-2_実施計画書'!$AC$228:$AM$230,3,0)=1,HLOOKUP($E17,'2_別紙1-2_実施計画書'!$AC$228:$AM$230,3,0)=TRUE),1,\"-\")","v":"-"},{"$f":"IF(OR(HLOOKUP($E17,'2_別紙1-2_実施計画書'!$AC$284:$AM$286,3,0)=1,HLOOKUP($E17,'2_別紙1-2_実施計画書'!$AC$284:$AM$286,3,0)=TRUE),1,\"-\")","v":"-"},{"$f":"IF(OR(HLOOKUP($E17,'2_別紙1-2_実施計画書'!$AC$340:$AM$342,3,0)=1,HLOOKUP($E17,'2_別紙1-2_実施計画書'!$AC$340:$AM$342,3,0)=TRUE),1,\"-\")","v":"-"},{"$f":"IF(OR(HLOOKUP($E17,'2_別紙1-2_実施計画書'!$AC$396:$AM$398,3,0)=1,HLOOKUP($E17,'2_別紙1-2_実施計画書'!$AC$396:$AM$398,3,0)=TRUE),1,\"-\")","v":"-"},{"$f":"IF(OR(HLOOKUP($E17,'2_別紙1-2_実施計画書'!$AC$452:$AM$454,3,0)=1,HLOOKUP($E17,'2_別紙1-2_実施計画書'!$AC$452:$AM$454,3,0)=TRUE),1,\"-\")","v":"-"},{"$f":"IF(OR(HLOOKUP($E17,'2_別紙1-2_実施計画書'!$AC$508:$AM$510,3,0)=1,HLOOKUP($E17,'2_別紙1-2_実施計画書'!$AC$508:$AM$510,3,0)=TRUE),1,\"-\")","v":"-"},{"$f":"IF(OR(HLOOKUP($E17,'2_別紙1-2_実施計画書'!$AC$564:$AM$566,3,0)=1,HLOOKUP($E17,'2_別紙1-2_実施計画書'!$AC$564:$AM$566,3,0)=TRUE),1,\"-\")","v":"-"},{"$f":"IF(OR(HLOOKUP($E17,'2_別紙1-2_実施計画書'!$AC$620:$AM$622,3,0)=1,HLOOKUP($E17,'2_別紙1-2_実施計画書'!$AC$620:$AM$622,3,0)=TRUE),1,\"-\")","v":"-"},{"$f":"IF(OR(HLOOKUP($E17,'2_別紙1-2_実施計画書'!$AC$676:$AM$678,3,0)=1,HLOOKUP($E17,'2_別紙1-2_実施計画書'!$AC$676:$AM$678,3,0)=TRUE),1,\"-\")","v":"-"},{"$f":"IF(OR(HLOOKUP($E17,'2_別紙1-2_実施計画書'!$AC$732:$AM$734,3,0)=1,HLOOKUP($E17,'2_別紙1-2_実施計画書'!$AC$732:$AM$734,3,0)=TRUE),1,\"-\")","v":"-"},{"$f":"IF(OR(HLOOKUP($E17,'2_別紙1-2_実施計画書'!$AC$788:$AM$790,3,0)=1,HLOOKUP($E17,'2_別紙1-2_実施計画書'!$AC$788:$AM$790,3,0)=TRUE),1,\"-\")","v":"-"},{"$f":"IF(OR(HLOOKUP($E17,'2_別紙1-2_実施計画書'!$AC$844:$AM$846,3,0)=1,HLOOKUP($E17,'2_別紙1-2_実施計画書'!$AC$844:$AM$846,3,0)=TRUE),1,\"-\")","v":"-"},"*"]
[12,null,"訴求手法\n（該当する欄に「1」と記入）",null,"a)","情報発信型（受動型）",1,{"$f":"IF(OR(HLOOKUP($E18,'2_別紙1-2_実施計画書'!$AO$64:$AQ$65,2,0)=1,HLOOKUP($E18,'2_別紙1-2_実施計画書'!$AO$64:$AQ$65,2,0)=TRUE),1,\"-\")","v":"-"},{"$f":"IF(OR(HLOOKUP($E18,'2_別紙1-2_実施計画書'!$AO$121:$AQ$122,2,0)=1,HLOOKUP($E18,'2_別紙1-2_実施計画書'!$AO$121:$AQ$122,2,0)=TRUE),1,\"-\")","v":"-"},{"$f":"IF(OR(HLOOKUP($E18,'2_別紙1-2_実施計画書'!$AO$177:$AQ$178,2,0)=1,HLOOKUP($E18,'2_別紙1-2_実施計画書'!$AO$177:$AQ$178,2,0)=TRUE),1,\"-\")","v":"-"},{"$f":"IF(OR(HLOOKUP($E18,'2_別紙1-2_実施計画書'!$AO$233:$AQ$234,2,0)=1,HLOOKUP($E18,'2_別紙1-2_実施計画書'!$AO$233:$AQ$234,2,0)=TRUE),1,\"-\")","v":"-"},{"$f":"IF(OR(HLOOKUP($E18,'2_別紙1-2_実施計画書'!$AO$289:$AQ$290,2,0)=1,HLOOKUP($E18,'2_別紙1-2_実施計画書'!$AO$289:$AQ$290,2,0)=TRUE),1,\"-\")","v":"-"},{"$f":"IF(OR(HLOOKUP($E18,'2_別紙1-2_実施計画書'!$AO$345:$AQ$346,2,0)=1,HLOOKUP($E18,'2_別紙1-2_実施計画書'!$AO$345:$AQ$346,2,0)=TRUE),1,\"-\")","v":"-"},{"$f":"IF(OR(HLOOKUP($E18,'2_別紙1-2_実施計画書'!$AO$401:$AQ$402,2,0)=1,HLOOKUP($E18,'2_別紙1-2_実施計画書'!$AO$401:$AQ$402,2,0)=TRUE),1,\"-\")","v":"-"},{"$f":"IF(OR(HLOOKUP($E18,'2_別紙1-2_実施計画書'!$AO$457:$AQ$458,2,0)=1,HLOOKUP($E18,'2_別紙1-2_実施計画書'!$AO$457:$AQ$458,2,0)=TRUE),1,\"-\")","v":"-"},{"$f":"IF(OR(HLOOKUP($E18,'2_別紙1-2_実施計画書'!$AO$513:$AQ$514,2,0)=1,HLOOKUP($E18,'2_別紙1-2_実施計画書'!$AO$513:$AQ$514,2,0)=TRUE),1,\"-\")","v":"-"},{"$f":"IF(OR(HLOOKUP($E18,'2_別紙1-2_実施計画書'!$AO$569:$AQ$570,2,0)=1,HLOOKUP($E18,'2_別紙1-2_実施計画書'!$AO$569:$AQ$570,2,0)=TRUE),1,\"-\")","v":"-"},{"$f":"IF(OR(HLOOKUP($E18,'2_別紙1-2_実施計画書'!$AO$625:$AQ$626,2,0)=1,HLOOKUP($E18,'2_別紙1-2_実施計画書'!$AO$625:$AQ$626,2,0)=TRUE),1,\"-\")","v":"-"},{"$f":"IF(OR(HLOOKUP($E18,'2_別紙1-2_実施計画書'!$AO$681:$AQ$682,2,0)=1,HLOOKUP($E18,'2_別紙1-2_実施計画書'!$AO$681:$AQ$682,2,0)=TRUE),1,\"-\")","v":"-"},{"$f":"IF(OR(HLOOKUP($E18,'2_別紙1-2_実施計画書'!$AO$737:$AQ$738,2,0)=1,HLOOKUP($E18,'2_別紙1-2_実施計画書'!$AO$737:$AQ$738,2,0)=TRUE),1,\"-\")","v":"-"},{"$f":"IF(OR(HLOOKUP($E18,'2_別紙1-2_実施計画書'!$AO$793:$AQ$794,2,0)=1,HLOOKUP($E18,'2_別紙1-2_実施計画書'!$AO$793:$AQ$794,2,0)=TRUE),1,\"-\")","v":"-"},{"$f":"IF(OR(HLOOKUP($E18,'2_別紙1-2_実施計画書'!$AO$849:$AQ$850,2,0)=1,HLOOKUP($E18,'2_別紙1-2_実施計画書'!$AO$849:$AQ$850,2,0)=TRUE),1,\"-\")","v":"-"},"*"]
[13,null,null,null,"b)","情報発信型（能動型）",null,{"$f":"IF(OR(HLOOKUP($E19,'2_別紙1-2_実施計画書'!$AO$64:$AQ$65,2,0)=1,HLOOKUP($E19,'2_別紙1-2_実施計画書'!$AO$64:$AQ$65,2,0)=TRUE),1,\"-\")","v":"-"},{"$f":"IF(OR(HLOOKUP($E19,'2_別紙1-2_実施計画書'!$AO$121:$AQ$122,2,0)=1,HLOOKUP($E19,'2_別紙1-2_実施計画書'!$AO$121:$AQ$122,2,0)=TRUE),1,\"-\")","v":"-"},{"$f":"IF(OR(HLOOKUP($E19,'2_別紙1-2_実施計画書'!$AO$177:$AQ$178,2,0)=1,HLOOKUP($E19,'2_別紙1-2_実施計画書'!$AO$177:$AQ$178,2,0)=TRUE),1,\"-\")","v":"-"},{"$f":"IF(OR(HLOOKUP($E19,'2_別紙1-2_実施計画書'!$AO$233:$AQ$234,2,0)=1,HLOOKUP($E19,'2_別紙1-2_実施計画書'!$AO$233:$AQ$234,2,0)=TRUE),1,\"-\")","v":"-"},{"$f":"IF(OR(HLOOKUP($E19,'2_別紙1-2_実施計画書'!$AO$289:$AQ$290,2,0)=1,HLOOKUP($E19,'2_別紙1-2_実施計画書'!$AO$289:$AQ$290,2,0)=TRUE),1,\"-\")","v":"-"},{"$f":"IF(OR(HLOOKUP($E19,'2_別紙1-2_実施計画書'!$AO$345:$AQ$346,2,0)=1,HLOOKUP($E19,'2_別紙1-2_実施計画書'!$AO$345:$AQ$346,2,0)=TRUE),1,\"-\")","v":"-"},{"$f":"IF(OR(HLOOKUP($E19,'2_別紙1-2_実施計画書'!$AO$401:$AQ$402,2,0)=1,HLOOKUP($E19,'2_別紙1-2_実施計画書'!$AO$401:$AQ$402,2,0)=TRUE),1,\"-\")","v":"-"},{"$f":"IF(OR(HLOOKUP($E19,'2_別紙1-2_実施計画書'!$AO$457:$AQ$458,2,0)=1,HLOOKUP($E19,'2_別紙1-2_実施計画書'!$AO$457:$AQ$458,2,0)=TRUE),1,\"-\")","v":"-"},{"$f":"IF(OR(HLOOKUP($E19,'2_別紙1-2_実施計画書'!$AO$513:$AQ$514,2,0)=1,HLOOKUP($E19,'2_別紙1-2_実施計画書'!$AO$513:$AQ$514,2,0)=TRUE),1,\"-\")","v":"-"},{"$f":"IF(OR(HLOOKUP($E19,'2_別紙1-2_実施計画書'!$AO$569:$AQ$570,2,0)=1,HLOOKUP($E19,'2_別紙1-2_実施計画書'!$AO$569:$AQ$570,2,0)=TRUE),1,\"-\")","v":"-"},{"$f":"IF(OR(HLOOKUP($E19,'2_別紙1-2_実施計画書'!$AO$625:$AQ$626,2,0)=1,HLOOKUP($E19,'2_別紙1-2_実施計画書'!$AO$625:$AQ$626,2,0)=TRUE),1,\"-\")","v":"-"},{"$f":"IF(OR(HLOOKUP($E19,'2_別紙1-2_実施計画書'!$AO$681:$AQ$682,2,0)=1,HLOOKUP($E19,'2_別紙1-2_実施計画書'!$AO$681:$AQ$682,2,0)=TRUE),1,\"-\")","v":"-"},{"$f":"IF(OR(HLOOKUP($E19,'2_別紙1-2_実施計画書'!$AO$737:$AQ$738,2,0)=1,HLOOKUP($E19,'2_別紙1-2_実施計画書'!$AO$737:$AQ$738,2,0)=TRUE),1,\"-\")","v":"-"},{"$f":"IF(OR(HLOOKUP($E19,'2_別紙1-2_実施計画書'!$AO$793:$AQ$794,2,0)=1,HLOOKUP($E19,'2_別紙1-2_実施計画書'!$AO$793:$AQ$794,2,0)=TRUE),1,\"-\")","v":"-"},{"$f":"IF(OR(HLOOKUP($E19,'2_別紙1-2_実施計画書'!$AO$849:$AQ$850,2,0)=1,HLOOKUP($E19,'2_別紙1-2_実施計画書'!$AO$849:$AQ$850,2,0)=TRUE),1,\"-\")","v":"-"},"*"]
[14,null,null,null,"c)","双方向体験交流型",null,{"$f":"IF(OR(HLOOKUP($E20,'2_別紙1-2_実施計画書'!$AO$64:$AQ$65,2,0)=1,HLOOKUP($E20,'2_別紙1-2_実施計画書'!$AO$64:$AQ$65,2,0)=TRUE),1,\"-\")","v":"-"},{"$f":"IF(OR(HLOOKUP($E20,'2_別紙1-2_実施計画書'!$AO$121:$AQ$122,2,0)=1,HLOOKUP($E20,'2_別紙1-2_実施計画書'!$AO$121:$AQ$122,2,0)=TRUE),1,\"-\")","v":"-"},{"$f":"IF(OR(HLOOKUP($E20,'2_別紙1-2_実施計画書'!$AO$177:$AQ$178,2,0)=1,HLOOKUP($E20,'2_別紙1-2_実施計画書'!$AO$177:$AQ$178,2,0)=TRUE),1,\"-\")","v":"-"},{"$f":"IF(OR(HLOOKUP($E20,'2_別紙1-2_実施計画書'!$AO$233:$AQ$234,2,0)=1,HLOOKUP($E20,'2_別紙1-2_実施計画書'!$AO$233:$AQ$234,2,0)=TRUE),1,\"-\")","v":"-"},{"$f":"IF(OR(HLOOKUP($E20,'2_別紙1-2_実施計画書'!$AO$289:$AQ$290,2,0)=1,HLOOKUP($E20,'2_別紙1-2_実施計画書'!$AO$289:$AQ$290,2,0)=TRUE),1,\"-\")","v":"-"},{"$f":"IF(OR(HLOOKUP($E20,'2_別紙1-2_実施計画書'!$AO$345:$AQ$346,2,0)=1,HLOOKUP($E20,'2_別紙1-2_実施計画書'!$AO$345:$AQ$346,2,0)=TRUE),1,\"-\")","v":"-"},{"$f":"IF(OR(HLOOKUP($E20,'2_別紙1-2_実施計画書'!$AO$401:$AQ$402,2,0)=1,HLOOKUP($E20,'2_別紙1-2_実施計画書'!$AO$401:$AQ$402,2,0)=TRUE),1,\"-\")","v":"-"},{"$f":"IF(OR(HLOOKUP($E20,'2_別紙1-2_実施計画書'!$AO$457:$AQ$458,2,0)=1,HLOOKUP($E20,'2_別紙1-2_実施計画書'!$AO$457:$AQ$458,2,0)=TRUE),1,\"-\")","v":"-"},{"$f":"IF(OR(HLOOKUP($E20,'2_別紙1-2_実施計画書'!$AO$513:$AQ$514,2,0)=1,HLOOKUP($E20,'2_別紙1-2_実施計画書'!$AO$513:$AQ$514,2,0)=TRUE),1,\"-\")","v":"-"},{"$f":"IF(OR(HLOOKUP($E20,'2_別紙1-2_実施計画書'!$AO$569:$AQ$570,2,0)=1,HLOOKUP($E20,'2_別紙1-2_実施計画書'!$AO$569:$AQ$570,2,0)=TRUE),1,\"-\")","v":"-"},{"$f":"IF(OR(HLOOKUP($E20,'2_別紙1-2_実施計画書'!$AO$625:$AQ$626,2,0)=1,HLOOKUP($E20,'2_別紙1-2_実施計画書'!$AO$625:$AQ$626,2,0)=TRUE),1,\"-\")","v":"-"},{"$f":"IF(OR(HLOOKUP($E20,'2_別紙1-2_実施計画書'!$AO$681:$AQ$682,2,0)=1,HLOOKUP($E20,'2_別紙1-2_実施計画書'!$AO$681:$AQ$682,2,0)=TRUE),1,\"-\")","v":"-"},{"$f":"IF(OR(HLOOKUP($E20,'2_別紙1-2_実施計画書'!$AO$737:$AQ$738,2,0)=1,HLOOKUP($E20,'2_別紙1-2_実施計画書'!$AO$737:$AQ$738,2,0)=TRUE),1,\"-\")","v":"-"},{"$f":"IF(OR(HLOOKUP($E20,'2_別紙1-2_実施計画書'!$AO$793:$AQ$794,2,0)=1,HLOOKUP($E20,'2_別紙1-2_実施計画書'!$AO$793:$AQ$794,2,0)=TRUE),1,\"-\")","v":"-"},{"$f":"IF(OR(HLOOKUP($E20,'2_別紙1-2_実施計画書'!$AO$849:$AQ$850,2,0)=1,HLOOKUP($E20,'2_別紙1-2_実施計画書'!$AO$849:$AQ$850,2,0)=TRUE),1,\"-\")","v":"-"},"*"]
[15,null,"情報発信カテゴリー\n（プルダウン選択）",null,null,"①","③CM",{"$f":"IF('2_別紙1-2_実施計画書'!$E66=\"\",\"\",'2_別紙1-2_実施計画書'!$E66)","v":"-"},{"$f":"IF('2_別紙1-2_実施計画書'!$E123=\"\",\"\",'2_別紙1-2_実施計画書'!$E123)","v":"-"},{"$f":"IF('2_別紙1-2_実施計画書'!$E179=\"\",\"\",'2_別紙1-2_実施計画書'!$E179)","v":"-"},{"$f":"IF('2_別紙1-2_実施計画書'!$E235=\"\",\"\",'2_別紙1-2_実施計画書'!$E235)","v":"-"},{"$f":"IF('2_別紙1-2_実施計画書'!$E291=\"\",\"\",'2_別紙1-2_実施計画書'!$E291)","v":"-"},{"$f":"IF('2_別紙1-2_実施計画書'!$E347=\"\",\"\",'2_別紙1-2_実施計画書'!$E347)","v":"-"},{"$f":"IF('2_別紙1-2_実施計画書'!$E403=\"\",\"\",'2_別紙1-2_実施計画書'!$E403)","v":"-"},{"$f":"IF('2_別紙1-2_実施計画書'!$E459=\"\",\"\",'2_別紙1-2_実施計画書'!$E459)","v":"-"},{"$f":"IF('2_別紙1-2_実施計画書'!$E515=\"\",\"\",'2_別紙1-2_実施計画書'!$E515)","v":"-"},{"$f":"IF('2_別紙1-2_実施計画書'!$E571=\"\",\"\",'2_別紙1-2_実施計画書'!$E571)","v":"-"},{"$f":"IF('2_別紙1-2_実施計画書'!$E627=\"\",\"\",'2_別紙1-2_実施計画書'!$E627)","v":"-"},{"$f":"IF('2_別紙1-2_実施計画書'!$E683=\"\",\"\",'2_別紙1-2_実施計画書'!$E683)","v":"-"},{"$f":"IF('2_別紙1-2_実施計画書'!$E739=\"\",\"\",'2_別紙1-2_実施計画書'!$E739)","v":"-"},{"$f":"IF('2_別紙1-2_実施計画書'!$E795=\"\",\"\",'2_別紙1-2_実施計画書'!$E795)","v":"-"},{"$f":"IF('2_別紙1-2_実施計画書'!$E851=\"\",\"\",'2_別紙1-2_実施計画書'!$E851)","v":"-"},"*"]
[16,null,null,null,null,"②",null,{"$f":"IF('2_別紙1-2_実施計画書'!$P66=\"\",\"\",'2_別紙1-2_実施計画書'!$P66)","v":"-"},{"$f":"IF('2_別紙1-2_実施計画書'!$P124=\"\",\"\",'2_別紙1-2_実施計画書'!$P124)","v":""},{"$f":"IF('2_別紙1-2_実施計画書'!$P180=\"\",\"\",'2_別紙1-2_実施計画書'!$P180)","v":""},{"$f":"IF('2_別紙1-2_実施計画書'!$P236=\"\",\"\",'2_別紙1-2_実施計画書'!$P236)","v":""},{"$f":"IF('2_別紙1-2_実施計画書'!$P292=\"\",\"\",'2_別紙1-2_実施計画書'!$P292)","v":""},{"$f":"IF('2_別紙1-2_実施計画書'!$P348=\"\",\"\",'2_別紙1-2_実施計画書'!$P348)","v":""},{"$f":"IF('2_別紙1-2_実施計画書'!$P404=\"\",\"\",'2_別紙1-2_実施計画書'!$P404)","v":""},{"$f":"IF('2_別紙1-2_実施計画書'!$P460=\"\",\"\",'2_別紙1-2_実施計画書'!$P460)","v":""},{"$f":"IF('2_別紙1-2_実施計画書'!$P516=\"\",\"\",'2_別紙1-2_実施計画書'!$P516)","v":""},{"$f":"IF('2_別紙1-2_実施計画書'!$P572=\"\",\"\",'2_別紙1-2_実施計画書'!$P572)","v":""},{"$f":"IF('2_別紙1-2_実施計画書'!$P628=\"\",\"\",'2_別紙1-2_実施計画書'!$P628)","v":""},{"$f":"IF('2_別紙1-2_実施計画書'!$P684=\"\",\"\",'2_別紙1-2_実施計画書'!$P684)","v":""},{"$f":"IF('2_別紙1-2_実施計画書'!$P740=\"\",\"\",'2_別紙1-2_実施計画書'!$P740)","v":""},{"$f":"IF('2_別紙1-2_実施計画書'!$P796=\"\",\"\",'2_別紙1-2_実施計画書'!$P796)","v":""},{"$f":"IF('2_別紙1-2_実施計画書'!$P852=\"\",\"\",'2_別紙1-2_実施計画書'!$P852)","v":""},"*"]
[17,null,"尺・放送回数",null,"①","尺","30秒",{"$f":"IF('2_別紙1-2_実施計画書'!$I69=\"\",\"\",'2_別紙1-2_実施計画書'!$I69&'2_別紙1-2_実施計画書'!$L69)","v":""},{"$f":"IF('2_別紙1-2_実施計画書'!$I126=\"\",\"\",'2_別紙1-2_実施計画書'!$I126&'2_別紙1-2_実施計画書'!$L126)","v":""},{"$f":"IF('2_別紙1-2_実施計画書'!$I182=\"\",\"\",'2_別紙1-2_実施計画書'!$I182&'2_別紙1-2_実施計画書'!$L182)","v":""},{"$f":"IF('2_別紙1-2_実施計画書'!$I238=\"\",\"\",'2_別紙1-2_実施計画書'!$I238&'2_別紙1-2_実施計画書'!$L238)","v":""},{"$f":"IF('2_別紙1-2_実施計画書'!$I294=\"\",\"\",'2_別紙1-2_実施計画書'!$I294&'2_別紙1-2_実施計画書'!$L294)","v":""},{"$f":"IF('2_別紙1-2_実施計画書'!$I350=\"\",\"\",'2_別紙1-2_実施計画書'!$I350&'2_別紙1-2_実施計画書'!$L350)","v":""},{"$f":"IF('2_別紙1-2_実施計画書'!$I406=\"\",\"\",'2_別紙1-2_実施計画書'!$I406&'2_別紙1-2_実施計画書'!$L406)","v":""},{"$f":"IF('2_別紙1-2_実施計画書'!$I462=\"\",\"\",'2_別紙1-2_実施計画書'!$I462&'2_別紙1-2_実施計画書'!$L462)","v":""},{"$f":"IF('2_別紙1-2_実施計画書'!$I518=\"\",\"\",'2_別紙1-2_実施計画書'!$I518&'2_別紙1-2_実施計画書'!$L518)","v":""},{"$f":"IF('2_別紙1-2_実施計画書'!$I574=\"\",\"\",'2_別紙1-2_実施計画書'!$I574&'2_別紙1-2_実施計画書'!$L574)","v":""},{"$f":"IF('2_別紙1-2_実施計画書'!$I630=\"\",\"\",'2_別紙1-2_実施計画書'!$I630&'2_別紙1-2_実施計画書'!$L630)","v":""},{"$f":"IF('2_別紙1-2_実施計画書'!$I686=\"\",\"\",'2_別紙1-2_実施計画書'!$I686&'2_別紙1-2_実施計画書'!$L686)","v":""},{"$f":"IF('2_別紙1-2_実施計画書'!$I742=\"\",\"\",'2_別紙1-2_実施計画書'!$I742&'2_別紙1-2_実施計画書'!$L742)","v":""},{"$f":"IF('2_別紙1-2_実施計画書'!$I798=\"\",\"\",'2_別紙1-2_実施計画書'!$I798&'2_別紙1-2_実施計画書'!$L798)","v":""},{"$f":"IF('2_別紙1-2_実施計画書'!$I854=\"\",\"\",'2_別紙1-2_実施計画書'!$I854&'2_別紙1-2_実施計画書'!$L854)","v":""},"*"]
[18,null,null,null,null,"収録本数",10,{"$f":"IF('2_別紙1-2_実施計画書'!$I70=\"\",\"\",'2_別紙1-2_実施計画書'!$I70)","v":""},{"$f":"IF('2_別紙1-2_実施計画書'!$I127=\"\",\"\",'2_別紙1-2_実施計画書'!$I127)","v":""},{"$f":"IF('2_別紙1-2_実施計画書'!$I183=\"\",\"\",'2_別紙1-2_実施計画書'!$I183)","v":""},{"$f":"IF('2_別紙1-2_実施計画書'!$I239=\"\",\"\",'2_別紙1-2_実施計画書'!$I239)","v":""},{"$f":"IF('2_別紙1-2_実施計画書'!$I295=\"\",\"\",'2_別紙1-2_実施計画書'!$I295)","v":""},{"$f":"IF('2_別紙1-2_実施計画書'!$I351=\"\",\"\",'2_別紙1-2_実施計画書'!$I351)","v":""},{"$f":"IF('2_別紙1-2_実施計画書'!$I407=\"\",\"\",'2_別紙1-2_実施計画書'!$I407)","v":""},{"$f":"IF('2_別紙1-2_実施計画書'!$I463=\"\",\"\",'2_別紙1-2_実施計画書'!$I463)","v":""},{"$f":"IF('2_別紙1-2_実施計画書'!$I519=\"\",\"\",'2_別紙1-2_実施計画書'!$I519)","v":""},{"$f":"IF('2_別紙1-2_実施計画書'!$I575=\"\",\"\",'2_別紙1-2_実施計画書'!$I575)","v":""},{"$f":"IF('2_別紙1-2_実施計画書'!$I631=\"\",\"\",'2_別紙1-2_実施計画書'!$I631)","v":""},{"$f":"IF('2_別紙1-2_実施計画書'!$I687=\"\",\"\",'2_別紙1-2_実施計画書'!$I687)","v":""},{"$f":"IF('2_別紙1-2_実施計画書'!$I743=\"\",\"\",'2_別紙1-2_実施計画書'!$I743)","v":""},{"$f":"IF('2_別紙1-2_実施計画書'!$I799=\"\",\"\",'2_別紙1-2_実施計画書'!$I799)","v":""},{"$f":"IF('2_別紙1-2_実施計画書'!$I855=\"\",\"\",'2_別紙1-2_実施計画書'!$I855)","v":""},"*"]
[19,null,null,null,null,"放送回数",218,{"$f":"IF('2_別紙1-2_実施計画書'!$I71=\"\",\"\",'2_別紙1-2_実施計画書'!$I71)","v":""},{"$f":"IF('2_別紙1-2_実施計画書'!$I128=\"\",\"\",'2_別紙1-2_実施計画書'!$I128)","v":""},{"$f":"IF('2_別紙1-2_実施計画書'!$I184=\"\",\"\",'2_別紙1-2_実施計画書'!$I184)","v":""},{"$f":"IF('2_別紙1-2_実施計画書'!$I240=\"\",\"\",'2_別紙1-2_実施計画書'!$I240)","v":""},{"$f":"IF('2_別紙1-2_実施計画書'!$I296=\"\",\"\",'2_別紙1-2_実施計画書'!$I296)","v":""},{"$f":"IF('2_別紙1-2_実施計画書'!$I352=\"\",\"\",'2_別紙1-2_実施計画書'!$I352)","v":""},{"$f":"IF('2_別紙1-2_実施計画書'!$I408=\"\",\"\",'2_別紙1-2_実施計画書'!$I408)","v":""},{"$f":"IF('2_別紙1-2_実施計画書'!$I464=\"\",\"\",'2_別紙1-2_実施計画書'!$I464)","v":""},{"$f":"IF('2_別紙1-2_実施計画書'!$I520=\"\",\"\",'2_別紙1-2_実施計画書'!$I520)","v":""},{"$f":"IF('2_別紙1-2_実施計画書'!$I576=\"\",\"\",'2_別紙1-2_実施計画書'!$I576)","v":""},{"$f":"IF('2_別紙1-2_実施計画書'!$I632=\"\",\"\",'2_別紙1-2_実施計画書'!$I632)","v":""},{"$f":"IF('2_別紙1-2_実施計画書'!$I688=\"\",\"\",'2_別紙1-2_実施計画書'!$I688)","v":""},{"$f":"IF('2_別紙1-2_実施計画書'!$I744=\"\",\"\",'2_別紙1-2_実施計画書'!$I744)","v":""},{"$f":"IF('2_別紙1-2_実施計画書'!$I800=\"\",\"\",'2_別紙1-2_実施計画書'!$I800)","v":""},{"$f":"IF('2_別紙1-2_実施計画書'!$I856=\"\",\"\",'2_別紙1-2_実施計画書'!$I856)","v":""},"*"]
[20,null,null,null,null,"備考","10本のCMをローテーションを組んで放送",{"$f":"IF('2_別紙1-2_実施計画書'!$I72=\"\",\"\",'2_別紙1-2_実施計画書'!$I72)","v":""},{"$f":"IF('2_別紙1-2_実施計画書'!$I129=\"\",\"\",'2_別紙1-2_実施計画書'!$I129)","v":""},{"$f":"IF('2_別紙1-2_実施計画書'!$I185=\"\",\"\",'2_別紙1-2_実施計画書'!$I185)","v":""},{"$f":"IF('2_別紙1-2_実施計画書'!$I241=\"\",\"\",'2_別紙1-2_実施計画書'!$I241)","v":""},{"$f":"IF('2_別紙1-2_実施計画書'!$I297=\"\",\"\",'2_別紙1-2_実施計画書'!$I297)","v":""},{"$f":"IF('2_別紙1-2_実施計画書'!$I353=\"\",\"\",'2_別紙1-2_実施計画書'!$I353)","v":""},{"$f":"IF('2_別紙1-2_実施計画書'!$I409=\"\",\"\",'2_別紙1-2_実施計画書'!$I409)","v":""},{"$f":"IF('2_別紙1-2_実施計画書'!$I465=\"\",\"\",'2_別紙1-2_実施計画書'!$I465)","v":""},{"$f":"IF('2_別紙1-2_実施計画書'!$I521=\"\",\"\",'2_別紙1-2_実施計画書'!$I521)","v":""},{"$f":"IF('2_別紙1-2_実施計画書'!$I577=\"\",\"\",'2_別紙1-2_実施計画書'!$I577)","v":""},{"$f":"IF('2_別紙1-2_実施計画書'!$I633=\"\",\"\",'2_別紙1-2_実施計画書'!$I633)","v":""},{"$f":"IF('2_別紙1-2_実施計画書'!$I689=\"\",\"\",'2_別紙1-2_実施計画書'!$I689)","v":""},{"$f":"IF('2_別紙1-2_実施計画書'!$I745=\"\",\"\",'2_別紙1-2_実施計画書'!$I745)","v":""},{"$f":"IF('2_別紙1-2_実施計画書'!$I801=\"\",\"\",'2_別紙1-2_実施計画書'!$I801)","v":""},{"$f":"IF('2_別紙1-2_実施計画書'!$I857=\"\",\"\",'2_別紙1-2_実施計画書'!$I857)","v":""},"*"]
[21,null,null,null,"②","尺",null,{"$f":"IF('2_別紙1-2_実施計画書'!$I73=\"\",\"\",'2_別紙1-2_実施計画書'!$I73&'2_別紙1-2_実施計画書'!$L73)","v":""},{"$f":"IF('2_別紙1-2_実施計画書'!$I130=\"\",\"\",'2_別紙1-2_実施計画書'!$I130&'2_別紙1-2_実施計画書'!$L130)","v":""},{"$f":"IF('2_別紙1-2_実施計画書'!$I186=\"\",\"\",'2_別紙1-2_実施計画書'!$I186&'2_別紙1-2_実施計画書'!$L186)","v":""},{"$f":"IF('2_別紙1-2_実施計画書'!$I242=\"\",\"\",'2_別紙1-2_実施計画書'!$I242&'2_別紙1-2_実施計画書'!$L242)","v":""},{"$f":"IF('2_別紙1-2_実施計画書'!$I298=\"\",\"\",'2_別紙1-2_実施計画書'!$I298&'2_別紙1-2_実施計画書'!$L298)","v":""},{"$f":"IF('2_別紙1-2_実施計画書'!$I354=\"\",\"\",'2_別紙1-2_実施計画書'!$I354&'2_別紙1-2_実施計画書'!$L354)","v":""},{"$f":"IF('2_別紙1-2_実施計画書'!$I410=\"\",\"\",'2_別紙1-2_実施計画書'!$I410&'2_別紙1-2_実施計画書'!$L410)","v":""},{"$f":"IF('2_別紙1-2_実施計画書'!$I466=\"\",\"\",'2_別紙1-2_実施計画書'!$I466&'2_別紙1-2_実施計画書'!$L466)","v":""},{"$f":"IF('2_別紙1-2_実施計画書'!$I522=\"\",\"\",'2_別紙1-2_実施計画書'!$I522&'2_別紙1-2_実施計画書'!$L522)","v":""},{"$f":"IF('2_別紙1-2_実施計画書'!$I578=\"\",\"\",'2_別紙1-2_実施計画書'!$I578&'2_別紙1-2_実施計画書'!$L578)","v":""},{"$f":"IF('2_別紙1-2_実施計画書'!$I634=\"\",\"\",'2_別紙1-2_実施計画書'!$I634&'2_別紙1-2_実施計画書'!$L634)","v":""},{"$f":"IF('2_別紙1-2_実施計画書'!$I690=\"\",\"\",'2_別紙1-2_実施計画書'!$I690&'2_別紙1-2_実施計画書'!$L690)","v":""},{"$f":"IF('2_別紙1-2_実施計画書'!$I746=\"\",\"\",'2_別紙1-2_実施計画書'!$I746&'2_別紙1-2_実施計画書'!$L746)","v":""},{"$f":"IF('2_別紙1-2_実施計画書'!$I802=\"\",\"\",'2_別紙1-2_実施計画書'!$I802&'2_別紙1-2_実施計画書'!$L802)","v":""},{"$f":"IF('2_別紙1-2_実施計画書'!$I858=\"\",\"\",'2_別紙1-2_実施計画書'!$I858&'2_別紙1-2_実施計画書'!$L858)","v":""},"*"]
[22,null,null,null,null,"収録本数",null,{"$f":"IF('2_別紙1-2_実施計画書'!$I74=\"\",\"\",'2_別紙1-2_実施計画書'!$I74)","v":""},{"$f":"IF('2_別紙1-2_実施計画書'!$I131=\"\",\"\",'2_別紙1-2_実施計画書'!$I131)","v":""},{"$f":"IF('2_別紙1-2_実施計画書'!$I187=\"\",\"\",'2_別紙1-2_実施計画書'!$I187)","v":""},{"$f":"IF('2_別紙1-2_実施計画書'!$I243=\"\",\"\",'2_別紙1-2_実施計画書'!$I243)","v":""},{"$f":"IF('2_別紙1-2_実施計画書'!$I299=\"\",\"\",'2_別紙1-2_実施計画書'!$I299)","v":""},{"$f":"IF('2_別紙1-2_実施計画書'!$I355=\"\",\"\",'2_別紙1-2_実施計画書'!$I355)","v":""},{"$f":"IF('2_別紙1-2_実施計画書'!$I411=\"\",\"\",'2_別紙1-2_実施計画書'!$I411)","v":""},{"$f":"IF('2_別紙1-2_実施計画書'!$I467=\"\",\"\",'2_別紙1-2_実施計画書'!$I467)","v":""},{"$f":"IF('2_別紙1-2_実施計画書'!$I523=\"\",\"\",'2_別紙1-2_実施計画書'!$I523)","v":""},{"$f":"IF('2_別紙1-2_実施計画書'!$I579=\"\",\"\",'2_別紙1-2_実施計画書'!$I579)","v":""},{"$f":"IF('2_別紙1-2_実施計画書'!$I635=\"\",\"\",'2_別紙1-2_実施計画書'!$I635)","v":""},{"$f":"IF('2_別紙1-2_実施計画書'!$I691=\"\",\"\",'2_別紙1-2_実施計画書'!$I691)","v":""},{"$f":"IF('2_別紙1-2_実施計画書'!$I747=\"\",\"\",'2_別紙1-2_実施計画書'!$I747)","v":""},{"$f":"IF('2_別紙1-2_実施計画書'!$I803=\"\",\"\",'2_別紙1-2_実施計画書'!$I803)","v":""},{"$f":"IF('2_別紙1-2_実施計画書'!$I859=\"\",\"\",'2_別紙1-2_実施計画書'!$I859)","v":""},"*"]
[23,null,null,null,null,"放送回数",null,{"$f":"IF('2_別紙1-2_実施計画書'!$I75=\"\",\"\",'2_別紙1-2_実施計画書'!$I75)","v":""},{"$f":"IF('2_別紙1-2_実施計画書'!$I132=\"\",\"\",'2_別紙1-2_実施計画書'!$I132)","v":""},{"$f":"IF('2_別紙1-2_実施計画書'!$I188=\"\",\"\",'2_別紙1-2_実施計画書'!$I188)","v":""},{"$f":"IF('2_別紙1-2_実施計画書'!$I244=\"\",\"\",'2_別紙1-2_実施計画書'!$I244)","v":""},{"$f":"IF('2_別紙1-2_実施計画書'!$I300=\"\",\"\",'2_別紙1-2_実施計画書'!$I300)","v":""},{"$f":"IF('2_別紙1-2_実施計画書'!$I356=\"\",\"\",'2_別紙1-2_実施計画書'!$I356)","v":""},{"$f":"IF('2_別紙1-2_実施計画書'!$I412=\"\",\"\",'2_別紙1-2_実施計画書'!$I412)","v":""},{"$f":"IF('2_別紙1-2_実施計画書'!$I468=\"\",\"\",'2_別紙1-2_実施計画書'!$I468)","v":""},{"$f":"IF('2_別紙1-2_実施計画書'!$I524=\"\",\"\",'2_別紙1-2_実施計画書'!$I524)","v":""},{"$f":"IF('2_別紙1-2_実施計画書'!$I580=\"\",\"\",'2_別紙1-2_実施計画書'!$I580)","v":""},{"$f":"IF('2_別紙1-2_実施計画書'!$I636=\"\",\"\",'2_別紙1-2_実施計画書'!$I636)","v":""},{"$f":"IF('2_別紙1-2_実施計画書'!$I692=\"\",\"\",'2_別紙1-2_実施計画書'!$I692)","v":""},{"$f":"IF('2_別紙1-2_実施計画書'!$I748=\"\",\"\",'2_別紙1-2_実施計画書'!$I748)","v":""},{"$f":"IF('2_別紙1-2_実施計画書'!$I804=\"\",\"\",'2_別紙1-2_実施計画書'!$I804)","v":""},{"$f":"IF('2_別紙1-2_実施計画書'!$I860=\"\",\"\",'2_別紙1-2_実施計画書'!$I860)","v":""},"*"]
[24,null,null,null,null,"備考",null,{"$f":"IF('2_別紙1-2_実施計画書'!$I76=\"\",\"\",'2_別紙1-2_実施計画書'!$I76)","v":""},{"$f":"IF('2_別紙1-2_実施計画書'!$I133=\"\",\"\",'2_別紙1-2_実施計画書'!$I133)","v":""},{"$f":"IF('2_別紙1-2_実施計画書'!$I189=\"\",\"\",'2_別紙1-2_実施計画書'!$I189)","v":""},{"$f":"IF('2_別紙1-2_実施計画書'!$I245=\"\",\"\",'2_別紙1-2_実施計画書'!$I245)","v":""},{"$f":"IF('2_別紙1-2_実施計画書'!$I301=\"\",\"\",'2_別紙1-2_実施計画書'!$I301)","v":""},{"$f":"IF('2_別紙1-2_実施計画書'!$I357=\"\",\"\",'2_別紙1-2_実施計画書'!$I357)","v":""},{"$f":"IF('2_別紙1-2_実施計画書'!$I413=\"\",\"\",'2_別紙1-2_実施計画書'!$I413)","v":""},{"$f":"IF('2_別紙1-2_実施計画書'!$I469=\"\",\"\",'2_別紙1-2_実施計画書'!$I469)","v":""},{"$f":"IF('2_別紙1-2_実施計画書'!$I525=\"\",\"\",'2_別紙1-2_実施計画書'!$I525)","v":""},{"$f":"IF('2_別紙1-2_実施計画書'!$I581=\"\",\"\",'2_別紙1-2_実施計画書'!$I581)","v":""},{"$f":"IF('2_別紙1-2_実施計画書'!$I637=\"\",\"\",'2_別紙1-2_実施計画書'!$I637)","v":""},{"$f":"IF('2_別紙1-2_実施計画書'!$I693=\"\",\"\",'2_別紙1-2_実施計画書'!$I693)","v":""},{"$f":"IF('2_別紙1-2_実施計画書'!$I749=\"\",\"\",'2_別紙1-2_実施計画書'!$I749)","v":""},{"$f":"IF('2_別紙1-2_実施計画書'!$I805=\"\",\"\",'2_別紙1-2_実施計画書'!$I805)","v":""},{"$f":"IF('2_別紙1-2_実施計画書'!$I861=\"\",\"\",'2_別紙1-2_実施計画書'!$I861)","v":""},"*"]
[25,null,"実施期間",null,null,null,"2019-08-01",{"$f":"IF('2_別紙1-2_実施計画書'!$E77=\"\",\"\",'2_別紙1-2_実施計画書'!$E77)","v":""},{"$f":"IF('2_別紙1-2_実施計画書'!$E134=\"\",\"\",'2_別紙1-2_実施計画書'!$E134)","v":""},{"$f":"IF('2_別紙1-2_実施計画書'!$E190=\"\",\"\",'2_別紙1-2_実施計画書'!$E190)","v":""},{"$f":"IF('2_別紙1-2_実施計画書'!$E246=\"\",\"\",'2_別紙1-2_実施計画書'!$E246)","v":""},{"$f":"IF('2_別紙1-2_実施計画書'!$E302=\"\",\"\",'2_別紙1-2_実施計画書'!$E302)","v":""},{"$f":"IF('2_別紙1-2_実施計画書'!$E358=\"\",\"\",'2_別紙1-2_実施計画書'!$E358)","v":""},{"$f":"IF('2_別紙1-2_実施計画書'!$E414=\"\",\"\",'2_別紙1-2_実施計画書'!$E414)","v":""},{"$f":"IF('2_別紙1-2_実施計画書'!$E470=\"\",\"\",'2_別紙1-2_実施計画書'!$E470)","v":""},{"$f":"IF('2_別紙1-2_実施計画書'!$E526=\"\",\"\",'2_別紙1-2_実施計画書'!$E526)","v":""},{"$f":"IF('2_別紙1-2_実施計画書'!$E582=\"\",\"\",'2_別紙1-2_実施計画書'!$E582)","v":""},{"$f":"IF('2_別紙1-2_実施計画書'!$E638=\"\",\"\",'2_別紙1-2_実施計画書'!$E638)","v":""},{"$f":"IF('2_別紙1-2_実施計画書'!$E694=\"\",\"\",'2_別紙1-2_実施計画書'!$E694)","v":""},{"$f":"IF('2_別紙1-2_実施計画書'!$E750=\"\",\"\",'2_別紙1-2_実施計画書'!$E750)","v":""},{"$f":"IF('2_別紙1-2_実施計画書'!$E806=\"\",\"\",'2_別紙1-2_実施計画書'!$E806)","v":""},{"$f":"IF('2_別紙1-2_実施計画書'!$E862=\"\",\"\",'2_別紙1-2_実施計画書'!$E862)","v":""},"*"]
[26,null,null,null,null,null,"～","～","～","～","～","～","～","～","～","～","～","～","～","～","～","～","*"]
[27,null,null,null,null,null,"2019-12-31",{"$f":"IF('2_別紙1-2_実施計画書'!$R77=\"\",\"\",'2_別紙1-2_実施計画書'!$R77)","v":""},{"$f":"IF('2_別紙1-2_実施計画書'!$R134=\"\",\"\",'2_別紙1-2_実施計画書'!$R134)","v":""},{"$f":"IF('2_別紙1-2_実施計画書'!$R190=\"\",\"\",'2_別紙1-2_実施計画書'!$R190)","v":""},{"$f":"IF('2_別紙1-2_実施計画書'!$R246=\"\",\"\",'2_別紙1-2_実施計画書'!$R246)","v":""},{"$f":"IF('2_別紙1-2_実施計画書'!$R302=\"\",\"\",'2_別紙1-2_実施計画書'!$R302)","v":""},{"$f":"IF('2_別紙1-2_実施計画書'!$R358=\"\",\"\",'2_別紙1-2_実施計画書'!$R358)","v":""},{"$f":"IF('2_別紙1-2_実施計画書'!$R414=\"\",\"\",'2_別紙1-2_実施計画書'!$R414)","v":""},{"$f":"IF('2_別紙1-2_実施計画書'!$R470=\"\",\"\",'2_別紙1-2_実施計画書'!$R470)","v":""},{"$f":"IF('2_別紙1-2_実施計画書'!$R526=\"\",\"\",'2_別紙1-2_実施計画書'!$R526)","v":""},{"$f":"IF('2_別紙1-2_実施計画書'!$R582=\"\",\"\",'2_別紙1-2_実施計画書'!$R582)","v":""},{"$f":"IF('2_別紙1-2_実施計画書'!$R638=\"\",\"\",'2_別紙1-2_実施計画書'!$R638)","v":""},{"$f":"IF('2_別紙1-2_実施計画書'!$R694=\"\",\"\",'2_別紙1-2_実施計画書'!$R694)","v":""},{"$f":"IF('2_別紙1-2_実施計画書'!$R750=\"\",\"\",'2_別紙1-2_実施計画書'!$R750)","v":""},{"$f":"IF('2_別紙1-2_実施計画書'!$R806=\"\",\"\",'2_別紙1-2_実施計画書'!$R806)","v":""},{"$f":"IF('2_別紙1-2_実施計画書'!$R862=\"\",\"\",'2_別紙1-2_実施計画書'!$R862)","v":""},"*"]
[28,null,null,"放送時間、その他備考",null,null,"平日毎日4回",{"$f":"IF('2_別紙1-2_実施計画書'!$E78=\"\",\"\",'2_別紙1-2_実施計画書'!$E78)","v":""},{"$f":"IF('2_別紙1-2_実施計画書'!$E135=\"\",\"\",'2_別紙1-2_実施計画書'!$E135)","v":""},{"$f":"IF('2_別紙1-2_実施計画書'!$E191=\"\",\"\",'2_別紙1-2_実施計画書'!$E191)","v":""},{"$f":"IF('2_別紙1-2_実施計画書'!$E247=\"\",\"\",'2_別紙1-2_実施計画書'!$E247)","v":""},{"$f":"IF('2_別紙1-2_実施計画書'!$E303=\"\",\"\",'2_別紙1-2_実施計画書'!$E303)","v":""},{"$f":"IF('2_別紙1-2_実施計画書'!$E359=\"\",\"\",'2_別紙1-2_実施計画書'!$E359)","v":""},{"$f":"IF('2_別紙1-2_実施計画書'!$E415=\"\",\"\",'2_別紙1-2_実施計画書'!$E415)","v":""},{"$f":"IF('2_別紙1-2_実施計画書'!$E471=\"\",\"\",'2_別紙1-2_実施計画書'!$E471)","v":""},{"$f":"IF('2_別紙1-2_実施計画書'!$E527=\"\",\"\",'2_別紙1-2_実施計画書'!$E527)","v":""},{"$f":"IF('2_別紙1-2_実施計画書'!$E583=\"\",\"\",'2_別紙1-2_実施計画書'!$E583)","v":""},{"$f":"IF('2_別紙1-2_実施計画書'!$E639=\"\",\"\",'2_別紙1-2_実施計画書'!$E639)","v":""},{"$f":"IF('2_別紙1-2_実施計画書'!$E695=\"\",\"\",'2_別紙1-2_実施計画書'!$E695)","v":""},{"$f":"IF('2_別紙1-2_実施計画書'!$E751=\"\",\"\",'2_別紙1-2_実施計画書'!$E751)","v":""},{"$f":"IF('2_別紙1-2_実施計画書'!$E807=\"\",\"\",'2_別紙1-2_実施計画書'!$E807)","v":""},{"$f":"IF('2_別紙1-2_実施計画書'!$E863=\"\",\"\",'2_別紙1-2_実施計画書'!$E863)","v":""},"*"]
[29,null,"実施日\n（※同一事業内で、同一の内容・場所において\n複数日実施する場合）",null,null,"(1)",null,{"$f":"IF('2_別紙1-2_実施計画書'!$G79=\"\",\"\",'2_別紙1-2_実施計画書'!$G79)","v":""},{"$f":"IF('2_別紙1-2_実施計画書'!$G136=\"\",\"\",'2_別紙1-2_実施計画書'!$G136)","v":""},{"$f":"IF('2_別紙1-2_実施計画書'!$G192=\"\",\"\",'2_別紙1-2_実施計画書'!$G192)","v":""},{"$f":"IF('2_別紙1-2_実施計画書'!$G248=\"\",\"\",'2_別紙1-2_実施計画書'!$G248)","v":""},{"$f":"IF('2_別紙1-2_実施計画書'!$G304=\"\",\"\",'2_別紙1-2_実施計画書'!$G304)","v":""},{"$f":"IF('2_別紙1-2_実施計画書'!$G360=\"\",\"\",'2_別紙1-2_実施計画書'!$G360)","v":""},{"$f":"IF('2_別紙1-2_実施計画書'!$G416=\"\",\"\",'2_別紙1-2_実施計画書'!$G416)","v":""},{"$f":"IF('2_別紙1-2_実施計画書'!$G472=\"\",\"\",'2_別紙1-2_実施計画書'!$G472)","v":""},{"$f":"IF('2_別紙1-2_実施計画書'!$G528=\"\",\"\",'2_別紙1-2_実施計画書'!$G528)","v":""},{"$f":"IF('2_別紙1-2_実施計画書'!$G584=\"\",\"\",'2_別紙1-2_実施計画書'!$G584)","v":""},{"$f":"IF('2_別紙1-2_実施計画書'!$G640=\"\",\"\",'2_別紙1-2_実施計画書'!$G640)","v":""},{"$f":"IF('2_別紙1-2_実施計画書'!$G696=\"\",\"\",'2_別紙1-2_実施計画書'!$G696)","v":""},{"$f":"IF('2_別紙1-2_実施計画書'!$G752=\"\",\"\",'2_別紙1-2_実施計画書'!$G752)","v":""},{"$f":"IF('2_別紙1-2_実施計画書'!$G808=\"\",\"\",'2_別紙1-2_実施計画書'!$G808)","v":""},{"$f":"IF('2_別紙1-2_実施計画書'!$G864=\"\",\"\",'2_別紙1-2_実施計画書'!$G864)","v":""},"*"]
[30,null,null,null,null,"(2)",null,{"$f":"IF('2_別紙1-2_実施計画書'!$G80=\"\",\"\",'2_別紙1-2_実施計画書'!$G80)","v":""},{"$f":"IF('2_別紙1-2_実施計画書'!$G137=\"\",\"\",'2_別紙1-2_実施計画書'!$G137)","v":""},{"$f":"IF('2_別紙1-2_実施計画書'!$G193=\"\",\"\",'2_別紙1-2_実施計画書'!$G193)","v":""},{"$f":"IF('2_別紙1-2_実施計画書'!$G249=\"\",\"\",'2_別紙1-2_実施計画書'!$G249)","v":""},{"$f":"IF('2_別紙1-2_実施計画書'!$G305=\"\",\"\",'2_別紙1-2_実施計画書'!$G305)","v":""},{"$f":"IF('2_別紙1-2_実施計画書'!$G361=\"\",\"\",'2_別紙1-2_実施計画書'!$G361)","v":""},{"$f":"IF('2_別紙1-2_実施計画書'!$G417=\"\",\"\",'2_別紙1-2_実施計画書'!$G417)","v":""},{"$f":"IF('2_別紙1-2_実施計画書'!$G473=\"\",\"\",'2_別紙1-2_実施計画書'!$G473)","v":""},{"$f":"IF('2_別紙1-2_実施計画書'!$G529=\"\",\"\",'2_別紙1-2_実施計画書'!$G529)","v":""},{"$f":"IF('2_別紙1-2_実施計画書'!$G585=\"\",\"\",'2_別紙1-2_実施計画書'!$G585)","v":""},{"$f":"IF('2_別紙1-2_実施計画書'!$G641=\"\",\"\",'2_別紙1-2_実施計画書'!$G641)","v":""},{"$f":"IF('2_別紙1-2_実施計画書'!$G697=\"\",\"\",'2_別紙1-2_実施計画書'!$G697)","v":""},{"$f":"IF('2_別紙1-2_実施計画書'!$G753=\"\",\"\",'2_別紙1-2_実施計画書'!$G753)","v":""},{"$f":"IF('2_別紙1-2_実施計画書'!$G809=\"\",\"\",'2_別紙1-2_実施計画書'!$G809)","v":""},{"$f":"IF('2_別紙1-2_実施計画書'!$G865=\"\",\"\",'2_別紙1-2_実施計画書'!$G865)","v":""},"*"]
[31,null,null,null,null,"(3)",null,{"$f":"IF('2_別紙1-2_実施計画書'!$G81=\"\",\"\",'2_別紙1-2_実施計画書'!$G81)","v":""},{"$f":"IF('2_別紙1-2_実施計画書'!$G138=\"\",\"\",'2_別紙1-2_実施計画書'!$G138)","v":""},{"$f":"IF('2_別紙1-2_実施計画書'!$G194=\"\",\"\",'2_別紙1-2_実施計画書'!$G194)","v":""},{"$f":"IF('2_別紙1-2_実施計画書'!$G250=\"\",\"\",'2_別紙1-2_実施計画書'!$G250)","v":""},{"$f":"IF('2_別紙1-2_実施計画書'!$G306=\"\",\"\",'2_別紙1-2_実施計画書'!$G306)","v":""},{"$f":"IF('2_別紙1-2_実施計画書'!$G362=\"\",\"\",'2_別紙1-2_実施計画書'!$G362)","v":""},{"$f":"IF('2_別紙1-2_実施計画書'!$G418=\"\",\"\",'2_別紙1-2_実施計画書'!$G418)","v":""},{"$f":"IF('2_別紙1-2_実施計画書'!$G474=\"\",\"\",'2_別紙1-2_実施計画書'!$G474)","v":""},{"$f":"IF('2_別紙1-2_実施計画書'!$G530=\"\",\"\",'2_別紙1-2_実施計画書'!$G530)","v":""},{"$f":"IF('2_別紙1-2_実施計画書'!$G586=\"\",\"\",'2_別紙1-2_実施計画書'!$G586)","v":""},{"$f":"IF('2_別紙1-2_実施計画書'!$G642=\"\",\"\",'2_別紙1-2_実施計画書'!$G642)","v":""},{"$f":"IF('2_別紙1-2_実施計画書'!$G698=\"\",\"\",'2_別紙1-2_実施計画書'!$G698)","v":""},{"$f":"IF('2_別紙1-2_実施計画書'!$G754=\"\",\"\",'2_別紙1-2_実施計画書'!$G754)","v":""},{"$f":"IF('2_別紙1-2_実施計画書'!$G810=\"\",\"\",'2_別紙1-2_実施計画書'!$G810)","v":""},{"$f":"IF('2_別紙1-2_実施計画書'!$G866=\"\",\"\",'2_別紙1-2_実施計画書'!$G866)","v":""},"*"]
[32,null,null,null,null,"(4)",null,{"$f":"IF('2_別紙1-2_実施計画書'!$G82=\"\",\"\",'2_別紙1-2_実施計画書'!$G82)","v":""},{"$f":"IF('2_別紙1-2_実施計画書'!$G139=\"\",\"\",'2_別紙1-2_実施計画書'!$G139)","v":""},{"$f":"IF('2_別紙1-2_実施計画書'!$G195=\"\",\"\",'2_別紙1-2_実施計画書'!$G195)","v":""},{"$f":"IF('2_別紙1-2_実施計画書'!$G251=\"\",\"\",'2_別紙1-2_実施計画書'!$G251)","v":""},{"$f":"IF('2_別紙1-2_実施計画書'!$G307=\"\",\"\",'2_別紙1-2_実施計画書'!$G307)","v":""},{"$f":"IF('2_別紙1-2_実施計画書'!$G363=\"\",\"\",'2_別紙1-2_実施計画書'!$G363)","v":""},{"$f":"IF('2_別紙1-2_実施計画書'!$G419=\"\",\"\",'2_別紙1-2_実施計画書'!$G419)","v":""},{"$f":"IF('2_別紙1-2_実施計画書'!$G475=\"\",\"\",'2_別紙1-2_実施計画書'!$G475)","v":""},{"$f":"IF('2_別紙1-2_実施計画書'!$G531=\"\",\"\",'2_別紙1-2_実施計画書'!$G531)","v":""},{"$f":"IF('2_別紙1-2_実施計画書'!$G587=\"\",\"\",'2_別紙1-2_実施計画書'!$G587)","v":""},{"$f":"IF('2_別紙1-2_実施計画書'!$G643=\"\",\"\",'2_別紙1-2_実施計画書'!$G643)","v":""},{"$f":"IF('2_別紙1-2_実施計画書'!$G699=\"\",\"\",'2_別紙1-2_実施計画書'!$G699)","v":""},{"$f":"IF('2_別紙1-2_実施計画書'!$G755=\"\",\"\",'2_別紙1-2_実施計画書'!$G755)","v":""},{"$f":"IF('2_別紙1-2_実施計画書'!$G811=\"\",\"\",'2_別紙1-2_実施計画書'!$G811)","v":""},{"$f":"IF('2_別紙1-2_実施計画書'!$G867=\"\",\"\",'2_別紙1-2_実施計画書'!$G867)","v":""},"*"]
[33,null,null,null,null,"(5)",null,{"$f":"IF('2_別紙1-2_実施計画書'!$G83=\"\",\"\",'2_別紙1-2_実施計画書'!$G83)","v":""},{"$f":"IF('2_別紙1-2_実施計画書'!$G140=\"\",\"\",'2_別紙1-2_実施計画書'!$G140)","v":""},{"$f":"IF('2_別紙1-2_実施計画書'!$G196=\"\",\"\",'2_別紙1-2_実施計画書'!$G196)","v":""},{"$f":"IF('2_別紙1-2_実施計画書'!$G252=\"\",\"\",'2_別紙1-2_実施計画書'!$G252)","v":""},{"$f":"IF('2_別紙1-2_実施計画書'!$G308=\"\",\"\",'2_別紙1-2_実施計画書'!$G308)","v":""},{"$f":"IF('2_別紙1-2_実施計画書'!$G364=\"\",\"\",'2_別紙1-2_実施計画書'!$G364)","v":""},{"$f":"IF('2_別紙1-2_実施計画書'!$G420=\"\",\"\",'2_別紙1-2_実施計画書'!$G420)","v":""},{"$f":"IF('2_別紙1-2_実施計画書'!$G476=\"\",\"\",'2_別紙1-2_実施計画書'!$G476)","v":""},{"$f":"IF('2_別紙1-2_実施計画書'!$G532=\"\",\"\",'2_別紙1-2_実施計画書'!$G532)","v":""},{"$f":"IF('2_別紙1-2_実施計画書'!$G588=\"\",\"\",'2_別紙1-2_実施計画書'!$G588)","v":""},{"$f":"IF('2_別紙1-2_実施計画書'!$G644=\"\",\"\",'2_別紙1-2_実施計画書'!$G644)","v":""},{"$f":"IF('2_別紙1-2_実施計画書'!$G700=\"\",\"\",'2_別紙1-2_実施計画書'!$G700)","v":""},{"$f":"IF('2_別紙1-2_実施計画書'!$G756=\"\",\"\",'2_別紙1-2_実施計画書'!$G756)","v":""},{"$f":"IF('2_別紙1-2_実施計画書'!$G812=\"\",\"\",'2_別紙1-2_実施計画書'!$G812)","v":""},{"$f":"IF('2_別紙1-2_実施計画書'!$G868=\"\",\"\",'2_別紙1-2_実施計画書'!$G868)","v":""},"*"]
[34,null,null,null,null,"(6)",null,{"$f":"IF('2_別紙1-2_実施計画書'!$G84=\"\",\"\",'2_別紙1-2_実施計画書'!$G84)","v":""},{"$f":"IF('2_別紙1-2_実施計画書'!$G141=\"\",\"\",'2_別紙1-2_実施計画書'!$G141)","v":""},{"$f":"IF('2_別紙1-2_実施計画書'!$G197=\"\",\"\",'2_別紙1-2_実施計画書'!$G197)","v":""},{"$f":"IF('2_別紙1-2_実施計画書'!$G253=\"\",\"\",'2_別紙1-2_実施計画書'!$G253)","v":""},{"$f":"IF('2_別紙1-2_実施計画書'!$G309=\"\",\"\",'2_別紙1-2_実施計画書'!$G309)","v":""},{"$f":"IF('2_別紙1-2_実施計画書'!$G365=\"\",\"\",'2_別紙1-2_実施計画書'!$G365)","v":""},{"$f":"IF('2_別紙1-2_実施計画書'!$G421=\"\",\"\",'2_別紙1-2_実施計画書'!$G421)","v":""},{"$f":"IF('2_別紙1-2_実施計画書'!$G477=\"\",\"\",'2_別紙1-2_実施計画書'!$G477)","v":""},{"$f":"IF('2_別紙1-2_実施計画書'!$G533=\"\",\"\",'2_別紙1-2_実施計画書'!$G533)","v":""},{"$f":"IF('2_別紙1-2_実施計画書'!$G589=\"\",\"\",'2_別紙1-2_実施計画書'!$G589)","v":""},{"$f":"IF('2_別紙1-2_実施計画書'!$G645=\"\",\"\",'2_別紙1-2_実施計画書'!$G645)","v":""},{"$f":"IF('2_別紙1-2_実施計画書'!$G701=\"\",\"\",'2_別紙1-2_実施計画書'!$G701)","v":""},{"$f":"IF('2_別紙1-2_実施計画書'!$G757=\"\",\"\",'2_別紙1-2_実施計画書'!$G757)","v":""},{"$f":"IF('2_別紙1-2_実施計画書'!$G813=\"\",\"\",'2_別紙1-2_実施計画書'!$G813)","v":""},{"$f":"IF('2_別紙1-2_実施計画書'!$G869=\"\",\"\",'2_別紙1-2_実施計画書'!$G869)","v":""},"*"]
[35,null,null,null,null,"(7)",null,{"$f":"IF('2_別紙1-2_実施計画書'!$G85=\"\",\"\",'2_別紙1-2_実施計画書'!$G85)","v":""},{"$f":"IF('2_別紙1-2_実施計画書'!$G142=\"\",\"\",'2_別紙1-2_実施計画書'!$G142)","v":""},{"$f":"IF('2_別紙1-2_実施計画書'!$G198=\"\",\"\",'2_別紙1-2_実施計画書'!$G198)","v":""},{"$f":"IF('2_別紙1-2_実施計画書'!$G254=\"\",\"\",'2_別紙1-2_実施計画書'!$G254)","v":""},{"$f":"IF('2_別紙1-2_実施計画書'!$G310=\"\",\"\",'2_別紙1-2_実施計画書'!$G310)","v":""},{"$f":"IF('2_別紙1-2_実施計画書'!$G366=\"\",\"\",'2_別紙1-2_実施計画書'!$G366)","v":""},{"$f":"IF('2_別紙1-2_実施計画書'!$G422=\"\",\"\",'2_別紙1-2_実施計画書'!$G422)","v":""},{"$f":"IF('2_別紙1-2_実施計画書'!$G478=\"\",\"\",'2_別紙1-2_実施計画書'!$G478)","v":""},{"$f":"IF('2_別紙1-2_実施計画書'!$G534=\"\",\"\",'2_別紙1-2_実施計画書'!$G534)","v":""},{"$f":"IF('2_別紙1-2_実施計画書'!$G590=\"\",\"\",'2_別紙1-2_実施計画書'!$G590)","v":""},{"$f":"IF('2_別紙1-2_実施計画書'!$G646=\"\",\"\",'2_別紙1-2_実施計画書'!$G646)","v":""},{"$f":"IF('2_別紙1-2_実施計画書'!$G702=\"\",\"\",'2_別紙1-2_実施計画書'!$G702)","v":""},{"$f":"IF('2_別紙1-2_実施計画書'!$G758=\"\",\"\",'2_別紙1-2_実施計画書'!$G758)","v":""},{"$f":"IF('2_別紙1-2_実施計画書'!$G814=\"\",\"\",'2_別紙1-2_実施計画書'!$G814)","v":""},{"$f":"IF('2_別紙1-2_実施計画書'!$G870=\"\",\"\",'2_別紙1-2_実施計画書'!$G870)","v":""},"*"]
[36,null,null,null,null,"(8)",null,{"$f":"IF('2_別紙1-2_実施計画書'!$G86=\"\",\"\",'2_別紙1-2_実施計画書'!$G86)","v":""},{"$f":"IF('2_別紙1-2_実施計画書'!$G143=\"\",\"\",'2_別紙1-2_実施計画書'!$G143)","v":""},{"$f":"IF('2_別紙1-2_実施計画書'!$G199=\"\",\"\",'2_別紙1-2_実施計画書'!$G199)","v":""},{"$f":"IF('2_別紙1-2_実施計画書'!$G255=\"\",\"\",'2_別紙1-2_実施計画書'!$G255)","v":""},{"$f":"IF('2_別紙1-2_実施計画書'!$G311=\"\",\"\",'2_別紙1-2_実施計画書'!$G311)","v":""},{"$f":"IF('2_別紙1-2_実施計画書'!$G367=\"\",\"\",'2_別紙1-2_実施計画書'!$G367)","v":""},{"$f":"IF('2_別紙1-2_実施計画書'!$G423=\"\",\"\",'2_別紙1-2_実施計画書'!$G423)","v":""},{"$f":"IF('2_別紙1-2_実施計画書'!$G479=\"\",\"\",'2_別紙1-2_実施計画書'!$G479)","v":""},{"$f":"IF('2_別紙1-2_実施計画書'!$G535=\"\",\"\",'2_別紙1-2_実施計画書'!$G535)","v":""},{"$f":"IF('2_別紙1-2_実施計画書'!$G591=\"\",\"\",'2_別紙1-2_実施計画書'!$G591)","v":""},{"$f":"IF('2_別紙1-2_実施計画書'!$G647=\"\",\"\",'2_別紙1-2_実施計画書'!$G647)","v":""},{"$f":"IF('2_別紙1-2_実施計画書'!$G703=\"\",\"\",'2_別紙1-2_実施計画書'!$G703)","v":""},{"$f":"IF('2_別紙1-2_実施計画書'!$G759=\"\",\"\",'2_別紙1-2_実施計画書'!$G759)","v":""},{"$f":"IF('2_別紙1-2_実施計画書'!$G815=\"\",\"\",'2_別紙1-2_実施計画書'!$G815)","v":""},{"$f":"IF('2_別紙1-2_実施計画書'!$G871=\"\",\"\",'2_別紙1-2_実施計画書'!$G871)","v":""},"*"]
[37,null,null,null,null,"(9)",null,{"$f":"IF('2_別紙1-2_実施計画書'!$G87=\"\",\"\",'2_別紙1-2_実施計画書'!$G87)","v":""},{"$f":"IF('2_別紙1-2_実施計画書'!$G144=\"\",\"\",'2_別紙1-2_実施計画書'!$G144)","v":""},{"$f":"IF('2_別紙1-2_実施計画書'!$G200=\"\",\"\",'2_別紙1-2_実施計画書'!$G200)","v":""},{"$f":"IF('2_別紙1-2_実施計画書'!$G256=\"\",\"\",'2_別紙1-2_実施計画書'!$G256)","v":""},{"$f":"IF('2_別紙1-2_実施計画書'!$G312=\"\",\"\",'2_別紙1-2_実施計画書'!$G312)","v":""},{"$f":"IF('2_別紙1-2_実施計画書'!$G368=\"\",\"\",'2_別紙1-2_実施計画書'!$G368)","v":""},{"$f":"IF('2_別紙1-2_実施計画書'!$G424=\"\",\"\",'2_別紙1-2_実施計画書'!$G424)","v":""},{"$f":"IF('2_別紙1-2_実施計画書'!$G480=\"\",\"\",'2_別紙1-2_実施計画書'!$G480)","v":""},{"$f":"IF('2_別紙1-2_実施計画書'!$G536=\"\",\"\",'2_別紙1-2_実施計画書'!$G536)","v":""},{"$f":"IF('2_別紙1-2_実施計画書'!$G592=\"\",\"\",'2_別紙1-2_実施計画書'!$G592)","v":""},{"$f":"IF('2_別紙1-2_実施計画書'!$G648=\"\",\"\",'2_別紙1-2_実施計画書'!$G648)","v":""},{"$f":"IF('2_別紙1-2_実施計画書'!$G704=\"\",\"\",'2_別紙1-2_実施計画書'!$G704)","v":""},{"$f":"IF('2_別紙1-2_実施計画書'!$G760=\"\",\"\",'2_別紙1-2_実施計画書'!$G760)","v":""},{"$f":"IF('2_別紙1-2_実施計画書'!$G816=\"\",\"\",'2_別紙1-2_実施計画書'!$G816)","v":""},{"$f":"IF('2_別紙1-2_実施計画書'!$G872=\"\",\"\",'2_別紙1-2_実施計画書'!$G872)","v":""},"*"]
[38,null,null,null,null,"(10)",null,{"$f":"IF('2_別紙1-2_実施計画書'!$G88=\"\",\"\",'2_別紙1-2_実施計画書'!$G88)","v":""},{"$f":"IF('2_別紙1-2_実施計画書'!$G145=\"\",\"\",'2_別紙1-2_実施計画書'!$G145)","v":""},{"$f":"IF('2_別紙1-2_実施計画書'!$G201=\"\",\"\",'2_別紙1-2_実施計画書'!$G201)","v":""},{"$f":"IF('2_別紙1-2_実施計画書'!$G257=\"\",\"\",'2_別紙1-2_実施計画書'!$G257)","v":""},{"$f":"IF('2_別紙1-2_実施計画書'!$G313=\"\",\"\",'2_別紙1-2_実施計画書'!$G313)","v":""},{"$f":"IF('2_別紙1-2_実施計画書'!$G369=\"\",\"\",'2_別紙1-2_実施計画書'!$G369)","v":""},{"$f":"IF('2_別紙1-2_実施計画書'!$G425=\"\",\"\",'2_別紙1-2_実施計画書'!$G425)","v":""},{"$f":"IF('2_別紙1-2_実施計画書'!$G481=\"\",\"\",'2_別紙1-2_実施計画書'!$G481)","v":""},{"$f":"IF('2_別紙1-2_実施計画書'!$G537=\"\",\"\",'2_別紙1-2_実施計画書'!$G537)","v":""},{"$f":"IF('2_別紙1-2_実施計画書'!$G593=\"\",\"\",'2_別紙1-2_実施計画書'!$G593)","v":""},{"$f":"IF('2_別紙1-2_実施計画書'!$G649=\"\",\"\",'2_別紙1-2_実施計画書'!$G649)","v":""},{"$f":"IF('2_別紙1-2_実施計画書'!$G705=\"\",\"\",'2_別紙1-2_実施計画書'!$G705)","v":""},{"$f":"IF('2_別紙1-2_実施計画書'!$G761=\"\",\"\",'2_別紙1-2_実施計画書'!$G761)","v":""},{"$f":"IF('2_別紙1-2_実施計画書'!$G817=\"\",\"\",'2_別紙1-2_実施計画書'!$G817)","v":""},{"$f":"IF('2_別紙1-2_実施計画書'!$G873=\"\",\"\",'2_別紙1-2_実施計画書'!$G873)","v":""},"*"]
[39,null,null,null,null,"(11)",null,{"$f":"IF('2_別紙1-2_実施計画書'!$R79=\"\",\"\",'2_別紙1-2_実施計画書'!$R89)","v":""},{"$f":"IF('2_別紙1-2_実施計画書'!$R136=\"\",\"\",'2_別紙1-2_実施計画書'!$R136)","v":""},{"$f":"IF('2_別紙1-2_実施計画書'!$R192=\"\",\"\",'2_別紙1-2_実施計画書'!$R192)","v":""},{"$f":"IF('2_別紙1-2_実施計画書'!$R248=\"\",\"\",'2_別紙1-2_実施計画書'!$R248)","v":""},{"$f":"IF('2_別紙1-2_実施計画書'!$R304=\"\",\"\",'2_別紙1-2_実施計画書'!$R304)","v":""},{"$f":"IF('2_別紙1-2_実施計画書'!$R360=\"\",\"\",'2_別紙1-2_実施計画書'!$R360)","v":""},{"$f":"IF('2_別紙1-2_実施計画書'!$R416=\"\",\"\",'2_別紙1-2_実施計画書'!$R416)","v":""},{"$f":"IF('2_別紙1-2_実施計画書'!$R472=\"\",\"\",'2_別紙1-2_実施計画書'!$R472)","v":""},{"$f":"IF('2_別紙1-2_実施計画書'!$R528=\"\",\"\",'2_別紙1-2_実施計画書'!$R528)","v":""},{"$f":"IF('2_別紙1-2_実施計画書'!$R584=\"\",\"\",'2_別紙1-2_実施計画書'!$R584)","v":""},{"$f":"IF('2_別紙1-2_実施計画書'!$R640=\"\",\"\",'2_別紙1-2_実施計画書'!$R640)","v":""},{"$f":"IF('2_別紙1-2_実施計画書'!$R696=\"\",\"\",'2_別紙1-2_実施計画書'!$R696)","v":""},{"$f":"IF('2_別紙1-2_実施計画書'!$R752=\"\",\"\",'2_別紙1-2_実施計画書'!$R752)","v":""},{"$f":"IF('2_別紙1-2_実施計画書'!$R808=\"\",\"\",'2_別紙1-2_実施計画書'!$R808)","v":""},{"$f":"IF('2_別紙1-2_実施計画書'!$R864=\"\",\"\",'2_別紙1-2_実施計画書'!$R864)","v":""},"*"]
[40,null,null,null,null,"(12)",null,{"$f":"IF('2_別紙1-2_実施計画書'!$R80=\"\",\"\",'2_別紙1-2_実施計画書'!$R90)","v":""},{"$f":"IF('2_別紙1-2_実施計画書'!$R137=\"\",\"\",'2_別紙1-2_実施計画書'!$R137)","v":""},{"$f":"IF('2_別紙1-2_実施計画書'!$R193=\"\",\"\",'2_別紙1-2_実施計画書'!$R193)","v":""},{"$f":"IF('2_別紙1-2_実施計画書'!$R249=\"\",\"\",'2_別紙1-2_実施計画書'!$R249)","v":""},{"$f":"IF('2_別紙1-2_実施計画書'!$R305=\"\",\"\",'2_別紙1-2_実施計画書'!$R305)","v":""},{"$f":"IF('2_別紙1-2_実施計画書'!$R361=\"\",\"\",'2_別紙1-2_実施計画書'!$R361)","v":""},{"$f":"IF('2_別紙1-2_実施計画書'!$R417=\"\",\"\",'2_別紙1-2_実施計画書'!$R417)","v":""},{"$f":"IF('2_別紙1-2_実施計画書'!$R473=\"\",\"\",'2_別紙1-2_実施計画書'!$R473)","v":""},{"$f":"IF('2_別紙1-2_実施計画書'!$R529=\"\",\"\",'2_別紙1-2_実施計画書'!$R529)","v":""},{"$f":"IF('2_別紙1-2_実施計画書'!$R585=\"\",\"\",'2_別紙1-2_実施計画書'!$R585)","v":""},{"$f":"IF('2_別紙1-2_実施計画書'!$R641=\"\",\"\",'2_別紙1-2_実施計画書'!$R641)","v":""},{"$f":"IF('2_別紙1-2_実施計画書'!$R697=\"\",\"\",'2_別紙1-2_実施計画書'!$R697)","v":""},{"$f":"IF('2_別紙1-2_実施計画書'!$R753=\"\",\"\",'2_別紙1-2_実施計画書'!$R753)","v":""},{"$f":"IF('2_別紙1-2_実施計画書'!$R809=\"\",\"\",'2_別紙1-2_実施計画書'!$R809)","v":""},{"$f":"IF('2_別紙1-2_実施計画書'!$R865=\"\",\"\",'2_別紙1-2_実施計画書'!$R865)","v":""},"*"]
[41,null,null,null,null,"(13)",null,{"$f":"IF('2_別紙1-2_実施計画書'!$R81=\"\",\"\",'2_別紙1-2_実施計画書'!$R91)","v":""},{"$f":"IF('2_別紙1-2_実施計画書'!$R138=\"\",\"\",'2_別紙1-2_実施計画書'!$R138)","v":""},{"$f":"IF('2_別紙1-2_実施計画書'!$R194=\"\",\"\",'2_別紙1-2_実施計画書'!$R194)","v":""},{"$f":"IF('2_別紙1-2_実施計画書'!$R250=\"\",\"\",'2_別紙1-2_実施計画書'!$R250)","v":""},{"$f":"IF('2_別紙1-2_実施計画書'!$R306=\"\",\"\",'2_別紙1-2_実施計画書'!$R306)","v":""},{"$f":"IF('2_別紙1-2_実施計画書'!$R362=\"\",\"\",'2_別紙1-2_実施計画書'!$R362)","v":""},{"$f":"IF('2_別紙1-2_実施計画書'!$R418=\"\",\"\",'2_別紙1-2_実施計画書'!$R418)","v":""},{"$f":"IF('2_別紙1-2_実施計画書'!$R474=\"\",\"\",'2_別紙1-2_実施計画書'!$R474)","v":""},{"$f":"IF('2_別紙1-2_実施計画書'!$R530=\"\",\"\",'2_別紙1-2_実施計画書'!$R530)","v":""},{"$f":"IF('2_別紙1-2_実施計画書'!$R586=\"\",\"\",'2_別紙1-2_実施計画書'!$R586)","v":""},{"$f":"IF('2_別紙1-2_実施計画書'!$R642=\"\",\"\",'2_別紙1-2_実施計画書'!$R642)","v":""},{"$f":"IF('2_別紙1-2_実施計画書'!$R698=\"\",\"\",'2_別紙1-2_実施計画書'!$R698)","v":""},{"$f":"IF('2_別紙1-2_実施計画書'!$R754=\"\",\"\",'2_別紙1-2_実施計画書'!$R754)","v":""},{"$f":"IF('2_別紙1-2_実施計画書'!$R810=\"\",\"\",'2_別紙1-2_実施計画書'!$R810)","v":""},{"$f":"IF('2_別紙1-2_実施計画書'!$R866=\"\",\"\",'2_別紙1-2_実施計画書'!$R866)","v":""},"*"]
[42,null,null,null,null,"(14)",null,{"$f":"IF('2_別紙1-2_実施計画書'!$R82=\"\",\"\",'2_別紙1-2_実施計画書'!$R92)","v":""},{"$f":"IF('2_別紙1-2_実施計画書'!$R139=\"\",\"\",'2_別紙1-2_実施計画書'!$R139)","v":""},{"$f":"IF('2_別紙1-2_実施計画書'!$R195=\"\",\"\",'2_別紙1-2_実施計画書'!$R195)","v":""},{"$f":"IF('2_別紙1-2_実施計画書'!$R251=\"\",\"\",'2_別紙1-2_実施計画書'!$R251)","v":""},{"$f":"IF('2_別紙1-2_実施計画書'!$R307=\"\",\"\",'2_別紙1-2_実施計画書'!$R307)","v":""},{"$f":"IF('2_別紙1-2_実施計画書'!$R363=\"\",\"\",'2_別紙1-2_実施計画書'!$R363)","v":""},{"$f":"IF('2_別紙1-2_実施計画書'!$R419=\"\",\"\",'2_別紙1-2_実施計画書'!$R419)","v":""},{"$f":"IF('2_別紙1-2_実施計画書'!$R475=\"\",\"\",'2_別紙1-2_実施計画書'!$R475)","v":""},{"$f":"IF('2_別紙1-2_実施計画書'!$R531=\"\",\"\",'2_別紙1-2_実施計画書'!$R531)","v":""},{"$f":"IF('2_別紙1-2_実施計画書'!$R587=\"\",\"\",'2_別紙1-2_実施計画書'!$R587)","v":""},{"$f":"IF('2_別紙1-2_実施計画書'!$R643=\"\",\"\",'2_別紙1-2_実施計画書'!$R643)","v":""},{"$f":"IF('2_別紙1-2_実施計画書'!$R699=\"\",\"\",'2_別紙1-2_実施計画書'!$R699)","v":""},{"$f":"IF('2_別紙1-2_実施計画書'!$R755=\"\",\"\",'2_別紙1-2_実施計画書'!$R755)","v":""},{"$f":"IF('2_別紙1-2_実施計画書'!$R811=\"\",\"\",'2_別紙1-2_実施計画書'!$R811)","v":""},{"$f":"IF('2_別紙1-2_実施計画書'!$R867=\"\",\"\",'2_別紙1-2_実施計画書'!$R867)","v":""},"*"]
[43,null,null,null,null,"(15)",null,{"$f":"IF('2_別紙1-2_実施計画書'!$R83=\"\",\"\",'2_別紙1-2_実施計画書'!$R93)","v":""},{"$f":"IF('2_別紙1-2_実施計画書'!$R140=\"\",\"\",'2_別紙1-2_実施計画書'!$R140)","v":""},{"$f":"IF('2_別紙1-2_実施計画書'!$R196=\"\",\"\",'2_別紙1-2_実施計画書'!$R196)","v":""},{"$f":"IF('2_別紙1-2_実施計画書'!$R252=\"\",\"\",'2_別紙1-2_実施計画書'!$R252)","v":""},{"$f":"IF('2_別紙1-2_実施計画書'!$R308=\"\",\"\",'2_別紙1-2_実施計画書'!$R308)","v":""},{"$f":"IF('2_別紙1-2_実施計画書'!$R364=\"\",\"\",'2_別紙1-2_実施計画書'!$R364)","v":""},{"$f":"IF('2_別紙1-2_実施計画書'!$R420=\"\",\"\",'2_別紙1-2_実施計画書'!$R420)","v":""},{"$f":"IF('2_別紙1-2_実施計画書'!$R476=\"\",\"\",'2_別紙1-2_実施計画書'!$R476)","v":""},{"$f":"IF('2_別紙1-2_実施計画書'!$R532=\"\",\"\",'2_別紙1-2_実施計画書'!$R532)","v":""},{"$f":"IF('2_別紙1-2_実施計画書'!$R588=\"\",\"\",'2_別紙1-2_実施計画書'!$R588)","v":""},{"$f":"IF('2_別紙1-2_実施計画書'!$R644=\"\",\"\",'2_別紙1-2_実施計画書'!$R644)","v":""},{"$f":"IF('2_別紙1-2_実施計画書'!$R700=\"\",\"\",'2_別紙1-2_実施計画書'!$R700)","v":""},{"$f":"IF('2_別紙1-2_実施計画書'!$R756=\"\",\"\",'2_別紙1-2_実施計画書'!$R756)","v":""},{"$f":"IF('2_別紙1-2_実施計画書'!$R812=\"\",\"\",'2_別紙1-2_実施計画書'!$R812)","v":""},{"$f":"IF('2_別紙1-2_実施計画書'!$R868=\"\",\"\",'2_別紙1-2_実施計画書'!$R868)","v":""},"*"]
[44,null,null,null,null,"(16)",null,{"$f":"IF('2_別紙1-2_実施計画書'!$R84=\"\",\"\",'2_別紙1-2_実施計画書'!$R94)","v":""},{"$f":"IF('2_別紙1-2_実施計画書'!$R141=\"\",\"\",'2_別紙1-2_実施計画書'!$R141)","v":""},{"$f":"IF('2_別紙1-2_実施計画書'!$R197=\"\",\"\",'2_別紙1-2_実施計画書'!$R197)","v":""},{"$f":"IF('2_別紙1-2_実施計画書'!$R253=\"\",\"\",'2_別紙1-2_実施計画書'!$R253)","v":""},{"$f":"IF('2_別紙1-2_実施計画書'!$R309=\"\",\"\",'2_別紙1-2_実施計画書'!$R309)","v":""},{"$f":"IF('2_別紙1-2_実施計画書'!$R365=\"\",\"\",'2_別紙1-2_実施計画書'!$R365)","v":""},{"$f":"IF('2_別紙1-2_実施計画書'!$R421=\"\",\"\",'2_別紙1-2_実施計画書'!$R421)","v":""},{"$f":"IF('2_別紙1-2_実施計画書'!$R477=\"\",\"\",'2_別紙1-2_実施計画書'!$R477)","v":""},{"$f":"IF('2_別紙1-2_実施計画書'!$R533=\"\",\"\",'2_別紙1-2_実施計画書'!$R533)","v":""},{"$f":"IF('2_別紙1-2_実施計画書'!$R589=\"\",\"\",'2_別紙1-2_実施計画書'!$R589)","v":""},{"$f":"IF('2_別紙1-2_実施計画書'!$R645=\"\",\"\",'2_別紙1-2_実施計画書'!$R645)","v":""},{"$f":"IF('2_別紙1-2_実施計画書'!$R701=\"\",\"\",'2_別紙1-2_実施計画書'!$R701)","v":""},{"$f":"IF('2_別紙1-2_実施計画書'!$R757=\"\",\"\",'2_別紙1-2_実施計画書'!$R757)","v":""},{"$f":"IF('2_別紙1-2_実施計画書'!$R813=\"\",\"\",'2_別紙1-2_実施計画書'!$R813)","v":""},{"$f":"IF('2_別紙1-2_実施計画書'!$R869=\"\",\"\",'2_別紙1-2_実施計画書'!$R869)","v":""},"*"]
[45,null,null,null,null,"(17)",null,{"$f":"IF('2_別紙1-2_実施計画書'!$R85=\"\",\"\",'2_別紙1-2_実施計画書'!$R95)","v":""},{"$f":"IF('2_別紙1-2_実施計画書'!$R142=\"\",\"\",'2_別紙1-2_実施計画書'!$R142)","v":""},{"$f":"IF('2_別紙1-2_実施計画書'!$R198=\"\",\"\",'2_別紙1-2_実施計画書'!$R198)","v":""},{"$f":"IF('2_別紙1-2_実施計画書'!$R254=\"\",\"\",'2_別紙1-2_実施計画書'!$R254)","v":""},{"$f":"IF('2_別紙1-2_実施計画書'!$R310=\"\",\"\",'2_別紙1-2_実施計画書'!$R310)","v":""},{"$f":"IF('2_別紙1-2_実施計画書'!$R366=\"\",\"\",'2_別紙1-2_実施計画書'!$R366)","v":""},{"$f":"IF('2_別紙1-2_実施計画書'!$R422=\"\",\"\",'2_別紙1-2_実施計画書'!$R422)","v":""},{"$f":"IF('2_別紙1-2_実施計画書'!$R478=\"\",\"\",'2_別紙1-2_実施計画書'!$R478)","v":""},{"$f":"IF('2_別紙1-2_実施計画書'!$R534=\"\",\"\",'2_別紙1-2_実施計画書'!$R534)","v":""},{"$f":"IF('2_別紙1-2_実施計画書'!$R590=\"\",\"\",'2_別紙1-2_実施計画書'!$R590)","v":""},{"$f":"IF('2_別紙1-2_実施計画書'!$R646=\"\",\"\",'2_別紙1-2_実施計画書'!$R646)","v":""},{"$f":"IF('2_別紙1-2_実施計画書'!$R702=\"\",\"\",'2_別紙1-2_実施計画書'!$R702)","v":""},{"$f":"IF('2_別紙1-2_実施計画書'!$R758=\"\",\"\",'2_別紙1-2_実施計画書'!$R758)","v":""},{"$f":"IF('2_別紙1-2_実施計画書'!$R814=\"\",\"\",'2_別紙1-2_実施計画書'!$R814)","v":""},{"$f":"IF('2_別紙1-2_実施計画書'!$R870=\"\",\"\",'2_別紙1-2_実施計画書'!$R870)","v":""},"*"]
[46,null,null,null,null,"(18)",null,{"$f":"IF('2_別紙1-2_実施計画書'!$R86=\"\",\"\",'2_別紙1-2_実施計画書'!$R96)","v":""},{"$f":"IF('2_別紙1-2_実施計画書'!$R143=\"\",\"\",'2_別紙1-2_実施計画書'!$R143)","v":""},{"$f":"IF('2_別紙1-2_実施計画書'!$R199=\"\",\"\",'2_別紙1-2_実施計画書'!$R199)","v":""},{"$f":"IF('2_別紙1-2_実施計画書'!$R255=\"\",\"\",'2_別紙1-2_実施計画書'!$R255)","v":""},{"$f":"IF('2_別紙1-2_実施計画書'!$R311=\"\",\"\",'2_別紙1-2_実施計画書'!$R311)","v":""},{"$f":"IF('2_別紙1-2_実施計画書'!$R367=\"\",\"\",'2_別紙1-2_実施計画書'!$R367)","v":""},{"$f":"IF('2_別紙1-2_実施計画書'!$R423=\"\",\"\",'2_別紙1-2_実施計画書'!$R423)","v":""},{"$f":"IF('2_別紙1-2_実施計画書'!$R479=\"\",\"\",'2_別紙1-2_実施計画書'!$R479)","v":""},{"$f":"IF('2_別紙1-2_実施計画書'!$R535=\"\",\"\",'2_別紙1-2_実施計画書'!$R535)","v":""},{"$f":"IF('2_別紙1-2_実施計画書'!$R591=\"\",\"\",'2_別紙1-2_実施計画書'!$R591)","v":""},{"$f":"IF('2_別紙1-2_実施計画書'!$R647=\"\",\"\",'2_別紙1-2_実施計画書'!$R647)","v":""},{"$f":"IF('2_別紙1-2_実施計画書'!$R703=\"\",\"\",'2_別紙1-2_実施計画書'!$R703)","v":""},{"$f":"IF('2_別紙1-2_実施計画書'!$R759=\"\",\"\",'2_別紙1-2_実施計画書'!$R759)","v":""},{"$f":"IF('2_別紙1-2_実施計画書'!$R815=\"\",\"\",'2_別紙1-2_実施計画書'!$R815)","v":""},{"$f":"IF('2_別紙1-2_実施計画書'!$R871=\"\",\"\",'2_別紙1-2_実施計画書'!$R871)","v":""},"*"]
[47,null,null,null,null,"(19)",null,{"$f":"IF('2_別紙1-2_実施計画書'!$R87=\"\",\"\",'2_別紙1-2_実施計画書'!$R97)","v":""},{"$f":"IF('2_別紙1-2_実施計画書'!$R144=\"\",\"\",'2_別紙1-2_実施計画書'!$R144)","v":""},{"$f":"IF('2_別紙1-2_実施計画書'!$R200=\"\",\"\",'2_別紙1-2_実施計画書'!$R200)","v":""},{"$f":"IF('2_別紙1-2_実施計画書'!$R256=\"\",\"\",'2_別紙1-2_実施計画書'!$R256)","v":""},{"$f":"IF('2_別紙1-2_実施計画書'!$R312=\"\",\"\",'2_別紙1-2_実施計画書'!$R312)","v":""},{"$f":"IF('2_別紙1-2_実施計画書'!$R368=\"\",\"\",'2_別紙1-2_実施計画書'!$R368)","v":""},{"$f":"IF('2_別紙1-2_実施計画書'!$R424=\"\",\"\",'2_別紙1-2_実施計画書'!$R424)","v":""},{"$f":"IF('2_別紙1-2_実施計画書'!$R480=\"\",\"\",'2_別紙1-2_実施計画書'!$R480)","v":""},{"$f":"IF('2_別紙1-2_実施計画書'!$R536=\"\",\"\",'2_別紙1-2_実施計画書'!$R536)","v":""},{"$f":"IF('2_別紙1-2_実施計画書'!$R592=\"\",\"\",'2_別紙1-2_実施計画書'!$R592)","v":""},{"$f":"IF('2_別紙1-2_実施計画書'!$R648=\"\",\"\",'2_別紙1-2_実施計画書'!$R648)","v":""},{"$f":"IF('2_別紙1-2_実施計画書'!$R704=\"\",\"\",'2_別紙1-2_実施計画書'!$R704)","v":""},{"$f":"IF('2_別紙1-2_実施計画書'!$R760=\"\",\"\",'2_別紙1-2_実施計画書'!$R760)","v":""},{"$f":"IF('2_別紙1-2_実施計画書'!$R816=\"\",\"\",'2_別紙1-2_実施計画書'!$R816)","v":""},{"$f":"IF('2_別紙1-2_実施計画書'!$R872=\"\",\"\",'2_別紙1-2_実施計画書'!$R872)","v":""},"*"]
[48,null,null,null,null,"(20)",null,{"$f":"IF('2_別紙1-2_実施計画書'!$R88=\"\",\"\",'2_別紙1-2_実施計画書'!$R98)","v":""},{"$f":"IF('2_別紙1-2_実施計画書'!$R145=\"\",\"\",'2_別紙1-2_実施計画書'!$R145)","v":""},{"$f":"IF('2_別紙1-2_実施計画書'!$R201=\"\",\"\",'2_別紙1-2_実施計画書'!$R201)","v":""},{"$f":"IF('2_別紙1-2_実施計画書'!$R257=\"\",\"\",'2_別紙1-2_実施計画書'!$R257)","v":""},{"$f":"IF('2_別紙1-2_実施計画書'!$R313=\"\",\"\",'2_別紙1-2_実施計画書'!$R313)","v":""},{"$f":"IF('2_別紙1-2_実施計画書'!$R369=\"\",\"\",'2_別紙1-2_実施計画書'!$R369)","v":""},{"$f":"IF('2_別紙1-2_実施計画書'!$R425=\"\",\"\",'2_別紙1-2_実施計画書'!$R425)","v":""},{"$f":"IF('2_別紙1-2_実施計画書'!$R481=\"\",\"\",'2_別紙1-2_実施計画書'!$R481)","v":""},{"$f":"IF('2_別紙1-2_実施計画書'!$R537=\"\",\"\",'2_別紙1-2_実施計画書'!$R537)","v":""},{"$f":"IF('2_別紙1-2_実施計画書'!$R593=\"\",\"\",'2_別紙1-2_実施計画書'!$R593)","v":""},{"$f":"IF('2_別紙1-2_実施計画書'!$R649=\"\",\"\",'2_別紙1-2_実施計画書'!$R649)","v":""},{"$f":"IF('2_別紙1-2_実施計画書'!$R705=\"\",\"\",'2_別紙1-2_実施計画書'!$R705)","v":""},{"$f":"IF('2_別紙1-2_実施計画書'!$R761=\"\",\"\",'2_別紙1-2_実施計画書'!$R761)","v":""},{"$f":"IF('2_別紙1-2_実施計画書'!$R817=\"\",\"\",'2_別紙1-2_実施計画書'!$R817)","v":""},{"$f":"IF('2_別紙1-2_実施計画書'!$R873=\"\",\"\",'2_別紙1-2_実施計画書'!$R873)","v":""},"*"]
[49,null,"【計画】事業の概要",null,null,null,"・エコドライブ10の取組について、運転時に意識いただくポイントとそのメリットをまとめたCMを5か月にわたり繰り返し放送する",{"$f":"IF('2_別紙1-2_実施計画書'!$E89=\"\",\"\",'2_別紙1-2_実施計画書'!$E89)","v":""},{"$f":"IF('2_別紙1-2_実施計画書'!$E146=\"\",\"\",'2_別紙1-2_実施計画書'!$E146)","v":""},{"$f":"IF('2_別紙1-2_実施計画書'!$E202=\"\",\"\",'2_別紙1-2_実施計画書'!$E202)","v":""},{"$f":"IF('2_別紙1-2_実施計画書'!$E258=\"\",\"\",'2_別紙1-2_実施計画書'!$E258)","v":""},{"$f":"IF('2_別紙1-2_実施計画書'!$E314=\"\",\"\",'2_別紙1-2_実施計画書'!$E314)","v":""},{"$f":"IF('2_別紙1-2_実施計画書'!$E370=\"\",\"\",'2_別紙1-2_実施計画書'!$E370)","v":""},{"$f":"IF('2_別紙1-2_実施計画書'!$E426=\"\",\"\",'2_別紙1-2_実施計画書'!$E426)","v":""},{"$f":"IF('2_別紙1-2_実施計画書'!$E482=\"\",\"\",'2_別紙1-2_実施計画書'!$E482)","v":""},{"$f":"IF('2_別紙1-2_実施計画書'!$E538=\"\",\"\",'2_別紙1-2_実施計画書'!$E538)","v":""},{"$f":"IF('2_別紙1-2_実施計画書'!$E594=\"\",\"\",'2_別紙1-2_実施計画書'!$E594)","v":""},{"$f":"IF('2_別紙1-2_実施計画書'!$E650=\"\",\"\",'2_別紙1-2_実施計画書'!$E650)","v":""},{"$f":"IF('2_別紙1-2_実施計画書'!$E706=\"\",\"\",'2_別紙1-2_実施計画書'!$E706)","v":""},{"$f":"IF('2_別紙1-2_実施計画書'!$E762=\"\",\"\",'2_別紙1-2_実施計画書'!$E762)","v":""},{"$f":"IF('2_別紙1-2_実施計画書'!$E818=\"\",\"\",'2_別紙1-2_実施計画書'!$E818)","v":""},{"$f":"IF('2_別紙1-2_実施計画書'!$E874=\"\",\"\",'2_別紙1-2_実施計画書'!$E874)","v":""},"*"]
[50,null,"【計画】効果的な実施のための工夫",null,null,null,"・朝や夕方の通勤時、通勤前後に聴かれるリスナーにアプローチするため、朝の番組、夕方の番組前後でCMを放送\n・特に「〇〇番組」は20～40代男性が主なリスナーであるため、重点的に放送する\n・リスナーに印象付けるため、CM最初に毎回同じBGMをかける",{"$f":"IF('2_別紙1-2_実施計画書'!$E92=\"\",\"\",'2_別紙1-2_実施計画書'!$E92)","v":""},{"$f":"IF('2_別紙1-2_実施計画書'!$E149=\"\",\"\",'2_別紙1-2_実施計画書'!$E149)","v":""},{"$f":"IF('2_別紙1-2_実施計画書'!$E205=\"\",\"\",'2_別紙1-2_実施計画書'!$E205)","v":""},{"$f":"IF('2_別紙1-2_実施計画書'!$E261=\"\",\"\",'2_別紙1-2_実施計画書'!$E261)","v":""},{"$f":"IF('2_別紙1-2_実施計画書'!$E317=\"\",\"\",'2_別紙1-2_実施計画書'!$E317)","v":""},{"$f":"IF('2_別紙1-2_実施計画書'!$E373=\"\",\"\",'2_別紙1-2_実施計画書'!$E373)","v":""},{"$f":"IF('2_別紙1-2_実施計画書'!$E429=\"\",\"\",'2_別紙1-2_実施計画書'!$E429)","v":""},{"$f":"IF('2_別紙1-2_実施計画書'!$E485=\"\",\"\",'2_別紙1-2_実施計画書'!$E485)","v":""},{"$f":"IF('2_別紙1-2_実施計画書'!$E541=\"\",\"\",'2_別紙1-2_実施計画書'!$E541)","v":""},{"$f":"IF('2_別紙1-2_実施計画書'!$E597=\"\",\"\",'2_別紙1-2_実施計画書'!$E597)","v":""},{"$f":"IF('2_別紙1-2_実施計画書'!$E653=\"\",\"\",'2_別紙1-2_実施計画書'!$E653)","v":""},{"$f":"IF('2_別紙1-2_実施計画書'!$E709=\"\",\"\",'2_別紙1-2_実施計画書'!$E709)","v":""},{"$f":"IF('2_別紙1-2_実施計画書'!$E765=\"\",\"\",'2_別紙1-2_実施計画書'!$E765)","v":""},{"$f":"IF('2_別紙1-2_実施計画書'!$E821=\"\",\"\",'2_別紙1-2_実施計画書'!$E821)","v":""},{"$f":"IF('2_別紙1-2_実施計画書'!$E877=\"\",\"\",'2_別紙1-2_実施計画書'!$E877)","v":""},"*"]
[51,null,"【結果報告】実施結果",null,null,null,null,null,null,null,null,null,null,null,null,null,null,null,null,null,null,null,"*"]
[52,null,"【計画】主な訴求対象",null,null,null,"運転中の20～40代男性",{"$f":"IF('2_別紙1-2_実施計画書'!$E93=\"\",\"\",'2_別紙1-2_実施計画書'!$E93)","v":""},{"$f":"IF('2_別紙1-2_実施計画書'!$E150=\"\",\"\",'2_別紙1-2_実施計画書'!$E150)","v":""},{"$f":"IF('2_別紙1-2_実施計画書'!$E206=\"\",\"\",'2_別紙1-2_実施計画書'!$E206)","v":""},{"$f":"IF('2_別紙1-2_実施計画書'!$E262=\"\",\"\",'2_別紙1-2_実施計画書'!$E262)","v":""},{"$f":"IF('2_別紙1-2_実施計画書'!$E318=\"\",\"\",'2_別紙1-2_実施計画書'!$E318)","v":""},{"$f":"IF('2_別紙1-2_実施計画書'!$E374=\"\",\"\",'2_別紙1-2_実施計画書'!$E374)","v":""},{"$f":"IF('2_別紙1-2_実施計画書'!$E430=\"\",\"\",'2_別紙1-2_実施計画書'!$E430)","v":""},{"$f":"IF('2_別紙1-2_実施計画書'!$E486=\"\",\"\",'2_別紙1-2_実施計画書'!$E486)","v":""},{"$f":"IF('2_別紙1-2_実施計画書'!$E542=\"\",\"\",'2_別紙1-2_実施計画書'!$E542)","v":""},{"$f":"IF('2_別紙1-2_実施計画書'!$E598=\"\",\"\",'2_別紙1-2_実施計画書'!$E598)","v":""},{"$f":"IF('2_別紙1-2_実施計画書'!$E654=\"\",\"\",'2_別紙1-2_実施計画書'!$E654)","v":""},{"$f":"IF('2_別紙1-2_実施計画書'!$E710=\"\",\"\",'2_別紙1-2_実施計画書'!$E710)","v":""},{"$f":"IF('2_別紙1-2_実施計画書'!$E766=\"\",\"\",'2_別紙1-2_実施計画書'!$E766)","v":""},{"$f":"IF('2_別紙1-2_実施計画書'!$E822=\"\",\"\",'2_別紙1-2_実施計画書'!$E822)","v":""},{"$f":"IF('2_別紙1-2_実施計画書'!$E878=\"\",\"\",'2_別紙1-2_実施計画書'!$E878)","v":""},"*"]
[53,null,"【結果報告】主な訴求対象",null,null,null,null,null,null,null,null,null,null,null,null,null,null,null,null,null,null,null,"*"]
[54,"KPI","規模（リーチ数）\nカテゴリ①",null,null,"（詳細）カテゴリ①","聴取人口（番組・CM単位であれば）",{"$f":"IF('2_別紙1-2_実施計画書'!$P94=\"\",\"\",'2_別紙1-2_実施計画書'!$P94)","v":"　"},{"$f":"IF('2_別紙1-2_実施計画書'!$P151=\"\",\"\",'2_別紙1-2_実施計画書'!$P151)","v":"聴取人口（番組・CM単位であれば）"},{"$f":"IF('2_別紙1-2_実施計画書'!$P207=\"\",\"\",'2_別紙1-2_実施計画書'!$P207)","v":"聴取人口（番組・CM単位であれば）"},{"$f":"IF('2_別紙1-2_実施計画書'!$P263=\"\",\"\",'2_別紙1-2_実施計画書'!$P263)","v":"聴取人口（番組・CM単位であれば）"},{"$f":"IF('2_別紙1-2_実施計画書'!$P319=\"\",\"\",'2_別紙1-2_実施計画書'!$P319)","v":"聴取人口（番組・CM単位であれば）"},{"$f":"IF('2_別紙1-2_実施計画書'!$P375=\"\",\"\",'2_別紙1-2_実施計画書'!$P375)","v":"聴取人口（番組・CM単位であれば）"},{"$f":"IF('2_別紙1-2_実施計画書'!$P431=\"\",\"\",'2_別紙1-2_実施計画書'!$P431)","v":"聴取人口（番組・CM単位であれば）"},{"$f":"IF('2_別紙1-2_実施計画書'!$P487=\"\",\"\",'2_別紙1-2_実施計画書'!$P487)","v":"聴取人口（番組・CM単位であれば）"},{"$f":"IF('2_別紙1-2_実施計画書'!$P543=\"\",\"\",'2_別紙1-2_実施計画書'!$P543)","v":"聴取人口（番組・CM単位であれば）"},{"$f":"IF('2_別紙1-2_実施計画書'!$P599=\"\",\"\",'2_別紙1-2_実施計画書'!$P599)","v":"聴取人口（番組・CM単位であれば）"},{"$f":"IF('2_別紙1-2_実施計画書'!$P655=\"\",\"\",'2_別紙1-2_実施計画書'!$P655)","v":"聴取人口（番組・CM単位であれば）"},{"$f":"IF('2_別紙1-2_実施計画書'!$P711=\"\",\"\",'2_別紙1-2_実施計画書'!$P711)","v":"聴取人口（番組・CM単位であれば）"},{"$f":"IF('2_別紙1-2_実施計画書'!$P767=\"\",\"\",'2_別紙1-2_実施計画書'!$P767)","v":"聴取人口（番組・CM単位であれば）"},{"$f":"IF('2_別紙1-2_実施計画書'!$P823=\"\",\"\",'2_別紙1-2_実施計画書'!$P823)","v":"聴取人口（番組・CM単位であれば）"},{"$f":"IF('2_別紙1-2_実施計画書'!$P879=\"\",\"\",'2_別紙1-2_実施計画書'!$P879)","v":"聴取人口（番組・CM単位であれば）"},"*"]
[55,null,null,null,null,"昨年度実績値",20000,{"$f":"IF('2_別紙1-2_実施計画書'!$K95=\"\",\"\",'2_別紙1-2_実施計画書'!$K95)","v":0},{"$f":"IF('2_別紙1-2_実施計画書'!$K152=\"\",\"\",'2_別紙1-2_実施計画書'!$K152)","v":0},{"$f":"IF('2_別紙1-2_実施計画書'!$K208=\"\",\"\",'2_別紙1-2_実施計画書'!$K208)","v":0},{"$f":"IF('2_別紙1-2_実施計画書'!$K264=\"\",\"\",'2_別紙1-2_実施計画書'!$K264)","v":0},{"$f":"IF('2_別紙1-2_実施計画書'!$K320=\"\",\"\",'2_別紙1-2_実施計画書'!$K320)","v":0},{"$f":"IF('2_別紙1-2_実施計画書'!$K376=\"\",\"\",'2_別紙1-2_実施計画書'!$K376)","v":0},{"$f":"IF('2_別紙1-2_実施計画書'!$K432=\"\",\"\",'2_別紙1-2_実施計画書'!$K432)","v":0},{"$f":"IF('2_別紙1-2_実施計画書'!$K488=\"\",\"\",'2_別紙1-2_実施計画書'!$K488)","v":0},{"$f":"IF('2_別紙1-2_実施計画書'!$K544=\"\",\"\",'2_別紙1-2_実施計画書'!$K544)","v":0},{"$f":"IF('2_別紙1-2_実施計画書'!$K600=\"\",\"\",'2_別紙1-2_実施計画書'!$K600)","v":0},{"$f":"IF('2_別紙1-2_実施計画書'!$K656=\"\",\"\",'2_別紙1-2_実施計画書'!$K656)","v":0},{"$f":"IF('2_別紙1-2_実施計画書'!$K712=\"\",\"\",'2_別紙1-2_実施計画書'!$K712)","v":0},{"$f":"IF('2_別紙1-2_実施計画書'!$K768=\"\",\"\",'2_別紙1-2_実施計画書'!$K768)","v":0},{"$f":"IF('2_別紙1-2_実施計画書'!$K824=\"\",\"\",'2_別紙1-2_実施計画書'!$K824)","v":0},{"$f":"IF('2_別紙1-2_実施計画書'!$K880=\"\",\"\",'2_別紙1-2_実施計画書'!$K880)","v":0},"*"]
[56,null,null,null,null,"計画値",20000,{"$f":"IF('2_別紙1-2_実施計画書'!$K96=\"\",\"\",'2_別紙1-2_実施計画書'!$K96)","v":0},{"$f":"IF('2_別紙1-2_実施計画書'!$K153=\"\",\"\",'2_別紙1-2_実施計画書'!$K153)","v":0},{"$f":"IF('2_別紙1-2_実施計画書'!$K209=\"\",\"\",'2_別紙1-2_実施計画書'!$K209)","v":0},{"$f":"IF('2_別紙1-2_実施計画書'!$K265=\"\",\"\",'2_別紙1-2_実施計画書'!$K265)","v":0},{"$f":"IF('2_別紙1-2_実施計画書'!$K321=\"\",\"\",'2_別紙1-2_実施計画書'!$K321)","v":0},{"$f":"IF('2_別紙1-2_実施計画書'!$K377=\"\",\"\",'2_別紙1-2_実施計画書'!$K377)","v":0},{"$f":"IF('2_別紙1-2_実施計画書'!$K433=\"\",\"\",'2_別紙1-2_実施計画書'!$K433)","v":0},{"$f":"IF('2_別紙1-2_実施計画書'!$K489=\"\",\"\",'2_別紙1-2_実施計画書'!$K489)","v":0},{"$f":"IF('2_別紙1-2_実施計画書'!$K545=\"\",\"\",'2_別紙1-2_実施計画書'!$K545)","v":0},{"$f":"IF('2_別紙1-2_実施計画書'!$K601=\"\",\"\",'2_別紙1-2_実施計画書'!$K601)","v":0},{"$f":"IF('2_別紙1-2_実施計画書'!$K657=\"\",\"\",'2_別紙1-2_実施計画書'!$K657)","v":0},{"$f":"IF('2_別紙1-2_実施計画書'!$K713=\"\",\"\",'2_別紙1-2_実施計画書'!$K713)","v":0},{"$f":"IF('2_別紙1-2_実施計画書'!$K769=\"\",\"\",'2_別紙1-2_実施計画書'!$K769)","v":0},{"$f":"IF('2_別紙1-2_実施計画書'!$K825=\"\",\"\",'2_別紙1-2_実施計画書'!$K825)","v":0},{"$f":"IF('2_別紙1-2_実施計画書'!$K881=\"\",\"\",'2_別紙1-2_実施計画書'!$K881)","v":0},"*"]
[57,null,null,null,null,"実績値",20000,null,null,null,null,null,null,null,null,null,null,null,null,null,null,null,"*"]
[58,null,null,null,null,"算出根拠","可聴人口÷XX÷YY",{"$f":"IF('2_別紙1-2_実施計画書'!$I97=\"\",\"\",'2_別紙1-2_実施計画書'!$I97)","v":""},{"$f":"IF('2_別紙1-2_実施計画書'!$I154=\"\",\"\",'2_別紙1-2_実施計画書'!$I154)","v":""},{"$f":"IF('2_別紙1-2_実施計画書'!$I210=\"\",\"\",'2_別紙1-2_実施計画書'!$I210)","v":""},{"$f":"IF('2_別紙1-2_実施計画書'!$I266=\"\",\"\",'2_別紙1-2_実施計画書'!$I266)","v":""},{"$f":"IF('2_別紙1-2_実施計画書'!$I322=\"\",\"\",'2_別紙1-2_実施計画書'!$I322)","v":""},{"$f":"IF('2_別紙1-2_実施計画書'!$I378=\"\",\"\",'2_別紙1-2_実施計画書'!$I378)","v":""},{"$f":"IF('2_別紙1-2_実施計画書'!$I434=\"\",\"\",'2_別紙1-2_実施計画書'!$I434)","v":""},{"$f":"IF('2_別紙1-2_実施計画書'!$I490=\"\",\"\",'2_別紙1-2_実施計画書'!$I490)","v":""},{"$f":"IF('2_別紙1-2_実施計画書'!$I546=\"\",\"\",'2_別紙1-2_実施計画書'!$I546)","v":""},{"$f":"IF('2_別紙1-2_実施計画書'!$I602=\"\",\"\",'2_別紙1-2_実施計画書'!$I602)","v":""},{"$f":"IF('2_別紙1-2_実施計画書'!$I658=\"\",\"\",'2_別紙1-2_実施計画書'!$I658)","v":""},{"$f":"IF('2_別紙1-2_実施計画書'!$I714=\"\",\"\",'2_別紙1-2_実施計画書'!$I714)","v":""},{"$f":"IF('2_別紙1-2_実施計画書'!$I770=\"\",\"\",'2_別紙1-2_実施計画書'!$I770)","v":""},{"$f":"IF('2_別紙1-2_実施計画書'!$I826=\"\",\"\",'2_別紙1-2_実施計画書'!$I826)","v":""},{"$f":"IF('2_別紙1-2_実施計画書'!$I882=\"\",\"\",'2_別紙1-2_実施計画書'!$I882)","v":""},"*"]
[59,null,"規模（リーチ数）\nカテゴリ②",null,null,"（詳細）カテゴリ②",null,{"$f":"IF('2_別紙1-2_実施計画書'!$P98=\"\",\"\",'2_別紙1-2_実施計画書'!$P98)","v":""},{"$f":"IF('2_別紙1-2_実施計画書'!$P155=\"\",\"\",'2_別紙1-2_実施計画書'!$P155)","v":""},{"$f":"IF('2_別紙1-2_実施計画書'!$P211=\"\",\"\",'2_別紙1-2_実施計画書'!$P211)","v":""},{"$f":"IF('2_別紙1-2_実施計画書'!$P267=\"\",\"\",'2_別紙1-2_実施計画書'!$P267)","v":""},{"$f":"IF('2_別紙1-2_実施計画書'!$P323=\"\",\"\",'2_別紙1-2_実施計画書'!$P323)","v":""},{"$f":"IF('2_別紙1-2_実施計画書'!$P379=\"\",\"\",'2_別紙1-2_実施計画書'!$P379)","v":""},{"$f":"IF('2_別紙1-2_実施計画書'!$P435=\"\",\"\",'2_別紙1-2_実施計画書'!$P435)","v":""},{"$f":"IF('2_別紙1-2_実施計画書'!$P491=\"\",\"\",'2_別紙1-2_実施計画書'!$P491)","v":""},{"$f":"IF('2_別紙1-2_実施計画書'!$P547=\"\",\"\",'2_別紙1-2_実施計画書'!$P547)","v":""},{"$f":"IF('2_別紙1-2_実施計画書'!$P603=\"\",\"\",'2_別紙1-2_実施計画書'!$P603)","v":""},{"$f":"IF('2_別紙1-2_実施計画書'!$P659=\"\",\"\",'2_別紙1-2_実施計画書'!$P659)","v":""},{"$f":"IF('2_別紙1-2_実施計画書'!$P715=\"\",\"\",'2_別紙1-2_実施計画書'!$P715)","v":""},{"$f":"IF('2_別紙1-2_実施計画書'!$P771=\"\",\"\",'2_別紙1-2_実施計画書'!$P771)","v":""},{"$f":"IF('2_別紙1-2_実施計画書'!$P827=\"\",\"\",'2_別紙1-2_実施計画書'!$P827)","v":""},{"$f":"IF('2_別紙1-2_実施計画書'!$P883=\"\",\"\",'2_別紙1-2_実施計画書'!$P883)","v":""},"*"]
[60,null,null,null,null,"昨年度実績値",null,{"$f":"IF('2_別紙1-2_実施計画書'!$K99=\"\",\"\",'2_別紙1-2_実施計画書'!$K99)","v":0},{"$f":"IF('2_別紙1-2_実施計画書'!$K156=\"\",\"\",'2_別紙1-2_実施計画書'!$K156)","v":0},{"$f":"IF('2_別紙1-2_実施計画書'!$K212=\"\",\"\",'2_別紙1-2_実施計画書'!$K212)","v":0},{"$f":"IF('2_別紙1-2_実施計画書'!$K268=\"\",\"\",'2_別紙1-2_実施計画書'!$K268)","v":0},{"$f":"IF('2_別紙1-2_実施計画書'!$K324=\"\",\"\",'2_別紙1-2_実施計画書'!$K324)","v":0},{"$f":"IF('2_別紙1-2_実施計画書'!$K380=\"\",\"\",'2_別紙1-2_実施計画書'!$K380)","v":0},{"$f":"IF('2_別紙1-2_実施計画書'!$K436=\"\",\"\",'2_別紙1-2_実施計画書'!$K436)","v":0},{"$f":"IF('2_別紙1-2_実施計画書'!$K492=\"\",\"\",'2_別紙1-2_実施計画書'!$K492)","v":0},{"$f":"IF('2_別紙1-2_実施計画書'!$K548=\"\",\"\",'2_別紙1-2_実施計画書'!$K548)","v":0},{"$f":"IF('2_別紙1-2_実施計画書'!$K604=\"\",\"\",'2_別紙1-2_実施計画書'!$K604)","v":0},{"$f":"IF('2_別紙1-2_実施計画書'!$K660=\"\",\"\",'2_別紙1-2_実施計画書'!$K660)","v":0},{"$f":"IF('2_別紙1-2_実施計画書'!$K716=\"\",\"\",'2_別紙1-2_実施計画書'!$K716)","v":0},{"$f":"IF('2_別紙1-2_実施計画書'!$K772=\"\",\"\",'2_別紙1-2_実施計画書'!$K772)","v":0},{"$f":"IF('2_別紙1-2_実施計画書'!$K828=\"\",\"\",'2_別紙1-2_実施計画書'!$K828)","v":0},{"$f":"IF('2_別紙1-2_実施計画書'!$K884=\"\",\"\",'2_別紙1-2_実施計画書'!$K884)","v":0},"*"]
[61,null,null,null,null,"計画値",null,{"$f":"IF('2_別紙1-2_実施計画書'!$K100=\"\",\"\",'2_別紙1-2_実施計画書'!$K100)","v":0},{"$f":"IF('2_別紙1-2_実施計画書'!$K157=\"\",\"\",'2_別紙1-2_実施計画書'!$K157)","v":0},{"$f":"IF('2_別紙1-2_実施計画書'!$K213=\"\",\"\",'2_別紙1-2_実施計画書'!$K213)","v":0},{"$f":"IF('2_別紙1-2_実施計画書'!$K269=\"\",\"\",'2_別紙1-2_実施計画書'!$K269)","v":0},{"$f":"IF('2_別紙1-2_実施計画書'!$K325=\"\",\"\",'2_別紙1-2_実施計画書'!$K325)","v":0},{"$f":"IF('2_別紙1-2_実施計画書'!$K381=\"\",\"\",'2_別紙1-2_実施計画書'!$K381)","v":0},{"$f":"IF('2_別紙1-2_実施計画書'!$K437=\"\",\"\",'2_別紙1-2_実施計画書'!$K437)","v":0},{"$f":"IF('2_別紙1-2_実施計画書'!$K493=\"\",\"\",'2_別紙1-2_実施計画書'!$K493)","v":0},{"$f":"IF('2_別紙1-2_実施計画書'!$K549=\"\",\"\",'2_別紙1-2_実施計画書'!$K549)","v":0},{"$f":"IF('2_別紙1-2_実施計画書'!$K605=\"\",\"\",'2_別紙1-2_実施計画書'!$K605)","v":0},{"$f":"IF('2_別紙1-2_実施計画書'!$K661=\"\",\"\",'2_別紙1-2_実施計画書'!$K661)","v":0},{"$f":"IF('2_別紙1-2_実施計画書'!$K717=\"\",\"\",'2_別紙1-2_実施計画書'!$K717)","v":0},{"$f":"IF('2_別紙1-2_実施計画書'!$K773=\"\",\"\",'2_別紙1-2_実施計画書'!$K773)","v":0},{"$f":"IF('2_別紙1-2_実施計画書'!$K829=\"\",\"\",'2_別紙1-2_実施計画書'!$K829)","v":0},{"$f":"IF('2_別紙1-2_実施計画書'!$K885=\"\",\"\",'2_別紙1-2_実施計画書'!$K885)","v":0},"*"]
[62,null,null,null,null,"実績値",null,null,null,null,null,null,null,null,null,null,null,null,null,null,null,null,"*"]
[63,null,null,null,null,"算出根拠",null,{"$f":"IF('2_別紙1-2_実施計画書'!$I101=\"\",\"\",'2_別紙1-2_実施計画書'!$I101)","v":""},{"$f":"IF('2_別紙1-2_実施計画書'!$I158=\"\",\"\",'2_別紙1-2_実施計画書'!$I158)","v":""},{"$f":"IF('2_別紙1-2_実施計画書'!$I214=\"\",\"\",'2_別紙1-2_実施計画書'!$I214)","v":""},{"$f":"IF('2_別紙1-2_実施計画書'!$I270=\"\",\"\",'2_別紙1-2_実施計画書'!$I270)","v":""},{"$f":"IF('2_別紙1-2_実施計画書'!$I326=\"\",\"\",'2_別紙1-2_実施計画書'!$I326)","v":""},{"$f":"IF('2_別紙1-2_実施計画書'!$I382=\"\",\"\",'2_別紙1-2_実施計画書'!$I382)","v":""},{"$f":"IF('2_別紙1-2_実施計画書'!$I438=\"\",\"\",'2_別紙1-2_実施計画書'!$I438)","v":""},{"$f":"IF('2_別紙1-2_実施計画書'!$I494=\"\",\"\",'2_別紙1-2_実施計画書'!$I494)","v":""},{"$f":"IF('2_別紙1-2_実施計画書'!$I550=\"\",\"\",'2_別紙1-2_実施計画書'!$I550)","v":""},{"$f":"IF('2_別紙1-2_実施計画書'!$I606=\"\",\"\",'2_別紙1-2_実施計画書'!$I606)","v":""},{"$f":"IF('2_別紙1-2_実施計画書'!$I662=\"\",\"\",'2_別紙1-2_実施計画書'!$I662)","v":""},{"$f":"IF('2_別紙1-2_実施計画書'!$I718=\"\",\"\",'2_別紙1-2_実施計画書'!$I718)","v":""},{"$f":"IF('2_別紙1-2_実施計画書'!$I774=\"\",\"\",'2_別紙1-2_実施計画書'!$I774)","v":""},{"$f":"IF('2_別紙1-2_実施計画書'!$I830=\"\",\"\",'2_別紙1-2_実施計画書'!$I830)","v":""},{"$f":"IF('2_別紙1-2_実施計画書'!$I886=\"\",\"\",'2_別紙1-2_実施計画書'!$I886)","v":""},"*"]
[64,null,"COOL CHOICE 賛同数（団体）\n※数値で記入",null,null,"昨年度実績値",20,{"$f":"IF('2_別紙1-2_実施計画書'!$K102=\"\",\"\",'2_別紙1-2_実施計画書'!$K102)","v":0},{"$f":"IF('2_別紙1-2_実施計画書'!$K159=\"\",\"\",'2_別紙1-2_実施計画書'!$K159)","v":0},{"$f":"IF('2_別紙1-2_実施計画書'!$K215=\"\",\"\",'2_別紙1-2_実施計画書'!$K215)","v":0},{"$f":"IF('2_別紙1-2_実施計画書'!$K271=\"\",\"\",'2_別紙1-2_実施計画書'!$K271)","v":0},{"$f":"IF('2_別紙1-2_実施計画書'!$K327=\"\",\"\",'2_別紙1-2_実施計画書'!$K327)","v":0},{"$f":"IF('2_別紙1-2_実施計画書'!$K383=\"\",\"\",'2_別紙1-2_実施計画書'!$K383)","v":0},{"$f":"IF('2_別紙1-2_実施計画書'!$K439=\"\",\"\",'2_別紙1-2_実施計画書'!$K439)","v":0},{"$f":"IF('2_別紙1-2_実施計画書'!$K495=\"\",\"\",'2_別紙1-2_実施計画書'!$K495)","v":0},{"$f":"IF('2_別紙1-2_実施計画書'!$K551=\"\",\"\",'2_別紙1-2_実施計画書'!$K551)","v":0},{"$f":"IF('2_別紙1-2_実施計画書'!$K607=\"\",\"\",'2_別紙1-2_実施計画書'!$K607)","v":0},{"$f":"IF('2_別紙1-2_実施計画書'!$K663=\"\",\"\",'2_別紙1-2_実施計画書'!$K663)","v":0},{"$f":"IF('2_別紙1-2_実施計画書'!$K719=\"\",\"\",'2_別紙1-2_実施計画書'!$K719)","v":0},{"$f":"IF('2_別紙1-2_実施計画書'!$K775=\"\",\"\",'2_別紙1-2_実施計画書'!$K775)","v":0},{"$f":"IF('2_別紙1-2_実施計画書'!$K831=\"\",\"\",'2_別紙1-2_実施計画書'!$K831)","v":0},{"$f":"IF('2_別紙1-2_実施計画書'!$K887=\"\",\"\",'2_別紙1-2_実施計画書'!$K887)","v":0},"*"]
[65,null,null,null,null,"計画値",20,{"$f":"IF('2_別紙1-2_実施計画書'!$K103=\"\",\"\",'2_別紙1-2_実施計画書'!$K103)","v":0},{"$f":"IF('2_別紙1-2_実施計画書'!$K160=\"\",\"\",'2_別紙1-2_実施計画書'!$K160)","v":0},{"$f":"IF('2_別紙1-2_実施計画書'!$K216=\"\",\"\",'2_別紙1-2_実施計画書'!$K216)","v":0},{"$f":"IF('2_別紙1-2_実施計画書'!$K272=\"\",\"\",'2_別紙1-2_実施計画書'!$K272)","v":0},{"$f":"IF('2_別紙1-2_実施計画書'!$K328=\"\",\"\",'2_別紙1-2_実施計画書'!$K328)","v":0},{"$f":"IF('2_別紙1-2_実施計画書'!$K384=\"\",\"\",'2_別紙1-2_実施計画書'!$K384)","v":0},{"$f":"IF('2_別紙1-2_実施計画書'!$K440=\"\",\"\",'2_別紙1-2_実施計画書'!$K440)","v":0},{"$f":"IF('2_別紙1-2_実施計画書'!$K496=\"\",\"\",'2_別紙1-2_実施計画書'!$K496)","v":0},{"$f":"IF('2_別紙1-2_実施計画書'!$K552=\"\",\"\",'2_別紙1-2_実施計画書'!$K552)","v":0},{"$f":"IF('2_別紙1-2_実施計画書'!$K608=\"\",\"\",'2_別紙1-2_実施計画書'!$K608)","v":0},{"$f":"IF('2_別紙1-2_実施計画書'!$K664=\"\",\"\",'2_別紙1-2_実施計画書'!$K664)","v":0},{"$f":"IF('2_別紙1-2_実施計画書'!$K720=\"\",\"\",'2_別紙1-2_実施計画書'!$K720)","v":0},{"$f":"IF('2_別紙1-2_実施計画書'!$K776=\"\",\"\",'2_別紙1-2_実施計画書'!$K776)","v":0},{"$f":"IF('2_別紙1-2_実施計画書'!$K832=\"\",\"\",'2_別紙1-2_実施計画書'!$K832)","v":0},{"$f":"IF('2_別紙1-2_実施計画書'!$K888=\"\",\"\",'2_別紙1-2_実施計画書'!$K888)","v":0},"*"]
[66,null,null,null,null,"実績値",20,null,null,null,null,null,null,null,null,null,null,null,null,null,null,null,"*"]
[67,null,"COOL CHOICE 賛同数（個人）\n※数値で記入",null,null,"昨年度実績値",1000,{"$f":"IF('2_別紙1-2_実施計画書'!$R102=\"\",\"\",'2_別紙1-2_実施計画書'!$R102)","v":0},{"$f":"IF('2_別紙1-2_実施計画書'!$R159=\"\",\"\",'2_別紙1-2_実施計画書'!$R159)","v":0},{"$f":"IF('2_別紙1-2_実施計画書'!$R215=\"\",\"\",'2_別紙1-2_実施計画書'!$R215)","v":0},{"$f":"IF('2_別紙1-2_実施計画書'!$R271=\"\",\"\",'2_別紙1-2_実施計画書'!$R271)","v":0},{"$f":"IF('2_別紙1-2_実施計画書'!$R327=\"\",\"\",'2_別紙1-2_実施計画書'!$R327)","v":0},{"$f":"IF('2_別紙1-2_実施計画書'!$R383=\"\",\"\",'2_別紙1-2_実施計画書'!$R383)","v":0},{"$f":"IF('2_別紙1-2_実施計画書'!$R439=\"\",\"\",'2_別紙1-2_実施計画書'!$R439)","v":0},{"$f":"IF('2_別紙1-2_実施計画書'!$R495=\"\",\"\",'2_別紙1-2_実施計画書'!$R495)","v":0},{"$f":"IF('2_別紙1-2_実施計画書'!$R551=\"\",\"\",'2_別紙1-2_実施計画書'!$R551)","v":0},{"$f":"IF('2_別紙1-2_実施計画書'!$R607=\"\",\"\",'2_別紙1-2_実施計画書'!$R607)","v":0},{"$f":"IF('2_別紙1-2_実施計画書'!$R663=\"\",\"\",'2_別紙1-2_実施計画書'!$R663)","v":0},{"$f":"IF('2_別紙1-2_実施計画書'!$R719=\"\",\"\",'2_別紙1-2_実施計画書'!$R719)","v":0},{"$f":"IF('2_別紙1-2_実施計画書'!$R775=\"\",\"\",'2_別紙1-2_実施計画書'!$R775)","v":0},{"$f":"IF('2_別紙1-2_実施計画書'!$R831=\"\",\"\",'2_別紙1-2_実施計画書'!$R831)","v":0},{"$f":"IF('2_別紙1-2_実施計画書'!$R887=\"\",\"\",'2_別紙1-2_実施計画書'!$R887)","v":0},"*"]
[68,null,null,null,null,"計画値",1000,{"$f":"IF('2_別紙1-2_実施計画書'!$R103=\"\",\"\",'2_別紙1-2_実施計画書'!$R103)","v":0},{"$f":"IF('2_別紙1-2_実施計画書'!$R160=\"\",\"\",'2_別紙1-2_実施計画書'!$R160)","v":0},{"$f":"IF('2_別紙1-2_実施計画書'!$R216=\"\",\"\",'2_別紙1-2_実施計画書'!$R216)","v":0},{"$f":"IF('2_別紙1-2_実施計画書'!$R272=\"\",\"\",'2_別紙1-2_実施計画書'!$R272)","v":0},{"$f":"IF('2_別紙1-2_実施計画書'!$R328=\"\",\"\",'2_別紙1-2_実施計画書'!$R328)","v":0},{"$f":"IF('2_別紙1-2_実施計画書'!$R384=\"\",\"\",'2_別紙1-2_実施計画書'!$R384)","v":0},{"$f":"IF('2_別紙1-2_実施計画書'!$R440=\"\",\"\",'2_別紙1-2_実施計画書'!$R440)","v":0},{"$f":"IF('2_別紙1-2_実施計画書'!$R496=\"\",\"\",'2_別紙1-2_実施計画書'!$R496)","v":0},{"$f":"IF('2_別紙1-2_実施計画書'!$R552=\"\",\"\",'2_別紙1-2_実施計画書'!$R552)","v":0},{"$f":"IF('2_別紙1-2_実施計画書'!$R608=\"\",\"\",'2_別紙1-2_実施計画書'!$R608)","v":0},{"$f":"IF('2_別紙1-2_実施計画書'!$R664=\"\",\"\",'2_別紙1-2_実施計画書'!$R664)","v":0},{"$f":"IF('2_別紙1-2_実施計画書'!$R720=\"\",\"\",'2_別紙1-2_実施計画書'!$R720)","v":0},{"$f":"IF('2_別紙1-2_実施計画書'!$R776=\"\",\"\",'2_別紙1-2_実施計画書'!$R776)","v":0},{"$f":"IF('2_別紙1-2_実施計画書'!$R832=\"\",\"\",'2_別紙1-2_実施計画書'!$R832)","v":0},{"$f":"IF('2_別紙1-2_実施計画書'!$R888=\"\",\"\",'2_別紙1-2_実施計画書'!$R888)","v":0},"*"]
[69,null,null,null,null,"実績値",null,null,null,null,null,null,null,null,null,null,null,null,null,null,null,null,"*"]
[70,"効果検証","アンケート種類",null,null,"【規定】省エネ家電","無",{"$f":"'2_別紙1-2_実施計画書'!$E107","v":"- 選択 -"},{"$f":"'2_別紙1-2_実施計画書'!$E$164","v":"- 選択 -"},{"$f":"'2_別紙1-2_実施計画書'!$E$220","v":"- 選択 -"},{"$f":"'2_別紙1-2_実施計画書'!$E$276","v":"- 選択 -"},{"$f":"'2_別紙1-2_実施計画書'!$E$332","v":"- 選択 -"},{"$f":"'2_別紙1-2_実施計画書'!$E$388","v":"- 選択 -"},{"$f":"'2_別紙1-2_実施計画書'!$E$444","v":"- 選択 -"},{"$f":"'2_別紙1-2_実施計画書'!$E$500","v":"- 選択 -"},{"$f":"'2_別紙1-2_実施計画書'!$E$556","v":"- 選択 -"},{"$f":"'2_別紙1-2_実施計画書'!$E$612","v":"- 選択 -"},{"$f":"'2_別紙1-2_実施計画書'!$E$668","v":"- 選択 -"},{"$f":"'2_別紙1-2_実施計画書'!$E$724","v":"- 選択 -"},{"$f":"'2_別紙1-2_実施計画書'!$E$780","v":"- 選択 -"},{"$f":"'2_別紙1-2_実施計画書'!$E$836","v":"- 選択 -"},{"$f":"'2_別紙1-2_実施計画書'!$E$892","v":"- 選択 -"},"*"]
[71,null,null,null,null,"【規定】省エネ住宅","無",{"$f":"'2_別紙1-2_実施計画書'!$I107","v":"- 選択 -"},{"$f":"'2_別紙1-2_実施計画書'!$I$164","v":"- 選択 -"},{"$f":"'2_別紙1-2_実施計画書'!$I$220","v":"- 選択 -"},{"$f":"'2_別紙1-2_実施計画書'!$I$276","v":"- 選択 -"},{"$f":"'2_別紙1-2_実施計画書'!$I$332","v":"- 選択 -"},{"$f":"'2_別紙1-2_実施計画書'!$I$388","v":"- 選択 -"},{"$f":"'2_別紙1-2_実施計画書'!$I$444","v":"- 選択 -"},{"$f":"'2_別紙1-2_実施計画書'!$I$500","v":"- 選択 -"},{"$f":"'2_別紙1-2_実施計画書'!$I$556","v":"- 選択 -"},{"$f":"'2_別紙1-2_実施計画書'!$I$612","v":"- 選択 -"},{"$f":"'2_別紙1-2_実施計画書'!$I$668","v":"- 選択 -"},{"$f":"'2_別紙1-2_実施計画書'!$I$724","v":"- 選択 -"},{"$f":"'2_別紙1-2_実施計画書'!$I$780","v":"- 選択 -"},{"$f":"'2_別紙1-2_実施計画書'!$I$836","v":"- 選択 -"},{"$f":"'2_別紙1-2_実施計画書'!$I$892","v":"- 選択 -"},"*"]
[72,null,null,null,null,"【規定】エコドライブ","無",{"$f":"'2_別紙1-2_実施計画書'!$M107","v":"- 選択 -"},{"$f":"'2_別紙1-2_実施計画書'!$M$164","v":"- 選択 -"},{"$f":"'2_別紙1-2_実施計画書'!$M$220","v":"- 選択 -"},{"$f":"'2_別紙1-2_実施計画書'!$M$276","v":"- 選択 -"},{"$f":"'2_別紙1-2_実施計画書'!$M$332","v":"- 選択 -"},{"$f":"'2_別紙1-2_実施計画書'!$M$388","v":"- 選択 -"},{"$f":"'2_別紙1-2_実施計画書'!$M$444","v":"- 選択 -"},{"$f":"'2_別紙1-2_実施計画書'!$M$500","v":"- 選択 -"},{"$f":"'2_別紙1-2_実施計画書'!$M$556","v":"- 選択 -"},{"$f":"'2_別紙1-2_実施計画書'!$M$612","v":"- 選択 -"},{"$f":"'2_別紙1-2_実施計画書'!$M$668","v":"- 選択 -"},{"$f":"'2_別紙1-2_実施計画書'!$M$724","v":"- 選択 -"},{"$f":"'2_別紙1-2_実施計画書'!$M$780","v":"- 選択 -"},{"$f":"'2_別紙1-2_実施計画書'!$M$836","v":"- 選択 -"},{"$f":"'2_別紙1-2_実施計画書'!$M$892","v":"- 選択 -"},"*"]
[73,null,null,null,null,"【規定】低炭素物流","無",{"$f":"'2_別紙1-2_実施計画書'!$Q107","v":"- 選択 -"},{"$f":"'2_別紙1-2_実施計画書'!$Q$164","v":"- 選択 -"},{"$f":"'2_別紙1-2_実施計画書'!$Q$220","v":"- 選択 -"},{"$f":"'2_別紙1-2_実施計画書'!$Q$276","v":"- 選択 -"},{"$f":"'2_別紙1-2_実施計画書'!$Q$332","v":"- 選択 -"},{"$f":"'2_別紙1-2_実施計画書'!$Q$388","v":"- 選択 -"},{"$f":"'2_別紙1-2_実施計画書'!$Q$444","v":"- 選択 -"},{"$f":"'2_別紙1-2_実施計画書'!$Q$500","v":"- 選択 -"},{"$f":"'2_別紙1-2_実施計画書'!$Q$556","v":"- 選択 -"},{"$f":"'2_別紙1-2_実施計画書'!$Q$612","v":"- 選択 -"},{"$f":"'2_別紙1-2_実施計画書'!$Q$668","v":"- 選択 -"},{"$f":"'2_別紙1-2_実施計画書'!$Q$724","v":"- 選択 -"},{"$f":"'2_別紙1-2_実施計画書'!$Q$780","v":"- 選択 -"},{"$f":"'2_別紙1-2_実施計画書'!$Q$836","v":"- 選択 -"},{"$f":"'2_別紙1-2_実施計画書'!$Q$892","v":"- 選択 -"},"*"]
[74,null,null,null,null,"事業者独自","有",{"$f":"'2_別紙1-2_実施計画書'!$V107","v":"- 選択 -"},{"$f":"'2_別紙1-2_実施計画書'!$V$164","v":"- 選択 -"},{"$f":"'2_別紙1-2_実施計画書'!$V$220","v":"- 選択 -"},{"$f":"'2_別紙1-2_実施計画書'!$V$276","v":"- 選択 -"},{"$f":"'2_別紙1-2_実施計画書'!$V$332","v":"- 選択 -"},{"$f":"'2_別紙1-2_実施計画書'!$V$388","v":"- 選択 -"},{"$f":"'2_別紙1-2_実施計画書'!$V$444","v":"- 選択 -"},{"$f":"'2_別紙1-2_実施計画書'!$V$500","v":"- 選択 -"},{"$f":"'2_別紙1-2_実施計画書'!$V$556","v":"- 選択 -"},{"$f":"'2_別紙1-2_実施計画書'!$V$612","v":"- 選択 -"},{"$f":"'2_別紙1-2_実施計画書'!$V$668","v":"- 選択 -"},{"$f":"'2_別紙1-2_実施計画書'!$V$724","v":"- 選択 -"},{"$f":"'2_別紙1-2_実施計画書'!$V$780","v":"- 選択 -"},{"$f":"'2_別紙1-2_実施計画書'!$V$836","v":"- 選択 -"},{"$f":"'2_別紙1-2_実施計画書'!$V$892","v":"- 選択 -"},"*"]
[75,null,"アンケート回収数",null,null,"内容","エコドライブCMに関する意識調査",{"$f":"IF('2_別紙1-2_実施計画書'!$G108=\"\",\"\",'2_別紙1-2_実施計画書'!$G108)","v":""},{"$f":"IF('2_別紙1-2_実施計画書'!$G165=\"\",\"\",'2_別紙1-2_実施計画書'!$G165)","v":""},{"$f":"IF('2_別紙1-2_実施計画書'!$G221=\"\",\"\",'2_別紙1-2_実施計画書'!$G221)","v":""},{"$f":"IF('2_別紙1-2_実施計画書'!$G277=\"\",\"\",'2_別紙1-2_実施計画書'!$G277)","v":""},{"$f":"IF('2_別紙1-2_実施計画書'!$G333=\"\",\"\",'2_別紙1-2_実施計画書'!$G333)","v":""},{"$f":"IF('2_別紙1-2_実施計画書'!$G389=\"\",\"\",'2_別紙1-2_実施計画書'!$G389)","v":""},{"$f":"IF('2_別紙1-2_実施計画書'!$G445=\"\",\"\",'2_別紙1-2_実施計画書'!$G445)","v":""},{"$f":"IF('2_別紙1-2_実施計画書'!$G501=\"\",\"\",'2_別紙1-2_実施計画書'!$G501)","v":""},{"$f":"IF('2_別紙1-2_実施計画書'!$G557=\"\",\"\",'2_別紙1-2_実施計画書'!$G557)","v":""},{"$f":"IF('2_別紙1-2_実施計画書'!$G613=\"\",\"\",'2_別紙1-2_実施計画書'!$G613)","v":""},{"$f":"IF('2_別紙1-2_実施計画書'!$G669=\"\",\"\",'2_別紙1-2_実施計画書'!$G669)","v":""},{"$f":"IF('2_別紙1-2_実施計画書'!$G725=\"\",\"\",'2_別紙1-2_実施計画書'!$G725)","v":""},{"$f":"IF('2_別紙1-2_実施計画書'!$G781=\"\",\"\",'2_別紙1-2_実施計画書'!$G781)","v":""},{"$f":"IF('2_別紙1-2_実施計画書'!$G837=\"\",\"\",'2_別紙1-2_実施計画書'!$G837)","v":""},{"$f":"IF('2_別紙1-2_実施計画書'!$G893=\"\",\"\",'2_別紙1-2_実施計画書'!$G893)","v":""},"*"]
[76,null,null,null,null,"昨年度実績",50,{"$f":"IF('2_別紙1-2_実施計画書'!$J109=\"\",\"\",'2_別紙1-2_実施計画書'!$J109)","v":0},{"$f":"IF('2_別紙1-2_実施計画書'!$J166=\"\",\"\",'2_別紙1-2_実施計画書'!$J166)","v":0},{"$f":"IF('2_別紙1-2_実施計画書'!$J222=\"\",\"\",'2_別紙1-2_実施計画書'!$J222)","v":0},{"$f":"IF('2_別紙1-2_実施計画書'!$J278=\"\",\"\",'2_別紙1-2_実施計画書'!$J278)","v":0},{"$f":"IF('2_別紙1-2_実施計画書'!$J334=\"\",\"\",'2_別紙1-2_実施計画書'!$J334)","v":0},{"$f":"IF('2_別紙1-2_実施計画書'!$J390=\"\",\"\",'2_別紙1-2_実施計画書'!$J390)","v":0},{"$f":"IF('2_別紙1-2_実施計画書'!$J446=\"\",\"\",'2_別紙1-2_実施計画書'!$J446)","v":0},{"$f":"IF('2_別紙1-2_実施計画書'!$J502=\"\",\"\",'2_別紙1-2_実施計画書'!$J502)","v":0},{"$f":"IF('2_別紙1-2_実施計画書'!$J558=\"\",\"\",'2_別紙1-2_実施計画書'!$J558)","v":0},{"$f":"IF('2_別紙1-2_実施計画書'!$J614=\"\",\"\",'2_別紙1-2_実施計画書'!$J614)","v":0},{"$f":"IF('2_別紙1-2_実施計画書'!$J670=\"\",\"\",'2_別紙1-2_実施計画書'!$J670)","v":0},{"$f":"IF('2_別紙1-2_実施計画書'!$J726=\"\",\"\",'2_別紙1-2_実施計画書'!$J726)","v":0},{"$f":"IF('2_別紙1-2_実施計画書'!$J782=\"\",\"\",'2_別紙1-2_実施計画書'!$J782)","v":0},{"$f":"IF('2_別紙1-2_実施計画書'!$J838=\"\",\"\",'2_別紙1-2_実施計画書'!$J838)","v":0},{"$f":"IF('2_別紙1-2_実施計画書'!$J894=\"\",\"\",'2_別紙1-2_実施計画書'!$J894)","v":0},"*"]
[77,null,null,null,null,"計画値",50,{"$f":"IF('2_別紙1-2_実施計画書'!$J110=\"\",\"\",'2_別紙1-2_実施計画書'!$J110)","v":0},{"$f":"IF('2_別紙1-2_実施計画書'!$J167=\"\",\"\",'2_別紙1-2_実施計画書'!$J167)","v":0},{"$f":"IF('2_別紙1-2_実施計画書'!$J223=\"\",\"\",'2_別紙1-2_実施計画書'!$J223)","v":0},{"$f":"IF('2_別紙1-2_実施計画書'!$J279=\"\",\"\",'2_別紙1-2_実施計画書'!$J279)","v":0},{"$f":"IF('2_別紙1-2_実施計画書'!$J335=\"\",\"\",'2_別紙1-2_実施計画書'!$J335)","v":0},{"$f":"IF('2_別紙1-2_実施計画書'!$J391=\"\",\"\",'2_別紙1-2_実施計画書'!$J391)","v":0},{"$f":"IF('2_別紙1-2_実施計画書'!$J447=\"\",\"\",'2_別紙1-2_実施計画書'!$J447)","v":0},{"$f":"IF('2_別紙1-2_実施計画書'!$J503=\"\",\"\",'2_別紙1-2_実施計画書'!$J503)","v":0},{"$f":"IF('2_別紙1-2_実施計画書'!$J559=\"\",\"\",'2_別紙1-2_実施計画書'!$J559)","v":0},{"$f":"IF('2_別紙1-2_実施計画書'!$J615=\"\",\"\",'2_別紙1-2_実施計画書'!$J615)","v":0},{"$f":"IF('2_別紙1-2_実施計画書'!$J671=\"\",\"\",'2_別紙1-2_実施計画書'!$J671)","v":0},{"$f":"IF('2_別紙1-2_実施計画書'!$J727=\"\",\"\",'2_別紙1-2_実施計画書'!$J727)","v":0},{"$f":"IF('2_別紙1-2_実施計画書'!$J783=\"\",\"\",'2_別紙1-2_実施計画書'!$J783)","v":0},{"$f":"IF('2_別紙1-2_実施計画書'!$J839=\"\",\"\",'2_別紙1-2_実施計画書'!$J839)","v":0},{"$f":"IF('2_別紙1-2_実施計画書'!$J895=\"\",\"\",'2_別紙1-2_実施計画書'!$J895)","v":0},"*"]
[78,null,null,null,null,"実績値",50,null,null,null,null,null,null,null,null,null,null,null,null,null,null,null,"*"]
[79,"事業実施に要した費用実績\n※個別事業ごとに分かれている場合のみ数値で記入",null,null,null,null,400000,null,null,null,null,null,null,null,null,null,null,null,null,null,null,null,"*"]
["*","*","*","*","*","*","*","*","*","*","*","*","*","*","*","*","*","*","*","*","*","*","*"]

{"sheet":"12_PDCAチェックシート【事業終了時】事業全体","index":13,"n_rows":29,"n_cols":8,"rows_kept":29,"cut":false,"hidden":false,"merged":[[29,2,35,11],[20,2,26,11],[8,2,8,4],[2,1,2,4],[2,5,2,11]]}
[]
[null,"都道府県",null,null,null,"事業者名"]
[null,null,null,null,null,{"$f":"'2_別紙1-2_実施計画書'!E11","v":0}]
[]
[null,"＜事業終了時＞"]
[]
[null,"実績報告"]
[null,null,null,null,null,"計画値","実績値","達成率（%）"]
[null,null,"補助金所要額（円）",null,null,{"$f":"'10_PDCAチェックシート【事業開始時】事業全体'!$F14","v":0},{"$f":"'8_別紙2-2_経費所要額精算調書'!L12","v":0},"-"]
[null,null,"KPI"]
[null,null,null,"普及啓発人数（リーチ数）",null,{"$f":"'10_PDCAチェックシート【事業開始時】事業全体'!F16","v":0},{"$f":"'7_別紙1-2_実施報告書'!G902","v":0},{"$f":"IF(G11=\"\",\"\",G11/F11)","v":{"$error":"#DIV/0!"}}]
[null,null,null,"COOL CHOICE 賛同数",null,"-","-","-"]
[null,null,null,null,"団体賛同数",{"$f":"'10_PDCAチェックシート【事業開始時】事業全体'!F18","v":0},{"$f":"'7_別紙1-2_実施報告書'!G893","v":0},{"$f":"IF(G13=\"\",\"\",G13/F13)","v":{"$error":"#DIV/0!"}}]
[null,null,null,null,"個人賛同数",{"$f":"'10_PDCAチェックシート【事業開始時】事業全体'!F19","v":0},{"$f":"'7_別紙1-2_実施報告書'!G895","v":0},{"$error":"#DIV/0!"}]
[null,null,null,"アンケート回収数",null,{"$f":"'10_PDCAチェックシート【事業開始時】事業全体'!$F20","v":0},{"$f":"'7_別紙1-2_実施報告書'!G904","v":0},{"$error":"#DIV/0!"}]
[]
[null,null,"実施した事業の成功要因、課題"]
[null,null,null,"①実施計画書どおりに事業を実施できたか。できなかった場合、その要因は何か"]
[null,null,null,"②事業全体を通して、普及啓発時に工夫した点は何か"]
[null,null,null,"③KPIの達成率に対する所感"]
[]
[]
[]
[]
[]
[]
[]
[]
[null,null,"上記課題の改善策"]

{"sheet":"13_（参考）普及啓発テーマ・訴求手法","index":14,"n_rows":20,"n_cols":8,"rows_kept":20,"cut":false,"hidden":false,"merged":[[2,2,4,3],[2,4,2,6],[3,4,3,6],[4,4,4,6],[3,7,3,14],[2,7,2,14],[4,7,4,14],[5,2,12,3],[5,7,5,14],[6,7,6,14],[5,4,12,6],[10,7,10,14],[9,7,9,14],[8,7,8,14],[7,7,7,14],[12,7,12,14],[11,7,11,14],[16,2,16,5],[16,6,16,14],[17,6,17,14],[18,6,18,14],[19,6,19,14]]}
[]
[null,"（参考）普及啓発テーマ一覧"]
[null,null,"購買選好の\n変化",null,"省エネ家電買換え",null,null,"①省エネ機器の買換え促進"]
[null,null,null,null,"省エネ住宅購入",null,null,"②省エネ住宅の普及促進"]
[null,null,null,null,"エコカー買換え",null,null,"③エコカーの普及促進"]
[null,null,"価値観の変化",null,"エコなライフスタイル選択",null,null,"④クールビズ実施の推進"]
[null,null,null,null,null,null,null,"⑤ウォームビズ実施の推進"]
[null,null,null,null,null,null,null,"⑥照明の効率的な利用促進"]
[null,null,null,null,null,null,null,"⑦エコドライブの推進"]
[null,null,null,null,null,null,null,"⑧カーシェアリングの利用促進"]
[null,null,null,null,null,null,null,"⑨公共交通機関の利用促進"]
[null,null,null,null,null,null,null,"⑩低炭素物流の普及促進（宅配便再配達防止）"]
[null,null,null,null,null,null,null,"⑪シェアリングエコノミーの普及促進（バイクシェア、コミュニティサイクル）"]
[]
[]
[null,"（参考）地域普及啓発事業における訴求手法一覧"]
[null,null,"地域普及啓発事業における\n訴求手法",null,null,null,"定義"]
[null,null,"a) 情報発信型（受動型）事業",null,null,null,"コミュニティFMや新聞広告等を通じ、不特定多数に対して一方向的に情報発信を行うことで普及啓発を行う事業"]
[null,null,"b) 情報発信型（能動型）事業",null,null,null,"講演会やパネル展示等により、対面で一方向的に普及啓発を行う事業"]
[null,null,"c) 双方向体験交流型事業",null,null,null,"交流会、試乗会又は省エネ診断等、参加者との双方向のコミュニケーションを通じて普及啓発を行う事業"]

{"sheet":"【管理者用】","index":15,"n_rows":3,"n_cols":5,"rows_kept":3,"cut":false,"hidden":true,"merged":[]}
[]
[null,"年度",2019]
[null,"期間",{"$f":"DATE($C$2,4,1)","v":"2019-04-01"},"～",{"$f":"DATE(C2+1,2,29)","v":"2020-02-29"}]