Workbook
Name エネルギー種別: 【非表示】排出係数!$C$7:$C$22
Name 排出係数: 【非表示】排出係数!$C$7:$I$22

Sheet 総括表
AB1: セル色表示/非表示用
B2: 令和8年度Scope3排出量削減のための企業間連携による省CO2設備投資促進事業 | AB2: FALSE
B3: ＜CO2削減算定資料＞
B5: 事業番号 | D5: Ｓ０８－＊＊＊－＊＊－＊＊(協会から通知される工場・事業場別番号を記入ください。)
B6: 事業者名※1
B7: 企業分類
B8: 工場・事業場名 | CK8: TRUE
B9: ※1：事業者名には、工場・事業場の所有者を入力してください。
B12: 【総括表】
B14: 個票合計CO2削減率(b÷a) ： | E14: =IFERROR(ROUNDDOWN(H17/D17,4),"") | F14: =IF(E14<【非表示】その他!F4,"削減量が不足しています。","")
C16: 設備更新前年間CO2排出量 | F16: 設備更新後年間CO2排出量 | H16: 個票別年間CO2削減量
B17: 対策個票 合計 | C17: ※2 | D17: =【非表示】その他!L4 -> 0 | E17: t-CO2/年(a) | H17: =SUM(H18:H27) -> 0 | I17: t-CO2/年(b)
B18: 個票1 | D18: {=IFERROR(IF(INDIRECT(B18&"!G31")="","",INDIRECT(B18&"!G31")),"")} -> 0 | E18: =IF(D18="","","t-CO2/年") -> t-CO2/年 | F18: {=IFERROR(IF(INDIRECT(B18&"!G40")="","",INDIRECT(B18&"!G40")),"")} -> 0 | G18: =IF(F18="","","t-CO2/年") -> t-CO2/年 | H18: {=IFERROR(IF(INDIRECT(B18&"!C22")="","",INDIRECT(B18&"!C22")),"")} -> 0 | I18: =IF(H18="","","t-CO2/年") -> t-CO2/年
B19: 個票2 | D19: {=IFERROR(IF(INDIRECT(B19&"!G31")="","",INDIRECT(B19&"!G31")),"")} -> 0 | E19: =IF(D19="","","t-CO2/年") -> t-CO2/年 | F19: {=IFERROR(IF(INDIRECT(B19&"!G40")="","",INDIRECT(B19&"!G40")),"")} -> 0 | G19: =IF(F19="","","t-CO2/年") -> t-CO2/年 | H19: {=IFERROR(IF(INDIRECT(B19&"!C22")="","",INDIRECT(B19&"!C22")),"")} -> 0 | I19: =IF(H19="","","t-CO2/年") -> t-CO2/年
B20: 個票3 | D20: {=IFERROR(IF(INDIRECT(B20&"!G31")="","",INDIRECT(B20&"!G31")),"")} -> 0 | E20: =IF(D20="","","t-CO2/年") -> t-CO2/年 | F20: {=IFERROR(IF(INDIRECT(B20&"!G40")="","",INDIRECT(B20&"!G40")),"")} -> 0 | G20: =IF(F20="","","t-CO2/年") -> t-CO2/年 | H20: {=IFERROR(IF(INDIRECT(B20&"!C22")="","",INDIRECT(B20&"!C22")),"")} -> 0 | I20: =IF(H20="","","t-CO2/年") -> t-CO2/年
B21: 個票4 | D21: {=IFERROR(IF(INDIRECT(B21&"!G31")="","",INDIRECT(B21&"!G31")),"")} -> 0 | E21: =IF(D21="","","t-CO2/年") -> t-CO2/年 | F21: {=IFERROR(IF(INDIRECT(B21&"!G40")="","",INDIRECT(B21&"!G40")),"")} -> 0 | G21: =IF(F21="","","t-CO2/年") -> t-CO2/年 | H21: {=IFERROR(IF(INDIRECT(B21&"!C22")="","",INDIRECT(B21&"!C22")),"")} -> 0 | I21: =IF(H21="","","t-CO2/年") -> t-CO2/年
B22: 個票5 | D22: {=IFERROR(IF(INDIRECT(B22&"!G31")="","",INDIRECT(B22&"!G31")),"")} -> 0 | E22: =IF(D22="","","t-CO2/年") -> t-CO2/年 | F22: {=IFERROR(IF(INDIRECT(B22&"!G40")="","",INDIRECT(B22&"!G40")),"")} -> 0 | G22: =IF(F22="","","t-CO2/年") -> t-CO2/年 | H22: {=IFERROR(IF(INDIRECT(B22&"!C22")="","",INDIRECT(B22&"!C22")),"")} -> 0 | I22: =IF(H22="","","t-CO2/年") -> t-CO2/年
B23: 個票6 | D23: {=IFERROR(IF(INDIRECT(B23&"!G31")="","",INDIRECT(B23&"!G31")),"")} -> 0 | E23: =IF(D23="","","t-CO2/年") -> t-CO2/年 | F23: {=IFERROR(IF(INDIRECT(B23&"!G40")="","",INDIRECT(B23&"!G40")),"")} -> 0 | G23: =IF(F23="","","t-CO2/年") -> t-CO2/年 | H23: {=IFERROR(IF(INDIRECT(B23&"!C22")="","",INDIRECT(B23&"!C22")),"")} -> 0 | I23: =IF(H23="","","t-CO2/年") -> t-CO2/年
B24: 個票7 | D24: {=IFERROR(IF(INDIRECT(B24&"!G31")="","",INDIRECT(B24&"!G31")),"")} -> 0 | E24: =IF(D24="","","t-CO2/年") -> t-CO2/年 | F24: {=IFERROR(IF(INDIRECT(B24&"!G40")="","",INDIRECT(B24&"!G40")),"")} -> 0 | G24: =IF(F24="","","t-CO2/年") -> t-CO2/年 | H24: {=IFERROR(IF(INDIRECT(B24&"!C22")="","",INDIRECT(B24&"!C22")),"")} -> 0 | I24: =IF(H24="","","t-CO2/年") -> t-CO2/年
B25: 個票8 | D25: {=IFERROR(IF(INDIRECT(B25&"!G31")="","",INDIRECT(B25&"!G31")),"")} -> 0 | E25: =IF(D25="","","t-CO2/年") -> t-CO2/年 | F25: {=IFERROR(IF(INDIRECT(B25&"!G40")="","",INDIRECT(B25&"!G40")),"")} -> 0 | G25: =IF(F25="","","t-CO2/年") -> t-CO2/年 | H25: {=IFERROR(IF(INDIRECT(B25&"!C22")="","",INDIRECT(B25&"!C22")),"")} -> 0 | I25: =IF(H25="","","t-CO2/年") -> t-CO2/年
B26: 個票9 | D26: {=IFERROR(IF(INDIRECT(B26&"!G31")="","",INDIRECT(B26&"!G31")),"")} -> 0 | E26: =IF(D26="","","t-CO2/年") -> t-CO2/年 | F26: {=IFERROR(IF(INDIRECT(B26&"!G40")="","",INDIRECT(B26&"!G40")),"")} -> 0 | G26: =IF(F26="","","t-CO2/年") -> t-CO2/年 | H26: {=IFERROR(IF(INDIRECT(B26&"!C22")="","",INDIRECT(B26&"!C22")),"")} -> 0 | I26: =IF(H26="","","t-CO2/年") -> t-CO2/年
B27: 個票10 | D27: {=IFERROR(IF(INDIRECT(B27&"!G31")="","",INDIRECT(B27&"!G31")),"")} -> 0 | E27: =IF(D27="","","t-CO2/年") -> t-CO2/年 | F27: {=IFERROR(IF(INDIRECT(B27&"!G40")="","",INDIRECT(B27&"!G40")),"")} -> 0 | G27: =IF(F27="","","t-CO2/年") -> t-CO2/年 | H27: {=IFERROR(IF(INDIRECT(B27&"!C22")="","",INDIRECT(B27&"!C22")),"")} -> 0 | I27: =IF(H27="","","t-CO2/年") -> t-CO2/年
B28: ※2：個票合計CO2削減率を算定する際に、分母の設備更新前年間CO2排出量の合計に算入しない場合には「×」を入力してください。
B29: 算入しない例：個票1で空調の電化を行い、個票2で電化した個票1の空調の電力を再エネに変更した場合、個票2は「×」となります。
B31: 注意
B32: 交付申請書[別紙1-4 実施計画書 CO2排出量等]他へ転記するCO2排出量・削減量は、本表の個票別数値をそのまま転記して下さい。 また、少数点以下を端数処理して転記しないこと。

Sheet 個票1
AA1: セル色表示/非表示用
B2: 令和8年度Scope3排出量削減のための企業間連携による省CO2設備投資促進事業 | AA2: FALSE
B3: ＜CO2削減算定資料＞
B5: 事業番号 | C5: =IF(総括表!D5="","",総括表!D5) -> Ｓ０８－＊＊＊－＊＊－＊＊(協会から通知される工場・事業場別番号を記入ください。)
B6: 事業者名※ | C6: =IF(総括表!D6="","",総括表!D6)
B7: 企業分類 | C7: =IF(総括表!D7="","",総括表!D7)
B8: 工場・事業場名 | C8: =IF(総括表!D8="","",総括表!D8) | CJ8: TRUE
B9: ※事業者名には、工場・事業場の所有者を入力してください。
B12: {=IF(RIGHT(CELL("filename",$I$2),1)="0","【個票"&RIGHT(CELL("filename",$I$2),2)&"】","【個票"&RIGHT(CELL("filename",$I$2),1)&"】")} -> 【個票1】
B13: １．対策概要
B14: 対策内容
B16: 更新前設備名称
B17: 更新後設備名称
B21: ２．対策効果
B22: 年間CO2削減量 | C22: =G31-G40 -> 0 | D22: t-CO2/年
B25: ①【設備更新前】
B26: エネルギー種別 | C26: 年間エネルギー使用量 | E26: 排出係数 | G26: 年間CO2排出量
D27: =IF($B27="","",IF(COUNTIF(エネルギー種別,$B27)=0,"(単位を入力)",VLOOKUP($B27,排出係数,2,FALSE))) | E27: =IF($B27="","",IF(COUNTIF(エネルギー種別,$B27)=0,"(係数を入力)",VLOOKUP($B27,排出係数,6,FALSE))) | F27: =IF($B27="","",IF(COUNTIF(エネルギー種別,$B27)=0,"(単位を入力)",VLOOKUP($B27,排出係数,7,FALSE))) | G27: =IF(C27="","",C27*E27) | H27: t-CO2/年
D28: =IF($B28="","",IF(COUNTIF(エネルギー種別,$B28)=0,"(単位を入力)",VLOOKUP($B28,排出係数,2,FALSE))) | E28: =IF($B28="","",IF(COUNTIF(エネルギー種別,$B28)=0,"(係数を入力)",VLOOKUP($B28,排出係数,6,FALSE))) | F28: =IF($B28="","",IF(COUNTIF(エネルギー種別,$B28)=0,"(単位を入力)",VLOOKUP($B28,排出係数,7,FALSE))) | G28: =IF(C28="","",C28*E28) | H28: t-CO2/年
D29: =IF($B29="","",IF(COUNTIF(エネルギー種別,$B29)=0,"(単位を入力)",VLOOKUP($B29,排出係数,2,FALSE))) | E29: =IF($B29="","",IF(COUNTIF(エネルギー種別,$B29)=0,"(係数を入力)",VLOOKUP($B29,排出係数,6,FALSE))) | F29: =IF($B29="","",IF(COUNTIF(エネルギー種別,$B29)=0,"(単位を入力)",VLOOKUP($B29,排出係数,7,FALSE))) | G29: =IF(C29="","",C29*E29) | H29: t-CO2/年
D30: =IF($B30="","",IF(COUNTIF(エネルギー種別,$B30)=0,"(単位を入力)",VLOOKUP($B30,排出係数,2,FALSE))) | E30: =IF($B30="","",IF(COUNTIF(エネルギー種別,$B30)=0,"(係数を入力)",VLOOKUP($B30,排出係数,6,FALSE))) | F30: =IF($B30="","",IF(COUNTIF(エネルギー種別,$B30)=0,"(単位を入力)",VLOOKUP($B30,排出係数,7,FALSE))) | G30: =IF(C30="","",C30*E30) | H30: t-CO2/年
F31: 合計 | G31: =SUM(G27:G30) -> 0 | H31: t-CO2/年
B34: ②【設備更新後】
B35: エネルギー種別 | C35: 年間エネルギー使用量 | E35: 排出係数 | G35: 年間CO2排出量
D36: =IF($B36="","",IF(COUNTIF(エネルギー種別,$B36)=0,"(単位を入力)",VLOOKUP($B36,排出係数,2,FALSE))) | E36: =IF($B36="","",IF(COUNTIF(エネルギー種別,$B36)=0,"(係数を入力)",VLOOKUP($B36,排出係数,6,FALSE))) | F36: =IF($B36="","",IF(COUNTIF(エネルギー種別,$B36)=0,"(単位を入力)",VLOOKUP($B36,排出係数,7,FALSE))) | G36: =IF(C36="","",C36*E36) | H36: t-CO2/年
D37: =IF($B37="","",IF(COUNTIF(エネルギー種別,$B37)=0,"(単位を入力)",VLOOKUP($B37,排出係数,2,FALSE))) | E37: =IF($B37="","",IF(COUNTIF(エネルギー種別,$B37)=0,"(係数を入力)",VLOOKUP($B37,排出係数,6,FALSE))) | F37: =IF($B37="","",IF(COUNTIF(エネルギー種別,$B37)=0,"(単位を入力)",VLOOKUP($B37,排出係数,7,FALSE))) | G37: =IF(C37="","",C37*E37) | H37: t-CO2/年
D38: =IF($B38="","",IF(COUNTIF(エネルギー種別,$B38)=0,"(単位を入力)",VLOOKUP($B38,排出係数,2,FALSE))) | E38: =IF($B38="","",IF(COUNTIF(エネルギー種別,$B38)=0,"(係数を入力)",VLOOKUP($B38,排出係数,6,FALSE))) | F38: =IF($B38="","",IF(COUNTIF(エネルギー種別,$B38)=0,"(単位を入力)",VLOOKUP($B38,排出係数,7,FALSE))) | G38: =IF(C38="","",C38*E38) | H38: t-CO2/年
D39: =IF($B39="","",IF(COUNTIF(エネルギー種別,$B39)=0,"(単位を入力)",VLOOKUP($B39,排出係数,2,FALSE))) | E39: =IF($B39="","",IF(COUNTIF(エネルギー種別,$B39)=0,"(係数を入力)",VLOOKUP($B39,排出係数,6,FALSE))) | F39: =IF($B39="","",IF(COUNTIF(エネルギー種別,$B39)=0,"(単位を入力)",VLOOKUP($B39,排出係数,7,FALSE))) | G39: =IF(C39="","",C39*E39) | H39: t-CO2/年
F40: 合計 | G40: =SUM(G36:G39) -> 0 | H40: t-CO2/年
B42: 注１）選択肢にないエネルギー種別の場合は、エネルギー種別の名称、年間エネルギー消費量の単位、排出係数および排出係数の単位についても記入する。※プルダウンまたは計算式により表示されている内容を削除し、直接入力してください。
H45: =$B$12 -> 【個票1】
B46: ３．年間エネルギー使用量の算定
B47: ①算定方法
B49: ②【設備更新前】年間エネルギー使用量の計算方法と計算式
B59: ③【設備更新前】年間エネルギー使用量の計算式で使用する各数値の説明とその根拠
B70: ④【設備更新後】年間エネルギー使用量の計算方法と計算式
B80: ⑤【設備更新後】年間エネルギー使用量の計算式で使用する各数値の説明とその根拠
H90: =$B$12 -> 【個票1】
B91: ４．設備更新前後の比較図
B92: ①【設備更新前】
...

Sheet 個票2
AA1: セル色表示/非表示用
B2: 令和8年度Scope3排出量削減のための企業間連携による省CO2設備投資促進事業 | AA2: FALSE
B3: ＜CO2削減算定資料＞
B5: 事業番号 | C5: =IF(総括表!D5="","",総括表!D5) -> Ｓ０８－＊＊＊－＊＊－＊＊(協会から通知される工場・事業場別番号を記入ください。)
B6: 事業者名※ | C6: =IF(総括表!D6="","",総括表!D6)
B7: 企業分類 | C7: =IF(総括表!D7="","",総括表!D7)
B8: 工場・事業場名 | C8: =IF(総括表!D8="","",総括表!D8) | CJ8: TRUE
B9: ※事業者名には、工場・事業場の所有者を入力してください。
B12: {=IF(RIGHT(CELL("filename",$I$2),1)="0","【個票"&RIGHT(CELL("filename",$I$2),2)&"】","【個票"&RIGHT(CELL("filename",$I$2),1)&"】")} -> 【個票2】
B13: １．対策概要
B14: 対策内容
B16: 更新前設備名称
B17: 更新後設備名称
B21: ２．対策効果
B22: 年間CO2削減量 | C22: =G31-G40 -> 0 | D22: t-CO2/年
B25: ①【設備更新前】
B26: エネルギー種別 | C26: 年間エネルギー使用量 | E26: 排出係数 | G26: 年間CO2排出量
D27: =IF($B27="","",IF(COUNTIF(エネルギー種別,$B27)=0,"(単位を入力)",VLOOKUP($B27,排出係数,2,FALSE))) | E27: =IF($B27="","",IF(COUNTIF(エネルギー種別,$B27)=0,"(係数を入力)",VLOOKUP($B27,排出係数,6,FALSE))) | F27: =IF($B27="","",IF(COUNTIF(エネルギー種別,$B27)=0,"(単位を入力)",VLOOKUP($B27,排出係数,7,FALSE))) | G27: =IF(C27="","",C27*E27) | H27: t-CO2/年
D28: =IF($B28="","",IF(COUNTIF(エネルギー種別,$B28)=0,"(単位を入力)",VLOOKUP($B28,排出係数,2,FALSE))) | E28: =IF($B28="","",IF(COUNTIF(エネルギー種別,$B28)=0,"(係数を入力)",VLOOKUP($B28,排出係数,6,FALSE))) | F28: =IF($B28="","",IF(COUNTIF(エネルギー種別,$B28)=0,"(単位を入力)",VLOOKUP($B28,排出係数,7,FALSE))) | G28: =IF(C28="","",C28*E28) | H28: t-CO2/年
D29: =IF($B29="","",IF(COUNTIF(エネルギー種別,$B29)=0,"(単位を入力)",VLOOKUP($B29,排出係数,2,FALSE))) | E29: =IF($B29="","",IF(COUNTIF(エネルギー種別,$B29)=0,"(係数を入力)",VLOOKUP($B29,排出係数,6,FALSE))) | F29: =IF($B29="","",IF(COUNTIF(エネルギー種別,$B29)=0,"(単位を入力)",VLOOKUP($B29,排出係数,7,FALSE))) | G29: =IF(C29="","",C29*E29) | H29: t-CO2/年
D30: =IF($B30="","",IF(COUNTIF(エネルギー種別,$B30)=0,"(単位を入力)",VLOOKUP($B30,排出係数,2,FALSE))) | E30: =IF($B30="","",IF(COUNTIF(エネルギー種別,$B30)=0,"(係数を入力)",VLOOKUP($B30,排出係数,6,FALSE))) | F30: =IF($B30="","",IF(COUNTIF(エネルギー種別,$B30)=0,"(単位を入力)",VLOOKUP($B30,排出係数,7,FALSE))) | G30: =IF(C30="","",C30*E30) | H30: t-CO2/年
F31: 合計 | G31: =SUM(G27:G30) -> 0 | H31: t-CO2/年
B34: ②【設備更新後】
B35: エネルギー種別 | C35: 年間エネルギー使用量 | E35: 排出係数 | G35: 年間CO2排出量
D36: =IF($B36="","",IF(COUNTIF(エネルギー種別,$B36)=0,"(単位を入力)",VLOOKUP($B36,排出係数,2,FALSE))) | E36: =IF($B36="","",IF(COUNTIF(エネルギー種別,$B36)=0,"(係数を入力)",VLOOKUP($B36,排出係数,6,FALSE))) | F36: =IF($B36="","",IF(COUNTIF(エネルギー種別,$B36)=0,"(単位を入力)",VLOOKUP($B36,排出係数,7,FALSE))) | G36: =IF(C36="","",C36*E36) | H36: t-CO2/年
D37: =IF($B37="","",IF(COUNTIF(エネルギー種別,$B37)=0,"(単位を入力)",VLOOKUP($B37,排出係数,2,FALSE))) | E37: =IF($B37="","",IF(COUNTIF(エネルギー種別,$B37)=0,"(係数を入力)",VLOOKUP($B37,排出係数,6,FALSE))) | F37: =IF($B37="","",IF(COUNTIF(エネルギー種別,$B37)=0,"(単位を入力)",VLOOKUP($B37,排出係数,7,FALSE))) | G37: =IF(C37="","",C37*E37) | H37: t-CO2/年
D38: =IF($B38="","",IF(COUNTIF(エネルギー種別,$B38)=0,"(単位を入力)",VLOOKUP($B38,排出係数,2,FALSE))) | E38: =IF($B38="","",IF(COUNTIF(エネルギー種別,$B38)=0,"(係数を入力)",VLOOKUP($B38,排出係数,6,FALSE))) | F38: =IF($B38="","",IF(COUNTIF(エネルギー種別,$B38)=0,"(単位を入力)",VLOOKUP($B38,排出係数,7,FALSE))) | G38: =IF(C38="","",C38*E38) | H38: t-CO2/年
D39: =IF($B39="","",IF(COUNTIF(エネルギー種別,$B39)=0,"(単位を入力)",VLOOKUP($B39,排出係数,2,FALSE))) | E39: =IF($B39="","",IF(COUNTIF(エネルギー種別,$B39)=0,"(係数を入力)",VLOOKUP($B39,排出係数,6,FALSE))) | F39: =IF($B39="","",IF(COUNTIF(エネルギー種別,$B39)=0,"(単位を入力)",VLOOKUP($B39,排出係数,7,FALSE))) | G39: =IF(C39="","",C39*E39) | H39: t-CO2/年
F40: 合計 | G40: =SUM(G36:G39) -> 0 | H40: t-CO2/年
B42: 注１）選択肢にないエネルギー種別の場合は、エネルギー種別の名称、年間エネルギー消費量の単位、排出係数および排出係数の単位についても記入する。※プルダウンまたは計算式により表示されている内容を削除し、直接入力してください。
H45: =$B$12 -> 【個票2】
B46: ３．年間エネルギー使用量の算定
B47: ①算定方法
B49: ②【設備更新前】年間エネルギー使用量の計算方法と計算式
B59: ③【設備更新前】年間エネルギー使用量の計算式で使用する各数値の説明とその根拠
B70: ④【設備更新後】年間エネルギー使用量の計算方法と計算式
B80: ⑤【設備更新後】年間エネルギー使用量の計算式で使用する各数値の説明とその根拠
H90: =$B$12 -> 【個票2】
B91: ４．設備更新前後の比較図
B92: ①【設備更新前】
...

Sheet 個票3
AA1: セル色表示/非表示用
B2: 令和8年度Scope3排出量削減のための企業間連携による省CO2設備投資促進事業 | AA2: FALSE
B3: ＜CO2削減算定資料＞
B5: 事業番号 | C5: =IF(総括表!D5="","",総括表!D5) -> Ｓ０８－＊＊＊－＊＊－＊＊(協会から通知される工場・事業場別番号を記入ください。)
B6: 事業者名※ | C6: =IF(総括表!D6="","",総括表!D6)
B7: 企業分類 | C7: =IF(総括表!D7="","",総括表!D7)
B8: 工場・事業場名 | C8: =IF(総括表!D8="","",総括表!D8) | CJ8: TRUE
B9: ※事業者名には、工場・事業場の所有者を入力してください。
B12: {=IF(RIGHT(CELL("filename",$I$2),1)="0","【個票"&RIGHT(CELL("filename",$I$2),2)&"】","【個票"&RIGHT(CELL("filename",$I$2),1)&"】")} -> 【個票3】
B13: １．対策概要
B14: 対策内容
B16: 更新前設備名称
B17: 更新後設備名称
B21: ２．対策効果
B22: 年間CO2削減量 | C22: =G31-G40 -> 0 | D22: t-CO2/年
B25: ①【設備更新前】
B26: エネルギー種別 | C26: 年間エネルギー使用量 | E26: 排出係数 | G26: 年間CO2排出量
D27: =IF($B27="","",IF(COUNTIF(エネルギー種別,$B27)=0,"(単位を入力)",VLOOKUP($B27,排出係数,2,FALSE))) | E27: =IF($B27="","",IF(COUNTIF(エネルギー種別,$B27)=0,"(係数を入力)",VLOOKUP($B27,排出係数,6,FALSE))) | F27: =IF($B27="","",IF(COUNTIF(エネルギー種別,$B27)=0,"(単位を入力)",VLOOKUP($B27,排出係数,7,FALSE))) | G27: =IF(C27="","",C27*E27) | H27: t-CO2/年
D28: =IF($B28="","",IF(COUNTIF(エネルギー種別,$B28)=0,"(単位を入力)",VLOOKUP($B28,排出係数,2,FALSE))) | E28: =IF($B28="","",IF(COUNTIF(エネルギー種別,$B28)=0,"(係数を入力)",VLOOKUP($B28,排出係数,6,FALSE))) | F28: =IF($B28="","",IF(COUNTIF(エネルギー種別,$B28)=0,"(単位を入力)",VLOOKUP($B28,排出係数,7,FALSE))) | G28: =IF(C28="","",C28*E28) | H28: t-CO2/年
D29: =IF($B29="","",IF(COUNTIF(エネルギー種別,$B29)=0,"(単位を入力)",VLOOKUP($B29,排出係数,2,FALSE))) | E29: =IF($B29="","",IF(COUNTIF(エネルギー種別,$B29)=0,"(係数を入力)",VLOOKUP($B29,排出係数,6,FALSE))) | F29: =IF($B29="","",IF(COUNTIF(エネルギー種別,$B29)=0,"(単位を入力)",VLOOKUP($B29,排出係数,7,FALSE))) | G29: =IF(C29="","",C29*E29) | H29: t-CO2/年
D30: =IF($B30="","",IF(COUNTIF(エネルギー種別,$B30)=0,"(単位を入力)",VLOOKUP($B30,排出係数,2,FALSE))) | E30: =IF($B30="","",IF(COUNTIF(エネルギー種別,$B30)=0,"(係数を入力)",VLOOKUP($B30,排出係数,6,FALSE))) | F30: =IF($B30="","",IF(COUNTIF(エネルギー種別,$B30)=0,"(単位を入力)",VLOOKUP($B30,排出係数,7,FALSE))) | G30: =IF(C30="","",C30*E30) | H30: t-CO2/年
F31: 合計 | G31: =SUM(G27:G30) -> 0 | H31: t-CO2/年
B34: ②【設備更新後】
B35: エネルギー種別 | C35: 年間エネルギー使用量 | E35: 排出係数 | G35: 年間CO2排出量
D36: =IF($B36="","",IF(COUNTIF(エネルギー種別,$B36)=0,"(単位を入力)",VLOOKUP($B36,排出係数,2,FALSE))) | E36: =IF($B36="","",IF(COUNTIF(エネルギー種別,$B36)=0,"(係数を入力)",VLOOKUP($B36,排出係数,6,FALSE))) | F36: =IF($B36="","",IF(COUNTIF(エネルギー種別,$B36)=0,"(単位を入力)",VLOOKUP($B36,排出係数,7,FALSE))) | G36: =IF(C36="","",C36*E36) | H36: t-CO2/年
D37: =IF($B37="","",IF(COUNTIF(エネルギー種別,$B37)=0,"(単位を入力)",VLOOKUP($B37,排出係数,2,FALSE))) | E37: =IF($B37="","",IF(COUNTIF(エネルギー種別,$B37)=0,"(係数を入力)",VLOOKUP($B37,排出係数,6,FALSE))) | F37: =IF($B37="","",IF(COUNTIF(エネルギー種別,$B37)=0,"(単位を入力)",VLOOKUP($B37,排出係数,7,FALSE))) | G37: =IF(C37="","",C37*E37) | H37: t-CO2/年
D38: =IF($B38="","",IF(COUNTIF(エネルギー種別,$B38)=0,"(単位を入力)",VLOOKUP($B38,排出係数,2,FALSE))) | E38: =IF($B38="","",IF(COUNTIF(エネルギー種別,$B38)=0,"(係数を入力)",VLOOKUP($B38,排出係数,6,FALSE))) | F38: =IF($B38="","",IF(COUNTIF(エネルギー種別,$B38)=0,"(単位を入力)",VLOOKUP($B38,排出係数,7,FALSE))) | G38: =IF(C38="","",C38*E38) | H38: t-CO2/年
D39: =IF($B39="","",IF(COUNTIF(エネルギー種別,$B39)=0,"(単位を入力)",VLOOKUP($B39,排出係数,2,FALSE))) | E39: =IF($B39="","",IF(COUNTIF(エネルギー種別,$B39)=0,"(係数を入力)",VLOOKUP($B39,排出係数,6,FALSE))) | F39: =IF($B39="","",IF(COUNTIF(エネルギー種別,$B39)=0,"(単位を入力)",VLOOKUP($B39,排出係数,7,FALSE))) | G39: =IF(C39="","",C39*E39) | H39: t-CO2/年
F40: 合計 | G40: =SUM(G36:G39) -> 0 | H40: t-CO2/年
B42: 注１）選択肢にないエネルギー種別の場合は、エネルギー種別の名称、年間エネルギー消費量の単位、排出係数および排出係数の単位についても記入する。※プルダウンまたは計算式により表示されている内容を削除し、直接入力してください。
H45: =$B$12 -> 【個票3】
B46: ３．年間エネルギー使用量の算定
B47: ①算定方法
B49: ②【設備更新前】年間エネルギー使用量の計算方法と計算式
B59: ③【設備更新前】年間エネルギー使用量の計算式で使用する各数値の説明とその根拠
B70: ④【設備更新後】年間エネルギー使用量の計算方法と計算式
B80: ⑤【設備更新後】年間エネルギー使用量の計算式で使用する各数値の説明とその根拠
H90: =$B$12 -> 【個票3】
B91: ４．設備更新前後の比較図
B92: ①【設備更新前】
...

Sheet 個票4
AA1: セル色表示/非表示用
B2: 令和8年度Scope3排出量削減のための企業間連携による省CO2設備投資促進事業 | AA2: FALSE
B3: ＜CO2削減算定資料＞
B5: 事業番号 | C5: =IF(総括表!D5="","",総括表!D5) -> Ｓ０８－＊＊＊－＊＊－＊＊(協会から通知される工場・事業場別番号を記入ください。)
B6: 事業者名※ | C6: =IF(総括表!D6="","",総括表!D6)
B7: 企業分類 | C7: =IF(総括表!D7="","",総括表!D7)
B8: 工場・事業場名 | C8: =IF(総括表!D8="","",総括表!D8) | CJ8: TRUE
B9: ※事業者名には、工場・事業場の所有者を入力してください。
B12: {=IF(RIGHT(CELL("filename",$I$2),1)="0","【個票"&RIGHT(CELL("filename",$I$2),2)&"】","【個票"&RIGHT(CELL("filename",$I$2),1)&"】")} -> 【個票4】
B13: １．対策概要
B14: 対策内容
B16: 更新前設備名称
B17: 更新後設備名称
B21: ２．対策効果
B22: 年間CO2削減量 | C22: =G31-G40 -> 0 | D22: t-CO2/年
B25: ①【設備更新前】
B26: エネルギー種別 | C26: 年間エネルギー使用量 | E26: 排出係数 | G26: 年間CO2排出量
D27: =IF($B27="","",IF(COUNTIF(エネルギー種別,$B27)=0,"(単位を入力)",VLOOKUP($B27,排出係数,2,FALSE))) | E27: =IF($B27="","",IF(COUNTIF(エネルギー種別,$B27)=0,"(係数を入力)",VLOOKUP($B27,排出係数,6,FALSE))) | F27: =IF($B27="","",IF(COUNTIF(エネルギー種別,$B27)=0,"(単位を入力)",VLOOKUP($B27,排出係数,7,FALSE))) | G27: =IF(C27="","",C27*E27) | H27: t-CO2/年
D28: =IF($B28="","",IF(COUNTIF(エネルギー種別,$B28)=0,"(単位を入力)",VLOOKUP($B28,排出係数,2,FALSE))) | E28: =IF($B28="","",IF(COUNTIF(エネルギー種別,$B28)=0,"(係数を入力)",VLOOKUP($B28,排出係数,6,FALSE))) | F28: =IF($B28="","",IF(COUNTIF(エネルギー種別,$B28)=0,"(単位を入力)",VLOOKUP($B28,排出係数,7,FALSE))) | G28: =IF(C28="","",C28*E28) | H28: t-CO2/年
D29: =IF($B29="","",IF(COUNTIF(エネルギー種別,$B29)=0,"(単位を入力)",VLOOKUP($B29,排出係数,2,FALSE))) | E29: =IF($B29="","",IF(COUNTIF(エネルギー種別,$B29)=0,"(係数を入力)",VLOOKUP($B29,排出係数,6,FALSE))) | F29: =IF($B29="","",IF(COUNTIF(エネルギー種別,$B29)=0,"(単位を入力)",VLOOKUP($B29,排出係数,7,FALSE))) | G29: =IF(C29="","",C29*E29) | H29: t-CO2/年
D30: =IF($B30="","",IF(COUNTIF(エネルギー種別,$B30)=0,"(単位を入力)",VLOOKUP($B30,排出係数,2,FALSE))) | E30: =IF($B30="","",IF(COUNTIF(エネルギー種別,$B30)=0,"(係数を入力)",VLOOKUP($B30,排出係数,6,FALSE))) | F30: =IF($B30="","",IF(COUNTIF(エネルギー種別,$B30)=0,"(単位を入力)",VLOOKUP($B30,排出係数,7,FALSE))) | G30: =IF(C30="","",C30*E30) | H30: t-CO2/年
F31: 合計 | G31: =SUM(G27:G30) -> 0 | H31: t-CO2/年
B34: ②【設備更新後】
B35: エネルギー種別 | C35: 年間エネルギー使用量 | E35: 排出係数 | G35: 年間CO2排出量
D36: =IF($B36="","",IF(COUNTIF(エネルギー種別,$B36)=0,"(単位を入力)",VLOOKUP($B36,排出係数,2,FALSE))) | E36: =IF($B36="","",IF(COUNTIF(エネルギー種別,$B36)=0,"(係数を入力)",VLOOKUP($B36,排出係数,6,FALSE))) | F36: =IF($B36="","",IF(COUNTIF(エネルギー種別,$B36)=0,"(単位を入力)",VLOOKUP($B36,排出係数,7,FALSE))) | G36: =IF(C36="","",C36*E36) | H36: t-CO2/年
D37: =IF($B37="","",IF(COUNTIF(エネルギー種別,$B37)=0,"(単位を入力)",VLOOKUP($B37,排出係数,2,FALSE))) | E37: =IF($B37="","",IF(COUNTIF(エネルギー種別,$B37)=0,"(係数を入力)",VLOOKUP($B37,排出係数,6,FALSE))) | F37: =IF($B37="","",IF(COUNTIF(エネルギー種別,$B37)=0,"(単位を入力)",VLOOKUP($B37,排出係数,7,FALSE))) | G37: =IF(C37="","",C37*E37) | H37: t-CO2/年
D38: =IF($B38="","",IF(COUNTIF(エネルギー種別,$B38)=0,"(単位を入力)",VLOOKUP($B38,排出係数,2,FALSE))) | E38: =IF($B38="","",IF(COUNTIF(エネルギー種別,$B38)=0,"(係数を入力)",VLOOKUP($B38,排出係数,6,FALSE))) | F38: =IF($B38="","",IF(COUNTIF(エネルギー種別,$B38)=0,"(単位を入力)",VLOOKUP($B38,排出係数,7,FALSE))) | G38: =IF(C38="","",C38*E38) | H38: t-CO2/年
D39: =IF($B39="","",IF(COUNTIF(エネルギー種別,$B39)=0,"(単位を入力)",VLOOKUP($B39,排出係数,2,FALSE))) | E39: =IF($B39="","",IF(COUNTIF(エネルギー種別,$B39)=0,"(係数を入力)",VLOOKUP($B39,排出係数,6,FALSE))) | F39: =IF($B39="","",IF(COUNTIF(エネルギー種別,$B39)=0,"(単位を入力)",VLOOKUP($B39,排出係数,7,FALSE))) | G39: =IF(C39="","",C39*E39) | H39: t-CO2/年
F40: 合計 | G40: =SUM(G36:G39) -> 0 | H40: t-CO2/年
B42: 注１）選択肢にないエネルギー種別の場合は、エネルギー種別の名称、年間エネルギー消費量の単位、排出係数および排出係数の単位についても記入する。※プルダウンまたは計算式により表示されている内容を削除し、直接入力してください。
H45: =$B$12 -> 【個票4】
B46: ３．年間エネルギー使用量の算定
B47: ①算定方法
B49: ②【設備更新前】年間エネルギー使用量の計算方法と計算式
B59: ③【設備更新前】年間エネルギー使用量の計算式で使用する各数値の説明とその根拠
B70: ④【設備更新後】年間エネルギー使用量の計算方法と計算式
B80: ⑤【設備更新後】年間エネルギー使用量の計算式で使用する各数値の説明とその根拠
H90: =$B$12 -> 【個票4】
B91: ４．設備更新前後の比較図
B92: ①【設備更新前】
...

Sheet 個票5
AA1: セル色表示/非表示用
B2: 令和8年度Scope3排出量削減のための企業間連携による省CO2設備投資促進事業 | AA2: FALSE
B3: ＜CO2削減算定資料＞
B5: 事業番号 | C5: =IF(総括表!D5="","",総括表!D5) -> Ｓ０８－＊＊＊－＊＊－＊＊(協会から通知される工場・事業場別番号を記入ください。)
B6: 事業者名※ | C6: =IF(総括表!D6="","",総括表!D6)
B7: 企業分類 | C7: =IF(総括表!D7="","",総括表!D7)
B8: 工場・事業場名 | C8: =IF(総括表!D8="","",総括表!D8) | CJ8: TRUE
B9: ※事業者名には、工場・事業場の所有者を入力してください。
B12: {=IF(RIGHT(CELL("filename",$I$2),1)="0","【個票"&RIGHT(CELL("filename",$I$2),2)&"】","【個票"&RIGHT(CELL("filename",$I$2),1)&"】")} -> 【個票5】
B13: １．対策概要
B14: 対策内容
B16: 更新前設備名称
B17: 更新後設備名称
B21: ２．対策効果
B22: 年間CO2削減量 | C22: =G31-G40 -> 0 | D22: t-CO2/年
B25: ①【設備更新前】
B26: エネルギー種別 | C26: 年間エネルギー使用量 | E26: 排出係数 | G26: 年間CO2排出量
D27: =IF($B27="","",IF(COUNTIF(エネルギー種別,$B27)=0,"(単位を入力)",VLOOKUP($B27,排出係数,2,FALSE))) | E27: =IF($B27="","",IF(COUNTIF(エネルギー種別,$B27)=0,"(係数を入力)",VLOOKUP($B27,排出係数,6,FALSE))) | F27: =IF($B27="","",IF(COUNTIF(エネルギー種別,$B27)=0,"(単位を入力)",VLOOKUP($B27,排出係数,7,FALSE))) | G27: =IF(C27="","",C27*E27) | H27: t-CO2/年
D28: =IF($B28="","",IF(COUNTIF(エネルギー種別,$B28)=0,"(単位を入力)",VLOOKUP($B28,排出係数,2,FALSE))) | E28: =IF($B28="","",IF(COUNTIF(エネルギー種別,$B28)=0,"(係数を入力)",VLOOKUP($B28,排出係数,6,FALSE))) | F28: =IF($B28="","",IF(COUNTIF(エネルギー種別,$B28)=0,"(単位を入力)",VLOOKUP($B28,排出係数,7,FALSE))) | G28: =IF(C28="","",C28*E28) | H28: t-CO2/年
D29: =IF($B29="","",IF(COUNTIF(エネルギー種別,$B29)=0,"(単位を入力)",VLOOKUP($B29,排出係数,2,FALSE))) | E29: =IF($B29="","",IF(COUNTIF(エネルギー種別,$B29)=0,"(係数を入力)",VLOOKUP($B29,排出係数,6,FALSE))) | F29: =IF($B29="","",IF(COUNTIF(エネルギー種別,$B29)=0,"(単位を入力)",VLOOKUP($B29,排出係数,7,FALSE))) | G29: =IF(C29="","",C29*E29) | H29: t-CO2/年
D30: =IF($B30="","",IF(COUNTIF(エネルギー種別,$B30)=0,"(単位を入力)",VLOOKUP($B30,排出係数,2,FALSE))) | E30: =IF($B30="","",IF(COUNTIF(エネルギー種別,$B30)=0,"(係数を入力)",VLOOKUP($B30,排出係数,6,FALSE))) | F30: =IF($B30="","",IF(COUNTIF(エネルギー種別,$B30)=0,"(単位を入力)",VLOOKUP($B30,排出係数,7,FALSE))) | G30: =IF(C30="","",C30*E30) | H30: t-CO2/年
F31: 合計 | G31: =SUM(G27:G30) -> 0 | H31: t-CO2/年
B34: ②【設備更新後】
B35: エネルギー種別 | C35: 年間エネルギー使用量 | E35: 排出係数 | G35: 年間CO2排出量
D36: =IF($B36="","",IF(COUNTIF(エネルギー種別,$B36)=0,"(単位を入力)",VLOOKUP($B36,排出係数,2,FALSE))) | E36: =IF($B36="","",IF(COUNTIF(エネルギー種別,$B36)=0,"(係数を入力)",VLOOKUP($B36,排出係数,6,FALSE))) | F36: =IF($B36="","",IF(COUNTIF(エネルギー種別,$B36)=0,"(単位を入力)",VLOOKUP($B36,排出係数,7,FALSE))) | G36: =IF(C36="","",C36*E36) | H36: t-CO2/年
D37: =IF($B37="","",IF(COUNTIF(エネルギー種別,$B37)=0,"(単位を入力)",VLOOKUP($B37,排出係数,2,FALSE))) | E37: =IF($B37="","",IF(COUNTIF(エネルギー種別,$B37)=0,"(係数を入力)",VLOOKUP($B37,排出係数,6,FALSE))) | F37: =IF($B37="","",IF(COUNTIF(エネルギー種別,$B37)=0,"(単位を入力)",VLOOKUP($B37,排出係数,7,FALSE))) | G37: =IF(C37="","",C37*E37) | H37: t-CO2/年
D38: =IF($B38="","",IF(COUNTIF(エネルギー種別,$B38)=0,"(単位を入力)",VLOOKUP($B38,排出係数,2,FALSE))) | E38: =IF($B38="","",IF(COUNTIF(エネルギー種別,$B38)=0,"(係数を入力)",VLOOKUP($B38,排出係数,6,FALSE))) | F38: =IF($B38="","",IF(COUNTIF(エネルギー種別,$B38)=0,"(単位を入力)",VLOOKUP($B38,排出係数,7,FALSE))) | G38: =IF(C38="","",C38*E38) | H38: t-CO2/年
D39: =IF($B39="","",IF(COUNTIF(エネルギー種別,$B39)=0,"(単位を入力)",VLOOKUP($B39,排出係数,2,FALSE))) | E39: =IF($B39="","",IF(COUNTIF(エネルギー種別,$B39)=0,"(係数を入力)",VLOOKUP($B39,排出係数,6,FALSE))) | F39: =IF($B39="","",IF(COUNTIF(エネルギー種別,$B39)=0,"(単位を入力)",VLOOKUP($B39,排出係数,7,FALSE))) | G39: =IF(C39="","",C39*E39) | H39: t-CO2/年
F40: 合計 | G40: =SUM(G36:G39) -> 0 | H40: t-CO2/年
B42: 注１）選択肢にないエネルギー種別の場合は、エネルギー種別の名称、年間エネルギー消費量の単位、排出係数および排出係数の単位についても記入する。※プルダウンまたは計算式により表示されている内容を削除し、直接入力してください。
H45: =$B$12 -> 【個票5】
B46: ３．年間エネルギー使用量の算定
B47: ①算定方法
B49: ②【設備更新前】年間エネルギー使用量の計算方法と計算式
B59: ③【設備更新前】年間エネルギー使用量の計算式で使用する各数値の説明とその根拠
B70: ④【設備更新後】年間エネルギー使用量の計算方法と計算式
B80: ⑤【設備更新後】年間エネルギー使用量の計算式で使用する各数値の説明とその根拠
H90: =$B$12 -> 【個票5】
B91: ４．設備更新前後の比較図
B92: ①【設備更新前】
...

Sheet 個票6
AA1: セル色表示/非表示用
B2: 令和8年度Scope3排出量削減のための企業間連携による省CO2設備投資促進事業 | AA2: FALSE
B3: ＜CO2削減算定資料＞
B5: 事業番号 | C5: =IF(総括表!D5="","",総括表!D5) -> Ｓ０８－＊＊＊－＊＊－＊＊(協会から通知される工場・事業場別番号を記入ください。)
B6: 事業者名※ | C6: =IF(総括表!D6="","",総括表!D6)
B7: 企業分類 | C7: =IF(総括表!D7="","",総括表!D7)
B8: 工場・事業場名 | C8: =IF(総括表!D8="","",総括表!D8) | CJ8: TRUE
B9: ※事業者名には、工場・事業場の所有者を入力してください。
B12: {=IF(RIGHT(CELL("filename",$I$2),1)="0","【個票"&RIGHT(CELL("filename",$I$2),2)&"】","【個票"&RIGHT(CELL("filename",$I$2),1)&"】")} -> 【個票6】
B13: １．対策概要
B14: 対策内容
B16: 更新前設備名称
B17: 更新後設備名称
B21: ２．対策効果
B22: 年間CO2削減量 | C22: =G31-G40 -> 0 | D22: t-CO2/年
B25: ①【設備更新前】
B26: エネルギー種別 | C26: 年間エネルギー使用量 | E26: 排出係数 | G26: 年間CO2排出量
D27: =IF($B27="","",IF(COUNTIF(エネルギー種別,$B27)=0,"(単位を入力)",VLOOKUP($B27,排出係数,2,FALSE))) | E27: =IF($B27="","",IF(COUNTIF(エネルギー種別,$B27)=0,"(係数を入力)",VLOOKUP($B27,排出係数,6,FALSE))) | F27: =IF($B27="","",IF(COUNTIF(エネルギー種別,$B27)=0,"(単位を入力)",VLOOKUP($B27,排出係数,7,FALSE))) | G27: =IF(C27="","",C27*E27) | H27: t-CO2/年
D28: =IF($B28="","",IF(COUNTIF(エネルギー種別,$B28)=0,"(単位を入力)",VLOOKUP($B28,排出係数,2,FALSE))) | E28: =IF($B28="","",IF(COUNTIF(エネルギー種別,$B28)=0,"(係数を入力)",VLOOKUP($B28,排出係数,6,FALSE))) | F28: =IF($B28="","",IF(COUNTIF(エネルギー種別,$B28)=0,"(単位を入力)",VLOOKUP($B28,排出係数,7,FALSE))) | G28: =IF(C28="","",C28*E28) | H28: t-CO2/年
D29: =IF($B29="","",IF(COUNTIF(エネルギー種別,$B29)=0,"(単位を入力)",VLOOKUP($B29,排出係数,2,FALSE))) | E29: =IF($B29="","",IF(COUNTIF(エネルギー種別,$B29)=0,"(係数を入力)",VLOOKUP($B29,排出係数,6,FALSE))) | F29: =IF($B29="","",IF(COUNTIF(エネルギー種別,$B29)=0,"(単位を入力)",VLOOKUP($B29,排出係数,7,FALSE))) | G29: =IF(C29="","",C29*E29) | H29: t-CO2/年
D30: =IF($B30="","",IF(COUNTIF(エネルギー種別,$B30)=0,"(単位を入力)",VLOOKUP($B30,排出係数,2,FALSE))) | E30: =IF($B30="","",IF(COUNTIF(エネルギー種別,$B30)=0,"(係数を入力)",VLOOKUP($B30,排出係数,6,FALSE))) | F30: =IF($B30="","",IF(COUNTIF(エネルギー種別,$B30)=0,"(単位を入力)",VLOOKUP($B30,排出係数,7,FALSE))) | G30: =IF(C30="","",C30*E30) | H30: t-CO2/年
F31: 合計 | G31: =SUM(G27:G30) -> 0 | H31: t-CO2/年
B34: ②【設備更新後】
B35: エネルギー種別 | C35: 年間エネルギー使用量 | E35: 排出係数 | G35: 年間CO2排出量
D36: =IF($B36="","",IF(COUNTIF(エネルギー種別,$B36)=0,"(単位を入力)",VLOOKUP($B36,排出係数,2,FALSE))) | E36: =IF($B36="","",IF(COUNTIF(エネルギー種別,$B36)=0,"(係数を入力)",VLOOKUP($B36,排出係数,6,FALSE))) | F36: =IF($B36="","",IF(COUNTIF(エネルギー種別,$B36)=0,"(単位を入力)",VLOOKUP($B36,排出係数,7,FALSE))) | G36: =IF(C36="","",C36*E36) | H36: t-CO2/年
D37: =IF($B37="","",IF(COUNTIF(エネルギー種別,$B37)=0,"(単位を入力)",VLOOKUP($B37,排出係数,2,FALSE))) | E37: =IF($B37="","",IF(COUNTIF(エネルギー種別,$B37)=0,"(係数を入力)",VLOOKUP($B37,排出係数,6,FALSE))) | F37: =IF($B37="","",IF(COUNTIF(エネルギー種別,$B37)=0,"(単位を入力)",VLOOKUP($B37,排出係数,7,FALSE))) | G37: =IF(C37="","",C37*E37) | H37: t-CO2/年
D38: =IF($B38="","",IF(COUNTIF(エネルギー種別,$B38)=0,"(単位を入力)",VLOOKUP($B38,排出係数,2,FALSE))) | E38: =IF($B38="","",IF(COUNTIF(エネルギー種別,$B38)=0,"(係数を入力)",VLOOKUP($B38,排出係数,6,FALSE))) | F38: =IF($B38="","",IF(COUNTIF(エネルギー種別,$B38)=0,"(単位を入力)",VLOOKUP($B38,排出係数,7,FALSE))) | G38: =IF(C38="","",C38*E38) | H38: t-CO2/年
D39: =IF($B39="","",IF(COUNTIF(エネルギー種別,$B39)=0,"(単位を入力)",VLOOKUP($B39,排出係数,2,FALSE))) | E39: =IF($B39="","",IF(COUNTIF(エネルギー種別,$B39)=0,"(係数を入力)",VLOOKUP($B39,排出係数,6,FALSE))) | F39: =IF($B39="","",IF(COUNTIF(エネルギー種別,$B39)=0,"(単位を入力)",VLOOKUP($B39,排出係数,7,FALSE))) | G39: =IF(C39="","",C39*E39) | H39: t-CO2/年
F40: 合計 | G40: =SUM(G36:G39) -> 0 | H40: t-CO2/年
B42: 注１）選択肢にないエネルギー種別の場合は、エネルギー種別の名称、年間エネルギー消費量の単位、排出係数および排出係数の単位についても記入する。※プルダウンまたは計算式により表示されている内容を削除し、直接入力してください。
H45: =$B$12 -> 【個票6】
B46: ３．年間エネルギー使用量の算定
B47: ①算定方法
B49: ②【設備更新前】年間エネルギー使用量の計算方法と計算式
B59: ③【設備更新前】年間エネルギー使用量の計算式で使用する各数値の説明とその根拠
B70: ④【設備更新後】年間エネルギー使用量の計算方法と計算式
B80: ⑤【設備更新後】年間エネルギー使用量の計算式で使用する各数値の説明とその根拠
H90: =$B$12 -> 【個票6】
B91: ４．設備更新前後の比較図
B92: ①【設備更新前】
...

Sheet 個票7
AA1: セル色表示/非表示用
B2: 令和8年度Scope3排出量削減のための企業間連携による省CO2設備投資促進事業 | AA2: FALSE
B3: ＜CO2削減算定資料＞
B5: 事業番号 | C5: =IF(総括表!D5="","",総括表!D5) -> Ｓ０８－＊＊＊－＊＊－＊＊(協会から通知される工場・事業場別番号を記入ください。)
B6: 事業者名※ | C6: =IF(総括表!D6="","",総括表!D6)
B7: 企業分類 | C7: =IF(総括表!D7="","",総括表!D7)
B8: 工場・事業場名 | C8: =IF(総括表!D8="","",総括表!D8) | CJ8: TRUE
B9: ※事業者名には、工場・事業場の所有者を入力してください。
B12: {=IF(RIGHT(CELL("filename",$I$2),1)="0","【個票"&RIGHT(CELL("filename",$I$2),2)&"】","【個票"&RIGHT(CELL("filename",$I$2),1)&"】")} -> 【個票7】
B13: １．対策概要
B14: 対策内容
B16: 更新前設備名称
B17: 更新後設備名称
B21: ２．対策効果
B22: 年間CO2削減量 | C22: =G31-G40 -> 0 | D22: t-CO2/年
B25: ①【設備更新前】
B26: エネルギー種別 | C26: 年間エネルギー使用量 | E26: 排出係数 | G26: 年間CO2排出量
D27: =IF($B27="","",IF(COUNTIF(エネルギー種別,$B27)=0,"(単位を入力)",VLOOKUP($B27,排出係数,2,FALSE))) | E27: =IF($B27="","",IF(COUNTIF(エネルギー種別,$B27)=0,"(係数を入力)",VLOOKUP($B27,排出係数,6,FALSE))) | F27: =IF($B27="","",IF(COUNTIF(エネルギー種別,$B27)=0,"(単位を入力)",VLOOKUP($B27,排出係数,7,FALSE))) | G27: =IF(C27="","",C27*E27) | H27: t-CO2/年
D28: =IF($B28="","",IF(COUNTIF(エネルギー種別,$B28)=0,"(単位を入力)",VLOOKUP($B28,排出係数,2,FALSE))) | E28: =IF($B28="","",IF(COUNTIF(エネルギー種別,$B28)=0,"(係数を入力)",VLOOKUP($B28,排出係数,6,FALSE))) | F28: =IF($B28="","",IF(COUNTIF(エネルギー種別,$B28)=0,"(単位を入力)",VLOOKUP($B28,排出係数,7,FALSE))) | G28: =IF(C28="","",C28*E28) | H28: t-CO2/年
D29: =IF($B29="","",IF(COUNTIF(エネルギー種別,$B29)=0,"(単位を入力)",VLOOKUP($B29,排出係数,2,FALSE))) | E29: =IF($B29="","",IF(COUNTIF(エネルギー種別,$B29)=0,"(係数を入力)",VLOOKUP($B29,排出係数,6,FALSE))) | F29: =IF($B29="","",IF(COUNTIF(エネルギー種別,$B29)=0,"(単位を入力)",VLOOKUP($B29,排出係数,7,FALSE))) | G29: =IF(C29="","",C29*E29) | H29: t-CO2/年
D30: =IF($B30="","",IF(COUNTIF(エネルギー種別,$B30)=0,"(単位を入力)",VLOOKUP($B30,排出係数,2,FALSE))) | E30: =IF($B30="","",IF(COUNTIF(エネルギー種別,$B30)=0,"(係数を入力)",VLOOKUP($B30,排出係数,6,FALSE))) | F30: =IF($B30="","",IF(COUNTIF(エネルギー種別,$B30)=0,"(単位を入力)",VLOOKUP($B30,排出係数,7,FALSE))) | G30: =IF(C30="","",C30*E30) | H30: t-CO2/年
F31: 合計 | G31: =SUM(G27:G30) -> 0 | H31: t-CO2/年
B34: ②【設備更新後】
B35: エネルギー種別 | C35: 年間エネルギー使用量 | E35: 排出係数 | G35: 年間CO2排出量
D36: =IF($B36="","",IF(COUNTIF(エネルギー種別,$B36)=0,"(単位を入力)",VLOOKUP($B36,排出係数,2,FALSE))) | E36: =IF($B36="","",IF(COUNTIF(エネルギー種別,$B36)=0,"(係数を入力)",VLOOKUP($B36,排出係数,6,FALSE))) | F36: =IF($B36="","",IF(COUNTIF(エネルギー種別,$B36)=0,"(単位を入力)",VLOOKUP($B36,排出係数,7,FALSE))) | G36: =IF(C36="","",C36*E36) | H36: t-CO2/年
D37: =IF($B37="","",IF(COUNTIF(エネルギー種別,$B37)=0,"(単位を入力)",VLOOKUP($B37,排出係数,2,FALSE))) | E37: =IF($B37="","",IF(COUNTIF(エネルギー種別,$B37)=0,"(係数を入力)",VLOOKUP($B37,排出係数,6,FALSE))) | F37: =IF($B37="","",IF(COUNTIF(エネルギー種別,$B37)=0,"(単位を入力)",VLOOKUP($B37,排出係数,7,FALSE))) | G37: =IF(C37="","",C37*E37) | H37: t-CO2/年
D38: =IF($B38="","",IF(COUNTIF(エネルギー種別,$B38)=0,"(単位を入力)",VLOOKUP($B38,排出係数,2,FALSE))) | E38: =IF($B38="","",IF(COUNTIF(エネルギー種別,$B38)=0,"(係数を入力)",VLOOKUP($B38,排出係数,6,FALSE))) | F38: =IF($B38="","",IF(COUNTIF(エネルギー種別,$B38)=0,"(単位を入力)",VLOOKUP($B38,排出係数,7,FALSE))) | G38: =IF(C38="","",C38*E38) | H38: t-CO2/年
D39: =IF($B39="","",IF(COUNTIF(エネルギー種別,$B39)=0,"(単位を入力)",VLOOKUP($B39,排出係数,2,FALSE))) | E39: =IF($B39="","",IF(COUNTIF(エネルギー種別,$B39)=0,"(係数を入力)",VLOOKUP($B39,排出係数,6,FALSE))) | F39: =IF($B39="","",IF(COUNTIF(エネルギー種別,$B39)=0,"(単位を入力)",VLOOKUP($B39,排出係数,7,FALSE))) | G39: =IF(C39="","",C39*E39) | H39: t-CO2/年
F40: 合計 | G40: =SUM(G36:G39) -> 0 | H40: t-CO2/年
B42: 注１）選択肢にないエネルギー種別の場合は、エネルギー種別の名称、年間エネルギー消費量の単位、排出係数および排出係数の単位についても記入する。※プルダウンまたは計算式により表示されている内容を削除し、直接入力してください。
H45: =$B$12 -> 【個票7】
B46: ３．年間エネルギー使用量の算定
B47: ①算定方法
B49: ②【設備更新前】年間エネルギー使用量の計算方法と計算式
B59: ③【設備更新前】年間エネルギー使用量の計算式で使用する各数値の説明とその根拠
B70: ④【設備更新後】年間エネルギー使用量の計算方法と計算式
B80: ⑤【設備更新後】年間エネルギー使用量の計算式で使用する各数値の説明とその根拠
H90: =$B$12 -> 【個票7】
B91: ４．設備更新前後の比較図
B92: ①【設備更新前】
...

Sheet 個票8
AA1: セル色表示/非表示用
B2: 令和8年度Scope3排出量削減のための企業間連携による省CO2設備投資促進事業 | AA2: FALSE
B3: ＜CO2削減算定資料＞
B5: 事業番号 | C5: =IF(総括表!D5="","",総括表!D5) -> Ｓ０８－＊＊＊－＊＊－＊＊(協会から通知される工場・事業場別番号を記入ください。)
B6: 事業者名※ | C6: =IF(総括表!D6="","",総括表!D6)
B7: 企業分類 | C7: =IF(総括表!D7="","",総括表!D7)
B8: 工場・事業場名 | C8: =IF(総括表!D8="","",総括表!D8) | CJ8: TRUE
B9: ※事業者名には、工場・事業場の所有者を入力してください。
B12: {=IF(RIGHT(CELL("filename",$I$2),1)="0","【個票"&RIGHT(CELL("filename",$I$2),2)&"】","【個票"&RIGHT(CELL("filename",$I$2),1)&"】")} -> 【個票8】
B13: １．対策概要
B14: 対策内容
B16: 更新前設備名称
B17: 更新後設備名称
B21: ２．対策効果
B22: 年間CO2削減量 | C22: =G31-G40 -> 0 | D22: t-CO2/年
B25: ①【設備更新前】
B26: エネルギー種別 | C26: 年間エネルギー使用量 | E26: 排出係数 | G26: 年間CO2排出量
D27: =IF($B27="","",IF(COUNTIF(エネルギー種別,$B27)=0,"(単位を入力)",VLOOKUP($B27,排出係数,2,FALSE))) | E27: =IF($B27="","",IF(COUNTIF(エネルギー種別,$B27)=0,"(係数を入力)",VLOOKUP($B27,排出係数,6,FALSE))) | F27: =IF($B27="","",IF(COUNTIF(エネルギー種別,$B27)=0,"(単位を入力)",VLOOKUP($B27,排出係数,7,FALSE))) | G27: =IF(C27="","",C27*E27) | H27: t-CO2/年
D28: =IF($B28="","",IF(COUNTIF(エネルギー種別,$B28)=0,"(単位を入力)",VLOOKUP($B28,排出係数,2,FALSE))) | E28: =IF($B28="","",IF(COUNTIF(エネルギー種別,$B28)=0,"(係数を入力)",VLOOKUP($B28,排出係数,6,FALSE))) | F28: =IF($B28="","",IF(COUNTIF(エネルギー種別,$B28)=0,"(単位を入力)",VLOOKUP($B28,排出係数,7,FALSE))) | G28: =IF(C28="","",C28*E28) | H28: t-CO2/年
D29: =IF($B29="","",IF(COUNTIF(エネルギー種別,$B29)=0,"(単位を入力)",VLOOKUP($B29,排出係数,2,FALSE))) | E29: =IF($B29="","",IF(COUNTIF(エネルギー種別,$B29)=0,"(係数を入力)",VLOOKUP($B29,排出係数,6,FALSE))) | F29: =IF($B29="","",IF(COUNTIF(エネルギー種別,$B29)=0,"(単位を入力)",VLOOKUP($B29,排出係数,7,FALSE))) | G29: =IF(C29="","",C29*E29) | H29: t-CO2/年
D30: =IF($B30="","",IF(COUNTIF(エネルギー種別,$B30)=0,"(単位を入力)",VLOOKUP($B30,排出係数,2,FALSE))) | E30: =IF($B30="","",IF(COUNTIF(エネルギー種別,$B30)=0,"(係数を入力)",VLOOKUP($B30,排出係数,6,FALSE))) | F30: =IF($B30="","",IF(COUNTIF(エネルギー種別,$B30)=0,"(単位を入力)",VLOOKUP($B30,排出係数,7,FALSE))) | G30: =IF(C30="","",C30*E30) | H30: t-CO2/年
F31: 合計 | G31: =SUM(G27:G30) -> 0 | H31: t-CO2/年
B34: ②【設備更新後】
B35: エネルギー種別 | C35: 年間エネルギー使用量 | E35: 排出係数 | G35: 年間CO2排出量
D36: =IF($B36="","",IF(COUNTIF(エネルギー種別,$B36)=0,"(単位を入力)",VLOOKUP($B36,排出係数,2,FALSE))) | E36: =IF($B36="","",IF(COUNTIF(エネルギー種別,$B36)=0,"(係数を入力)",VLOOKUP($B36,排出係数,6,FALSE))) | F36: =IF($B36="","",IF(COUNTIF(エネルギー種別,$B36)=0,"(単位を入力)",VLOOKUP($B36,排出係数,7,FALSE))) | G36: =IF(C36="","",C36*E36) | H36: t-CO2/年
D37: =IF($B37="","",IF(COUNTIF(エネルギー種別,$B37)=0,"(単位を入力)",VLOOKUP($B37,排出係数,2,FALSE))) | E37: =IF($B37="","",IF(COUNTIF(エネルギー種別,$B37)=0,"(係数を入力)",VLOOKUP($B37,排出係数,6,FALSE))) | F37: =IF($B37="","",IF(COUNTIF(エネルギー種別,$B37)=0,"(単位を入力)",VLOOKUP($B37,排出係数,7,FALSE))) | G37: =IF(C37="","",C37*E37) | H37: t-CO2/年
D38: =IF($B38="","",IF(COUNTIF(エネルギー種別,$B38)=0,"(単位を入力)",VLOOKUP($B38,排出係数,2,FALSE))) | E38: =IF($B38="","",IF(COUNTIF(エネルギー種別,$B38)=0,"(係数を入力)",VLOOKUP($B38,排出係数,6,FALSE))) | F38: =IF($B38="","",IF(COUNTIF(エネルギー種別,$B38)=0,"(単位を入力)",VLOOKUP($B38,排出係数,7,FALSE))) | G38: =IF(C38="","",C38*E38) | H38: t-CO2/年
D39: =IF($B39="","",IF(COUNTIF(エネルギー種別,$B39)=0,"(単位を入力)",VLOOKUP($B39,排出係数,2,FALSE))) | E39: =IF($B39="","",IF(COUNTIF(エネルギー種別,$B39)=0,"(係数を入力)",VLOOKUP($B39,排出係数,6,FALSE))) | F39: =IF($B39="","",IF(COUNTIF(エネルギー種別,$B39)=0,"(単位を入力)",VLOOKUP($B39,排出係数,7,FALSE))) | G39: =IF(C39="","",C39*E39) | H39: t-CO2/年
F40: 合計 | G40: =SUM(G36:G39) -> 0 | H40: t-CO2/年
B42: 注１）選択肢にないエネルギー種別の場合は、エネルギー種別の名称、年間エネルギー消費量の単位、排出係数および排出係数の単位についても記入する。※プルダウンまたは計算式により表示されている内容を削除し、直接入力してください。
H45: =$B$12 -> 【個票8】
B46: ３．年間エネルギー使用量の算定
B47: ①算定方法
B49: ②【設備更新前】年間エネルギー使用量の計算方法と計算式
B59: ③【設備更新前】年間エネルギー使用量の計算式で使用する各数値の説明とその根拠
B70: ④【設備更新後】年間エネルギー使用量の計算方法と計算式
B80: ⑤【設備更新後】年間エネルギー使用量の計算式で使用する各数値の説明とその根拠
H90: =$B$12 -> 【個票8】
B91: ４．設備更新前後の比較図
B92: ①【設備更新前】
...

Sheet 個票9
AA1: セル色表示/非表示用
B2: 令和8年度Scope3排出量削減のための企業間連携による省CO2設備投資促進事業 | AA2: FALSE
B3: ＜CO2削減算定資料＞
B5: 事業番号 | C5: =IF(総括表!D5="","",総括表!D5) -> Ｓ０８－＊＊＊－＊＊－＊＊(協会から通知される工場・事業場別番号を記入ください。)
B6: 事業者名※ | C6: =IF(総括表!D6="","",総括表!D6)
B7: 企業分類 | C7: =IF(総括表!D7="","",総括表!D7)
B8: 工場・事業場名 | C8: =IF(総括表!D8="","",総括表!D8) | CJ8: TRUE
B9: ※事業者名には、工場・事業場の所有者を入力してください。
B12: {=IF(RIGHT(CELL("filename",$I$2),1)="0","【個票"&RIGHT(CELL("filename",$I$2),2)&"】","【個票"&RIGHT(CELL("filename",$I$2),1)&"】")} -> 【個票9】
B13: １．対策概要
B14: 対策内容
B16: 更新前設備名称
B17: 更新後設備名称
B21: ２．対策効果
B22: 年間CO2削減量 | C22: =G31-G40 -> 0 | D22: t-CO2/年
B25: ①【設備更新前】
B26: エネルギー種別 | C26: 年間エネルギー使用量 | E26: 排出係数 | G26: 年間CO2排出量
D27: =IF($B27="","",IF(COUNTIF(エネルギー種別,$B27)=0,"(単位を入力)",VLOOKUP($B27,排出係数,2,FALSE))) | E27: =IF($B27="","",IF(COUNTIF(エネルギー種別,$B27)=0,"(係数を入力)",VLOOKUP($B27,排出係数,6,FALSE))) | F27: =IF($B27="","",IF(COUNTIF(エネルギー種別,$B27)=0,"(単位を入力)",VLOOKUP($B27,排出係数,7,FALSE))) | G27: =IF(C27="","",C27*E27) | H27: t-CO2/年
D28: =IF($B28="","",IF(COUNTIF(エネルギー種別,$B28)=0,"(単位を入力)",VLOOKUP($B28,排出係数,2,FALSE))) | E28: =IF($B28="","",IF(COUNTIF(エネルギー種別,$B28)=0,"(係数を入力)",VLOOKUP($B28,排出係数,6,FALSE))) | F28: =IF($B28="","",IF(COUNTIF(エネルギー種別,$B28)=0,"(単位を入力)",VLOOKUP($B28,排出係数,7,FALSE))) | G28: =IF(C28="","",C28*E28) | H28: t-CO2/年
D29: =IF($B29="","",IF(COUNTIF(エネルギー種別,$B29)=0,"(単位を入力)",VLOOKUP($B29,排出係数,2,FALSE))) | E29: =IF($B29="","",IF(COUNTIF(エネルギー種別,$B29)=0,"(係数を入力)",VLOOKUP($B29,排出係数,6,FALSE))) | F29: =IF($B29="","",IF(COUNTIF(エネルギー種別,$B29)=0,"(単位を入力)",VLOOKUP($B29,排出係数,7,FALSE))) | G29: =IF(C29="","",C29*E29) | H29: t-CO2/年
D30: =IF($B30="","",IF(COUNTIF(エネルギー種別,$B30)=0,"(単位を入力)",VLOOKUP($B30,排出係数,2,FALSE))) | E30: =IF($B30="","",IF(COUNTIF(エネルギー種別,$B30)=0,"(係数を入力)",VLOOKUP($B30,排出係数,6,FALSE))) | F30: =IF($B30="","",IF(COUNTIF(エネルギー種別,$B30)=0,"(単位を入力)",VLOOKUP($B30,排出係数,7,FALSE))) | G30: =IF(C30="","",C30*E30) | H30: t-CO2/年
F31: 合計 | G31: =SUM(G27:G30) -> 0 | H31: t-CO2/年
B34: ②【設備更新後】
B35: エネルギー種別 | C35: 年間エネルギー使用量 | E35: 排出係数 | G35: 年間CO2排出量
D36: =IF($B36="","",IF(COUNTIF(エネルギー種別,$B36)=0,"(単位を入力)",VLOOKUP($B36,排出係数,2,FALSE))) | E36: =IF($B36="","",IF(COUNTIF(エネルギー種別,$B36)=0,"(係数を入力)",VLOOKUP($B36,排出係数,6,FALSE))) | F36: =IF($B36="","",IF(COUNTIF(エネルギー種別,$B36)=0,"(単位を入力)",VLOOKUP($B36,排出係数,7,FALSE))) | G36: =IF(C36="","",C36*E36) | H36: t-CO2/年
D37: =IF($B37="","",IF(COUNTIF(エネルギー種別,$B37)=0,"(単位を入力)",VLOOKUP($B37,排出係数,2,FALSE))) | E37: =IF($B37="","",IF(COUNTIF(エネルギー種別,$B37)=0,"(係数を入力)",VLOOKUP($B37,排出係数,6,FALSE))) | F37: =IF($B37="","",IF(COUNTIF(エネルギー種別,$B37)=0,"(単位を入力)",VLOOKUP($B37,排出係数,7,FALSE))) | G37: =IF(C37="","",C37*E37) | H37: t-CO2/年
D38: =IF($B38="","",IF(COUNTIF(エネルギー種別,$B38)=0,"(単位を入力)",VLOOKUP($B38,排出係数,2,FALSE))) | E38: =IF($B38="","",IF(COUNTIF(エネルギー種別,$B38)=0,"(係数を入力)",VLOOKUP($B38,排出係数,6,FALSE))) | F38: =IF($B38="","",IF(COUNTIF(エネルギー種別,$B38)=0,"(単位を入力)",VLOOKUP($B38,排出係数,7,FALSE))) | G38: =IF(C38="","",C38*E38) | H38: t-CO2/年
D39: =IF($B39="","",IF(COUNTIF(エネルギー種別,$B39)=0,"(単位を入力)",VLOOKUP($B39,排出係数,2,FALSE))) | E39: =IF($B39="","",IF(COUNTIF(エネルギー種別,$B39)=0,"(係数を入力)",VLOOKUP($B39,排出係数,6,FALSE))) | F39: =IF($B39="","",IF(COUNTIF(エネルギー種別,$B39)=0,"(単位を入力)",VLOOKUP($B39,排出係数,7,FALSE))) | G39: =IF(C39="","",C39*E39) | H39: t-CO2/年
F40: 合計 | G40: =SUM(G36:G39) -> 0 | H40: t-CO2/年
B42: 注１）選択肢にないエネルギー種別の場合は、エネルギー種別の名称、年間エネルギー消費量の単位、排出係数および排出係数の単位についても記入する。※プルダウンまたは計算式により表示されている内容を削除し、直接入力してください。
H45: =$B$12 -> 【個票9】
B46: ３．年間エネルギー使用量の算定
B47: ①算定方法
B49: ②【設備更新前】年間エネルギー使用量の計算方法と計算式
B59: ③【設備更新前】年間エネルギー使用量の計算式で使用する各数値の説明とその根拠
B70: ④【設備更新後】年間エネルギー使用量の計算方法と計算式
B80: ⑤【設備更新後】年間エネルギー使用量の計算式で使用する各数値の説明とその根拠
H90: =$B$12 -> 【個票9】
B91: ４．設備更新前後の比較図
B92: ①【設備更新前】
...

Sheet 個票10
AA1: セル色表示/非表示用
B2: 令和8年度Scope3排出量削減のための企業間連携による省CO2設備投資促進事業 | AA2: FALSE
B3: ＜CO2削減算定資料＞
B5: 事業番号 | C5: =IF(総括表!D5="","",総括表!D5) -> Ｓ０８－＊＊＊－＊＊－＊＊(協会から通知される工場・事業場別番号を記入ください。)
B6: 事業者名※ | C6: =IF(総括表!D6="","",総括表!D6)
B7: 企業分類 | C7: =IF(総括表!D7="","",総括表!D7)
B8: 工場・事業場名 | C8: =IF(総括表!D8="","",総括表!D8) | CJ8: TRUE
B9: ※事業者名には、工場・事業場の所有者を入力してください。
B12: {=IF(RIGHT(CELL("filename",$I$2),1)="0","【個票"&RIGHT(CELL("filename",$I$2),2)&"】","【個票"&RIGHT(CELL("filename",$I$2),1)&"】")} -> 【個票10】
B13: １．対策概要
B14: 対策内容
B16: 更新前設備名称
B17: 更新後設備名称
B21: ２．対策効果
B22: 年間CO2削減量 | C22: =G31-G40 -> 0 | D22: t-CO2/年
B25: ①【設備更新前】
B26: エネルギー種別 | C26: 年間エネルギー使用量 | E26: 排出係数 | G26: 年間CO2排出量
D27: =IF($B27="","",IF(COUNTIF(エネルギー種別,$B27)=0,"(単位を入力)",VLOOKUP($B27,排出係数,2,FALSE))) | E27: =IF($B27="","",IF(COUNTIF(エネルギー種別,$B27)=0,"(係数を入力)",VLOOKUP($B27,排出係数,6,FALSE))) | F27: =IF($B27="","",IF(COUNTIF(エネルギー種別,$B27)=0,"(単位を入力)",VLOOKUP($B27,排出係数,7,FALSE))) | G27: =IF(C27="","",C27*E27) | H27: t-CO2/年
D28: =IF($B28="","",IF(COUNTIF(エネルギー種別,$B28)=0,"(単位を入力)",VLOOKUP($B28,排出係数,2,FALSE))) | E28: =IF($B28="","",IF(COUNTIF(エネルギー種別,$B28)=0,"(係数を入力)",VLOOKUP($B28,排出係数,6,FALSE))) | F28: =IF($B28="","",IF(COUNTIF(エネルギー種別,$B28)=0,"(単位を入力)",VLOOKUP($B28,排出係数,7,FALSE))) | G28: =IF(C28="","",C28*E28) | H28: t-CO2/年
D29: =IF($B29="","",IF(COUNTIF(エネルギー種別,$B29)=0,"(単位を入力)",VLOOKUP($B29,排出係数,2,FALSE))) | E29: =IF($B29="","",IF(COUNTIF(エネルギー種別,$B29)=0,"(係数を入力)",VLOOKUP($B29,排出係数,6,FALSE))) | F29: =IF($B29="","",IF(COUNTIF(エネルギー種別,$B29)=0,"(単位を入力)",VLOOKUP($B29,排出係数,7,FALSE))) | G29: =IF(C29="","",C29*E29) | H29: t-CO2/年
D30: =IF($B30="","",IF(COUNTIF(エネルギー種別,$B30)=0,"(単位を入力)",VLOOKUP($B30,排出係数,2,FALSE))) | E30: =IF($B30="","",IF(COUNTIF(エネルギー種別,$B30)=0,"(係数を入力)",VLOOKUP($B30,排出係数,6,FALSE))) | F30: =IF($B30="","",IF(COUNTIF(エネルギー種別,$B30)=0,"(単位を入力)",VLOOKUP($B30,排出係数,7,FALSE))) | G30: =IF(C30="","",C30*E30) | H30: t-CO2/年
F31: 合計 | G31: =SUM(G27:G30) -> 0 | H31: t-CO2/年
B34: ②【設備更新後】
B35: エネルギー種別 | C35: 年間エネルギー使用量 | E35: 排出係数 | G35: 年間CO2排出量
D36: =IF($B36="","",IF(COUNTIF(エネルギー種別,$B36)=0,"(単位を入力)",VLOOKUP($B36,排出係数,2,FALSE))) | E36: =IF($B36="","",IF(COUNTIF(エネルギー種別,$B36)=0,"(係数を入力)",VLOOKUP($B36,排出係数,6,FALSE))) | F36: =IF($B36="","",IF(COUNTIF(エネルギー種別,$B36)=0,"(単位を入力)",VLOOKUP($B36,排出係数,7,FALSE))) | G36: =IF(C36="","",C36*E36) | H36: t-CO2/年
D37: =IF($B37="","",IF(COUNTIF(エネルギー種別,$B37)=0,"(単位を入力)",VLOOKUP($B37,排出係数,2,FALSE))) | E37: =IF($B37="","",IF(COUNTIF(エネルギー種別,$B37)=0,"(係数を入力)",VLOOKUP($B37,排出係数,6,FALSE))) | F37: =IF($B37="","",IF(COUNTIF(エネルギー種別,$B37)=0,"(単位を入力)",VLOOKUP($B37,排出係数,7,FALSE))) | G37: =IF(C37="","",C37*E37) | H37: t-CO2/年
D38: =IF($B38="","",IF(COUNTIF(エネルギー種別,$B38)=0,"(単位を入力)",VLOOKUP($B38,排出係数,2,FALSE))) | E38: =IF($B38="","",IF(COUNTIF(エネルギー種別,$B38)=0,"(係数を入力)",VLOOKUP($B38,排出係数,6,FALSE))) | F38: =IF($B38="","",IF(COUNTIF(エネルギー種別,$B38)=0,"(単位を入力)",VLOOKUP($B38,排出係数,7,FALSE))) | G38: =IF(C38="","",C38*E38) | H38: t-CO2/年
D39: =IF($B39="","",IF(COUNTIF(エネルギー種別,$B39)=0,"(単位を入力)",VLOOKUP($B39,排出係数,2,FALSE))) | E39: =IF($B39="","",IF(COUNTIF(エネルギー種別,$B39)=0,"(係数を入力)",VLOOKUP($B39,排出係数,6,FALSE))) | F39: =IF($B39="","",IF(COUNTIF(エネルギー種別,$B39)=0,"(単位を入力)",VLOOKUP($B39,排出係数,7,FALSE))) | G39: =IF(C39="","",C39*E39) | H39: t-CO2/年
F40: 合計 | G40: =SUM(G36:G39) -> 0 | H40: t-CO2/年
B42: 注１）選択肢にないエネルギー種別の場合は、エネルギー種別の名称、年間エネルギー消費量の単位、排出係数および排出係数の単位についても記入する。※プルダウンまたは計算式により表示されている内容を削除し、直接入力してください。
H45: =$B$12 -> 【個票10】
B46: ３．年間エネルギー使用量の算定
B47: ①算定方法
B49: ②【設備更新前】年間エネルギー使用量の計算方法と計算式
B59: ③【設備更新前】年間エネルギー使用量の計算式で使用する各数値の説明とその根拠
B70: ④【設備更新後】年間エネルギー使用量の計算方法と計算式
B80: ⑤【設備更新後】年間エネルギー使用量の計算式で使用する各数値の説明とその根拠
H90: =$B$12 -> 【個票10】
B91: ４．設備更新前後の比較図
B92: ①【設備更新前】
...

Sheet 参考_排出係数表
B4: 排出係数
E5: 排出係数
B6: No. | C6: エネルギー種別 | D6: 消費量単位 | E6: 係数 | F6: 単位
B7: 1 | C7: 商用電力 | D7: kWh/年 | E7: 0.000438 | F7: t-CO2/kWh
B8: 2 | C8: 都市ガス | D8: Nm3/年 | E8: 0.00227 | F8: t-CO2/Nm3
B9: 3 | C9: 輸入一般炭 | D9: kg/年 | E9: 0.00233 | F9: t-CO2/kg
B10: 4 | C10: LPG | D10: kg/年 | E10: 0.00299 | F10: t-CO2/kg
B11: 5 | C11: LNG | D11: kg/年 | E11: 0.00279 | F11: t-CO2/kg
B12: 6 | C12: 灯油 | D12: L/年 | E12: 0.0025 | F12: t-CO2/L
B13: 7 | C13: A重油 | D13: L/年 | E13: 0.00275 | F13: t-CO2/L
B14: 8 | C14: B・C重油 | D14: L/年 | E14: 0.0031 | F14: t-CO2/L
B15: 9 | C15: 揮発油(ガソリン) | D15: L/年 | E15: 0.00229 | F15: t-CO2/L
B16: 10 | C16: 軽油 | D16: L/年 | E16: 0.00262 | F16: t-CO2/L
B17: 11 | C17: ジェット燃料 | D17: L/年 | E17: 0.00248 | F17: t-CO2/L
B18: 12 | C18: 産業用蒸気 | D18: GJ/年 | E18: 0.06 | F18: t-CO2/GJ
... B21: 15 | C21: 蒸気(産業用のものは除く) | D21: GJ/年 | E21: 0.057 | F21: t-CO2/GJ
B22: 16 | C22: その他(名称を入力) | D22: (単位を入力) | E22: (係数を入力) | F22: (単位を入力)

Sheet 【非表示】排出係数
A1: 排出係数・発熱係数表
B2: 出典 | C2: 地球温暖化対策事業効果算定ガイドブック＜補助事業申請者用＞ （令和７年３月改訂）
C3: 計算ファイル（F.省エネ設備用）[Excel]
E5: 排出係数 | H5: 排出係数 | J5: ランニングコスト
B6: No. | C6: エネルギー種別 | D6: 消費量単位 | E6: 係数 | F6: 単位 | H6: 係数 | I6: 単位 | J6: 単位
B7: 1 | C7: 商用電力 | D7: kWh/年 | E7: 0.438 | F7: kgCO2/kWh | H7: =E7/1000 -> 0.000438 | I7: t-CO2/kWh | J7: 円/kWh | K7: ←本事業用に「R6補改修支援_CO2削減計画書_CO2排出量計算書sf06Hb2_t1_r2」から転記
B8: 2 | C8: 都市ガス | D8: Nm3/年 | E8: 2.27 | F8: kgCO2/Nm3 | H8: =E8/1000 -> 0.00227 | I8: t-CO2/Nm3 | J8: 円/Nm3 | K8: ←本事業用に「R6補改修支援_CO2削減計画書_CO2排出量計算書sf06Hb2_t1_r2」から転記
B9: 3 | C9: 輸入一般炭 | D9: kg/年 | E9: 2.33 | F9: kgCO2/kg | H9: =E9/1000 -> 0.00233 | I9: t-CO2/kg | J9: 円/kg | K9: ←本事業用に「R6補改修支援_CO2削減計画書_CO2排出量計算書sf06Hb2_t1_r2」から転記
B10: 4 | C10: LPG | D10: kg/年 | E10: 2.99 | F10: kgCO2/kg | H10: =E10/1000 -> 0.00299 | I10: t-CO2/kg | J10: 円/kg | K10: ←本事業用に「R6補改修支援_CO2削減計画書_CO2排出量計算書sf06Hb2_t1_r2」から転記
B11: 5 | C11: LNG | D11: kg/年 | E11: 2.79 | F11: kgCO2/kg | H11: =E11/1000 -> 0.00279 | I11: t-CO2/kg | J11: 円/kg | K11: ←本事業用に「R6補改修支援_CO2削減計画書_CO2排出量計算書sf06Hb2_t1_r2」から転記
B12: 6 | C12: 灯油 | D12: L/年 | E12: 2.5 | F12: kgCO2/L | H12: =E12/1000 -> 0.0025 | I12: t-CO2/L | J12: 円/L | K12: ←本事業用に「R6補改修支援_CO2削減計画書_CO2排出量計算書sf06Hb2_t1_r2」から転記
B13: 7 | C13: A重油 | D13: L/年 | E13: 2.75 | F13: kgCO2/L | H13: =E13/1000 -> 0.00275 | I13: t-CO2/L | J13: 円/L | K13: ←本事業用に「R6補改修支援_CO2削減計画書_CO2排出量計算書sf06Hb2_t1_r2」から転記
B14: 8 | C14: B・C重油 | D14: L/年 | E14: 3.1 | F14: kgCO2/L | H14: =E14/1000 -> 0.0031 | I14: t-CO2/L | J14: 円/L | K14: ←本事業用に「R6補改修支援_CO2削減計画書_CO2排出量計算書sf06Hb2_t1_r2」から転記
B15: 9 | C15: 揮発油(ガソリン) | D15: L/年 | E15: 2.29 | F15: kgCO2/L | H15: =E15/1000 -> 0.00229 | I15: t-CO2/L | J15: 円/L | K15: ←本事業用に「R6補改修支援_CO2削減計画書_CO2排出量計算書sf06Hb2_t1_r2」から転記
B16: 10 | C16: 軽油 | D16: L/年 | E16: 2.62 | F16: kgCO2/L | H16: =E16/1000 -> 0.00262 | I16: t-CO2/L | J16: 円/L | K16: ←本事業用に「R6補改修支援_CO2削減計画書_CO2排出量計算書sf06Hb2_t1_r2」から転記
B17: 11 | C17: ジェット燃料 | D17: L/年 | E17: 2.48 | F17: kgCO2/L | H17: =E17/1000 -> 0.00248 | I17: t-CO2/L | J17: 円/L | K17: ←本事業用に「R6補改修支援_CO2削減計画書_CO2排出量計算書sf06Hb2_t1_r2」から転記
B18: 12 | C18: 産業用蒸気 | D18: GJ/年 | H18: 0.06 | I18: t-CO2/GJ | K18: ←本事業用に「R6H_SHIFTモニタリング報告ガイドライン」から転記
B19: 13 | C19: 温水 | D19: GJ/年 | H19: 0.057 | I19: t-CO2/GJ | K19: ←本事業用に「R6H_SHIFTモニタリング報告ガイドライン」から転記
B20: 14 | C20: 冷水 | D20: GJ/年 | H20: 0.057 | I20: t-CO2/GJ | K20: ←本事業用に「R6H_SHIFTモニタリング報告ガイドライン」から転記
B21: 15 | C21: 蒸気(産業用のものは除く) | D21: GJ/年 | H21: 0.057 | I21: t-CO2/GJ | K21: ←本事業用に「R6H_SHIFTモニタリング報告ガイドライン」から転記
B22: 16 | C22: その他(名称を入力) | D22: (単位を入力) | F22: kgCO2/● | H22: (係数を入力) | I22: (単位を入力) | K22: ←本事業用に「F.省エネ設備用」から転記・一部加工

Sheet 【非表示】その他
E4: 目標削減率 | F4: =IFERROR(VLOOKUP(総括表!D7,【非表示】その他!E5:F7,2,FALSE),"") | L4: =SUM(L5:L14) -> 0
C5: 「CO2削減効果算定ツール」を使用した | E5: 大企業（削減率３０％） | F5: 0.3 | H5: 個票1 | J5: =総括表!D18 -> 0 | K5: =IF(総括表!C18="×",0,1) -> 1 | L5: =IF(J5="",0,J5*K5) -> 0
C6: 「CO2削減効果算定ガイドライン」に則って算定した | E6: 中堅企業（削減率２０％） | F6: 0.2 | H6: 個票2 | J6: =総括表!D19 -> 0 | K6: =IF(総括表!C19="×",0,1) -> 1 | L6: =IF(J6="",0,J6*K6) -> 0
E7: 中小企業（削減率１０％） | F7: 0.1 | H7: 個票3 | J7: =総括表!D20 -> 0 | K7: =IF(総括表!C20="×",0,1) -> 1 | L7: =IF(J7="",0,J7*K7) -> 0
H8: 個票4 | J8: =総括表!D21 -> 0 | K8: =IF(総括表!C21="×",0,1) -> 1 | L8: =IF(J8="",0,J8*K8) -> 0
H9: 個票5 | J9: =総括表!D22 -> 0 | K9: =IF(総括表!C22="×",0,1) -> 1 | L9: =IF(J9="",0,J9*K9) -> 0
H10: 個票6 | J10: =総括表!D23 -> 0 | K10: =IF(総括表!C23="×",0,1) -> 1 | L10: =IF(J10="",0,J10*K10) -> 0
H11: 個票7 | J11: =総括表!D24 -> 0 | K11: =IF(総括表!C24="×",0,1) -> 1 | L11: =IF(J11="",0,J11*K11) -> 0
H12: 個票8 | J12: =総括表!D25 -> 0 | K12: =IF(総括表!C25="×",0,1) -> 1 | L12: =IF(J12="",0,J12*K12) -> 0
H13: 個票9 | J13: =総括表!D26 -> 0 | K13: =IF(総括表!C26="×",0,1) -> 1 | L13: =IF(J13="",0,J13*K13) -> 0
H14: 個票10 | J14: =総括表!D27 -> 0 | K14: =IF(総括表!C27="×",0,1) -> 1 | L14: =IF(J14="",0,J14*K14) -> 0
