{"text_format":"1","workbook":"xlsx","n_sheets":22,"sheets":["目次","応募申請様式⇒","様式第１_応募申請書","別紙１_実施計画書_応募申請","別紙２_経費内訳_応募申請","（参考）エネルギー起源CO2排出削減量の算出シート（計画時）","（参考）行動・意識変容率過年度平均","交付規程様式⇒","様式第１_交付申請書","別紙１_実施計画書","別紙２_経費内訳","様式第１０_完了実績報告書","別紙１_実施報告書","別紙２_経費所要額精算調書","PDCAシート様式⇒","手順書","【事業開始時】事業全体","【実施期間中】個別事業におけるPDCAシート","【事業終了時】事業全体","（参考）普及啓発テーマ・訴求手法","プルダウン選択肢","【管理者用】"],"not_rendered":{"charts":0,"images":0,"macros":1,"external_links":0,"defined_names":32,"comments":3,"pivot_tables":0},"unopened":[],"bounds":{"document_bytes":16777216,"sheet_cells":100000,"rows_first":2000,"rows_last":500,"rows_between":2000,"halvings":0,"cell_chars":16384,"cell_head_chars":4096},"cells_cut":0,"cells_raw":0,"read":"whole","date_system":"1900"}

{"sheet":"目次","index":0,"n_rows":31,"n_cols":5,"rows_kept":31,"cut":false,"hidden":true,"merged":[[17,3,17,9],[18,3,18,9],[19,3,19,9],[8,3,8,9],[9,3,9,9],[15,3,15,9],[14,1,14,9],[13,1,13,9],[16,3,16,9],[11,3,11,9],[2,2,2,9],[12,1,12,9],[7,1,7,9],[4,1,4,9],[0,1,0,9],[6,1,6,9],[10,3,10,9],[3,1,3,9],[5,1,5,9],[1,1,1,9],[29,4,29,9],[30,3,30,9],[20,3,20,9],[24,3,24,9],[25,3,25,9],[26,4,26,9],[27,4,27,9],[28,3,28,9],[23,1,23,9],[22,1,22,9],[21,1,21,9]]}
[null,"目次"]
[" "," "]
[null,null,"：全事業者記入・提出が必要なもの"]
[null," "]
[null,"※シート名をクリックすると該当シートへジャンプします。"]
[null," "]
[null,"応募申請様式等"]
[]
[null,null,"様式第１","応募申請書"]
[null,null,"様式第２","実施計画書"]
[null,null,"様式第３","経費内訳"]
[null,null,null,"（参考）エネルギー起源CO2排出削減量の算出シート（計画時）"]
[]
[null,"交付規程様式等"]
[]
[null,null,"様式第１","交付申請書（第５条関係）"]
[null,null,null,"別紙１　実施計画書"]
[null,null,null,"別紙２　経費内訳"]
[null,null,"様式第１０","完了実績報告書（第１１条関係）"]
[null,null,null,"別紙１　実施報告書"]
[null,null,null,"別紙２　経費所要額精算調書"]
[]
[null,"PDCAシート様式等"]
[]
[null,null,1,"PDCAシート手順書"]
[null,null,2,"事業全体の概要"]
[null,null,null,"2-1","【事業開始時】事業全体"]
[null,null,null,"2-2","【事業終了時】事業全体"]
[null,null,3,"個別事業の進捗管理"]
[null,null,null,"3-1","【実施期間中】個別事業におけるPDCAシート"]
[null,null,"（参考）","普及啓発テーマ・訴求手法"]

{"sheet":"応募申請様式⇒","index":1,"n_rows":0,"n_cols":0,"rows_kept":0,"cut":false,"hidden":true,"merged":[]}

{"sheet":"様式第１_応募申請書","index":2,"n_rows":58,"n_cols":27,"rows_kept":58,"cut":false,"hidden":false,"merged":[[41,2,41,3],[31,6,31,9],[32,6,32,9],[34,6,34,22],[35,7,35,12],[35,13,37,13],[36,7,36,12],[37,7,37,12],[38,7,38,12],[39,7,39,12],[43,4,48,22],[49,4,56,22],[29,6,29,9],[30,6,30,9],[28,6,28,9],[28,11,28,21],[29,11,29,21],[30,11,30,21],[31,11,31,21],[32,11,32,21],[24,6,24,22],[25,6,25,9],[26,6,26,9],[27,6,27,9],[25,11,25,21],[26,11,26,21],[27,11,27,21],[16,2,16,22],[19,3,19,21],[21,2,21,22],[10,13,11,21],[12,13,12,21],[13,17,13,21],[17,19,17,21],[17,2,17,18],[10,8,10,11],[12,8,12,11],[13,8,13,11],[13,13,13,15],[15,2,15,22],[7,2,7,22],[1,2,1,22],[4,14,4,15],[4,16,4,17],[6,2,6,22],[3,17,3,22]]}
[]
[null,null,"様式第１"]
[]
[null,null,null,null,null,null,null,null,null,null,null,null,null,null,"番　号"]
[null,null,null,null,null,null,null,null,null,null,null,null,null,null,"令和",null,"３",null,"年",null,"月",null,"日"]
[]
[null,null,"一般社団法人地域循環共生社会連携協会"]
[null,null,"　代表理事　　岡　本　　光　司　　殿"]
[]
[]
[null,null,"　　　　　　　　　　　          　申請者　住　　　　所",null,null,null,"申請者",null,"住所"]
[]
[null,null,null,null,null,null,null,null,"氏名又は名称"]
[null,null,null,null,null,null,null,null,"代表者の職・氏名",null,null,null,null,null,null,null,"・"]
[]
[null,null,"令和３年度二酸化炭素排出抑制対策事業費等補助金"]
[null,null,"地方と連携した地球温暖化対策活動推進事業"]
[null,null,"＜　　　　　事業名を選択して下さい。           ＞ ",null,null,null,null,null,null,null,null,null,null,null,null,null,null,null,null,"応募申請書"]
[]
[null,null,null,"　標記について、以下の必要書類を添えて申請します。\n ・実施計画書（別紙１）及び、記載事項に係る根拠資料\n ・経費内訳（別紙２）及び、記載事項に係る根拠資料\n ・応募者の業務概要及び定款又は寄附行為\n ・その他参考資料"]
[]
[null,null,"記"]
[]
[]
[null,null,null,null,null,null,"（担当者等の氏名、連絡先等）"]
[null,null,null,null,null,null,"郵便番号",null,null,null,"："]
[null,null,null,null,null,null,"住　所",null,null,null,"："]
[null,null,null,null,null,null,"担当者所　 属",null,null,null,"："]
[null,null,null,null,null,null,"担当者役職名",null,null,null,"："]
[null,null,null,null,null,null,"担当者氏　 名",null,null,null,"："]
[null,null,null,null,null,null,"ＴＥＬ　　　",null,null,null,"："]
[null,null,null,null,null,null,"ＦＡＸ",null,null,null,"："]
[null,null,null,null,null,null,"Ｅ－mail",null,null,null,"："]
[]
[null,null,null,null,null,null,"↓該当する申請者種別のボタンにチェックしてください。",null,null,null,null,null,null,null,null,null,null,null,null,null,null,null,null,null,null,"団体分類",5]
[null,null,null,null,null,null,null,"政令指定都市",null,null,null,null,null,"ア"]
[null,null,null,null,null,null,null,"特別区"]
[null,null,null,null,null,null,null,"中核市"]
[null,null,null,null,null,null,null,"ア以外の市町村の場合",null,null,null,null,null,"イ"]
[null,null,null,null,null,null,null,"民間企業・団体",null,null,null,null,null,"ウ"]
[]
[]
[]
[null,null,"注",1,"「応募者の業務概要及び定款又は寄附行為」について、個人企業の場合は、業務概要及び定款又は寄附行為として、印鑑証明書の原本及び住民票の原本（いずれも発行後３ヶ月以内のもの）を提出すること。また、認可を受けている者等は、設立の認可を受け、又は設立の認可が適当であるとされた法人の定款又は寄附行為の案を提出すること。ただし、この案が作成されていない場合には、提出を要しない。"]
[]
[]
[]
[]
[]
[null,null,null,2,"「応募者の経理状況説明書（直近２決算期の貸借対照表及び損益計算書）」について、応募者が地方公共団体以外の者である場合は、経理状況説明書として、直近２決算期の貸借対照表及び損益計算書（応募の申請時に、法人の設立から１会計年度を経過していない場合には、申請年度の事業計画及び収支予算、法人の設立から１会計年度を経過し、かつ、２会計年度を経過していない場合には、直近の１決算期に関する貸借対照表及び損益計算書）を提出すること。申請者が個人企業の場合は、提出を要しない。また、地方公共団体が申請する場合は、申請年度の予算書を添付すること。"]
[]
[]
[]
[]
[]
[]
[]
[null,null,null,null,null,null,null,null,null,null,null,null,null,null,null,null,null,null,null,null,null,"ver. 1.0"]

{"sheet":"別紙１_実施計画書_応募申請","index":3,"n_rows":880,"n_cols":89,"rows_kept":880,"cut":false,"hidden":false,"merged":[[199,40,199,46],[251,40,251,46],[303,40,303,46],[355,40,355,46],[407,40,407,46],[459,40,459,46],[511,40,511,46],[563,40,563,46],[615,40,615,46],[667,40,667,46],[719,40,719,46],[771,40,771,46],[823,40,823,46],[151,33,151,34],[152,33,152,34],[153,33,153,34],[203,33,203,34],[204,33,204,34],[205,33,205,34],[255,33,255,34],[256,33,256,34],[257,33,257,34],[307,33,307,34],[308,33,308,34],[309,33,309,34],[359,33,359,34],[360,33,360,34],[361,33,361,34],[411,33,411,34],[412,33,412,34],[413,33,413,34],[463,33,463,34],[756,35,757,35],[756,36,757,36],[756,37,757,37],[756,38,757,38],[756,39,757,39],[756,40,757,40],[756,41,757,41],[756,42,757,42],[756,43,757,43],[756,44,757,44],[756,45,757,45],[808,32,809,32],[808,33,809,33],[808,34,809,34],[808,35,809,35],[808,36,809,36],[808,37,809,37],[808,38,809,38],[808,39,809,39],[808,40,809,40],[808,41,809,41],[808,42,809,42],[808,43,809,43],[808,44,809,44],[808,45,809,45],[775,33,775,34],[776,33,776,34],[777,33,777,34],[652,35,653,35],[652,36,653,36],[652,37,653,37],[652,38,653,38],[652,39,653,39],[652,40,653,40],[652,41,653,41],[652,42,653,42],[652,43,653,43],[652,44,653,44],[652,45,653,45],[704,32,705,32],[704,33,705,33],[704,34,705,34],[704,35,705,35],[704,36,705,36],[704,37,705,37],[704,38,705,38],[704,39,705,39],[704,40,705,40],[704,41,705,41],[704,42,705,42],[704,43,705,43],[704,44,705,44],[704,45,705,45],[671,33,671,34],[672,33,672,34],[673,33,673,34],[548,35,549,35],[548,36,549,36],[548,37,549,37],[548,38,549,38],[548,39,549,39],[548,40,549,40],[548,41,549,41],[548,42,549,42],[548,43,549,43],[548,44,549,44],[548,45,549,45],[600,32,601,32],[600,33,601,33],[600,34,601,34],[600,35,601,35],[600,36,601,36],[600,37,601,37],[600,38,601,38],[600,39,601,39],[600,40,601,40],[600,41,601,41],[600,42,601,42],[600,43,601,43],[600,44,601,44],[600,45,601,45],[567,33,567,34],[568,33,568,34],[569,33,569,34],[444,35,445,35],[444,36,445,36],[444,37,445,37],[444,38,445,38],[444,39,445,39],[444,40,445,40],[444,41,445,41],[444,42,445,42],[444,43,445,43],[444,44,445,44],[444,45,445,45],[496,32,497,32],[496,33,497,33],[496,34,497,34],[496,35,497,35],[496,36,497,36],[496,37,497,37],[496,38,497,38],[496,39,497,39],[496,40,497,40],[496,41,497,41],[496,42,497,42],[496,43,497,43],[496,44,497,44],[496,45,497,45],[464,33,464,34],[465,33,465,34],[340,35,341,35],[340,36,341,36],[340,37,341,37],[340,38,341,38],[340,39,341,39],[340,40,341,40],[340,41,341,41],[340,42,341,42],[340,43,341,43],[340,44,341,44],[340,45,341,45],[392,32,393,32],[392,33,393,33],[392,34,393,34],[392,35,393,35],[392,36,393,36],[392,37,393,37],[392,38,393,38],[392,39,393,39],[392,40,393,40],[392,41,393,41],[392,42,393,42],[392,43,393,43],[392,44,393,44],[392,45,393,45],[236,35,237,35],[236,36,237,36],[236,37,237,37],[236,38,237,38],[236,39,237,39],[236,40,237,40],[236,41,237,41],[236,42,237,42],[236,43,237,43],[236,44,237,44],[236,45,237,45],[288,32,289,32],[288,33,289,33],[288,34,289,34],[288,35,289,35],[288,36,289,36],[288,37,289,37],[288,38,289,38],[288,39,289,39],[288,40,289,40],[288,41,289,41],[288,42,289,42],[288,43,289,43],[288,44,289,44],[288,45,289,45],[132,35,133,35],[132,36,133,36],[132,37,133,37],[132,38,133,38],[132,39,133,39],[132,40,133,40],[132,41,133,41],[132,42,133,42],[132,43,133,43],[132,44,133,44],[132,45,133,45],[184,32,185,32],[184,33,185,33],[184,34,185,34],[184,35,185,35],[184,36,185,36],[184,37,185,37],[184,38,185,38],[184,39,185,39],[184,40,185,40],[184,41,185,41],[184,42,185,42],[184,43,185,43],[184,44,185,44],[184,45,185,45],[147,40,147,46],[793,4,793,5],[793,6,793,15],[793,16,793,17],[793,18,793,27],[790,2,794,3],[790,4,790,5],[808,4,812,4],[808,5,808,27],[809,5,812,27],[132,32,133,32],[132,33,133,33],[132,34,133,34],[236,32,237,32],[515,33,515,34],[516,33,516,34],[517,33,517,34],[619,33,619,34],[620,33,620,34],[621,33,621,34],[723,33,723,34],[724,33,724,34],[725,33,725,34],[807,2,812,3],[807,4,807,7],[807,8,807,13],[802,2,805,3],[802,4,802,7],[802,8,802,9],[802,10,802,12],[803,4,803,7],[803,8,803,27],[804,4,804,7],[80,37,81,37],[80,38,81,38],[80,39,81,39],[80,40,81,40],[80,41,81,41],[80,42,81,42],[80,43,81,43],[80,44,81,44],[80,45,81,45],[95,40,95,46],[119,4,119,27],[119,2,120,3],[171,2,172,3],[171,4,171,27],[80,4,84,4],[81,5,84,27],[80,5,80,27],[167,18,167,27],[168,4,168,5],[168,6,168,15],[168,16,168,17],[168,18,168,27],[169,4,169,5],[169,6,169,15],[169,16,169,17],[169,18,169,27],[166,2,170,3],[166,4,166,5],[166,6,166,15],[166,16,166,17],[166,18,166,27],[167,4,167,5],[80,35,81,35],[80,36,81,36],[810,30,813,30],[815,30,819,30],[205,26,205,27],[206,4,206,5],[206,6,206,27],[207,4,207,5],[207,6,208,27],[208,4,208,5],[204,26,204,27],[205,4,205,5],[205,6,205,7],[205,8,205,9],[205,10,205,11],[205,12,205,13],[347,25,347,27],[348,4,348,6],[348,7,348,9],[795,4,795,27],[132,4,136,4],[132,5,132,27],[133,5,136,27],[184,4,188,4],[184,5,184,27],[185,5,188,27],[236,4,240,4],[236,5,236,27],[237,5,240,27],[288,4,292,4],[288,5,288,27],[289,5,292,27],[804,8,804,9],[804,10,804,12],[805,4,805,7],[792,18,792,27],[32,33,32,34],[47,33,47,34],[48,33,48,34],[49,33,49,34],[99,33,99,34],[100,33,100,34],[101,33,101,34],[67,2,68,3],[67,4,67,27],[79,30,81,31],[80,32,81,32],[80,33,81,33],[80,34,81,34],[795,2,796,3],[340,4,344,4],[340,5,340,27],[341,5,344,27],[348,10,348,12],[797,2,797,3],[797,4,797,27],[798,2,801,2],[798,4,798,27],[799,4,799,27],[800,4,800,27],[801,4,801,27],[794,4,794,5],[794,6,794,15],[794,16,794,17],[794,18,794,27],[796,4,796,27],[792,6,792,15],[792,16,792,17],[805,8,805,27],[806,2,806,3],[806,4,806,27],[833,2,833,5],[833,6,833,9],[819,16,819,27],[818,4,818,6],[818,7,818,9],[818,10,818,12],[818,13,818,15],[815,25,815,27],[816,4,816,6],[816,7,816,9],[816,10,816,12],[816,13,816,15],[816,16,816,18],[816,19,816,21],[816,22,816,24],[816,25,816,27],[813,2,822,3],[813,4,813,27],[814,4,814,27],[815,4,815,6],[815,7,815,9],[815,10,815,12],[815,13,815,15],[815,16,815,18],[815,19,815,21],[815,22,815,24],[817,4,817,15],[817,16,818,27],[829,1,829,28],[831,1,831,28],[828,1,828,28],[836,2,836,5],[836,6,836,9],[820,6,820,26],[821,4,821,7],[821,9,821,11],[822,4,822,7],[822,9,822,11],[825,4,825,7],[819,4,819,6],[819,7,819,9],[819,10,819,12],[819,13,819,15],[200,2,200,3],[89,16,90,27],[91,16,91,27],[141,16,142,27],[143,16,143,27],[141,4,141,15],[193,4,193,15],[193,16,194,27],[195,16,195,27],[245,4,245,15],[245,16,246,27],[247,16,247,27],[297,4,297,15],[297,16,298,27],[299,16,299,27],[349,4,349,15],[349,16,350,27],[213,4,213,11],[213,12,213,27],[209,2,215,3],[347,4,347,6],[347,7,347,9],[347,10,347,12],[347,13,347,15],[347,16,347,18],[347,19,347,21],[347,22,347,24],[329,2,329,3],[329,4,329,27],[330,2,333,2],[330,4,330,27],[331,4,331,27],[860,1,860,28],[861,1,861,28],[862,1,865,28],[872,1,872,28],[873,1,873,28],[874,1,878,28],[846,1,846,28],[847,1,851,28],[852,1,852,28],[853,1,853,28],[854,1,858,28],[859,1,859,28],[837,2,837,5],[837,6,837,9],[838,2,843,5],[838,6,843,25],[844,1,844,28],[845,1,845,28],[866,1,866,28],[867,1,867,28],[868,1,871,28],[790,6,790,15],[790,16,790,17],[790,18,790,27],[791,4,791,5],[791,6,791,15],[791,16,791,17],[791,18,791,27],[792,4,792,5],[788,2,788,3],[788,4,788,13],[788,14,788,17],[788,18,788,27],[789,2,789,3],[789,4,789,27],[784,20,784,27],[781,4,781,27],[782,4,782,11],[782,12,782,19],[782,20,782,27],[783,4,783,11],[783,12,783,19],[783,20,783,27],[784,4,784,11],[784,12,784,19],[785,4,785,11],[785,12,785,27],[786,4,786,11],[786,12,787,27],[787,4,787,11],[781,2,787,3],[780,4,780,5],[776,26,776,27],[777,4,777,5],[777,6,777,7],[777,8,777,9],[777,10,777,11],[777,12,777,13],[777,14,777,15],[777,16,777,17],[777,18,777,19],[777,20,777,21],[776,14,776,15],[776,16,776,17],[776,18,776,19],[776,20,776,21],[776,22,776,23],[776,24,776,25],[776,4,776,5],[776,6,776,7],[776,8,776,9],[776,10,776,11],[776,12,776,13],[772,2,772,3],[772,4,772,27],[767,4,767,6],[767,7,767,9],[767,10,767,12],[767,13,767,15],[766,4,766,6],[766,7,766,9],[766,10,766,12],[766,13,766,15],[775,18,775,19],[775,20,775,21],[775,22,775,23],[775,24,775,25],[775,26,775,27],[773,4,773,27],[774,2,780,3],[774,4,774,27],[775,4,775,5],[775,6,775,7],[775,8,775,9],[775,10,775,11],[775,12,775,13],[775,14,775,15],[775,16,775,17],[777,22,777,23],[777,24,777,25],[777,26,777,27],[778,4,778,5],[778,6,778,27],[779,4,779,5],[779,6,780,27],[763,25,763,27],[764,4,764,6],[764,7,764,9],[764,10,764,12],[764,13,764,15],[764,16,764,18],[764,19,764,21],[764,22,764,24],[764,25,764,27],[761,2,770,3],[761,4,761,27],[762,4,762,27],[763,4,763,6],[763,7,763,9],[763,10,763,12],[763,13,763,15],[763,16,763,18],[763,19,763,21],[763,22,763,24],[768,6,768,26],[769,4,769,7],[769,9,769,11],[770,4,770,7],[770,9,770,11],[765,4,765,15],[765,16,766,27],[767,16,767,27],[753,8,753,27],[754,2,754,3],[754,4,754,27],[755,2,760,3],[755,4,755,7],[755,8,755,13],[750,2,753,3],[750,4,750,7],[750,8,750,9],[750,10,750,12],[751,4,751,7],[751,8,751,27],[752,4,752,7],[752,8,752,9],[752,10,752,12],[753,4,753,7],[756,4,760,4],[756,5,756,27],[757,5,760,27],[745,2,745,3],[745,4,745,27],[746,2,749,2],[746,4,746,27],[747,4,747,27],[748,4,748,27],[749,4,749,27],[742,4,742,5],[742,6,742,15],[742,16,742,17],[742,18,742,27],[744,4,744,27],[740,6,740,15],[740,16,740,17],[740,18,740,27],[741,4,741,5],[741,6,741,15],[741,16,741,17],[741,18,741,27],[738,2,742,3],[738,4,738,5],[738,6,738,15],[738,16,738,17],[738,18,738,27],[739,4,739,5],[739,6,739,15],[739,16,739,17],[739,18,739,27],[740,4,740,5],[743,2,744,3],[743,4,743,27],[736,2,736,3],[736,4,736,13],[736,14,736,17],[736,18,736,27],[737,2,737,3],[737,4,737,27],[732,20,732,27],[729,4,729,27],[730,4,730,11],[730,12,730,19],[730,20,730,27],[731,4,731,11],[731,12,731,19],[731,20,731,27],[732,4,732,11],[732,12,732,19],[733,4,733,11],[733,12,733,27],[734,4,734,11],[734,12,735,27],[735,4,735,11],[729,2,735,3],[728,4,728,5],[724,26,724,27],[725,4,725,5],[725,6,725,7],[725,8,725,9],[725,10,725,11],[725,12,725,13],[725,14,725,15],[725,16,725,17],[725,18,725,19],[725,20,725,21],[724,14,724,15],[724,16,724,17],[724,18,724,19],[724,20,724,21],[724,22,724,23],[724,24,724,25],[724,4,724,5],[724,6,724,7],[724,8,724,9],[724,10,724,11],[724,12,724,13],[720,2,720,3],[720,4,720,27],[715,4,715,6],[715,7,715,9],[715,10,715,12],[715,13,715,15],[714,4,714,6],[714,7,714,9],[714,10,714,12],[714,13,714,15],[723,18,723,19],[723,20,723,21],[723,22,723,23],[723,24,723,25],[723,26,723,27],[721,4,721,27],[722,2,728,3],[722,4,722,27],[723,4,723,5],[723,6,723,7],[723,8,723,9],[723,10,723,11],[723,12,723,13],[723,14,723,15],[723,16,723,17],[725,22,725,23],[725,24,725,25],[725,26,725,27],[726,4,726,5],[726,6,726,27],[727,4,727,5],[727,6,728,27],[711,25,711,27],[712,4,712,6],[712,7,712,9],[712,10,712,12],[712,13,712,15],[712,16,712,18],[712,19,712,21],[712,22,712,24],[712,25,712,27],[709,2,718,3],[709,4,709,27],[710,4,710,27],[711,4,711,6],[711,7,711,9],[711,10,711,12],[711,13,711,15],[711,16,711,18],[711,19,711,21],[711,22,711,24],[716,6,716,26],[717,4,717,7],[717,9,717,11],[718,4,718,7],[718,9,718,11],[713,4,713,15],[713,16,714,27],[715,16,715,27],[701,8,701,27],[702,2,702,3],[702,4,702,27],[703,2,708,3],[703,4,703,7],[703,8,703,13],[698,2,701,3],[698,4,698,7],[698,8,698,9],[698,10,698,12],[699,4,699,7],[699,8,699,27],[700,4,700,7],[700,8,700,9],[700,10,700,12],[701,4,701,7],[704,4,708,4],[704,5,704,27],[705,5,708,27],[693,2,693,3],[693,4,693,27],[694,2,697,2],[694,4,694,27],[695,4,695,27],[696,4,696,27],[697,4,697,27],[690,4,690,5],[690,6,690,15],[690,16,690,17],[690,18,690,27],[692,4,692,27],[688,6,688,15],[688,16,688,17],[688,18,688,27],[689,4,689,5],[689,6,689,15],[689,16,689,17],[689,18,689,27],[686,2,690,3],[686,4,686,5],[686,6,686,15],[686,16,686,17],[686,18,686,27],[687,4,687,5],[687,6,687,15],[687,16,687,17],[687,18,687,27],[688,4,688,5],[691,2,692,3],[691,4,691,27],[684,2,684,3],[684,4,684,13],[684,14,684,17],[684,18,684,27],[685,2,685,3],[685,4,685,27],[680,20,680,27],[677,4,677,27],[678,4,678,11],[678,12,678,19],[678,20,678,27],[679,4,679,11],[679,12,679,19],[679,20,679,27],[680,4,680,11],[680,12,680,19],[681,4,681,11],[681,12,681,27],[682,4,682,11],[682,12,683,27],[683,4,683,11],[677,2,683,3],[676,4,676,5],[672,26,672,27],[673,4,673,5],[673,6,673,7],[673,8,673,9],[673,10,673,11],[673,12,673,13],[673,14,673,15],[673,16,673,17],[673,18,673,19],[673,20,673,21],[672,14,672,15],[672,16,672,17],[672,18,672,19],[672,20,672,21],[672,22,672,23],[672,24,672,25],[672,4,672,5],[672,6,672,7],[672,8,672,9],[672,10,672,11],[672,12,672,13],[668,2,668,3],[668,4,668,27],[663,4,663,6],[663,7,663,9],[663,10,663,12],[663,13,663,15],[662,4,662,6],[662,7,662,9],[662,10,662,12],[662,13,662,15],[671,18,671,19],[671,20,671,21],[671,22,671,23],[671,24,671,25],[671,26,671,27],[669,4,669,27],[670,2,676,3],[670,4,670,27],[671,4,671,5],[671,6,671,7],[671,8,671,9],[671,10,671,11],[671,12,671,13],[671,14,671,15],[671,16,671,17],[673,22,673,23],[673,24,673,25],[673,26,673,27],[674,4,674,5],[674,6,674,27],[675,4,675,5],[675,6,676,27],[659,25,659,27],[660,4,660,6],[660,7,660,9],[660,10,660,12],[660,13,660,15],[660,16,660,18],[660,19,660,21],[660,22,660,24],[660,25,660,27],[657,2,666,3],[657,4,657,27],[658,4,658,27],[659,4,659,6],[659,7,659,9],[659,10,659,12],[659,13,659,15],[659,16,659,18],[659,19,659,21],[659,22,659,24],[664,6,664,26],[665,4,665,7],[665,9,665,11],[666,4,666,7],[666,9,666,11],[661,4,661,15],[661,16,662,27],[663,16,663,27],[649,8,649,27],[650,2,650,3],[650,4,650,27],[651,2,656,3],[651,4,651,7],[651,8,651,13],[646,2,649,3],[646,4,646,7],[646,8,646,9],[646,10,646,12],[647,4,647,7],[647,8,647,27],[648,4,648,7],[648,8,648,9],[648,10,648,12],[649,4,649,7],[652,4,656,4],[652,5,652,27],[653,5,656,27],[641,2,641,3],[641,4,641,27],[642,2,645,2],[642,4,642,27],[643,4,643,27],[644,4,644,27],[645,4,645,27],[638,4,638,5],[638,6,638,15],[638,16,638,17],[638,18,638,27],[640,4,640,27],[636,6,636,15],[636,16,636,17],[636,18,636,27],[637,4,637,5],[637,6,637,15],[637,16,637,17],[637,18,637,27],[634,2,638,3],[634,4,634,5],[634,6,634,15],[634,16,634,17],[634,18,634,27],[635,4,635,5],[635,6,635,15],[635,16,635,17],[635,18,635,27],[636,4,636,5],[639,2,640,3],[639,4,639,27],[632,2,632,3],[632,4,632,13],[632,14,632,17],[632,18,632,27],[633,2,633,3],[633,4,633,27],[628,20,628,27],[625,4,625,27],[626,4,626,11],[626,12,626,19],[626,20,626,27],[627,4,627,11],[627,12,627,19],[627,20,627,27],[628,4,628,11],[628,12,628,19],[629,4,629,11],[629,12,629,27],[630,4,630,11],[630,12,631,27],[631,4,631,11],[625,2,631,3],[624,4,624,5],[620,26,620,27],[621,4,621,5],[621,6,621,7],[621,8,621,9],[621,10,621,11],[621,12,621,13],[621,14,621,15],[621,16,621,17],[621,18,621,19],[621,20,621,21],[620,14,620,15],[620,16,620,17],[620,18,620,19],[620,20,620,21],[620,22,620,23],[620,24,620,25],[620,4,620,5],[620,6,620,7],[620,8,620,9],[620,10,620,11],[620,12,620,13],[616,2,616,3],[616,4,616,27],[611,4,611,6],[611,7,611,9],[611,10,611,12],[611,13,611,15],[610,4,610,6],[610,7,610,9],[610,10,610,12],[610,13,610,15],[619,18,619,19],[619,20,619,21],[619,22,619,23],[619,24,619,25],[619,26,619,27],[617,4,617,27],[618,2,624,3],[618,4,618,27],[619,4,619,5],[619,6,619,7],[619,8,619,9],[619,10,619,11],[619,12,619,13],[619,14,619,15],[619,16,619,17],[621,22,621,23],[621,24,621,25],[621,26,621,27],[622,4,622,5],[622,6,622,27],[623,4,623,5],[623,6,624,27],[607,25,607,27],[608,4,608,6],[608,7,608,9],[608,10,608,12],[608,13,608,15],[608,16,608,18],[608,19,608,21]],"merged_total":2732,"flags":["merged_cut"]}
[]
[null,null,"別紙１"]
[null,null,"地方と連携した地球温暖化対策活動推進事業実施計画書"]
[null,null,{"$f":"様式第１_応募申請書!C18","v":"＜　　　　　事業名を選択して下さい。           ＞ "}]
[]
[null,"事業名",null,{"$f":"IF(C4=\"（地方公共団体と連携したCO2排出削減促進事業）\",\"地方公共団体と連携したCO2排出削減促進事業\",IF(C4=\"（民間企業等が地方公共団体と連携して行う地球温暖化対策事業）\",\"民間企業等が地方公共団体と連携して行う地球温暖化対策事業\",\"\"))","v":""}]
[null,"事業実施の\n団体名",null,{"$f":"IF(様式第１_応募申請書!N13=0,\"\",様式第１_応募申請書!N13)","v":""}]
[null,"事業実施の\n担当者",null,"事業実施の代表者"]
[null,null,null,"氏名","事業者名・役職名",null,null,null,null,null,null,null,null,null,null,null,null,null,null,"所在地"]
[null,null,null,{"$f":"IF(様式第１_応募申請書!R14=0,\"\",様式第１_応募申請書!R14)","v":""},{"$f":"IF(様式第１_応募申請書!N13=0,\"\",(様式第１_応募申請書!N13))","v":""},null,null,null,null,"・",{"$f":"IF(様式第１_応募申請書!N14=0,\"\",(様式第１_応募申請書!N14))","v":""},null,null,null,null,null,null,null,null,"郵便番号"]
[null,null,null,"電話番号","FAX番号",null,null,null,null,"E-mailアドレス",null,null,null,null,null,null,null,null,null,{"$f":"IF(様式第１_応募申請書!N11=0,\"\",様式第１_応募申請書!N11)","v":""}]
[]
[null,null,null,"事業実施の担当者（事業の窓口となる方）"]
[null,null,null,"氏名","事業者名・部署名・役職名",null,null,null,null,null,null,null,null,null,null,null,null,null,null,"所在地"]
[null,null,null,{"$f":"IF(様式第１_応募申請書!L30=0,\"\",様式第１_応募申請書!L30)","v":""},"事業者名",null,null,null,null,{"$f":"D7","v":""},null,null,null,null,null,null,null,null,null,"郵便番号",null,null,{"$f":"IF(様式第１_応募申請書!$L$26=0,\"\",(様式第１_応募申請書!$L$26))","v":""}]
[null,null,null,null,"部署名",null,null,null,null,{"$f":"IF(様式第１_応募申請書!L28=0,\"\",様式第１_応募申請書!L28)","v":""},null,null,null,null,null,null,null,null,null,{"$f":"IF(様式第１_応募申請書!L27=0,\"\",様式第１_応募申請書!L27)","v":""}]
[null,null,null,null,"役職名",null,null,null,null,{"$f":"IF(様式第１_応募申請書!L29=0,\"\",様式第１_応募申請書!L29)","v":""}]
[null,null,null,"電話番号","FAX番号",null,null,null,null,"E-mailアドレス",null,null,null,null,null,null,null,null,null,"備　　考"]
[null,null,null,{"$f":"IF(様式第１_応募申請書!L31=0,\"\",様式第１_応募申請書!L31)","v":""},{"$f":"IF(様式第１_応募申請書!L32=0,\"\",様式第１_応募申請書!L32)","v":""},null,null,null,null,{"$f":"IF(様式第１_応募申請書!L33=0,\"\",様式第１_応募申請書!L33)","v":""}]
[null,"共同事業者",null,"団体等の名称","事業実施責任者"]
[null,null,null,null,"氏名",null,null,null,null,"所属・役職名",null,null,null,null,null,null,"電話・FAX番号",null,null,null,null,null,"E-Mailアドレス"]
[]
[]
[]
[]
[]
[]
[null,"＜事業の目的＞\n本提案を推進していく上で、どのような目的をもって実施するのかを記載してください。"]
[null,null,null,null,null,null,null,null,null,null,null,null,null,null,null,null,null,null,null,null,null,null,null,null,null,null,null,null,null,null,null,null,"＜全体＞"]
[]
[null,null,null,null,null,null,null,null,null,null,null,null,null,null,null,null,null,null,null,null,null,null,null,null,null,null,null,null,null,null,null,null,"①","②",null,"③","④","⑤","⑥","⑦","⑧","⑨","⑩","⑪","⑫","⑬",null,null,null,null,null,null,null,null,null,null,null,null,null,"a)","b)","c)","d)"]
[null,null,null,null,null,null,null,null,null,null,null,null,null,null,null,null,null,null,null,null,null,null,null,null,null,null,null,null,null,null,null,null,"省ｴﾈ家電","省ｴﾈ住宅",null,"ｴｺｶｰ","ｸｰﾙﾋﾞｽﾞ","ｳｫｰﾑﾋﾞｽﾞ","照明の\n高効率利用","ｴｺﾄﾞﾗｲﾌﾞ","ｶｰｼｪｱ","ｽﾏｰﾄﾑｰﾌﾞ","低炭素物流","再エネ","食品ロス","その他"]
[null,null,null,null,null,null,null,null,null,null,null,null,null,null,null,null,null,null,null,null,null,null,null,null,null,null,null,null,null,null,null,null,{"$f":"COUNTIFS(AG$48:AG$781,1)+COUNTIFS(AG$48:AG$781,TRUE)","v":0},{"$f":"COUNTIFS(AH$48:AH$781,1)+COUNTIFS(AH$48:AH$781,TRUE)","v":0},null,{"$f":"COUNTIFS(AJ$48:AJ$781,1)+COUNTIFS(AJ$48:AJ$781,TRUE)","v":0},0,0,0,0,0,0,0,0,0,0,0,0,0,0,0,0,0,0,0,0,0,null,null,{"$f":"COUNTIFS(BH$48:BH$789,1)+COUNTIFS(BH$48:BH$789,TRUE)","v":0},{"$f":"COUNTIFS(BI$48:BI$789,1)+COUNTIFS(BI$48:BI$789,TRUE)","v":0},{"$f":"COUNTIFS(BJ$48:BJ$789,1)+COUNTIFS(BJ$48:BJ$789,TRUE)","v":0},{"$f":"COUNTIFS(BK$48:BK$789,1)+COUNTIFS(BK$48:BK$789,TRUE)","v":0}]
[]
[]
[]
[]
[]
[]
[]
[null,"＜事業の内容＞"]
[]
[null,"実施する全ての事業について、それぞれの内容・規模、地域団体との連携等を記入してください。"]
[]
[null,null,"項目",null,"内容"]
[null,null,"事業1","事業名"]
[null,null,"行動変容テーマ",null,"※公募要領　別表第１　で対象とする補助事業の内容に合致していること。\n※該当するテーマすべてをチェックしてください。"]
[null,null,null,null,"①",null,"②",null,"③",null,"④",null,"⑤",null,"⑥",null,"⑦",null,"⑧",null,"⑨",null,"⑩",null,"⑪",null,"⑫",null,null,null,null,null,"①","②",null,"③","④","⑤","⑥","⑦","⑧","⑨","⑩","⑪","⑫","⑬",null,null,null,null,null,null,null,null,null,null,null,null,null,"a)","b)","c)","d)"]
[null,null,null,null,"省ｴﾈ家電",null,"省ｴﾈ住宅",null,"ｴｺｶｰ",null,"ｸｰﾙﾋﾞｽﾞ",null,"ｳｫｰﾑﾋﾞｽﾞ",null,"照明の\n高効率利用",null,"ｴｺﾄﾞﾗｲﾌﾞ",null,"ｶｰｼｪｱ",null,"ｽﾏｰﾄﾑｰﾌﾞ",null,"低炭素物流",null,"再エネ",null,"食品ロス",null,null,null,null,null,"省ｴﾈ家電","省ｴﾈ住宅",null,"ｴｺｶｰ","ｸｰﾙﾋﾞｽﾞ","ｳｫｰﾑﾋﾞｽﾞ","照明の\n高効率利用","ｴｺﾄﾞﾗｲﾌﾞ","ｶｰｼｪｱ","ｽﾏｰﾄﾑｰﾌﾞ","低炭素物流","再エネ","食品ロス","その他",null,null,null,null,null,null,null,null,null,null,null,null,null,false,false,false,false,{"$f":"COUNTIFS($BH49:$BK49,\"TRUE\")","v":0}]
[null,null,null,null,null,null,null,null,null,null,null,null,null,null,null,null,null,null,null,null,null,null,null,null,null,null,null,null,null,null,null,null,false,false,null,false,false,false,false,false,false,false,false,false,false,false,null,null,null,null,null,null,null,null,null,null,null,{"$f":"COUNTIFS($AG50:BE50,\"TRUE\")","v":0}]
[null,null,null,null,"⑬",null,"↓ ※①～⑫以外のテーマを設定する場合、具体的に記載してください。"]
[null,null,null,null,"その他"]
[]
[null,null,"訴求手法",null,"※訴求手法については、該当する欄にチェックしてください。"]
[null,null,null,null,"a) 情報発信型（受動型）",null,null,null,null,null,null,null,"b) 情報発信型（能動型）",null,null,null,null,null,null,null,"c) 双方向体験交流型"]
[null,null,null,null,"オンラインイベント・\nテレビ・ラジオ等",null,null,null,null,null,null,null,"講演会・パネル展示等",null,null,null,null,null,null,null,"試乗・体験会、省ｴﾈ診断等"]
[]
[null,null,null,null,"d) 双方向ＷＥＢ等配信型",null,null,null,null,null,null,null,"※d) については使用する媒体等を記載してください。"]
[null,null,null,null,"（新手法）"]
[]
[null,null,"実施期間",null,null,null,null,null,null,null,null,null,null,null,"～"]
[null,null,"（備考）"]
[null,null,"実施日\n（※同一事業内で、\n同一の内容・場所において\n複数日実施する場合）",null,1,null,null,null,null,null,null,null,null,null,null,null,6]
[null,null,null,null,2,null,null,null,null,null,null,null,null,null,null,null,7]
[null,null,null,null,3,null,null,null,null,null,null,null,null,null,null,null,8]
[null,null,null,null,4,null,null,null,null,null,null,null,null,null,null,null,9]
[null,null,null,null,5,null,null,null,null,null,null,null,null,null,null,null,10]
[null,null,"事業の概要",null,"※放送による啓発の場合は、尺、制作数、放送回数について具体的に記入してください。"]
[]
[null,null,"地域団体との連携"]
[null,null,"効果的な\n実施の\nための工夫","主な訴求対象"]
[null,null,null,"訴求メッセージ"]
[null,null,null,"事業実施時期の\n設定根拠"]
[null,null,null,"具体的な訴求方法\n・\nその他の工夫"]
[null,null,"目標アウトプット\n（リーチ数）\n（想定及び実績）",null,"昨年度実績",null,null,null,"計"]
[null,null,null,null,"昨年度実績算出根拠"]
[null,null,null,null,"想定",null,null,null,"計",null,0]
[null,null,null,null,"算出方法"]
[null,null,"目標アウトカム（想定及び実績）"]
[null,null,"エネルギー起源CO2排出削減量（想定）",null,"CO2排出削減量",null,null,null,{"$f":"AU95","v":0},null,null,null,null,null,"（t-CO2）",null,null,null,null,null,null,null,null,null,null,null,null,null,null,null,"行動変容テーマ",null,"①","②省ｴﾈ住宅",null,"③","④","⑤","⑥","⑦","⑧","⑨","⑩※3","⑪","⑫","⑬"]
[null,null,null,null,"特記事項","※普及啓発人数の算定方法、平均値以外の変容率を使用する場合の考え方、行動変容テーマ「その他」で計算表を使用せず、独自にCO2削減量を算出した場合の変容率・変容係数の考え方、その他算定に影響を及ぼす事項等を記入して下さい。",null,null,null,null,null,null,null,null,null,null,null,null,null,null,null,null,null,null,null,null,null,null,null,null,null,null,"省ｴﾈ家電","ZEH","断熱リフォーム","ｴｺｶｰ","ｸｰﾙﾋﾞｽﾞ","ｳｫｰﾑﾋﾞｽﾞ","照明の高効率利用","ｴｺﾄﾞﾗｲﾌﾞ","ｶｰｼｪｱ","ｽﾏｰﾄﾑｰﾌﾞ","低炭素物流","再エネ","食品ロス","その他"]
[]
[null,null,null,null,null,null,null,null,null,null,null,null,null,null,null,null,null,null,null,null,null,null,null,null,null,null,null,null,null,null,"ラジオ等※1","①普及啓発人数（人）"]
[null,null,null,null,null,null,null,null,null,null,null,null,null,null,null,null,null,null,null,null,null,null,null,null,null,null,null,null,null,null,null,"②行動変容率（%）",2.3E-2,2E-3,0.02,0.03,0.11899999999999999,0.11899999999999999,2.3E-2,0.11899999999999999,0.104,0.11899999999999999,0.104,2.3E-2,0.156]
[null,null,null,null,null,null,null,null,null,null,null,null,null,null,null,null,null,null,null,null,null,null,null,null,null,null,null,null,null,null,null,"③CO2排出原単位（t-CO2/人）",{"$f":"'（参考）エネルギー起源CO2排出削減量の算出シート（計画時）'!$L$12","v":1.62},{"$f":"'（参考）エネルギー起源CO2排出削減量の算出シート（計画時）'!$L$14","v":153},{"$f":"'（参考）エネルギー起源CO2排出削減量の算出シート（計画時）'!$L$16","v":10},{"$f":"'（参考）エネルギー起源CO2排出削減量の算出シート（計画時）'!$L$18","v":5.18},{"$f":"'（参考）エネルギー起源CO2排出削減量の算出シート（計画時）'!$L$20","v":2.3E-2},{"$f":"'（参考）エネルギー起源CO2排出削減量の算出シート（計画時）'!$L$22","v":1.7999999999999999E-2},{"$f":"'（参考）エネルギー起源CO2排出削減量の算出シート（計画時）'!$L$24","v":2.81},{"$f":"'（参考）エネルギー起源CO2排出削減量の算出シート（計画時）'!$L$26","v":0.13100000000000001},{"$f":"'（参考）エネルギー起源CO2排出削減量の算出シート（計画時）'!$L$28","v":0.59},{"$f":"'（参考）エネルギー起源CO2排出削減量の算出シート（計画時）'!$L$30","v":0.19},{"$f":"'（参考）エネルギー起源CO2排出削減量の算出シート（計画時）'!$L$32","v":5.8500000000000002E-4},{"$f":"'（参考）エネルギー起源CO2排出削減量の算出シート（計画時）'!$L$34","v":0.24},{"$f":"'（参考）エネルギー起源CO2排出削減量の算出シート（計画時）'!$L$36","v":1.5E-3},{"$f":"'（参考）エネルギー起源CO2排出削減量の算出シート（計画時）'!$L$38","v":0.13800000000000001},"小計",null,null,null,{"$f":"AG85-BX85","v":0},{"$f":"AH85-BY85","v":0},0,0,0,0,0,0,0,0,0,0,0,0,null,{"$f":"SUM(AY85:BM85)","v":0},null,null,null,null,null,null,null,null,null,1.62,153,10,5.18,2.3E-2,1.7999999999999999E-2,2.81,0.13100000000000001,0.59,0.19,5.8500000000000002E-4,0.24,1.5E-3,0.13800000000000001]
[null,null,"効果検証\n（アンケート）予定",null,"※アンケートの実施予定をプルダウンより選択してください。",null,null,null,null,null,null,null,null,null,null,null,null,null,null,null,null,null,null,null,null,null,null,null,null,null,null,"CO2排出削減効果（t-CO2/事業）",{"$f":"AG83*AG84*AG85","v":0},{"$f":"AH83*AH84*AH85","v":0},{"$f":"AI83*AI84*AI85","v":0},{"$f":"AJ83*AJ84*AJ85","v":0},{"$f":"AK83*AK84*AK85","v":0},0,0,0,0,0,{"$f":"AQ83*AQ84*AQ85*11.400933956","v":0},0,0,{"$f":"AT83*AT85","v":0},{"$f":"SUM(AG86:AT86)","v":0}]
[null,null,null,null,"公募要領に規定のアンケート",null,null,null,null,null,null,null,null,null,null,null,null,null,null,null,null,null,null,null,null,null,null,null,null,null,"※1 訴求手法の a )の場合"]
[null,null,null,null,"省エネ家電",null,null,"省エネ住宅",null,null,"エコカー",null,null,"クールビズ",null,null,"ウォームビズ",null,null,"照明の\n効率的利用",null,null,"ｴｺﾄﾞﾗｲﾌﾞ",null,null,"カーシェア",null,null,null,null,"イベント等※2","①普及啓発人数（人）"]
[null,null,null,null,"- 選択 -",null,null,"- 選択 -",null,null,"- 選択 -",null,null,"- 選択 -",null,null,"- 選択 -",null,null,"- 選択 -",null,null,"- 選択 -",null,null,"- 選択 -",null,null,null,null,null,"②意識変容率（%）",0.25800000000000001,0.34599999999999997,0.26100000000000001,0.23400000000000001,0.39600000000000002,0.39600000000000002,0.25800000000000001,0.39600000000000002,0.69799999999999995,0.39600000000000002,0.69799999999999995,0.25800000000000001,0.79]
[null,null,null,null,"公募要領に規定のアンケート",null,null,null,null,null,null,null,null,null,null,null,"貴事業者独自のアンケート",null,null,null,null,null,null,null,null,null,null,null,null,null,null,"③行動変容係数",{"$f":"'（参考）エネルギー起源CO2排出削減量の算出シート（計画時）'!$J$48","v":0.24031007751937983},{"$f":"'（参考）エネルギー起源CO2排出削減量の算出シート（計画時）'!$J$50","v":6.6473988439306367E-2},{"$f":"'（参考）エネルギー起源CO2排出削減量の算出シート（計画時）'!$J$52","v":0.27203065134099613},{"$f":"'（参考）エネルギー起源CO2排出削減量の算出シート（計画時）'!$J$54","v":0.28205128205128205},{"$f":"'（参考）エネルギー起源CO2排出削減量の算出シート（計画時）'!$J$56","v":0.72727272727272718},{"$f":"'（参考）エネルギー起源CO2排出削減量の算出シート（計画時）'!$J$58","v":0.72727272727272718},{"$f":"'（参考）エネルギー起源CO2排出削減量の算出シート（計画時）'!$J$60","v":0.24031007751937983},{"$f":"'（参考）エネルギー起源CO2排出削減量の算出シート（計画時）'!$J$62","v":0.72727272727272718},{"$f":"'（参考）エネルギー起源CO2排出削減量の算出シート（計画時）'!$J$64","v":0.10744985673352436},{"$f":"'（参考）エネルギー起源CO2排出削減量の算出シート（計画時）'!$J$66","v":0.72727272727272718},{"$f":"'（参考）エネルギー起源CO2排出削減量の算出シート（計画時）'!$J$68","v":0.10744985673352436},{"$f":"'（参考）エネルギー起源CO2排出削減量の算出シート（計画時）'!$J$70","v":0.24031007751937983},{"$f":"'（参考）エネルギー起源CO2排出削減量の算出シート（計画時）'!$J$72","v":0.43037974683544306},null,null,null,null,null,{"$f":"AG90-BX90","v":0},{"$f":"AH90-BY90","v":0},0,0,0,0,0,0,0,0,0,0,0,0,null,{"$f":"SUM(AY90:BM90)","v":0},null,null,null,null,null,null,null,null,null,0.24031007751937983,6.6473988439306367E-2,0.27203065134099613,0.28205128205128205,0.72727272727272718,0.72727272727272718,0.24031007751937983,0.72727272727272718,0.10744985673352436,0.72727272727272718,0.10744985673352436,0.24031007751937983,0.43037974683544306]
[null,null,null,null,"ｽﾏｰﾄﾑｰﾌﾞ",null,null,"低炭素物流",null,null,"再エネ",null,null,"食品ロス",null,null,null,null,null,null,null,null,null,null,null,null,null,null,null,null,null,"④CO2排出原単位（t-CO2/人）",{"$f":"'（参考）エネルギー起源CO2排出削減量の算出シート（計画時）'!$L$48","v":1.62},{"$f":"'（参考）エネルギー起源CO2排出削減量の算出シート（計画時）'!$L$50","v":153},{"$f":"'（参考）エネルギー起源CO2排出削減量の算出シート（計画時）'!$L$52","v":10},{"$f":"'（参考）エネルギー起源CO2排出削減量の算出シート（計画時）'!$L$54","v":5.18},{"$f":"'（参考）エネルギー起源CO2排出削減量の算出シート（計画時）'!$L$56","v":2.3E-2},{"$f":"'（参考）エネルギー起源CO2排出削減量の算出シート（計画時）'!$L$58","v":1.7999999999999999E-2},{"$f":"'（参考）エネルギー起源CO2排出削減量の算出シート（計画時）'!$L$60","v":2.81},{"$f":"'（参考）エネルギー起源CO2排出削減量の算出シート（計画時）'!$L$62","v":0.13100000000000001},{"$f":"'（参考）エネルギー起源CO2排出削減量の算出シート（計画時）'!$L$64","v":0.59},{"$f":"'（参考）エネルギー起源CO2排出削減量の算出シート（計画時）'!$L$66","v":0.19},{"$f":"'（参考）エネルギー起源CO2排出削減量の算出シート（計画時）'!$L$68","v":5.8500000000000002E-4},{"$f":"'（参考）エネルギー起源CO2排出削減量の算出シート（計画時）'!$L$70","v":0.24},{"$f":"'（参考）エネルギー起源CO2排出削減量の算出シート（計画時）'!$L$72","v":1.5E-3},{"$f":"'（参考）エネルギー起源CO2排出削減量の算出シート（計画時）'!$L$74","v":0.13800000000000001},"小計",null,null,null,{"$f":"AG91-BX91","v":0},0,0,0,0,0,0,0,0,0,0,0,0,0,null,{"$f":"SUM(AY91:BM91)","v":0},null,null,null,null,null,null,null,null,null,1.62,153,10,5.18,2.3E-2,1.7999999999999999E-2,2.81,0.13100000000000001,0.59,0.19,5.8500000000000002E-4,0.24,1.5E-3,0.13800000000000001]
[null,null,null,null,"- 選択 -",null,null,"- 選択 -",null,null,"- 選択 -",null,null,"- 選択 -",null,null,"- 選択 -",null,null,null,null,null,null,null,null,null,null,null,null,null,null,"CO2排出削減効果（t-CO2/事業）",{"$f":"AG88*AG89*AG90*AG91","v":0},0,0,0,0,0,{"$f":"AM88*AM89*AM90*AM91","v":0},0,0,0,{"$f":"AQ88*AQ89*AQ90*AQ91*11.400933956","v":0},0,0,{"$f":"AT88*AT91","v":0},{"$f":"SUM(AG92:AT92)","v":0},null,null,null,null,null,null,null,null,null,null,null,null,null,null,null,null,null,null,{"$f":"SUM(BN85:BN91)","v":0}]
[null,null,null,null,"内容（",null,null,null,null,null,null,null,null,null,null,null,null,null,null,null,null,null,null,null,null,null,null,"）",null,null,"※2 訴求手法の b),c),d) のいずれかの場合",null,"※3 ⑩に関しては、人数から再配達個数を自動計算し、再配達1個当たりのCO2排出原単位から算出"]
[null,null,null,null,"昨年度実績",null,null,null,"計",null,null,null,"枚",null,"※複数ある場合は、アンケート合計回収数",null,null,null,null,null,null,null,null,null,null,null,null,null,null,null,"上記の合計",null,null,null,null,null,null,null,null,null,null,null,null,null,null,null,"合計"]
[null,null,null,null,"目標回収数",null,null,null,"計",null,null,null,"枚",null,"※複数ある場合は、アンケート合計回収数",null,null,null,null,null,null,null,null,null,null,null,null,null,null,null,null,"CO2排出削減効果（t-CO2/事業）",{"$f":"AG86+AG92","v":0},{"$f":"AH86+AH92","v":0},0,0,0,0,0,0,0,0,0,0,0,0,{"$f":"SUM(AG95:AT95)","v":0}]
[null,null,"（実施する事業については、別紙を使用せず、必ず上記記載例に沿って事業実施計画に記載すること）",null,null,null,null,null,null,null,null,null,null,null,null,null,null,null,null,null,null,null,null,null,null,null,null,null,null,null,null,null,null,null,null,null,null,null,null,null,"※合計値は自動的に別紙1に転記されます"]
[null,null,"項目",null,"内容"]
[null,null,"事業2","事業名"]
[null,null,"行動変容テーマ",null,"※公募要領　別表第１　で対象とする補助事業の内容に合致していること。\n※該当するテーマすべてをチェックしてください。"]
[null,null,null,null,"①",null,"②",null,"③",null,"④",null,"⑤",null,"⑥",null,"⑦",null,"⑧",null,"⑨",null,"⑩",null,"⑪",null,"⑫",null,null,null,null,null,"①","②",null,"③","④","⑤","⑥","⑦","⑧","⑨","⑩","⑪","⑫","⑬",null,null,null,null,null,null,null,null,null,null,null,null,null,"a)","b)","c)","d)"]
[null,null,null,null,"省ｴﾈ家電",null,"省ｴﾈ住宅",null,"ｴｺｶｰ",null,"ｸｰﾙﾋﾞｽﾞ",null,"ｳｫｰﾑﾋﾞｽﾞ",null,"照明の\n高効率利用",null,"ｴｺﾄﾞﾗｲﾌﾞ",null,"ｶｰｼｪｱ",null,"ｽﾏｰﾄﾑｰﾌﾞ",null,"低炭素物流",null,"再エネ",null,"食品ロス",null,null,null,null,null,"省ｴﾈ家電","省ｴﾈ住宅",null,"ｴｺｶｰ","ｸｰﾙﾋﾞｽﾞ","ｳｫｰﾑﾋﾞｽﾞ","照明の\n高効率利用","ｴｺﾄﾞﾗｲﾌﾞ","ｶｰｼｪｱ","ｽﾏｰﾄﾑｰﾌﾞ","低炭素物流","再エネ","食品ロス","その他",null,null,null,null,null,null,null,null,null,null,null,null,null,false,false,false,false,{"$f":"COUNTIFS($BH101:$BK101,\"TRUE\")","v":0}]
[null,null,null,null,null,null,null,null,null,null,null,null,null,null,null,null,null,null,null,null,null,null,null,null,null,null,null,null,null,null,null,null,false,false,null,false,false,false,false,false,false,false,false,false,false,false,null,null,null,null,null,null,null,null,null,null,null,{"$f":"COUNTIFS($AG102:BE102,\"TRUE\")","v":0}]
[null,null,null,null,"⑬",null,"↓ ※①～⑫以外のテーマを設定する場合、具体的に記載してください。"]
[null,null,null,null,"その他"]
[]
[null,null,"訴求手法",null,"※訴求手法については、該当する欄にチェックしてください。"]
[null,null,null,null,"a) 情報発信型（受動型）",null,null,null,null,null,null,null,"b) 情報発信型（能動型）",null,null,null,null,null,null,null,"c) 双方向体験交流型"]
[null,null,null,null,"オンラインイベント・\nテレビ・ラジオ等",null,null,null,null,null,null,null,"講演会・パネル展示等",null,null,null,null,null,null,null,"試乗・体験会、省ｴﾈ診断等"]
[]
[null,null,null,null,"d) 双方向ＷＥＢ等配信型",null,null,null,null,null,null,null,"※d) については使用する媒体等を記載してください。"]
[null,null,null,null,"（新手法）"]
[]
[null,null,"実施期間",null,null,null,null,null,null,null,null,null,null,null,"～"]
[null,null,"（備考）"]
[null,null,"実施日\n（※同一事業内で、\n同一の内容・場所において\n複数日実施する場合）",null,1,null,null,null,null,null,null,null,null,null,null,null,6]
[null,null,null,null,2,null,null,null,null,null,null,null,null,null,null,null,7]
[null,null,null,null,3,null,null,null,null,null,null,null,null,null,null,null,8]
[null,null,null,null,4,null,null,null,null,null,null,null,null,null,null,null,9]
[null,null,null,null,5,null,null,null,null,null,null,null,null,null,null,null,10]
[null,null,"事業の概要",null,"※放送による啓発の場合は、尺、制作数、放送回数について具体的に記入してください。"]
[]
[null,null,"地域団体との連携"]
[null,null,"効果的な\n実施の\nための工夫","主な訴求対象"]
[null,null,null,"訴求メッセージ"]
[null,null,null,"事業実施時期の\n設定根拠"]
[null,null,null,"具体的な訴求方法\n・\nその他の工夫"]
[null,null,"目標アウトプット\n（リーチ数）\n（想定及び実績）",null,"昨年度実績",null,null,null,"計"]
[null,null,null,null,"昨年度実績算出根拠"]
[null,null,null,null,"想定",null,null,null,"計",null,0]
[null,null,null,null,"算出方法"]
[null,null,"目標アウトカム（想定及び実績）"]
[null,null,"エネルギー起源CO2排出削減量（想定）",null,"CO2排出削減量",null,null,null,{"$f":"AU147","v":0},null,null,null,null,null,"（t-CO2）",null,null,null,null,null,null,null,null,null,null,null,null,null,null,null,"行動変容テーマ",null,"①","②省ｴﾈ住宅",null,"③","④","⑤","⑥","⑦","⑧","⑨","⑩※3","⑪","⑫","⑬"]
[null,null,null,null,"特記事項","※普及啓発人数の算定方法、平均値以外の変容率を使用する場合の考え方、行動変容テーマ「その他」で計算表を使用せず、独自にCO2削減量を算出した場合の変容率・変容係数の考え方、その他算定に影響を及ぼす事項等を記入して下さい。",null,null,null,null,null,null,null,null,null,null,null,null,null,null,null,null,null,null,null,null,null,null,null,null,null,null,"省ｴﾈ家電","ZEH","断熱リフォーム","ｴｺｶｰ","ｸｰﾙﾋﾞｽﾞ","ｳｫｰﾑﾋﾞｽﾞ","照明の高効率利用","ｴｺﾄﾞﾗｲﾌﾞ","ｶｰｼｪｱ","ｽﾏｰﾄﾑｰﾌﾞ","低炭素物流","再エネ","食品ロス","その他"]
[]
[null,null,null,null,null,null,null,null,null,null,null,null,null,null,null,null,null,null,null,null,null,null,null,null,null,null,null,null,null,null,"ラジオ等※1","①普及啓発人数（人）"]
[null,null,null,null,null,null,null,null,null,null,null,null,null,null,null,null,null,null,null,null,null,null,null,null,null,null,null,null,null,null,null,"②行動変容率（%）",2.3E-2,2E-3,0.02,0.03,0.11899999999999999,0.11899999999999999,2.3E-2,0.11899999999999999,0.104,0.11899999999999999,0.104,2.3E-2,0.156]
[null,null,null,null,null,null,null,null,null,null,null,null,null,null,null,null,null,null,null,null,null,null,null,null,null,null,null,null,null,null,null,"③CO2排出原単位（t-CO2/人）",{"$f":"'（参考）エネルギー起源CO2排出削減量の算出シート（計画時）'!$L$12","v":1.62},{"$f":"'（参考）エネルギー起源CO2排出削減量の算出シート（計画時）'!$L$14","v":153},{"$f":"'（参考）エネルギー起源CO2排出削減量の算出シート（計画時）'!$L$16","v":10},{"$f":"'（参考）エネルギー起源CO2排出削減量の算出シート（計画時）'!$L$18","v":5.18},{"$f":"'（参考）エネルギー起源CO2排出削減量の算出シート（計画時）'!$L$20","v":2.3E-2},{"$f":"'（参考）エネルギー起源CO2排出削減量の算出シート（計画時）'!$L$22","v":1.7999999999999999E-2},{"$f":"'（参考）エネルギー起源CO2排出削減量の算出シート（計画時）'!$L$24","v":2.81},{"$f":"'（参考）エネルギー起源CO2排出削減量の算出シート（計画時）'!$L$26","v":0.13100000000000001},{"$f":"'（参考）エネルギー起源CO2排出削減量の算出シート（計画時）'!$L$28","v":0.59},{"$f":"'（参考）エネルギー起源CO2排出削減量の算出シート（計画時）'!$L$30","v":0.19},{"$f":"'（参考）エネルギー起源CO2排出削減量の算出シート（計画時）'!$L$32","v":5.8500000000000002E-4},{"$f":"'（参考）エネルギー起源CO2排出削減量の算出シート（計画時）'!$L$34","v":0.24},{"$f":"'（参考）エネルギー起源CO2排出削減量の算出シート（計画時）'!$L$36","v":1.5E-3},{"$f":"'（参考）エネルギー起源CO2排出削減量の算出シート（計画時）'!$L$38","v":0.13800000000000001},"小計",null,null,null,{"$f":"AG85-AG137","v":0},{"$f":"AH85-AH137","v":0},0,0,0,0,0,0,0,0,0,0,0,0,null,{"$f":"SUM(AY137:BM137)","v":0}]
[null,null,"効果検証\n（アンケート）予定",null,"※アンケートの実施予定をプルダウンより選択してください。",null,null,null,null,null,null,null,null,null,null,null,null,null,null,null,null,null,null,null,null,null,null,null,null,null,null,"CO2排出削減効果（t-CO2/事業）",{"$f":"AG135*AG136*AG137","v":0},{"$f":"AH135*AH136*AH137","v":0},{"$f":"AI135*AI136*AI137","v":0},{"$f":"AJ135*AJ136*AJ137","v":0},{"$f":"AK135*AK136*AK137","v":0},0,0,0,0,0,{"$f":"AQ135*AQ136*AQ137*11.400933956","v":0},0,0,{"$f":"AT135*AT137","v":0},{"$f":"SUM(AG138:AT138)","v":0}]
[null,null,null,null,"公募要領に規定のアンケート",null,null,null,null,null,null,null,null,null,null,null,null,null,null,null,null,null,null,null,null,null,null,null,null,null,"※1 訴求手法の a )の場合"]
[null,null,null,null,"省エネ家電",null,null,"省エネ住宅",null,null,"エコカー",null,null,"クールビズ",null,null,"ウォームビズ",null,null,"照明の\n効率的利用",null,null,"ｴｺﾄﾞﾗｲﾌﾞ",null,null,"カーシェア",null,null,null,null,"イベント等※2","①普及啓発人数（人）"]
[null,null,null,null,"- 選択 -",null,null,"- 選択 -",null,null,"- 選択 -",null,null,"- 選択 -",null,null,"- 選択 -",null,null,"- 選択 -",null,null,"- 選択 -",null,null,"- 選択 -",null,null,null,null,null,"②意識変容率（%）",0.25800000000000001,0.34599999999999997,0.26100000000000001,0.23400000000000001,0.39600000000000002,0.39600000000000002,0.25800000000000001,0.39600000000000002,0.69799999999999995,0.39600000000000002,0.69799999999999995,0.25800000000000001,0.79]
[null,null,null,null,"公募要領に規定のアンケート",null,null,null,null,null,null,null,null,null,null,null,"貴事業者独自のアンケート",null,null,null,null,null,null,null,null,null,null,null,null,null,null,"③行動変容係数",{"$f":"'（参考）エネルギー起源CO2排出削減量の算出シート（計画時）'!$J$48","v":0.24031007751937983},{"$f":"'（参考）エネルギー起源CO2排出削減量の算出シート（計画時）'!$J$50","v":6.6473988439306367E-2},{"$f":"'（参考）エネルギー起源CO2排出削減量の算出シート（計画時）'!$J$52","v":0.27203065134099613},{"$f":"'（参考）エネルギー起源CO2排出削減量の算出シート（計画時）'!$J$54","v":0.28205128205128205},{"$f":"'（参考）エネルギー起源CO2排出削減量の算出シート（計画時）'!$J$56","v":0.72727272727272718},{"$f":"'（参考）エネルギー起源CO2排出削減量の算出シート（計画時）'!$J$58","v":0.72727272727272718},{"$f":"'（参考）エネルギー起源CO2排出削減量の算出シート（計画時）'!$J$60","v":0.24031007751937983},{"$f":"'（参考）エネルギー起源CO2排出削減量の算出シート（計画時）'!$J$62","v":0.72727272727272718},{"$f":"'（参考）エネルギー起源CO2排出削減量の算出シート（計画時）'!$J$64","v":0.10744985673352436},{"$f":"'（参考）エネルギー起源CO2排出削減量の算出シート（計画時）'!$J$66","v":0.72727272727272718},{"$f":"'（参考）エネルギー起源CO2排出削減量の算出シート（計画時）'!$J$68","v":0.10744985673352436},{"$f":"'（参考）エネルギー起源CO2排出削減量の算出シート（計画時）'!$J$70","v":0.24031007751937983},{"$f":"'（参考）エネルギー起源CO2排出削減量の算出シート（計画時）'!$J$72","v":0.43037974683544306},null,null,null,null,null,{"$f":"AG90-AG142","v":0},{"$f":"AH90-AH142","v":0},{"$f":"AI90-AI142","v":0},{"$f":"AJ90-AJ142","v":0},{"$f":"AK90-AK142","v":0},{"$f":"AL90-AL142","v":0},{"$f":"AM90-AM142","v":0},{"$f":"AN90-AN142","v":0},{"$f":"AO90-AO142","v":0},{"$f":"AP90-AP142","v":0},{"$f":"AQ90-AQ142","v":0},{"$f":"AR90-AR142","v":0},{"$f":"AS90-AS142","v":0},{"$f":"AT90-AT142","v":0},null,{"$f":"SUM(AY142:BM142)","v":0}]
[null,null,null,null,"ｽﾏｰﾄﾑｰﾌﾞ",null,null,"低炭素物流",null,null,"再エネ",null,null,"食品ロス",null,null,null,null,null,null,null,null,null,null,null,null,null,null,null,null,null,"④CO2排出原単位（t-CO2/人）",{"$f":"'（参考）エネルギー起源CO2排出削減量の算出シート（計画時）'!$L$48","v":1.62},{"$f":"'（参考）エネルギー起源CO2排出削減量の算出シート（計画時）'!$L$50","v":153},{"$f":"'（参考）エネルギー起源CO2排出削減量の算出シート（計画時）'!$L$52","v":10},{"$f":"'（参考）エネルギー起源CO2排出削減量の算出シート（計画時）'!$L$54","v":5.18},{"$f":"'（参考）エネルギー起源CO2排出削減量の算出シート（計画時）'!$L$56","v":2.3E-2},{"$f":"'（参考）エネルギー起源CO2排出削減量の算出シート（計画時）'!$L$58","v":1.7999999999999999E-2},{"$f":"'（参考）エネルギー起源CO2排出削減量の算出シート（計画時）'!$L$60","v":2.81},{"$f":"'（参考）エネルギー起源CO2排出削減量の算出シート（計画時）'!$L$62","v":0.13100000000000001},{"$f":"'（参考）エネルギー起源CO2排出削減量の算出シート（計画時）'!$L$64","v":0.59},{"$f":"'（参考）エネルギー起源CO2排出削減量の算出シート（計画時）'!$L$66","v":0.19},{"$f":"'（参考）エネルギー起源CO2排出削減量の算出シート（計画時）'!$L$68","v":5.8500000000000002E-4},{"$f":"'（参考）エネルギー起源CO2排出削減量の算出シート（計画時）'!$L$70","v":0.24},{"$f":"'（参考）エネルギー起源CO2排出削減量の算出シート（計画時）'!$L$72","v":1.5E-3},{"$f":"'（参考）エネルギー起源CO2排出削減量の算出シート（計画時）'!$L$74","v":0.13800000000000001},"小計",null,null,null,{"$f":"AG91-AG143","v":0},{"$f":"AH91-AH143","v":0},{"$f":"AI91-AI143","v":0},{"$f":"AJ91-AJ143","v":0},{"$f":"AK91-AK143","v":0},{"$f":"AL91-AL143","v":0},{"$f":"AM91-AM143","v":0},{"$f":"AN91-AN143","v":0},{"$f":"AO91-AO143","v":0},{"$f":"AP91-AP143","v":0},{"$f":"AQ91-AQ143","v":0},{"$f":"AR91-AR143","v":0},{"$f":"AS91-AS143","v":0},{"$f":"AT91-AT143","v":0},null,{"$f":"SUM(AY143:BM143)","v":0}]
[null,null,null,null,"- 選択 -",null,null,"- 選択 -",null,null,"- 選択 -",null,null,"- 選択 -",null,null,"- 選択 -",null,null,null,null,null,null,null,null,null,null,null,null,null,null,"CO2排出削減効果（t-CO2/事業）",{"$f":"AG140*AG141*AG142*AG143","v":0},0,0,0,0,0,0,0,0,0,{"$f":"AQ140*AQ141*AQ142*AQ143*11.400933956","v":0},0,0,{"$f":"AT140*AT143","v":0},{"$f":"SUM(AG144:AT144)","v":0},null,null,null,null,null,null,null,null,null,null,null,null,null,null,null,null,null,null,{"$f":"SUM(BN137:BN143)","v":0}]
[null,null,null,null,"内容（",null,null,null,null,null,null,null,null,null,null,null,null,null,null,null,null,null,null,null,null,null,null,"）",null,null,"※2 訴求手法の b),c),d) のいずれかの場合",null,"※3 ⑩に関しては、人数から再配達個数を自動計算し、再配達1個当たりのCO2排出原単位から算出"]
[null,null,null,null,"昨年度実績",null,null,null,"計",null,null,null,"枚",null,"※複数ある場合は、アンケート合計回収数",null,null,null,null,null,null,null,null,null,null,null,null,null,null,null,"上記の合計",null,null,null,null,null,null,null,null,null,null,null,null,null,null,null,"合計"]
[null,null,null,null,"目標回収数",null,null,null,"計",null,null,null,"枚",null,"※複数ある場合は、アンケート合計回収数",null,null,null,null,null,null,null,null,null,null,null,null,null,null,null,null,"CO2排出削減効果（t-CO2/事業）",{"$f":"AG138+AG144","v":0},{"$f":"AH138+AH144","v":0},0,0,0,0,0,0,0,0,0,0,0,0,{"$f":"SUM(AG147:AT147)","v":0}]
[null,null,null,null,null,null,null,null,null,null,null,null,null,null,null,null,null,null,null,null,null,null,null,null,null,null,null,null,null,null,null,null,null,null,null,null,null,null,null,null,"※合計値は自動的に別紙1に転記されます"]
[null,null,"項目",null,"内容"]
[null,null,"事業3","事業名"]
[null,null,"行動変容テーマ",null,"※公募要領　別表第１　で対象とする補助事業の内容に合致していること。\n※該当するテーマすべてをチェックしてください。"]
[null,null,null,null,"①",null,"②",null,"③",null,"④",null,"⑤",null,"⑥",null,"⑦",null,"⑧",null,"⑨",null,"⑩",null,"⑪",null,"⑫",null,null,null,null,null,"①","②",null,"③","④","⑤","⑥","⑦","⑧","⑨","⑩","⑪","⑫","⑬",null,null,null,null,null,null,null,null,null,null,null,null,null,"a)","b)","c)","d)"]
[null,null,null,null,"省ｴﾈ家電",null,"省ｴﾈ住宅",null,"ｴｺｶｰ",null,"ｸｰﾙﾋﾞｽﾞ",null,"ｳｫｰﾑﾋﾞｽﾞ",null,"照明の\n高効率利用",null,"ｴｺﾄﾞﾗｲﾌﾞ",null,"ｶｰｼｪｱ",null,"ｽﾏｰﾄﾑｰﾌﾞ",null,"低炭素物流",null,"再エネ",null,"食品ロス",null,null,null,null,null,"省ｴﾈ家電","省ｴﾈ住宅",null,"ｴｺｶｰ","ｸｰﾙﾋﾞｽﾞ","ｳｫｰﾑﾋﾞｽﾞ","照明の\n高効率利用","ｴｺﾄﾞﾗｲﾌﾞ","ｶｰｼｪｱ","ｽﾏｰﾄﾑｰﾌﾞ","低炭素物流","再エネ","食品ロス","その他",null,null,null,null,null,null,null,null,null,null,null,null,null,false,false,false,false,{"$f":"COUNTIFS($BH153:$BK153,\"TRUE\")","v":0}]
[null,null,null,null,null,null,null,null,null,null,null,null,null,null,null,null,null,null,null,null,null,null,null,null,null,null,null,null,null,null,null,null,false,false,null,false,false,false,false,false,false,false,false,false,false,false,null,null,null,null,null,null,null,null,null,null,null,{"$f":"COUNTIFS($AG154:BE154,\"TRUE\")","v":0}]
[null,null,null,null,"⑬",null,"↓ ※①～⑫以外のテーマを設定する場合、具体的に記載してください。"]
[null,null,null,null,"その他"]
[]
[null,null,"訴求手法",null,"※訴求手法については、該当する欄にチェックしてください。"]
[null,null,null,null,"a) 情報発信型（受動型）",null,null,null,null,null,null,null,"b) 情報発信型（能動型）",null,null,null,null,null,null,null,"c) 双方向体験交流型"]
[null,null,null,null,"オンラインイベント・\nテレビ・ラジオ等",null,null,null,null,null,null,null,"講演会・パネル展示等",null,null,null,null,null,null,null,"試乗・体験会、省ｴﾈ診断等"]
[]
[null,null,null,null,"d) 双方向ＷＥＢ等配信型",null,null,null,null,null,null,null,"※d) については使用する媒体等を記載してください。"]
[null,null,null,null,"（新手法）"]
[]
[null,null,"実施期間",null,null,null,null,null,null,null,null,null,null,null,"～"]
[null,null,"（備考）"]
[null,null,"実施日\n（※同一事業内で、\n同一の内容・場所において\n複数日実施する場合）",null,1,null,null,null,null,null,null,null,null,null,null,null,6]
[null,null,null,null,2,null,null,null,null,null,null,null,null,null,null,null,7]
[null,null,null,null,3,null,null,null,null,null,null,null,null,null,null,null,8]
[null,null,null,null,4,null,null,null,null,null,null,null,null,null,null,null,9]
[null,null,null,null,5,null,null,null,null,null,null,null,null,null,null,null,10]
[null,null,"事業の概要",null,"※放送による啓発の場合は、尺、制作数、放送回数について具体的に記入してください。"]
[]
[null,null,"地域団体との連携"]
[null,null,"効果的な\n実施の\nための工夫","主な訴求対象"]
[null,null,null,"訴求メッセージ"]
[null,null,null,"事業実施時期の\n設定根拠"]
[null,null,null,"具体的な訴求方法\n・\nその他の工夫"]
[null,null,"目標アウトプット\n（リーチ数）\n（想定及び実績）",null,"昨年度実績",null,null,null,"計"]
[null,null,null,null,"昨年度実績算出根拠"]
[null,null,null,null,"想定",null,null,null,"計",null,0]
[null,null,null,null,"算出方法"]
[null,null,"目標アウトカム（想定及び実績）"]
[null,null,"エネルギー起源CO2排出削減量（想定）",null,"CO2排出削減量",null,null,null,{"$f":"AU199","v":0},null,null,null,null,null,"（t-CO2）",null,null,null,null,null,null,null,null,null,null,null,null,null,null,null,"行動変容テーマ",null,"①","②省ｴﾈ住宅",null,"③","④","⑤","⑥","⑦","⑧","⑨","⑩※3","⑪","⑫","⑬"]
[null,null,null,null,"特記事項","※普及啓発人数の算定方法、平均値以外の変容率を使用する場合の考え方、行動変容テーマ「その他」で計算表を使用せず、独自にCO2削減量を算出した場合の変容率・変容係数の考え方、その他算定に影響を及ぼす事項等を記入して下さい。",null,null,null,null,null,null,null,null,null,null,null,null,null,null,null,null,null,null,null,null,null,null,null,null,null,null,"省ｴﾈ家電","ZEH","断熱リフォーム","ｴｺｶｰ","ｸｰﾙﾋﾞｽﾞ","ｳｫｰﾑﾋﾞｽﾞ","照明の高効率利用","ｴｺﾄﾞﾗｲﾌﾞ","ｶｰｼｪｱ","ｽﾏｰﾄﾑｰﾌﾞ","低炭素物流","再エネ","食品ロス","その他"]
[]
[null,null,null,null,null,null,null,null,null,null,null,null,null,null,null,null,null,null,null,null,null,null,null,null,null,null,null,null,null,null,"ラジオ等※1","①普及啓発人数（人）"]
[null,null,null,null,null,null,null,null,null,null,null,null,null,null,null,null,null,null,null,null,null,null,null,null,null,null,null,null,null,null,null,"②行動変容率（%）",2.3E-2,2E-3,0.02,0.03,0.11899999999999999,0.11899999999999999,2.3E-2,0.11899999999999999,0.104,0.11899999999999999,0.104,2.3E-2,0.156]
[null,null,null,null,null,null,null,null,null,null,null,null,null,null,null,null,null,null,null,null,null,null,null,null,null,null,null,null,null,null,null,"③CO2排出原単位（t-CO2/人）",{"$f":"'（参考）エネルギー起源CO2排出削減量の算出シート（計画時）'!$L$12","v":1.62},{"$f":"'（参考）エネルギー起源CO2排出削減量の算出シート（計画時）'!$L$14","v":153},{"$f":"'（参考）エネルギー起源CO2排出削減量の算出シート（計画時）'!$L$16","v":10},{"$f":"'（参考）エネルギー起源CO2排出削減量の算出シート（計画時）'!$L$18","v":5.18},{"$f":"'（参考）エネルギー起源CO2排出削減量の算出シート（計画時）'!$L$20","v":2.3E-2},{"$f":"'（参考）エネルギー起源CO2排出削減量の算出シート（計画時）'!$L$22","v":1.7999999999999999E-2},{"$f":"'（参考）エネルギー起源CO2排出削減量の算出シート（計画時）'!$L$24","v":2.81},{"$f":"'（参考）エネルギー起源CO2排出削減量の算出シート（計画時）'!$L$26","v":0.13100000000000001},{"$f":"'（参考）エネルギー起源CO2排出削減量の算出シート（計画時）'!$L$28","v":0.59},{"$f":"'（参考）エネルギー起源CO2排出削減量の算出シート（計画時）'!$L$30","v":0.19},{"$f":"'（参考）エネルギー起源CO2排出削減量の算出シート（計画時）'!$L$32","v":5.8500000000000002E-4},{"$f":"'（参考）エネルギー起源CO2排出削減量の算出シート（計画時）'!$L$34","v":0.24},{"$f":"'（参考）エネルギー起源CO2排出削減量の算出シート（計画時）'!$L$36","v":1.5E-3},{"$f":"'（参考）エネルギー起源CO2排出削減量の算出シート（計画時）'!$L$38","v":0.13800000000000001},"小計",null,null,null,{"$f":"AG137-AG189","v":0},{"$f":"AH137-AH189","v":0},{"$f":"AI137-AI189","v":0},{"$f":"AJ137-AJ189","v":0},{"$f":"AK137-AK189","v":0},{"$f":"AL137-AL189","v":0},{"$f":"AM137-AM189","v":0},{"$f":"AN137-AN189","v":0},{"$f":"AO137-AO189","v":0},{"$f":"AP137-AP189","v":0},{"$f":"AQ137-AQ189","v":0},{"$f":"AR137-AR189","v":0},{"$f":"AS137-AS189","v":0},{"$f":"AT137-AT189","v":0},null,{"$f":"SUM(AY189:BM189)","v":0}]
[null,null,"効果検証\n（アンケート）予定",null,"※アンケートの実施予定をプルダウンより選択してください。",null,null,null,null,null,null,null,null,null,null,null,null,null,null,null,null,null,null,null,null,null,null,null,null,null,null,"CO2排出削減効果（t-CO2/事業）",{"$f":"AG187*AG188*AG189","v":0},{"$f":"AH187*AH188*AH189","v":0},{"$f":"AI187*AI188*AI189","v":0},{"$f":"AJ187*AJ188*AJ189","v":0},{"$f":"AK187*AK188*AK189","v":0},0,0,0,0,0,{"$f":"AQ187*AQ188*AQ189*11.400933956","v":0},0,0,{"$f":"AT187*AT189","v":0},{"$f":"SUM(AG190:AT190)","v":0}]
[null,null,null,null,"公募要領に規定のアンケート",null,null,null,null,null,null,null,null,null,null,null,null,null,null,null,null,null,null,null,null,null,null,null,null,null,"※1 訴求手法の a )の場合"]
[null,null,null,null,"省エネ家電",null,null,"省エネ住宅",null,null,"エコカー",null,null,"クールビズ",null,null,"ウォームビズ",null,null,"照明の\n効率的利用",null,null,"ｴｺﾄﾞﾗｲﾌﾞ",null,null,"カーシェア",null,null,null,null,"イベント等※2","①普及啓発人数（人）"]
[null,null,null,null,"- 選択 -",null,null,"- 選択 -",null,null,"- 選択 -",null,null,"- 選択 -",null,null,"- 選択 -",null,null,"- 選択 -",null,null,"- 選択 -",null,null,"- 選択 -",null,null,null,null,null,"②意識変容率（%）",0.25800000000000001,0.34599999999999997,0.26100000000000001,0.23400000000000001,0.39600000000000002,0.39600000000000002,0.25800000000000001,0.39600000000000002,0.69799999999999995,0.39600000000000002,0.69799999999999995,0.25800000000000001,0.79]
[null,null,null,null,"公募要領に規定のアンケート",null,null,null,null,null,null,null,null,null,null,null,"貴事業者独自のアンケート",null,null,null,null,null,null,null,null,null,null,null,null,null,null,"③行動変容係数",{"$f":"'（参考）エネルギー起源CO2排出削減量の算出シート（計画時）'!$J$48","v":0.24031007751937983},{"$f":"'（参考）エネルギー起源CO2排出削減量の算出シート（計画時）'!$J$50","v":6.6473988439306367E-2},{"$f":"'（参考）エネルギー起源CO2排出削減量の算出シート（計画時）'!$J$52","v":0.27203065134099613},{"$f":"'（参考）エネルギー起源CO2排出削減量の算出シート（計画時）'!$J$54","v":0.28205128205128205},{"$f":"'（参考）エネルギー起源CO2排出削減量の算出シート（計画時）'!$J$56","v":0.72727272727272718},{"$f":"'（参考）エネルギー起源CO2排出削減量の算出シート（計画時）'!$J$58","v":0.72727272727272718},{"$f":"'（参考）エネルギー起源CO2排出削減量の算出シート（計画時）'!$J$60","v":0.24031007751937983},{"$f":"'（参考）エネルギー起源CO2排出削減量の算出シート（計画時）'!$J$62","v":0.72727272727272718},{"$f":"'（参考）エネルギー起源CO2排出削減量の算出シート（計画時）'!$J$64","v":0.10744985673352436},{"$f":"'（参考）エネルギー起源CO2排出削減量の算出シート（計画時）'!$J$66","v":0.72727272727272718},{"$f":"'（参考）エネルギー起源CO2排出削減量の算出シート（計画時）'!$J$68","v":0.10744985673352436},{"$f":"'（参考）エネルギー起源CO2排出削減量の算出シート（計画時）'!$J$70","v":0.24031007751937983},{"$f":"'（参考）エネルギー起源CO2排出削減量の算出シート（計画時）'!$J$72","v":0.43037974683544306},null,null,null,null,null,{"$f":"AG142-AG194","v":0},{"$f":"AH142-AH194","v":0},{"$f":"AI142-AI194","v":0},{"$f":"AJ142-AJ194","v":0},{"$f":"AK142-AK194","v":0},{"$f":"AL142-AL194","v":0},{"$f":"AM142-AM194","v":0},{"$f":"AN142-AN194","v":0},{"$f":"AO142-AO194","v":0},{"$f":"AP142-AP194","v":0},{"$f":"AQ142-AQ194","v":0},{"$f":"AR142-AR194","v":0},{"$f":"AS142-AS194","v":0},{"$f":"AT142-AT194","v":0},null,{"$f":"SUM(AY194:BM194)","v":0}]
[null,null,null,null,"ｽﾏｰﾄﾑｰﾌﾞ",null,null,"低炭素物流",null,null,"再エネ",null,null,"食品ロス",null,null,null,null,null,null,null,null,null,null,null,null,null,null,null,null,null,"④CO2排出原単位（t-CO2/人）",{"$f":"'（参考）エネルギー起源CO2排出削減量の算出シート（計画時）'!$L$48","v":1.62},{"$f":"'（参考）エネルギー起源CO2排出削減量の算出シート（計画時）'!$L$50","v":153},{"$f":"'（参考）エネルギー起源CO2排出削減量の算出シート（計画時）'!$L$52","v":10},{"$f":"'（参考）エネルギー起源CO2排出削減量の算出シート（計画時）'!$L$54","v":5.18},{"$f":"'（参考）エネルギー起源CO2排出削減量の算出シート（計画時）'!$L$56","v":2.3E-2},{"$f":"'（参考）エネルギー起源CO2排出削減量の算出シート（計画時）'!$L$58","v":1.7999999999999999E-2},{"$f":"'（参考）エネルギー起源CO2排出削減量の算出シート（計画時）'!$L$60","v":2.81},{"$f":"'（参考）エネルギー起源CO2排出削減量の算出シート（計画時）'!$L$62","v":0.13100000000000001},{"$f":"'（参考）エネルギー起源CO2排出削減量の算出シート（計画時）'!$L$64","v":0.59},{"$f":"'（参考）エネルギー起源CO2排出削減量の算出シート（計画時）'!$L$66","v":0.19},{"$f":"'（参考）エネルギー起源CO2排出削減量の算出シート（計画時）'!$L$68","v":5.8500000000000002E-4},{"$f":"'（参考）エネルギー起源CO2排出削減量の算出シート（計画時）'!$L$70","v":0.24},{"$f":"'（参考）エネルギー起源CO2排出削減量の算出シート（計画時）'!$L$72","v":1.5E-3},{"$f":"'（参考）エネルギー起源CO2排出削減量の算出シート（計画時）'!$L$74","v":0.13800000000000001},"小計",null,null,null,{"$f":"AG143-AG195","v":0},0,0,0,0,0,0,0,0,0,0,0,0,0,null,{"$f":"SUM(AY195:BM195)","v":0}]
[null,null,null,null,"- 選択 -",null,null,"- 選択 -",null,null,"- 選択 -",null,null,"- 選択 -",null,null,"- 選択 -",null,null,null,null,null,null,null,null,null,null,null,null,null,null,"CO2排出削減効果（t-CO2/事業）",{"$f":"AG192*AG193*AG194*AG195","v":0},0,0,0,0,0,0,0,0,0,{"$f":"AQ192*AQ193*AQ194*AQ195*11.400933956","v":0},0,0,{"$f":"AT192*AT195","v":0},{"$f":"SUM(AG196:AT196)","v":0},null,null,null,null,null,null,null,null,null,null,null,null,null,null,null,null,null,null,{"$f":"SUM(BN189:BN195)","v":0}]
[null,null,null,null,"内容（",null,null,null,null,null,null,null,null,null,null,null,null,null,null,null,null,null,null,null,null,null,null,"）",null,null,"※2 訴求手法の b),c),d) のいずれかの場合",null,"※3 ⑩に関しては、人数から再配達個数を自動計算し、再配達1個当たりのCO2排出原単位から算出"]
[null,null,null,null,"昨年度実績",null,null,null,"計",null,null,null,"枚",null,"※複数ある場合は、アンケート合計回収数",null,null,null,null,null,null,null,null,null,null,null,null,null,null,null,"上記の合計",null,null,null,null,null,null,null,null,null,null,null,null,null,null,null,"合計"]
[null,null,null,null,"目標回収数",null,null,null,"計",null,null,null,"枚",null,"※複数ある場合は、アンケート合計回収数",null,null,null,null,null,null,null,null,null,null,null,null,null,null,null,null,"CO2排出削減効果（t-CO2/事業）",{"$f":"AG190+AG196","v":0},{"$f":"AH190+AH196","v":0},0,0,0,0,0,0,0,0,0,0,0,0,{"$f":"SUM(AG199:AT199)","v":0}]
[null,null,null,null,null,null,null,null,null,null,null,null,null,null,null,null,null,null,null,null,null,null,null,null,null,null,null,null,null,null,null,null,null,null,null,null,null,null,null,null,"※合計値は自動的に別紙1に転記されます"]
[null,null,"項目",null,"内容"]
[null,null,"事業4","事業名"]
[null,null,"行動変容テーマ",null,"※公募要領　別表第１　で対象とする補助事業の内容に合致していること。\n※該当するテーマすべてをチェックしてください。"]
[null,null,null,null,"①",null,"②",null,"③",null,"④",null,"⑤",null,"⑥",null,"⑦",null,"⑧",null,"⑨",null,"⑩",null,"⑪",null,"⑫",null,null,null,null,null,"①","②",null,"③","④","⑤","⑥","⑦","⑧","⑨","⑩","⑪","⑫","⑬",null,null,null,null,null,null,null,null,null,null,null,null,null,"a)","b)","c)","d)"]
[null,null,null,null,"省ｴﾈ家電",null,"省ｴﾈ住宅",null,"ｴｺｶｰ",null,"ｸｰﾙﾋﾞｽﾞ",null,"ｳｫｰﾑﾋﾞｽﾞ",null,"照明の\n高効率利用",null,"ｴｺﾄﾞﾗｲﾌﾞ",null,"ｶｰｼｪｱ",null,"ｽﾏｰﾄﾑｰﾌﾞ",null,"低炭素物流",null,"再エネ",null,"食品ロス",null,null,null,null,null,"省ｴﾈ家電","省ｴﾈ住宅",null,"ｴｺｶｰ","ｸｰﾙﾋﾞｽﾞ","ｳｫｰﾑﾋﾞｽﾞ","照明の\n高効率利用","ｴｺﾄﾞﾗｲﾌﾞ","ｶｰｼｪｱ","ｽﾏｰﾄﾑｰﾌﾞ","低炭素物流","再エネ","食品ロス","その他",null,null,null,null,null,null,null,null,null,null,null,null,null,false,false,false,false,{"$f":"COUNTIFS($BH205:$BK205,\"TRUE\")","v":0}]
[null,null,null,null,null,null,null,null,null,null,null,null,null,null,null,null,null,null,null,null,null,null,null,null,null,null,null,null,null,null,null,null,false,false,null,false,false,false,false,false,false,false,false,false,false,false,null,null,null,null,null,null,null,null,null,null,null,{"$f":"COUNTIFS($AG206:BE206,\"TRUE\")","v":0}]
[null,null,null,null,"⑬",null,"↓ ※①～⑫以外のテーマを設定する場合、具体的に記載してください。"]
[null,null,null,null,"その他"]
[]
[null,null,"訴求手法",null,"※訴求手法については、該当する欄にチェックしてください。"]
[null,null,null,null,"a) 情報発信型（受動型）",null,null,null,null,null,null,null,"b) 情報発信型（能動型）",null,null,null,null,null,null,null,"c) 双方向体験交流型"]
[null,null,null,null,"オンラインイベント・\nテレビ・ラジオ等",null,null,null,null,null,null,null,"講演会・パネル展示等",null,null,null,null,null,null,null,"試乗・体験会、省ｴﾈ診断等"]
[]
[null,null,null,null,"d) 双方向ＷＥＢ等配信型",null,null,null,null,null,null,null,"※d) については使用する媒体等を記載してください。"]
[null,null,null,null,"（新手法）"]
[]
[null,null,"実施期間",null,null,null,null,null,null,null,null,null,null,null,"～"]
[null,null,"（備考）"]
[null,null,"実施日\n（※同一事業内で、\n同一の内容・場所において\n複数日実施する場合）",null,1,null,null,null,null,null,null,null,null,null,null,null,6]
[null,null,null,null,2,null,null,null,null,null,null,null,null,null,null,null,7]
[null,null,null,null,3,null,null,null,null,null,null,null,null,null,null,null,8]
[null,null,null,null,4,null,null,null,null,null,null,null,null,null,null,null,9]
[null,null,null,null,5,null,null,null,null,null,null,null,null,null,null,null,10]
[null,null,"事業の概要",null,"※放送による啓発の場合は、尺、制作数、放送回数について具体的に記入してください。"]
[]
[null,null,"地域団体との連携"]
[null,null,"効果的な\n実施の\nための工夫","主な訴求対象"]
[null,null,null,"訴求メッセージ"]
[null,null,null,"事業実施時期の\n設定根拠"]
[null,null,null,"具体的な訴求方法\n・\nその他の工夫"]
[null,null,"目標アウトプット\n（リーチ数）\n（想定及び実績）",null,"昨年度実績",null,null,null,"計"]
[null,null,null,null,"昨年度実績算出根拠"]
[null,null,null,null,"想定",null,null,null,"計",null,0]
[null,null,null,null,"算出方法"]
[null,null,"目標アウトカム（想定及び実績）"]
[null,null,"エネルギー起源CO2排出削減量（想定）",null,"CO2排出削減量",null,null,null,{"$f":"AU251","v":0},null,null,null,null,null,"（t-CO2）",null,null,null,null,null,null,null,null,null,null,null,null,null,null,null,"行動変容テーマ",null,"①","②省ｴﾈ住宅",null,"③","④","⑤","⑥","⑦","⑧","⑨","⑩※3","⑪","⑫","⑬"]
[null,null,null,null,"特記事項","※普及啓発人数の算定方法、平均値以外の変容率を使用する場合の考え方、行動変容テーマ「その他」で計算表を使用せず、独自にCO2削減量を算出した場合の変容率・変容係数の考え方、その他算定に影響を及ぼす事項等を記入して下さい。",null,null,null,null,null,null,null,null,null,null,null,null,null,null,null,null,null,null,null,null,null,null,null,null,null,null,"省ｴﾈ家電","ZEH","断熱リフォーム","ｴｺｶｰ","ｸｰﾙﾋﾞｽﾞ","ｳｫｰﾑﾋﾞｽﾞ","照明の高効率利用","ｴｺﾄﾞﾗｲﾌﾞ","ｶｰｼｪｱ","ｽﾏｰﾄﾑｰﾌﾞ","低炭素物流","再エネ","食品ロス","その他"]
[]
[null,null,null,null,null,null,null,null,null,null,null,null,null,null,null,null,null,null,null,null,null,null,null,null,null,null,null,null,null,null,"ラジオ等※1","①普及啓発人数（人）"]
[null,null,null,null,null,null,null,null,null,null,null,null,null,null,null,null,null,null,null,null,null,null,null,null,null,null,null,null,null,null,null,"②行動変容率（%）",2.3E-2,2E-3,0.02,0.03,0.11899999999999999,0.11899999999999999,2.3E-2,0.11899999999999999,0.104,0.11899999999999999,0.104,2.3E-2,0.156]
[null,null,null,null,null,null,null,null,null,null,null,null,null,null,null,null,null,null,null,null,null,null,null,null,null,null,null,null,null,null,null,"③CO2排出原単位（t-CO2/人）",{"$f":"'（参考）エネルギー起源CO2排出削減量の算出シート（計画時）'!$L$12","v":1.62},{"$f":"'（参考）エネルギー起源CO2排出削減量の算出シート（計画時）'!$L$14","v":153},{"$f":"'（参考）エネルギー起源CO2排出削減量の算出シート（計画時）'!$L$16","v":10},{"$f":"'（参考）エネルギー起源CO2排出削減量の算出シート（計画時）'!$L$18","v":5.18},{"$f":"'（参考）エネルギー起源CO2排出削減量の算出シート（計画時）'!$L$20","v":2.3E-2},{"$f":"'（参考）エネルギー起源CO2排出削減量の算出シート（計画時）'!$L$22","v":1.7999999999999999E-2},{"$f":"'（参考）エネルギー起源CO2排出削減量の算出シート（計画時）'!$L$24","v":2.81},{"$f":"'（参考）エネルギー起源CO2排出削減量の算出シート（計画時）'!$L$26","v":0.13100000000000001},{"$f":"'（参考）エネルギー起源CO2排出削減量の算出シート（計画時）'!$L$28","v":0.59},{"$f":"'（参考）エネルギー起源CO2排出削減量の算出シート（計画時）'!$L$30","v":0.19},{"$f":"'（参考）エネルギー起源CO2排出削減量の算出シート（計画時）'!$L$32","v":5.8500000000000002E-4},{"$f":"'（参考）エネルギー起源CO2排出削減量の算出シート（計画時）'!$L$34","v":0.24},{"$f":"'（参考）エネルギー起源CO2排出削減量の算出シート（計画時）'!$L$36","v":1.5E-3},{"$f":"'（参考）エネルギー起源CO2排出削減量の算出シート（計画時）'!$L$38","v":0.13800000000000001},"小計",null,null,null,{"$f":"AG189-AG241","v":0},{"$f":"AH189-AH241","v":0},{"$f":"AI189-AI241","v":0},{"$f":"AJ189-AJ241","v":0},{"$f":"AK189-AK241","v":0},{"$f":"AL189-AL241","v":0},{"$f":"AM189-AM241","v":0},{"$f":"AN189-AN241","v":0},{"$f":"AO189-AO241","v":0},{"$f":"AP189-AP241","v":0},{"$f":"AQ189-AQ241","v":0},{"$f":"AR189-AR241","v":0},{"$f":"AS189-AS241","v":0},{"$f":"AT189-AT241","v":0},null,{"$f":"SUM(AY241:BM241)","v":0}]
[null,null,"効果検証\n（アンケート）予定",null,"※アンケートの実施予定をプルダウンより選択してください。",null,null,null,null,null,null,null,null,null,null,null,null,null,null,null,null,null,null,null,null,null,null,null,null,null,null,"CO2排出削減効果（t-CO2/事業）",{"$f":"AG239*AG240*AG241","v":0},{"$f":"AH239*AH240*AH241","v":0},{"$f":"AI239*AI240*AI241","v":0},{"$f":"AJ239*AJ240*AJ241","v":0},{"$f":"AK239*AK240*AK241","v":0},0,0,0,0,0,{"$f":"AQ239*AQ240*AQ241*11.400933956","v":0},0,0,{"$f":"AT239*AT241","v":0},{"$f":"SUM(AG242:AT242)","v":0}]
[null,null,null,null,"公募要領に規定のアンケート",null,null,null,null,null,null,null,null,null,null,null,null,null,null,null,null,null,null,null,null,null,null,null,null,null,"※1 訴求手法の a )の場合"]
[null,null,null,null,"省エネ家電",null,null,"省エネ住宅",null,null,"エコカー",null,null,"クールビズ",null,null,"ウォームビズ",null,null,"照明の\n効率的利用",null,null,"ｴｺﾄﾞﾗｲﾌﾞ",null,null,"カーシェア",null,null,null,null,"イベント等※2","①普及啓発人数（人）"]
[null,null,null,null,"- 選択 -",null,null,"- 選択 -",null,null,"- 選択 -",null,null,"- 選択 -",null,null,"- 選択 -",null,null,"- 選択 -",null,null,"- 選択 -",null,null,"- 選択 -",null,null,null,null,null,"②意識変容率（%）",0.25800000000000001,0.34599999999999997,0.26100000000000001,0.23400000000000001,0.39600000000000002,0.39600000000000002,0.25800000000000001,0.39600000000000002,0.69799999999999995,0.39600000000000002,0.69799999999999995,0.25800000000000001,0.79]
[null,null,null,null,"公募要領に規定のアンケート",null,null,null,null,null,null,null,null,null,null,null,"貴事業者独自のアンケート",null,null,null,null,null,null,null,null,null,null,null,null,null,null,"③行動変容係数",{"$f":"'（参考）エネルギー起源CO2排出削減量の算出シート（計画時）'!$J$48","v":0.24031007751937983},{"$f":"'（参考）エネルギー起源CO2排出削減量の算出シート（計画時）'!$J$50","v":6.6473988439306367E-2},{"$f":"'（参考）エネルギー起源CO2排出削減量の算出シート（計画時）'!$J$52","v":0.27203065134099613},{"$f":"'（参考）エネルギー起源CO2排出削減量の算出シート（計画時）'!$J$54","v":0.28205128205128205},{"$f":"'（参考）エネルギー起源CO2排出削減量の算出シート（計画時）'!$J$56","v":0.72727272727272718},{"$f":"'（参考）エネルギー起源CO2排出削減量の算出シート（計画時）'!$J$58","v":0.72727272727272718},{"$f":"'（参考）エネルギー起源CO2排出削減量の算出シート（計画時）'!$J$60","v":0.24031007751937983},{"$f":"'（参考）エネルギー起源CO2排出削減量の算出シート（計画時）'!$J$62","v":0.72727272727272718},{"$f":"'（参考）エネルギー起源CO2排出削減量の算出シート（計画時）'!$J$64","v":0.10744985673352436},{"$f":"'（参考）エネルギー起源CO2排出削減量の算出シート（計画時）'!$J$66","v":0.72727272727272718},{"$f":"'（参考）エネルギー起源CO2排出削減量の算出シート（計画時）'!$J$68","v":0.10744985673352436},{"$f":"'（参考）エネルギー起源CO2排出削減量の算出シート（計画時）'!$J$70","v":0.24031007751937983},{"$f":"'（参考）エネルギー起源CO2排出削減量の算出シート（計画時）'!$J$72","v":0.43037974683544306},null,null,null,null,null,{"$f":"AG194-AG246","v":0},{"$f":"AH194-AH246","v":0},{"$f":"AI194-AI246","v":0},{"$f":"AJ194-AJ246","v":0},{"$f":"AK194-AK246","v":0},{"$f":"AL194-AL246","v":0},{"$f":"AM194-AM246","v":0},{"$f":"AN194-AN246","v":0},{"$f":"AO194-AO246","v":0},{"$f":"AP194-AP246","v":0},{"$f":"AQ194-AQ246","v":0},{"$f":"AR194-AR246","v":0},{"$f":"AS194-AS246","v":0},{"$f":"AT194-AT246","v":0},null,{"$f":"SUM(AY246:BM246)","v":0}]
[null,null,null,null,"ｽﾏｰﾄﾑｰﾌﾞ",null,null,"低炭素物流",null,null,"再エネ",null,null,"食品ロス",null,null,null,null,null,null,null,null,null,null,null,null,null,null,null,null,null,"④CO2排出原単位（t-CO2/人）",{"$f":"'（参考）エネルギー起源CO2排出削減量の算出シート（計画時）'!$L$48","v":1.62},{"$f":"'（参考）エネルギー起源CO2排出削減量の算出シート（計画時）'!$L$50","v":153},{"$f":"'（参考）エネルギー起源CO2排出削減量の算出シート（計画時）'!$L$52","v":10},{"$f":"'（参考）エネルギー起源CO2排出削減量の算出シート（計画時）'!$L$54","v":5.18},{"$f":"'（参考）エネルギー起源CO2排出削減量の算出シート（計画時）'!$L$56","v":2.3E-2},{"$f":"'（参考）エネルギー起源CO2排出削減量の算出シート（計画時）'!$L$58","v":1.7999999999999999E-2},{"$f":"'（参考）エネルギー起源CO2排出削減量の算出シート（計画時）'!$L$60","v":2.81},{"$f":"'（参考）エネルギー起源CO2排出削減量の算出シート（計画時）'!$L$62","v":0.13100000000000001},{"$f":"'（参考）エネルギー起源CO2排出削減量の算出シート（計画時）'!$L$64","v":0.59},{"$f":"'（参考）エネルギー起源CO2排出削減量の算出シート（計画時）'!$L$66","v":0.19},{"$f":"'（参考）エネルギー起源CO2排出削減量の算出シート（計画時）'!$L$68","v":5.8500000000000002E-4},{"$f":"'（参考）エネルギー起源CO2排出削減量の算出シート（計画時）'!$L$70","v":0.24},{"$f":"'（参考）エネルギー起源CO2排出削減量の算出シート（計画時）'!$L$72","v":1.5E-3},{"$f":"'（参考）エネルギー起源CO2排出削減量の算出シート（計画時）'!$L$74","v":0.13800000000000001},"小計",null,null,null,{"$f":"AG195-AG247","v":0},0,0,0,0,0,0,0,0,0,0,0,0,0,null,{"$f":"SUM(AY247:BM247)","v":0}]
[null,null,null,null,"- 選択 -",null,null,"- 選択 -",null,null,"- 選択 -",null,null,"- 選択 -",null,null,"- 選択 -",null,null,null,null,null,null,null,null,null,null,null,null,null,null,"CO2排出削減効果（t-CO2/事業）",{"$f":"AG244*AG245*AG246*AG247","v":0},0,0,0,0,0,0,0,0,0,{"$f":"AQ244*AQ245*AQ246*AQ247*11.400933956","v":0},0,0,{"$f":"AT244*AT247","v":0},{"$f":"SUM(AG248:AT248)","v":0},null,null,null,null,null,null,null,null,null,null,null,null,null,null,null,null,null,null,{"$f":"SUM(BN241:BN247)","v":0}]
[null,null,null,null,"内容（",null,null,null,null,null,null,null,null,null,null,null,null,null,null,null,null,null,null,null,null,null,null,"）",null,null,"※2 訴求手法の b),c),d) のいずれかの場合",null,"※3 ⑩に関しては、人数から再配達個数を自動計算し、再配達1個当たりのCO2排出原単位から算出"]
[null,null,null,null,"昨年度実績",null,null,null,"計",null,null,null,"枚",null,"※複数ある場合は、アンケート合計回収数",null,null,null,null,null,null,null,null,null,null,null,null,null,null,null,"上記の合計",null,null,null,null,null,null,null,null,null,null,null,null,null,null,null,"合計"]
[null,null,null,null,"目標回収数",null,null,null,"計",null,null,null,"枚",null,"※複数ある場合は、アンケート合計回収数",null,null,null,null,null,null,null,null,null,null,null,null,null,null,null,null,"CO2排出削減効果（t-CO2/事業）",{"$f":"AG242+AG248","v":0},{"$f":"AH242+AH248","v":0},0,0,0,0,0,0,0,0,0,0,0,0,{"$f":"SUM(AG251:AT251)","v":0}]
[null,null,null,null,null,null,null,null,null,null,null,null,null,null,null,null,null,null,null,null,null,null,null,null,null,null,null,null,null,null,null,null,null,null,null,null,null,null,null,null,"※合計値は自動的に別紙1に転記されます"]
[null,null,"項目",null,"内容"]
[null,null,"事業5","事業名"]
[null,null,"行動変容テーマ",null,"※公募要領　別表第１　で対象とする補助事業の内容に合致していること。\n※該当するテーマすべてをチェックしてください。"]
[null,null,null,null,"①",null,"②",null,"③",null,"④",null,"⑤",null,"⑥",null,"⑦",null,"⑧",null,"⑨",null,"⑩",null,"⑪",null,"⑫",null,null,null,null,null,"①","②",null,"③","④","⑤","⑥","⑦","⑧","⑨","⑩","⑪","⑫","⑬",null,null,null,null,null,null,null,null,null,null,null,null,null,"a)","b)","c)","d)"]
[null,null,null,null,"省ｴﾈ家電",null,"省ｴﾈ住宅",null,"ｴｺｶｰ",null,"ｸｰﾙﾋﾞｽﾞ",null,"ｳｫｰﾑﾋﾞｽﾞ",null,"照明の\n高効率利用",null,"ｴｺﾄﾞﾗｲﾌﾞ",null,"ｶｰｼｪｱ",null,"ｽﾏｰﾄﾑｰﾌﾞ",null,"低炭素物流",null,"再エネ",null,"食品ロス",null,null,null,null,null,"省ｴﾈ家電","省ｴﾈ住宅",null,"ｴｺｶｰ","ｸｰﾙﾋﾞｽﾞ","ｳｫｰﾑﾋﾞｽﾞ","照明の\n高効率利用","ｴｺﾄﾞﾗｲﾌﾞ","ｶｰｼｪｱ","ｽﾏｰﾄﾑｰﾌﾞ","低炭素物流","再エネ","食品ロス","その他",null,null,null,null,null,null,null,null,null,null,null,null,null,false,false,false,false,{"$f":"COUNTIFS($BH257:$BK257,\"TRUE\")","v":0}]
[null,null,null,null,null,null,null,null,null,null,null,null,null,null,null,null,null,null,null,null,null,null,null,null,null,null,null,null,null,null,null,null,false,false,null,false,false,false,false,false,false,false,false,false,false,false,null,null,null,null,null,null,null,null,null,null,null,{"$f":"COUNTIFS($AG258:BE258,\"TRUE\")","v":0}]
[null,null,null,null,"⑬",null,"↓ ※①～⑫以外のテーマを設定する場合、具体的に記載してください。"]
[null,null,null,null,"その他"]
[]
[null,null,"訴求手法",null,"※訴求手法については、該当する欄にチェックしてください。"]
[null,null,null,null,"a) 情報発信型（受動型）",null,null,null,null,null,null,null,"b) 情報発信型（能動型）",null,null,null,null,null,null,null,"c) 双方向体験交流型"]
[null,null,null,null,"オンラインイベント・\nテレビ・ラジオ等",null,null,null,null,null,null,null,"講演会・パネル展示等",null,null,null,null,null,null,null,"試乗・体験会、省ｴﾈ診断等"]
[]
[null,null,null,null,"d) 双方向ＷＥＢ等配信型",null,null,null,null,null,null,null,"※d) については使用する媒体等を記載してください。"]
[null,null,null,null,"（新手法）"]
[]
[null,null,"実施期間",null,null,null,null,null,null,null,null,null,null,null,"～"]
[null,null,"（備考）"]
[null,null,"実施日\n（※同一事業内で、\n同一の内容・場所において\n複数日実施する場合）",null,1,null,null,null,null,null,null,null,null,null,null,null,6]
[null,null,null,null,2,null,null,null,null,null,null,null,null,null,null,null,7]
[null,null,null,null,3,null,null,null,null,null,null,null,null,null,null,null,8]
[null,null,null,null,4,null,null,null,null,null,null,null,null,null,null,null,9]
[null,null,null,null,5,null,null,null,null,null,null,null,null,null,null,null,10]
[null,null,"事業の概要",null,"※放送による啓発の場合は、尺、制作数、放送回数について具体的に記入してください。"]
[]
[null,null,"地域団体との連携"]
[null,null,"効果的な\n実施の\nための工夫","主な訴求対象"]
[null,null,null,"訴求メッセージ"]
[null,null,null,"事業実施時期の\n設定根拠"]
[null,null,null,"具体的な訴求方法\n・\nその他の工夫"]
[null,null,"目標アウトプット\n（リーチ数）\n（想定及び実績）",null,"昨年度実績",null,null,null,"計"]
[null,null,null,null,"昨年度実績算出根拠"]
[null,null,null,null,"想定",null,null,null,"計",null,0]
[null,null,null,null,"算出方法"]
[null,null,"目標アウトカム（想定及び実績）"]
[null,null,"エネルギー起源CO2排出削減量（想定）",null,"CO2排出削減量",null,null,null,{"$f":"AU303","v":0},null,null,null,null,null,"（t-CO2）",null,null,null,null,null,null,null,null,null,null,null,null,null,null,null,"行動変容テーマ",null,"①","②省ｴﾈ住宅",null,"③","④","⑤","⑥","⑦","⑧","⑨","⑩※3","⑪","⑫","⑬"]
[null,null,null,null,"特記事項","※普及啓発人数の算定方法、平均値以外の変容率を使用する場合の考え方、行動変容テーマ「その他」で計算表を使用せず、独自にCO2削減量を算出した場合の変容率・変容係数の考え方、その他算定に影響を及ぼす事項等を記入して下さい。",null,null,null,null,null,null,null,null,null,null,null,null,null,null,null,null,null,null,null,null,null,null,null,null,null,null,"省ｴﾈ家電","ZEH","断熱リフォーム","ｴｺｶｰ","ｸｰﾙﾋﾞｽﾞ","ｳｫｰﾑﾋﾞｽﾞ","照明の高効率利用","ｴｺﾄﾞﾗｲﾌﾞ","ｶｰｼｪｱ","ｽﾏｰﾄﾑｰﾌﾞ","低炭素物流","再エネ","食品ロス","その他"]
[]
[null,null,null,null,null,null,null,null,null,null,null,null,null,null,null,null,null,null,null,null,null,null,null,null,null,null,null,null,null,null,"ラジオ等※1","①普及啓発人数（人）"]
[null,null,null,null,null,null,null,null,null,null,null,null,null,null,null,null,null,null,null,null,null,null,null,null,null,null,null,null,null,null,null,"②行動変容率（%）",2.3E-2,2E-3,0.02,0.03,0.11899999999999999,0.11899999999999999,2.3E-2,0.11899999999999999,0.104,0.11899999999999999,0.104,2.3E-2,0.156]
[null,null,null,null,null,null,null,null,null,null,null,null,null,null,null,null,null,null,null,null,null,null,null,null,null,null,null,null,null,null,null,"③CO2排出原単位（t-CO2/人）",{"$f":"'（参考）エネルギー起源CO2排出削減量の算出シート（計画時）'!$L$12","v":1.62},{"$f":"'（参考）エネルギー起源CO2排出削減量の算出シート（計画時）'!$L$14","v":153},{"$f":"'（参考）エネルギー起源CO2排出削減量の算出シート（計画時）'!$L$16","v":10},{"$f":"'（参考）エネルギー起源CO2排出削減量の算出シート（計画時）'!$L$18","v":5.18},{"$f":"'（参考）エネルギー起源CO2排出削減量の算出シート（計画時）'!$L$20","v":2.3E-2},{"$f":"'（参考）エネルギー起源CO2排出削減量の算出シート（計画時）'!$L$22","v":1.7999999999999999E-2},{"$f":"'（参考）エネルギー起源CO2排出削減量の算出シート（計画時）'!$L$24","v":2.81},{"$f":"'（参考）エネルギー起源CO2排出削減量の算出シート（計画時）'!$L$26","v":0.13100000000000001},{"$f":"'（参考）エネルギー起源CO2排出削減量の算出シート（計画時）'!$L$28","v":0.59},{"$f":"'（参考）エネルギー起源CO2排出削減量の算出シート（計画時）'!$L$30","v":0.19},{"$f":"'（参考）エネルギー起源CO2排出削減量の算出シート（計画時）'!$L$32","v":5.8500000000000002E-4},{"$f":"'（参考）エネルギー起源CO2排出削減量の算出シート（計画時）'!$L$34","v":0.24},{"$f":"'（参考）エネルギー起源CO2排出削減量の算出シート（計画時）'!$L$36","v":1.5E-3},{"$f":"'（参考）エネルギー起源CO2排出削減量の算出シート（計画時）'!$L$38","v":0.13800000000000001},"小計",null,null,null,{"$f":"AG241-AG293","v":0},{"$f":"AH241-AH293","v":0},{"$f":"AI241-AI293","v":0},{"$f":"AJ241-AJ293","v":0},{"$f":"AK241-AK293","v":0},{"$f":"AL241-AL293","v":0},{"$f":"AM241-AM293","v":0},{"$f":"AN241-AN293","v":0},{"$f":"AO241-AO293","v":0},{"$f":"AP241-AP293","v":0},{"$f":"AQ241-AQ293","v":0},{"$f":"AR241-AR293","v":0},{"$f":"AS241-AS293","v":0},{"$f":"AT241-AT293","v":0},null,{"$f":"SUM(AY293:BM293)","v":0}]
[null,null,"効果検証\n（アンケート）予定",null,"※アンケートの実施予定をプルダウンより選択してください。",null,null,null,null,null,null,null,null,null,null,null,null,null,null,null,null,null,null,null,null,null,null,null,null,null,null,"CO2排出削減効果（t-CO2/事業）",{"$f":"AG291*AG292*AG293","v":0},{"$f":"AH291*AH292*AH293","v":0},{"$f":"AI291*AI292*AI293","v":0},{"$f":"AJ291*AJ292*AJ293","v":0},{"$f":"AK291*AK292*AK293","v":0},0,0,0,0,0,{"$f":"AQ291*AQ292*AQ293*11.400933956","v":0},0,0,{"$f":"AT291*AT293","v":0},{"$f":"SUM(AG294:AT294)","v":0}]
[null,null,null,null,"公募要領に規定のアンケート",null,null,null,null,null,null,null,null,null,null,null,null,null,null,null,null,null,null,null,null,null,null,null,null,null,"※1 訴求手法の a )の場合"]
[null,null,null,null,"省エネ家電",null,null,"省エネ住宅",null,null,"エコカー",null,null,"クールビズ",null,null,"ウォームビズ",null,null,"照明の\n効率的利用",null,null,"ｴｺﾄﾞﾗｲﾌﾞ",null,null,"カーシェア",null,null,null,null,"イベント等※2","①普及啓発人数（人）"]
[null,null,null,null,"- 選択 -",null,null,"- 選択 -",null,null,"- 選択 -",null,null,"- 選択 -",null,null,"- 選択 -",null,null,"- 選択 -",null,null,"- 選択 -",null,null,"- 選択 -",null,null,null,null,null,"②意識変容率（%）",0.25800000000000001,0.34599999999999997,0.26100000000000001,0.23400000000000001,0.39600000000000002,0.39600000000000002,0.25800000000000001,0.39600000000000002,0.69799999999999995,0.39600000000000002,0.69799999999999995,0.25800000000000001,0.79]
[null,null,null,null,"公募要領に規定のアンケート",null,null,null,null,null,null,null,null,null,null,null,"貴事業者独自のアンケート",null,null,null,null,null,null,null,null,null,null,null,null,null,null,"③行動変容係数",{"$f":"'（参考）エネルギー起源CO2排出削減量の算出シート（計画時）'!$J$48","v":0.24031007751937983},{"$f":"'（参考）エネルギー起源CO2排出削減量の算出シート（計画時）'!$J$50","v":6.6473988439306367E-2},{"$f":"'（参考）エネルギー起源CO2排出削減量の算出シート（計画時）'!$J$52","v":0.27203065134099613},{"$f":"'（参考）エネルギー起源CO2排出削減量の算出シート（計画時）'!$J$54","v":0.28205128205128205},{"$f":"'（参考）エネルギー起源CO2排出削減量の算出シート（計画時）'!$J$56","v":0.72727272727272718},{"$f":"'（参考）エネルギー起源CO2排出削減量の算出シート（計画時）'!$J$58","v":0.72727272727272718},{"$f":"'（参考）エネルギー起源CO2排出削減量の算出シート（計画時）'!$J$60","v":0.24031007751937983},{"$f":"'（参考）エネルギー起源CO2排出削減量の算出シート（計画時）'!$J$62","v":0.72727272727272718},{"$f":"'（参考）エネルギー起源CO2排出削減量の算出シート（計画時）'!$J$64","v":0.10744985673352436},{"$f":"'（参考）エネルギー起源CO2排出削減量の算出シート（計画時）'!$J$66","v":0.72727272727272718},{"$f":"'（参考）エネルギー起源CO2排出削減量の算出シート（計画時）'!$J$68","v":0.10744985673352436},{"$f":"'（参考）エネルギー起源CO2排出削減量の算出シート（計画時）'!$J$70","v":0.24031007751937983},{"$f":"'（参考）エネルギー起源CO2排出削減量の算出シート（計画時）'!$J$72","v":0.43037974683544306},null,null,null,null,null,{"$f":"AG246-AG298","v":0},{"$f":"AH246-AH298","v":0},{"$f":"AI246-AI298","v":0},{"$f":"AJ246-AJ298","v":0},{"$f":"AK246-AK298","v":0},{"$f":"AL246-AL298","v":0},{"$f":"AM246-AM298","v":0},{"$f":"AN246-AN298","v":0},{"$f":"AO246-AO298","v":0},{"$f":"AP246-AP298","v":0},{"$f":"AQ246-AQ298","v":0},{"$f":"AR246-AR298","v":0},{"$f":"AS246-AS298","v":0},{"$f":"AT246-AT298","v":0},null,{"$f":"SUM(AY298:BM298)","v":0}]
[null,null,null,null,"ｽﾏｰﾄﾑｰﾌﾞ",null,null,"低炭素物流",null,null,"再エネ",null,null,"食品ロス",null,null,null,null,null,null,null,null,null,null,null,null,null,null,null,null,null,"④CO2排出原単位（t-CO2/人）",{"$f":"'（参考）エネルギー起源CO2排出削減量の算出シート（計画時）'!$L$48","v":1.62},{"$f":"'（参考）エネルギー起源CO2排出削減量の算出シート（計画時）'!$L$50","v":153},{"$f":"'（参考）エネルギー起源CO2排出削減量の算出シート（計画時）'!$L$52","v":10},{"$f":"'（参考）エネルギー起源CO2排出削減量の算出シート（計画時）'!$L$54","v":5.18},{"$f":"'（参考）エネルギー起源CO2排出削減量の算出シート（計画時）'!$L$56","v":2.3E-2},{"$f":"'（参考）エネルギー起源CO2排出削減量の算出シート（計画時）'!$L$58","v":1.7999999999999999E-2},{"$f":"'（参考）エネルギー起源CO2排出削減量の算出シート（計画時）'!$L$60","v":2.81},{"$f":"'（参考）エネルギー起源CO2排出削減量の算出シート（計画時）'!$L$62","v":0.13100000000000001},{"$f":"'（参考）エネルギー起源CO2排出削減量の算出シート（計画時）'!$L$64","v":0.59},{"$f":"'（参考）エネルギー起源CO2排出削減量の算出シート（計画時）'!$L$66","v":0.19},{"$f":"'（参考）エネルギー起源CO2排出削減量の算出シート（計画時）'!$L$68","v":5.8500000000000002E-4},{"$f":"'（参考）エネルギー起源CO2排出削減量の算出シート（計画時）'!$L$70","v":0.24},{"$f":"'（参考）エネルギー起源CO2排出削減量の算出シート（計画時）'!$L$72","v":1.5E-3},{"$f":"'（参考）エネルギー起源CO2排出削減量の算出シート（計画時）'!$L$74","v":0.13800000000000001},"小計",null,null,null,{"$f":"AG247-AG299","v":0},0,0,0,0,0,0,0,0,0,0,0,0,0,null,{"$f":"SUM(AY299:BM299)","v":0}]
[null,null,null,null,"- 選択 -",null,null,"- 選択 -",null,null,"- 選択 -",null,null,"- 選択 -",null,null,"- 選択 -",null,null,null,null,null,null,null,null,null,null,null,null,null,null,"CO2排出削減効果（t-CO2/事業）",{"$f":"AG296*AG297*AG298*AG299","v":0},0,0,0,0,0,0,0,0,0,{"$f":"AQ296*AQ297*AQ298*AQ299*11.400933956","v":0},0,0,{"$f":"AT296*AT299","v":0},{"$f":"SUM(AG300:AT300)","v":0},null,null,null,null,null,null,null,null,null,null,null,null,null,null,null,null,null,null,{"$f":"SUM(BN293:BN299)","v":0}]
[null,null,null,null,"内容（",null,null,null,null,null,null,null,null,null,null,null,null,null,null,null,null,null,null,null,null,null,null,"）",null,null,"※2 訴求手法の b),c),d) のいずれかの場合",null,"※3 ⑩に関しては、人数から再配達個数を自動計算し、再配達1個当たりのCO2排出原単位から算出"]
[null,null,null,null,"昨年度実績",null,null,null,"計",null,null,null,"枚",null,"※複数ある場合は、アンケート合計回収数",null,null,null,null,null,null,null,null,null,null,null,null,null,null,null,"上記の合計",null,null,null,null,null,null,null,null,null,null,null,null,null,null,null,"合計"]
[null,null,null,null,"目標回収数",null,null,null,"計",null,null,null,"枚",null,"※複数ある場合は、アンケート合計回収数",null,null,null,null,null,null,null,null,null,null,null,null,null,null,null,null,"CO2排出削減効果（t-CO2/事業）",{"$f":"AG294+AG300","v":0},{"$f":"AH294+AH300","v":0},0,0,0,0,0,0,0,0,0,0,0,0,{"$f":"SUM(AG303:AT303)","v":0}]
[null,null,null,null,null,null,null,null,null,null,null,null,null,null,null,null,null,null,null,null,null,null,null,null,null,null,null,null,null,null,null,null,null,null,null,null,null,null,null,null,"※合計値は自動的に別紙1に転記されます"]
[null,null,"項目",null,"内容"]
[null,null,"事業6","事業名"]
[null,null,"行動変容テーマ",null,"※公募要領　別表第１　で対象とする補助事業の内容に合致していること。\n※該当するテーマすべてをチェックしてください。"]
[null,null,null,null,"①",null,"②",null,"③",null,"④",null,"⑤",null,"⑥",null,"⑦",null,"⑧",null,"⑨",null,"⑩",null,"⑪",null,"⑫",null,null,null,null,null,"①","②",null,"③","④","⑤","⑥","⑦","⑧","⑨","⑩","⑪","⑫","⑬",null,null,null,null,null,null,null,null,null,null,null,null,null,"a)","b)","c)","d)"]
[null,null,null,null,"省ｴﾈ家電",null,"省ｴﾈ住宅",null,"ｴｺｶｰ",null,"ｸｰﾙﾋﾞｽﾞ",null,"ｳｫｰﾑﾋﾞｽﾞ",null,"照明の\n高効率利用",null,"ｴｺﾄﾞﾗｲﾌﾞ",null,"ｶｰｼｪｱ",null,"ｽﾏｰﾄﾑｰﾌﾞ",null,"低炭素物流",null,"再エネ",null,"食品ロス",null,null,null,null,null,"省ｴﾈ家電","省ｴﾈ住宅",null,"ｴｺｶｰ","ｸｰﾙﾋﾞｽﾞ","ｳｫｰﾑﾋﾞｽﾞ","照明の\n高効率利用","ｴｺﾄﾞﾗｲﾌﾞ","ｶｰｼｪｱ","ｽﾏｰﾄﾑｰﾌﾞ","低炭素物流","再エネ","食品ロス","その他",null,null,null,null,null,null,null,null,null,null,null,null,null,false,false,false,false,{"$f":"COUNTIFS($BH309:$BK309,\"TRUE\")","v":0}]
[null,null,null,null,null,null,null,null,null,null,null,null,null,null,null,null,null,null,null,null,null,null,null,null,null,null,null,null,null,null,null,null,false,false,null,false,false,false,false,false,false,false,false,false,false,false,null,null,null,null,null,null,null,null,null,null,null,{"$f":"COUNTIFS($AG310:BE310,\"TRUE\")","v":0}]
[null,null,null,null,"⑬",null,"↓ ※①～⑫以外のテーマを設定する場合、具体的に記載してください。"]
[null,null,null,null,"その他"]
[]
[null,null,"訴求手法",null,"※訴求手法については、該当する欄にチェックしてください。"]
[null,null,null,null,"a) 情報発信型（受動型）",null,null,null,null,null,null,null,"b) 情報発信型（能動型）",null,null,null,null,null,null,null,"c) 双方向体験交流型"]
[null,null,null,null,"オンラインイベント・\nテレビ・ラジオ等",null,null,null,null,null,null,null,"講演会・パネル展示等",null,null,null,null,null,null,null,"試乗・体験会、省ｴﾈ診断等"]
[]
[null,null,null,null,"d) 双方向ＷＥＢ等配信型",null,null,null,null,null,null,null,"※d) については使用する媒体等を記載してください。"]
[null,null,null,null,"（新手法）"]
[]
[null,null,"実施期間",null,null,null,null,null,null,null,null,null,null,null,"～"]
[null,null,"（備考）"]
[null,null,"実施日\n（※同一事業内で、\n同一の内容・場所において\n複数日実施する場合）",null,1,null,null,null,null,null,null,null,null,null,null,null,6]
[null,null,null,null,2,null,null,null,null,null,null,null,null,null,null,null,7]
[null,null,null,null,3,null,null,null,null,null,null,null,null,null,null,null,8]
[null,null,null,null,4,null,null,null,null,null,null,null,null,null,null,null,9]
[null,null,null,null,5,null,null,null,null,null,null,null,null,null,null,null,10]
[null,null,"事業の概要",null,"※放送による啓発の場合は、尺、制作数、放送回数について具体的に記入してください。"]
[]
[null,null,"地域団体との連携"]
[null,null,"効果的な\n実施の\nための工夫","主な訴求対象"]
[null,null,null,"訴求メッセージ"]
[null,null,null,"事業実施時期の\n設定根拠"]
[null,null,null,"具体的な訴求方法\n・\nその他の工夫"]
[null,null,"目標アウトプット\n（リーチ数）\n（想定及び実績）",null,"昨年度実績",null,null,null,"計"]
[null,null,null,null,"昨年度実績算出根拠"]
[null,null,null,null,"想定",null,null,null,"計",null,0]
[null,null,null,null,"算出方法"]
[null,null,"目標アウトカム（想定及び実績）"]
[null,null,"エネルギー起源CO2排出削減量（想定）",null,"CO2排出削減量",null,null,null,{"$f":"AU355","v":0},null,null,null,null,null,"（t-CO2）",null,null,null,null,null,null,null,null,null,null,null,null,null,null,null,"行動変容テーマ",null,"①","②省ｴﾈ住宅",null,"③","④","⑤","⑥","⑦","⑧","⑨","⑩※3","⑪","⑫","⑬"]
[null,null,null,null,"特記事項","※普及啓発人数の算定方法、平均値以外の変容率を使用する場合の考え方、行動変容テーマ「その他」で計算表を使用せず、独自にCO2削減量を算出した場合の変容率・変容係数の考え方、その他算定に影響を及ぼす事項等を記入して下さい。",null,null,null,null,null,null,null,null,null,null,null,null,null,null,null,null,null,null,null,null,null,null,null,null,null,null,"省ｴﾈ家電","ZEH","断熱リフォーム","ｴｺｶｰ","ｸｰﾙﾋﾞｽﾞ","ｳｫｰﾑﾋﾞｽﾞ","照明の高効率利用","ｴｺﾄﾞﾗｲﾌﾞ","ｶｰｼｪｱ","ｽﾏｰﾄﾑｰﾌﾞ","低炭素物流","再エネ","食品ロス","その他"]
[]
[null,null,null,null,null,null,null,null,null,null,null,null,null,null,null,null,null,null,null,null,null,null,null,null,null,null,null,null,null,null,"ラジオ等※1","①普及啓発人数（人）"]
[null,null,null,null,null,null,null,null,null,null,null,null,null,null,null,null,null,null,null,null,null,null,null,null,null,null,null,null,null,null,null,"②行動変容率（%）",2.3E-2,2E-3,0.02,0.03,0.11899999999999999,0.11899999999999999,2.3E-2,0.11899999999999999,0.104,0.11899999999999999,0.104,2.3E-2,0.156]
[null,null,null,null,null,null,null,null,null,null,null,null,null,null,null,null,null,null,null,null,null,null,null,null,null,null,null,null,null,null,null,"③CO2排出原単位（t-CO2/人）",{"$f":"'（参考）エネルギー起源CO2排出削減量の算出シート（計画時）'!$L$12","v":1.62},{"$f":"'（参考）エネルギー起源CO2排出削減量の算出シート（計画時）'!$L$14","v":153},{"$f":"'（参考）エネルギー起源CO2排出削減量の算出シート（計画時）'!$L$16","v":10},{"$f":"'（参考）エネルギー起源CO2排出削減量の算出シート（計画時）'!$L$18","v":5.18},{"$f":"'（参考）エネルギー起源CO2排出削減量の算出シート（計画時）'!$L$20","v":2.3E-2},{"$f":"'（参考）エネルギー起源CO2排出削減量の算出シート（計画時）'!$L$22","v":1.7999999999999999E-2},{"$f":"'（参考）エネルギー起源CO2排出削減量の算出シート（計画時）'!$L$24","v":2.81},{"$f":"'（参考）エネルギー起源CO2排出削減量の算出シート（計画時）'!$L$26","v":0.13100000000000001},{"$f":"'（参考）エネルギー起源CO2排出削減量の算出シート（計画時）'!$L$28","v":0.59},{"$f":"'（参考）エネルギー起源CO2排出削減量の算出シート（計画時）'!$L$30","v":0.19},{"$f":"'（参考）エネルギー起源CO2排出削減量の算出シート（計画時）'!$L$32","v":5.8500000000000002E-4},{"$f":"'（参考）エネルギー起源CO2排出削減量の算出シート（計画時）'!$L$34","v":0.24},{"$f":"'（参考）エネルギー起源CO2排出削減量の算出シート（計画時）'!$L$36","v":1.5E-3},{"$f":"'（参考）エネルギー起源CO2排出削減量の算出シート（計画時）'!$L$38","v":0.13800000000000001},"小計",null,null,null,{"$f":"AG293-AG345","v":0},{"$f":"AH293-AH345","v":0},{"$f":"AI293-AI345","v":0},{"$f":"AJ293-AJ345","v":0},{"$f":"AK293-AK345","v":0},{"$f":"AL293-AL345","v":0},{"$f":"AM293-AM345","v":0},{"$f":"AN293-AN345","v":0},{"$f":"AO293-AO345","v":0},{"$f":"AP293-AP345","v":0},{"$f":"AQ293-AQ345","v":0},{"$f":"AR293-AR345","v":0},{"$f":"AS293-AS345","v":0},{"$f":"AT293-AT345","v":0},null,{"$f":"SUM(AY345:BM345)","v":0}]
[null,null,"効果検証\n（アンケート）予定",null,"※アンケートの実施予定をプルダウンより選択してください。",null,null,null,null,null,null,null,null,null,null,null,null,null,null,null,null,null,null,null,null,null,null,null,null,null,null,"CO2排出削減効果（t-CO2/事業）",{"$f":"AG343*AG344*AG345","v":0},{"$f":"AH343*AH344*AH345","v":0},{"$f":"AI343*AI344*AI345","v":0},{"$f":"AJ343*AJ344*AJ345","v":0},{"$f":"AK343*AK344*AK345","v":0},0,0,0,0,0,{"$f":"AQ343*AQ344*AQ345*11.400933956","v":0},0,0,{"$f":"AT343*AT345","v":0},{"$f":"SUM(AG346:AT346)","v":0}]
[null,null,null,null,"公募要領に規定のアンケート",null,null,null,null,null,null,null,null,null,null,null,null,null,null,null,null,null,null,null,null,null,null,null,null,null,"※1 訴求手法の a )の場合"]
[null,null,null,null,"省エネ家電",null,null,"省エネ住宅",null,null,"エコカー",null,null,"クールビズ",null,null,"ウォームビズ",null,null,"照明の\n効率的利用",null,null,"ｴｺﾄﾞﾗｲﾌﾞ",null,null,"カーシェア",null,null,null,null,"イベント等※2","①普及啓発人数（人）"]
[null,null,null,null,"- 選択 -",null,null,"- 選択 -",null,null,"- 選択 -",null,null,"- 選択 -",null,null,"- 選択 -",null,null,"- 選択 -",null,null,"- 選択 -",null,null,"- 選択 -",null,null,null,null,null,"②意識変容率（%）",0.25800000000000001,0.34599999999999997,0.26100000000000001,0.23400000000000001,0.39600000000000002,0.39600000000000002,0.25800000000000001,0.39600000000000002,0.69799999999999995,0.39600000000000002,0.69799999999999995,0.25800000000000001,0.79]
[null,null,null,null,"公募要領に規定のアンケート",null,null,null,null,null,null,null,null,null,null,null,"貴事業者独自のアンケート",null,null,null,null,null,null,null,null,null,null,null,null,null,null,"③行動変容係数",{"$f":"'（参考）エネルギー起源CO2排出削減量の算出シート（計画時）'!$J$48","v":0.24031007751937983},{"$f":"'（参考）エネルギー起源CO2排出削減量の算出シート（計画時）'!$J$50","v":6.6473988439306367E-2},{"$f":"'（参考）エネルギー起源CO2排出削減量の算出シート（計画時）'!$J$52","v":0.27203065134099613},{"$f":"'（参考）エネルギー起源CO2排出削減量の算出シート（計画時）'!$J$54","v":0.28205128205128205},{"$f":"'（参考）エネルギー起源CO2排出削減量の算出シート（計画時）'!$J$56","v":0.72727272727272718},{"$f":"'（参考）エネルギー起源CO2排出削減量の算出シート（計画時）'!$J$58","v":0.72727272727272718},{"$f":"'（参考）エネルギー起源CO2排出削減量の算出シート（計画時）'!$J$60","v":0.24031007751937983},{"$f":"'（参考）エネルギー起源CO2排出削減量の算出シート（計画時）'!$J$62","v":0.72727272727272718},{"$f":"'（参考）エネルギー起源CO2排出削減量の算出シート（計画時）'!$J$64","v":0.10744985673352436},{"$f":"'（参考）エネルギー起源CO2排出削減量の算出シート（計画時）'!$J$66","v":0.72727272727272718},{"$f":"'（参考）エネルギー起源CO2排出削減量の算出シート（計画時）'!$J$68","v":0.10744985673352436},{"$f":"'（参考）エネルギー起源CO2排出削減量の算出シート（計画時）'!$J$70","v":0.24031007751937983},{"$f":"'（参考）エネルギー起源CO2排出削減量の算出シート（計画時）'!$J$72","v":0.43037974683544306},null,null,null,null,null,{"$f":"AG298-AG350","v":0},{"$f":"AH298-AH350","v":0},{"$f":"AI298-AI350","v":0},{"$f":"AJ298-AJ350","v":0},{"$f":"AK298-AK350","v":0},{"$f":"AL298-AL350","v":0},{"$f":"AM298-AM350","v":0},{"$f":"AN298-AN350","v":0},{"$f":"AO298-AO350","v":0},{"$f":"AP298-AP350","v":0},{"$f":"AQ298-AQ350","v":0},{"$f":"AR298-AR350","v":0},{"$f":"AS298-AS350","v":0},{"$f":"AT298-AT350","v":0},null,{"$f":"SUM(AY350:BM350)","v":0}]
[null,null,null,null,"ｽﾏｰﾄﾑｰﾌﾞ",null,null,"低炭素物流",null,null,"再エネ",null,null,"食品ロス",null,null,null,null,null,null,null,null,null,null,null,null,null,null,null,null,null,"④CO2排出原単位（t-CO2/人）",{"$f":"'（参考）エネルギー起源CO2排出削減量の算出シート（計画時）'!$L$48","v":1.62},{"$f":"'（参考）エネルギー起源CO2排出削減量の算出シート（計画時）'!$L$50","v":153},{"$f":"'（参考）エネルギー起源CO2排出削減量の算出シート（計画時）'!$L$52","v":10},{"$f":"'（参考）エネルギー起源CO2排出削減量の算出シート（計画時）'!$L$54","v":5.18},{"$f":"'（参考）エネルギー起源CO2排出削減量の算出シート（計画時）'!$L$56","v":2.3E-2},{"$f":"'（参考）エネルギー起源CO2排出削減量の算出シート（計画時）'!$L$58","v":1.7999999999999999E-2},{"$f":"'（参考）エネルギー起源CO2排出削減量の算出シート（計画時）'!$L$60","v":2.81},{"$f":"'（参考）エネルギー起源CO2排出削減量の算出シート（計画時）'!$L$62","v":0.13100000000000001},{"$f":"'（参考）エネルギー起源CO2排出削減量の算出シート（計画時）'!$L$64","v":0.59},{"$f":"'（参考）エネルギー起源CO2排出削減量の算出シート（計画時）'!$L$66","v":0.19},{"$f":"'（参考）エネルギー起源CO2排出削減量の算出シート（計画時）'!$L$68","v":5.8500000000000002E-4},{"$f":"'（参考）エネルギー起源CO2排出削減量の算出シート（計画時）'!$L$70","v":0.24},{"$f":"'（参考）エネルギー起源CO2排出削減量の算出シート（計画時）'!$L$72","v":1.5E-3},{"$f":"'（参考）エネルギー起源CO2排出削減量の算出シート（計画時）'!$L$74","v":0.13800000000000001},"小計",null,null,null,{"$f":"AG299-AG351","v":0},0,0,0,0,0,0,0,0,0,0,0,0,0,null,{"$f":"SUM(AY351:BM351)","v":0}]
[null,null,null,null,"- 選択 -",null,null,"- 選択 -",null,null,"- 選択 -",null,null,"- 選択 -",null,null,"- 選択 -",null,null,null,null,null,null,null,null,null,null,null,null,null,null,"CO2排出削減効果（t-CO2/事業）",{"$f":"AG348*AG349*AG350*AG351","v":0},0,0,0,0,0,0,0,0,0,{"$f":"AQ348*AQ349*AQ350*AQ351*11.400933956","v":0},0,0,{"$f":"AT348*AT351","v":0},{"$f":"SUM(AG352:AT352)","v":0},null,null,null,null,null,null,null,null,null,null,null,null,null,null,null,null,null,null,{"$f":"SUM(BN345:BN351)","v":0}]
[null,null,null,null,"内容（",null,null,null,null,null,null,null,null,null,null,null,null,null,null,null,null,null,null,null,null,null,null,"）",null,null,"※2 訴求手法の b),c),d) のいずれかの場合",null,"※3 ⑩に関しては、人数から再配達個数を自動計算し、再配達1個当たりのCO2排出原単位から算出"]
[null,null,null,null,"昨年度実績",null,null,null,"計",null,null,null,"枚",null,"※複数ある場合は、アンケート合計回収数",null,null,null,null,null,null,null,null,null,null,null,null,null,null,null,"上記の合計",null,null,null,null,null,null,null,null,null,null,null,null,null,null,null,"合計"]
[null,null,null,null,"目標回収数",null,null,null,"計",null,null,null,"枚",null,"※複数ある場合は、アンケート合計回収数",null,null,null,null,null,null,null,null,null,null,null,null,null,null,null,null,"CO2排出削減効果（t-CO2/事業）",{"$f":"AG346+AG352","v":0},{"$f":"AH346+AH352","v":0},0,0,0,0,0,0,0,0,0,0,0,0,{"$f":"SUM(AG355:AT355)","v":0}]
[null,null,null,null,null,null,null,null,null,null,null,null,null,null,null,null,null,null,null,null,null,null,null,null,null,null,null,null,null,null,null,null,null,null,null,null,null,null,null,null,"※合計値は自動的に別紙1に転記されます"]
[null,null,"項目",null,"内容"]
[null,null,"事業7","事業名"]
[null,null,"行動変容テーマ",null,"※公募要領　別表第１　で対象とする補助事業の内容に合致していること。\n※該当するテーマすべてをチェックしてください。"]
[null,null,null,null,"①",null,"②",null,"③",null,"④",null,"⑤",null,"⑥",null,"⑦",null,"⑧",null,"⑨",null,"⑩",null,"⑪",null,"⑫",null,null,null,null,null,"①","②",null,"③","④","⑤","⑥","⑦","⑧","⑨","⑩","⑪","⑫","⑬",null,null,null,null,null,null,null,null,null,null,null,null,null,"a)","b)","c)","d)"]
[null,null,null,null,"省ｴﾈ家電",null,"省ｴﾈ住宅",null,"ｴｺｶｰ",null,"ｸｰﾙﾋﾞｽﾞ",null,"ｳｫｰﾑﾋﾞｽﾞ",null,"照明の\n高効率利用",null,"ｴｺﾄﾞﾗｲﾌﾞ",null,"ｶｰｼｪｱ",null,"ｽﾏｰﾄﾑｰﾌﾞ",null,"低炭素物流",null,"再エネ",null,"食品ロス",null,null,null,null,null,"省ｴﾈ家電","省ｴﾈ住宅",null,"ｴｺｶｰ","ｸｰﾙﾋﾞｽﾞ","ｳｫｰﾑﾋﾞｽﾞ","照明の\n高効率利用","ｴｺﾄﾞﾗｲﾌﾞ","ｶｰｼｪｱ","ｽﾏｰﾄﾑｰﾌﾞ","低炭素物流","再エネ","食品ロス","その他",null,null,null,null,null,null,null,null,null,null,null,null,null,false,false,false,false,{"$f":"COUNTIFS($BH361:$BK361,\"TRUE\")","v":0}]
[null,null,null,null,null,null,null,null,null,null,null,null,null,null,null,null,null,null,null,null,null,null,null,null,null,null,null,null,null,null,null,null,false,false,null,false,false,false,false,false,false,false,false,false,false,false,null,null,null,null,null,null,null,null,null,null,null,{"$f":"COUNTIFS($AG362:BE362,\"TRUE\")","v":0}]
[null,null,null,null,"⑬",null,"↓ ※①～⑫以外のテーマを設定する場合、具体的に記載してください。"]
[null,null,null,null,"その他"]
[]
[null,null,"訴求手法",null,"※訴求手法については、該当する欄にチェックしてください。"]
[null,null,null,null,"a) 情報発信型（受動型）",null,null,null,null,null,null,null,"b) 情報発信型（能動型）",null,null,null,null,null,null,null,"c) 双方向体験交流型"]
[null,null,null,null,"オンラインイベント・\nテレビ・ラジオ等",null,null,null,null,null,null,null,"講演会・パネル展示等",null,null,null,null,null,null,null,"試乗・体験会、省ｴﾈ診断等"]
[]
[null,null,null,null,"d) 双方向ＷＥＢ等配信型",null,null,null,null,null,null,null,"※d) については使用する媒体等を記載してください。"]
[null,null,null,null,"（新手法）"]
[]
[null,null,"実施期間",null,null,null,null,null,null,null,null,null,null,null,"～"]
[null,null,"（備考）"]
[null,null,"実施日\n（※同一事業内で、\n同一の内容・場所において\n複数日実施する場合）",null,1,null,null,null,null,null,null,null,null,null,null,null,6]
[null,null,null,null,2,null,null,null,null,null,null,null,null,null,null,null,7]
[null,null,null,null,3,null,null,null,null,null,null,null,null,null,null,null,8]
[null,null,null,null,4,null,null,null,null,null,null,null,null,null,null,null,9]
[null,null,null,null,5,null,null,null,null,null,null,null,null,null,null,null,10]
[null,null,"事業の概要",null,"※放送による啓発の場合は、尺、制作数、放送回数について具体的に記入してください。"]
[]
[null,null,"地域団体との連携"]
[null,null,"効果的な\n実施の\nための工夫","主な訴求対象"]
[null,null,null,"訴求メッセージ"]
[null,null,null,"事業実施時期の\n設定根拠"]
[null,null,null,"具体的な訴求方法\n・\nその他の工夫"]
[null,null,"目標アウトプット\n（リーチ数）\n（想定及び実績）",null,"昨年度実績",null,null,null,"計"]
[null,null,null,null,"昨年度実績算出根拠"]
[null,null,null,null,"想定",null,null,null,"計",null,0]
[null,null,null,null,"算出方法"]
[null,null,"目標アウトカム（想定及び実績）"]
[null,null,"エネルギー起源CO2排出削減量（想定）",null,"CO2排出削減量",null,null,null,{"$f":"AU407","v":0},null,null,null,null,null,"（t-CO2）",null,null,null,null,null,null,null,null,null,null,null,null,null,null,null,"行動変容テーマ",null,"①","②省ｴﾈ住宅",null,"③","④","⑤","⑥","⑦","⑧","⑨","⑩※3","⑪","⑫","⑬"]
[null,null,null,null,"特記事項","※普及啓発人数の算定方法、平均値以外の変容率を使用する場合の考え方、行動変容テーマ「その他」で計算表を使用せず、独自にCO2削減量を算出した場合の変容率・変容係数の考え方、その他算定に影響を及ぼす事項等を記入して下さい。",null,null,null,null,null,null,null,null,null,null,null,null,null,null,null,null,null,null,null,null,null,null,null,null,null,null,"省ｴﾈ家電","ZEH","断熱リフォーム","ｴｺｶｰ","ｸｰﾙﾋﾞｽﾞ","ｳｫｰﾑﾋﾞｽﾞ","照明の高効率利用","ｴｺﾄﾞﾗｲﾌﾞ","ｶｰｼｪｱ","ｽﾏｰﾄﾑｰﾌﾞ","低炭素物流","再エネ","食品ロス","その他"]
[]
[null,null,null,null,null,null,null,null,null,null,null,null,null,null,null,null,null,null,null,null,null,null,null,null,null,null,null,null,null,null,"ラジオ等※1","①普及啓発人数（人）"]
[null,null,null,null,null,null,null,null,null,null,null,null,null,null,null,null,null,null,null,null,null,null,null,null,null,null,null,null,null,null,null,"②行動変容率（%）",2.3E-2,2E-3,0.02,0.03,0.11899999999999999,0.11899999999999999,2.3E-2,0.11899999999999999,0.104,0.11899999999999999,0.104,2.3E-2,0.156]
[null,null,null,null,null,null,null,null,null,null,null,null,null,null,null,null,null,null,null,null,null,null,null,null,null,null,null,null,null,null,null,"③CO2排出原単位（t-CO2/人）",{"$f":"'（参考）エネルギー起源CO2排出削減量の算出シート（計画時）'!$L$12","v":1.62},{"$f":"'（参考）エネルギー起源CO2排出削減量の算出シート（計画時）'!$L$14","v":153},{"$f":"'（参考）エネルギー起源CO2排出削減量の算出シート（計画時）'!$L$16","v":10},{"$f":"'（参考）エネルギー起源CO2排出削減量の算出シート（計画時）'!$L$18","v":5.18},{"$f":"'（参考）エネルギー起源CO2排出削減量の算出シート（計画時）'!$L$20","v":2.3E-2},{"$f":"'（参考）エネルギー起源CO2排出削減量の算出シート（計画時）'!$L$22","v":1.7999999999999999E-2},{"$f":"'（参考）エネルギー起源CO2排出削減量の算出シート（計画時）'!$L$24","v":2.81},{"$f":"'（参考）エネルギー起源CO2排出削減量の算出シート（計画時）'!$L$26","v":0.13100000000000001},{"$f":"'（参考）エネルギー起源CO2排出削減量の算出シート（計画時）'!$L$28","v":0.59},{"$f":"'（参考）エネルギー起源CO2排出削減量の算出シート（計画時）'!$L$30","v":0.19},{"$f":"'（参考）エネルギー起源CO2排出削減量の算出シート（計画時）'!$L$32","v":5.8500000000000002E-4},{"$f":"'（参考）エネルギー起源CO2排出削減量の算出シート（計画時）'!$L$34","v":0.24},{"$f":"'（参考）エネルギー起源CO2排出削減量の算出シート（計画時）'!$L$36","v":1.5E-3},{"$f":"'（参考）エネルギー起源CO2排出削減量の算出シート（計画時）'!$L$38","v":0.13800000000000001},"小計",null,null,null,{"$f":"AG345-AG397","v":0},{"$f":"AH345-AH397","v":0},{"$f":"AI345-AI397","v":0},{"$f":"AJ345-AJ397","v":0},{"$f":"AK345-AK397","v":0},{"$f":"AL345-AL397","v":0},{"$f":"AM345-AM397","v":0},{"$f":"AN345-AN397","v":0},{"$f":"AO345-AO397","v":0},{"$f":"AP345-AP397","v":0},{"$f":"AQ345-AQ397","v":0},{"$f":"AR345-AR397","v":0},{"$f":"AS345-AS397","v":0},{"$f":"AT345-AT397","v":0},null,{"$f":"SUM(AY397:BM397)","v":0}]
[null,null,"効果検証\n（アンケート）予定",null,"※アンケートの実施予定をプルダウンより選択してください。",null,null,null,null,null,null,null,null,null,null,null,null,null,null,null,null,null,null,null,null,null,null,null,null,null,null,"CO2排出削減効果（t-CO2/事業）",{"$f":"AG395*AG396*AG397","v":0},{"$f":"AH395*AH396*AH397","v":0},{"$f":"AI395*AI396*AI397","v":0},{"$f":"AJ395*AJ396*AJ397","v":0},{"$f":"AK395*AK396*AK397","v":0},0,0,0,0,0,{"$f":"AQ395*AQ396*AQ397*11.400933956","v":0},0,0,{"$f":"AT395*AT397","v":0},{"$f":"SUM(AG398:AT398)","v":0}]
[null,null,null,null,"公募要領に規定のアンケート",null,null,null,null,null,null,null,null,null,null,null,null,null,null,null,null,null,null,null,null,null,null,null,null,null,"※1 訴求手法の a )の場合"]
[null,null,null,null,"省エネ家電",null,null,"省エネ住宅",null,null,"エコカー",null,null,"クールビズ",null,null,"ウォームビズ",null,null,"照明の\n効率的利用",null,null,"ｴｺﾄﾞﾗｲﾌﾞ",null,null,"カーシェア",null,null,null,null,"イベント等※2","①普及啓発人数（人）"]
[null,null,null,null,"- 選択 -",null,null,"- 選択 -",null,null,"- 選択 -",null,null,"- 選択 -",null,null,"- 選択 -",null,null,"- 選択 -",null,null,"- 選択 -",null,null,"- 選択 -",null,null,null,null,null,"②意識変容率（%）",0.25800000000000001,0.34599999999999997,0.26100000000000001,0.23400000000000001,0.39600000000000002,0.39600000000000002,0.25800000000000001,0.39600000000000002,0.69799999999999995,0.39600000000000002,0.69799999999999995,0.25800000000000001,0.79]
[null,null,null,null,"公募要領に規定のアンケート",null,null,null,null,null,null,null,null,null,null,null,"貴事業者独自のアンケート",null,null,null,null,null,null,null,null,null,null,null,null,null,null,"③行動変容係数",{"$f":"'（参考）エネルギー起源CO2排出削減量の算出シート（計画時）'!$J$48","v":0.24031007751937983},{"$f":"'（参考）エネルギー起源CO2排出削減量の算出シート（計画時）'!$J$50","v":6.6473988439306367E-2},{"$f":"'（参考）エネルギー起源CO2排出削減量の算出シート（計画時）'!$J$52","v":0.27203065134099613},{"$f":"'（参考）エネルギー起源CO2排出削減量の算出シート（計画時）'!$J$54","v":0.28205128205128205},{"$f":"'（参考）エネルギー起源CO2排出削減量の算出シート（計画時）'!$J$56","v":0.72727272727272718},{"$f":"'（参考）エネルギー起源CO2排出削減量の算出シート（計画時）'!$J$58","v":0.72727272727272718},{"$f":"'（参考）エネルギー起源CO2排出削減量の算出シート（計画時）'!$J$60","v":0.24031007751937983},{"$f":"'（参考）エネルギー起源CO2排出削減量の算出シート（計画時）'!$J$62","v":0.72727272727272718},{"$f":"'（参考）エネルギー起源CO2排出削減量の算出シート（計画時）'!$J$64","v":0.10744985673352436},{"$f":"'（参考）エネルギー起源CO2排出削減量の算出シート（計画時）'!$J$66","v":0.72727272727272718},{"$f":"'（参考）エネルギー起源CO2排出削減量の算出シート（計画時）'!$J$68","v":0.10744985673352436},{"$f":"'（参考）エネルギー起源CO2排出削減量の算出シート（計画時）'!$J$70","v":0.24031007751937983},{"$f":"'（参考）エネルギー起源CO2排出削減量の算出シート（計画時）'!$J$72","v":0.43037974683544306},null,null,null,null,null,{"$f":"AG350-AG402","v":0},{"$f":"AH350-AH402","v":0},{"$f":"AI350-AI402","v":0},{"$f":"AJ350-AJ402","v":0},{"$f":"AK350-AK402","v":0},{"$f":"AL350-AL402","v":0},{"$f":"AM350-AM402","v":0},{"$f":"AN350-AN402","v":0},{"$f":"AO350-AO402","v":0},{"$f":"AP350-AP402","v":0},{"$f":"AQ350-AQ402","v":0},{"$f":"AR350-AR402","v":0},{"$f":"AS350-AS402","v":0},{"$f":"AT350-AT402","v":0},null,{"$f":"SUM(AY402:BM402)","v":0}]
[null,null,null,null,"ｽﾏｰﾄﾑｰﾌﾞ",null,null,"低炭素物流",null,null,"再エネ",null,null,"食品ロス",null,null,null,null,null,null,null,null,null,null,null,null,null,null,null,null,null,"④CO2排出原単位（t-CO2/人）",{"$f":"'（参考）エネルギー起源CO2排出削減量の算出シート（計画時）'!$L$48","v":1.62},{"$f":"'（参考）エネルギー起源CO2排出削減量の算出シート（計画時）'!$L$50","v":153},{"$f":"'（参考）エネルギー起源CO2排出削減量の算出シート（計画時）'!$L$52","v":10},{"$f":"'（参考）エネルギー起源CO2排出削減量の算出シート（計画時）'!$L$54","v":5.18},{"$f":"'（参考）エネルギー起源CO2排出削減量の算出シート（計画時）'!$L$56","v":2.3E-2},{"$f":"'（参考）エネルギー起源CO2排出削減量の算出シート（計画時）'!$L$58","v":1.7999999999999999E-2},{"$f":"'（参考）エネルギー起源CO2排出削減量の算出シート（計画時）'!$L$60","v":2.81},{"$f":"'（参考）エネルギー起源CO2排出削減量の算出シート（計画時）'!$L$62","v":0.13100000000000001},{"$f":"'（参考）エネルギー起源CO2排出削減量の算出シート（計画時）'!$L$64","v":0.59},{"$f":"'（参考）エネルギー起源CO2排出削減量の算出シート（計画時）'!$L$66","v":0.19},{"$f":"'（参考）エネルギー起源CO2排出削減量の算出シート（計画時）'!$L$68","v":5.8500000000000002E-4},{"$f":"'（参考）エネルギー起源CO2排出削減量の算出シート（計画時）'!$L$70","v":0.24},{"$f":"'（参考）エネルギー起源CO2排出削減量の算出シート（計画時）'!$L$72","v":1.5E-3},{"$f":"'（参考）エネルギー起源CO2排出削減量の算出シート（計画時）'!$L$74","v":0.13800000000000001},"小計",null,null,null,{"$f":"AG351-AG403","v":0},0,0,0,0,0,0,0,0,0,0,0,0,0,null,{"$f":"SUM(AY403:BM403)","v":0}]
[null,null,null,null,"- 選択 -",null,null,"- 選択 -",null,null,"- 選択 -",null,null,"- 選択 -",null,null,"- 選択 -",null,null,null,null,null,null,null,null,null,null,null,null,null,null,"CO2排出削減効果（t-CO2/事業）",{"$f":"AG400*AG401*AG402*AG403","v":0},0,0,0,0,0,0,0,0,0,{"$f":"AQ400*AQ401*AQ402*AQ403*11.400933956","v":0},0,0,{"$f":"AT400*AT403","v":0},{"$f":"SUM(AG404:AT404)","v":0},null,null,null,null,null,null,null,null,null,null,null,null,null,null,null,null,null,null,{"$f":"SUM(BN397:BN403)","v":0}]
[null,null,null,null,"内容（",null,null,null,null,null,null,null,null,null,null,null,null,null,null,null,null,null,null,null,null,null,null,"）",null,null,"※2 訴求手法の b),c),d) のいずれかの場合",null,"※3 ⑩に関しては、人数から再配達個数を自動計算し、再配達1個当たりのCO2排出原単位から算出"]
[null,null,null,null,"昨年度実績",null,null,null,"計",null,null,null,"枚",null,"※複数ある場合は、アンケート合計回収数",null,null,null,null,null,null,null,null,null,null,null,null,null,null,null,"上記の合計",null,null,null,null,null,null,null,null,null,null,null,null,null,null,null,"合計"]
[null,null,null,null,"目標回収数",null,null,null,"計",null,null,null,"枚",null,"※複数ある場合は、アンケート合計回収数",null,null,null,null,null,null,null,null,null,null,null,null,null,null,null,null,"CO2排出削減効果（t-CO2/事業）",{"$f":"AG398+AG404","v":0},{"$f":"AH398+AH404","v":0},0,0,0,0,0,0,0,0,0,0,0,0,{"$f":"SUM(AG407:AT407)","v":0}]
[null,null,null,null,null,null,null,null,null,null,null,null,null,null,null,null,null,null,null,null,null,null,null,null,null,null,null,null,null,null,null,null,null,null,null,null,null,null,null,null,"※合計値は自動的に別紙1に転記されます"]
[null,null,"項目",null,"内容"]
[null,null,"事業8","事業名"]
[null,null,"行動変容テーマ",null,"※公募要領　別表第１　で対象とする補助事業の内容に合致していること。\n※該当するテーマすべてをチェックしてください。"]
[null,null,null,null,"①",null,"②",null,"③",null,"④",null,"⑤",null,"⑥",null,"⑦",null,"⑧",null,"⑨",null,"⑩",null,"⑪",null,"⑫",null,null,null,null,null,"①","②",null,"③","④","⑤","⑥","⑦","⑧","⑨","⑩","⑪","⑫","⑬",null,null,null,null,null,null,null,null,null,null,null,null,null,"a)","b)","c)","d)"]
[null,null,null,null,"省ｴﾈ家電",null,"省ｴﾈ住宅",null,"ｴｺｶｰ",null,"ｸｰﾙﾋﾞｽﾞ",null,"ｳｫｰﾑﾋﾞｽﾞ",null,"照明の\n高効率利用",null,"ｴｺﾄﾞﾗｲﾌﾞ",null,"ｶｰｼｪｱ",null,"ｽﾏｰﾄﾑｰﾌﾞ",null,"低炭素物流",null,"再エネ",null,"食品ロス",null,null,null,null,null,"省ｴﾈ家電","省ｴﾈ住宅",null,"ｴｺｶｰ","ｸｰﾙﾋﾞｽﾞ","ｳｫｰﾑﾋﾞｽﾞ","照明の\n高効率利用","ｴｺﾄﾞﾗｲﾌﾞ","ｶｰｼｪｱ","ｽﾏｰﾄﾑｰﾌﾞ","低炭素物流","再エネ","食品ロス","その他",null,null,null,null,null,null,null,null,null,null,null,null,null,false,false,false,false,{"$f":"COUNTIFS($BH413:$BK413,\"TRUE\")","v":0}]
[null,null,null,null,null,null,null,null,null,null,null,null,null,null,null,null,null,null,null,null,null,null,null,null,null,null,null,null,null,null,null,null,false,false,null,false,false,false,false,false,false,false,false,false,false,false,null,null,null,null,null,null,null,null,null,null,null,{"$f":"COUNTIFS($AG414:BE414,\"TRUE\")","v":0}]
[null,null,null,null,"⑬",null,"↓ ※①～⑫以外のテーマを設定する場合、具体的に記載してください。"]
[null,null,null,null,"その他"]
[]
[null,null,"訴求手法",null,"※訴求手法については、該当する欄にチェックしてください。"]
[null,null,null,null,"a) 情報発信型（受動型）",null,null,null,null,null,null,null,"b) 情報発信型（能動型）",null,null,null,null,null,null,null,"c) 双方向体験交流型"]
[null,null,null,null,"オンラインイベント・\nテレビ・ラジオ等",null,null,null,null,null,null,null,"講演会・パネル展示等",null,null,null,null,null,null,null,"試乗・体験会、省ｴﾈ診断等"]
[]
[null,null,null,null,"d) 双方向ＷＥＢ等配信型",null,null,null,null,null,null,null,"※d) については使用する媒体等を記載してください。"]
[null,null,null,null,"（新手法）"]
[]
[null,null,"実施期間",null,null,null,null,null,null,null,null,null,null,null,"～"]
[null,null,"（備考）"]
[null,null,"実施日\n（※同一事業内で、\n同一の内容・場所において\n複数日実施する場合）",null,1,null,null,null,null,null,null,null,null,null,null,null,6]
[null,null,null,null,2,null,null,null,null,null,null,null,null,null,null,null,7]
[null,null,null,null,3,null,null,null,null,null,null,null,null,null,null,null,8]
[null,null,null,null,4,null,null,null,null,null,null,null,null,null,null,null,9]
[null,null,null,null,5,null,null,null,null,null,null,null,null,null,null,null,10]
[null,null,"事業の概要",null,"※放送による啓発の場合は、尺、制作数、放送回数について具体的に記入してください。"]
[]
[null,null,"地域団体との連携"]
[null,null,"効果的な\n実施の\nための工夫","主な訴求対象"]
[null,null,null,"訴求メッセージ"]
[null,null,null,"事業実施時期の\n設定根拠"]
[null,null,null,"具体的な訴求方法\n・\nその他の工夫"]
[null,null,"目標アウトプット\n（リーチ数）\n（想定及び実績）",null,"昨年度実績",null,null,null,"計"]
[null,null,null,null,"昨年度実績算出根拠"]
[null,null,null,null,"想定",null,null,null,"計",null,0]
[null,null,null,null,"算出方法"]
[null,null,"目標アウトカム（想定及び実績）"]
[null,null,"エネルギー起源CO2排出削減量（想定及び実績）",null,"CO2排出削減量",null,null,null,{"$f":"AU459","v":0},null,null,null,null,null,"（t-CO2）",null,null,null,null,null,null,null,null,null,null,null,null,null,null,null,"行動変容テーマ",null,"①","②省ｴﾈ住宅",null,"③","④","⑤","⑥","⑦","⑧","⑨","⑩※3","⑪","⑫","⑬"]
[null,null,null,null,"特記事項","※普及啓発人数の算定方法、平均値以外の変容率を使用する場合の考え方、行動変容テーマ「その他」で計算表を使用せず、独自にCO2削減量を算出した場合の変容率・変容係数の考え方、その他算定に影響を及ぼす事項等を記入して下さい。",null,null,null,null,null,null,null,null,null,null,null,null,null,null,null,null,null,null,null,null,null,null,null,null,null,null,"省ｴﾈ家電","ZEH","断熱リフォーム","ｴｺｶｰ","ｸｰﾙﾋﾞｽﾞ","ｳｫｰﾑﾋﾞｽﾞ","照明の高効率利用","ｴｺﾄﾞﾗｲﾌﾞ","ｶｰｼｪｱ","ｽﾏｰﾄﾑｰﾌﾞ","低炭素物流","再エネ","食品ロス","その他"]
[]
[null,null,null,null,null,null,null,null,null,null,null,null,null,null,null,null,null,null,null,null,null,null,null,null,null,null,null,null,null,null,"ラジオ等※1","①普及啓発人数（人）"]
[null,null,null,null,null,null,null,null,null,null,null,null,null,null,null,null,null,null,null,null,null,null,null,null,null,null,null,null,null,null,null,"②行動変容率（%）",2.3E-2,2E-3,0.02,0.03,0.11899999999999999,0.11899999999999999,2.3E-2,0.11899999999999999,0.104,0.11899999999999999,0.104,2.3E-2,0.156]
[null,null,null,null,null,null,null,null,null,null,null,null,null,null,null,null,null,null,null,null,null,null,null,null,null,null,null,null,null,null,null,"③CO2排出原単位（t-CO2/人）",{"$f":"'（参考）エネルギー起源CO2排出削減量の算出シート（計画時）'!$L$12","v":1.62},{"$f":"'（参考）エネルギー起源CO2排出削減量の算出シート（計画時）'!$L$14","v":153},{"$f":"'（参考）エネルギー起源CO2排出削減量の算出シート（計画時）'!$L$16","v":10},{"$f":"'（参考）エネルギー起源CO2排出削減量の算出シート（計画時）'!$L$18","v":5.18},{"$f":"'（参考）エネルギー起源CO2排出削減量の算出シート（計画時）'!$L$20","v":2.3E-2},{"$f":"'（参考）エネルギー起源CO2排出削減量の算出シート（計画時）'!$L$22","v":1.7999999999999999E-2},{"$f":"'（参考）エネルギー起源CO2排出削減量の算出シート（計画時）'!$L$24","v":2.81},{"$f":"'（参考）エネルギー起源CO2排出削減量の算出シート（計画時）'!$L$26","v":0.13100000000000001},{"$f":"'（参考）エネルギー起源CO2排出削減量の算出シート（計画時）'!$L$28","v":0.59},{"$f":"'（参考）エネルギー起源CO2排出削減量の算出シート（計画時）'!$L$30","v":0.19},{"$f":"'（参考）エネルギー起源CO2排出削減量の算出シート（計画時）'!$L$32","v":5.8500000000000002E-4},{"$f":"'（参考）エネルギー起源CO2排出削減量の算出シート（計画時）'!$L$34","v":0.24},{"$f":"'（参考）エネルギー起源CO2排出削減量の算出シート（計画時）'!$L$36","v":1.5E-3},{"$f":"'（参考）エネルギー起源CO2排出削減量の算出シート（計画時）'!$L$38","v":0.13800000000000001},"小計",null,null,null,{"$f":"AG397-AG449","v":0},{"$f":"AH397-AH449","v":0},{"$f":"AI397-AI449","v":0},{"$f":"AJ397-AJ449","v":0},{"$f":"AK397-AK449","v":0},{"$f":"AL397-AL449","v":0},{"$f":"AM397-AM449","v":0},{"$f":"AN397-AN449","v":0},{"$f":"AO397-AO449","v":0},{"$f":"AP397-AP449","v":0},{"$f":"AQ397-AQ449","v":0},{"$f":"AR397-AR449","v":0},{"$f":"AS397-AS449","v":0},{"$f":"AT397-AT449","v":0},null,{"$f":"SUM(AY449:BM449)","v":0}]
[null,null,"効果検証\n（アンケート）予定",null,"※アンケートの実施予定をプルダウンより選択してください。",null,null,null,null,null,null,null,null,null,null,null,null,null,null,null,null,null,null,null,null,null,null,null,null,null,null,"CO2排出削減効果（t-CO2/事業）",{"$f":"AG447*AG448*AG449","v":0},{"$f":"AH447*AH448*AH449","v":0},{"$f":"AI447*AI448*AI449","v":0},{"$f":"AJ447*AJ448*AJ449","v":0},{"$f":"AK447*AK448*AK449","v":0},0,0,0,0,0,{"$f":"AQ447*AQ448*AQ449*11.400933956","v":0},0,0,{"$f":"AT447*AT449","v":0},{"$f":"SUM(AG450:AT450)","v":0}]
[null,null,null,null,"公募要領に規定のアンケート",null,null,null,null,null,null,null,null,null,null,null,null,null,null,null,null,null,null,null,null,null,null,null,null,null,"※1 訴求手法の a )の場合"]
[null,null,null,null,"省エネ家電",null,null,"省エネ住宅",null,null,"エコカー",null,null,"クールビズ",null,null,"ウォームビズ",null,null,"照明の\n効率的利用",null,null,"ｴｺﾄﾞﾗｲﾌﾞ",null,null,"カーシェア",null,null,null,null,"イベント等※2","①普及啓発人数（人）"]
[null,null,null,null,"- 選択 -",null,null,"- 選択 -",null,null,"- 選択 -",null,null,"- 選択 -",null,null,"- 選択 -",null,null,"- 選択 -",null,null,"- 選択 -",null,null,"- 選択 -",null,null,null,null,null,"②意識変容率（%）",0.25800000000000001,0.34599999999999997,0.26100000000000001,0.23400000000000001,0.39600000000000002,0.39600000000000002,0.25800000000000001,0.39600000000000002,0.69799999999999995,0.39600000000000002,0.69799999999999995,0.25800000000000001,0.79]
[null,null,null,null,"公募要領に規定のアンケート",null,null,null,null,null,null,null,null,null,null,null,"貴事業者独自のアンケート",null,null,null,null,null,null,null,null,null,null,null,null,null,null,"③行動変容係数",{"$f":"'（参考）エネルギー起源CO2排出削減量の算出シート（計画時）'!$J$48","v":0.24031007751937983},{"$f":"'（参考）エネルギー起源CO2排出削減量の算出シート（計画時）'!$J$50","v":6.6473988439306367E-2},{"$f":"'（参考）エネルギー起源CO2排出削減量の算出シート（計画時）'!$J$52","v":0.27203065134099613},{"$f":"'（参考）エネルギー起源CO2排出削減量の算出シート（計画時）'!$J$54","v":0.28205128205128205},{"$f":"'（参考）エネルギー起源CO2排出削減量の算出シート（計画時）'!$J$56","v":0.72727272727272718},{"$f":"'（参考）エネルギー起源CO2排出削減量の算出シート（計画時）'!$J$58","v":0.72727272727272718},{"$f":"'（参考）エネルギー起源CO2排出削減量の算出シート（計画時）'!$J$60","v":0.24031007751937983},{"$f":"'（参考）エネルギー起源CO2排出削減量の算出シート（計画時）'!$J$62","v":0.72727272727272718},{"$f":"'（参考）エネルギー起源CO2排出削減量の算出シート（計画時）'!$J$64","v":0.10744985673352436},{"$f":"'（参考）エネルギー起源CO2排出削減量の算出シート（計画時）'!$J$66","v":0.72727272727272718},{"$f":"'（参考）エネルギー起源CO2排出削減量の算出シート（計画時）'!$J$68","v":0.10744985673352436},{"$f":"'（参考）エネルギー起源CO2排出削減量の算出シート（計画時）'!$J$70","v":0.24031007751937983},{"$f":"'（参考）エネルギー起源CO2排出削減量の算出シート（計画時）'!$J$72","v":0.43037974683544306},null,null,null,null,null,{"$f":"AG402-AG454","v":0},{"$f":"AH402-AH454","v":0},{"$f":"AI402-AI454","v":0},{"$f":"AJ402-AJ454","v":0},{"$f":"AK402-AK454","v":0},{"$f":"AL402-AL454","v":0},{"$f":"AM402-AM454","v":0},{"$f":"AN402-AN454","v":0},{"$f":"AO402-AO454","v":0},{"$f":"AP402-AP454","v":0},{"$f":"AQ402-AQ454","v":0},{"$f":"AR402-AR454","v":0},{"$f":"AS402-AS454","v":0},{"$f":"AT402-AT454","v":0},null,{"$f":"SUM(AY454:BM454)","v":0}]
[null,null,null,null,"ｽﾏｰﾄﾑｰﾌﾞ",null,null,"低炭素物流",null,null,"再エネ",null,null,"食品ロス",null,null,null,null,null,null,null,null,null,null,null,null,null,null,null,null,null,"④CO2排出原単位（t-CO2/人）",{"$f":"'（参考）エネルギー起源CO2排出削減量の算出シート（計画時）'!$L$48","v":1.62},{"$f":"'（参考）エネルギー起源CO2排出削減量の算出シート（計画時）'!$L$50","v":153},{"$f":"'（参考）エネルギー起源CO2排出削減量の算出シート（計画時）'!$L$52","v":10},{"$f":"'（参考）エネルギー起源CO2排出削減量の算出シート（計画時）'!$L$54","v":5.18},{"$f":"'（参考）エネルギー起源CO2排出削減量の算出シート（計画時）'!$L$56","v":2.3E-2},{"$f":"'（参考）エネルギー起源CO2排出削減量の算出シート（計画時）'!$L$58","v":1.7999999999999999E-2},{"$f":"'（参考）エネルギー起源CO2排出削減量の算出シート（計画時）'!$L$60","v":2.81},{"$f":"'（参考）エネルギー起源CO2排出削減量の算出シート（計画時）'!$L$62","v":0.13100000000000001},{"$f":"'（参考）エネルギー起源CO2排出削減量の算出シート（計画時）'!$L$64","v":0.59},{"$f":"'（参考）エネルギー起源CO2排出削減量の算出シート（計画時）'!$L$66","v":0.19},{"$f":"'（参考）エネルギー起源CO2排出削減量の算出シート（計画時）'!$L$68","v":5.8500000000000002E-4},{"$f":"'（参考）エネルギー起源CO2排出削減量の算出シート（計画時）'!$L$70","v":0.24},{"$f":"'（参考）エネルギー起源CO2排出削減量の算出シート（計画時）'!$L$72","v":1.5E-3},{"$f":"'（参考）エネルギー起源CO2排出削減量の算出シート（計画時）'!$L$74","v":0.13800000000000001},"小計",null,null,null,{"$f":"AG403-AG455","v":0},0,0,0,0,0,0,0,0,0,0,0,0,0,null,{"$f":"SUM(AY455:BM455)","v":0}]
[null,null,null,null,"- 選択 -",null,null,"- 選択 -",null,null,"- 選択 -",null,null,"- 選択 -",null,null,"- 選択 -",null,null,null,null,null,null,null,null,null,null,null,null,null,null,"CO2排出削減効果（t-CO2/事業）",{"$f":"AG452*AG453*AG454*AG455","v":0},0,0,0,0,0,0,0,0,0,{"$f":"AQ452*AQ453*AQ454*AQ455*11.400933956","v":0},0,0,{"$f":"AT452*AT455","v":0},{"$f":"SUM(AG456:AT456)","v":0},null,null,null,null,null,null,null,null,null,null,null,null,null,null,null,null,null,null,{"$f":"SUM(BN449:BN455)","v":0}]
[null,null,null,null,"内容（",null,null,null,null,null,null,null,null,null,null,null,null,null,null,null,null,null,null,null,null,null,null,"）",null,null,"※2 訴求手法の b),c),d) のいずれかの場合",null,"※3 ⑩に関しては、人数から再配達個数を自動計算し、再配達1個当たりのCO2排出原単位から算出"]
[null,null,null,null,"昨年度実績",null,null,null,"計",null,null,null,"枚",null,"※複数ある場合は、アンケート合計回収数",null,null,null,null,null,null,null,null,null,null,null,null,null,null,null,"上記の合計",null,null,null,null,null,null,null,null,null,null,null,null,null,null,null,"合計"]
[null,null,null,null,"目標回収数",null,null,null,"計",null,null,null,"枚",null,"※複数ある場合は、アンケート合計回収数",null,null,null,null,null,null,null,null,null,null,null,null,null,null,null,null,"CO2排出削減効果（t-CO2/事業）",{"$f":"AG450+AG456","v":0},{"$f":"AH450+AH456","v":0},0,0,0,0,0,0,0,0,0,0,0,0,{"$f":"SUM(AG459:AT459)","v":0}]
[null,null,null,null,null,null,null,null,null,null,null,null,null,null,null,null,null,null,null,null,null,null,null,null,null,null,null,null,null,null,null,null,null,null,null,null,null,null,null,null,"※合計値は自動的に別紙1に転記されます"]
[null,null,"項目",null,"内容"]
[null,null,"事業9","事業名"]
[null,null,"行動変容テーマ",null,"※公募要領　別表第１　で対象とする補助事業の内容に合致していること。\n※該当するテーマすべてをチェックしてください。"]
[null,null,null,null,"①",null,"②",null,"③",null,"④",null,"⑤",null,"⑥",null,"⑦",null,"⑧",null,"⑨",null,"⑩",null,"⑪",null,"⑫",null,null,null,null,null,"①","②",null,"③","④","⑤","⑥","⑦","⑧","⑨","⑩","⑪","⑫","⑬",null,null,null,null,null,null,null,null,null,null,null,null,null,"a)","b)","c)","d)"]
[null,null,null,null,"省ｴﾈ家電",null,"省ｴﾈ住宅",null,"ｴｺｶｰ",null,"ｸｰﾙﾋﾞｽﾞ",null,"ｳｫｰﾑﾋﾞｽﾞ",null,"照明の\n高効率利用",null,"ｴｺﾄﾞﾗｲﾌﾞ",null,"ｶｰｼｪｱ",null,"ｽﾏｰﾄﾑｰﾌﾞ",null,"低炭素物流",null,"再エネ",null,"食品ロス",null,null,null,null,null,"省ｴﾈ家電","省ｴﾈ住宅",null,"ｴｺｶｰ","ｸｰﾙﾋﾞｽﾞ","ｳｫｰﾑﾋﾞｽﾞ","照明の\n高効率利用","ｴｺﾄﾞﾗｲﾌﾞ","ｶｰｼｪｱ","ｽﾏｰﾄﾑｰﾌﾞ","低炭素物流","再エネ","食品ロス","その他",null,null,null,null,null,null,null,null,null,null,null,null,null,false,false,false,false,{"$f":"COUNTIFS($BH465:$BK465,\"TRUE\")","v":0}]
[null,null,null,null,null,null,null,null,null,null,null,null,null,null,null,null,null,null,null,null,null,null,null,null,null,null,null,null,null,null,null,null,false,false,null,false,false,false,false,false,false,false,false,false,false,false,null,null,null,null,null,null,null,null,null,null,null,{"$f":"COUNTIFS($AG466:BE466,\"TRUE\")","v":0}]
[null,null,null,null,"⑬",null,"↓ ※①～⑫以外のテーマを設定する場合、具体的に記載してください。"]
[null,null,null,null,"その他"]
[]
[null,null,"訴求手法",null,"※訴求手法については、該当する欄にチェックしてください。"]
[null,null,null,null,"a) 情報発信型（受動型）",null,null,null,null,null,null,null,"b) 情報発信型（能動型）",null,null,null,null,null,null,null,"c) 双方向体験交流型"]
[null,null,null,null,"オンラインイベント・\nテレビ・ラジオ等",null,null,null,null,null,null,null,"講演会・パネル展示等",null,null,null,null,null,null,null,"試乗・体験会、省ｴﾈ診断等"]
[]
[null,null,null,null,"d) 双方向ＷＥＢ等配信型",null,null,null,null,null,null,null,"※d) については使用する媒体等を記載してください。"]
[null,null,null,null,"（新手法）"]
[]
[null,null,"実施期間",null,null,null,null,null,null,null,null,null,null,null,"～"]
[null,null,"（備考）"]
[null,null,"実施日\n（※同一事業内で、\n同一の内容・場所において\n複数日実施する場合）",null,1,null,null,null,null,null,null,null,null,null,null,null,6]
[null,null,null,null,2,null,null,null,null,null,null,null,null,null,null,null,7]
[null,null,null,null,3,null,null,null,null,null,null,null,null,null,null,null,8]
[null,null,null,null,4,null,null,null,null,null,null,null,null,null,null,null,9]
[null,null,null,null,5,null,null,null,null,null,null,null,null,null,null,null,10]
[null,null,"事業の概要",null,"※放送による啓発の場合は、尺、制作数、放送回数について具体的に記入してください。"]
[]
[null,null,"地域団体との連携"]
[null,null,"効果的な\n実施の\nための工夫","主な訴求対象"]
[null,null,null,"訴求メッセージ"]
[null,null,null,"事業実施時期の\n設定根拠"]
[null,null,null,"具体的な訴求方法\n・\nその他の工夫"]
[null,null,"目標アウトプット\n（リーチ数）\n（想定及び実績）",null,"昨年度実績",null,null,null,"計"]
[null,null,null,null,"昨年度実績算出根拠"]
[null,null,null,null,"想定",null,null,null,"計",null,0]
[null,null,null,null,"算出方法"]
[null,null,"目標アウトカム（想定及び実績）"]
[null,null,"エネルギー起源CO2排出削減量（想定）",null,"CO2排出削減量",null,null,null,{"$f":"AU511","v":0},null,null,null,null,null,"（t-CO2）",null,null,null,null,null,null,null,null,null,null,null,null,null,null,null,"行動変容テーマ",null,"①","②省ｴﾈ住宅",null,"③","④","⑤","⑥","⑦","⑧","⑨","⑩※3","⑪","⑫","⑬"]
[null,null,null,null,"特記事項","※普及啓発人数の算定方法、平均値以外の変容率を使用する場合の考え方、行動変容テーマ「その他」で計算表を使用せず、独自にCO2削減量を算出した場合の変容率・変容係数の考え方、その他算定に影響を及ぼす事項等を記入して下さい。",null,null,null,null,null,null,null,null,null,null,null,null,null,null,null,null,null,null,null,null,null,null,null,null,null,null,"省ｴﾈ家電","ZEH","断熱リフォーム","ｴｺｶｰ","ｸｰﾙﾋﾞｽﾞ","ｳｫｰﾑﾋﾞｽﾞ","照明の高効率利用","ｴｺﾄﾞﾗｲﾌﾞ","ｶｰｼｪｱ","ｽﾏｰﾄﾑｰﾌﾞ","低炭素物流","再エネ","食品ロス","その他"]
[]
[null,null,null,null,null,null,null,null,null,null,null,null,null,null,null,null,null,null,null,null,null,null,null,null,null,null,null,null,null,null,"ラジオ等※1","①普及啓発人数（人）"]
[null,null,null,null,null,null,null,null,null,null,null,null,null,null,null,null,null,null,null,null,null,null,null,null,null,null,null,null,null,null,null,"②行動変容率（%）",2.3E-2,2E-3,0.02,0.03,0.11899999999999999,0.11899999999999999,2.3E-2,0.11899999999999999,0.104,0.11899999999999999,0.104,2.3E-2,0.156]
[null,null,null,null,null,null,null,null,null,null,null,null,null,null,null,null,null,null,null,null,null,null,null,null,null,null,null,null,null,null,null,"③CO2排出原単位（t-CO2/人）",{"$f":"'（参考）エネルギー起源CO2排出削減量の算出シート（計画時）'!$L$12","v":1.62},{"$f":"'（参考）エネルギー起源CO2排出削減量の算出シート（計画時）'!$L$14","v":153},{"$f":"'（参考）エネルギー起源CO2排出削減量の算出シート（計画時）'!$L$16","v":10},{"$f":"'（参考）エネルギー起源CO2排出削減量の算出シート（計画時）'!$L$18","v":5.18},{"$f":"'（参考）エネルギー起源CO2排出削減量の算出シート（計画時）'!$L$20","v":2.3E-2},{"$f":"'（参考）エネルギー起源CO2排出削減量の算出シート（計画時）'!$L$22","v":1.7999999999999999E-2},{"$f":"'（参考）エネルギー起源CO2排出削減量の算出シート（計画時）'!$L$24","v":2.81},{"$f":"'（参考）エネルギー起源CO2排出削減量の算出シート（計画時）'!$L$26","v":0.13100000000000001},{"$f":"'（参考）エネルギー起源CO2排出削減量の算出シート（計画時）'!$L$28","v":0.59},{"$f":"'（参考）エネルギー起源CO2排出削減量の算出シート（計画時）'!$L$30","v":0.19},{"$f":"'（参考）エネルギー起源CO2排出削減量の算出シート（計画時）'!$L$32","v":5.8500000000000002E-4},{"$f":"'（参考）エネルギー起源CO2排出削減量の算出シート（計画時）'!$L$34","v":0.24},{"$f":"'（参考）エネルギー起源CO2排出削減量の算出シート（計画時）'!$L$36","v":1.5E-3},{"$f":"'（参考）エネルギー起源CO2排出削減量の算出シート（計画時）'!$L$38","v":0.13800000000000001},"小計",null,null,null,{"$f":"AG449-AG501","v":0},{"$f":"AH449-AH501","v":0},{"$f":"AI449-AI501","v":0},{"$f":"AJ449-AJ501","v":0},{"$f":"AK449-AK501","v":0},{"$f":"AL449-AL501","v":0},{"$f":"AM449-AM501","v":0},{"$f":"AN449-AN501","v":0},{"$f":"AO449-AO501","v":0},{"$f":"AP449-AP501","v":0},{"$f":"AQ449-AQ501","v":0},{"$f":"AR449-AR501","v":0},{"$f":"AS449-AS501","v":0},{"$f":"AT449-AT501","v":0},null,{"$f":"SUM(AY501:BM501)","v":0}]
[null,null,"効果検証\n（アンケート）予定",null,"※アンケートの実施予定をプルダウンより選択してください。",null,null,null,null,null,null,null,null,null,null,null,null,null,null,null,null,null,null,null,null,null,null,null,null,null,null,"CO2排出削減効果（t-CO2/事業）",{"$f":"AG499*AG500*AG501","v":0},{"$f":"AH499*AH500*AH501","v":0},{"$f":"AI499*AI500*AI501","v":0},{"$f":"AJ499*AJ500*AJ501","v":0},{"$f":"AK499*AK500*AK501","v":0},0,0,0,0,0,{"$f":"AQ499*AQ500*AQ501*11.400933956","v":0},0,0,{"$f":"AT499*AT501","v":0},{"$f":"SUM(AG502:AT502)","v":0}]
[null,null,null,null,"公募要領に規定のアンケート",null,null,null,null,null,null,null,null,null,null,null,null,null,null,null,null,null,null,null,null,null,null,null,null,null,"※1 訴求手法の a )の場合"]
[null,null,null,null,"省エネ家電",null,null,"省エネ住宅",null,null,"エコカー",null,null,"クールビズ",null,null,"ウォームビズ",null,null,"照明の\n効率的利用",null,null,"ｴｺﾄﾞﾗｲﾌﾞ",null,null,"カーシェア",null,null,null,null,"イベント等※2","①普及啓発人数（人）"]
[null,null,null,null,"- 選択 -",null,null,"- 選択 -",null,null,"- 選択 -",null,null,"- 選択 -",null,null,"- 選択 -",null,null,"- 選択 -",null,null,"- 選択 -",null,null,"- 選択 -",null,null,null,null,null,"②意識変容率（%）",0.25800000000000001,0.34599999999999997,0.26100000000000001,0.23400000000000001,0.39600000000000002,0.39600000000000002,0.25800000000000001,0.39600000000000002,0.69799999999999995,0.39600000000000002,0.69799999999999995,0.25800000000000001,0.79]
[null,null,null,null,"公募要領に規定のアンケート",null,null,null,null,null,null,null,null,null,null,null,"貴事業者独自のアンケート",null,null,null,null,null,null,null,null,null,null,null,null,null,null,"③行動変容係数",{"$f":"'（参考）エネルギー起源CO2排出削減量の算出シート（計画時）'!$J$48","v":0.24031007751937983},{"$f":"'（参考）エネルギー起源CO2排出削減量の算出シート（計画時）'!$J$50","v":6.6473988439306367E-2},{"$f":"'（参考）エネルギー起源CO2排出削減量の算出シート（計画時）'!$J$52","v":0.27203065134099613},{"$f":"'（参考）エネルギー起源CO2排出削減量の算出シート（計画時）'!$J$54","v":0.28205128205128205},{"$f":"'（参考）エネルギー起源CO2排出削減量の算出シート（計画時）'!$J$56","v":0.72727272727272718},{"$f":"'（参考）エネルギー起源CO2排出削減量の算出シート（計画時）'!$J$58","v":0.72727272727272718},{"$f":"'（参考）エネルギー起源CO2排出削減量の算出シート（計画時）'!$J$60","v":0.24031007751937983},{"$f":"'（参考）エネルギー起源CO2排出削減量の算出シート（計画時）'!$J$62","v":0.72727272727272718},{"$f":"'（参考）エネルギー起源CO2排出削減量の算出シート（計画時）'!$J$64","v":0.10744985673352436},{"$f":"'（参考）エネルギー起源CO2排出削減量の算出シート（計画時）'!$J$66","v":0.72727272727272718},{"$f":"'（参考）エネルギー起源CO2排出削減量の算出シート（計画時）'!$J$68","v":0.10744985673352436},{"$f":"'（参考）エネルギー起源CO2排出削減量の算出シート（計画時）'!$J$70","v":0.24031007751937983},{"$f":"'（参考）エネルギー起源CO2排出削減量の算出シート（計画時）'!$J$72","v":0.43037974683544306},null,null,null,null,null,{"$f":"AG454-AG506","v":0},{"$f":"AH454-AH506","v":0},{"$f":"AI454-AI506","v":0},{"$f":"AJ454-AJ506","v":0},{"$f":"AK454-AK506","v":0},{"$f":"AL454-AL506","v":0},{"$f":"AM454-AM506","v":0},{"$f":"AN454-AN506","v":0},{"$f":"AO454-AO506","v":0},{"$f":"AP454-AP506","v":0},{"$f":"AQ454-AQ506","v":0},{"$f":"AR454-AR506","v":0},{"$f":"AS454-AS506","v":0},{"$f":"AT454-AT506","v":0},null,{"$f":"SUM(AY506:BM506)","v":0}]
[null,null,null,null,"ｽﾏｰﾄﾑｰﾌﾞ",null,null,"低炭素物流",null,null,"再エネ",null,null,"食品ロス",null,null,null,null,null,null,null,null,null,null,null,null,null,null,null,null,null,"④CO2排出原単位（t-CO2/人）",{"$f":"'（参考）エネルギー起源CO2排出削減量の算出シート（計画時）'!$L$48","v":1.62},{"$f":"'（参考）エネルギー起源CO2排出削減量の算出シート（計画時）'!$L$50","v":153},{"$f":"'（参考）エネルギー起源CO2排出削減量の算出シート（計画時）'!$L$52","v":10},{"$f":"'（参考）エネルギー起源CO2排出削減量の算出シート（計画時）'!$L$54","v":5.18},{"$f":"'（参考）エネルギー起源CO2排出削減量の算出シート（計画時）'!$L$56","v":2.3E-2},{"$f":"'（参考）エネルギー起源CO2排出削減量の算出シート（計画時）'!$L$58","v":1.7999999999999999E-2},{"$f":"'（参考）エネルギー起源CO2排出削減量の算出シート（計画時）'!$L$60","v":2.81},{"$f":"'（参考）エネルギー起源CO2排出削減量の算出シート（計画時）'!$L$62","v":0.13100000000000001},{"$f":"'（参考）エネルギー起源CO2排出削減量の算出シート（計画時）'!$L$64","v":0.59},{"$f":"'（参考）エネルギー起源CO2排出削減量の算出シート（計画時）'!$L$66","v":0.19},{"$f":"'（参考）エネルギー起源CO2排出削減量の算出シート（計画時）'!$L$68","v":5.8500000000000002E-4},{"$f":"'（参考）エネルギー起源CO2排出削減量の算出シート（計画時）'!$L$70","v":0.24},{"$f":"'（参考）エネルギー起源CO2排出削減量の算出シート（計画時）'!$L$72","v":1.5E-3},{"$f":"'（参考）エネルギー起源CO2排出削減量の算出シート（計画時）'!$L$74","v":0.13800000000000001},"小計",null,null,null,{"$f":"AG455-AG507","v":0},0,0,0,0,0,0,0,0,0,0,0,0,0,null,{"$f":"SUM(AY507:BM507)","v":0}]
[null,null,null,null,"- 選択 -",null,null,"- 選択 -",null,null,"- 選択 -",null,null,"- 選択 -",null,null,"- 選択 -",null,null,null,null,null,null,null,null,null,null,null,null,null,null,"CO2排出削減効果（t-CO2/事業）",{"$f":"AG504*AG505*AG506*AG507","v":0},0,0,0,0,0,0,0,0,0,{"$f":"AQ504*AQ505*AQ506*AQ507*11.400933956","v":0},0,0,{"$f":"AT504*AT507","v":0},{"$f":"SUM(AG508:AT508)","v":0},null,null,null,null,null,null,null,null,null,null,null,null,null,null,null,null,null,null,{"$f":"SUM(BN501:BN507)","v":0}]
[null,null,null,null,"内容（",null,null,null,null,null,null,null,null,null,null,null,null,null,null,null,null,null,null,null,null,null,null,"）",null,null,"※2 訴求手法の b),c),d) のいずれかの場合",null,"※3 ⑩に関しては、人数から再配達個数を自動計算し、再配達1個当たりのCO2排出原単位から算出"]
[null,null,null,null,"昨年度実績",null,null,null,"計",null,null,null,"枚",null,"※複数ある場合は、アンケート合計回収数",null,null,null,null,null,null,null,null,null,null,null,null,null,null,null,"上記の合計",null,null,null,null,null,null,null,null,null,null,null,null,null,null,null,"合計"]
[null,null,null,null,"目標回収数",null,null,null,"計",null,null,null,"枚",null,"※複数ある場合は、アンケート合計回収数",null,null,null,null,null,null,null,null,null,null,null,null,null,null,null,null,"CO2排出削減効果（t-CO2/事業）",{"$f":"AG502+AG508","v":0},{"$f":"AH502+AH508","v":0},0,0,0,0,0,0,0,0,0,0,0,0,{"$f":"SUM(AG511:AT511)","v":0}]
[null,null,null,null,null,null,null,null,null,null,null,null,null,null,null,null,null,null,null,null,null,null,null,null,null,null,null,null,null,null,null,null,null,null,null,null,null,null,null,null,"※合計値は自動的に別紙1に転記されます"]
[null,null,"項目",null,"内容"]
[null,null,"事業10","事業名"]
[null,null,"行動変容テーマ",null,"※公募要領　別表第１　で対象とする補助事業の内容に合致していること。\n※該当するテーマすべてをチェックしてください。"]
[null,null,null,null,"①",null,"②",null,"③",null,"④",null,"⑤",null,"⑥",null,"⑦",null,"⑧",null,"⑨",null,"⑩",null,"⑪",null,"⑫",null,null,null,null,null,"①","②",null,"③","④","⑤","⑥","⑦","⑧","⑨","⑩","⑪","⑫","⑬",null,null,null,null,null,null,null,null,null,null,null,null,null,"a)","b)","c)","d)"]
[null,null,null,null,"省ｴﾈ家電",null,"省ｴﾈ住宅",null,"ｴｺｶｰ",null,"ｸｰﾙﾋﾞｽﾞ",null,"ｳｫｰﾑﾋﾞｽﾞ",null,"照明の\n高効率利用",null,"ｴｺﾄﾞﾗｲﾌﾞ",null,"ｶｰｼｪｱ",null,"ｽﾏｰﾄﾑｰﾌﾞ",null,"低炭素物流",null,"再エネ",null,"食品ロス",null,null,null,null,null,"省ｴﾈ家電","省ｴﾈ住宅",null,"ｴｺｶｰ","ｸｰﾙﾋﾞｽﾞ","ｳｫｰﾑﾋﾞｽﾞ","照明の\n高効率利用","ｴｺﾄﾞﾗｲﾌﾞ","ｶｰｼｪｱ","ｽﾏｰﾄﾑｰﾌﾞ","低炭素物流","再エネ","食品ロス","その他",null,null,null,null,null,null,null,null,null,null,null,null,null,false,false,false,false,{"$f":"COUNTIFS($BH517:$BK517,\"TRUE\")","v":0}]
[null,null,null,null,null,null,null,null,null,null,null,null,null,null,null,null,null,null,null,null,null,null,null,null,null,null,null,null,null,null,null,null,false,false,null,false,false,false,false,false,false,false,false,false,false,false,null,null,null,null,null,null,null,null,null,null,null,{"$f":"COUNTIFS($AG518:BE518,\"TRUE\")","v":0}]
[null,null,null,null,"⑬",null,"↓ ※①～⑫以外のテーマを設定する場合、具体的に記載してください。"]
[null,null,null,null,"その他"]
[]
[null,null,"訴求手法",null,"※訴求手法については、該当する欄にチェックしてください。"]
[null,null,null,null,"a) 情報発信型（受動型）",null,null,null,null,null,null,null,"b) 情報発信型（能動型）",null,null,null,null,null,null,null,"c) 双方向体験交流型"]
[null,null,null,null,"オンラインイベント・\nテレビ・ラジオ等",null,null,null,null,null,null,null,"講演会・パネル展示等",null,null,null,null,null,null,null,"試乗・体験会、省ｴﾈ診断等"]
[]
[null,null,null,null,"d) 双方向ＷＥＢ等配信型",null,null,null,null,null,null,null,"※d) については使用する媒体等を記載してください。"]
[null,null,null,null,"（新手法）"]
[]
[null,null,"実施期間",null,null,null,null,null,null,null,null,null,null,null,"～"]
[null,null,"（備考）"]
[null,null,"実施日\n（※同一事業内で、\n同一の内容・場所において\n複数日実施する場合）",null,1,null,null,null,null,null,null,null,null,null,null,null,6]
[null,null,null,null,2,null,null,null,null,null,null,null,null,null,null,null,7]
[null,null,null,null,3,null,null,null,null,null,null,null,null,null,null,null,8]
[null,null,null,null,4,null,null,null,null,null,null,null,null,null,null,null,9]
[null,null,null,null,5,null,null,null,null,null,null,null,null,null,null,null,10]
[null,null,"事業の概要",null,"※放送による啓発の場合は、尺、制作数、放送回数について具体的に記入してください。"]
[]
[null,null,"地域団体との連携"]
[null,null,"効果的な\n実施の\nための工夫","主な訴求対象"]
[null,null,null,"訴求メッセージ"]
[null,null,null,"事業実施時期の\n設定根拠"]
[null,null,null,"具体的な訴求方法\n・\nその他の工夫"]
[null,null,"目標アウトプット\n（リーチ数）\n（想定及び実績）",null,"昨年度実績",null,null,null,"計"]
[null,null,null,null,"昨年度実績算出根拠"]
[null,null,null,null,"想定",null,null,null,"計",null,0]
[null,null,null,null,"算出方法"]
[null,null,"目標アウトカム（想定及び実績）"]
[null,null,"エネルギー起源CO2排出削減量（想定）",null,"CO2排出削減量",null,null,null,{"$f":"AU563","v":0},null,null,null,null,null,"（t-CO2）",null,null,null,null,null,null,null,null,null,null,null,null,null,null,null,"行動変容テーマ",null,"①","②省ｴﾈ住宅",null,"③","④","⑤","⑥","⑦","⑧","⑨","⑩※3","⑪","⑫","⑬"]
[null,null,null,null,"特記事項","※普及啓発人数の算定方法、平均値以外の変容率を使用する場合の考え方、行動変容テーマ「その他」で計算表を使用せず、独自にCO2削減量を算出した場合の変容率・変容係数の考え方、その他算定に影響を及ぼす事項等を記入して下さい。",null,null,null,null,null,null,null,null,null,null,null,null,null,null,null,null,null,null,null,null,null,null,null,null,null,null,"省ｴﾈ家電","ZEH","断熱リフォーム","ｴｺｶｰ","ｸｰﾙﾋﾞｽﾞ","ｳｫｰﾑﾋﾞｽﾞ","照明の高効率利用","ｴｺﾄﾞﾗｲﾌﾞ","ｶｰｼｪｱ","ｽﾏｰﾄﾑｰﾌﾞ","低炭素物流","再エネ","食品ロス","その他"]
[]
[null,null,null,null,null,null,null,null,null,null,null,null,null,null,null,null,null,null,null,null,null,null,null,null,null,null,null,null,null,null,"ラジオ等※1","①普及啓発人数（人）"]
[null,null,null,null,null,null,null,null,null,null,null,null,null,null,null,null,null,null,null,null,null,null,null,null,null,null,null,null,null,null,null,"②行動変容率（%）",2.3E-2,2E-3,0.02,0.03,0.11899999999999999,0.11899999999999999,2.3E-2,0.11899999999999999,0.104,0.11899999999999999,0.104,2.3E-2,0.156]
[null,null,null,null,null,null,null,null,null,null,null,null,null,null,null,null,null,null,null,null,null,null,null,null,null,null,null,null,null,null,null,"③CO2排出原単位（t-CO2/人）",{"$f":"'（参考）エネルギー起源CO2排出削減量の算出シート（計画時）'!$L$12","v":1.62},{"$f":"'（参考）エネルギー起源CO2排出削減量の算出シート（計画時）'!$L$14","v":153},{"$f":"'（参考）エネルギー起源CO2排出削減量の算出シート（計画時）'!$L$16","v":10},{"$f":"'（参考）エネルギー起源CO2排出削減量の算出シート（計画時）'!$L$18","v":5.18},{"$f":"'（参考）エネルギー起源CO2排出削減量の算出シート（計画時）'!$L$20","v":2.3E-2},{"$f":"'（参考）エネルギー起源CO2排出削減量の算出シート（計画時）'!$L$22","v":1.7999999999999999E-2},{"$f":"'（参考）エネルギー起源CO2排出削減量の算出シート（計画時）'!$L$24","v":2.81},{"$f":"'（参考）エネルギー起源CO2排出削減量の算出シート（計画時）'!$L$26","v":0.13100000000000001},{"$f":"'（参考）エネルギー起源CO2排出削減量の算出シート（計画時）'!$L$28","v":0.59},{"$f":"'（参考）エネルギー起源CO2排出削減量の算出シート（計画時）'!$L$30","v":0.19},{"$f":"'（参考）エネルギー起源CO2排出削減量の算出シート（計画時）'!$L$32","v":5.8500000000000002E-4},{"$f":"'（参考）エネルギー起源CO2排出削減量の算出シート（計画時）'!$L$34","v":0.24},{"$f":"'（参考）エネルギー起源CO2排出削減量の算出シート（計画時）'!$L$36","v":1.5E-3},{"$f":"'（参考）エネルギー起源CO2排出削減量の算出シート（計画時）'!$L$38","v":0.13800000000000001},"小計",null,null,null,{"$f":"AG501-AG553","v":0},{"$f":"AH501-AH553","v":0},{"$f":"AI501-AI553","v":0},{"$f":"AJ501-AJ553","v":0},{"$f":"AK501-AK553","v":0},{"$f":"AL501-AL553","v":0},{"$f":"AM501-AM553","v":0},{"$f":"AN501-AN553","v":0},{"$f":"AO501-AO553","v":0},{"$f":"AP501-AP553","v":0},{"$f":"AQ501-AQ553","v":0},{"$f":"AR501-AR553","v":0},{"$f":"AS501-AS553","v":0},{"$f":"AT501-AT553","v":0},null,{"$f":"SUM(AY553:BM553)","v":0}]
[null,null,"効果検証\n（アンケート）予定",null,"※アンケートの実施予定をプルダウンより選択してください。",null,null,null,null,null,null,null,null,null,null,null,null,null,null,null,null,null,null,null,null,null,null,null,null,null,null,"CO2排出削減効果（t-CO2/事業）",{"$f":"AG551*AG552*AG553","v":0},{"$f":"AH551*AH552*AH553","v":0},{"$f":"AI551*AI552*AI553","v":0},{"$f":"AJ551*AJ552*AJ553","v":0},{"$f":"AK551*AK552*AK553","v":0},0,0,0,0,0,{"$f":"AQ551*AQ552*AQ553*11.400933956","v":0},0,0,{"$f":"AT551*AT553","v":0},{"$f":"SUM(AG554:AT554)","v":0}]
[null,null,null,null,"公募要領に規定のアンケート",null,null,null,null,null,null,null,null,null,null,null,null,null,null,null,null,null,null,null,null,null,null,null,null,null,"※1 訴求手法の a )の場合"]
[null,null,null,null,"省エネ家電",null,null,"省エネ住宅",null,null,"エコカー",null,null,"クールビズ",null,null,"ウォームビズ",null,null,"照明の\n効率的利用",null,null,"ｴｺﾄﾞﾗｲﾌﾞ",null,null,"カーシェア",null,null,null,null,"イベント等※2","①普及啓発人数（人）"]
[null,null,null,null,"- 選択 -",null,null,"- 選択 -",null,null,"- 選択 -",null,null,"- 選択 -",null,null,"- 選択 -",null,null,"- 選択 -",null,null,"- 選択 -",null,null,"- 選択 -",null,null,null,null,null,"②意識変容率（%）",0.25800000000000001,0.34599999999999997,0.26100000000000001,0.23400000000000001,0.39600000000000002,0.39600000000000002,0.25800000000000001,0.39600000000000002,0.69799999999999995,0.39600000000000002,0.69799999999999995,0.25800000000000001,0.79]
[null,null,null,null,"公募要領に規定のアンケート",null,null,null,null,null,null,null,null,null,null,null,"貴事業者独自のアンケート",null,null,null,null,null,null,null,null,null,null,null,null,null,null,"③行動変容係数",{"$f":"'（参考）エネルギー起源CO2排出削減量の算出シート（計画時）'!$J$48","v":0.24031007751937983},{"$f":"'（参考）エネルギー起源CO2排出削減量の算出シート（計画時）'!$J$50","v":6.6473988439306367E-2},{"$f":"'（参考）エネルギー起源CO2排出削減量の算出シート（計画時）'!$J$52","v":0.27203065134099613},{"$f":"'（参考）エネルギー起源CO2排出削減量の算出シート（計画時）'!$J$54","v":0.28205128205128205},{"$f":"'（参考）エネルギー起源CO2排出削減量の算出シート（計画時）'!$J$56","v":0.72727272727272718},{"$f":"'（参考）エネルギー起源CO2排出削減量の算出シート（計画時）'!$J$58","v":0.72727272727272718},{"$f":"'（参考）エネルギー起源CO2排出削減量の算出シート（計画時）'!$J$60","v":0.24031007751937983},{"$f":"'（参考）エネルギー起源CO2排出削減量の算出シート（計画時）'!$J$62","v":0.72727272727272718},{"$f":"'（参考）エネルギー起源CO2排出削減量の算出シート（計画時）'!$J$64","v":0.10744985673352436},{"$f":"'（参考）エネルギー起源CO2排出削減量の算出シート（計画時）'!$J$66","v":0.72727272727272718},{"$f":"'（参考）エネルギー起源CO2排出削減量の算出シート（計画時）'!$J$68","v":0.10744985673352436},{"$f":"'（参考）エネルギー起源CO2排出削減量の算出シート（計画時）'!$J$70","v":0.24031007751937983},{"$f":"'（参考）エネルギー起源CO2排出削減量の算出シート（計画時）'!$J$72","v":0.43037974683544306},null,null,null,null,null,{"$f":"AG506-AG558","v":0},{"$f":"AH506-AH558","v":0},{"$f":"AI506-AI558","v":0},{"$f":"AJ506-AJ558","v":0},{"$f":"AK506-AK558","v":0},{"$f":"AL506-AL558","v":0},{"$f":"AM506-AM558","v":0},{"$f":"AN506-AN558","v":0},{"$f":"AO506-AO558","v":0},{"$f":"AP506-AP558","v":0},{"$f":"AQ506-AQ558","v":0},{"$f":"AR506-AR558","v":0},{"$f":"AS506-AS558","v":0},{"$f":"AT506-AT558","v":0},null,{"$f":"SUM(AY558:BM558)","v":0}]
[null,null,null,null,"ｽﾏｰﾄﾑｰﾌﾞ",null,null,"低炭素物流",null,null,"再エネ",null,null,"食品ロス",null,null,null,null,null,null,null,null,null,null,null,null,null,null,null,null,null,"④CO2排出原単位（t-CO2/人）",{"$f":"'（参考）エネルギー起源CO2排出削減量の算出シート（計画時）'!$L$48","v":1.62},{"$f":"'（参考）エネルギー起源CO2排出削減量の算出シート（計画時）'!$L$50","v":153},{"$f":"'（参考）エネルギー起源CO2排出削減量の算出シート（計画時）'!$L$52","v":10},{"$f":"'（参考）エネルギー起源CO2排出削減量の算出シート（計画時）'!$L$54","v":5.18},{"$f":"'（参考）エネルギー起源CO2排出削減量の算出シート（計画時）'!$L$56","v":2.3E-2},{"$f":"'（参考）エネルギー起源CO2排出削減量の算出シート（計画時）'!$L$58","v":1.7999999999999999E-2},{"$f":"'（参考）エネルギー起源CO2排出削減量の算出シート（計画時）'!$L$60","v":2.81},{"$f":"'（参考）エネルギー起源CO2排出削減量の算出シート（計画時）'!$L$62","v":0.13100000000000001},{"$f":"'（参考）エネルギー起源CO2排出削減量の算出シート（計画時）'!$L$64","v":0.59},{"$f":"'（参考）エネルギー起源CO2排出削減量の算出シート（計画時）'!$L$66","v":0.19},{"$f":"'（参考）エネルギー起源CO2排出削減量の算出シート（計画時）'!$L$68","v":5.8500000000000002E-4},{"$f":"'（参考）エネルギー起源CO2排出削減量の算出シート（計画時）'!$L$70","v":0.24},{"$f":"'（参考）エネルギー起源CO2排出削減量の算出シート（計画時）'!$L$72","v":1.5E-3},{"$f":"'（参考）エネルギー起源CO2排出削減量の算出シート（計画時）'!$L$74","v":0.13800000000000001},"小計",null,null,null,{"$f":"AG507-AG559","v":0},0,0,0,0,0,0,0,0,0,0,0,0,0,null,{"$f":"SUM(AY559:BM559)","v":0}]
[null,null,null,null,"- 選択 -",null,null,"- 選択 -",null,null,"- 選択 -",null,null,"- 選択 -",null,null,"- 選択 -",null,null,null,null,null,null,null,null,null,null,null,null,null,null,"CO2排出削減効果（t-CO2/事業）",{"$f":"AG556*AG557*AG558*AG559","v":0},0,0,0,0,0,0,0,0,0,{"$f":"AQ556*AQ557*AQ558*AQ559*11.400933956","v":0},0,0,{"$f":"AT556*AT559","v":0},{"$f":"SUM(AG560:AT560)","v":0},null,null,null,null,null,null,null,null,null,null,null,null,null,null,null,null,null,null,{"$f":"SUM(BN553:BN559)","v":0}]
[null,null,null,null,"内容（",null,null,null,null,null,null,null,null,null,null,null,null,null,null,null,null,null,null,null,null,null,null,"）",null,null,"※2 訴求手法の b),c),d) のいずれかの場合",null,"※3 ⑩に関しては、人数から再配達個数を自動計算し、再配達1個当たりのCO2排出原単位から算出"]
[null,null,null,null,"昨年度実績",null,null,null,"計",null,null,null,"枚",null,"※複数ある場合は、アンケート合計回収数",null,null,null,null,null,null,null,null,null,null,null,null,null,null,null,"上記の合計",null,null,null,null,null,null,null,null,null,null,null,null,null,null,null,"合計"]
[null,null,null,null,"目標回収数",null,null,null,"計",null,null,null,"枚",null,"※複数ある場合は、アンケート合計回収数",null,null,null,null,null,null,null,null,null,null,null,null,null,null,null,null,"CO2排出削減効果（t-CO2/事業）",{"$f":"AG554+AG560","v":0},{"$f":"AH554+AH560","v":0},0,0,0,0,0,0,0,0,0,0,0,0,{"$f":"SUM(AG563:AT563)","v":0}]
[null,null,null,null,null,null,null,null,null,null,null,null,null,null,null,null,null,null,null,null,null,null,null,null,null,null,null,null,null,null,null,null,null,null,null,null,null,null,null,null,"※合計値は自動的に別紙1に転記されます"]
[null,null,"項目",null,"内容"]
[null,null,"事業11","事業名"]
[null,null,"行動変容テーマ",null,"※公募要領　別表第１　で対象とする補助事業の内容に合致していること。\n※該当するテーマすべてをチェックしてください。"]
[null,null,null,null,"①",null,"②",null,"③",null,"④",null,"⑤",null,"⑥",null,"⑦",null,"⑧",null,"⑨",null,"⑩",null,"⑪",null,"⑫",null,null,null,null,null,"①","②",null,"③","④","⑤","⑥","⑦","⑧","⑨","⑩","⑪","⑫","⑬",null,null,null,null,null,null,null,null,null,null,null,null,null,"a)","b)","c)","d)"]
[null,null,null,null,"省ｴﾈ家電",null,"省ｴﾈ住宅",null,"ｴｺｶｰ",null,"ｸｰﾙﾋﾞｽﾞ",null,"ｳｫｰﾑﾋﾞｽﾞ",null,"照明の\n高効率利用",null,"ｴｺﾄﾞﾗｲﾌﾞ",null,"ｶｰｼｪｱ",null,"ｽﾏｰﾄﾑｰﾌﾞ",null,"低炭素物流",null,"再エネ",null,"食品ロス",null,null,null,null,null,"省ｴﾈ家電","省ｴﾈ住宅",null,"ｴｺｶｰ","ｸｰﾙﾋﾞｽﾞ","ｳｫｰﾑﾋﾞｽﾞ","照明の\n高効率利用","ｴｺﾄﾞﾗｲﾌﾞ","ｶｰｼｪｱ","ｽﾏｰﾄﾑｰﾌﾞ","低炭素物流","再エネ","食品ロス","その他",null,null,null,null,null,null,null,null,null,null,null,null,null,false,false,false,false,{"$f":"COUNTIFS($BH569:$BK569,\"TRUE\")","v":0}]
[null,null,null,null,null,null,null,null,null,null,null,null,null,null,null,null,null,null,null,null,null,null,null,null,null,null,null,null,null,null,null,null,false,false,null,false,false,false,false,false,false,false,false,false,false,false,null,null,null,null,null,null,null,null,null,null,null,{"$f":"COUNTIFS($AG570:BE570,\"TRUE\")","v":0}]
[null,null,null,null,"⑬",null,"↓ ※①～⑫以外のテーマを設定する場合、具体的に記載してください。"]
[null,null,null,null,"その他"]
[]
[null,null,"訴求手法",null,"※訴求手法については、該当する欄にチェックしてください。"]
[null,null,null,null,"a) 情報発信型（受動型）",null,null,null,null,null,null,null,"b) 情報発信型（能動型）",null,null,null,null,null,null,null,"c) 双方向体験交流型"]
[null,null,null,null,"オンラインイベント・\nテレビ・ラジオ等",null,null,null,null,null,null,null,"講演会・パネル展示等",null,null,null,null,null,null,null,"試乗・体験会、省ｴﾈ診断等"]
[]
[null,null,null,null,"d) 双方向ＷＥＢ等配信型",null,null,null,null,null,null,null,"※d) については使用する媒体等を記載してください。"]
[null,null,null,null,"（新手法）"]
[]
[null,null,"実施期間",null,null,null,null,null,null,null,null,null,null,null,"～"]
[null,null,"（備考）"]
[null,null,"実施日\n（※同一事業内で、\n同一の内容・場所において\n複数日実施する場合）",null,1,null,null,null,null,null,null,null,null,null,null,null,6]
[null,null,null,null,2,null,null,null,null,null,null,null,null,null,null,null,7]
[null,null,null,null,3,null,null,null,null,null,null,null,null,null,null,null,8]
[null,null,null,null,4,null,null,null,null,null,null,null,null,null,null,null,9]
[null,null,null,null,5,null,null,null,null,null,null,null,null,null,null,null,10]
[null,null,"事業の概要",null,"※放送による啓発の場合は、尺、制作数、放送回数について具体的に記入してください。"]
[]
[null,null,"地域団体との連携"]
[null,null,"効果的な\n実施の\nための工夫","主な訴求対象"]
[null,null,null,"訴求メッセージ"]
[null,null,null,"事業実施時期の\n設定根拠"]
[null,null,null,"具体的な訴求方法\n・\nその他の工夫"]
[null,null,"目標アウトプット\n（リーチ数）\n（想定及び実績）",null,"昨年度実績",null,null,null,"計"]
[null,null,null,null,"昨年度実績算出根拠"]
[null,null,null,null,"想定",null,null,null,"計",null,0]
[null,null,null,null,"算出方法"]
[null,null,"目標アウトカム（想定及び実績）"]
[null,null,"エネルギー起源CO2排出削減量（想定）",null,"CO2排出削減量",null,null,null,{"$f":"AU615","v":0},null,null,null,null,null,"（t-CO2）",null,null,null,null,null,null,null,null,null,null,null,null,null,null,null,"行動変容テーマ",null,"①","②省ｴﾈ住宅",null,"③","④","⑤","⑥","⑦","⑧","⑨","⑩※3","⑪","⑫","⑬"]
[null,null,null,null,"特記事項","※普及啓発人数の算定方法、平均値以外の変容率を使用する場合の考え方、行動変容テーマ「その他」で計算表を使用せず、独自にCO2削減量を算出した場合の変容率・変容係数の考え方、その他算定に影響を及ぼす事項等を記入して下さい。",null,null,null,null,null,null,null,null,null,null,null,null,null,null,null,null,null,null,null,null,null,null,null,null,null,null,"省ｴﾈ家電","ZEH","断熱リフォーム","ｴｺｶｰ","ｸｰﾙﾋﾞｽﾞ","ｳｫｰﾑﾋﾞｽﾞ","照明の高効率利用","ｴｺﾄﾞﾗｲﾌﾞ","ｶｰｼｪｱ","ｽﾏｰﾄﾑｰﾌﾞ","低炭素物流","再エネ","食品ロス","その他"]
[]
[null,null,null,null,null,null,null,null,null,null,null,null,null,null,null,null,null,null,null,null,null,null,null,null,null,null,null,null,null,null,"ラジオ等※1","①普及啓発人数（人）"]
[null,null,null,null,null,null,null,null,null,null,null,null,null,null,null,null,null,null,null,null,null,null,null,null,null,null,null,null,null,null,null,"②行動変容率（%）",2.3E-2,2E-3,0.02,0.03,0.11899999999999999,0.11899999999999999,2.3E-2,0.11899999999999999,0.104,0.11899999999999999,0.104,2.3E-2,0.156]
[null,null,null,null,null,null,null,null,null,null,null,null,null,null,null,null,null,null,null,null,null,null,null,null,null,null,null,null,null,null,null,"③CO2排出原単位（t-CO2/人）",{"$f":"'（参考）エネルギー起源CO2排出削減量の算出シート（計画時）'!$L$12","v":1.62},{"$f":"'（参考）エネルギー起源CO2排出削減量の算出シート（計画時）'!$L$14","v":153},{"$f":"'（参考）エネルギー起源CO2排出削減量の算出シート（計画時）'!$L$16","v":10},{"$f":"'（参考）エネルギー起源CO2排出削減量の算出シート（計画時）'!$L$18","v":5.18},{"$f":"'（参考）エネルギー起源CO2排出削減量の算出シート（計画時）'!$L$20","v":2.3E-2},{"$f":"'（参考）エネルギー起源CO2排出削減量の算出シート（計画時）'!$L$22","v":1.7999999999999999E-2},{"$f":"'（参考）エネルギー起源CO2排出削減量の算出シート（計画時）'!$L$24","v":2.81},{"$f":"'（参考）エネルギー起源CO2排出削減量の算出シート（計画時）'!$L$26","v":0.13100000000000001},{"$f":"'（参考）エネルギー起源CO2排出削減量の算出シート（計画時）'!$L$28","v":0.59},{"$f":"'（参考）エネルギー起源CO2排出削減量の算出シート（計画時）'!$L$30","v":0.19},{"$f":"'（参考）エネルギー起源CO2排出削減量の算出シート（計画時）'!$L$32","v":5.8500000000000002E-4},{"$f":"'（参考）エネルギー起源CO2排出削減量の算出シート（計画時）'!$L$34","v":0.24},{"$f":"'（参考）エネルギー起源CO2排出削減量の算出シート（計画時）'!$L$36","v":1.5E-3},{"$f":"'（参考）エネルギー起源CO2排出削減量の算出シート（計画時）'!$L$38","v":0.13800000000000001},"小計",null,null,null,{"$f":"AG553-AG605","v":0},{"$f":"AH553-AH605","v":0},{"$f":"AI553-AI605","v":0},{"$f":"AJ553-AJ605","v":0},{"$f":"AK553-AK605","v":0},{"$f":"AL553-AL605","v":0},{"$f":"AM553-AM605","v":0},{"$f":"AN553-AN605","v":0},{"$f":"AO553-AO605","v":0},{"$f":"AP553-AP605","v":0},{"$f":"AQ553-AQ605","v":0},{"$f":"AR553-AR605","v":0},{"$f":"AS553-AS605","v":0},{"$f":"AT553-AT605","v":0},null,{"$f":"SUM(AY605:BM605)","v":0}]
[null,null,"効果検証\n（アンケート）予定",null,"※アンケートの実施予定をプルダウンより選択してください。",null,null,null,null,null,null,null,null,null,null,null,null,null,null,null,null,null,null,null,null,null,null,null,null,null,null,"CO2排出削減効果（t-CO2/事業）",{"$f":"AG603*AG604*AG605","v":0},{"$f":"AH603*AH604*AH605","v":0},{"$f":"AI603*AI604*AI605","v":0},{"$f":"AJ603*AJ604*AJ605","v":0},{"$f":"AK603*AK604*AK605","v":0},0,0,0,0,0,{"$f":"AQ603*AQ604*AQ605*11.400933956","v":0},0,0,{"$f":"AT603*AT605","v":0},{"$f":"SUM(AG606:AT606)","v":0}]
[null,null,null,null,"公募要領に規定のアンケート",null,null,null,null,null,null,null,null,null,null,null,null,null,null,null,null,null,null,null,null,null,null,null,null,null,"※1 訴求手法の a )の場合"]
[null,null,null,null,"省エネ家電",null,null,"省エネ住宅",null,null,"エコカー",null,null,"クールビズ",null,null,"ウォームビズ",null,null,"照明の\n効率的利用",null,null,"ｴｺﾄﾞﾗｲﾌﾞ",null,null,"カーシェア",null,null,null,null,"イベント等※2","①普及啓発人数（人）"]
[null,null,null,null,"- 選択 -",null,null,"- 選択 -",null,null,"- 選択 -",null,null,"- 選択 -",null,null,"- 選択 -",null,null,"- 選択 -",null,null,"- 選択 -",null,null,"- 選択 -",null,null,null,null,null,"②意識変容率（%）",0.25800000000000001,0.34599999999999997,0.26100000000000001,0.23400000000000001,0.39600000000000002,0.39600000000000002,0.25800000000000001,0.39600000000000002,0.69799999999999995,0.39600000000000002,0.69799999999999995,0.25800000000000001,0.79]
[null,null,null,null,"公募要領に規定のアンケート",null,null,null,null,null,null,null,null,null,null,null,"貴事業者独自のアンケート",null,null,null,null,null,null,null,null,null,null,null,null,null,null,"③行動変容係数",{"$f":"'（参考）エネルギー起源CO2排出削減量の算出シート（計画時）'!$J$48","v":0.24031007751937983},{"$f":"'（参考）エネルギー起源CO2排出削減量の算出シート（計画時）'!$J$50","v":6.6473988439306367E-2},{"$f":"'（参考）エネルギー起源CO2排出削減量の算出シート（計画時）'!$J$52","v":0.27203065134099613},{"$f":"'（参考）エネルギー起源CO2排出削減量の算出シート（計画時）'!$J$54","v":0.28205128205128205},{"$f":"'（参考）エネルギー起源CO2排出削減量の算出シート（計画時）'!$J$56","v":0.72727272727272718},{"$f":"'（参考）エネルギー起源CO2排出削減量の算出シート（計画時）'!$J$58","v":0.72727272727272718},{"$f":"'（参考）エネルギー起源CO2排出削減量の算出シート（計画時）'!$J$60","v":0.24031007751937983},{"$f":"'（参考）エネルギー起源CO2排出削減量の算出シート（計画時）'!$J$62","v":0.72727272727272718},{"$f":"'（参考）エネルギー起源CO2排出削減量の算出シート（計画時）'!$J$64","v":0.10744985673352436},{"$f":"'（参考）エネルギー起源CO2排出削減量の算出シート（計画時）'!$J$66","v":0.72727272727272718},{"$f":"'（参考）エネルギー起源CO2排出削減量の算出シート（計画時）'!$J$68","v":0.10744985673352436},{"$f":"'（参考）エネルギー起源CO2排出削減量の算出シート（計画時）'!$J$70","v":0.24031007751937983},{"$f":"'（参考）エネルギー起源CO2排出削減量の算出シート（計画時）'!$J$72","v":0.43037974683544306},null,null,null,null,null,{"$f":"AG558-AG610","v":0},{"$f":"AH558-AH610","v":0},{"$f":"AI558-AI610","v":0},{"$f":"AJ558-AJ610","v":0},{"$f":"AK558-AK610","v":0},{"$f":"AL558-AL610","v":0},{"$f":"AM558-AM610","v":0},{"$f":"AN558-AN610","v":0},{"$f":"AO558-AO610","v":0},{"$f":"AP558-AP610","v":0},{"$f":"AQ558-AQ610","v":0},{"$f":"AR558-AR610","v":0},{"$f":"AS558-AS610","v":0},{"$f":"AT558-AT610","v":0},null,{"$f":"SUM(AY610:BM610)","v":0}]
[null,null,null,null,"ｽﾏｰﾄﾑｰﾌﾞ",null,null,"低炭素物流",null,null,"再エネ",null,null,"食品ロス",null,null,null,null,null,null,null,null,null,null,null,null,null,null,null,null,null,"④CO2排出原単位（t-CO2/人）",{"$f":"'（参考）エネルギー起源CO2排出削減量の算出シート（計画時）'!$L$48","v":1.62},{"$f":"'（参考）エネルギー起源CO2排出削減量の算出シート（計画時）'!$L$50","v":153},{"$f":"'（参考）エネルギー起源CO2排出削減量の算出シート（計画時）'!$L$52","v":10},{"$f":"'（参考）エネルギー起源CO2排出削減量の算出シート（計画時）'!$L$54","v":5.18},{"$f":"'（参考）エネルギー起源CO2排出削減量の算出シート（計画時）'!$L$56","v":2.3E-2},{"$f":"'（参考）エネルギー起源CO2排出削減量の算出シート（計画時）'!$L$58","v":1.7999999999999999E-2},{"$f":"'（参考）エネルギー起源CO2排出削減量の算出シート（計画時）'!$L$60","v":2.81},{"$f":"'（参考）エネルギー起源CO2排出削減量の算出シート（計画時）'!$L$62","v":0.13100000000000001},{"$f":"'（参考）エネルギー起源CO2排出削減量の算出シート（計画時）'!$L$64","v":0.59},{"$f":"'（参考）エネルギー起源CO2排出削減量の算出シート（計画時）'!$L$66","v":0.19},{"$f":"'（参考）エネルギー起源CO2排出削減量の算出シート（計画時）'!$L$68","v":5.8500000000000002E-4},{"$f":"'（参考）エネルギー起源CO2排出削減量の算出シート（計画時）'!$L$70","v":0.24},{"$f":"'（参考）エネルギー起源CO2排出削減量の算出シート（計画時）'!$L$72","v":1.5E-3},{"$f":"'（参考）エネルギー起源CO2排出削減量の算出シート（計画時）'!$L$74","v":0.13800000000000001},"小計",null,null,null,{"$f":"AG559-AG611","v":0},0,0,0,0,0,0,0,0,0,0,0,0,0,null,{"$f":"SUM(AY611:BM611)","v":0}]
[null,null,null,null,"- 選択 -",null,null,"- 選択 -",null,null,"- 選択 -",null,null,"- 選択 -",null,null,"- 選択 -",null,null,null,null,null,null,null,null,null,null,null,null,null,null,"CO2排出削減効果（t-CO2/事業）",{"$f":"AG608*AG609*AG610*AG611","v":0},0,0,0,0,0,0,0,0,0,{"$f":"AQ608*AQ609*AQ610*AQ611*11.400933956","v":0},0,0,{"$f":"AT608*AT611","v":0},{"$f":"SUM(AG612:AT612)","v":0},null,null,null,null,null,null,null,null,null,null,null,null,null,null,null,null,null,null,{"$f":"SUM(BN605:BN611)","v":0}]
[null,null,null,null,"内容（",null,null,null,null,null,null,null,null,null,null,null,null,null,null,null,null,null,null,null,null,null,null,"）",null,null,"※2 訴求手法の b),c),d) のいずれかの場合",null,"※3 ⑩に関しては、人数から再配達個数を自動計算し、再配達1個当たりのCO2排出原単位から算出"]
[null,null,null,null,"昨年度実績",null,null,null,"計",null,null,null,"枚",null,"※複数ある場合は、アンケート合計回収数",null,null,null,null,null,null,null,null,null,null,null,null,null,null,null,"上記の合計",null,null,null,null,null,null,null,null,null,null,null,null,null,null,null,"合計"]
[null,null,null,null,"目標回収数",null,null,null,"計",null,null,null,"枚",null,"※複数ある場合は、アンケート合計回収数",null,null,null,null,null,null,null,null,null,null,null,null,null,null,null,null,"CO2排出削減効果（t-CO2/事業）",{"$f":"AG606+AG612","v":0},{"$f":"AH606+AH612","v":0},0,0,0,0,0,0,0,0,0,0,0,0,{"$f":"SUM(AG615:AT615)","v":0}]
[null,null,null,null,null,null,null,null,null,null,null,null,null,null,null,null,null,null,null,null,null,null,null,null,null,null,null,null,null,null,null,null,null,null,null,null,null,null,null,null,"※合計値は自動的に別紙1に転記されます"]
[null,null,"項目",null,"内容"]
[null,null,"事業12","事業名"]
[null,null,"行動変容テーマ",null,"※公募要領　別表第１　で対象とする補助事業の内容に合致していること。\n※該当するテーマすべてをチェックしてください。"]
[null,null,null,null,"①",null,"②",null,"③",null,"④",null,"⑤",null,"⑥",null,"⑦",null,"⑧",null,"⑨",null,"⑩",null,"⑪",null,"⑫",null,null,null,null,null,"①","②",null,"③","④","⑤","⑥","⑦","⑧","⑨","⑩","⑪","⑫","⑬",null,null,null,null,null,null,null,null,null,null,null,null,null,"a)","b)","c)","d)"]
[null,null,null,null,"省ｴﾈ家電",null,"省ｴﾈ住宅",null,"ｴｺｶｰ",null,"ｸｰﾙﾋﾞｽﾞ",null,"ｳｫｰﾑﾋﾞｽﾞ",null,"照明の\n高効率利用",null,"ｴｺﾄﾞﾗｲﾌﾞ",null,"ｶｰｼｪｱ",null,"ｽﾏｰﾄﾑｰﾌﾞ",null,"低炭素物流",null,"再エネ",null,"食品ロス",null,null,null,null,null,"省ｴﾈ家電","省ｴﾈ住宅",null,"ｴｺｶｰ","ｸｰﾙﾋﾞｽﾞ","ｳｫｰﾑﾋﾞｽﾞ","照明の\n高効率利用","ｴｺﾄﾞﾗｲﾌﾞ","ｶｰｼｪｱ","ｽﾏｰﾄﾑｰﾌﾞ","低炭素物流","再エネ","食品ロス","その他",null,null,null,null,null,null,null,null,null,null,null,null,null,false,false,false,false,{"$f":"COUNTIFS($BH621:$BK621,\"TRUE\")","v":0}]
[null,null,null,null,null,null,null,null,null,null,null,null,null,null,null,null,null,null,null,null,null,null,null,null,null,null,null,null,null,null,null,null,false,false,null,false,false,false,false,false,false,false,false,false,false,false,null,null,null,null,null,null,null,null,null,null,null,{"$f":"COUNTIFS($AG622:BE622,\"TRUE\")","v":0}]
[null,null,null,null,"⑬",null,"↓ ※①～⑫以外のテーマを設定する場合、具体的に記載してください。"]
[null,null,null,null,"その他"]
[]
[null,null,"訴求手法",null,"※訴求手法については、該当する欄にチェックしてください。"]
[null,null,null,null,"a) 情報発信型（受動型）",null,null,null,null,null,null,null,"b) 情報発信型（能動型）",null,null,null,null,null,null,null,"c) 双方向体験交流型"]
[null,null,null,null,"オンラインイベント・\nテレビ・ラジオ等",null,null,null,null,null,null,null,"講演会・パネル展示等",null,null,null,null,null,null,null,"試乗・体験会、省ｴﾈ診断等"]
[]
[null,null,null,null,"d) 双方向ＷＥＢ等配信型",null,null,null,null,null,null,null,"※d) については使用する媒体等を記載してください。"]
[null,null,null,null,"（新手法）"]
[]
[null,null,"実施期間",null,null,null,null,null,null,null,null,null,null,null,"～"]
[null,null,"（備考）"]
[null,null,"実施日\n（※同一事業内で、\n同一の内容・場所において\n複数日実施する場合）",null,1,null,null,null,null,null,null,null,null,null,null,null,6]
[null,null,null,null,2,null,null,null,null,null,null,null,null,null,null,null,7]
[null,null,null,null,3,null,null,null,null,null,null,null,null,null,null,null,8]
[null,null,null,null,4,null,null,null,null,null,null,null,null,null,null,null,9]
[null,null,null,null,5,null,null,null,null,null,null,null,null,null,null,null,10]
[null,null,"事業の概要",null,"※放送による啓発の場合は、尺、制作数、放送回数について具体的に記入してください。"]
[]
[null,null,"地域団体との連携"]
[null,null,"効果的な\n実施の\nための工夫","主な訴求対象"]
[null,null,null,"訴求メッセージ"]
[null,null,null,"事業実施時期の\n設定根拠"]
[null,null,null,"具体的な訴求方法\n・\nその他の工夫"]
[null,null,"目標アウトプット\n（リーチ数）\n（想定及び実績）",null,"昨年度実績",null,null,null,"計"]
[null,null,null,null,"昨年度実績算出根拠"]
[null,null,null,null,"想定",null,null,null,"計",null,0]
[null,null,null,null,"算出方法"]
[null,null,"目標アウトカム（想定及び実績）"]
[null,null,"エネルギー起源CO2排出削減量（想定）",null,"CO2排出削減量",null,null,null,{"$f":"AU667","v":0},null,null,null,null,null,"（t-CO2）",null,null,null,null,null,null,null,null,null,null,null,null,null,null,null,"行動変容テーマ",null,"①","②省ｴﾈ住宅",null,"③","④","⑤","⑥","⑦","⑧","⑨","⑩※3","⑪","⑫","⑬"]
[null,null,null,null,"特記事項","※普及啓発人数の算定方法、平均値以外の変容率を使用する場合の考え方、行動変容テーマ「その他」で計算表を使用せず、独自にCO2削減量を算出した場合の変容率・変容係数の考え方、その他算定に影響を及ぼす事項等を記入して下さい。",null,null,null,null,null,null,null,null,null,null,null,null,null,null,null,null,null,null,null,null,null,null,null,null,null,null,"省ｴﾈ家電","ZEH","断熱リフォーム","ｴｺｶｰ","ｸｰﾙﾋﾞｽﾞ","ｳｫｰﾑﾋﾞｽﾞ","照明の高効率利用","ｴｺﾄﾞﾗｲﾌﾞ","ｶｰｼｪｱ","ｽﾏｰﾄﾑｰﾌﾞ","低炭素物流","再エネ","食品ロス","その他"]
[]
[null,null,null,null,null,null,null,null,null,null,null,null,null,null,null,null,null,null,null,null,null,null,null,null,null,null,null,null,null,null,"ラジオ等※1","①普及啓発人数（人）"]
[null,null,null,null,null,null,null,null,null,null,null,null,null,null,null,null,null,null,null,null,null,null,null,null,null,null,null,null,null,null,null,"②行動変容率（%）",2.3E-2,2E-3,0.02,0.03,0.11899999999999999,0.11899999999999999,2.3E-2,0.11899999999999999,0.104,0.11899999999999999,0.104,2.3E-2,0.156]
[null,null,null,null,null,null,null,null,null,null,null,null,null,null,null,null,null,null,null,null,null,null,null,null,null,null,null,null,null,null,null,"③CO2排出原単位（t-CO2/人）",{"$f":"'（参考）エネルギー起源CO2排出削減量の算出シート（計画時）'!$L$12","v":1.62},{"$f":"'（参考）エネルギー起源CO2排出削減量の算出シート（計画時）'!$L$14","v":153},{"$f":"'（参考）エネルギー起源CO2排出削減量の算出シート（計画時）'!$L$16","v":10},{"$f":"'（参考）エネルギー起源CO2排出削減量の算出シート（計画時）'!$L$18","v":5.18},{"$f":"'（参考）エネルギー起源CO2排出削減量の算出シート（計画時）'!$L$20","v":2.3E-2},{"$f":"'（参考）エネルギー起源CO2排出削減量の算出シート（計画時）'!$L$22","v":1.7999999999999999E-2},{"$f":"'（参考）エネルギー起源CO2排出削減量の算出シート（計画時）'!$L$24","v":2.81},{"$f":"'（参考）エネルギー起源CO2排出削減量の算出シート（計画時）'!$L$26","v":0.13100000000000001},{"$f":"'（参考）エネルギー起源CO2排出削減量の算出シート（計画時）'!$L$28","v":0.59},{"$f":"'（参考）エネルギー起源CO2排出削減量の算出シート（計画時）'!$L$30","v":0.19},{"$f":"'（参考）エネルギー起源CO2排出削減量の算出シート（計画時）'!$L$32","v":5.8500000000000002E-4},{"$f":"'（参考）エネルギー起源CO2排出削減量の算出シート（計画時）'!$L$34","v":0.24},{"$f":"'（参考）エネルギー起源CO2排出削減量の算出シート（計画時）'!$L$36","v":1.5E-3},{"$f":"'（参考）エネルギー起源CO2排出削減量の算出シート（計画時）'!$L$38","v":0.13800000000000001},"小計",null,null,null,{"$f":"AG605-AG657","v":0},{"$f":"AH605-AH657","v":0},{"$f":"AI605-AI657","v":0},{"$f":"AJ605-AJ657","v":0},{"$f":"AK605-AK657","v":0},{"$f":"AL605-AL657","v":0},{"$f":"AM605-AM657","v":0},{"$f":"AN605-AN657","v":0},{"$f":"AO605-AO657","v":0},{"$f":"AP605-AP657","v":0},{"$f":"AQ605-AQ657","v":0},{"$f":"AR605-AR657","v":0},{"$f":"AS605-AS657","v":0},{"$f":"AT605-AT657","v":0},null,{"$f":"SUM(AY657:BM657)","v":0}]
[null,null,"効果検証\n（アンケート）予定",null,"※アンケートの実施予定をプルダウンより選択してください。",null,null,null,null,null,null,null,null,null,null,null,null,null,null,null,null,null,null,null,null,null,null,null,null,null,null,"CO2排出削減効果（t-CO2/事業）",{"$f":"AG655*AG656*AG657","v":0},{"$f":"AH655*AH656*AH657","v":0},{"$f":"AI655*AI656*AI657","v":0},{"$f":"AJ655*AJ656*AJ657","v":0},{"$f":"AK655*AK656*AK657","v":0},0,0,0,0,0,{"$f":"AQ655*AQ656*AQ657*11.400933956","v":0},0,0,{"$f":"AT655*AT657","v":0},{"$f":"SUM(AG658:AT658)","v":0}]
[null,null,null,null,"公募要領に規定のアンケート",null,null,null,null,null,null,null,null,null,null,null,null,null,null,null,null,null,null,null,null,null,null,null,null,null,"※1 訴求手法の a )の場合"]
[null,null,null,null,"省エネ家電",null,null,"省エネ住宅",null,null,"エコカー",null,null,"クールビズ",null,null,"ウォームビズ",null,null,"照明の\n効率的利用",null,null,"ｴｺﾄﾞﾗｲﾌﾞ",null,null,"カーシェア",null,null,null,null,"イベント等※2","①普及啓発人数（人）"]
[null,null,null,null,"- 選択 -",null,null,"- 選択 -",null,null,"- 選択 -",null,null,"- 選択 -",null,null,"- 選択 -",null,null,"- 選択 -",null,null,"- 選択 -",null,null,"- 選択 -",null,null,null,null,null,"②意識変容率（%）",0.25800000000000001,0.34599999999999997,0.26100000000000001,0.23400000000000001,0.39600000000000002,0.39600000000000002,0.25800000000000001,0.39600000000000002,0.69799999999999995,0.39600000000000002,0.69799999999999995,0.25800000000000001,0.79]
[null,null,null,null,"公募要領に規定のアンケート",null,null,null,null,null,null,null,null,null,null,null,"貴事業者独自のアンケート",null,null,null,null,null,null,null,null,null,null,null,null,null,null,"③行動変容係数",{"$f":"'（参考）エネルギー起源CO2排出削減量の算出シート（計画時）'!$J$48","v":0.24031007751937983},{"$f":"'（参考）エネルギー起源CO2排出削減量の算出シート（計画時）'!$J$50","v":6.6473988439306367E-2},{"$f":"'（参考）エネルギー起源CO2排出削減量の算出シート（計画時）'!$J$52","v":0.27203065134099613},{"$f":"'（参考）エネルギー起源CO2排出削減量の算出シート（計画時）'!$J$54","v":0.28205128205128205},{"$f":"'（参考）エネルギー起源CO2排出削減量の算出シート（計画時）'!$J$56","v":0.72727272727272718},{"$f":"'（参考）エネルギー起源CO2排出削減量の算出シート（計画時）'!$J$58","v":0.72727272727272718},{"$f":"'（参考）エネルギー起源CO2排出削減量の算出シート（計画時）'!$J$60","v":0.24031007751937983},{"$f":"'（参考）エネルギー起源CO2排出削減量の算出シート（計画時）'!$J$62","v":0.72727272727272718},{"$f":"'（参考）エネルギー起源CO2排出削減量の算出シート（計画時）'!$J$64","v":0.10744985673352436},{"$f":"'（参考）エネルギー起源CO2排出削減量の算出シート（計画時）'!$J$66","v":0.72727272727272718},{"$f":"'（参考）エネルギー起源CO2排出削減量の算出シート（計画時）'!$J$68","v":0.10744985673352436},{"$f":"'（参考）エネルギー起源CO2排出削減量の算出シート（計画時）'!$J$70","v":0.24031007751937983},{"$f":"'（参考）エネルギー起源CO2排出削減量の算出シート（計画時）'!$J$72","v":0.43037974683544306},null,null,null,null,null,{"$f":"AG610-AG662","v":0},{"$f":"AH610-AH662","v":0},{"$f":"AI610-AI662","v":0},{"$f":"AJ610-AJ662","v":0},{"$f":"AK610-AK662","v":0},{"$f":"AL610-AL662","v":0},{"$f":"AM610-AM662","v":0},{"$f":"AN610-AN662","v":0},{"$f":"AO610-AO662","v":0},{"$f":"AP610-AP662","v":0},{"$f":"AQ610-AQ662","v":0},{"$f":"AR610-AR662","v":0},{"$f":"AS610-AS662","v":0},{"$f":"AT610-AT662","v":0},null,{"$f":"SUM(AY662:BM662)","v":0}]
[null,null,null,null,"ｽﾏｰﾄﾑｰﾌﾞ",null,null,"低炭素物流",null,null,"再エネ",null,null,"食品ロス",null,null,null,null,null,null,null,null,null,null,null,null,null,null,null,null,null,"④CO2排出原単位（t-CO2/人）",{"$f":"'（参考）エネルギー起源CO2排出削減量の算出シート（計画時）'!$L$48","v":1.62},{"$f":"'（参考）エネルギー起源CO2排出削減量の算出シート（計画時）'!$L$50","v":153},{"$f":"'（参考）エネルギー起源CO2排出削減量の算出シート（計画時）'!$L$52","v":10},{"$f":"'（参考）エネルギー起源CO2排出削減量の算出シート（計画時）'!$L$54","v":5.18},{"$f":"'（参考）エネルギー起源CO2排出削減量の算出シート（計画時）'!$L$56","v":2.3E-2},{"$f":"'（参考）エネルギー起源CO2排出削減量の算出シート（計画時）'!$L$58","v":1.7999999999999999E-2},{"$f":"'（参考）エネルギー起源CO2排出削減量の算出シート（計画時）'!$L$60","v":2.81},{"$f":"'（参考）エネルギー起源CO2排出削減量の算出シート（計画時）'!$L$62","v":0.13100000000000001},{"$f":"'（参考）エネルギー起源CO2排出削減量の算出シート（計画時）'!$L$64","v":0.59},{"$f":"'（参考）エネルギー起源CO2排出削減量の算出シート（計画時）'!$L$66","v":0.19},{"$f":"'（参考）エネルギー起源CO2排出削減量の算出シート（計画時）'!$L$68","v":5.8500000000000002E-4},{"$f":"'（参考）エネルギー起源CO2排出削減量の算出シート（計画時）'!$L$70","v":0.24},{"$f":"'（参考）エネルギー起源CO2排出削減量の算出シート（計画時）'!$L$72","v":1.5E-3},{"$f":"'（参考）エネルギー起源CO2排出削減量の算出シート（計画時）'!$L$74","v":0.13800000000000001},"小計",null,null,null,{"$f":"AG611-AG663","v":0},0,0,0,0,0,0,0,0,0,0,0,0,0,null,{"$f":"SUM(AY663:BM663)","v":0}]
[null,null,null,null,"- 選択 -",null,null,"- 選択 -",null,null,"- 選択 -",null,null,"- 選択 -",null,null,"- 選択 -",null,null,null,null,null,null,null,null,null,null,null,null,null,null,"CO2排出削減効果（t-CO2/事業）",{"$f":"AG660*AG661*AG662*AG663","v":0},0,0,0,0,0,0,0,0,0,{"$f":"AQ660*AQ661*AQ662*AQ663*11.400933956","v":0},0,0,{"$f":"AT660*AT663","v":0},{"$f":"SUM(AG664:AT664)","v":0},null,null,null,null,null,null,null,null,null,null,null,null,null,null,null,null,null,null,{"$f":"SUM(BN657:BN663)","v":0}]
[null,null,null,null,"内容（",null,null,null,null,null,null,null,null,null,null,null,null,null,null,null,null,null,null,null,null,null,null,"）",null,null,"※2 訴求手法の b),c),d) のいずれかの場合",null,"※3 ⑩に関しては、人数から再配達個数を自動計算し、再配達1個当たりのCO2排出原単位から算出"]
[null,null,null,null,"昨年度実績",null,null,null,"計",null,null,null,"枚",null,"※複数ある場合は、アンケート合計回収数",null,null,null,null,null,null,null,null,null,null,null,null,null,null,null,"上記の合計",null,null,null,null,null,null,null,null,null,null,null,null,null,null,null,"合計"]
[null,null,null,null,"目標回収数",null,null,null,"計",null,null,null,"枚",null,"※複数ある場合は、アンケート合計回収数",null,null,null,null,null,null,null,null,null,null,null,null,null,null,null,null,"CO2排出削減効果（t-CO2/事業）",{"$f":"AG658+AG664","v":0},{"$f":"AH658+AH664","v":0},0,0,0,0,0,0,0,0,0,0,0,0,{"$f":"SUM(AG667:AT667)","v":0}]
[null,null,null,null,null,null,null,null,null,null,null,null,null,null,null,null,null,null,null,null,null,null,null,null,null,null,null,null,null,null,null,null,null,null,null,null,null,null,null,null,"※合計値は自動的に別紙1に転記されます"]
[null,null,"項目",null,"内容"]
[null,null,"事業13","事業名"]
[null,null,"行動変容テーマ",null,"※公募要領　別表第１　で対象とする補助事業の内容に合致していること。\n※該当するテーマすべてをチェックしてください。"]
[null,null,null,null,"①",null,"②",null,"③",null,"④",null,"⑤",null,"⑥",null,"⑦",null,"⑧",null,"⑨",null,"⑩",null,"⑪",null,"⑫",null,null,null,null,null,"①","②",null,"③","④","⑤","⑥","⑦","⑧","⑨","⑩","⑪","⑫","⑬",null,null,null,null,null,null,null,null,null,null,null,null,null,"a)","b)","c)","d)"]
[null,null,null,null,"省ｴﾈ家電",null,"省ｴﾈ住宅",null,"ｴｺｶｰ",null,"ｸｰﾙﾋﾞｽﾞ",null,"ｳｫｰﾑﾋﾞｽﾞ",null,"照明の\n高効率利用",null,"ｴｺﾄﾞﾗｲﾌﾞ",null,"ｶｰｼｪｱ",null,"ｽﾏｰﾄﾑｰﾌﾞ",null,"低炭素物流",null,"再エネ",null,"食品ロス",null,null,null,null,null,"省ｴﾈ家電","省ｴﾈ住宅",null,"ｴｺｶｰ","ｸｰﾙﾋﾞｽﾞ","ｳｫｰﾑﾋﾞｽﾞ","照明の\n高効率利用","ｴｺﾄﾞﾗｲﾌﾞ","ｶｰｼｪｱ","ｽﾏｰﾄﾑｰﾌﾞ","低炭素物流","再エネ","食品ロス","その他",null,null,null,null,null,null,null,null,null,null,null,null,null,false,false,false,false,{"$f":"COUNTIFS($BH673:$BK673,\"TRUE\")","v":0}]
[null,null,null,null,null,null,null,null,null,null,null,null,null,null,null,null,null,null,null,null,null,null,null,null,null,null,null,null,null,null,null,null,false,false,null,false,false,false,false,false,false,false,false,false,false,false,null,null,null,null,null,null,null,null,null,null,null,{"$f":"COUNTIFS($AG674:BE674,\"TRUE\")","v":0}]
[null,null,null,null,"⑬",null,"↓ ※①～⑫以外のテーマを設定する場合、具体的に記載してください。"]
[null,null,null,null,"その他"]
[]
[null,null,"訴求手法",null,"※訴求手法については、該当する欄にチェックしてください。"]
[null,null,null,null,"a) 情報発信型（受動型）",null,null,null,null,null,null,null,"b) 情報発信型（能動型）",null,null,null,null,null,null,null,"c) 双方向体験交流型"]
[null,null,null,null,"オンラインイベント・\nテレビ・ラジオ等",null,null,null,null,null,null,null,"講演会・パネル展示等",null,null,null,null,null,null,null,"試乗・体験会、省ｴﾈ診断等"]
[]
[null,null,null,null,"d) 双方向ＷＥＢ等配信型",null,null,null,null,null,null,null,"※d) については使用する媒体等を記載してください。"]
[null,null,null,null,"（新手法）"]
[]
[null,null,"実施期間",null,null,null,null,null,null,null,null,null,null,null,"～"]
[null,null,"（備考）"]
[null,null,"実施日\n（※同一事業内で、\n同一の内容・場所において\n複数日実施する場合）",null,1,null,null,null,null,null,null,null,null,null,null,null,6]
[null,null,null,null,2,null,null,null,null,null,null,null,null,null,null,null,7]
[null,null,null,null,3,null,null,null,null,null,null,null,null,null,null,null,8]
[null,null,null,null,4,null,null,null,null,null,null,null,null,null,null,null,9]
[null,null,null,null,5,null,null,null,null,null,null,null,null,null,null,null,10]
[null,null,"事業の概要",null,"※放送による啓発の場合は、尺、制作数、放送回数について具体的に記入してください。"]
[]
[null,null,"地域団体との連携"]
[null,null,"効果的な\n実施の\nための工夫","主な訴求対象"]
[null,null,null,"訴求メッセージ"]
[null,null,null,"事業実施時期の\n設定根拠"]
[null,null,null,"具体的な訴求方法\n・\nその他の工夫"]
[null,null,"目標アウトプット\n（リーチ数）\n（想定及び実績）",null,"昨年度実績",null,null,null,"計"]
[null,null,null,null,"昨年度実績算出根拠"]
[null,null,null,null,"想定",null,null,null,"計",null,0]
[null,null,null,null,"算出方法"]
[null,null,"目標アウトカム（想定及び実績）"]
[null,null,"エネルギー起源CO2排出削減量（想定）",null,"CO2排出削減量",null,null,null,{"$f":"AU719","v":0},null,null,null,null,null,"（t-CO2）",null,null,null,null,null,null,null,null,null,null,null,null,null,null,null,"行動変容テーマ",null,"①","②省ｴﾈ住宅",null,"③","④","⑤","⑥","⑦","⑧","⑨","⑩※3","⑪","⑫","⑬"]
[null,null,null,null,"特記事項","※普及啓発人数の算定方法、平均値以外の変容率を使用する場合の考え方、行動変容テーマ「その他」で計算表を使用せず、独自にCO2削減量を算出した場合の変容率・変容係数の考え方、その他算定に影響を及ぼす事項等を記入して下さい。",null,null,null,null,null,null,null,null,null,null,null,null,null,null,null,null,null,null,null,null,null,null,null,null,null,null,"省ｴﾈ家電","ZEH","断熱リフォーム","ｴｺｶｰ","ｸｰﾙﾋﾞｽﾞ","ｳｫｰﾑﾋﾞｽﾞ","照明の高効率利用","ｴｺﾄﾞﾗｲﾌﾞ","ｶｰｼｪｱ","ｽﾏｰﾄﾑｰﾌﾞ","低炭素物流","再エネ","食品ロス","その他"]
[]
[null,null,null,null,null,null,null,null,null,null,null,null,null,null,null,null,null,null,null,null,null,null,null,null,null,null,null,null,null,null,"ラジオ等※1","①普及啓発人数（人）"]
[null,null,null,null,null,null,null,null,null,null,null,null,null,null,null,null,null,null,null,null,null,null,null,null,null,null,null,null,null,null,null,"②行動変容率（%）",2.3E-2,2E-3,0.02,0.03,0.11899999999999999,0.11899999999999999,2.3E-2,0.11899999999999999,0.104,0.11899999999999999,0.104,2.3E-2,0.156]
[null,null,null,null,null,null,null,null,null,null,null,null,null,null,null,null,null,null,null,null,null,null,null,null,null,null,null,null,null,null,null,"③CO2排出原単位（t-CO2/人）",{"$f":"'（参考）エネルギー起源CO2排出削減量の算出シート（計画時）'!$L$12","v":1.62},{"$f":"'（参考）エネルギー起源CO2排出削減量の算出シート（計画時）'!$L$14","v":153},{"$f":"'（参考）エネルギー起源CO2排出削減量の算出シート（計画時）'!$L$16","v":10},{"$f":"'（参考）エネルギー起源CO2排出削減量の算出シート（計画時）'!$L$18","v":5.18},{"$f":"'（参考）エネルギー起源CO2排出削減量の算出シート（計画時）'!$L$20","v":2.3E-2},{"$f":"'（参考）エネルギー起源CO2排出削減量の算出シート（計画時）'!$L$22","v":1.7999999999999999E-2},{"$f":"'（参考）エネルギー起源CO2排出削減量の算出シート（計画時）'!$L$24","v":2.81},{"$f":"'（参考）エネルギー起源CO2排出削減量の算出シート（計画時）'!$L$26","v":0.13100000000000001},{"$f":"'（参考）エネルギー起源CO2排出削減量の算出シート（計画時）'!$L$28","v":0.59},{"$f":"'（参考）エネルギー起源CO2排出削減量の算出シート（計画時）'!$L$30","v":0.19},{"$f":"'（参考）エネルギー起源CO2排出削減量の算出シート（計画時）'!$L$32","v":5.8500000000000002E-4},{"$f":"'（参考）エネルギー起源CO2排出削減量の算出シート（計画時）'!$L$34","v":0.24},{"$f":"'（参考）エネルギー起源CO2排出削減量の算出シート（計画時）'!$L$36","v":1.5E-3},{"$f":"'（参考）エネルギー起源CO2排出削減量の算出シート（計画時）'!$L$38","v":0.13800000000000001},"小計",null,null,null,{"$f":"AG657-AG709","v":0},{"$f":"AH657-AH709","v":0},{"$f":"AI657-AI709","v":0},{"$f":"AJ657-AJ709","v":0},{"$f":"AK657-AK709","v":0},{"$f":"AL657-AL709","v":0},{"$f":"AM657-AM709","v":0},{"$f":"AN657-AN709","v":0},{"$f":"AO657-AO709","v":0},{"$f":"AP657-AP709","v":0},{"$f":"AQ657-AQ709","v":0},{"$f":"AR657-AR709","v":0},{"$f":"AS657-AS709","v":0},{"$f":"AT657-AT709","v":0},null,{"$f":"SUM(AY709:BM709)","v":0}]
[null,null,"効果検証\n（アンケート）予定",null,"※アンケートの実施予定をプルダウンより選択してください。",null,null,null,null,null,null,null,null,null,null,null,null,null,null,null,null,null,null,null,null,null,null,null,null,null,null,"CO2排出削減効果（t-CO2/事業）",{"$f":"AG707*AG708*AG709","v":0},{"$f":"AH707*AH708*AH709","v":0},{"$f":"AI707*AI708*AI709","v":0},{"$f":"AJ707*AJ708*AJ709","v":0},{"$f":"AK707*AK708*AK709","v":0},0,0,0,0,0,{"$f":"AQ707*AQ708*AQ709*11.400933956","v":0},0,0,{"$f":"AT707*AT709","v":0},{"$f":"SUM(AG710:AT710)","v":0}]
[null,null,null,null,"公募要領に規定のアンケート",null,null,null,null,null,null,null,null,null,null,null,null,null,null,null,null,null,null,null,null,null,null,null,null,null,"※1 訴求手法の a )の場合"]
[null,null,null,null,"省エネ家電",null,null,"省エネ住宅",null,null,"エコカー",null,null,"クールビズ",null,null,"ウォームビズ",null,null,"照明の\n効率的利用",null,null,"ｴｺﾄﾞﾗｲﾌﾞ",null,null,"カーシェア",null,null,null,null,"イベント等※2","①普及啓発人数（人）"]
[null,null,null,null,"- 選択 -",null,null,"- 選択 -",null,null,"- 選択 -",null,null,"- 選択 -",null,null,"- 選択 -",null,null,"- 選択 -",null,null,"- 選択 -",null,null,"- 選択 -",null,null,null,null,null,"②意識変容率（%）",0.25800000000000001,0.34599999999999997,0.26100000000000001,0.23400000000000001,0.39600000000000002,0.39600000000000002,0.25800000000000001,0.39600000000000002,0.69799999999999995,0.39600000000000002,0.69799999999999995,0.25800000000000001,0.79]
[null,null,null,null,"公募要領に規定のアンケート",null,null,null,null,null,null,null,null,null,null,null,"貴事業者独自のアンケート",null,null,null,null,null,null,null,null,null,null,null,null,null,null,"③行動変容係数",{"$f":"'（参考）エネルギー起源CO2排出削減量の算出シート（計画時）'!$J$48","v":0.24031007751937983},{"$f":"'（参考）エネルギー起源CO2排出削減量の算出シート（計画時）'!$J$50","v":6.6473988439306367E-2},{"$f":"'（参考）エネルギー起源CO2排出削減量の算出シート（計画時）'!$J$52","v":0.27203065134099613},{"$f":"'（参考）エネルギー起源CO2排出削減量の算出シート（計画時）'!$J$54","v":0.28205128205128205},{"$f":"'（参考）エネルギー起源CO2排出削減量の算出シート（計画時）'!$J$56","v":0.72727272727272718},{"$f":"'（参考）エネルギー起源CO2排出削減量の算出シート（計画時）'!$J$58","v":0.72727272727272718},{"$f":"'（参考）エネルギー起源CO2排出削減量の算出シート（計画時）'!$J$60","v":0.24031007751937983},{"$f":"'（参考）エネルギー起源CO2排出削減量の算出シート（計画時）'!$J$62","v":0.72727272727272718},{"$f":"'（参考）エネルギー起源CO2排出削減量の算出シート（計画時）'!$J$64","v":0.10744985673352436},{"$f":"'（参考）エネルギー起源CO2排出削減量の算出シート（計画時）'!$J$66","v":0.72727272727272718},{"$f":"'（参考）エネルギー起源CO2排出削減量の算出シート（計画時）'!$J$68","v":0.10744985673352436},{"$f":"'（参考）エネルギー起源CO2排出削減量の算出シート（計画時）'!$J$70","v":0.24031007751937983},{"$f":"'（参考）エネルギー起源CO2排出削減量の算出シート（計画時）'!$J$72","v":0.43037974683544306},null,null,null,null,null,{"$f":"AG662-AG714","v":0},{"$f":"AH662-AH714","v":0},{"$f":"AI662-AI714","v":0},{"$f":"AJ662-AJ714","v":0},{"$f":"AK662-AK714","v":0},{"$f":"AL662-AL714","v":0},{"$f":"AM662-AM714","v":0},{"$f":"AN662-AN714","v":0},{"$f":"AO662-AO714","v":0},{"$f":"AP662-AP714","v":0},{"$f":"AQ662-AQ714","v":0},{"$f":"AR662-AR714","v":0},{"$f":"AS662-AS714","v":0},{"$f":"AT662-AT714","v":0},null,{"$f":"SUM(AY714:BM714)","v":0}]
[null,null,null,null,"ｽﾏｰﾄﾑｰﾌﾞ",null,null,"低炭素物流",null,null,"再エネ",null,null,"食品ロス",null,null,null,null,null,null,null,null,null,null,null,null,null,null,null,null,null,"④CO2排出原単位（t-CO2/人）",{"$f":"'（参考）エネルギー起源CO2排出削減量の算出シート（計画時）'!$L$48","v":1.62},{"$f":"'（参考）エネルギー起源CO2排出削減量の算出シート（計画時）'!$L$50","v":153},{"$f":"'（参考）エネルギー起源CO2排出削減量の算出シート（計画時）'!$L$52","v":10},{"$f":"'（参考）エネルギー起源CO2排出削減量の算出シート（計画時）'!$L$54","v":5.18},{"$f":"'（参考）エネルギー起源CO2排出削減量の算出シート（計画時）'!$L$56","v":2.3E-2},{"$f":"'（参考）エネルギー起源CO2排出削減量の算出シート（計画時）'!$L$58","v":1.7999999999999999E-2},{"$f":"'（参考）エネルギー起源CO2排出削減量の算出シート（計画時）'!$L$60","v":2.81},{"$f":"'（参考）エネルギー起源CO2排出削減量の算出シート（計画時）'!$L$62","v":0.13100000000000001},{"$f":"'（参考）エネルギー起源CO2排出削減量の算出シート（計画時）'!$L$64","v":0.59},{"$f":"'（参考）エネルギー起源CO2排出削減量の算出シート（計画時）'!$L$66","v":0.19},{"$f":"'（参考）エネルギー起源CO2排出削減量の算出シート（計画時）'!$L$68","v":5.8500000000000002E-4},{"$f":"'（参考）エネルギー起源CO2排出削減量の算出シート（計画時）'!$L$70","v":0.24},{"$f":"'（参考）エネルギー起源CO2排出削減量の算出シート（計画時）'!$L$72","v":1.5E-3},{"$f":"'（参考）エネルギー起源CO2排出削減量の算出シート（計画時）'!$L$74","v":0.13800000000000001},"小計",null,null,null,{"$f":"AG663-AG715","v":0},0,0,0,0,0,0,0,0,0,0,0,0,0,null,{"$f":"SUM(AY715:BM715)","v":0}]
[null,null,null,null,"- 選択 -",null,null,"- 選択 -",null,null,"- 選択 -",null,null,"- 選択 -",null,null,"- 選択 -",null,null,null,null,null,null,null,null,null,null,null,null,null,null,"CO2排出削減効果（t-CO2/事業）",{"$f":"AG712*AG713*AG714*AG715","v":0},0,0,0,0,0,0,0,0,0,{"$f":"AQ712*AQ713*AQ714*AQ715*11.400933956","v":0},0,0,{"$f":"AT712*AT715","v":0},{"$f":"SUM(AG716:AT716)","v":0},null,null,null,null,null,null,null,null,null,null,null,null,null,null,null,null,null,null,{"$f":"SUM(BN709:BN715)","v":0}]
[null,null,null,null,"内容（",null,null,null,null,null,null,null,null,null,null,null,null,null,null,null,null,null,null,null,null,null,null,"）",null,null,"※2 訴求手法の b),c),d) のいずれかの場合",null,"※3 ⑩に関しては、人数から再配達個数を自動計算し、再配達1個当たりのCO2排出原単位から算出"]
[null,null,null,null,"昨年度実績",null,null,null,"計",null,null,null,"枚",null,"※複数ある場合は、アンケート合計回収数",null,null,null,null,null,null,null,null,null,null,null,null,null,null,null,"上記の合計",null,null,null,null,null,null,null,null,null,null,null,null,null,null,null,"合計"]
[null,null,null,null,"目標回収数",null,null,null,"計",null,null,null,"枚",null,"※複数ある場合は、アンケート合計回収数",null,null,null,null,null,null,null,null,null,null,null,null,null,null,null,null,"CO2排出削減効果（t-CO2/事業）",{"$f":"AG710+AG716","v":0},{"$f":"AH710+AH716","v":0},0,0,0,0,0,0,0,0,0,0,0,0,{"$f":"SUM(AG719:AT719)","v":0}]
[null,null,null,null,null,null,null,null,null,null,null,null,null,null,null,null,null,null,null,null,null,null,null,null,null,null,null,null,null,null,null,null,null,null,null,null,null,null,null,null,"※合計値は自動的に別紙1に転記されます"]
[null,null,"項目",null,"内容"]
[null,null,"事業14","事業名"]
[null,null,"行動変容テーマ",null,"※公募要領　別表第１　で対象とする補助事業の内容に合致していること。\n※該当するテーマすべてをチェックしてください。"]
[null,null,null,null,"①",null,"②",null,"③",null,"④",null,"⑤",null,"⑥",null,"⑦",null,"⑧",null,"⑨",null,"⑩",null,"⑪",null,"⑫",null,null,null,null,null,"①","②",null,"③","④","⑤","⑥","⑦","⑧","⑨","⑩","⑪","⑫","⑬",null,null,null,null,null,null,null,null,null,null,null,null,null,"a)","b)","c)","d)"]
[null,null,null,null,"省ｴﾈ家電",null,"省ｴﾈ住宅",null,"ｴｺｶｰ",null,"ｸｰﾙﾋﾞｽﾞ",null,"ｳｫｰﾑﾋﾞｽﾞ",null,"照明の\n高効率利用",null,"ｴｺﾄﾞﾗｲﾌﾞ",null,"ｶｰｼｪｱ",null,"ｽﾏｰﾄﾑｰﾌﾞ",null,"低炭素物流",null,"再エネ",null,"食品ロス",null,null,null,null,null,"省ｴﾈ家電","省ｴﾈ住宅",null,"ｴｺｶｰ","ｸｰﾙﾋﾞｽﾞ","ｳｫｰﾑﾋﾞｽﾞ","照明の\n高効率利用","ｴｺﾄﾞﾗｲﾌﾞ","ｶｰｼｪｱ","ｽﾏｰﾄﾑｰﾌﾞ","低炭素物流","再エネ","食品ロス","その他",null,null,null,null,null,null,null,null,null,null,null,null,null,false,false,false,false,{"$f":"COUNTIFS($BH725:$BK725,\"TRUE\")","v":0}]
[null,null,null,null,null,null,null,null,null,null,null,null,null,null,null,null,null,null,null,null,null,null,null,null,null,null,null,null,null,null,null,null,false,false,null,false,false,false,false,false,false,false,false,false,false,false,null,null,null,null,null,null,null,null,null,null,null,{"$f":"COUNTIFS($AG726:BE726,\"TRUE\")","v":0}]
[null,null,null,null,"⑬",null,"↓ ※①～⑫以外のテーマを設定する場合、具体的に記載してください。"]
[null,null,null,null,"その他"]
[]
[null,null,"訴求手法",null,"※訴求手法については、該当する欄にチェックしてください。"]
[null,null,null,null,"a) 情報発信型（受動型）",null,null,null,null,null,null,null,"b) 情報発信型（能動型）",null,null,null,null,null,null,null,"c) 双方向体験交流型"]
[null,null,null,null,"オンラインイベント・\nテレビ・ラジオ等",null,null,null,null,null,null,null,"講演会・パネル展示等",null,null,null,null,null,null,null,"試乗・体験会、省ｴﾈ診断等"]
[]
[null,null,null,null,"d) 双方向ＷＥＢ等配信型",null,null,null,null,null,null,null,"※d) については使用する媒体等を記載してください。"]
[null,null,null,null,"（新手法）"]
[]
[null,null,"実施期間",null,null,null,null,null,null,null,null,null,null,null,"～"]
[null,null,"（備考）"]
[null,null,"実施日\n（※同一事業内で、\n同一の内容・場所において\n複数日実施する場合）",null,1,null,null,null,null,null,null,null,null,null,null,null,6]
[null,null,null,null,2,null,null,null,null,null,null,null,null,null,null,null,7]
[null,null,null,null,3,null,null,null,null,null,null,null,null,null,null,null,8]
[null,null,null,null,4,null,null,null,null,null,null,null,null,null,null,null,9]
[null,null,null,null,5,null,null,null,null,null,null,null,null,null,null,null,10]
[null,null,"事業の概要",null,"※放送による啓発の場合は、尺、制作数、放送回数について具体的に記入してください。"]
[]
[null,null,"地域団体との連携"]
[null,null,"効果的な\n実施の\nための工夫","主な訴求対象"]
[null,null,null,"訴求メッセージ"]
[null,null,null,"事業実施時期の\n設定根拠"]
[null,null,null,"具体的な訴求方法\n・\nその他の工夫"]
[null,null,"目標アウトプット\n（リーチ数）\n（想定及び実績）",null,"昨年度実績",null,null,null,"計"]
[null,null,null,null,"昨年度実績算出根拠"]
[null,null,null,null,"想定",null,null,null,"計",null,0]
[null,null,null,null,"算出方法"]
[null,null,"目標アウトカム（想定及び実績）"]
[null,null,"エネルギー起源CO2排出削減量（想定）",null,"CO2排出削減量",null,null,null,{"$f":"AU771","v":0},null,null,null,null,null,"（t-CO2）",null,null,null,null,null,null,null,null,null,null,null,null,null,null,null,"行動変容テーマ",null,"①","②省ｴﾈ住宅",null,"③","④","⑤","⑥","⑦","⑧","⑨","⑩※3","⑪","⑫","⑬"]
[null,null,null,null,"特記事項","※普及啓発人数の算定方法、平均値以外の変容率を使用する場合の考え方、行動変容テーマ「その他」で計算表を使用せず、独自にCO2削減量を算出した場合の変容率・変容係数の考え方、その他算定に影響を及ぼす事項等を記入して下さい。",null,null,null,null,null,null,null,null,null,null,null,null,null,null,null,null,null,null,null,null,null,null,null,null,null,null,"省ｴﾈ家電","ZEH","断熱リフォーム","ｴｺｶｰ","ｸｰﾙﾋﾞｽﾞ","ｳｫｰﾑﾋﾞｽﾞ","照明の高効率利用","ｴｺﾄﾞﾗｲﾌﾞ","ｶｰｼｪｱ","ｽﾏｰﾄﾑｰﾌﾞ","低炭素物流","再エネ","食品ロス","その他"]
[]
[null,null,null,null,null,null,null,null,null,null,null,null,null,null,null,null,null,null,null,null,null,null,null,null,null,null,null,null,null,null,"ラジオ等※1","①普及啓発人数（人）"]
[null,null,null,null,null,null,null,null,null,null,null,null,null,null,null,null,null,null,null,null,null,null,null,null,null,null,null,null,null,null,null,"②行動変容率（%）",2.3E-2,2E-3,0.02,0.03,0.11899999999999999,0.11899999999999999,2.3E-2,0.11899999999999999,0.104,0.11899999999999999,0.104,2.3E-2,0.156]
[null,null,null,null,null,null,null,null,null,null,null,null,null,null,null,null,null,null,null,null,null,null,null,null,null,null,null,null,null,null,null,"③CO2排出原単位（t-CO2/人）",{"$f":"'（参考）エネルギー起源CO2排出削減量の算出シート（計画時）'!$L$12","v":1.62},{"$f":"'（参考）エネルギー起源CO2排出削減量の算出シート（計画時）'!$L$14","v":153},{"$f":"'（参考）エネルギー起源CO2排出削減量の算出シート（計画時）'!$L$16","v":10},{"$f":"'（参考）エネルギー起源CO2排出削減量の算出シート（計画時）'!$L$18","v":5.18},{"$f":"'（参考）エネルギー起源CO2排出削減量の算出シート（計画時）'!$L$20","v":2.3E-2},{"$f":"'（参考）エネルギー起源CO2排出削減量の算出シート（計画時）'!$L$22","v":1.7999999999999999E-2},{"$f":"'（参考）エネルギー起源CO2排出削減量の算出シート（計画時）'!$L$24","v":2.81},{"$f":"'（参考）エネルギー起源CO2排出削減量の算出シート（計画時）'!$L$26","v":0.13100000000000001},{"$f":"'（参考）エネルギー起源CO2排出削減量の算出シート（計画時）'!$L$28","v":0.59},{"$f":"'（参考）エネルギー起源CO2排出削減量の算出シート（計画時）'!$L$30","v":0.19},{"$f":"'（参考）エネルギー起源CO2排出削減量の算出シート（計画時）'!$L$32","v":5.8500000000000002E-4},{"$f":"'（参考）エネルギー起源CO2排出削減量の算出シート（計画時）'!$L$34","v":0.24},{"$f":"'（参考）エネルギー起源CO2排出削減量の算出シート（計画時）'!$L$36","v":1.5E-3},{"$f":"'（参考）エネルギー起源CO2排出削減量の算出シート（計画時）'!$L$38","v":0.13800000000000001},"小計",null,null,null,{"$f":"AG709-AG761","v":0},{"$f":"AH709-AH761","v":0},{"$f":"AI709-AI761","v":0},{"$f":"AJ709-AJ761","v":0},{"$f":"AK709-AK761","v":0},{"$f":"AL709-AL761","v":0},{"$f":"AM709-AM761","v":0},{"$f":"AN709-AN761","v":0},{"$f":"AO709-AO761","v":0},{"$f":"AP709-AP761","v":0},{"$f":"AQ709-AQ761","v":0},{"$f":"AR709-AR761","v":0},{"$f":"AS709-AS761","v":0},{"$f":"AT709-AT761","v":0},null,{"$f":"SUM(AY761:BM761)","v":0}]
[null,null,"効果検証\n（アンケート）予定",null,"※アンケートの実施予定をプルダウンより選択してください。",null,null,null,null,null,null,null,null,null,null,null,null,null,null,null,null,null,null,null,null,null,null,null,null,null,null,"CO2排出削減効果（t-CO2/事業）",{"$f":"AG759*AG760*AG761","v":0},{"$f":"AH759*AH760*AH761","v":0},{"$f":"AI759*AI760*AI761","v":0},{"$f":"AJ759*AJ760*AJ761","v":0},{"$f":"AK759*AK760*AK761","v":0},0,0,0,0,0,{"$f":"AQ759*AQ760*AQ761*11.400933956","v":0},0,0,{"$f":"AT759*AT761","v":0},{"$f":"SUM(AG762:AT762)","v":0}]
[null,null,null,null,"公募要領に規定のアンケート",null,null,null,null,null,null,null,null,null,null,null,null,null,null,null,null,null,null,null,null,null,null,null,null,null,"※1 訴求手法の a )の場合"]
[null,null,null,null,"省エネ家電",null,null,"省エネ住宅",null,null,"エコカー",null,null,"クールビズ",null,null,"ウォームビズ",null,null,"照明の\n効率的利用",null,null,"ｴｺﾄﾞﾗｲﾌﾞ",null,null,"カーシェア",null,null,null,null,"イベント等※2","①普及啓発人数（人）"]
[null,null,null,null,"- 選択 -",null,null,"- 選択 -",null,null,"- 選択 -",null,null,"- 選択 -",null,null,"- 選択 -",null,null,"- 選択 -",null,null,"- 選択 -",null,null,"- 選択 -",null,null,null,null,null,"②意識変容率（%）",0.25800000000000001,0.34599999999999997,0.26100000000000001,0.23400000000000001,0.39600000000000002,0.39600000000000002,0.25800000000000001,0.39600000000000002,0.69799999999999995,0.39600000000000002,0.69799999999999995,0.25800000000000001,0.79]
[null,null,null,null,"公募要領に規定のアンケート",null,null,null,null,null,null,null,null,null,null,null,"貴事業者独自のアンケート",null,null,null,null,null,null,null,null,null,null,null,null,null,null,"③行動変容係数",{"$f":"'（参考）エネルギー起源CO2排出削減量の算出シート（計画時）'!$J$48","v":0.24031007751937983},{"$f":"'（参考）エネルギー起源CO2排出削減量の算出シート（計画時）'!$J$50","v":6.6473988439306367E-2},{"$f":"'（参考）エネルギー起源CO2排出削減量の算出シート（計画時）'!$J$52","v":0.27203065134099613},{"$f":"'（参考）エネルギー起源CO2排出削減量の算出シート（計画時）'!$J$54","v":0.28205128205128205},{"$f":"'（参考）エネルギー起源CO2排出削減量の算出シート（計画時）'!$J$56","v":0.72727272727272718},{"$f":"'（参考）エネルギー起源CO2排出削減量の算出シート（計画時）'!$J$58","v":0.72727272727272718},{"$f":"'（参考）エネルギー起源CO2排出削減量の算出シート（計画時）'!$J$60","v":0.24031007751937983},{"$f":"'（参考）エネルギー起源CO2排出削減量の算出シート（計画時）'!$J$62","v":0.72727272727272718},{"$f":"'（参考）エネルギー起源CO2排出削減量の算出シート（計画時）'!$J$64","v":0.10744985673352436},{"$f":"'（参考）エネルギー起源CO2排出削減量の算出シート（計画時）'!$J$66","v":0.72727272727272718},{"$f":"'（参考）エネルギー起源CO2排出削減量の算出シート（計画時）'!$J$68","v":0.10744985673352436},{"$f":"'（参考）エネルギー起源CO2排出削減量の算出シート（計画時）'!$J$70","v":0.24031007751937983},{"$f":"'（参考）エネルギー起源CO2排出削減量の算出シート（計画時）'!$J$72","v":0.43037974683544306},null,null,null,null,null,{"$f":"AG714-AG766","v":0},{"$f":"AH714-AH766","v":0},{"$f":"AI714-AI766","v":0},{"$f":"AJ714-AJ766","v":0},{"$f":"AK714-AK766","v":0},{"$f":"AL714-AL766","v":0},{"$f":"AM714-AM766","v":0},{"$f":"AN714-AN766","v":0},{"$f":"AO714-AO766","v":0},{"$f":"AP714-AP766","v":0},{"$f":"AQ714-AQ766","v":0},{"$f":"AR714-AR766","v":0},{"$f":"AS714-AS766","v":0},{"$f":"AT714-AT766","v":0},null,{"$f":"SUM(AY766:BM766)","v":0}]
[null,null,null,null,"ｽﾏｰﾄﾑｰﾌﾞ",null,null,"低炭素物流",null,null,"再エネ",null,null,"食品ロス",null,null,null,null,null,null,null,null,null,null,null,null,null,null,null,null,null,"④CO2排出原単位（t-CO2/人）",{"$f":"'（参考）エネルギー起源CO2排出削減量の算出シート（計画時）'!$L$48","v":1.62},{"$f":"'（参考）エネルギー起源CO2排出削減量の算出シート（計画時）'!$L$50","v":153},{"$f":"'（参考）エネルギー起源CO2排出削減量の算出シート（計画時）'!$L$52","v":10},{"$f":"'（参考）エネルギー起源CO2排出削減量の算出シート（計画時）'!$L$54","v":5.18},{"$f":"'（参考）エネルギー起源CO2排出削減量の算出シート（計画時）'!$L$56","v":2.3E-2},{"$f":"'（参考）エネルギー起源CO2排出削減量の算出シート（計画時）'!$L$58","v":1.7999999999999999E-2},{"$f":"'（参考）エネルギー起源CO2排出削減量の算出シート（計画時）'!$L$60","v":2.81},{"$f":"'（参考）エネルギー起源CO2排出削減量の算出シート（計画時）'!$L$62","v":0.13100000000000001},{"$f":"'（参考）エネルギー起源CO2排出削減量の算出シート（計画時）'!$L$64","v":0.59},{"$f":"'（参考）エネルギー起源CO2排出削減量の算出シート（計画時）'!$L$66","v":0.19},{"$f":"'（参考）エネルギー起源CO2排出削減量の算出シート（計画時）'!$L$68","v":5.8500000000000002E-4},{"$f":"'（参考）エネルギー起源CO2排出削減量の算出シート（計画時）'!$L$70","v":0.24},{"$f":"'（参考）エネルギー起源CO2排出削減量の算出シート（計画時）'!$L$72","v":1.5E-3},{"$f":"'（参考）エネルギー起源CO2排出削減量の算出シート（計画時）'!$L$74","v":0.13800000000000001},"小計",null,null,null,{"$f":"AG715-AG767","v":0},0,0,0,0,0,0,0,0,0,0,0,0,0,null,{"$f":"SUM(AY767:BM767)","v":0}]
[null,null,null,null,"- 選択 -",null,null,"- 選択 -",null,null,"- 選択 -",null,null,"- 選択 -",null,null,"- 選択 -",null,null,null,null,null,null,null,null,null,null,null,null,null,null,"CO2排出削減効果（t-CO2/事業）",{"$f":"AG764*AG765*AG766*AG767","v":0},0,0,0,0,0,0,0,0,0,{"$f":"AQ764*AQ765*AQ766*AQ767*11.400933956","v":0},0,0,{"$f":"AT764*AT767","v":0},{"$f":"SUM(AG768:AT768)","v":0},null,null,null,null,null,null,null,null,null,null,null,null,null,null,null,null,null,null,{"$f":"SUM(BN761:BN767)","v":0}]
[null,null,null,null,"内容（",null,null,null,null,null,null,null,null,null,null,null,null,null,null,null,null,null,null,null,null,null,null,"）",null,null,"※2 訴求手法の b),c),d) のいずれかの場合",null,"※3 ⑩に関しては、人数から再配達個数を自動計算し、再配達1個当たりのCO2排出原単位から算出"]
[null,null,null,null,"昨年度実績",null,null,null,"計",null,null,null,"枚",null,"※複数ある場合は、アンケート合計回収数",null,null,null,null,null,null,null,null,null,null,null,null,null,null,null,"上記の合計",null,null,null,null,null,null,null,null,null,null,null,null,null,null,null,"合計"]
[null,null,null,null,"目標回収数",null,null,null,"計",null,null,null,"枚",null,"※複数ある場合は、アンケート合計回収数",null,null,null,null,null,null,null,null,null,null,null,null,null,null,null,null,"CO2排出削減効果（t-CO2/事業）",{"$f":"AG762+AG768","v":0},{"$f":"AH762+AH768","v":0},0,0,0,0,0,0,0,0,0,0,0,0,{"$f":"SUM(AG771:AT771)","v":0}]
[null,null,null,null,null,null,null,null,null,null,null,null,null,null,null,null,null,null,null,null,null,null,null,null,null,null,null,null,null,null,null,null,null,null,null,null,null,null,null,null,"※合計値は自動的に別紙1に転記されます"]
[null,null,"項目",null,"内容"]
[null,null,"事業15","事業名"]
[null,null,"行動変容テーマ",null,"※公募要領　別表第１　で対象とする補助事業の内容に合致していること。\n※該当するテーマすべてをチェックしてください。"]
[null,null,null,null,"①",null,"②",null,"③",null,"④",null,"⑤",null,"⑥",null,"⑦",null,"⑧",null,"⑨",null,"⑩",null,"⑪",null,"⑫",null,null,null,null,null,"①","②",null,"③","④","⑤","⑥","⑦","⑧","⑨","⑩","⑪","⑫","⑬",null,null,null,null,null,null,null,null,null,null,null,null,null,"a)","b)","c)","d)"]
[null,null,null,null,"省ｴﾈ家電",null,"省ｴﾈ住宅",null,"ｴｺｶｰ",null,"ｸｰﾙﾋﾞｽﾞ",null,"ｳｫｰﾑﾋﾞｽﾞ",null,"照明の\n高効率利用",null,"ｴｺﾄﾞﾗｲﾌﾞ",null,"ｶｰｼｪｱ",null,"ｽﾏｰﾄﾑｰﾌﾞ",null,"低炭素物流",null,"再エネ",null,"食品ロス",null,null,null,null,null,"省ｴﾈ家電","省ｴﾈ住宅",null,"ｴｺｶｰ","ｸｰﾙﾋﾞｽﾞ","ｳｫｰﾑﾋﾞｽﾞ","照明の\n高効率利用","ｴｺﾄﾞﾗｲﾌﾞ","ｶｰｼｪｱ","ｽﾏｰﾄﾑｰﾌﾞ","低炭素物流","再エネ","食品ロス","その他",null,null,null,null,null,null,null,null,null,null,null,null,null,false,false,false,false,{"$f":"COUNTIFS($BH777:$BK777,\"TRUE\")","v":0}]
[null,null,null,null,null,null,null,null,null,null,null,null,null,null,null,null,null,null,null,null,null,null,null,null,null,null,null,null,null,null,null,null,false,false,null,false,false,false,false,false,false,false,false,false,false,false,null,null,null,null,null,null,null,null,null,null,null,{"$f":"COUNTIFS($AG778:BE778,\"TRUE\")","v":0}]
[null,null,null,null,"⑬",null,"↓ ※①～⑫以外のテーマを設定する場合、具体的に記載してください。"]
[null,null,null,null,"その他"]
[]
[null,null,"訴求手法",null,"※訴求手法については、該当する欄にチェックしてください。"]
[null,null,null,null,"a) 情報発信型（受動型）",null,null,null,null,null,null,null,"b) 情報発信型（能動型）",null,null,null,null,null,null,null,"c) 双方向体験交流型"]
[null,null,null,null,"オンラインイベント・\nテレビ・ラジオ等",null,null,null,null,null,null,null,"講演会・パネル展示等",null,null,null,null,null,null,null,"試乗・体験会、省ｴﾈ診断等"]
[]
[null,null,null,null,"d) 双方向ＷＥＢ等配信型",null,null,null,null,null,null,null,"※d) については使用する媒体等を記載してください。"]
[null,null,null,null,"（新手法）"]
[]
[null,null,"実施期間",null,null,null,null,null,null,null,null,null,null,null,"～"]
[null,null,"（備考）"]
[null,null,"実施日\n（※同一事業内で、\n同一の内容・場所において\n複数日実施する場合）",null,1,null,null,null,null,null,null,null,null,null,null,null,6]
[null,null,null,null,2,null,null,null,null,null,null,null,null,null,null,null,7]
[null,null,null,null,3,null,null,null,null,null,null,null,null,null,null,null,8]
[null,null,null,null,4,null,null,null,null,null,null,null,null,null,null,null,9]
[null,null,null,null,5,null,null,null,null,null,null,null,null,null,null,null,10]
[null,null,"事業の概要",null,"※放送による啓発の場合は、尺、制作数、放送回数について具体的に記入してください。"]
[]
[null,null,"地域団体との連携"]
[null,null,"効果的な\n実施の\nための工夫","主な訴求対象"]
[null,null,null,"訴求メッセージ"]
[null,null,null,"事業実施時期の\n設定根拠"]
[null,null,null,"具体的な訴求方法\n・\nその他の工夫"]
[null,null,"目標アウトプット\n（リーチ数）\n（想定及び実績）",null,"昨年度実績",null,null,null,"計"]
[null,null,null,null,"昨年度実績算出根拠"]
[null,null,null,null,"想定",null,null,null,"計",null,0]
[null,null,null,null,"算出方法"]
[null,null,"目標アウトカム（想定及び実績）"]
[null,null,"エネルギー起源CO2排出削減量（想定）",null,"CO2排出削減量",null,null,null,{"$f":"AU823","v":0},null,null,null,null,null,"（t-CO2）",null,null,null,null,null,null,null,null,null,null,null,null,null,null,null,"行動変容テーマ",null,"①","②省ｴﾈ住宅",null,"③","④","⑤","⑥","⑦","⑧","⑨","⑩※3","⑪","⑫","⑬"]
[null,null,null,null,"特記事項","※普及啓発人数の算定方法、平均値以外の変容率を使用する場合の考え方、行動変容テーマ「その他」で計算表を使用せず、独自にCO2削減量を算出した場合の変容率・変容係数の考え方、その他算定に影響を及ぼす事項等を記入して下さい。",null,null,null,null,null,null,null,null,null,null,null,null,null,null,null,null,null,null,null,null,null,null,null,null,null,null,"省ｴﾈ家電","ZEH","断熱リフォーム","ｴｺｶｰ","ｸｰﾙﾋﾞｽﾞ","ｳｫｰﾑﾋﾞｽﾞ","照明の高効率利用","ｴｺﾄﾞﾗｲﾌﾞ","ｶｰｼｪｱ","ｽﾏｰﾄﾑｰﾌﾞ","低炭素物流","再エネ","食品ロス","その他"]
[]
[null,null,null,null,null,null,null,null,null,null,null,null,null,null,null,null,null,null,null,null,null,null,null,null,null,null,null,null,null,null,"ラジオ等※1","①普及啓発人数（人）"]
[null,null,null,null,null,null,null,null,null,null,null,null,null,null,null,null,null,null,null,null,null,null,null,null,null,null,null,null,null,null,null,"②行動変容率（%）",2.3E-2,2E-3,0.02,0.03,0.11899999999999999,0.11899999999999999,2.3E-2,0.11899999999999999,0.104,0.11899999999999999,0.104,2.3E-2,0.156]
[null,null,null,null,null,null,null,null,null,null,null,null,null,null,null,null,null,null,null,null,null,null,null,null,null,null,null,null,null,null,null,"③CO2排出原単位（t-CO2/人）",{"$f":"'（参考）エネルギー起源CO2排出削減量の算出シート（計画時）'!$L$12","v":1.62},{"$f":"'（参考）エネルギー起源CO2排出削減量の算出シート（計画時）'!$L$14","v":153},{"$f":"'（参考）エネルギー起源CO2排出削減量の算出シート（計画時）'!$L$16","v":10},{"$f":"'（参考）エネルギー起源CO2排出削減量の算出シート（計画時）'!$L$18","v":5.18},{"$f":"'（参考）エネルギー起源CO2排出削減量の算出シート（計画時）'!$L$20","v":2.3E-2},{"$f":"'（参考）エネルギー起源CO2排出削減量の算出シート（計画時）'!$L$22","v":1.7999999999999999E-2},{"$f":"'（参考）エネルギー起源CO2排出削減量の算出シート（計画時）'!$L$24","v":2.81},{"$f":"'（参考）エネルギー起源CO2排出削減量の算出シート（計画時）'!$L$26","v":0.13100000000000001},{"$f":"'（参考）エネルギー起源CO2排出削減量の算出シート（計画時）'!$L$28","v":0.59},{"$f":"'（参考）エネルギー起源CO2排出削減量の算出シート（計画時）'!$L$30","v":0.19},{"$f":"'（参考）エネルギー起源CO2排出削減量の算出シート（計画時）'!$L$32","v":5.8500000000000002E-4},{"$f":"'（参考）エネルギー起源CO2排出削減量の算出シート（計画時）'!$L$34","v":0.24},{"$f":"'（参考）エネルギー起源CO2排出削減量の算出シート（計画時）'!$L$36","v":1.5E-3},{"$f":"'（参考）エネルギー起源CO2排出削減量の算出シート（計画時）'!$L$38","v":0.13800000000000001},"小計",null,null,null,{"$f":"AG761-AG813","v":0},{"$f":"AH761-AH813","v":0},{"$f":"AI761-AI813","v":0},{"$f":"AJ761-AJ813","v":0},{"$f":"AK761-AK813","v":0},{"$f":"AL761-AL813","v":0},{"$f":"AM761-AM813","v":0},{"$f":"AN761-AN813","v":0},{"$f":"AO761-AO813","v":0},{"$f":"AP761-AP813","v":0},{"$f":"AQ761-AQ813","v":0},{"$f":"AR761-AR813","v":0},{"$f":"AS761-AS813","v":0},{"$f":"AT761-AT813","v":0},null,{"$f":"SUM(AY813:BM813)","v":0}]
[null,null,"効果検証\n（アンケート）予定",null,"※アンケートの実施予定をプルダウンより選択してください。",null,null,null,null,null,null,null,null,null,null,null,null,null,null,null,null,null,null,null,null,null,null,null,null,null,null,"CO2排出削減効果（t-CO2/事業）",{"$f":"AG811*AG812*AG813","v":0},{"$f":"AH811*AH812*AH813","v":0},{"$f":"AI811*AI812*AI813","v":0},{"$f":"AJ811*AJ812*AJ813","v":0},{"$f":"AK811*AK812*AK813","v":0},0,0,0,0,0,{"$f":"AQ811*AQ812*AQ813*11.400933956","v":0},0,0,{"$f":"AT811*AT813","v":0},{"$f":"SUM(AG814:AT814)","v":0}]
[null,null,null,null,"公募要領に規定のアンケート",null,null,null,null,null,null,null,null,null,null,null,null,null,null,null,null,null,null,null,null,null,null,null,null,null,"※1 訴求手法の a )の場合"]
[null,null,null,null,"省エネ家電",null,null,"省エネ住宅",null,null,"エコカー",null,null,"クールビズ",null,null,"ウォームビズ",null,null,"照明の\n効率的利用",null,null,"ｴｺﾄﾞﾗｲﾌﾞ",null,null,"カーシェア",null,null,null,null,"イベント等※2","①普及啓発人数（人）"]
[null,null,null,null,"- 選択 -",null,null,"- 選択 -",null,null,"- 選択 -",null,null,"- 選択 -",null,null,"- 選択 -",null,null,"- 選択 -",null,null,"- 選択 -",null,null,"- 選択 -",null,null,null,null,null,"②意識変容率（%）",0.25800000000000001,0.34599999999999997,0.26100000000000001,0.23400000000000001,0.39600000000000002,0.39600000000000002,0.25800000000000001,0.39600000000000002,0.69799999999999995,0.39600000000000002,0.69799999999999995,0.25800000000000001,0.79]
[null,null,null,null,"公募要領に規定のアンケート",null,null,null,null,null,null,null,null,null,null,null,"貴事業者独自のアンケート",null,null,null,null,null,null,null,null,null,null,null,null,null,null,"③行動変容係数",{"$f":"'（参考）エネルギー起源CO2排出削減量の算出シート（計画時）'!$J$48","v":0.24031007751937983},{"$f":"'（参考）エネルギー起源CO2排出削減量の算出シート（計画時）'!$J$50","v":6.6473988439306367E-2},{"$f":"'（参考）エネルギー起源CO2排出削減量の算出シート（計画時）'!$J$52","v":0.27203065134099613},{"$f":"'（参考）エネルギー起源CO2排出削減量の算出シート（計画時）'!$J$54","v":0.28205128205128205},{"$f":"'（参考）エネルギー起源CO2排出削減量の算出シート（計画時）'!$J$56","v":0.72727272727272718},{"$f":"'（参考）エネルギー起源CO2排出削減量の算出シート（計画時）'!$J$58","v":0.72727272727272718},{"$f":"'（参考）エネルギー起源CO2排出削減量の算出シート（計画時）'!$J$60","v":0.24031007751937983},{"$f":"'（参考）エネルギー起源CO2排出削減量の算出シート（計画時）'!$J$62","v":0.72727272727272718},{"$f":"'（参考）エネルギー起源CO2排出削減量の算出シート（計画時）'!$J$64","v":0.10744985673352436},{"$f":"'（参考）エネルギー起源CO2排出削減量の算出シート（計画時）'!$J$66","v":0.72727272727272718},{"$f":"'（参考）エネルギー起源CO2排出削減量の算出シート（計画時）'!$J$68","v":0.10744985673352436},{"$f":"'（参考）エネルギー起源CO2排出削減量の算出シート（計画時）'!$J$70","v":0.24031007751937983},{"$f":"'（参考）エネルギー起源CO2排出削減量の算出シート（計画時）'!$J$72","v":0.43037974683544306},null,null,null,null,null,{"$f":"AG766-AG818","v":0},{"$f":"AH766-AH818","v":0},{"$f":"AI766-AI818","v":0},{"$f":"AJ766-AJ818","v":0},{"$f":"AK766-AK818","v":0},{"$f":"AL766-AL818","v":0},{"$f":"AM766-AM818","v":0},{"$f":"AN766-AN818","v":0},{"$f":"AO766-AO818","v":0},{"$f":"AP766-AP818","v":0},{"$f":"AQ766-AQ818","v":0},{"$f":"AR766-AR818","v":0},{"$f":"AS766-AS818","v":0},{"$f":"AT766-AT818","v":0},null,{"$f":"SUM(AY818:BM818)","v":0}]
[null,null,null,null,"ｽﾏｰﾄﾑｰﾌﾞ",null,null,"低炭素物流",null,null,"再エネ",null,null,"食品ロス",null,null,null,null,null,null,null,null,null,null,null,null,null,null,null,null,null,"④CO2排出原単位（t-CO2/人）",{"$f":"'（参考）エネルギー起源CO2排出削減量の算出シート（計画時）'!$L$48","v":1.62},{"$f":"'（参考）エネルギー起源CO2排出削減量の算出シート（計画時）'!$L$50","v":153},{"$f":"'（参考）エネルギー起源CO2排出削減量の算出シート（計画時）'!$L$52","v":10},{"$f":"'（参考）エネルギー起源CO2排出削減量の算出シート（計画時）'!$L$54","v":5.18},{"$f":"'（参考）エネルギー起源CO2排出削減量の算出シート（計画時）'!$L$56","v":2.3E-2},{"$f":"'（参考）エネルギー起源CO2排出削減量の算出シート（計画時）'!$L$58","v":1.7999999999999999E-2},{"$f":"'（参考）エネルギー起源CO2排出削減量の算出シート（計画時）'!$L$60","v":2.81},{"$f":"'（参考）エネルギー起源CO2排出削減量の算出シート（計画時）'!$L$62","v":0.13100000000000001},{"$f":"'（参考）エネルギー起源CO2排出削減量の算出シート（計画時）'!$L$64","v":0.59},{"$f":"'（参考）エネルギー起源CO2排出削減量の算出シート（計画時）'!$L$66","v":0.19},{"$f":"'（参考）エネルギー起源CO2排出削減量の算出シート（計画時）'!$L$68","v":5.8500000000000002E-4},{"$f":"'（参考）エネルギー起源CO2排出削減量の算出シート（計画時）'!$L$70","v":0.24},{"$f":"'（参考）エネルギー起源CO2排出削減量の算出シート（計画時）'!$L$72","v":1.5E-3},{"$f":"'（参考）エネルギー起源CO2排出削減量の算出シート（計画時）'!$L$74","v":0.13800000000000001},"小計",null,null,null,{"$f":"AG767-AG819","v":0},0,0,0,0,0,0,0,0,0,0,0,0,0,null,{"$f":"SUM(AY819:BM819)","v":0}]
[null,null,null,null,"- 選択 -",null,null,"- 選択 -",null,null,"- 選択 -",null,null,"- 選択 -",null,null,"- 選択 -",null,null,null,null,null,null,null,null,null,null,null,null,null,null,"CO2排出削減効果（t-CO2/事業）",{"$f":"AG816*AG817*AG818*AG819","v":0},0,0,0,0,0,0,0,0,0,{"$f":"AQ816*AQ817*AQ818*AQ819*11.400933956","v":0},0,0,{"$f":"AT816*AT819","v":0},{"$f":"SUM(AG820:AT820)","v":0},null,null,null,null,null,null,null,null,null,null,null,null,null,null,null,null,null,null,{"$f":"SUM(BN813:BN819)","v":0}]
[null,null,null,null,"内容（",null,null,null,null,null,null,null,null,null,null,null,null,null,null,null,null,null,null,null,null,null,null,"）",null,null,"※2 訴求手法の b),c),d) のいずれかの場合",null,"※3 ⑩に関しては、人数から再配達個数を自動計算し、再配達1個当たりのCO2排出原単位から算出"]
[null,null,null,null,"昨年度実績",null,null,null,"計",null,null,null,"枚",null,"※複数ある場合は、アンケート合計回収数",null,null,null,null,null,null,null,null,null,null,null,null,null,null,null,"上記の合計",null,null,null,null,null,null,null,null,null,null,null,null,null,null,null,"合計",null,null,null,null,null,null,null,null,null,null,null,null,null,null,null,null,null,null,{"$f":"BN92+BN144+BN196+BN248+BN300+BN352+BN404+BN456+BN508+BN560+BN612+BN664+BN716+BN768+BN820","v":0}]
[null,null,null,null,"目標回収数",null,null,null,"計",null,null,null,"枚",null,"※複数ある場合は、アンケート合計回収数",null,null,null,null,null,null,null,null,null,null,null,null,null,null,null,null,"CO2排出削減効果（t-CO2/事業）",{"$f":"AG814+AG820","v":0},{"$f":"AH814+AH820","v":0},0,0,0,0,0,0,0,0,0,0,0,0,{"$f":"SUM(AG823:AT823)","v":0}]
[null,null,null,null,null,null,null,null,null,null,null,null,null,null,null,null,null,null,null,null,null,null,null,null,null,null,null,null,null,null,null,null,null,null,null,null,null,null,null,null,"※合計値は自動的に別紙1に転記されます"]
[" "]
[null,"（2）「COOL CHOICE」の賛同",null,null,"- 選択 -"]
[null,"（賛同の有無をプルダウンから選択する。有の場合、登録証明書を添付すること。)"]
[]
[null,"＜事業の効果＞"]
[null,"※事業をどのような目標をもって取組むか、具体的な目標を設定しその算出方法や実施方法等を示してください。",null,null,null,null,null,null,null,null,null,null,null,null,null,null,null,null,null,null,null,null,null,null,null,null,null,null,null,null,{"$f":"'（参考）行動・意識変容率過年度平均'!N55","v":0}]
[]
[null,"【事業効果の目標】"]
[null,null,"A) エネルギー起源CO2排出削減量："]
[null,null,"総エネルギー起源CO2排出削減量",null,null,null,{"$f":"SUM($I$80,$I$132,$I$184,$I$236,$I$288,$I$340,$I$392,$I$444,$I$496,$I$548,$I$600,$I$652,$I$704,$I$756,$I$808)","v":0},null,null,null,"（t-CO2）"]
[]
[null,null,"B) 事業全体における普及啓発の規模（リーチ数）："]
[null,null,"規模（リーチ数）",null,null,null,{"$f":"SUM($K$77,K129,K181,K233,K285,K337,K389,K441,K493,K545,K597,K649,K701,K753,K805)","v":0},null,null,null,"名"]
[null,null,"アンケート等回収数",null,null,null,{"$f":"SUM(J95,J147,J199,J251,J303,J355,J407,J459,J511,J563,J615,J667,J719,J771,J823)","v":0},null,null,null,"枚"]
[null,null,"測定方法\n（計算式、根拠資料等）"]
[]
[]
[]
[]
[]
[]
[null,"＜ゼロカーボンシティ及び「COOL CHOICE」に係る取組、民間企業と地方公共団体の連携等＞　"]
[null,"地方公共団体においてはゼロカーボンシティの表明及び「COOL CHOICE」への賛同、地球温暖化対策への取組状況に係る首長の取組宣言や状況等について記入してください。\n例：ゼロカーボンシティについて○年○月○日　市長が記者会見（詳細は添付資料参照）等。\n民間企業・団体の場合は、応募者自身のCOOL CHOICEをはじめとした地球温暖化対策への取組状況及び連携する地方公共団体におけるゼロカーボンシティ・COOL CHOICEへの賛同に係る状況、事業を行う上での具体的な連携内容等について記載してください。\nまた、記載いただいた状況がわかる資料等を添付してください。例：賛同証明書、HPの写し、広報や報道情報等。"]
[]
[]
[]
[]
[]
[null,"＜事業の実施体制＞"]
[null,"※補助事業の実施体制について、補助事業者内の事業実施・経理等の体制及び外部関係者との協力・連携の\n内容・体制を記入してください（別紙添付でも可）。"]
[]
[]
[]
[]
[]
[null,"＜事業実施に関連する事項＞"]
[null,"【他の補助金との関係】"]
[null,"※他の国の補助金等（固定価格買取制度を含む。）への応募状況等を記入してください。"]
[]
[]
[]
[]
[null,"【許認可、権利関係等事業実施の前提となる事項及び実施上問題となる事項】"]
[null,"※補助事業遂行上、許認可、権利関係等関係者間の調整が必要となる事項について記入してください。"]
[]
[]
[]
[]
[null,"＜事業実施スケジュール＞"]
[null,"※事業の実施スケジュールを記入してください（別紙添付でも可）。\n"]
[]
[]
[]
[]
[]
[null,null,"注１　記入欄が少ない場合は、本様式を引き伸ばして使用する。"]

{"sheet":"別紙２_経費内訳_応募申請","index":4,"n_rows":42,"n_cols":30,"rows_kept":42,"cut":false,"hidden":false,"merged":[[41,1,41,23],[38,8,38,12],[38,13,38,23],[39,8,39,12],[39,13,39,23],[40,1,40,7],[40,8,40,12],[40,13,40,23],[35,8,35,12],[35,13,35,23],[36,8,36,12],[36,13,36,23],[37,8,37,12],[37,13,37,23],[32,8,32,12],[32,13,32,23],[33,8,33,12],[33,13,33,23],[34,8,34,12],[34,13,34,23],[29,8,29,12],[29,13,29,23],[30,8,30,12],[30,13,30,23],[31,8,31,12],[31,13,31,23],[26,8,26,12],[26,13,26,23],[27,8,27,12],[27,13,27,23],[28,8,28,12],[28,13,28,23],[23,8,23,12],[23,13,23,23],[24,8,24,12],[24,13,24,23],[25,8,25,12],[25,13,25,23],[20,8,20,12],[20,13,20,23],[21,8,21,12],[21,13,21,23],[22,8,22,12],[22,13,22,23],[17,8,17,12],[17,13,17,23],[18,8,18,12],[18,13,18,23],[19,8,19,12],[19,13,19,23],[14,8,14,12],[14,13,14,23],[15,8,15,12],[15,13,15,23],[16,8,16,12],[16,13,16,23],[11,1,11,23],[12,1,12,7],[12,8,12,12],[12,13,12,23],[13,8,13,12],[13,13,13,23],[9,4,9,8],[9,9,9,13],[9,14,9,18],[9,19,9,23],[10,4,10,8],[10,9,10,13],[10,14,10,18],[10,19,10,23],[2,1,2,23],[3,1,3,23],[4,1,4,23],[6,1,10,3],[6,5,6,8],[6,10,6,13],[6,15,6,18],[6,20,6,23],[7,4,7,8],[7,9,7,13],[7,14,7,18],[7,19,7,23],[8,5,8,8],[8,10,8,13],[8,15,8,18],[8,20,8,23]]}
[]
[]
[null,"別紙２"]
[null,"地方と連携した地球温暖化対策活動推進事業に要する経費内訳"]
[null,{"$f":"様式第１_応募申請書!C18","v":"＜　　　　　事業名を選択して下さい。           ＞ "}]
[]
[null,"所要経費",null,null,"(1)","総事業費",null,null,null,"(2)","寄付金その他の収入",null,null,null,"(3)","差引額\n(1)－(2)",null,null,null,"(4)","補助対象経費支出予定額"]
[null,null,null,null,{"$f":"I41","v":0},null,null,null,null,null,null,null,null,null,{"$f":"E8-J8","v":0},null,null,null,null,{"$f":"I41","v":0}]
[null,null,null,null,"(5)","基準額",null,null,null,"(6)","選定額",null,null,null,"(7)","補助基本額",null,null,null,"(8)","補助金所要額"]
[null,null,null,null,null,null,null,null,null,"(4)と(5)を比較して少ない方の額",null,null,null,null,"(3)と(6)を比較して少ない方の額",null,null,null,null,"(7)の額×補助率\n(千円未満切捨)",null,null,null,null,null,"申請者種別"]
[null,null,null,null,{"$f":"IF(Z11=4,5000000,IF(Z11=5,6000000,8000000))","v":6000000},null,null,null,null,{"$f":"IF(T8>E11,E11,T8)","v":0},null,null,null,null,{"$f":"IF(O8>J11,J11,O8)","v":0},null,null,null,null,{"$f":"ROUNDDOWN(O11*IF(OR(Z11=4,Z11=5),1,0.75),-3)","v":0},null,null,null,null,null,{"$f":"様式第１_応募申請書!AA35","v":5}]
[null,"補助対象経費支出予定額内訳",null,null,null,null,null,null,null,null,null,null,null,null,null,null,null,null,null,null,null,null,null,null,null,"番号","区分","分類","補助率","基準額"]
[null,"経費区分・費目",null,null,null,null,null,null,"金　　額",null,null,null,null,"積　　算　　内　　訳",null,null,null,null,null,null,null,null,null,null,null,1,"政令指定都市","ア",0.75,"800万円"]
[null,"（記載例）",null,null,null,null,null,null,null,null,null,null,null,null,null,null,null,null,null,null,null,null,null,null,null,2,"特別区","ア",0.75,"800万円"]
[null,null,null,null,null,null,null,null,null,null,null,null,null,null,null,null,null,null,null,null,null,null,null,null,null,3,"中核市","ア",0.75,"800万円"]
[null,"人件費",null,null,null,null,null,null,null,null,null,null,null,null,null,null,null,null,null,null,null,null,null,null,null,4,"ア以外の市町村","イ","定額","500万円"]
[null,null,null,null,null,null,null,null,null,null,null,null,null,null,null,null,null,null,null,null,null,null,null,null,null,5,"民間企業・団体","ウ","定額","600万円"]
[null,"業務費"]
[null,null,"・賃金"]
[null,null,"・諸謝金"]
[null,null,"・旅費"]
[]
[]
[]
[]
[]
[]
[]
[]
[]
[]
[]
[]
[]
[]
[]
[]
[]
[]
[]
[null,"合　　計",null,null,null,null,null,null,{"$f":"SUBTOTAL(9,I14:M40)","v":0}]
[null,"注　本内訳に、見積書又は計算書等を添付する。"]

{"sheet":"（参考）エネルギー起源CO2排出削減量の算出シート（計画時）","index":5,"n_rows":82,"n_cols":14,"rows_kept":82,"cut":false,"hidden":false,"merged":[[35,3,35,5],[37,3,37,5],[13,3,13,5],[15,3,15,5],[17,3,17,5],[23,3,23,5],[33,3,33,5],[25,3,25,5],[19,3,19,5],[21,3,21,5],[27,3,27,5],[29,3,29,5],[71,3,71,5],[73,3,73,5],[7,3,7,5],[8,3,8,5],[11,3,11,5],[53,3,53,5],[59,3,59,5],[69,3,69,5],[61,3,61,5],[55,3,55,5],[57,3,57,5],[63,3,63,5],[65,3,65,5],[43,3,43,5],[44,3,44,5],[47,3,47,5],[49,3,49,5],[51,3,51,5],[43,6,44,6],[43,8,44,8],[43,10,44,10],[43,12,44,12],[7,6,8,6],[7,10,8,10],[7,12,8,12],[23,7,23,9],[7,7,7,9],[8,7,8,9],[9,7,9,9],[11,7,11,9],[12,7,12,9],[13,7,13,9],[14,7,14,9],[15,7,15,9],[16,7,16,9],[17,7,17,9],[18,7,18,9],[25,7,25,9],[26,7,26,9],[31,7,31,9],[32,7,32,9],[19,7,19,9],[20,7,20,9],[21,7,21,9],[22,7,22,9],[27,7,27,9],[24,7,24,9],[37,7,37,9],[28,7,28,9],[29,7,29,9],[30,7,30,9],[35,7,35,9],[36,7,36,9],[33,7,33,9],[34,7,34,9]]}
["（参考）エネルギー起源CO2排出削減量の算出シート（計画時）"]
[]
[null,"計画時におけるエネルギー起源CO2排出削減量の計算に際し、適宜ご活用ください。"]
[null,"応募申請書作成の際は、別紙１の事業記入欄右側にある、計算フォームの中に啓発人数等必要な数値を直接入力してください。"]
[null,"なお、実績値については、PDCAシート（採択後にご案内予定）に普及啓発人数と会場アンケートによる意識変容率を記入いただくことで、同シート上に自動的に算出されます。"]
[]
["1．ラジオ等の場合"]
[null,"項目",null,"①普及啓発人数",null,null,"×","②行動変容率",null,null,"×","③CO2排出原単位","＝","CO2排出削減効果"]
[null,"（単位）",null,"（人）",null,null,null,"（%）",null,null,null,"（t-CO2/人）",null,"（t-CO2/事業）"]
[null,"記入方法",null,"計画値を記入ください",null,null,null,"目標値を記入ください。なお、ご参考に過年度平均値を（）で示しています*",null,null,null,"表3の値\n（変更いただく必要はありません）",null,"①×②×③"]
["　【テーマ】"]
[null,"省エネ家電",null,null,null,null,"×",null,null,null,"×",{"$f":"'（参考）行動・意識変容率過年度平均'!$K$6","v":1.62},"＝",{"$f":"D12*H12*L12","v":0}]
[null,null,null,null,null,null,null,{"$f":"'（参考）行動・意識変容率過年度平均'!$E$6","v":2.3E-2}]
[null,"省エネ住宅（ZEH）",null,null,null,null,"×",null,null,null,"×",{"$f":"'（参考）行動・意識変容率過年度平均'!$K$7","v":153},"＝",{"$f":"D14*H14*L14","v":0}]
[null,null,null,null,null,null,null,{"$f":"'（参考）行動・意識変容率過年度平均'!$E$7","v":2E-3}]
[null,"省エネ住宅（断熱リフォーム）",null,null,null,null,"×",null,null,null,"×",{"$f":"'（参考）行動・意識変容率過年度平均'!$K$8","v":10},"＝",{"$f":"D16*H16*L16","v":0}]
[null,null,null,null,null,null,null,{"$f":"'（参考）行動・意識変容率過年度平均'!$E$8","v":0.02}]
[null,"エコカー",null,null,null,null,"×",null,null,null,"×",{"$f":"'（参考）行動・意識変容率過年度平均'!$K$9","v":5.18},"＝",{"$f":"D18*H18*L18","v":0}]
[null,null,null,null,null,null,null,{"$f":"'（参考）行動・意識変容率過年度平均'!$E$9","v":0.03}]
[null,"クールビズ",null,null,null,null,"×",null,null,null,"×",{"$f":"'（参考）行動・意識変容率過年度平均'!$K$14","v":2.3E-2},"＝",{"$f":"D20*H20*L20","v":0}]
[null,null,null,null,null,null,null,{"$f":"'（参考）行動・意識変容率過年度平均'!$E$14","v":0.11899999999999999}]
[null,"ウォームビズ",null,null,null,null,"×",null,null,null,"×",{"$f":"'（参考）行動・意識変容率過年度平均'!$K$15","v":1.7999999999999999E-2},"＝",{"$f":"D22*H22*L22","v":0}]
[null,null,null,null,null,null,null,{"$f":"'（参考）行動・意識変容率過年度平均'!$E$15","v":0.11899999999999999}]
[null,"照明の効率的利用",null,null,null,null,"×",null,null,null,"×",{"$f":"'（参考）行動・意識変容率過年度平均'!$K$10","v":2.81},"＝",{"$f":"D24*H24*L24","v":0}]
[null,null,null,null,null,null,null,{"$f":"'（参考）行動・意識変容率過年度平均'!$E$10","v":2.3E-2}]
[null,"エコドライブ",null,null,null,null,"×",null,null,null,"×",{"$f":"'（参考）行動・意識変容率過年度平均'!$K$12","v":0.13100000000000001},"＝",{"$f":"D26*H26*L26","v":0}]
[null,null,null,null,null,null,null,{"$f":"'（参考）行動・意識変容率過年度平均'!$E$12","v":0.11899999999999999}]
[null,"カーシェア",null,null,null,null,"×",null,null,null,"×",{"$f":"'（参考）行動・意識変容率過年度平均'!$K$16","v":0.59},"＝",{"$f":"D28*H28*L28","v":0}]
[null,null,null,null,null,null,null,{"$f":"'（参考）行動・意識変容率過年度平均'!$E$16","v":0.104}]
[null,"スマートムーブ",null,null,null,null,"×",null,null,null,"×",{"$f":"'（参考）行動・意識変容率過年度平均'!$K$17","v":0.19},"＝",{"$f":"D30*H30*L30","v":0}]
[null,null,null,null,null,null,null,{"$f":"'（参考）行動・意識変容率過年度平均'!$E$17","v":0.11899999999999999},null,null,null,"※週7日の自動車移動のうち、週1日を公共交通機関等による移動に切り替えた場合を想定"]
[null,"低炭素物流",null,null,"⇒",{"$f":"D32*'（参考）行動・意識変容率過年度平均'!$M$13","v":0},"×",null,null,null,"×",{"$f":"'（参考）行動・意識変容率過年度平均'!$K$13","v":5.8500000000000002E-4},"＝",{"$f":"F32*H32*L32","v":0}]
[null,null,null,null,null,"※年間の総再配達個数に変換（自動計算）",null,{"$f":"'（参考）行動・意識変容率過年度平均'!$E$13","v":0.104},null,null,null,"※再配達を1回削減した場合を想定"]
[null,"再エネ",null,null,null,null,"×",null,null,null,"×",{"$f":"'（参考）行動・意識変容率過年度平均'!$K$11","v":0.24},"＝",{"$f":"D34*H34*L34","v":0}]
[null,null,null,null,null,null,null,{"$f":"'（参考）行動・意識変容率過年度平均'!$E$11","v":2.3E-2}]
[null,"食品ロス",null,null,null,null,"×",null,null,null,"×",{"$f":"'（参考）行動・意識変容率過年度平均'!$K$18","v":1.5E-3},"＝",{"$f":"D36*H36*L36","v":0}]
[null,null,null,null,null,null,null,{"$f":"'（参考）行動・意識変容率過年度平均'!$E$18","v":0.156}]
[null,"その他",null,null,null,null,"×",null,null,null,"×",{"$f":"'（参考）行動・意識変容率過年度平均'!$K$19","v":0.13800000000000001},"＝",{"$f":"D38*L38","v":0}]
[]
[null,"小計",null,null,null,null,null,null,null,null,null,null,null,{"$f":"SUM(N12:N38)","v":0}]
[]
[]
["2．イベント等の場合"]
[null,"項目",null,"①普及啓発人数",null,null,"×","②意識変容率","×","③行動変容係数","×","④CO2排出原単位","＝","CO2排出削減効果"]
[null,"（単位）",null,"（人）",null,null,null,"（%）",null,null,null,"（t-CO2/人）",null,"（t-CO2/事業）"]
[null,"記入方法",null,"計画値を記入ください",null,null,null,"目標値を記入ください。なお、ご参考に過年度平均値を（）で示しています*",null,"表2の値\n（変更いただく必要はありません）",null,"表3の値\n（変更いただく必要はありません）",null,"①×②×③×④"]
["　【テーマ】"]
[null,"省エネ家電",null,null,null,null,"×",null,"×",{"$f":"'（参考）行動・意識変容率過年度平均'!$J$6","v":0.24031007751937983},"×",{"$f":"'（参考）行動・意識変容率過年度平均'!$K$6","v":1.62},"＝",{"$f":"D48*H48*J48*L48","v":0}]
[null,null,null,null,null,null,null,{"$f":"'（参考）行動・意識変容率過年度平均'!$H$6","v":0.25800000000000001}]
[null,"省エネ住宅（ZEH）",null,null,null,null,"×",null,"×",{"$f":"'（参考）行動・意識変容率過年度平均'!$J$7","v":6.6473988439306367E-2},"×",{"$f":"'（参考）行動・意識変容率過年度平均'!$K$7","v":153},"＝",{"$f":"D50*H50*J50*L50","v":0}]
[null,null,null,null,null,null,null,{"$f":"'（参考）行動・意識変容率過年度平均'!$H$7","v":0.34599999999999997}]
[null,"省エネ住宅（断熱リフォーム）",null,null,null,null,"×",null,"×",{"$f":"'（参考）行動・意識変容率過年度平均'!$J$8","v":0.27203065134099613},"×",{"$f":"'（参考）行動・意識変容率過年度平均'!$K$8","v":10},"＝",{"$f":"D52*H52*J52*L52","v":0}]
[null,null,null,null,null,null,null,{"$f":"'（参考）行動・意識変容率過年度平均'!$H$8","v":0.26100000000000001}]
[null,"エコカー",null,null,null,null,"×",null,"×",{"$f":"'（参考）行動・意識変容率過年度平均'!$J$9","v":0.28205128205128205},"×",{"$f":"'（参考）行動・意識変容率過年度平均'!$K$9","v":5.18},"＝",{"$f":"D54*H54*J54*L54","v":0}]
[null,null,null,null,null,null,null,{"$f":"'（参考）行動・意識変容率過年度平均'!$H$9","v":0.23400000000000001}]
[null,"クールビズ",null,null,null,null,"×",null,"×",{"$f":"'（参考）行動・意識変容率過年度平均'!$J$14","v":0.72727272727272718},"×",{"$f":"'（参考）行動・意識変容率過年度平均'!$K$14","v":2.3E-2},"＝",{"$f":"D56*H56*J56*L56","v":0}]
[null,null,null,null,null,null,null,{"$f":"'（参考）行動・意識変容率過年度平均'!$H$14","v":0.39600000000000002}]
[null,"ウォームビズ",null,null,null,null,"×",null,"×",{"$f":"'（参考）行動・意識変容率過年度平均'!$J$15","v":0.72727272727272718},"×",{"$f":"'（参考）行動・意識変容率過年度平均'!$K$15","v":1.7999999999999999E-2},"＝",{"$f":"D58*H58*J58*L58","v":0}]
[null,null,null,null,null,null,null,{"$f":"'（参考）行動・意識変容率過年度平均'!$H$15","v":0.39600000000000002}]
[null,"照明の効率的利用",null,null,null,null,"×",null,"×",{"$f":"'（参考）行動・意識変容率過年度平均'!$J$10","v":0.24031007751937983},"×",{"$f":"'（参考）行動・意識変容率過年度平均'!$K$10","v":2.81},"＝",{"$f":"D60*H60*J60*L60","v":0}]
[null,null,null,null,null,null,null,{"$f":"'（参考）行動・意識変容率過年度平均'!$H$10","v":0.25800000000000001}]
[null,"エコドライブ",null,null,null,null,"×",null,"×",{"$f":"'（参考）行動・意識変容率過年度平均'!$J$12","v":0.72727272727272718},"×",{"$f":"'（参考）行動・意識変容率過年度平均'!$K$12","v":0.13100000000000001},"＝",{"$f":"D62*H62*J62*L62","v":0}]
[null,null,null,null,null,null,null,{"$f":"'（参考）行動・意識変容率過年度平均'!$H$12","v":0.39600000000000002}]
[null,"カーシェア",null,null,null,null,"×",null,"×",{"$f":"'（参考）行動・意識変容率過年度平均'!$J$16","v":0.10744985673352436},"×",{"$f":"'（参考）行動・意識変容率過年度平均'!$K$16","v":0.59},"＝",{"$f":"D64*H64*J64*L64","v":0}]
[null,null,null,null,null,null,null,{"$f":"'（参考）行動・意識変容率過年度平均'!$H$16","v":0.69799999999999995}]
[null,"スマートムーブ",null,null,null,null,"×",null,"×",{"$f":"'（参考）行動・意識変容率過年度平均'!$J$17","v":0.72727272727272718},"×",{"$f":"'（参考）行動・意識変容率過年度平均'!$K$17","v":0.19},"＝",{"$f":"D66*H66*J66*L66","v":0}]
[null,null,null,null,null,null,null,{"$f":"'（参考）行動・意識変容率過年度平均'!$H$17","v":0.39600000000000002},null,null,null,"※週7日の自動車移動のうち、週1日を公共交通機関等による移動に切り替えた場合を想定"]
[null,"低炭素物流",null,null,"⇒",{"$f":"D68*'（参考）行動・意識変容率過年度平均'!$M$13","v":0},"×",null,"×",{"$f":"'（参考）行動・意識変容率過年度平均'!$J$13","v":0.10744985673352436},"×",{"$f":"'（参考）行動・意識変容率過年度平均'!$K$13","v":5.8500000000000002E-4},"＝",{"$f":"F68*H68*J68*L68","v":0}]
[null,null,null,null,null,"※年間の総再配達個数に変換（自動計算）",null,{"$f":"'（参考）行動・意識変容率過年度平均'!$H$13","v":0.69799999999999995},null,null,null,"※再配達を1回削減した場合を想定"]
[null,"再エネ",null,null,null,null,"×",null,"×",{"$f":"'（参考）行動・意識変容率過年度平均'!$J$11","v":0.24031007751937983},"×",{"$f":"'（参考）行動・意識変容率過年度平均'!$K$11","v":0.24},"＝",{"$f":"D70*H70*J70*L70","v":0}]
[null,null,null,null,null,null,null,{"$f":"'（参考）行動・意識変容率過年度平均'!$H$11","v":0.25800000000000001}]
[null,"食品ロス",null,null,null,null,"×",null,"×",{"$f":"'（参考）行動・意識変容率過年度平均'!$J$18","v":0.43037974683544306},"×",{"$f":"'（参考）行動・意識変容率過年度平均'!$K$18","v":1.5E-3},"＝",{"$f":"D72*H72*J72*L72","v":0}]
[null,null,null,null,null,null,null,{"$f":"'（参考）行動・意識変容率過年度平均'!$H$18","v":0.79}]
[null,"その他",null,null,null,null,"×",null,"×",null,"×",{"$f":"'（参考）行動・意識変容率過年度平均'!$K$19","v":0.13800000000000001},"＝",{"$f":"D74*L74","v":0}]
[]
[null,"小計",null,null,null,null,null,null,null,null,null,null,null,{"$f":"SUM(N48:N74)","v":0}]
[]
[]
["3．合計（1．＋2．）",null,null,null,null,null,null,null,null,null,null,null,null,{"$f":"N40+N76","v":0}]
[]
[]
["* 過年度に調査実績のないテーマについては、類似テーマの平均値等を用いています"]

{"sheet":"（参考）行動・意識変容率過年度平均","index":6,"n_rows":55,"n_cols":17,"rows_kept":55,"cut":false,"hidden":true,"merged":[[11,1,18,1],[3,2,3,3],[3,4,3,5],[3,6,3,7],[3,8,3,9],[5,1,10,1]]}
[]
[null,"（参考）行動・意識変容率過年度平均"]
[]
[null,null,"テーマ",null,"行動変容率",null,"意識変容率",null,"行動変容係数",null,"原単位"]
[null,null,null,null,"ラジオ","イベント","ラジオ","イベント","ラジオ","イベント"]
[null,"購買選好の変化","省エネ家電",null,2.3E-2,6.2E-2,0.255,0.25800000000000001,"-",{"$f":"$F6/$H6","v":0.24031007751937983},1.62]
[null,null,"省エネ住宅","ZEH",2E-3,2.3E-2,3.5999999999999997E-2,0.34599999999999997,"-",{"$f":"$F7/$H7","v":6.6473988439306367E-2},153]
[null,null,null,"断熱リフォーム",0.02,7.0999999999999994E-2,5.0999999999999997E-2,0.26100000000000001,"-",0.27203065134099613,10]
[null,null,"エコカー",null,0.03,6.6000000000000003E-2,9.7000000000000003E-2,0.23400000000000001,"-",0.28205128205128205,5.18]
[null,null,"照明の効率的利用（仮）",null,{"$f":"E6","v":2.3E-2},{"$f":"F6","v":6.2E-2},{"$f":"G6","v":0.255},{"$f":"H6","v":0.25800000000000001},"-",0.24031007751937983,2.81]
[null,null,"再エネ（仮）",null,{"$f":"E6","v":2.3E-2},{"$f":"F6","v":6.2E-2},{"$f":"G6","v":0.255},{"$f":"H6","v":0.25800000000000001},"-",0.24031007751937983,0.24]
[null,"価値観の変化","エコドライブ",null,0.11899999999999999,0.28799999999999998,0.245,0.39600000000000002,"-",0.72727272727272718,0.13100000000000001,null,"▼普及啓発人数一人当たりの年間再配達個数（令和元年度・令和2年度会場アンケートより算出）"]
[null,null,"低炭素物流",null,0.104,7.4999999999999997E-2,0.217,0.69799999999999995,"-",0.10744985673352436,5.8500000000000002E-4,null,{"$f":"P17/P16","v":11.400933955970647}]
[null,null,"クールビズ（仮）",null,{"$f":"E12","v":0.11899999999999999},{"$f":"F12","v":0.28799999999999998},{"$f":"G12","v":0.245},{"$f":"H12","v":0.39600000000000002},"-",0.72727272727272718,2.3E-2]
[null,null,"ウォームビズ（仮）",null,{"$f":"E12","v":0.11899999999999999},0.28799999999999998,0.245,0.39600000000000002,"-",0.72727272727272718,1.7999999999999999E-2,null,null,"R2","R1"]
[null,null,"カーシェア（仮）",null,0.104,7.4999999999999997E-2,0.217,0.69799999999999995,"-",0.10744985673352436,0.59,null,"人数",922,8072,{"$f":"SUM(N16:O16)","v":8994},"人"]
[null,null,"スマートムーブ（仮）",null,{"$f":"E12","v":0.11899999999999999},{"$f":"F12","v":0.28799999999999998},{"$f":"G12","v":0.245},{"$f":"H12","v":0.39600000000000002},"-",0.72727272727272718,0.19,null,"総再配達個数",{"$f":"966*12","v":11592},{"$f":"7579*12","v":90948},{"$f":"SUM(N17:O17)","v":102540},"個"]
[null,null,"食品ロス",null,0.156,0.34,0.47599999999999998,0.79,"-",0.43037974683544306,1.5E-3]
[null,null,"その他",null,"-","-","-","-","-","-",0.13800000000000001]
[]
[]
[]
[]
[]
[null,null,null,null,2.3E-2,6.2E-2,0.255,0.25800000000000001,"-",0.24031007751937983,1.62]
[null,null,null,null,2E-3,2.3E-2,3.5999999999999997E-2,0.34599999999999997,"-",6.6473988439306367E-2,153]
[null,null,null,null,0.02,7.0999999999999994E-2,5.0999999999999997E-2,0.26100000000000001,"-",0.27203065134099613,10]
[null,null,null,null,0.03,6.6000000000000003E-2,9.7000000000000003E-2,0.23400000000000001,"-",0.28205128205128205,5.18]
[null,null,null,null,2.3E-2,6.2E-2,0.255,0.25800000000000001,"-",0.24031007751937983,2.81]
[null,null,null,null,2.3E-2,6.2E-2,0.255,0.25800000000000001,"-",0.24031007751937983,0.24]
[null,null,null,null,0.11899999999999999,0.28799999999999998,0.245,0.39600000000000002,"-",0.72727272727272718,0.13100000000000001,null,"▼普及啓発人数一人当たりの年間再配達個数（令和元年度・令和2年度会場アンケートより算出）"]
[null,null,null,null,0.104,7.4999999999999997E-2,0.217,0.69799999999999995,"-",0.10744985673352436,5.8500000000000002E-4,null,11.400933955970647]
[null,null,null,null,0.11899999999999999,0.28799999999999998,0.245,0.39600000000000002,"-",0.72727272727272718,2.3E-2]
[null,null,null,null,0.11899999999999999,0.28799999999999998,0.245,0.39600000000000002,"-",0.72727272727272718,1.7999999999999999E-2]
[null,null,null,null,0.104,7.4999999999999997E-2,0.217,0.69799999999999995,"-",0.10744985673352436,0.59,null,"人数"]
[null,null,null,null,0.11899999999999999,0.28799999999999998,0.245,0.39600000000000002,"-",0.72727272727272718,0.19,null,"総再配達個数"]
[null,null,null,null,0.156,0.34,0.47599999999999998,0.79,"-",0.43037974683544306,1.5E-3]
[null,null,null,null,"-","-","-","-","-","-",0.13800000000000001]
[]
[]
[null,null,null,null,{"$f":"E6-E25","v":0},{"$f":"F6-F25","v":0},0,0,null,0,0,{"$f":"SUM(E41:K41)","v":0}]
[null,null,null,null,{"$f":"E7-E26","v":0},0,0,0,null,{"$f":"J7-J26","v":0},0,{"$f":"SUM(E42:K42)","v":0}]
[null,null,null,null,{"$f":"E8-E27","v":0},0,0,0,null,{"$f":"J8-J27","v":0},0,0]
[null,null,null,null,{"$f":"E9-E28","v":0},0,0,0,null,{"$f":"J9-J28","v":0},0,0]
[null,null,null,null,{"$f":"E10-E29","v":0},0,0,0,null,{"$f":"J10-J29","v":0},0,0]
[null,null,null,null,{"$f":"E11-E30","v":0},0,0,0,null,{"$f":"J11-J30","v":0},0,0]
[null,null,null,null,{"$f":"E12-E31","v":0},0,0,0,null,{"$f":"J12-J31","v":0},0,0]
[null,null,null,null,{"$f":"E13-E32","v":0},0,0,0,null,{"$f":"J13-J32","v":0},0,0]
[null,null,null,null,{"$f":"E14-E33","v":0},0,0,0,null,{"$f":"J14-J33","v":0},0,0]
[null,null,null,null,{"$f":"E15-E34","v":0},0,0,0,null,{"$f":"J15-J34","v":0},0,0]
[null,null,null,null,{"$f":"E16-E35","v":0},0,0,0,null,{"$f":"J16-J35","v":0},0,0]
[null,null,null,null,{"$f":"E17-E36","v":0},0,0,0,null,{"$f":"J17-J36","v":0},0,0]
[null,null,null,null,{"$f":"E18-E37","v":0},0,0,0,null,{"$f":"J18-J37","v":0},0,0]
[null,null,null,null,null,null,null,null,null,null,{"$f":"K19-K38","v":0},{"$f":"SUM(E54:K54)","v":0}]
[null,null,null,null,null,null,null,null,null,null,null,{"$f":"SUM(L41:L54)","v":0},{"$f":"M13-M32","v":0},{"$f":"L54+M55","v":0}]

{"sheet":"交付規程様式⇒","index":7,"n_rows":0,"n_cols":0,"rows_kept":0,"cut":false,"hidden":true,"merged":[]}

{"sheet":"様式第１_交付申請書","index":8,"n_rows":43,"n_cols":23,"rows_kept":43,"cut":false,"hidden":true,"merged":[[1,2,1,22],[10,8,10,11],[12,8,12,11],[4,16,4,17],[10,13,11,21],[12,13,12,21],[3,18,3,22],[3,16,3,17],[6,2,6,11],[7,2,7,11],[56,4,57,22],[40,3,40,22],[21,2,21,22],[42,2,42,3],[27,12,27,16],[42,4,43,22],[37,10,37,11],[39,2,39,22],[33,2,33,22],[44,4,55,22],[31,2,31,22],[35,2,35,22],[28,12,28,16],[27,2,27,9],[15,2,15,22],[16,2,16,22],[13,13,13,15],[13,8,13,11],[25,2,25,22],[23,2,23,22],[17,2,17,22],[19,2,19,22],[13,17,13,21]]}
[]
[null,null,"様式第１（第５条関係）"]
[]
[null,null,null,null,null,null,null,null,null,null,null,null,null,null,null,null,"番号："]
[null,null,null,null,null,null,null,null,null,null,null,null,null,null,null,null,2021,null,"年",null,"月",null,"日"]
[]
[null,null,"一般社団法人地域循環共生社会連携協会"]
[null,null,"　代表理事　　岡　本　　光　司　　殿"]
[]
[]
[null,null,"　　　　　　　　　　　          　申請者　住　　　　所",null,null,null,"申請者",null,"住所"]
[]
[null,null,null,null,null,null,null,null,"氏名又は名称",null,null,null,null,{"$f":"IF(様式第１_応募申請書!N13=\"\",\"\",(様式第１_応募申請書!N13))","v":""}]
[null,null,null,null,null,null,null,null,"代表者の職・氏名",null,null,null,null,{"$f":"IF(様式第１_応募申請書!N14=\"\",\"\",(様式第１_応募申請書!N14))","v":""},null,null,"・",{"$f":"IF(様式第１_応募申請書!R14=\"\",\"\",(様式第１_応募申請書!R14))","v":""}]
[]
[null,null,"令和３年度二酸化炭素排出抑制対策事業費等補助金"]
[null,null,"(地方公共団体と連携したCO2排出削減促進事業)"]
[null,null,"交付申請書"]
[]
[null,null,"令和３年度二酸化炭素排出抑制対策事業費等補助金（地域における地球温暖化防止活動促進事業）交付規程第５条の規定（以下「交付規程」という。）により上記補助金の交付について下記のとおり申請します。\n　なお、交付決定を受けて補助事業を実施する際には、補助金等に係る予算の執行の適正化に関する法律（昭和３０年法律第１７９号）、補助金等に係る予算の執行の適正化に関する法律施行令（昭和３０年政令第２５５号）及び交付規程の定めるところに従います。"]
[]
[null,null,"記"]
[]
[null,null,"１　補助事業の目的及び内容"]
[]
[null,null,"      　別紙１　実施計画書のとおり"]
[]
[null,null,"２　補助金交付申請額合計",null,null,null,null,null,null,null,null,"金",null,null,null,null,null,"円"]
[null,null,"　　（うち消費税及び地方消費税相当額  　　　　　　　　",null,null,null,null,null,null,null,null,null,null,null,null,null,null,"円）"]
[]
[]
[null,null,"３　補助事業に要する経費"]
[]
[null,null,"      　別紙２　経費内訳のとおり"]
[]
[null,null,"４　補助事業の開始及び完了予定年月日"]
[]
[null,null,null,null,"交付決定の日",null,null,null,"～",null,null,null,"年",null,"月",null,"日"]
[]
[null,null,"５　その他参考資料"]
[]
[]
[null,null,"注１",null,"別紙１又は別紙２において事業ごとに求めている仕様書、補助事業に関する見積書・各種計算書、法律に基づく登録に係る通知の写し等を添付すること。"]

{"sheet":"別紙１_実施計画書","index":9,"n_rows":1349,"n_cols":61,"rows_kept":1349,"cut":false,"hidden":true,"merged":[[764,4,764,15],[764,16,765,27],[766,16,766,27],[816,4,816,15],[816,16,817,27],[818,16,818,27],[140,4,140,15],[140,16,141,27],[142,16,142,27],[402,16,402,27],[452,4,452,15],[452,16,453,27],[454,16,454,27],[504,4,504,15],[504,16,505,27],[506,16,506,27],[556,4,556,15],[556,16,557,27],[558,16,558,27],[608,4,608,15],[608,16,609,27],[610,16,610,27],[660,4,660,15],[660,16,661,27],[662,16,662,27],[712,4,712,15],[712,16,713,27],[192,4,192,15],[192,16,193,27],[194,16,194,27],[244,4,244,15],[680,4,680,11],[680,12,680,27],[412,14,412,15],[412,24,412,25],[412,26,412,27],[413,4,413,5],[414,4,414,5],[415,4,415,5],[409,2,415,3],[409,4,409,27],[410,4,410,5],[410,6,410,7],[410,8,410,9],[410,10,410,11],[410,12,410,13],[410,14,410,15],[410,16,410,17],[410,18,410,19],[410,20,410,21],[410,22,410,23],[410,24,410,25],[410,26,410,27],[411,4,411,5],[411,6,411,7],[577,12,578,27],[578,4,578,11],[572,2,578,3],[671,26,671,27],[672,4,672,5],[672,6,672,7],[672,8,672,9],[672,10,672,11],[672,14,672,15],[672,16,672,17],[672,18,672,19],[672,20,672,21],[672,22,672,23],[350,16,350,27],[400,4,400,15],[400,16,401,27],[630,4,630,11],[624,2,630,3],[396,4,396,27],[397,4,397,27],[398,4,398,6],[398,7,398,9],[398,10,398,12],[398,13,398,15],[398,16,398,18],[398,19,398,21],[398,22,398,24],[390,8,393,27],[399,10,399,12],[399,13,399,15],[399,16,399,18],[399,19,399,21],[399,22,399,24],[513,2,519,3],[565,2,571,3],[617,2,623,3],[618,20,618,21],[618,22,618,23],[618,24,618,25],[618,26,618,27],[619,4,619,5],[681,4,681,11],[681,12,682,27],[682,4,682,11],[472,4,472,11],[472,12,472,27],[473,4,473,11],[473,12,474,27],[474,4,474,11],[524,4,524,11],[524,12,524,27],[525,4,525,11],[525,12,526,27],[526,4,526,11],[576,4,576,11],[576,12,576,27],[577,4,577,11],[672,24,672,25],[672,26,672,27],[673,4,673,5],[674,4,674,5],[675,4,675,5],[513,4,513,27],[565,4,565,27],[618,4,618,5],[618,6,618,7],[618,8,618,9],[618,10,618,11],[618,12,618,13],[618,14,618,15],[618,16,618,17],[618,18,618,19],[672,12,672,13],[906,1,906,28],[18,1,25,2],[18,3,19,3],[18,4,18,28],[19,4,19,8],[19,9,19,15],[19,16,19,21],[19,22,19,28],[20,3,21,3],[20,4,21,8],[20,9,21,15],[20,16,20,21],[20,22,21,28],[21,16,21,21],[22,3,23,3],[22,4,23,8],[22,9,23,15],[22,16,22,21],[22,22,23,28],[23,16,23,21],[24,3,25,3],[24,4,25,8],[108,4,108,11],[108,12,108,27],[109,4,109,11],[109,12,110,27],[110,4,110,11],[104,2,110,3],[160,4,160,11],[160,12,160,27],[161,4,161,11],[161,12,162,27],[773,2,779,3],[774,22,774,23],[774,24,774,25],[774,26,774,27],[6,1,17,2],[6,3,6,28],[7,4,7,18],[7,19,7,28],[162,4,162,11],[156,2,162,3],[212,4,212,11],[212,12,212,27],[213,4,213,11],[213,12,214,27],[214,4,214,11],[208,2,214,3],[203,18,203,19],[203,26,203,27],[204,26,204,27],[134,2,135,3],[147,2,147,3],[188,2,197,3],[312,2,318,3],[368,4,368,11],[368,12,368,27],[369,4,369,11],[369,12,370,27],[370,4,370,11],[364,2,370,3],[365,20,365,27],[362,4,362,5],[353,4,353,7],[24,22,25,28],[25,16,25,21],[145,9,145,11],[821,4,821,7],[14,4,14,8],[14,9,14,18],[14,19,15,28],[15,4,15,8],[15,9,15,18],[17,4,17,8],[17,9,17,18],[17,19,17,28],[821,9,821,11],[353,9,353,11],[306,4,306,5],[306,6,306,7],[306,8,306,9],[306,10,306,11],[306,12,306,13],[306,14,306,15],[306,16,306,17],[306,18,306,19],[306,20,306,21],[306,22,306,23],[306,24,306,25],[306,26,306,27],[307,4,307,5],[307,6,307,7],[411,8,411,9],[156,4,156,27],[106,12,106,19],[334,8,334,9],[778,4,778,5],[779,4,779,5],[773,4,773,27],[774,4,774,5],[774,6,774,7],[774,8,774,9],[774,10,774,11],[774,12,774,13],[774,14,774,15],[774,16,774,17],[774,18,774,19],[774,20,774,21],[775,4,775,5],[775,6,775,7],[775,8,775,9],[775,10,775,11],[775,12,775,13],[775,14,775,15],[775,16,775,17],[775,18,775,19],[775,20,775,21],[775,22,775,23],[775,24,775,25],[775,26,775,27],[776,6,776,7],[776,8,776,9],[776,10,776,11],[777,6,777,27],[778,6,779,27],[814,4,814,6],[814,7,814,9],[814,10,814,12],[814,13,814,15],[814,16,814,18],[814,19,814,21],[814,22,814,24],[814,25,814,27],[815,4,815,6],[815,7,815,9],[815,10,815,12],[815,13,815,15],[815,16,815,18],[815,19,815,21],[792,18,792,27],[793,4,793,5],[793,6,793,15],[793,16,793,17],[793,18,793,27],[815,22,815,24],[781,4,781,11],[781,12,781,19],[782,4,782,11],[782,12,782,19],[782,20,782,27],[781,20,781,27],[780,4,780,27],[817,4,817,6],[817,7,817,9],[817,10,817,12],[817,13,817,15],[818,4,818,6],[818,7,818,9],[818,10,818,12],[818,13,818,15],[819,6,819,26],[820,4,820,7],[820,9,820,11],[803,8,803,27],[800,10,800,12],[798,4,798,27],[803,4,803,7],[783,20,783,27],[783,4,783,11],[783,12,783,19],[784,4,784,11],[784,12,784,27],[785,4,785,11],[785,12,786,27],[786,4,786,11],[815,25,815,27],[813,4,813,27],[804,2,804,3],[804,4,804,27],[805,2,809,3],[805,4,805,7],[805,8,805,13],[806,4,809,7],[806,8,809,27],[810,2,811,3],[810,4,810,7],[810,10,810,13],[810,17,810,20],[811,4,811,7],[811,10,811,13],[811,17,811,20],[812,2,821,3],[812,4,812,27],[794,2,794,3],[794,4,794,27],[795,2,795,3],[795,4,795,27],[796,2,799,2],[796,4,796,27],[797,4,797,27],[799,4,799,27],[800,2,803,3],[800,4,800,7],[800,8,800,9],[801,4,801,7],[801,8,801,27],[802,4,802,7],[802,8,802,9],[802,10,802,12],[787,2,787,3],[787,4,787,13],[787,14,787,17],[787,18,787,27],[788,2,788,3],[788,4,788,27],[776,12,776,13],[776,14,776,15],[776,16,776,17],[776,18,776,19],[776,20,776,21],[776,22,776,23],[776,24,776,25],[776,26,776,27],[777,4,777,5],[789,2,793,3],[789,4,789,5],[789,6,789,15],[789,16,789,17],[789,18,789,27],[790,4,790,5],[790,6,790,15],[790,16,790,17],[790,18,790,27],[791,4,791,5],[791,6,791,15],[791,16,791,17],[791,18,791,27],[792,4,792,5],[792,6,792,15],[792,16,792,17],[776,4,776,5],[769,9,769,11],[721,2,727,3],[721,4,721,27],[722,4,722,5],[722,6,722,7],[722,8,722,9],[722,10,722,11],[722,12,722,13],[722,14,722,15],[722,16,722,17],[722,18,722,19],[722,20,722,21],[722,22,722,23],[722,24,722,25],[722,26,722,27],[723,4,723,5],[723,6,723,7],[723,8,723,9],[723,10,723,11],[723,12,723,13],[723,14,723,15],[723,16,723,17],[723,18,723,19],[723,20,723,21],[723,22,723,23],[723,24,723,25],[723,26,723,27],[724,4,724,5],[724,6,724,7],[724,8,724,9],[724,10,724,11],[727,4,727,5],[765,4,765,6],[765,7,765,9],[765,10,765,12],[765,13,765,15],[766,4,766,6],[766,7,766,9],[766,10,766,12],[766,13,766,15],[767,6,767,26],[768,4,768,7],[768,9,768,11],[752,2,752,3],[752,4,752,27],[753,2,757,3],[753,4,753,7],[753,8,753,13],[754,4,757,7],[754,8,757,27],[758,2,759,3],[758,4,758,7],[758,10,758,13],[758,17,758,20],[759,4,759,7],[759,10,759,13],[759,17,759,20],[760,2,769,3],[760,4,760,27],[761,4,761,27],[762,4,762,6],[762,7,762,9],[762,10,762,12],[769,4,769,7],[762,13,762,15],[762,16,762,18],[762,19,762,21],[762,22,762,24],[762,25,762,27],[763,4,763,6],[763,7,763,9],[763,10,763,12],[763,13,763,15],[763,16,763,18],[763,19,763,21],[763,22,763,24],[742,2,742,3],[742,4,742,27],[743,2,743,3],[743,4,743,27],[744,2,747,2],[744,4,744,27],[745,4,745,27],[747,4,747,27],[748,2,751,3],[748,4,748,7],[748,8,748,9],[749,4,749,7],[749,8,749,27],[750,4,750,7],[750,8,750,9],[750,10,750,12],[751,8,751,27],[748,10,748,12],[763,25,763,27],[751,4,751,7],[736,2,736,3],[736,4,736,27],[737,2,741,3],[737,4,737,5],[737,6,737,15],[737,16,737,17],[737,18,737,27],[738,4,738,5],[738,6,738,15],[738,16,738,17],[738,18,738,27],[739,4,739,5],[739,6,739,15],[739,16,739,17],[739,18,739,27],[740,4,740,5],[740,6,740,15],[740,16,740,17],[740,18,740,27],[741,4,741,5],[741,6,741,15],[741,16,741,17],[741,18,741,27],[735,2,735,3],[735,4,735,13],[735,14,735,17],[735,18,735,27],[724,12,724,13],[724,14,724,15],[724,16,724,17],[724,18,724,19],[724,20,724,21],[724,22,724,23],[724,24,724,25],[724,26,724,27],[725,4,725,5],[726,4,726,5],[725,6,725,27],[726,6,727,27],[713,4,713,6],[713,7,713,9],[713,10,713,12],[713,13,713,15],[714,4,714,6],[714,7,714,9],[714,10,714,12],[714,13,714,15],[715,6,715,26],[716,4,716,7],[716,9,716,11],[717,4,717,7],[717,9,717,11],[731,4,731,11],[731,12,731,19],[720,4,720,27],[701,2,705,3],[701,4,701,7],[701,8,701,13],[702,4,705,7],[702,8,705,27],[706,2,707,3],[706,4,706,7],[706,10,706,13],[706,17,706,20],[707,4,707,7],[707,10,707,13],[707,17,707,20],[708,2,717,3],[708,4,708,27],[709,4,709,27],[710,4,710,6],[710,7,710,9],[710,10,710,12],[710,13,710,15],[710,16,710,18],[710,19,710,21],[710,22,710,24],[710,25,710,27],[711,4,711,6],[711,7,711,9],[711,10,711,12],[711,13,711,15],[711,16,711,18],[711,19,711,21],[711,22,711,24],[711,25,711,27],[714,16,714,27],[691,2,691,3],[691,4,691,27],[692,2,695,2],[693,4,693,27],[694,4,694,27],[695,4,695,27],[696,2,699,3],[696,4,696,7],[696,8,696,9],[696,10,696,12],[697,8,697,27],[698,8,698,9],[698,10,698,12],[699,4,699,7],[699,8,699,27],[700,2,700,3],[700,4,700,27],[692,4,692,27],[686,4,686,5],[686,6,686,15],[686,16,686,17],[686,18,686,27],[687,4,687,5],[687,6,687,15],[687,16,687,17],[687,18,687,27],[688,4,688,5],[688,6,688,15],[688,16,688,17],[688,18,688,27],[689,4,689,5],[689,6,689,15],[689,16,689,17],[689,18,689,27],[690,2,690,3],[690,4,690,27],[685,2,689,3],[683,2,683,3],[683,4,683,13],[683,14,683,17],[683,18,683,27],[685,4,685,5],[685,6,685,15],[685,16,685,17],[685,18,685,27],[669,2,675,3],[670,4,670,5],[670,6,670,7],[670,8,670,9],[670,10,670,11],[670,12,670,13],[670,14,670,15],[670,16,670,17],[670,18,670,19],[670,20,670,21],[670,22,670,23],[670,24,670,25],[670,26,670,27],[671,4,671,5],[671,6,671,7],[671,8,671,9],[671,10,671,11],[671,12,671,13],[671,14,671,15],[671,16,671,17],[671,18,671,19],[671,20,671,21],[671,22,671,23],[671,24,671,25],[661,4,661,6],[661,7,661,9],[661,10,661,12],[661,13,661,15],[658,25,658,27],[659,4,659,6],[659,7,659,9],[659,10,659,12],[659,13,659,15],[659,16,659,18],[659,19,659,21],[659,22,659,24],[659,25,659,27],[634,4,634,5],[634,6,634,15],[634,16,634,17],[634,18,634,27],[635,4,635,5],[635,6,635,15],[635,16,635,17],[635,18,635,27],[636,4,636,5],[636,6,636,15],[636,16,636,17],[636,18,636,27],[637,4,637,5],[637,6,637,15],[637,16,637,17],[637,18,637,27],[662,4,662,6],[662,7,662,9],[662,10,662,12],[662,13,662,15],[663,6,663,26],[664,4,664,7],[664,9,664,11],[665,4,665,7],[665,9,665,11],[648,2,648,3],[648,4,648,27],[649,2,653,3],[649,8,649,13],[650,4,653,7],[650,8,653,27],[654,2,655,3],[654,4,654,7],[654,10,654,13],[654,17,654,20],[655,4,655,7],[655,10,655,13],[655,17,655,20],[656,2,665,3],[656,4,656,27],[657,4,657,27],[658,4,658,6],[658,7,658,9],[658,10,658,12],[658,13,658,15],[658,16,658,18],[658,19,658,21],[658,22,658,24],[639,2,639,3],[639,4,639,27],[640,2,643,2],[640,4,640,27],[641,4,641,27],[642,4,642,27],[644,2,647,3],[644,4,644,7],[644,8,644,9],[644,10,644,12],[645,4,645,7],[645,8,645,27],[646,4,646,7],[646,8,646,9],[646,10,646,12],[647,4,647,7],[647,8,647,27],[638,2,638,3],[638,4,638,27],[568,16,568,17],[568,18,568,19],[568,20,568,21],[568,22,568,23],[568,24,568,25],[568,26,568,27],[569,4,569,5],[570,4,570,5],[571,4,571,5],[631,2,631,3],[631,4,631,13],[631,14,631,17],[631,18,631,27],[620,10,620,11],[620,12,620,13],[620,14,620,15],[620,16,620,17],[620,18,620,19],[620,20,620,21],[620,22,620,23],[620,24,620,25],[620,26,620,27],[621,4,621,5],[622,4,622,5],[623,4,623,5],[609,4,609,6],[628,4,628,11],[628,12,628,27],[629,4,629,11],[629,12,630,27],[609,7,609,9],[609,10,609,12],[609,13,609,15],[610,4,610,6],[610,7,610,9],[610,10,610,12],[610,13,610,15],[611,6,611,26],[612,4,612,7],[612,9,612,11],[613,4,613,7],[613,9,613,11],[619,6,619,7],[619,8,619,9],[619,10,619,11],[619,12,619,13],[619,14,619,15],[619,16,619,17],[619,18,619,19],[619,20,619,21],[619,22,619,23],[619,24,619,25],[619,26,619,27],[620,4,620,5],[620,6,620,7],[620,8,620,9],[596,2,596,3],[596,4,596,27],[597,2,601,3],[597,8,597,13],[598,4,601,7],[598,8,601,27],[602,2,603,3],[602,4,602,7],[602,10,602,13],[602,17,602,20],[603,4,603,7],[603,10,603,13],[603,17,603,20],[604,2,613,3],[604,4,604,27],[605,4,605,27],[606,4,606,6],[606,7,606,9],[606,10,606,12],[606,13,606,15],[606,16,606,18],[606,19,606,21],[606,22,606,24],[606,25,606,27],[607,4,607,6],[607,7,607,9],[607,10,607,12],[607,13,607,15],[607,16,607,18],[607,19,607,21],[607,22,607,24],[607,25,607,27],[586,2,586,3],[586,4,586,27],[587,2,587,3],[587,4,587,27],[588,2,591,2],[588,4,588,27],[589,4,589,27],[590,4,590,27],[592,2,595,3],[592,4,592,7],[592,8,592,9],[592,10,592,12],[593,4,593,7],[593,8,593,27],[594,4,594,7],[594,8,594,9],[595,4,595,7],[595,8,595,27],[581,2,585,3],[581,4,581,5],[581,6,581,15],[581,16,581,17],[581,18,581,27],[582,4,582,5],[582,6,582,15],[582,16,582,17],[582,18,582,27],[583,4,583,5],[583,6,583,15],[583,16,583,17],[583,18,583,27],[584,4,584,5],[584,6,584,15],[584,16,584,17],[584,18,584,27],[585,4,585,5],[585,6,585,15],[585,16,585,17],[585,18,585,27],[579,2,579,3],[579,4,579,13],[579,14,579,17],[579,18,579,27],[580,2,580,3],[580,4,580,27],[566,6,566,7],[566,8,566,9],[566,10,566,11],[566,12,566,13],[566,14,566,15],[566,18,566,19],[566,20,566,21],[566,22,566,23],[566,24,566,25],[566,26,566,27],[567,6,567,7],[567,8,567,9],[567,10,567,11],[567,12,567,13],[567,14,567,15],[567,18,567,19],[567,20,567,21],[567,22,567,23],[567,24,567,25],[567,26,567,27],[568,4,568,5],[568,6,568,7],[568,8,568,9],[568,10,568,11],[568,12,568,13],[568,14,568,15],[561,4,561,7],[561,9,561,11],[514,6,514,7],[514,8,514,9],[514,10,514,11],[514,12,514,13],[514,14,514,15],[514,18,514,19],[514,20,514,21],[514,22,514,23],[514,24,514,25],[514,26,514,27],[515,4,515,5],[515,6,515,7],[515,8,515,9],[515,10,515,11],[515,12,515,13],[515,14,515,15],[515,16,515,17],[515,18,515,19],[515,20,515,21],[515,22,515,23],[515,24,515,25],[515,26,515,27],[516,4,516,5],[516,6,516,7],[516,8,516,9],[516,10,516,11],[516,12,516,13],[516,14,516,15],[516,16,516,17],[516,18,516,19],[555,25,555,27],[557,4,557,6],[557,7,557,9],[557,10,557,12],[557,13,557,15],[558,4,558,6],[558,7,558,9],[558,10,558,12],[558,13,558,15],[559,6,559,26],[560,4,560,7],[560,9,560,11],[544,2,544,3],[544,4,544,27],[545,2,549,3],[545,4,545,7],[545,8,545,13],[546,4,549,7],[546,8,549,27],[550,2,551,3],[550,4,550,7],[550,10,550,13],[550,17,550,20],[551,4,551,7],[551,10,551,13],[551,17,551,20],[552,2,561,3],[552,4,552,27],[553,4,553,27],[554,4,554,6],[554,7,554,9],[554,10,554,12],[554,13,554,15],[554,16,554,18],[554,19,554,21],[554,22,554,24],[554,25,554,27],[555,4,555,6],[555,7,555,9],[555,10,555,12],[555,13,555,15],[555,16,555,18],[555,19,555,21],[555,22,555,24],[516,20,516,21],[516,22,516,23],[516,24,516,25],[534,2,534,3],[534,4,534,27],[535,2,535,3],[535,4,535,27],[536,2,539,2],[536,4,536,27],[537,4,537,27],[539,4,539,27],[540,2,543,3],[540,4,540,7],[540,8,540,9],[541,4,541,7],[541,8,541,27],[542,4,542,7],[542,8,542,9],[542,10,542,12],[543,8,543,27],[528,2,528,3],[528,4,528,27],[529,2,533,3],[529,4,529,5],[529,6,529,15],[529,16,529,17],[529,18,529,27],[530,4,530,5],[530,6,530,15],[530,16,530,17],[530,18,530,27],[531,4,531,5],[531,6,531,15],[531,16,531,17],[531,18,531,27],[532,4,532,5],[532,6,532,15],[532,16,532,17],[532,18,532,27],[533,4,533,5],[533,6,533,15],[533,16,533,17],[533,18,533,27],[492,2,492,3],[492,4,492,27],[493,2,497,3],[493,4,493,7],[468,2,474,3],[493,8,493,13],[494,4,497,7],[494,8,497,27],[498,2,499,3],[516,26,516,27],[517,4,517,5],[518,4,518,5],[519,4,519,5],[527,2,527,3],[527,4,527,13],[527,14,527,17],[527,18,527,27],[520,2,526,3],[498,4,498,7],[498,10,498,13],[498,17,498,20]],"merged_total":2481,"flags":["merged_cut"]}
[]
[null,null,"別紙１"]
[null,null,"地方と連携した地球温暖化対策活動推進事業実施計画書"]
[]
[null,"事業名",null,"地方と連携した地球温暖化対策活動推進事業"]
[null,"事業実施の団体名",null,{"$f":"別紙１_実施計画書_応募申請!D7","v":""}]
[null,"事業実施の\n担当者",null,"事業実施の代表者"]
[null,null,null,"氏名","事業者名・役職名",null,null,null,null,null,null,null,null,null,null,null,null,null,null,"所在地"]
[null,null,null,{"$f":"IF(別紙１_実施計画書_応募申請!D10=0,\"\",(別紙１_実施計画書_応募申請!D10))","v":""},{"$f":"IF(別紙１_実施計画書_応募申請!E10=0,\"\",(別紙１_実施計画書_応募申請!E10))","v":""},null,null,null,null,"・",{"$f":"IF(別紙１_実施計画書_応募申請!K10=0,\"\",(別紙１_実施計画書_応募申請!K10))","v":""},null,null,null,null,null,null,null,null,"郵便番号",null,null,{"$f":"IF(別紙１_実施計画書_応募申請!W10=0,\"\",(別紙１_実施計画書_応募申請!W10))","v":""}]
[null,null,null,"電話番号","FAX番号",null,null,null,null,"E-mailアドレス",null,null,null,null,null,null,null,null,null,{"$f":"IF(別紙１_実施計画書_応募申請!T11=0,\"\",(別紙１_実施計画書_応募申請!T11))","v":""}]
[null,null,null,{"$f":"IF(別紙１_実施計画書_応募申請!D12=0,\"\",(別紙１_実施計画書_応募申請!D12))","v":""},{"$f":"IF(別紙１_実施計画書_応募申請!E12=0,\"\",(別紙１_実施計画書_応募申請!E12))","v":""},null,null,null,null,{"$f":"IF(別紙１_実施計画書_応募申請!J12=0,\"\",(別紙１_実施計画書_応募申請!J12))","v":""}]
[null,null,null,"事業実施の担当者（事業の窓口となる方）"]
[null,null,null,"氏名","事業者名・部署名・役職名",null,null,null,null,null,null,null,null,null,null,null,null,null,null,"所在地"]
[null,null,null,{"$f":"IF(別紙１_実施計画書_応募申請!D15=0,\"\",(別紙１_実施計画書_応募申請!D15))","v":""},"事業者名",null,null,null,null,{"$f":"IF(別紙１_実施計画書_応募申請!$J15=0,\"\",(別紙１_実施計画書_応募申請!$J15))","v":""},null,null,null,null,null,null,null,null,null,"郵便番号",null,null,{"$f":"IF(別紙１_実施計画書_応募申請!$W15=0,\"\",(別紙１_実施計画書_応募申請!$W15))","v":""}]
[null,null,null,null,"部署名",null,null,null,null,{"$f":"IF(別紙１_実施計画書_応募申請!$J16=0,\"\",(別紙１_実施計画書_応募申請!$J16))","v":""},null,null,null,null,null,null,null,null,null,{"$f":"IF(別紙１_実施計画書_応募申請!$T16=0,\"\",(別紙１_実施計画書_応募申請!$T16))","v":""}]
[null,null,null,null,"役職名",null,null,null,null,{"$f":"IF(別紙１_実施計画書_応募申請!$J17=0,\"\",(別紙１_実施計画書_応募申請!$J17))","v":""}]
[null,null,null,"電話番号","FAX番号",null,null,null,null,"E-mailアドレス",null,null,null,null,null,null,null,null,null,"備　　考"]
[null,null,null,{"$f":"IF(別紙１_実施計画書_応募申請!$D19=0,\"\",(別紙１_実施計画書_応募申請!$D19))","v":""},{"$f":"IF(別紙１_実施計画書_応募申請!$E19=0,\"\",(別紙１_実施計画書_応募申請!$E19))","v":""},null,null,null,null,{"$f":"IF(別紙１_実施計画書_応募申請!$J19=0,\"\",(別紙１_実施計画書_応募申請!$J19))","v":""},null,null,null,null,null,null,null,null,null,{"$f":"IF(別紙１_実施計画書_応募申請!$T19=0,\"\",(別紙１_実施計画書_応募申請!$T19))","v":""}]
[null,"共同事業者",null,"団体等の名称","事業実施責任者"]
[null,null,null,null,"氏名",null,null,null,null,"所属・役職名",null,null,null,null,null,null,"電話・FAX番号",null,null,null,null,null,"E-Mailアドレス"]
[null,null,null,{"$f":"IF(別紙１_実施計画書_応募申請!$D22=0,\"\",(別紙１_実施計画書_応募申請!$D22))","v":""},{"$f":"IF(別紙１_実施計画書_応募申請!$E22=0,\"\",(別紙１_実施計画書_応募申請!$E22))","v":""},null,null,null,null,{"$f":"IF(別紙１_実施計画書_応募申請!$J22=0,\"\",(別紙１_実施計画書_応募申請!$J22))","v":""},null,null,null,null,null,null,{"$f":"IF(別紙１_実施計画書_応募申請!$Q22=0,\"\",(別紙１_実施計画書_応募申請!$Q22))","v":""},null,null,null,null,null,{"$f":"IF(別紙１_実施計画書_応募申請!$W22=0,\"\",(別紙１_実施計画書_応募申請!$W22))","v":""}]
[null,null,null,null,null,null,null,null,null,null,null,null,null,null,null,null,{"$f":"IF(別紙１_実施計画書_応募申請!$Q23=0,\"\",(別紙１_実施計画書_応募申請!$Q23))","v":""}]
[null,null,null,{"$f":"IF(別紙１_実施計画書_応募申請!$D24=0,\"\",(別紙１_実施計画書_応募申請!$D24))","v":""},{"$f":"IF(別紙１_実施計画書_応募申請!$E24=0,\"\",(別紙１_実施計画書_応募申請!$E24))","v":""},null,null,null,null,{"$f":"IF(別紙１_実施計画書_応募申請!$J24=0,\"\",(別紙１_実施計画書_応募申請!$J24))","v":""},null,null,null,null,null,null,{"$f":"IF(別紙１_実施計画書_応募申請!$Q24=0,\"\",(別紙１_実施計画書_応募申請!$Q24))","v":""},null,null,null,null,null,{"$f":"IF(別紙１_実施計画書_応募申請!$W24=0,\"\",(別紙１_実施計画書_応募申請!$W24))","v":""}]
[null,null,null,null,null,null,null,null,null,null,null,null,null,null,null,null,{"$f":"IF(別紙１_実施計画書_応募申請!$Q25=0,\"\",(別紙１_実施計画書_応募申請!$Q25))","v":""}]
[null,null,null,{"$f":"IF(別紙１_実施計画書_応募申請!$D26=0,\"\",(別紙１_実施計画書_応募申請!$D26))","v":""},{"$f":"IF(別紙１_実施計画書_応募申請!$E26=0,\"\",(別紙１_実施計画書_応募申請!$E26))","v":""},null,null,null,null,{"$f":"IF(別紙１_実施計画書_応募申請!$J26=0,\"\",(別紙１_実施計画書_応募申請!$J26))","v":""},null,null,null,null,null,null,{"$f":"IF(別紙１_実施計画書_応募申請!$Q26=0,\"\",(別紙１_実施計画書_応募申請!$Q26))","v":""},null,null,null,null,null,{"$f":"IF(別紙１_実施計画書_応募申請!$W26=0,\"\",(別紙１_実施計画書_応募申請!$W26))","v":""}]
[null,null,null,null,null,null,null,null,null,null,null,null,null,null,null,null,{"$f":"IF(別紙１_実施計画書_応募申請!$Q27=0,\"\",(別紙１_実施計画書_応募申請!$Q27))","v":""}]
[null,"＜事業の目的＞\n本提案を推進していく上で、どのような目的をもって実施するのかを記載してください。"]
[null,{"$f":"別紙１_実施計画書_応募申請!B29","v":0},null,null,null,null,null,null,null,null,null,null,null,null,null,null,null,null,null,null,null,null,null,null,null,null,null,null,null,null,"＜全体＞"]
[]
[null,null,null,null,null,null,null,null,null,null,null,null,null,null,null,null,null,null,null,null,null,null,null,null,null,null,null,null,null,null,"①","②","③","④","⑤","⑥","⑦","⑧","⑨","⑩","⑪","⑫","⑬",null,null,null,null,null,null,null,null,null,null,null,null,null,"a)","b)","c)"]
[null,null,null,null,null,null,null,null,null,null,null,null,null,null,null,null,null,null,null,null,null,null,null,null,null,null,null,null,null,null,"省ｴﾈ機器","省ｴﾈ住宅","ｴｺｶｰ","ｸｰﾙﾋﾞｽﾞ","ｳｫｰﾑﾋﾞｽﾞ","照明の\n高効率利用","ｴｺﾄﾞﾗｲﾌﾞ","ｶｰｼｪｱ","ｽﾏｰﾄﾑｰﾌﾞ","再配達防止","再エネ","食品ロス","その他"]
[null,null,null,null,null,null,null,null,null,null,null,null,null,null,null,null,null,null,null,null,null,null,null,null,null,null,null,null,null,null,{"$f":"COUNTIFS(AE$47:AE$781,1)+COUNTIFS(AE$47:AE$781,TRUE)","v":0},0,0,0,0,0,0,0,0,0,0,0,0,0,0,0,0,0,0,0,0,0,0,0,null,null,{"$f":"COUNTIFS(BE$43:BE$822,1)+COUNTIFS(BE$44:BE$822,TRUE)","v":0},{"$f":"COUNTIFS(BF$43:BF$822,1)+COUNTIFS(BF$43:BF$822,TRUE)","v":0},{"$f":"COUNTIFS(BG$43:BG$822,1)+COUNTIFS(BG$43:BG$822,TRUE)","v":0}]
[]
[]
[]
[]
[]
[]
[]
[null,"＜事業の内容＞"]
[]
[null,"実施する全ての事業について、それぞれの内容・規模、地域団体との連携等を記入してください。"]
[]
[null,null,"項目",null,"内容"]
[null,null,"事業1","事業名"]
[null,null,"普及啓発テーマ",null,"※公募要領　別表第１　で対象とする間接補助事業の内容に合致していること。\n※該当するテーマすべてをチェックしてください。"]
[null,null,null,null,"①",null,"②",null,"③",null,"④",null,"⑤",null,"⑥",null,"⑦",null,"⑧",null,"⑨",null,"⑩",null,"⑪",null,"⑫",null,null,null,"①","②","③","④","⑤","⑥","⑦","⑧","⑨","⑩","⑪","⑫","⑬",null,null,null,null,null,null,null,null,null,null,null,null,null,"a)","b)","c)","d)"]
[null,null,null,null,"省ｴﾈ機器",null,"省ｴﾈ住宅",null,"ｴｺｶｰ",null,"ｸｰﾙﾋﾞｽﾞ",null,"ｳｫｰﾑﾋﾞｽﾞ",null,"照明の\n高効率利用",null,"ｴｺﾄﾞﾗｲﾌﾞ",null,"ｶｰｼｪｱ",null,"ｽﾏｰﾄﾑｰﾌﾞ",null,"再配達防止",null,"再エネ",null,"食品ロス",null,null,null,"省ｴﾈ機器","省ｴﾈ住宅","ｴｺｶｰ","ｸｰﾙﾋﾞｽﾞ","ｳｫｰﾑﾋﾞｽﾞ","照明の\n高効率利用","ｴｺﾄﾞﾗｲﾌﾞ","ｶｰｼｪｱ","ｽﾏｰﾄﾑｰﾌﾞ","再配達防止","再エネ","食品ロス","その他",null,null,null,null,null,null,null,null,null,null,null,null,null,false,false,false,false,{"$f":"COUNTIFS($BE48:$BH48,\"TRUE\")","v":0}]
[null,null,null,null,null,null,null,null,null,null,null,null,null,null,null,null,null,null,null,null,null,null,null,null,null,null,null,null,null,null,false,false,false,false,false,false,false,false,false,false,false,false,false,null,null,null,null,null,null,null,null,null,null,null,{"$f":"COUNTIFS($AE$49:$BB$49,\"TRUE\")","v":0}]
[null,null,null,null,"⑬",null,"↓ ※①～⑫以外のテーマを設定する場合、具体的に記載してください。"]
[null,null,null,null,"その他"]
[]
[null,null,"訴求手法",null,"※訴求手法については、該当する欄にチェックしてください。"]
[null,null,null,null,"a) 情報発信型（受動型）",null,null,null,null,null,null,null,"b) 情報発信型（能動型）",null,null,null,null,null,null,null,"c) 双方向体験交流型"]
[null,null,null,null,"ラジオ、新聞・広報紙等",null,null,null,null,null,null,null,"講演会・パネル展示等",null,null,null,null,null,null,null,"試乗・体験会、省ｴﾈ診断等"]
[]
[null,null,null,null,"d) 双方向ＷＥＢ等配信型",null,null,null,null,null,null,null,"※d) については使用する媒体等を記載してください。"]
[null,null,null,null,"（新手法）"]
[]
[null,null,"実施期間",null,null,null,null,null,null,null,null,null,null,null,"～"]
[null,null,"（備考）"]
[null,null,"実施日\n（※同一事業内で、\n同一の内容・場所において\n複数日実施する場合）",null,1,null,null,null,null,null,null,null,null,null,null,null,6]
[null,null,null,null,2,null,null,null,null,null,null,null,null,null,null,null,7]
[null,null,null,null,3,null,null,null,null,null,null,null,null,null,null,null,8]
[null,null,null,null,4,null,null,null,null,null,null,null,null,null,null,null,9]
[null,null,null,null,5,null,null,null,null,null,null,null,null,null,null,null,10]
[" ",null,"事業の概要"]
[" ",null,"地域団体との連携"]
[null,null,"効果的な\n実施の\nための工夫","主な訴求対象"]
[null,null,null,"訴求メッセージ"]
[null,null,null,"事業実施時期の\n設定根拠"]
[null,null,null,"具体的な訴求方法\n・\nその他の工夫"]
[null,null,"目標アウトプット\n（リーチ数）\n（想定及び実績）",null,"昨年度実績",null,null,null,"計",null,0]
[null,null,null,null,"昨年度実績算出根拠"]
[null,null,null,null,"想定",null,null,null,"計",null,0]
[null,null,null,null,"算出方法"]
[null,null,"目標アウトカム（想定及び実績）\n※記載は任意"]
[null,null,"エネルギー起源CO2排出削減量（想定）",null,"CO2排出削減量",null,null,null,null,null,null,null,null,null,"（t-CO2）"]
[null,null,null,null,"測定方法\n（計算式、\n根拠資料等）"]
[]
[]
[]
[null,null,"賛同数（想定及び実績）",null,"昨年度実績",null,null,null,"団体",null,0,null,null,null,null,"、個人",null,0]
[null,null,null,null,"想定",null,null,null,"団体",null,0,null,null,null,null,"、個人",null,0]
[null,null,"効果検証\n（アンケート）予定",null,"※アンケートの実施予定をプルダウンより選択してください。"]
[null,null,null,null,"公募要領に規定のアンケート"]
[null,null,null,null,"省エネ機器",null,null,"省エネ住宅",null,null,"エコカー",null,null,"クールビズ",null,null,"ウォームビズ",null,null,"照明の\n効率的利用",null,null,"ｴｺﾄﾞﾗｲﾌﾞ",null,null,"カーシェア"]
[null,null,null,null,"- 選択 -",null,null,"- 選択 -",null,null,"- 選択 -",null,null,"- 選択 -",null,null,"- 選択 -",null,null,"- 選択 -",null,null,"- 選択 -",null,null,"- 選択 -"]
[null,null,null,null,"公募要領に規定のアンケート",null,null,null,null,null,null,null,null,null,null,null,"貴事業者独自のアンケート"]
[null,null,null,null,"ｽﾏｰﾄﾑｰﾌﾞ",null,null,"低炭素物流",null,null,"再エネ",null,null,"食品ロス"]
[null,null,null,null,"- 選択 -",null,null,"- 選択 -",null,null,"- 選択 -",null,null,"- 選択 -",null,null,"- 選択 -"]
[null,null,null,null,"内容（",null,null,null,null,null,null,null,null,null,null,null,null,null,null,null,null,null,null,null,null,null,null,"）"]
[null,null,null,null,"昨年度実績",null,null,null,"計",null,null,null,"枚",null,"※複数ある場合は、アンケート合計回収数"]
[null,null,null,null,"目標回収数",null,null,null,"計",null,null,null,"枚",null,"※複数ある場合は、アンケート合計回収数"]
[]
[null,null,"項目",null,"内容"]
[null,null,"事業2","事業名"]
[null,null,"普及啓発テーマ",null,"※公募要領　別表第１　で対象とする間接補助事業の内容に合致していること。\n※該当するテーマすべてをチェックしてください。"]
[null,null,null,null,"①",null,"②",null,"③",null,"④",null,"⑤",null,"⑥",null,"⑦",null,"⑧",null,"⑨",null,"⑩",null,"⑪",null,"⑫",null,null,null,"①","②","③","④","⑤","⑥","⑦","⑧","⑨","⑩","⑪","⑫","⑬",null,null,null,null,null,null,null,null,null,null,null,null,null,"a)","b)","c)","d)"]
[null,null,null,null,"省ｴﾈ機器",null,"省ｴﾈ住宅",null,"ｴｺｶｰ",null,"ｸｰﾙﾋﾞｽﾞ",null,"ｳｫｰﾑﾋﾞｽﾞ",null,"照明の\n高効率利用",null,"ｴｺﾄﾞﾗｲﾌﾞ",null,"ｶｰｼｪｱ",null,"ｽﾏｰﾄﾑｰﾌﾞ",null,"再配達防止",null,"再エネ",null,"食品ロス",null,null,null,"省ｴﾈ機器","省ｴﾈ住宅","ｴｺｶｰ","ｸｰﾙﾋﾞｽﾞ","ｳｫｰﾑﾋﾞｽﾞ","照明の\n高効率利用","ｴｺﾄﾞﾗｲﾌﾞ","ｶｰｼｪｱ","ｽﾏｰﾄﾑｰﾌﾞ","再配達防止","再エネ","食品ロス","その他",null,null,null,null,null,null,null,null,null,null,null,null,null,false,false,false,false,{"$f":"COUNTIFS($BE100:$BH100,\"TRUE\")","v":0}]
[null,null,null,null,null,null,null,null,null,null,null,null,null,null,null,null,null,null,null,null,null,null,null,null,null,null,null,null,null,null,false,false,false,false,false,false,false,false,false,false,false,false,false,null,null,null,null,null,null,null,null,null,null,null,{"$f":"COUNTIFS($AE$101:$BB$101,\"TRUE\")","v":0}]
[null,null,null,null,"⑬",null,"↓ ※①～⑫以外のテーマを設定する場合、具体的に記載してください。"]
[null,null,null,null,"その他"]
[]
[null,null,"訴求手法",null,"※訴求手法については、該当する欄にチェックしてください。"]
[null,null,null,null,"a) 情報発信型（受動型）",null,null,null,null,null,null,null,"b) 情報発信型（能動型）",null,null,null,null,null,null,null,"c) 双方向体験交流型"]
[null,null,null,null,"ラジオ、新聞・広報紙等",null,null,null,null,null,null,null,"講演会・パネル展示等",null,null,null,null,null,null,null,"試乗・体験会、省ｴﾈ診断等"]
[]
[null,null,null,null,"d) 双方向ＷＥＢ等配信型",null,null,null,null,null,null,null,"※d) については使用する媒体等を記載してください。"]
[null,null,null,null,"（新手法）"]
[]
[null,null,"実施期間",null,null,null,null,null,null,null,null,null,null,null,"~"]
[null,null,"（備考）"]
[null,null,"実施日\n（※同一事業内で、\n同一の内容・場所において\n複数日実施する場合）",null,1,null,null,null,null,null,null,null,null,null,null,null,6]
[null,null,null,null,2,null,null,null,null,null,null,null,null,null,null,null,7]
[null,null,null,null,3,null,null,null,null,null,null,null,null,null,null,null,8]
[null,null,null,null,4,null,null,null,null,null,null,null,null,null,null,null,9]
[null,null,null,null,5,null,null,null,null,null,null,null,null,null,null,null,10]
[null,null,"事業の概要"]
[null,null,"地域団体との連携"]
[null,null,"効果的な\n実施の\nための工夫","主な訴求対象"]
[null,null,null,"訴求メッセージ"]
[null,null,null,"事業実施時期の\n設定根拠"]
[null,null,null,"具体的な訴求方法\n・\nその他の工夫"]
[null,null,"目標アウトプット\n（リーチ数）\n（想定及び実績）",null,"昨年度実績",null,null,null,"計",null,0]
[null,null,null,null,"昨年度実績算出根拠"]
[null,null,null,null,"想定",null,null,null,"計",null,0]
[null,null,null,null,"算出方法"]
[null,null,"目標アウトカム（想定及び実績）\n※記載は任意"]
[null,null,"エネルギー起源CO2排出削減量（想定）",null,"CO2排出削減量",null,null,null,null,null,null,null,null,null,"（t-CO2）"]
[null,null,null,null,"測定方法\n（計算式、\n根拠資料等）"]
[]
[]
[]
[null,null,"賛同数（想定及び実績）",null,"昨年度実績",null,null,null,"団体",null,0,null,null,null,null,"、個人",null,0]
[null,null,null,null,"想定",null,null,null,"団体",null,0,null,null,null,null,"、個人",null,0]
[null,null,"効果検証\n（アンケート）予定",null,"※アンケートの実施予定をプルダウンより選択してください。"]
[null,null,null,null,"公募要領に規定のアンケート"]
[null,null,null,null,"省エネ機器",null,null,"省エネ住宅",null,null,"エコカー",null,null,"クールビズ",null,null,"ウォームビズ",null,null,"照明の\n効率的利用",null,null,"ｴｺﾄﾞﾗｲﾌﾞ",null,null,"カーシェア"]
[null,null,null,null,"- 選択 -",null,null,"- 選択 -",null,null,"- 選択 -",null,null,"- 選択 -",null,null,"- 選択 -",null,null,"- 選択 -",null,null,"- 選択 -",null,null,"- 選択 -"]
[null,null,null,null,"公募要領に規定のアンケート",null,null,null,null,null,null,null,null,null,null,null,"貴事業者独自のアンケート"]
[null,null,null,null,"ｽﾏｰﾄﾑｰﾌﾞ",null,null,"低炭素物流",null,null,"再エネ",null,null,"食品ロス"]
[null,null,null,null,"- 選択 -",null,null,"- 選択 -",null,null,"- 選択 -",null,null,"- 選択 -",null,null,"- 選択 -"]
[null,null,null,null,"内容（",null,null,null,null,null,null,null,null,null,null,null,null,null,null,null,null,null,null,null,null,null,null,"）"]
[null,null,null,null,"昨年度実績",null,null,null,"計",0,null,null,"枚",null,"※複数ある場合は、アンケート合計回収数"]
[null,null,null,null,"目標回収数",null,null,null,"計",0,null,null,"枚",null,"※複数ある場合は、アンケート合計回収数"]
[]
[null,null,"項目",null,"内容"]
[null,null,"事業3","事業名"]
[null,null,"普及啓発テーマ",null,"※公募要領　別表第１　で対象とする間接補助事業の内容に合致していること。\n※該当するテーマすべてをチェックしてください。"]
[null,null,null,null,"①",null,"②",null,"③",null,"④",null,"⑤",null,"⑥",null,"⑦",null,"⑧",null,"⑨",null,"⑩",null,"⑪",null,"⑫",null,null,null,"①","②","③","④","⑤","⑥","⑦","⑧","⑨","⑩","⑪","⑫","⑬",null,null,null,null,null,null,null,null,null,null,null,null,null,"a)","b)","c)","d)"]
[null,null,null,null,"省ｴﾈ機器",null,"省ｴﾈ住宅",null,"ｴｺｶｰ",null,"ｸｰﾙﾋﾞｽﾞ",null,"ｳｫｰﾑﾋﾞｽﾞ",null,"照明の\n高効率利用",null,"ｴｺﾄﾞﾗｲﾌﾞ",null,"ｶｰｼｪｱ",null,"ｽﾏｰﾄﾑｰﾌﾞ",null,"再配達防止",null,"再エネ",null,"食品ロス",null,null,null,"省ｴﾈ機器","省ｴﾈ住宅","ｴｺｶｰ","ｸｰﾙﾋﾞｽﾞ","ｳｫｰﾑﾋﾞｽﾞ","照明の\n高効率利用","ｴｺﾄﾞﾗｲﾌﾞ","ｶｰｼｪｱ","ｽﾏｰﾄﾑｰﾌﾞ","再配達防止","再エネ","食品ロス","その他",null,null,null,null,null,null,null,null,null,null,null,null,null,false,false,false,false,{"$f":"COUNTIFS($BE152:$BH152,\"TRUE\")","v":0}]
[null,null,null,null,null,null,null,null,null,null,null,null,null,null,null,null,null,null,null,null,null,null,null,null,null,null,null,null,null,null,false,false,false,false,false,false,false,false,false,false,false,false,false,null,null,null,null,null,null,null,null,null,null,null,{"$f":"COUNTIFS($AE153:$BB153,\"TRUE\")","v":0}]
[null,null,null,null,"⑬",null,"↓ ※①～⑫以外のテーマを設定する場合、具体的に記載してください。"]
[null,null,null,null,"その他"]
[]
[null,null,"訴求手法",null,"※訴求手法については、該当する欄にチェックしてください。"]
[null,null,null,null,"a) 情報発信型（受動型）",null,null,null,null,null,null,null,"b) 情報発信型（能動型）",null,null,null,null,null,null,null,"c) 双方向体験交流型"]
[null,null,null,null,"ラジオ、新聞・広報紙等",null,null,null,null,null,null,null,"講演会・パネル展示等",null,null,null,null,null,null,null,"試乗・体験会、省ｴﾈ診断等"]
[]
[null,null,null,null,"d) 双方向ＷＥＢ等配信型",null,null,null,null,null,null,null,"※d) については使用する媒体等を記載してください。"]
[null,null,null,null,"（新手法）"]
[]
[null,null,"実施期間",null,null,null,null,null,null,null,null,null,null,null,"～"]
[null,null,"（備考）"]
[null,null,"実施日\n（※同一事業内で、\n同一の内容・場所において\n複数日実施する場合）",null,1,null,null,null,null,null,null,null,null,null,null,null,6]
[null,null,null,null,2,null,null,null,null,null,null,null,null,null,null,null,7]
[null,null,null,null,3,null,null,null,null,null,null,null,null,null,null,null,8]
[null,null,null,null,4,null,null,null,null,null,null,null,null,null,null,null,9]
[null,null,null,null,5,null,null,null,null,null,null,null,null,null,null,null,10]
[null,null,"事業の概要"]
[null,null,"地域団体との連携"]
[null,null,"効果的な\n実施の\nための工夫","主な訴求対象"]
[null,null,null,"訴求メッセージ"]
[null,null,null,"事業実施時期の\n設定根拠"]
[null,null,null,"具体的な訴求方法\n・\nその他の工夫"]
[null,null,"目標アウトプット\n（リーチ数）\n（想定及び実績）",null,"昨年度実績",null,null,null,"計",null,0]
[null,null,null,null,"昨年度実績算出根拠"]
[null,null,null,null,"想定",null,null,null,"計",null,0]
[null,null,null,null,"算出方法"]
[null,null,"目標アウトカム（想定及び実績）\n※記載は任意"]
[null,null,"エネルギー起源CO2排出削減量（想定）",null,"CO2排出削減量",null,null,null,null,null,null,null,null,null,"（t-CO2）"]
[null,null,null,null,"測定方法\n（計算式、\n根拠資料等）"]
[]
[]
[]
[null,null,"賛同数（想定及び実績）",null,"昨年度実績",null,null,null,"団体",null,0,null,null,null,null,"、個人",null,0]
[null,null,null,null,"想定",null,null,null,"団体",null,0,null,null,null,null,"、個人",null,0]
[null,null,"効果検証\n（アンケート）予定",null,"※アンケートの実施予定をプルダウンより選択してください。"]
[null,null,null,null,"公募要領に規定のアンケート"]
[null,null,null,null,"省エネ機器",null,null,"省エネ住宅",null,null,"エコカー",null,null,"クールビズ",null,null,"ウォームビズ",null,null,"照明の\n効率的利用",null,null,"ｴｺﾄﾞﾗｲﾌﾞ",null,null,"カーシェア"]
[null,null,null,null,"- 選択 -",null,null,"- 選択 -",null,null,"- 選択 -",null,null,"- 選択 -",null,null,"- 選択 -",null,null,"- 選択 -",null,null,"- 選択 -",null,null,"- 選択 -"]
[null,null,null,null,"公募要領に規定のアンケート",null,null,null,null,null,null,null,null,null,null,null,"貴事業者独自のアンケート"]
[null,null,null,null,"ｽﾏｰﾄﾑｰﾌﾞ",null,null,"低炭素物流",null,null,"再エネ",null,null,"食品ロス"]
[null,null,null,null,"- 選択 -",null,null,"- 選択 -",null,null,"- 選択 -",null,null,"- 選択 -",null,null,"- 選択 -"]
[null,null,null,null,"内容（",null,null,null,null,null,null,null,null,null,null,null,null,null,null,null,null,null,null,null,null,null,null,"）"]
[null,null,null,null,"昨年度実績",null,null,null,"計",0,null,null,"枚",null,"※複数ある場合は、アンケート合計回収数"]
[null,null,null,null,"目標回収数",null,null,null,"計",0,null,null,"枚",null,"※複数ある場合は、アンケート合計回収数"]
[]
[null,null,"項目",null,"内容"]
[null,null,"事業4","事業名"]
[null,null,"普及啓発テーマ",null,"※公募要領　別表第１　で対象とする間接補助事業の内容に合致していること。\n※該当するテーマすべてをチェックしてください。"]
[null,null,null,null,"①",null,"②",null,"③",null,"④",null,"⑤",null,"⑥",null,"⑦",null,"⑧",null,"⑨",null,"⑩",null,"⑪",null,"⑫",null,null,null,"①","②","③","④","⑤","⑥","⑦","⑧","⑨","⑩","⑪","⑫","⑬",null,null,null,null,null,null,null,null,null,null,null,null,null,"a)","b)","c)","d)"]
[null,null,null,null,"省ｴﾈ機器",null,"省ｴﾈ住宅",null,"ｴｺｶｰ",null,"ｸｰﾙﾋﾞｽﾞ",null,"ｳｫｰﾑﾋﾞｽﾞ",null,"照明の\n高効率利用",null,"ｴｺﾄﾞﾗｲﾌﾞ",null,"ｶｰｼｪｱ",null,"ｽﾏｰﾄﾑｰﾌﾞ",null,"再配達防止",null,"再エネ",null,"食品ロス",null,null,null,"省ｴﾈ機器","省ｴﾈ住宅","ｴｺｶｰ","ｸｰﾙﾋﾞｽﾞ","ｳｫｰﾑﾋﾞｽﾞ","照明の\n高効率利用","ｴｺﾄﾞﾗｲﾌﾞ","ｶｰｼｪｱ","ｽﾏｰﾄﾑｰﾌﾞ","再配達防止","再エネ","食品ロス","その他",null,null,null,null,null,null,null,null,null,null,null,null,null,false,false,false,false,{"$f":"COUNTIFS($BE204:$BH204,\"TRUE\")","v":0}]
[null,null,null,null,null,null,null,null,null,null,null,null,null,null,null,null,null,null,null,null,null,null,null,null,null,null,null,null,null,null,false,false,false,false,false,false,false,false,false,false,false,false,false,null,null,null,null,null,null,null,null,null,null,null,{"$f":"COUNTIFS($AE205:$BB205,\"TRUE\")","v":0}]
[null,null,null,null,"⑬",null,"↓ ※①～⑫以外のテーマを設定する場合、具体的に記載してください。"]
[null,null,null,null,"その他"]
[]
[null,null,"訴求手法",null,"※訴求手法については、該当する欄にチェックしてください。"]
[null,null,null,null,"a) 情報発信型（受動型）",null,null,null,null,null,null,null,"b) 情報発信型（能動型）",null,null,null,null,null,null,null,"c) 双方向体験交流型"]
[null,null,null,null,"ラジオ、新聞・広報紙等",null,null,null,null,null,null,null,"講演会・パネル展示等",null,null,null,null,null,null,null,"試乗・体験会、省ｴﾈ診断等"]
[]
[null,null,null,null,"d) 双方向ＷＥＢ等配信型",null,null,null,null,null,null,null,"※d) については使用する媒体等を記載してください。"]
[null,null,null,null,"（新手法）"]
[]
[null,null,"実施期間",null,null,null,null,null,null,null,null,null,null,null,"～"]
[null,null,"（備考）"]
[null,null,"実施日\n（※同一事業内で、\n同一の内容・場所において\n複数日実施する場合）",null,1,null,null,null,null,null,null,null,null,null,null,null,6]
[null,null,null,null,2,null,null,null,null,null,null,null,null,null,null,null,7]
[null,null,null,null,3,null,null,null,null,null,null,null,null,null,null,null,8]
[null,null,null,null,4,null,null,null,null,null,null,null,null,null,null,null,9]
[null,null,null,null,5,null,null,null,null,null,null,null,null,null,null,null,10]
[null,null,"事業の概要"]
[null,null,"地域団体との連携"]
[null,null,"効果的な\n実施の\nための工夫","主な訴求対象"]
[null,null,null,"訴求メッセージ"]
[null,null,null,"事業実施時期の\n設定根拠"]
[null,null,null,"具体的な訴求方法\n・\nその他の工夫"]
[null,null,"目標アウトプット\n（リーチ数）\n（想定及び実績）",null,"昨年度実績",null,null,null,"計",null,0]
[null,null,null,null,"昨年度実績算出根拠"]
[null,null,null,null,"想定",null,null,null,"計",null,0]
[null,null,null,null,"算出方法"]
[null,null,"目標アウトカム（想定及び実績）\n※記載は任意"]
[null,null,"エネルギー起源CO2排出削減量（想定）",null,"CO2排出削減量",null,null,null,null,null,null,null,null,null,"（t-CO2）"]
[null,null,null,null,"測定方法\n（計算式、\n根拠資料等）"]
[]
[]
[]
[null,null,"賛同数（想定及び実績）",null,"昨年度実績",null,null,null,"団体",null,0,null,null,null,null,"、個人",null,0]
[null,null,null,null,"想定",null,null,null,"団体",null,0,null,null,null,null,"、個人",null,0]
[null,null,"効果検証\n（アンケート）予定",null,"※アンケートの実施予定をプルダウンより選択してください。"]
[null,null,null,null,"公募要領に規定のアンケート"]
[null,null,null,null,"省エネ機器",null,null,"省エネ住宅",null,null,"エコカー",null,null,"クールビズ",null,null,"ウォームビズ",null,null,"照明の\n効率的利用",null,null,"ｴｺﾄﾞﾗｲﾌﾞ",null,null,"カーシェア"]
[null,null,null,null,"- 選択 -",null,null,"- 選択 -",null,null,"- 選択 -",null,null,"- 選択 -",null,null,"- 選択 -",null,null,"- 選択 -",null,null,"- 選択 -",null,null,"- 選択 -"]
[null,null,null,null,"公募要領に規定のアンケート",null,null,null,null,null,null,null,null,null,null,null,"貴事業者独自のアンケート"]
[null,null,null,null,"ｽﾏｰﾄﾑｰﾌﾞ",null,null,"低炭素物流",null,null,"再エネ",null,null,"食品ロス"]
[null,null,null,null,"- 選択 -",null,null,"- 選択 -",null,null,"- 選択 -",null,null,"- 選択 -",null,null,"- 選択 -"]
[null,null,null,null,"内容（",null,null,null,null,null,null,null,null,null,null,null,null,null,null,null,null,null,null,null,null,null,null,"）"]
[null,null,null,null,"昨年度実績",null,null,null,"計",0,null,null,"枚",null,"※複数ある場合は、アンケート合計回収数"]
[null,null,null,null,"目標回収数",null,null,null,"計",0,null,null,"枚",null,"※複数ある場合は、アンケート合計回収数"]
[]
[null,null,"項目",null,"内容"]
[null,null,"事業5","事業名"]
[null,null,"普及啓発テーマ",null,"※公募要領　別表第１　で対象とする間接補助事業の内容に合致していること。\n※該当するテーマすべてをチェックしてください。"]
[null,null,null,null,"①",null,"②",null,"③",null,"④",null,"⑤",null,"⑥",null,"⑦",null,"⑧",null,"⑨",null,"⑩",null,"⑪",null,"⑫",null,null,null,"①","②","③","④","⑤","⑥","⑦","⑧","⑨","⑩","⑪","⑫","⑬",null,null,null,null,null,null,null,null,null,null,null,null,null,"a)","b)","c)","d)"]
[null,null,null,null,"省ｴﾈ機器",null,"省ｴﾈ住宅",null,"ｴｺｶｰ",null,"ｸｰﾙﾋﾞｽﾞ",null,"ｳｫｰﾑﾋﾞｽﾞ",null,"照明の\n高効率利用",null,"ｴｺﾄﾞﾗｲﾌﾞ",null,"ｶｰｼｪｱ",null,"ｽﾏｰﾄﾑｰﾌﾞ",null,"再配達防止",null,"再エネ",null,"食品ロス",null,null,null,"省ｴﾈ機器","省ｴﾈ住宅","ｴｺｶｰ","ｸｰﾙﾋﾞｽﾞ","ｳｫｰﾑﾋﾞｽﾞ","照明の\n高効率利用","ｴｺﾄﾞﾗｲﾌﾞ","ｶｰｼｪｱ","ｽﾏｰﾄﾑｰﾌﾞ","再配達防止","再エネ","食品ロス","その他",null,null,null,null,null,null,null,null,null,null,null,null,null,false,false,false,false,{"$f":"COUNTIFS($BE256:$BH256,\"TRUE\")","v":0}]
[null,null,null,null,null,null,null,null,null,null,null,null,null,null,null,null,null,null,null,null,null,null,null,null,null,null,null,null,null,null,false,false,false,false,false,false,false,false,false,false,false,false,false,null,null,null,null,null,null,null,null,null,null,null,{"$f":"COUNTIFS($AE257:$BB257,\"TRUE\")","v":0}]
[null,null,null,null,"⑬",null,"↓ ※①～⑫以外のテーマを設定する場合、具体的に記載してください。"]
[null,null,null,null,"その他"]
[]
[null,null,"訴求手法",null,"※訴求手法については、該当する欄にチェックしてください。"]
[null,null,null,null,"a) 情報発信型（受動型）",null,null,null,null,null,null,null,"b) 情報発信型（能動型）",null,null,null,null,null,null,null,"c) 双方向体験交流型"]
[null,null,null,null,"ラジオ、新聞・広報紙等",null,null,null,null,null,null,null,"講演会・パネル展示等",null,null,null,null,null,null,null,"試乗・体験会、省ｴﾈ診断等"]
[]
[null,null,null,null,"d) 双方向ＷＥＢ等配信型",null,null,null,null,null,null,null,"※d) については使用する媒体等を記載してください。"]
[null,null,null,null,"（新手法）"]
[]
[null,null,"実施期間",null,null,null,null,null,null,null,null,null,null,null,"～"]
[null,null,"（備考）"]
[null,null,"実施日\n（※同一事業内で、\n同一の内容・場所において\n複数日実施する場合）",null,1,null,null,null,null,null,null,null,null,null,null,null,6]
[null,null,null,null,2,null,null,null,null,null,null,null,null,null,null,null,7]
[null,null,null,null,3,null,null,null,null,null,null,null,null,null,null,null,8]
[null,null,null,null,4,null,null,null,null,null,null,null,null,null,null,null,9]
[null,null,null,null,5,null,null,null,null,null,null,null,null,null,null,null,10]
[null,null,"事業の概要"]
[null,null,"地域団体との連携"]
[null,null,"効果的な\n実施の\nための工夫","主な訴求対象"]
[null,null,null,"訴求メッセージ"]
[null,null,null,"事業実施時期の\n設定根拠"]
[null,null,null,"具体的な訴求方法\n・\nその他の工夫"]
[null,null,"目標アウトプット\n（リーチ数）\n（想定及び実績）",null,"昨年度実績",null,null,null,"計",null,0]
[null,null,null,null,"昨年度実績算出根拠"]
[null,null,null,null,"想定",null,null,null,"計",null,0]
[null,null,null,null,"算出方法"]
[null,null,"目標アウトカム（想定及び実績）\n※記載は任意"]
[null,null,"エネルギー起源CO2排出削減量（想定）",null,"CO2排出削減量",null,null,null,null,null,null,null,null,null,"（t-CO2）"]
[null,null,null,null,"測定方法\n（計算式、\n根拠資料等）"]
[]
[]
[]
[null,null,"賛同数（想定及び実績）",null,"昨年度実績",null,null,null,"団体",null,0,null,null,null,null,"、個人",null,0]
[null,null,null,null,"想定",null,null,null,"団体",null,0,null,null,null,null,"、個人",null,0]
[null,null,"効果検証\n（アンケート）予定",null,"※アンケートの実施予定をプルダウンより選択してください。"]
[null,null,null,null,"公募要領に規定のアンケート"]
[null,null,null,null,"省エネ機器",null,null,"省エネ住宅",null,null,"エコカー",null,null,"クールビズ",null,null,"ウォームビズ",null,null,"照明の\n効率的利用",null,null,"ｴｺﾄﾞﾗｲﾌﾞ",null,null,"カーシェア"]
[null,null,null,null,"- 選択 -",null,null,"- 選択 -",null,null,"- 選択 -",null,null,"- 選択 -",null,null,"- 選択 -",null,null,"- 選択 -",null,null,"- 選択 -",null,null,"- 選択 -"]
[null,null,null,null,"公募要領に規定のアンケート",null,null,null,null,null,null,null,null,null,null,null,"貴事業者独自のアンケート"]
[null,null,null,null,"ｽﾏｰﾄﾑｰﾌﾞ",null,null,"低炭素物流",null,null,"再エネ",null,null,"食品ロス"]
[null,null,null,null,"- 選択 -",null,null,"- 選択 -",null,null,"- 選択 -",null,null,"- 選択 -",null,null,"- 選択 -"]
[null,null,null,null,"内容（",null,null,null,null,null,null,null,null,null,null,null,null,null,null,null,null,null,null,null,null,null,null,"）"]
[null,null,null,null,"昨年度実績",null,null,null,"計",0,null,null,"枚",null,"※複数ある場合は、アンケート合計回収数"]
[null,null,null,null,"目標回収数",null,null,null,"計",0,null,null,"枚",null,"※複数ある場合は、アンケート合計回収数"]
[]
[null,null,"項目",null,"内容"]
[null,null,"事業6","事業名"]
[null,null,"普及啓発テーマ",null,"※公募要領　別表第１　で対象とする間接補助事業の内容に合致していること。\n※該当するテーマすべてをチェックしてください。"]
[null,null,null,null,"①",null,"②",null,"③",null,"④",null,"⑤",null,"⑥",null,"⑦",null,"⑧",null,"⑨",null,"⑩",null,"⑪",null,"⑫",null,null,null,"①","②","③","④","⑤","⑥","⑦","⑧","⑨","⑩","⑪","⑫","⑬",null,null,null,null,null,null,null,null,null,null,null,null,null,"a)","b)","c)","d)"]
[null,null,null,null,"省ｴﾈ機器",null,"省ｴﾈ住宅",null,"ｴｺｶｰ",null,"ｸｰﾙﾋﾞｽﾞ",null,"ｳｫｰﾑﾋﾞｽﾞ",null,"照明の\n高効率利用",null,"ｴｺﾄﾞﾗｲﾌﾞ",null,"ｶｰｼｪｱ",null,"ｽﾏｰﾄﾑｰﾌﾞ",null,"再配達防止",null,"再エネ",null,"食品ロス",null,null,null,"省ｴﾈ機器","省ｴﾈ住宅","ｴｺｶｰ","ｸｰﾙﾋﾞｽﾞ","ｳｫｰﾑﾋﾞｽﾞ","照明の\n高効率利用","ｴｺﾄﾞﾗｲﾌﾞ","ｶｰｼｪｱ","ｽﾏｰﾄﾑｰﾌﾞ","再配達防止","再エネ","食品ロス","その他",null,null,null,null,null,null,null,null,null,null,null,null,null,false,false,false,false,{"$f":"COUNTIFS($BE308:$BH308,\"TRUE\")","v":0}]
[null,null,null,null,null,null,null,null,null,null,null,null,null,null,null,null,null,null,null,null,null,null,null,null,null,null,null,null,null,null,false,false,false,false,false,false,false,false,false,false,false,false,false,null,null,null,null,null,null,null,null,null,null,null,{"$f":"COUNTIFS($AE309:$BB309,\"TRUE\")","v":0}]
[null,null,null,null,"⑬",null,"↓ ※①～⑫以外のテーマを設定する場合、具体的に記載してください。"]
[null,null,null,null,"その他"]
[]
[null,null,"訴求手法",null,"※訴求手法については、該当する欄にチェックしてください。"]
[null,null,null,null,"a) 情報発信型（受動型）",null,null,null,null,null,null,null,"b) 情報発信型（能動型）",null,null,null,null,null,null,null,"c) 双方向体験交流型"]
[null,null,null,null,"ラジオ、新聞・広報紙等",null,null,null,null,null,null,null,"講演会・パネル展示等",null,null,null,null,null,null,null,"試乗・体験会、省ｴﾈ診断等"]
[]
[null,null,null,null,"d) 双方向ＷＥＢ等配信型",null,null,null,null,null,null,null,"※d) については使用する媒体等を記載してください。"]
[null,null,null,null,"（新手法）"]
[]
[null,null,"実施期間",null,null,null,null,null,null,null,null,null,null,null,"～"]
[null,null,"（備考）"]
[null,null,"実施日\n（※同一事業内で、\n同一の内容・場所において\n複数日実施する場合）",null,1,null,null,null,null,null,null,null,null,null,null,null,6]
[null,null,null,null,2,null,null,null,null,null,null,null,null,null,null,null,7]
[null,null,null,null,3,null,null,null,null,null,null,null,null,null,null,null,8]
[null,null,null,null,4,null,null,null,null,null,null,null,null,null,null,null,9]
[null,null,null,null,5,null,null,null,null,null,null,null,null,null,null,null,10]
[null,null,"事業の概要"]
[null,null,"地域団体との連携"]
[null,null,"効果的な\n実施の\nための工夫","主な訴求対象"]
[null,null,null,"訴求メッセージ"]
[null,null,null,"事業実施時期の\n設定根拠"]
[null,null,null,"具体的な訴求方法\n・\nその他の工夫"]
[null,null,"目標アウトプット\n（リーチ数）\n（想定及び実績）",null,"昨年度実績",null,null,null,"計",null,0]
[null,null,null,null,"昨年度実績算出根拠"]
[null,null,null,null,"想定",null,null,null,"計",null,0]
[null,null,null,null,"算出方法"]
[null,null,"目標アウトカム（想定及び実績）\n※記載は任意"]
[null,null,"エネルギー起源CO2排出削減量（想定）",null,"CO2排出削減量",null,null,null,null,null,null,null,null,null,"（t-CO2）"]
[null,null,null,null,"測定方法\n（計算式、\n根拠資料等）"]
[]
[]
[]
[null,null,"賛同数（想定及び実績）",null,"昨年度実績",null,null,null,"団体",null,0,null,null,null,null,"、個人",null,0]
[null,null,null,null,"想定",null,null,null,"団体",null,0,null,null,null,null,"、個人",null,0]
[null,null,"効果検証\n（アンケート）予定",null,"※アンケートの実施予定をプルダウンより選択してください。"]
[null,null,null,null,"公募要領に規定のアンケート"]
[null,null,null,null,"省エネ機器",null,null,"省エネ住宅",null,null,"エコカー",null,null,"クールビズ",null,null,"ウォームビズ",null,null,"照明の\n効率的利用",null,null,"ｴｺﾄﾞﾗｲﾌﾞ",null,null,"カーシェア"]
[null,null,null,null,"- 選択 -",null,null,"- 選択 -",null,null,"- 選択 -",null,null,"- 選択 -",null,null,"- 選択 -",null,null,"- 選択 -",null,null,"- 選択 -",null,null,"- 選択 -"]
[null,null,null,null,"公募要領に規定のアンケート",null,null,null,null,null,null,null,null,null,null,null,"貴事業者独自のアンケート"]
[null,null,null,null,"ｽﾏｰﾄﾑｰﾌﾞ",null,null,"低炭素物流",null,null,"再エネ",null,null,"食品ロス"]
[null,null,null,null,"- 選択 -",null,null,"- 選択 -",null,null,"- 選択 -",null,null,"- 選択 -",null,null,"- 選択 -"]
[null,null,null,null,"内容（",null,null,null,null,null,null,null,null,null,null,null,null,null,null,null,null,null,null,null,null,null,null,"）"]
[null,null,null,null,"昨年度実績",null,null,null,"計",0,null,null,"枚",null,"※複数ある場合は、アンケート合計回収数"]
[null,null,null,null,"目標回収数",null,null,null,"計",0,null,null,"枚",null,"※複数ある場合は、アンケート合計回収数"]
[]
[null,null,"項目",null,"内容"]
[null,null,"事業7","事業名"]
[null,null,"普及啓発テーマ",null,"※公募要領　別表第１　で対象とする間接補助事業の内容に合致していること。\n※該当するテーマすべてをチェックしてください。"]
[null,null,null,null,"①",null,"②",null,"③",null,"④",null,"⑤",null,"⑥",null,"⑦",null,"⑧",null,"⑨",null,"⑩",null,"⑪",null,"⑫",null,null,null,"①","②","③","④","⑤","⑥","⑦","⑧","⑨","⑩","⑪","⑫","⑬",null,null,null,null,null,null,null,null,null,null,null,null,null,"a)","b)","c)","d)"]
[null,null,null,null,"省ｴﾈ機器",null,"省ｴﾈ住宅",null,"ｴｺｶｰ",null,"ｸｰﾙﾋﾞｽﾞ",null,"ｳｫｰﾑﾋﾞｽﾞ",null,"照明の\n高効率利用",null,"ｴｺﾄﾞﾗｲﾌﾞ",null,"ｶｰｼｪｱ",null,"ｽﾏｰﾄﾑｰﾌﾞ",null,"再配達防止",null,"再エネ",null,"食品ロス",null,null,null,"省ｴﾈ機器","省ｴﾈ住宅","ｴｺｶｰ","ｸｰﾙﾋﾞｽﾞ","ｳｫｰﾑﾋﾞｽﾞ","照明の\n高効率利用","ｴｺﾄﾞﾗｲﾌﾞ","ｶｰｼｪｱ","ｽﾏｰﾄﾑｰﾌﾞ","再配達防止","再エネ","食品ロス","その他",null,null,null,null,null,null,null,null,null,null,null,null,null,false,false,false,false,{"$f":"COUNTIFS($BE360:$BH360,\"TRUE\")","v":0}]
[null,null,null,null,null,null,null,null,null,null,null,null,null,null,null,null,null,null,null,null,null,null,null,null,null,null,null,null,null,null,false,false,false,false,false,false,false,false,false,false,false,false,false,null,null,null,null,null,null,null,null,null,null,null,{"$f":"COUNTIFS($AE361:$BB361,\"TRUE\")","v":0}]
[null,null,null,null,"⑬",null,"↓ ※①～⑫以外のテーマを設定する場合、具体的に記載してください。"]
[null,null,null,null,"その他"]
[]
[null,null,"訴求手法",null,"※訴求手法については、該当する欄にチェックしてください。"]
[null,null,null,null,"a) 情報発信型（受動型）",null,null,null,null,null,null,null,"b) 情報発信型（能動型）",null,null,null,null,null,null,null,"c) 双方向体験交流型"]
[null,null,null,null,"ラジオ、新聞・広報紙等",null,null,null,null,null,null,null,"講演会・パネル展示等",null,null,null,null,null,null,null,"試乗・体験会、省ｴﾈ診断等"]
[]
[null,null,null,null,"d) 双方向ＷＥＢ等配信型",null,null,null,null,null,null,null,"※d) については使用する媒体等を記載してください。"]
[null,null,null,null,"（新手法）"]
[]
[null,null,"実施期間",null,null,null,null,null,null,null,null,null,null,null,"～"]
[null,null,"（備考）"]
[null,null,"実施日\n（※同一事業内で、\n同一の内容・場所において\n複数日実施する場合）",null,1,null,null,null,null,null,null,null,null,null,null,null,6]
[null,null,null,null,2,null,null,null,null,null,null,null,null,null,null,null,7]
[null,null,null,null,3,null,null,null,null,null,null,null,null,null,null,null,8]
[null,null,null,null,4,null,null,null,null,null,null,null,null,null,null,null,9]
[null,null,null,null,5,null,null,null,null,null,null,null,null,null,null,null,10]
[null,null,"事業の概要"]
[null,null,"地域団体との連携"]
[null,null,"効果的な\n実施の\nための工夫","主な訴求対象"]
[null,null,null,"訴求メッセージ"]
[null,null,null,"事業実施時期の\n設定根拠"]
[null,null,null,"具体的な訴求方法\n・\nその他の工夫"]
[null,null,"目標アウトプット\n（リーチ数）\n（想定及び実績）",null,"昨年度実績",null,null,null,"計",null,0]
[null,null,null,null,"昨年度実績算出根拠"]
[null,null,null,null,"想定",null,null,null,"計",null,0]
[null,null,null,null,"算出方法"]
[null,null,"目標アウトカム（想定及び実績）\n※記載は任意"]
[null,null,"エネルギー起源CO2排出削減量（想定）",null,"CO2排出削減量",null,null,null,null,null,null,null,null,null,"（t-CO2）"]
[null,null,null,null,"測定方法\n（計算式、\n根拠資料等）"]
[]
[]
[]
[null,null,"賛同数（想定及び実績）",null,"昨年度実績",null,null,null,"団体",null,0,null,null,null,null,"、個人",null,0]
[null,null,null,null,"想定",null,null,null,"団体",null,0,null,null,null,null,"、個人",null,0]
[null,null,"効果検証\n（アンケート）予定",null,"※アンケートの実施予定をプルダウンより選択してください。"]
[null,null,null,null,"公募要領に規定のアンケート"]
[null,null,null,null,"省エネ機器",null,null,"省エネ住宅",null,null,"エコカー",null,null,"クールビズ",null,null,"ウォームビズ",null,null,"照明の\n効率的利用",null,null,"ｴｺﾄﾞﾗｲﾌﾞ",null,null,"カーシェア"]
[null,null,null,null,"- 選択 -",null,null,"- 選択 -",null,null,"- 選択 -",null,null,"- 選択 -",null,null,"- 選択 -",null,null,"- 選択 -",null,null,"- 選択 -",null,null,"- 選択 -"]
[null,null,null,null,"公募要領に規定のアンケート",null,null,null,null,null,null,null,null,null,null,null,"貴事業者独自のアンケート"]
[null,null,null,null,"ｽﾏｰﾄﾑｰﾌﾞ",null,null,"低炭素物流",null,null,"再エネ",null,null,"食品ロス"]
[null,null,null,null,"- 選択 -",null,null,"- 選択 -",null,null,"- 選択 -",null,null,"- 選択 -",null,null,"- 選択 -"]
[null,null,null,null,"内容（",null,null,null,null,null,null,null,null,null,null,null,null,null,null,null,null,null,null,null,null,null,null,"）"]
[null,null,null,null,"昨年度実績",null,null,null,"計",0,null,null,"枚",null,"※複数ある場合は、アンケート合計回収数"]
[null,null,null,null,"目標回収数",null,null,null,"計",0,null,null,"枚",null,"※複数ある場合は、アンケート合計回収数"]
[]
[null,null,"項目",null,"内容"]
[null,null,"事業8","事業名"]
[null,null,"普及啓発テーマ",null,"※公募要領　別表第１　で対象とする間接補助事業の内容に合致していること。\n※該当するテーマすべてをチェックしてください。"]
[null,null,null,null,"①",null,"②",null,"③",null,"④",null,"⑤",null,"⑥",null,"⑦",null,"⑧",null,"⑨",null,"⑩",null,"⑪",null,"⑫",null,null,null,"①","②","③","④","⑤","⑥","⑦","⑧","⑨","⑩","⑪","⑫","⑬",null,null,null,null,null,null,null,null,null,null,null,null,null,"a)","b)","c)","d)"]
[null,null,null,null,"省ｴﾈ機器",null,"省ｴﾈ住宅",null,"ｴｺｶｰ",null,"ｸｰﾙﾋﾞｽﾞ",null,"ｳｫｰﾑﾋﾞｽﾞ",null,"照明の\n高効率利用",null,"ｴｺﾄﾞﾗｲﾌﾞ",null,"ｶｰｼｪｱ",null,"ｽﾏｰﾄﾑｰﾌﾞ",null,"再配達防止",null,"再エネ",null,"食品ロス",null,null,null,"省ｴﾈ機器","省ｴﾈ住宅","ｴｺｶｰ","ｸｰﾙﾋﾞｽﾞ","ｳｫｰﾑﾋﾞｽﾞ","照明の\n高効率利用","ｴｺﾄﾞﾗｲﾌﾞ","ｶｰｼｪｱ","ｽﾏｰﾄﾑｰﾌﾞ","再配達防止","再エネ","食品ロス","その他",null,null,null,null,null,null,null,null,null,null,null,null,null,false,false,false,false,{"$f":"COUNTIFS($BE412:$BH412,\"TRUE\")","v":0}]
[null,null,null,null,null,null,null,null,null,null,null,null,null,null,null,null,null,null,null,null,null,null,null,null,null,null,null,null,null,null,false,false,false,false,false,false,false,false,false,false,false,false,false,null,null,null,null,null,null,null,null,null,null,null,{"$f":"COUNTIFS($AE413:$BB413,\"TRUE\")","v":0}]
[null,null,null,null,"⑬",null,"↓ ※①～⑫以外のテーマを設定する場合、具体的に記載してください。"]
[null,null,null,null,"その他"]
[]
[null,null,"訴求手法",null,"※訴求手法については、該当する欄にチェックしてください。"]
[null,null,null,null,"a) 情報発信型（受動型）",null,null,null,null,null,null,null,"b) 情報発信型（能動型）",null,null,null,null,null,null,null,"c) 双方向体験交流型"]
[null,null,null,null,"ラジオ、新聞・広報紙等",null,null,null,null,null,null,null,"講演会・パネル展示等",null,null,null,null,null,null,null,"試乗・体験会、省ｴﾈ診断等"]
[]
[null,null,null,null,"d) 双方向ＷＥＢ等配信型",null,null,null,null,null,null,null,"※d) については使用する媒体等を記載してください。"]
[null,null,null,null,"（新手法）"]
[]
[null,null,"実施期間",null,null,null,null,null,null,null,null,null,null,null,"～"]
[null,null,"（備考）"]
[null,null,"実施日\n（※同一事業内で、\n同一の内容・場所において\n複数日実施する場合）",null,1,null,null,null,null,null,null,null,null,null,null,null,6]
[null,null,null,null,2,null,null,null,null,null,null,null,null,null,null,null,7]
[null,null,null,null,3,null,null,null,null,null,null,null,null,null,null,null,8]
[null,null,null,null,4,null,null,null,null,null,null,null,null,null,null,null,9]
[null,null,null,null,5,null,null,null,null,null,null,null,null,null,null,null,10]
[null,null,"事業の概要"]
[null,null,"地域団体との連携"]
[null,null,"効果的な\n実施の\nための工夫","主な訴求対象"]
[null,null,null,"訴求メッセージ"]
[null,null,null,"事業実施時期の\n設定根拠"]
[null,null,null,"具体的な訴求方法\n・\nその他の工夫"]
[null,null,"目標アウトプット\n（リーチ数）\n（想定及び実績）",null,"昨年度実績",null,null,null,"計",null,0]
[null,null,null,null,"昨年度実績算出根拠"]
[null,null,null,null,"想定",null,null,null,"計",null,0]
[null,null,null,null,"算出方法"]
[null,null,"目標アウトカム（想定及び実績）\n※記載は任意"]
[null,null,"エネルギー起源CO2排出削減量（想定）",null,"CO2排出削減量",null,null,null,null,null,null,null,null,null,"（t-CO2）"]
[null,null,null,null,"測定方法\n（計算式、\n根拠資料等）"]
[]
[]
[]
[null,null,"賛同数（想定及び実績）",null,"昨年度実績",null,null,null,"団体",null,0,null,null,null,null,"、個人",null,0]
[null,null,null,null,"想定",null,null,null,"団体",null,0,null,null,null,null,"、個人",null,0]
[null,null,"効果検証\n（アンケート）予定",null,"※アンケートの実施予定をプルダウンより選択してください。"]
[null,null,null,null,"公募要領に規定のアンケート"]
[null,null,null,null,"省エネ機器",null,null,"省エネ住宅",null,null,"エコカー",null,null,"クールビズ",null,null,"ウォームビズ",null,null,"照明の\n効率的利用",null,null,"ｴｺﾄﾞﾗｲﾌﾞ",null,null,"カーシェア"]
[null,null,null,null,"- 選択 -",null,null,"- 選択 -",null,null,"- 選択 -",null,null,"- 選択 -",null,null,"- 選択 -",null,null,"- 選択 -",null,null,"- 選択 -",null,null,"- 選択 -"]
[null,null,null,null,"公募要領に規定のアンケート",null,null,null,null,null,null,null,null,null,null,null,"貴事業者独自のアンケート"]
[null,null,null,null,"ｽﾏｰﾄﾑｰﾌﾞ",null,null,"低炭素物流",null,null,"再エネ",null,null,"食品ロス"]
[null,null,null,null,"- 選択 -",null,null,"- 選択 -",null,null,"- 選択 -",null,null,"- 選択 -",null,null,"- 選択 -"]
[null,null,null,null,"内容（",null,null,null,null,null,null,null,null,null,null,null,null,null,null,null,null,null,null,null,null,null,null,"）"]
[null,null,null,null,"昨年度実績",null,null,null,"計",0,null,null,"枚",null,"※複数ある場合は、アンケート合計回収数"]
[null,null,null,null,"目標回収数",null,null,null,"計",0,null,null,"枚",null,"※複数ある場合は、アンケート合計回収数"]
[]
[null,null,"項目",null,"内容"]
[null,null,"事業9","事業名"]
[null,null,"普及啓発テーマ",null,"※公募要領　別表第１　で対象とする間接補助事業の内容に合致していること。\n※該当するテーマすべてをチェックしてください。"]
[null,null,null,null,"①",null,"②",null,"③",null,"④",null,"⑤",null,"⑥",null,"⑦",null,"⑧",null,"⑨",null,"⑩",null,"⑪",null,"⑫",null,null,null,"①","②","③","④","⑤","⑥","⑦","⑧","⑨","⑩","⑪","⑫","⑬",null,null,null,null,null,null,null,null,null,null,null,null,null,"a)","b)","c)","d)"]
[null,null,null,null,"省ｴﾈ機器",null,"省ｴﾈ住宅",null,"ｴｺｶｰ",null,"ｸｰﾙﾋﾞｽﾞ",null,"ｳｫｰﾑﾋﾞｽﾞ",null,"照明の\n高効率利用",null,"ｴｺﾄﾞﾗｲﾌﾞ",null,"ｶｰｼｪｱ",null,"ｽﾏｰﾄﾑｰﾌﾞ",null,"再配達防止",null,"再エネ",null,"食品ロス",null,null,null,"省ｴﾈ機器","省ｴﾈ住宅","ｴｺｶｰ","ｸｰﾙﾋﾞｽﾞ","ｳｫｰﾑﾋﾞｽﾞ","照明の\n高効率利用","ｴｺﾄﾞﾗｲﾌﾞ","ｶｰｼｪｱ","ｽﾏｰﾄﾑｰﾌﾞ","再配達防止","再エネ","食品ロス","その他",null,null,null,null,null,null,null,null,null,null,null,null,null,false,false,false,false,{"$f":"COUNTIFS($BE464:$BH464,\"TRUE\")","v":0}]
[null,null,null,null,null,null,null,null,null,null,null,null,null,null,null,null,null,null,null,null,null,null,null,null,null,null,null,null,null,null,false,false,false,false,false,false,false,false,false,false,false,false,false,null,null,null,null,null,null,null,null,null,null,null,{"$f":"COUNTIFS($AE465:$BB465,\"TRUE\")","v":0}]
[null,null,null,null,"⑬",null,"↓ ※①～⑫以外のテーマを設定する場合、具体的に記載してください。"]
[null,null,null,null,"その他"]
[]
[null,null,"訴求手法",null,"※訴求手法については、該当する欄にチェックしてください。"]
[null,null,null,null,"a) 情報発信型（受動型）",null,null,null,null,null,null,null,"b) 情報発信型（能動型）",null,null,null,null,null,null,null,"c) 双方向体験交流型"]
[null,null,null,null,"ラジオ、新聞・広報紙等",null,null,null,null,null,null,null,"講演会・パネル展示等",null,null,null,null,null,null,null,"試乗・体験会、省ｴﾈ診断等"]
[]
[null,null,null,null,"d) 双方向ＷＥＢ等配信型",null,null,null,null,null,null,null,"※d) については使用する媒体等を記載してください。"]
[null,null,null,null,"（新手法）"]
[]
[null,null,"実施期間",null,null,null,null,null,null,null,null,null,null,null,"～"]
[null,null,"（備考）"]
[null,null,"実施日\n（※同一事業内で、\n同一の内容・場所において\n複数日実施する場合）",null,1,null,null,null,null,null,null,null,null,null,null,null,6]
[null,null,null,null,2,null,null,null,null,null,null,null,null,null,null,null,7]
[null,null,null,null,3,null,null,null,null,null,null,null,null,null,null,null,8]
[null,null,null,null,4,null,null,null,null,null,null,null,null,null,null,null,9]
[null,null,null,null,5,null,null,null,null,null,null,null,null,null,null,null,10]
[null,null,"事業の概要"]
[null,null,"地域団体との連携"]
[null,null,"効果的な\n実施の\nための工夫","主な訴求対象"]
[null,null,null,"訴求メッセージ"]
[null,null,null,"事業実施時期の\n設定根拠"]
[null,null,null,"具体的な訴求方法\n・\nその他の工夫"]
[null,null,"目標アウトプット\n（リーチ数）\n（想定及び実績）",null,"昨年度実績",null,null,null,"計",null,0]
[null,null,null,null,"昨年度実績算出根拠"]
[null,null,null,null,"想定",null,null,null,"計",null,0]
[null,null,null,null,"算出方法"]
[null,null,"目標アウトカム（想定及び実績）\n※記載は任意"]
[null,null,"エネルギー起源CO2排出削減量（想定）",null,"CO2排出削減量",null,null,null,null,null,null,null,null,null,"（t-CO2）"]
[null,null,null,null,"測定方法\n（計算式、\n根拠資料等）"]
[]
[]
[]
[null,null,"賛同数（想定及び実績）",null,"昨年度実績",null,null,null,"団体",null,0,null,null,null,null,"、個人",null,0]
[null,null,null,null,"想定",null,null,null,"団体",null,0,null,null,null,null,"、個人",null,0]
[null,null,"効果検証\n（アンケート）予定",null,"※アンケートの実施予定をプルダウンより選択してください。"]
[null,null,null,null,"公募要領に規定のアンケート"]
[null,null,null,null,"省エネ機器",null,null,"省エネ住宅",null,null,"エコカー",null,null,"クールビズ",null,null,"ウォームビズ",null,null,"照明の\n効率的利用",null,null,"ｴｺﾄﾞﾗｲﾌﾞ",null,null,"カーシェア"]
[null,null,null,null,"- 選択 -",null,null,"- 選択 -",null,null,"- 選択 -",null,null,"- 選択 -",null,null,"- 選択 -",null,null,"- 選択 -",null,null,"- 選択 -",null,null,"- 選択 -"]
[null,null,null,null,"公募要領に規定のアンケート",null,null,null,null,null,null,null,null,null,null,null,"貴事業者独自のアンケート"]
[null,null,null,null,"ｽﾏｰﾄﾑｰﾌﾞ",null,null,"低炭素物流",null,null,"再エネ",null,null,"食品ロス"]
[null,null,null,null,"- 選択 -",null,null,"- 選択 -",null,null,"- 選択 -",null,null,"- 選択 -",null,null,"- 選択 -"]
[null,null,null,null,"内容（",null,null,null,null,null,null,null,null,null,null,null,null,null,null,null,null,null,null,null,null,null,null,"）"]
[null,null,null,null,"昨年度実績",null,null,null,"計",0,null,null,"枚",null,"※複数ある場合は、アンケート合計回収数"]
[null,null,null,null,"目標回収数",null,null,null,"計",0,null,null,"枚",null,"※複数ある場合は、アンケート合計回収数"]
[]
[null,null,"項目",null,"内容"]
[null,null,"事業10","事業名"]
[null,null,"普及啓発テーマ",null,"※公募要領　別表第１　で対象とする間接補助事業の内容に合致していること。\n※該当するテーマすべてをチェックしてください。"]
[null,null,null,null,"①",null,"②",null,"③",null,"④",null,"⑤",null,"⑥",null,"⑦",null,"⑧",null,"⑨",null,"⑩",null,"⑪",null,"⑫",null,null,null,"①","②","③","④","⑤","⑥","⑦","⑧","⑨","⑩","⑪","⑫","⑬",null,null,null,null,null,null,null,null,null,null,null,null,null,"a)","b)","c)","d)"]
[null,null,null,null,"省ｴﾈ機器",null,"省ｴﾈ住宅",null,"ｴｺｶｰ",null,"ｸｰﾙﾋﾞｽﾞ",null,"ｳｫｰﾑﾋﾞｽﾞ",null,"照明の\n高効率利用",null,"ｴｺﾄﾞﾗｲﾌﾞ",null,"ｶｰｼｪｱ",null,"ｽﾏｰﾄﾑｰﾌﾞ",null,"再配達防止",null,"再エネ",null,"食品ロス",null,null,null,"省ｴﾈ機器","省ｴﾈ住宅","ｴｺｶｰ","ｸｰﾙﾋﾞｽﾞ","ｳｫｰﾑﾋﾞｽﾞ","照明の\n高効率利用","ｴｺﾄﾞﾗｲﾌﾞ","ｶｰｼｪｱ","ｽﾏｰﾄﾑｰﾌﾞ","再配達防止","再エネ","食品ロス","その他",null,null,null,null,null,null,null,null,null,null,null,null,null,false,false,false,false,{"$f":"COUNTIFS($BE516:$BH516,\"TRUE\")","v":0}]
[null,null,null,null,null,null,null,null,null,null,null,null,null,null,null,null,null,null,null,null,null,null,null,null,null,null,null,null,null,null,false,false,false,false,false,false,false,false,false,false,false,false,false,null,null,null,null,null,null,null,null,null,null,null,{"$f":"COUNTIFS($AE517:$BB517,\"TRUE\")","v":0}]
[null,null,null,null,"⑬",null,"↓ ※①～⑫以外のテーマを設定する場合、具体的に記載してください。"]
[null,null,null,null,"その他"]
[]
[null,null,"訴求手法",null,"※訴求手法については、該当する欄にチェックしてください。"]
[null,null,null,null,"a) 情報発信型（受動型）",null,null,null,null,null,null,null,"b) 情報発信型（能動型）",null,null,null,null,null,null,null,"c) 双方向体験交流型"]
[null,null,null,null,"ラジオ、新聞・広報紙等",null,null,null,null,null,null,null,"講演会・パネル展示等",null,null,null,null,null,null,null,"試乗・体験会、省ｴﾈ診断等"]
[]
[null,null,null,null,"d) 双方向ＷＥＢ等配信型",null,null,null,null,null,null,null,"※d) については使用する媒体等を記載してください。"]
[null,null,null,null,"（新手法）"]
[]
[null,null,"実施期間",null,null,null,null,null,null,null,null,null,null,null,"～"]
[null,null,"（備考）"]
[null,null,"実施日\n（※同一事業内で、\n同一の内容・場所において\n複数日実施する場合）",null,1,null,null,null,null,null,null,null,null,null,null,null,6]
[null,null,null,null,2,null,null,null,null,null,null,null,null,null,null,null,7]
[null,null,null,null,3,null,null,null,null,null,null,null,null,null,null,null,8]
[null,null,null,null,4,null,null,null,null,null,null,null,null,null,null,null,9]
[null,null,null,null,5,null,null,null,null,null,null,null,null,null,null,null,10]
[null,null,"事業の概要"]
[null,null,"地域団体との連携"]
[null,null,"効果的な\n実施の\nための工夫","主な訴求対象"]
[null,null,null,"訴求メッセージ"]
[null,null,null,"事業実施時期の\n設定根拠"]
[null,null,null,"具体的な訴求方法\n・\nその他の工夫"]
[null,null,"目標アウトプット\n（リーチ数）\n（想定及び実績）",null,"昨年度実績",null,null,null,"計",null,0]
[null,null,null,null,"昨年度実績算出根拠"]
[null,null,null,null,"想定",null,null,null,"計",null,0]
[null,null,null,null,"算出方法"]
[null,null,"目標アウトカム（想定及び実績）\n※記載は任意"]
[null,null,"エネルギー起源CO2排出削減量（想定）",null,"CO2排出削減量",null,null,null,null,null,null,null,null,null,"（t-CO2）"]
[null,null,null,null,"測定方法\n（計算式、\n根拠資料等）"]
[]
[]
[]
[null,null,"賛同数（想定及び実績）",null,"昨年度実績",null,null,null,"団体",null,0,null,null,null,null,"、個人",null,0]
[null,null,null,null,"想定",null,null,null,"団体",null,0,null,null,null,null,"、個人",null,0]
[null,null,"効果検証\n（アンケート）予定",null,"※アンケートの実施予定をプルダウンより選択してください。"]
[null,null,null,null,"公募要領に規定のアンケート"]
[null,null,null,null,"省エネ機器",null,null,"省エネ住宅",null,null,"エコカー",null,null,"クールビズ",null,null,"ウォームビズ",null,null,"照明の\n効率的利用",null,null,"ｴｺﾄﾞﾗｲﾌﾞ",null,null,"カーシェア"]
[null,null,null,null,"- 選択 -",null,null,"- 選択 -",null,null,"- 選択 -",null,null,"- 選択 -",null,null,"- 選択 -",null,null,"- 選択 -",null,null,"- 選択 -",null,null,"- 選択 -"]
[null,null,null,null,"公募要領に規定のアンケート",null,null,null,null,null,null,null,null,null,null,null,"貴事業者独自のアンケート"]
[null,null,null,null,"ｽﾏｰﾄﾑｰﾌﾞ",null,null,"低炭素物流",null,null,"再エネ",null,null,"食品ロス"]
[null,null,null,null,"- 選択 -",null,null,"- 選択 -",null,null,"- 選択 -",null,null,"- 選択 -",null,null,"- 選択 -"]
[null,null,null,null,"内容（",null,null,null,null,null,null,null,null,null,null,null,null,null,null,null,null,null,null,null,null,null,null,"）"]
[null,null,null,null,"昨年度実績",null,null,null,"計",0,null,null,"枚",null,"※複数ある場合は、アンケート合計回収数"]
[null,null,null,null,"目標回収数",null,null,null,"計",0,null,null,"枚",null,"※複数ある場合は、アンケート合計回収数"]
[]
[null,null,"項目",null,"内容"]
[null,null,"事業11","事業名"]
[null,null,"普及啓発テーマ",null,"※公募要領　別表第１　で対象とする間接補助事業の内容に合致していること。\n※該当するテーマすべてをチェックしてください。"]
[null,null,null,null,"①",null,"②",null,"③",null,"④",null,"⑤",null,"⑥",null,"⑦",null,"⑧",null,"⑨",null,"⑩",null,"⑪",null,"⑫",null,null,null,"①","②","③","④","⑤","⑥","⑦","⑧","⑨","⑩","⑪","⑫","⑬",null,null,null,null,null,null,null,null,null,null,null,null,null,"a)","b)","c)","d)"]
[null,null,null,null,"省ｴﾈ機器",null,"省ｴﾈ住宅",null,"ｴｺｶｰ",null,"ｸｰﾙﾋﾞｽﾞ",null,"ｳｫｰﾑﾋﾞｽﾞ",null,"照明の\n高効率利用",null,"ｴｺﾄﾞﾗｲﾌﾞ",null,"ｶｰｼｪｱ",null,"ｽﾏｰﾄﾑｰﾌﾞ",null,"再配達防止",null,"再エネ",null,"食品ロス",null,null,null,"省ｴﾈ機器","省ｴﾈ住宅","ｴｺｶｰ","ｸｰﾙﾋﾞｽﾞ","ｳｫｰﾑﾋﾞｽﾞ","照明の\n高効率利用","ｴｺﾄﾞﾗｲﾌﾞ","ｶｰｼｪｱ","ｽﾏｰﾄﾑｰﾌﾞ","再配達防止","再エネ","食品ロス","その他",null,null,null,null,null,null,null,null,null,null,null,null,null,false,false,false,false,{"$f":"COUNTIFS($BE568:$BH568,\"TRUE\")","v":0}]
[null,null,null,null,null,null,null,null,null,null,null,null,null,null,null,null,null,null,null,null,null,null,null,null,null,null,null,null,null,null,false,false,false,false,false,false,false,false,false,false,false,false,false,null,null,null,null,null,null,null,null,null,null,null,{"$f":"COUNTIFS($AE569:$BB569,\"TRUE\")","v":0}]
[null,null,null,null,"⑬",null,"↓ ※①～⑫以外のテーマを設定する場合、具体的に記載してください。"]
[null,null,null,null,"その他"]
[]
[null,null,"訴求手法",null,"※訴求手法については、該当する欄にチェックしてください。"]
[null,null,null,null,"a) 情報発信型（受動型）",null,null,null,null,null,null,null,"b) 情報発信型（能動型）",null,null,null,null,null,null,null,"c) 双方向体験交流型"]
[null,null,null,null,"ラジオ、新聞・広報紙等",null,null,null,null,null,null,null,"講演会・パネル展示等",null,null,null,null,null,null,null,"試乗・体験会、省ｴﾈ診断等"]
[]
[null,null,null,null,"d) 双方向ＷＥＢ等配信型",null,null,null,null,null,null,null,"※d) については使用する媒体等を記載してください。"]
[null,null,null,null,"（新手法）"]
[]
[null,null,"実施期間",null,null,null,null,null,null,null,null,null,null,null,"～"]
[null,null,"（備考）"]
[null,null,"実施日\n（※同一事業内で、\n同一の内容・場所において\n複数日実施する場合）",null,1,null,null,null,null,null,null,null,null,null,null,null,6]
[null,null,null,null,2,null,null,null,null,null,null,null,null,null,null,null,7]
[null,null,null,null,3,null,null,null,null,null,null,null,null,null,null,null,8]
[null,null,null,null,4,null,null,null,null,null,null,null,null,null,null,null,9]
[null,null,null,null,5,null,null,null,null,null,null,null,null,null,null,null,10]
[null,null,"事業の概要"]
[null,null,"地域団体との連携"]
[null,null,"効果的な\n実施の\nための工夫","主な訴求対象"]
[null,null,null,"訴求メッセージ"]
[null,null,null,"事業実施時期の\n設定根拠"]
[null,null,null,"具体的な訴求方法\n・\nその他の工夫"]
[null,null,"目標アウトプット\n（リーチ数）\n（想定及び実績）",null,"昨年度実績",null,null,null,"計",null,0]
[null,null,null,null,"昨年度実績算出根拠"]
[null,null,null,null,"想定",null,null,null,"計",null,0]
[null,null,null,null,"算出方法"]
[null,null,"目標アウトカム（想定及び実績）\n※記載は任意"]
[null,null,"エネルギー起源CO2排出削減量（想定）",null,"CO2排出削減量",null,null,null,null,null,null,null,null,null,"（t-CO2）"]
[null,null,null,null,"測定方法\n（計算式、\n根拠資料等）"]
[]
[]
[]
[null,null,"賛同数（想定及び実績）",null,"昨年度実績",null,null,null,"団体",null,0,null,null,null,null,"、個人",null,0]
[null,null,null,null,"想定",null,null,null,"団体",null,0,null,null,null,null,"、個人",null,0]
[null,null,"効果検証\n（アンケート）予定",null,"※アンケートの実施予定をプルダウンより選択してください。"]
[null,null,null,null,"公募要領に規定のアンケート"]
[null,null,null,null,"省エネ機器",null,null,"省エネ住宅",null,null,"エコカー",null,null,"クールビズ",null,null,"ウォームビズ",null,null,"照明の\n効率的利用",null,null,"ｴｺﾄﾞﾗｲﾌﾞ",null,null,"カーシェア"]
[null,null,null,null,"- 選択 -",null,null,"- 選択 -",null,null,"- 選択 -",null,null,"- 選択 -",null,null,"- 選択 -",null,null,"- 選択 -",null,null,"- 選択 -",null,null,"- 選択 -"]
[null,null,null,null,"公募要領に規定のアンケート",null,null,null,null,null,null,null,null,null,null,null,"貴事業者独自のアンケート"]
[null,null,null,null,"ｽﾏｰﾄﾑｰﾌﾞ",null,null,"低炭素物流",null,null,"再エネ",null,null,"食品ロス"]
[null,null,null,null,"- 選択 -",null,null,"- 選択 -",null,null,"- 選択 -",null,null,"- 選択 -",null,null,"- 選択 -"]
[null,null,null,null,"内容（",null,null,null,null,null,null,null,null,null,null,null,null,null,null,null,null,null,null,null,null,null,null,"）"]
[null,null,null,null,"昨年度実績",null,null,null,"計",0,null,null,"枚",null,"※複数ある場合は、アンケート合計回収数"]
[null,null,null,null,"目標回収数",null,null,null,"計",0,null,null,"枚",null,"※複数ある場合は、アンケート合計回収数"]
[]
[null,null,"項目",null,"内容"]
[null,null,"事業12","事業名"]
[null,null,"普及啓発テーマ",null,"※公募要領　別表第１　で対象とする間接補助事業の内容に合致していること。\n※該当するテーマすべてをチェックしてください。"]
[null,null,null,null,"①",null,"②",null,"③",null,"④",null,"⑤",null,"⑥",null,"⑦",null,"⑧",null,"⑨",null,"⑩",null,"⑪",null,"⑫",null,null,null,"①","②","③","④","⑤","⑥","⑦","⑧","⑨","⑩","⑪","⑫","⑬",null,null,null,null,null,null,null,null,null,null,null,null,null,"a)","b)","c)","d)"]
[null,null,null,null,"省ｴﾈ機器",null,"省ｴﾈ住宅",null,"ｴｺｶｰ",null,"ｸｰﾙﾋﾞｽﾞ",null,"ｳｫｰﾑﾋﾞｽﾞ",null,"照明の\n高効率利用",null,"ｴｺﾄﾞﾗｲﾌﾞ",null,"ｶｰｼｪｱ",null,"ｽﾏｰﾄﾑｰﾌﾞ",null,"再配達防止",null,"再エネ",null,"食品ロス",null,null,null,"省ｴﾈ機器","省ｴﾈ住宅","ｴｺｶｰ","ｸｰﾙﾋﾞｽﾞ","ｳｫｰﾑﾋﾞｽﾞ","照明の\n高効率利用","ｴｺﾄﾞﾗｲﾌﾞ","ｶｰｼｪｱ","ｽﾏｰﾄﾑｰﾌﾞ","再配達防止","再エネ","食品ロス","その他",null,null,null,null,null,null,null,null,null,null,null,null,null,false,false,false,false,{"$f":"COUNTIFS($BE620:$BH620,\"TRUE\")","v":0}]
[null,null,null,null,null,null,null,null,null,null,null,null,null,null,null,null,null,null,null,null,null,null,null,null,null,null,null,null,null,null,false,false,false,false,false,false,false,false,false,false,false,false,false,null,null,null,null,null,null,null,null,null,null,null,{"$f":"COUNTIFS($AE621:$BB621,\"TRUE\")","v":0}]
[null,null,null,null,"⑬",null,"↓ ※①～⑫以外のテーマを設定する場合、具体的に記載してください。"]
[null,null,null,null,"その他"]
[]
[null,null,"訴求手法",null,"※訴求手法については、該当する欄にチェックしてください。"]
[null,null,null,null,"a) 情報発信型（受動型）",null,null,null,null,null,null,null,"b) 情報発信型（能動型）",null,null,null,null,null,null,null,"c) 双方向体験交流型"]
[null,null,null,null,"ラジオ、新聞・広報紙等",null,null,null,null,null,null,null,"講演会・パネル展示等",null,null,null,null,null,null,null,"試乗・体験会、省ｴﾈ診断等"]
[]
[null,null,null,null,"d) 双方向ＷＥＢ等配信型",null,null,null,null,null,null,null,"※d) については使用する媒体等を記載してください。"]
[null,null,null,null,"（新手法）"]
[]
[null,null,"実施期間",null,null,null,null,null,null,null,null,null,null,null,"～"]
[null,null,"（備考）"]
[null,null,"実施日\n（※同一事業内で、\n同一の内容・場所において\n複数日実施する場合）",null,1,null,null,null,null,null,null,null,null,null,null,null,6]
[null,null,null,null,2,null,null,null,null,null,null,null,null,null,null,null,7]
[null,null,null,null,3,null,null,null,null,null,null,null,null,null,null,null,8]
[null,null,null,null,4,null,null,null,null,null,null,null,null,null,null,null,9]
[null,null,null,null,5,null,null,null,null,null,null,null,null,null,null,null,10]
[null,null,"事業の概要"]
[null,null,"地域団体との連携"]
[null,null,"効果的な\n実施の\nための工夫","主な訴求対象"]
[null,null,null,"訴求メッセージ"]
[null,null,null,"事業実施時期の\n設定根拠"]
[null,null,null,"具体的な訴求方法\n・\nその他の工夫"]
[null,null,"目標アウトプット\n（リーチ数）\n（想定及び実績）",null,"昨年度実績",null,null,null,"計",null,0]
[null,null,null,null,"昨年度実績算出根拠"]
[null,null,null,null,"想定",null,null,null,"計",null,0]
[null,null,null,null,"算出方法"]
[null,null,"目標アウトカム（想定及び実績）\n※記載は任意"]
[null,null,"エネルギー起源CO2排出削減量（想定）",null,"CO2排出削減量",null,null,null,null,null,null,null,null,null,"（t-CO2）"]
[null,null,null,null,"測定方法\n（計算式、\n根拠資料等）"]
[]
[]
[]
[null,null,"賛同数（想定及び実績）",null,"昨年度実績",null,null,null,"団体",null,0,null,null,null,null,"、個人",null,0]
[null,null,null,null,"想定",null,null,null,"団体",null,0,null,null,null,null,"、個人",null,0]
[null,null,"効果検証\n（アンケート）予定",null,"※アンケートの実施予定をプルダウンより選択してください。"]
[null,null,null,null,"公募要領に規定のアンケート"]
[null,null,null,null,"省エネ機器",null,null,"省エネ住宅",null,null,"エコカー",null,null,"クールビズ",null,null,"ウォームビズ",null,null,"照明の\n効率的利用",null,null,"ｴｺﾄﾞﾗｲﾌﾞ",null,null,"カーシェア"]
[null,null,null,null,"- 選択 -",null,null,"- 選択 -",null,null,"- 選択 -",null,null,"- 選択 -",null,null,"- 選択 -",null,null,"- 選択 -",null,null,"- 選択 -",null,null,"- 選択 -"]
[null,null,null,null,"公募要領に規定のアンケート",null,null,null,null,null,null,null,null,null,null,null,"貴事業者独自のアンケート"]
[null,null,null,null,"ｽﾏｰﾄﾑｰﾌﾞ",null,null,"低炭素物流",null,null,"再エネ",null,null,"食品ロス"]
[null,null,null,null,"- 選択 -",null,null,"- 選択 -",null,null,"- 選択 -",null,null,"- 選択 -",null,null,"- 選択 -"]
[null,null,null,null,"内容（",null,null,null,null,null,null,null,null,null,null,null,null,null,null,null,null,null,null,null,null,null,null,"）"]
[null,null,null,null,"昨年度実績",null,null,null,"計",0,null,null,"枚",null,"※複数ある場合は、アンケート合計回収数"]
[null,null,null,null,"目標回収数",null,null,null,"計",0,null,null,"枚",null,"※複数ある場合は、アンケート合計回収数"]
[]
[null,null,"項目",null,"内容"]
[null,null,"事業13","事業名"]
[null,null,"普及啓発テーマ",null,"※公募要領　別表第１　で対象とする間接補助事業の内容に合致していること。\n※該当するテーマすべてをチェックしてください。"]
[null,null,null,null,"①",null,"②",null,"③",null,"④",null,"⑤",null,"⑥",null,"⑦",null,"⑧",null,"⑨",null,"⑩",null,"⑪",null,"⑫",null,null,null,"①","②","③","④","⑤","⑥","⑦","⑧","⑨","⑩","⑪","⑫","⑬",null,null,null,null,null,null,null,null,null,null,null,null,null,"a)","b)","c)","d)"]
[null,null,null,null,"省ｴﾈ機器",null,"省ｴﾈ住宅",null,"ｴｺｶｰ",null,"ｸｰﾙﾋﾞｽﾞ",null,"ｳｫｰﾑﾋﾞｽﾞ",null,"照明の\n高効率利用",null,"ｴｺﾄﾞﾗｲﾌﾞ",null,"ｶｰｼｪｱ",null,"ｽﾏｰﾄﾑｰﾌﾞ",null,"再配達防止",null,"再エネ",null,"食品ロス",null,null,null,"省ｴﾈ機器","省ｴﾈ住宅","ｴｺｶｰ","ｸｰﾙﾋﾞｽﾞ","ｳｫｰﾑﾋﾞｽﾞ","照明の\n高効率利用","ｴｺﾄﾞﾗｲﾌﾞ","ｶｰｼｪｱ","ｽﾏｰﾄﾑｰﾌﾞ","再配達防止","再エネ","食品ロス","その他",null,null,null,null,null,null,null,null,null,null,null,null,null,false,false,false,false,{"$f":"COUNTIFS($BE672:$BH672,\"TRUE\")","v":0}]
[null,null,null,null,null,null,null,null,null,null,null,null,null,null,null,null,null,null,null,null,null,null,null,null,null,null,null,null,null,null,false,false,false,false,false,false,false,false,false,false,false,false,false,null,null,null,null,null,null,null,null,null,null,null,{"$f":"COUNTIFS($AE673:$BB673,\"TRUE\")","v":0}]
[null,null,null,null,"⑬",null,"↓ ※①～⑫以外のテーマを設定する場合、具体的に記載してください。"]
[null,null,null,null,"その他"]
[]
[null,null,"訴求手法",null,"※訴求手法については、該当する欄にチェックしてください。"]
[null,null,null,null,"a) 情報発信型（受動型）",null,null,null,null,null,null,null,"b) 情報発信型（能動型）",null,null,null,null,null,null,null,"c) 双方向体験交流型"]
[null,null,null,null,"ラジオ、新聞・広報紙等",null,null,null,null,null,null,null,"講演会・パネル展示等",null,null,null,null,null,null,null,"試乗・体験会、省ｴﾈ診断等"]
[]
[null,null,null,null,"d) 双方向ＷＥＢ等配信型",null,null,null,null,null,null,null,"※d) については使用する媒体等を記載してください。"]
[null,null,null,null,"（新手法）"]
[]
[null,null,"実施期間",null,null,null,null,null,null,null,null,null,null,null,"～"]
[null,null,"（備考）"]
[null,null,"実施日\n（※同一事業内で、\n同一の内容・場所において\n複数日実施する場合）",null,1,null,null,null,null,null,null,null,null,null,null,null,6]
[null,null,null,null,2,null,null,null,null,null,null,null,null,null,null,null,7]
[null,null,null,null,3,null,null,null,null,null,null,null,null,null,null,null,8]
[null,null,null,null,4,null,null,null,null,null,null,null,null,null,null,null,9]
[null,null,null,null,5,null,null,null,null,null,null,null,null,null,null,null,10]
[null,null,"事業の概要"]
[null,null,"地域団体との連携"]
[null,null,"効果的な\n実施の\nための工夫","主な訴求対象"]
[null,null,null,"訴求メッセージ"]
[null,null,null,"事業実施時期の\n設定根拠"]
[null,null,null,"具体的な訴求方法\n・\nその他の工夫"]
[null,null,"目標アウトプット\n（リーチ数）\n（想定及び実績）",null,"昨年度実績",null,null,null,"計",null,0]
[null,null,null,null,"昨年度実績算出根拠"]
[null,null,null,null,"想定",null,null,null,"計",null,0]
[null,null,null,null,"算出方法"]
[null,null,"目標アウトカム（想定及び実績）\n※記載は任意"]
[null,null,"エネルギー起源CO2排出削減量（想定）",null,"CO2排出削減量",null,null,null,null,null,null,null,null,null,"（t-CO2）"]
[null,null,null,null,"測定方法\n（計算式、\n根拠資料等）"]
[]
[]
[]
[null,null,"賛同数（想定及び実績）",null,"昨年度実績",null,null,null,"団体",null,0,null,null,null,null,"、個人",null,0]
[null,null,null,null,"想定",null,null,null,"団体",null,0,null,null,null,null,"、個人",null,0]
[null,null,"効果検証\n（アンケート）予定",null,"※アンケートの実施予定をプルダウンより選択してください。"]
[null,null,null,null,"公募要領に規定のアンケート"]
[null,null,null,null,"省エネ機器",null,null,"省エネ住宅",null,null,"エコカー",null,null,"クールビズ",null,null,"ウォームビズ",null,null,"照明の\n効率的利用",null,null,"ｴｺﾄﾞﾗｲﾌﾞ",null,null,"カーシェア"]
[null,null,null,null,"- 選択 -",null,null,"- 選択 -",null,null,"- 選択 -",null,null,"- 選択 -",null,null,"- 選択 -",null,null,"- 選択 -",null,null,"- 選択 -",null,null,"- 選択 -"]
[null,null,null,null,"公募要領に規定のアンケート",null,null,null,null,null,null,null,null,null,null,null,"貴事業者独自のアンケート"]
[null,null,null,null,"ｽﾏｰﾄﾑｰﾌﾞ",null,null,"低炭素物流",null,null,"再エネ",null,null,"食品ロス"]
[null,null,null,null,"- 選択 -",null,null,"- 選択 -",null,null,"- 選択 -",null,null,"- 選択 -",null,null,"- 選択 -"]
[null,null,null,null,"内容（",null,null,null,null,null,null,null,null,null,null,null,null,null,null,null,null,null,null,null,null,null,null,"）"]
[null,null,null,null,"昨年度実績",null,null,null,"計",0,null,null,"枚",null,"※複数ある場合は、アンケート合計回収数"]
[null,null,null,null,"目標回収数",null,null,null,"計",0,null,null,"枚",null,"※複数ある場合は、アンケート合計回収数"]
[]
[null,null,"項目",null,"内容"]
[null,null,"事業14","事業名"]
[null,null,"普及啓発テーマ",null,"※公募要領　別表第１　で対象とする間接補助事業の内容に合致していること。\n※該当するテーマすべてをチェックしてください。"]
[null,null,null,null,"①",null,"②",null,"③",null,"④",null,"⑤",null,"⑥",null,"⑦",null,"⑧",null,"⑨",null,"⑩",null,"⑪",null,"⑫",null,null,null,"①","②","③","④","⑤","⑥","⑦","⑧","⑨","⑩","⑪","⑫","⑬",null,null,null,null,null,null,null,null,null,null,null,null,null,"a)","b)","c)","d)"]
[null,null,null,null,"省ｴﾈ機器",null,"省ｴﾈ住宅",null,"ｴｺｶｰ",null,"ｸｰﾙﾋﾞｽﾞ",null,"ｳｫｰﾑﾋﾞｽﾞ",null,"照明の\n高効率利用",null,"ｴｺﾄﾞﾗｲﾌﾞ",null,"ｶｰｼｪｱ",null,"ｽﾏｰﾄﾑｰﾌﾞ",null,"再配達防止",null,"再エネ",null,"食品ロス",null,null,null,"省ｴﾈ機器","省ｴﾈ住宅","ｴｺｶｰ","ｸｰﾙﾋﾞｽﾞ","ｳｫｰﾑﾋﾞｽﾞ","照明の\n高効率利用","ｴｺﾄﾞﾗｲﾌﾞ","ｶｰｼｪｱ","ｽﾏｰﾄﾑｰﾌﾞ","再配達防止","再エネ","食品ロス","その他",null,null,null,null,null,null,null,null,null,null,null,null,null,false,false,false,false,{"$f":"COUNTIFS($BE724:$BH724,\"TRUE\")","v":0}]
[null,null,null,null,null,null,null,null,null,null,null,null,null,null,null,null,null,null,null,null,null,null,null,null,null,null,null,null,null,null,false,false,false,false,false,false,false,false,false,false,false,false,false,null,null,null,null,null,null,null,null,null,null,null,{"$f":"COUNTIFS($AE725:$BB725,\"TRUE\")","v":0}]
[null,null,null,null,"⑬",null,"↓ ※①～⑫以外のテーマを設定する場合、具体的に記載してください。"]
[null,null,null,null,"その他"]
[]
[null,null,"訴求手法",null,"※訴求手法については、該当する欄にチェックしてください。"]
[null,null,null,null,"a) 情報発信型（受動型）",null,null,null,null,null,null,null,"b) 情報発信型（能動型）",null,null,null,null,null,null,null,"c) 双方向体験交流型"]
[null,null,null,null,"ラジオ、新聞・広報紙等",null,null,null,null,null,null,null,"講演会・パネル展示等",null,null,null,null,null,null,null,"試乗・体験会、省ｴﾈ診断等"]
[]
[null,null,null,null,"d) 双方向ＷＥＢ等配信型",null,null,null,null,null,null,null,"※d) については使用する媒体等を記載してください。"]
[null,null,null,null,"（新手法）"]
[]
[null,null,"実施期間",null,null,null,null,null,null,null,null,null,null,null,"～"]
[null,null,"（備考）"]
[null,null,"実施日\n（※同一事業内で、\n同一の内容・場所において\n複数日実施する場合）",null,1,null,null,null,null,null,null,null,null,null,null,null,6]
[null,null,null,null,2,null,null,null,null,null,null,null,null,null,null,null,7]
[null,null,null,null,3,null,null,null,null,null,null,null,null,null,null,null,8]
[null,null,null,null,4,null,null,null,null,null,null,null,null,null,null,null,9]
[null,null,null,null,5,null,null,null,null,null,null,null,null,null,null,null,10]
[null,null,"事業の概要"]
[null,null,"地域団体との連携"]
[null,null,"効果的な\n実施の\nための工夫","主な訴求対象"]
[null,null,null,"訴求メッセージ"]
[null,null,null,"事業実施時期の\n設定根拠"]
[null,null,null,"具体的な訴求方法\n・\nその他の工夫"]
[null,null,"目標アウトプット\n（リーチ数）\n（想定及び実績）",null,"昨年度実績",null,null,null,"計",null,0]
[null,null,null,null,"昨年度実績算出根拠"]
[null,null,null,null,"想定",null,null,null,"計",null,0]
[null,null,null,null,"算出方法"]
[null,null,"目標アウトカム（想定及び実績）\n※記載は任意"]
[null,null,"エネルギー起源CO2排出削減量（想定）",null,"CO2排出削減量",null,null,null,null,null,null,null,null,null,"（t-CO2）"]
[null,null,null,null,"測定方法\n（計算式、\n根拠資料等）"]
[]
[]
[]
[null,null,"賛同数（想定及び実績）",null,"昨年度実績",null,null,null,"団体",null,0,null,null,null,null,"、個人",null,0]
[null,null,null,null,"想定",null,null,null,"団体",null,0,null,null,null,null,"、個人",null,0]
[null,null,"効果検証\n（アンケート）予定",null,"※アンケートの実施予定をプルダウンより選択してください。"]
[null,null,null,null,"公募要領に規定のアンケート"]
[null,null,null,null,"省エネ機器",null,null,"省エネ住宅",null,null,"エコカー",null,null,"クールビズ",null,null,"ウォームビズ",null,null,"照明の\n効率的利用",null,null,"ｴｺﾄﾞﾗｲﾌﾞ",null,null,"カーシェア"]
[null,null,null,null,"- 選択 -",null,null,"- 選択 -",null,null,"- 選択 -",null,null,"- 選択 -",null,null,"- 選択 -",null,null,"- 選択 -",null,null,"- 選択 -",null,null,"- 選択 -"]
[null,null,null,null,"公募要領に規定のアンケート",null,null,null,null,null,null,null,null,null,null,null,"貴事業者独自のアンケート"]
[null,null,null,null,"ｽﾏｰﾄﾑｰﾌﾞ",null,null,"低炭素物流",null,null,"再エネ",null,null,"食品ロス"]
[null,null,null,null,"- 選択 -",null,null,"- 選択 -",null,null,"- 選択 -",null,null,"- 選択 -",null,null,"- 選択 -"]
[null,null,null,null,"内容（",null,null,null,null,null,null,null,null,null,null,null,null,null,null,null,null,null,null,null,null,null,null,"）"]
[null,null,null,null,"昨年度実績",null,null,null,"計",0,null,null,"枚",null,"※複数ある場合は、アンケート合計回収数"]
[null,null,null,null,"目標回収数",null,null,null,"計",0,null,null,"枚",null,"※複数ある場合は、アンケート合計回収数"]
[]
[null,null,"項目",null,"内容"]
[null,null,"事業15","事業名"]
[null,null,"普及啓発テーマ",null,"※公募要領　別表第１　で対象とする間接補助事業の内容に合致していること。\n※該当するテーマすべてをチェックしてください。"]
[null,null,null,null,"①",null,"②",null,"③",null,"④",null,"⑤",null,"⑥",null,"⑦",null,"⑧",null,"⑨",null,"⑩",null,"⑪",null,"⑫",null,null,null,"①","②","③","④","⑤","⑥","⑦","⑧","⑨","⑩","⑪","⑫","⑬",null,null,null,null,null,null,null,null,null,null,null,null,null,"a)","b)","c)","d)"]
[null,null,null,null,"省ｴﾈ機器",null,"省ｴﾈ住宅",null,"ｴｺｶｰ",null,"ｸｰﾙﾋﾞｽﾞ",null,"ｳｫｰﾑﾋﾞｽﾞ",null,"照明の\n高効率利用",null,"ｴｺﾄﾞﾗｲﾌﾞ",null,"ｶｰｼｪｱ",null,"ｽﾏｰﾄﾑｰﾌﾞ",null,"再配達防止",null,"再エネ",null,"食品ロス",null,null,null,"省ｴﾈ機器","省ｴﾈ住宅","ｴｺｶｰ","ｸｰﾙﾋﾞｽﾞ","ｳｫｰﾑﾋﾞｽﾞ","照明の\n高効率利用","ｴｺﾄﾞﾗｲﾌﾞ","ｶｰｼｪｱ","ｽﾏｰﾄﾑｰﾌﾞ","再配達防止","再エネ","食品ロス","その他",null,null,null,null,null,null,null,null,null,null,null,null,null,false,false,false,false,{"$f":"COUNTIFS($BE776:$BH776,\"TRUE\")","v":0}]
[null,null,null,null,null,null,null,null,null,null,null,null,null,null,null,null,null,null,null,null,null,null,null,null,null,null,null,null,null,null,false,false,false,false,false,false,false,false,false,false,false,false,false,null,null,null,null,null,null,null,null,null,null,null,{"$f":"COUNTIFS($AE777:$BB777,\"TRUE\")","v":0}]
[null,null,null,null,"⑬",null,"↓ ※①～⑫以外のテーマを設定する場合、具体的に記載してください。"]
[null,null,null,null,"その他"]
[]
[null,null,"訴求手法",null,"※訴求手法については、該当する欄にチェックしてください。"]
[null,null,null,null,"a) 情報発信型（受動型）",null,null,null,null,null,null,null,"b) 情報発信型（能動型）",null,null,null,null,null,null,null,"c) 双方向体験交流型"]
[null,null,null,null,"ラジオ、新聞・広報紙等",null,null,null,null,null,null,null,"講演会・パネル展示等",null,null,null,null,null,null,null,"試乗・体験会、省ｴﾈ診断等"]
[]
[null,null,null,null,"d) 双方向ＷＥＢ等配信型",null,null,null,null,null,null,null,"※d) については使用する媒体等を記載してください。"]
[null,null,null,null,"（新手法）"]
[]
[null,null,"実施期間",null,null,null,null,null,null,null,null,null,null,null,"～"]
[null,null,"（備考）"]
[null,null,"実施日\n（※同一事業内で、\n同一の内容・場所において\n複数日実施する場合）",null,1,null,null,null,null,null,null,null,null,null,null,null,6]
[null,null,null,null,2,null,null,null,null,null,null,null,null,null,null,null,7]
[null,null,null,null,3,null,null,null,null,null,null,null,null,null,null,null,8]
[null,null,null,null,4,null,null,null,null,null,null,null,null,null,null,null,9]
[null,null,null,null,5,null,null,null,null,null,null,null,null,null,null,null,10]
[null,null,"事業の概要"]
[null,null,"地域団体との連携"]
[null,null,"効果的な\n実施の\nための工夫","主な訴求対象"]
[null,null,null,"訴求メッセージ"]
[null,null,null,"事業実施時期の\n設定根拠"]
[null,null,null,"具体的な訴求方法\n・\nその他の工夫"]
[null,null,"目標アウトプット\n（リーチ数）\n（想定及び実績）",null,"昨年度実績",null,null,null,"計",null,0]
[null,null,null,null,"昨年度実績算出根拠"]
[null,null,null,null,"想定",null,null,null,"計",null,0]
[null,null,null,null,"算出方法"]
[null,null,"目標アウトカム（想定及び実績）\n※記載は任意"]
[null,null,"エネルギー起源CO2排出削減量（想定）",null,"CO2排出削減量",null,null,null,null,null,null,null,null,null,"（t-CO2）"]
[null,null,null,null,"測定方法\n（計算式、\n根拠資料等）"]
[]
[]
[]
[null,null,"賛同数（想定及び実績）",null,"昨年度実績",null,null,null,"団体",null,0,null,null,null,null,"、個人",null,0]
[null,null,null,null,"想定",null,null,null,"団体",null,0,null,null,null,null,"、個人",null,0]
[null,null,"効果検証\n（アンケート）予定",null,"※アンケートの実施予定をプルダウンより選択してください。"]
[null,null,null,null,"公募要領に規定のアンケート"]
[null,null,null,null,"省エネ機器",null,null,"省エネ住宅",null,null,"エコカー",null,null,"クールビズ",null,null,"ウォームビズ",null,null,"照明の\n効率的利用",null,null,"ｴｺﾄﾞﾗｲﾌﾞ",null,null,"カーシェア"]
[null,null,null,null,"- 選択 -",null,null,"- 選択 -",null,null,"- 選択 -",null,null,"- 選択 -",null,null,"- 選択 -",null,null,"- 選択 -",null,null,"- 選択 -",null,null,"- 選択 -"]
[null,null,null,null,"公募要領に規定のアンケート",null,null,null,null,null,null,null,null,null,null,null,"貴事業者独自のアンケート"]
[null,null,null,null,"ｽﾏｰﾄﾑｰﾌﾞ",null,null,"低炭素物流",null,null,"再エネ",null,null,"食品ロス"]
[null,null,null,null,"- 選択 -",null,null,"- 選択 -",null,null,"- 選択 -",null,null,"- 選択 -",null,null,"- 選択 -"]
[null,null,null,null,"内容（",null,null,null,null,null,null,null,null,null,null,null,null,null,null,null,null,null,null,null,null,null,null,"）"]
[null,null,null,null,"昨年度実績",null,null,null,"計",0,null,null,"枚",null,"※複数ある場合は、アンケート合計回収数"]
[null,null,null,null,"目標回収数",null,null,null,"計",0,null,null,"枚",null,"※複数ある場合は、アンケート合計回収数"]
[]
[]
[null,"②【地域地球温暖化防止活動推進員、活動団体等の支援】（第38条第2項第1号後段）"]
[]
[]
[]
[]
[]
[null,"③【日常生活に関する温室効果ガス排出抑制措置等についての相談対応、助言】（第38条第2項第2号）"]
[]
[]
[]
[]
[]
[null,"④ 【地域の温室効果ガス排出に関する実態調査（調査協力含む）、情報収集・分析、成果の発信】"]
[null,"（第38条第2項第3号、第4号）"]
[]
[]
[]
[]
[]
[null,"⑤【指定団体等への施策の協力】（第38条第2項第5号）"]
[]
[]
[]
[]
[]
[null,"⑥【附帯する事業】（第38条第2項第6号）"]
[]
[]
[]
[]
[]
[null,"＜事業の効果＞"]
[null,"※事業をどのような目標をもって取組むか、具体的な目標を設定しその算出方法や実施方法等を示す。"]
[]
[null,"【事業効果の目標】"]
[null,null,"A) エネルギー起源CO2排出削減量："]
[null,null,"①～⑤エネルギー起源CO2排出削減量",null,null,null,{"$f":"$G$911+$G$912","v":0},null,null,null,"（t-CO2）"]
[null,null,"エネルギー起源CO2排出削減量",null,null,null,{"$f":"SUM($I$78,$I$130,$I$182,$I$234,$I$286,$I$338,$I$390,$I$442,$I$494,$I$546,$I$598,$I$650,$I$702,$I$754,$I$806)","v":0},null,null,null,"（t-CO2）"]
[null,null,"②～⑤エネルギー起源CO2排出削減量",null,null,null,null,null,null,null,"（t-CO2）"]
[null,null,"測定方法\n（計算式、根拠資料等）"]
[]
[]
[]
[]
[]
[null,null,"※CO2排出削減量を、どの業務（②～⑤）でどのような方法により算出するかを記入する。"]
[]
[null,null,"B) 事業全体におけるCOOL CHOICE賛同数："]
[null,null,"賛同数\n目標","賛同団体",null,null,{"$f":"SUM($K$84,$K$136,$K$188,$K$240,$K$292,$K$344,$K$396,$K$448,K$500,$K$552,$K$604,$K$656,$K$708,$K$760,$K$812)","v":0},null,null,null,"（社）"]
[null,null,null,"賛同者数（個人）",null,null,{"$f":"SUM($R$84,$R$136,$R$188,$R$240,$R$292,$R$344,$R$396,$R$448,R$500,$R$552,$R$604,$R$656,$R$708,$R$760,$R$812)","v":0},null,null,null,"（人）"]
[null,null,"測定方法\n（計算式、根拠資料等）"]
[]
[]
[]
[]
[]
[]
[null,null,"B) 事業全体における普及啓発の規模（リーチ数）："]
[null,null,"規模（リーチ数）",null,null,null,{"$f":"SUM(K75,K127,K179,K231,K283,K335,K387,K439,K491,K543,K595,K647,K699,K751,K803)","v":0},null,null,null,"（人）"]
[null,null,"アンケート回収数",null,null,null,{"$f":"SUM(J94,J146,J198,J250,J302,J354,J406,J458,J510,J562,J614,J666,J718,J770,J822)","v":0},null,null,null,"（人）"]
[null,null,"測定方法\n（計算式、根拠資料等）"]
[]
[]
[]
[]
[]
[]
[null,"＜市町村長の取組宣言等＞"]
[null,"市町村長の取組宣言がどのように行われたかを記載してください。\n例：○月○日　記者会見、議会、広報紙等。\n応募者が民間企業・団体の場合は、応募者自身の取組状況について記載してください。\nまた、当該取組宣言の証拠書類を添付してください。例：HPの写し等。"]
[]
[]
[]
[]
[]
[null,"＜事業の実施体制＞"]
[null,"※補助事業の実施体制について、補助事業者内の事業実施・経理等の体制及び外部関係者との協力・連携の\n内容・体制を記入する（別紙添付でも可）。"]
[]
[]
[]
[]
[null,"＜事業実施に関連する事項＞"]
[null,"【他の補助金との関係】"]
[null,"※他の国の補助金等（固定価格買取制度を含む。）への応募状況等を記入する。"]
[]
[]
[]
[]
[null,"＜事業実施スケジュール＞"]
[null,"※事業の実施スケジュールを記入する。\n※実施スケジュールは別紙を添付してもよい。\n"]
[]
[]
[]
[]
[null,null,"注１　記入欄が少ない場合は、本様式を引き伸ばして使用する。"]
[]
[]
[]
[]
[]
[]
[]
[]
[]
[]
[]
[]
[]
[]
[]
[]
[]
[]
[]
[]
[]
[]
[]
[]
[]
[]
[]
[]
[]
[]
[]
[]
[]
[]
[]
[]
[]
[]
[]
[]
[]
[]
[]
[]
[]
[]
[]
[]
[]
[]
[]
[]
[]
[]
[]
[]
[]
[]
[]
[]
[]
[]
[]
[]
[]
[]
[]
[]
[]
[]
[]
[]
[]
[]
[]
[]
[]
[]
[]
[]
[]
[]
[]
[]
[]
[]
[]
[]
[]
[]
[]
[]
[]
[]
[]
[]
[]
[]
[]
[]
[]
[]
[]
[]
[]
[]
[]
[]
[]
[]
[]
[]
[]
[]
[]
[]
[]
[]
[]
[]
[]
[]
[]
[]
[]
[]
[]
[]
[]
[]
[]
[]
[]
[]
[]
[]
[]
[]
[]
[]
[]
[]
[]
[]
[]
[]
[]
[]
[]
[]
[]
[]
[]
[]
[]
[]
[]
[]
[]
[]
[]
[]
[]
[]
[]
[]
[]
[]
[]
[]
[]
[]
[]
[]
[]
[]
[]
[]
[]
[]
[]
[]
[]
[]
[]
[]
[]
[]
[]
[]
[]
[]
[]
[]
[]
[]
[]
[]
[]
[]
[]
[]
[]
[]
[]
[]
[]
[]
[]
[]
[]
[]
[]
[]
[]
[]
[]
[]
[]
[]
[]
[]
[]
[]
[]
[]
[]
[]
[]
[]
[]
[]
[]
[]
[]
[]
[]
[]
[]
[]
[]
[]
[]
[]
[]
[]
[]
[]
[]
[]
[]
[]
[]
[]
[]
[]
[]
[]
[]
[]
[]
[]
[]
[]
[]
[]
[]
[]
[]
[]
[]
[]
[]
[]
[]
[]
[]
[]
[]
[]
[]
[]
[]
[]
[]
[]
[]
[]
[]
[]
[]
[]
[]
[]
[]
[]
[]
[]
[]
[]
[]
[]
[]
[]
[]
[]
[]
[]
[]
[]
[]
[]
[]
[]
[]
[]
[]
[]
[]
[]
[]
[]
[]
[]
[]
[]
[]
[]
[]
[]
[]
[]
[]
[]
[]
[]
[]
[]
[]
[]
[]
[]
[]
[]
[]
[]
[]
[]
[]
[]
[]
[]
[]
[]
[]
[]
[]
[]
[]
[]
[]
[]
[]
[]
[]
[]
[]
[]
[]
[]
[]
[]
[]
[]
[]
[]
[]
[]
[]
[]
[]
[]
[]
[]
[]
[]
[]
[]
[]
[]
[]
[]
[]
[]
[]
[]
[]
[]
[]
[]
[]
[]
[]
[]
[]
[]
[]
[]
[]
[]
[]
[]
[]
[]
[]
[]
[]
[]
[]
[]
[]
[]
[]
[]
[]
[]
[]
[]
[]
[]
[false]

{"sheet":"別紙２_経費内訳","index":10,"n_rows":41,"n_cols":30,"rows_kept":41,"cut":false,"hidden":true,"merged":[[39,1,39,7],[38,13,38,23],[39,13,39,23],[39,8,39,12],[38,8,38,12],[7,20,7,23],[37,13,37,23],[36,13,36,23],[7,15,7,18],[3,1,3,23],[26,13,26,23],[35,13,35,23],[35,8,35,12],[8,19,8,23],[8,4,8,8],[5,10,5,13],[32,8,32,12],[31,13,31,23],[32,13,32,23],[29,8,29,12],[11,13,11,23],[8,9,8,13],[8,14,8,18],[5,1,9,3],[40,1,40,23],[5,5,5,8],[5,15,5,18],[5,20,5,23],[6,4,6,8],[6,9,6,13],[6,14,6,18],[6,19,6,23],[9,4,9,8],[9,9,9,13],[9,14,9,18],[9,19,9,23],[22,8,22,12],[22,13,22,23],[23,8,23,12],[23,13,23,23],[1,1,1,23],[2,1,2,23],[7,10,7,13],[7,5,7,8],[14,8,14,12],[13,8,13,12],[13,13,13,23],[14,13,14,23],[12,8,12,12],[12,13,12,23],[11,1,11,7],[11,8,11,12],[16,8,16,12],[15,8,15,12],[15,13,15,23],[16,13,16,23],[17,8,17,12],[17,13,17,23],[10,1,10,23],[36,8,36,12],[37,8,37,12],[18,13,18,23],[18,8,18,12],[19,8,19,12],[20,8,20,12],[34,13,34,23],[19,13,19,23],[20,13,20,23],[34,8,34,12],[30,13,30,23],[26,8,26,12],[33,13,33,23],[21,8,21,12],[21,13,21,23],[31,8,31,12],[33,8,33,12],[24,8,24,12],[27,8,27,12],[24,13,24,23],[25,13,25,23],[27,13,27,23],[28,13,28,23],[29,13,29,23],[28,8,28,12],[30,8,30,12],[25,8,25,12]]}
[]
[null,"別紙２"]
[null,"地方と連携した地球温暖化対策活動推進事業に要する経費内訳"]
[null,"(地方公共団体と連携したCO2排出削減促進事業)"]
[]
[null,"所要経費",null,null,"(1)","総事業費",null,null,null,"(2)","寄付金その他の収入",null,null,null,"(3)","差引額\n(1)－(2)",null,null,null,"(4)","補助対象経費支出予定額"]
[null,null,null,null,{"$f":"I40","v":0},null,null,null,null,{"$f":"別紙２_経費内訳_応募申請!J8","v":0},null,null,null,null,{"$f":"E7-J7","v":0},null,null,null,null,0]
[null,null,null,null,"(5)","基準額",null,null,null,"(6)","選定額",null,null,null,"(7)","補助基本額",null,null,null,"(8)","補助金所要額"]
[null,null,null,null,null,null,null,null,null,"(4)と(5)を比較して少ない方の額",null,null,null,null,"(3)と(6)を比較して少ない方の額",null,null,null,null,"(7)の額×補助率\n(千円未満切捨)",null,null,null,null,null,"申請者種別"]
[null,null,null,null,{"$f":"IF(Z10=4,5000000,8000000)","v":8000000},null,null,null,null,{"$f":"IF(T7>E10,E10,T7)","v":0},null,null,null,null,{"$f":"IF(O7>J10,J10,O7)","v":0},null,null,null,null,{"$f":"ROUNDDOWN(O10*IF(OR(Z10=4,Z10=5),1,0.75),-3)","v":0},null,null,null,null,null,{"$f":"様式第１_応募申請書!AA35","v":5}]
[null,"補助対象経費支出予定額内訳",null,null,null,null,null,null,null,null,null,null,null,null,null,null,null,null,null,null,null,null,null,null,null,"番号","区分","分類","補助率","基準額"]
[null,"経費区分・費目",null,null,null,null,null,null,"金　　額",null,null,null,null,"積　　算　　内　　訳",null,null,null,null,null,null,null,null,null,null,null,1,"政令指定都市","ア",0.75,"800万円"]
[null,"（記載例）",null,null,null,null,null,null,null,null,null,null,null,null,null,null,null,null,null,null,null,null,null,null,null,2,"特別区","ア",0.75,"800万円"]
[null,null,null,null,null,null,null,null,null,null,null,null,null,null,null,null,null,null,null,null,null,null,null,null,null,3,"中核市","ア",0.75,"800万円"]
[null,"人件費",null,null,null,null,null,null,null,null,null,null,null,null,null,null,null,null,null,null,null,null,null,null,null,4,"ア以外の市町村","イ","定額","500万円"]
[null,null,null,null,null,null,null,null,null,null,null,null,null,null,null,null,null,null,null,null,null,null,null,null,null,5,"民間企業・団体","ウ","定額","800万円"]
[null,"業務費"]
[null,null,"・賃金"]
[null,null,"・諸謝金"]
[null,null,"・旅費"]
[]
[]
[]
[]
[]
[]
[]
[]
[]
[]
[]
[]
[]
[]
[]
[]
[]
[]
[]
[null,"合　　計",null,null,null,null,null,null,{"$f":"SUBTOTAL(9,I13:M39)","v":0}]
[null,"注　本内訳に、見積書又は計算書等を添付する。"]

{"sheet":"様式第１０_完了実績報告書","index":11,"n_rows":44,"n_cols":23,"rows_kept":44,"cut":false,"hidden":true,"merged":[[10,8,10,11],[12,8,12,11],[13,8,13,11],[13,13,13,15],[23,2,23,22],[15,2,15,22],[16,2,16,22],[17,2,17,22],[19,2,19,22],[21,2,21,22],[10,13,11,21],[12,13,12,21],[13,17,13,21],[6,2,6,11],[7,2,7,11],[1,2,1,22],[4,16,4,17],[3,16,3,17],[3,18,3,22],[43,3,43,4],[33,2,33,22],[35,2,35,22],[37,2,37,22],[39,14,39,15],[41,2,41,22],[25,12,25,13],[25,5,25,9],[26,12,26,16],[31,2,31,22],[39,4,39,5],[29,2,29,22]]}
[]
[null,null,"様式第１０（第１１条関係）"]
[]
[null,null,null,null,null,null,null,null,null,null,null,null,null,null,null,null,"番号："]
[null,null,null,null,null,null,null,null,null,null,null,null,null,null,null,null,null,null,"年",null,"月",null,"日"]
[]
[null,null,"一般社団法人地域循環共生社会連携協会"]
[null,null,"　代表理事　　岡　本　　光　司　　殿"]
[]
[]
[null,null,"　　　　　　　　　　　          　申請者　住　　　　所",null,null,null,null,"補助事業者","住所",null,null,null,null,{"$f":"様式第１_交付申請書!N11","v":0}]
[]
[null,null,null,null,null,null,null,null,"氏名又は名称",null,null,null,null,{"$f":"様式第１_交付申請書!N13","v":""}]
[null,null,null,null,null,null,null,null,"代表者の職・氏名",null,null,null,null,{"$f":"様式第１_交付申請書!N14","v":""},null,null,"・",{"$f":"様式第１_交付申請書!R14","v":""}]
[]
[null,null,"令和３年度二酸化炭素排出抑制対策事業費等補助金"]
[null,null,"(地方公共団体と連携したCO2排出削減促進事業)"]
[null,null,"完了実績報告書"]
[]
[null,null,"　令和　年　　月　　日付け低炭社協事第         号で交付決定の通知を受けた二酸化炭素排出抑制対策事業費等補助金（地方と連携した地球温暖化対策活動推進事業）を完了（中止・廃止）しましたので、令和３年度二酸化炭素排出抑制対策事業費等補助金（地方と連携した地球温暖化対策活動推進事業）交付規程第１１条第１項の規定に基づき下記のとおり報告します。"]
[]
[null,null,"記"]
[]
[null,null,"１　補助金の交付決定額及び交付決定年月日"]
[]
[null,null,null,null,"金　　　　　　　　　　　",null,null,null,null,null,"円","(",null,null,"年",null,"月",null,"日","）"]
[null,null,"　　（うち消費税及び地方消費税相当額  　　　　　　　　",null,null,null,null,null,null,null,null,null,null,null,null,null,null,"円）"]
[]
[]
[null,null,"２　補助事業の実施状況"]
[]
[null,null,"      　別紙１　実施報告書のとおり"]
[]
[null,null,"３　補助金の経費収支実績"]
[]
[null,null,"      　別紙２　経費所要額精算調書のとおり"]
[]
[null,null,"４　補助事業の実施期間"]
[]
[null,null,null,null,null,null,"年",null,"月",null,"日",null,"～",null,{"$f":"様式第１_交付申請書!K38","v":0},null,"年",{"$f":"様式第１_交付申請書!N38","v":0},"月",{"$f":"様式第１_交付申請書!P38","v":0},"日"]
[]
[null,null,"５　添付資料"]
[]
[null,null,null,"（１）",null,"その他参考資料（領収書等含む。）"]

{"sheet":"別紙１_実施報告書","index":12,"n_rows":1021,"n_cols":61,"rows_kept":1021,"cut":false,"hidden":true,"merged":[[674,18,674,27],[523,4,523,6],[490,18,490,27],[528,4,528,7],[519,10,519,13],[519,17,519,20],[534,14,534,15],[647,10,647,12],[651,4,651,7],[651,9,651,11],[523,7,523,9],[601,2,607,3],[534,22,534,23],[547,14,547,17],[543,20,543,27],[535,16,535,17],[499,2,505,3],[547,4,547,13],[547,18,547,27],[532,4,532,27],[534,4,534,5],[534,10,534,11],[539,4,539,5],[534,8,534,9],[534,20,534,21],[523,10,523,12],[509,4,512,7],[514,8,517,27],[499,4,499,7],[507,4,507,7],[545,12,546,27],[543,12,543,19],[628,4,628,7],[628,8,628,27],[523,16,523,18],[518,10,518,13],[530,2,530,25],[614,6,614,15],[562,8,562,9],[535,22,535,23],[547,2,547,3],[665,4,665,11],[689,4,689,7],[666,4,666,11],[666,12,666,27],[687,4,687,7],[677,4,677,27],[669,4,669,13],[661,4,661,5],[534,16,534,17],[680,4,680,27],[675,18,675,27],[705,13,705,15],[597,16,597,17],[613,6,613,15],[625,8,625,9],[696,4,696,7],[664,4,664,11],[552,18,552,27],[584,25,584,27],[595,20,595,21],[590,4,590,7],[582,4,582,27],[644,22,644,24],[644,25,644,27],[645,4,645,6],[656,26,656,27],[705,25,705,27],[689,8,689,27],[608,4,608,13],[584,19,584,21],[595,22,595,23],[567,8,567,27],[568,4,568,7],[706,25,706,27],[687,8,687,27],[550,4,550,5],[565,4,565,7],[565,8,565,27],[566,4,566,7],[566,8,566,27],[555,2,555,3],[676,2,676,3],[677,2,677,3],[682,2,688,3],[669,14,669,17],[691,2,700,3],[692,4,695,7],[706,7,706,9],[696,8,696,13],[703,4,703,27],[706,16,706,18],[706,19,706,21],[706,22,706,24],[569,2,578,3],[579,2,580,3],[559,4,559,27],[595,14,595,15],[595,10,595,11],[554,4,554,27],[553,18,553,27],[584,16,584,18],[664,20,664,27],[657,4,657,5],[739,2,740,3],[728,4,728,11],[728,12,729,27],[729,4,729,11],[709,16,709,27],[750,8,750,27],[743,4,743,7],[743,8,743,9],[708,10,708,12],[717,22,717,23],[722,4,722,5],[724,12,724,19],[724,20,724,27],[738,4,738,27],[739,4,740,27],[737,2,737,3],[738,2,738,3],[734,6,734,15],[732,18,732,27],[743,10,743,12],[717,18,717,19],[717,20,717,21],[745,4,745,7],[718,26,718,27],[730,4,730,13],[719,26,719,27],[726,20,726,27],[717,26,717,27],[718,6,718,7],[736,16,736,17],[717,24,717,25],[717,4,717,5],[642,2,651,3],[718,10,718,11],[718,12,718,13],[718,14,718,15],[627,8,627,27],[597,24,597,25],[631,4,634,7],[631,8,634,27],[685,8,685,27],[688,8,688,27],[686,4,686,7],[669,18,669,27],[718,24,718,25],[724,4,724,11],[717,14,717,15],[717,16,717,17],[613,16,613,17],[624,4,624,7],[657,6,657,7],[658,6,658,7],[642,4,642,27],[675,16,675,17],[682,4,682,7],[690,4,690,7],[673,6,673,15],[645,16,645,18],[645,19,645,21],[649,6,649,26],[710,6,710,26],[711,4,711,7],[711,9,711,11],[712,9,712,11],[8,10,8,18],[8,19,8,21],[6,1,17,2],[6,3,6,28],[7,4,7,18],[7,19,7,28],[8,4,8,8],[18,1,25,2],[18,3,19,3],[18,4,18,28],[19,4,19,8],[19,9,19,15],[19,16,19,21],[19,22,19,28],[20,3,21,3],[20,4,21,8],[20,9,21,15],[20,16,20,21],[20,22,21,28],[21,16,21,21],[22,3,23,3],[22,4,23,8],[22,9,23,15],[22,16,22,21],[22,22,23,28],[23,16,23,21],[24,3,25,3],[24,4,25,8],[24,9,25,15],[24,16,24,21],[24,22,25,28],[8,22,8,28],[371,2,371,3],[366,2,370,3],[488,18,488,27],[587,16,587,27],[9,19,10,28],[10,4,10,8],[10,9,10,18],[11,3,11,28],[12,4,12,18],[12,19,12,28],[13,3,15,3],[13,4,13,8],[13,9,13,18],[13,19,13,21],[13,22,13,28],[14,4,14,8],[14,9,14,18],[14,19,15,28],[15,4,15,8],[15,9,15,18],[9,4,9,8],[9,9,9,18],[373,2,374,3],[548,4,548,27],[562,4,562,7],[398,2,407,3],[398,4,398,27],[399,4,399,27],[411,2,417,3],[415,4,415,5],[416,4,416,5],[417,4,417,5],[856,16,856,17],[879,8,879,13],[880,4,883,7],[880,8,883,27],[404,13,404,15],[405,6,405,26],[406,4,406,7],[648,16,648,27],[624,8,624,27],[647,7,647,9],[645,22,645,24],[357,2,363,3],[423,4,423,11],[342,7,342,9],[621,2,627,3],[647,13,647,15],[585,4,585,15],[585,16,586,27],[641,10,641,13],[629,4,629,7],[629,8,629,27],[640,4,640,7],[640,10,640,13],[587,4,587,6],[640,17,640,20],[641,4,641,7],[630,8,630,13],[641,17,641,20],[606,12,607,27],[554,2,554,3],[477,4,477,5],[474,14,474,15],[748,4,748,7],[767,22,767,24],[765,4,765,27],[757,8,757,13],[767,16,767,18],[16,4,16,8],[16,9,16,18],[16,19,16,28],[17,4,17,8],[889,22,889,24],[889,25,889,27],[891,4,891,6],[891,7,891,9],[782,4,782,5],[783,4,783,5],[770,7,770,9],[811,4,811,7],[811,8,811,27],[708,13,708,15],[709,4,709,6],[884,17,884,20],[852,14,852,17],[854,4,854,5],[854,16,854,17],[607,4,607,11],[542,20,542,27],[535,8,535,9],[25,16,25,21],[705,10,705,12],[690,8,690,27],[635,8,635,13],[636,4,639,7],[955,9,955,11],[956,4,956,7],[956,9,956,11],[954,6,954,26],[951,4,951,15],[951,16,952,27],[953,16,953,27],[946,4,946,7],[946,10,946,13],[921,4,921,27],[922,4,923,27],[924,4,924,27],[17,9,17,18],[17,19,17,28],[300,4,300,11],[300,12,300,27],[301,4,301,11],[952,7,952,9],[952,10,952,12],[952,13,952,15],[953,4,953,6],[953,7,953,9],[946,17,946,20],[535,10,535,11],[535,12,535,13],[535,24,535,25],[537,4,537,5],[538,4,538,5],[403,4,403,6],[364,18,364,27],[369,4,369,5],[383,8,383,27],[869,8,869,9],[871,4,871,7],[884,10,884,13],[863,4,863,27],[864,4,864,27],[892,16,892,27],[890,4,890,15],[890,16,891,27],[903,6,903,27],[947,2,956,3],[947,4,947,27],[948,4,948,27],[949,4,949,6],[949,7,949,9],[949,10,949,12],[949,13,949,15],[949,16,949,18],[949,19,949,21],[949,22,949,24],[949,25,949,27],[950,4,950,6],[950,7,950,9],[950,10,950,12],[950,13,950,15],[950,16,950,18],[950,19,950,21],[950,22,950,24],[950,25,950,27],[952,4,952,6],[953,10,953,12],[953,13,953,15],[955,4,955,7],[823,2,824,3],[891,13,891,15],[910,4,910,11],[910,12,910,27],[867,10,867,12],[810,8,810,27],[901,16,901,17],[901,18,901,19],[889,7,889,9],[770,4,770,6],[823,17,823,20],[830,7,830,9],[929,4,929,7],[928,8,928,9],[928,10,928,12],[929,8,929,27],[856,18,856,27],[857,18,857,27],[858,18,858,27],[857,4,857,5],[857,16,857,17],[897,2,897,3],[899,2,905,3],[900,16,900,17],[900,18,900,19],[884,2,885,3],[884,4,884,7],[899,4,899,27],[901,8,901,9],[901,10,901,11],[888,4,888,6],[902,12,902,13],[804,2,810,3],[804,4,804,7],[825,2,834,3],[888,16,888,18],[888,25,888,27],[889,4,889,6],[885,10,885,13],[863,2,864,2],[870,8,870,27],[811,2,812,3],[808,4,808,7],[808,8,808,9],[808,10,808,12],[813,8,813,13],[814,4,817,7],[814,8,817,27],[818,4,818,7],[818,8,818,13],[819,4,822,7],[819,8,822,27],[830,10,830,12],[830,13,830,15],[823,10,823,13],[874,8,874,13],[875,4,878,7],[875,8,878,27],[838,2,844,3],[842,4,842,5],[843,4,843,5],[844,4,844,5],[831,4,831,6],[831,7,831,9],[802,2,803,2],[610,4,610,5],[613,4,613,5],[646,4,646,15],[646,16,647,27],[705,4,705,6],[705,7,705,9],[704,4,704,27],[662,2,668,3],[688,4,688,7],[692,8,695,27],[662,4,662,27],[702,4,702,7],[702,17,702,20],[663,4,663,11],[674,6,674,15],[650,4,650,7],[650,9,650,11],[652,2,652,25],[653,2,653,3],[657,10,657,11],[655,2,661,3],[640,2,641,3],[653,4,653,27],[648,7,648,9],[769,7,769,9],[744,4,744,7],[767,19,767,21],[764,2,773,3],[768,4,768,15],[770,13,770,15],[766,16,766,18],[520,2,529,3],[520,4,520,27],[521,4,521,27],[522,4,522,6],[522,7,522,9],[522,10,522,12],[522,13,522,15],[522,16,522,18],[522,19,522,21],[522,22,522,24],[489,4,489,5],[514,4,517,7],[531,2,531,3],[499,8,499,9],[499,10,499,12],[501,10,501,12],[500,4,500,7],[523,19,523,21],[513,4,513,7],[529,4,529,7],[527,6,527,26],[489,18,489,27],[492,16,492,17],[490,4,490,5],[490,16,490,17],[490,6,490,15],[506,2,507,3],[464,10,464,12],[464,13,464,15],[526,4,526,6],[479,2,485,3],[493,4,493,27],[494,4,494,27],[474,16,474,17],[474,18,474,19],[475,4,475,5],[487,2,487,3],[488,2,492,3],[473,26,473,27],[486,14,486,17],[491,4,491,5],[491,16,491,17],[483,4,483,11],[475,6,475,7],[489,6,489,15],[480,4,480,11],[477,6,478,27],[475,12,475,13],[473,16,473,17],[473,6,473,7],[473,18,473,19],[470,2,470,3],[475,18,475,19],[475,20,475,21],[488,4,488,5],[488,16,488,17],[526,7,526,9],[526,10,526,12],[366,18,366,27],[367,18,367,27],[366,6,366,15],[378,4,378,7],[377,10,377,12],[414,20,414,21],[426,4,426,27],[421,4,421,11],[431,4,431,5],[461,4,461,6],[461,7,461,9],[461,10,461,12],[461,13,461,15],[461,16,461,18],[377,4,377,7],[377,8,377,9],[406,9,406,11],[407,4,407,7],[407,9,407,11],[422,4,422,11],[412,6,412,7],[412,8,412,9],[403,7,403,9],[403,10,403,12],[403,13,403,15],[404,4,404,6],[404,7,404,9],[404,10,404,12],[414,22,414,23],[412,4,412,5],[364,2,364,3],[365,2,365,3],[353,10,353,11],[353,12,353,13],[353,14,353,15],[381,10,381,12],[369,18,369,27],[370,18,370,27],[376,4,376,27],[360,12,360,19],[360,4,360,11],[364,4,364,13],[357,4,357,27],[371,4,371,27],[365,4,365,27],[372,2,372,3],[353,22,353,23],[353,24,353,25],[361,4,361,11],[361,12,361,27],[362,4,362,11],[362,12,363,27],[363,4,363,11],[354,6,354,27],[355,6,356,27],[356,4,356,5],[367,4,367,5],[367,16,367,17],[368,4,368,5],[368,16,368,17],[375,2,376,2],[377,2,383,3],[231,8,231,9],[231,10,231,11],[231,12,231,13],[219,4,219,15],[219,16,220,27],[247,18,247,27],[221,13,221,15],[251,2,252,3],[230,18,230,19],[230,20,230,21],[228,2,234,3],[230,10,230,11],[229,26,229,27],[337,2,346,3],[341,4,341,15],[345,9,345,11],[346,4,346,7],[346,9,346,11],[344,6,344,26],[324,4,324,7],[279,22,279,24],[258,4,258,7],[307,4,307,5],[242,4,242,13],[242,18,242,27],[340,4,340,6],[339,13,339,15],[308,18,308,27],[330,4,330,7],[340,10,340,12],[340,13,340,15],[340,16,340,18],[47,6,47,7],[47,8,47,9],[341,16,342,27],[325,8,325,13],[323,8,323,27],[52,4,52,27],[46,20,46,21],[46,22,46,23],[217,7,217,9],[217,10,217,12],[217,13,217,15],[217,16,217,18],[217,19,217,21],[217,22,217,24],[217,25,217,27],[218,4,218,6],[218,7,218,9],[218,10,218,12],[218,13,218,15],[218,16,218,18],[218,19,218,21],[218,22,218,24],[218,25,218,27],[82,4,85,7],[82,8,85,27],[95,10,95,12],[64,6,64,15],[65,6,65,15],[64,18,64,27],[81,8,81,13],[73,8,73,27],[74,4,74,7],[48,8,48,9],[48,10,48,11],[78,4,78,7],[95,7,95,9],[74,8,74,9],[74,10,74,12],[80,4,80,7],[57,12,58,27],[58,4,58,11],[93,4,93,27],[94,4,94,27],[95,4,95,6],[46,24,46,25],[55,4,55,11],[53,12,53,19],[54,12,54,19],[62,6,62,15],[63,6,63,15],[53,20,53,27],[54,20,54,27],[53,4,53,11],[62,18,62,27],[63,18,63,27],[48,22,48,23],[48,24,48,25],[48,26,48,27],[49,4,49,5],[50,4,50,5],[49,6,49,27],[50,6,51,27],[46,26,46,27],[47,4,47,5],[930,10,930,12],[63,16,63,17],[63,4,63,5],[62,4,62,5],[62,16,62,17],[46,4,46,5],[46,6,46,7],[46,8,46,9],[46,10,46,11],[46,12,46,13],[48,12,48,13],[888,19,888,21],[931,4,931,7],[886,2,895,3],[886,4,886,27],[887,4,887,27],[891,10,891,12],[47,10,47,11],[48,14,48,15],[48,16,48,17],[48,18,48,19],[47,12,47,13],[47,14,47,15],[47,16,47,17],[47,18,47,19],[47,20,47,21],[47,22,47,23],[47,24,47,25],[47,26,47,27],[860,2,860,3],[48,4,48,5],[48,6,48,7],[48,20,48,21],[51,4,51,5],[56,4,56,11],[56,12,56,27],[57,4,57,11],[836,2,836,3],[839,4,839,5],[839,6,839,7],[827,22,827,24],[834,4,834,7],[780,26,780,27],[935,2,944,3],[935,4,935,7],[935,8,935,13],[936,4,939,7],[936,8,939,27],[940,4,940,7],[940,8,940,13],[941,4,944,7],[941,8,944,27],[872,2,873,3],[872,4,872,7],[872,8,872,27],[873,4,873,7],[873,8,873,27],[874,2,883,3],[874,4,874,7],[670,4,670,27],[926,2,932,3],[927,4,927,7],[933,4,933,7],[933,8,933,27],[934,4,934,7],[934,8,934,27],[933,2,934,3],[906,2,912,3],[894,9,894,11],[895,4,895,7],[895,9,895,11],[908,20,908,27],[725,4,725,11],[798,2,798,3],[799,2,799,3],[800,2,801,3],[764,4,764,27],[920,2,920,3],[921,2,921,3],[922,2,923,3],[778,18,778,19],[778,20,778,21],[778,4,778,5],[778,6,778,7],[834,9,834,11],[839,24,839,25],[849,12,849,27],[850,4,850,11],[850,12,851,27],[845,2,851,3],[829,4,829,15],[753,8,756,27],[787,4,787,11],[787,12,787,19],[853,2,853,3],[854,2,858,3],[782,6,783,27],[625,10,625,12],[622,8,622,27],[623,4,623,7],[623,8,623,9],[623,10,623,12],[779,20,779,21],[779,22,779,23],[735,6,735,15],[706,10,706,12],[706,13,706,15],[732,16,732,17],[719,8,719,9],[778,26,778,27],[766,22,766,24],[766,25,766,27],[745,8,745,9],[762,4,762,7],[767,25,767,27],[767,7,767,9],[767,10,767,12],[767,13,767,15],[757,4,757,7],[766,19,766,21],[720,6,720,27],[716,4,716,27],[736,4,736,5],[736,6,736,15],[735,18,735,27],[730,18,730,27],[718,16,718,17],[718,18,718,19],[384,2,385,3],[386,2,395,3],[425,2,425,3],[397,10,397,13],[414,26,414,27],[412,26,412,27],[397,4,397,7],[413,4,413,5],[414,16,414,17],[414,18,414,19],[780,16,780,17],[786,4,786,11],[778,14,778,15],[780,4,780,5],[780,22,780,23],[780,24,780,25],[748,8,748,27],[749,4,749,7],[749,8,749,27],[744,8,744,27],[770,10,770,12],[766,4,766,6],[766,7,766,9],[747,10,747,12],[766,10,766,12],[766,13,766,15],[753,4,756,7],[691,8,691,13],[707,4,707,15],[707,16,708,27],[663,20,663,27],[461,22,461,24],[400,19,400,21],[400,22,400,24],[400,25,400,27],[387,8,390,27],[384,4,384,7],[378,8,378,27],[379,4,379,7],[379,8,379,9],[379,10,379,12],[380,4,380,7],[381,4,381,7],[397,17,397,20],[375,4,375,27],[381,8,381,9],[370,16,370,17],[386,8,386,13],[380,8,380,27],[382,4,382,7],[400,4,400,6],[358,20,358,27],[359,4,359,11],[359,12,359,19],[325,4,325,7],[340,19,340,21],[340,22,340,24],[351,18,351,19],[349,4,349,27],[352,14,352,15],[352,16,352,17],[352,18,352,19],[352,20,352,21],[352,22,352,23],[350,4,350,27],[292,10,292,11],[358,12,358,19],[340,25,340,27],[337,4,337,27],[338,4,338,27],[292,26,292,27],[351,20,351,21],[336,17,336,20],[345,4,345,7],[351,22,351,23],[351,24,351,25],[335,17,335,20],[342,4,342,6],[330,8,330,13],[331,4,334,7],[303,18,303,27],[314,4,314,27],[339,10,339,12],[352,4,352,5],[352,6,352,7],[331,8,334,27],[298,12,298,19],[299,12,299,19],[303,14,303,17],[305,4,305,5],[291,4,291,5],[295,4,295,5],[340,7,340,9],[343,16,343,27],[301,12,302,27],[339,19,339,21],[339,22,339,24],[339,25,339,27],[326,4,329,7],[326,8,329,27],[292,8,292,9],[347,2,347,25],[350,2,356,3],[351,26,351,27],[351,10,351,11],[353,8,353,9],[343,13,343,15],[339,7,339,9],[352,26,352,27],[305,6,305,15],[325,2,334,3],[352,12,352,13],[307,16,307,17],[296,4,296,27],[307,18,307,27],[233,4,233,5],[258,8,258,27],[282,13,282,15],[248,6,248,15],[276,4,276,27],[275,10,275,13],[282,16,282,27],[284,4,284,7],[278,16,278,18],[245,4,245,5],[245,16,245,17],[238,12,238,19],[238,4,238,11],[235,4,235,27],[236,4,236,11],[236,12,236,19],[291,24,291,25],[237,12,237,19],[248,18,248,27],[290,22,290,23],[291,6,291,7],[291,26,291,27],[283,6,283,26],[246,18,246,27],[230,8,230,9],[157,19,157,21],[157,22,157,24],[157,25,157,27],[158,4,158,15],[168,10,168,11],[168,12,168,13],[168,14,168,15],[168,16,168,17],[168,18,168,19],[168,20,168,21],[230,12,230,13],[230,14,230,15],[228,4,228,27],[169,10,169,11],[169,12,169,13],[223,9,223,11],[224,4,224,7],[224,9,224,11],[171,4,171,5],[209,4,212,7],[213,10,213,13],[159,4,159,6],[159,7,159,9],[230,26,230,27],[221,10,221,12],[213,17,213,20],[223,4,223,7],[170,4,170,5],[221,16,221,27],[172,6,173,27],[184,18,184,27],[185,16,185,17],[181,14,181,17],[187,18,187,27],[220,4,220,6],[220,7,220,9],[177,4,177,11],[186,6,186,15],[183,6,183,15],[177,12,177,19],[189,4,189,27],[190,4,191,27],[177,20,177,27],[220,10,220,12],[203,8,203,13],[173,4,173,5],[178,12,178,27],[198,8,198,9],[209,8,212,27],[195,8,195,27],[204,4,207,7],[204,8,207,27],[214,10,214,13],[215,4,215,27],[152,4,152,7],[170,10,170,11],[170,24,170,25],[170,26,170,27],[170,16,170,17],[170,18,170,19]],"merged_total":2716,"flags":["merged_cut"]}
[]
[null,null,"別紙１"]
[null,null,"地方と連携した地球温暖化対策活動推進事業実施報告書"]
[]
[null,"事業名",null,{"$f":"別紙１_実施計画書!D5","v":"地方と連携した地球温暖化対策活動推進事業"}]
[null,"事業実施の\n団体名",null,{"$f":"IF(別紙１_実施計画書!D6=0,\"\",(別紙１_実施計画書!D6))","v":""}]
[null,"事業実施の\n担当者",null,"事業実施の代表者"]
[null,null,null,"氏名","事業者名・役職名",null,null,null,null,null,null,null,null,null,null,null,null,null,null,"所在地"]
[null,null,null,{"$f":"IF(別紙１_実施計画書!D9=0,\"\",(別紙１_実施計画書!D9))","v":""},{"$f":"IF(別紙１_実施計画書!E9=0,\"\",(別紙１_実施計画書!E9))","v":""},null,null,null,null,"・",{"$f":"IF(別紙１_実施計画書!K9=0,\"\",(別紙１_実施計画書!K9))","v":""},null,null,null,null,null,null,null,null,"郵便番号",null,null,{"$f":"IF(別紙１_実施計画書!W9=0,\"\",(別紙１_実施計画書!W9))","v":""}]
[null,null,null,"電話番号","FAX番号",null,null,null,null,"E-mailアドレス",null,null,null,null,null,null,null,null,null,{"$f":"IF(別紙１_実施計画書!T10=0,\"\",(別紙１_実施計画書!T10))","v":""}]
[null,null,null,{"$f":"IF(別紙１_実施計画書!D11=0,\"\",(別紙１_実施計画書!D11))","v":""},{"$f":"IF(別紙１_実施計画書!E11=0,\"\",(別紙１_実施計画書!E11))","v":""},null,null,null,null,{"$f":"IF(別紙１_実施計画書!J11=0,\"\",(別紙１_実施計画書!J11))","v":""}]
[null,null,null,"事業実施の担当者（事業の窓口となる方）"]
[null,null,null,"氏名","事業者名・部署名・役職名",null,null,null,null,null,null,null,null,null,null,null,null,null,null,"所在地"]
[null,null,null,{"$f":"IF(別紙１_実施計画書!D14=0,\"\",(別紙１_実施計画書!D14))","v":""},"事業者名",null,null,null,null,{"$f":"IF(別紙１_実施計画書!J14=0,\"\",(別紙１_実施計画書!J14))","v":""},null,null,null,null,null,null,null,null,null,"郵便番号",null,null,{"$f":"IF(別紙１_実施計画書!W14=0,\"\",(別紙１_実施計画書!W14))","v":""}]
[null,null,null,null,"部署名",null,null,null,null,{"$f":"IF(別紙１_実施計画書!J15=0,\"\",(別紙１_実施計画書!J15))","v":""},null,null,null,null,null,null,null,null,null,{"$f":"IF(別紙１_実施計画書!T15=0,\"\",(別紙１_実施計画書!T15))","v":""}]
[null,null,null,null,"役職名",null,null,null,null,{"$f":"IF(別紙１_実施計画書!J16=0,\"\",(別紙１_実施計画書!J16))","v":""}]
[null,null,null,"電話番号","FAX番号",null,null,null,null,"E-mailアドレス",null,null,null,null,null,null,null,null,null,"備　　考"]
[null,null,null,{"$f":"IF(別紙１_実施計画書!D18=0,\"\",(別紙１_実施計画書!D18))","v":""},{"$f":"IF(別紙１_実施計画書!E18=0,\"\",(別紙１_実施計画書!E18))","v":""},null,null,null,null,{"$f":"IF(別紙１_実施計画書!J18=0,\"\",(別紙１_実施計画書!J18))","v":""},null,null,null,null,null,null,null,null,null,{"$f":"IF(別紙１_実施計画書!T18=0,\"\",(別紙１_実施計画書!T18))","v":""}]
[null,"共同事業者",null,"団体等の名称","事業実施責任者"]
[null,null,null,null,"氏名",null,null,null,null,"所属・役職名",null,null,null,null,null,null,"電話・FAX番号",null,null,null,null,null,"E-Mailアドレス"]
[null,null,null,{"$f":"IF(別紙１_実施計画書!D21=0,\"\",(別紙１_実施計画書!D21))","v":""},{"$f":"IF(別紙１_実施計画書!E21=0,\"\",(別紙１_実施計画書!E21))","v":""},null,null,null,null,{"$f":"IF(別紙１_実施計画書!J21=0,\"\",(別紙１_実施計画書!J21))","v":""},null,null,null,null,null,null,{"$f":"IF(別紙１_実施計画書!$Q21=0,\"\",(別紙１_実施計画書!$Q21))","v":""},null,null,null,null,null,{"$f":"IF(別紙１_実施計画書!W21=0,\"\",(別紙１_実施計画書!W21))","v":""}]
[null,null,null,null,null,null,null,null,null,null,null,null,null,null,null,null,{"$f":"IF(別紙１_実施計画書!$Q22=0,\"\",(別紙１_実施計画書!$Q22))","v":""}]
[null,null,null,{"$f":"IF(別紙１_実施計画書!D23=0,\"\",(別紙１_実施計画書!D23))","v":""},{"$f":"IF(別紙１_実施計画書!E23=0,\"\",(別紙１_実施計画書!E23))","v":""},null,null,null,null,{"$f":"IF(別紙１_実施計画書!J23=0,\"\",(別紙１_実施計画書!J23))","v":""},null,null,null,null,null,null,{"$f":"IF(別紙１_実施計画書!$Q23=0,\"\",(別紙１_実施計画書!$Q23))","v":""},null,null,null,null,null,{"$f":"IF(別紙１_実施計画書!W23=0,\"\",(別紙１_実施計画書!W23))","v":""}]
[null,null,null,null,null,null,null,null,null,null,null,null,null,null,null,null,{"$f":"IF(別紙１_実施計画書!$Q24=0,\"\",(別紙１_実施計画書!$Q24))","v":""}]
[null,null,null,{"$f":"IF(別紙１_実施計画書!D25=0,\"\",(別紙１_実施計画書!D25))","v":""},{"$f":"IF(別紙１_実施計画書!E25=0,\"\",(別紙１_実施計画書!E25))","v":""},null,null,null,null,{"$f":"IF(別紙１_実施計画書!J25=0,\"\",(別紙１_実施計画書!J25))","v":""},null,null,null,null,null,null,{"$f":"IF(別紙１_実施計画書!$Q25=0,\"\",(別紙１_実施計画書!$Q25))","v":""},null,null,null,null,null,{"$f":"IF(別紙１_実施計画書!W25=0,\"\",(別紙１_実施計画書!W25))","v":""}]
[null,null,null,null,null,null,null,null,null,null,null,null,null,null,null,null,{"$f":"IF(別紙１_実施計画書!$Q26=0,\"\",(別紙１_実施計画書!$Q26))","v":""}]
[null,"＜事業の目的＞\n本提案を推進していく上で、どのような目的をもって実施したのかを記載してください。"]
[null,{"$f":"別紙１_実施計画書!B28","v":0},null,null,null,null,null,null,null,null,null,null,null,null,null,null,null,null,null,null,null,null,null,null,null,null,null,null,null,null,"＜全体＞"]
[]
[null,null,null,null,null,null,null,null,null,null,null,null,null,null,null,null,null,null,null,null,null,null,null,null,null,null,null,null,null,null,"①","②","③","④","⑤","⑥","⑦","⑧","⑨","⑩","⑪","⑫","⑬",null,null,null,null,null,null,null,null,null,null,null,null,null,"a)","b)","c)","d)"]
[null,null,null,null,null,null,null,null,null,null,null,null,null,null,null,null,null,null,null,null,null,null,null,null,null,null,null,null,null,null,"省ｴﾈ機器","省ｴﾈ住宅","ｴｺｶｰ","ｸｰﾙﾋﾞｽﾞ","ｳｫｰﾑﾋﾞｽﾞ","照明の\n高効率利用","ｴｺﾄﾞﾗｲﾌﾞ","ｶｰｼｪｱ","ｽﾏｰﾄﾑｰﾌﾞ","再配達防止","再エネ","食品ロス","その他"]
[null,null,null,null,null,null,null,null,null,null,null,null,null,null,null,null,null,null,null,null,null,null,null,null,null,null,null,null,null,null,{"$f":"COUNTIFS(AE$47:AE$910,1)+COUNTIFS(AE$47:AE$910,TRUE)","v":0},0,0,0,0,0,0,0,0,0,0,0,0,0,0,0,0,0,0,0,0,0,0,0,null,null,{"$f":"COUNTIFS(BE$47:BE$904,1)+COUNTIFS(BE$47:BE$904,TRUE)","v":0},{"$f":"COUNTIFS(BF$47:BF$904,1)+COUNTIFS(BF$47:BF$904,TRUE)","v":0},{"$f":"COUNTIFS(BG$47:BG$904,1)+COUNTIFS(BG$47:BG$904,TRUE)","v":0},{"$f":"COUNTIFS(BH$47:BH$904,1)+COUNTIFS(BH$47:BH$904,TRUE)","v":0}]
[]
[]
[]
[]
[]
[]
[]
[null,"＜実施した事業の概要＞"]
[]
[null,"実施した全ての事業について、それぞれの内容・規模、地域団体との連携等を記入してください。"]
[]
[null,null,"項目",null,"内容"]
[null,null,"事業1","事業名",{"$f":"OFFSET(【実施期間中】個別事業におけるPDCAシート!$A$8,,MATCH(C45,【実施期間中】個別事業におけるPDCAシート!$H$6:$V$6,0)+6)","v":""},null,null,null,null,null,null,null,null,null,null,null,null,null,null,null,null,null,null,null,null,null,null,null,null,null,{"$f":"【実施期間中】個別事業におけるPDCAシート!H$8","v":""}]
[null,null,"普及啓発テーマ",null,"※該当するテーマすべてをチェックしてください。"]
[null,null,null,null,"①",null,"②",null,"③",null,"④",null,"⑤",null,"⑥",null,"⑦",null,"⑧",null,"⑨",null,"⑩",null,"⑪",null,"⑫",null,null,null,"①","②","③","④","⑤","⑥","⑦","⑧","⑨","⑩","⑪","⑫","⑬",null,null,null,null,null,null,null,null,null,null,null,null,null,"a)","b)","c)","d"]
[null,null,null,null,"省ｴﾈ機器",null,"省ｴﾈ住宅",null,"ｴｺｶｰ",null,"ｸｰﾙﾋﾞｽﾞ",null,"ｳｫｰﾑﾋﾞｽﾞ",null,"照明の\n高効率利用",null,"ｴｺﾄﾞﾗｲﾌﾞ",null,"ｶｰｼｪｱ",null,"ｽﾏｰﾄﾑｰﾌﾞ",null,"再配達防止",null,"再エネ",null,"食品ロス",null,null,null,"省ｴﾈ機器","省ｴﾈ住宅","ｴｺｶｰ","ｸｰﾙﾋﾞｽﾞ","ｳｫｰﾑﾋﾞｽﾞ","照明の\n高効率利用","ｴｺﾄﾞﾗｲﾌﾞ","ｶｰｼｪｱ","ｽﾏｰﾄﾑｰﾌﾞ","再配達防止","再エネ","食品ロス","その他",null,null,null,null,null,null,null,null,null,null,null,null,null,{"$f":"IF(COUNTIFS(【実施期間中】個別事業におけるPDCAシート!$E$22:$E$25,別紙１_実施報告書!BE47,OFFSET(【実施期間中】個別事業におけるPDCAシート!$F$22,,MATCH(別紙１_実施報告書!$C45,【実施期間中】個別事業におけるPDCAシート!$H$6:$V$6,0)+1,4,1),1),1,0)","v":0},{"$f":"IF(COUNTIFS(【実施期間中】個別事業におけるPDCAシート!$E$22:$E$25,別紙１_実施報告書!BF47,OFFSET(【実施期間中】個別事業におけるPDCAシート!$F$22,,MATCH(別紙１_実施報告書!$C45,【実施期間中】個別事業におけるPDCAシート!$H$6:$V$6,0)+1,4,1),1),1,0)","v":0},{"$f":"IF(COUNTIFS(【実施期間中】個別事業におけるPDCAシート!$E$22:$E$25,別紙１_実施報告書!BG47,OFFSET(【実施期間中】個別事業におけるPDCAシート!$F$22,,MATCH(別紙１_実施報告書!$C45,【実施期間中】個別事業におけるPDCAシート!$H$6:$V$6,0)+1,4,1),1),1,0)","v":0},{"$f":"IF(COUNTIFS(【実施期間中】個別事業におけるPDCAシート!$E$22:$E$25,別紙１_実施報告書!BH47,OFFSET(【実施期間中】個別事業におけるPDCAシート!$F$22,,MATCH(別紙１_実施報告書!$C45,【実施期間中】個別事業におけるPDCAシート!$H$6:$V$6,0)+1,4,1),1),1,0)","v":0},{"$f":"COUNTIFS(BE48:BH48,1)+COUNTIFS(BE48:BH48,\"TRUE\")","v":0}]
[null,null,null,null,null,null,null,null,null,null,null,null,null,null,null,null,null,null,null,null,null,null,null,null,null,null,null,null,null,null,{"$f":"IF(COUNTIFS(【実施期間中】個別事業におけるPDCAシート!$E$9:$E$21,別紙１_実施報告書!AE47,OFFSET(【実施期間中】個別事業におけるPDCAシート!$F$9,,MATCH(別紙１_実施報告書!$C45,【実施期間中】個別事業におけるPDCAシート!$H$6:$V$6,0)+1,13,1),1),1,0)","v":0},{"$f":"IF(COUNTIFS(【実施期間中】個別事業におけるPDCAシート!$E$9:$E$21,別紙１_実施報告書!AF47,OFFSET(【実施期間中】個別事業におけるPDCAシート!$F$9,,MATCH(別紙１_実施報告書!$C45,【実施期間中】個別事業におけるPDCAシート!$H$6:$V$6,0)+1,13,1),1),1,0)","v":0},{"$f":"IF(COUNTIFS(【実施期間中】個別事業におけるPDCAシート!$E$9:$E$21,別紙１_実施報告書!AG47,OFFSET(【実施期間中】個別事業におけるPDCAシート!$F$9,,MATCH(別紙１_実施報告書!$C45,【実施期間中】個別事業におけるPDCAシート!$H$6:$V$6,0)+1,13,1),1),1,0)","v":0},{"$f":"IF(COUNTIFS(【実施期間中】個別事業におけるPDCAシート!$E$9:$E$21,別紙１_実施報告書!AH47,OFFSET(【実施期間中】個別事業におけるPDCAシート!$F$9,,MATCH(別紙１_実施報告書!$C45,【実施期間中】個別事業におけるPDCAシート!$H$6:$V$6,0)+1,13,1),1),1,0)","v":0},{"$f":"IF(COUNTIFS(【実施期間中】個別事業におけるPDCAシート!$E$9:$E$21,別紙１_実施報告書!AI47,OFFSET(【実施期間中】個別事業におけるPDCAシート!$F$9,,MATCH(別紙１_実施報告書!$C45,【実施期間中】個別事業におけるPDCAシート!$H$6:$V$6,0)+1,13,1),1),1,0)","v":0},{"$f":"IF(COUNTIFS(【実施期間中】個別事業におけるPDCAシート!$E$9:$E$21,別紙１_実施報告書!AJ47,OFFSET(【実施期間中】個別事業におけるPDCAシート!$F$9,,MATCH(別紙１_実施報告書!$C45,【実施期間中】個別事業におけるPDCAシート!$H$6:$V$6,0)+1,13,1),1),1,0)","v":0},{"$f":"IF(COUNTIFS(【実施期間中】個別事業におけるPDCAシート!$E$9:$E$21,別紙１_実施報告書!AK47,OFFSET(【実施期間中】個別事業におけるPDCAシート!$F$9,,MATCH(別紙１_実施報告書!$C45,【実施期間中】個別事業におけるPDCAシート!$H$6:$V$6,0)+1,13,1),1),1,0)","v":0},{"$f":"IF(COUNTIFS(【実施期間中】個別事業におけるPDCAシート!$E$9:$E$21,別紙１_実施報告書!AL47,OFFSET(【実施期間中】個別事業におけるPDCAシート!$F$9,,MATCH(別紙１_実施報告書!$C45,【実施期間中】個別事業におけるPDCAシート!$H$6:$V$6,0)+1,13,1),1),1,0)","v":0},{"$f":"IF(COUNTIFS(【実施期間中】個別事業におけるPDCAシート!$E$9:$E$21,別紙１_実施報告書!AM47,OFFSET(【実施期間中】個別事業におけるPDCAシート!$F$9,,MATCH(別紙１_実施報告書!$C45,【実施期間中】個別事業におけるPDCAシート!$H$6:$V$6,0)+1,13,1),1),1,0)","v":0},{"$f":"IF(COUNTIFS(【実施期間中】個別事業におけるPDCAシート!$E$9:$E$21,別紙１_実施報告書!AN47,OFFSET(【実施期間中】個別事業におけるPDCAシート!$F$9,,MATCH(別紙１_実施報告書!$C45,【実施期間中】個別事業におけるPDCAシート!$H$6:$V$6,0)+1,13,1),1),1,0)","v":0},{"$f":"IF(COUNTIFS(【実施期間中】個別事業におけるPDCAシート!$E$9:$E$21,別紙１_実施報告書!AO47,OFFSET(【実施期間中】個別事業におけるPDCAシート!$F$9,,MATCH(別紙１_実施報告書!$C45,【実施期間中】個別事業におけるPDCAシート!$H$6:$V$6,0)+1,13,1),1),1,0)","v":0},{"$f":"IF(COUNTIFS(【実施期間中】個別事業におけるPDCAシート!$E$9:$E$21,別紙１_実施報告書!AP47,OFFSET(【実施期間中】個別事業におけるPDCAシート!$F$9,,MATCH(別紙１_実施報告書!$C45,【実施期間中】個別事業におけるPDCAシート!$H$6:$V$6,0)+1,13,1),1),1,0)","v":0},{"$f":"IF(COUNTIFS(【実施期間中】個別事業におけるPDCAシート!$E$9:$E$21,別紙１_実施報告書!AQ47,OFFSET(【実施期間中】個別事業におけるPDCAシート!$F$9,,MATCH(別紙１_実施報告書!$C45,【実施期間中】個別事業におけるPDCAシート!$H$6:$V$6,0)+1,13,1),1),1,0)","v":0},{"$f":"IF(COUNTIFS(【実施期間中】個別事業におけるPDCAシート!$E$9:$E$21,別紙１_実施報告書!AR47,OFFSET(【実施期間中】個別事業におけるPDCAシート!$F$9,,MATCH(別紙１_実施報告書!$C45,【実施期間中】個別事業におけるPDCAシート!$H$6:$V$6,0)+1,13,1),1),1,0)","v":0},{"$f":"IF(COUNTIFS(【実施期間中】個別事業におけるPDCAシート!$E$9:$E$21,別紙１_実施報告書!AS47,OFFSET(【実施期間中】個別事業におけるPDCAシート!$F$9,,MATCH(別紙１_実施報告書!$C45,【実施期間中】個別事業におけるPDCAシート!$H$6:$V$6,0)+1,13,1),1),1,0)","v":0},{"$f":"IF(COUNTIFS(【実施期間中】個別事業におけるPDCAシート!$E$9:$E$21,別紙１_実施報告書!AT47,OFFSET(【実施期間中】個別事業におけるPDCAシート!$F$9,,MATCH(別紙１_実施報告書!$C45,【実施期間中】個別事業におけるPDCAシート!$H$6:$V$6,0)+1,13,1),1),1,0)","v":0},{"$f":"IF(COUNTIFS(【実施期間中】個別事業におけるPDCAシート!$E$9:$E$21,別紙１_実施報告書!AU47,OFFSET(【実施期間中】個別事業におけるPDCAシート!$F$9,,MATCH(別紙１_実施報告書!$C45,【実施期間中】個別事業におけるPDCAシート!$H$6:$V$6,0)+1,13,1),1),1,0)","v":0},{"$f":"IF(COUNTIFS(【実施期間中】個別事業におけるPDCAシート!$E$9:$E$21,別紙１_実施報告書!AV47,OFFSET(【実施期間中】個別事業におけるPDCAシート!$F$9,,MATCH(別紙１_実施報告書!$C45,【実施期間中】個別事業におけるPDCAシート!$H$6:$V$6,0)+1,13,1),1),1,0)","v":0},{"$f":"IF(COUNTIFS(【実施期間中】個別事業におけるPDCAシート!$E$9:$E$21,別紙１_実施報告書!AW47,OFFSET(【実施期間中】個別事業におけるPDCAシート!$F$9,,MATCH(別紙１_実施報告書!$C45,【実施期間中】個別事業におけるPDCAシート!$H$6:$V$6,0)+1,13,1),1),1,0)","v":0},{"$f":"IF(COUNTIFS(【実施期間中】個別事業におけるPDCAシート!$E$9:$E$21,別紙１_実施報告書!AX47,OFFSET(【実施期間中】個別事業におけるPDCAシート!$F$9,,MATCH(別紙１_実施報告書!$C45,【実施期間中】個別事業におけるPDCAシート!$H$6:$V$6,0)+1,13,1),1),1,0)","v":0},{"$f":"IF(COUNTIFS(【実施期間中】個別事業におけるPDCAシート!$E$9:$E$21,別紙１_実施報告書!AY47,OFFSET(【実施期間中】個別事業におけるPDCAシート!$F$9,,MATCH(別紙１_実施報告書!$C45,【実施期間中】個別事業におけるPDCAシート!$H$6:$V$6,0)+1,13,1),1),1,0)","v":0},{"$f":"IF(COUNTIFS(【実施期間中】個別事業におけるPDCAシート!$E$9:$E$21,別紙１_実施報告書!AZ47,OFFSET(【実施期間中】個別事業におけるPDCAシート!$F$9,,MATCH(別紙１_実施報告書!$C45,【実施期間中】個別事業におけるPDCAシート!$H$6:$V$6,0)+1,13,1),1),1,0)","v":0},{"$f":"IF(COUNTIFS(【実施期間中】個別事業におけるPDCAシート!$E$9:$E$21,別紙１_実施報告書!BA47,OFFSET(【実施期間中】個別事業におけるPDCAシート!$F$9,,MATCH(別紙１_実施報告書!$C45,【実施期間中】個別事業におけるPDCAシート!$H$6:$V$6,0)+1,13,1),1),1,0)","v":0},{"$f":"IF(COUNTIFS(【実施期間中】個別事業におけるPDCAシート!$E$9:$E$21,別紙１_実施報告書!BB47,OFFSET(【実施期間中】個別事業におけるPDCAシート!$F$9,,MATCH(別紙１_実施報告書!$C45,【実施期間中】個別事業におけるPDCAシート!$H$6:$V$6,0)+1,13,1),1),1,0)","v":0},{"$f":"COUNTIFS($AE$49:$BB$49,\"TRUE\")","v":0}]
[null,null,null,null,"⑬",null,"↓ ※①～⑫以外のテーマを設定する場合、具体的に記載してください。"]
[null,null,null,null,"その他"]
[]
[null,null,"訴求手法",null,"※訴求手法については、該当する欄にチェックしてください。"]
[null,null,null,null,"a) 情報発信型（受動型）",null,null,null,null,null,null,null,"b) 情報発信型（能動型）",null,null,null,null,null,null,null,"c) 双方向体験交流型"]
[null,null,null,null,"ラジオ、新聞・広報紙等",null,null,null,null,null,null,null,"講演会・パネル展示等",null,null,null,null,null,null,null,"試乗・体験会、省ｴﾈ診断等"]
[]
[null,null,null,null,"d) 双方向ＷＥＢ等配信型",null,null,null,null,null,null,null,"※d) については使用する媒体等を記載してください。"]
[null,null,null,null,"（新手法）"]
[]
[null,null,"実施期間",null,{"$f":"OFFSET(【実施期間中】個別事業におけるPDCAシート!$A$8,【実施期間中】個別事業におけるPDCAシート!$A$26,MATCH($C45,【実施期間中】個別事業におけるPDCAシート!$H$6:$V$6,0)+6)","v":""},null,null,null,null,null,null,null,null,null,"～",null,null,null,{"$f":"OFFSET(【実施期間中】個別事業におけるPDCAシート!$A$8,【実施期間中】個別事業におけるPDCAシート!$A$28,MATCH($C45,【実施期間中】個別事業におけるPDCAシート!$H$6:$V$6,0)+6)","v":""}]
[null,null,"（備考）",null,{"$f":"OFFSET(【実施期間中】個別事業におけるPDCAシート!$A$8,【実施期間中】個別事業におけるPDCAシート!$A$29,MATCH($C45,【実施期間中】個別事業におけるPDCAシート!$H$6:$V$6,0)+6)","v":""}]
[null,null,"実施日\n（※同一事業内で、\n同一の内容・場所において\n複数日実施する場合）",null,1,null,{"$f":"OFFSET(【実施期間中】個別事業におけるPDCAシート!$A$8,【実施期間中】個別事業におけるPDCAシート!$A$30,MATCH($C45,【実施期間中】個別事業におけるPDCAシート!$H$6:$V$6,0)+6)","v":""},null,null,null,null,null,null,null,null,null,6,null,{"$f":"OFFSET(【実施期間中】個別事業におけるPDCAシート!$A$8,【実施期間中】個別事業におけるPDCAシート!$A$35,MATCH($C45,【実施期間中】個別事業におけるPDCAシート!$H$6:$V$6,0)+6)","v":""}]
[null,null,null,null,2,null,{"$f":"OFFSET(【実施期間中】個別事業におけるPDCAシート!$A$8,【実施期間中】個別事業におけるPDCAシート!$A$31,MATCH($C45,【実施期間中】個別事業におけるPDCAシート!$H$6:$V$6,0)+6)","v":""},null,null,null,null,null,null,null,null,null,7,null,{"$f":"OFFSET(【実施期間中】個別事業におけるPDCAシート!$A$8,【実施期間中】個別事業におけるPDCAシート!$A$36,MATCH($C45,【実施期間中】個別事業におけるPDCAシート!$H$6:$V$6,0)+6)","v":""}]
[null,null,null,null,3,null,{"$f":"OFFSET(【実施期間中】個別事業におけるPDCAシート!$A$8,【実施期間中】個別事業におけるPDCAシート!$A$32,MATCH($C45,【実施期間中】個別事業におけるPDCAシート!$H$6:$V$6,0)+6)","v":""},null,null,null,null,null,null,null,null,null,8,null,{"$f":"OFFSET(【実施期間中】個別事業におけるPDCAシート!$A$8,【実施期間中】個別事業におけるPDCAシート!$A$37,MATCH($C45,【実施期間中】個別事業におけるPDCAシート!$H$6:$V$6,0)+6)","v":""}]
[null,null,null,null,4,null,{"$f":"OFFSET(【実施期間中】個別事業におけるPDCAシート!$A$8,【実施期間中】個別事業におけるPDCAシート!$A$33,MATCH($C45,【実施期間中】個別事業におけるPDCAシート!$H$6:$V$6,0)+6)","v":""},null,null,null,null,null,null,null,null,null,9,null,{"$f":"OFFSET(【実施期間中】個別事業におけるPDCAシート!$A$8,【実施期間中】個別事業におけるPDCAシート!$A$38,MATCH($C45,【実施期間中】個別事業におけるPDCAシート!$H$6:$V$6,0)+6)","v":""}]
[null,null,null,null,5,null,{"$f":"OFFSET(【実施期間中】個別事業におけるPDCAシート!$A$8,【実施期間中】個別事業におけるPDCAシート!$A$34,MATCH($C45,【実施期間中】個別事業におけるPDCAシート!$H$6:$V$6,0)+6)","v":""},null,null,null,null,null,null,null,null,null,10,null,{"$f":"OFFSET(【実施期間中】個別事業におけるPDCAシート!$A$8,【実施期間中】個別事業におけるPDCAシート!$A$39,MATCH($C45,【実施期間中】個別事業におけるPDCAシート!$H$6:$V$6,0)+6)","v":""}]
[null,null,"事業の概要",null,{"$f":"OFFSET(【実施期間中】個別事業におけるPDCAシート!$A$8,【実施期間中】個別事業におけるPDCAシート!$A$40,MATCH($C45,【実施期間中】個別事業におけるPDCAシート!$H$6:$V$6,0)+6)","v":""}]
[null,null,"地域団体との連携",null,{"$f":"別紙１_実施計画書!E68","v":0}]
[null,null,"実施結果",null,{"$f":"OFFSET(【実施期間中】個別事業におけるPDCAシート!$A$8,【実施期間中】個別事業におけるPDCAシート!$A$46,MATCH($C45,【実施期間中】個別事業におけるPDCAシート!$H$6:$V$6,0)+6)","v":0}]
[]
[null,null,"主な訴求対象","計画",{"$f":"OFFSET(【実施期間中】個別事業におけるPDCAシート!$A$8,【実施期間中】個別事業におけるPDCAシート!$A$41,MATCH($C45,【実施期間中】個別事業におけるPDCAシート!$H$6:$V$6,0)+6)","v":""}]
[null,null,null,"結果",{"$f":"OFFSET(【実施期間中】個別事業におけるPDCAシート!$A$8,【実施期間中】個別事業におけるPDCAシート!$A$42,MATCH($C45,【実施期間中】個別事業におけるPDCAシート!$H$6:$V$6,0)+6)","v":0}]
[null,null,"目標アウトプット\n（リーチ数）\n（想定及び実績）",null,"昨年度実績",null,null,null,"計",null,{"$f":"OFFSET(【実施期間中】個別事業におけるPDCAシート!$A$8,【実施期間中】個別事業におけるPDCAシート!$A$47,MATCH($C45,【実施期間中】個別事業におけるPDCAシート!$H$6:$V$6,0)+6)","v":0}]
[null,null,null,null,"昨年度実績算出根拠",null,null,null,{"$f":"OFFSET(【実施期間中】個別事業におけるPDCAシート!$A$8,【実施期間中】個別事業におけるPDCAシート!$A$48,MATCH($C45,【実施期間中】個別事業におけるPDCAシート!$H$6:$V$6,0)+6)","v":""}]
[null,null,null,null,"想定",null,null,null,"計",null,{"$f":"OFFSET(【実施期間中】個別事業におけるPDCAシート!$A$8,【実施期間中】個別事業におけるPDCAシート!$A$49,MATCH($C45,【実施期間中】個別事業におけるPDCAシート!$H$6:$V$6,0)+6)","v":0}]
[null,null,null,null,"算出方法",null,null,null,{"$f":"OFFSET(【実施期間中】個別事業におけるPDCAシート!$A$8,【実施期間中】個別事業におけるPDCAシート!$A$50,MATCH($C45,【実施期間中】個別事業におけるPDCAシート!$H$6:$V$6,0)+6)","v":""}]
[null,null,null,null,"実績値",null,null,null,"計",null,{"$f":"SUM(OFFSET(【実施期間中】個別事業におけるPDCAシート!$A$8,【実施期間中】個別事業におけるPDCAシート!$A$51,MATCH($C45,【実施期間中】個別事業におけるPDCAシート!$H$6:$V$6,0)+6):OFFSET(【実施期間中】個別事業におけるPDCAシート!$A$8,【実施期間中】個別事業におけるPDCAシート!$A$52,MATCH($C45,【実施期間中】個別事業におけるPDCAシート!$H$6:$V$6,0)+6))","v":0}]
[null,null,null,null,"実績値算出根拠",null,null,null,{"$f":"OFFSET(【実施期間中】個別事業におけるPDCAシート!$A$8,【実施期間中】個別事業におけるPDCAシート!$A$53,MATCH($C45,【実施期間中】個別事業におけるPDCAシート!$H$6:$V$6,0)+6)","v":0}]
[null,null,null,null,"その他",null,null,null,{"$f":"OFFSET(【実施期間中】個別事業におけるPDCAシート!$A$8,【実施期間中】個別事業におけるPDCAシート!$A$54,MATCH($C45,【実施期間中】個別事業におけるPDCAシート!$H$6:$V$6,0)+6)","v":0}]
[null,null,"目標アウトカム\n（想定及び実績）\n※記載は任意",null,"計画",null,null,null,{"$f":"OFFSET(【実施期間中】個別事業におけるPDCAシート!$A$8,【実施期間中】個別事業におけるPDCAシート!$A$55,MATCH($C45,【実施期間中】個別事業におけるPDCAシート!$H$6:$V$6,0)+6)","v":""}]
[null,null,null,null,"実績",null,null,null,{"$f":"OFFSET(【実施期間中】個別事業におけるPDCAシート!$A$8,【実施期間中】個別事業におけるPDCAシート!$A$56,MATCH($C45,【実施期間中】個別事業におけるPDCAシート!$H$6:$V$6,0)+6)","v":0}]
[null,null,"エネルギー起源CO2排出\n削減量（想定及び実績）",null,"計画",null,null,null,{"$f":"別紙１_実施計画書!I78","v":0},null,null,null,null,null,"（t-CO2）"]
[null,null,null,null,"計画値\n測定方法\n（計算式、\n根拠資料等）",null,null,null,{"$f":"IF(別紙１_実施計画書!I79=0,\"\",(別紙１_実施計画書!I79))","v":""}]
[]
[]
[]
[null,null,null,null,"実績",null,null,null,{"$f":"OFFSET(【実施期間中】個別事業におけるPDCAシート!$A$8,【実施期間中】個別事業におけるPDCAシート!$A$120,MATCH($C45,【実施期間中】個別事業におけるPDCAシート!$H$6:$V$6,0)+6)","v":0},null,null,null,null,null,"（t-CO2）"]
[null,null,null,null,"実績値\n測定方法\n（計算式、\n根拠資料等）"]
[]
[]
[]
[null,null,"賛同数（想定及び実績）",null,"計画値",null,null,null,"団体",null,{"$f":"OFFSET(【実施期間中】個別事業におけるPDCAシート!$A$8,【実施期間中】個別事業におけるPDCAシート!$A$58,MATCH($C45,【実施期間中】個別事業におけるPDCAシート!$H$6:$V$6,0)+6)","v":0},null,null,null,null,"、個人",null,{"$f":"OFFSET(【実施期間中】個別事業におけるPDCAシート!$A$8,【実施期間中】個別事業におけるPDCAシート!$A$61,MATCH($C45,【実施期間中】個別事業におけるPDCAシート!$H$6:$V$6,0)+6)","v":0}]
[null,null,null,null,"実績値",null,null,null,"団体",null,{"$f":"OFFSET(【実施期間中】個別事業におけるPDCAシート!$A$8,【実施期間中】個別事業におけるPDCAシート!$A$59,MATCH($C45,【実施期間中】個別事業におけるPDCAシート!$H$6:$V$6,0)+6)","v":0},null,null,null,null,"、個人",null,{"$f":"OFFSET(【実施期間中】個別事業におけるPDCAシート!$A$8,【実施期間中】個別事業におけるPDCAシート!$A$62,MATCH($C45,【実施期間中】個別事業におけるPDCAシート!$H$6:$V$6,0)+6)","v":0}]
[null,null,"効果検証\n（アンケート）",null,"※アンケートの実施予定をプルダウンより選択してください。"]
[null,null,null,null,"公募要領に規定のアンケート"]
[null,null,null,null,"省エネ機器",null,null,"省エネ住宅",null,null,"エコカー",null,null,"クールビズ",null,null,"ウォームビズ",null,null,"照明の\n効率的利用",null,null,"ｴｺﾄﾞﾗｲﾌﾞ",null,null,"カーシェア"]
[null,null,null,null,"- 選択 -",null,null,"- 選択 -",null,null,"- 選択 -",null,null,"- 選択 -",null,null,"- 選択 -",null,null,"- 選択 -",null,null,"- 選択 -",null,null,"- 選択 -"]
[null,null,null,null,"公募要領に規定のアンケート",null,null,null,null,null,null,null,null,null,null,null,"貴事業者独自のアンケート"]
[null,null,null,null,"ｽﾏｰﾄﾑｰﾌﾞ",null,null,"低炭素物流",null,null,"再エネ",null,null,"食品ロス"]
[null,null,null,null,"- 選択 -",null,null,"- 選択 -",null,null,"- 選択 -",null,null,"- 選択 -",null,null,"- 選択 -"]
[null,null,null,null,"内容（",null,null,null,null,null,null,null,null,null,null,null,null,null,null,null,null,null,null,null,null,null,null,"）"]
[null,null,null,null,"昨年度実績",null,null,null,"計",{"$f":"OFFSET(【実施期間中】個別事業におけるPDCAシート!$A$8,【実施期間中】個別事業におけるPDCAシート!$A$77,MATCH($C45,【実施期間中】個別事業におけるPDCAシート!$H$6:$V$6,0)+6)","v":""},null,null,"枚",null,"※複数ある場合は、アンケート合計回収数"]
[null,null,null,null,"回収数",null,null,null,"計",{"$f":"OFFSET(【実施期間中】個別事業におけるPDCAシート!$A$8,【実施期間中】個別事業におけるPDCAシート!$A$79,MATCH($C45,【実施期間中】個別事業におけるPDCAシート!$H$6:$V$6,0)+6)","v":0},null,null,"枚",null,"※複数ある場合は、アンケート合計回収数"]
[null,null,"（実施する事業については、必ず上記記載例に沿って事業実施実績を記載した上で、必要に応じて別紙を添付すること）"]
[null,null,"項目",null,"内容"]
[null,null,"事業2","事業名",{"$f":"OFFSET(【実施期間中】個別事業におけるPDCAシート!$A$8,,MATCH(C106,【実施期間中】個別事業におけるPDCAシート!$H$6:$V$6,0)+6)","v":""}]
[null,null,"普及啓発テーマ",null,"※該当するテーマすべてをチェックしてください。"]
[null,null,null,null,"①",null,"②",null,"③",null,"④",null,"⑤",null,"⑥",null,"⑦",null,"⑧",null,"⑨",null,"⑩",null,"⑪",null,"⑫",null,null,null,"①","②","③","④","⑤","⑥","⑦","⑧","⑨","⑩","⑪","⑫","⑬",null,null,null,null,null,null,null,null,null,null,null,null,null,"a)","b)","c)","d)"]
[null,null,null,null,"省ｴﾈ機器",null,"省ｴﾈ住宅",null,"ｴｺｶｰ",null,"ｸｰﾙﾋﾞｽﾞ",null,"ｳｫｰﾑﾋﾞｽﾞ",null,"照明の\n高効率利用",null,"ｴｺﾄﾞﾗｲﾌﾞ",null,"ｶｰｼｪｱ",null,"ｽﾏｰﾄﾑｰﾌﾞ",null,"再配達防止",null,"再エネ",null,"食品ロス",null,null,null,"省ｴﾈ機器","省ｴﾈ住宅","ｴｺｶｰ","ｸｰﾙﾋﾞｽﾞ","ｳｫｰﾑﾋﾞｽﾞ","照明の\n高効率利用","ｴｺﾄﾞﾗｲﾌﾞ","ｶｰｼｪｱ","ｽﾏｰﾄﾑｰﾌﾞ","再配達防止","再エネ","食品ロス","その他",null,null,null,null,null,null,null,null,null,null,null,null,null,{"$f":"IF(COUNTIFS(【実施期間中】個別事業におけるPDCAシート!$E$22:$E$25,別紙１_実施報告書!BE108,OFFSET(【実施期間中】個別事業におけるPDCAシート!$F$22,,MATCH(別紙１_実施報告書!$C106,【実施期間中】個別事業におけるPDCAシート!$H$6:$V$6,0)+1,4,1),1),1,0)","v":0},{"$f":"IF(COUNTIFS(【実施期間中】個別事業におけるPDCAシート!$E$22:$E$25,別紙１_実施報告書!BF108,OFFSET(【実施期間中】個別事業におけるPDCAシート!$F$22,,MATCH(別紙１_実施報告書!$C106,【実施期間中】個別事業におけるPDCAシート!$H$6:$V$6,0)+1,4,1),1),1,0)","v":0},{"$f":"IF(COUNTIFS(【実施期間中】個別事業におけるPDCAシート!$E$22:$E$25,別紙１_実施報告書!BG108,OFFSET(【実施期間中】個別事業におけるPDCAシート!$F$22,,MATCH(別紙１_実施報告書!$C106,【実施期間中】個別事業におけるPDCAシート!$H$6:$V$6,0)+1,4,1),1),1,0)","v":0},{"$f":"IF(COUNTIFS(【実施期間中】個別事業におけるPDCAシート!$E$22:$E$25,別紙１_実施報告書!BH108,OFFSET(【実施期間中】個別事業におけるPDCAシート!$F$22,,MATCH(別紙１_実施報告書!$C106,【実施期間中】個別事業におけるPDCAシート!$H$6:$V$6,0)+1,4,1),1),1,0)","v":0},{"$f":"COUNTIFS(BE109:BH109,1)+COUNTIFS(BE109:BH109,\"TRUE\")","v":0}]
[null,null,null,null,null,null,null,null,null,null,null,null,null,null,null,null,null,null,null,null,null,null,null,null,null,null,null,null,null,null,{"$f":"IF(COUNTIFS(【実施期間中】個別事業におけるPDCAシート!$E$9:$E$21,別紙１_実施報告書!AE108,OFFSET(【実施期間中】個別事業におけるPDCAシート!$F$9,,MATCH(別紙１_実施報告書!$C106,【実施期間中】個別事業におけるPDCAシート!$H$6:$V$6,0)+1,13,1),1),1,0)","v":0},{"$f":"IF(COUNTIFS(【実施期間中】個別事業におけるPDCAシート!$E$9:$E$21,別紙１_実施報告書!AF108,OFFSET(【実施期間中】個別事業におけるPDCAシート!$F$9,,MATCH(別紙１_実施報告書!$C106,【実施期間中】個別事業におけるPDCAシート!$H$6:$V$6,0)+1,13,1),1),1,0)","v":0},false,{"$f":"IF(COUNTIFS(【実施期間中】個別事業におけるPDCAシート!$E$9:$E$21,別紙１_実施報告書!AH108,OFFSET(【実施期間中】個別事業におけるPDCAシート!$F$9,,MATCH(別紙１_実施報告書!$C106,【実施期間中】個別事業におけるPDCAシート!$H$6:$V$6,0)+1,13,1),1),1,0)","v":0},{"$f":"IF(COUNTIFS(【実施期間中】個別事業におけるPDCAシート!$E$9:$E$21,別紙１_実施報告書!AI108,OFFSET(【実施期間中】個別事業におけるPDCAシート!$F$9,,MATCH(別紙１_実施報告書!$C106,【実施期間中】個別事業におけるPDCAシート!$H$6:$V$6,0)+1,13,1),1),1,0)","v":0},{"$f":"IF(COUNTIFS(【実施期間中】個別事業におけるPDCAシート!$E$9:$E$21,別紙１_実施報告書!AJ108,OFFSET(【実施期間中】個別事業におけるPDCAシート!$F$9,,MATCH(別紙１_実施報告書!$C106,【実施期間中】個別事業におけるPDCAシート!$H$6:$V$6,0)+1,13,1),1),1,0)","v":0},{"$f":"IF(COUNTIFS(【実施期間中】個別事業におけるPDCAシート!$E$9:$E$21,別紙１_実施報告書!AK108,OFFSET(【実施期間中】個別事業におけるPDCAシート!$F$9,,MATCH(別紙１_実施報告書!$C106,【実施期間中】個別事業におけるPDCAシート!$H$6:$V$6,0)+1,13,1),1),1,0)","v":0},{"$f":"IF(COUNTIFS(【実施期間中】個別事業におけるPDCAシート!$E$9:$E$21,別紙１_実施報告書!AL108,OFFSET(【実施期間中】個別事業におけるPDCAシート!$F$9,,MATCH(別紙１_実施報告書!$C106,【実施期間中】個別事業におけるPDCAシート!$H$6:$V$6,0)+1,13,1),1),1,0)","v":0},{"$f":"IF(COUNTIFS(【実施期間中】個別事業におけるPDCAシート!$E$9:$E$21,別紙１_実施報告書!AM108,OFFSET(【実施期間中】個別事業におけるPDCAシート!$F$9,,MATCH(別紙１_実施報告書!$C106,【実施期間中】個別事業におけるPDCAシート!$H$6:$V$6,0)+1,13,1),1),1,0)","v":0},{"$f":"IF(COUNTIFS(【実施期間中】個別事業におけるPDCAシート!$E$9:$E$21,別紙１_実施報告書!AN108,OFFSET(【実施期間中】個別事業におけるPDCAシート!$F$9,,MATCH(別紙１_実施報告書!$C106,【実施期間中】個別事業におけるPDCAシート!$H$6:$V$6,0)+1,13,1),1),1,0)","v":0},{"$f":"IF(COUNTIFS(【実施期間中】個別事業におけるPDCAシート!$E$9:$E$21,別紙１_実施報告書!AO108,OFFSET(【実施期間中】個別事業におけるPDCAシート!$F$9,,MATCH(別紙１_実施報告書!$C106,【実施期間中】個別事業におけるPDCAシート!$H$6:$V$6,0)+1,13,1),1),1,0)","v":0},{"$f":"IF(COUNTIFS(【実施期間中】個別事業におけるPDCAシート!$E$9:$E$21,別紙１_実施報告書!AP108,OFFSET(【実施期間中】個別事業におけるPDCAシート!$F$9,,MATCH(別紙１_実施報告書!$C106,【実施期間中】個別事業におけるPDCAシート!$H$6:$V$6,0)+1,13,1),1),1,0)","v":0},{"$f":"IF(COUNTIFS(【実施期間中】個別事業におけるPDCAシート!$E$9:$E$21,別紙１_実施報告書!AQ108,OFFSET(【実施期間中】個別事業におけるPDCAシート!$F$9,,MATCH(別紙１_実施報告書!$C106,【実施期間中】個別事業におけるPDCAシート!$H$6:$V$6,0)+1,13,1),1),1,0)","v":0},{"$f":"IF(COUNTIFS(【実施期間中】個別事業におけるPDCAシート!$E$9:$E$21,別紙１_実施報告書!AR108,OFFSET(【実施期間中】個別事業におけるPDCAシート!$F$9,,MATCH(別紙１_実施報告書!$C106,【実施期間中】個別事業におけるPDCAシート!$H$6:$V$6,0)+1,13,1),1),1,0)","v":0},{"$f":"IF(COUNTIFS(【実施期間中】個別事業におけるPDCAシート!$E$9:$E$21,別紙１_実施報告書!AS108,OFFSET(【実施期間中】個別事業におけるPDCAシート!$F$9,,MATCH(別紙１_実施報告書!$C106,【実施期間中】個別事業におけるPDCAシート!$H$6:$V$6,0)+1,13,1),1),1,0)","v":0},{"$f":"IF(COUNTIFS(【実施期間中】個別事業におけるPDCAシート!$E$9:$E$21,別紙１_実施報告書!AT108,OFFSET(【実施期間中】個別事業におけるPDCAシート!$F$9,,MATCH(別紙１_実施報告書!$C106,【実施期間中】個別事業におけるPDCAシート!$H$6:$V$6,0)+1,13,1),1),1,0)","v":0},{"$f":"IF(COUNTIFS(【実施期間中】個別事業におけるPDCAシート!$E$9:$E$21,別紙１_実施報告書!AU108,OFFSET(【実施期間中】個別事業におけるPDCAシート!$F$9,,MATCH(別紙１_実施報告書!$C106,【実施期間中】個別事業におけるPDCAシート!$H$6:$V$6,0)+1,13,1),1),1,0)","v":0},{"$f":"IF(COUNTIFS(【実施期間中】個別事業におけるPDCAシート!$E$9:$E$21,別紙１_実施報告書!AV108,OFFSET(【実施期間中】個別事業におけるPDCAシート!$F$9,,MATCH(別紙１_実施報告書!$C106,【実施期間中】個別事業におけるPDCAシート!$H$6:$V$6,0)+1,13,1),1),1,0)","v":0},{"$f":"IF(COUNTIFS(【実施期間中】個別事業におけるPDCAシート!$E$9:$E$21,別紙１_実施報告書!AW108,OFFSET(【実施期間中】個別事業におけるPDCAシート!$F$9,,MATCH(別紙１_実施報告書!$C106,【実施期間中】個別事業におけるPDCAシート!$H$6:$V$6,0)+1,13,1),1),1,0)","v":0},{"$f":"IF(COUNTIFS(【実施期間中】個別事業におけるPDCAシート!$E$9:$E$21,別紙１_実施報告書!AX108,OFFSET(【実施期間中】個別事業におけるPDCAシート!$F$9,,MATCH(別紙１_実施報告書!$C106,【実施期間中】個別事業におけるPDCAシート!$H$6:$V$6,0)+1,13,1),1),1,0)","v":0},{"$f":"IF(COUNTIFS(【実施期間中】個別事業におけるPDCAシート!$E$9:$E$21,別紙１_実施報告書!AY108,OFFSET(【実施期間中】個別事業におけるPDCAシート!$F$9,,MATCH(別紙１_実施報告書!$C106,【実施期間中】個別事業におけるPDCAシート!$H$6:$V$6,0)+1,13,1),1),1,0)","v":0},{"$f":"IF(COUNTIFS(【実施期間中】個別事業におけるPDCAシート!$E$9:$E$21,別紙１_実施報告書!AZ108,OFFSET(【実施期間中】個別事業におけるPDCAシート!$F$9,,MATCH(別紙１_実施報告書!$C106,【実施期間中】個別事業におけるPDCAシート!$H$6:$V$6,0)+1,13,1),1),1,0)","v":0},{"$f":"IF(COUNTIFS(【実施期間中】個別事業におけるPDCAシート!$E$9:$E$21,別紙１_実施報告書!BA108,OFFSET(【実施期間中】個別事業におけるPDCAシート!$F$9,,MATCH(別紙１_実施報告書!$C106,【実施期間中】個別事業におけるPDCAシート!$H$6:$V$6,0)+1,13,1),1),1,0)","v":0},{"$f":"IF(COUNTIFS(【実施期間中】個別事業におけるPDCAシート!$E$9:$E$21,別紙１_実施報告書!BB108,OFFSET(【実施期間中】個別事業におけるPDCAシート!$F$9,,MATCH(別紙１_実施報告書!$C106,【実施期間中】個別事業におけるPDCAシート!$H$6:$V$6,0)+1,13,1),1),1,0)","v":0},{"$f":"COUNTIFS($AE110:$BB110,\"TRUE\")","v":0}]
[null,null,null,null,"⑬",null,"↓ ※①～⑫以外のテーマを設定する場合、具体的に記載してください。"]
[null,null,null,null,"その他"]
[]
[null,null,"訴求手法",null,"※訴求手法については、該当する欄にチェックしてください。"]
[null,null,null,null,"a) 情報発信型（受動型）",null,null,null,null,null,null,null,"b) 情報発信型（能動型）",null,null,null,null,null,null,null,"c) 双方向体験交流型"]
[null,null,null,null,"ラジオ、新聞・広報紙等",null,null,null,null,null,null,null,"講演会・パネル展示等",null,null,null,null,null,null,null,"試乗・体験会、省ｴﾈ診断等"]
[]
[null,null,null,null,"d) 双方向ＷＥＢ等配信型",null,null,null,null,null,null,null,"※d) については使用する媒体等を記載してください。"]
[null,null,null,null,"（新手法）"]
[]
[null,null,"実施期間",null,{"$f":"OFFSET(【実施期間中】個別事業におけるPDCAシート!$A$8,【実施期間中】個別事業におけるPDCAシート!$A$26,MATCH($C106,【実施期間中】個別事業におけるPDCAシート!$H$6:$V$6,0)+6)","v":""},null,null,null,null,null,null,null,null,null,"～",null,null,null,{"$f":"OFFSET(【実施期間中】個別事業におけるPDCAシート!$A$8,【実施期間中】個別事業におけるPDCAシート!$A$28,MATCH($C106,【実施期間中】個別事業におけるPDCAシート!$H$6:$V$6,0)+6)","v":""}]
[null,null,"（備考）",null,{"$f":"OFFSET(【実施期間中】個別事業におけるPDCAシート!$A$8,【実施期間中】個別事業におけるPDCAシート!$A$29,MATCH($C106,【実施期間中】個別事業におけるPDCAシート!$H$6:$V$6,0)+6)","v":""}]
[null,null,"実施日\n（※同一事業内で、\n同一の内容・場所において\n複数日実施する場合）",null,1,null,{"$f":"OFFSET(【実施期間中】個別事業におけるPDCAシート!$A$8,【実施期間中】個別事業におけるPDCAシート!$A$30,MATCH($C106,【実施期間中】個別事業におけるPDCAシート!$H$6:$V$6,0)+6)","v":""},null,null,null,null,null,null,null,null,null,6,null,{"$f":"OFFSET(【実施期間中】個別事業におけるPDCAシート!$A$8,【実施期間中】個別事業におけるPDCAシート!$A$35,MATCH($C106,【実施期間中】個別事業におけるPDCAシート!$H$6:$V$6,0)+6)","v":""}]
[null,null,null,null,2,null,{"$f":"OFFSET(【実施期間中】個別事業におけるPDCAシート!$A$8,【実施期間中】個別事業におけるPDCAシート!$A$31,MATCH($C106,【実施期間中】個別事業におけるPDCAシート!$H$6:$V$6,0)+6)","v":""},null,null,null,null,null,null,null,null,null,7,null,{"$f":"OFFSET(【実施期間中】個別事業におけるPDCAシート!$A$8,【実施期間中】個別事業におけるPDCAシート!$A$36,MATCH($C106,【実施期間中】個別事業におけるPDCAシート!$H$6:$V$6,0)+6)","v":""}]
[null,null,null,null,3,null,{"$f":"OFFSET(【実施期間中】個別事業におけるPDCAシート!$A$8,【実施期間中】個別事業におけるPDCAシート!$A$32,MATCH($C106,【実施期間中】個別事業におけるPDCAシート!$H$6:$V$6,0)+6)","v":""},null,null,null,null,null,null,null,null,null,8,null,{"$f":"OFFSET(【実施期間中】個別事業におけるPDCAシート!$A$8,【実施期間中】個別事業におけるPDCAシート!$A$37,MATCH($C106,【実施期間中】個別事業におけるPDCAシート!$H$6:$V$6,0)+6)","v":""}]
[null,null,null,null,4,null,{"$f":"OFFSET(【実施期間中】個別事業におけるPDCAシート!$A$8,【実施期間中】個別事業におけるPDCAシート!$A$33,MATCH($C106,【実施期間中】個別事業におけるPDCAシート!$H$6:$V$6,0)+6)","v":""},null,null,null,null,null,null,null,null,null,9,null,{"$f":"OFFSET(【実施期間中】個別事業におけるPDCAシート!$A$8,【実施期間中】個別事業におけるPDCAシート!$A$38,MATCH($C106,【実施期間中】個別事業におけるPDCAシート!$H$6:$V$6,0)+6)","v":""}]
[null,null,null,null,5,null,{"$f":"OFFSET(【実施期間中】個別事業におけるPDCAシート!$A$8,【実施期間中】個別事業におけるPDCAシート!$A$34,MATCH($C106,【実施期間中】個別事業におけるPDCAシート!$H$6:$V$6,0)+6)","v":""},null,null,null,null,null,null,null,null,null,10,null,{"$f":"OFFSET(【実施期間中】個別事業におけるPDCAシート!$A$8,【実施期間中】個別事業におけるPDCAシート!$A$39,MATCH($C106,【実施期間中】個別事業におけるPDCAシート!$H$6:$V$6,0)+6)","v":""}]
[null,null,"事業の概要",null,{"$f":"OFFSET(【実施期間中】個別事業におけるPDCAシート!$A$8,【実施期間中】個別事業におけるPDCAシート!$A$40,MATCH($C106,【実施期間中】個別事業におけるPDCAシート!$H$6:$V$6,0)+6)","v":""}]
[null,null,"地域団体との連携",null,{"$f":"別紙１_実施計画書!E120","v":0}]
[null,null,"実施結果",null,{"$f":"OFFSET(【実施期間中】個別事業におけるPDCAシート!$A$8,【実施期間中】個別事業におけるPDCAシート!$A$46,MATCH($C106,【実施期間中】個別事業におけるPDCAシート!$H$6:$V$6,0)+6)","v":0}]
[]
[null,null,"主な訴求対象","計画",{"$f":"OFFSET(【実施期間中】個別事業におけるPDCAシート!$A$8,【実施期間中】個別事業におけるPDCAシート!$A$41,MATCH($C106,【実施期間中】個別事業におけるPDCAシート!$H$6:$V$6,0)+6)","v":""}]
[null,null,null,"結果",{"$f":"OFFSET(【実施期間中】個別事業におけるPDCAシート!$A$8,【実施期間中】個別事業におけるPDCAシート!$A$42,MATCH($C106,【実施期間中】個別事業におけるPDCAシート!$H$6:$V$6,0)+6)","v":0}]
[null,null,"目標アウトプット\n（リーチ数）\n（想定及び実績）",null,"昨年度実績",null,null,null,"計",null,{"$f":"OFFSET(【実施期間中】個別事業におけるPDCAシート!$A$8,【実施期間中】個別事業におけるPDCAシート!$A$47,MATCH($C106,【実施期間中】個別事業におけるPDCAシート!$H$6:$V$6,0)+6)","v":0}]
[null,null,null,null,"昨年度実績算出根拠",null,null,null,{"$f":"OFFSET(【実施期間中】個別事業におけるPDCAシート!$A$8,【実施期間中】個別事業におけるPDCAシート!$A$48,MATCH($C106,【実施期間中】個別事業におけるPDCAシート!$H$6:$V$6,0)+6)","v":""}]
[null,null,null,null,"想定",null,null,null,"計",null,{"$f":"OFFSET(【実施期間中】個別事業におけるPDCAシート!$A$8,【実施期間中】個別事業におけるPDCAシート!$A$49,MATCH($C106,【実施期間中】個別事業におけるPDCAシート!$H$6:$V$6,0)+6)","v":0}]
[null,null,null,null,"算出方法",null,null,null,{"$f":"OFFSET(【実施期間中】個別事業におけるPDCAシート!$A$8,【実施期間中】個別事業におけるPDCAシート!$A$50,MATCH($C106,【実施期間中】個別事業におけるPDCAシート!$H$6:$V$6,0)+6)","v":""}]
[null,null,null,null,"実績値",null,null,null,"計",null,{"$f":"SUM(OFFSET(【実施期間中】個別事業におけるPDCAシート!$A$8,【実施期間中】個別事業におけるPDCAシート!$A$51,MATCH($C106,【実施期間中】個別事業におけるPDCAシート!$H$6:$V$6,0)+6):OFFSET(【実施期間中】個別事業におけるPDCAシート!$A$8,【実施期間中】個別事業におけるPDCAシート!$A$52,MATCH($C106,【実施期間中】個別事業におけるPDCAシート!$H$6:$V$6,0)+6))","v":0}]
[null,null,null,null,"実績値算出根拠",null,null,null,{"$f":"OFFSET(【実施期間中】個別事業におけるPDCAシート!$A$8,【実施期間中】個別事業におけるPDCAシート!$A$53,MATCH($C106,【実施期間中】個別事業におけるPDCAシート!$H$6:$V$6,0)+6)","v":0}]
[null,null,null,null,"その他",null,null,null,{"$f":"OFFSET(【実施期間中】個別事業におけるPDCAシート!$A$8,【実施期間中】個別事業におけるPDCAシート!$A$54,MATCH($C106,【実施期間中】個別事業におけるPDCAシート!$H$6:$V$6,0)+6)","v":0}]
[null,null,"目標アウトカム\n（想定及び実績）\n※記載は任意",null,"計画",null,null,null,{"$f":"OFFSET(【実施期間中】個別事業におけるPDCAシート!$A$8,【実施期間中】個別事業におけるPDCAシート!$A$55,MATCH($C106,【実施期間中】個別事業におけるPDCAシート!$H$6:$V$6,0)+6)","v":""}]
[null,null,null,null,"実績",null,null,null,{"$f":"OFFSET(【実施期間中】個別事業におけるPDCAシート!$A$8,【実施期間中】個別事業におけるPDCAシート!$A$56,MATCH($C106,【実施期間中】個別事業におけるPDCAシート!$H$6:$V$6,0)+6)","v":0}]
[null,null,"エネルギー起源CO2排出\n削減量（想定及び実績）",null,"計画",null,null,null,{"$f":"別紙１_実施計画書!I130","v":0},null,null,null,null,null,"（t-CO2）"]
[null,null,null,null,"計画値\n測定方法\n（計算式、\n根拠資料等）",null,null,null,{"$f":"IF(別紙１_実施計画書!I131=0,\"\",(別紙１_実施計画書!I131))","v":""}]
[]
[]
[]
[null,null,null,null,"実績",null,null,null,{"$f":"OFFSET(【実施期間中】個別事業におけるPDCAシート!$A$8,【実施期間中】個別事業におけるPDCAシート!$A$120,MATCH($C106,【実施期間中】個別事業におけるPDCAシート!$H$6:$V$6,0)+6)","v":0},null,null,null,null,null,"（t-CO2）"]
[null,null,null,null,"実績値\n測定方法\n（計算式、\n根拠資料等）"]
[]
[]
[]
[null,null,"賛同数（想定及び実績）",null,"計画値",null,null,null,"団体",null,{"$f":"OFFSET(【実施期間中】個別事業におけるPDCAシート!$A$8,【実施期間中】個別事業におけるPDCAシート!$A$58,MATCH($C106,【実施期間中】個別事業におけるPDCAシート!$H$6:$V$6,0)+6)","v":0},null,null,null,null,"、個人",null,{"$f":"OFFSET(【実施期間中】個別事業におけるPDCAシート!$A$8,【実施期間中】個別事業におけるPDCAシート!$A$61,MATCH($C106,【実施期間中】個別事業におけるPDCAシート!$H$6:$V$6,0)+6)","v":0}]
[null,null,null,null,"実績値",null,null,null,"団体",null,{"$f":"OFFSET(【実施期間中】個別事業におけるPDCAシート!$A$8,【実施期間中】個別事業におけるPDCAシート!$A$59,MATCH($C106,【実施期間中】個別事業におけるPDCAシート!$H$6:$V$6,0)+6)","v":0},null,null,null,null,"、個人",null,{"$f":"OFFSET(【実施期間中】個別事業におけるPDCAシート!$A$8,【実施期間中】個別事業におけるPDCAシート!$A$62,MATCH($C106,【実施期間中】個別事業におけるPDCAシート!$H$6:$V$6,0)+6)","v":0}]
[null,null,"効果検証\n（アンケート）",null,"※アンケートの実施予定をプルダウンより選択してください。"]
[null,null,null,null,"公募要領に規定のアンケート"]
[null,null,null,null,"省エネ機器",null,null,"省エネ住宅",null,null,"エコカー",null,null,"クールビズ",null,null,"ウォームビズ",null,null,"照明の\n効率的利用",null,null,"ｴｺﾄﾞﾗｲﾌﾞ",null,null,"カーシェア"]
[null,null,null,null,"- 選択 -",null,null,"- 選択 -",null,null,"- 選択 -",null,null,"- 選択 -",null,null,"- 選択 -",null,null,"- 選択 -",null,null,"- 選択 -",null,null,"- 選択 -"]
[null,null,null,null,"公募要領に規定のアンケート",null,null,null,null,null,null,null,null,null,null,null,"貴事業者独自のアンケート"]
[null,null,null,null,"ｽﾏｰﾄﾑｰﾌﾞ",null,null,"低炭素物流",null,null,"再エネ",null,null,"食品ロス"]
[null,null,null,null,"- 選択 -",null,null,"- 選択 -",null,null,"- 選択 -",null,null,"- 選択 -",null,null,"- 選択 -"]
[null,null,null,null,"内容（",null,null,null,null,null,null,null,null,null,null,null,null,null,null,null,null,null,null,null,null,null,null,"）"]
[null,null,null,null,"昨年度実績",null,null,null,"計",{"$f":"OFFSET(【実施期間中】個別事業におけるPDCAシート!$A$8,【実施期間中】個別事業におけるPDCAシート!$A$77,MATCH($C106,【実施期間中】個別事業におけるPDCAシート!$H$6:$V$6,0)+6)","v":0},null,null,"枚",null,"※複数ある場合は、アンケート合計回収数"]
[null,null,null,null,"回収数",null,null,null,"計",{"$f":"OFFSET(【実施期間中】個別事業におけるPDCAシート!$A$8,【実施期間中】個別事業におけるPDCAシート!$A$79,MATCH($C106,【実施期間中】個別事業におけるPDCAシート!$H$6:$V$6,0)+6)","v":0},null,null,"枚",null,"※複数ある場合は、アンケート合計回収数"]
[]
[null,null,"項目",null,"内容"]
[null,null,"事業3","事業名",{"$f":"OFFSET(【実施期間中】個別事業におけるPDCAシート!$A$8,,MATCH(C167,【実施期間中】個別事業におけるPDCAシート!$H$6:$V$6,0)+6)","v":""}]
[null,null,"普及啓発テーマ",null,"※該当するテーマすべてをチェックしてください。"]
[null,null,null,null,"①",null,"②",null,"③",null,"④",null,"⑤",null,"⑥",null,"⑦",null,"⑧",null,"⑨",null,"⑩",null,"⑪",null,"⑫",null,null,null,"①","②","③","④","⑤","⑥","⑦","⑧","⑨","⑩","⑪","⑫","⑬",null,null,null,null,null,null,null,null,null,null,null,null,null,"a)","b)","c)","d)"]
[null,null,null,null,"省ｴﾈ機器",null,"省ｴﾈ住宅",null,"ｴｺｶｰ",null,"ｸｰﾙﾋﾞｽﾞ",null,"ｳｫｰﾑﾋﾞｽﾞ",null,"照明の\n高効率利用",null,"ｴｺﾄﾞﾗｲﾌﾞ",null,"ｶｰｼｪｱ",null,"ｽﾏｰﾄﾑｰﾌﾞ",null,"再配達防止",null,"再エネ",null,"食品ロス",null,null,null,"省ｴﾈ機器","省ｴﾈ住宅","ｴｺｶｰ","ｸｰﾙﾋﾞｽﾞ","ｳｫｰﾑﾋﾞｽﾞ","照明の\n高効率利用","ｴｺﾄﾞﾗｲﾌﾞ","ｶｰｼｪｱ","ｽﾏｰﾄﾑｰﾌﾞ","再配達防止","再エネ","食品ロス","その他",null,null,null,null,null,null,null,null,null,null,null,null,null,{"$f":"IF(COUNTIFS(【実施期間中】個別事業におけるPDCAシート!$E$22:$E$25,別紙１_実施報告書!BE169,OFFSET(【実施期間中】個別事業におけるPDCAシート!$F$22,,MATCH(別紙１_実施報告書!$C167,【実施期間中】個別事業におけるPDCAシート!$H$6:$V$6,0)+1,4,1),1),1,0)","v":0},{"$f":"IF(COUNTIFS(【実施期間中】個別事業におけるPDCAシート!$E$22:$E$25,別紙１_実施報告書!BF169,OFFSET(【実施期間中】個別事業におけるPDCAシート!$F$22,,MATCH(別紙１_実施報告書!$C167,【実施期間中】個別事業におけるPDCAシート!$H$6:$V$6,0)+1,4,1),1),1,0)","v":0},{"$f":"IF(COUNTIFS(【実施期間中】個別事業におけるPDCAシート!$E$22:$E$25,別紙１_実施報告書!BG169,OFFSET(【実施期間中】個別事業におけるPDCAシート!$F$22,,MATCH(別紙１_実施報告書!$C167,【実施期間中】個別事業におけるPDCAシート!$H$6:$V$6,0)+1,4,1),1),1,0)","v":0},{"$f":"IF(COUNTIFS(【実施期間中】個別事業におけるPDCAシート!$E$22:$E$25,別紙１_実施報告書!BH169,OFFSET(【実施期間中】個別事業におけるPDCAシート!$F$22,,MATCH(別紙１_実施報告書!$C167,【実施期間中】個別事業におけるPDCAシート!$H$6:$V$6,0)+1,4,1),1),1,0)","v":0},{"$f":"COUNTIFS(BE170:BH170,1)+COUNTIFS(BE170:BH170,\"TRUE\")","v":0}]
[null,null,null,null,null,null,null,null,null,null,null,null,null,null,null,null,null,null,null,null,null,null,null,null,null,null,null,null,null,null,{"$f":"IF(COUNTIFS(【実施期間中】個別事業におけるPDCAシート!$E$9:$E$21,別紙１_実施報告書!AE169,OFFSET(【実施期間中】個別事業におけるPDCAシート!$F$9,,MATCH(別紙１_実施報告書!$C167,【実施期間中】個別事業におけるPDCAシート!$H$6:$V$6,0)+1,13,1),1),1,0)","v":0},{"$f":"IF(COUNTIFS(【実施期間中】個別事業におけるPDCAシート!$E$9:$E$21,別紙１_実施報告書!AF169,OFFSET(【実施期間中】個別事業におけるPDCAシート!$F$9,,MATCH(別紙１_実施報告書!$C167,【実施期間中】個別事業におけるPDCAシート!$H$6:$V$6,0)+1,13,1),1),1,0)","v":0},{"$f":"IF(COUNTIFS(【実施期間中】個別事業におけるPDCAシート!$E$9:$E$21,別紙１_実施報告書!AG169,OFFSET(【実施期間中】個別事業におけるPDCAシート!$F$9,,MATCH(別紙１_実施報告書!$C167,【実施期間中】個別事業におけるPDCAシート!$H$6:$V$6,0)+1,13,1),1),1,0)","v":0},{"$f":"IF(COUNTIFS(【実施期間中】個別事業におけるPDCAシート!$E$9:$E$21,別紙１_実施報告書!AH169,OFFSET(【実施期間中】個別事業におけるPDCAシート!$F$9,,MATCH(別紙１_実施報告書!$C167,【実施期間中】個別事業におけるPDCAシート!$H$6:$V$6,0)+1,13,1),1),1,0)","v":0},{"$f":"IF(COUNTIFS(【実施期間中】個別事業におけるPDCAシート!$E$9:$E$21,別紙１_実施報告書!AI169,OFFSET(【実施期間中】個別事業におけるPDCAシート!$F$9,,MATCH(別紙１_実施報告書!$C167,【実施期間中】個別事業におけるPDCAシート!$H$6:$V$6,0)+1,13,1),1),1,0)","v":0},{"$f":"IF(COUNTIFS(【実施期間中】個別事業におけるPDCAシート!$E$9:$E$21,別紙１_実施報告書!AJ169,OFFSET(【実施期間中】個別事業におけるPDCAシート!$F$9,,MATCH(別紙１_実施報告書!$C167,【実施期間中】個別事業におけるPDCAシート!$H$6:$V$6,0)+1,13,1),1),1,0)","v":0},{"$f":"IF(COUNTIFS(【実施期間中】個別事業におけるPDCAシート!$E$9:$E$21,別紙１_実施報告書!AK169,OFFSET(【実施期間中】個別事業におけるPDCAシート!$F$9,,MATCH(別紙１_実施報告書!$C167,【実施期間中】個別事業におけるPDCAシート!$H$6:$V$6,0)+1,13,1),1),1,0)","v":0},{"$f":"IF(COUNTIFS(【実施期間中】個別事業におけるPDCAシート!$E$9:$E$21,別紙１_実施報告書!AL169,OFFSET(【実施期間中】個別事業におけるPDCAシート!$F$9,,MATCH(別紙１_実施報告書!$C167,【実施期間中】個別事業におけるPDCAシート!$H$6:$V$6,0)+1,13,1),1),1,0)","v":0},{"$f":"IF(COUNTIFS(【実施期間中】個別事業におけるPDCAシート!$E$9:$E$21,別紙１_実施報告書!AM169,OFFSET(【実施期間中】個別事業におけるPDCAシート!$F$9,,MATCH(別紙１_実施報告書!$C167,【実施期間中】個別事業におけるPDCAシート!$H$6:$V$6,0)+1,13,1),1),1,0)","v":0},{"$f":"IF(COUNTIFS(【実施期間中】個別事業におけるPDCAシート!$E$9:$E$21,別紙１_実施報告書!AN169,OFFSET(【実施期間中】個別事業におけるPDCAシート!$F$9,,MATCH(別紙１_実施報告書!$C167,【実施期間中】個別事業におけるPDCAシート!$H$6:$V$6,0)+1,13,1),1),1,0)","v":0},{"$f":"IF(COUNTIFS(【実施期間中】個別事業におけるPDCAシート!$E$9:$E$21,別紙１_実施報告書!AO169,OFFSET(【実施期間中】個別事業におけるPDCAシート!$F$9,,MATCH(別紙１_実施報告書!$C167,【実施期間中】個別事業におけるPDCAシート!$H$6:$V$6,0)+1,13,1),1),1,0)","v":0},{"$f":"IF(COUNTIFS(【実施期間中】個別事業におけるPDCAシート!$E$9:$E$21,別紙１_実施報告書!AP169,OFFSET(【実施期間中】個別事業におけるPDCAシート!$F$9,,MATCH(別紙１_実施報告書!$C167,【実施期間中】個別事業におけるPDCAシート!$H$6:$V$6,0)+1,13,1),1),1,0)","v":0},{"$f":"IF(COUNTIFS(【実施期間中】個別事業におけるPDCAシート!$E$9:$E$21,別紙１_実施報告書!AQ169,OFFSET(【実施期間中】個別事業におけるPDCAシート!$F$9,,MATCH(別紙１_実施報告書!$C167,【実施期間中】個別事業におけるPDCAシート!$H$6:$V$6,0)+1,13,1),1),1,0)","v":0},{"$f":"IF(COUNTIFS(【実施期間中】個別事業におけるPDCAシート!$E$9:$E$21,別紙１_実施報告書!AR169,OFFSET(【実施期間中】個別事業におけるPDCAシート!$F$9,,MATCH(別紙１_実施報告書!$C167,【実施期間中】個別事業におけるPDCAシート!$H$6:$V$6,0)+1,13,1),1),1,0)","v":0},{"$f":"IF(COUNTIFS(【実施期間中】個別事業におけるPDCAシート!$E$9:$E$21,別紙１_実施報告書!AS169,OFFSET(【実施期間中】個別事業におけるPDCAシート!$F$9,,MATCH(別紙１_実施報告書!$C167,【実施期間中】個別事業におけるPDCAシート!$H$6:$V$6,0)+1,13,1),1),1,0)","v":0},{"$f":"IF(COUNTIFS(【実施期間中】個別事業におけるPDCAシート!$E$9:$E$21,別紙１_実施報告書!AT169,OFFSET(【実施期間中】個別事業におけるPDCAシート!$F$9,,MATCH(別紙１_実施報告書!$C167,【実施期間中】個別事業におけるPDCAシート!$H$6:$V$6,0)+1,13,1),1),1,0)","v":0},{"$f":"IF(COUNTIFS(【実施期間中】個別事業におけるPDCAシート!$E$9:$E$21,別紙１_実施報告書!AU169,OFFSET(【実施期間中】個別事業におけるPDCAシート!$F$9,,MATCH(別紙１_実施報告書!$C167,【実施期間中】個別事業におけるPDCAシート!$H$6:$V$6,0)+1,13,1),1),1,0)","v":0},{"$f":"IF(COUNTIFS(【実施期間中】個別事業におけるPDCAシート!$E$9:$E$21,別紙１_実施報告書!AV169,OFFSET(【実施期間中】個別事業におけるPDCAシート!$F$9,,MATCH(別紙１_実施報告書!$C167,【実施期間中】個別事業におけるPDCAシート!$H$6:$V$6,0)+1,13,1),1),1,0)","v":0},{"$f":"IF(COUNTIFS(【実施期間中】個別事業におけるPDCAシート!$E$9:$E$21,別紙１_実施報告書!AW169,OFFSET(【実施期間中】個別事業におけるPDCAシート!$F$9,,MATCH(別紙１_実施報告書!$C167,【実施期間中】個別事業におけるPDCAシート!$H$6:$V$6,0)+1,13,1),1),1,0)","v":0},{"$f":"IF(COUNTIFS(【実施期間中】個別事業におけるPDCAシート!$E$9:$E$21,別紙１_実施報告書!AX169,OFFSET(【実施期間中】個別事業におけるPDCAシート!$F$9,,MATCH(別紙１_実施報告書!$C167,【実施期間中】個別事業におけるPDCAシート!$H$6:$V$6,0)+1,13,1),1),1,0)","v":0},{"$f":"IF(COUNTIFS(【実施期間中】個別事業におけるPDCAシート!$E$9:$E$21,別紙１_実施報告書!AY169,OFFSET(【実施期間中】個別事業におけるPDCAシート!$F$9,,MATCH(別紙１_実施報告書!$C167,【実施期間中】個別事業におけるPDCAシート!$H$6:$V$6,0)+1,13,1),1),1,0)","v":0},{"$f":"IF(COUNTIFS(【実施期間中】個別事業におけるPDCAシート!$E$9:$E$21,別紙１_実施報告書!AZ169,OFFSET(【実施期間中】個別事業におけるPDCAシート!$F$9,,MATCH(別紙１_実施報告書!$C167,【実施期間中】個別事業におけるPDCAシート!$H$6:$V$6,0)+1,13,1),1),1,0)","v":0},{"$f":"IF(COUNTIFS(【実施期間中】個別事業におけるPDCAシート!$E$9:$E$21,別紙１_実施報告書!BA169,OFFSET(【実施期間中】個別事業におけるPDCAシート!$F$9,,MATCH(別紙１_実施報告書!$C167,【実施期間中】個別事業におけるPDCAシート!$H$6:$V$6,0)+1,13,1),1),1,0)","v":0},{"$f":"IF(COUNTIFS(【実施期間中】個別事業におけるPDCAシート!$E$9:$E$21,別紙１_実施報告書!BB169,OFFSET(【実施期間中】個別事業におけるPDCAシート!$F$9,,MATCH(別紙１_実施報告書!$C167,【実施期間中】個別事業におけるPDCAシート!$H$6:$V$6,0)+1,13,1),1),1,0)","v":0},{"$f":"COUNTIFS($AE171:$BB171,\"TRUE\")","v":0}]
[null,null,null,null,"⑬",null,"↓ ※①～⑫以外のテーマを設定する場合、具体的に記載してください。"]
[null,null,null,null,"その他"]
[]
[null,null,"訴求手法",null,"※訴求手法については、該当する欄にチェックしてください。"]
[null,null,null,null,"a) 情報発信型（受動型）",null,null,null,null,null,null,null,"b) 情報発信型（能動型）",null,null,null,null,null,null,null,"c) 双方向体験交流型"]
[null,null,null,null,"ラジオ、新聞・広報紙等",null,null,null,null,null,null,null,"講演会・パネル展示等",null,null,null,null,null,null,null,"試乗・体験会、省ｴﾈ診断等"]
[]
[null,null,null,null,"d) 双方向ＷＥＢ等配信型",null,null,null,null,null,null,null,"※d) については使用する媒体等を記載してください。"]
[null,null,null,null,"（新手法）"]
[]
[null,null,"実施期間",null,{"$f":"OFFSET(【実施期間中】個別事業におけるPDCAシート!$A$8,【実施期間中】個別事業におけるPDCAシート!$A$26,MATCH($C167,【実施期間中】個別事業におけるPDCAシート!$H$6:$V$6,0)+6)","v":""},null,null,null,null,null,null,null,null,null,"～",null,null,null,{"$f":"OFFSET(【実施期間中】個別事業におけるPDCAシート!$A$8,【実施期間中】個別事業におけるPDCAシート!$A$28,MATCH($C167,【実施期間中】個別事業におけるPDCAシート!$H$6:$V$6,0)+6)","v":""}]
[null,null,"（備考）",null,{"$f":"OFFSET(【実施期間中】個別事業におけるPDCAシート!$A$8,【実施期間中】個別事業におけるPDCAシート!$A$29,MATCH($C167,【実施期間中】個別事業におけるPDCAシート!$H$6:$V$6,0)+6)","v":""}]
[null,null,"実施日\n（※同一事業内で、\n同一の内容・場所において\n複数日実施する場合）",null,1,null,{"$f":"OFFSET(【実施期間中】個別事業におけるPDCAシート!$A$8,【実施期間中】個別事業におけるPDCAシート!$A$30,MATCH($C167,【実施期間中】個別事業におけるPDCAシート!$H$6:$V$6,0)+6)","v":""},null,null,null,null,null,null,null,null,null,6,null,{"$f":"OFFSET(【実施期間中】個別事業におけるPDCAシート!$A$8,【実施期間中】個別事業におけるPDCAシート!$A$35,MATCH($C167,【実施期間中】個別事業におけるPDCAシート!$H$6:$V$6,0)+6)","v":""}]
[null,null,null,null,2,null,{"$f":"OFFSET(【実施期間中】個別事業におけるPDCAシート!$A$8,【実施期間中】個別事業におけるPDCAシート!$A$31,MATCH($C167,【実施期間中】個別事業におけるPDCAシート!$H$6:$V$6,0)+6)","v":""},null,null,null,null,null,null,null,null,null,7,null,{"$f":"OFFSET(【実施期間中】個別事業におけるPDCAシート!$A$8,【実施期間中】個別事業におけるPDCAシート!$A$36,MATCH($C167,【実施期間中】個別事業におけるPDCAシート!$H$6:$V$6,0)+6)","v":""}]
[null,null,null,null,3,null,{"$f":"OFFSET(【実施期間中】個別事業におけるPDCAシート!$A$8,【実施期間中】個別事業におけるPDCAシート!$A$32,MATCH($C167,【実施期間中】個別事業におけるPDCAシート!$H$6:$V$6,0)+6)","v":""},null,null,null,null,null,null,null,null,null,8,null,{"$f":"OFFSET(【実施期間中】個別事業におけるPDCAシート!$A$8,【実施期間中】個別事業におけるPDCAシート!$A$37,MATCH($C167,【実施期間中】個別事業におけるPDCAシート!$H$6:$V$6,0)+6)","v":""}]
[null,null,null,null,4,null,{"$f":"OFFSET(【実施期間中】個別事業におけるPDCAシート!$A$8,【実施期間中】個別事業におけるPDCAシート!$A$33,MATCH($C167,【実施期間中】個別事業におけるPDCAシート!$H$6:$V$6,0)+6)","v":""},null,null,null,null,null,null,null,null,null,9,null,{"$f":"OFFSET(【実施期間中】個別事業におけるPDCAシート!$A$8,【実施期間中】個別事業におけるPDCAシート!$A$38,MATCH($C167,【実施期間中】個別事業におけるPDCAシート!$H$6:$V$6,0)+6)","v":""}]
[null,null,null,null,5,null,{"$f":"OFFSET(【実施期間中】個別事業におけるPDCAシート!$A$8,【実施期間中】個別事業におけるPDCAシート!$A$34,MATCH($C167,【実施期間中】個別事業におけるPDCAシート!$H$6:$V$6,0)+6)","v":""},null,null,null,null,null,null,null,null,null,10,null,{"$f":"OFFSET(【実施期間中】個別事業におけるPDCAシート!$A$8,【実施期間中】個別事業におけるPDCAシート!$A$39,MATCH($C167,【実施期間中】個別事業におけるPDCAシート!$H$6:$V$6,0)+6)","v":""}]
[null,null,"事業の概要",null,{"$f":"OFFSET(【実施期間中】個別事業におけるPDCAシート!$A$8,【実施期間中】個別事業におけるPDCAシート!$A$40,MATCH($C167,【実施期間中】個別事業におけるPDCAシート!$H$6:$V$6,0)+6)","v":""}]
[null,null,"地域団体との連携",null,{"$f":"別紙１_実施計画書!E172","v":0}]
[null,null,"実施結果",null,{"$f":"OFFSET(【実施期間中】個別事業におけるPDCAシート!$A$8,【実施期間中】個別事業におけるPDCAシート!$A$46,MATCH($C167,【実施期間中】個別事業におけるPDCAシート!$H$6:$V$6,0)+6)","v":0}]
[]
[null,null,"主な訴求対象","計画",{"$f":"OFFSET(【実施期間中】個別事業におけるPDCAシート!$A$8,【実施期間中】個別事業におけるPDCAシート!$A$41,MATCH($C167,【実施期間中】個別事業におけるPDCAシート!$H$6:$V$6,0)+6)","v":""}]
[null,null,null,"結果",{"$f":"OFFSET(【実施期間中】個別事業におけるPDCAシート!$A$8,【実施期間中】個別事業におけるPDCAシート!$A$42,MATCH($C167,【実施期間中】個別事業におけるPDCAシート!$H$6:$V$6,0)+6)","v":0}]
[null,null,"目標アウトプット\n（リーチ数）\n（想定及び実績）",null,"昨年度実績",null,null,null,"計",null,{"$f":"OFFSET(【実施期間中】個別事業におけるPDCAシート!$A$8,【実施期間中】個別事業におけるPDCAシート!$A$47,MATCH($C167,【実施期間中】個別事業におけるPDCAシート!$H$6:$V$6,0)+6)","v":0}]
[null,null,null,null,"昨年度実績算出根拠",null,null,null,{"$f":"OFFSET(【実施期間中】個別事業におけるPDCAシート!$A$8,【実施期間中】個別事業におけるPDCAシート!$A$48,MATCH($C167,【実施期間中】個別事業におけるPDCAシート!$H$6:$V$6,0)+6)","v":""}]
[null,null,null,null,"想定",null,null,null,"計",null,{"$f":"OFFSET(【実施期間中】個別事業におけるPDCAシート!$A$8,【実施期間中】個別事業におけるPDCAシート!$A$49,MATCH($C167,【実施期間中】個別事業におけるPDCAシート!$H$6:$V$6,0)+6)","v":0}]
[null,null,null,null,"算出方法",null,null,null,{"$f":"OFFSET(【実施期間中】個別事業におけるPDCAシート!$A$8,【実施期間中】個別事業におけるPDCAシート!$A$50,MATCH($C167,【実施期間中】個別事業におけるPDCAシート!$H$6:$V$6,0)+6)","v":""}]
[null,null,null,null,"実績値",null,null,null,"計",null,{"$f":"SUM(OFFSET(【実施期間中】個別事業におけるPDCAシート!$A$8,【実施期間中】個別事業におけるPDCAシート!$A$51,MATCH($C167,【実施期間中】個別事業におけるPDCAシート!$H$6:$V$6,0)+6):OFFSET(【実施期間中】個別事業におけるPDCAシート!$A$8,【実施期間中】個別事業におけるPDCAシート!$A$52,MATCH($C167,【実施期間中】個別事業におけるPDCAシート!$H$6:$V$6,0)+6))","v":0}]
[null,null,null,null,"実績値算出根拠",null,null,null,{"$f":"OFFSET(【実施期間中】個別事業におけるPDCAシート!$A$8,【実施期間中】個別事業におけるPDCAシート!$A$53,MATCH($C167,【実施期間中】個別事業におけるPDCAシート!$H$6:$V$6,0)+6)","v":0}]
[null,null,null,null,"その他",null,null,null,{"$f":"OFFSET(【実施期間中】個別事業におけるPDCAシート!$A$8,【実施期間中】個別事業におけるPDCAシート!$A$54,MATCH($C167,【実施期間中】個別事業におけるPDCAシート!$H$6:$V$6,0)+6)","v":0}]
[null,null,"目標アウトカム\n（想定及び実績）\n※記載は任意",null,"計画",null,null,null,{"$f":"OFFSET(【実施期間中】個別事業におけるPDCAシート!$A$8,【実施期間中】個別事業におけるPDCAシート!$A$55,MATCH($C167,【実施期間中】個別事業におけるPDCAシート!$H$6:$V$6,0)+6)","v":""}]
[null,null,null,null,"実績",null,null,null,{"$f":"OFFSET(【実施期間中】個別事業におけるPDCAシート!$A$8,【実施期間中】個別事業におけるPDCAシート!$A$56,MATCH($C167,【実施期間中】個別事業におけるPDCAシート!$H$6:$V$6,0)+6)","v":0}]
[null,null,"エネルギー起源CO2排出\n削減量（想定及び実績）",null,"計画",null,null,null,{"$f":"別紙１_実施計画書!I182:N182","v":0},null,null,null,null,null,"（t-CO2）"]
[null,null,null,null,"計画値\n測定方法\n（計算式、\n根拠資料等）",null,null,null,{"$f":"IF(別紙１_実施計画書!I183=0,\"\",(別紙１_実施計画書!I183))","v":""}]
[]
[]
[]
[null,null,null,null,"実績",null,null,null,{"$f":"OFFSET(【実施期間中】個別事業におけるPDCAシート!$A$8,【実施期間中】個別事業におけるPDCAシート!$A$120,MATCH($C167,【実施期間中】個別事業におけるPDCAシート!$H$6:$V$6,0)+6)","v":0},null,null,null,null,null,"（t-CO2）"]
[null,null,null,null,"実績値\n測定方法\n（計算式、\n根拠資料等）"]
[]
[]
[]
[null,null,"賛同数（想定及び実績）",null,"計画値",null,null,null,"団体",null,{"$f":"OFFSET(【実施期間中】個別事業におけるPDCAシート!$A$8,【実施期間中】個別事業におけるPDCAシート!$A$58,MATCH($C167,【実施期間中】個別事業におけるPDCAシート!$H$6:$V$6,0)+6)","v":0},null,null,null,null,"、個人",null,{"$f":"OFFSET(【実施期間中】個別事業におけるPDCAシート!$A$8,【実施期間中】個別事業におけるPDCAシート!$A$61,MATCH($C167,【実施期間中】個別事業におけるPDCAシート!$H$6:$V$6,0)+6)","v":0}]
[null,null,null,null,"実績値",null,null,null,"団体",null,{"$f":"OFFSET(【実施期間中】個別事業におけるPDCAシート!$A$8,【実施期間中】個別事業におけるPDCAシート!$A$59,MATCH($C167,【実施期間中】個別事業におけるPDCAシート!$H$6:$V$6,0)+6)","v":0},null,null,null,null,"、個人",null,{"$f":"OFFSET(【実施期間中】個別事業におけるPDCAシート!$A$8,【実施期間中】個別事業におけるPDCAシート!$A$62,MATCH($C167,【実施期間中】個別事業におけるPDCAシート!$H$6:$V$6,0)+6)","v":0}]
[null,null,"効果検証\n（アンケート）",null,"※アンケートの実施予定をプルダウンより選択してください。"]
[null,null,null,null,"公募要領に規定のアンケート"]
[null,null,null,null,"省エネ機器",null,null,"省エネ住宅",null,null,"エコカー",null,null,"クールビズ",null,null,"ウォームビズ",null,null,"照明の\n効率的利用",null,null,"ｴｺﾄﾞﾗｲﾌﾞ",null,null,"カーシェア"]
[null,null,null,null,"- 選択 -",null,null,"- 選択 -",null,null,"- 選択 -",null,null,"- 選択 -",null,null,"- 選択 -",null,null,"- 選択 -",null,null,"- 選択 -",null,null,"- 選択 -"]
[null,null,null,null,"公募要領に規定のアンケート",null,null,null,null,null,null,null,null,null,null,null,"貴事業者独自のアンケート"]
[null,null,null,null,"ｽﾏｰﾄﾑｰﾌﾞ",null,null,"低炭素物流",null,null,"再エネ",null,null,"食品ロス"]
[null,null,null,null,"- 選択 -",null,null,"- 選択 -",null,null,"- 選択 -",null,null,"- 選択 -",null,null,"- 選択 -"]
[null,null,null,null,"内容（",null,null,null,null,null,null,null,null,null,null,null,null,null,null,null,null,null,null,null,null,null,null,"）"]
[null,null,null,null,"昨年度実績",null,null,null,"計",{"$f":"OFFSET(【実施期間中】個別事業におけるPDCAシート!$A$8,【実施期間中】個別事業におけるPDCAシート!$A$77,MATCH($C167,【実施期間中】個別事業におけるPDCAシート!$H$6:$V$6,0)+6)","v":0},null,null,"枚",null,"※複数ある場合は、アンケート合計回収数"]
[null,null,null,null,"回収数",null,null,null,"計",{"$f":"OFFSET(【実施期間中】個別事業におけるPDCAシート!$A$8,【実施期間中】個別事業におけるPDCAシート!$A$79,MATCH($C167,【実施期間中】個別事業におけるPDCAシート!$H$6:$V$6,0)+6)","v":0},null,null,"枚",null,"※複数ある場合は、アンケート合計回収数"]
[]
[null,null,"項目",null,"内容"]
[null,null,"事業4","事業名",{"$f":"OFFSET(【実施期間中】個別事業におけるPDCAシート!$A$8,,MATCH(C228,【実施期間中】個別事業におけるPDCAシート!$H$6:$V$6,0)+6)","v":""}]
[null,null,"普及啓発テーマ",null,"※該当するテーマすべてをチェックしてください。"]
[null,null,null,null,"①",null,"②",null,"③",null,"④",null,"⑤",null,"⑥",null,"⑦",null,"⑧",null,"⑨",null,"⑩",null,"⑪",null,"⑫",null,null,null,"①","②","③","④","⑤","⑥","⑦","⑧","⑨","⑩","⑪","⑫","⑬",null,null,null,null,null,null,null,null,null,null,null,null,null,"a)","b)","c)","d)"]
[null,null,null,null,"省ｴﾈ機器",null,"省ｴﾈ住宅",null,"ｴｺｶｰ",null,"ｸｰﾙﾋﾞｽﾞ",null,"ｳｫｰﾑﾋﾞｽﾞ",null,"照明の\n高効率利用",null,"ｴｺﾄﾞﾗｲﾌﾞ",null,"ｶｰｼｪｱ",null,"ｽﾏｰﾄﾑｰﾌﾞ",null,"再配達防止",null,"再エネ",null,"食品ロス",null,null,null,"省ｴﾈ機器","省ｴﾈ住宅","ｴｺｶｰ","ｸｰﾙﾋﾞｽﾞ","ｳｫｰﾑﾋﾞｽﾞ","照明の\n高効率利用","ｴｺﾄﾞﾗｲﾌﾞ","ｶｰｼｪｱ","ｽﾏｰﾄﾑｰﾌﾞ","再配達防止","再エネ","食品ロス","その他",null,null,null,null,null,null,null,null,null,null,null,null,null,{"$f":"IF(COUNTIFS(【実施期間中】個別事業におけるPDCAシート!$E$22:$E$25,別紙１_実施報告書!BE230,OFFSET(【実施期間中】個別事業におけるPDCAシート!$F$22,,MATCH(別紙１_実施報告書!$C228,【実施期間中】個別事業におけるPDCAシート!$H$6:$V$6,0)+1,4,1),1),1,0)","v":0},{"$f":"IF(COUNTIFS(【実施期間中】個別事業におけるPDCAシート!$E$22:$E$25,別紙１_実施報告書!BF230,OFFSET(【実施期間中】個別事業におけるPDCAシート!$F$22,,MATCH(別紙１_実施報告書!$C228,【実施期間中】個別事業におけるPDCAシート!$H$6:$V$6,0)+1,4,1),1),1,0)","v":0},{"$f":"IF(COUNTIFS(【実施期間中】個別事業におけるPDCAシート!$E$22:$E$25,別紙１_実施報告書!BG230,OFFSET(【実施期間中】個別事業におけるPDCAシート!$F$22,,MATCH(別紙１_実施報告書!$C228,【実施期間中】個別事業におけるPDCAシート!$H$6:$V$6,0)+1,4,1),1),1,0)","v":0},{"$f":"IF(COUNTIFS(【実施期間中】個別事業におけるPDCAシート!$E$22:$E$25,別紙１_実施報告書!BH230,OFFSET(【実施期間中】個別事業におけるPDCAシート!$F$22,,MATCH(別紙１_実施報告書!$C228,【実施期間中】個別事業におけるPDCAシート!$H$6:$V$6,0)+1,4,1),1),1,0)","v":0},{"$f":"COUNTIFS(BE231:BH231,1)+COUNTIFS(BE231:BH231,\"TRUE\")","v":0}]
[null,null,null,null,null,null,null,null,null,null,null,null,null,null,null,null,null,null,null,null,null,null,null,null,null,null,null,null,null,null,{"$f":"IF(COUNTIFS(【実施期間中】個別事業におけるPDCAシート!$E$9:$E$21,別紙１_実施報告書!AE230,OFFSET(【実施期間中】個別事業におけるPDCAシート!$F$9,,MATCH(別紙１_実施報告書!$C228,【実施期間中】個別事業におけるPDCAシート!$H$6:$V$6,0)+1,13,1),1),1,0)","v":0},{"$f":"IF(COUNTIFS(【実施期間中】個別事業におけるPDCAシート!$E$9:$E$21,別紙１_実施報告書!AF230,OFFSET(【実施期間中】個別事業におけるPDCAシート!$F$9,,MATCH(別紙１_実施報告書!$C228,【実施期間中】個別事業におけるPDCAシート!$H$6:$V$6,0)+1,13,1),1),1,0)","v":0},{"$f":"IF(COUNTIFS(【実施期間中】個別事業におけるPDCAシート!$E$9:$E$21,別紙１_実施報告書!AG230,OFFSET(【実施期間中】個別事業におけるPDCAシート!$F$9,,MATCH(別紙１_実施報告書!$C228,【実施期間中】個別事業におけるPDCAシート!$H$6:$V$6,0)+1,13,1),1),1,0)","v":0},{"$f":"IF(COUNTIFS(【実施期間中】個別事業におけるPDCAシート!$E$9:$E$21,別紙１_実施報告書!AH230,OFFSET(【実施期間中】個別事業におけるPDCAシート!$F$9,,MATCH(別紙１_実施報告書!$C228,【実施期間中】個別事業におけるPDCAシート!$H$6:$V$6,0)+1,13,1),1),1,0)","v":0},{"$f":"IF(COUNTIFS(【実施期間中】個別事業におけるPDCAシート!$E$9:$E$21,別紙１_実施報告書!AI230,OFFSET(【実施期間中】個別事業におけるPDCAシート!$F$9,,MATCH(別紙１_実施報告書!$C228,【実施期間中】個別事業におけるPDCAシート!$H$6:$V$6,0)+1,13,1),1),1,0)","v":0},{"$f":"IF(COUNTIFS(【実施期間中】個別事業におけるPDCAシート!$E$9:$E$21,別紙１_実施報告書!AJ230,OFFSET(【実施期間中】個別事業におけるPDCAシート!$F$9,,MATCH(別紙１_実施報告書!$C228,【実施期間中】個別事業におけるPDCAシート!$H$6:$V$6,0)+1,13,1),1),1,0)","v":0},{"$f":"IF(COUNTIFS(【実施期間中】個別事業におけるPDCAシート!$E$9:$E$21,別紙１_実施報告書!AK230,OFFSET(【実施期間中】個別事業におけるPDCAシート!$F$9,,MATCH(別紙１_実施報告書!$C228,【実施期間中】個別事業におけるPDCAシート!$H$6:$V$6,0)+1,13,1),1),1,0)","v":0},{"$f":"IF(COUNTIFS(【実施期間中】個別事業におけるPDCAシート!$E$9:$E$21,別紙１_実施報告書!AL230,OFFSET(【実施期間中】個別事業におけるPDCAシート!$F$9,,MATCH(別紙１_実施報告書!$C228,【実施期間中】個別事業におけるPDCAシート!$H$6:$V$6,0)+1,13,1),1),1,0)","v":0},{"$f":"IF(COUNTIFS(【実施期間中】個別事業におけるPDCAシート!$E$9:$E$21,別紙１_実施報告書!AM230,OFFSET(【実施期間中】個別事業におけるPDCAシート!$F$9,,MATCH(別紙１_実施報告書!$C228,【実施期間中】個別事業におけるPDCAシート!$H$6:$V$6,0)+1,13,1),1),1,0)","v":0},{"$f":"IF(COUNTIFS(【実施期間中】個別事業におけるPDCAシート!$E$9:$E$21,別紙１_実施報告書!AN230,OFFSET(【実施期間中】個別事業におけるPDCAシート!$F$9,,MATCH(別紙１_実施報告書!$C228,【実施期間中】個別事業におけるPDCAシート!$H$6:$V$6,0)+1,13,1),1),1,0)","v":0},{"$f":"IF(COUNTIFS(【実施期間中】個別事業におけるPDCAシート!$E$9:$E$21,別紙１_実施報告書!AO230,OFFSET(【実施期間中】個別事業におけるPDCAシート!$F$9,,MATCH(別紙１_実施報告書!$C228,【実施期間中】個別事業におけるPDCAシート!$H$6:$V$6,0)+1,13,1),1),1,0)","v":0},{"$f":"IF(COUNTIFS(【実施期間中】個別事業におけるPDCAシート!$E$9:$E$21,別紙１_実施報告書!AP230,OFFSET(【実施期間中】個別事業におけるPDCAシート!$F$9,,MATCH(別紙１_実施報告書!$C228,【実施期間中】個別事業におけるPDCAシート!$H$6:$V$6,0)+1,13,1),1),1,0)","v":0},{"$f":"IF(COUNTIFS(【実施期間中】個別事業におけるPDCAシート!$E$9:$E$21,別紙１_実施報告書!AQ230,OFFSET(【実施期間中】個別事業におけるPDCAシート!$F$9,,MATCH(別紙１_実施報告書!$C228,【実施期間中】個別事業におけるPDCAシート!$H$6:$V$6,0)+1,13,1),1),1,0)","v":0},{"$f":"IF(COUNTIFS(【実施期間中】個別事業におけるPDCAシート!$E$9:$E$21,別紙１_実施報告書!AR230,OFFSET(【実施期間中】個別事業におけるPDCAシート!$F$9,,MATCH(別紙１_実施報告書!$C228,【実施期間中】個別事業におけるPDCAシート!$H$6:$V$6,0)+1,13,1),1),1,0)","v":0},{"$f":"IF(COUNTIFS(【実施期間中】個別事業におけるPDCAシート!$E$9:$E$21,別紙１_実施報告書!AS230,OFFSET(【実施期間中】個別事業におけるPDCAシート!$F$9,,MATCH(別紙１_実施報告書!$C228,【実施期間中】個別事業におけるPDCAシート!$H$6:$V$6,0)+1,13,1),1),1,0)","v":0},{"$f":"IF(COUNTIFS(【実施期間中】個別事業におけるPDCAシート!$E$9:$E$21,別紙１_実施報告書!AT230,OFFSET(【実施期間中】個別事業におけるPDCAシート!$F$9,,MATCH(別紙１_実施報告書!$C228,【実施期間中】個別事業におけるPDCAシート!$H$6:$V$6,0)+1,13,1),1),1,0)","v":0},{"$f":"IF(COUNTIFS(【実施期間中】個別事業におけるPDCAシート!$E$9:$E$21,別紙１_実施報告書!AU230,OFFSET(【実施期間中】個別事業におけるPDCAシート!$F$9,,MATCH(別紙１_実施報告書!$C228,【実施期間中】個別事業におけるPDCAシート!$H$6:$V$6,0)+1,13,1),1),1,0)","v":0},{"$f":"IF(COUNTIFS(【実施期間中】個別事業におけるPDCAシート!$E$9:$E$21,別紙１_実施報告書!AV230,OFFSET(【実施期間中】個別事業におけるPDCAシート!$F$9,,MATCH(別紙１_実施報告書!$C228,【実施期間中】個別事業におけるPDCAシート!$H$6:$V$6,0)+1,13,1),1),1,0)","v":0},{"$f":"IF(COUNTIFS(【実施期間中】個別事業におけるPDCAシート!$E$9:$E$21,別紙１_実施報告書!AW230,OFFSET(【実施期間中】個別事業におけるPDCAシート!$F$9,,MATCH(別紙１_実施報告書!$C228,【実施期間中】個別事業におけるPDCAシート!$H$6:$V$6,0)+1,13,1),1),1,0)","v":0},{"$f":"IF(COUNTIFS(【実施期間中】個別事業におけるPDCAシート!$E$9:$E$21,別紙１_実施報告書!AX230,OFFSET(【実施期間中】個別事業におけるPDCAシート!$F$9,,MATCH(別紙１_実施報告書!$C228,【実施期間中】個別事業におけるPDCAシート!$H$6:$V$6,0)+1,13,1),1),1,0)","v":0},{"$f":"IF(COUNTIFS(【実施期間中】個別事業におけるPDCAシート!$E$9:$E$21,別紙１_実施報告書!AY230,OFFSET(【実施期間中】個別事業におけるPDCAシート!$F$9,,MATCH(別紙１_実施報告書!$C228,【実施期間中】個別事業におけるPDCAシート!$H$6:$V$6,0)+1,13,1),1),1,0)","v":0},{"$f":"IF(COUNTIFS(【実施期間中】個別事業におけるPDCAシート!$E$9:$E$21,別紙１_実施報告書!AZ230,OFFSET(【実施期間中】個別事業におけるPDCAシート!$F$9,,MATCH(別紙１_実施報告書!$C228,【実施期間中】個別事業におけるPDCAシート!$H$6:$V$6,0)+1,13,1),1),1,0)","v":0},{"$f":"IF(COUNTIFS(【実施期間中】個別事業におけるPDCAシート!$E$9:$E$21,別紙１_実施報告書!BA230,OFFSET(【実施期間中】個別事業におけるPDCAシート!$F$9,,MATCH(別紙１_実施報告書!$C228,【実施期間中】個別事業におけるPDCAシート!$H$6:$V$6,0)+1,13,1),1),1,0)","v":0},{"$f":"IF(COUNTIFS(【実施期間中】個別事業におけるPDCAシート!$E$9:$E$21,別紙１_実施報告書!BB230,OFFSET(【実施期間中】個別事業におけるPDCAシート!$F$9,,MATCH(別紙１_実施報告書!$C228,【実施期間中】個別事業におけるPDCAシート!$H$6:$V$6,0)+1,13,1),1),1,0)","v":0},{"$f":"COUNTIFS($AE232:$BB232,\"TRUE\")","v":0}]
[null,null,null,null,"⑬",null,"↓ ※①～⑫以外のテーマを設定する場合、具体的に記載してください。"]
[null,null,null,null,"その他"]
[]
[null,null,"訴求手法",null,"※訴求手法については、該当する欄にチェックしてください。"]
[null,null,null,null,"a) 情報発信型（受動型）",null,null,null,null,null,null,null,"b) 情報発信型（能動型）",null,null,null,null,null,null,null,"c) 双方向体験交流型"]
[null,null,null,null,"ラジオ、新聞・広報紙等",null,null,null,null,null,null,null,"講演会・パネル展示等",null,null,null,null,null,null,null,"試乗・体験会、省ｴﾈ診断等"]
[]
[null,null,null,null,"d) 双方向ＷＥＢ等配信型",null,null,null,null,null,null,null,"※d) については使用する媒体等を記載してください。"]
[null,null,null,null,"（新手法）"]
[]
[null,null,"実施期間",null,{"$f":"OFFSET(【実施期間中】個別事業におけるPDCAシート!$A$8,【実施期間中】個別事業におけるPDCAシート!$A$26,MATCH($C228,【実施期間中】個別事業におけるPDCAシート!$H$6:$V$6,0)+6)","v":""},null,null,null,null,null,null,null,null,null,"～",null,null,null,{"$f":"OFFSET(【実施期間中】個別事業におけるPDCAシート!$A$8,【実施期間中】個別事業におけるPDCAシート!$A$28,MATCH($C228,【実施期間中】個別事業におけるPDCAシート!$H$6:$V$6,0)+6)","v":""}]
[null,null,"（備考）",null,{"$f":"OFFSET(【実施期間中】個別事業におけるPDCAシート!$A$8,【実施期間中】個別事業におけるPDCAシート!$A$29,MATCH($C228,【実施期間中】個別事業におけるPDCAシート!$H$6:$V$6,0)+6)","v":""}]
[null,null,"実施日\n（※同一事業内で、\n同一の内容・場所において\n複数日実施する場合）",null,1,null,{"$f":"OFFSET(【実施期間中】個別事業におけるPDCAシート!$A$8,【実施期間中】個別事業におけるPDCAシート!$A$30,MATCH($C228,【実施期間中】個別事業におけるPDCAシート!$H$6:$V$6,0)+6)","v":""},null,null,null,null,null,null,null,null,null,6,null,{"$f":"OFFSET(【実施期間中】個別事業におけるPDCAシート!$A$8,【実施期間中】個別事業におけるPDCAシート!$A$35,MATCH($C228,【実施期間中】個別事業におけるPDCAシート!$H$6:$V$6,0)+6)","v":""}]
[null,null,null,null,2,null,{"$f":"OFFSET(【実施期間中】個別事業におけるPDCAシート!$A$8,【実施期間中】個別事業におけるPDCAシート!$A$31,MATCH($C228,【実施期間中】個別事業におけるPDCAシート!$H$6:$V$6,0)+6)","v":""},null,null,null,null,null,null,null,null,null,7,null,{"$f":"OFFSET(【実施期間中】個別事業におけるPDCAシート!$A$8,【実施期間中】個別事業におけるPDCAシート!$A$36,MATCH($C228,【実施期間中】個別事業におけるPDCAシート!$H$6:$V$6,0)+6)","v":""}]
[null,null,null,null,3,null,{"$f":"OFFSET(【実施期間中】個別事業におけるPDCAシート!$A$8,【実施期間中】個別事業におけるPDCAシート!$A$32,MATCH($C228,【実施期間中】個別事業におけるPDCAシート!$H$6:$V$6,0)+6)","v":""},null,null,null,null,null,null,null,null,null,8,null,{"$f":"OFFSET(【実施期間中】個別事業におけるPDCAシート!$A$8,【実施期間中】個別事業におけるPDCAシート!$A$37,MATCH($C228,【実施期間中】個別事業におけるPDCAシート!$H$6:$V$6,0)+6)","v":""}]
[null,null,null,null,4,null,{"$f":"OFFSET(【実施期間中】個別事業におけるPDCAシート!$A$8,【実施期間中】個別事業におけるPDCAシート!$A$33,MATCH($C228,【実施期間中】個別事業におけるPDCAシート!$H$6:$V$6,0)+6)","v":""},null,null,null,null,null,null,null,null,null,9,null,{"$f":"OFFSET(【実施期間中】個別事業におけるPDCAシート!$A$8,【実施期間中】個別事業におけるPDCAシート!$A$38,MATCH($C228,【実施期間中】個別事業におけるPDCAシート!$H$6:$V$6,0)+6)","v":""}]
[null,null,null,null,5,null,{"$f":"OFFSET(【実施期間中】個別事業におけるPDCAシート!$A$8,【実施期間中】個別事業におけるPDCAシート!$A$34,MATCH($C228,【実施期間中】個別事業におけるPDCAシート!$H$6:$V$6,0)+6)","v":""},null,null,null,null,null,null,null,null,null,10,null,{"$f":"OFFSET(【実施期間中】個別事業におけるPDCAシート!$A$8,【実施期間中】個別事業におけるPDCAシート!$A$39,MATCH($C228,【実施期間中】個別事業におけるPDCAシート!$H$6:$V$6,0)+6)","v":""}]
[null,null,"事業の概要",null,{"$f":"OFFSET(【実施期間中】個別事業におけるPDCAシート!$A$8,【実施期間中】個別事業におけるPDCAシート!$A$40,MATCH($C228,【実施期間中】個別事業におけるPDCAシート!$H$6:$V$6,0)+6)","v":""}]
[null,null,"地域団体との連携",null,{"$f":"別紙１_実施計画書!E224","v":0}]
[null,null,"実施結果",null,{"$f":"OFFSET(【実施期間中】個別事業におけるPDCAシート!$A$8,【実施期間中】個別事業におけるPDCAシート!$A$46,MATCH($C228,【実施期間中】個別事業におけるPDCAシート!$H$6:$V$6,0)+6)","v":0}]
[]
[null,null,"主な訴求対象","計画",{"$f":"OFFSET(【実施期間中】個別事業におけるPDCAシート!$A$8,【実施期間中】個別事業におけるPDCAシート!$A$41,MATCH($C228,【実施期間中】個別事業におけるPDCAシート!$H$6:$V$6,0)+6)","v":""}]
[null,null,null,"結果",{"$f":"OFFSET(【実施期間中】個別事業におけるPDCAシート!$A$8,【実施期間中】個別事業におけるPDCAシート!$A$42,MATCH($C228,【実施期間中】個別事業におけるPDCAシート!$H$6:$V$6,0)+6)","v":0}]
[null,null,"目標アウトプット\n（リーチ数）\n（想定及び実績）",null,"昨年度実績",null,null,null,"計",null,{"$f":"OFFSET(【実施期間中】個別事業におけるPDCAシート!$A$8,【実施期間中】個別事業におけるPDCAシート!$A$47,MATCH($C228,【実施期間中】個別事業におけるPDCAシート!$H$6:$V$6,0)+6)","v":0}]
[null,null,null,null,"昨年度実績算出根拠",null,null,null,{"$f":"OFFSET(【実施期間中】個別事業におけるPDCAシート!$A$8,【実施期間中】個別事業におけるPDCAシート!$A$48,MATCH($C228,【実施期間中】個別事業におけるPDCAシート!$H$6:$V$6,0)+6)","v":""}]
[null,null,null,null,"想定",null,null,null,"計",null,{"$f":"OFFSET(【実施期間中】個別事業におけるPDCAシート!$A$8,【実施期間中】個別事業におけるPDCAシート!$A$49,MATCH($C228,【実施期間中】個別事業におけるPDCAシート!$H$6:$V$6,0)+6)","v":0}]
[null,null,null,null,"算出方法",null,null,null,{"$f":"OFFSET(【実施期間中】個別事業におけるPDCAシート!$A$8,【実施期間中】個別事業におけるPDCAシート!$A$50,MATCH($C228,【実施期間中】個別事業におけるPDCAシート!$H$6:$V$6,0)+6)","v":""}]
[null,null,null,null,"実績値",null,null,null,"計",null,{"$f":"SUM(OFFSET(【実施期間中】個別事業におけるPDCAシート!$A$8,【実施期間中】個別事業におけるPDCAシート!$A$51,MATCH($C228,【実施期間中】個別事業におけるPDCAシート!$H$6:$V$6,0)+6):OFFSET(【実施期間中】個別事業におけるPDCAシート!$A$8,【実施期間中】個別事業におけるPDCAシート!$A$52,MATCH($C228,【実施期間中】個別事業におけるPDCAシート!$H$6:$V$6,0)+6))","v":0}]
[null,null,null,null,"実績値算出根拠",null,null,null,{"$f":"OFFSET(【実施期間中】個別事業におけるPDCAシート!$A$8,【実施期間中】個別事業におけるPDCAシート!$A$53,MATCH($C228,【実施期間中】個別事業におけるPDCAシート!$H$6:$V$6,0)+6)","v":0}]
[null,null,null,null,"その他",null,null,null,{"$f":"OFFSET(【実施期間中】個別事業におけるPDCAシート!$A$8,【実施期間中】個別事業におけるPDCAシート!$A$54,MATCH($C228,【実施期間中】個別事業におけるPDCAシート!$H$6:$V$6,0)+6)","v":0}]
[null,null,"目標アウトカム\n（想定及び実績）\n※記載は任意",null,"計画",null,null,null,{"$f":"OFFSET(【実施期間中】個別事業におけるPDCAシート!$A$8,【実施期間中】個別事業におけるPDCAシート!$A$55,MATCH($C228,【実施期間中】個別事業におけるPDCAシート!$H$6:$V$6,0)+6)","v":""}]
[null,null,null,null,"実績",null,null,null,{"$f":"OFFSET(【実施期間中】個別事業におけるPDCAシート!$A$8,【実施期間中】個別事業におけるPDCAシート!$A$56,MATCH($C228,【実施期間中】個別事業におけるPDCAシート!$H$6:$V$6,0)+6)","v":0}]
[null,null,"エネルギー起源CO2排出\n削減量（想定及び実績）",null,"計画",null,null,null,{"$f":"別紙１_実施計画書!I234","v":0},null,null,null,null,null,"（t-CO2）"]
[null,null,null,null,"計画値\n測定方法\n（計算式、\n根拠資料等）",null,null,null,{"$f":"IF(別紙１_実施計画書!O235=0,\"\",(別紙１_実施計画書!O235))","v":""}]
[]
[]
[]
[null,null,null,null,"実績",null,null,null,{"$f":"OFFSET(【実施期間中】個別事業におけるPDCAシート!$A$8,【実施期間中】個別事業におけるPDCAシート!$A$120,MATCH($C228,【実施期間中】個別事業におけるPDCAシート!$H$6:$V$6,0)+6)","v":0},null,null,null,null,null,"（t-CO2）"]
[null,null,null,null,"実績値\n測定方法\n（計算式、\n根拠資料等）"]
[]
[]
[]
[null,null,"賛同数（想定及び実績）",null,"計画値",null,null,null,"団体",null,{"$f":"OFFSET(【実施期間中】個別事業におけるPDCAシート!$A$8,【実施期間中】個別事業におけるPDCAシート!$A$58,MATCH($C228,【実施期間中】個別事業におけるPDCAシート!$H$6:$V$6,0)+6)","v":0},null,null,null,null,"、個人",null,{"$f":"OFFSET(【実施期間中】個別事業におけるPDCAシート!$A$8,【実施期間中】個別事業におけるPDCAシート!$A$61,MATCH($C228,【実施期間中】個別事業におけるPDCAシート!$H$6:$V$6,0)+6)","v":0}]
[null,null,null,null,"実績値",null,null,null,"団体",null,{"$f":"OFFSET(【実施期間中】個別事業におけるPDCAシート!$A$8,【実施期間中】個別事業におけるPDCAシート!$A$59,MATCH($C228,【実施期間中】個別事業におけるPDCAシート!$H$6:$V$6,0)+6)","v":0},null,null,null,null,"、個人",null,{"$f":"OFFSET(【実施期間中】個別事業におけるPDCAシート!$A$8,【実施期間中】個別事業におけるPDCAシート!$A$62,MATCH($C228,【実施期間中】個別事業におけるPDCAシート!$H$6:$V$6,0)+6)","v":0}]
[null,null,"効果検証\n（アンケート）",null,"※アンケートの実施予定をプルダウンより選択してください。"]
[null,null,null,null,"公募要領に規定のアンケート"]
[null,null,null,null,"省エネ機器",null,null,"省エネ住宅",null,null,"エコカー",null,null,"クールビズ",null,null,"ウォームビズ",null,null,"照明の\n効率的利用",null,null,"ｴｺﾄﾞﾗｲﾌﾞ",null,null,"カーシェア"]
[null,null,null,null,"- 選択 -",null,null,"- 選択 -",null,null,"- 選択 -",null,null,"- 選択 -",null,null,"- 選択 -",null,null,"- 選択 -",null,null,"- 選択 -",null,null,"- 選択 -"]
[null,null,null,null,"公募要領に規定のアンケート",null,null,null,null,null,null,null,null,null,null,null,"貴事業者独自のアンケート"]
[null,null,null,null,"ｽﾏｰﾄﾑｰﾌﾞ",null,null,"低炭素物流",null,null,"再エネ",null,null,"食品ロス"]
[null,null,null,null,"- 選択 -",null,null,"- 選択 -",null,null,"- 選択 -",null,null,"- 選択 -",null,null,"- 選択 -"]
[null,null,null,null,"内容（",null,null,null,null,null,null,null,null,null,null,null,null,null,null,null,null,null,null,null,null,null,null,"）"]
[null,null,null,null,"昨年度実績",null,null,null,"計",{"$f":"OFFSET(【実施期間中】個別事業におけるPDCAシート!$A$8,【実施期間中】個別事業におけるPDCAシート!$A$77,MATCH($C228,【実施期間中】個別事業におけるPDCAシート!$H$6:$V$6,0)+6)","v":0},null,null,"枚",null,"※複数ある場合は、アンケート合計回収数"]
[null,null,null,null,"回収数",null,null,null,"計",{"$f":"OFFSET(【実施期間中】個別事業におけるPDCAシート!$A$8,【実施期間中】個別事業におけるPDCAシート!$A$79,MATCH($C228,【実施期間中】個別事業におけるPDCAシート!$H$6:$V$6,0)+6)","v":0},null,null,"枚",null,"※複数ある場合は、アンケート合計回収数"]
[]
[null,null,"項目",null,"内容"]
[null,null,"事業5","事業名",{"$f":"OFFSET(【実施期間中】個別事業におけるPDCAシート!$A$8,,MATCH(C289,【実施期間中】個別事業におけるPDCAシート!$H$6:$V$6,0)+6)","v":""}]
[null,null,"普及啓発テーマ",null,"※該当する普及啓発テーマすべてをチェックしてください。"]
[null,null,null,null,"①",null,"②",null,"③",null,"④",null,"⑤",null,"⑥",null,"⑦",null,"⑧",null,"⑨",null,"⑩",null,"⑪",null,"⑫",null,null,null,"①","②","③","④","⑤","⑥","⑦","⑧","⑨","⑩","⑪","⑫","⑬",null,null,null,null,null,null,null,null,null,null,null,null,null,"a)","b)","c)","d)"]
[null,null,null,null,"省ｴﾈ機器",null,"省ｴﾈ住宅",null,"ｴｺｶｰ",null,"ｸｰﾙﾋﾞｽﾞ",null,"ｳｫｰﾑﾋﾞｽﾞ",null,"照明の\n高効率利用",null,"ｴｺﾄﾞﾗｲﾌﾞ",null,"ｶｰｼｪｱ",null,"ｽﾏｰﾄﾑｰﾌﾞ",null,"再配達防止",null,"再エネ",null,"食品ロス",null,null,null,"省ｴﾈ機器","省ｴﾈ住宅","ｴｺｶｰ","ｸｰﾙﾋﾞｽﾞ","ｳｫｰﾑﾋﾞｽﾞ","照明の\n高効率利用","ｴｺﾄﾞﾗｲﾌﾞ","ｶｰｼｪｱ","ｽﾏｰﾄﾑｰﾌﾞ","再配達防止","再エネ","食品ロス","その他",null,null,null,null,null,null,null,null,null,null,null,null,null,{"$f":"IF(COUNTIFS(【実施期間中】個別事業におけるPDCAシート!$E$22:$E$25,別紙１_実施報告書!BE291,OFFSET(【実施期間中】個別事業におけるPDCAシート!$F$22,,MATCH(別紙１_実施報告書!$C289,【実施期間中】個別事業におけるPDCAシート!$H$6:$V$6,0)+1,4,1),1),1,0)","v":0},{"$f":"IF(COUNTIFS(【実施期間中】個別事業におけるPDCAシート!$E$22:$E$25,別紙１_実施報告書!BF291,OFFSET(【実施期間中】個別事業におけるPDCAシート!$F$22,,MATCH(別紙１_実施報告書!$C289,【実施期間中】個別事業におけるPDCAシート!$H$6:$V$6,0)+1,4,1),1),1,0)","v":0},{"$f":"IF(COUNTIFS(【実施期間中】個別事業におけるPDCAシート!$E$22:$E$25,別紙１_実施報告書!BG291,OFFSET(【実施期間中】個別事業におけるPDCAシート!$F$22,,MATCH(別紙１_実施報告書!$C289,【実施期間中】個別事業におけるPDCAシート!$H$6:$V$6,0)+1,4,1),1),1,0)","v":0},{"$f":"IF(COUNTIFS(【実施期間中】個別事業におけるPDCAシート!$E$22:$E$25,別紙１_実施報告書!BH291,OFFSET(【実施期間中】個別事業におけるPDCAシート!$F$22,,MATCH(別紙１_実施報告書!$C289,【実施期間中】個別事業におけるPDCAシート!$H$6:$V$6,0)+1,4,1),1),1,0)","v":0},{"$f":"COUNTIFS(BE292:BH292,1)+COUNTIFS(BE292:BH292,\"TRUE\")","v":0}]
[null,null,null,null,null,null,null,null,null,null,null,null,null,null,null,null,null,null,null,null,null,null,null,null,null,null,null,null,null,null,{"$f":"IF(COUNTIFS(【実施期間中】個別事業におけるPDCAシート!$E$9:$E$21,別紙１_実施報告書!AE291,OFFSET(【実施期間中】個別事業におけるPDCAシート!$F$9,,MATCH(別紙１_実施報告書!$C289,【実施期間中】個別事業におけるPDCAシート!$H$6:$V$6,0)+1,13,1),1),1,0)","v":0},{"$f":"IF(COUNTIFS(【実施期間中】個別事業におけるPDCAシート!$E$9:$E$21,別紙１_実施報告書!AF291,OFFSET(【実施期間中】個別事業におけるPDCAシート!$F$9,,MATCH(別紙１_実施報告書!$C289,【実施期間中】個別事業におけるPDCAシート!$H$6:$V$6,0)+1,13,1),1),1,0)","v":0},{"$f":"IF(COUNTIFS(【実施期間中】個別事業におけるPDCAシート!$E$9:$E$21,別紙１_実施報告書!AG291,OFFSET(【実施期間中】個別事業におけるPDCAシート!$F$9,,MATCH(別紙１_実施報告書!$C289,【実施期間中】個別事業におけるPDCAシート!$H$6:$V$6,0)+1,13,1),1),1,0)","v":0},{"$f":"IF(COUNTIFS(【実施期間中】個別事業におけるPDCAシート!$E$9:$E$21,別紙１_実施報告書!AH291,OFFSET(【実施期間中】個別事業におけるPDCAシート!$F$9,,MATCH(別紙１_実施報告書!$C289,【実施期間中】個別事業におけるPDCAシート!$H$6:$V$6,0)+1,13,1),1),1,0)","v":0},{"$f":"IF(COUNTIFS(【実施期間中】個別事業におけるPDCAシート!$E$9:$E$21,別紙１_実施報告書!AI291,OFFSET(【実施期間中】個別事業におけるPDCAシート!$F$9,,MATCH(別紙１_実施報告書!$C289,【実施期間中】個別事業におけるPDCAシート!$H$6:$V$6,0)+1,13,1),1),1,0)","v":0},{"$f":"IF(COUNTIFS(【実施期間中】個別事業におけるPDCAシート!$E$9:$E$21,別紙１_実施報告書!AJ291,OFFSET(【実施期間中】個別事業におけるPDCAシート!$F$9,,MATCH(別紙１_実施報告書!$C289,【実施期間中】個別事業におけるPDCAシート!$H$6:$V$6,0)+1,13,1),1),1,0)","v":0},{"$f":"IF(COUNTIFS(【実施期間中】個別事業におけるPDCAシート!$E$9:$E$21,別紙１_実施報告書!AK291,OFFSET(【実施期間中】個別事業におけるPDCAシート!$F$9,,MATCH(別紙１_実施報告書!$C289,【実施期間中】個別事業におけるPDCAシート!$H$6:$V$6,0)+1,13,1),1),1,0)","v":0},{"$f":"IF(COUNTIFS(【実施期間中】個別事業におけるPDCAシート!$E$9:$E$21,別紙１_実施報告書!AL291,OFFSET(【実施期間中】個別事業におけるPDCAシート!$F$9,,MATCH(別紙１_実施報告書!$C289,【実施期間中】個別事業におけるPDCAシート!$H$6:$V$6,0)+1,13,1),1),1,0)","v":0},{"$f":"IF(COUNTIFS(【実施期間中】個別事業におけるPDCAシート!$E$9:$E$21,別紙１_実施報告書!AM291,OFFSET(【実施期間中】個別事業におけるPDCAシート!$F$9,,MATCH(別紙１_実施報告書!$C289,【実施期間中】個別事業におけるPDCAシート!$H$6:$V$6,0)+1,13,1),1),1,0)","v":0},{"$f":"IF(COUNTIFS(【実施期間中】個別事業におけるPDCAシート!$E$9:$E$21,別紙１_実施報告書!AN291,OFFSET(【実施期間中】個別事業におけるPDCAシート!$F$9,,MATCH(別紙１_実施報告書!$C289,【実施期間中】個別事業におけるPDCAシート!$H$6:$V$6,0)+1,13,1),1),1,0)","v":0},{"$f":"IF(COUNTIFS(【実施期間中】個別事業におけるPDCAシート!$E$9:$E$21,別紙１_実施報告書!AO291,OFFSET(【実施期間中】個別事業におけるPDCAシート!$F$9,,MATCH(別紙１_実施報告書!$C289,【実施期間中】個別事業におけるPDCAシート!$H$6:$V$6,0)+1,13,1),1),1,0)","v":0},{"$f":"IF(COUNTIFS(【実施期間中】個別事業におけるPDCAシート!$E$9:$E$21,別紙１_実施報告書!AP291,OFFSET(【実施期間中】個別事業におけるPDCAシート!$F$9,,MATCH(別紙１_実施報告書!$C289,【実施期間中】個別事業におけるPDCAシート!$H$6:$V$6,0)+1,13,1),1),1,0)","v":0},{"$f":"IF(COUNTIFS(【実施期間中】個別事業におけるPDCAシート!$E$9:$E$21,別紙１_実施報告書!AQ291,OFFSET(【実施期間中】個別事業におけるPDCAシート!$F$9,,MATCH(別紙１_実施報告書!$C289,【実施期間中】個別事業におけるPDCAシート!$H$6:$V$6,0)+1,13,1),1),1,0)","v":0},{"$f":"IF(COUNTIFS(【実施期間中】個別事業におけるPDCAシート!$E$9:$E$21,別紙１_実施報告書!AR291,OFFSET(【実施期間中】個別事業におけるPDCAシート!$F$9,,MATCH(別紙１_実施報告書!$C289,【実施期間中】個別事業におけるPDCAシート!$H$6:$V$6,0)+1,13,1),1),1,0)","v":0},{"$f":"IF(COUNTIFS(【実施期間中】個別事業におけるPDCAシート!$E$9:$E$21,別紙１_実施報告書!AS291,OFFSET(【実施期間中】個別事業におけるPDCAシート!$F$9,,MATCH(別紙１_実施報告書!$C289,【実施期間中】個別事業におけるPDCAシート!$H$6:$V$6,0)+1,13,1),1),1,0)","v":0},{"$f":"IF(COUNTIFS(【実施期間中】個別事業におけるPDCAシート!$E$9:$E$21,別紙１_実施報告書!AT291,OFFSET(【実施期間中】個別事業におけるPDCAシート!$F$9,,MATCH(別紙１_実施報告書!$C289,【実施期間中】個別事業におけるPDCAシート!$H$6:$V$6,0)+1,13,1),1),1,0)","v":0},{"$f":"IF(COUNTIFS(【実施期間中】個別事業におけるPDCAシート!$E$9:$E$21,別紙１_実施報告書!AU291,OFFSET(【実施期間中】個別事業におけるPDCAシート!$F$9,,MATCH(別紙１_実施報告書!$C289,【実施期間中】個別事業におけるPDCAシート!$H$6:$V$6,0)+1,13,1),1),1,0)","v":0},{"$f":"IF(COUNTIFS(【実施期間中】個別事業におけるPDCAシート!$E$9:$E$21,別紙１_実施報告書!AV291,OFFSET(【実施期間中】個別事業におけるPDCAシート!$F$9,,MATCH(別紙１_実施報告書!$C289,【実施期間中】個別事業におけるPDCAシート!$H$6:$V$6,0)+1,13,1),1),1,0)","v":0},{"$f":"IF(COUNTIFS(【実施期間中】個別事業におけるPDCAシート!$E$9:$E$21,別紙１_実施報告書!AW291,OFFSET(【実施期間中】個別事業におけるPDCAシート!$F$9,,MATCH(別紙１_実施報告書!$C289,【実施期間中】個別事業におけるPDCAシート!$H$6:$V$6,0)+1,13,1),1),1,0)","v":0},{"$f":"IF(COUNTIFS(【実施期間中】個別事業におけるPDCAシート!$E$9:$E$21,別紙１_実施報告書!AX291,OFFSET(【実施期間中】個別事業におけるPDCAシート!$F$9,,MATCH(別紙１_実施報告書!$C289,【実施期間中】個別事業におけるPDCAシート!$H$6:$V$6,0)+1,13,1),1),1,0)","v":0},{"$f":"IF(COUNTIFS(【実施期間中】個別事業におけるPDCAシート!$E$9:$E$21,別紙１_実施報告書!AY291,OFFSET(【実施期間中】個別事業におけるPDCAシート!$F$9,,MATCH(別紙１_実施報告書!$C289,【実施期間中】個別事業におけるPDCAシート!$H$6:$V$6,0)+1,13,1),1),1,0)","v":0},{"$f":"IF(COUNTIFS(【実施期間中】個別事業におけるPDCAシート!$E$9:$E$21,別紙１_実施報告書!AZ291,OFFSET(【実施期間中】個別事業におけるPDCAシート!$F$9,,MATCH(別紙１_実施報告書!$C289,【実施期間中】個別事業におけるPDCAシート!$H$6:$V$6,0)+1,13,1),1),1,0)","v":0},{"$f":"IF(COUNTIFS(【実施期間中】個別事業におけるPDCAシート!$E$9:$E$21,別紙１_実施報告書!BA291,OFFSET(【実施期間中】個別事業におけるPDCAシート!$F$9,,MATCH(別紙１_実施報告書!$C289,【実施期間中】個別事業におけるPDCAシート!$H$6:$V$6,0)+1,13,1),1),1,0)","v":0},{"$f":"IF(COUNTIFS(【実施期間中】個別事業におけるPDCAシート!$E$9:$E$21,別紙１_実施報告書!BB291,OFFSET(【実施期間中】個別事業におけるPDCAシート!$F$9,,MATCH(別紙１_実施報告書!$C289,【実施期間中】個別事業におけるPDCAシート!$H$6:$V$6,0)+1,13,1),1),1,0)","v":0},{"$f":"COUNTIFS($AE293:$BB293,1)+COUNTIFS($AE293:$BB293,\"TRUE\")","v":0}]
[null,null,null,null,"⑬",null,"↓ ※①～⑫以外のテーマを設定する場合、具体的に記載してください。"]
[null,null,null,null,"その他"]
[]
[null,null,"訴求手法",null,"※訴求手法については、該当する欄にチェックしてください。"]
[null,null,null,null,"a) 情報発信型（受動型）",null,null,null,null,null,null,null,"b) 情報発信型（能動型）",null,null,null,null,null,null,null,"c) 双方向体験交流型"]
[null,null,null,null,"ラジオ、新聞・広報紙等",null,null,null,null,null,null,null,"講演会・パネル展示等",null,null,null,null,null,null,null,"試乗・体験会、省ｴﾈ診断等"]
[]
[null,null,null,null,"d) 双方向ＷＥＢ等配信型",null,null,null,null,null,null,null,"※d) については使用する媒体等を記載してください。"]
[null,null,null,null,"（新手法）"]
[]
[null,null,"実施期間",null,{"$f":"OFFSET(【実施期間中】個別事業におけるPDCAシート!$A$8,【実施期間中】個別事業におけるPDCAシート!$A$26,MATCH($C289,【実施期間中】個別事業におけるPDCAシート!$H$6:$V$6,0)+6)","v":""},null,null,null,null,null,null,null,null,null,"～",null,null,null,{"$f":"OFFSET(【実施期間中】個別事業におけるPDCAシート!$A$8,【実施期間中】個別事業におけるPDCAシート!$A$28,MATCH($C289,【実施期間中】個別事業におけるPDCAシート!$H$6:$V$6,0)+6)","v":""}]
[null,null,"（備考）",null,{"$f":"OFFSET(【実施期間中】個別事業におけるPDCAシート!$A$8,【実施期間中】個別事業におけるPDCAシート!$A$29,MATCH($C289,【実施期間中】個別事業におけるPDCAシート!$H$6:$V$6,0)+6)","v":""}]
[null,null,"実施日\n（※同一事業内で、\n同一の内容・場所において\n複数日実施する場合）",null,1,null,{"$f":"OFFSET(【実施期間中】個別事業におけるPDCAシート!$A$8,【実施期間中】個別事業におけるPDCAシート!$A$30,MATCH($C289,【実施期間中】個別事業におけるPDCAシート!$H$6:$V$6,0)+6)","v":""},null,null,null,null,null,null,null,null,null,6,null,{"$f":"OFFSET(【実施期間中】個別事業におけるPDCAシート!$A$8,【実施期間中】個別事業におけるPDCAシート!$A$35,MATCH($C289,【実施期間中】個別事業におけるPDCAシート!$H$6:$V$6,0)+6)","v":""}]
[null,null,null,null,2,null,{"$f":"OFFSET(【実施期間中】個別事業におけるPDCAシート!$A$8,【実施期間中】個別事業におけるPDCAシート!$A$31,MATCH($C289,【実施期間中】個別事業におけるPDCAシート!$H$6:$V$6,0)+6)","v":""},null,null,null,null,null,null,null,null,null,7,null,{"$f":"OFFSET(【実施期間中】個別事業におけるPDCAシート!$A$8,【実施期間中】個別事業におけるPDCAシート!$A$36,MATCH($C289,【実施期間中】個別事業におけるPDCAシート!$H$6:$V$6,0)+6)","v":""}]
[null,null,null,null,3,null,{"$f":"OFFSET(【実施期間中】個別事業におけるPDCAシート!$A$8,【実施期間中】個別事業におけるPDCAシート!$A$32,MATCH($C289,【実施期間中】個別事業におけるPDCAシート!$H$6:$V$6,0)+6)","v":""},null,null,null,null,null,null,null,null,null,8,null,{"$f":"OFFSET(【実施期間中】個別事業におけるPDCAシート!$A$8,【実施期間中】個別事業におけるPDCAシート!$A$37,MATCH($C289,【実施期間中】個別事業におけるPDCAシート!$H$6:$V$6,0)+6)","v":""}]
[null,null,null,null,4,null,{"$f":"OFFSET(【実施期間中】個別事業におけるPDCAシート!$A$8,【実施期間中】個別事業におけるPDCAシート!$A$33,MATCH($C289,【実施期間中】個別事業におけるPDCAシート!$H$6:$V$6,0)+6)","v":""},null,null,null,null,null,null,null,null,null,9,null,{"$f":"OFFSET(【実施期間中】個別事業におけるPDCAシート!$A$8,【実施期間中】個別事業におけるPDCAシート!$A$38,MATCH($C289,【実施期間中】個別事業におけるPDCAシート!$H$6:$V$6,0)+6)","v":""}]
[null,null,null,null,5,null,{"$f":"OFFSET(【実施期間中】個別事業におけるPDCAシート!$A$8,【実施期間中】個別事業におけるPDCAシート!$A$34,MATCH($C289,【実施期間中】個別事業におけるPDCAシート!$H$6:$V$6,0)+6)","v":""},null,null,null,null,null,null,null,null,null,10,null,{"$f":"OFFSET(【実施期間中】個別事業におけるPDCAシート!$A$8,【実施期間中】個別事業におけるPDCAシート!$A$39,MATCH($C289,【実施期間中】個別事業におけるPDCAシート!$H$6:$V$6,0)+6)","v":""}]
[null,null,"事業の概要",null,{"$f":"OFFSET(【実施期間中】個別事業におけるPDCAシート!$A$8,【実施期間中】個別事業におけるPDCAシート!$A$40,MATCH($C289,【実施期間中】個別事業におけるPDCAシート!$H$6:$V$6,0)+6)","v":""}]
[null,null,"地域団体との連携",null,{"$f":"別紙１_実施計画書!E276","v":0}]
[null,null,"実施結果",null,{"$f":"OFFSET(【実施期間中】個別事業におけるPDCAシート!$A$8,【実施期間中】個別事業におけるPDCAシート!$A$46,MATCH($C289,【実施期間中】個別事業におけるPDCAシート!$H$6:$V$6,0)+6)","v":0}]
[]
[null,null,"主な訴求対象","計画",{"$f":"OFFSET(【実施期間中】個別事業におけるPDCAシート!$A$8,【実施期間中】個別事業におけるPDCAシート!$A$41,MATCH($C289,【実施期間中】個別事業におけるPDCAシート!$H$6:$V$6,0)+6)","v":""}]
[null,null,null,"結果",{"$f":"OFFSET(【実施期間中】個別事業におけるPDCAシート!$A$8,【実施期間中】個別事業におけるPDCAシート!$A$42,MATCH($C289,【実施期間中】個別事業におけるPDCAシート!$H$6:$V$6,0)+6)","v":0}]
[null,null,"目標アウトプット\n（リーチ数）\n（想定及び実績）",null,"昨年度実績",null,null,null,"計",null,{"$f":"OFFSET(【実施期間中】個別事業におけるPDCAシート!$A$8,【実施期間中】個別事業におけるPDCAシート!$A$47,MATCH($C289,【実施期間中】個別事業におけるPDCAシート!$H$6:$V$6,0)+6)","v":0}]
[null,null,null,null,"昨年度実績算出根拠",null,null,null,{"$f":"OFFSET(【実施期間中】個別事業におけるPDCAシート!$A$8,【実施期間中】個別事業におけるPDCAシート!$A$48,MATCH($C289,【実施期間中】個別事業におけるPDCAシート!$H$6:$V$6,0)+6)","v":""}]
[null,null,null,null,"想定",null,null,null,"計",null,{"$f":"OFFSET(【実施期間中】個別事業におけるPDCAシート!$A$8,【実施期間中】個別事業におけるPDCAシート!$A$49,MATCH($C289,【実施期間中】個別事業におけるPDCAシート!$H$6:$V$6,0)+6)","v":0}]
[null,null,null,null,"算出方法",null,null,null,{"$f":"OFFSET(【実施期間中】個別事業におけるPDCAシート!$A$8,【実施期間中】個別事業におけるPDCAシート!$A$50,MATCH($C289,【実施期間中】個別事業におけるPDCAシート!$H$6:$V$6,0)+6)","v":""}]
[null,null,null,null,"実績値",null,null,null,"計",null,{"$f":"SUM(OFFSET(【実施期間中】個別事業におけるPDCAシート!$A$8,【実施期間中】個別事業におけるPDCAシート!$A$51,MATCH($C289,【実施期間中】個別事業におけるPDCAシート!$H$6:$V$6,0)+6):OFFSET(【実施期間中】個別事業におけるPDCAシート!$A$8,【実施期間中】個別事業におけるPDCAシート!$A$52,MATCH($C289,【実施期間中】個別事業におけるPDCAシート!$H$6:$V$6,0)+6))","v":0}]
[null,null,null,null,"実績値算出根拠",null,null,null,{"$f":"OFFSET(【実施期間中】個別事業におけるPDCAシート!$A$8,【実施期間中】個別事業におけるPDCAシート!$A$53,MATCH($C289,【実施期間中】個別事業におけるPDCAシート!$H$6:$V$6,0)+6)","v":0}]
[null,null,null,null,"その他",null,null,null,{"$f":"OFFSET(【実施期間中】個別事業におけるPDCAシート!$A$8,【実施期間中】個別事業におけるPDCAシート!$A$54,MATCH($C289,【実施期間中】個別事業におけるPDCAシート!$H$6:$V$6,0)+6)","v":0}]
[null,null,"目標アウトカム\n（想定及び実績）\n※記載は任意",null,"計画",null,null,null,{"$f":"OFFSET(【実施期間中】個別事業におけるPDCAシート!$A$8,【実施期間中】個別事業におけるPDCAシート!$A$55,MATCH($C289,【実施期間中】個別事業におけるPDCAシート!$H$6:$V$6,0)+6)","v":""}]
[null,null,null,null,"実績",null,null,null,{"$f":"OFFSET(【実施期間中】個別事業におけるPDCAシート!$A$8,【実施期間中】個別事業におけるPDCAシート!$A$56,MATCH($C289,【実施期間中】個別事業におけるPDCAシート!$H$6:$V$6,0)+6)","v":0}]
[null,null,"エネルギー起源CO2排出\n削減量（想定及び実績）",null,"計画",null,null,null,{"$f":"別紙１_実施計画書!I286","v":0},null,null,null,null,null,"（t-CO2）"]
[null,null,null,null,"計画値\n測定方法\n（計算式、\n根拠資料等）",null,null,null,{"$f":"IF(別紙１_実施計画書!I287=0,\"\",(別紙１_実施計画書!I287))","v":""}]
[]
[]
[]
[null,null,null,null,"実績",null,null,null,{"$f":"OFFSET(【実施期間中】個別事業におけるPDCAシート!$A$8,【実施期間中】個別事業におけるPDCAシート!$A$120,MATCH($C289,【実施期間中】個別事業におけるPDCAシート!$H$6:$V$6,0)+6)","v":0},null,null,null,null,null,"（t-CO2）"]
[null,null,null,null,"計画値\n測定方法\n（計算式、\n根拠資料等）"]
[]
[]
[]
[null,null,"賛同数（想定及び実績）",null,"計画値",null,null,null,"団体",null,{"$f":"OFFSET(【実施期間中】個別事業におけるPDCAシート!$A$8,【実施期間中】個別事業におけるPDCAシート!$A$58,MATCH($C289,【実施期間中】個別事業におけるPDCAシート!$H$6:$V$6,0)+6)","v":0},null,null,null,null,"、個人",null,{"$f":"OFFSET(【実施期間中】個別事業におけるPDCAシート!$A$8,【実施期間中】個別事業におけるPDCAシート!$A$61,MATCH($C289,【実施期間中】個別事業におけるPDCAシート!$H$6:$V$6,0)+6)","v":0}]
[null,null,null,null,"実績値",null,null,null,"団体",null,{"$f":"OFFSET(【実施期間中】個別事業におけるPDCAシート!$A$8,【実施期間中】個別事業におけるPDCAシート!$A$59,MATCH($C289,【実施期間中】個別事業におけるPDCAシート!$H$6:$V$6,0)+6)","v":0},null,null,null,null,"、個人",null,{"$f":"OFFSET(【実施期間中】個別事業におけるPDCAシート!$A$8,【実施期間中】個別事業におけるPDCAシート!$A$62,MATCH($C289,【実施期間中】個別事業におけるPDCAシート!$H$6:$V$6,0)+6)","v":0}]
[null,null,"効果検証\n（アンケート）",null,"※アンケートの実施予定をプルダウンより選択してください。"]
[null,null,null,null,"公募要領に規定のアンケート"]
[null,null,null,null,"省エネ機器",null,null,"省エネ住宅",null,null,"エコカー",null,null,"クールビズ",null,null,"ウォームビズ",null,null,"照明の\n効率的利用",null,null,"ｴｺﾄﾞﾗｲﾌﾞ",null,null,"カーシェア"]
[null,null,null,null,"- 選択 -",null,null,"- 選択 -",null,null,"- 選択 -",null,null,"- 選択 -",null,null,"- 選択 -",null,null,"- 選択 -",null,null,"- 選択 -",null,null,"- 選択 -"]
[null,null,null,null,"公募要領に規定のアンケート",null,null,null,null,null,null,null,null,null,null,null,"貴事業者独自のアンケート"]
[null,null,null,null,"ｽﾏｰﾄﾑｰﾌﾞ",null,null,"低炭素物流",null,null,"再エネ",null,null,"食品ロス"]
[null,null,null,null,"- 選択 -",null,null,"- 選択 -",null,null,"- 選択 -",null,null,"- 選択 -",null,null,"- 選択 -"]
[null,null,null,null,"内容（",null,null,null,null,null,null,null,null,null,null,null,null,null,null,null,null,null,null,null,null,null,null,"）"]
[null,null,null,null,"昨年度実績",null,null,null,"計",{"$f":"OFFSET(【実施期間中】個別事業におけるPDCAシート!$A$8,【実施期間中】個別事業におけるPDCAシート!$A$77,MATCH($C289,【実施期間中】個別事業におけるPDCAシート!$H$6:$V$6,0)+6)","v":0},null,null,"枚",null,"※複数ある場合は、アンケート合計回収数"]
[null,null,null,null,"回収数",null,null,null,"計",{"$f":"OFFSET(【実施期間中】個別事業におけるPDCAシート!$A$8,【実施期間中】個別事業におけるPDCAシート!$A$79,MATCH($C289,【実施期間中】個別事業におけるPDCAシート!$H$6:$V$6,0)+6)","v":0},null,null,"枚",null,"※複数ある場合は、アンケート合計回収数"]
[]
[null,null,"項目",null,"内容"]
[null,null,"事業6","事業名",{"$f":"OFFSET(【実施期間中】個別事業におけるPDCAシート!$A$8,,MATCH(C350,【実施期間中】個別事業におけるPDCAシート!$H$6:$V$6,0)+6)","v":""}]
[null,null,"普及啓発テーマ",null,"※該当する普及啓発テーマすべてをチェックしてください。"]
[null,null,null,null,"①",null,"②",null,"③",null,"④",null,"⑤",null,"⑥",null,"⑦",null,"⑧",null,"⑨",null,"⑩",null,"⑪",null,"⑫",null,null,null,"①","②","③","④","⑤","⑥","⑦","⑧","⑨","⑩","⑪","⑫","⑬",null,null,null,null,null,null,null,null,null,null,null,null,null,"a)","b)","c)","d)"]
[null,null,null,null,"省ｴﾈ機器",null,"省ｴﾈ住宅",null,"ｴｺｶｰ",null,"ｸｰﾙﾋﾞｽﾞ",null,"ｳｫｰﾑﾋﾞｽﾞ",null,"照明の\n高効率利用",null,"ｴｺﾄﾞﾗｲﾌﾞ",null,"ｶｰｼｪｱ",null,"ｽﾏｰﾄﾑｰﾌﾞ",null,"再配達防止",null,"再エネ",null,"食品ロス",null,null,null,"省ｴﾈ機器","省ｴﾈ住宅","ｴｺｶｰ","ｸｰﾙﾋﾞｽﾞ","ｳｫｰﾑﾋﾞｽﾞ","照明の\n高効率利用","ｴｺﾄﾞﾗｲﾌﾞ","ｶｰｼｪｱ","ｽﾏｰﾄﾑｰﾌﾞ","再配達防止","再エネ","食品ロス","その他",null,null,null,null,null,null,null,null,null,null,null,null,null,{"$f":"IF(COUNTIFS(【実施期間中】個別事業におけるPDCAシート!$E$22:$E$25,別紙１_実施報告書!BE352,OFFSET(【実施期間中】個別事業におけるPDCAシート!$F$22,,MATCH(別紙１_実施報告書!$C350,【実施期間中】個別事業におけるPDCAシート!$H$6:$V$6,0)+1,4,1),1),1,0)","v":0},{"$f":"IF(COUNTIFS(【実施期間中】個別事業におけるPDCAシート!$E$22:$E$25,別紙１_実施報告書!BF352,OFFSET(【実施期間中】個別事業におけるPDCAシート!$F$22,,MATCH(別紙１_実施報告書!$C350,【実施期間中】個別事業におけるPDCAシート!$H$6:$V$6,0)+1,4,1),1),1,0)","v":0},{"$f":"IF(COUNTIFS(【実施期間中】個別事業におけるPDCAシート!$E$22:$E$25,別紙１_実施報告書!BG352,OFFSET(【実施期間中】個別事業におけるPDCAシート!$F$22,,MATCH(別紙１_実施報告書!$C350,【実施期間中】個別事業におけるPDCAシート!$H$6:$V$6,0)+1,4,1),1),1,0)","v":0},{"$f":"IF(COUNTIFS(【実施期間中】個別事業におけるPDCAシート!$E$22:$E$25,別紙１_実施報告書!BH352,OFFSET(【実施期間中】個別事業におけるPDCAシート!$F$22,,MATCH(別紙１_実施報告書!$C350,【実施期間中】個別事業におけるPDCAシート!$H$6:$V$6,0)+1,4,1),1),1,0)","v":0},{"$f":"COUNTIFS(BE353:BH353,1)+COUNTIFS(BE353:BH353,\"TRUE\")","v":0}]
[null,null,null,null,null,null,null,null,null,null,null,null,null,null,null,null,null,null,null,null,null,null,null,null,null,null,null,null,null,null,{"$f":"IF(COUNTIFS(【実施期間中】個別事業におけるPDCAシート!$E$9:$E$21,別紙１_実施報告書!AE352,OFFSET(【実施期間中】個別事業におけるPDCAシート!$F$9,,MATCH(別紙１_実施報告書!$C350,【実施期間中】個別事業におけるPDCAシート!$H$6:$V$6,0)+1,13,1),1),1,0)","v":0},{"$f":"IF(COUNTIFS(【実施期間中】個別事業におけるPDCAシート!$E$9:$E$21,別紙１_実施報告書!AF352,OFFSET(【実施期間中】個別事業におけるPDCAシート!$F$9,,MATCH(別紙１_実施報告書!$C350,【実施期間中】個別事業におけるPDCAシート!$H$6:$V$6,0)+1,13,1),1),1,0)","v":0},{"$f":"IF(COUNTIFS(【実施期間中】個別事業におけるPDCAシート!$E$9:$E$21,別紙１_実施報告書!AG352,OFFSET(【実施期間中】個別事業におけるPDCAシート!$F$9,,MATCH(別紙１_実施報告書!$C350,【実施期間中】個別事業におけるPDCAシート!$H$6:$V$6,0)+1,13,1),1),1,0)","v":0},{"$f":"IF(COUNTIFS(【実施期間中】個別事業におけるPDCAシート!$E$9:$E$21,別紙１_実施報告書!AH352,OFFSET(【実施期間中】個別事業におけるPDCAシート!$F$9,,MATCH(別紙１_実施報告書!$C350,【実施期間中】個別事業におけるPDCAシート!$H$6:$V$6,0)+1,13,1),1),1,0)","v":0},{"$f":"IF(COUNTIFS(【実施期間中】個別事業におけるPDCAシート!$E$9:$E$21,別紙１_実施報告書!AI352,OFFSET(【実施期間中】個別事業におけるPDCAシート!$F$9,,MATCH(別紙１_実施報告書!$C350,【実施期間中】個別事業におけるPDCAシート!$H$6:$V$6,0)+1,13,1),1),1,0)","v":0},{"$f":"IF(COUNTIFS(【実施期間中】個別事業におけるPDCAシート!$E$9:$E$21,別紙１_実施報告書!AJ352,OFFSET(【実施期間中】個別事業におけるPDCAシート!$F$9,,MATCH(別紙１_実施報告書!$C350,【実施期間中】個別事業におけるPDCAシート!$H$6:$V$6,0)+1,13,1),1),1,0)","v":0},{"$f":"IF(COUNTIFS(【実施期間中】個別事業におけるPDCAシート!$E$9:$E$21,別紙１_実施報告書!AK352,OFFSET(【実施期間中】個別事業におけるPDCAシート!$F$9,,MATCH(別紙１_実施報告書!$C350,【実施期間中】個別事業におけるPDCAシート!$H$6:$V$6,0)+1,13,1),1),1,0)","v":0},{"$f":"IF(COUNTIFS(【実施期間中】個別事業におけるPDCAシート!$E$9:$E$21,別紙１_実施報告書!AL352,OFFSET(【実施期間中】個別事業におけるPDCAシート!$F$9,,MATCH(別紙１_実施報告書!$C350,【実施期間中】個別事業におけるPDCAシート!$H$6:$V$6,0)+1,13,1),1),1,0)","v":0},{"$f":"IF(COUNTIFS(【実施期間中】個別事業におけるPDCAシート!$E$9:$E$21,別紙１_実施報告書!AM352,OFFSET(【実施期間中】個別事業におけるPDCAシート!$F$9,,MATCH(別紙１_実施報告書!$C350,【実施期間中】個別事業におけるPDCAシート!$H$6:$V$6,0)+1,13,1),1),1,0)","v":0},{"$f":"IF(COUNTIFS(【実施期間中】個別事業におけるPDCAシート!$E$9:$E$21,別紙１_実施報告書!AN352,OFFSET(【実施期間中】個別事業におけるPDCAシート!$F$9,,MATCH(別紙１_実施報告書!$C350,【実施期間中】個別事業におけるPDCAシート!$H$6:$V$6,0)+1,13,1),1),1,0)","v":0},{"$f":"IF(COUNTIFS(【実施期間中】個別事業におけるPDCAシート!$E$9:$E$21,別紙１_実施報告書!AO352,OFFSET(【実施期間中】個別事業におけるPDCAシート!$F$9,,MATCH(別紙１_実施報告書!$C350,【実施期間中】個別事業におけるPDCAシート!$H$6:$V$6,0)+1,13,1),1),1,0)","v":0},{"$f":"IF(COUNTIFS(【実施期間中】個別事業におけるPDCAシート!$E$9:$E$21,別紙１_実施報告書!AP352,OFFSET(【実施期間中】個別事業におけるPDCAシート!$F$9,,MATCH(別紙１_実施報告書!$C350,【実施期間中】個別事業におけるPDCAシート!$H$6:$V$6,0)+1,13,1),1),1,0)","v":0},{"$f":"IF(COUNTIFS(【実施期間中】個別事業におけるPDCAシート!$E$9:$E$21,別紙１_実施報告書!AQ352,OFFSET(【実施期間中】個別事業におけるPDCAシート!$F$9,,MATCH(別紙１_実施報告書!$C350,【実施期間中】個別事業におけるPDCAシート!$H$6:$V$6,0)+1,13,1),1),1,0)","v":0},{"$f":"IF(COUNTIFS(【実施期間中】個別事業におけるPDCAシート!$E$9:$E$21,別紙１_実施報告書!AR352,OFFSET(【実施期間中】個別事業におけるPDCAシート!$F$9,,MATCH(別紙１_実施報告書!$C350,【実施期間中】個別事業におけるPDCAシート!$H$6:$V$6,0)+1,13,1),1),1,0)","v":0},{"$f":"IF(COUNTIFS(【実施期間中】個別事業におけるPDCAシート!$E$9:$E$21,別紙１_実施報告書!AS352,OFFSET(【実施期間中】個別事業におけるPDCAシート!$F$9,,MATCH(別紙１_実施報告書!$C350,【実施期間中】個別事業におけるPDCAシート!$H$6:$V$6,0)+1,13,1),1),1,0)","v":0},{"$f":"IF(COUNTIFS(【実施期間中】個別事業におけるPDCAシート!$E$9:$E$21,別紙１_実施報告書!AT352,OFFSET(【実施期間中】個別事業におけるPDCAシート!$F$9,,MATCH(別紙１_実施報告書!$C350,【実施期間中】個別事業におけるPDCAシート!$H$6:$V$6,0)+1,13,1),1),1,0)","v":0},{"$f":"IF(COUNTIFS(【実施期間中】個別事業におけるPDCAシート!$E$9:$E$21,別紙１_実施報告書!AU352,OFFSET(【実施期間中】個別事業におけるPDCAシート!$F$9,,MATCH(別紙１_実施報告書!$C350,【実施期間中】個別事業におけるPDCAシート!$H$6:$V$6,0)+1,13,1),1),1,0)","v":0},{"$f":"IF(COUNTIFS(【実施期間中】個別事業におけるPDCAシート!$E$9:$E$21,別紙１_実施報告書!AV352,OFFSET(【実施期間中】個別事業におけるPDCAシート!$F$9,,MATCH(別紙１_実施報告書!$C350,【実施期間中】個別事業におけるPDCAシート!$H$6:$V$6,0)+1,13,1),1),1,0)","v":0},{"$f":"IF(COUNTIFS(【実施期間中】個別事業におけるPDCAシート!$E$9:$E$21,別紙１_実施報告書!AW352,OFFSET(【実施期間中】個別事業におけるPDCAシート!$F$9,,MATCH(別紙１_実施報告書!$C350,【実施期間中】個別事業におけるPDCAシート!$H$6:$V$6,0)+1,13,1),1),1,0)","v":0},{"$f":"IF(COUNTIFS(【実施期間中】個別事業におけるPDCAシート!$E$9:$E$21,別紙１_実施報告書!AX352,OFFSET(【実施期間中】個別事業におけるPDCAシート!$F$9,,MATCH(別紙１_実施報告書!$C350,【実施期間中】個別事業におけるPDCAシート!$H$6:$V$6,0)+1,13,1),1),1,0)","v":0},{"$f":"IF(COUNTIFS(【実施期間中】個別事業におけるPDCAシート!$E$9:$E$21,別紙１_実施報告書!AY352,OFFSET(【実施期間中】個別事業におけるPDCAシート!$F$9,,MATCH(別紙１_実施報告書!$C350,【実施期間中】個別事業におけるPDCAシート!$H$6:$V$6,0)+1,13,1),1),1,0)","v":0},{"$f":"IF(COUNTIFS(【実施期間中】個別事業におけるPDCAシート!$E$9:$E$21,別紙１_実施報告書!AZ352,OFFSET(【実施期間中】個別事業におけるPDCAシート!$F$9,,MATCH(別紙１_実施報告書!$C350,【実施期間中】個別事業におけるPDCAシート!$H$6:$V$6,0)+1,13,1),1),1,0)","v":0},{"$f":"IF(COUNTIFS(【実施期間中】個別事業におけるPDCAシート!$E$9:$E$21,別紙１_実施報告書!BA352,OFFSET(【実施期間中】個別事業におけるPDCAシート!$F$9,,MATCH(別紙１_実施報告書!$C350,【実施期間中】個別事業におけるPDCAシート!$H$6:$V$6,0)+1,13,1),1),1,0)","v":0},{"$f":"IF(COUNTIFS(【実施期間中】個別事業におけるPDCAシート!$E$9:$E$21,別紙１_実施報告書!BB352,OFFSET(【実施期間中】個別事業におけるPDCAシート!$F$9,,MATCH(別紙１_実施報告書!$C350,【実施期間中】個別事業におけるPDCAシート!$H$6:$V$6,0)+1,13,1),1),1,0)","v":0},{"$f":"COUNTIFS($AE354:$BB354,1)+COUNTIFS($AE354:$BB354,\"TRUE\")","v":0}]
[null,null,null,null,"⑬",null,"↓ ※①～⑫以外のテーマを設定する場合、具体的に記載してください。"]
[null,null,null,null,"その他"]
[]
[null,null,"訴求手法",null,"※訴求手法については、該当する欄にチェックしてください。"]
[null,null,null,null,"a) 情報発信型（受動型）",null,null,null,null,null,null,null,"b) 情報発信型（能動型）",null,null,null,null,null,null,null,"c) 双方向体験交流型"]
[null,null,null,null,"ラジオ、新聞・広報紙等",null,null,null,null,null,null,null,"講演会・パネル展示等",null,null,null,null,null,null,null,"試乗・体験会、省ｴﾈ診断等"]
[]
[null,null,null,null,"d) 双方向ＷＥＢ等配信型",null,null,null,null,null,null,null,"※d) については使用する媒体等を記載してください。"]
[null,null,null,null,"（新手法）"]
[]
[null,null,"実施期間",null,{"$f":"OFFSET(【実施期間中】個別事業におけるPDCAシート!$A$8,【実施期間中】個別事業におけるPDCAシート!$A$26,MATCH($C350,【実施期間中】個別事業におけるPDCAシート!$H$6:$V$6,0)+6)","v":""},null,null,null,null,null,null,null,null,null,"～",null,null,null,{"$f":"OFFSET(【実施期間中】個別事業におけるPDCAシート!$A$8,【実施期間中】個別事業におけるPDCAシート!$A$28,MATCH($C350,【実施期間中】個別事業におけるPDCAシート!$H$6:$V$6,0)+6)","v":""}]
[null,null,"（備考）",null,{"$f":"OFFSET(【実施期間中】個別事業におけるPDCAシート!$A$8,【実施期間中】個別事業におけるPDCAシート!$A$29,MATCH($C350,【実施期間中】個別事業におけるPDCAシート!$H$6:$V$6,0)+6)","v":""}]
[null,null,"実施日\n（※同一事業内で、\n同一の内容・場所において\n複数日実施する場合）",null,1,null,{"$f":"OFFSET(【実施期間中】個別事業におけるPDCAシート!$A$8,【実施期間中】個別事業におけるPDCAシート!$A$30,MATCH($C350,【実施期間中】個別事業におけるPDCAシート!$H$6:$V$6,0)+6)","v":""},null,null,null,null,null,null,null,null,null,6,null,{"$f":"OFFSET(【実施期間中】個別事業におけるPDCAシート!$A$8,【実施期間中】個別事業におけるPDCAシート!$A$35,MATCH($C350,【実施期間中】個別事業におけるPDCAシート!$H$6:$V$6,0)+6)","v":""}]
[null,null,null,null,2,null,{"$f":"OFFSET(【実施期間中】個別事業におけるPDCAシート!$A$8,【実施期間中】個別事業におけるPDCAシート!$A$31,MATCH($C350,【実施期間中】個別事業におけるPDCAシート!$H$6:$V$6,0)+6)","v":""},null,null,null,null,null,null,null,null,null,7,null,{"$f":"OFFSET(【実施期間中】個別事業におけるPDCAシート!$A$8,【実施期間中】個別事業におけるPDCAシート!$A$36,MATCH($C350,【実施期間中】個別事業におけるPDCAシート!$H$6:$V$6,0)+6)","v":""}]
[null,null,null,null,3,null,{"$f":"OFFSET(【実施期間中】個別事業におけるPDCAシート!$A$8,【実施期間中】個別事業におけるPDCAシート!$A$32,MATCH($C350,【実施期間中】個別事業におけるPDCAシート!$H$6:$V$6,0)+6)","v":""},null,null,null,null,null,null,null,null,null,8,null,{"$f":"OFFSET(【実施期間中】個別事業におけるPDCAシート!$A$8,【実施期間中】個別事業におけるPDCAシート!$A$37,MATCH($C350,【実施期間中】個別事業におけるPDCAシート!$H$6:$V$6,0)+6)","v":""}]
[null,null,null,null,4,null,{"$f":"OFFSET(【実施期間中】個別事業におけるPDCAシート!$A$8,【実施期間中】個別事業におけるPDCAシート!$A$33,MATCH($C350,【実施期間中】個別事業におけるPDCAシート!$H$6:$V$6,0)+6)","v":""},null,null,null,null,null,null,null,null,null,9,null,{"$f":"OFFSET(【実施期間中】個別事業におけるPDCAシート!$A$8,【実施期間中】個別事業におけるPDCAシート!$A$38,MATCH($C350,【実施期間中】個別事業におけるPDCAシート!$H$6:$V$6,0)+6)","v":""}]
[null,null,null,null,5,null,{"$f":"OFFSET(【実施期間中】個別事業におけるPDCAシート!$A$8,【実施期間中】個別事業におけるPDCAシート!$A$34,MATCH($C350,【実施期間中】個別事業におけるPDCAシート!$H$6:$V$6,0)+6)","v":""},null,null,null,null,null,null,null,null,null,10,null,{"$f":"OFFSET(【実施期間中】個別事業におけるPDCAシート!$A$8,【実施期間中】個別事業におけるPDCAシート!$A$39,MATCH($C350,【実施期間中】個別事業におけるPDCAシート!$H$6:$V$6,0)+6)","v":""}]
[null,null,"事業の概要",null,{"$f":"OFFSET(【実施期間中】個別事業におけるPDCAシート!$A$8,【実施期間中】個別事業におけるPDCAシート!$A$40,MATCH($C350,【実施期間中】個別事業におけるPDCAシート!$H$6:$V$6,0)+6)","v":""}]
[null,null,"地域団体との連携",null,{"$f":"別紙１_実施計画書!E328","v":0}]
[null,null,"実施結果",null,{"$f":"OFFSET(【実施期間中】個別事業におけるPDCAシート!$A$8,【実施期間中】個別事業におけるPDCAシート!$A$46,MATCH($C350,【実施期間中】個別事業におけるPDCAシート!$H$6:$V$6,0)+6)","v":0}]
[]
[null,null,"主な訴求対象","計画",{"$f":"OFFSET(【実施期間中】個別事業におけるPDCAシート!$A$8,【実施期間中】個別事業におけるPDCAシート!$A$41,MATCH($C350,【実施期間中】個別事業におけるPDCAシート!$H$6:$V$6,0)+6)","v":""}]
[null,null,null,"結果",{"$f":"OFFSET(【実施期間中】個別事業におけるPDCAシート!$A$8,【実施期間中】個別事業におけるPDCAシート!$A$42,MATCH($C350,【実施期間中】個別事業におけるPDCAシート!$H$6:$V$6,0)+6)","v":0}]
[null,null,"目標アウトプット\n（リーチ数）\n（想定及び実績）",null,"昨年度実績",null,null,null,"計",null,{"$f":"OFFSET(【実施期間中】個別事業におけるPDCAシート!$A$8,【実施期間中】個別事業におけるPDCAシート!$A$47,MATCH($C350,【実施期間中】個別事業におけるPDCAシート!$H$6:$V$6,0)+6)","v":0}]
[null,null,null,null,"昨年度実績算出根拠",null,null,null,{"$f":"OFFSET(【実施期間中】個別事業におけるPDCAシート!$A$8,【実施期間中】個別事業におけるPDCAシート!$A$48,MATCH($C350,【実施期間中】個別事業におけるPDCAシート!$H$6:$V$6,0)+6)","v":""}]
[null,null,null,null,"想定",null,null,null,"計",null,{"$f":"OFFSET(【実施期間中】個別事業におけるPDCAシート!$A$8,【実施期間中】個別事業におけるPDCAシート!$A$49,MATCH($C350,【実施期間中】個別事業におけるPDCAシート!$H$6:$V$6,0)+6)","v":0}]
[null,null,null,null,"算出方法",null,null,null,{"$f":"OFFSET(【実施期間中】個別事業におけるPDCAシート!$A$8,【実施期間中】個別事業におけるPDCAシート!$A$50,MATCH($C350,【実施期間中】個別事業におけるPDCAシート!$H$6:$V$6,0)+6)","v":""}]
[null,null,null,null,"実績値",null,null,null,"計",null,{"$f":"SUM(OFFSET(【実施期間中】個別事業におけるPDCAシート!$A$8,【実施期間中】個別事業におけるPDCAシート!$A$51,MATCH($C350,【実施期間中】個別事業におけるPDCAシート!$H$6:$V$6,0)+6):OFFSET(【実施期間中】個別事業におけるPDCAシート!$A$8,【実施期間中】個別事業におけるPDCAシート!$A$52,MATCH($C350,【実施期間中】個別事業におけるPDCAシート!$H$6:$V$6,0)+6))","v":0}]
[null,null,null,null,"実績値算出根拠",null,null,null,{"$f":"OFFSET(【実施期間中】個別事業におけるPDCAシート!$A$8,【実施期間中】個別事業におけるPDCAシート!$A$53,MATCH($C350,【実施期間中】個別事業におけるPDCAシート!$H$6:$V$6,0)+6)","v":0}]
[null,null,null,null,"その他",null,null,null,{"$f":"OFFSET(【実施期間中】個別事業におけるPDCAシート!$A$8,【実施期間中】個別事業におけるPDCAシート!$A$54,MATCH($C350,【実施期間中】個別事業におけるPDCAシート!$H$6:$V$6,0)+6)","v":0}]
[null,null,"目標アウトカム\n（想定及び実績）\n※記載は任意",null,"計画",null,null,null,{"$f":"OFFSET(【実施期間中】個別事業におけるPDCAシート!$A$8,【実施期間中】個別事業におけるPDCAシート!$A$55,MATCH($C350,【実施期間中】個別事業におけるPDCAシート!$H$6:$V$6,0)+6)","v":""}]
[null,null,null,null,"実績",null,null,null,{"$f":"OFFSET(【実施期間中】個別事業におけるPDCAシート!$A$8,【実施期間中】個別事業におけるPDCAシート!$A$56,MATCH($C350,【実施期間中】個別事業におけるPDCAシート!$H$6:$V$6,0)+6)","v":0}]
[null,null,"エネルギー起源CO2排出\n削減量（想定及び実績）",null,"計画",null,null,null,{"$f":"別紙１_実施計画書!I338","v":0},null,null,null,null,null,"（t-CO2）"]
[null,null,null,null,"計画値\n測定方法\n（計算式、\n根拠資料等）",null,null,null,{"$f":"IF(別紙１_実施計画書!I339=0,\"\",(別紙１_実施計画書!I339))","v":""}]
[]
[]
[]
[null,null,null,null,"実績",null,null,null,{"$f":"OFFSET(【実施期間中】個別事業におけるPDCAシート!$A$8,【実施期間中】個別事業におけるPDCAシート!$A$120,MATCH($C350,【実施期間中】個別事業におけるPDCAシート!$H$6:$V$6,0)+6)","v":0},null,null,null,null,null,"（t-CO2）"]
[null,null,null,null,"計画値\n測定方法\n（計算式、\n根拠資料等）"]
[]
[]
[]
[null,null,"賛同数（想定及び実績）",null,"計画値",null,null,null,"団体",null,{"$f":"OFFSET(【実施期間中】個別事業におけるPDCAシート!$A$8,【実施期間中】個別事業におけるPDCAシート!$A$58,MATCH($C350,【実施期間中】個別事業におけるPDCAシート!$H$6:$V$6,0)+6)","v":0},null,null,null,null,"、個人",null,{"$f":"OFFSET(【実施期間中】個別事業におけるPDCAシート!$A$8,【実施期間中】個別事業におけるPDCAシート!$A$61,MATCH($C350,【実施期間中】個別事業におけるPDCAシート!$H$6:$V$6,0)+6)","v":0}]
[null,null,null,null,"実績値",null,null,null,"団体",null,{"$f":"OFFSET(【実施期間中】個別事業におけるPDCAシート!$A$8,【実施期間中】個別事業におけるPDCAシート!$A$59,MATCH($C350,【実施期間中】個別事業におけるPDCAシート!$H$6:$V$6,0)+6)","v":0},null,null,null,null,"、個人",null,{"$f":"OFFSET(【実施期間中】個別事業におけるPDCAシート!$A$8,【実施期間中】個別事業におけるPDCAシート!$A$62,MATCH($C350,【実施期間中】個別事業におけるPDCAシート!$H$6:$V$6,0)+6)","v":0}]
[null,null,"効果検証\n（アンケート）",null,"※アンケートの実施予定をプルダウンより選択してください。"]
[null,null,null,null,"公募要領に規定のアンケート"]
[null,null,null,null,"省エネ機器",null,null,"省エネ住宅",null,null,"エコカー",null,null,"クールビズ",null,null,"ウォームビズ",null,null,"照明の\n効率的利用",null,null,"ｴｺﾄﾞﾗｲﾌﾞ",null,null,"カーシェア"]
[null,null,null,null,"- 選択 -",null,null,"- 選択 -",null,null,"- 選択 -",null,null,"- 選択 -",null,null,"- 選択 -",null,null,"- 選択 -",null,null,"- 選択 -",null,null,"- 選択 -"]
[null,null,null,null,"公募要領に規定のアンケート",null,null,null,null,null,null,null,null,null,null,null,"貴事業者独自のアンケート"]
[null,null,null,null,"ｽﾏｰﾄﾑｰﾌﾞ",null,null,"低炭素物流",null,null,"再エネ",null,null,"食品ロス"]
[null,null,null,null,"- 選択 -",null,null,"- 選択 -",null,null,"- 選択 -",null,null,"- 選択 -",null,null,"- 選択 -"]
[null,null,null,null,"内容（",null,null,null,null,null,null,null,null,null,null,null,null,null,null,null,null,null,null,null,null,null,null,"）"]
[null,null,null,null,"昨年度実績",null,null,null,"計",{"$f":"OFFSET(【実施期間中】個別事業におけるPDCAシート!$A$8,【実施期間中】個別事業におけるPDCAシート!$A$77,MATCH($C350,【実施期間中】個別事業におけるPDCAシート!$H$6:$V$6,0)+6)","v":0},null,null,"枚",null,"※複数ある場合は、アンケート合計回収数"]
[null,null,null,null,"回収数",null,null,null,"計",{"$f":"OFFSET(【実施期間中】個別事業におけるPDCAシート!$A$8,【実施期間中】個別事業におけるPDCAシート!$A$79,MATCH($C350,【実施期間中】個別事業におけるPDCAシート!$H$6:$V$6,0)+6)","v":0},null,null,"枚",null,"※複数ある場合は、アンケート合計回収数"]
[]
[null,null,"項目",null,"内容"]
[null,null,"事業7","事業名",{"$f":"OFFSET(【実施期間中】個別事業におけるPDCAシート!$A$8,,MATCH(C411,【実施期間中】個別事業におけるPDCAシート!$H$6:$V$6,0)+6)","v":""}]
[null,null,"普及啓発テーマ",null,"※該当する普及啓発テーマすべてをチェックしてください。"]
[null,null,null,null,"①",null,"②",null,"③",null,"④",null,"⑤",null,"⑥",null,"⑦",null,"⑧",null,"⑨",null,"⑩",null,"⑪",null,"⑫",null,null,null,"①","②","③","④","⑤","⑥","⑦","⑧","⑨","⑩","⑪","⑫","⑬",null,null,null,null,null,null,null,null,null,null,null,null,null,"a)","b)","c)","d)"]
[null,null,null,null,"省ｴﾈ機器",null,"省ｴﾈ住宅",null,"ｴｺｶｰ",null,"ｸｰﾙﾋﾞｽﾞ",null,"ｳｫｰﾑﾋﾞｽﾞ",null,"照明の\n高効率利用",null,"ｴｺﾄﾞﾗｲﾌﾞ",null,"ｶｰｼｪｱ",null,"ｽﾏｰﾄﾑｰﾌﾞ",null,"再配達防止",null,"再エネ",null,"食品ロス",null,null,null,"省ｴﾈ機器","省ｴﾈ住宅","ｴｺｶｰ","ｸｰﾙﾋﾞｽﾞ","ｳｫｰﾑﾋﾞｽﾞ","照明の\n高効率利用","ｴｺﾄﾞﾗｲﾌﾞ","ｶｰｼｪｱ","ｽﾏｰﾄﾑｰﾌﾞ","再配達防止","再エネ","食品ロス","その他",null,null,null,null,null,null,null,null,null,null,null,null,null,{"$f":"IF(COUNTIFS(【実施期間中】個別事業におけるPDCAシート!$E$22:$E$25,別紙１_実施報告書!BE413,OFFSET(【実施期間中】個別事業におけるPDCAシート!$F$22,,MATCH(別紙１_実施報告書!$C411,【実施期間中】個別事業におけるPDCAシート!$H$6:$V$6,0)+1,4,1),1),1,0)","v":0},{"$f":"IF(COUNTIFS(【実施期間中】個別事業におけるPDCAシート!$E$22:$E$25,別紙１_実施報告書!BF413,OFFSET(【実施期間中】個別事業におけるPDCAシート!$F$22,,MATCH(別紙１_実施報告書!$C411,【実施期間中】個別事業におけるPDCAシート!$H$6:$V$6,0)+1,4,1),1),1,0)","v":0},{"$f":"IF(COUNTIFS(【実施期間中】個別事業におけるPDCAシート!$E$22:$E$25,別紙１_実施報告書!BG413,OFFSET(【実施期間中】個別事業におけるPDCAシート!$F$22,,MATCH(別紙１_実施報告書!$C411,【実施期間中】個別事業におけるPDCAシート!$H$6:$V$6,0)+1,4,1),1),1,0)","v":0},{"$f":"IF(COUNTIFS(【実施期間中】個別事業におけるPDCAシート!$E$22:$E$25,別紙１_実施報告書!BH413,OFFSET(【実施期間中】個別事業におけるPDCAシート!$F$22,,MATCH(別紙１_実施報告書!$C411,【実施期間中】個別事業におけるPDCAシート!$H$6:$V$6,0)+1,4,1),1),1,0)","v":0},{"$f":"COUNTIFS(BE414:BH414,1)+COUNTIFS(BE414:BH414,\"TRUE\")","v":0}]
[null,null,null,null,null,null,null,null,null,null,null,null,null,null,null,null,null,null,null,null,null,null,null,null,null,null,null,null,null,null,{"$f":"IF(COUNTIFS(【実施期間中】個別事業におけるPDCAシート!$E$9:$E$21,別紙１_実施報告書!AE413,OFFSET(【実施期間中】個別事業におけるPDCAシート!$F$9,,MATCH(別紙１_実施報告書!$C411,【実施期間中】個別事業におけるPDCAシート!$H$6:$V$6,0)+1,13,1),1),1,0)","v":0},{"$f":"IF(COUNTIFS(【実施期間中】個別事業におけるPDCAシート!$E$9:$E$21,別紙１_実施報告書!AF413,OFFSET(【実施期間中】個別事業におけるPDCAシート!$F$9,,MATCH(別紙１_実施報告書!$C411,【実施期間中】個別事業におけるPDCAシート!$H$6:$V$6,0)+1,13,1),1),1,0)","v":0},{"$f":"IF(COUNTIFS(【実施期間中】個別事業におけるPDCAシート!$E$9:$E$21,別紙１_実施報告書!AG413,OFFSET(【実施期間中】個別事業におけるPDCAシート!$F$9,,MATCH(別紙１_実施報告書!$C411,【実施期間中】個別事業におけるPDCAシート!$H$6:$V$6,0)+1,13,1),1),1,0)","v":0},{"$f":"IF(COUNTIFS(【実施期間中】個別事業におけるPDCAシート!$E$9:$E$21,別紙１_実施報告書!AH413,OFFSET(【実施期間中】個別事業におけるPDCAシート!$F$9,,MATCH(別紙１_実施報告書!$C411,【実施期間中】個別事業におけるPDCAシート!$H$6:$V$6,0)+1,13,1),1),1,0)","v":0},{"$f":"IF(COUNTIFS(【実施期間中】個別事業におけるPDCAシート!$E$9:$E$21,別紙１_実施報告書!AI413,OFFSET(【実施期間中】個別事業におけるPDCAシート!$F$9,,MATCH(別紙１_実施報告書!$C411,【実施期間中】個別事業におけるPDCAシート!$H$6:$V$6,0)+1,13,1),1),1,0)","v":0},{"$f":"IF(COUNTIFS(【実施期間中】個別事業におけるPDCAシート!$E$9:$E$21,別紙１_実施報告書!AJ413,OFFSET(【実施期間中】個別事業におけるPDCAシート!$F$9,,MATCH(別紙１_実施報告書!$C411,【実施期間中】個別事業におけるPDCAシート!$H$6:$V$6,0)+1,13,1),1),1,0)","v":0},{"$f":"IF(COUNTIFS(【実施期間中】個別事業におけるPDCAシート!$E$9:$E$21,別紙１_実施報告書!AK413,OFFSET(【実施期間中】個別事業におけるPDCAシート!$F$9,,MATCH(別紙１_実施報告書!$C411,【実施期間中】個別事業におけるPDCAシート!$H$6:$V$6,0)+1,13,1),1),1,0)","v":0},{"$f":"IF(COUNTIFS(【実施期間中】個別事業におけるPDCAシート!$E$9:$E$21,別紙１_実施報告書!AL413,OFFSET(【実施期間中】個別事業におけるPDCAシート!$F$9,,MATCH(別紙１_実施報告書!$C411,【実施期間中】個別事業におけるPDCAシート!$H$6:$V$6,0)+1,13,1),1),1,0)","v":0},{"$f":"IF(COUNTIFS(【実施期間中】個別事業におけるPDCAシート!$E$9:$E$21,別紙１_実施報告書!AM413,OFFSET(【実施期間中】個別事業におけるPDCAシート!$F$9,,MATCH(別紙１_実施報告書!$C411,【実施期間中】個別事業におけるPDCAシート!$H$6:$V$6,0)+1,13,1),1),1,0)","v":0},{"$f":"IF(COUNTIFS(【実施期間中】個別事業におけるPDCAシート!$E$9:$E$21,別紙１_実施報告書!AN413,OFFSET(【実施期間中】個別事業におけるPDCAシート!$F$9,,MATCH(別紙１_実施報告書!$C411,【実施期間中】個別事業におけるPDCAシート!$H$6:$V$6,0)+1,13,1),1),1,0)","v":0},{"$f":"IF(COUNTIFS(【実施期間中】個別事業におけるPDCAシート!$E$9:$E$21,別紙１_実施報告書!AO413,OFFSET(【実施期間中】個別事業におけるPDCAシート!$F$9,,MATCH(別紙１_実施報告書!$C411,【実施期間中】個別事業におけるPDCAシート!$H$6:$V$6,0)+1,13,1),1),1,0)","v":0},{"$f":"IF(COUNTIFS(【実施期間中】個別事業におけるPDCAシート!$E$9:$E$21,別紙１_実施報告書!AP413,OFFSET(【実施期間中】個別事業におけるPDCAシート!$F$9,,MATCH(別紙１_実施報告書!$C411,【実施期間中】個別事業におけるPDCAシート!$H$6:$V$6,0)+1,13,1),1),1,0)","v":0},{"$f":"IF(COUNTIFS(【実施期間中】個別事業におけるPDCAシート!$E$9:$E$21,別紙１_実施報告書!AQ413,OFFSET(【実施期間中】個別事業におけるPDCAシート!$F$9,,MATCH(別紙１_実施報告書!$C411,【実施期間中】個別事業におけるPDCAシート!$H$6:$V$6,0)+1,13,1),1),1,0)","v":0},{"$f":"IF(COUNTIFS(【実施期間中】個別事業におけるPDCAシート!$E$9:$E$21,別紙１_実施報告書!AR413,OFFSET(【実施期間中】個別事業におけるPDCAシート!$F$9,,MATCH(別紙１_実施報告書!$C411,【実施期間中】個別事業におけるPDCAシート!$H$6:$V$6,0)+1,13,1),1),1,0)","v":0},{"$f":"IF(COUNTIFS(【実施期間中】個別事業におけるPDCAシート!$E$9:$E$21,別紙１_実施報告書!AS413,OFFSET(【実施期間中】個別事業におけるPDCAシート!$F$9,,MATCH(別紙１_実施報告書!$C411,【実施期間中】個別事業におけるPDCAシート!$H$6:$V$6,0)+1,13,1),1),1,0)","v":0},{"$f":"IF(COUNTIFS(【実施期間中】個別事業におけるPDCAシート!$E$9:$E$21,別紙１_実施報告書!AT413,OFFSET(【実施期間中】個別事業におけるPDCAシート!$F$9,,MATCH(別紙１_実施報告書!$C411,【実施期間中】個別事業におけるPDCAシート!$H$6:$V$6,0)+1,13,1),1),1,0)","v":0},{"$f":"IF(COUNTIFS(【実施期間中】個別事業におけるPDCAシート!$E$9:$E$21,別紙１_実施報告書!AU413,OFFSET(【実施期間中】個別事業におけるPDCAシート!$F$9,,MATCH(別紙１_実施報告書!$C411,【実施期間中】個別事業におけるPDCAシート!$H$6:$V$6,0)+1,13,1),1),1,0)","v":0},{"$f":"IF(COUNTIFS(【実施期間中】個別事業におけるPDCAシート!$E$9:$E$21,別紙１_実施報告書!AV413,OFFSET(【実施期間中】個別事業におけるPDCAシート!$F$9,,MATCH(別紙１_実施報告書!$C411,【実施期間中】個別事業におけるPDCAシート!$H$6:$V$6,0)+1,13,1),1),1,0)","v":0},{"$f":"IF(COUNTIFS(【実施期間中】個別事業におけるPDCAシート!$E$9:$E$21,別紙１_実施報告書!AW413,OFFSET(【実施期間中】個別事業におけるPDCAシート!$F$9,,MATCH(別紙１_実施報告書!$C411,【実施期間中】個別事業におけるPDCAシート!$H$6:$V$6,0)+1,13,1),1),1,0)","v":0},{"$f":"IF(COUNTIFS(【実施期間中】個別事業におけるPDCAシート!$E$9:$E$21,別紙１_実施報告書!AX413,OFFSET(【実施期間中】個別事業におけるPDCAシート!$F$9,,MATCH(別紙１_実施報告書!$C411,【実施期間中】個別事業におけるPDCAシート!$H$6:$V$6,0)+1,13,1),1),1,0)","v":0},{"$f":"IF(COUNTIFS(【実施期間中】個別事業におけるPDCAシート!$E$9:$E$21,別紙１_実施報告書!AY413,OFFSET(【実施期間中】個別事業におけるPDCAシート!$F$9,,MATCH(別紙１_実施報告書!$C411,【実施期間中】個別事業におけるPDCAシート!$H$6:$V$6,0)+1,13,1),1),1,0)","v":0},{"$f":"IF(COUNTIFS(【実施期間中】個別事業におけるPDCAシート!$E$9:$E$21,別紙１_実施報告書!AZ413,OFFSET(【実施期間中】個別事業におけるPDCAシート!$F$9,,MATCH(別紙１_実施報告書!$C411,【実施期間中】個別事業におけるPDCAシート!$H$6:$V$6,0)+1,13,1),1),1,0)","v":0},{"$f":"IF(COUNTIFS(【実施期間中】個別事業におけるPDCAシート!$E$9:$E$21,別紙１_実施報告書!BA413,OFFSET(【実施期間中】個別事業におけるPDCAシート!$F$9,,MATCH(別紙１_実施報告書!$C411,【実施期間中】個別事業におけるPDCAシート!$H$6:$V$6,0)+1,13,1),1),1,0)","v":0},{"$f":"IF(COUNTIFS(【実施期間中】個別事業におけるPDCAシート!$E$9:$E$21,別紙１_実施報告書!BB413,OFFSET(【実施期間中】個別事業におけるPDCAシート!$F$9,,MATCH(別紙１_実施報告書!$C411,【実施期間中】個別事業におけるPDCAシート!$H$6:$V$6,0)+1,13,1),1),1,0)","v":0},{"$f":"COUNTIFS($AE415:$BB415,1)+COUNTIFS($AE415:$BB415,\"TRUE\")","v":0}]
[null,null,null,null,"⑬",null,"↓ ※①～⑫以外のテーマを設定する場合、具体的に記載してください。"]
[null,null,null,null,"その他"]
[]
[null,null,"訴求手法",null,"※訴求手法については、該当する欄にチェックしてください。"]
[null,null,null,null,"a) 情報発信型（受動型）",null,null,null,null,null,null,null,"b) 情報発信型（能動型）",null,null,null,null,null,null,null,"c) 双方向体験交流型"]
[null,null,null,null,"ラジオ、新聞・広報紙等",null,null,null,null,null,null,null,"講演会・パネル展示等",null,null,null,null,null,null,null,"試乗・体験会、省ｴﾈ診断等"]
[]
[null,null,null,null,"d) 双方向ＷＥＢ等配信型",null,null,null,null,null,null,null,"※d) については使用する媒体等を記載してください。"]
[null,null,null,null,"（新手法）"]
[]
[null,null,"実施期間",null,{"$f":"OFFSET(【実施期間中】個別事業におけるPDCAシート!$A$8,【実施期間中】個別事業におけるPDCAシート!$A$26,MATCH($C411,【実施期間中】個別事業におけるPDCAシート!$H$6:$V$6,0)+6)","v":""},null,null,null,null,null,null,null,null,null,"～",null,null,null,{"$f":"OFFSET(【実施期間中】個別事業におけるPDCAシート!$A$8,【実施期間中】個別事業におけるPDCAシート!$A$28,MATCH($C411,【実施期間中】個別事業におけるPDCAシート!$H$6:$V$6,0)+6)","v":""}]
[null,null,"（備考）",null,{"$f":"OFFSET(【実施期間中】個別事業におけるPDCAシート!$A$8,【実施期間中】個別事業におけるPDCAシート!$A$29,MATCH($C411,【実施期間中】個別事業におけるPDCAシート!$H$6:$V$6,0)+6)","v":""}]
[null,null,"実施日\n（※同一事業内で、\n同一の内容・場所において\n複数日実施する場合）",null,1,null,{"$f":"OFFSET(【実施期間中】個別事業におけるPDCAシート!$A$8,【実施期間中】個別事業におけるPDCAシート!$A$30,MATCH($C411,【実施期間中】個別事業におけるPDCAシート!$H$6:$V$6,0)+6)","v":""},null,null,null,null,null,null,null,null,null,6,null,{"$f":"OFFSET(【実施期間中】個別事業におけるPDCAシート!$A$8,【実施期間中】個別事業におけるPDCAシート!$A$35,MATCH($C411,【実施期間中】個別事業におけるPDCAシート!$H$6:$V$6,0)+6)","v":""}]
[null,null,null,null,2,null,{"$f":"OFFSET(【実施期間中】個別事業におけるPDCAシート!$A$8,【実施期間中】個別事業におけるPDCAシート!$A$31,MATCH($C411,【実施期間中】個別事業におけるPDCAシート!$H$6:$V$6,0)+6)","v":""},null,null,null,null,null,null,null,null,null,7,null,{"$f":"OFFSET(【実施期間中】個別事業におけるPDCAシート!$A$8,【実施期間中】個別事業におけるPDCAシート!$A$36,MATCH($C411,【実施期間中】個別事業におけるPDCAシート!$H$6:$V$6,0)+6)","v":""}]
[null,null,null,null,3,null,{"$f":"OFFSET(【実施期間中】個別事業におけるPDCAシート!$A$8,【実施期間中】個別事業におけるPDCAシート!$A$32,MATCH($C411,【実施期間中】個別事業におけるPDCAシート!$H$6:$V$6,0)+6)","v":""},null,null,null,null,null,null,null,null,null,8,null,{"$f":"OFFSET(【実施期間中】個別事業におけるPDCAシート!$A$8,【実施期間中】個別事業におけるPDCAシート!$A$37,MATCH($C411,【実施期間中】個別事業におけるPDCAシート!$H$6:$V$6,0)+6)","v":""}]
[null,null,null,null,4,null,{"$f":"OFFSET(【実施期間中】個別事業におけるPDCAシート!$A$8,【実施期間中】個別事業におけるPDCAシート!$A$33,MATCH($C411,【実施期間中】個別事業におけるPDCAシート!$H$6:$V$6,0)+6)","v":""},null,null,null,null,null,null,null,null,null,9,null,{"$f":"OFFSET(【実施期間中】個別事業におけるPDCAシート!$A$8,【実施期間中】個別事業におけるPDCAシート!$A$38,MATCH($C411,【実施期間中】個別事業におけるPDCAシート!$H$6:$V$6,0)+6)","v":""}]
[null,null,null,null,5,null,{"$f":"OFFSET(【実施期間中】個別事業におけるPDCAシート!$A$8,【実施期間中】個別事業におけるPDCAシート!$A$34,MATCH($C411,【実施期間中】個別事業におけるPDCAシート!$H$6:$V$6,0)+6)","v":""},null,null,null,null,null,null,null,null,null,10,null,{"$f":"OFFSET(【実施期間中】個別事業におけるPDCAシート!$A$8,【実施期間中】個別事業におけるPDCAシート!$A$39,MATCH($C411,【実施期間中】個別事業におけるPDCAシート!$H$6:$V$6,0)+6)","v":""}]
[null,null,"事業の概要",null,{"$f":"OFFSET(【実施期間中】個別事業におけるPDCAシート!$A$8,【実施期間中】個別事業におけるPDCAシート!$A$40,MATCH($C411,【実施期間中】個別事業におけるPDCAシート!$H$6:$V$6,0)+6)","v":""}]
[null,null,"地域団体との連携",null,{"$f":"別紙１_実施計画書!E380","v":0}]
[null,null,"実施結果",null,{"$f":"OFFSET(【実施期間中】個別事業におけるPDCAシート!$A$8,【実施期間中】個別事業におけるPDCAシート!$A$46,MATCH($C411,【実施期間中】個別事業におけるPDCAシート!$H$6:$V$6,0)+6)","v":0}]
[]
[null,null,"主な訴求対象","計画",{"$f":"OFFSET(【実施期間中】個別事業におけるPDCAシート!$A$8,【実施期間中】個別事業におけるPDCAシート!$A$41,MATCH($C411,【実施期間中】個別事業におけるPDCAシート!$H$6:$V$6,0)+6)","v":""}]
[null,null,null,"結果",{"$f":"OFFSET(【実施期間中】個別事業におけるPDCAシート!$A$8,【実施期間中】個別事業におけるPDCAシート!$A$42,MATCH($C411,【実施期間中】個別事業におけるPDCAシート!$H$6:$V$6,0)+6)","v":0}]
[null,null,"目標アウトプット\n（リーチ数）\n（想定及び実績）",null,"昨年度実績",null,null,null,"計",null,{"$f":"OFFSET(【実施期間中】個別事業におけるPDCAシート!$A$8,【実施期間中】個別事業におけるPDCAシート!$A$47,MATCH($C411,【実施期間中】個別事業におけるPDCAシート!$H$6:$V$6,0)+6)","v":0}]
[null,null,null,null,"昨年度実績算出根拠",null,null,null,{"$f":"OFFSET(【実施期間中】個別事業におけるPDCAシート!$A$8,【実施期間中】個別事業におけるPDCAシート!$A$48,MATCH($C411,【実施期間中】個別事業におけるPDCAシート!$H$6:$V$6,0)+6)","v":""}]
[null,null,null,null,"想定",null,null,null,"計",null,{"$f":"OFFSET(【実施期間中】個別事業におけるPDCAシート!$A$8,【実施期間中】個別事業におけるPDCAシート!$A$49,MATCH($C411,【実施期間中】個別事業におけるPDCAシート!$H$6:$V$6,0)+6)","v":0}]
[null,null,null,null,"算出方法",null,null,null,{"$f":"OFFSET(【実施期間中】個別事業におけるPDCAシート!$A$8,【実施期間中】個別事業におけるPDCAシート!$A$50,MATCH($C411,【実施期間中】個別事業におけるPDCAシート!$H$6:$V$6,0)+6)","v":""}]
[null,null,null,null,"実績値",null,null,null,"計",null,{"$f":"SUM(OFFSET(【実施期間中】個別事業におけるPDCAシート!$A$8,【実施期間中】個別事業におけるPDCAシート!$A$51,MATCH($C411,【実施期間中】個別事業におけるPDCAシート!$H$6:$V$6,0)+6):OFFSET(【実施期間中】個別事業におけるPDCAシート!$A$8,【実施期間中】個別事業におけるPDCAシート!$A$52,MATCH($C411,【実施期間中】個別事業におけるPDCAシート!$H$6:$V$6,0)+6))","v":0}]
[null,null,null,null,"実績値算出根拠",null,null,null,{"$f":"OFFSET(【実施期間中】個別事業におけるPDCAシート!$A$8,【実施期間中】個別事業におけるPDCAシート!$A$53,MATCH($C411,【実施期間中】個別事業におけるPDCAシート!$H$6:$V$6,0)+6)","v":0}]
[null,null,null,null,"その他",null,null,null,{"$f":"OFFSET(【実施期間中】個別事業におけるPDCAシート!$A$8,【実施期間中】個別事業におけるPDCAシート!$A$54,MATCH($C411,【実施期間中】個別事業におけるPDCAシート!$H$6:$V$6,0)+6)","v":0}]
[null,null,"目標アウトカム\n（想定及び実績）\n※記載は任意",null,"計画",null,null,null,{"$f":"OFFSET(【実施期間中】個別事業におけるPDCAシート!$A$8,【実施期間中】個別事業におけるPDCAシート!$A$55,MATCH($C411,【実施期間中】個別事業におけるPDCAシート!$H$6:$V$6,0)+6)","v":""}]
[null,null,null,null,"実績",null,null,null,{"$f":"OFFSET(【実施期間中】個別事業におけるPDCAシート!$A$8,【実施期間中】個別事業におけるPDCAシート!$A$56,MATCH($C411,【実施期間中】個別事業におけるPDCAシート!$H$6:$V$6,0)+6)","v":0}]
[null,null,"エネルギー起源CO2排出\n削減量（想定及び実績）",null,"計画",null,null,null,{"$f":"別紙１_実施計画書!I390","v":0},null,null,null,null,null,"（t-CO2）"]
[null,null,null,null,"計画値\n測定方法\n（計算式、\n根拠資料等）",null,null,null,{"$f":"IF(別紙１_実施計画書!I391=0,\"\",(別紙１_実施計画書!I391))","v":""}]
[]
[]
[]
[null,null,null,null,"実績",null,null,null,{"$f":"OFFSET(【実施期間中】個別事業におけるPDCAシート!$A$8,【実施期間中】個別事業におけるPDCAシート!$A$120,MATCH($C411,【実施期間中】個別事業におけるPDCAシート!$H$6:$V$6,0)+6)","v":0},null,null,null,null,null,"（t-CO2）"]
[null,null,null,null,"計画値\n測定方法\n（計算式、\n根拠資料等）"]
[]
[]
[]
[null,null,"賛同数（想定及び実績）",null,"計画値",null,null,null,"団体",null,{"$f":"OFFSET(【実施期間中】個別事業におけるPDCAシート!$A$8,【実施期間中】個別事業におけるPDCAシート!$A$58,MATCH($C411,【実施期間中】個別事業におけるPDCAシート!$H$6:$V$6,0)+6)","v":0},null,null,null,null,"、個人",null,{"$f":"OFFSET(【実施期間中】個別事業におけるPDCAシート!$A$8,【実施期間中】個別事業におけるPDCAシート!$A$61,MATCH($C411,【実施期間中】個別事業におけるPDCAシート!$H$6:$V$6,0)+6)","v":0}]
[null,null,null,null,"実績値",null,null,null,"団体",null,{"$f":"OFFSET(【実施期間中】個別事業におけるPDCAシート!$A$8,【実施期間中】個別事業におけるPDCAシート!$A$59,MATCH($C411,【実施期間中】個別事業におけるPDCAシート!$H$6:$V$6,0)+6)","v":0},null,null,null,null,"、個人",null,{"$f":"OFFSET(【実施期間中】個別事業におけるPDCAシート!$A$8,【実施期間中】個別事業におけるPDCAシート!$A$62,MATCH($C411,【実施期間中】個別事業におけるPDCAシート!$H$6:$V$6,0)+6)","v":0}]
[null,null,"効果検証\n（アンケート）",null,"※アンケートの実施予定をプルダウンより選択してください。"]
[null,null,null,null,"公募要領に規定のアンケート"]
[null,null,null,null,"省エネ機器",null,null,"省エネ住宅",null,null,"エコカー",null,null,"クールビズ",null,null,"ウォームビズ",null,null,"照明の\n効率的利用",null,null,"ｴｺﾄﾞﾗｲﾌﾞ",null,null,"カーシェア"]
[null,null,null,null,"- 選択 -",null,null,"- 選択 -",null,null,"- 選択 -",null,null,"- 選択 -",null,null,"- 選択 -",null,null,"- 選択 -",null,null,"- 選択 -",null,null,"- 選択 -"]
[null,null,null,null,"公募要領に規定のアンケート",null,null,null,null,null,null,null,null,null,null,null,"貴事業者独自のアンケート"]
[null,null,null,null,"ｽﾏｰﾄﾑｰﾌﾞ",null,null,"低炭素物流",null,null,"再エネ",null,null,"食品ロス"]
[null,null,null,null,"- 選択 -",null,null,"- 選択 -",null,null,"- 選択 -",null,null,"- 選択 -",null,null,"- 選択 -"]
[null,null,null,null,"内容（",null,null,null,null,null,null,null,null,null,null,null,null,null,null,null,null,null,null,null,null,null,null,"）"]
[null,null,null,null,"昨年度実績",null,null,null,"計",{"$f":"OFFSET(【実施期間中】個別事業におけるPDCAシート!$A$8,【実施期間中】個別事業におけるPDCAシート!$A$77,MATCH($C411,【実施期間中】個別事業におけるPDCAシート!$H$6:$V$6,0)+6)","v":0},null,null,"枚",null,"※複数ある場合は、アンケート合計回収数"]
[null,null,null,null,"回収数",null,null,null,"計",{"$f":"OFFSET(【実施期間中】個別事業におけるPDCAシート!$A$8,【実施期間中】個別事業におけるPDCAシート!$A$79,MATCH($C411,【実施期間中】個別事業におけるPDCAシート!$H$6:$V$6,0)+6)","v":0},null,null,"枚",null,"※複数ある場合は、アンケート合計回収数"]
[]
[null,null,"項目",null,"内容"]
[null,null,"事業8","事業名",{"$f":"OFFSET(【実施期間中】個別事業におけるPDCAシート!$A$8,,MATCH(C472,【実施期間中】個別事業におけるPDCAシート!$H$6:$V$6,0)+6)","v":""}]
[null,null,"普及啓発テーマ",null,"※該当する普及啓発テーマすべてをチェックしてください。"]
[null,null,null,null,"①",null,"②",null,"③",null,"④",null,"⑤",null,"⑥",null,"⑦",null,"⑧",null,"⑨",null,"⑩",null,"⑪",null,"⑫",null,null,null,"①","②","③","④","⑤","⑥","⑦","⑧","⑨","⑩","⑪","⑫","⑬",null,null,null,null,null,null,null,null,null,null,null,null,null,"a)","b)","c)","d)"]
[null,null,null,null,"省ｴﾈ機器",null,"省ｴﾈ住宅",null,"ｴｺｶｰ",null,"ｸｰﾙﾋﾞｽﾞ",null,"ｳｫｰﾑﾋﾞｽﾞ",null,"照明の\n高効率利用",null,"ｴｺﾄﾞﾗｲﾌﾞ",null,"ｶｰｼｪｱ",null,"ｽﾏｰﾄﾑｰﾌﾞ",null,"再配達防止",null,"再エネ",null,"食品ロス",null,null,null,"省ｴﾈ機器","省ｴﾈ住宅","ｴｺｶｰ","ｸｰﾙﾋﾞｽﾞ","ｳｫｰﾑﾋﾞｽﾞ","照明の\n高効率利用","ｴｺﾄﾞﾗｲﾌﾞ","ｶｰｼｪｱ","ｽﾏｰﾄﾑｰﾌﾞ","再配達防止","再エネ","食品ロス","その他",null,null,null,null,null,null,null,null,null,null,null,null,null,{"$f":"IF(COUNTIFS(【実施期間中】個別事業におけるPDCAシート!$E$22:$E$25,別紙１_実施報告書!BE474,OFFSET(【実施期間中】個別事業におけるPDCAシート!$F$22,,MATCH(別紙１_実施報告書!$C472,【実施期間中】個別事業におけるPDCAシート!$H$6:$V$6,0)+1,4,1),1),1,0)","v":0},{"$f":"IF(COUNTIFS(【実施期間中】個別事業におけるPDCAシート!$E$22:$E$25,別紙１_実施報告書!BF474,OFFSET(【実施期間中】個別事業におけるPDCAシート!$F$22,,MATCH(別紙１_実施報告書!$C472,【実施期間中】個別事業におけるPDCAシート!$H$6:$V$6,0)+1,4,1),1),1,0)","v":0},{"$f":"IF(COUNTIFS(【実施期間中】個別事業におけるPDCAシート!$E$22:$E$25,別紙１_実施報告書!BG474,OFFSET(【実施期間中】個別事業におけるPDCAシート!$F$22,,MATCH(別紙１_実施報告書!$C472,【実施期間中】個別事業におけるPDCAシート!$H$6:$V$6,0)+1,4,1),1),1,0)","v":0},{"$f":"IF(COUNTIFS(【実施期間中】個別事業におけるPDCAシート!$E$22:$E$25,別紙１_実施報告書!BH474,OFFSET(【実施期間中】個別事業におけるPDCAシート!$F$22,,MATCH(別紙１_実施報告書!$C472,【実施期間中】個別事業におけるPDCAシート!$H$6:$V$6,0)+1,4,1),1),1,0)","v":0},{"$f":"COUNTIFS(BE475:BH475,1)+COUNTIFS(BE475:BH475,\"TRUE\")","v":0}]
[null,null,null,null,null,null,null,null,null,null,null,null,null,null,null,null,null,null,null,null,null,null,null,null,null,null,null,null,null,null,{"$f":"IF(COUNTIFS(【実施期間中】個別事業におけるPDCAシート!$E$9:$E$21,別紙１_実施報告書!AE474,OFFSET(【実施期間中】個別事業におけるPDCAシート!$F$9,,MATCH(別紙１_実施報告書!$C472,【実施期間中】個別事業におけるPDCAシート!$H$6:$V$6,0)+1,13,1),1),1,0)","v":0},false,{"$f":"IF(COUNTIFS(【実施期間中】個別事業におけるPDCAシート!$E$9:$E$21,別紙１_実施報告書!AG474,OFFSET(【実施期間中】個別事業におけるPDCAシート!$F$9,,MATCH(別紙１_実施報告書!$C472,【実施期間中】個別事業におけるPDCAシート!$H$6:$V$6,0)+1,13,1),1),1,0)","v":0},{"$f":"IF(COUNTIFS(【実施期間中】個別事業におけるPDCAシート!$E$9:$E$21,別紙１_実施報告書!AH474,OFFSET(【実施期間中】個別事業におけるPDCAシート!$F$9,,MATCH(別紙１_実施報告書!$C472,【実施期間中】個別事業におけるPDCAシート!$H$6:$V$6,0)+1,13,1),1),1,0)","v":0},{"$f":"IF(COUNTIFS(【実施期間中】個別事業におけるPDCAシート!$E$9:$E$21,別紙１_実施報告書!AI474,OFFSET(【実施期間中】個別事業におけるPDCAシート!$F$9,,MATCH(別紙１_実施報告書!$C472,【実施期間中】個別事業におけるPDCAシート!$H$6:$V$6,0)+1,13,1),1),1,0)","v":0},{"$f":"IF(COUNTIFS(【実施期間中】個別事業におけるPDCAシート!$E$9:$E$21,別紙１_実施報告書!AJ474,OFFSET(【実施期間中】個別事業におけるPDCAシート!$F$9,,MATCH(別紙１_実施報告書!$C472,【実施期間中】個別事業におけるPDCAシート!$H$6:$V$6,0)+1,13,1),1),1,0)","v":0},{"$f":"IF(COUNTIFS(【実施期間中】個別事業におけるPDCAシート!$E$9:$E$21,別紙１_実施報告書!AK474,OFFSET(【実施期間中】個別事業におけるPDCAシート!$F$9,,MATCH(別紙１_実施報告書!$C472,【実施期間中】個別事業におけるPDCAシート!$H$6:$V$6,0)+1,13,1),1),1,0)","v":0},{"$f":"IF(COUNTIFS(【実施期間中】個別事業におけるPDCAシート!$E$9:$E$21,別紙１_実施報告書!AL474,OFFSET(【実施期間中】個別事業におけるPDCAシート!$F$9,,MATCH(別紙１_実施報告書!$C472,【実施期間中】個別事業におけるPDCAシート!$H$6:$V$6,0)+1,13,1),1),1,0)","v":0},{"$f":"IF(COUNTIFS(【実施期間中】個別事業におけるPDCAシート!$E$9:$E$21,別紙１_実施報告書!AM474,OFFSET(【実施期間中】個別事業におけるPDCAシート!$F$9,,MATCH(別紙１_実施報告書!$C472,【実施期間中】個別事業におけるPDCAシート!$H$6:$V$6,0)+1,13,1),1),1,0)","v":0},{"$f":"IF(COUNTIFS(【実施期間中】個別事業におけるPDCAシート!$E$9:$E$21,別紙１_実施報告書!AN474,OFFSET(【実施期間中】個別事業におけるPDCAシート!$F$9,,MATCH(別紙１_実施報告書!$C472,【実施期間中】個別事業におけるPDCAシート!$H$6:$V$6,0)+1,13,1),1),1,0)","v":0},{"$f":"IF(COUNTIFS(【実施期間中】個別事業におけるPDCAシート!$E$9:$E$21,別紙１_実施報告書!AO474,OFFSET(【実施期間中】個別事業におけるPDCAシート!$F$9,,MATCH(別紙１_実施報告書!$C472,【実施期間中】個別事業におけるPDCAシート!$H$6:$V$6,0)+1,13,1),1),1,0)","v":0},{"$f":"IF(COUNTIFS(【実施期間中】個別事業におけるPDCAシート!$E$9:$E$21,別紙１_実施報告書!AP474,OFFSET(【実施期間中】個別事業におけるPDCAシート!$F$9,,MATCH(別紙１_実施報告書!$C472,【実施期間中】個別事業におけるPDCAシート!$H$6:$V$6,0)+1,13,1),1),1,0)","v":0},{"$f":"IF(COUNTIFS(【実施期間中】個別事業におけるPDCAシート!$E$9:$E$21,別紙１_実施報告書!AQ474,OFFSET(【実施期間中】個別事業におけるPDCAシート!$F$9,,MATCH(別紙１_実施報告書!$C472,【実施期間中】個別事業におけるPDCAシート!$H$6:$V$6,0)+1,13,1),1),1,0)","v":0},{"$f":"IF(COUNTIFS(【実施期間中】個別事業におけるPDCAシート!$E$9:$E$21,別紙１_実施報告書!AR474,OFFSET(【実施期間中】個別事業におけるPDCAシート!$F$9,,MATCH(別紙１_実施報告書!$C472,【実施期間中】個別事業におけるPDCAシート!$H$6:$V$6,0)+1,13,1),1),1,0)","v":0},{"$f":"IF(COUNTIFS(【実施期間中】個別事業におけるPDCAシート!$E$9:$E$21,別紙１_実施報告書!AS474,OFFSET(【実施期間中】個別事業におけるPDCAシート!$F$9,,MATCH(別紙１_実施報告書!$C472,【実施期間中】個別事業におけるPDCAシート!$H$6:$V$6,0)+1,13,1),1),1,0)","v":0},{"$f":"IF(COUNTIFS(【実施期間中】個別事業におけるPDCAシート!$E$9:$E$21,別紙１_実施報告書!AT474,OFFSET(【実施期間中】個別事業におけるPDCAシート!$F$9,,MATCH(別紙１_実施報告書!$C472,【実施期間中】個別事業におけるPDCAシート!$H$6:$V$6,0)+1,13,1),1),1,0)","v":0},{"$f":"IF(COUNTIFS(【実施期間中】個別事業におけるPDCAシート!$E$9:$E$21,別紙１_実施報告書!AU474,OFFSET(【実施期間中】個別事業におけるPDCAシート!$F$9,,MATCH(別紙１_実施報告書!$C472,【実施期間中】個別事業におけるPDCAシート!$H$6:$V$6,0)+1,13,1),1),1,0)","v":0},{"$f":"IF(COUNTIFS(【実施期間中】個別事業におけるPDCAシート!$E$9:$E$21,別紙１_実施報告書!AV474,OFFSET(【実施期間中】個別事業におけるPDCAシート!$F$9,,MATCH(別紙１_実施報告書!$C472,【実施期間中】個別事業におけるPDCAシート!$H$6:$V$6,0)+1,13,1),1),1,0)","v":0},{"$f":"IF(COUNTIFS(【実施期間中】個別事業におけるPDCAシート!$E$9:$E$21,別紙１_実施報告書!AW474,OFFSET(【実施期間中】個別事業におけるPDCAシート!$F$9,,MATCH(別紙１_実施報告書!$C472,【実施期間中】個別事業におけるPDCAシート!$H$6:$V$6,0)+1,13,1),1),1,0)","v":0},{"$f":"IF(COUNTIFS(【実施期間中】個別事業におけるPDCAシート!$E$9:$E$21,別紙１_実施報告書!AX474,OFFSET(【実施期間中】個別事業におけるPDCAシート!$F$9,,MATCH(別紙１_実施報告書!$C472,【実施期間中】個別事業におけるPDCAシート!$H$6:$V$6,0)+1,13,1),1),1,0)","v":0},{"$f":"IF(COUNTIFS(【実施期間中】個別事業におけるPDCAシート!$E$9:$E$21,別紙１_実施報告書!AY474,OFFSET(【実施期間中】個別事業におけるPDCAシート!$F$9,,MATCH(別紙１_実施報告書!$C472,【実施期間中】個別事業におけるPDCAシート!$H$6:$V$6,0)+1,13,1),1),1,0)","v":0},{"$f":"IF(COUNTIFS(【実施期間中】個別事業におけるPDCAシート!$E$9:$E$21,別紙１_実施報告書!AZ474,OFFSET(【実施期間中】個別事業におけるPDCAシート!$F$9,,MATCH(別紙１_実施報告書!$C472,【実施期間中】個別事業におけるPDCAシート!$H$6:$V$6,0)+1,13,1),1),1,0)","v":0},{"$f":"IF(COUNTIFS(【実施期間中】個別事業におけるPDCAシート!$E$9:$E$21,別紙１_実施報告書!BA474,OFFSET(【実施期間中】個別事業におけるPDCAシート!$F$9,,MATCH(別紙１_実施報告書!$C472,【実施期間中】個別事業におけるPDCAシート!$H$6:$V$6,0)+1,13,1),1),1,0)","v":0},{"$f":"IF(COUNTIFS(【実施期間中】個別事業におけるPDCAシート!$E$9:$E$21,別紙１_実施報告書!BB474,OFFSET(【実施期間中】個別事業におけるPDCAシート!$F$9,,MATCH(別紙１_実施報告書!$C472,【実施期間中】個別事業におけるPDCAシート!$H$6:$V$6,0)+1,13,1),1),1,0)","v":0},{"$f":"COUNTIFS($AE476:$BB476,1)+COUNTIFS($AE476:$BB476,\"TRUE\")","v":0}]
[null,null,null,null,"⑬",null,"↓ ※①～⑫以外のテーマを設定する場合、具体的に記載してください。"]
[null,null,null,null,"その他"]
[]
[null,null,"訴求手法",null,"※訴求手法については、該当する欄にチェックしてください。"]
[null,null,null,null,"a) 情報発信型（受動型）",null,null,null,null,null,null,null,"b) 情報発信型（能動型）",null,null,null,null,null,null,null,"c) 双方向体験交流型"]
[null,null,null,null,"ラジオ、新聞・広報紙等",null,null,null,null,null,null,null,"講演会・パネル展示等",null,null,null,null,null,null,null,"試乗・体験会、省ｴﾈ診断等"]
[]
[null,null,null,null,"d) 双方向ＷＥＢ等配信型",null,null,null,null,null,null,null,"※d) については使用する媒体等を記載してください。"]
[null,null,null,null,"（新手法）"]
[]
[null,null,"実施期間",null,{"$f":"OFFSET(【実施期間中】個別事業におけるPDCAシート!$A$8,【実施期間中】個別事業におけるPDCAシート!$A$26,MATCH($C472,【実施期間中】個別事業におけるPDCAシート!$H$6:$V$6,0)+6)","v":""},null,null,null,null,null,null,null,null,null,"～",null,null,null,{"$f":"OFFSET(【実施期間中】個別事業におけるPDCAシート!$A$8,【実施期間中】個別事業におけるPDCAシート!$A$28,MATCH($C472,【実施期間中】個別事業におけるPDCAシート!$H$6:$V$6,0)+6)","v":""}]
[null,null,"（備考）",null,{"$f":"OFFSET(【実施期間中】個別事業におけるPDCAシート!$A$8,【実施期間中】個別事業におけるPDCAシート!$A$29,MATCH($C472,【実施期間中】個別事業におけるPDCAシート!$H$6:$V$6,0)+6)","v":""}]
[null,null,"実施日\n（※同一事業内で、\n同一の内容・場所において\n複数日実施する場合）",null,1,null,{"$f":"OFFSET(【実施期間中】個別事業におけるPDCAシート!$A$8,【実施期間中】個別事業におけるPDCAシート!$A$30,MATCH($C472,【実施期間中】個別事業におけるPDCAシート!$H$6:$V$6,0)+6)","v":""},null,null,null,null,null,null,null,null,null,6,null,{"$f":"OFFSET(【実施期間中】個別事業におけるPDCAシート!$A$8,【実施期間中】個別事業におけるPDCAシート!$A$35,MATCH($C472,【実施期間中】個別事業におけるPDCAシート!$H$6:$V$6,0)+6)","v":""}]
[null,null,null,null,2,null,{"$f":"OFFSET(【実施期間中】個別事業におけるPDCAシート!$A$8,【実施期間中】個別事業におけるPDCAシート!$A$31,MATCH($C472,【実施期間中】個別事業におけるPDCAシート!$H$6:$V$6,0)+6)","v":""},null,null,null,null,null,null,null,null,null,7]
[null,null,null,null,3,null,{"$f":"OFFSET(【実施期間中】個別事業におけるPDCAシート!$A$8,【実施期間中】個別事業におけるPDCAシート!$A$32,MATCH($C472,【実施期間中】個別事業におけるPDCAシート!$H$6:$V$6,0)+6)","v":""},null,null,null,null,null,null,null,null,null,8,null,{"$f":"OFFSET(【実施期間中】個別事業におけるPDCAシート!$A$8,【実施期間中】個別事業におけるPDCAシート!$A$37,MATCH($C472,【実施期間中】個別事業におけるPDCAシート!$H$6:$V$6,0)+6)","v":""}]
[null,null,null,null,4,null,{"$f":"OFFSET(【実施期間中】個別事業におけるPDCAシート!$A$8,【実施期間中】個別事業におけるPDCAシート!$A$33,MATCH($C472,【実施期間中】個別事業におけるPDCAシート!$H$6:$V$6,0)+6)","v":""},null,null,null,null,null,null,null,null,null,9,null,{"$f":"OFFSET(【実施期間中】個別事業におけるPDCAシート!$A$8,【実施期間中】個別事業におけるPDCAシート!$A$38,MATCH($C472,【実施期間中】個別事業におけるPDCAシート!$H$6:$V$6,0)+6)","v":""}]
[null,null,null,null,5,null,{"$f":"OFFSET(【実施期間中】個別事業におけるPDCAシート!$A$8,【実施期間中】個別事業におけるPDCAシート!$A$34,MATCH($C472,【実施期間中】個別事業におけるPDCAシート!$H$6:$V$6,0)+6)","v":""},null,null,null,null,null,null,null,null,null,10,null,{"$f":"OFFSET(【実施期間中】個別事業におけるPDCAシート!$A$8,【実施期間中】個別事業におけるPDCAシート!$A$39,MATCH($C472,【実施期間中】個別事業におけるPDCAシート!$H$6:$V$6,0)+6)","v":""}]
[null,null,"事業の概要",null,{"$f":"OFFSET(【実施期間中】個別事業におけるPDCAシート!$A$8,【実施期間中】個別事業におけるPDCAシート!$A$40,MATCH($C472,【実施期間中】個別事業におけるPDCAシート!$H$6:$V$6,0)+6)","v":""}]
[null,null,"地域団体との連携",null,{"$f":"別紙１_実施計画書!E432","v":0}]
[null,null,"実施結果",null,{"$f":"OFFSET(【実施期間中】個別事業におけるPDCAシート!$A$8,【実施期間中】個別事業におけるPDCAシート!$A$46,MATCH($C472,【実施期間中】個別事業におけるPDCAシート!$H$6:$V$6,0)+6)","v":0}]
[]
[null,null,"主な訴求対象","計画",{"$f":"OFFSET(【実施期間中】個別事業におけるPDCAシート!$A$8,【実施期間中】個別事業におけるPDCAシート!$A$41,MATCH($C472,【実施期間中】個別事業におけるPDCAシート!$H$6:$V$6,0)+6)","v":""}]
[null,null,null,"結果",{"$f":"OFFSET(【実施期間中】個別事業におけるPDCAシート!$A$8,【実施期間中】個別事業におけるPDCAシート!$A$42,MATCH($C472,【実施期間中】個別事業におけるPDCAシート!$H$6:$V$6,0)+6)","v":0}]
[null,null,"目標アウトプット\n（リーチ数）\n（想定及び実績）",null,"昨年度実績",null,null,null,"計",null,{"$f":"OFFSET(【実施期間中】個別事業におけるPDCAシート!$A$8,【実施期間中】個別事業におけるPDCAシート!$A$47,MATCH($C472,【実施期間中】個別事業におけるPDCAシート!$H$6:$V$6,0)+6)","v":0}]
[null,null,null,null,"昨年度実績算出根拠",null,null,null,{"$f":"OFFSET(【実施期間中】個別事業におけるPDCAシート!$A$8,【実施期間中】個別事業におけるPDCAシート!$A$48,MATCH($C472,【実施期間中】個別事業におけるPDCAシート!$H$6:$V$6,0)+6)","v":""}]
[null,null,null,null,"想定",null,null,null,"計",null,{"$f":"OFFSET(【実施期間中】個別事業におけるPDCAシート!$A$8,【実施期間中】個別事業におけるPDCAシート!$A$49,MATCH($C472,【実施期間中】個別事業におけるPDCAシート!$H$6:$V$6,0)+6)","v":0}]
[null,null,null,null,"算出方法",null,null,null,{"$f":"OFFSET(【実施期間中】個別事業におけるPDCAシート!$A$8,【実施期間中】個別事業におけるPDCAシート!$A$50,MATCH($C472,【実施期間中】個別事業におけるPDCAシート!$H$6:$V$6,0)+6)","v":""}]
[null,null,null,null,"実績値",null,null,null,"計",null,{"$f":"SUM(OFFSET(【実施期間中】個別事業におけるPDCAシート!$A$8,【実施期間中】個別事業におけるPDCAシート!$A$51,MATCH($C472,【実施期間中】個別事業におけるPDCAシート!$H$6:$V$6,0)+6):OFFSET(【実施期間中】個別事業におけるPDCAシート!$A$8,【実施期間中】個別事業におけるPDCAシート!$A$52,MATCH($C472,【実施期間中】個別事業におけるPDCAシート!$H$6:$V$6,0)+6))","v":0}]
[null,null,null,null,"実績値算出根拠",null,null,null,{"$f":"OFFSET(【実施期間中】個別事業におけるPDCAシート!$A$8,【実施期間中】個別事業におけるPDCAシート!$A$53,MATCH($C472,【実施期間中】個別事業におけるPDCAシート!$H$6:$V$6,0)+6)","v":0}]
[null,null,null,null,"その他",null,null,null,{"$f":"OFFSET(【実施期間中】個別事業におけるPDCAシート!$A$8,【実施期間中】個別事業におけるPDCAシート!$A$54,MATCH($C472,【実施期間中】個別事業におけるPDCAシート!$H$6:$V$6,0)+6)","v":0}]
[null,null,"目標アウトカム\n（想定及び実績）\n※記載は任意",null,"計画",null,null,null,{"$f":"OFFSET(【実施期間中】個別事業におけるPDCAシート!$A$8,【実施期間中】個別事業におけるPDCAシート!$A$55,MATCH($C472,【実施期間中】個別事業におけるPDCAシート!$H$6:$V$6,0)+6)","v":""}]
[null,null,null,null,"実績",null,null,null,{"$f":"OFFSET(【実施期間中】個別事業におけるPDCAシート!$A$8,【実施期間中】個別事業におけるPDCAシート!$A$56,MATCH($C472,【実施期間中】個別事業におけるPDCAシート!$H$6:$V$6,0)+6)","v":0}]
[null,null,"エネルギー起源CO2排出\n削減量（想定及び実績）",null,"計画",null,null,null,{"$f":"別紙１_実施計画書!I442","v":0},null,null,null,null,null,"（t-CO2）"]
[null,null,null,null,"計画値\n測定方法\n（計算式、\n根拠資料等）",null,null,null,{"$f":"IF(別紙１_実施計画書!I443=0,\"\",(別紙１_実施計画書!I443))","v":""}]
[]
[]
[]
[null,null,null,null,"実績",null,null,null,{"$f":"OFFSET(【実施期間中】個別事業におけるPDCAシート!$A$8,【実施期間中】個別事業におけるPDCAシート!$A$120,MATCH($C472,【実施期間中】個別事業におけるPDCAシート!$H$6:$V$6,0)+6)","v":0},null,null,null,null,null,"（t-CO2）"]
[null,null,null,null,"計画値\n測定方法\n（計算式、\n根拠資料等）"]
[]
[]
[]
[null,null,"賛同数（想定及び実績）",null,"計画値",null,null,null,"団体",null,{"$f":"OFFSET(【実施期間中】個別事業におけるPDCAシート!$A$8,【実施期間中】個別事業におけるPDCAシート!$A$58,MATCH($C472,【実施期間中】個別事業におけるPDCAシート!$H$6:$V$6,0)+6)","v":0},null,null,null,null,"、個人",null,{"$f":"OFFSET(【実施期間中】個別事業におけるPDCAシート!$A$8,【実施期間中】個別事業におけるPDCAシート!$A$61,MATCH($C472,【実施期間中】個別事業におけるPDCAシート!$H$6:$V$6,0)+6)","v":0}]
[null,null,null,null,"実績値",null,null,null,"団体",null,{"$f":"OFFSET(【実施期間中】個別事業におけるPDCAシート!$A$8,【実施期間中】個別事業におけるPDCAシート!$A$59,MATCH($C472,【実施期間中】個別事業におけるPDCAシート!$H$6:$V$6,0)+6)","v":0},null,null,null,null,"、個人",null,{"$f":"OFFSET(【実施期間中】個別事業におけるPDCAシート!$A$8,【実施期間中】個別事業におけるPDCAシート!$A$62,MATCH($C472,【実施期間中】個別事業におけるPDCAシート!$H$6:$V$6,0)+6)","v":0}]
[null,null,"効果検証\n（アンケート）",null,"※アンケートの実施予定をプルダウンより選択してください。"]
[null,null,null,null,"公募要領に規定のアンケート"]
[null,null,null,null,"省エネ機器",null,null,"省エネ住宅",null,null,"エコカー",null,null,"クールビズ",null,null,"ウォームビズ",null,null,"照明の\n効率的利用",null,null,"ｴｺﾄﾞﾗｲﾌﾞ",null,null,"カーシェア"]
[null,null,null,null,"- 選択 -",null,null,"- 選択 -",null,null,"- 選択 -",null,null,"- 選択 -",null,null,"- 選択 -",null,null,"- 選択 -",null,null,"- 選択 -",null,null,"- 選択 -"]
[null,null,null,null,"公募要領に規定のアンケート",null,null,null,null,null,null,null,null,null,null,null,"貴事業者独自のアンケート"]
[null,null,null,null,"ｽﾏｰﾄﾑｰﾌﾞ",null,null,"低炭素物流",null,null,"再エネ",null,null,"食品ロス"]
[null,null,null,null,"- 選択 -",null,null,"- 選択 -",null,null,"- 選択 -",null,null,"- 選択 -",null,null,"- 選択 -"]
[null,null,null,null,"内容（",null,null,null,null,null,null,null,null,null,null,null,null,null,null,null,null,null,null,null,null,null,null,"）"]
[null,null,null,null,"昨年度実績",null,null,null,"計",{"$f":"OFFSET(【実施期間中】個別事業におけるPDCAシート!$A$8,【実施期間中】個別事業におけるPDCAシート!$A$77,MATCH($C472,【実施期間中】個別事業におけるPDCAシート!$H$6:$V$6,0)+6)","v":0},null,null,"枚",null,"※複数ある場合は、アンケート合計回収数"]
[null,null,null,null,"回収数",null,null,null,"計",{"$f":"OFFSET(【実施期間中】個別事業におけるPDCAシート!$A$8,【実施期間中】個別事業におけるPDCAシート!$A$79,MATCH($C472,【実施期間中】個別事業におけるPDCAシート!$H$6:$V$6,0)+6)","v":0},null,null,"枚",null,"※複数ある場合は、アンケート合計回収数"]
[]
[null,null,"項目",null,"内容"]
[null,null,"事業9","事業名",{"$f":"OFFSET(【実施期間中】個別事業におけるPDCAシート!$A$8,,MATCH(C533,【実施期間中】個別事業におけるPDCAシート!$H$6:$V$6,0)+6)","v":""}]
[null,null,"普及啓発テーマ",null,"※該当する普及啓発テーマすべてをチェックしてください。"]
[null,null,null,null,"①",null,"②",null,"③",null,"④",null,"⑤",null,"⑥",null,"⑦",null,"⑧",null,"⑨",null,"⑩",null,"⑪",null,"⑫",null,null,null,"①","②","③","④","⑤","⑥","⑦","⑧","⑨","⑩","⑪","⑫","⑬",null,null,null,null,null,null,null,null,null,null,null,null,null,"a)","b)","c)","d)"]
[null,null,null,null,"省ｴﾈ機器",null,"省ｴﾈ住宅",null,"ｴｺｶｰ",null,"ｸｰﾙﾋﾞｽﾞ",null,"ｳｫｰﾑﾋﾞｽﾞ",null,"照明の\n高効率利用",null,"ｴｺﾄﾞﾗｲﾌﾞ",null,"ｶｰｼｪｱ",null,"ｽﾏｰﾄﾑｰﾌﾞ",null,"再配達防止",null,"再エネ",null,"食品ロス",null,null,null,"省ｴﾈ機器","省ｴﾈ住宅","ｴｺｶｰ","ｸｰﾙﾋﾞｽﾞ","ｳｫｰﾑﾋﾞｽﾞ","照明の\n高効率利用","ｴｺﾄﾞﾗｲﾌﾞ","ｶｰｼｪｱ","ｽﾏｰﾄﾑｰﾌﾞ","再配達防止","再エネ","食品ロス","その他",null,null,null,null,null,null,null,null,null,null,null,null,null,{"$f":"IF(COUNTIFS(【実施期間中】個別事業におけるPDCAシート!$E$22:$E$25,別紙１_実施報告書!BE535,OFFSET(【実施期間中】個別事業におけるPDCAシート!$F$22,,MATCH(別紙１_実施報告書!$C533,【実施期間中】個別事業におけるPDCAシート!$H$6:$V$6,0)+1,4,1),1),1,0)","v":0},{"$f":"IF(COUNTIFS(【実施期間中】個別事業におけるPDCAシート!$E$22:$E$25,別紙１_実施報告書!BF535,OFFSET(【実施期間中】個別事業におけるPDCAシート!$F$22,,MATCH(別紙１_実施報告書!$C533,【実施期間中】個別事業におけるPDCAシート!$H$6:$V$6,0)+1,4,1),1),1,0)","v":0},{"$f":"IF(COUNTIFS(【実施期間中】個別事業におけるPDCAシート!$E$22:$E$25,別紙１_実施報告書!BG535,OFFSET(【実施期間中】個別事業におけるPDCAシート!$F$22,,MATCH(別紙１_実施報告書!$C533,【実施期間中】個別事業におけるPDCAシート!$H$6:$V$6,0)+1,4,1),1),1,0)","v":0},{"$f":"IF(COUNTIFS(【実施期間中】個別事業におけるPDCAシート!$E$22:$E$25,別紙１_実施報告書!BH535,OFFSET(【実施期間中】個別事業におけるPDCAシート!$F$22,,MATCH(別紙１_実施報告書!$C533,【実施期間中】個別事業におけるPDCAシート!$H$6:$V$6,0)+1,4,1),1),1,0)","v":0},{"$f":"COUNTIFS(BE536:BH536,1)+COUNTIFS(BE536:BH536,\"TRUE\")","v":0}]
[null,null,null,null,null,null,null,null,null,null,null,null,null,null,null,null,null,null,null,null,null,null,null,null,null,null,null,null,null,null,{"$f":"IF(COUNTIFS(【実施期間中】個別事業におけるPDCAシート!$E$9:$E$21,別紙１_実施報告書!AE535,OFFSET(【実施期間中】個別事業におけるPDCAシート!$F$9,,MATCH(別紙１_実施報告書!$C533,【実施期間中】個別事業におけるPDCAシート!$H$6:$V$6,0)+1,13,1),1),1,0)","v":0},{"$f":"IF(COUNTIFS(【実施期間中】個別事業におけるPDCAシート!$E$9:$E$21,別紙１_実施報告書!AF535,OFFSET(【実施期間中】個別事業におけるPDCAシート!$F$9,,MATCH(別紙１_実施報告書!$C533,【実施期間中】個別事業におけるPDCAシート!$H$6:$V$6,0)+1,13,1),1),1,0)","v":0},{"$f":"IF(COUNTIFS(【実施期間中】個別事業におけるPDCAシート!$E$9:$E$21,別紙１_実施報告書!AG535,OFFSET(【実施期間中】個別事業におけるPDCAシート!$F$9,,MATCH(別紙１_実施報告書!$C533,【実施期間中】個別事業におけるPDCAシート!$H$6:$V$6,0)+1,13,1),1),1,0)","v":0},{"$f":"IF(COUNTIFS(【実施期間中】個別事業におけるPDCAシート!$E$9:$E$21,別紙１_実施報告書!AH535,OFFSET(【実施期間中】個別事業におけるPDCAシート!$F$9,,MATCH(別紙１_実施報告書!$C533,【実施期間中】個別事業におけるPDCAシート!$H$6:$V$6,0)+1,13,1),1),1,0)","v":0},{"$f":"IF(COUNTIFS(【実施期間中】個別事業におけるPDCAシート!$E$9:$E$21,別紙１_実施報告書!AI535,OFFSET(【実施期間中】個別事業におけるPDCAシート!$F$9,,MATCH(別紙１_実施報告書!$C533,【実施期間中】個別事業におけるPDCAシート!$H$6:$V$6,0)+1,13,1),1),1,0)","v":0},{"$f":"IF(COUNTIFS(【実施期間中】個別事業におけるPDCAシート!$E$9:$E$21,別紙１_実施報告書!AJ535,OFFSET(【実施期間中】個別事業におけるPDCAシート!$F$9,,MATCH(別紙１_実施報告書!$C533,【実施期間中】個別事業におけるPDCAシート!$H$6:$V$6,0)+1,13,1),1),1,0)","v":0},{"$f":"IF(COUNTIFS(【実施期間中】個別事業におけるPDCAシート!$E$9:$E$21,別紙１_実施報告書!AK535,OFFSET(【実施期間中】個別事業におけるPDCAシート!$F$9,,MATCH(別紙１_実施報告書!$C533,【実施期間中】個別事業におけるPDCAシート!$H$6:$V$6,0)+1,13,1),1),1,0)","v":0},{"$f":"IF(COUNTIFS(【実施期間中】個別事業におけるPDCAシート!$E$9:$E$21,別紙１_実施報告書!AL535,OFFSET(【実施期間中】個別事業におけるPDCAシート!$F$9,,MATCH(別紙１_実施報告書!$C533,【実施期間中】個別事業におけるPDCAシート!$H$6:$V$6,0)+1,13,1),1),1,0)","v":0},{"$f":"IF(COUNTIFS(【実施期間中】個別事業におけるPDCAシート!$E$9:$E$21,別紙１_実施報告書!AM535,OFFSET(【実施期間中】個別事業におけるPDCAシート!$F$9,,MATCH(別紙１_実施報告書!$C533,【実施期間中】個別事業におけるPDCAシート!$H$6:$V$6,0)+1,13,1),1),1,0)","v":0},{"$f":"IF(COUNTIFS(【実施期間中】個別事業におけるPDCAシート!$E$9:$E$21,別紙１_実施報告書!AN535,OFFSET(【実施期間中】個別事業におけるPDCAシート!$F$9,,MATCH(別紙１_実施報告書!$C533,【実施期間中】個別事業におけるPDCAシート!$H$6:$V$6,0)+1,13,1),1),1,0)","v":0},{"$f":"IF(COUNTIFS(【実施期間中】個別事業におけるPDCAシート!$E$9:$E$21,別紙１_実施報告書!AO535,OFFSET(【実施期間中】個別事業におけるPDCAシート!$F$9,,MATCH(別紙１_実施報告書!$C533,【実施期間中】個別事業におけるPDCAシート!$H$6:$V$6,0)+1,13,1),1),1,0)","v":0},{"$f":"IF(COUNTIFS(【実施期間中】個別事業におけるPDCAシート!$E$9:$E$21,別紙１_実施報告書!AP535,OFFSET(【実施期間中】個別事業におけるPDCAシート!$F$9,,MATCH(別紙１_実施報告書!$C533,【実施期間中】個別事業におけるPDCAシート!$H$6:$V$6,0)+1,13,1),1),1,0)","v":0},{"$f":"IF(COUNTIFS(【実施期間中】個別事業におけるPDCAシート!$E$9:$E$21,別紙１_実施報告書!AQ535,OFFSET(【実施期間中】個別事業におけるPDCAシート!$F$9,,MATCH(別紙１_実施報告書!$C533,【実施期間中】個別事業におけるPDCAシート!$H$6:$V$6,0)+1,13,1),1),1,0)","v":0},{"$f":"IF(COUNTIFS(【実施期間中】個別事業におけるPDCAシート!$E$9:$E$21,別紙１_実施報告書!AR535,OFFSET(【実施期間中】個別事業におけるPDCAシート!$F$9,,MATCH(別紙１_実施報告書!$C533,【実施期間中】個別事業におけるPDCAシート!$H$6:$V$6,0)+1,13,1),1),1,0)","v":0},{"$f":"IF(COUNTIFS(【実施期間中】個別事業におけるPDCAシート!$E$9:$E$21,別紙１_実施報告書!AS535,OFFSET(【実施期間中】個別事業におけるPDCAシート!$F$9,,MATCH(別紙１_実施報告書!$C533,【実施期間中】個別事業におけるPDCAシート!$H$6:$V$6,0)+1,13,1),1),1,0)","v":0},{"$f":"IF(COUNTIFS(【実施期間中】個別事業におけるPDCAシート!$E$9:$E$21,別紙１_実施報告書!AT535,OFFSET(【実施期間中】個別事業におけるPDCAシート!$F$9,,MATCH(別紙１_実施報告書!$C533,【実施期間中】個別事業におけるPDCAシート!$H$6:$V$6,0)+1,13,1),1),1,0)","v":0},{"$f":"IF(COUNTIFS(【実施期間中】個別事業におけるPDCAシート!$E$9:$E$21,別紙１_実施報告書!AU535,OFFSET(【実施期間中】個別事業におけるPDCAシート!$F$9,,MATCH(別紙１_実施報告書!$C533,【実施期間中】個別事業におけるPDCAシート!$H$6:$V$6,0)+1,13,1),1),1,0)","v":0},{"$f":"IF(COUNTIFS(【実施期間中】個別事業におけるPDCAシート!$E$9:$E$21,別紙１_実施報告書!AV535,OFFSET(【実施期間中】個別事業におけるPDCAシート!$F$9,,MATCH(別紙１_実施報告書!$C533,【実施期間中】個別事業におけるPDCAシート!$H$6:$V$6,0)+1,13,1),1),1,0)","v":0},{"$f":"IF(COUNTIFS(【実施期間中】個別事業におけるPDCAシート!$E$9:$E$21,別紙１_実施報告書!AW535,OFFSET(【実施期間中】個別事業におけるPDCAシート!$F$9,,MATCH(別紙１_実施報告書!$C533,【実施期間中】個別事業におけるPDCAシート!$H$6:$V$6,0)+1,13,1),1),1,0)","v":0},{"$f":"IF(COUNTIFS(【実施期間中】個別事業におけるPDCAシート!$E$9:$E$21,別紙１_実施報告書!AX535,OFFSET(【実施期間中】個別事業におけるPDCAシート!$F$9,,MATCH(別紙１_実施報告書!$C533,【実施期間中】個別事業におけるPDCAシート!$H$6:$V$6,0)+1,13,1),1),1,0)","v":0},{"$f":"IF(COUNTIFS(【実施期間中】個別事業におけるPDCAシート!$E$9:$E$21,別紙１_実施報告書!AY535,OFFSET(【実施期間中】個別事業におけるPDCAシート!$F$9,,MATCH(別紙１_実施報告書!$C533,【実施期間中】個別事業におけるPDCAシート!$H$6:$V$6,0)+1,13,1),1),1,0)","v":0},{"$f":"IF(COUNTIFS(【実施期間中】個別事業におけるPDCAシート!$E$9:$E$21,別紙１_実施報告書!AZ535,OFFSET(【実施期間中】個別事業におけるPDCAシート!$F$9,,MATCH(別紙１_実施報告書!$C533,【実施期間中】個別事業におけるPDCAシート!$H$6:$V$6,0)+1,13,1),1),1,0)","v":0},{"$f":"IF(COUNTIFS(【実施期間中】個別事業におけるPDCAシート!$E$9:$E$21,別紙１_実施報告書!BA535,OFFSET(【実施期間中】個別事業におけるPDCAシート!$F$9,,MATCH(別紙１_実施報告書!$C533,【実施期間中】個別事業におけるPDCAシート!$H$6:$V$6,0)+1,13,1),1),1,0)","v":0},{"$f":"IF(COUNTIFS(【実施期間中】個別事業におけるPDCAシート!$E$9:$E$21,別紙１_実施報告書!BB535,OFFSET(【実施期間中】個別事業におけるPDCAシート!$F$9,,MATCH(別紙１_実施報告書!$C533,【実施期間中】個別事業におけるPDCAシート!$H$6:$V$6,0)+1,13,1),1),1,0)","v":0},{"$f":"COUNTIFS($AE537:$BB537,1)+COUNTIFS($AE537:$BB537,\"TRUE\")","v":0}]
[null,null,null,null,"⑬",null,"↓ ※①～⑫以外のテーマを設定する場合、具体的に記載してください。"]
[null,null,null,null,"その他"]
[]
[null,null,"訴求手法",null,"※訴求手法については、該当する欄にチェックしてください。"]
[null,null,null,null,"a) 情報発信型（受動型）",null,null,null,null,null,null,null,"b) 情報発信型（能動型）",null,null,null,null,null,null,null,"c) 双方向体験交流型"]
[null,null,null,null,"ラジオ、新聞・広報紙等",null,null,null,null,null,null,null,"講演会・パネル展示等",null,null,null,null,null,null,null,"試乗・体験会、省ｴﾈ診断等"]
[]
[null,null,null,null,"d) 双方向ＷＥＢ等配信型",null,null,null,null,null,null,null,"※d) については使用する媒体等を記載してください。"]
[null,null,null,null,"（新手法）"]
[]
[null,null,"実施期間",null,{"$f":"OFFSET(【実施期間中】個別事業におけるPDCAシート!$A$8,【実施期間中】個別事業におけるPDCAシート!$A$26,MATCH($C533,【実施期間中】個別事業におけるPDCAシート!$H$6:$V$6,0)+6)","v":""},null,null,null,null,null,null,null,null,null,"～",null,null,null,{"$f":"OFFSET(【実施期間中】個別事業におけるPDCAシート!$A$8,【実施期間中】個別事業におけるPDCAシート!$A$28,MATCH($C533,【実施期間中】個別事業におけるPDCAシート!$H$6:$V$6,0)+6)","v":""}]
[null,null,"（備考）",null,{"$f":"OFFSET(【実施期間中】個別事業におけるPDCAシート!$A$8,【実施期間中】個別事業におけるPDCAシート!$A$29,MATCH($C533,【実施期間中】個別事業におけるPDCAシート!$H$6:$V$6,0)+6)","v":""}]
[null,null,"実施日\n（※同一事業内で、\n同一の内容・場所において\n複数日実施する場合）",null,1,null,{"$f":"OFFSET(【実施期間中】個別事業におけるPDCAシート!$A$8,【実施期間中】個別事業におけるPDCAシート!$A$30,MATCH($C533,【実施期間中】個別事業におけるPDCAシート!$H$6:$V$6,0)+6)","v":""},null,null,null,null,null,null,null,null,null,6,null,{"$f":"OFFSET(【実施期間中】個別事業におけるPDCAシート!$A$8,【実施期間中】個別事業におけるPDCAシート!$A$35,MATCH($C533,【実施期間中】個別事業におけるPDCAシート!$H$6:$V$6,0)+6)","v":""}]
[null,null,null,null,2,null,{"$f":"OFFSET(【実施期間中】個別事業におけるPDCAシート!$A$8,【実施期間中】個別事業におけるPDCAシート!$A$31,MATCH($C533,【実施期間中】個別事業におけるPDCAシート!$H$6:$V$6,0)+6)","v":""},null,null,null,null,null,null,null,null,null,7,null,{"$f":"OFFSET(【実施期間中】個別事業におけるPDCAシート!$A$8,【実施期間中】個別事業におけるPDCAシート!$A$36,MATCH($C533,【実施期間中】個別事業におけるPDCAシート!$H$6:$V$6,0)+6)","v":""}]
[null,null,null,null,3,null,{"$f":"OFFSET(【実施期間中】個別事業におけるPDCAシート!$A$8,【実施期間中】個別事業におけるPDCAシート!$A$32,MATCH($C533,【実施期間中】個別事業におけるPDCAシート!$H$6:$V$6,0)+6)","v":""},null,null,null,null,null,null,null,null,null,8,null,{"$f":"OFFSET(【実施期間中】個別事業におけるPDCAシート!$A$8,【実施期間中】個別事業におけるPDCAシート!$A$37,MATCH($C533,【実施期間中】個別事業におけるPDCAシート!$H$6:$V$6,0)+6)","v":""}]
[null,null,null,null,4,null,{"$f":"OFFSET(【実施期間中】個別事業におけるPDCAシート!$A$8,【実施期間中】個別事業におけるPDCAシート!$A$33,MATCH($C533,【実施期間中】個別事業におけるPDCAシート!$H$6:$V$6,0)+6)","v":""},null,null,null,null,null,null,null,null,null,9,null,{"$f":"OFFSET(【実施期間中】個別事業におけるPDCAシート!$A$8,【実施期間中】個別事業におけるPDCAシート!$A$38,MATCH($C533,【実施期間中】個別事業におけるPDCAシート!$H$6:$V$6,0)+6)","v":""}]
[null,null,null,null,5,null,{"$f":"OFFSET(【実施期間中】個別事業におけるPDCAシート!$A$8,【実施期間中】個別事業におけるPDCAシート!$A$34,MATCH($C533,【実施期間中】個別事業におけるPDCAシート!$H$6:$V$6,0)+6)","v":""},null,null,null,null,null,null,null,null,null,10,null,{"$f":"OFFSET(【実施期間中】個別事業におけるPDCAシート!$A$8,【実施期間中】個別事業におけるPDCAシート!$A$39,MATCH($C533,【実施期間中】個別事業におけるPDCAシート!$H$6:$V$6,0)+6)","v":""}]
[null,null,"事業の概要",null,{"$f":"OFFSET(【実施期間中】個別事業におけるPDCAシート!$A$8,【実施期間中】個別事業におけるPDCAシート!$A$40,MATCH($C533,【実施期間中】個別事業におけるPDCAシート!$H$6:$V$6,0)+6)","v":""}]
[null,null,"地域団体との連携",null,{"$f":"別紙１_実施計画書!E484","v":0}]
[null,null,"実施結果",null,{"$f":"OFFSET(【実施期間中】個別事業におけるPDCAシート!$A$8,【実施期間中】個別事業におけるPDCAシート!$A$46,MATCH($C533,【実施期間中】個別事業におけるPDCAシート!$H$6:$V$6,0)+6)","v":0}]
[]
[null,null,"主な訴求対象","計画",{"$f":"OFFSET(【実施期間中】個別事業におけるPDCAシート!$A$8,【実施期間中】個別事業におけるPDCAシート!$A$41,MATCH($C533,【実施期間中】個別事業におけるPDCAシート!$H$6:$V$6,0)+6)","v":""}]
[null,null,null,"結果",{"$f":"OFFSET(【実施期間中】個別事業におけるPDCAシート!$A$8,【実施期間中】個別事業におけるPDCAシート!$A$42,MATCH($C533,【実施期間中】個別事業におけるPDCAシート!$H$6:$V$6,0)+6)","v":0}]
[null,null,"目標アウトプット\n（リーチ数）\n（想定及び実績）",null,"昨年度実績",null,null,null,"計",null,{"$f":"OFFSET(【実施期間中】個別事業におけるPDCAシート!$A$8,【実施期間中】個別事業におけるPDCAシート!$A$47,MATCH($C533,【実施期間中】個別事業におけるPDCAシート!$H$6:$V$6,0)+6)","v":0}]
[null,null,null,null,"昨年度実績算出根拠",null,null,null,{"$f":"OFFSET(【実施期間中】個別事業におけるPDCAシート!$A$8,【実施期間中】個別事業におけるPDCAシート!$A$48,MATCH($C533,【実施期間中】個別事業におけるPDCAシート!$H$6:$V$6,0)+6)","v":""}]
[null,null,null,null,"想定",null,null,null,"計",null,{"$f":"OFFSET(【実施期間中】個別事業におけるPDCAシート!$A$8,【実施期間中】個別事業におけるPDCAシート!$A$49,MATCH($C533,【実施期間中】個別事業におけるPDCAシート!$H$6:$V$6,0)+6)","v":0}]
[null,null,null,null,"算出方法",null,null,null,{"$f":"OFFSET(【実施期間中】個別事業におけるPDCAシート!$A$8,【実施期間中】個別事業におけるPDCAシート!$A$50,MATCH($C533,【実施期間中】個別事業におけるPDCAシート!$H$6:$V$6,0)+6)","v":""}]
[null,null,null,null,"実績値",null,null,null,"計",null,{"$f":"SUM(OFFSET(【実施期間中】個別事業におけるPDCAシート!$A$8,【実施期間中】個別事業におけるPDCAシート!$A$51,MATCH($C533,【実施期間中】個別事業におけるPDCAシート!$H$6:$V$6,0)+6):OFFSET(【実施期間中】個別事業におけるPDCAシート!$A$8,【実施期間中】個別事業におけるPDCAシート!$A$52,MATCH($C533,【実施期間中】個別事業におけるPDCAシート!$H$6:$V$6,0)+6))","v":0}]
[null,null,null,null,"実績値算出根拠",null,null,null,{"$f":"OFFSET(【実施期間中】個別事業におけるPDCAシート!$A$8,【実施期間中】個別事業におけるPDCAシート!$A$53,MATCH($C533,【実施期間中】個別事業におけるPDCAシート!$H$6:$V$6,0)+6)","v":0}]
[null,null,null,null,"その他",null,null,null,{"$f":"OFFSET(【実施期間中】個別事業におけるPDCAシート!$A$8,【実施期間中】個別事業におけるPDCAシート!$A$54,MATCH($C533,【実施期間中】個別事業におけるPDCAシート!$H$6:$V$6,0)+6)","v":0}]
[null,null,"目標アウトカム\n（想定及び実績）\n※記載は任意",null,"計画",null,null,null,{"$f":"OFFSET(【実施期間中】個別事業におけるPDCAシート!$A$8,【実施期間中】個別事業におけるPDCAシート!$A$55,MATCH($C533,【実施期間中】個別事業におけるPDCAシート!$H$6:$V$6,0)+6)","v":""}]
[null,null,null,null,"実績",null,null,null,{"$f":"OFFSET(【実施期間中】個別事業におけるPDCAシート!$A$8,【実施期間中】個別事業におけるPDCAシート!$A$56,MATCH($C533,【実施期間中】個別事業におけるPDCAシート!$H$6:$V$6,0)+6)","v":0}]
[null,null,"エネルギー起源CO2排出\n削減量（想定及び実績）",null,"計画",null,null,null,{"$f":"別紙１_実施計画書!I494","v":0},null,null,null,null,null,"（t-CO2）"]
[null,null,null,null,"計画値\n測定方法\n（計算式、\n根拠資料等）",null,null,null,{"$f":"IF(別紙１_実施計画書!I495=0,\"\",(別紙１_実施計画書!I495))","v":""}]
[]
[]
[]
[null,null,null,null,"実績",null,null,null,{"$f":"OFFSET(【実施期間中】個別事業におけるPDCAシート!$A$8,【実施期間中】個別事業におけるPDCAシート!$A$120,MATCH($C533,【実施期間中】個別事業におけるPDCAシート!$H$6:$V$6,0)+6)","v":0},null,null,null,null,null,"（t-CO2）"]
[null,null,null,null,"計画値\n測定方法\n（計算式、\n根拠資料等）"]
[]
[]
[]
[null,null,"賛同数（想定及び実績）",null,"計画値",null,null,null,"団体",null,{"$f":"OFFSET(【実施期間中】個別事業におけるPDCAシート!$A$8,【実施期間中】個別事業におけるPDCAシート!$A$58,MATCH($C533,【実施期間中】個別事業におけるPDCAシート!$H$6:$V$6,0)+6)","v":0},null,null,null,null,"、個人",null,{"$f":"OFFSET(【実施期間中】個別事業におけるPDCAシート!$A$8,【実施期間中】個別事業におけるPDCAシート!$A$61,MATCH($C533,【実施期間中】個別事業におけるPDCAシート!$H$6:$V$6,0)+6)","v":0}]
[null,null,null,null,"実績値",null,null,null,"団体",null,{"$f":"OFFSET(【実施期間中】個別事業におけるPDCAシート!$A$8,【実施期間中】個別事業におけるPDCAシート!$A$59,MATCH($C533,【実施期間中】個別事業におけるPDCAシート!$H$6:$V$6,0)+6)","v":0},null,null,null,null,"、個人",null,{"$f":"OFFSET(【実施期間中】個別事業におけるPDCAシート!$A$8,【実施期間中】個別事業におけるPDCAシート!$A$62,MATCH($C533,【実施期間中】個別事業におけるPDCAシート!$H$6:$V$6,0)+6)","v":0}]
[null,null,"効果検証\n（アンケート）",null,"※アンケートの実施予定をプルダウンより選択してください。"]
[null,null,null,null,"公募要領に規定のアンケート"]
[null,null,null,null,"省エネ機器",null,null,"省エネ住宅",null,null,"エコカー",null,null,"クールビズ",null,null,"ウォームビズ",null,null,"照明の\n効率的利用",null,null,"ｴｺﾄﾞﾗｲﾌﾞ",null,null,"カーシェア"]
[null,null,null,null,"- 選択 -",null,null,"- 選択 -",null,null,"- 選択 -",null,null,"- 選択 -",null,null,"- 選択 -",null,null,"- 選択 -",null,null,"- 選択 -",null,null,"- 選択 -"]
[null,null,null,null,"公募要領に規定のアンケート",null,null,null,null,null,null,null,null,null,null,null,"貴事業者独自のアンケート"]
[null,null,null,null,"ｽﾏｰﾄﾑｰﾌﾞ",null,null,"低炭素物流",null,null,"再エネ",null,null,"食品ロス"]
[null,null,null,null,"- 選択 -",null,null,"- 選択 -",null,null,"- 選択 -",null,null,"- 選択 -",null,null,"- 選択 -"]
[null,null,null,null,"内容（",null,null,null,null,null,null,null,null,null,null,null,null,null,null,null,null,null,null,null,null,null,null,"）"]
[null,null,null,null,"昨年度実績",null,null,null,"計",{"$f":"OFFSET(【実施期間中】個別事業におけるPDCAシート!$A$8,【実施期間中】個別事業におけるPDCAシート!$A$77,MATCH($C533,【実施期間中】個別事業におけるPDCAシート!$H$6:$V$6,0)+6)","v":0},null,null,"枚",null,"※複数ある場合は、アンケート合計回収数"]
[null,null,null,null,"回収数",null,null,null,"計",{"$f":"OFFSET(【実施期間中】個別事業におけるPDCAシート!$A$8,【実施期間中】個別事業におけるPDCAシート!$A$79,MATCH($C533,【実施期間中】個別事業におけるPDCAシート!$H$6:$V$6,0)+6)","v":0},null,null,"枚",null,"※複数ある場合は、アンケート合計回収数"]
[]
[null,null,"項目",null,"内容"]
[null,null,"事業10","事業名",{"$f":"OFFSET(【実施期間中】個別事業におけるPDCAシート!$A$8,,MATCH(C594,【実施期間中】個別事業におけるPDCAシート!$H$6:$V$6,0)+6)","v":""}]
[null,null,"普及啓発テーマ",null,"※該当する普及啓発テーマすべてをチェックしてください。"]
[null,null,null,null,"①",null,"②",null,"③",null,"④",null,"⑤",null,"⑥",null,"⑦",null,"⑧",null,"⑨",null,"⑩",null,"⑪",null,"⑫",null,null,null,"①","②","③","④","⑤","⑥","⑦","⑧","⑨","⑩","⑪","⑫","⑬",null,null,null,null,null,null,null,null,null,null,null,null,null,"a)","b)","c)","d)"]
[null,null,null,null,"省ｴﾈ機器",null,"省ｴﾈ住宅",null,"ｴｺｶｰ",null,"ｸｰﾙﾋﾞｽﾞ",null,"ｳｫｰﾑﾋﾞｽﾞ",null,"照明の\n高効率利用",null,"ｴｺﾄﾞﾗｲﾌﾞ",null,"ｶｰｼｪｱ",null,"ｽﾏｰﾄﾑｰﾌﾞ",null,"再配達防止",null,"再エネ",null,"食品ロス",null,null,null,"省ｴﾈ機器","省ｴﾈ住宅","ｴｺｶｰ","ｸｰﾙﾋﾞｽﾞ","ｳｫｰﾑﾋﾞｽﾞ","照明の\n高効率利用","ｴｺﾄﾞﾗｲﾌﾞ","ｶｰｼｪｱ","ｽﾏｰﾄﾑｰﾌﾞ","再配達防止","再エネ","食品ロス","その他",null,null,null,null,null,null,null,null,null,null,null,null,null,{"$f":"IF(COUNTIFS(【実施期間中】個別事業におけるPDCAシート!$E$22:$E$25,別紙１_実施報告書!BE596,OFFSET(【実施期間中】個別事業におけるPDCAシート!$F$22,,MATCH(別紙１_実施報告書!$C594,【実施期間中】個別事業におけるPDCAシート!$H$6:$V$6,0)+1,4,1),1),1,0)","v":0},{"$f":"IF(COUNTIFS(【実施期間中】個別事業におけるPDCAシート!$E$22:$E$25,別紙１_実施報告書!BF596,OFFSET(【実施期間中】個別事業におけるPDCAシート!$F$22,,MATCH(別紙１_実施報告書!$C594,【実施期間中】個別事業におけるPDCAシート!$H$6:$V$6,0)+1,4,1),1),1,0)","v":0},{"$f":"IF(COUNTIFS(【実施期間中】個別事業におけるPDCAシート!$E$22:$E$25,別紙１_実施報告書!BG596,OFFSET(【実施期間中】個別事業におけるPDCAシート!$F$22,,MATCH(別紙１_実施報告書!$C594,【実施期間中】個別事業におけるPDCAシート!$H$6:$V$6,0)+1,4,1),1),1,0)","v":0},{"$f":"IF(COUNTIFS(【実施期間中】個別事業におけるPDCAシート!$E$22:$E$25,別紙１_実施報告書!BH596,OFFSET(【実施期間中】個別事業におけるPDCAシート!$F$22,,MATCH(別紙１_実施報告書!$C594,【実施期間中】個別事業におけるPDCAシート!$H$6:$V$6,0)+1,4,1),1),1,0)","v":0},{"$f":"COUNTIFS(BE597:BH597,1)+COUNTIFS(BE597:BH597,\"TRUE\")","v":0}]
[null,null,null,null,null,null,null,null,null,null,null,null,null,null,null,null,null,null,null,null,null,null,null,null,null,null,null,null,null,null,{"$f":"IF(COUNTIFS(【実施期間中】個別事業におけるPDCAシート!$E$9:$E$21,別紙１_実施報告書!AE596,OFFSET(【実施期間中】個別事業におけるPDCAシート!$F$9,,MATCH(別紙１_実施報告書!$C594,【実施期間中】個別事業におけるPDCAシート!$H$6:$V$6,0)+1,13,1),1),1,0)","v":0},{"$f":"IF(COUNTIFS(【実施期間中】個別事業におけるPDCAシート!$E$9:$E$21,別紙１_実施報告書!AF596,OFFSET(【実施期間中】個別事業におけるPDCAシート!$F$9,,MATCH(別紙１_実施報告書!$C594,【実施期間中】個別事業におけるPDCAシート!$H$6:$V$6,0)+1,13,1),1),1,0)","v":0},{"$f":"IF(COUNTIFS(【実施期間中】個別事業におけるPDCAシート!$E$9:$E$21,別紙１_実施報告書!AG596,OFFSET(【実施期間中】個別事業におけるPDCAシート!$F$9,,MATCH(別紙１_実施報告書!$C594,【実施期間中】個別事業におけるPDCAシート!$H$6:$V$6,0)+1,13,1),1),1,0)","v":0},{"$f":"IF(COUNTIFS(【実施期間中】個別事業におけるPDCAシート!$E$9:$E$21,別紙１_実施報告書!AH596,OFFSET(【実施期間中】個別事業におけるPDCAシート!$F$9,,MATCH(別紙１_実施報告書!$C594,【実施期間中】個別事業におけるPDCAシート!$H$6:$V$6,0)+1,13,1),1),1,0)","v":0},{"$f":"IF(COUNTIFS(【実施期間中】個別事業におけるPDCAシート!$E$9:$E$21,別紙１_実施報告書!AI596,OFFSET(【実施期間中】個別事業におけるPDCAシート!$F$9,,MATCH(別紙１_実施報告書!$C594,【実施期間中】個別事業におけるPDCAシート!$H$6:$V$6,0)+1,13,1),1),1,0)","v":0},{"$f":"IF(COUNTIFS(【実施期間中】個別事業におけるPDCAシート!$E$9:$E$21,別紙１_実施報告書!AJ596,OFFSET(【実施期間中】個別事業におけるPDCAシート!$F$9,,MATCH(別紙１_実施報告書!$C594,【実施期間中】個別事業におけるPDCAシート!$H$6:$V$6,0)+1,13,1),1),1,0)","v":0},{"$f":"IF(COUNTIFS(【実施期間中】個別事業におけるPDCAシート!$E$9:$E$21,別紙１_実施報告書!AK596,OFFSET(【実施期間中】個別事業におけるPDCAシート!$F$9,,MATCH(別紙１_実施報告書!$C594,【実施期間中】個別事業におけるPDCAシート!$H$6:$V$6,0)+1,13,1),1),1,0)","v":0},{"$f":"IF(COUNTIFS(【実施期間中】個別事業におけるPDCAシート!$E$9:$E$21,別紙１_実施報告書!AL596,OFFSET(【実施期間中】個別事業におけるPDCAシート!$F$9,,MATCH(別紙１_実施報告書!$C594,【実施期間中】個別事業におけるPDCAシート!$H$6:$V$6,0)+1,13,1),1),1,0)","v":0},{"$f":"IF(COUNTIFS(【実施期間中】個別事業におけるPDCAシート!$E$9:$E$21,別紙１_実施報告書!AM596,OFFSET(【実施期間中】個別事業におけるPDCAシート!$F$9,,MATCH(別紙１_実施報告書!$C594,【実施期間中】個別事業におけるPDCAシート!$H$6:$V$6,0)+1,13,1),1),1,0)","v":0},{"$f":"IF(COUNTIFS(【実施期間中】個別事業におけるPDCAシート!$E$9:$E$21,別紙１_実施報告書!AN596,OFFSET(【実施期間中】個別事業におけるPDCAシート!$F$9,,MATCH(別紙１_実施報告書!$C594,【実施期間中】個別事業におけるPDCAシート!$H$6:$V$6,0)+1,13,1),1),1,0)","v":0},{"$f":"IF(COUNTIFS(【実施期間中】個別事業におけるPDCAシート!$E$9:$E$21,別紙１_実施報告書!AO596,OFFSET(【実施期間中】個別事業におけるPDCAシート!$F$9,,MATCH(別紙１_実施報告書!$C594,【実施期間中】個別事業におけるPDCAシート!$H$6:$V$6,0)+1,13,1),1),1,0)","v":0},{"$f":"IF(COUNTIFS(【実施期間中】個別事業におけるPDCAシート!$E$9:$E$21,別紙１_実施報告書!AP596,OFFSET(【実施期間中】個別事業におけるPDCAシート!$F$9,,MATCH(別紙１_実施報告書!$C594,【実施期間中】個別事業におけるPDCAシート!$H$6:$V$6,0)+1,13,1),1),1,0)","v":0},{"$f":"IF(COUNTIFS(【実施期間中】個別事業におけるPDCAシート!$E$9:$E$21,別紙１_実施報告書!AQ596,OFFSET(【実施期間中】個別事業におけるPDCAシート!$F$9,,MATCH(別紙１_実施報告書!$C594,【実施期間中】個別事業におけるPDCAシート!$H$6:$V$6,0)+1,13,1),1),1,0)","v":0},{"$f":"IF(COUNTIFS(【実施期間中】個別事業におけるPDCAシート!$E$9:$E$21,別紙１_実施報告書!AR596,OFFSET(【実施期間中】個別事業におけるPDCAシート!$F$9,,MATCH(別紙１_実施報告書!$C594,【実施期間中】個別事業におけるPDCAシート!$H$6:$V$6,0)+1,13,1),1),1,0)","v":0},{"$f":"IF(COUNTIFS(【実施期間中】個別事業におけるPDCAシート!$E$9:$E$21,別紙１_実施報告書!AS596,OFFSET(【実施期間中】個別事業におけるPDCAシート!$F$9,,MATCH(別紙１_実施報告書!$C594,【実施期間中】個別事業におけるPDCAシート!$H$6:$V$6,0)+1,13,1),1),1,0)","v":0},{"$f":"IF(COUNTIFS(【実施期間中】個別事業におけるPDCAシート!$E$9:$E$21,別紙１_実施報告書!AT596,OFFSET(【実施期間中】個別事業におけるPDCAシート!$F$9,,MATCH(別紙１_実施報告書!$C594,【実施期間中】個別事業におけるPDCAシート!$H$6:$V$6,0)+1,13,1),1),1,0)","v":0},{"$f":"IF(COUNTIFS(【実施期間中】個別事業におけるPDCAシート!$E$9:$E$21,別紙１_実施報告書!AU596,OFFSET(【実施期間中】個別事業におけるPDCAシート!$F$9,,MATCH(別紙１_実施報告書!$C594,【実施期間中】個別事業におけるPDCAシート!$H$6:$V$6,0)+1,13,1),1),1,0)","v":0},{"$f":"IF(COUNTIFS(【実施期間中】個別事業におけるPDCAシート!$E$9:$E$21,別紙１_実施報告書!AV596,OFFSET(【実施期間中】個別事業におけるPDCAシート!$F$9,,MATCH(別紙１_実施報告書!$C594,【実施期間中】個別事業におけるPDCAシート!$H$6:$V$6,0)+1,13,1),1),1,0)","v":0},{"$f":"IF(COUNTIFS(【実施期間中】個別事業におけるPDCAシート!$E$9:$E$21,別紙１_実施報告書!AW596,OFFSET(【実施期間中】個別事業におけるPDCAシート!$F$9,,MATCH(別紙１_実施報告書!$C594,【実施期間中】個別事業におけるPDCAシート!$H$6:$V$6,0)+1,13,1),1),1,0)","v":0},{"$f":"IF(COUNTIFS(【実施期間中】個別事業におけるPDCAシート!$E$9:$E$21,別紙１_実施報告書!AX596,OFFSET(【実施期間中】個別事業におけるPDCAシート!$F$9,,MATCH(別紙１_実施報告書!$C594,【実施期間中】個別事業におけるPDCAシート!$H$6:$V$6,0)+1,13,1),1),1,0)","v":0},{"$f":"IF(COUNTIFS(【実施期間中】個別事業におけるPDCAシート!$E$9:$E$21,別紙１_実施報告書!AY596,OFFSET(【実施期間中】個別事業におけるPDCAシート!$F$9,,MATCH(別紙１_実施報告書!$C594,【実施期間中】個別事業におけるPDCAシート!$H$6:$V$6,0)+1,13,1),1),1,0)","v":0},{"$f":"IF(COUNTIFS(【実施期間中】個別事業におけるPDCAシート!$E$9:$E$21,別紙１_実施報告書!AZ596,OFFSET(【実施期間中】個別事業におけるPDCAシート!$F$9,,MATCH(別紙１_実施報告書!$C594,【実施期間中】個別事業におけるPDCAシート!$H$6:$V$6,0)+1,13,1),1),1,0)","v":0},{"$f":"IF(COUNTIFS(【実施期間中】個別事業におけるPDCAシート!$E$9:$E$21,別紙１_実施報告書!BA596,OFFSET(【実施期間中】個別事業におけるPDCAシート!$F$9,,MATCH(別紙１_実施報告書!$C594,【実施期間中】個別事業におけるPDCAシート!$H$6:$V$6,0)+1,13,1),1),1,0)","v":0},{"$f":"IF(COUNTIFS(【実施期間中】個別事業におけるPDCAシート!$E$9:$E$21,別紙１_実施報告書!BB596,OFFSET(【実施期間中】個別事業におけるPDCAシート!$F$9,,MATCH(別紙１_実施報告書!$C594,【実施期間中】個別事業におけるPDCAシート!$H$6:$V$6,0)+1,13,1),1),1,0)","v":0},{"$f":"COUNTIFS($AE598:$BB598,1)+COUNTIFS($AE598:$BB598,\"TRUE\")","v":0}]
[null,null,null,null,"⑬",null,"↓ ※①～⑫以外のテーマを設定する場合、具体的に記載してください。"]
[null,null,null,null,"その他"]
[]
[null,null,"訴求手法",null,"※訴求手法については、該当する欄にチェックしてください。"]
[null,null,null,null,"a) 情報発信型（受動型）",null,null,null,null,null,null,null,"b) 情報発信型（能動型）",null,null,null,null,null,null,null,"c) 双方向体験交流型"]
[null,null,null,null,"ラジオ、新聞・広報紙等",null,null,null,null,null,null,null,"講演会・パネル展示等",null,null,null,null,null,null,null,"試乗・体験会、省ｴﾈ診断等"]
[]
[null,null,null,null,"d) 双方向ＷＥＢ等配信型",null,null,null,null,null,null,null,"※d) については使用する媒体等を記載してください。"]
[null,null,null,null,"（新手法）"]
[]
[null,null,"実施期間",null,{"$f":"OFFSET(【実施期間中】個別事業におけるPDCAシート!$A$8,【実施期間中】個別事業におけるPDCAシート!$A$26,MATCH($C594,【実施期間中】個別事業におけるPDCAシート!$H$6:$V$6,0)+6)","v":""},null,null,null,null,null,null,null,null,null,"～",null,null,null,{"$f":"OFFSET(【実施期間中】個別事業におけるPDCAシート!$A$8,【実施期間中】個別事業におけるPDCAシート!$A$28,MATCH($C594,【実施期間中】個別事業におけるPDCAシート!$H$6:$V$6,0)+6)","v":""}]
[null,null,"（備考）",null,{"$f":"OFFSET(【実施期間中】個別事業におけるPDCAシート!$A$8,【実施期間中】個別事業におけるPDCAシート!$A$29,MATCH($C594,【実施期間中】個別事業におけるPDCAシート!$H$6:$V$6,0)+6)","v":""}]
[null,null,"実施日\n（※同一事業内で、\n同一の内容・場所において\n複数日実施する場合）",null,1,null,{"$f":"OFFSET(【実施期間中】個別事業におけるPDCAシート!$A$8,【実施期間中】個別事業におけるPDCAシート!$A$30,MATCH($C594,【実施期間中】個別事業におけるPDCAシート!$H$6:$V$6,0)+6)","v":""},null,null,null,null,null,null,null,null,null,6,null,{"$f":"OFFSET(【実施期間中】個別事業におけるPDCAシート!$A$8,【実施期間中】個別事業におけるPDCAシート!$A$35,MATCH($C594,【実施期間中】個別事業におけるPDCAシート!$H$6:$V$6,0)+6)","v":""}]
[null,null,null,null,2,null,{"$f":"OFFSET(【実施期間中】個別事業におけるPDCAシート!$A$8,【実施期間中】個別事業におけるPDCAシート!$A$31,MATCH($C594,【実施期間中】個別事業におけるPDCAシート!$H$6:$V$6,0)+6)","v":""},null,null,null,null,null,null,null,null,null,7,null,{"$f":"OFFSET(【実施期間中】個別事業におけるPDCAシート!$A$8,【実施期間中】個別事業におけるPDCAシート!$A$36,MATCH($C594,【実施期間中】個別事業におけるPDCAシート!$H$6:$V$6,0)+6)","v":""}]
[null,null,null,null,3,null,{"$f":"OFFSET(【実施期間中】個別事業におけるPDCAシート!$A$8,【実施期間中】個別事業におけるPDCAシート!$A$32,MATCH($C594,【実施期間中】個別事業におけるPDCAシート!$H$6:$V$6,0)+6)","v":""},null,null,null,null,null,null,null,null,null,8,null,{"$f":"OFFSET(【実施期間中】個別事業におけるPDCAシート!$A$8,【実施期間中】個別事業におけるPDCAシート!$A$37,MATCH($C594,【実施期間中】個別事業におけるPDCAシート!$H$6:$V$6,0)+6)","v":""}]
[null,null,null,null,4,null,{"$f":"OFFSET(【実施期間中】個別事業におけるPDCAシート!$A$8,【実施期間中】個別事業におけるPDCAシート!$A$33,MATCH($C594,【実施期間中】個別事業におけるPDCAシート!$H$6:$V$6,0)+6)","v":""},null,null,null,null,null,null,null,null,null,9,null,{"$f":"OFFSET(【実施期間中】個別事業におけるPDCAシート!$A$8,【実施期間中】個別事業におけるPDCAシート!$A$38,MATCH($C594,【実施期間中】個別事業におけるPDCAシート!$H$6:$V$6,0)+6)","v":""}]
[null,null,null,null,5,null,{"$f":"OFFSET(【実施期間中】個別事業におけるPDCAシート!$A$8,【実施期間中】個別事業におけるPDCAシート!$A$34,MATCH($C594,【実施期間中】個別事業におけるPDCAシート!$H$6:$V$6,0)+6)","v":""},null,null,null,null,null,null,null,null,null,10,null,{"$f":"OFFSET(【実施期間中】個別事業におけるPDCAシート!$A$8,【実施期間中】個別事業におけるPDCAシート!$A$39,MATCH($C594,【実施期間中】個別事業におけるPDCAシート!$H$6:$V$6,0)+6)","v":""}]
[null,null,"事業の概要",null,{"$f":"OFFSET(【実施期間中】個別事業におけるPDCAシート!$A$8,【実施期間中】個別事業におけるPDCAシート!$A$40,MATCH($C594,【実施期間中】個別事業におけるPDCAシート!$H$6:$V$6,0)+6)","v":""}]
[null,null,"地域団体との連携",null,{"$f":"別紙１_実施計画書!E536","v":0}]
[null,null,"実施結果",null,{"$f":"OFFSET(【実施期間中】個別事業におけるPDCAシート!$A$8,【実施期間中】個別事業におけるPDCAシート!$A$46,MATCH($C594,【実施期間中】個別事業におけるPDCAシート!$H$6:$V$6,0)+6)","v":0}]
[]
[null,null,"主な訴求対象","計画",{"$f":"OFFSET(【実施期間中】個別事業におけるPDCAシート!$A$8,【実施期間中】個別事業におけるPDCAシート!$A$41,MATCH($C594,【実施期間中】個別事業におけるPDCAシート!$H$6:$V$6,0)+6)","v":""}]
[null,null,null,"結果",{"$f":"OFFSET(【実施期間中】個別事業におけるPDCAシート!$A$8,【実施期間中】個別事業におけるPDCAシート!$A$42,MATCH($C594,【実施期間中】個別事業におけるPDCAシート!$H$6:$V$6,0)+6)","v":0}]
[null,null,"目標アウトプット\n（リーチ数）\n（想定及び実績）",null,"昨年度実績",null,null,null,"計",null,{"$f":"OFFSET(【実施期間中】個別事業におけるPDCAシート!$A$8,【実施期間中】個別事業におけるPDCAシート!$A$47,MATCH($C594,【実施期間中】個別事業におけるPDCAシート!$H$6:$V$6,0)+6)","v":0}]
[null,null,null,null,"昨年度実績算出根拠",null,null,null,{"$f":"OFFSET(【実施期間中】個別事業におけるPDCAシート!$A$8,【実施期間中】個別事業におけるPDCAシート!$A$48,MATCH($C594,【実施期間中】個別事業におけるPDCAシート!$H$6:$V$6,0)+6)","v":""}]
[null,null,null,null,"想定",null,null,null,"計",null,{"$f":"OFFSET(【実施期間中】個別事業におけるPDCAシート!$A$8,【実施期間中】個別事業におけるPDCAシート!$A$49,MATCH($C594,【実施期間中】個別事業におけるPDCAシート!$H$6:$V$6,0)+6)","v":0}]
[null,null,null,null,"算出方法",null,null,null,{"$f":"OFFSET(【実施期間中】個別事業におけるPDCAシート!$A$8,【実施期間中】個別事業におけるPDCAシート!$A$50,MATCH($C594,【実施期間中】個別事業におけるPDCAシート!$H$6:$V$6,0)+6)","v":""}]
[null,null,null,null,"実績値",null,null,null,"計",null,{"$f":"SUM(OFFSET(【実施期間中】個別事業におけるPDCAシート!$A$8,【実施期間中】個別事業におけるPDCAシート!$A$51,MATCH($C594,【実施期間中】個別事業におけるPDCAシート!$H$6:$V$6,0)+6):OFFSET(【実施期間中】個別事業におけるPDCAシート!$A$8,【実施期間中】個別事業におけるPDCAシート!$A$52,MATCH($C594,【実施期間中】個別事業におけるPDCAシート!$H$6:$V$6,0)+6))","v":0}]
[null,null,null,null,"実績値算出根拠",null,null,null,{"$f":"OFFSET(【実施期間中】個別事業におけるPDCAシート!$A$8,【実施期間中】個別事業におけるPDCAシート!$A$53,MATCH($C594,【実施期間中】個別事業におけるPDCAシート!$H$6:$V$6,0)+6)","v":0}]
[null,null,null,null,"その他",null,null,null,{"$f":"OFFSET(【実施期間中】個別事業におけるPDCAシート!$A$8,【実施期間中】個別事業におけるPDCAシート!$A$54,MATCH($C594,【実施期間中】個別事業におけるPDCAシート!$H$6:$V$6,0)+6)","v":0}]
[null,null,"目標アウトカム\n（想定及び実績）\n※記載は任意",null,"計画",null,null,null,{"$f":"OFFSET(【実施期間中】個別事業におけるPDCAシート!$A$8,【実施期間中】個別事業におけるPDCAシート!$A$55,MATCH($C594,【実施期間中】個別事業におけるPDCAシート!$H$6:$V$6,0)+6)","v":""}]
[null,null,null,null,"実績",null,null,null,{"$f":"OFFSET(【実施期間中】個別事業におけるPDCAシート!$A$8,【実施期間中】個別事業におけるPDCAシート!$A$56,MATCH($C594,【実施期間中】個別事業におけるPDCAシート!$H$6:$V$6,0)+6)","v":0}]
[null,null,"エネルギー起源CO2排出\n削減量（想定及び実績）",null,"計画",null,null,null,{"$f":"別紙１_実施計画書!I546","v":0},null,null,null,null,null,"（t-CO2）"]
[null,null,null,null,"計画値\n測定方法\n（計算式、\n根拠資料等）",null,null,null,{"$f":"IF(別紙１_実施計画書!I547=0,\"\",(別紙１_実施計画書!I547))","v":""}]
[]
[]
[]
[null,null,null,null,"実績",null,null,null,{"$f":"OFFSET(【実施期間中】個別事業におけるPDCAシート!$A$8,【実施期間中】個別事業におけるPDCAシート!$A$120,MATCH($C594,【実施期間中】個別事業におけるPDCAシート!$H$6:$V$6,0)+6)","v":0},null,null,null,null,null,"（t-CO2）"]
[null,null,null,null,"計画値\n測定方法\n（計算式、\n根拠資料等）"]
[]
[]
[]
[null,null,"賛同数（想定及び実績）",null,"計画値",null,null,null,"団体",null,{"$f":"OFFSET(【実施期間中】個別事業におけるPDCAシート!$A$8,【実施期間中】個別事業におけるPDCAシート!$A$58,MATCH($C594,【実施期間中】個別事業におけるPDCAシート!$H$6:$V$6,0)+6)","v":0},null,null,null,null,"、個人",null,{"$f":"OFFSET(【実施期間中】個別事業におけるPDCAシート!$A$8,【実施期間中】個別事業におけるPDCAシート!$A$61,MATCH($C594,【実施期間中】個別事業におけるPDCAシート!$H$6:$V$6,0)+6)","v":0}]
[null,null,null,null,"実績値",null,null,null,"団体",null,{"$f":"OFFSET(【実施期間中】個別事業におけるPDCAシート!$A$8,【実施期間中】個別事業におけるPDCAシート!$A$59,MATCH($C594,【実施期間中】個別事業におけるPDCAシート!$H$6:$V$6,0)+6)","v":0},null,null,null,null,"、個人",null,{"$f":"OFFSET(【実施期間中】個別事業におけるPDCAシート!$A$8,【実施期間中】個別事業におけるPDCAシート!$A$62,MATCH($C594,【実施期間中】個別事業におけるPDCAシート!$H$6:$V$6,0)+6)","v":0}]
[null,null,"効果検証\n（アンケート）",null,"※アンケートの実施予定をプルダウンより選択してください。"]
[null,null,null,null,"公募要領に規定のアンケート"]
[null,null,null,null,"省エネ機器",null,null,"省エネ住宅",null,null,"エコカー",null,null,"クールビズ",null,null,"ウォームビズ",null,null,"照明の\n効率的利用",null,null,"ｴｺﾄﾞﾗｲﾌﾞ",null,null,"カーシェア"]
[null,null,null,null,"- 選択 -",null,null,"- 選択 -",null,null,"- 選択 -",null,null,"- 選択 -",null,null,"- 選択 -",null,null,"- 選択 -",null,null,"- 選択 -",null,null,"- 選択 -"]
[null,null,null,null,"公募要領に規定のアンケート",null,null,null,null,null,null,null,null,null,null,null,"貴事業者独自のアンケート"]
[null,null,null,null,"ｽﾏｰﾄﾑｰﾌﾞ",null,null,"低炭素物流",null,null,"再エネ",null,null,"食品ロス"]
[null,null,null,null,"- 選択 -",null,null,"- 選択 -",null,null,"- 選択 -",null,null,"- 選択 -",null,null,"- 選択 -"]
[null,null,null,null,"内容（",null,null,null,null,null,null,null,null,null,null,null,null,null,null,null,null,null,null,null,null,null,null,"）"]
[null,null,null,null,"昨年度実績",null,null,null,"計",{"$f":"OFFSET(【実施期間中】個別事業におけるPDCAシート!$A$8,【実施期間中】個別事業におけるPDCAシート!$A$77,MATCH($C594,【実施期間中】個別事業におけるPDCAシート!$H$6:$V$6,0)+6)","v":0},null,null,"枚",null,"※複数ある場合は、アンケート合計回収数"]
[null,null,null,null,"回収数",null,null,null,"計",{"$f":"OFFSET(【実施期間中】個別事業におけるPDCAシート!$A$8,【実施期間中】個別事業におけるPDCAシート!$A$79,MATCH($C594,【実施期間中】個別事業におけるPDCAシート!$H$6:$V$6,0)+6)","v":0},null,null,"枚",null,"※複数ある場合は、アンケート合計回収数"]
[]
[null,null,"項目",null,"内容"]
[null,null,"事業11","事業名",{"$f":"OFFSET(【実施期間中】個別事業におけるPDCAシート!$A$8,,MATCH(C655,【実施期間中】個別事業におけるPDCAシート!$H$6:$V$6,0)+6)","v":""}]
[null,null,"普及啓発テーマ",null,"※該当する普及啓発テーマすべてをチェックしてください。"]
[null,null,null,null,"①",null,"②",null,"③",null,"④",null,"⑤",null,"⑥",null,"⑦",null,"⑧",null,"⑨",null,"⑩",null,"⑪",null,"⑫",null,null,null,"①","②","③","④","⑤","⑥","⑦","⑧","⑨","⑩","⑪","⑫","⑬",null,null,null,null,null,null,null,null,null,null,null,null,null,"a)","b)","c)","d)"]
[null,null,null,null,"省ｴﾈ機器",null,"省ｴﾈ住宅",null,"ｴｺｶｰ",null,"ｸｰﾙﾋﾞｽﾞ",null,"ｳｫｰﾑﾋﾞｽﾞ",null,"照明の\n高効率利用",null,"ｴｺﾄﾞﾗｲﾌﾞ",null,"ｶｰｼｪｱ",null,"ｽﾏｰﾄﾑｰﾌﾞ",null,"再配達防止",null,"再エネ",null,"食品ロス",null,null,null,"省ｴﾈ機器","省ｴﾈ住宅","ｴｺｶｰ","ｸｰﾙﾋﾞｽﾞ","ｳｫｰﾑﾋﾞｽﾞ","照明の\n高効率利用","ｴｺﾄﾞﾗｲﾌﾞ","ｶｰｼｪｱ","ｽﾏｰﾄﾑｰﾌﾞ","再配達防止","再エネ","食品ロス","その他",null,null,null,null,null,null,null,null,null,null,null,null,null,{"$f":"IF(COUNTIFS(【実施期間中】個別事業におけるPDCAシート!$E$22:$E$25,別紙１_実施報告書!BE657,OFFSET(【実施期間中】個別事業におけるPDCAシート!$F$22,,MATCH(別紙１_実施報告書!$C655,【実施期間中】個別事業におけるPDCAシート!$H$6:$V$6,0)+1,4,1),1),1,0)","v":0},{"$f":"IF(COUNTIFS(【実施期間中】個別事業におけるPDCAシート!$E$22:$E$25,別紙１_実施報告書!BF657,OFFSET(【実施期間中】個別事業におけるPDCAシート!$F$22,,MATCH(別紙１_実施報告書!$C655,【実施期間中】個別事業におけるPDCAシート!$H$6:$V$6,0)+1,4,1),1),1,0)","v":0},{"$f":"IF(COUNTIFS(【実施期間中】個別事業におけるPDCAシート!$E$22:$E$25,別紙１_実施報告書!BG657,OFFSET(【実施期間中】個別事業におけるPDCAシート!$F$22,,MATCH(別紙１_実施報告書!$C655,【実施期間中】個別事業におけるPDCAシート!$H$6:$V$6,0)+1,4,1),1),1,0)","v":0},{"$f":"IF(COUNTIFS(【実施期間中】個別事業におけるPDCAシート!$E$22:$E$25,別紙１_実施報告書!BH657,OFFSET(【実施期間中】個別事業におけるPDCAシート!$F$22,,MATCH(別紙１_実施報告書!$C655,【実施期間中】個別事業におけるPDCAシート!$H$6:$V$6,0)+1,4,1),1),1,0)","v":0},{"$f":"COUNTIFS(BE658:BH658,1)+COUNTIFS(BE658:BH658,\"TRUE\")","v":0}]
[null,null,null,null,null,null,null,null,null,null,null,null,null,null,null,null,null,null,null,null,null,null,null,null,null,null,null,null,null,null,{"$f":"IF(COUNTIFS(【実施期間中】個別事業におけるPDCAシート!$E$9:$E$21,別紙１_実施報告書!AE657,OFFSET(【実施期間中】個別事業におけるPDCAシート!$F$9,,MATCH(別紙１_実施報告書!$C655,【実施期間中】個別事業におけるPDCAシート!$H$6:$V$6,0)+1,13,1),1),1,0)","v":0},{"$f":"IF(COUNTIFS(【実施期間中】個別事業におけるPDCAシート!$E$9:$E$21,別紙１_実施報告書!AF657,OFFSET(【実施期間中】個別事業におけるPDCAシート!$F$9,,MATCH(別紙１_実施報告書!$C655,【実施期間中】個別事業におけるPDCAシート!$H$6:$V$6,0)+1,13,1),1),1,0)","v":0},{"$f":"IF(COUNTIFS(【実施期間中】個別事業におけるPDCAシート!$E$9:$E$21,別紙１_実施報告書!AG657,OFFSET(【実施期間中】個別事業におけるPDCAシート!$F$9,,MATCH(別紙１_実施報告書!$C655,【実施期間中】個別事業におけるPDCAシート!$H$6:$V$6,0)+1,13,1),1),1,0)","v":0},{"$f":"IF(COUNTIFS(【実施期間中】個別事業におけるPDCAシート!$E$9:$E$21,別紙１_実施報告書!AH657,OFFSET(【実施期間中】個別事業におけるPDCAシート!$F$9,,MATCH(別紙１_実施報告書!$C655,【実施期間中】個別事業におけるPDCAシート!$H$6:$V$6,0)+1,13,1),1),1,0)","v":0},{"$f":"IF(COUNTIFS(【実施期間中】個別事業におけるPDCAシート!$E$9:$E$21,別紙１_実施報告書!AI657,OFFSET(【実施期間中】個別事業におけるPDCAシート!$F$9,,MATCH(別紙１_実施報告書!$C655,【実施期間中】個別事業におけるPDCAシート!$H$6:$V$6,0)+1,13,1),1),1,0)","v":0},{"$f":"IF(COUNTIFS(【実施期間中】個別事業におけるPDCAシート!$E$9:$E$21,別紙１_実施報告書!AJ657,OFFSET(【実施期間中】個別事業におけるPDCAシート!$F$9,,MATCH(別紙１_実施報告書!$C655,【実施期間中】個別事業におけるPDCAシート!$H$6:$V$6,0)+1,13,1),1),1,0)","v":0},{"$f":"IF(COUNTIFS(【実施期間中】個別事業におけるPDCAシート!$E$9:$E$21,別紙１_実施報告書!AK657,OFFSET(【実施期間中】個別事業におけるPDCAシート!$F$9,,MATCH(別紙１_実施報告書!$C655,【実施期間中】個別事業におけるPDCAシート!$H$6:$V$6,0)+1,13,1),1),1,0)","v":0},{"$f":"IF(COUNTIFS(【実施期間中】個別事業におけるPDCAシート!$E$9:$E$21,別紙１_実施報告書!AL657,OFFSET(【実施期間中】個別事業におけるPDCAシート!$F$9,,MATCH(別紙１_実施報告書!$C655,【実施期間中】個別事業におけるPDCAシート!$H$6:$V$6,0)+1,13,1),1),1,0)","v":0},{"$f":"IF(COUNTIFS(【実施期間中】個別事業におけるPDCAシート!$E$9:$E$21,別紙１_実施報告書!AM657,OFFSET(【実施期間中】個別事業におけるPDCAシート!$F$9,,MATCH(別紙１_実施報告書!$C655,【実施期間中】個別事業におけるPDCAシート!$H$6:$V$6,0)+1,13,1),1),1,0)","v":0},{"$f":"IF(COUNTIFS(【実施期間中】個別事業におけるPDCAシート!$E$9:$E$21,別紙１_実施報告書!AN657,OFFSET(【実施期間中】個別事業におけるPDCAシート!$F$9,,MATCH(別紙１_実施報告書!$C655,【実施期間中】個別事業におけるPDCAシート!$H$6:$V$6,0)+1,13,1),1),1,0)","v":0},{"$f":"IF(COUNTIFS(【実施期間中】個別事業におけるPDCAシート!$E$9:$E$21,別紙１_実施報告書!AO657,OFFSET(【実施期間中】個別事業におけるPDCAシート!$F$9,,MATCH(別紙１_実施報告書!$C655,【実施期間中】個別事業におけるPDCAシート!$H$6:$V$6,0)+1,13,1),1),1,0)","v":0},{"$f":"IF(COUNTIFS(【実施期間中】個別事業におけるPDCAシート!$E$9:$E$21,別紙１_実施報告書!AP657,OFFSET(【実施期間中】個別事業におけるPDCAシート!$F$9,,MATCH(別紙１_実施報告書!$C655,【実施期間中】個別事業におけるPDCAシート!$H$6:$V$6,0)+1,13,1),1),1,0)","v":0},{"$f":"IF(COUNTIFS(【実施期間中】個別事業におけるPDCAシート!$E$9:$E$21,別紙１_実施報告書!AQ657,OFFSET(【実施期間中】個別事業におけるPDCAシート!$F$9,,MATCH(別紙１_実施報告書!$C655,【実施期間中】個別事業におけるPDCAシート!$H$6:$V$6,0)+1,13,1),1),1,0)","v":0},{"$f":"IF(COUNTIFS(【実施期間中】個別事業におけるPDCAシート!$E$9:$E$21,別紙１_実施報告書!AR657,OFFSET(【実施期間中】個別事業におけるPDCAシート!$F$9,,MATCH(別紙１_実施報告書!$C655,【実施期間中】個別事業におけるPDCAシート!$H$6:$V$6,0)+1,13,1),1),1,0)","v":0},{"$f":"IF(COUNTIFS(【実施期間中】個別事業におけるPDCAシート!$E$9:$E$21,別紙１_実施報告書!AS657,OFFSET(【実施期間中】個別事業におけるPDCAシート!$F$9,,MATCH(別紙１_実施報告書!$C655,【実施期間中】個別事業におけるPDCAシート!$H$6:$V$6,0)+1,13,1),1),1,0)","v":0},{"$f":"IF(COUNTIFS(【実施期間中】個別事業におけるPDCAシート!$E$9:$E$21,別紙１_実施報告書!AT657,OFFSET(【実施期間中】個別事業におけるPDCAシート!$F$9,,MATCH(別紙１_実施報告書!$C655,【実施期間中】個別事業におけるPDCAシート!$H$6:$V$6,0)+1,13,1),1),1,0)","v":0},{"$f":"IF(COUNTIFS(【実施期間中】個別事業におけるPDCAシート!$E$9:$E$21,別紙１_実施報告書!AU657,OFFSET(【実施期間中】個別事業におけるPDCAシート!$F$9,,MATCH(別紙１_実施報告書!$C655,【実施期間中】個別事業におけるPDCAシート!$H$6:$V$6,0)+1,13,1),1),1,0)","v":0},{"$f":"IF(COUNTIFS(【実施期間中】個別事業におけるPDCAシート!$E$9:$E$21,別紙１_実施報告書!AV657,OFFSET(【実施期間中】個別事業におけるPDCAシート!$F$9,,MATCH(別紙１_実施報告書!$C655,【実施期間中】個別事業におけるPDCAシート!$H$6:$V$6,0)+1,13,1),1),1,0)","v":0},{"$f":"IF(COUNTIFS(【実施期間中】個別事業におけるPDCAシート!$E$9:$E$21,別紙１_実施報告書!AW657,OFFSET(【実施期間中】個別事業におけるPDCAシート!$F$9,,MATCH(別紙１_実施報告書!$C655,【実施期間中】個別事業におけるPDCAシート!$H$6:$V$6,0)+1,13,1),1),1,0)","v":0},{"$f":"IF(COUNTIFS(【実施期間中】個別事業におけるPDCAシート!$E$9:$E$21,別紙１_実施報告書!AX657,OFFSET(【実施期間中】個別事業におけるPDCAシート!$F$9,,MATCH(別紙１_実施報告書!$C655,【実施期間中】個別事業におけるPDCAシート!$H$6:$V$6,0)+1,13,1),1),1,0)","v":0},{"$f":"IF(COUNTIFS(【実施期間中】個別事業におけるPDCAシート!$E$9:$E$21,別紙１_実施報告書!AY657,OFFSET(【実施期間中】個別事業におけるPDCAシート!$F$9,,MATCH(別紙１_実施報告書!$C655,【実施期間中】個別事業におけるPDCAシート!$H$6:$V$6,0)+1,13,1),1),1,0)","v":0},{"$f":"IF(COUNTIFS(【実施期間中】個別事業におけるPDCAシート!$E$9:$E$21,別紙１_実施報告書!AZ657,OFFSET(【実施期間中】個別事業におけるPDCAシート!$F$9,,MATCH(別紙１_実施報告書!$C655,【実施期間中】個別事業におけるPDCAシート!$H$6:$V$6,0)+1,13,1),1),1,0)","v":0},{"$f":"IF(COUNTIFS(【実施期間中】個別事業におけるPDCAシート!$E$9:$E$21,別紙１_実施報告書!BA657,OFFSET(【実施期間中】個別事業におけるPDCAシート!$F$9,,MATCH(別紙１_実施報告書!$C655,【実施期間中】個別事業におけるPDCAシート!$H$6:$V$6,0)+1,13,1),1),1,0)","v":0},{"$f":"IF(COUNTIFS(【実施期間中】個別事業におけるPDCAシート!$E$9:$E$21,別紙１_実施報告書!BB657,OFFSET(【実施期間中】個別事業におけるPDCAシート!$F$9,,MATCH(別紙１_実施報告書!$C655,【実施期間中】個別事業におけるPDCAシート!$H$6:$V$6,0)+1,13,1),1),1,0)","v":0},{"$f":"COUNTIFS($AE659:$BB659,1)+COUNTIFS($AE659:$BB659,\"TRUE\")","v":0}]
[null,null,null,null,"⑬",null,"↓ ※①～⑫以外のテーマを設定する場合、具体的に記載してください。"]
[null,null,null,null,"その他"]
[]
[null,null,"訴求手法",null,"※訴求手法については、該当する欄にチェックしてください。"]
[null,null,null,null,"a) 情報発信型（受動型）",null,null,null,null,null,null,null,"b) 情報発信型（能動型）",null,null,null,null,null,null,null,"c) 双方向体験交流型"]
[null,null,null,null,"ラジオ、新聞・広報紙等",null,null,null,null,null,null,null,"講演会・パネル展示等",null,null,null,null,null,null,null,"試乗・体験会、省ｴﾈ診断等"]
[]
[null,null,null,null,"d) 双方向ＷＥＢ等配信型",null,null,null,null,null,null,null,"※d) については使用する媒体等を記載してください。"]
[null,null,null,null,"（新手法）"]
[]
[null,null,"実施期間",null,{"$f":"OFFSET(【実施期間中】個別事業におけるPDCAシート!$A$8,【実施期間中】個別事業におけるPDCAシート!$A$26,MATCH($C655,【実施期間中】個別事業におけるPDCAシート!$H$6:$V$6,0)+6)","v":""},null,null,null,null,null,null,null,null,null,"～",null,null,null,{"$f":"OFFSET(【実施期間中】個別事業におけるPDCAシート!$A$8,【実施期間中】個別事業におけるPDCAシート!$A$28,MATCH($C655,【実施期間中】個別事業におけるPDCAシート!$H$6:$V$6,0)+6)","v":""}]
[null,null,"（備考）",null,{"$f":"OFFSET(【実施期間中】個別事業におけるPDCAシート!$A$8,【実施期間中】個別事業におけるPDCAシート!$A$29,MATCH($C655,【実施期間中】個別事業におけるPDCAシート!$H$6:$V$6,0)+6)","v":""}]
[null,null,"実施日\n（※同一事業内で、\n同一の内容・場所において\n複数日実施する場合）",null,1,null,{"$f":"OFFSET(【実施期間中】個別事業におけるPDCAシート!$A$8,【実施期間中】個別事業におけるPDCAシート!$A$30,MATCH($C655,【実施期間中】個別事業におけるPDCAシート!$H$6:$V$6,0)+6)","v":""},null,null,null,null,null,null,null,null,null,6,null,{"$f":"OFFSET(【実施期間中】個別事業におけるPDCAシート!$A$8,【実施期間中】個別事業におけるPDCAシート!$A$35,MATCH($C655,【実施期間中】個別事業におけるPDCAシート!$H$6:$V$6,0)+6)","v":""}]
[null,null,null,null,2,null,{"$f":"OFFSET(【実施期間中】個別事業におけるPDCAシート!$A$8,【実施期間中】個別事業におけるPDCAシート!$A$31,MATCH($C655,【実施期間中】個別事業におけるPDCAシート!$H$6:$V$6,0)+6)","v":""},null,null,null,null,null,null,null,null,null,7,null,{"$f":"OFFSET(【実施期間中】個別事業におけるPDCAシート!$A$8,【実施期間中】個別事業におけるPDCAシート!$A$36,MATCH($C655,【実施期間中】個別事業におけるPDCAシート!$H$6:$V$6,0)+6)","v":""}]
[null,null,null,null,3,null,{"$f":"OFFSET(【実施期間中】個別事業におけるPDCAシート!$A$8,【実施期間中】個別事業におけるPDCAシート!$A$32,MATCH($C655,【実施期間中】個別事業におけるPDCAシート!$H$6:$V$6,0)+6)","v":""},null,null,null,null,null,null,null,null,null,8,null,{"$f":"OFFSET(【実施期間中】個別事業におけるPDCAシート!$A$8,【実施期間中】個別事業におけるPDCAシート!$A$37,MATCH($C655,【実施期間中】個別事業におけるPDCAシート!$H$6:$V$6,0)+6)","v":""}]
[null,null,null,null,4,null,{"$f":"OFFSET(【実施期間中】個別事業におけるPDCAシート!$A$8,【実施期間中】個別事業におけるPDCAシート!$A$33,MATCH($C655,【実施期間中】個別事業におけるPDCAシート!$H$6:$V$6,0)+6)","v":""},null,null,null,null,null,null,null,null,null,9,null,{"$f":"OFFSET(【実施期間中】個別事業におけるPDCAシート!$A$8,【実施期間中】個別事業におけるPDCAシート!$A$38,MATCH($C655,【実施期間中】個別事業におけるPDCAシート!$H$6:$V$6,0)+6)","v":""}]
[null,null,null,null,5,null,{"$f":"OFFSET(【実施期間中】個別事業におけるPDCAシート!$A$8,【実施期間中】個別事業におけるPDCAシート!$A$34,MATCH($C655,【実施期間中】個別事業におけるPDCAシート!$H$6:$V$6,0)+6)","v":""},null,null,null,null,null,null,null,null,null,10,null,{"$f":"OFFSET(【実施期間中】個別事業におけるPDCAシート!$A$8,【実施期間中】個別事業におけるPDCAシート!$A$39,MATCH($C655,【実施期間中】個別事業におけるPDCAシート!$H$6:$V$6,0)+6)","v":""}]
[null,null,"事業の概要",null,{"$f":"OFFSET(【実施期間中】個別事業におけるPDCAシート!$A$8,【実施期間中】個別事業におけるPDCAシート!$A$40,MATCH($C655,【実施期間中】個別事業におけるPDCAシート!$H$6:$V$6,0)+6)","v":""}]
[null,null,"地域団体との連携",null,{"$f":"別紙１_実施計画書!E588","v":0}]
[null,null,"実施結果",null,{"$f":"OFFSET(【実施期間中】個別事業におけるPDCAシート!$A$8,【実施期間中】個別事業におけるPDCAシート!$A$46,MATCH($C655,【実施期間中】個別事業におけるPDCAシート!$H$6:$V$6,0)+6)","v":0}]
[]
[null,null,"主な訴求対象","計画",{"$f":"OFFSET(【実施期間中】個別事業におけるPDCAシート!$A$8,【実施期間中】個別事業におけるPDCAシート!$A$41,MATCH($C655,【実施期間中】個別事業におけるPDCAシート!$H$6:$V$6,0)+6)","v":""}]
[null,null,null,"結果",{"$f":"OFFSET(【実施期間中】個別事業におけるPDCAシート!$A$8,【実施期間中】個別事業におけるPDCAシート!$A$42,MATCH($C655,【実施期間中】個別事業におけるPDCAシート!$H$6:$V$6,0)+6)","v":0}]
[null,null,"目標アウトプット\n（リーチ数）\n（想定及び実績）",null,"昨年度実績",null,null,null,"計",null,{"$f":"OFFSET(【実施期間中】個別事業におけるPDCAシート!$A$8,【実施期間中】個別事業におけるPDCAシート!$A$47,MATCH($C655,【実施期間中】個別事業におけるPDCAシート!$H$6:$V$6,0)+6)","v":0}]
[null,null,null,null,"昨年度実績算出根拠",null,null,null,{"$f":"OFFSET(【実施期間中】個別事業におけるPDCAシート!$A$8,【実施期間中】個別事業におけるPDCAシート!$A$48,MATCH($C655,【実施期間中】個別事業におけるPDCAシート!$H$6:$V$6,0)+6)","v":""}]
[null,null,null,null,"想定",null,null,null,"計",null,{"$f":"OFFSET(【実施期間中】個別事業におけるPDCAシート!$A$8,【実施期間中】個別事業におけるPDCAシート!$A$49,MATCH($C655,【実施期間中】個別事業におけるPDCAシート!$H$6:$V$6,0)+6)","v":0}]
[null,null,null,null,"算出方法",null,null,null,{"$f":"OFFSET(【実施期間中】個別事業におけるPDCAシート!$A$8,【実施期間中】個別事業におけるPDCAシート!$A$50,MATCH($C655,【実施期間中】個別事業におけるPDCAシート!$H$6:$V$6,0)+6)","v":""}]
[null,null,null,null,"実績値",null,null,null,"計",null,{"$f":"SUM(OFFSET(【実施期間中】個別事業におけるPDCAシート!$A$8,【実施期間中】個別事業におけるPDCAシート!$A$51,MATCH($C655,【実施期間中】個別事業におけるPDCAシート!$H$6:$V$6,0)+6):OFFSET(【実施期間中】個別事業におけるPDCAシート!$A$8,【実施期間中】個別事業におけるPDCAシート!$A$52,MATCH($C655,【実施期間中】個別事業におけるPDCAシート!$H$6:$V$6,0)+6))","v":0}]
[null,null,null,null,"実績値算出根拠",null,null,null,{"$f":"OFFSET(【実施期間中】個別事業におけるPDCAシート!$A$8,【実施期間中】個別事業におけるPDCAシート!$A$53,MATCH($C655,【実施期間中】個別事業におけるPDCAシート!$H$6:$V$6,0)+6)","v":0}]
[null,null,null,null,"その他",null,null,null,{"$f":"OFFSET(【実施期間中】個別事業におけるPDCAシート!$A$8,【実施期間中】個別事業におけるPDCAシート!$A$54,MATCH($C655,【実施期間中】個別事業におけるPDCAシート!$H$6:$V$6,0)+6)","v":0}]
[null,null,"目標アウトカム\n（想定及び実績）\n※記載は任意",null,"計画",null,null,null,{"$f":"OFFSET(【実施期間中】個別事業におけるPDCAシート!$A$8,【実施期間中】個別事業におけるPDCAシート!$A$55,MATCH($C655,【実施期間中】個別事業におけるPDCAシート!$H$6:$V$6,0)+6)","v":""}]
[null,null,null,null,"実績",null,null,null,{"$f":"OFFSET(【実施期間中】個別事業におけるPDCAシート!$A$8,【実施期間中】個別事業におけるPDCAシート!$A$56,MATCH($C655,【実施期間中】個別事業におけるPDCAシート!$H$6:$V$6,0)+6)","v":0}]
[null,null,"エネルギー起源CO2排出\n削減量（想定及び実績）",null,"計画",null,null,null,{"$f":"別紙１_実施計画書!I598","v":0},null,null,null,null,null,"（t-CO2）"]
[null,null,null,null,"計画値\n測定方法\n（計算式、\n根拠資料等）",null,null,null,{"$f":"IF(別紙１_実施計画書!I599=0,\"\",(別紙１_実施計画書!I599))","v":""}]
[]
[]
[]
[null,null,null,null,"実績",null,null,null,{"$f":"OFFSET(【実施期間中】個別事業におけるPDCAシート!$A$8,【実施期間中】個別事業におけるPDCAシート!$A$120,MATCH($C655,【実施期間中】個別事業におけるPDCAシート!$H$6:$V$6,0)+6)","v":0},null,null,null,null,null,"（t-CO2）"]
[null,null,null,null,"計画値\n測定方法\n（計算式、\n根拠資料等）"]
[]
[]
[]
[null,null,"賛同数（想定及び実績）",null,"計画値",null,null,null,"団体",null,{"$f":"OFFSET(【実施期間中】個別事業におけるPDCAシート!$A$8,【実施期間中】個別事業におけるPDCAシート!$A$58,MATCH($C655,【実施期間中】個別事業におけるPDCAシート!$H$6:$V$6,0)+6)","v":0},null,null,null,null,"、個人",null,{"$f":"OFFSET(【実施期間中】個別事業におけるPDCAシート!$A$8,【実施期間中】個別事業におけるPDCAシート!$A$61,MATCH($C655,【実施期間中】個別事業におけるPDCAシート!$H$6:$V$6,0)+6)","v":0}]
[null,null,null,null,"実績値",null,null,null,"団体",null,{"$f":"OFFSET(【実施期間中】個別事業におけるPDCAシート!$A$8,【実施期間中】個別事業におけるPDCAシート!$A$59,MATCH($C655,【実施期間中】個別事業におけるPDCAシート!$H$6:$V$6,0)+6)","v":0},null,null,null,null,"、個人",null,{"$f":"OFFSET(【実施期間中】個別事業におけるPDCAシート!$A$8,【実施期間中】個別事業におけるPDCAシート!$A$62,MATCH($C655,【実施期間中】個別事業におけるPDCAシート!$H$6:$V$6,0)+6)","v":0}]
[null,null,"効果検証\n（アンケート）",null,"※アンケートの実施予定をプルダウンより選択してください。"]
[null,null,null,null,"公募要領に規定のアンケート"]
[null,null,null,null,"省エネ機器",null,null,"省エネ住宅",null,null,"エコカー",null,null,"クールビズ",null,null,"ウォームビズ",null,null,"照明の\n効率的利用",null,null,"ｴｺﾄﾞﾗｲﾌﾞ",null,null,"カーシェア"]
[null,null,null,null,"- 選択 -",null,null,"- 選択 -",null,null,"- 選択 -",null,null,"- 選択 -",null,null,"- 選択 -",null,null,"- 選択 -",null,null,"- 選択 -",null,null,"- 選択 -"]
[null,null,null,null,"公募要領に規定のアンケート",null,null,null,null,null,null,null,null,null,null,null,"貴事業者独自のアンケート"]
[null,null,null,null,"ｽﾏｰﾄﾑｰﾌﾞ",null,null,"低炭素物流",null,null,"再エネ",null,null,"食品ロス"]
[null,null,null,null,"- 選択 -",null,null,"- 選択 -",null,null,"- 選択 -",null,null,"- 選択 -",null,null,"- 選択 -"]
[null,null,null,null,"内容（",null,null,null,null,null,null,null,null,null,null,null,null,null,null,null,null,null,null,null,null,null,null,"）"]
[null,null,null,null,"昨年度実績",null,null,null,"計",{"$f":"OFFSET(【実施期間中】個別事業におけるPDCAシート!$A$8,【実施期間中】個別事業におけるPDCAシート!$A$77,MATCH($C655,【実施期間中】個別事業におけるPDCAシート!$H$6:$V$6,0)+6)","v":0},null,null,"枚",null,"※複数ある場合は、アンケート合計回収数"]
[null,null,null,null,"回収数",null,null,null,"計",{"$f":"OFFSET(【実施期間中】個別事業におけるPDCAシート!$A$8,【実施期間中】個別事業におけるPDCAシート!$A$79,MATCH($C655,【実施期間中】個別事業におけるPDCAシート!$H$6:$V$6,0)+6)","v":0},null,null,"枚",null,"※複数ある場合は、アンケート合計回収数"]
[]
[null,null,"項目",null,"内容"]
[null,null,"事業12","事業名",{"$f":"OFFSET(【実施期間中】個別事業におけるPDCAシート!$A$8,,MATCH(C716,【実施期間中】個別事業におけるPDCAシート!$H$6:$V$6,0)+6)","v":""}]
[null,null,"普及啓発テーマ",null,"※該当する普及啓発テーマすべてをチェックしてください。"]
[null,null,null,null,"①",null,"②",null,"③",null,"④",null,"⑤",null,"⑥",null,"⑦",null,"⑧",null,"⑨",null,"⑩",null,"⑪",null,"⑫",null,null,null,"①","②","③","④","⑤","⑥","⑦","⑧","⑨","⑩","⑪","⑫","⑬",null,null,null,null,null,null,null,null,null,null,null,null,null,"a)","b)","c)","d)"]
[null,null,null,null,"省ｴﾈ機器",null,"省ｴﾈ住宅",null,"ｴｺｶｰ",null,"ｸｰﾙﾋﾞｽﾞ",null,"ｳｫｰﾑﾋﾞｽﾞ",null,"照明の\n高効率利用",null,"ｴｺﾄﾞﾗｲﾌﾞ",null,"ｶｰｼｪｱ",null,"ｽﾏｰﾄﾑｰﾌﾞ",null,"再配達防止",null,"再エネ",null,"食品ロス",null,null,null,"省ｴﾈ機器","省ｴﾈ住宅","ｴｺｶｰ","ｸｰﾙﾋﾞｽﾞ","ｳｫｰﾑﾋﾞｽﾞ","照明の\n高効率利用","ｴｺﾄﾞﾗｲﾌﾞ","ｶｰｼｪｱ","ｽﾏｰﾄﾑｰﾌﾞ","再配達防止","再エネ","食品ロス","その他",null,null,null,null,null,null,null,null,null,null,null,null,null,{"$f":"IF(COUNTIFS(【実施期間中】個別事業におけるPDCAシート!$E$22:$E$25,別紙１_実施報告書!BE718,OFFSET(【実施期間中】個別事業におけるPDCAシート!$F$22,,MATCH(別紙１_実施報告書!$C716,【実施期間中】個別事業におけるPDCAシート!$H$6:$V$6,0)+1,4,1),1),1,0)","v":0},{"$f":"IF(COUNTIFS(【実施期間中】個別事業におけるPDCAシート!$E$22:$E$25,別紙１_実施報告書!BF718,OFFSET(【実施期間中】個別事業におけるPDCAシート!$F$22,,MATCH(別紙１_実施報告書!$C716,【実施期間中】個別事業におけるPDCAシート!$H$6:$V$6,0)+1,4,1),1),1,0)","v":0},{"$f":"IF(COUNTIFS(【実施期間中】個別事業におけるPDCAシート!$E$22:$E$25,別紙１_実施報告書!BG718,OFFSET(【実施期間中】個別事業におけるPDCAシート!$F$22,,MATCH(別紙１_実施報告書!$C716,【実施期間中】個別事業におけるPDCAシート!$H$6:$V$6,0)+1,4,1),1),1,0)","v":0},{"$f":"IF(COUNTIFS(【実施期間中】個別事業におけるPDCAシート!$E$22:$E$25,別紙１_実施報告書!BH718,OFFSET(【実施期間中】個別事業におけるPDCAシート!$F$22,,MATCH(別紙１_実施報告書!$C716,【実施期間中】個別事業におけるPDCAシート!$H$6:$V$6,0)+1,4,1),1),1,0)","v":0},{"$f":"COUNTIFS(BE719:BH719,1)+COUNTIFS(BE719:BH719,\"TRUE\")","v":0}]
[null,null,null,null,null,null,null,null,null,null,null,null,null,null,null,null,null,null,null,null,null,null,null,null,null,null,null,null,null,null,{"$f":"IF(COUNTIFS(【実施期間中】個別事業におけるPDCAシート!$E$9:$E$21,別紙１_実施報告書!AE718,OFFSET(【実施期間中】個別事業におけるPDCAシート!$F$9,,MATCH(別紙１_実施報告書!$C716,【実施期間中】個別事業におけるPDCAシート!$H$6:$V$6,0)+1,13,1),1),1,0)","v":0},{"$f":"IF(COUNTIFS(【実施期間中】個別事業におけるPDCAシート!$E$9:$E$21,別紙１_実施報告書!AF718,OFFSET(【実施期間中】個別事業におけるPDCAシート!$F$9,,MATCH(別紙１_実施報告書!$C716,【実施期間中】個別事業におけるPDCAシート!$H$6:$V$6,0)+1,13,1),1),1,0)","v":0},{"$f":"IF(COUNTIFS(【実施期間中】個別事業におけるPDCAシート!$E$9:$E$21,別紙１_実施報告書!AG718,OFFSET(【実施期間中】個別事業におけるPDCAシート!$F$9,,MATCH(別紙１_実施報告書!$C716,【実施期間中】個別事業におけるPDCAシート!$H$6:$V$6,0)+1,13,1),1),1,0)","v":0},{"$f":"IF(COUNTIFS(【実施期間中】個別事業におけるPDCAシート!$E$9:$E$21,別紙１_実施報告書!AH718,OFFSET(【実施期間中】個別事業におけるPDCAシート!$F$9,,MATCH(別紙１_実施報告書!$C716,【実施期間中】個別事業におけるPDCAシート!$H$6:$V$6,0)+1,13,1),1),1,0)","v":0},{"$f":"IF(COUNTIFS(【実施期間中】個別事業におけるPDCAシート!$E$9:$E$21,別紙１_実施報告書!AI718,OFFSET(【実施期間中】個別事業におけるPDCAシート!$F$9,,MATCH(別紙１_実施報告書!$C716,【実施期間中】個別事業におけるPDCAシート!$H$6:$V$6,0)+1,13,1),1),1,0)","v":0},{"$f":"IF(COUNTIFS(【実施期間中】個別事業におけるPDCAシート!$E$9:$E$21,別紙１_実施報告書!AJ718,OFFSET(【実施期間中】個別事業におけるPDCAシート!$F$9,,MATCH(別紙１_実施報告書!$C716,【実施期間中】個別事業におけるPDCAシート!$H$6:$V$6,0)+1,13,1),1),1,0)","v":0},{"$f":"IF(COUNTIFS(【実施期間中】個別事業におけるPDCAシート!$E$9:$E$21,別紙１_実施報告書!AK718,OFFSET(【実施期間中】個別事業におけるPDCAシート!$F$9,,MATCH(別紙１_実施報告書!$C716,【実施期間中】個別事業におけるPDCAシート!$H$6:$V$6,0)+1,13,1),1),1,0)","v":0},{"$f":"IF(COUNTIFS(【実施期間中】個別事業におけるPDCAシート!$E$9:$E$21,別紙１_実施報告書!AL718,OFFSET(【実施期間中】個別事業におけるPDCAシート!$F$9,,MATCH(別紙１_実施報告書!$C716,【実施期間中】個別事業におけるPDCAシート!$H$6:$V$6,0)+1,13,1),1),1,0)","v":0},{"$f":"IF(COUNTIFS(【実施期間中】個別事業におけるPDCAシート!$E$9:$E$21,別紙１_実施報告書!AM718,OFFSET(【実施期間中】個別事業におけるPDCAシート!$F$9,,MATCH(別紙１_実施報告書!$C716,【実施期間中】個別事業におけるPDCAシート!$H$6:$V$6,0)+1,13,1),1),1,0)","v":0},{"$f":"IF(COUNTIFS(【実施期間中】個別事業におけるPDCAシート!$E$9:$E$21,別紙１_実施報告書!AN718,OFFSET(【実施期間中】個別事業におけるPDCAシート!$F$9,,MATCH(別紙１_実施報告書!$C716,【実施期間中】個別事業におけるPDCAシート!$H$6:$V$6,0)+1,13,1),1),1,0)","v":0},{"$f":"IF(COUNTIFS(【実施期間中】個別事業におけるPDCAシート!$E$9:$E$21,別紙１_実施報告書!AO718,OFFSET(【実施期間中】個別事業におけるPDCAシート!$F$9,,MATCH(別紙１_実施報告書!$C716,【実施期間中】個別事業におけるPDCAシート!$H$6:$V$6,0)+1,13,1),1),1,0)","v":0},{"$f":"IF(COUNTIFS(【実施期間中】個別事業におけるPDCAシート!$E$9:$E$21,別紙１_実施報告書!AP718,OFFSET(【実施期間中】個別事業におけるPDCAシート!$F$9,,MATCH(別紙１_実施報告書!$C716,【実施期間中】個別事業におけるPDCAシート!$H$6:$V$6,0)+1,13,1),1),1,0)","v":0},{"$f":"IF(COUNTIFS(【実施期間中】個別事業におけるPDCAシート!$E$9:$E$21,別紙１_実施報告書!AQ718,OFFSET(【実施期間中】個別事業におけるPDCAシート!$F$9,,MATCH(別紙１_実施報告書!$C716,【実施期間中】個別事業におけるPDCAシート!$H$6:$V$6,0)+1,13,1),1),1,0)","v":0},{"$f":"IF(COUNTIFS(【実施期間中】個別事業におけるPDCAシート!$E$9:$E$21,別紙１_実施報告書!AR718,OFFSET(【実施期間中】個別事業におけるPDCAシート!$F$9,,MATCH(別紙１_実施報告書!$C716,【実施期間中】個別事業におけるPDCAシート!$H$6:$V$6,0)+1,13,1),1),1,0)","v":0},{"$f":"IF(COUNTIFS(【実施期間中】個別事業におけるPDCAシート!$E$9:$E$21,別紙１_実施報告書!AS718,OFFSET(【実施期間中】個別事業におけるPDCAシート!$F$9,,MATCH(別紙１_実施報告書!$C716,【実施期間中】個別事業におけるPDCAシート!$H$6:$V$6,0)+1,13,1),1),1,0)","v":0},{"$f":"IF(COUNTIFS(【実施期間中】個別事業におけるPDCAシート!$E$9:$E$21,別紙１_実施報告書!AT718,OFFSET(【実施期間中】個別事業におけるPDCAシート!$F$9,,MATCH(別紙１_実施報告書!$C716,【実施期間中】個別事業におけるPDCAシート!$H$6:$V$6,0)+1,13,1),1),1,0)","v":0},{"$f":"IF(COUNTIFS(【実施期間中】個別事業におけるPDCAシート!$E$9:$E$21,別紙１_実施報告書!AU718,OFFSET(【実施期間中】個別事業におけるPDCAシート!$F$9,,MATCH(別紙１_実施報告書!$C716,【実施期間中】個別事業におけるPDCAシート!$H$6:$V$6,0)+1,13,1),1),1,0)","v":0},{"$f":"IF(COUNTIFS(【実施期間中】個別事業におけるPDCAシート!$E$9:$E$21,別紙１_実施報告書!AV718,OFFSET(【実施期間中】個別事業におけるPDCAシート!$F$9,,MATCH(別紙１_実施報告書!$C716,【実施期間中】個別事業におけるPDCAシート!$H$6:$V$6,0)+1,13,1),1),1,0)","v":0},{"$f":"IF(COUNTIFS(【実施期間中】個別事業におけるPDCAシート!$E$9:$E$21,別紙１_実施報告書!AW718,OFFSET(【実施期間中】個別事業におけるPDCAシート!$F$9,,MATCH(別紙１_実施報告書!$C716,【実施期間中】個別事業におけるPDCAシート!$H$6:$V$6,0)+1,13,1),1),1,0)","v":0},{"$f":"IF(COUNTIFS(【実施期間中】個別事業におけるPDCAシート!$E$9:$E$21,別紙１_実施報告書!AX718,OFFSET(【実施期間中】個別事業におけるPDCAシート!$F$9,,MATCH(別紙１_実施報告書!$C716,【実施期間中】個別事業におけるPDCAシート!$H$6:$V$6,0)+1,13,1),1),1,0)","v":0},{"$f":"IF(COUNTIFS(【実施期間中】個別事業におけるPDCAシート!$E$9:$E$21,別紙１_実施報告書!AY718,OFFSET(【実施期間中】個別事業におけるPDCAシート!$F$9,,MATCH(別紙１_実施報告書!$C716,【実施期間中】個別事業におけるPDCAシート!$H$6:$V$6,0)+1,13,1),1),1,0)","v":0},{"$f":"IF(COUNTIFS(【実施期間中】個別事業におけるPDCAシート!$E$9:$E$21,別紙１_実施報告書!AZ718,OFFSET(【実施期間中】個別事業におけるPDCAシート!$F$9,,MATCH(別紙１_実施報告書!$C716,【実施期間中】個別事業におけるPDCAシート!$H$6:$V$6,0)+1,13,1),1),1,0)","v":0},{"$f":"IF(COUNTIFS(【実施期間中】個別事業におけるPDCAシート!$E$9:$E$21,別紙１_実施報告書!BA718,OFFSET(【実施期間中】個別事業におけるPDCAシート!$F$9,,MATCH(別紙１_実施報告書!$C716,【実施期間中】個別事業におけるPDCAシート!$H$6:$V$6,0)+1,13,1),1),1,0)","v":0},{"$f":"IF(COUNTIFS(【実施期間中】個別事業におけるPDCAシート!$E$9:$E$21,別紙１_実施報告書!BB718,OFFSET(【実施期間中】個別事業におけるPDCAシート!$F$9,,MATCH(別紙１_実施報告書!$C716,【実施期間中】個別事業におけるPDCAシート!$H$6:$V$6,0)+1,13,1),1),1,0)","v":0},{"$f":"COUNTIFS(AD720:BB720,1)+COUNTIFS(AD720:BB720,\"TRUE\")","v":0}]
[null,null,null,null,"⑬",null,"↓ ※①～⑫以外のテーマを設定する場合、具体的に記載してください。"]
[null,null,null,null,"その他"]
[]
[null,null,"訴求手法",null,"※訴求手法については、該当する欄にチェックしてください。"]
[null,null,null,null,"a) 情報発信型（受動型）",null,null,null,null,null,null,null,"b) 情報発信型（能動型）",null,null,null,null,null,null,null,"c) 双方向体験交流型"]
[null,null,null,null,"ラジオ、新聞・広報紙等",null,null,null,null,null,null,null,"講演会・パネル展示等",null,null,null,null,null,null,null,"試乗・体験会、省ｴﾈ診断等"]
[]
[null,null,null,null,"d) 双方向ＷＥＢ等配信型",null,null,null,null,null,null,null,"※d) については使用する媒体等を記載してください。"]
[null,null,null,null,"（新手法）"]
[]
[null,null,"実施期間",null,{"$f":"OFFSET(【実施期間中】個別事業におけるPDCAシート!$A$8,【実施期間中】個別事業におけるPDCAシート!$A$26,MATCH($C716,【実施期間中】個別事業におけるPDCAシート!$H$6:$V$6,0)+6)","v":""},null,null,null,null,null,null,null,null,null,"～",null,null,null,{"$f":"OFFSET(【実施期間中】個別事業におけるPDCAシート!$A$8,【実施期間中】個別事業におけるPDCAシート!$A$28,MATCH($C716,【実施期間中】個別事業におけるPDCAシート!$H$6:$V$6,0)+6)","v":""}]
[null,null,"（備考）",null,{"$f":"OFFSET(【実施期間中】個別事業におけるPDCAシート!$A$8,【実施期間中】個別事業におけるPDCAシート!$A$29,MATCH($C716,【実施期間中】個別事業におけるPDCAシート!$H$6:$V$6,0)+6)","v":""}]
[null,null,"実施日\n（※同一事業内で、\n同一の内容・場所において\n複数日実施する場合）",null,1,null,{"$f":"OFFSET(【実施期間中】個別事業におけるPDCAシート!$A$8,【実施期間中】個別事業におけるPDCAシート!$A$30,MATCH($C716,【実施期間中】個別事業におけるPDCAシート!$H$6:$V$6,0)+6)","v":""},null,null,null,null,null,null,null,null,null,6,null,{"$f":"OFFSET(【実施期間中】個別事業におけるPDCAシート!$A$8,【実施期間中】個別事業におけるPDCAシート!$A$35,MATCH($C716,【実施期間中】個別事業におけるPDCAシート!$H$6:$V$6,0)+6)","v":""}]
[null,null,null,null,2,null,{"$f":"OFFSET(【実施期間中】個別事業におけるPDCAシート!$A$8,【実施期間中】個別事業におけるPDCAシート!$A$31,MATCH($C716,【実施期間中】個別事業におけるPDCAシート!$H$6:$V$6,0)+6)","v":""},null,null,null,null,null,null,null,null,null,7,null,{"$f":"OFFSET(【実施期間中】個別事業におけるPDCAシート!$A$8,【実施期間中】個別事業におけるPDCAシート!$A$36,MATCH($C716,【実施期間中】個別事業におけるPDCAシート!$H$6:$V$6,0)+6)","v":""}]
[null,null,null,null,3,null,{"$f":"OFFSET(【実施期間中】個別事業におけるPDCAシート!$A$8,【実施期間中】個別事業におけるPDCAシート!$A$32,MATCH($C716,【実施期間中】個別事業におけるPDCAシート!$H$6:$V$6,0)+6)","v":""},null,null,null,null,null,null,null,null,null,8,null,{"$f":"OFFSET(【実施期間中】個別事業におけるPDCAシート!$A$8,【実施期間中】個別事業におけるPDCAシート!$A$37,MATCH($C716,【実施期間中】個別事業におけるPDCAシート!$H$6:$V$6,0)+6)","v":""}]
[null,null,null,null,4,null,{"$f":"OFFSET(【実施期間中】個別事業におけるPDCAシート!$A$8,【実施期間中】個別事業におけるPDCAシート!$A$33,MATCH($C716,【実施期間中】個別事業におけるPDCAシート!$H$6:$V$6,0)+6)","v":""},null,null,null,null,null,null,null,null,null,9,null,{"$f":"OFFSET(【実施期間中】個別事業におけるPDCAシート!$A$8,【実施期間中】個別事業におけるPDCAシート!$A$38,MATCH($C716,【実施期間中】個別事業におけるPDCAシート!$H$6:$V$6,0)+6)","v":""}]
[null,null,null,null,5,null,{"$f":"OFFSET(【実施期間中】個別事業におけるPDCAシート!$A$8,【実施期間中】個別事業におけるPDCAシート!$A$34,MATCH($C716,【実施期間中】個別事業におけるPDCAシート!$H$6:$V$6,0)+6)","v":""},null,null,null,null,null,null,null,null,null,10,null,{"$f":"OFFSET(【実施期間中】個別事業におけるPDCAシート!$A$8,【実施期間中】個別事業におけるPDCAシート!$A$39,MATCH($C716,【実施期間中】個別事業におけるPDCAシート!$H$6:$V$6,0)+6)","v":""}]
[null,null,"事業の概要",null,{"$f":"OFFSET(【実施期間中】個別事業におけるPDCAシート!$A$8,【実施期間中】個別事業におけるPDCAシート!$A$40,MATCH($C716,【実施期間中】個別事業におけるPDCAシート!$H$6:$V$6,0)+6)","v":""}]
[null,null,"地域団体との連携",null,{"$f":"別紙１_実施計画書!E640","v":0}]
[null,null,"実施結果",null,{"$f":"OFFSET(【実施期間中】個別事業におけるPDCAシート!$A$8,【実施期間中】個別事業におけるPDCAシート!$A$46,MATCH($C716,【実施期間中】個別事業におけるPDCAシート!$H$6:$V$6,0)+6)","v":0}]
[]
[null,null,"主な訴求対象","計画",{"$f":"OFFSET(【実施期間中】個別事業におけるPDCAシート!$A$8,【実施期間中】個別事業におけるPDCAシート!$A$41,MATCH($C716,【実施期間中】個別事業におけるPDCAシート!$H$6:$V$6,0)+6)","v":""}]
[null,null,null,"結果",{"$f":"OFFSET(【実施期間中】個別事業におけるPDCAシート!$A$8,【実施期間中】個別事業におけるPDCAシート!$A$42,MATCH($C716,【実施期間中】個別事業におけるPDCAシート!$H$6:$V$6,0)+6)","v":0}]
[null,null,"目標アウトプット\n（リーチ数）\n（想定及び実績）",null,"昨年度実績",null,null,null,"計",null,{"$f":"OFFSET(【実施期間中】個別事業におけるPDCAシート!$A$8,【実施期間中】個別事業におけるPDCAシート!$A$47,MATCH($C716,【実施期間中】個別事業におけるPDCAシート!$H$6:$V$6,0)+6)","v":0}]
[null,null,null,null,"昨年度実績算出根拠",null,null,null,{"$f":"OFFSET(【実施期間中】個別事業におけるPDCAシート!$A$8,【実施期間中】個別事業におけるPDCAシート!$A$48,MATCH($C716,【実施期間中】個別事業におけるPDCAシート!$H$6:$V$6,0)+6)","v":""}]
[null,null,null,null,"想定",null,null,null,"計",null,{"$f":"OFFSET(【実施期間中】個別事業におけるPDCAシート!$A$8,【実施期間中】個別事業におけるPDCAシート!$A$49,MATCH($C716,【実施期間中】個別事業におけるPDCAシート!$H$6:$V$6,0)+6)","v":0}]
[null,null,null,null,"算出方法",null,null,null,{"$f":"OFFSET(【実施期間中】個別事業におけるPDCAシート!$A$8,【実施期間中】個別事業におけるPDCAシート!$A$50,MATCH($C716,【実施期間中】個別事業におけるPDCAシート!$H$6:$V$6,0)+6)","v":""}]
[null,null,null,null,"実績値",null,null,null,"計",null,{"$f":"SUM(OFFSET(【実施期間中】個別事業におけるPDCAシート!$A$8,【実施期間中】個別事業におけるPDCAシート!$A$51,MATCH($C716,【実施期間中】個別事業におけるPDCAシート!$H$6:$V$6,0)+6):OFFSET(【実施期間中】個別事業におけるPDCAシート!$A$8,【実施期間中】個別事業におけるPDCAシート!$A$52,MATCH($C716,【実施期間中】個別事業におけるPDCAシート!$H$6:$V$6,0)+6))","v":0}]
[null,null,null,null,"実績値算出根拠",null,null,null,{"$f":"OFFSET(【実施期間中】個別事業におけるPDCAシート!$A$8,【実施期間中】個別事業におけるPDCAシート!$A$53,MATCH($C716,【実施期間中】個別事業におけるPDCAシート!$H$6:$V$6,0)+6)","v":0}]
[null,null,null,null,"その他",null,null,null,{"$f":"OFFSET(【実施期間中】個別事業におけるPDCAシート!$A$8,【実施期間中】個別事業におけるPDCAシート!$A$54,MATCH($C716,【実施期間中】個別事業におけるPDCAシート!$H$6:$V$6,0)+6)","v":0}]
[null,null,"目標アウトカム\n（想定及び実績）\n※記載は任意",null,"計画",null,null,null,{"$f":"OFFSET(【実施期間中】個別事業におけるPDCAシート!$A$8,【実施期間中】個別事業におけるPDCAシート!$A$55,MATCH($C716,【実施期間中】個別事業におけるPDCAシート!$H$6:$V$6,0)+6)","v":""}]
[null,null,null,null,"実績",null,null,null,{"$f":"OFFSET(【実施期間中】個別事業におけるPDCAシート!$A$8,【実施期間中】個別事業におけるPDCAシート!$A$56,MATCH($C716,【実施期間中】個別事業におけるPDCAシート!$H$6:$V$6,0)+6)","v":0}]
[null,null,"エネルギー起源CO2排出\n削減量（想定及び実績）",null,"計画",null,null,null,{"$f":"別紙１_実施計画書!I650","v":0},null,null,null,null,null,"（t-CO2）"]
[null,null,null,null,"計画値\n測定方法\n（計算式、\n根拠資料等）",null,null,null,{"$f":"IF(別紙１_実施計画書!I651=0,\"\",(別紙１_実施計画書!I651))","v":""}]
[]
[]
[]
[null,null,null,null,"実績",null,null,null,{"$f":"OFFSET(【実施期間中】個別事業におけるPDCAシート!$A$8,【実施期間中】個別事業におけるPDCAシート!$A$120,MATCH($C716,【実施期間中】個別事業におけるPDCAシート!$H$6:$V$6,0)+6)","v":0},null,null,null,null,null,"（t-CO2）"]
[null,null,null,null,"計画値\n測定方法\n（計算式、\n根拠資料等）"]
[]
[]
[]
[null,null,"賛同数（想定及び実績）",null,"計画値",null,null,null,"団体",null,{"$f":"OFFSET(【実施期間中】個別事業におけるPDCAシート!$A$8,【実施期間中】個別事業におけるPDCAシート!$A$58,MATCH($C716,【実施期間中】個別事業におけるPDCAシート!$H$6:$V$6,0)+6)","v":0},null,null,null,null,"、個人",null,{"$f":"OFFSET(【実施期間中】個別事業におけるPDCAシート!$A$8,【実施期間中】個別事業におけるPDCAシート!$A$61,MATCH($C716,【実施期間中】個別事業におけるPDCAシート!$H$6:$V$6,0)+6)","v":0}]
[null,null,null,null,"実績値",null,null,null,"団体",null,{"$f":"OFFSET(【実施期間中】個別事業におけるPDCAシート!$A$8,【実施期間中】個別事業におけるPDCAシート!$A$59,MATCH($C716,【実施期間中】個別事業におけるPDCAシート!$H$6:$V$6,0)+6)","v":0},null,null,null,null,"、個人",null,{"$f":"OFFSET(【実施期間中】個別事業におけるPDCAシート!$A$8,【実施期間中】個別事業におけるPDCAシート!$A$62,MATCH($C716,【実施期間中】個別事業におけるPDCAシート!$H$6:$V$6,0)+6)","v":0}]
[null,null,"効果検証\n（アンケート）",null,"※アンケートの実施予定をプルダウンより選択してください。"]
[null,null,null,null,"公募要領に規定のアンケート"]
[null,null,null,null,"省エネ機器",null,null,"省エネ住宅",null,null,"エコカー",null,null,"クールビズ",null,null,"ウォームビズ",null,null,"照明の\n効率的利用",null,null,"ｴｺﾄﾞﾗｲﾌﾞ",null,null,"カーシェア"]
[null,null,null,null,"- 選択 -",null,null,"- 選択 -",null,null,"- 選択 -",null,null,"- 選択 -",null,null,"- 選択 -",null,null,"- 選択 -",null,null,"- 選択 -",null,null,"- 選択 -"]
[null,null,null,null,"公募要領に規定のアンケート",null,null,null,null,null,null,null,null,null,null,null,"貴事業者独自のアンケート"]
[null,null,null,null,"ｽﾏｰﾄﾑｰﾌﾞ",null,null,"低炭素物流",null,null,"再エネ",null,null,"食品ロス"]
[null,null,null,null,"- 選択 -",null,null,"- 選択 -",null,null,"- 選択 -",null,null,"- 選択 -",null,null,"- 選択 -"]
[null,null,null,null,"内容（",null,null,null,null,null,null,null,null,null,null,null,null,null,null,null,null,null,null,null,null,null,null,"）"]
[null,null,null,null,"昨年度実績",null,null,null,"計",{"$f":"OFFSET(【実施期間中】個別事業におけるPDCAシート!$A$8,【実施期間中】個別事業におけるPDCAシート!$A$77,MATCH($C716,【実施期間中】個別事業におけるPDCAシート!$H$6:$V$6,0)+6)","v":0},null,null,"枚",null,"※複数ある場合は、アンケート合計回収数"]
[null,null,null,null,"回収数",null,null,null,"計",{"$f":"OFFSET(【実施期間中】個別事業におけるPDCAシート!$A$8,【実施期間中】個別事業におけるPDCAシート!$A$79,MATCH($C716,【実施期間中】個別事業におけるPDCAシート!$H$6:$V$6,0)+6)","v":0},null,null,"枚",null,"※複数ある場合は、アンケート合計回収数"]
[]
[null,null,"項目",null,"内容"]
[null,null,"事業13","事業名",{"$f":"OFFSET(【実施期間中】個別事業におけるPDCAシート!$A$8,,MATCH(C777,【実施期間中】個別事業におけるPDCAシート!$H$6:$V$6,0)+6)","v":""}]
[null,null,"普及啓発テーマ",null,"※該当する普及啓発テーマすべてをチェックしてください。"]
[null,null,null,null,"①",null,"②",null,"③",null,"④",null,"⑤",null,"⑥",null,"⑦",null,"⑧",null,"⑨",null,"⑩",null,"⑪",null,"⑫",null,null,null,"①","②","③","④","⑤","⑥","⑦","⑧","⑨","⑩","⑪","⑫","⑬",null,null,null,null,null,null,null,null,null,null,null,null,null,"a)","b)","c)","d)"]
[null,null,null,null,"省ｴﾈ機器",null,"省ｴﾈ住宅",null,"ｴｺｶｰ",null,"ｸｰﾙﾋﾞｽﾞ",null,"ｳｫｰﾑﾋﾞｽﾞ",null,"照明の\n高効率利用",null,"ｴｺﾄﾞﾗｲﾌﾞ",null,"ｶｰｼｪｱ",null,"ｽﾏｰﾄﾑｰﾌﾞ",null,"再配達防止",null,"再エネ",null,"食品ロス",null,null,null,"省ｴﾈ機器","省ｴﾈ住宅","ｴｺｶｰ","ｸｰﾙﾋﾞｽﾞ","ｳｫｰﾑﾋﾞｽﾞ","照明の\n高効率利用","ｴｺﾄﾞﾗｲﾌﾞ","ｶｰｼｪｱ","ｽﾏｰﾄﾑｰﾌﾞ","再配達防止","再エネ","食品ロス","その他",null,null,null,null,null,null,null,null,null,null,null,null,null,{"$f":"IF(COUNTIFS(【実施期間中】個別事業におけるPDCAシート!$E$22:$E$25,別紙１_実施報告書!BE779,OFFSET(【実施期間中】個別事業におけるPDCAシート!$F$22,,MATCH(別紙１_実施報告書!$C777,【実施期間中】個別事業におけるPDCAシート!$H$6:$V$6,0)+1,4,1),1),1,0)","v":0},{"$f":"IF(COUNTIFS(【実施期間中】個別事業におけるPDCAシート!$E$22:$E$25,別紙１_実施報告書!BF779,OFFSET(【実施期間中】個別事業におけるPDCAシート!$F$22,,MATCH(別紙１_実施報告書!$C777,【実施期間中】個別事業におけるPDCAシート!$H$6:$V$6,0)+1,4,1),1),1,0)","v":0},{"$f":"IF(COUNTIFS(【実施期間中】個別事業におけるPDCAシート!$E$22:$E$25,別紙１_実施報告書!BG779,OFFSET(【実施期間中】個別事業におけるPDCAシート!$F$22,,MATCH(別紙１_実施報告書!$C777,【実施期間中】個別事業におけるPDCAシート!$H$6:$V$6,0)+1,4,1),1),1,0)","v":0},{"$f":"IF(COUNTIFS(【実施期間中】個別事業におけるPDCAシート!$E$22:$E$25,別紙１_実施報告書!BH779,OFFSET(【実施期間中】個別事業におけるPDCAシート!$F$22,,MATCH(別紙１_実施報告書!$C777,【実施期間中】個別事業におけるPDCAシート!$H$6:$V$6,0)+1,4,1),1),1,0)","v":0},{"$f":"COUNTIFS(BE780:BH780,1)+COUNTIFS(BE780:BH780,\"TRUE\")","v":0}]
[null,null,null,null,null,null,null,null,null,null,null,null,null,null,null,null,null,null,null,null,null,null,null,null,null,null,null,null,null,null,{"$f":"IF(COUNTIFS(【実施期間中】個別事業におけるPDCAシート!$E$9:$E$21,別紙１_実施報告書!AE779,OFFSET(【実施期間中】個別事業におけるPDCAシート!$F$9,,MATCH(別紙１_実施報告書!$C777,【実施期間中】個別事業におけるPDCAシート!$H$6:$V$6,0)+1,13,1),1),1,0)","v":0},{"$f":"IF(COUNTIFS(【実施期間中】個別事業におけるPDCAシート!$E$9:$E$21,別紙１_実施報告書!AF779,OFFSET(【実施期間中】個別事業におけるPDCAシート!$F$9,,MATCH(別紙１_実施報告書!$C777,【実施期間中】個別事業におけるPDCAシート!$H$6:$V$6,0)+1,13,1),1),1,0)","v":0},{"$f":"IF(COUNTIFS(【実施期間中】個別事業におけるPDCAシート!$E$9:$E$21,別紙１_実施報告書!AG779,OFFSET(【実施期間中】個別事業におけるPDCAシート!$F$9,,MATCH(別紙１_実施報告書!$C777,【実施期間中】個別事業におけるPDCAシート!$H$6:$V$6,0)+1,13,1),1),1,0)","v":0},{"$f":"IF(COUNTIFS(【実施期間中】個別事業におけるPDCAシート!$E$9:$E$21,別紙１_実施報告書!AH779,OFFSET(【実施期間中】個別事業におけるPDCAシート!$F$9,,MATCH(別紙１_実施報告書!$C777,【実施期間中】個別事業におけるPDCAシート!$H$6:$V$6,0)+1,13,1),1),1,0)","v":0},{"$f":"IF(COUNTIFS(【実施期間中】個別事業におけるPDCAシート!$E$9:$E$21,別紙１_実施報告書!AI779,OFFSET(【実施期間中】個別事業におけるPDCAシート!$F$9,,MATCH(別紙１_実施報告書!$C777,【実施期間中】個別事業におけるPDCAシート!$H$6:$V$6,0)+1,13,1),1),1,0)","v":0},{"$f":"IF(COUNTIFS(【実施期間中】個別事業におけるPDCAシート!$E$9:$E$21,別紙１_実施報告書!AJ779,OFFSET(【実施期間中】個別事業におけるPDCAシート!$F$9,,MATCH(別紙１_実施報告書!$C777,【実施期間中】個別事業におけるPDCAシート!$H$6:$V$6,0)+1,13,1),1),1,0)","v":0},{"$f":"IF(COUNTIFS(【実施期間中】個別事業におけるPDCAシート!$E$9:$E$21,別紙１_実施報告書!AK779,OFFSET(【実施期間中】個別事業におけるPDCAシート!$F$9,,MATCH(別紙１_実施報告書!$C777,【実施期間中】個別事業におけるPDCAシート!$H$6:$V$6,0)+1,13,1),1),1,0)","v":0},{"$f":"IF(COUNTIFS(【実施期間中】個別事業におけるPDCAシート!$E$9:$E$21,別紙１_実施報告書!AL779,OFFSET(【実施期間中】個別事業におけるPDCAシート!$F$9,,MATCH(別紙１_実施報告書!$C777,【実施期間中】個別事業におけるPDCAシート!$H$6:$V$6,0)+1,13,1),1),1,0)","v":0},{"$f":"IF(COUNTIFS(【実施期間中】個別事業におけるPDCAシート!$E$9:$E$21,別紙１_実施報告書!AM779,OFFSET(【実施期間中】個別事業におけるPDCAシート!$F$9,,MATCH(別紙１_実施報告書!$C777,【実施期間中】個別事業におけるPDCAシート!$H$6:$V$6,0)+1,13,1),1),1,0)","v":0},{"$f":"IF(COUNTIFS(【実施期間中】個別事業におけるPDCAシート!$E$9:$E$21,別紙１_実施報告書!AN779,OFFSET(【実施期間中】個別事業におけるPDCAシート!$F$9,,MATCH(別紙１_実施報告書!$C777,【実施期間中】個別事業におけるPDCAシート!$H$6:$V$6,0)+1,13,1),1),1,0)","v":0},{"$f":"IF(COUNTIFS(【実施期間中】個別事業におけるPDCAシート!$E$9:$E$21,別紙１_実施報告書!AO779,OFFSET(【実施期間中】個別事業におけるPDCAシート!$F$9,,MATCH(別紙１_実施報告書!$C777,【実施期間中】個別事業におけるPDCAシート!$H$6:$V$6,0)+1,13,1),1),1,0)","v":0},{"$f":"IF(COUNTIFS(【実施期間中】個別事業におけるPDCAシート!$E$9:$E$21,別紙１_実施報告書!AP779,OFFSET(【実施期間中】個別事業におけるPDCAシート!$F$9,,MATCH(別紙１_実施報告書!$C777,【実施期間中】個別事業におけるPDCAシート!$H$6:$V$6,0)+1,13,1),1),1,0)","v":0},{"$f":"IF(COUNTIFS(【実施期間中】個別事業におけるPDCAシート!$E$9:$E$21,別紙１_実施報告書!AQ779,OFFSET(【実施期間中】個別事業におけるPDCAシート!$F$9,,MATCH(別紙１_実施報告書!$C777,【実施期間中】個別事業におけるPDCAシート!$H$6:$V$6,0)+1,13,1),1),1,0)","v":0},{"$f":"IF(COUNTIFS(【実施期間中】個別事業におけるPDCAシート!$E$9:$E$21,別紙１_実施報告書!AR779,OFFSET(【実施期間中】個別事業におけるPDCAシート!$F$9,,MATCH(別紙１_実施報告書!$C777,【実施期間中】個別事業におけるPDCAシート!$H$6:$V$6,0)+1,13,1),1),1,0)","v":0},{"$f":"IF(COUNTIFS(【実施期間中】個別事業におけるPDCAシート!$E$9:$E$21,別紙１_実施報告書!AS779,OFFSET(【実施期間中】個別事業におけるPDCAシート!$F$9,,MATCH(別紙１_実施報告書!$C777,【実施期間中】個別事業におけるPDCAシート!$H$6:$V$6,0)+1,13,1),1),1,0)","v":0},{"$f":"IF(COUNTIFS(【実施期間中】個別事業におけるPDCAシート!$E$9:$E$21,別紙１_実施報告書!AT779,OFFSET(【実施期間中】個別事業におけるPDCAシート!$F$9,,MATCH(別紙１_実施報告書!$C777,【実施期間中】個別事業におけるPDCAシート!$H$6:$V$6,0)+1,13,1),1),1,0)","v":0},{"$f":"IF(COUNTIFS(【実施期間中】個別事業におけるPDCAシート!$E$9:$E$21,別紙１_実施報告書!AU779,OFFSET(【実施期間中】個別事業におけるPDCAシート!$F$9,,MATCH(別紙１_実施報告書!$C777,【実施期間中】個別事業におけるPDCAシート!$H$6:$V$6,0)+1,13,1),1),1,0)","v":0},{"$f":"IF(COUNTIFS(【実施期間中】個別事業におけるPDCAシート!$E$9:$E$21,別紙１_実施報告書!AV779,OFFSET(【実施期間中】個別事業におけるPDCAシート!$F$9,,MATCH(別紙１_実施報告書!$C777,【実施期間中】個別事業におけるPDCAシート!$H$6:$V$6,0)+1,13,1),1),1,0)","v":0},{"$f":"IF(COUNTIFS(【実施期間中】個別事業におけるPDCAシート!$E$9:$E$21,別紙１_実施報告書!AW779,OFFSET(【実施期間中】個別事業におけるPDCAシート!$F$9,,MATCH(別紙１_実施報告書!$C777,【実施期間中】個別事業におけるPDCAシート!$H$6:$V$6,0)+1,13,1),1),1,0)","v":0},{"$f":"IF(COUNTIFS(【実施期間中】個別事業におけるPDCAシート!$E$9:$E$21,別紙１_実施報告書!AX779,OFFSET(【実施期間中】個別事業におけるPDCAシート!$F$9,,MATCH(別紙１_実施報告書!$C777,【実施期間中】個別事業におけるPDCAシート!$H$6:$V$6,0)+1,13,1),1),1,0)","v":0},{"$f":"IF(COUNTIFS(【実施期間中】個別事業におけるPDCAシート!$E$9:$E$21,別紙１_実施報告書!AY779,OFFSET(【実施期間中】個別事業におけるPDCAシート!$F$9,,MATCH(別紙１_実施報告書!$C777,【実施期間中】個別事業におけるPDCAシート!$H$6:$V$6,0)+1,13,1),1),1,0)","v":0},{"$f":"IF(COUNTIFS(【実施期間中】個別事業におけるPDCAシート!$E$9:$E$21,別紙１_実施報告書!AZ779,OFFSET(【実施期間中】個別事業におけるPDCAシート!$F$9,,MATCH(別紙１_実施報告書!$C777,【実施期間中】個別事業におけるPDCAシート!$H$6:$V$6,0)+1,13,1),1),1,0)","v":0},{"$f":"IF(COUNTIFS(【実施期間中】個別事業におけるPDCAシート!$E$9:$E$21,別紙１_実施報告書!BA779,OFFSET(【実施期間中】個別事業におけるPDCAシート!$F$9,,MATCH(別紙１_実施報告書!$C777,【実施期間中】個別事業におけるPDCAシート!$H$6:$V$6,0)+1,13,1),1),1,0)","v":0},{"$f":"IF(COUNTIFS(【実施期間中】個別事業におけるPDCAシート!$E$9:$E$21,別紙１_実施報告書!BB779,OFFSET(【実施期間中】個別事業におけるPDCAシート!$F$9,,MATCH(別紙１_実施報告書!$C777,【実施期間中】個別事業におけるPDCAシート!$H$6:$V$6,0)+1,13,1),1),1,0)","v":0},{"$f":"COUNTIFS(AE781:BB781,1)+COUNTIFS(AE781:BB781,\"TRUE\")","v":0}]
[null,null,null,null,"⑬",null,"↓ ※①～⑫以外のテーマを設定する場合、具体的に記載してください。"]
[null,null,null,null,"その他"]
[]
[null,null,"訴求手法",null,"※訴求手法については、該当する欄にチェックしてください。"]
[null,null,null,null,"a) 情報発信型（受動型）",null,null,null,null,null,null,null,"b) 情報発信型（能動型）",null,null,null,null,null,null,null,"c) 双方向体験交流型"]
[null,null,null,null,"ラジオ、新聞・広報紙等",null,null,null,null,null,null,null,"講演会・パネル展示等",null,null,null,null,null,null,null,"試乗・体験会、省ｴﾈ診断等"]
[]
[null,null,null,null,"d) 双方向ＷＥＢ等配信型",null,null,null,null,null,null,null,"※d) については使用する媒体等を記載してください。"]
[null,null,null,null,"（新手法）"]
[]
[null,null,"実施期間",null,{"$f":"OFFSET(【実施期間中】個別事業におけるPDCAシート!$A$8,【実施期間中】個別事業におけるPDCAシート!$A$26,MATCH($C777,【実施期間中】個別事業におけるPDCAシート!$H$6:$V$6,0)+6)","v":""},null,null,null,null,null,null,null,null,null,"～",null,null,null,{"$f":"OFFSET(【実施期間中】個別事業におけるPDCAシート!$A$8,【実施期間中】個別事業におけるPDCAシート!$A$28,MATCH($C777,【実施期間中】個別事業におけるPDCAシート!$H$6:$V$6,0)+6)","v":""}]
[null,null,"（備考）",null,{"$f":"OFFSET(【実施期間中】個別事業におけるPDCAシート!$A$8,【実施期間中】個別事業におけるPDCAシート!$A$29,MATCH($C777,【実施期間中】個別事業におけるPDCAシート!$H$6:$V$6,0)+6)","v":""}]
[null,null,"実施日\n（※同一事業内で、\n同一の内容・場所において\n複数日実施する場合）",null,1,null,{"$f":"OFFSET(【実施期間中】個別事業におけるPDCAシート!$A$8,【実施期間中】個別事業におけるPDCAシート!$A$30,MATCH($C777,【実施期間中】個別事業におけるPDCAシート!$H$6:$V$6,0)+6)","v":""},null,null,null,null,null,null,null,null,null,6,null,{"$f":"OFFSET(【実施期間中】個別事業におけるPDCAシート!$A$8,【実施期間中】個別事業におけるPDCAシート!$A$35,MATCH($C777,【実施期間中】個別事業におけるPDCAシート!$H$6:$V$6,0)+6)","v":""}]
[null,null,null,null,2,null,{"$f":"OFFSET(【実施期間中】個別事業におけるPDCAシート!$A$8,【実施期間中】個別事業におけるPDCAシート!$A$31,MATCH($C777,【実施期間中】個別事業におけるPDCAシート!$H$6:$V$6,0)+6)","v":""},null,null,null,null,null,null,null,null,null,7,null,{"$f":"OFFSET(【実施期間中】個別事業におけるPDCAシート!$A$8,【実施期間中】個別事業におけるPDCAシート!$A$36,MATCH($C777,【実施期間中】個別事業におけるPDCAシート!$H$6:$V$6,0)+6)","v":""}]
[null,null,null,null,3,null,{"$f":"OFFSET(【実施期間中】個別事業におけるPDCAシート!$A$8,【実施期間中】個別事業におけるPDCAシート!$A$32,MATCH($C777,【実施期間中】個別事業におけるPDCAシート!$H$6:$V$6,0)+6)","v":""},null,null,null,null,null,null,null,null,null,8,null,{"$f":"OFFSET(【実施期間中】個別事業におけるPDCAシート!$A$8,【実施期間中】個別事業におけるPDCAシート!$A$37,MATCH($C777,【実施期間中】個別事業におけるPDCAシート!$H$6:$V$6,0)+6)","v":""}]
[null,null,null,null,4,null,{"$f":"OFFSET(【実施期間中】個別事業におけるPDCAシート!$A$8,【実施期間中】個別事業におけるPDCAシート!$A$33,MATCH($C777,【実施期間中】個別事業におけるPDCAシート!$H$6:$V$6,0)+6)","v":""},null,null,null,null,null,null,null,null,null,9,null,{"$f":"OFFSET(【実施期間中】個別事業におけるPDCAシート!$A$8,【実施期間中】個別事業におけるPDCAシート!$A$38,MATCH($C777,【実施期間中】個別事業におけるPDCAシート!$H$6:$V$6,0)+6)","v":""}]
[null,null,null,null,5,null,{"$f":"OFFSET(【実施期間中】個別事業におけるPDCAシート!$A$8,【実施期間中】個別事業におけるPDCAシート!$A$34,MATCH($C777,【実施期間中】個別事業におけるPDCAシート!$H$6:$V$6,0)+6)","v":""},null,null,null,null,null,null,null,null,null,10,null,{"$f":"OFFSET(【実施期間中】個別事業におけるPDCAシート!$A$8,【実施期間中】個別事業におけるPDCAシート!$A$39,MATCH($C777,【実施期間中】個別事業におけるPDCAシート!$H$6:$V$6,0)+6)","v":""}]
[null,null,"事業の概要",null,{"$f":"OFFSET(【実施期間中】個別事業におけるPDCAシート!$A$8,【実施期間中】個別事業におけるPDCAシート!$A$40,MATCH($C777,【実施期間中】個別事業におけるPDCAシート!$H$6:$V$6,0)+6)","v":""}]
[null,null,"地域団体との連携",null,{"$f":"別紙１_実施計画書!E692","v":0}]
[null,null,"実施結果",null,{"$f":"OFFSET(【実施期間中】個別事業におけるPDCAシート!$A$8,【実施期間中】個別事業におけるPDCAシート!$A$46,MATCH($C777,【実施期間中】個別事業におけるPDCAシート!$H$6:$V$6,0)+6)","v":0}]
[]
[null,null,"主な訴求対象","計画",{"$f":"OFFSET(【実施期間中】個別事業におけるPDCAシート!$A$8,【実施期間中】個別事業におけるPDCAシート!$A$41,MATCH($C777,【実施期間中】個別事業におけるPDCAシート!$H$6:$V$6,0)+6)","v":""}]
[null,null,null,"結果",{"$f":"OFFSET(【実施期間中】個別事業におけるPDCAシート!$A$8,【実施期間中】個別事業におけるPDCAシート!$A$42,MATCH($C777,【実施期間中】個別事業におけるPDCAシート!$H$6:$V$6,0)+6)","v":0}]
[null,null,"目標アウトプット\n（リーチ数）\n（想定及び実績）",null,"昨年度実績",null,null,null,"計",null,{"$f":"OFFSET(【実施期間中】個別事業におけるPDCAシート!$A$8,【実施期間中】個別事業におけるPDCAシート!$A$47,MATCH($C777,【実施期間中】個別事業におけるPDCAシート!$H$6:$V$6,0)+6)","v":0}]
[null,null,null,null,"昨年度実績算出根拠",null,null,null,{"$f":"OFFSET(【実施期間中】個別事業におけるPDCAシート!$A$8,【実施期間中】個別事業におけるPDCAシート!$A$48,MATCH($C777,【実施期間中】個別事業におけるPDCAシート!$H$6:$V$6,0)+6)","v":""}]
[null,null,null,null,"想定",null,null,null,"計",null,{"$f":"OFFSET(【実施期間中】個別事業におけるPDCAシート!$A$8,【実施期間中】個別事業におけるPDCAシート!$A$49,MATCH($C777,【実施期間中】個別事業におけるPDCAシート!$H$6:$V$6,0)+6)","v":0}]
[null,null,null,null,"算出方法",null,null,null,{"$f":"OFFSET(【実施期間中】個別事業におけるPDCAシート!$A$8,【実施期間中】個別事業におけるPDCAシート!$A$50,MATCH($C777,【実施期間中】個別事業におけるPDCAシート!$H$6:$V$6,0)+6)","v":""}]
[null,null,null,null,"実績値",null,null,null,"計",null,{"$f":"SUM(OFFSET(【実施期間中】個別事業におけるPDCAシート!$A$8,【実施期間中】個別事業におけるPDCAシート!$A$51,MATCH($C777,【実施期間中】個別事業におけるPDCAシート!$H$6:$V$6,0)+6):OFFSET(【実施期間中】個別事業におけるPDCAシート!$A$8,【実施期間中】個別事業におけるPDCAシート!$A$52,MATCH($C777,【実施期間中】個別事業におけるPDCAシート!$H$6:$V$6,0)+6))","v":0}]
[null,null,null,null,"実績値算出根拠",null,null,null,{"$f":"OFFSET(【実施期間中】個別事業におけるPDCAシート!$A$8,【実施期間中】個別事業におけるPDCAシート!$A$53,MATCH($C777,【実施期間中】個別事業におけるPDCAシート!$H$6:$V$6,0)+6)","v":0}]
[null,null,null,null,"その他",null,null,null,{"$f":"OFFSET(【実施期間中】個別事業におけるPDCAシート!$A$8,【実施期間中】個別事業におけるPDCAシート!$A$54,MATCH($C777,【実施期間中】個別事業におけるPDCAシート!$H$6:$V$6,0)+6)","v":0}]
[null,null,"目標アウトカム\n（想定及び実績）\n※記載は任意",null,"計画",null,null,null,{"$f":"OFFSET(【実施期間中】個別事業におけるPDCAシート!$A$8,【実施期間中】個別事業におけるPDCAシート!$A$55,MATCH($C777,【実施期間中】個別事業におけるPDCAシート!$H$6:$V$6,0)+6)","v":""}]
[null,null,null,null,"実績",null,null,null,{"$f":"OFFSET(【実施期間中】個別事業におけるPDCAシート!$A$8,【実施期間中】個別事業におけるPDCAシート!$A$56,MATCH($C777,【実施期間中】個別事業におけるPDCAシート!$H$6:$V$6,0)+6)","v":0}]
[null,null,"エネルギー起源CO2排出\n削減量（想定及び実績）",null,"計画",null,null,null,{"$f":"別紙１_実施計画書!I702","v":0},null,null,null,null,null,"（t-CO2）"]
[null,null,null,null,"計画値\n測定方法\n（計算式、\n根拠資料等）",null,null,null,{"$f":"IF(別紙１_実施計画書!I703=0,\"\",(別紙１_実施計画書!I703))","v":""}]
[]
[]
[]
[null,null,null,null,"実績",null,null,null,{"$f":"OFFSET(【実施期間中】個別事業におけるPDCAシート!$A$8,【実施期間中】個別事業におけるPDCAシート!$A$120,MATCH($C777,【実施期間中】個別事業におけるPDCAシート!$H$6:$V$6,0)+6)","v":0},null,null,null,null,null,"（t-CO2）"]
[null,null,null,null,"計画値\n測定方法\n（計算式、\n根拠資料等）"]
[]
[]
[]
[null,null,"賛同数（想定及び実績）",null,"計画値",null,null,null,"団体",null,{"$f":"OFFSET(【実施期間中】個別事業におけるPDCAシート!$A$8,【実施期間中】個別事業におけるPDCAシート!$A$58,MATCH($C777,【実施期間中】個別事業におけるPDCAシート!$H$6:$V$6,0)+6)","v":0},null,null,null,null,"、個人",null,{"$f":"OFFSET(【実施期間中】個別事業におけるPDCAシート!$A$8,【実施期間中】個別事業におけるPDCAシート!$A$61,MATCH($C777,【実施期間中】個別事業におけるPDCAシート!$H$6:$V$6,0)+6)","v":0}]
[null,null,null,null,"実績値",null,null,null,"団体",null,{"$f":"OFFSET(【実施期間中】個別事業におけるPDCAシート!$A$8,【実施期間中】個別事業におけるPDCAシート!$A$59,MATCH($C777,【実施期間中】個別事業におけるPDCAシート!$H$6:$V$6,0)+6)","v":0},null,null,null,null,"、個人",null,{"$f":"OFFSET(【実施期間中】個別事業におけるPDCAシート!$A$8,【実施期間中】個別事業におけるPDCAシート!$A$62,MATCH($C777,【実施期間中】個別事業におけるPDCAシート!$H$6:$V$6,0)+6)","v":0}]
[null,null,"効果検証\n（アンケート）",null,"※アンケートの実施予定をプルダウンより選択してください。"]
[null,null,null,null,"公募要領に規定のアンケート"]
[null,null,null,null,"省エネ機器",null,null,"省エネ住宅",null,null,"エコカー",null,null,"クールビズ",null,null,"ウォームビズ",null,null,"照明の\n効率的利用",null,null,"ｴｺﾄﾞﾗｲﾌﾞ",null,null,"カーシェア"]
[null,null,null,null,"- 選択 -",null,null,"- 選択 -",null,null,"- 選択 -",null,null,"- 選択 -",null,null,"- 選択 -",null,null,"- 選択 -",null,null,"- 選択 -",null,null,"- 選択 -"]
[null,null,null,null,"公募要領に規定のアンケート",null,null,null,null,null,null,null,null,null,null,null,"貴事業者独自のアンケート"]
[null,null,null,null,"ｽﾏｰﾄﾑｰﾌﾞ",null,null,"低炭素物流",null,null,"再エネ",null,null,"食品ロス"]
[null,null,null,null,"- 選択 -",null,null,"- 選択 -",null,null,"- 選択 -",null,null,"- 選択 -",null,null,"- 選択 -"]
[null,null,null,null,"内容（",null,null,null,null,null,null,null,null,null,null,null,null,null,null,null,null,null,null,null,null,null,null,"）"]
[null,null,null,null,"昨年度実績",null,null,null,"計",{"$f":"OFFSET(【実施期間中】個別事業におけるPDCAシート!$A$8,【実施期間中】個別事業におけるPDCAシート!$A$77,MATCH($C777,【実施期間中】個別事業におけるPDCAシート!$H$6:$V$6,0)+6)","v":0},null,null,"枚",null,"※複数ある場合は、アンケート合計回収数"]
[null,null,null,null,"回収数",null,null,null,"計",{"$f":"OFFSET(【実施期間中】個別事業におけるPDCAシート!$A$8,【実施期間中】個別事業におけるPDCAシート!$A$79,MATCH($C777,【実施期間中】個別事業におけるPDCAシート!$H$6:$V$6,0)+6)","v":0},null,null,"枚",null,"※複数ある場合は、アンケート合計回収数"]
[]
[null,null,"項目",null,"内容"]
[null,null,"事業14","事業名",{"$f":"OFFSET(【実施期間中】個別事業におけるPDCAシート!$A$8,,MATCH(C838,【実施期間中】個別事業におけるPDCAシート!$H$6:$V$6,0)+6)","v":""}]
[null,null,"普及啓発テーマ",null,"※該当する普及啓発テーマすべてをチェックしてください。"]
[null,null,null,null,"①",null,"②",null,"③",null,"④",null,"⑤",null,"⑥",null,"⑦",null,"⑧",null,"⑨",null,"⑩",null,"⑪",null,"⑫",null,null,null,"①","②","③","④","⑤","⑥","⑦","⑧","⑨","⑩","⑪","⑫","⑬",null,null,null,null,null,null,null,null,null,null,null,null,null,"a)","b)","c)","d)"]
[null,null,null,null,"省ｴﾈ機器",null,"省ｴﾈ住宅",null,"ｴｺｶｰ",null,"ｸｰﾙﾋﾞｽﾞ",null,"ｳｫｰﾑﾋﾞｽﾞ",null,"照明の\n高効率利用",null,"ｴｺﾄﾞﾗｲﾌﾞ",null,"ｶｰｼｪｱ",null,"ｽﾏｰﾄﾑｰﾌﾞ",null,"再配達防止",null,"再エネ",null,"食品ロス",null,null,null,"省ｴﾈ機器","省ｴﾈ住宅","ｴｺｶｰ","ｸｰﾙﾋﾞｽﾞ","ｳｫｰﾑﾋﾞｽﾞ","照明の\n高効率利用","ｴｺﾄﾞﾗｲﾌﾞ","ｶｰｼｪｱ","ｽﾏｰﾄﾑｰﾌﾞ","再配達防止","再エネ","食品ロス","その他",null,null,null,null,null,null,null,null,null,null,null,null,null,{"$f":"IF(COUNTIFS(【実施期間中】個別事業におけるPDCAシート!$E$22:$E$25,別紙１_実施報告書!BE840,OFFSET(【実施期間中】個別事業におけるPDCAシート!$F$22,,MATCH(別紙１_実施報告書!$C838,【実施期間中】個別事業におけるPDCAシート!$H$6:$V$6,0)+1,4,1),1),1,0)","v":0},{"$f":"IF(COUNTIFS(【実施期間中】個別事業におけるPDCAシート!$E$22:$E$25,別紙１_実施報告書!BF840,OFFSET(【実施期間中】個別事業におけるPDCAシート!$F$22,,MATCH(別紙１_実施報告書!$C838,【実施期間中】個別事業におけるPDCAシート!$H$6:$V$6,0)+1,4,1),1),1,0)","v":0},{"$f":"IF(COUNTIFS(【実施期間中】個別事業におけるPDCAシート!$E$22:$E$25,別紙１_実施報告書!BG840,OFFSET(【実施期間中】個別事業におけるPDCAシート!$F$22,,MATCH(別紙１_実施報告書!$C838,【実施期間中】個別事業におけるPDCAシート!$H$6:$V$6,0)+1,4,1),1),1,0)","v":0},{"$f":"IF(COUNTIFS(【実施期間中】個別事業におけるPDCAシート!$E$22:$E$25,別紙１_実施報告書!BH840,OFFSET(【実施期間中】個別事業におけるPDCAシート!$F$22,,MATCH(別紙１_実施報告書!$C838,【実施期間中】個別事業におけるPDCAシート!$H$6:$V$6,0)+1,4,1),1),1,0)","v":0},{"$f":"COUNTIFS(BE841:BH841,1)+COUNTIFS(BE841:BH841,\"TRUE\")","v":0}]
[null,null,null,null,null,null,null,null,null,null,null,null,null,null,null,null,null,null,null,null,null,null,null,null,null,null,null,null,null,null,{"$f":"IF(COUNTIFS(【実施期間中】個別事業におけるPDCAシート!$E$9:$E$21,別紙１_実施報告書!AE840,OFFSET(【実施期間中】個別事業におけるPDCAシート!$F$9,,MATCH(別紙１_実施報告書!$C838,【実施期間中】個別事業におけるPDCAシート!$H$6:$V$6,0)+1,13,1),1),1,0)","v":0},{"$f":"IF(COUNTIFS(【実施期間中】個別事業におけるPDCAシート!$E$9:$E$21,別紙１_実施報告書!AF840,OFFSET(【実施期間中】個別事業におけるPDCAシート!$F$9,,MATCH(別紙１_実施報告書!$C838,【実施期間中】個別事業におけるPDCAシート!$H$6:$V$6,0)+1,13,1),1),1,0)","v":0},{"$f":"IF(COUNTIFS(【実施期間中】個別事業におけるPDCAシート!$E$9:$E$21,別紙１_実施報告書!AG840,OFFSET(【実施期間中】個別事業におけるPDCAシート!$F$9,,MATCH(別紙１_実施報告書!$C838,【実施期間中】個別事業におけるPDCAシート!$H$6:$V$6,0)+1,13,1),1),1,0)","v":0},{"$f":"IF(COUNTIFS(【実施期間中】個別事業におけるPDCAシート!$E$9:$E$21,別紙１_実施報告書!AH840,OFFSET(【実施期間中】個別事業におけるPDCAシート!$F$9,,MATCH(別紙１_実施報告書!$C838,【実施期間中】個別事業におけるPDCAシート!$H$6:$V$6,0)+1,13,1),1),1,0)","v":0},{"$f":"IF(COUNTIFS(【実施期間中】個別事業におけるPDCAシート!$E$9:$E$21,別紙１_実施報告書!AI840,OFFSET(【実施期間中】個別事業におけるPDCAシート!$F$9,,MATCH(別紙１_実施報告書!$C838,【実施期間中】個別事業におけるPDCAシート!$H$6:$V$6,0)+1,13,1),1),1,0)","v":0},{"$f":"IF(COUNTIFS(【実施期間中】個別事業におけるPDCAシート!$E$9:$E$21,別紙１_実施報告書!AJ840,OFFSET(【実施期間中】個別事業におけるPDCAシート!$F$9,,MATCH(別紙１_実施報告書!$C838,【実施期間中】個別事業におけるPDCAシート!$H$6:$V$6,0)+1,13,1),1),1,0)","v":0},{"$f":"IF(COUNTIFS(【実施期間中】個別事業におけるPDCAシート!$E$9:$E$21,別紙１_実施報告書!AK840,OFFSET(【実施期間中】個別事業におけるPDCAシート!$F$9,,MATCH(別紙１_実施報告書!$C838,【実施期間中】個別事業におけるPDCAシート!$H$6:$V$6,0)+1,13,1),1),1,0)","v":0},{"$f":"IF(COUNTIFS(【実施期間中】個別事業におけるPDCAシート!$E$9:$E$21,別紙１_実施報告書!AL840,OFFSET(【実施期間中】個別事業におけるPDCAシート!$F$9,,MATCH(別紙１_実施報告書!$C838,【実施期間中】個別事業におけるPDCAシート!$H$6:$V$6,0)+1,13,1),1),1,0)","v":0},{"$f":"IF(COUNTIFS(【実施期間中】個別事業におけるPDCAシート!$E$9:$E$21,別紙１_実施報告書!AM840,OFFSET(【実施期間中】個別事業におけるPDCAシート!$F$9,,MATCH(別紙１_実施報告書!$C838,【実施期間中】個別事業におけるPDCAシート!$H$6:$V$6,0)+1,13,1),1),1,0)","v":0},{"$f":"IF(COUNTIFS(【実施期間中】個別事業におけるPDCAシート!$E$9:$E$21,別紙１_実施報告書!AN840,OFFSET(【実施期間中】個別事業におけるPDCAシート!$F$9,,MATCH(別紙１_実施報告書!$C838,【実施期間中】個別事業におけるPDCAシート!$H$6:$V$6,0)+1,13,1),1),1,0)","v":0},{"$f":"IF(COUNTIFS(【実施期間中】個別事業におけるPDCAシート!$E$9:$E$21,別紙１_実施報告書!AO840,OFFSET(【実施期間中】個別事業におけるPDCAシート!$F$9,,MATCH(別紙１_実施報告書!$C838,【実施期間中】個別事業におけるPDCAシート!$H$6:$V$6,0)+1,13,1),1),1,0)","v":0},{"$f":"IF(COUNTIFS(【実施期間中】個別事業におけるPDCAシート!$E$9:$E$21,別紙１_実施報告書!AP840,OFFSET(【実施期間中】個別事業におけるPDCAシート!$F$9,,MATCH(別紙１_実施報告書!$C838,【実施期間中】個別事業におけるPDCAシート!$H$6:$V$6,0)+1,13,1),1),1,0)","v":0},{"$f":"IF(COUNTIFS(【実施期間中】個別事業におけるPDCAシート!$E$9:$E$21,別紙１_実施報告書!AQ840,OFFSET(【実施期間中】個別事業におけるPDCAシート!$F$9,,MATCH(別紙１_実施報告書!$C838,【実施期間中】個別事業におけるPDCAシート!$H$6:$V$6,0)+1,13,1),1),1,0)","v":0},{"$f":"IF(COUNTIFS(【実施期間中】個別事業におけるPDCAシート!$E$9:$E$21,別紙１_実施報告書!AR840,OFFSET(【実施期間中】個別事業におけるPDCAシート!$F$9,,MATCH(別紙１_実施報告書!$C838,【実施期間中】個別事業におけるPDCAシート!$H$6:$V$6,0)+1,13,1),1),1,0)","v":0},{"$f":"IF(COUNTIFS(【実施期間中】個別事業におけるPDCAシート!$E$9:$E$21,別紙１_実施報告書!AS840,OFFSET(【実施期間中】個別事業におけるPDCAシート!$F$9,,MATCH(別紙１_実施報告書!$C838,【実施期間中】個別事業におけるPDCAシート!$H$6:$V$6,0)+1,13,1),1),1,0)","v":0},{"$f":"IF(COUNTIFS(【実施期間中】個別事業におけるPDCAシート!$E$9:$E$21,別紙１_実施報告書!AT840,OFFSET(【実施期間中】個別事業におけるPDCAシート!$F$9,,MATCH(別紙１_実施報告書!$C838,【実施期間中】個別事業におけるPDCAシート!$H$6:$V$6,0)+1,13,1),1),1,0)","v":0},{"$f":"IF(COUNTIFS(【実施期間中】個別事業におけるPDCAシート!$E$9:$E$21,別紙１_実施報告書!AU840,OFFSET(【実施期間中】個別事業におけるPDCAシート!$F$9,,MATCH(別紙１_実施報告書!$C838,【実施期間中】個別事業におけるPDCAシート!$H$6:$V$6,0)+1,13,1),1),1,0)","v":0},{"$f":"IF(COUNTIFS(【実施期間中】個別事業におけるPDCAシート!$E$9:$E$21,別紙１_実施報告書!AV840,OFFSET(【実施期間中】個別事業におけるPDCAシート!$F$9,,MATCH(別紙１_実施報告書!$C838,【実施期間中】個別事業におけるPDCAシート!$H$6:$V$6,0)+1,13,1),1),1,0)","v":0},{"$f":"IF(COUNTIFS(【実施期間中】個別事業におけるPDCAシート!$E$9:$E$21,別紙１_実施報告書!AW840,OFFSET(【実施期間中】個別事業におけるPDCAシート!$F$9,,MATCH(別紙１_実施報告書!$C838,【実施期間中】個別事業におけるPDCAシート!$H$6:$V$6,0)+1,13,1),1),1,0)","v":0},{"$f":"IF(COUNTIFS(【実施期間中】個別事業におけるPDCAシート!$E$9:$E$21,別紙１_実施報告書!AX840,OFFSET(【実施期間中】個別事業におけるPDCAシート!$F$9,,MATCH(別紙１_実施報告書!$C838,【実施期間中】個別事業におけるPDCAシート!$H$6:$V$6,0)+1,13,1),1),1,0)","v":0},{"$f":"IF(COUNTIFS(【実施期間中】個別事業におけるPDCAシート!$E$9:$E$21,別紙１_実施報告書!AY840,OFFSET(【実施期間中】個別事業におけるPDCAシート!$F$9,,MATCH(別紙１_実施報告書!$C838,【実施期間中】個別事業におけるPDCAシート!$H$6:$V$6,0)+1,13,1),1),1,0)","v":0},{"$f":"IF(COUNTIFS(【実施期間中】個別事業におけるPDCAシート!$E$9:$E$21,別紙１_実施報告書!AZ840,OFFSET(【実施期間中】個別事業におけるPDCAシート!$F$9,,MATCH(別紙１_実施報告書!$C838,【実施期間中】個別事業におけるPDCAシート!$H$6:$V$6,0)+1,13,1),1),1,0)","v":0},{"$f":"IF(COUNTIFS(【実施期間中】個別事業におけるPDCAシート!$E$9:$E$21,別紙１_実施報告書!BA840,OFFSET(【実施期間中】個別事業におけるPDCAシート!$F$9,,MATCH(別紙１_実施報告書!$C838,【実施期間中】個別事業におけるPDCAシート!$H$6:$V$6,0)+1,13,1),1),1,0)","v":0},{"$f":"IF(COUNTIFS(【実施期間中】個別事業におけるPDCAシート!$E$9:$E$21,別紙１_実施報告書!BB840,OFFSET(【実施期間中】個別事業におけるPDCAシート!$F$9,,MATCH(別紙１_実施報告書!$C838,【実施期間中】個別事業におけるPDCAシート!$H$6:$V$6,0)+1,13,1),1),1,0)","v":0},{"$f":"COUNTIFS(AE842:BB842,1)+COUNTIFS(AE842:BB842,\"TRUE\")","v":0}]
[null,null,null,null,"⑬",null,"↓ ※①～⑫以外のテーマを設定する場合、具体的に記載してください。"]
[null,null,null,null,"その他"]
[]
[null,null,"訴求手法",null,"※訴求手法については、該当する欄にチェックしてください。"]
[null,null,null,null,"a) 情報発信型（受動型）",null,null,null,null,null,null,null,"b) 情報発信型（能動型）",null,null,null,null,null,null,null,"c) 双方向体験交流型"]
[null,null,null,null,"ラジオ、新聞・広報紙等",null,null,null,null,null,null,null,"講演会・パネル展示等",null,null,null,null,null,null,null,"試乗・体験会、省ｴﾈ診断等"]
[]
[null,null,null,null,"d) 双方向ＷＥＢ等配信型",null,null,null,null,null,null,null,"※d) については使用する媒体等を記載してください。"]
[null,null,null,null,"（新手法）"]
[]
[null,null,"実施期間",null,{"$f":"OFFSET(【実施期間中】個別事業におけるPDCAシート!$A$8,【実施期間中】個別事業におけるPDCAシート!$A$26,MATCH($C838,【実施期間中】個別事業におけるPDCAシート!$H$6:$V$6,0)+6)","v":""},null,null,null,null,null,null,null,null,null,"～",null,null,null,{"$f":"OFFSET(【実施期間中】個別事業におけるPDCAシート!$A$8,【実施期間中】個別事業におけるPDCAシート!$A$28,MATCH($C838,【実施期間中】個別事業におけるPDCAシート!$H$6:$V$6,0)+6)","v":""}]
[null,null,"（備考）",null,{"$f":"OFFSET(【実施期間中】個別事業におけるPDCAシート!$A$8,【実施期間中】個別事業におけるPDCAシート!$A$29,MATCH($C838,【実施期間中】個別事業におけるPDCAシート!$H$6:$V$6,0)+6)","v":""}]
[null,null,"実施日\n（※同一事業内で、\n同一の内容・場所において\n複数日実施する場合）",null,1,null,{"$f":"OFFSET(【実施期間中】個別事業におけるPDCAシート!$A$8,【実施期間中】個別事業におけるPDCAシート!$A$30,MATCH($C838,【実施期間中】個別事業におけるPDCAシート!$H$6:$V$6,0)+6)","v":""},null,null,null,null,null,null,null,null,null,6,null,{"$f":"OFFSET(【実施期間中】個別事業におけるPDCAシート!$A$8,【実施期間中】個別事業におけるPDCAシート!$A$35,MATCH($C838,【実施期間中】個別事業におけるPDCAシート!$H$6:$V$6,0)+6)","v":""}]
[null,null,null,null,2,null,{"$f":"OFFSET(【実施期間中】個別事業におけるPDCAシート!$A$8,【実施期間中】個別事業におけるPDCAシート!$A$31,MATCH($C838,【実施期間中】個別事業におけるPDCAシート!$H$6:$V$6,0)+6)","v":""},null,null,null,null,null,null,null,null,null,7,null,{"$f":"OFFSET(【実施期間中】個別事業におけるPDCAシート!$A$8,【実施期間中】個別事業におけるPDCAシート!$A$36,MATCH($C838,【実施期間中】個別事業におけるPDCAシート!$H$6:$V$6,0)+6)","v":""}]
[null,null,null,null,3,null,{"$f":"OFFSET(【実施期間中】個別事業におけるPDCAシート!$A$8,【実施期間中】個別事業におけるPDCAシート!$A$32,MATCH($C838,【実施期間中】個別事業におけるPDCAシート!$H$6:$V$6,0)+6)","v":""},null,null,null,null,null,null,null,null,null,8,null,{"$f":"OFFSET(【実施期間中】個別事業におけるPDCAシート!$A$8,【実施期間中】個別事業におけるPDCAシート!$A$37,MATCH($C838,【実施期間中】個別事業におけるPDCAシート!$H$6:$V$6,0)+6)","v":""}]
[null,null,null,null,4,null,{"$f":"OFFSET(【実施期間中】個別事業におけるPDCAシート!$A$8,【実施期間中】個別事業におけるPDCAシート!$A$33,MATCH($C838,【実施期間中】個別事業におけるPDCAシート!$H$6:$V$6,0)+6)","v":""},null,null,null,null,null,null,null,null,null,9,null,{"$f":"OFFSET(【実施期間中】個別事業におけるPDCAシート!$A$8,【実施期間中】個別事業におけるPDCAシート!$A$38,MATCH($C838,【実施期間中】個別事業におけるPDCAシート!$H$6:$V$6,0)+6)","v":""}]
[null,null,null,null,5,null,{"$f":"OFFSET(【実施期間中】個別事業におけるPDCAシート!$A$8,【実施期間中】個別事業におけるPDCAシート!$A$34,MATCH($C838,【実施期間中】個別事業におけるPDCAシート!$H$6:$V$6,0)+6)","v":""},null,null,null,null,null,null,null,null,null,10,null,{"$f":"OFFSET(【実施期間中】個別事業におけるPDCAシート!$A$8,【実施期間中】個別事業におけるPDCAシート!$A$39,MATCH($C838,【実施期間中】個別事業におけるPDCAシート!$H$6:$V$6,0)+6)","v":""}]
[null,null,"事業の概要",null,{"$f":"OFFSET(【実施期間中】個別事業におけるPDCAシート!$A$8,【実施期間中】個別事業におけるPDCAシート!$A$40,MATCH($C838,【実施期間中】個別事業におけるPDCAシート!$H$6:$V$6,0)+6)","v":""}]
[null,null,"地域団体との連携",null,{"$f":"別紙１_実施計画書!E744","v":0}]
[null,null,"実施結果",null,{"$f":"OFFSET(【実施期間中】個別事業におけるPDCAシート!$A$8,【実施期間中】個別事業におけるPDCAシート!$A$46,MATCH($C838,【実施期間中】個別事業におけるPDCAシート!$H$6:$V$6,0)+6)","v":0}]
[]
[null,null,"主な訴求対象","計画",{"$f":"OFFSET(【実施期間中】個別事業におけるPDCAシート!$A$8,【実施期間中】個別事業におけるPDCAシート!$A$41,MATCH($C838,【実施期間中】個別事業におけるPDCAシート!$H$6:$V$6,0)+6)","v":""}]
[null,null,null,"結果",{"$f":"OFFSET(【実施期間中】個別事業におけるPDCAシート!$A$8,【実施期間中】個別事業におけるPDCAシート!$A$42,MATCH($C838,【実施期間中】個別事業におけるPDCAシート!$H$6:$V$6,0)+6)","v":0}]
[null,null,"目標アウトプット\n（リーチ数）\n（想定及び実績）",null,"昨年度実績",null,null,null,"計",null,{"$f":"OFFSET(【実施期間中】個別事業におけるPDCAシート!$A$8,【実施期間中】個別事業におけるPDCAシート!$A$47,MATCH($C838,【実施期間中】個別事業におけるPDCAシート!$H$6:$V$6,0)+6)","v":0}]
[null,null,null,null,"昨年度実績算出根拠",null,null,null,{"$f":"OFFSET(【実施期間中】個別事業におけるPDCAシート!$A$8,【実施期間中】個別事業におけるPDCAシート!$A$48,MATCH($C838,【実施期間中】個別事業におけるPDCAシート!$H$6:$V$6,0)+6)","v":""}]
[null,null,null,null,"想定",null,null,null,"計",null,{"$f":"OFFSET(【実施期間中】個別事業におけるPDCAシート!$A$8,【実施期間中】個別事業におけるPDCAシート!$A$49,MATCH($C838,【実施期間中】個別事業におけるPDCAシート!$H$6:$V$6,0)+6)","v":0}]
[null,null,null,null,"算出方法",null,null,null,{"$f":"OFFSET(【実施期間中】個別事業におけるPDCAシート!$A$8,【実施期間中】個別事業におけるPDCAシート!$A$50,MATCH($C838,【実施期間中】個別事業におけるPDCAシート!$H$6:$V$6,0)+6)","v":""}]
[null,null,null,null,"実績値",null,null,null,"計",null,{"$f":"SUM(OFFSET(【実施期間中】個別事業におけるPDCAシート!$A$8,【実施期間中】個別事業におけるPDCAシート!$A$51,MATCH($C838,【実施期間中】個別事業におけるPDCAシート!$H$6:$V$6,0)+6):OFFSET(【実施期間中】個別事業におけるPDCAシート!$A$8,【実施期間中】個別事業におけるPDCAシート!$A$52,MATCH($C838,【実施期間中】個別事業におけるPDCAシート!$H$6:$V$6,0)+6))","v":0}]
[null,null,null,null,"実績値算出根拠",null,null,null,{"$f":"OFFSET(【実施期間中】個別事業におけるPDCAシート!$A$8,【実施期間中】個別事業におけるPDCAシート!$A$53,MATCH($C838,【実施期間中】個別事業におけるPDCAシート!$H$6:$V$6,0)+6)","v":0}]
[null,null,null,null,"その他",null,null,null,{"$f":"OFFSET(【実施期間中】個別事業におけるPDCAシート!$A$8,【実施期間中】個別事業におけるPDCAシート!$A$54,MATCH($C838,【実施期間中】個別事業におけるPDCAシート!$H$6:$V$6,0)+6)","v":0}]
[null,null,"目標アウトカム\n（想定及び実績）\n※記載は任意",null,"計画",null,null,null,{"$f":"OFFSET(【実施期間中】個別事業におけるPDCAシート!$A$8,【実施期間中】個別事業におけるPDCAシート!$A$55,MATCH($C838,【実施期間中】個別事業におけるPDCAシート!$H$6:$V$6,0)+6)","v":""}]
[null,null,null,null,"実績",null,null,null,{"$f":"OFFSET(【実施期間中】個別事業におけるPDCAシート!$A$8,【実施期間中】個別事業におけるPDCAシート!$A$56,MATCH($C838,【実施期間中】個別事業におけるPDCAシート!$H$6:$V$6,0)+6)","v":0}]
[null,null,"エネルギー起源CO2排出\n削減量（想定及び実績）",null,"計画",null,null,null,{"$f":"別紙１_実施計画書!I754","v":0},null,null,null,null,null,"（t-CO2）"]
[null,null,null,null,"計画値\n測定方法\n（計算式、\n根拠資料等）",null,null,null,{"$f":"IF(別紙１_実施計画書!I755=0,\"\",(別紙１_実施計画書!I755))","v":""}]
[]
[]
[]
[null,null,null,null,"実績",null,null,null,{"$f":"OFFSET(【実施期間中】個別事業におけるPDCAシート!$A$8,【実施期間中】個別事業におけるPDCAシート!$A$120,MATCH($C838,【実施期間中】個別事業におけるPDCAシート!$H$6:$V$6,0)+6)","v":0},null,null,null,null,null,"（t-CO2）"]
[null,null,null,null,"計画値\n測定方法\n（計算式、\n根拠資料等）"]
[]
[]
[]
[null,null,"賛同数（想定及び実績）",null,"計画値",null,null,null,"団体",null,{"$f":"OFFSET(【実施期間中】個別事業におけるPDCAシート!$A$8,【実施期間中】個別事業におけるPDCAシート!$A$58,MATCH($C838,【実施期間中】個別事業におけるPDCAシート!$H$6:$V$6,0)+6)","v":0},null,null,null,null,"、個人",null,{"$f":"OFFSET(【実施期間中】個別事業におけるPDCAシート!$A$8,【実施期間中】個別事業におけるPDCAシート!$A$61,MATCH($C838,【実施期間中】個別事業におけるPDCAシート!$H$6:$V$6,0)+6)","v":0}]
[null,null,null,null,"実績値",null,null,null,"団体",null,{"$f":"OFFSET(【実施期間中】個別事業におけるPDCAシート!$A$8,【実施期間中】個別事業におけるPDCAシート!$A$59,MATCH($C838,【実施期間中】個別事業におけるPDCAシート!$H$6:$V$6,0)+6)","v":0},null,null,null,null,"、個人",null,{"$f":"OFFSET(【実施期間中】個別事業におけるPDCAシート!$A$8,【実施期間中】個別事業におけるPDCAシート!$A$62,MATCH($C838,【実施期間中】個別事業におけるPDCAシート!$H$6:$V$6,0)+6)","v":0}]
[null,null,"効果検証\n（アンケート）",null,"※アンケートの実施予定をプルダウンより選択してください。"]
[null,null,null,null,"公募要領に規定のアンケート"]
[null,null,null,null,"省エネ機器",null,null,"省エネ住宅",null,null,"エコカー",null,null,"クールビズ",null,null,"ウォームビズ",null,null,"照明の\n効率的利用",null,null,"ｴｺﾄﾞﾗｲﾌﾞ",null,null,"カーシェア"]
[null,null,null,null,"- 選択 -",null,null,"- 選択 -",null,null,"- 選択 -",null,null,"- 選択 -",null,null,"- 選択 -",null,null,"- 選択 -",null,null,"- 選択 -",null,null,"- 選択 -"]
[null,null,null,null,"公募要領に規定のアンケート",null,null,null,null,null,null,null,null,null,null,null,"貴事業者独自のアンケート"]
[null,null,null,null,"ｽﾏｰﾄﾑｰﾌﾞ",null,null,"低炭素物流",null,null,"再エネ",null,null,"食品ロス"]
[null,null,null,null,"- 選択 -",null,null,"- 選択 -",null,null,"- 選択 -",null,null,"- 選択 -",null,null,"- 選択 -"]
[null,null,null,null,"内容（",null,null,null,null,null,null,null,null,null,null,null,null,null,null,null,null,null,null,null,null,null,null,"）"]
[null,null,null,null,"昨年度実績",null,null,null,"計",{"$f":"OFFSET(【実施期間中】個別事業におけるPDCAシート!$A$8,【実施期間中】個別事業におけるPDCAシート!$A$77,MATCH($C838,【実施期間中】個別事業におけるPDCAシート!$H$6:$V$6,0)+6)","v":0},null,null,"枚",null,"※複数ある場合は、アンケート合計回収数"]
[null,null,null,null,"回収数",null,null,null,"計",{"$f":"OFFSET(【実施期間中】個別事業におけるPDCAシート!$A$8,【実施期間中】個別事業におけるPDCAシート!$A$79,MATCH($C838,【実施期間中】個別事業におけるPDCAシート!$H$6:$V$6,0)+6)","v":0},null,null,"枚",null,"※複数ある場合は、アンケート合計回収数"]
[]
[null,null,"項目",null,"内容"]
[null,null,"事業15","事業名",{"$f":"OFFSET(【実施期間中】個別事業におけるPDCAシート!$A$8,,MATCH(C899,【実施期間中】個別事業におけるPDCAシート!$H$6:$V$6,0)+6)","v":""}]
[null,null,"普及啓発テーマ",null,"※該当する普及啓発テーマすべてをチェックしてください。"]
[null,null,null,null,"①",null,"②",null,"③",null,"④",null,"⑤",null,"⑥",null,"⑦",null,"⑧",null,"⑨",null,"⑩",null,"⑪",null,"⑫",null,null,null,"①","②","③","④","⑤","⑥","⑦","⑧","⑨","⑩","⑪","⑫","⑬",null,null,null,null,null,null,null,null,null,null,null,null,null,"a)","b)","c)","d)"]
[null,null,null,null,"省ｴﾈ機器",null,"省ｴﾈ住宅",null,"ｴｺｶｰ",null,"ｸｰﾙﾋﾞｽﾞ",null,"ｳｫｰﾑﾋﾞｽﾞ",null,"照明の\n高効率利用",null,"ｴｺﾄﾞﾗｲﾌﾞ",null,"ｶｰｼｪｱ",null,"ｽﾏｰﾄﾑｰﾌﾞ",null,"再配達防止",null,"再エネ",null,"食品ロス",null,null,null,"省ｴﾈ機器","省ｴﾈ住宅","ｴｺｶｰ","ｸｰﾙﾋﾞｽﾞ","ｳｫｰﾑﾋﾞｽﾞ","照明の\n高効率利用","ｴｺﾄﾞﾗｲﾌﾞ","ｶｰｼｪｱ","ｽﾏｰﾄﾑｰﾌﾞ","再配達防止","再エネ","食品ロス","その他",null,null,null,null,null,null,null,null,null,null,null,null,null,{"$f":"IF(COUNTIFS(【実施期間中】個別事業におけるPDCAシート!$E$22:$E$25,別紙１_実施報告書!BE901,OFFSET(【実施期間中】個別事業におけるPDCAシート!$F$22,,MATCH(別紙１_実施報告書!$C899,【実施期間中】個別事業におけるPDCAシート!$H$6:$V$6,0)+1,4,1),1),1,0)","v":0},{"$f":"IF(COUNTIFS(【実施期間中】個別事業におけるPDCAシート!$E$22:$E$25,別紙１_実施報告書!BF901,OFFSET(【実施期間中】個別事業におけるPDCAシート!$F$22,,MATCH(別紙１_実施報告書!$C899,【実施期間中】個別事業におけるPDCAシート!$H$6:$V$6,0)+1,4,1),1),1,0)","v":0},{"$f":"IF(COUNTIFS(【実施期間中】個別事業におけるPDCAシート!$E$22:$E$25,別紙１_実施報告書!BG901,OFFSET(【実施期間中】個別事業におけるPDCAシート!$F$22,,MATCH(別紙１_実施報告書!$C899,【実施期間中】個別事業におけるPDCAシート!$H$6:$V$6,0)+1,4,1),1),1,0)","v":0},{"$f":"IF(COUNTIFS(【実施期間中】個別事業におけるPDCAシート!$E$22:$E$25,別紙１_実施報告書!BH901,OFFSET(【実施期間中】個別事業におけるPDCAシート!$F$22,,MATCH(別紙１_実施報告書!$C899,【実施期間中】個別事業におけるPDCAシート!$H$6:$V$6,0)+1,4,1),1),1,0)","v":0},{"$f":"COUNTIFS(BE902:BH902,1)+COUNTIFS(BE902:BH902,\"TRUE\")","v":0}]
[null,null,null,null,null,null,null,null,null,null,null,null,null,null,null,null,null,null,null,null,null,null,null,null,null,null,null,null,null,null,{"$f":"IF(COUNTIFS(【実施期間中】個別事業におけるPDCAシート!$E$9:$E$21,別紙１_実施報告書!AE901,OFFSET(【実施期間中】個別事業におけるPDCAシート!$F$9,,MATCH(別紙１_実施報告書!$C899,【実施期間中】個別事業におけるPDCAシート!$H$6:$V$6,0)+1,13,1),1),1,0)","v":0},{"$f":"IF(COUNTIFS(【実施期間中】個別事業におけるPDCAシート!$E$9:$E$21,別紙１_実施報告書!AF901,OFFSET(【実施期間中】個別事業におけるPDCAシート!$F$9,,MATCH(別紙１_実施報告書!$C899,【実施期間中】個別事業におけるPDCAシート!$H$6:$V$6,0)+1,13,1),1),1,0)","v":0},{"$f":"IF(COUNTIFS(【実施期間中】個別事業におけるPDCAシート!$E$9:$E$21,別紙１_実施報告書!AG901,OFFSET(【実施期間中】個別事業におけるPDCAシート!$F$9,,MATCH(別紙１_実施報告書!$C899,【実施期間中】個別事業におけるPDCAシート!$H$6:$V$6,0)+1,13,1),1),1,0)","v":0},{"$f":"IF(COUNTIFS(【実施期間中】個別事業におけるPDCAシート!$E$9:$E$21,別紙１_実施報告書!AH901,OFFSET(【実施期間中】個別事業におけるPDCAシート!$F$9,,MATCH(別紙１_実施報告書!$C899,【実施期間中】個別事業におけるPDCAシート!$H$6:$V$6,0)+1,13,1),1),1,0)","v":0},{"$f":"IF(COUNTIFS(【実施期間中】個別事業におけるPDCAシート!$E$9:$E$21,別紙１_実施報告書!AI901,OFFSET(【実施期間中】個別事業におけるPDCAシート!$F$9,,MATCH(別紙１_実施報告書!$C899,【実施期間中】個別事業におけるPDCAシート!$H$6:$V$6,0)+1,13,1),1),1,0)","v":0},{"$f":"IF(COUNTIFS(【実施期間中】個別事業におけるPDCAシート!$E$9:$E$21,別紙１_実施報告書!AJ901,OFFSET(【実施期間中】個別事業におけるPDCAシート!$F$9,,MATCH(別紙１_実施報告書!$C899,【実施期間中】個別事業におけるPDCAシート!$H$6:$V$6,0)+1,13,1),1),1,0)","v":0},{"$f":"IF(COUNTIFS(【実施期間中】個別事業におけるPDCAシート!$E$9:$E$21,別紙１_実施報告書!AK901,OFFSET(【実施期間中】個別事業におけるPDCAシート!$F$9,,MATCH(別紙１_実施報告書!$C899,【実施期間中】個別事業におけるPDCAシート!$H$6:$V$6,0)+1,13,1),1),1,0)","v":0},{"$f":"IF(COUNTIFS(【実施期間中】個別事業におけるPDCAシート!$E$9:$E$21,別紙１_実施報告書!AL901,OFFSET(【実施期間中】個別事業におけるPDCAシート!$F$9,,MATCH(別紙１_実施報告書!$C899,【実施期間中】個別事業におけるPDCAシート!$H$6:$V$6,0)+1,13,1),1),1,0)","v":0},{"$f":"IF(COUNTIFS(【実施期間中】個別事業におけるPDCAシート!$E$9:$E$21,別紙１_実施報告書!AM901,OFFSET(【実施期間中】個別事業におけるPDCAシート!$F$9,,MATCH(別紙１_実施報告書!$C899,【実施期間中】個別事業におけるPDCAシート!$H$6:$V$6,0)+1,13,1),1),1,0)","v":0},{"$f":"IF(COUNTIFS(【実施期間中】個別事業におけるPDCAシート!$E$9:$E$21,別紙１_実施報告書!AN901,OFFSET(【実施期間中】個別事業におけるPDCAシート!$F$9,,MATCH(別紙１_実施報告書!$C899,【実施期間中】個別事業におけるPDCAシート!$H$6:$V$6,0)+1,13,1),1),1,0)","v":0},{"$f":"IF(COUNTIFS(【実施期間中】個別事業におけるPDCAシート!$E$9:$E$21,別紙１_実施報告書!AO901,OFFSET(【実施期間中】個別事業におけるPDCAシート!$F$9,,MATCH(別紙１_実施報告書!$C899,【実施期間中】個別事業におけるPDCAシート!$H$6:$V$6,0)+1,13,1),1),1,0)","v":0},{"$f":"IF(COUNTIFS(【実施期間中】個別事業におけるPDCAシート!$E$9:$E$21,別紙１_実施報告書!AP901,OFFSET(【実施期間中】個別事業におけるPDCAシート!$F$9,,MATCH(別紙１_実施報告書!$C899,【実施期間中】個別事業におけるPDCAシート!$H$6:$V$6,0)+1,13,1),1),1,0)","v":0},{"$f":"IF(COUNTIFS(【実施期間中】個別事業におけるPDCAシート!$E$9:$E$21,別紙１_実施報告書!AQ901,OFFSET(【実施期間中】個別事業におけるPDCAシート!$F$9,,MATCH(別紙１_実施報告書!$C899,【実施期間中】個別事業におけるPDCAシート!$H$6:$V$6,0)+1,13,1),1),1,0)","v":0},{"$f":"IF(COUNTIFS(【実施期間中】個別事業におけるPDCAシート!$E$9:$E$21,別紙１_実施報告書!AR901,OFFSET(【実施期間中】個別事業におけるPDCAシート!$F$9,,MATCH(別紙１_実施報告書!$C899,【実施期間中】個別事業におけるPDCAシート!$H$6:$V$6,0)+1,13,1),1),1,0)","v":0},{"$f":"IF(COUNTIFS(【実施期間中】個別事業におけるPDCAシート!$E$9:$E$21,別紙１_実施報告書!AS901,OFFSET(【実施期間中】個別事業におけるPDCAシート!$F$9,,MATCH(別紙１_実施報告書!$C899,【実施期間中】個別事業におけるPDCAシート!$H$6:$V$6,0)+1,13,1),1),1,0)","v":0},{"$f":"IF(COUNTIFS(【実施期間中】個別事業におけるPDCAシート!$E$9:$E$21,別紙１_実施報告書!AT901,OFFSET(【実施期間中】個別事業におけるPDCAシート!$F$9,,MATCH(別紙１_実施報告書!$C899,【実施期間中】個別事業におけるPDCAシート!$H$6:$V$6,0)+1,13,1),1),1,0)","v":0},{"$f":"IF(COUNTIFS(【実施期間中】個別事業におけるPDCAシート!$E$9:$E$21,別紙１_実施報告書!AU901,OFFSET(【実施期間中】個別事業におけるPDCAシート!$F$9,,MATCH(別紙１_実施報告書!$C899,【実施期間中】個別事業におけるPDCAシート!$H$6:$V$6,0)+1,13,1),1),1,0)","v":0},{"$f":"IF(COUNTIFS(【実施期間中】個別事業におけるPDCAシート!$E$9:$E$21,別紙１_実施報告書!AV901,OFFSET(【実施期間中】個別事業におけるPDCAシート!$F$9,,MATCH(別紙１_実施報告書!$C899,【実施期間中】個別事業におけるPDCAシート!$H$6:$V$6,0)+1,13,1),1),1,0)","v":0},{"$f":"IF(COUNTIFS(【実施期間中】個別事業におけるPDCAシート!$E$9:$E$21,別紙１_実施報告書!AW901,OFFSET(【実施期間中】個別事業におけるPDCAシート!$F$9,,MATCH(別紙１_実施報告書!$C899,【実施期間中】個別事業におけるPDCAシート!$H$6:$V$6,0)+1,13,1),1),1,0)","v":0},{"$f":"IF(COUNTIFS(【実施期間中】個別事業におけるPDCAシート!$E$9:$E$21,別紙１_実施報告書!AX901,OFFSET(【実施期間中】個別事業におけるPDCAシート!$F$9,,MATCH(別紙１_実施報告書!$C899,【実施期間中】個別事業におけるPDCAシート!$H$6:$V$6,0)+1,13,1),1),1,0)","v":0},{"$f":"IF(COUNTIFS(【実施期間中】個別事業におけるPDCAシート!$E$9:$E$21,別紙１_実施報告書!AY901,OFFSET(【実施期間中】個別事業におけるPDCAシート!$F$9,,MATCH(別紙１_実施報告書!$C899,【実施期間中】個別事業におけるPDCAシート!$H$6:$V$6,0)+1,13,1),1),1,0)","v":0},{"$f":"IF(COUNTIFS(【実施期間中】個別事業におけるPDCAシート!$E$9:$E$21,別紙１_実施報告書!AZ901,OFFSET(【実施期間中】個別事業におけるPDCAシート!$F$9,,MATCH(別紙１_実施報告書!$C899,【実施期間中】個別事業におけるPDCAシート!$H$6:$V$6,0)+1,13,1),1),1,0)","v":0},{"$f":"IF(COUNTIFS(【実施期間中】個別事業におけるPDCAシート!$E$9:$E$21,別紙１_実施報告書!BA901,OFFSET(【実施期間中】個別事業におけるPDCAシート!$F$9,,MATCH(別紙１_実施報告書!$C899,【実施期間中】個別事業におけるPDCAシート!$H$6:$V$6,0)+1,13,1),1),1,0)","v":0},{"$f":"IF(COUNTIFS(【実施期間中】個別事業におけるPDCAシート!$E$9:$E$21,別紙１_実施報告書!BB901,OFFSET(【実施期間中】個別事業におけるPDCAシート!$F$9,,MATCH(別紙１_実施報告書!$C899,【実施期間中】個別事業におけるPDCAシート!$H$6:$V$6,0)+1,13,1),1),1,0)","v":0},{"$f":"COUNTIFS(AE903:BB903,1)+COUNTIFS(AE903:BB903,\"TRUE\")","v":0}]
[null,null,null,null,"⑬",null,"↓ ※①～⑫以外のテーマを設定する場合、具体的に記載してください。"]
[null,null,null,null,"その他"]
[]
[null,null,"訴求手法",null,"※訴求手法については、該当する欄にチェックしてください。"]
[null,null,null,null,"a) 情報発信型（受動型）",null,null,null,null,null,null,null,"b) 情報発信型（能動型）",null,null,null,null,null,null,null,"c) 双方向体験交流型"]
[null,null,null,null,"ラジオ、新聞・広報紙等",null,null,null,null,null,null,null,"講演会・パネル展示等",null,null,null,null,null,null,null,"試乗・体験会、省ｴﾈ診断等"]
[]
[null,null,null,null,"d) 双方向ＷＥＢ等配信型",null,null,null,null,null,null,null,"※d) については使用する媒体等を記載してください。"]
[null,null,null,null,"（新手法）"]
[]
[null,null,"実施期間",null,{"$f":"OFFSET(【実施期間中】個別事業におけるPDCAシート!$A$8,【実施期間中】個別事業におけるPDCAシート!$A$26,MATCH($C899,【実施期間中】個別事業におけるPDCAシート!$H$6:$V$6,0)+6)","v":""},null,null,null,null,null,null,null,null,null,"～",null,null,null,{"$f":"OFFSET(【実施期間中】個別事業におけるPDCAシート!$A$8,【実施期間中】個別事業におけるPDCAシート!$A$28,MATCH($C899,【実施期間中】個別事業におけるPDCAシート!$H$6:$V$6,0)+6)","v":""}]
[null,null,"（備考）",null,{"$f":"OFFSET(【実施期間中】個別事業におけるPDCAシート!$A$8,【実施期間中】個別事業におけるPDCAシート!$A$29,MATCH($C899,【実施期間中】個別事業におけるPDCAシート!$H$6:$V$6,0)+6)","v":""}]
[null,null,"実施日\n（※同一事業内で、\n同一の内容・場所において\n複数日実施する場合）",null,1,null,{"$f":"OFFSET(【実施期間中】個別事業におけるPDCAシート!$A$8,【実施期間中】個別事業におけるPDCAシート!$A$30,MATCH($C899,【実施期間中】個別事業におけるPDCAシート!$H$6:$V$6,0)+6)","v":""},null,null,null,null,null,null,null,null,null,6,null,{"$f":"OFFSET(【実施期間中】個別事業におけるPDCAシート!$A$8,【実施期間中】個別事業におけるPDCAシート!$A$35,MATCH($C899,【実施期間中】個別事業におけるPDCAシート!$H$6:$V$6,0)+6)","v":""}]
[null,null,null,null,2,null,{"$f":"OFFSET(【実施期間中】個別事業におけるPDCAシート!$A$8,【実施期間中】個別事業におけるPDCAシート!$A$31,MATCH($C899,【実施期間中】個別事業におけるPDCAシート!$H$6:$V$6,0)+6)","v":""},null,null,null,null,null,null,null,null,null,7,null,{"$f":"OFFSET(【実施期間中】個別事業におけるPDCAシート!$A$8,【実施期間中】個別事業におけるPDCAシート!$A$36,MATCH($C899,【実施期間中】個別事業におけるPDCAシート!$H$6:$V$6,0)+6)","v":""}]
[null,null,null,null,3,null,{"$f":"OFFSET(【実施期間中】個別事業におけるPDCAシート!$A$8,【実施期間中】個別事業におけるPDCAシート!$A$32,MATCH($C899,【実施期間中】個別事業におけるPDCAシート!$H$6:$V$6,0)+6)","v":""},null,null,null,null,null,null,null,null,null,8,null,{"$f":"OFFSET(【実施期間中】個別事業におけるPDCAシート!$A$8,【実施期間中】個別事業におけるPDCAシート!$A$37,MATCH($C899,【実施期間中】個別事業におけるPDCAシート!$H$6:$V$6,0)+6)","v":""}]
[null,null,null,null,4,null,{"$f":"OFFSET(【実施期間中】個別事業におけるPDCAシート!$A$8,【実施期間中】個別事業におけるPDCAシート!$A$33,MATCH($C899,【実施期間中】個別事業におけるPDCAシート!$H$6:$V$6,0)+6)","v":""},null,null,null,null,null,null,null,null,null,9,null,{"$f":"OFFSET(【実施期間中】個別事業におけるPDCAシート!$A$8,【実施期間中】個別事業におけるPDCAシート!$A$38,MATCH($C899,【実施期間中】個別事業におけるPDCAシート!$H$6:$V$6,0)+6)","v":""}]
[null,null,null,null,5,null,{"$f":"OFFSET(【実施期間中】個別事業におけるPDCAシート!$A$8,【実施期間中】個別事業におけるPDCAシート!$A$34,MATCH($C899,【実施期間中】個別事業におけるPDCAシート!$H$6:$V$6,0)+6)","v":""},null,null,null,null,null,null,null,null,null,10,null,{"$f":"OFFSET(【実施期間中】個別事業におけるPDCAシート!$A$8,【実施期間中】個別事業におけるPDCAシート!$A$39,MATCH($C899,【実施期間中】個別事業におけるPDCAシート!$H$6:$V$6,0)+6)","v":""}]
[null,null,"事業の概要",null,{"$f":"OFFSET(【実施期間中】個別事業におけるPDCAシート!$A$8,【実施期間中】個別事業におけるPDCAシート!$A$40,MATCH($C899,【実施期間中】個別事業におけるPDCAシート!$H$6:$V$6,0)+6)","v":""}]
[null,null,"地域団体との連携",null,{"$f":"別紙１_実施計画書!E796","v":0}]
[null,null,"実施結果",null,{"$f":"OFFSET(【実施期間中】個別事業におけるPDCAシート!$A$8,【実施期間中】個別事業におけるPDCAシート!$A$46,MATCH($C899,【実施期間中】個別事業におけるPDCAシート!$H$6:$V$6,0)+6)","v":0}]
[]
[null,null,"主な訴求対象","計画",{"$f":"OFFSET(【実施期間中】個別事業におけるPDCAシート!$A$8,【実施期間中】個別事業におけるPDCAシート!$A$41,MATCH($C899,【実施期間中】個別事業におけるPDCAシート!$H$6:$V$6,0)+6)","v":""}]
[null,null,null,"結果",{"$f":"OFFSET(【実施期間中】個別事業におけるPDCAシート!$A$8,【実施期間中】個別事業におけるPDCAシート!$A$42,MATCH($C899,【実施期間中】個別事業におけるPDCAシート!$H$6:$V$6,0)+6)","v":0}]
[null,null,"目標アウトプット\n（リーチ数）\n（想定及び実績）",null,"昨年度実績",null,null,null,"計",null,{"$f":"OFFSET(【実施期間中】個別事業におけるPDCAシート!$A$8,【実施期間中】個別事業におけるPDCAシート!$A$47,MATCH($C899,【実施期間中】個別事業におけるPDCAシート!$H$6:$V$6,0)+6)","v":0}]
[null,null,null,null,"昨年度実績算出根拠",null,null,null,{"$f":"OFFSET(【実施期間中】個別事業におけるPDCAシート!$A$8,【実施期間中】個別事業におけるPDCAシート!$A$48,MATCH($C899,【実施期間中】個別事業におけるPDCAシート!$H$6:$V$6,0)+6)","v":""}]
[null,null,null,null,"想定",null,null,null,"計",null,{"$f":"OFFSET(【実施期間中】個別事業におけるPDCAシート!$A$8,【実施期間中】個別事業におけるPDCAシート!$A$49,MATCH($C899,【実施期間中】個別事業におけるPDCAシート!$H$6:$V$6,0)+6)","v":0}]
[null,null,null,null,"算出方法",null,null,null,{"$f":"OFFSET(【実施期間中】個別事業におけるPDCAシート!$A$8,【実施期間中】個別事業におけるPDCAシート!$A$50,MATCH($C899,【実施期間中】個別事業におけるPDCAシート!$H$6:$V$6,0)+6)","v":""}]
[null,null,null,null,"実績値",null,null,null,"計",null,{"$f":"SUM(OFFSET(【実施期間中】個別事業におけるPDCAシート!$A$8,【実施期間中】個別事業におけるPDCAシート!$A$51,MATCH($C899,【実施期間中】個別事業におけるPDCAシート!$H$6:$V$6,0)+6):OFFSET(【実施期間中】個別事業におけるPDCAシート!$A$8,【実施期間中】個別事業におけるPDCAシート!$A$52,MATCH($C899,【実施期間中】個別事業におけるPDCAシート!$H$6:$V$6,0)+6))","v":0}]
[null,null,null,null,"実績値算出根拠",null,null,null,{"$f":"OFFSET(【実施期間中】個別事業におけるPDCAシート!$A$8,【実施期間中】個別事業におけるPDCAシート!$A$53,MATCH($C899,【実施期間中】個別事業におけるPDCAシート!$H$6:$V$6,0)+6)","v":0}]
[null,null,null,null,"その他",null,null,null,{"$f":"OFFSET(【実施期間中】個別事業におけるPDCAシート!$A$8,【実施期間中】個別事業におけるPDCAシート!$A$54,MATCH($C899,【実施期間中】個別事業におけるPDCAシート!$H$6:$V$6,0)+6)","v":0}]
[null,null,"目標アウトカム\n（想定及び実績）\n※記載は任意",null,"計画",null,null,null,{"$f":"OFFSET(【実施期間中】個別事業におけるPDCAシート!$A$8,【実施期間中】個別事業におけるPDCAシート!$A$55,MATCH($C899,【実施期間中】個別事業におけるPDCAシート!$H$6:$V$6,0)+6)","v":""}]
[null,null,null,null,"実績",null,null,null,{"$f":"OFFSET(【実施期間中】個別事業におけるPDCAシート!$A$8,【実施期間中】個別事業におけるPDCAシート!$A$56,MATCH($C899,【実施期間中】個別事業におけるPDCAシート!$H$6:$V$6,0)+6)","v":0}]
[null,null,"エネルギー起源CO2排出\n削減量（想定及び実績）",null,"計画",null,null,null,{"$f":"別紙１_実施計画書!I806","v":0},null,null,null,null,null,"（t-CO2）"]
[null,null,null,null,"計画値\n測定方法\n（計算式、\n根拠資料等）",null,null,null,{"$f":"IF(別紙１_実施計画書!I807=0,\"\",(別紙１_実施計画書!I807))","v":""}]
[]
[]
[]
[null,null,null,null,"実績",null,null,null,{"$f":"OFFSET(【実施期間中】個別事業におけるPDCAシート!$A$8,【実施期間中】個別事業におけるPDCAシート!$A$120,MATCH($C899,【実施期間中】個別事業におけるPDCAシート!$H$6:$V$6,0)+6)","v":0},null,null,null,null,null,"（t-CO2）"]
[null,null,null,null,"計画値\n測定方法\n（計算式、\n根拠資料等）"]
[]
[]
[]
[null,null,"賛同数（想定及び実績）",null,"計画値",null,null,null,"団体",null,{"$f":"OFFSET(【実施期間中】個別事業におけるPDCAシート!$A$8,【実施期間中】個別事業におけるPDCAシート!$A$58,MATCH($C899,【実施期間中】個別事業におけるPDCAシート!$H$6:$V$6,0)+6)","v":0},null,null,null,null,"、個人",null,{"$f":"OFFSET(【実施期間中】個別事業におけるPDCAシート!$A$8,【実施期間中】個別事業におけるPDCAシート!$A$61,MATCH($C899,【実施期間中】個別事業におけるPDCAシート!$H$6:$V$6,0)+6)","v":0}]
[null,null,null,null,"実績値",null,null,null,"団体",null,{"$f":"OFFSET(【実施期間中】個別事業におけるPDCAシート!$A$8,【実施期間中】個別事業におけるPDCAシート!$A$59,MATCH($C899,【実施期間中】個別事業におけるPDCAシート!$H$6:$V$6,0)+6)","v":0},null,null,null,null,"、個人",null,{"$f":"OFFSET(【実施期間中】個別事業におけるPDCAシート!$A$8,【実施期間中】個別事業におけるPDCAシート!$A$62,MATCH($C899,【実施期間中】個別事業におけるPDCAシート!$H$6:$V$6,0)+6)","v":0}]
[null,null,"効果検証\n（アンケート）",null,"※アンケートの実施予定をプルダウンより選択してください。"]
[null,null,null,null,"公募要領に規定のアンケート"]
[null,null,null,null,"省エネ機器",null,null,"省エネ住宅",null,null,"エコカー",null,null,"クールビズ",null,null,"ウォームビズ",null,null,"照明の\n効率的利用",null,null,"ｴｺﾄﾞﾗｲﾌﾞ",null,null,"カーシェア"]
[null,null,null,null,"- 選択 -",null,null,"- 選択 -",null,null,"- 選択 -",null,null,"- 選択 -",null,null,"- 選択 -",null,null,"- 選択 -",null,null,"- 選択 -",null,null,"- 選択 -"]
[null,null,null,null,"公募要領に規定のアンケート",null,null,null,null,null,null,null,null,null,null,null,"貴事業者独自のアンケート"]
[null,null,null,null,"ｽﾏｰﾄﾑｰﾌﾞ",null,null,"低炭素物流",null,null,"再エネ",null,null,"食品ロス"]
[null,null,null,null,"- 選択 -",null,null,"- 選択 -",null,null,"- 選択 -",null,null,"- 選択 -",null,null,"- 選択 -"]
[null,null,null,null,"内容（",null,null,null,null,null,null,null,null,null,null,null,null,null,null,null,null,null,null,null,null,null,null,"）"]
[null,null,null,null,"昨年度実績",null,null,null,"計",{"$f":"OFFSET(【実施期間中】個別事業におけるPDCAシート!$A$8,【実施期間中】個別事業におけるPDCAシート!$A$77,MATCH($C899,【実施期間中】個別事業におけるPDCAシート!$H$6:$V$6,0)+6)","v":0},null,null,"枚",null,"※複数ある場合は、アンケート合計回収数"]
[null,null,null,null,"回収数",null,null,null,"計",{"$f":"OFFSET(【実施期間中】個別事業におけるPDCAシート!$A$8,【実施期間中】個別事業におけるPDCAシート!$A$79,MATCH($C899,【実施期間中】個別事業におけるPDCAシート!$H$6:$V$6,0)+6)","v":0},null,null,"枚",null,"※複数ある場合は、アンケート合計回収数"]
[]
[null,"＜事業の効果＞"]
[null,"※事業の効果として、目標に対する結果及びその算出方法や実施方法等を示す。"]
[]
[null,"【事業の効果と目標】"]
[null,null,"A) エネルギー起源CO2排出削減量："]
[null,null,"①～⑤エネルギー起源CO2排出削減量","目標",null,null,{"$f":"$G$966+$G$968","v":0},null,null,null,"（t-CO2）"]
[null,null,null,"実績値（効果）",null,null,{"$f":"$G$967+$G$969","v":0},null,null,null,"（t-CO2）"]
[null,null,"エネルギー起源CO2排出削減量","目標",null,null,{"$f":"SUM($I$82,$I$143,$I$204,$I$265,$I$326,$I$387,$I$448,$I$509,$I$570,$I$631,$I$692,$I$753,$I$814,$I$875,$I$936)","v":0},null,null,null,"（t-CO2）"]
[null,null,null,"実績値（効果）",null,null,{"$f":"SUM($I$87,$I$148,$I$209,$I$270,$I$331,$I$392,$I$453,$I$514,$I$575,$I$636,$I$697,$I$758,$I$819,$I$880,$I$941)","v":0},null,null,null,"（t-CO2）"]
[null,null,"②～⑤エネルギー起源CO2排出削減量","目標",null,null,{"$f":"別紙１_実施計画書!G863","v":0},null,null,null,"（t-CO2）"]
[null,null,null,"実績値（効果）",null,null,null,null,null,null,"（t-CO2）"]
[null,null,"測定方法（計算式、根拠資料等）"]
[]
[]
[]
[]
[]
[null,null,"※CO2排出削減量を、どの業務（②～⑤）でどのような方法により算出したかを記入する。"]
[]
[null,null,"B) 事業全体におけるCOOL CHOICE賛同数："]
[null,null,"賛同団体","目標",null,null,{"$f":"別紙１_実施計画書!G873","v":0},null,null,null,"（社）"]
[null,null,null,"実績値（効果）",null,null,{"$f":"SUM(K93,K154,K215,K276,K337,K398,K459,K520,K581,K642,K703,K764,K825,K886,K947)","v":0},null,null,null,"（社）"]
[null,null,"賛同者数（個人）","目標",null,null,{"$f":"別紙１_実施計画書!G874","v":0},null,null,null,"（人）"]
[null,null,null,"実績値（効果）",null,null,{"$f":"SUM(R93,R154,R215,R276,R337,R398,R459,R520,R581,R642,R703,R764,R825,R886,R947)","v":0},null,null,null,"（人）"]
[null,null,"測定方法（計算式、根拠資料等）"]
[]
[]
[]
[]
[]
[]
[null,null,"B) 事業全体における普及啓発の規模（リーチ数）："]
[null,null,"規模\n(ﾘｰﾁ数)","目標",null,null,{"$f":"別紙１_実施計画書!G883","v":0},null,null,null,"（人）"]
[null,null,null,"実績値（効果）",null,null,{"$f":"SUM($K$77,$K$138,$K$199,$K$260,$K$321,$K$382,$K$443,$K$504,$K$565,$K$626,$K$687,$K$748,$K$809,$K$870,$K$931)","v":0},null,null,null,"（人）"]
[null,null,"ｱﾝｹｰﾄ\n回収数","目標",null,null,{"$f":"別紙１_実施計画書!G884","v":0}]
[null,null,null,"実績値（効果）",null,null,{"$f":"SUM(J103,J164,J225,J286,J347,J408,J469,J530,J591,J652,J713,J774,J835,J896,J957)","v":0}]
[null,null,"測定方法（計算式、根拠資料等）"]
[]
[]
[]
[]
[]
[]
[null,"＜市町村長の取組宣言等＞、＜事業の実施体制＞、＜事業実施に関連する事項＞"]
[null,"※交付申請書の＜市町村長の取組宣言等＞、＜事業の実施体制＞、＜事業実施に関連する事項＞の記入内容に変更がない場合は、「交付申請書のとおり」と記入し、変更がある場合は、変更の内容を記入すること。"]
[]
[]
[]
[]
[]
[]
[null,"＜事業実施スケジュール＞"]
[null,"※事業の実施スケジュール（実績）を記入する。"]
[null,"※実施スケジュール（実績）は別紙を添付してもよい。"]
[]
[]
[]
[]
[]
[]
[null,null,"注１　本報告書に、二酸化炭素排出抑制対策事業費等補助金（地域における地球温暖化防止活動促進\n　　　事業）交付申請書に添付した書類に変更がある場合、変更後の書類を添付する。"]
[]
[null,null,"注２　記入欄が少ない場合は、本様式を引き伸ばして使用する。"]

{"sheet":"別紙２_経費所要額精算調書","index":13,"n_rows":44,"n_cols":32,"rows_kept":44,"cut":false,"hidden":true,"merged":[[3,1,3,25],[1,1,1,25],[2,1,2,25],[18,9,18,13],[18,14,18,25],[13,1,13,25],[14,1,14,8],[14,9,14,13],[14,14,14,25],[15,9,15,13],[15,14,15,25],[16,9,16,13],[16,14,16,25],[17,9,17,13],[17,14,17,25],[6,1,7,5],[19,14,19,25],[9,16,10,20],[9,21,10,25],[10,6,10,10],[24,14,24,25],[23,14,23,25],[22,14,22,25],[21,14,21,25],[22,9,22,13],[23,9,23,13],[24,9,24,13],[19,9,19,13],[20,9,20,13],[21,9,21,13],[20,14,20,25],[43,1,43,25],[35,9,35,13],[35,14,35,25],[36,9,36,13],[36,14,36,25],[37,9,37,13],[37,14,37,25],[42,1,42,8],[42,9,42,13],[42,14,42,25],[38,9,38,13],[38,14,38,25],[39,9,39,13],[41,9,41,13],[41,14,41,25],[40,9,40,13],[6,16,7,20],[6,21,7,25],[8,1,8,5],[8,6,8,10],[8,11,8,15],[8,21,8,25],[8,16,8,20],[6,6,7,10],[6,11,7,15],[11,1,11,5],[11,6,11,10],[11,11,11,15],[11,16,11,20],[11,21,11,25],[10,1,10,5],[9,1,9,5],[9,6,9,10],[9,11,9,15],[10,11,10,15],[28,14,28,25],[27,14,27,25],[26,14,26,25],[25,14,25,25],[28,9,28,13],[25,9,25,13],[26,9,26,13],[27,9,27,13],[39,14,39,25],[40,14,40,25],[34,14,34,25],[29,14,29,25],[30,9,30,13],[30,14,30,25],[31,9,31,13],[31,14,31,25],[32,9,32,13],[32,14,32,25],[33,9,33,13],[33,14,33,25],[29,9,29,13],[34,9,34,13]]}
[]
[null,"別紙２"]
[null,"地方と連携した地球温暖化対策活動推進事業に要する経費所要額精算調書"]
[null,"(地方公共団体と連携したCO2排出削減促進事業)"]
[]
[null,"１．経費実績額"]
[null,"(1)総事業費",null,null,null,null,"(2)寄付金その他の収入",null,null,null,null,"(3)差引額\n(1)－(2)",null,null,null,null,"(4)補助対象経費実支出額",null,null,null,null,"(5)基準額"]
[]
[null,0,null,null,null,null,0,null,null,null,null,{"$f":"B9-G9","v":0},null,null,null,null,0,null,null,null,null,{"$f":"IF(AB12=4,5000000,8000000)","v":8000000}]
[null,"(6)選定額",null,null,null,null,"(7)補助基本額",null,null,null,null,"(8)補助金所要額",null,null,null,null,"(9)補助金交付決定額",null,null,null,null,"(10)過不足額\n(9)－(8)"]
[null,"(4)と(5)を比較して少ない方の額",null,null,null,null,"(3)と(6)を比較して少ない方の額",null,null,null,null,"(7)の額×補助率\n(千円未満切捨)",null,null,null,null,null,null,null,null,null,null,null,null,null,null,null,"申請者種別"]
[null,{"$f":"IF(Q9>V9,V9,Q9)","v":0},null,null,null,null,{"$f":"IF(L9>B12,B12,L9)","v":0},null,null,null,null,{"$f":"ROUNDDOWN(G12*IF(OR(AB12=4,AB12=5),1,0.75),-3)","v":0},null,null,null,null,0,null,null,null,null,{"$f":"Q12-L12","v":0},null,null,null,null,null,{"$f":"様式第１_応募申請書!AA35","v":5}]
[null,null,null,null,null,null,null,null,null,null,null,null,null,null,null,null,null,null,null,null,null,null,null,null,null,null,null,"番号","区分","分類","補助率","基準額"]
[null,"２．補助対象経費実支出額内訳",null,null,null,null,null,null,null,null,null,null,null,null,null,null,null,null,null,null,null,null,null,null,null,null,null,1,"政令指定都市","ア",0.75,"800万円"]
[null,"経費区分・費目",null,null,null,null,null,null,null,"金　　額",null,null,null,null,"積　　算　　内　　訳",null,null,null,null,null,null,null,null,null,null,null,null,2,"特別区","ア",0.75,"800万円"]
[null,"＜通常事業経費＞",null,null,null,null,null,null,null,null,null,null,null,null,null,null,null,null,null,null,null,null,null,null,null,null,null,3,"中核市","ア",0.75,"800万円"]
[null,"（記載例）",null,null,null,null,null,null,null,null,null,null,null,null,null,null,null,null,null,null,null,null,null,null,null,null,null,4,"ア以外の市町村","イ","定額","500万円"]
[null,"人件費",null,null,null,null,null,null,null,0,null,null,null,null,null,null,null,null,null,null,null,null,null,null,null,null,null,5,"民間企業・団体","ウ","定額","800万円"]
[]
[null,"業務費"]
[null,null,"・賃金",null,null,null,null,null,null,0]
[null,null,"・諸謝金",null,null,null,null,null,null,0]
[null,null,"・旅費",null,null,null,null,null,null,0]
[]
[]
[]
[]
[]
[]
[]
[]
[]
[]
[]
[]
[]
[]
[]
[]
[null,null,null," "]
[]
[null,null,null," "]
[null,"合　　計",null,null,null,null,null,null,null,{"$f":"SUBTOTAL(9,J16:N42)","v":0}]
[null,"注　本調書に、請求書、領収書又は計算書等を添付する。"]

{"sheet":"PDCAシート様式⇒","index":14,"n_rows":0,"n_cols":0,"rows_kept":0,"cut":false,"hidden":true,"merged":[]}

{"sheet":"手順書","index":15,"n_rows":40,"n_cols":28,"rows_kept":40,"cut":false,"hidden":true,"merged":[[39,26,39,29],[36,4,37,29],[38,4,38,29],[9,4,11,29],[14,4,14,29],[16,11,16,26],[21,3,21,10],[27,4,28,29],[31,4,34,29],[17,11,17,26],[18,11,18,26],[19,11,19,26],[20,11,20,26],[21,11,21,26],[19,3,19,4],[19,27,19,30],[20,3,20,4],[24,4,24,29],[22,11,22,26],[22,2,22,10],[21,27,21,30],[22,27,22,30],[5,6,6,26],[16,27,16,30],[17,27,17,30],[18,27,18,30],[20,27,20,30]]}
[]
[]
[]
[]
[]
[null,null,null,null,null,null,"PDCAシート（手順書）"]
[]
[]
[null,null,"■","PDCAシートの目的"]
[null,null,null,"・","地域普及啓発事業における事業全体及び個別事業の事業概要やKPI（数値データ）を集計することで、地域普及啓発事業の成果を定量的に算定することを目的とする。"]
[]
[]
[]
[null,null,"■","本資料の構成"]
[null,null,null,"・","本資料の構成は以下のとおり。"]
[null,null,null,null,null,null,null,null,null,null,null," "]
[null,null,null,null,null,null,null,null,null,null,null,"概要",null,null,null,null,null,null,null,null,null,null,null,null,null,null,null,"提出時期"]
[null,null,1,"PDCAシート手順書",null,null,null,null,null,null,null,"・PDCAシートの使用方法を説明したもの",null,null,null,null,null,null,null,null,null,null,null,null,null,null,null,"-"]
[null,null,2,"事業全体の概要",null,null,null,null,null,null,null,"・事業全体で管理すべき事業内容をまとめたもの",null,null,null,null,null,null,null,null,null,null,null,null,null,null,null,"-"]
[null,null,null,"2-1",null,"事業開始当初記入",null,null,null,null,null,"・事業開始当初に実施する普及啓発テーマや費用、KPIを記入",null,null,null,null,null,null,null,null,null,null,null,null,null,null,null,"採択後補助事業開始まで"]
[null,null,null,"2-2",null,"事業終了時記入",null,null,null,null,null,"・事業終了時に費用、KPIの実績値を記入するとともに、地域普及啓発事業の振り返りを記入",null,null,null,null,null,null,null,null,null,null,null,null,null,null,null,"事業実施報告書提出時まで"]
[null,null,3,"個別事業におけるPDCAシート",null,null,null,null,null,null,null,"・個別事業の事業概要や費用、KPI等をそれぞれ記入",null,null,null,null,null,null,null,null,null,null,null,null,null,null,null,"事業開始後、8月、11月、2月に提出"]
[null,null,"（参考）\n普及啓発テーマ・訴求手法",null,null,null,null,null,null,null,null,"・普及啓発テーマ、訴求手法の一覧",null,null,null,null,null,null,null,null,null,null,null,null,null,null,null,"-"]
[]
[]
[null,null,"■","PDCAシートの使用方法"]
[null,null,null,"＜事業開始時＞"]
[null,null,null,"・","補助金交付申請書の内容に基づき、当年度の地域普及啓発事業で実施する普及啓発テーマ、\n補助金所要額、KPI（賛同数、普及啓発人数、アンケート回収数）を記入"]
[]
[null,null,null,"＜補助金事業実施中（個別事業終了時）＞"]
[null,null,null,"（8月：計画内容（確定した日時の追記等）や実施結果の更新、11月、2月：実施結果の更新）"]
[null,null,null,"・","個別事業がそれぞれ終了した時点で、各事業の内容、実績値を整理する\n-事業概要（事業名、普及啓発テーマ、訴求手法、事業実施時期、事業概要、普及啓発対象）\n-KPI（賛同数、普及啓発人数、アンケート回収数）\n-事業実施に要した費用実績"]
[]
[]
[]
[null,null,null,"＜事業終了時＞"]
[null,null,null,"・","当年度すべての地域普及啓発事業が終了した時点で、事業全体の補助金使用額実績値、KPI\n実績値（賛同数、普及啓発人数、アンケート回収数）を記入"]
[]
[]
[null,null,null,null,null,null,null,null,null,null,null,null,null,null,null,null,null,null,null,null,null,null,null,null,null,null,"以上"]

{"sheet":"【事業開始時】事業全体","index":16,"n_rows":36,"n_cols":18,"rows_kept":36,"cut":false,"hidden":true,"merged":[[16,5,16,12],[17,5,17,12],[18,5,18,12],[19,5,19,12],[20,5,20,12],[12,5,12,12],[13,5,13,12],[14,5,14,12],[15,5,15,12],[7,5,7,9],[24,8,24,17],[19,3,19,4],[23,2,27,4],[26,5,26,7],[27,5,27,7],[20,3,20,4],[23,8,23,17],[28,2,35,4],[28,5,35,7],[2,5,2,17],[16,3,16,4],[10,2,10,4],[15,3,15,4],[13,2,13,4],[25,5,25,7],[2,1,2,4],[23,5,23,7],[24,5,24,7],[34,8,34,17],[35,8,35,17],[30,8,30,17],[31,8,31,17],[32,8,32,17],[33,8,33,17],[28,8,28,17],[29,8,29,17],[25,8,25,17],[26,8,26,17],[27,8,27,17]]}
[]
[null,"都道府県",null,null,null,"事業者名"]
[null,null,null,null,null,{"$f":"別紙１_実施計画書!E9","v":""}]
[]
[null,"＜事業開始当初＞"]
[]
[null,"事業計画報告"]
[null,null,null,null,null,"購買選好の変化",null,null,null,null,"価値観の変化"]
[null,null,null,null,null,"省エネ家電","省エネ住宅","エコカー","照明","再エネ","クールビズ","ウォームビズ","エコドライブ","カーシェア","低炭素物流","ｽﾏｰﾄﾑｰﾌﾞ","食品ロス","その他"]
[null,null,null,null,null,"①","②","③","④","⑤","⑥","⑦","⑧","⑨","⑩","⑪","⑫","⑬"]
[null,null,"通常事業\n（実施するテーマについて○をつける）",null,null,{"$f":"IF(別紙１_実施計画書!AE32>0,\"○\",\"－\")","v":"－"},{"$f":"IF(別紙１_実施計画書!AF32>0,\"○\",\"－\")","v":"－"},{"$f":"IF(別紙１_実施計画書!AG32>0,\"○\",\"－\")","v":"－"},{"$f":"IF(別紙１_実施計画書!AJ32>0,\"○\",\"－\")","v":"－"},{"$f":"IF(別紙１_実施計画書!AO32>0,\"○\",\"－\")","v":"－"},{"$f":"IF(別紙１_実施計画書!AH32>0,\"○\",\"－\")","v":"－"},{"$f":"IF(別紙１_実施計画書!AI32>0,\"○\",\"－\")","v":"－"},{"$f":"IF(別紙１_実施計画書!AK32>0,\"○\",\"－\")","v":"－"},{"$f":"IF(別紙１_実施計画書!AL32>0,\"○\",\"－\")","v":"－"},{"$f":"IF(別紙１_実施計画書!AN32>0,\"○\",\"－\")","v":"－"},{"$f":"IF(別紙１_実施計画書!AM32>0,\"○\",\"－\")","v":"－"},{"$f":"IF(別紙１_実施計画書!AP32>0,\"○\",\"－\")","v":"－"},{"$f":"IF(別紙１_実施計画書!AQ32>0,\"○\",\"－\")","v":"－"}]
[]
[null,null,null,null,null,"計画値"]
[null,null,"補助金所要額（円）",null,null,{"$f":"別紙２_経費内訳!I40","v":0}]
[null,null,"KPI"]
[null,null,null,"普及啓発人数（リーチ数）",null,{"$f":"別紙１_実施計画書!$G$883","v":0}]
[null,null,null,"賛同数",null,"-"]
[null,null,null,null,"団体賛同数",{"$f":"別紙１_実施計画書!$G$873","v":0}]
[null,null,null,null,"個人賛同数",{"$f":"別紙１_実施計画書!$G$874","v":0},null,null,null,null,null,null,null,null,null,null,{"$f":"COUNTIFS($AD19:$AF19,\"TRUE\")","v":0}]
[null,null,null,"アンケート回収数",null,{"$f":"別紙１_実施計画書!$G$884","v":0}]
[null,null,null,"CO2排出削減効果",null,{"$f":"別紙１_実施計画書!$G$861","v":0}]
[]
[null,null,"（参考）普及啓発テーマ一覧"]
[null,null,"購買選好の変化",null,null,"省エネ家電買換え",null,null,"省エネ機器の買換え促進"]
[null,null,null,null,null,"省エネ住宅購入",null,null,"省エネ住宅の普及促進"]
[null,null,null,null,null,"エコカー買換え",null,null,"エコカーの普及促進"]
[null,null,null,null,null,"照明の効率的利用",null,null,"LED照明の普及促進"]
[null,null,null,null,null,"再エネ電力メニュー選択",null,null,"再エネ電力メニューの利用促進"]
[null,null,"価値観の変化",null,null,"エコなライフスタイル選択",null,null,"クールビズ実施の推進"]
[null,null,null,null,null,null,null,null,"ウォームビズ実施の推進"]
[null,null,null,null,null,null,null,null,"エコドライブの推進"]
[null,null,null,null,null,null,null,null,"カーシェアリングの利用促進"]
[null,null,null,null,null,null,null,null,"低炭素物流の普及促進（宅配便再配達防止）"]
[null,null,null,null,null,null,null,null,"スマートムーブの普及促進（自動車からのバス、電車、自転車への転換）"]
[null,null,null,null,null,null,null,null,"食品ロス削減の普及促進"]
[null,null,null,null,null,null,null,null,"その他"]

{"sheet":"【実施期間中】個別事業におけるPDCAシート","index":17,"n_rows":136,"n_cols":23,"rows_kept":136,"cut":false,"hidden":true,"merged":[[21,2,24,3],[134,1,134,5],[62,2,75,3],[6,1,6,5],[7,1,45,1],[7,2,7,5],[45,2,45,5],[25,2,27,5],[29,2,38,5],[39,2,39,5],[8,2,20,3],[43,4,43,5],[44,4,44,5],[40,4,40,5],[41,4,41,5],[40,2,44,3],[58,4,58,5],[59,4,59,5],[68,4,68,5],[69,4,69,5],[70,4,70,5],[60,4,60,5],[61,4,61,5],[46,1,53,1],[42,4,42,5],[55,4,55,5],[56,4,56,5],[57,4,57,5],[46,2,53,3],[54,4,54,5],[49,4,49,5],[50,4,50,5],[52,4,52,5],[46,4,46,5],[47,4,47,5],[48,4,48,5],[54,1,55,3],[51,4,51,5],[119,2,133,3],[56,1,58,3],[59,1,61,3],[67,4,67,5],[74,4,74,5],[62,4,62,5],[63,4,63,5],[65,4,65,5],[66,4,66,5],[64,4,64,5],[71,4,71,5],[72,4,72,5],[73,4,73,5],[62,1,133,1],[75,4,75,5],[78,4,78,5],[91,4,91,5],[105,4,105,5],[91,2,104,3],[76,2,90,3],[105,2,118,3],[76,4,76,5],[77,4,77,5]]}
[null,null,null,null,null,null,null,null,null,null,null,null,null,null,null,null,null,null,null,null,null,null,"*"]
[null,"＜個別事業におけるPDCAシート（通常事業）＞",null,null,null,null,null,null,null,null,null,null,null,null,null,null,null,null,null,null,null,"↓必要に応じて列を追加する","*"]
[null,"※8,11,2月に提出",null,null,null,null,null,null,null,null,null,null,null,null,null,null,null,null,null,null,null,null,"*"]
[null,null,null,null,null,null,null,null,null,null,null,null,null,null,null,null,null,null,null,null,null,null,"*"]
[null,null,null,null,null,null,null,null,null,null,null,null,null,null,null,null,null,null,null,null,null,null,"*"]
[null,null,null,null,null,null,"記入例","事業1","事業2","事業3","事業4","事業5","事業6","事業7","事業8","事業9","事業10","事業11","事業12","事業13","事業14","事業15","*"]
[null,"更新日",null,null,null,null,"2020-12-25",null,null,null,null,null,null,null,null,null,null,null,null,null,null,null,"*"]
[null,"事業概要","事業名（広報時の正式名称）",null,null,null,"エコドライブ講習会（10回シリーズ）",{"$f":"別紙１_実施計画書!$E45&\"\"","v":""},{"$f":"別紙１_実施計画書!$E97&\"\"","v":""},{"$f":"別紙１_実施計画書!E149&\"\"","v":""},{"$f":"別紙１_実施計画書!$E201&\"\"","v":""},{"$f":"別紙１_実施計画書!$E253&\"\"","v":""},{"$f":"別紙１_実施計画書!$E305&\"\"","v":""},{"$f":"別紙１_実施計画書!$E357&\"\"","v":""},{"$f":"別紙１_実施計画書!$E409&\"\"","v":""},{"$f":"別紙１_実施計画書!$E461&\"\"","v":""},{"$f":"別紙１_実施計画書!$E513&\"\"","v":""},{"$f":"別紙１_実施計画書!$E565&\"\"","v":""},{"$f":"別紙１_実施計画書!$E617&\"\"","v":""},{"$f":"別紙１_実施計画書!$E669&\"\"","v":""},{"$f":"別紙１_実施計画書!$E721&\"\"","v":""},{"$f":"別紙１_実施計画書!$E773&\"\"","v":""},"*"]
[{"$f":"ROW()-ROW($A$8)","v":1},null,"普及啓発テーマ\n（該当する欄に「1」と記入）",null,"①","省エネ機器",null,{"$f":"IF(OR(HLOOKUP($E9,別紙１_実施計画書!$AE$47:$AQ$49,3,0)=1,HLOOKUP($E9,別紙１_実施計画書!$AE$47:$AQ$49,3,0)=TRUE),1,\"-\")","v":"-"},{"$f":"IF(OR(HLOOKUP($E9,別紙１_実施計画書!$AE$99:$AQ$101,3,0)=1,HLOOKUP($E9,別紙１_実施計画書!$AE$99:$AQ$101,3,0)=TRUE),1,\"-\")","v":"-"},{"$f":"IF(OR(HLOOKUP($E9,別紙１_実施計画書!$AE$151:$AQ$153,3,0)=1,HLOOKUP($E9,別紙１_実施計画書!$AE$151:$AQ$153,3,0)=TRUE),1,\"-\")","v":"-"},{"$f":"IF(OR(HLOOKUP($E9,別紙１_実施計画書!$AE$203:$AQ$205,3,0)=1,HLOOKUP($E9,別紙１_実施計画書!$AE$203:$AQ$205,3,0)=TRUE),1,\"-\")","v":"-"},{"$f":"IF(OR(HLOOKUP($E9,別紙１_実施計画書!$AE$255:$AQ$257,3,0)=1,HLOOKUP($E9,別紙１_実施計画書!$AE$255:$AQ$257,3,0)=TRUE),1,\"-\")","v":"-"},{"$f":"IF(OR(HLOOKUP($E9,別紙１_実施計画書!$AE$307:$AQ$309,3,0)=1,HLOOKUP($E9,別紙１_実施計画書!$AE$307:$AQ$309,3,0)=TRUE),1,\"-\")","v":"-"},{"$f":"IF(OR(HLOOKUP($E9,別紙１_実施計画書!$AE$359:$AQ$361,3,0)=1,HLOOKUP($E9,別紙１_実施計画書!$AE$359:$AQ$361,3,0)=TRUE),1,\"-\")","v":"-"},{"$f":"IF(OR(HLOOKUP($E9,別紙１_実施計画書!$AE$411:$AQ$413,3,0)=1,HLOOKUP($E9,別紙１_実施計画書!$AE$411:$AQ$413,3,0)=TRUE),1,\"-\")","v":"-"},{"$f":"IF(OR(HLOOKUP($E9,別紙１_実施計画書!$AE$463:$AQ$465,3,0)=1,HLOOKUP($E9,別紙１_実施計画書!$AE$463:$AQ$465,3,0)=TRUE),1,\"-\")","v":"-"},{"$f":"IF(OR(HLOOKUP($E9,別紙１_実施計画書!$AE$515:$AQ$517,3,0)=1,HLOOKUP($E9,別紙１_実施計画書!$AE$515:$AQ$517,3,0)=TRUE),1,\"-\")","v":"-"},{"$f":"IF(OR(HLOOKUP($E9,別紙１_実施計画書!$AE$567:$AQ$569,3,0)=1,HLOOKUP($E9,別紙１_実施計画書!$AE$567:$AQ$569,3,0)=TRUE),1,\"-\")","v":"-"},{"$f":"IF(OR(HLOOKUP($E9,別紙１_実施計画書!$AE$619:$AQ$621,3,0)=1,HLOOKUP($E9,別紙１_実施計画書!$AE$619:$AQ$621,3,0)=TRUE),1,\"-\")","v":"-"},{"$f":"IF(OR(HLOOKUP($E9,別紙１_実施計画書!$AE$671:$AQ$673,3,0)=1,HLOOKUP($E9,別紙１_実施計画書!$AE$671:$AQ$673,3,0)=TRUE),1,\"-\")","v":"-"},{"$f":"IF(OR(HLOOKUP($E9,別紙１_実施計画書!$AE$723:$AQ$725,3,0)=1,HLOOKUP($E9,別紙１_実施計画書!$AE$723:$AQ$725,3,0)=TRUE),1,\"-\")","v":"-"},{"$f":"IF(OR(HLOOKUP($E9,別紙１_実施計画書!$AE$775:$AQ$777,3,0)=1,HLOOKUP($E9,別紙１_実施計画書!$AE$775:$AQ$777,3,0)=TRUE),1,\"-\")","v":"-"},"*"]
[{"$f":"ROW()-ROW($A$8)","v":2},null,null,null,"②","省エネ住宅",null,{"$f":"IF(OR(HLOOKUP($E10,別紙１_実施計画書!$AE$47:$AQ$49,3,0)=1,HLOOKUP($E10,別紙１_実施計画書!$AE$47:$AQ$49,3,0)=TRUE),1,\"-\")","v":"-"},{"$f":"IF(OR(HLOOKUP($E10,別紙１_実施計画書!$AE$99:$AQ$101,3,0)=1,HLOOKUP($E10,別紙１_実施計画書!$AE$99:$AQ$101,3,0)=TRUE),1,\"-\")","v":"-"},{"$f":"IF(OR(HLOOKUP($E10,別紙１_実施計画書!$AE$151:$AQ$153,3,0)=1,HLOOKUP($E10,別紙１_実施計画書!$AE$151:$AQ$153,3,0)=TRUE),1,\"-\")","v":"-"},{"$f":"IF(OR(HLOOKUP($E10,別紙１_実施計画書!$AE$203:$AQ$205,3,0)=1,HLOOKUP($E10,別紙１_実施計画書!$AE$203:$AQ$205,3,0)=TRUE),1,\"-\")","v":"-"},{"$f":"IF(OR(HLOOKUP($E10,別紙１_実施計画書!$AE$255:$AQ$257,3,0)=1,HLOOKUP($E10,別紙１_実施計画書!$AE$255:$AQ$257,3,0)=TRUE),1,\"-\")","v":"-"},{"$f":"IF(OR(HLOOKUP($E10,別紙１_実施計画書!$AE$307:$AQ$309,3,0)=1,HLOOKUP($E10,別紙１_実施計画書!$AE$307:$AQ$309,3,0)=TRUE),1,\"-\")","v":"-"},{"$f":"IF(OR(HLOOKUP($E10,別紙１_実施計画書!$AE$359:$AQ$361,3,0)=1,HLOOKUP($E10,別紙１_実施計画書!$AE$359:$AQ$361,3,0)=TRUE),1,\"-\")","v":"-"},{"$f":"IF(OR(HLOOKUP($E10,別紙１_実施計画書!$AE$411:$AQ$413,3,0)=1,HLOOKUP($E10,別紙１_実施計画書!$AE$411:$AQ$413,3,0)=TRUE),1,\"-\")","v":"-"},{"$f":"IF(OR(HLOOKUP($E10,別紙１_実施計画書!$AE$463:$AQ$465,3,0)=1,HLOOKUP($E10,別紙１_実施計画書!$AE$463:$AQ$465,3,0)=TRUE),1,\"-\")","v":"-"},{"$f":"IF(OR(HLOOKUP($E10,別紙１_実施計画書!$AE$515:$AQ$517,3,0)=1,HLOOKUP($E10,別紙１_実施計画書!$AE$515:$AQ$517,3,0)=TRUE),1,\"-\")","v":"-"},{"$f":"IF(OR(HLOOKUP($E10,別紙１_実施計画書!$AE$567:$AQ$569,3,0)=1,HLOOKUP($E10,別紙１_実施計画書!$AE$567:$AQ$569,3,0)=TRUE),1,\"-\")","v":"-"},{"$f":"IF(OR(HLOOKUP($E10,別紙１_実施計画書!$AE$619:$AQ$621,3,0)=1,HLOOKUP($E10,別紙１_実施計画書!$AE$619:$AQ$621,3,0)=TRUE),1,\"-\")","v":"-"},{"$f":"IF(OR(HLOOKUP($E10,別紙１_実施計画書!$AE$671:$AQ$673,3,0)=1,HLOOKUP($E10,別紙１_実施計画書!$AE$671:$AQ$673,3,0)=TRUE),1,\"-\")","v":"-"},{"$f":"IF(OR(HLOOKUP($E10,別紙１_実施計画書!$AE$723:$AQ$725,3,0)=1,HLOOKUP($E10,別紙１_実施計画書!$AE$723:$AQ$725,3,0)=TRUE),1,\"-\")","v":"-"},{"$f":"IF(OR(HLOOKUP($E10,別紙１_実施計画書!$AE$775:$AQ$777,3,0)=1,HLOOKUP($E10,別紙１_実施計画書!$AE$775:$AQ$777,3,0)=TRUE),1,\"-\")","v":"-"},"*"]
[3,null,null,null,"③","エコカー",1,{"$f":"IF(OR(HLOOKUP($E11,別紙１_実施計画書!$AE$47:$AQ$49,3,0)=1,HLOOKUP($E11,別紙１_実施計画書!$AE$47:$AQ$49,3,0)=TRUE),1,\"-\")","v":"-"},{"$f":"IF(OR(HLOOKUP($E11,別紙１_実施計画書!$AE$99:$AQ$101,3,0)=1,HLOOKUP($E11,別紙１_実施計画書!$AE$99:$AQ$101,3,0)=TRUE),1,\"-\")","v":"-"},{"$f":"IF(OR(HLOOKUP($E11,別紙１_実施計画書!$AE$151:$AQ$153,3,0)=1,HLOOKUP($E11,別紙１_実施計画書!$AE$151:$AQ$153,3,0)=TRUE),1,\"-\")","v":"-"},{"$f":"IF(OR(HLOOKUP($E11,別紙１_実施計画書!$AE$203:$AQ$205,3,0)=1,HLOOKUP($E11,別紙１_実施計画書!$AE$203:$AQ$205,3,0)=TRUE),1,\"-\")","v":"-"},{"$f":"IF(OR(HLOOKUP($E11,別紙１_実施計画書!$AE$255:$AQ$257,3,0)=1,HLOOKUP($E11,別紙１_実施計画書!$AE$255:$AQ$257,3,0)=TRUE),1,\"-\")","v":"-"},{"$f":"IF(OR(HLOOKUP($E11,別紙１_実施計画書!$AE$307:$AQ$309,3,0)=1,HLOOKUP($E11,別紙１_実施計画書!$AE$307:$AQ$309,3,0)=TRUE),1,\"-\")","v":"-"},{"$f":"IF(OR(HLOOKUP($E11,別紙１_実施計画書!$AE$359:$AQ$361,3,0)=1,HLOOKUP($E11,別紙１_実施計画書!$AE$359:$AQ$361,3,0)=TRUE),1,\"-\")","v":"-"},{"$f":"IF(OR(HLOOKUP($E11,別紙１_実施計画書!$AE$411:$AQ$413,3,0)=1,HLOOKUP($E11,別紙１_実施計画書!$AE$411:$AQ$413,3,0)=TRUE),1,\"-\")","v":"-"},{"$f":"IF(OR(HLOOKUP($E11,別紙１_実施計画書!$AE$463:$AQ$465,3,0)=1,HLOOKUP($E11,別紙１_実施計画書!$AE$463:$AQ$465,3,0)=TRUE),1,\"-\")","v":"-"},{"$f":"IF(OR(HLOOKUP($E11,別紙１_実施計画書!$AE$515:$AQ$517,3,0)=1,HLOOKUP($E11,別紙１_実施計画書!$AE$515:$AQ$517,3,0)=TRUE),1,\"-\")","v":"-"},{"$f":"IF(OR(HLOOKUP($E11,別紙１_実施計画書!$AE$567:$AQ$569,3,0)=1,HLOOKUP($E11,別紙１_実施計画書!$AE$567:$AQ$569,3,0)=TRUE),1,\"-\")","v":"-"},{"$f":"IF(OR(HLOOKUP($E11,別紙１_実施計画書!$AE$619:$AQ$621,3,0)=1,HLOOKUP($E11,別紙１_実施計画書!$AE$619:$AQ$621,3,0)=TRUE),1,\"-\")","v":"-"},{"$f":"IF(OR(HLOOKUP($E11,別紙１_実施計画書!$AE$671:$AQ$673,3,0)=1,HLOOKUP($E11,別紙１_実施計画書!$AE$671:$AQ$673,3,0)=TRUE),1,\"-\")","v":"-"},{"$f":"IF(OR(HLOOKUP($E11,別紙１_実施計画書!$AE$723:$AQ$725,3,0)=1,HLOOKUP($E11,別紙１_実施計画書!$AE$723:$AQ$725,3,0)=TRUE),1,\"-\")","v":"-"},{"$f":"IF(OR(HLOOKUP($E11,別紙１_実施計画書!$AE$775:$AQ$777,3,0)=1,HLOOKUP($E11,別紙１_実施計画書!$AE$775:$AQ$777,3,0)=TRUE),1,\"-\")","v":"-"},"*"]
[4,null,null,null,"④","クールビズ",null,{"$f":"IF(OR(HLOOKUP($E12,別紙１_実施計画書!$AE$47:$AQ$49,3,0)=1,HLOOKUP($E12,別紙１_実施計画書!$AE$47:$AQ$49,3,0)=TRUE),1,\"-\")","v":"-"},{"$f":"IF(OR(HLOOKUP($E12,別紙１_実施計画書!$AE$99:$AQ$101,3,0)=1,HLOOKUP($E12,別紙１_実施計画書!$AE$99:$AQ$101,3,0)=TRUE),1,\"-\")","v":"-"},{"$f":"IF(OR(HLOOKUP($E12,別紙１_実施計画書!$AE$151:$AQ$153,3,0)=1,HLOOKUP($E12,別紙１_実施計画書!$AE$151:$AQ$153,3,0)=TRUE),1,\"-\")","v":"-"},{"$f":"IF(OR(HLOOKUP($E12,別紙１_実施計画書!$AE$203:$AQ$205,3,0)=1,HLOOKUP($E12,別紙１_実施計画書!$AE$203:$AQ$205,3,0)=TRUE),1,\"-\")","v":"-"},{"$f":"IF(OR(HLOOKUP($E12,別紙１_実施計画書!$AE$255:$AQ$257,3,0)=1,HLOOKUP($E12,別紙１_実施計画書!$AE$255:$AQ$257,3,0)=TRUE),1,\"-\")","v":"-"},{"$f":"IF(OR(HLOOKUP($E12,別紙１_実施計画書!$AE$307:$AQ$309,3,0)=1,HLOOKUP($E12,別紙１_実施計画書!$AE$307:$AQ$309,3,0)=TRUE),1,\"-\")","v":"-"},{"$f":"IF(OR(HLOOKUP($E12,別紙１_実施計画書!$AE$359:$AQ$361,3,0)=1,HLOOKUP($E12,別紙１_実施計画書!$AE$359:$AQ$361,3,0)=TRUE),1,\"-\")","v":"-"},{"$f":"IF(OR(HLOOKUP($E12,別紙１_実施計画書!$AE$411:$AQ$413,3,0)=1,HLOOKUP($E12,別紙１_実施計画書!$AE$411:$AQ$413,3,0)=TRUE),1,\"-\")","v":"-"},{"$f":"IF(OR(HLOOKUP($E12,別紙１_実施計画書!$AE$463:$AQ$465,3,0)=1,HLOOKUP($E12,別紙１_実施計画書!$AE$463:$AQ$465,3,0)=TRUE),1,\"-\")","v":"-"},{"$f":"IF(OR(HLOOKUP($E12,別紙１_実施計画書!$AE$515:$AQ$517,3,0)=1,HLOOKUP($E12,別紙１_実施計画書!$AE$515:$AQ$517,3,0)=TRUE),1,\"-\")","v":"-"},{"$f":"IF(OR(HLOOKUP($E12,別紙１_実施計画書!$AE$567:$AQ$569,3,0)=1,HLOOKUP($E12,別紙１_実施計画書!$AE$567:$AQ$569,3,0)=TRUE),1,\"-\")","v":"-"},{"$f":"IF(OR(HLOOKUP($E12,別紙１_実施計画書!$AE$619:$AQ$621,3,0)=1,HLOOKUP($E12,別紙１_実施計画書!$AE$619:$AQ$621,3,0)=TRUE),1,\"-\")","v":"-"},{"$f":"IF(OR(HLOOKUP($E12,別紙１_実施計画書!$AE$671:$AQ$673,3,0)=1,HLOOKUP($E12,別紙１_実施計画書!$AE$671:$AQ$673,3,0)=TRUE),1,\"-\")","v":"-"},{"$f":"IF(OR(HLOOKUP($E12,別紙１_実施計画書!$AE$723:$AQ$725,3,0)=1,HLOOKUP($E12,別紙１_実施計画書!$AE$723:$AQ$725,3,0)=TRUE),1,\"-\")","v":"-"},{"$f":"IF(OR(HLOOKUP($E12,別紙１_実施計画書!$AE$775:$AQ$777,3,0)=1,HLOOKUP($E12,別紙１_実施計画書!$AE$775:$AQ$777,3,0)=TRUE),1,\"-\")","v":"-"},"*"]
[5,null,null,null,"⑤","ウォームビズ",null,{"$f":"IF(OR(HLOOKUP($E13,別紙１_実施計画書!$AE$47:$AQ$49,3,0)=1,HLOOKUP($E13,別紙１_実施計画書!$AE$47:$AQ$49,3,0)=TRUE),1,\"-\")","v":"-"},{"$f":"IF(OR(HLOOKUP($E13,別紙１_実施計画書!$AE$99:$AQ$101,3,0)=1,HLOOKUP($E13,別紙１_実施計画書!$AE$99:$AQ$101,3,0)=TRUE),1,\"-\")","v":"-"},{"$f":"IF(OR(HLOOKUP($E13,別紙１_実施計画書!$AE$151:$AQ$153,3,0)=1,HLOOKUP($E13,別紙１_実施計画書!$AE$151:$AQ$153,3,0)=TRUE),1,\"-\")","v":"-"},{"$f":"IF(OR(HLOOKUP($E13,別紙１_実施計画書!$AE$203:$AQ$205,3,0)=1,HLOOKUP($E13,別紙１_実施計画書!$AE$203:$AQ$205,3,0)=TRUE),1,\"-\")","v":"-"},{"$f":"IF(OR(HLOOKUP($E13,別紙１_実施計画書!$AE$255:$AQ$257,3,0)=1,HLOOKUP($E13,別紙１_実施計画書!$AE$255:$AQ$257,3,0)=TRUE),1,\"-\")","v":"-"},{"$f":"IF(OR(HLOOKUP($E13,別紙１_実施計画書!$AE$307:$AQ$309,3,0)=1,HLOOKUP($E13,別紙１_実施計画書!$AE$307:$AQ$309,3,0)=TRUE),1,\"-\")","v":"-"},{"$f":"IF(OR(HLOOKUP($E13,別紙１_実施計画書!$AE$359:$AQ$361,3,0)=1,HLOOKUP($E13,別紙１_実施計画書!$AE$359:$AQ$361,3,0)=TRUE),1,\"-\")","v":"-"},{"$f":"IF(OR(HLOOKUP($E13,別紙１_実施計画書!$AE$411:$AQ$413,3,0)=1,HLOOKUP($E13,別紙１_実施計画書!$AE$411:$AQ$413,3,0)=TRUE),1,\"-\")","v":"-"},{"$f":"IF(OR(HLOOKUP($E13,別紙１_実施計画書!$AE$463:$AQ$465,3,0)=1,HLOOKUP($E13,別紙１_実施計画書!$AE$463:$AQ$465,3,0)=TRUE),1,\"-\")","v":"-"},{"$f":"IF(OR(HLOOKUP($E13,別紙１_実施計画書!$AE$515:$AQ$517,3,0)=1,HLOOKUP($E13,別紙１_実施計画書!$AE$515:$AQ$517,3,0)=TRUE),1,\"-\")","v":"-"},{"$f":"IF(OR(HLOOKUP($E13,別紙１_実施計画書!$AE$567:$AQ$569,3,0)=1,HLOOKUP($E13,別紙１_実施計画書!$AE$567:$AQ$569,3,0)=TRUE),1,\"-\")","v":"-"},{"$f":"IF(OR(HLOOKUP($E13,別紙１_実施計画書!$AE$619:$AQ$621,3,0)=1,HLOOKUP($E13,別紙１_実施計画書!$AE$619:$AQ$621,3,0)=TRUE),1,\"-\")","v":"-"},{"$f":"IF(OR(HLOOKUP($E13,別紙１_実施計画書!$AE$671:$AQ$673,3,0)=1,HLOOKUP($E13,別紙１_実施計画書!$AE$671:$AQ$673,3,0)=TRUE),1,\"-\")","v":"-"},{"$f":"IF(OR(HLOOKUP($E13,別紙１_実施計画書!$AE$723:$AQ$725,3,0)=1,HLOOKUP($E13,別紙１_実施計画書!$AE$723:$AQ$725,3,0)=TRUE),1,\"-\")","v":"-"},{"$f":"IF(OR(HLOOKUP($E13,別紙１_実施計画書!$AE$775:$AQ$777,3,0)=1,HLOOKUP($E13,別紙１_実施計画書!$AE$775:$AQ$777,3,0)=TRUE),1,\"-\")","v":"-"},"*"]
[6,null,null,null,"⑥","照明の効率的利用",null,{"$f":"IF(OR(HLOOKUP($E14,別紙１_実施計画書!$AE$47:$AQ$49,3,0)=1,HLOOKUP($E14,別紙１_実施計画書!$AE$47:$AQ$49,3,0)=TRUE),1,\"-\")","v":"-"},{"$f":"IF(OR(HLOOKUP($E14,別紙１_実施計画書!$AE$99:$AQ$101,3,0)=1,HLOOKUP($E14,別紙１_実施計画書!$AE$99:$AQ$101,3,0)=TRUE),1,\"-\")","v":"-"},{"$f":"IF(OR(HLOOKUP($E14,別紙１_実施計画書!$AE$151:$AQ$153,3,0)=1,HLOOKUP($E14,別紙１_実施計画書!$AE$151:$AQ$153,3,0)=TRUE),1,\"-\")","v":"-"},{"$f":"IF(OR(HLOOKUP($E14,別紙１_実施計画書!$AE$203:$AQ$205,3,0)=1,HLOOKUP($E14,別紙１_実施計画書!$AE$203:$AQ$205,3,0)=TRUE),1,\"-\")","v":"-"},{"$f":"IF(OR(HLOOKUP($E14,別紙１_実施計画書!$AE$255:$AQ$257,3,0)=1,HLOOKUP($E14,別紙１_実施計画書!$AE$255:$AQ$257,3,0)=TRUE),1,\"-\")","v":"-"},{"$f":"IF(OR(HLOOKUP($E14,別紙１_実施計画書!$AE$307:$AQ$309,3,0)=1,HLOOKUP($E14,別紙１_実施計画書!$AE$307:$AQ$309,3,0)=TRUE),1,\"-\")","v":"-"},{"$f":"IF(OR(HLOOKUP($E14,別紙１_実施計画書!$AE$359:$AQ$361,3,0)=1,HLOOKUP($E14,別紙１_実施計画書!$AE$359:$AQ$361,3,0)=TRUE),1,\"-\")","v":"-"},{"$f":"IF(OR(HLOOKUP($E14,別紙１_実施計画書!$AE$411:$AQ$413,3,0)=1,HLOOKUP($E14,別紙１_実施計画書!$AE$411:$AQ$413,3,0)=TRUE),1,\"-\")","v":"-"},{"$f":"IF(OR(HLOOKUP($E14,別紙１_実施計画書!$AE$463:$AQ$465,3,0)=1,HLOOKUP($E14,別紙１_実施計画書!$AE$463:$AQ$465,3,0)=TRUE),1,\"-\")","v":"-"},{"$f":"IF(OR(HLOOKUP($E14,別紙１_実施計画書!$AE$515:$AQ$517,3,0)=1,HLOOKUP($E14,別紙１_実施計画書!$AE$515:$AQ$517,3,0)=TRUE),1,\"-\")","v":"-"},{"$f":"IF(OR(HLOOKUP($E14,別紙１_実施計画書!$AE$567:$AQ$569,3,0)=1,HLOOKUP($E14,別紙１_実施計画書!$AE$567:$AQ$569,3,0)=TRUE),1,\"-\")","v":"-"},{"$f":"IF(OR(HLOOKUP($E14,別紙１_実施計画書!$AE$619:$AQ$621,3,0)=1,HLOOKUP($E14,別紙１_実施計画書!$AE$619:$AQ$621,3,0)=TRUE),1,\"-\")","v":"-"},{"$f":"IF(OR(HLOOKUP($E14,別紙１_実施計画書!$AE$671:$AQ$673,3,0)=1,HLOOKUP($E14,別紙１_実施計画書!$AE$671:$AQ$673,3,0)=TRUE),1,\"-\")","v":"-"},{"$f":"IF(OR(HLOOKUP($E14,別紙１_実施計画書!$AE$723:$AQ$725,3,0)=1,HLOOKUP($E14,別紙１_実施計画書!$AE$723:$AQ$725,3,0)=TRUE),1,\"-\")","v":"-"},{"$f":"IF(OR(HLOOKUP($E14,別紙１_実施計画書!$AE$775:$AQ$777,3,0)=1,HLOOKUP($E14,別紙１_実施計画書!$AE$775:$AQ$777,3,0)=TRUE),1,\"-\")","v":"-"},"*"]
[7,null,null,null,"⑦","エコドライブ",1,{"$f":"IF(OR(HLOOKUP($E15,別紙１_実施計画書!$AE$47:$AQ$49,3,0)=1,HLOOKUP($E15,別紙１_実施計画書!$AE$47:$AQ$49,3,0)=TRUE),1,\"-\")","v":"-"},{"$f":"IF(OR(HLOOKUP($E15,別紙１_実施計画書!$AE$99:$AQ$101,3,0)=1,HLOOKUP($E15,別紙１_実施計画書!$AE$99:$AQ$101,3,0)=TRUE),1,\"-\")","v":"-"},{"$f":"IF(OR(HLOOKUP($E15,別紙１_実施計画書!$AE$151:$AQ$153,3,0)=1,HLOOKUP($E15,別紙１_実施計画書!$AE$151:$AQ$153,3,0)=TRUE),1,\"-\")","v":"-"},{"$f":"IF(OR(HLOOKUP($E15,別紙１_実施計画書!$AE$203:$AQ$205,3,0)=1,HLOOKUP($E15,別紙１_実施計画書!$AE$203:$AQ$205,3,0)=TRUE),1,\"-\")","v":"-"},{"$f":"IF(OR(HLOOKUP($E15,別紙１_実施計画書!$AE$255:$AQ$257,3,0)=1,HLOOKUP($E15,別紙１_実施計画書!$AE$255:$AQ$257,3,0)=TRUE),1,\"-\")","v":"-"},{"$f":"IF(OR(HLOOKUP($E15,別紙１_実施計画書!$AE$307:$AQ$309,3,0)=1,HLOOKUP($E15,別紙１_実施計画書!$AE$307:$AQ$309,3,0)=TRUE),1,\"-\")","v":"-"},{"$f":"IF(OR(HLOOKUP($E15,別紙１_実施計画書!$AE$359:$AQ$361,3,0)=1,HLOOKUP($E15,別紙１_実施計画書!$AE$359:$AQ$361,3,0)=TRUE),1,\"-\")","v":"-"},{"$f":"IF(OR(HLOOKUP($E15,別紙１_実施計画書!$AE$411:$AQ$413,3,0)=1,HLOOKUP($E15,別紙１_実施計画書!$AE$411:$AQ$413,3,0)=TRUE),1,\"-\")","v":"-"},{"$f":"IF(OR(HLOOKUP($E15,別紙１_実施計画書!$AE$463:$AQ$465,3,0)=1,HLOOKUP($E15,別紙１_実施計画書!$AE$463:$AQ$465,3,0)=TRUE),1,\"-\")","v":"-"},{"$f":"IF(OR(HLOOKUP($E15,別紙１_実施計画書!$AE$515:$AQ$517,3,0)=1,HLOOKUP($E15,別紙１_実施計画書!$AE$515:$AQ$517,3,0)=TRUE),1,\"-\")","v":"-"},{"$f":"IF(OR(HLOOKUP($E15,別紙１_実施計画書!$AE$567:$AQ$569,3,0)=1,HLOOKUP($E15,別紙１_実施計画書!$AE$567:$AQ$569,3,0)=TRUE),1,\"-\")","v":"-"},{"$f":"IF(OR(HLOOKUP($E15,別紙１_実施計画書!$AE$619:$AQ$621,3,0)=1,HLOOKUP($E15,別紙１_実施計画書!$AE$619:$AQ$621,3,0)=TRUE),1,\"-\")","v":"-"},{"$f":"IF(OR(HLOOKUP($E15,別紙１_実施計画書!$AE$671:$AQ$673,3,0)=1,HLOOKUP($E15,別紙１_実施計画書!$AE$671:$AQ$673,3,0)=TRUE),1,\"-\")","v":"-"},{"$f":"IF(OR(HLOOKUP($E15,別紙１_実施計画書!$AE$723:$AQ$725,3,0)=1,HLOOKUP($E15,別紙１_実施計画書!$AE$723:$AQ$725,3,0)=TRUE),1,\"-\")","v":"-"},{"$f":"IF(OR(HLOOKUP($E15,別紙１_実施計画書!$AE$775:$AQ$777,3,0)=1,HLOOKUP($E15,別紙１_実施計画書!$AE$775:$AQ$777,3,0)=TRUE),1,\"-\")","v":"-"},"*"]
[8,null,null,null,"⑧","カーシェア",null,{"$f":"IF(OR(HLOOKUP($E16,別紙１_実施計画書!$AE$47:$AQ$49,3,0)=1,HLOOKUP($E16,別紙１_実施計画書!$AE$47:$AQ$49,3,0)=TRUE),1,\"-\")","v":"-"},{"$f":"IF(OR(HLOOKUP($E16,別紙１_実施計画書!$AE$99:$AQ$101,3,0)=1,HLOOKUP($E16,別紙１_実施計画書!$AE$99:$AQ$101,3,0)=TRUE),1,\"-\")","v":"-"},{"$f":"IF(OR(HLOOKUP($E16,別紙１_実施計画書!$AE$151:$AQ$153,3,0)=1,HLOOKUP($E16,別紙１_実施計画書!$AE$151:$AQ$153,3,0)=TRUE),1,\"-\")","v":"-"},{"$f":"IF(OR(HLOOKUP($E16,別紙１_実施計画書!$AE$203:$AQ$205,3,0)=1,HLOOKUP($E16,別紙１_実施計画書!$AE$203:$AQ$205,3,0)=TRUE),1,\"-\")","v":"-"},{"$f":"IF(OR(HLOOKUP($E16,別紙１_実施計画書!$AE$255:$AQ$257,3,0)=1,HLOOKUP($E16,別紙１_実施計画書!$AE$255:$AQ$257,3,0)=TRUE),1,\"-\")","v":"-"},{"$f":"IF(OR(HLOOKUP($E16,別紙１_実施計画書!$AE$307:$AQ$309,3,0)=1,HLOOKUP($E16,別紙１_実施計画書!$AE$307:$AQ$309,3,0)=TRUE),1,\"-\")","v":"-"},{"$f":"IF(OR(HLOOKUP($E16,別紙１_実施計画書!$AE$359:$AQ$361,3,0)=1,HLOOKUP($E16,別紙１_実施計画書!$AE$359:$AQ$361,3,0)=TRUE),1,\"-\")","v":"-"},{"$f":"IF(OR(HLOOKUP($E16,別紙１_実施計画書!$AE$411:$AQ$413,3,0)=1,HLOOKUP($E16,別紙１_実施計画書!$AE$411:$AQ$413,3,0)=TRUE),1,\"-\")","v":"-"},{"$f":"IF(OR(HLOOKUP($E16,別紙１_実施計画書!$AE$463:$AQ$465,3,0)=1,HLOOKUP($E16,別紙１_実施計画書!$AE$463:$AQ$465,3,0)=TRUE),1,\"-\")","v":"-"},{"$f":"IF(OR(HLOOKUP($E16,別紙１_実施計画書!$AE$515:$AQ$517,3,0)=1,HLOOKUP($E16,別紙１_実施計画書!$AE$515:$AQ$517,3,0)=TRUE),1,\"-\")","v":"-"},{"$f":"IF(OR(HLOOKUP($E16,別紙１_実施計画書!$AE$567:$AQ$569,3,0)=1,HLOOKUP($E16,別紙１_実施計画書!$AE$567:$AQ$569,3,0)=TRUE),1,\"-\")","v":"-"},{"$f":"IF(OR(HLOOKUP($E16,別紙１_実施計画書!$AE$619:$AQ$621,3,0)=1,HLOOKUP($E16,別紙１_実施計画書!$AE$619:$AQ$621,3,0)=TRUE),1,\"-\")","v":"-"},{"$f":"IF(OR(HLOOKUP($E16,別紙１_実施計画書!$AE$671:$AQ$673,3,0)=1,HLOOKUP($E16,別紙１_実施計画書!$AE$671:$AQ$673,3,0)=TRUE),1,\"-\")","v":"-"},{"$f":"IF(OR(HLOOKUP($E16,別紙１_実施計画書!$AE$723:$AQ$725,3,0)=1,HLOOKUP($E16,別紙１_実施計画書!$AE$723:$AQ$725,3,0)=TRUE),1,\"-\")","v":"-"},{"$f":"IF(OR(HLOOKUP($E16,別紙１_実施計画書!$AE$775:$AQ$777,3,0)=1,HLOOKUP($E16,別紙１_実施計画書!$AE$775:$AQ$777,3,0)=TRUE),1,\"-\")","v":"-"},"*"]
[9,null,null,null,"⑨","スマートムーブ",null,{"$f":"IF(OR(HLOOKUP($E17,別紙１_実施計画書!$AE$47:$AQ$49,3,0)=1,HLOOKUP($E17,別紙１_実施計画書!$AE$47:$AQ$49,3,0)=TRUE),1,\"-\")","v":"-"},{"$f":"IF(OR(HLOOKUP($E17,別紙１_実施計画書!$AE$99:$AQ$101,3,0)=1,HLOOKUP($E17,別紙１_実施計画書!$AE$99:$AQ$101,3,0)=TRUE),1,\"-\")","v":"-"},{"$f":"IF(OR(HLOOKUP($E17,別紙１_実施計画書!$AE$151:$AQ$153,3,0)=1,HLOOKUP($E17,別紙１_実施計画書!$AE$151:$AQ$153,3,0)=TRUE),1,\"-\")","v":"-"},{"$f":"IF(OR(HLOOKUP($E17,別紙１_実施計画書!$AE$203:$AQ$205,3,0)=1,HLOOKUP($E17,別紙１_実施計画書!$AE$203:$AQ$205,3,0)=TRUE),1,\"-\")","v":"-"},{"$f":"IF(OR(HLOOKUP($E17,別紙１_実施計画書!$AE$255:$AQ$257,3,0)=1,HLOOKUP($E17,別紙１_実施計画書!$AE$255:$AQ$257,3,0)=TRUE),1,\"-\")","v":"-"},{"$f":"IF(OR(HLOOKUP($E17,別紙１_実施計画書!$AE$307:$AQ$309,3,0)=1,HLOOKUP($E17,別紙１_実施計画書!$AE$307:$AQ$309,3,0)=TRUE),1,\"-\")","v":"-"},{"$f":"IF(OR(HLOOKUP($E17,別紙１_実施計画書!$AE$359:$AQ$361,3,0)=1,HLOOKUP($E17,別紙１_実施計画書!$AE$359:$AQ$361,3,0)=TRUE),1,\"-\")","v":"-"},{"$f":"IF(OR(HLOOKUP($E17,別紙１_実施計画書!$AE$411:$AQ$413,3,0)=1,HLOOKUP($E17,別紙１_実施計画書!$AE$411:$AQ$413,3,0)=TRUE),1,\"-\")","v":"-"},{"$f":"IF(OR(HLOOKUP($E17,別紙１_実施計画書!$AE$463:$AQ$465,3,0)=1,HLOOKUP($E17,別紙１_実施計画書!$AE$463:$AQ$465,3,0)=TRUE),1,\"-\")","v":"-"},{"$f":"IF(OR(HLOOKUP($E17,別紙１_実施計画書!$AE$515:$AQ$517,3,0)=1,HLOOKUP($E17,別紙１_実施計画書!$AE$515:$AQ$517,3,0)=TRUE),1,\"-\")","v":"-"},{"$f":"IF(OR(HLOOKUP($E17,別紙１_実施計画書!$AE$567:$AQ$569,3,0)=1,HLOOKUP($E17,別紙１_実施計画書!$AE$567:$AQ$569,3,0)=TRUE),1,\"-\")","v":"-"},{"$f":"IF(OR(HLOOKUP($E17,別紙１_実施計画書!$AE$619:$AQ$621,3,0)=1,HLOOKUP($E17,別紙１_実施計画書!$AE$619:$AQ$621,3,0)=TRUE),1,\"-\")","v":"-"},{"$f":"IF(OR(HLOOKUP($E17,別紙１_実施計画書!$AE$671:$AQ$673,3,0)=1,HLOOKUP($E17,別紙１_実施計画書!$AE$671:$AQ$673,3,0)=TRUE),1,\"-\")","v":"-"},{"$f":"IF(OR(HLOOKUP($E17,別紙１_実施計画書!$AE$723:$AQ$725,3,0)=1,HLOOKUP($E17,別紙１_実施計画書!$AE$723:$AQ$725,3,0)=TRUE),1,\"-\")","v":"-"},{"$f":"IF(OR(HLOOKUP($E17,別紙１_実施計画書!$AE$775:$AQ$777,3,0)=1,HLOOKUP($E17,別紙１_実施計画書!$AE$775:$AQ$777,3,0)=TRUE),1,\"-\")","v":"-"},"*"]
[10,null,null,null,"⑩","再配達防止",null,{"$f":"IF(OR(HLOOKUP($E18,別紙１_実施計画書!$AE$47:$AQ$49,3,0)=1,HLOOKUP($E18,別紙１_実施計画書!$AE$47:$AQ$49,3,0)=TRUE),1,\"-\")","v":"-"},{"$f":"IF(OR(HLOOKUP($E18,別紙１_実施計画書!$AE$99:$AQ$101,3,0)=1,HLOOKUP($E18,別紙１_実施計画書!$AE$99:$AQ$101,3,0)=TRUE),1,\"-\")","v":"-"},{"$f":"IF(OR(HLOOKUP($E18,別紙１_実施計画書!$AE$151:$AQ$153,3,0)=1,HLOOKUP($E18,別紙１_実施計画書!$AE$151:$AQ$153,3,0)=TRUE),1,\"-\")","v":"-"},{"$f":"IF(OR(HLOOKUP($E18,別紙１_実施計画書!$AE$203:$AQ$205,3,0)=1,HLOOKUP($E18,別紙１_実施計画書!$AE$203:$AQ$205,3,0)=TRUE),1,\"-\")","v":"-"},{"$f":"IF(OR(HLOOKUP($E18,別紙１_実施計画書!$AE$255:$AQ$257,3,0)=1,HLOOKUP($E18,別紙１_実施計画書!$AE$255:$AQ$257,3,0)=TRUE),1,\"-\")","v":"-"},{"$f":"IF(OR(HLOOKUP($E18,別紙１_実施計画書!$AE$307:$AQ$309,3,0)=1,HLOOKUP($E18,別紙１_実施計画書!$AE$307:$AQ$309,3,0)=TRUE),1,\"-\")","v":"-"},{"$f":"IF(OR(HLOOKUP($E18,別紙１_実施計画書!$AE$359:$AQ$361,3,0)=1,HLOOKUP($E18,別紙１_実施計画書!$AE$359:$AQ$361,3,0)=TRUE),1,\"-\")","v":"-"},{"$f":"IF(OR(HLOOKUP($E18,別紙１_実施計画書!$AE$411:$AQ$413,3,0)=1,HLOOKUP($E18,別紙１_実施計画書!$AE$411:$AQ$413,3,0)=TRUE),1,\"-\")","v":"-"},{"$f":"IF(OR(HLOOKUP($E18,別紙１_実施計画書!$AE$463:$AQ$465,3,0)=1,HLOOKUP($E18,別紙１_実施計画書!$AE$463:$AQ$465,3,0)=TRUE),1,\"-\")","v":"-"},{"$f":"IF(OR(HLOOKUP($E18,別紙１_実施計画書!$AE$515:$AQ$517,3,0)=1,HLOOKUP($E18,別紙１_実施計画書!$AE$515:$AQ$517,3,0)=TRUE),1,\"-\")","v":"-"},{"$f":"IF(OR(HLOOKUP($E18,別紙１_実施計画書!$AE$567:$AQ$569,3,0)=1,HLOOKUP($E18,別紙１_実施計画書!$AE$567:$AQ$569,3,0)=TRUE),1,\"-\")","v":"-"},{"$f":"IF(OR(HLOOKUP($E18,別紙１_実施計画書!$AE$619:$AQ$621,3,0)=1,HLOOKUP($E18,別紙１_実施計画書!$AE$619:$AQ$621,3,0)=TRUE),1,\"-\")","v":"-"},{"$f":"IF(OR(HLOOKUP($E18,別紙１_実施計画書!$AE$671:$AQ$673,3,0)=1,HLOOKUP($E18,別紙１_実施計画書!$AE$671:$AQ$673,3,0)=TRUE),1,\"-\")","v":"-"},{"$f":"IF(OR(HLOOKUP($E18,別紙１_実施計画書!$AE$723:$AQ$725,3,0)=1,HLOOKUP($E18,別紙１_実施計画書!$AE$723:$AQ$725,3,0)=TRUE),1,\"-\")","v":"-"},{"$f":"IF(OR(HLOOKUP($E18,別紙１_実施計画書!$AE$775:$AQ$777,3,0)=1,HLOOKUP($E18,別紙１_実施計画書!$AE$775:$AQ$777,3,0)=TRUE),1,\"-\")","v":"-"},"*"]
[11,null,null,null,"⑪","再エネ",null,{"$f":"IF(OR(HLOOKUP($E19,別紙１_実施計画書!$AE$47:$AQ$49,3,0)=1,HLOOKUP($E19,別紙１_実施計画書!$AE$47:$AQ$49,3,0)=TRUE),1,\"-\")","v":"-"},{"$f":"IF(OR(HLOOKUP($E19,別紙１_実施計画書!$AE$99:$AQ$101,3,0)=1,HLOOKUP($E19,別紙１_実施計画書!$AE$99:$AQ$101,3,0)=TRUE),1,\"-\")","v":"-"},{"$f":"IF(OR(HLOOKUP($E19,別紙１_実施計画書!$AE$151:$AQ$153,3,0)=1,HLOOKUP($E19,別紙１_実施計画書!$AE$151:$AQ$153,3,0)=TRUE),1,\"-\")","v":"-"},{"$f":"IF(OR(HLOOKUP($E19,別紙１_実施計画書!$AE$203:$AQ$205,3,0)=1,HLOOKUP($E19,別紙１_実施計画書!$AE$203:$AQ$205,3,0)=TRUE),1,\"-\")","v":"-"},{"$f":"IF(OR(HLOOKUP($E19,別紙１_実施計画書!$AE$255:$AQ$257,3,0)=1,HLOOKUP($E19,別紙１_実施計画書!$AE$255:$AQ$257,3,0)=TRUE),1,\"-\")","v":"-"},{"$f":"IF(OR(HLOOKUP($E19,別紙１_実施計画書!$AE$307:$AQ$309,3,0)=1,HLOOKUP($E19,別紙１_実施計画書!$AE$307:$AQ$309,3,0)=TRUE),1,\"-\")","v":"-"},{"$f":"IF(OR(HLOOKUP($E19,別紙１_実施計画書!$AE$359:$AQ$361,3,0)=1,HLOOKUP($E19,別紙１_実施計画書!$AE$359:$AQ$361,3,0)=TRUE),1,\"-\")","v":"-"},{"$f":"IF(OR(HLOOKUP($E19,別紙１_実施計画書!$AE$411:$AQ$413,3,0)=1,HLOOKUP($E19,別紙１_実施計画書!$AE$411:$AQ$413,3,0)=TRUE),1,\"-\")","v":"-"},{"$f":"IF(OR(HLOOKUP($E19,別紙１_実施計画書!$AE$463:$AQ$465,3,0)=1,HLOOKUP($E19,別紙１_実施計画書!$AE$463:$AQ$465,3,0)=TRUE),1,\"-\")","v":"-"},{"$f":"IF(OR(HLOOKUP($E19,別紙１_実施計画書!$AE$515:$AQ$517,3,0)=1,HLOOKUP($E19,別紙１_実施計画書!$AE$515:$AQ$517,3,0)=TRUE),1,\"-\")","v":"-"},{"$f":"IF(OR(HLOOKUP($E19,別紙１_実施計画書!$AE$567:$AQ$569,3,0)=1,HLOOKUP($E19,別紙１_実施計画書!$AE$567:$AQ$569,3,0)=TRUE),1,\"-\")","v":"-"},{"$f":"IF(OR(HLOOKUP($E19,別紙１_実施計画書!$AE$619:$AQ$621,3,0)=1,HLOOKUP($E19,別紙１_実施計画書!$AE$619:$AQ$621,3,0)=TRUE),1,\"-\")","v":"-"},{"$f":"IF(OR(HLOOKUP($E19,別紙１_実施計画書!$AE$671:$AQ$673,3,0)=1,HLOOKUP($E19,別紙１_実施計画書!$AE$671:$AQ$673,3,0)=TRUE),1,\"-\")","v":"-"},{"$f":"IF(OR(HLOOKUP($E19,別紙１_実施計画書!$AE$723:$AQ$725,3,0)=1,HLOOKUP($E19,別紙１_実施計画書!$AE$723:$AQ$725,3,0)=TRUE),1,\"-\")","v":"-"},{"$f":"IF(OR(HLOOKUP($E19,別紙１_実施計画書!$AE$775:$AQ$777,3,0)=1,HLOOKUP($E19,別紙１_実施計画書!$AE$775:$AQ$777,3,0)=TRUE),1,\"-\")","v":"-"},"*"]
[12,null,null,null,"⑫","食品ロス",null,{"$f":"IF(OR(HLOOKUP($E20,別紙１_実施計画書!$AE$47:$AQ$49,3,0)=1,HLOOKUP($E20,別紙１_実施計画書!$AE$47:$AQ$49,3,0)=TRUE),1,\"-\")","v":"-"},{"$f":"IF(OR(HLOOKUP($E20,別紙１_実施計画書!$AE$99:$AQ$101,3,0)=1,HLOOKUP($E20,別紙１_実施計画書!$AE$99:$AQ$101,3,0)=TRUE),1,\"-\")","v":"-"},{"$f":"IF(OR(HLOOKUP($E20,別紙１_実施計画書!$AE$151:$AQ$153,3,0)=1,HLOOKUP($E20,別紙１_実施計画書!$AE$151:$AQ$153,3,0)=TRUE),1,\"-\")","v":"-"},{"$f":"IF(OR(HLOOKUP($E20,別紙１_実施計画書!$AE$203:$AQ$205,3,0)=1,HLOOKUP($E20,別紙１_実施計画書!$AE$203:$AQ$205,3,0)=TRUE),1,\"-\")","v":"-"},{"$f":"IF(OR(HLOOKUP($E20,別紙１_実施計画書!$AE$255:$AQ$257,3,0)=1,HLOOKUP($E20,別紙１_実施計画書!$AE$255:$AQ$257,3,0)=TRUE),1,\"-\")","v":"-"},{"$f":"IF(OR(HLOOKUP($E20,別紙１_実施計画書!$AE$307:$AQ$309,3,0)=1,HLOOKUP($E20,別紙１_実施計画書!$AE$307:$AQ$309,3,0)=TRUE),1,\"-\")","v":"-"},{"$f":"IF(OR(HLOOKUP($E20,別紙１_実施計画書!$AE$359:$AQ$361,3,0)=1,HLOOKUP($E20,別紙１_実施計画書!$AE$359:$AQ$361,3,0)=TRUE),1,\"-\")","v":"-"},{"$f":"IF(OR(HLOOKUP($E20,別紙１_実施計画書!$AE$411:$AQ$413,3,0)=1,HLOOKUP($E20,別紙１_実施計画書!$AE$411:$AQ$413,3,0)=TRUE),1,\"-\")","v":"-"},{"$f":"IF(OR(HLOOKUP($E20,別紙１_実施計画書!$AE$463:$AQ$465,3,0)=1,HLOOKUP($E20,別紙１_実施計画書!$AE$463:$AQ$465,3,0)=TRUE),1,\"-\")","v":"-"},{"$f":"IF(OR(HLOOKUP($E20,別紙１_実施計画書!$AE$515:$AQ$517,3,0)=1,HLOOKUP($E20,別紙１_実施計画書!$AE$515:$AQ$517,3,0)=TRUE),1,\"-\")","v":"-"},{"$f":"IF(OR(HLOOKUP($E20,別紙１_実施計画書!$AE$567:$AQ$569,3,0)=1,HLOOKUP($E20,別紙１_実施計画書!$AE$567:$AQ$569,3,0)=TRUE),1,\"-\")","v":"-"},{"$f":"IF(OR(HLOOKUP($E20,別紙１_実施計画書!$AE$619:$AQ$621,3,0)=1,HLOOKUP($E20,別紙１_実施計画書!$AE$619:$AQ$621,3,0)=TRUE),1,\"-\")","v":"-"},{"$f":"IF(OR(HLOOKUP($E20,別紙１_実施計画書!$AE$671:$AQ$673,3,0)=1,HLOOKUP($E20,別紙１_実施計画書!$AE$671:$AQ$673,3,0)=TRUE),1,\"-\")","v":"-"},{"$f":"IF(OR(HLOOKUP($E20,別紙１_実施計画書!$AE$723:$AQ$725,3,0)=1,HLOOKUP($E20,別紙１_実施計画書!$AE$723:$AQ$725,3,0)=TRUE),1,\"-\")","v":"-"},{"$f":"IF(OR(HLOOKUP($E20,別紙１_実施計画書!$AE$775:$AQ$777,3,0)=1,HLOOKUP($E20,別紙１_実施計画書!$AE$775:$AQ$777,3,0)=TRUE),1,\"-\")","v":"-"},"*"]
[13,null,null,null,"⑬","その他",null,{"$f":"IF(OR(HLOOKUP($E21,別紙１_実施計画書!$AE$47:$AQ$49,3,0)=1,HLOOKUP($E21,別紙１_実施計画書!$AE$47:$AQ$49,3,0)=TRUE),1,\"-\")","v":"-"},{"$f":"IF(OR(HLOOKUP($E21,別紙１_実施計画書!$AE$99:$AQ$101,3,0)=1,HLOOKUP($E21,別紙１_実施計画書!$AE$99:$AQ$101,3,0)=TRUE),1,\"-\")","v":"-"},{"$f":"IF(OR(HLOOKUP($E21,別紙１_実施計画書!$AE$151:$AQ$153,3,0)=1,HLOOKUP($E21,別紙１_実施計画書!$AE$151:$AQ$153,3,0)=TRUE),1,\"-\")","v":"-"},{"$f":"IF(OR(HLOOKUP($E21,別紙１_実施計画書!$AE$203:$AQ$205,3,0)=1,HLOOKUP($E21,別紙１_実施計画書!$AE$203:$AQ$205,3,0)=TRUE),1,\"-\")","v":"-"},{"$f":"IF(OR(HLOOKUP($E21,別紙１_実施計画書!$AE$255:$AQ$257,3,0)=1,HLOOKUP($E21,別紙１_実施計画書!$AE$255:$AQ$257,3,0)=TRUE),1,\"-\")","v":"-"},{"$f":"IF(OR(HLOOKUP($E21,別紙１_実施計画書!$AE$307:$AQ$309,3,0)=1,HLOOKUP($E21,別紙１_実施計画書!$AE$307:$AQ$309,3,0)=TRUE),1,\"-\")","v":"-"},{"$f":"IF(OR(HLOOKUP($E21,別紙１_実施計画書!$AE$359:$AQ$361,3,0)=1,HLOOKUP($E21,別紙１_実施計画書!$AE$359:$AQ$361,3,0)=TRUE),1,\"-\")","v":"-"},{"$f":"IF(OR(HLOOKUP($E21,別紙１_実施計画書!$AE$411:$AQ$413,3,0)=1,HLOOKUP($E21,別紙１_実施計画書!$AE$411:$AQ$413,3,0)=TRUE),1,\"-\")","v":"-"},{"$f":"IF(OR(HLOOKUP($E21,別紙１_実施計画書!$AE$463:$AQ$465,3,0)=1,HLOOKUP($E21,別紙１_実施計画書!$AE$463:$AQ$465,3,0)=TRUE),1,\"-\")","v":"-"},{"$f":"IF(OR(HLOOKUP($E21,別紙１_実施計画書!$AE$515:$AQ$517,3,0)=1,HLOOKUP($E21,別紙１_実施計画書!$AE$515:$AQ$517,3,0)=TRUE),1,\"-\")","v":"-"},{"$f":"IF(OR(HLOOKUP($E21,別紙１_実施計画書!$AE$567:$AQ$569,3,0)=1,HLOOKUP($E21,別紙１_実施計画書!$AE$567:$AQ$569,3,0)=TRUE),1,\"-\")","v":"-"},{"$f":"IF(OR(HLOOKUP($E21,別紙１_実施計画書!$AE$619:$AQ$621,3,0)=1,HLOOKUP($E21,別紙１_実施計画書!$AE$619:$AQ$621,3,0)=TRUE),1,\"-\")","v":"-"},{"$f":"IF(OR(HLOOKUP($E21,別紙１_実施計画書!$AE$671:$AQ$673,3,0)=1,HLOOKUP($E21,別紙１_実施計画書!$AE$671:$AQ$673,3,0)=TRUE),1,\"-\")","v":"-"},{"$f":"IF(OR(HLOOKUP($E21,別紙１_実施計画書!$AE$723:$AQ$725,3,0)=1,HLOOKUP($E21,別紙１_実施計画書!$AE$723:$AQ$725,3,0)=TRUE),1,\"-\")","v":"-"},{"$f":"IF(OR(HLOOKUP($E21,別紙１_実施計画書!$AE$775:$AQ$777,3,0)=1,HLOOKUP($E21,別紙１_実施計画書!$AE$775:$AQ$777,3,0)=TRUE),1,\"-\")","v":"-"},"*"]
[14,null,"訴求手法\n（該当する欄に「1」と記入）",null,"a)","情報発信型（受動型）",1,{"$f":"IF(OR(HLOOKUP($E22,別紙１_実施計画書!$BE$47:$BH$48,2,0)=1,HLOOKUP($E22,別紙１_実施計画書!$BE$47:$BH$48,2,0)=TRUE),1,\"-\")","v":"-"},{"$f":"IF(OR(HLOOKUP($E22,別紙１_実施計画書!$BE$99:$BH$100,2,0)=1,HLOOKUP($E22,別紙１_実施計画書!$BE$99:$BH$100,2,0)=TRUE),1,\"-\")","v":"-"},{"$f":"IF(OR(HLOOKUP($E22,別紙１_実施計画書!$BE$151:$BH$152,2,0)=1,HLOOKUP($E22,別紙１_実施計画書!$BE$151:$BH$152,2,0)=TRUE),1,\"-\")","v":"-"},{"$f":"IF(OR(HLOOKUP($E22,別紙１_実施計画書!$BE$203:$BH$204,2,0)=1,HLOOKUP($E22,別紙１_実施計画書!$BE$203:$BH$204,2,0)=TRUE),1,\"-\")","v":"-"},{"$f":"IF(OR(HLOOKUP($E22,別紙１_実施計画書!$BE$255:$BH$256,2,0)=1,HLOOKUP($E22,別紙１_実施計画書!$BE$255:$BH$256,2,0)=TRUE),1,\"-\")","v":"-"},{"$f":"IF(OR(HLOOKUP($E22,別紙１_実施計画書!$BE$307:$BH$308,2,0)=1,HLOOKUP($E22,別紙１_実施計画書!$BE$307:$BH$308,2,0)=TRUE),1,\"-\")","v":"-"},{"$f":"IF(OR(HLOOKUP($E22,別紙１_実施計画書!$BE$359:$BH$360,2,0)=1,HLOOKUP($E22,別紙１_実施計画書!$BE$359:$BH$360,2,0)=TRUE),1,\"-\")","v":"-"},{"$f":"IF(OR(HLOOKUP($E22,別紙１_実施計画書!$BE$411:$BH$412,2,0)=1,HLOOKUP($E22,別紙１_実施計画書!$BE$411:$BH$412,2,0)=TRUE),1,\"-\")","v":"-"},{"$f":"IF(OR(HLOOKUP($E22,別紙１_実施計画書!$BE$463:$BH$464,2,0)=1,HLOOKUP($E22,別紙１_実施計画書!$BE$463:$BH$464,2,0)=TRUE),1,\"-\")","v":"-"},{"$f":"IF(OR(HLOOKUP($E22,別紙１_実施計画書!$BE$515:$BH$516,2,0)=1,HLOOKUP($E22,別紙１_実施計画書!$BE$515:$BH$516,2,0)=TRUE),1,\"-\")","v":"-"},{"$f":"IF(OR(HLOOKUP($E22,別紙１_実施計画書!$BE$567:$BH$568,2,0)=1,HLOOKUP($E22,別紙１_実施計画書!$BE$567:$BH$568,2,0)=TRUE),1,\"-\")","v":"-"},{"$f":"IF(OR(HLOOKUP($E22,別紙１_実施計画書!$BE$619:$BH$621,2,0)=1,HLOOKUP($E22,別紙１_実施計画書!$BE$619:$BH$621,2,0)=TRUE),1,\"-\")","v":"-"},{"$f":"IF(OR(HLOOKUP($E22,別紙１_実施計画書!$BE$671:$BH$673,2,0)=1,HLOOKUP($E22,別紙１_実施計画書!$BE$671:$BH$673,2,0)=TRUE),1,\"-\")","v":"-"},{"$f":"IF(OR(HLOOKUP($E22,別紙１_実施計画書!$BE$723:$BH$724,2,0)=1,HLOOKUP($E22,別紙１_実施計画書!$BE$723:$BH$724,2,0)=TRUE),1,\"-\")","v":"-"},{"$f":"IF(OR(HLOOKUP($E22,別紙１_実施計画書!$BE$775:$BH$776,2,0)=1,HLOOKUP($E22,別紙１_実施計画書!$BE$775:$BH$776,2,0)=TRUE),1,\"-\")","v":"-"},"*"]
[15,null,null,null,"b)","情報発信型（能動型）",1,{"$f":"IF(OR(HLOOKUP($E23,別紙１_実施計画書!$BE$47:$BH$48,2,0)=1,HLOOKUP($E23,別紙１_実施計画書!$BE$47:$BH$48,2,0)=TRUE),1,\"-\")","v":"-"},{"$f":"IF(OR(HLOOKUP($E23,別紙１_実施計画書!$BE$99:$BH$100,2,0)=1,HLOOKUP($E23,別紙１_実施計画書!$BE$99:$BH$100,2,0)=TRUE),1,\"-\")","v":"-"},{"$f":"IF(OR(HLOOKUP($E23,別紙１_実施計画書!$BE$151:$BH$152,2,0)=1,HLOOKUP($E23,別紙１_実施計画書!$BE$151:$BH$152,2,0)=TRUE),1,\"-\")","v":"-"},{"$f":"IF(OR(HLOOKUP($E23,別紙１_実施計画書!$BE$203:$BH$204,2,0)=1,HLOOKUP($E23,別紙１_実施計画書!$BE$203:$BH$204,2,0)=TRUE),1,\"-\")","v":"-"},{"$f":"IF(OR(HLOOKUP($E23,別紙１_実施計画書!$BE$255:$BH$256,2,0)=1,HLOOKUP($E23,別紙１_実施計画書!$BE$255:$BH$256,2,0)=TRUE),1,\"-\")","v":"-"},{"$f":"IF(OR(HLOOKUP($E23,別紙１_実施計画書!$BE$307:$BH$308,2,0)=1,HLOOKUP($E23,別紙１_実施計画書!$BE$307:$BH$308,2,0)=TRUE),1,\"-\")","v":"-"},{"$f":"IF(OR(HLOOKUP($E23,別紙１_実施計画書!$BE$359:$BH$360,2,0)=1,HLOOKUP($E23,別紙１_実施計画書!$BE$359:$BH$360,2,0)=TRUE),1,\"-\")","v":"-"},{"$f":"IF(OR(HLOOKUP($E23,別紙１_実施計画書!$BE$411:$BH$412,2,0)=1,HLOOKUP($E23,別紙１_実施計画書!$BE$411:$BH$412,2,0)=TRUE),1,\"-\")","v":"-"},{"$f":"IF(OR(HLOOKUP($E23,別紙１_実施計画書!$BE$463:$BH$464,2,0)=1,HLOOKUP($E23,別紙１_実施計画書!$BE$463:$BH$464,2,0)=TRUE),1,\"-\")","v":"-"},{"$f":"IF(OR(HLOOKUP($E23,別紙１_実施計画書!$BE$515:$BH$516,2,0)=1,HLOOKUP($E23,別紙１_実施計画書!$BE$515:$BH$516,2,0)=TRUE),1,\"-\")","v":"-"},{"$f":"IF(OR(HLOOKUP($E23,別紙１_実施計画書!$BE$567:$BH$568,2,0)=1,HLOOKUP($E23,別紙１_実施計画書!$BE$567:$BH$568,2,0)=TRUE),1,\"-\")","v":"-"},{"$f":"IF(OR(HLOOKUP($E23,別紙１_実施計画書!$BE$619:$BH$621,2,0)=1,HLOOKUP($E23,別紙１_実施計画書!$BE$619:$BH$621,2,0)=TRUE),1,\"-\")","v":"-"},{"$f":"IF(OR(HLOOKUP($E23,別紙１_実施計画書!$BE$671:$BH$673,2,0)=1,HLOOKUP($E23,別紙１_実施計画書!$BE$671:$BH$673,2,0)=TRUE),1,\"-\")","v":"-"},{"$f":"IF(OR(HLOOKUP($E23,別紙１_実施計画書!$BE$723:$BH$724,2,0)=1,HLOOKUP($E23,別紙１_実施計画書!$BE$723:$BH$724,2,0)=TRUE),1,\"-\")","v":"-"},{"$f":"IF(OR(HLOOKUP($E23,別紙１_実施計画書!$BE$775:$BH$776,2,0)=1,HLOOKUP($E23,別紙１_実施計画書!$BE$775:$BH$776,2,0)=TRUE),1,\"-\")","v":"-"},"*"]
[16,null,null,null,"c)","双方向体験交流型",null,{"$f":"IF(OR(HLOOKUP($E24,別紙１_実施計画書!$BE$47:$BH$48,2,0)=1,HLOOKUP($E24,別紙１_実施計画書!$BE$47:$BH$48,2,0)=TRUE),1,\"-\")","v":"-"},{"$f":"IF(OR(HLOOKUP($E24,別紙１_実施計画書!$BE$99:$BH$100,2,0)=1,HLOOKUP($E24,別紙１_実施計画書!$BE$99:$BH$100,2,0)=TRUE),1,\"-\")","v":"-"},{"$f":"IF(OR(HLOOKUP($E24,別紙１_実施計画書!$BE$151:$BH$152,2,0)=1,HLOOKUP($E24,別紙１_実施計画書!$BE$151:$BH$152,2,0)=TRUE),1,\"-\")","v":"-"},{"$f":"IF(OR(HLOOKUP($E24,別紙１_実施計画書!$BE$203:$BH$204,2,0)=1,HLOOKUP($E24,別紙１_実施計画書!$BE$203:$BH$204,2,0)=TRUE),1,\"-\")","v":"-"},{"$f":"IF(OR(HLOOKUP($E24,別紙１_実施計画書!$BE$255:$BH$256,2,0)=1,HLOOKUP($E24,別紙１_実施計画書!$BE$255:$BH$256,2,0)=TRUE),1,\"-\")","v":"-"},{"$f":"IF(OR(HLOOKUP($E24,別紙１_実施計画書!$BE$307:$BH$308,2,0)=1,HLOOKUP($E24,別紙１_実施計画書!$BE$307:$BH$308,2,0)=TRUE),1,\"-\")","v":"-"},{"$f":"IF(OR(HLOOKUP($E24,別紙１_実施計画書!$BE$359:$BH$360,2,0)=1,HLOOKUP($E24,別紙１_実施計画書!$BE$359:$BH$360,2,0)=TRUE),1,\"-\")","v":"-"},{"$f":"IF(OR(HLOOKUP($E24,別紙１_実施計画書!$BE$411:$BH$412,2,0)=1,HLOOKUP($E24,別紙１_実施計画書!$BE$411:$BH$412,2,0)=TRUE),1,\"-\")","v":"-"},{"$f":"IF(OR(HLOOKUP($E24,別紙１_実施計画書!$BE$463:$BH$464,2,0)=1,HLOOKUP($E24,別紙１_実施計画書!$BE$463:$BH$464,2,0)=TRUE),1,\"-\")","v":"-"},{"$f":"IF(OR(HLOOKUP($E24,別紙１_実施計画書!$BE$515:$BH$516,2,0)=1,HLOOKUP($E24,別紙１_実施計画書!$BE$515:$BH$516,2,0)=TRUE),1,\"-\")","v":"-"},{"$f":"IF(OR(HLOOKUP($E24,別紙１_実施計画書!$BE$567:$BH$568,2,0)=1,HLOOKUP($E24,別紙１_実施計画書!$BE$567:$BH$568,2,0)=TRUE),1,\"-\")","v":"-"},{"$f":"IF(OR(HLOOKUP($E24,別紙１_実施計画書!$BE$619:$BH$621,2,0)=1,HLOOKUP($E24,別紙１_実施計画書!$BE$619:$BH$621,2,0)=TRUE),1,\"-\")","v":"-"},{"$f":"IF(OR(HLOOKUP($E24,別紙１_実施計画書!$BE$671:$BH$673,2,0)=1,HLOOKUP($E24,別紙１_実施計画書!$BE$671:$BH$673,2,0)=TRUE),1,\"-\")","v":"-"},{"$f":"IF(OR(HLOOKUP($E24,別紙１_実施計画書!$BE$723:$BH$724,2,0)=1,HLOOKUP($E24,別紙１_実施計画書!$BE$723:$BH$724,2,0)=TRUE),1,\"-\")","v":"-"},{"$f":"IF(OR(HLOOKUP($E24,別紙１_実施計画書!$BE$775:$BH$776,2,0)=1,HLOOKUP($E24,別紙１_実施計画書!$BE$775:$BH$776,2,0)=TRUE),1,\"-\")","v":"-"},"*"]
[17,null,null,null,"d)","双方向ＷＥＢ等配信型",null,{"$f":"IF(OR(HLOOKUP($E25,別紙１_実施計画書!$BE$47:$BH$48,2,0)=1,HLOOKUP($E25,別紙１_実施計画書!$BE$47:$BH$48,2,0)=TRUE),1,\"-\")","v":"-"},{"$f":"IF(OR(HLOOKUP($E25,別紙１_実施計画書!$BE$99:$BH$100,2,0)=1,HLOOKUP($E25,別紙１_実施計画書!$BE$99:$BH$100,2,0)=TRUE),1,\"-\")","v":"-"},{"$f":"IF(OR(HLOOKUP($E25,別紙１_実施計画書!$BE$151:$BH$152,2,0)=1,HLOOKUP($E25,別紙１_実施計画書!$BE$151:$BH$152,2,0)=TRUE),1,\"-\")","v":"-"},{"$f":"IF(OR(HLOOKUP($E25,別紙１_実施計画書!$BE$203:$BH$204,2,0)=1,HLOOKUP($E25,別紙１_実施計画書!$BE$203:$BH$204,2,0)=TRUE),1,\"-\")","v":"-"},{"$f":"IF(OR(HLOOKUP($E25,別紙１_実施計画書!$BE$255:$BH$256,2,0)=1,HLOOKUP($E25,別紙１_実施計画書!$BE$255:$BH$256,2,0)=TRUE),1,\"-\")","v":"-"},{"$f":"IF(OR(HLOOKUP($E25,別紙１_実施計画書!$BE$307:$BH$308,2,0)=1,HLOOKUP($E25,別紙１_実施計画書!$BE$307:$BH$308,2,0)=TRUE),1,\"-\")","v":"-"},{"$f":"IF(OR(HLOOKUP($E25,別紙１_実施計画書!$BE$359:$BH$360,2,0)=1,HLOOKUP($E25,別紙１_実施計画書!$BE$359:$BH$360,2,0)=TRUE),1,\"-\")","v":"-"},{"$f":"IF(OR(HLOOKUP($E25,別紙１_実施計画書!$BE$411:$BH$412,2,0)=1,HLOOKUP($E25,別紙１_実施計画書!$BE$411:$BH$412,2,0)=TRUE),1,\"-\")","v":"-"},{"$f":"IF(OR(HLOOKUP($E25,別紙１_実施計画書!$BE$463:$BH$464,2,0)=1,HLOOKUP($E25,別紙１_実施計画書!$BE$463:$BH$464,2,0)=TRUE),1,\"-\")","v":"-"},{"$f":"IF(OR(HLOOKUP($E25,別紙１_実施計画書!$BE$515:$BH$516,2,0)=1,HLOOKUP($E25,別紙１_実施計画書!$BE$515:$BH$516,2,0)=TRUE),1,\"-\")","v":"-"},{"$f":"IF(OR(HLOOKUP($E25,別紙１_実施計画書!$BE$567:$BH$568,2,0)=1,HLOOKUP($E25,別紙１_実施計画書!$BE$567:$BH$568,2,0)=TRUE),1,\"-\")","v":"-"},{"$f":"IF(OR(HLOOKUP($E25,別紙１_実施計画書!$BE$619:$BH$621,2,0)=1,HLOOKUP($E25,別紙１_実施計画書!$BE$619:$BH$621,2,0)=TRUE),1,\"-\")","v":"-"},{"$f":"IF(OR(HLOOKUP($E25,別紙１_実施計画書!$BE$671:$BH$673,2,0)=1,HLOOKUP($E25,別紙１_実施計画書!$BE$671:$BH$673,2,0)=TRUE),1,\"-\")","v":"-"},{"$f":"IF(OR(HLOOKUP($E25,別紙１_実施計画書!$BE$723:$BH$724,2,0)=1,HLOOKUP($E25,別紙１_実施計画書!$BE$723:$BH$724,2,0)=TRUE),1,\"-\")","v":"-"},{"$f":"IF(OR(HLOOKUP($E25,別紙１_実施計画書!$BE$775:$BH$776,2,0)=1,HLOOKUP($E25,別紙１_実施計画書!$BE$775:$BH$776,2,0)=TRUE),1,\"-\")","v":"-"},"*"]
[18,null,"実施期間",null,null,null,"2020-08-04",{"$f":"IF(別紙１_実施計画書!$E60=\"\",\"\",別紙１_実施計画書!$E60)","v":""},{"$f":"IF(別紙１_実施計画書!$E112=\"\",\"\",別紙１_実施計画書!$E112)","v":""},{"$f":"IF(別紙１_実施計画書!$E164=\"\",\"\",別紙１_実施計画書!$E164)","v":""},{"$f":"IF(別紙１_実施計画書!$E216=\"\",\"\",別紙１_実施計画書!$E216)","v":""},{"$f":"IF(別紙１_実施計画書!$E268=\"\",\"\",別紙１_実施計画書!$E268)","v":""},{"$f":"IF(別紙１_実施計画書!E320=\"\",\"\",別紙１_実施計画書!E320)","v":""},{"$f":"IF(別紙１_実施計画書!E372=\"\",\"\",別紙１_実施計画書!E372)","v":""},{"$f":"IF(別紙１_実施計画書!E424=\"\",\"\",別紙１_実施計画書!E424)","v":""},{"$f":"IF(別紙１_実施計画書!E476=\"\",\"\",別紙１_実施計画書!E476)","v":""},{"$f":"IF(別紙１_実施計画書!E528=\"\",\"\",別紙１_実施計画書!E528)","v":""},{"$f":"IF(別紙１_実施計画書!E580=\"\",\"\",別紙１_実施計画書!E580)","v":""},{"$f":"IF(別紙１_実施計画書!E632=\"\",\"\",別紙１_実施計画書!E632)","v":""},{"$f":"IF(別紙１_実施計画書!E684=\"\",\"\",別紙１_実施計画書!E684)","v":""},{"$f":"IF(別紙１_実施計画書!E736=\"\",\"\",別紙１_実施計画書!E736)","v":""},{"$f":"IF(別紙１_実施計画書!E788=\"\",\"\",別紙１_実施計画書!E788)","v":""},"*"]
[19,null,null,null,null,null,"～","～","～","～","～","～","～","～","～","～","～","～","～","～","～","～","*"]
[20,null,null,null,null,null,"2020-12-15",{"$f":"IF(別紙１_実施計画書!$S60=\"\",\"\",別紙１_実施計画書!$S60)","v":""},{"$f":"IF(別紙１_実施計画書!$S112=\"\",\"\",別紙１_実施計画書!$S112)","v":""},{"$f":"IF(別紙１_実施計画書!$S164=\"\",\"\",別紙１_実施計画書!$S164)","v":""},{"$f":"IF(別紙１_実施計画書!$S216=\"\",\"\",別紙１_実施計画書!$S216)","v":""},{"$f":"IF(別紙１_実施計画書!$S268=\"\",\"\",別紙１_実施計画書!$S268)","v":""},{"$f":"IF(別紙１_実施計画書!$S320=\"\",\"\",別紙１_実施計画書!$S320)","v":""},{"$f":"IF(別紙１_実施計画書!$S372=\"\",\"\",別紙１_実施計画書!$S372)","v":""},{"$f":"IF(別紙１_実施計画書!$S424=\"\",\"\",別紙１_実施計画書!$S424)","v":""},{"$f":"IF(別紙１_実施計画書!$S476=\"\",\"\",別紙１_実施計画書!$S476)","v":""},{"$f":"IF(別紙１_実施計画書!$S528=\"\",\"\",別紙１_実施計画書!$S528)","v":""},{"$f":"IF(別紙１_実施計画書!$S580=\"\",\"\",別紙１_実施計画書!$S580)","v":""},{"$f":"IF(別紙１_実施計画書!$S632=\"\",\"\",別紙１_実施計画書!$S632)","v":""},{"$f":"IF(別紙１_実施計画書!$S684=\"\",\"\",別紙１_実施計画書!$S684)","v":""},{"$f":"IF(別紙１_実施計画書!$S736=\"\",\"\",別紙１_実施計画書!$S736)","v":""},{"$f":"IF(別紙１_実施計画書!$S788=\"\",\"\",別紙１_実施計画書!$S788)","v":""},"*"]
[21,null,null,"備考",null,null,"月2回",{"$f":"IF(別紙１_実施計画書!$E61=\"\",\"\",別紙１_実施計画書!$E61)","v":""},{"$f":"IF(別紙１_実施計画書!$E113=\"\",\"\",別紙１_実施計画書!$E113)","v":""},{"$f":"IF(別紙１_実施計画書!$E165=\"\",\"\",別紙１_実施計画書!$E165)","v":""},{"$f":"IF(別紙１_実施計画書!$E217=\"\",\"\",別紙１_実施計画書!$E217)","v":""},{"$f":"IF(別紙１_実施計画書!$E269=\"\",\"\",別紙１_実施計画書!$E269)","v":""},{"$f":"IF(別紙１_実施計画書!$E321=\"\",\"\",別紙１_実施計画書!$E321)","v":""},{"$f":"IF(別紙１_実施計画書!$E373=\"\",\"\",別紙１_実施計画書!$E373)","v":""},{"$f":"IF(別紙１_実施計画書!$E425=\"\",\"\",別紙１_実施計画書!$E425)","v":""},{"$f":"IF(別紙１_実施計画書!$E477=\"\",\"\",別紙１_実施計画書!$E477)","v":""},{"$f":"IF(別紙１_実施計画書!$E529=\"\",\"\",別紙１_実施計画書!$E529)","v":""},{"$f":"IF(別紙１_実施計画書!$E581=\"\",\"\",別紙１_実施計画書!$E581)","v":""},{"$f":"IF(別紙１_実施計画書!$E633=\"\",\"\",別紙１_実施計画書!$E633)","v":""},{"$f":"IF(別紙１_実施計画書!$E685=\"\",\"\",別紙１_実施計画書!$E685)","v":""},{"$f":"IF(別紙１_実施計画書!$E737=\"\",\"\",別紙１_実施計画書!$E737)","v":""},{"$f":"IF(別紙１_実施計画書!$E789=\"\",\"\",別紙１_実施計画書!$E789)","v":""},"*"]
[22,null,"実施日\n（※同一事業内で、同一の内容・場所において\n複数日実施する場合）",null,null,null,"2020-08-04",{"$f":"IF(別紙１_実施計画書!$G62=\"\",\"\",別紙１_実施計画書!$G62)","v":""},{"$f":"IF(別紙１_実施計画書!$G114=\"\",\"\",別紙１_実施計画書!$G114)","v":""},{"$f":"IF(別紙１_実施計画書!$G166=\"\",\"\",別紙１_実施計画書!$G166)","v":""},{"$f":"IF(別紙１_実施計画書!$G218=\"\",\"\",別紙１_実施計画書!$G218)","v":""},{"$f":"IF(別紙１_実施計画書!$G270=\"\",\"\",別紙１_実施計画書!$G270)","v":""},{"$f":"IF(別紙１_実施計画書!$G322=\"\",\"\",別紙１_実施計画書!$G322)","v":""},{"$f":"IF(別紙１_実施計画書!$G374=\"\",\"\",別紙１_実施計画書!$G374)","v":""},{"$f":"IF(別紙１_実施計画書!$G426=\"\",\"\",別紙１_実施計画書!$G426)","v":""},{"$f":"IF(別紙１_実施計画書!$G478=\"\",\"\",別紙１_実施計画書!$G478)","v":""},{"$f":"IF(別紙１_実施計画書!$G530=\"\",\"\",別紙１_実施計画書!$G530)","v":""},{"$f":"IF(別紙１_実施計画書!$G582=\"\",\"\",別紙１_実施計画書!$G582)","v":""},{"$f":"IF(別紙１_実施計画書!$G634=\"\",\"\",別紙１_実施計画書!$G634)","v":""},{"$f":"IF(別紙１_実施計画書!$G686=\"\",\"\",別紙１_実施計画書!$G686)","v":""},{"$f":"IF(別紙１_実施計画書!$G738=\"\",\"\",別紙１_実施計画書!$G738)","v":""},{"$f":"IF(別紙１_実施計画書!$G790=\"\",\"\",別紙１_実施計画書!$G790)","v":""},"*"]
[23,null,null,null,null,null,"2020-08-18",{"$f":"IF(別紙１_実施計画書!$G63=\"\",\"\",別紙１_実施計画書!$G63)","v":""},{"$f":"IF(別紙１_実施計画書!$G115=\"\",\"\",別紙１_実施計画書!$G115)","v":""},{"$f":"IF(別紙１_実施計画書!$G167=\"\",\"\",別紙１_実施計画書!$G167)","v":""},{"$f":"IF(別紙１_実施計画書!$G219=\"\",\"\",別紙１_実施計画書!$G219)","v":""},{"$f":"IF(別紙１_実施計画書!$G271=\"\",\"\",別紙１_実施計画書!$G271)","v":""},{"$f":"IF(別紙１_実施計画書!$G323=\"\",\"\",別紙１_実施計画書!$G323)","v":""},{"$f":"IF(別紙１_実施計画書!$G375=\"\",\"\",別紙１_実施計画書!$G375)","v":""},{"$f":"IF(別紙１_実施計画書!$G427=\"\",\"\",別紙１_実施計画書!$G427)","v":""},{"$f":"IF(別紙１_実施計画書!$G479=\"\",\"\",別紙１_実施計画書!$G479)","v":""},{"$f":"IF(別紙１_実施計画書!$G531=\"\",\"\",別紙１_実施計画書!$G531)","v":""},{"$f":"IF(別紙１_実施計画書!$G583=\"\",\"\",別紙１_実施計画書!$G583)","v":""},{"$f":"IF(別紙１_実施計画書!$G635=\"\",\"\",別紙１_実施計画書!$G635)","v":""},{"$f":"IF(別紙１_実施計画書!$G687=\"\",\"\",別紙１_実施計画書!$G687)","v":""},{"$f":"IF(別紙１_実施計画書!$G739=\"\",\"\",別紙１_実施計画書!$G739)","v":""},{"$f":"IF(別紙１_実施計画書!$G791=\"\",\"\",別紙１_実施計画書!$G791)","v":""},"*"]
[24,null,null,null,null,null,"2020-09-01",{"$f":"IF(別紙１_実施計画書!$G64=\"\",\"\",別紙１_実施計画書!$G64)","v":""},{"$f":"IF(別紙１_実施計画書!$G116=\"\",\"\",別紙１_実施計画書!$G116)","v":""},{"$f":"IF(別紙１_実施計画書!$G168=\"\",\"\",別紙１_実施計画書!$G168)","v":""},{"$f":"IF(別紙１_実施計画書!$G220=\"\",\"\",別紙１_実施計画書!$G220)","v":""},{"$f":"IF(別紙１_実施計画書!$G272=\"\",\"\",別紙１_実施計画書!$G272)","v":""},{"$f":"IF(別紙１_実施計画書!$G324=\"\",\"\",別紙１_実施計画書!$G324)","v":""},{"$f":"IF(別紙１_実施計画書!$G376=\"\",\"\",別紙１_実施計画書!$G376)","v":""},{"$f":"IF(別紙１_実施計画書!$G428=\"\",\"\",別紙１_実施計画書!$G428)","v":""},{"$f":"IF(別紙１_実施計画書!$G480=\"\",\"\",別紙１_実施計画書!$G480)","v":""},{"$f":"IF(別紙１_実施計画書!$G532=\"\",\"\",別紙１_実施計画書!$G532)","v":""},{"$f":"IF(別紙１_実施計画書!$G584=\"\",\"\",別紙１_実施計画書!$G584)","v":""},{"$f":"IF(別紙１_実施計画書!$G636=\"\",\"\",別紙１_実施計画書!$G636)","v":""},{"$f":"IF(別紙１_実施計画書!$G688=\"\",\"\",別紙１_実施計画書!$G688)","v":""},{"$f":"IF(別紙１_実施計画書!$G740=\"\",\"\",別紙１_実施計画書!$G740)","v":""},{"$f":"IF(別紙１_実施計画書!$G792=\"\",\"\",別紙１_実施計画書!$G792)","v":""},"*"]
[25,null,null,null,null,null,"2020-09-15",{"$f":"IF(別紙１_実施計画書!$G65=\"\",\"\",別紙１_実施計画書!$G65)","v":""},{"$f":"IF(別紙１_実施計画書!$G117=\"\",\"\",別紙１_実施計画書!$G117)","v":""},{"$f":"IF(別紙１_実施計画書!$G169=\"\",\"\",別紙１_実施計画書!$G169)","v":""},{"$f":"IF(別紙１_実施計画書!$G221=\"\",\"\",別紙１_実施計画書!$G221)","v":""},{"$f":"IF(別紙１_実施計画書!$G273=\"\",\"\",別紙１_実施計画書!$G273)","v":""},{"$f":"IF(別紙１_実施計画書!$G325=\"\",\"\",別紙１_実施計画書!$G325)","v":""},{"$f":"IF(別紙１_実施計画書!$G377=\"\",\"\",別紙１_実施計画書!$G377)","v":""},{"$f":"IF(別紙１_実施計画書!$G429=\"\",\"\",別紙１_実施計画書!$G429)","v":""},{"$f":"IF(別紙１_実施計画書!$G481=\"\",\"\",別紙１_実施計画書!$G481)","v":""},{"$f":"IF(別紙１_実施計画書!$G533=\"\",\"\",別紙１_実施計画書!$G533)","v":""},{"$f":"IF(別紙１_実施計画書!$G585=\"\",\"\",別紙１_実施計画書!$G585)","v":""},{"$f":"IF(別紙１_実施計画書!$G637=\"\",\"\",別紙１_実施計画書!$G637)","v":""},{"$f":"IF(別紙１_実施計画書!$G689=\"\",\"\",別紙１_実施計画書!$G689)","v":""},{"$f":"IF(別紙１_実施計画書!$G741=\"\",\"\",別紙１_実施計画書!$G741)","v":""},{"$f":"IF(別紙１_実施計画書!$G793=\"\",\"\",別紙１_実施計画書!$G793)","v":""},"*"]
[26,null,null,null,null,null,"2020-10-06",{"$f":"IF(別紙１_実施計画書!$G66=\"\",\"\",別紙１_実施計画書!$G66)","v":""},{"$f":"IF(別紙１_実施計画書!$G118=\"\",\"\",別紙１_実施計画書!$G118)","v":""},{"$f":"IF(別紙１_実施計画書!$G170=\"\",\"\",別紙１_実施計画書!$G170)","v":""},{"$f":"IF(別紙１_実施計画書!$G222=\"\",\"\",別紙１_実施計画書!$G222)","v":""},{"$f":"IF(別紙１_実施計画書!$G274=\"\",\"\",別紙１_実施計画書!$G274)","v":""},{"$f":"IF(別紙１_実施計画書!$G326=\"\",\"\",別紙１_実施計画書!$G326)","v":""},{"$f":"IF(別紙１_実施計画書!$G378=\"\",\"\",別紙１_実施計画書!$G378)","v":""},{"$f":"IF(別紙１_実施計画書!$G430=\"\",\"\",別紙１_実施計画書!$G430)","v":""},{"$f":"IF(別紙１_実施計画書!$G482=\"\",\"\",別紙１_実施計画書!$G482)","v":""},{"$f":"IF(別紙１_実施計画書!$G534=\"\",\"\",別紙１_実施計画書!$G534)","v":""},{"$f":"IF(別紙１_実施計画書!$G586=\"\",\"\",別紙１_実施計画書!$G586)","v":""},{"$f":"IF(別紙１_実施計画書!$G638=\"\",\"\",別紙１_実施計画書!$G638)","v":""},{"$f":"IF(別紙１_実施計画書!$G690=\"\",\"\",別紙１_実施計画書!$G690)","v":""},{"$f":"IF(別紙１_実施計画書!$G742=\"\",\"\",別紙１_実施計画書!$G742)","v":""},{"$f":"IF(別紙１_実施計画書!$G794=\"\",\"\",別紙１_実施計画書!$G794)","v":""},"*"]
[27,null,null,null,null,null,"2020-10-20",{"$f":"IF(別紙１_実施計画書!$S62=\"\",\"\",別紙１_実施計画書!$S62)","v":""},{"$f":"IF(別紙１_実施計画書!$S114=\"\",\"\",別紙１_実施計画書!$S114)","v":""},{"$f":"IF(別紙１_実施計画書!$S166=\"\",\"\",別紙１_実施計画書!$S166)","v":""},{"$f":"IF(別紙１_実施計画書!$S218=\"\",\"\",別紙１_実施計画書!$S218)","v":""},{"$f":"IF(別紙１_実施計画書!$S270=\"\",\"\",別紙１_実施計画書!$S270)","v":""},{"$f":"IF(別紙１_実施計画書!$S322=\"\",\"\",別紙１_実施計画書!$S322)","v":""},{"$f":"IF(別紙１_実施計画書!$S374=\"\",\"\",別紙１_実施計画書!$S374)","v":""},{"$f":"IF(別紙１_実施計画書!$S426=\"\",\"\",別紙１_実施計画書!$S426)","v":""},{"$f":"IF(別紙１_実施計画書!$S478=\"\",\"\",別紙１_実施計画書!$S478)","v":""},{"$f":"IF(別紙１_実施計画書!$S530=\"\",\"\",別紙１_実施計画書!$S530)","v":""},{"$f":"IF(別紙１_実施計画書!$S582=\"\",\"\",別紙１_実施計画書!$S582)","v":""},{"$f":"IF(別紙１_実施計画書!$S634=\"\",\"\",別紙１_実施計画書!$S634)","v":""},{"$f":"IF(別紙１_実施計画書!$S686=\"\",\"\",別紙１_実施計画書!$S686)","v":""},{"$f":"IF(別紙１_実施計画書!$S738=\"\",\"\",別紙１_実施計画書!$S738)","v":""},{"$f":"IF(別紙１_実施計画書!$S790=\"\",\"\",別紙１_実施計画書!$S790)","v":""},"*"]
[28,null,null,null,null,null,"2020-11-03",{"$f":"IF(別紙１_実施計画書!$S63=\"\",\"\",別紙１_実施計画書!$S63)","v":""},{"$f":"IF(別紙１_実施計画書!$S115=\"\",\"\",別紙１_実施計画書!$S115)","v":""},{"$f":"IF(別紙１_実施計画書!$S167=\"\",\"\",別紙１_実施計画書!$S167)","v":""},{"$f":"IF(別紙１_実施計画書!$S219=\"\",\"\",別紙１_実施計画書!$S219)","v":""},{"$f":"IF(別紙１_実施計画書!$S271=\"\",\"\",別紙１_実施計画書!$S271)","v":""},{"$f":"IF(別紙１_実施計画書!$S323=\"\",\"\",別紙１_実施計画書!$S323)","v":""},{"$f":"IF(別紙１_実施計画書!$S375=\"\",\"\",別紙１_実施計画書!$S375)","v":""},{"$f":"IF(別紙１_実施計画書!$S427=\"\",\"\",別紙１_実施計画書!$S427)","v":""},{"$f":"IF(別紙１_実施計画書!$S479=\"\",\"\",別紙１_実施計画書!$S479)","v":""},{"$f":"IF(別紙１_実施計画書!$S531=\"\",\"\",別紙１_実施計画書!$S531)","v":""},{"$f":"IF(別紙１_実施計画書!$S583=\"\",\"\",別紙１_実施計画書!$S583)","v":""},{"$f":"IF(別紙１_実施計画書!$S635=\"\",\"\",別紙１_実施計画書!$S635)","v":""},{"$f":"IF(別紙１_実施計画書!$S687=\"\",\"\",別紙１_実施計画書!$S687)","v":""},{"$f":"IF(別紙１_実施計画書!$S739=\"\",\"\",別紙１_実施計画書!$S739)","v":""},{"$f":"IF(別紙１_実施計画書!$S791=\"\",\"\",別紙１_実施計画書!$S791)","v":""},"*"]
[29,null,null,null,null,null,"2020-11-17",{"$f":"IF(別紙１_実施計画書!$S64=\"\",\"\",別紙１_実施計画書!$S64)","v":""},{"$f":"IF(別紙１_実施計画書!$S116=\"\",\"\",別紙１_実施計画書!$S116)","v":""},{"$f":"IF(別紙１_実施計画書!$S168=\"\",\"\",別紙１_実施計画書!$S168)","v":""},{"$f":"IF(別紙１_実施計画書!$S220=\"\",\"\",別紙１_実施計画書!$S220)","v":""},{"$f":"IF(別紙１_実施計画書!$S272=\"\",\"\",別紙１_実施計画書!$S272)","v":""},{"$f":"IF(別紙１_実施計画書!$S324=\"\",\"\",別紙１_実施計画書!$S324)","v":""},{"$f":"IF(別紙１_実施計画書!$S376=\"\",\"\",別紙１_実施計画書!$S376)","v":""},{"$f":"IF(別紙１_実施計画書!$S428=\"\",\"\",別紙１_実施計画書!$S428)","v":""},{"$f":"IF(別紙１_実施計画書!$S480=\"\",\"\",別紙１_実施計画書!$S480)","v":""},{"$f":"IF(別紙１_実施計画書!$S532=\"\",\"\",別紙１_実施計画書!$S532)","v":""},{"$f":"IF(別紙１_実施計画書!$S584=\"\",\"\",別紙１_実施計画書!$S584)","v":""},{"$f":"IF(別紙１_実施計画書!$S636=\"\",\"\",別紙１_実施計画書!$S636)","v":""},{"$f":"IF(別紙１_実施計画書!$S688=\"\",\"\",別紙１_実施計画書!$S688)","v":""},{"$f":"IF(別紙１_実施計画書!$S740=\"\",\"\",別紙１_実施計画書!$S740)","v":""},{"$f":"IF(別紙１_実施計画書!$S792=\"\",\"\",別紙１_実施計画書!$S792)","v":""},"*"]
[30,null,null,null,null,null,"2020-12-01",{"$f":"IF(別紙１_実施計画書!$S65=\"\",\"\",別紙１_実施計画書!$S65)","v":""},{"$f":"IF(別紙１_実施計画書!$S117=\"\",\"\",別紙１_実施計画書!$S117)","v":""},{"$f":"IF(別紙１_実施計画書!$S169=\"\",\"\",別紙１_実施計画書!$S169)","v":""},{"$f":"IF(別紙１_実施計画書!$S221=\"\",\"\",別紙１_実施計画書!$S221)","v":""},{"$f":"IF(別紙１_実施計画書!$S273=\"\",\"\",別紙１_実施計画書!$S273)","v":""},{"$f":"IF(別紙１_実施計画書!$S325=\"\",\"\",別紙１_実施計画書!$S325)","v":""},{"$f":"IF(別紙１_実施計画書!$S377=\"\",\"\",別紙１_実施計画書!$S377)","v":""},{"$f":"IF(別紙１_実施計画書!$S429=\"\",\"\",別紙１_実施計画書!$S429)","v":""},{"$f":"IF(別紙１_実施計画書!$S481=\"\",\"\",別紙１_実施計画書!$S481)","v":""},{"$f":"IF(別紙１_実施計画書!$S533=\"\",\"\",別紙１_実施計画書!$S533)","v":""},{"$f":"IF(別紙１_実施計画書!$S585=\"\",\"\",別紙１_実施計画書!$S585)","v":""},{"$f":"IF(別紙１_実施計画書!$S637=\"\",\"\",別紙１_実施計画書!$S637)","v":""},{"$f":"IF(別紙１_実施計画書!$S689=\"\",\"\",別紙１_実施計画書!$S689)","v":""},{"$f":"IF(別紙１_実施計画書!$S741=\"\",\"\",別紙１_実施計画書!$S741)","v":""},{"$f":"IF(別紙１_実施計画書!$S793=\"\",\"\",別紙１_実施計画書!$S793)","v":""},"*"]
[31,null,null,null,null,null,"2020-12-15",{"$f":"IF(別紙１_実施計画書!$S66=\"\",\"\",別紙１_実施計画書!$S66)","v":""},{"$f":"IF(別紙１_実施計画書!$S118=\"\",\"\",別紙１_実施計画書!$S118)","v":""},{"$f":"IF(別紙１_実施計画書!$S170=\"\",\"\",別紙１_実施計画書!$S170)","v":""},{"$f":"IF(別紙１_実施計画書!$S222=\"\",\"\",別紙１_実施計画書!$S222)","v":""},{"$f":"IF(別紙１_実施計画書!$S274=\"\",\"\",別紙１_実施計画書!$S274)","v":""},{"$f":"IF(別紙１_実施計画書!$S326=\"\",\"\",別紙１_実施計画書!$S326)","v":""},{"$f":"IF(別紙１_実施計画書!$S378=\"\",\"\",別紙１_実施計画書!$S378)","v":""},{"$f":"IF(別紙１_実施計画書!$S430=\"\",\"\",別紙１_実施計画書!$S430)","v":""},{"$f":"IF(別紙１_実施計画書!$S482=\"\",\"\",別紙１_実施計画書!$S482)","v":""},{"$f":"IF(別紙１_実施計画書!$S534=\"\",\"\",別紙１_実施計画書!$S534)","v":""},{"$f":"IF(別紙１_実施計画書!$S586=\"\",\"\",別紙１_実施計画書!$S586)","v":""},{"$f":"IF(別紙１_実施計画書!$S638=\"\",\"\",別紙１_実施計画書!$S638)","v":""},{"$f":"IF(別紙１_実施計画書!$S690=\"\",\"\",別紙１_実施計画書!$S690)","v":""},{"$f":"IF(別紙１_実施計画書!$S742=\"\",\"\",別紙１_実施計画書!$S742)","v":""},{"$f":"IF(別紙１_実施計画書!$S794=\"\",\"\",別紙１_実施計画書!$S794)","v":""},"*"]
[32,null,"【計画】事業の概要",null,null,null,"20～40代を中心とした一般の方を対象に、自動車学校にてエコドライブ講習会を開催（2時間/1回当たり）\n\nエコドライブシミュレーターを活用することで※最大参加人数：25名、最小参加人数：10名\n\nまた、講習後にエコドライブについて館内放送を行う",{"$f":"IF(別紙１_実施計画書!$E67=\"\",\"\",別紙１_実施計画書!$E67)","v":""},{"$f":"IF(別紙１_実施計画書!$E119=\"\",\"\",別紙１_実施計画書!$E119)","v":""},{"$f":"IF(別紙１_実施計画書!$E171=\"\",\"\",別紙１_実施計画書!$E171)","v":""},{"$f":"IF(別紙１_実施計画書!$E223=\"\",\"\",別紙１_実施計画書!$E223)","v":""},{"$f":"IF(別紙１_実施計画書!$E275=\"\",\"\",別紙１_実施計画書!$E275)","v":""},{"$f":"IF(別紙１_実施計画書!$E327=\"\",\"\",別紙１_実施計画書!$E327)","v":""},{"$f":"IF(別紙１_実施計画書!$E379=\"\",\"\",別紙１_実施計画書!$E379)","v":""},{"$f":"IF(別紙１_実施計画書!$E431=\"\",\"\",別紙１_実施計画書!$E431)","v":""},{"$f":"IF(別紙１_実施計画書!$E483=\"\",\"\",別紙１_実施計画書!$E483)","v":""},{"$f":"IF(別紙１_実施計画書!$E535=\"\",\"\",別紙１_実施計画書!$E535)","v":""},{"$f":"IF(別紙１_実施計画書!$E587=\"\",\"\",別紙１_実施計画書!$E587)","v":""},{"$f":"IF(別紙１_実施計画書!$E639=\"\",\"\",別紙１_実施計画書!$E639)","v":""},{"$f":"IF(別紙１_実施計画書!$E691=\"\",\"\",別紙１_実施計画書!$E691)","v":""},{"$f":"IF(別紙１_実施計画書!$E743=\"\",\"\",別紙１_実施計画書!$E743)","v":""},{"$f":"IF(別紙１_実施計画書!$E795=\"\",\"\",別紙１_実施計画書!$E795)","v":""},"*"]
[33,null,"効果的な実施\nのための工夫",null,"【計画】\n主な訴求対象",null,"20～40代男性",{"$f":"IF(別紙１_実施計画書!$E69=\"\",\"\",別紙１_実施計画書!$E69)","v":""},{"$f":"IF(別紙１_実施計画書!$E121=\"\",\"\",別紙１_実施計画書!$E121)","v":""},{"$f":"IF(別紙１_実施計画書!$E173=\"\",\"\",別紙１_実施計画書!$E173)","v":""},{"$f":"IF(別紙１_実施計画書!$E225=\"\",\"\",別紙１_実施計画書!$E225)","v":""},{"$f":"IF(別紙１_実施計画書!$E277=\"\",\"\",別紙１_実施計画書!$E277)","v":""},{"$f":"IF(別紙１_実施計画書!$E329=\"\",\"\",別紙１_実施計画書!$E329)","v":""},{"$f":"IF(別紙１_実施計画書!$E381=\"\",\"\",別紙１_実施計画書!$E381)","v":""},{"$f":"IF(別紙１_実施計画書!$E433=\"\",\"\",別紙１_実施計画書!$E433)","v":""},{"$f":"IF(別紙１_実施計画書!$E485=\"\",\"\",別紙１_実施計画書!$E485)","v":""},{"$f":"IF(別紙１_実施計画書!$E537=\"\",\"\",別紙１_実施計画書!$E537)","v":""},{"$f":"IF(別紙１_実施計画書!$E589=\"\",\"\",別紙１_実施計画書!$E589)","v":""},{"$f":"IF(別紙１_実施計画書!$E641=\"\",\"\",別紙１_実施計画書!$E641)","v":""},{"$f":"IF(別紙１_実施計画書!$E693=\"\",\"\",別紙１_実施計画書!$E693)","v":""},{"$f":"IF(別紙１_実施計画書!$E745=\"\",\"\",別紙１_実施計画書!$E745)","v":""},{"$f":"IF(別紙１_実施計画書!$E797=\"\",\"\",別紙１_実施計画書!$E797)","v":""},"*"]
[34,null,null,null,"【結果報告】\n主な訴求対象",null,null,null,null,null,null,null,null,null,null,null,null,null,null,null,null,null,"*"]
[35,null,null,null,"【計画】\n訴求メッセージ",null,"・エコドライブの具体的な方法を伝え、CO2削減だけでなく安全性の向上にもつながることを訴求\n・エコドライブ実施によりガソリン代削減に繋がることを定量的に訴求",{"$f":"IF(別紙１_実施計画書!$E70=\"\",\"\",別紙１_実施計画書!$E70)","v":""},{"$f":"IF(別紙１_実施計画書!$E122=\"\",\"\",別紙１_実施計画書!$E122)","v":""},{"$f":"IF(別紙１_実施計画書!$E174=\"\",\"\",別紙１_実施計画書!$E174)","v":""},{"$f":"IF(別紙１_実施計画書!$E226=\"\",\"\",別紙１_実施計画書!$E226)","v":""},{"$f":"IF(別紙１_実施計画書!$E278=\"\",\"\",別紙１_実施計画書!$E278)","v":""},{"$f":"IF(別紙１_実施計画書!$E330=\"\",\"\",別紙１_実施計画書!$E330)","v":""},{"$f":"IF(別紙１_実施計画書!$E382=\"\",\"\",別紙１_実施計画書!$E382)","v":""},{"$f":"IF(別紙１_実施計画書!$E434=\"\",\"\",別紙１_実施計画書!$E434)","v":""},{"$f":"IF(別紙１_実施計画書!$E486=\"\",\"\",別紙１_実施計画書!$E486)","v":""},{"$f":"IF(別紙１_実施計画書!$E538=\"\",\"\",別紙１_実施計画書!$E538)","v":""},{"$f":"IF(別紙１_実施計画書!$E590=\"\",\"\",別紙１_実施計画書!$E590)","v":""},{"$f":"IF(別紙１_実施計画書!$E642=\"\",\"\",別紙１_実施計画書!$E642)","v":""},{"$f":"IF(別紙１_実施計画書!$E694=\"\",\"\",別紙１_実施計画書!$E694)","v":""},{"$f":"IF(別紙１_実施計画書!$E746=\"\",\"\",別紙１_実施計画書!$E746)","v":""},{"$f":"IF(別紙１_実施計画書!$E798=\"\",\"\",別紙１_実施計画書!$E798)","v":""},"*"]
[36,null,null,null,"【計画】\n事業実施時期の\n設定根拠",null,"・〇〇市は、1年のうち、8月～12月の交通量が最も多いことから、同時期に講習会を実施",{"$f":"IF(別紙１_実施計画書!$E71=\"\",\"\",別紙１_実施計画書!$E71)","v":""},{"$f":"IF(別紙１_実施計画書!$E123=\"\",\"\",別紙１_実施計画書!$E123)","v":""},{"$f":"IF(別紙１_実施計画書!$E175=\"\",\"\",別紙１_実施計画書!$E175)","v":""},{"$f":"IF(別紙１_実施計画書!$E227=\"\",\"\",別紙１_実施計画書!$E227)","v":""},{"$f":"IF(別紙１_実施計画書!$E279=\"\",\"\",別紙１_実施計画書!$E279)","v":""},{"$f":"IF(別紙１_実施計画書!$E331=\"\",\"\",別紙１_実施計画書!$E331)","v":""},{"$f":"IF(別紙１_実施計画書!$E383=\"\",\"\",別紙１_実施計画書!$E383)","v":""},{"$f":"IF(別紙１_実施計画書!$E435=\"\",\"\",別紙１_実施計画書!$E435)","v":""},{"$f":"IF(別紙１_実施計画書!$E487=\"\",\"\",別紙１_実施計画書!$E487)","v":""},{"$f":"IF(別紙１_実施計画書!$E539=\"\",\"\",別紙１_実施計画書!$E539)","v":""},{"$f":"IF(別紙１_実施計画書!$E591=\"\",\"\",別紙１_実施計画書!$E591)","v":""},{"$f":"IF(別紙１_実施計画書!$E643=\"\",\"\",別紙１_実施計画書!$E643)","v":""},{"$f":"IF(別紙１_実施計画書!$E695=\"\",\"\",別紙１_実施計画書!$E695)","v":""},{"$f":"IF(別紙１_実施計画書!$E747=\"\",\"\",別紙１_実施計画書!$E747)","v":""},{"$f":"IF(別紙１_実施計画書!$E799=\"\",\"\",別紙１_実施計画書!$E799)","v":""},"*"]
[37,null,null,null,"【計画】\n具体的な訴求方法・\nその他の工夫",null,"・運転する層に確実にアプローチをするため、自動車学校に来校する方を対象とし、エコドライブシミュレータを用いて具体的な方法を伝達した上で、燃料代の削減効果を定量的に伝える\n・地元の自動車販売会社と協力し、会場にエコカーを展示することで、エコカーへの買い替えも同時に促進する",{"$f":"IF(別紙１_実施計画書!$E72=\"\",\"\",別紙１_実施計画書!$E72)","v":""},{"$f":"IF(別紙１_実施計画書!$E124=\"\",\"\",別紙１_実施計画書!$E124)","v":""},{"$f":"IF(別紙１_実施計画書!$E176=\"\",\"\",別紙１_実施計画書!$E176)","v":""},{"$f":"IF(別紙１_実施計画書!$E228=\"\",\"\",別紙１_実施計画書!$E228)","v":""},{"$f":"IF(別紙１_実施計画書!$E280=\"\",\"\",別紙１_実施計画書!$E280)","v":""},{"$f":"IF(別紙１_実施計画書!$E332=\"\",\"\",別紙１_実施計画書!$E332)","v":""},{"$f":"IF(別紙１_実施計画書!$E384=\"\",\"\",別紙１_実施計画書!$E384)","v":""},{"$f":"IF(別紙１_実施計画書!$E436=\"\",\"\",別紙１_実施計画書!$E436)","v":""},{"$f":"IF(別紙１_実施計画書!$E488=\"\",\"\",別紙１_実施計画書!$E488)","v":""},{"$f":"IF(別紙１_実施計画書!$E540=\"\",\"\",別紙１_実施計画書!$E540)","v":""},{"$f":"IF(別紙１_実施計画書!$E592=\"\",\"\",別紙１_実施計画書!$E592)","v":""},{"$f":"IF(別紙１_実施計画書!$E644=\"\",\"\",別紙１_実施計画書!$E644)","v":""},{"$f":"IF(別紙１_実施計画書!$E696=\"\",\"\",別紙１_実施計画書!$E696)","v":""},{"$f":"IF(別紙１_実施計画書!$E748=\"\",\"\",別紙１_実施計画書!$E748)","v":""},{"$f":"IF(別紙１_実施計画書!$E800=\"\",\"\",別紙１_実施計画書!$E800)","v":""},"*"]
[38,null,"【結果報告】実施結果",null,null,null,null,null,null,null,null,null,null,null,null,null,null,null,null,null,null,null,"*"]
[39,"目標アウトプット","規模（リーチ数）",null,"昨年度実績値",null,180,{"$f":"IF(別紙１_実施計画書!$K$73=\"\",\"\",別紙１_実施計画書!$K$73)","v":0},{"$f":"IF(別紙１_実施計画書!$K$125=\"\",\"\",別紙１_実施計画書!$K$125)","v":0},{"$f":"IF(別紙１_実施計画書!$K$177=\"\",\"\",別紙１_実施計画書!$K$177)","v":0},{"$f":"IF(別紙１_実施計画書!$K$229=\"\",\"\",別紙１_実施計画書!$K$229)","v":0},{"$f":"IF(別紙１_実施計画書!$K$281=\"\",\"\",別紙１_実施計画書!$K$281)","v":0},{"$f":"IF(別紙１_実施計画書!$K$333=\"\",\"\",別紙１_実施計画書!$K$333)","v":0},{"$f":"IF(別紙１_実施計画書!$K$385=\"\",\"\",別紙１_実施計画書!$K$385)","v":0},{"$f":"IF(別紙１_実施計画書!$K$437=\"\",\"\",別紙１_実施計画書!$K$437)","v":0},{"$f":"IF(別紙１_実施計画書!$K$489=\"\",\"\",別紙１_実施計画書!$K$489)","v":0},{"$f":"IF(別紙１_実施計画書!$K$541=\"\",\"\",別紙１_実施計画書!$K$541)","v":0},{"$f":"IF(別紙１_実施計画書!$K$593=\"\",\"\",別紙１_実施計画書!$K$593)","v":0},{"$f":"IF(別紙１_実施計画書!$K$645=\"\",\"\",別紙１_実施計画書!$K$645)","v":0},{"$f":"IF(別紙１_実施計画書!$K$697=\"\",\"\",別紙１_実施計画書!$K$697)","v":0},{"$f":"IF(別紙１_実施計画書!$K$749=\"\",\"\",別紙１_実施計画書!$K$749)","v":0},{"$f":"IF(別紙１_実施計画書!$K$801=\"\",\"\",別紙１_実施計画書!$K$801)","v":0},"*"]
[40,null,null,null,"昨年度実績値の算出根拠",null,"ブース来訪者",{"$f":"IF(別紙１_実施計画書!$I$74=\"\",\"\",別紙１_実施計画書!$I$74)","v":""},{"$f":"IF(別紙１_実施計画書!$I$126=\"\",\"\",別紙１_実施計画書!$I$126)","v":""},{"$f":"IF(別紙１_実施計画書!$I$178=\"\",\"\",別紙１_実施計画書!$I$178)","v":""},{"$f":"IF(別紙１_実施計画書!$I$230=\"\",\"\",別紙１_実施計画書!$I$230)","v":""},{"$f":"IF(別紙１_実施計画書!$I$282=\"\",\"\",別紙１_実施計画書!$I$282)","v":""},{"$f":"IF(別紙１_実施計画書!$I$334=\"\",\"\",別紙１_実施計画書!$I$334)","v":""},{"$f":"IF(別紙１_実施計画書!$I$386=\"\",\"\",別紙１_実施計画書!$I$386)","v":""},{"$f":"IF(別紙１_実施計画書!$I$438=\"\",\"\",別紙１_実施計画書!$I$438)","v":""},{"$f":"IF(別紙１_実施計画書!$I$490=\"\",\"\",別紙１_実施計画書!$I$490)","v":""},{"$f":"IF(別紙１_実施計画書!$I$542=\"\",\"\",別紙１_実施計画書!$I$542)","v":""},{"$f":"IF(別紙１_実施計画書!$I$594=\"\",\"\",別紙１_実施計画書!$I$594)","v":""},{"$f":"IF(別紙１_実施計画書!$I$646=\"\",\"\",別紙１_実施計画書!$I$646)","v":""},{"$f":"IF(別紙１_実施計画書!$I$698=\"\",\"\",別紙１_実施計画書!$I$698)","v":""},{"$f":"IF(別紙１_実施計画書!$I$750=\"\",\"\",別紙１_実施計画書!$I$750)","v":""},{"$f":"IF(別紙１_実施計画書!$I$802=\"\",\"\",別紙１_実施計画書!$I$802)","v":""},"*"]
[41,null,null,null,"計画値",null,200,{"$f":"IF(別紙１_実施計画書!$K$75=\"\",\"\",別紙１_実施計画書!$K$75)","v":0},{"$f":"IF(別紙１_実施計画書!$K$127=\"\",\"\",別紙１_実施計画書!$K$127)","v":0},{"$f":"IF(別紙１_実施計画書!$K$179=\"\",\"\",別紙１_実施計画書!$K$179)","v":0},{"$f":"IF(別紙１_実施計画書!$K$231=\"\",\"\",別紙１_実施計画書!$K$231)","v":0},{"$f":"IF(別紙１_実施計画書!$K$283=\"\",\"\",別紙１_実施計画書!$K$283)","v":0},{"$f":"IF(別紙１_実施計画書!$K$335=\"\",\"\",別紙１_実施計画書!$K$335)","v":0},{"$f":"IF(別紙１_実施計画書!$K$387=\"\",\"\",別紙１_実施計画書!$K$387)","v":0},{"$f":"IF(別紙１_実施計画書!$K$439=\"\",\"\",別紙１_実施計画書!$K$439)","v":0},{"$f":"IF(別紙１_実施計画書!$K$491=\"\",\"\",別紙１_実施計画書!$K$491)","v":0},{"$f":"IF(別紙１_実施計画書!$K$543=\"\",\"\",別紙１_実施計画書!$K$543)","v":0},{"$f":"IF(別紙１_実施計画書!$K$595=\"\",\"\",別紙１_実施計画書!$K$595)","v":0},{"$f":"IF(別紙１_実施計画書!$K$647=\"\",\"\",別紙１_実施計画書!$K$647)","v":0},{"$f":"IF(別紙１_実施計画書!$K$699=\"\",\"\",別紙１_実施計画書!$K$699)","v":0},{"$f":"IF(別紙１_実施計画書!$K$751=\"\",\"\",別紙１_実施計画書!$K$751)","v":0},{"$f":"IF(別紙１_実施計画書!$K$803=\"\",\"\",別紙１_実施計画書!$K$803)","v":0},"*"]
[42,null,null,null,"計画値の算出方法",null,"1回当たり20人×10回",{"$f":"IF(別紙１_実施計画書!$I$76=\"\",\"\",別紙１_実施計画書!$I$76)","v":""},{"$f":"IF(別紙１_実施計画書!$I$128=\"\",\"\",別紙１_実施計画書!$I$128)","v":""},{"$f":"IF(別紙１_実施計画書!$I$180=\"\",\"\",別紙１_実施計画書!$I$180)","v":""},{"$f":"IF(別紙１_実施計画書!$I$232=\"\",\"\",別紙１_実施計画書!$I$232)","v":""},{"$f":"IF(別紙１_実施計画書!$I$284=\"\",\"\",別紙１_実施計画書!$I$284)","v":""},{"$f":"IF(別紙１_実施計画書!$I$336=\"\",\"\",別紙１_実施計画書!$I$336)","v":""},{"$f":"IF(別紙１_実施計画書!$I$388=\"\",\"\",別紙１_実施計画書!$I$388)","v":""},{"$f":"IF(別紙１_実施計画書!$I$440=\"\",\"\",別紙１_実施計画書!$I$440)","v":""},{"$f":"IF(別紙１_実施計画書!$I$492=\"\",\"\",別紙１_実施計画書!$I$492)","v":""},{"$f":"IF(別紙１_実施計画書!$I$544=\"\",\"\",別紙１_実施計画書!$I$544)","v":""},{"$f":"IF(別紙１_実施計画書!$I$596=\"\",\"\",別紙１_実施計画書!$I$596)","v":""},{"$f":"IF(別紙１_実施計画書!$I$648=\"\",\"\",別紙１_実施計画書!$I$648)","v":""},{"$f":"IF(別紙１_実施計画書!$I$700=\"\",\"\",別紙１_実施計画書!$I$700)","v":""},{"$f":"IF(別紙１_実施計画書!$I$752=\"\",\"\",別紙１_実施計画書!$I$752)","v":""},{"$f":"IF(別紙１_実施計画書!$I$804=\"\",\"\",別紙１_実施計画書!$I$804)","v":""},"*"]
[43,null,null,null,"実績値\n【a)情報発信型（受動型】",null,190,null,null,null,null,null,null,null,null,null,null,null,null,null,null,null,"*"]
[44,null,null,null,"実績値\n【b)情報発信型（能動型）、c)双方向体験交流型もしくはd)双方向ＷＥＢ等配信型】",null,150,null,null,null,null,null,null,null,null,null,null,null,null,null,null,null,"*"]
[45,null,null,null,"実績値の算出根拠",null,"受講者数・参加者数（講座や参加型イベント等の実数が把握できるもの）",null,null,null,null,null,null,null,null,null,null,null,null,null,null,null,"*"]
[46,null,null,null,null,"その他",null,null,null,null,null,null,null,null,null,null,null,null,null,null,null,null,"*"]
[47,"目標アウトカム",null,null,"計画",null,null,{"$f":"IF(別紙１_実施計画書!$E77=\"\",\"\",別紙１_実施計画書!$E77)","v":""},{"$f":"IF(別紙１_実施計画書!$E129=\"\",\"\",別紙１_実施計画書!$E129)","v":""},{"$f":"IF(別紙１_実施計画書!$E181=\"\",\"\",別紙１_実施計画書!$E181)","v":""},{"$f":"IF(別紙１_実施計画書!$E233=\"\",\"\",別紙１_実施計画書!$E233)","v":""},{"$f":"IF(別紙１_実施計画書!$E285=\"\",\"\",別紙１_実施計画書!$E285)","v":""},{"$f":"IF(別紙１_実施計画書!$E337=\"\",\"\",別紙１_実施計画書!$E337)","v":""},{"$f":"IF(別紙１_実施計画書!$E389=\"\",\"\",別紙１_実施計画書!$E389)","v":""},{"$f":"IF(別紙１_実施計画書!$E441=\"\",\"\",別紙１_実施計画書!$E441)","v":""},{"$f":"IF(別紙１_実施計画書!$E493=\"\",\"\",別紙１_実施計画書!$E493)","v":""},{"$f":"IF(別紙１_実施計画書!$E545=\"\",\"\",別紙１_実施計画書!$E545)","v":""},{"$f":"IF(別紙１_実施計画書!$E597=\"\",\"\",別紙１_実施計画書!$E597)","v":""},{"$f":"IF(別紙１_実施計画書!$E649=\"\",\"\",別紙１_実施計画書!$E649)","v":""},{"$f":"IF(別紙１_実施計画書!$E701=\"\",\"\",別紙１_実施計画書!$E701)","v":""},{"$f":"IF(別紙１_実施計画書!$E753=\"\",\"\",別紙１_実施計画書!$E753)","v":""},{"$f":"IF(別紙１_実施計画書!$E805=\"\",\"\",別紙１_実施計画書!$E805)","v":""},"*"]
[48,null,null,null,"実績",null,null,null,null,null,null,null,null,null,null,null,null,null,null,null,null,null,"*"]
[49,"賛同数（団体）\n※数値で記入",null,null,"昨年度実績値",null,null,{"$f":"IF(別紙１_実施計画書!$K83=\"\",\"\",別紙１_実施計画書!$K83)","v":0},{"$f":"IF(別紙１_実施計画書!$K135=\"\",\"\",別紙１_実施計画書!$K135)","v":0},{"$f":"IF(別紙１_実施計画書!$K187=\"\",\"\",別紙１_実施計画書!$K187)","v":0},{"$f":"IF(別紙１_実施計画書!$K239=\"\",\"\",別紙１_実施計画書!$K239)","v":0},{"$f":"IF(別紙１_実施計画書!$K291=\"\",\"\",別紙１_実施計画書!$K291)","v":0},{"$f":"IF(別紙１_実施計画書!$K343=\"\",\"\",別紙１_実施計画書!$K343)","v":0},{"$f":"IF(別紙１_実施計画書!$K395=\"\",\"\",別紙１_実施計画書!$K395)","v":0},{"$f":"IF(別紙１_実施計画書!$K447=\"\",\"\",別紙１_実施計画書!$K447)","v":0},{"$f":"IF(別紙１_実施計画書!$K499=\"\",\"\",別紙１_実施計画書!$K499)","v":0},{"$f":"IF(別紙１_実施計画書!$K551=\"\",\"\",別紙１_実施計画書!$K551)","v":0},{"$f":"IF(別紙１_実施計画書!$K603=\"\",\"\",別紙１_実施計画書!$K603)","v":0},{"$f":"IF(別紙１_実施計画書!$K655=\"\",\"\",別紙１_実施計画書!$K655)","v":0},{"$f":"IF(別紙１_実施計画書!$K707=\"\",\"\",別紙１_実施計画書!$K707)","v":0},{"$f":"IF(別紙１_実施計画書!$K759=\"\",\"\",別紙１_実施計画書!$K759)","v":0},{"$f":"IF(別紙１_実施計画書!$K811=\"\",\"\",別紙１_実施計画書!$K811)","v":0},"*"]
[50,null,null,null,"計画値",null,null,{"$f":"IF(別紙１_実施計画書!$K84=\"\",\"\",別紙１_実施計画書!$K84)","v":0},{"$f":"IF(別紙１_実施計画書!$K136=\"\",\"\",別紙１_実施計画書!$K136)","v":0},{"$f":"IF(別紙１_実施計画書!$K188=\"\",\"\",別紙１_実施計画書!$K188)","v":0},{"$f":"IF(別紙１_実施計画書!$K240=\"\",\"\",別紙１_実施計画書!$K240)","v":0},{"$f":"IF(別紙１_実施計画書!$K292=\"\",\"\",別紙１_実施計画書!$K292)","v":0},{"$f":"IF(別紙１_実施計画書!$K344=\"\",\"\",別紙１_実施計画書!$K344)","v":0},{"$f":"IF(別紙１_実施計画書!$K396=\"\",\"\",別紙１_実施計画書!$K396)","v":0},{"$f":"IF(別紙１_実施計画書!$K448=\"\",\"\",別紙１_実施計画書!$K448)","v":0},{"$f":"IF(別紙１_実施計画書!$K500=\"\",\"\",別紙１_実施計画書!$K500)","v":0},{"$f":"IF(別紙１_実施計画書!$K552=\"\",\"\",別紙１_実施計画書!$K552)","v":0},{"$f":"IF(別紙１_実施計画書!$K604=\"\",\"\",別紙１_実施計画書!$K604)","v":0},{"$f":"IF(別紙１_実施計画書!$K656=\"\",\"\",別紙１_実施計画書!$K656)","v":0},{"$f":"IF(別紙１_実施計画書!$K708=\"\",\"\",別紙１_実施計画書!$K708)","v":0},{"$f":"IF(別紙１_実施計画書!$K760=\"\",\"\",別紙１_実施計画書!$K760)","v":0},{"$f":"IF(別紙１_実施計画書!$K812=\"\",\"\",別紙１_実施計画書!$K812)","v":0},"*"]
[51,null,null,null,"実績値",null,null,null,null,null,null,null,null,null,null,null,null,null,null,null,null,null,"*"]
[52,"賛同数（個人）\n※数値で記入",null,null,"昨年度実績値",null,150,{"$f":"IF(別紙１_実施計画書!$R83=\"\",\"\",別紙１_実施計画書!$R83)","v":0},{"$f":"IF(別紙１_実施計画書!$R135=\"\",\"\",別紙１_実施計画書!$R135)","v":0},{"$f":"IF(別紙１_実施計画書!$R187=\"\",\"\",別紙１_実施計画書!$R187)","v":0},{"$f":"IF(別紙１_実施計画書!$R239=\"\",\"\",別紙１_実施計画書!$R239)","v":0},{"$f":"IF(別紙１_実施計画書!$R291=\"\",\"\",別紙１_実施計画書!$R291)","v":0},{"$f":"IF(別紙１_実施計画書!$R343=\"\",\"\",別紙１_実施計画書!$R343)","v":0},{"$f":"IF(別紙１_実施計画書!$R395=\"\",\"\",別紙１_実施計画書!$R395)","v":0},{"$f":"IF(別紙１_実施計画書!$R447=\"\",\"\",別紙１_実施計画書!$R447)","v":0},{"$f":"IF(別紙１_実施計画書!$R499=\"\",\"\",別紙１_実施計画書!$R499)","v":0},{"$f":"IF(別紙１_実施計画書!$R551=\"\",\"\",別紙１_実施計画書!$R551)","v":0},{"$f":"IF(別紙１_実施計画書!$R603=\"\",\"\",別紙１_実施計画書!$R603)","v":0},{"$f":"IF(別紙１_実施計画書!$R655=\"\",\"\",別紙１_実施計画書!$R655)","v":0},{"$f":"IF(別紙１_実施計画書!$R707=\"\",\"\",別紙１_実施計画書!$R707)","v":0},{"$f":"IF(別紙１_実施計画書!$R759=\"\",\"\",別紙１_実施計画書!$R759)","v":0},{"$f":"IF(別紙１_実施計画書!$R811=\"\",\"\",別紙１_実施計画書!$R811)","v":0},"*"]
[53,null,null,null,"計画値",null,180,{"$f":"IF(別紙１_実施計画書!$R84=\"\",\"\",別紙１_実施計画書!$R84)","v":0},{"$f":"IF(別紙１_実施計画書!$R136=\"\",\"\",別紙１_実施計画書!$R136)","v":0},{"$f":"IF(別紙１_実施計画書!$R188=\"\",\"\",別紙１_実施計画書!$R188)","v":0},{"$f":"IF(別紙１_実施計画書!$R240=\"\",\"\",別紙１_実施計画書!$R240)","v":0},{"$f":"IF(別紙１_実施計画書!$R292=\"\",\"\",別紙１_実施計画書!$R292)","v":0},{"$f":"IF(別紙１_実施計画書!$R344=\"\",\"\",別紙１_実施計画書!$R344)","v":0},{"$f":"IF(別紙１_実施計画書!$R396=\"\",\"\",別紙１_実施計画書!$R396)","v":0},{"$f":"IF(別紙１_実施計画書!$R448=\"\",\"\",別紙１_実施計画書!$R448)","v":0},{"$f":"IF(別紙１_実施計画書!$R500=\"\",\"\",別紙１_実施計画書!$R500)","v":0},{"$f":"IF(別紙１_実施計画書!$R552=\"\",\"\",別紙１_実施計画書!$R552)","v":0},{"$f":"IF(別紙１_実施計画書!$R604=\"\",\"\",別紙１_実施計画書!$R604)","v":0},{"$f":"IF(別紙１_実施計画書!$R656=\"\",\"\",別紙１_実施計画書!$R656)","v":0},{"$f":"IF(別紙１_実施計画書!$R708=\"\",\"\",別紙１_実施計画書!$R708)","v":0},{"$f":"IF(別紙１_実施計画書!$R760=\"\",\"\",別紙１_実施計画書!$R760)","v":0},{"$f":"IF(別紙１_実施計画書!$R812=\"\",\"\",別紙１_実施計画書!$R812)","v":0},"*"]
[54,null,null,null,"実績値",null,null,null,null,null,null,null,null,null,null,null,null,null,null,null,null,null,"*"]
[55,"効果検証","アンケート種類",null,"【規定】省エネ家電",null,"無",{"$f":"別紙１_実施計画書!$E88","v":"- 選択 -"},{"$f":"別紙１_実施計画書!$E140","v":"- 選択 -"},{"$f":"別紙１_実施計画書!$E192","v":"- 選択 -"},{"$f":"別紙１_実施計画書!$E244","v":"- 選択 -"},{"$f":"別紙１_実施計画書!$E296","v":"- 選択 -"},{"$f":"別紙１_実施計画書!$E348","v":"- 選択 -"},{"$f":"別紙１_実施計画書!$E400","v":"- 選択 -"},{"$f":"別紙１_実施計画書!$E452","v":"- 選択 -"},{"$f":"別紙１_実施計画書!$E504","v":"- 選択 -"},{"$f":"別紙１_実施計画書!$E556","v":"- 選択 -"},{"$f":"別紙１_実施計画書!$E608","v":"- 選択 -"},{"$f":"別紙１_実施計画書!$E660","v":"- 選択 -"},{"$f":"別紙１_実施計画書!$E712","v":"- 選択 -"},{"$f":"別紙１_実施計画書!$E764","v":"- 選択 -"},{"$f":"別紙１_実施計画書!$E816","v":"- 選択 -"},"*"]
[56,null,null,null,"【規定】省エネ住宅",null,"無",{"$f":"別紙１_実施計画書!$H88","v":"- 選択 -"},{"$f":"別紙１_実施計画書!$H140","v":"- 選択 -"},{"$f":"別紙１_実施計画書!$H192","v":"- 選択 -"},{"$f":"別紙１_実施計画書!$H244","v":"- 選択 -"},{"$f":"別紙１_実施計画書!$H296","v":"- 選択 -"},{"$f":"別紙１_実施計画書!$H348","v":"- 選択 -"},{"$f":"別紙１_実施計画書!$H400","v":"- 選択 -"},{"$f":"別紙１_実施計画書!$H452","v":"- 選択 -"},{"$f":"別紙１_実施計画書!$H504","v":"- 選択 -"},{"$f":"別紙１_実施計画書!$H556","v":"- 選択 -"},{"$f":"別紙１_実施計画書!$H608","v":"- 選択 -"},{"$f":"別紙１_実施計画書!$H660","v":"- 選択 -"},{"$f":"別紙１_実施計画書!$H712","v":"- 選択 -"},{"$f":"別紙１_実施計画書!$H764","v":"- 選択 -"},{"$f":"別紙１_実施計画書!$H816","v":"- 選択 -"},"*"]
[57,null,null,null,"【規定】エコカー",null,"有",{"$f":"別紙１_実施計画書!$K88","v":"- 選択 -"},{"$f":"別紙１_実施計画書!$K140","v":"- 選択 -"},{"$f":"別紙１_実施計画書!$K192","v":"- 選択 -"},{"$f":"別紙１_実施計画書!$K244","v":"- 選択 -"},{"$f":"別紙１_実施計画書!$K296","v":"- 選択 -"},{"$f":"別紙１_実施計画書!$K348","v":"- 選択 -"},{"$f":"別紙１_実施計画書!$K400","v":"- 選択 -"},{"$f":"別紙１_実施計画書!$K452","v":"- 選択 -"},{"$f":"別紙１_実施計画書!$K504","v":"- 選択 -"},{"$f":"別紙１_実施計画書!$K556","v":"- 選択 -"},{"$f":"別紙１_実施計画書!$K608","v":"- 選択 -"},{"$f":"別紙１_実施計画書!$K660","v":"- 選択 -"},{"$f":"別紙１_実施計画書!$K712","v":"- 選択 -"},{"$f":"別紙１_実施計画書!$K764","v":"- 選択 -"},{"$f":"別紙１_実施計画書!$K816","v":"- 選択 -"},"*"]
[58,null,null,null,"【規定】クールビズ",null,"無",{"$f":"別紙１_実施計画書!$N88","v":"- 選択 -"},{"$f":"別紙１_実施計画書!$N140","v":"- 選択 -"},{"$f":"別紙１_実施計画書!$N192","v":"- 選択 -"},{"$f":"別紙１_実施計画書!$N244","v":"- 選択 -"},{"$f":"別紙１_実施計画書!$N296","v":"- 選択 -"},{"$f":"別紙１_実施計画書!$N348","v":"- 選択 -"},{"$f":"別紙１_実施計画書!$N400","v":"- 選択 -"},{"$f":"別紙１_実施計画書!$N452","v":"- 選択 -"},{"$f":"別紙１_実施計画書!$N504","v":"- 選択 -"},{"$f":"別紙１_実施計画書!$N556","v":"- 選択 -"},{"$f":"別紙１_実施計画書!$N608","v":"- 選択 -"},{"$f":"別紙１_実施計画書!$N660","v":"- 選択 -"},{"$f":"別紙１_実施計画書!$N712","v":"- 選択 -"},{"$f":"別紙１_実施計画書!$N764","v":"- 選択 -"},{"$f":"別紙１_実施計画書!$N816","v":"- 選択 -"},"*"]
[59,null,null,null,"【規定】ウォームビズ",null,"無",{"$f":"別紙１_実施計画書!$Q88","v":"- 選択 -"},{"$f":"別紙１_実施計画書!$Q140","v":"- 選択 -"},{"$f":"別紙１_実施計画書!$Q192","v":"- 選択 -"},{"$f":"別紙１_実施計画書!$Q244","v":"- 選択 -"},{"$f":"別紙１_実施計画書!$Q296","v":"- 選択 -"},{"$f":"別紙１_実施計画書!$Q348","v":"- 選択 -"},{"$f":"別紙１_実施計画書!$Q400","v":"- 選択 -"},{"$f":"別紙１_実施計画書!$Q452","v":"- 選択 -"},{"$f":"別紙１_実施計画書!$Q504","v":"- 選択 -"},{"$f":"別紙１_実施計画書!$Q556","v":"- 選択 -"},{"$f":"別紙１_実施計画書!$Q608","v":"- 選択 -"},{"$f":"別紙１_実施計画書!$Q660","v":"- 選択 -"},{"$f":"別紙１_実施計画書!$Q712","v":"- 選択 -"},{"$f":"別紙１_実施計画書!$Q764","v":"- 選択 -"},{"$f":"別紙１_実施計画書!$Q816","v":"- 選択 -"},"*"]
[60,null,null,null,"【規定】照明の効率的利用",null,"無",{"$f":"別紙１_実施計画書!$T88","v":"- 選択 -"},{"$f":"別紙１_実施計画書!$T140","v":"- 選択 -"},{"$f":"別紙１_実施計画書!$T192","v":"- 選択 -"},{"$f":"別紙１_実施計画書!$T244","v":"- 選択 -"},{"$f":"別紙１_実施計画書!$T296","v":"- 選択 -"},{"$f":"別紙１_実施計画書!$T348","v":"- 選択 -"},{"$f":"別紙１_実施計画書!$T400","v":"- 選択 -"},{"$f":"別紙１_実施計画書!$T452","v":"- 選択 -"},{"$f":"別紙１_実施計画書!$T504","v":"- 選択 -"},{"$f":"別紙１_実施計画書!$T556","v":"- 選択 -"},{"$f":"別紙１_実施計画書!$T608","v":"- 選択 -"},{"$f":"別紙１_実施計画書!$T660","v":"- 選択 -"},{"$f":"別紙１_実施計画書!$T712","v":"- 選択 -"},{"$f":"別紙１_実施計画書!$T764","v":"- 選択 -"},{"$f":"別紙１_実施計画書!$T816","v":"- 選択 -"},"*"]
[61,null,null,null,"【規定】エコドライブ",null,"有",{"$f":"別紙１_実施計画書!$W88","v":"- 選択 -"},{"$f":"別紙１_実施計画書!$W140","v":"- 選択 -"},{"$f":"別紙１_実施計画書!$W192","v":"- 選択 -"},{"$f":"別紙１_実施計画書!$W244","v":"- 選択 -"},{"$f":"別紙１_実施計画書!$W296","v":"- 選択 -"},{"$f":"別紙１_実施計画書!$W348","v":"- 選択 -"},{"$f":"別紙１_実施計画書!$W400","v":"- 選択 -"},{"$f":"別紙１_実施計画書!$W452","v":"- 選択 -"},{"$f":"別紙１_実施計画書!$W504","v":"- 選択 -"},{"$f":"別紙１_実施計画書!$W556","v":"- 選択 -"},{"$f":"別紙１_実施計画書!$W608","v":"- 選択 -"},{"$f":"別紙１_実施計画書!$W660","v":"- 選択 -"},{"$f":"別紙１_実施計画書!$W712","v":"- 選択 -"},{"$f":"別紙１_実施計画書!$W764","v":"- 選択 -"},{"$f":"別紙１_実施計画書!$W816","v":"- 選択 -"},"*"]
[62,null,null,null,"【規定】カーシェア",null,"無",{"$f":"別紙１_実施計画書!$Z88","v":"- 選択 -"},{"$f":"別紙１_実施計画書!$Z140","v":"- 選択 -"},{"$f":"別紙１_実施計画書!$Z192","v":"- 選択 -"},{"$f":"別紙１_実施計画書!$Z244","v":"- 選択 -"},{"$f":"別紙１_実施計画書!$Z296","v":"- 選択 -"},{"$f":"別紙１_実施計画書!$Z348","v":"- 選択 -"},{"$f":"別紙１_実施計画書!$Z400","v":"- 選択 -"},{"$f":"別紙１_実施計画書!$Z452","v":"- 選択 -"},{"$f":"別紙１_実施計画書!$Z504","v":"- 選択 -"},{"$f":"別紙１_実施計画書!$Z556","v":"- 選択 -"},{"$f":"別紙１_実施計画書!$Z608","v":"- 選択 -"},{"$f":"別紙１_実施計画書!$Z660","v":"- 選択 -"},{"$f":"別紙１_実施計画書!$Z712","v":"- 選択 -"},{"$f":"別紙１_実施計画書!$Z764","v":"- 選択 -"},{"$f":"別紙１_実施計画書!$Z816","v":"- 選択 -"},"*"]
[63,null,null,null,"【規定】スマートムーブ",null,"無",{"$f":"別紙１_実施計画書!$E91","v":"- 選択 -"},{"$f":"別紙１_実施計画書!$E143","v":"- 選択 -"},{"$f":"別紙１_実施計画書!$E195","v":"- 選択 -"},{"$f":"別紙１_実施計画書!$E247","v":"- 選択 -"},{"$f":"別紙１_実施計画書!$E299","v":"- 選択 -"},{"$f":"別紙１_実施計画書!$E351","v":"- 選択 -"},{"$f":"別紙１_実施計画書!$E403","v":"- 選択 -"},{"$f":"別紙１_実施計画書!$E455","v":"- 選択 -"},{"$f":"別紙１_実施計画書!$E507","v":"- 選択 -"},{"$f":"別紙１_実施計画書!$E559","v":"- 選択 -"},{"$f":"別紙１_実施計画書!$E611","v":"- 選択 -"},{"$f":"別紙１_実施計画書!$E663","v":"- 選択 -"},{"$f":"別紙１_実施計画書!$E715","v":"- 選択 -"},{"$f":"別紙１_実施計画書!$E767","v":"- 選択 -"},{"$f":"別紙１_実施計画書!$E819","v":"- 選択 -"},"*"]
[64,null,null,null,"【規定】再配達防止",null,"無",{"$f":"別紙１_実施計画書!$H91","v":"- 選択 -"},{"$f":"別紙１_実施計画書!$H143","v":"- 選択 -"},{"$f":"別紙１_実施計画書!$H195","v":"- 選択 -"},{"$f":"別紙１_実施計画書!$H247","v":"- 選択 -"},{"$f":"別紙１_実施計画書!$H299","v":"- 選択 -"},{"$f":"別紙１_実施計画書!$H351","v":"- 選択 -"},{"$f":"別紙１_実施計画書!$H403","v":"- 選択 -"},{"$f":"別紙１_実施計画書!$H455","v":"- 選択 -"},{"$f":"別紙１_実施計画書!$H507","v":"- 選択 -"},{"$f":"別紙１_実施計画書!$H559","v":"- 選択 -"},{"$f":"別紙１_実施計画書!$H611","v":"- 選択 -"},{"$f":"別紙１_実施計画書!$H663","v":"- 選択 -"},{"$f":"別紙１_実施計画書!$H715","v":"- 選択 -"},{"$f":"別紙１_実施計画書!$H767","v":"- 選択 -"},{"$f":"別紙１_実施計画書!$H819","v":"- 選択 -"},"*"]
[65,null,null,null,"【規定】再エネ",null,"無",{"$f":"別紙１_実施計画書!$K91","v":"- 選択 -"},{"$f":"別紙１_実施計画書!$K143","v":"- 選択 -"},{"$f":"別紙１_実施計画書!$K195","v":"- 選択 -"},{"$f":"別紙１_実施計画書!$K247","v":"- 選択 -"},{"$f":"別紙１_実施計画書!$K299","v":"- 選択 -"},{"$f":"別紙１_実施計画書!$K351","v":"- 選択 -"},{"$f":"別紙１_実施計画書!$K403","v":"- 選択 -"},{"$f":"別紙１_実施計画書!$K455","v":"- 選択 -"},{"$f":"別紙１_実施計画書!$K507","v":"- 選択 -"},{"$f":"別紙１_実施計画書!$K559","v":"- 選択 -"},{"$f":"別紙１_実施計画書!$K611","v":"- 選択 -"},{"$f":"別紙１_実施計画書!$K663","v":"- 選択 -"},{"$f":"別紙１_実施計画書!$K715","v":"- 選択 -"},{"$f":"別紙１_実施計画書!$K767","v":"- 選択 -"},{"$f":"別紙１_実施計画書!$K819","v":"- 選択 -"},"*"]
[66,null,null,null,"【規定】食品ロス",null,"無",{"$f":"別紙１_実施計画書!$N91","v":"- 選択 -"},{"$f":"別紙１_実施計画書!$N143","v":"- 選択 -"},{"$f":"別紙１_実施計画書!$N195","v":"- 選択 -"},{"$f":"別紙１_実施計画書!$N247","v":"- 選択 -"},{"$f":"別紙１_実施計画書!$N299","v":"- 選択 -"},{"$f":"別紙１_実施計画書!$N351","v":"- 選択 -"},{"$f":"別紙１_実施計画書!$N403","v":"- 選択 -"},{"$f":"別紙１_実施計画書!$N455","v":"- 選択 -"},{"$f":"別紙１_実施計画書!$N507","v":"- 選択 -"},{"$f":"別紙１_実施計画書!$N559","v":"- 選択 -"},{"$f":"別紙１_実施計画書!$N611","v":"- 選択 -"},{"$f":"別紙１_実施計画書!$N663","v":"- 選択 -"},{"$f":"別紙１_実施計画書!$N715","v":"- 選択 -"},{"$f":"別紙１_実施計画書!$N767","v":"- 選択 -"},{"$f":"別紙１_実施計画書!$N819","v":"- 選択 -"},"*"]
[{"$f":"ROW()-ROW($A$8)","v":67},null,null,null,"事業者独自",null,"無","- 選択 -","- 選択 -","- 選択 -","- 選択 -","- 選択 -","- 選択 -","- 選択 -","- 選択 -","- 選択 -","- 選択 -","- 選択 -","- 選択 -","- 選択 -","- 選択 -","- 選択 -","*"]
[68,null,null,null,"内容",null,null,{"$f":"IF(別紙１_実施計画書!$G92=\"\",\"\",別紙１_実施計画書!$G92)","v":""},{"$f":"IF(別紙１_実施計画書!$G144=\"\",\"\",別紙１_実施計画書!$G144)","v":""},{"$f":"IF(別紙１_実施計画書!$G196=\"\",\"\",別紙１_実施計画書!$G196)","v":""},{"$f":"IF(別紙１_実施計画書!$G248=\"\",\"\",別紙１_実施計画書!$G248)","v":""},{"$f":"IF(別紙１_実施計画書!$G300=\"\",\"\",別紙１_実施計画書!$G300)","v":""},{"$f":"IF(別紙１_実施計画書!$G352=\"\",\"\",別紙１_実施計画書!$G352)","v":""},{"$f":"IF(別紙１_実施計画書!$G404=\"\",\"\",別紙１_実施計画書!$G404)","v":""},{"$f":"IF(別紙１_実施計画書!$G456=\"\",\"\",別紙１_実施計画書!$G456)","v":""},{"$f":"IF(別紙１_実施計画書!$G508=\"\",\"\",別紙１_実施計画書!$G508)","v":""},{"$f":"IF(別紙１_実施計画書!$G560=\"\",\"\",別紙１_実施計画書!$G560)","v":""},{"$f":"IF(別紙１_実施計画書!$G612=\"\",\"\",別紙１_実施計画書!$G612)","v":""},{"$f":"IF(別紙１_実施計画書!$G664=\"\",\"\",別紙１_実施計画書!$G664)","v":""},{"$f":"IF(別紙１_実施計画書!$G716=\"\",\"\",別紙１_実施計画書!$G716)","v":""},{"$f":"IF(別紙１_実施計画書!$G768=\"\",\"\",別紙１_実施計画書!$G768)","v":""},{"$f":"IF(別紙１_実施計画書!$G820=\"\",\"\",別紙１_実施計画書!$G820)","v":""},"*"]
[69,null,"アンケート回収数",null,"昨年度実績",null,0,{"$f":"IF(別紙１_実施計画書!$J93=\"\",\"\",別紙１_実施計画書!$J93)","v":""},{"$f":"IF(別紙１_実施計画書!$J145=\"\",\"\",別紙１_実施計画書!$J145)","v":0},{"$f":"IF(別紙１_実施計画書!$J197=\"\",\"\",別紙１_実施計画書!$J197)","v":0},{"$f":"IF(別紙１_実施計画書!$J249=\"\",\"\",別紙１_実施計画書!$J249)","v":0},{"$f":"IF(別紙１_実施計画書!$J301=\"\",\"\",別紙１_実施計画書!$J301)","v":0},{"$f":"IF(別紙１_実施計画書!$J353=\"\",\"\",別紙１_実施計画書!$J353)","v":0},{"$f":"IF(別紙１_実施計画書!$J405=\"\",\"\",別紙１_実施計画書!$J405)","v":0},{"$f":"IF(別紙１_実施計画書!$J457=\"\",\"\",別紙１_実施計画書!$J457)","v":0},{"$f":"IF(別紙１_実施計画書!$J509=\"\",\"\",別紙１_実施計画書!$J509)","v":0},{"$f":"IF(別紙１_実施計画書!$J561=\"\",\"\",別紙１_実施計画書!$J561)","v":0},{"$f":"IF(別紙１_実施計画書!$J613=\"\",\"\",別紙１_実施計画書!$J613)","v":0},{"$f":"IF(別紙１_実施計画書!$J665=\"\",\"\",別紙１_実施計画書!$J665)","v":0},{"$f":"IF(別紙１_実施計画書!$J717=\"\",\"\",別紙１_実施計画書!$J717)","v":0},{"$f":"IF(別紙１_実施計画書!$J769=\"\",\"\",別紙１_実施計画書!$J769)","v":0},{"$f":"IF(別紙１_実施計画書!$J821=\"\",\"\",別紙１_実施計画書!$J821)","v":0},"*"]
[70,null,null,null,"計画値",null,400,{"$f":"IF(別紙１_実施計画書!$J94=\"\",\"\",別紙１_実施計画書!$J94)","v":""},{"$f":"IF(別紙１_実施計画書!$J146=\"\",\"\",別紙１_実施計画書!$J146)","v":0},{"$f":"IF(別紙１_実施計画書!$J198=\"\",\"\",別紙１_実施計画書!$J198)","v":0},{"$f":"IF(別紙１_実施計画書!$J250=\"\",\"\",別紙１_実施計画書!$J250)","v":0},{"$f":"IF(別紙１_実施計画書!$J302=\"\",\"\",別紙１_実施計画書!$J302)","v":0},{"$f":"IF(別紙１_実施計画書!$J354=\"\",\"\",別紙１_実施計画書!$J354)","v":0},{"$f":"IF(別紙１_実施計画書!$J406=\"\",\"\",別紙１_実施計画書!$J406)","v":0},{"$f":"IF(別紙１_実施計画書!$J458=\"\",\"\",別紙１_実施計画書!$J458)","v":0},{"$f":"IF(別紙１_実施計画書!$J510=\"\",\"\",別紙１_実施計画書!$J510)","v":0},{"$f":"IF(別紙１_実施計画書!$J562=\"\",\"\",別紙１_実施計画書!$J562)","v":0},{"$f":"IF(別紙１_実施計画書!$J614=\"\",\"\",別紙１_実施計画書!$J614)","v":0},{"$f":"IF(別紙１_実施計画書!$J666=\"\",\"\",別紙１_実施計画書!$J666)","v":0},{"$f":"IF(別紙１_実施計画書!$J718=\"\",\"\",別紙１_実施計画書!$J718)","v":0},{"$f":"IF(別紙１_実施計画書!$J770=\"\",\"\",別紙１_実施計画書!$J770)","v":0},{"$f":"IF(別紙１_実施計画書!$J822=\"\",\"\",別紙１_実施計画書!$J822)","v":0},"*"]
[71,null,null,null,"実績値",null,{"$f":"SUM(G80:G91)","v":322},{"$f":"SUM(H$80:H$91)","v":0},{"$f":"SUM(I$80:I$91)","v":0},0,0,0,0,0,0,0,0,0,0,0,0,0,"*"]
[72,null,null,null,null,"省エネ家電",null,null,null,null,null,null,null,null,null,null,null,null,null,null,null,null,"*"]
[73,null,null,null,null,"省エネ住宅",null,null,null,null,null,null,null,null,null,null,null,null,null,null,null,null,"*"]
[74,null,null,null,null,"エコカー",142,null,null,null,null,null,null,null,null,null,null,null,null,null,null,null,"*"]
[75,null,null,null,null,"クールビズ",null,null,null,null,null,null,null,null,null,null,null,null,null,null,null,null,"*"]
[76,null,null,null,null,"ウォームビズ",null,null,null,null,null,null,null,null,null,null,null,null,null,null,null,null,"*"]
[77,null,null,null,null,"照明の効率的利用",null,null,null,null,null,null,null,null,null,null,null,null,null,null,null,null,"*"]
[78,null,null,null,null,"エコドライブ",180,null,null,null,null,null,null,null,null,null,null,null,null,null,null,null,"*"]
[79,null,null,null,null,"カーシェア",null,null,null,null,null,null,null,null,null,null,null,null,null,null,null,null,"*"]
[80,null,null,null,null,"スマートムーブ",null,null,null,null,null,null,null,null,null,null,null,null,null,null,null,null,"*"]
[81,null,null,null,null,"再配達防止",null,null,null,null,null,null,null,null,null,null,null,null,null,null,null,null,"*"]
[82,null,null,null,null,"再エネ",null,null,null,null,null,null,null,null,null,null,null,null,null,null,null,null,"*"]
[83,null,null,null,null,"食品ロス",null,null,null,null,null,null,null,null,null,null,null,null,null,null,null,null,"*"]
[84,null,"アンケート結果\na)情報発信受動型\n(地域アンケートにおける行動変容率を記入）",null,"実績値",null,null,null,null,null,null,null,null,null,null,null,null,null,null,null,null,null,"*"]
[85,null,null,null,null,"省エネ家電",null,null,null,null,null,null,null,null,null,null,null,null,null,null,null,null,"*"]
[86,null,null,null,null,"省エネ住宅（ZEH）",null,null,null,null,null,null,null,null,null,null,null,null,null,null,null,null,"*"]
[87,null,null,null,null,"省エネ住宅（断熱リフォーム）",null,null,null,null,null,null,null,null,null,null,null,null,null,null,null,null,"*"]
[88,null,null,null,null,"エコカー",null,null,null,null,null,null,null,null,null,null,null,null,null,null,null,null,"*"]
[89,null,null,null,null,"クールビズ",null,null,null,null,null,null,null,null,null,null,null,null,null,null,null,null,"*"]
[90,null,null,null,null,"ウォームビズ",null,null,null,null,null,null,null,null,null,null,null,null,null,null,null,null,"*"]
[91,null,null,null,null,"照明の効率的利用",null,null,null,null,null,null,null,null,null,null,null,null,null,null,null,null,"*"]
[92,null,null,null,null,"エコドライブ",0.45100000000000001,null,null,null,null,null,null,null,null,null,null,null,null,null,null,null,"*"]
[93,null,null,null,null,"カーシェア",null,null,null,null,null,null,null,null,null,null,null,null,null,null,null,null,"*"]
[94,null,null,null,null,"スマートムーブ",null,null,null,null,null,null,null,null,null,null,null,null,null,null,null,null,"*"]
[95,null,null,null,null,"再配達防止",null,null,null,null,null,null,null,null,null,null,null,null,null,null,null,null,"*"]
[96,null,null,null,null,"再エネ",null,null,null,null,null,null,null,null,null,null,null,null,null,null,null,null,"*"]
[97,null,null,null,null,"食品ロス",null,null,null,null,null,null,null,null,null,null,null,null,null,null,null,null,"*"]
[98,null,"アンケート結果\nb)情報発信能動型、c)双方向・体験交流型事業、d)双方向ＷＥＢ等配信型\n(会場アンケートにおける意識変容率を記入）",null,"実績値",null,null,null,null,null,null,null,null,null,null,null,null,null,null,null,null,null,"*"]
[99,null,null,null,null,"省エネ家電",null,null,null,null,null,null,null,null,null,null,null,null,null,null,null,null,"*"]
[100,null,null,null,null,"省エネ住宅（ZEH）",null,null,null,null,null,null,null,null,null,null,null,null,null,null,null,null,"*"]
[101,null,null,null,null,"省エネ住宅（断熱リフォーム）",null,null,null,null,null,null,null,null,null,null,null,null,null,null,null,null,"*"]
[102,null,null,null,null,"エコカー",0.24199999999999999,null,null,null,null,null,null,null,null,null,null,null,null,null,null,null,"*"]
[103,null,null,null,null,"クールビズ",null,null,null,null,null,null,null,null,null,null,null,null,null,null,null,null,"*"]
[104,null,null,null,null,"ウォームビズ",null,null,null,null,null,null,null,null,null,null,null,null,null,null,null,null,"*"]
[105,null,null,null,null,"照明の効率的利用",null,null,null,null,null,null,null,null,null,null,null,null,null,null,null,null,"*"]
[106,null,null,null,null,"エコドライブ",0.45100000000000001,null,null,null,null,null,null,null,null,null,null,null,null,null,null,null,"*"]
[107,null,null,null,null,"カーシェア",null,null,null,null,null,null,null,null,null,null,null,null,null,null,null,null,"*"]
[108,null,null,null,null,"スマートムーブ",null,null,null,null,null,null,null,null,null,null,null,null,null,null,null,null,"*"]
[109,null,null,null,null,"再配達防止",null,null,null,null,null,null,null,null,null,null,null,null,null,null,null,null,"*"]
[110,null,null,null,null,"再エネ",null,null,null,null,null,null,null,null,null,null,null,null,null,null,null,null,"*"]
[111,null,null,null,null,"食品ロス",null,null,null,null,null,null,null,null,null,null,null,null,null,null,null,null,"*"]
[112,null,"CO2削減効果\n（自動計算）",null,"実績値",null,{"$f":"SUM(G$121:G$133)","v":70.705820769230769},{"$f":"SUM(H$121:H$134)","v":0},{"$f":"SUM(I$121:I$134)","v":0},{"$f":"SUM(J$121:J$134)","v":0},0,0,0,0,0,0,0,0,0,0,0,{"$f":"SUM(V$121:V$134)","v":0},"*"]
[113,null,null,null,null,"省エネ家電",{"$f":"IF(OR(G$23=1,G$24=1),G$52*G107*'（参考）エネルギー起源CO2排出削減量の算出シート（計画時）'!$J$48*'（参考）エネルギー起源CO2排出削減量の算出シート（計画時）'!$L$48,0)+IF(【実施期間中】個別事業におけるPDCAシート!G$22=1,【実施期間中】個別事業におけるPDCAシート!G$51*【実施期間中】個別事業におけるPDCAシート!G93*'（参考）エネルギー起源CO2排出削減量の算出シート（計画時）'!$L$12,0)","v":0},{"$f":"IF(OR(H$23=1,H$24=1,H$25=1),H$52*H$107*'（参考）エネルギー起源CO2排出削減量の算出シート（計画時）'!$J$48*'（参考）エネルギー起源CO2排出削減量の算出シート（計画時）'!$L$48,0)+IF(【実施期間中】個別事業におけるPDCAシート!H$22=1,【実施期間中】個別事業におけるPDCAシート!H$51*【実施期間中】個別事業におけるPDCAシート!H93*'（参考）エネルギー起源CO2排出削減量の算出シート（計画時）'!$L$12,0)","v":0},{"$f":"IF(OR(I$23=1,I$24=1,I$25=1),I$52*I$107*'（参考）エネルギー起源CO2排出削減量の算出シート（計画時）'!$J$48*'（参考）エネルギー起源CO2排出削減量の算出シート（計画時）'!$L$48,0)+IF(【実施期間中】個別事業におけるPDCAシート!I$22=1,【実施期間中】個別事業におけるPDCAシート!I$51*【実施期間中】個別事業におけるPDCAシート!I93*'（参考）エネルギー起源CO2排出削減量の算出シート（計画時）'!$L$12,0)","v":0},{"$f":"IF(OR(J$23=1,J$24=1,J$25=1),J$52*J$107*'（参考）エネルギー起源CO2排出削減量の算出シート（計画時）'!$J$48*'（参考）エネルギー起源CO2排出削減量の算出シート（計画時）'!$L$48,0)+IF(【実施期間中】個別事業におけるPDCAシート!J$22=1,【実施期間中】個別事業におけるPDCAシート!J$51*【実施期間中】個別事業におけるPDCAシート!J93*'（参考）エネルギー起源CO2排出削減量の算出シート（計画時）'!$L$12,0)","v":0},{"$f":"IF(OR(K$23=1,K$24=1,K$25=1),K$52*K$107*'（参考）エネルギー起源CO2排出削減量の算出シート（計画時）'!$J$48*'（参考）エネルギー起源CO2排出削減量の算出シート（計画時）'!$L$48,0)+IF(【実施期間中】個別事業におけるPDCAシート!K$22=1,【実施期間中】個別事業におけるPDCAシート!K$51*【実施期間中】個別事業におけるPDCAシート!K93*'（参考）エネルギー起源CO2排出削減量の算出シート（計画時）'!$L$12,0)","v":0},{"$f":"IF(OR(L$23=1,L$24=1,L$25=1),L$52*L$107*'（参考）エネルギー起源CO2排出削減量の算出シート（計画時）'!$J$48*'（参考）エネルギー起源CO2排出削減量の算出シート（計画時）'!$L$48,0)+IF(【実施期間中】個別事業におけるPDCAシート!L$22=1,【実施期間中】個別事業におけるPDCAシート!L$51*【実施期間中】個別事業におけるPDCAシート!L93*'（参考）エネルギー起源CO2排出削減量の算出シート（計画時）'!$L$12,0)","v":0},{"$f":"IF(OR(M$23=1,M$24=1,M$25=1),M$52*M$107*'（参考）エネルギー起源CO2排出削減量の算出シート（計画時）'!$J$48*'（参考）エネルギー起源CO2排出削減量の算出シート（計画時）'!$L$48,0)+IF(【実施期間中】個別事業におけるPDCAシート!M$22=1,【実施期間中】個別事業におけるPDCAシート!M$51*【実施期間中】個別事業におけるPDCAシート!M93*'（参考）エネルギー起源CO2排出削減量の算出シート（計画時）'!$L$12,0)","v":0},{"$f":"IF(OR(N$23=1,N$24=1,N$25=1),N$52*N$107*'（参考）エネルギー起源CO2排出削減量の算出シート（計画時）'!$J$48*'（参考）エネルギー起源CO2排出削減量の算出シート（計画時）'!$L$48,0)+IF(【実施期間中】個別事業におけるPDCAシート!N$22=1,【実施期間中】個別事業におけるPDCAシート!N$51*【実施期間中】個別事業におけるPDCAシート!N93*'（参考）エネルギー起源CO2排出削減量の算出シート（計画時）'!$L$12,0)","v":0},{"$f":"IF(OR(O$23=1,O$24=1,O$25=1),O$52*O$107*'（参考）エネルギー起源CO2排出削減量の算出シート（計画時）'!$J$48*'（参考）エネルギー起源CO2排出削減量の算出シート（計画時）'!$L$48,0)+IF(【実施期間中】個別事業におけるPDCAシート!O$22=1,【実施期間中】個別事業におけるPDCAシート!O$51*【実施期間中】個別事業におけるPDCAシート!O93*'（参考）エネルギー起源CO2排出削減量の算出シート（計画時）'!$L$12,0)","v":0},{"$f":"IF(OR(P$23=1,P$24=1,P$25=1),P$52*P$107*'（参考）エネルギー起源CO2排出削減量の算出シート（計画時）'!$J$48*'（参考）エネルギー起源CO2排出削減量の算出シート（計画時）'!$L$48,0)+IF(【実施期間中】個別事業におけるPDCAシート!P$22=1,【実施期間中】個別事業におけるPDCAシート!P$51*【実施期間中】個別事業におけるPDCAシート!P93*'（参考）エネルギー起源CO2排出削減量の算出シート（計画時）'!$L$12,0)","v":0},{"$f":"IF(OR(Q$23=1,Q$24=1,Q$25=1),Q$52*Q$107*'（参考）エネルギー起源CO2排出削減量の算出シート（計画時）'!$J$48*'（参考）エネルギー起源CO2排出削減量の算出シート（計画時）'!$L$48,0)+IF(【実施期間中】個別事業におけるPDCAシート!Q$22=1,【実施期間中】個別事業におけるPDCAシート!Q$51*【実施期間中】個別事業におけるPDCAシート!Q93*'（参考）エネルギー起源CO2排出削減量の算出シート（計画時）'!$L$12,0)","v":0},{"$f":"IF(OR(R$23=1,R$24=1,R$25=1),R$52*R$107*'（参考）エネルギー起源CO2排出削減量の算出シート（計画時）'!$J$48*'（参考）エネルギー起源CO2排出削減量の算出シート（計画時）'!$L$48,0)+IF(【実施期間中】個別事業におけるPDCAシート!R$22=1,【実施期間中】個別事業におけるPDCAシート!R$51*【実施期間中】個別事業におけるPDCAシート!R93*'（参考）エネルギー起源CO2排出削減量の算出シート（計画時）'!$L$12,0)","v":0},{"$f":"IF(OR(S$23=1,S$24=1,S$25=1),S$52*S$107*'（参考）エネルギー起源CO2排出削減量の算出シート（計画時）'!$J$48*'（参考）エネルギー起源CO2排出削減量の算出シート（計画時）'!$L$48,0)+IF(【実施期間中】個別事業におけるPDCAシート!S$22=1,【実施期間中】個別事業におけるPDCAシート!S$51*【実施期間中】個別事業におけるPDCAシート!S93*'（参考）エネルギー起源CO2排出削減量の算出シート（計画時）'!$L$12,0)","v":0},{"$f":"IF(OR(T$23=1,T$24=1,T$25=1),T$52*T$107*'（参考）エネルギー起源CO2排出削減量の算出シート（計画時）'!$J$48*'（参考）エネルギー起源CO2排出削減量の算出シート（計画時）'!$L$48,0)+IF(【実施期間中】個別事業におけるPDCAシート!T$22=1,【実施期間中】個別事業におけるPDCAシート!T$51*【実施期間中】個別事業におけるPDCAシート!T93*'（参考）エネルギー起源CO2排出削減量の算出シート（計画時）'!$L$12,0)","v":0},{"$f":"IF(OR(U$23=1,U$24=1,U$25=1),U$52*U$107*'（参考）エネルギー起源CO2排出削減量の算出シート（計画時）'!$J$48*'（参考）エネルギー起源CO2排出削減量の算出シート（計画時）'!$L$48,0)+IF(【実施期間中】個別事業におけるPDCAシート!U$22=1,【実施期間中】個別事業におけるPDCAシート!U$51*【実施期間中】個別事業におけるPDCAシート!U93*'（参考）エネルギー起源CO2排出削減量の算出シート（計画時）'!$L$12,0)","v":0},{"$f":"IF(OR(V$23=1,V$24=1,V$25=1),V$52*V$107*'（参考）エネルギー起源CO2排出削減量の算出シート（計画時）'!$J$48*'（参考）エネルギー起源CO2排出削減量の算出シート（計画時）'!$L$48,0)+IF(【実施期間中】個別事業におけるPDCAシート!V$22=1,【実施期間中】個別事業におけるPDCAシート!V$51*【実施期間中】個別事業におけるPDCAシート!V93*'（参考）エネルギー起源CO2排出削減量の算出シート（計画時）'!$L$12,0)","v":0},"*"]
[114,null,null,null,null,"省エネ住宅（ZEH）",{"$f":"IF(OR(G$23=1,G$24=1),G$52*G108*'（参考）エネルギー起源CO2排出削減量の算出シート（計画時）'!$J$50*'（参考）エネルギー起源CO2排出削減量の算出シート（計画時）'!$L$50,0)+IF(【実施期間中】個別事業におけるPDCAシート!G$22=1,【実施期間中】個別事業におけるPDCAシート!G$51*【実施期間中】個別事業におけるPDCAシート!G94*'（参考）エネルギー起源CO2排出削減量の算出シート（計画時）'!$L$14,0)","v":0},{"$f":"IF(OR(H$23=1,H$24=1,H$25=1),H$52*H$108*'（参考）エネルギー起源CO2排出削減量の算出シート（計画時）'!$J$50*'（参考）エネルギー起源CO2排出削減量の算出シート（計画時）'!$L$50,0)+IF(【実施期間中】個別事業におけるPDCAシート!H$22=1,【実施期間中】個別事業におけるPDCAシート!H$51*【実施期間中】個別事業におけるPDCAシート!H94*'（参考）エネルギー起源CO2排出削減量の算出シート（計画時）'!$L$14,0)","v":0},{"$f":"IF(OR(I$23=1,I$24=1,I$25=1),I$52*I$108*'（参考）エネルギー起源CO2排出削減量の算出シート（計画時）'!$J$50*'（参考）エネルギー起源CO2排出削減量の算出シート（計画時）'!$L$50,0)+IF(【実施期間中】個別事業におけるPDCAシート!I$22=1,【実施期間中】個別事業におけるPDCAシート!I$51*【実施期間中】個別事業におけるPDCAシート!I94*'（参考）エネルギー起源CO2排出削減量の算出シート（計画時）'!$L$14,0)","v":0},{"$f":"IF(OR(J$23=1,J$24=1,J$25=1),J$52*J$108*'（参考）エネルギー起源CO2排出削減量の算出シート（計画時）'!$J$50*'（参考）エネルギー起源CO2排出削減量の算出シート（計画時）'!$L$50,0)+IF(【実施期間中】個別事業におけるPDCAシート!J$22=1,【実施期間中】個別事業におけるPDCAシート!J$51*【実施期間中】個別事業におけるPDCAシート!J94*'（参考）エネルギー起源CO2排出削減量の算出シート（計画時）'!$L$14,0)","v":0},{"$f":"IF(OR(K$23=1,K$24=1,K$25=1),K$52*K$108*'（参考）エネルギー起源CO2排出削減量の算出シート（計画時）'!$J$50*'（参考）エネルギー起源CO2排出削減量の算出シート（計画時）'!$L$50,0)+IF(【実施期間中】個別事業におけるPDCAシート!K$22=1,【実施期間中】個別事業におけるPDCAシート!K$51*【実施期間中】個別事業におけるPDCAシート!K94*'（参考）エネルギー起源CO2排出削減量の算出シート（計画時）'!$L$14,0)","v":0},{"$f":"IF(OR(L$23=1,L$24=1,L$25=1),L$52*L$108*'（参考）エネルギー起源CO2排出削減量の算出シート（計画時）'!$J$50*'（参考）エネルギー起源CO2排出削減量の算出シート（計画時）'!$L$50,0)+IF(【実施期間中】個別事業におけるPDCAシート!L$22=1,【実施期間中】個別事業におけるPDCAシート!L$51*【実施期間中】個別事業におけるPDCAシート!L94*'（参考）エネルギー起源CO2排出削減量の算出シート（計画時）'!$L$14,0)","v":0},{"$f":"IF(OR(M$23=1,M$24=1,M$25=1),M$52*M$108*'（参考）エネルギー起源CO2排出削減量の算出シート（計画時）'!$J$50*'（参考）エネルギー起源CO2排出削減量の算出シート（計画時）'!$L$50,0)+IF(【実施期間中】個別事業におけるPDCAシート!M$22=1,【実施期間中】個別事業におけるPDCAシート!M$51*【実施期間中】個別事業におけるPDCAシート!M94*'（参考）エネルギー起源CO2排出削減量の算出シート（計画時）'!$L$14,0)","v":0},{"$f":"IF(OR(N$23=1,N$24=1,N$25=1),N$52*N$108*'（参考）エネルギー起源CO2排出削減量の算出シート（計画時）'!$J$50*'（参考）エネルギー起源CO2排出削減量の算出シート（計画時）'!$L$50,0)+IF(【実施期間中】個別事業におけるPDCAシート!N$22=1,【実施期間中】個別事業におけるPDCAシート!N$51*【実施期間中】個別事業におけるPDCAシート!N94*'（参考）エネルギー起源CO2排出削減量の算出シート（計画時）'!$L$14,0)","v":0},{"$f":"IF(OR(O$23=1,O$24=1,O$25=1),O$52*O$108*'（参考）エネルギー起源CO2排出削減量の算出シート（計画時）'!$J$50*'（参考）エネルギー起源CO2排出削減量の算出シート（計画時）'!$L$50,0)+IF(【実施期間中】個別事業におけるPDCAシート!O$22=1,【実施期間中】個別事業におけるPDCAシート!O$51*【実施期間中】個別事業におけるPDCAシート!O94*'（参考）エネルギー起源CO2排出削減量の算出シート（計画時）'!$L$14,0)","v":0},{"$f":"IF(OR(P$23=1,P$24=1,P$25=1),P$52*P$108*'（参考）エネルギー起源CO2排出削減量の算出シート（計画時）'!$J$50*'（参考）エネルギー起源CO2排出削減量の算出シート（計画時）'!$L$50,0)+IF(【実施期間中】個別事業におけるPDCAシート!P$22=1,【実施期間中】個別事業におけるPDCAシート!P$51*【実施期間中】個別事業におけるPDCAシート!P94*'（参考）エネルギー起源CO2排出削減量の算出シート（計画時）'!$L$14,0)","v":0},{"$f":"IF(OR(Q$23=1,Q$24=1,Q$25=1),Q$52*Q$108*'（参考）エネルギー起源CO2排出削減量の算出シート（計画時）'!$J$50*'（参考）エネルギー起源CO2排出削減量の算出シート（計画時）'!$L$50,0)+IF(【実施期間中】個別事業におけるPDCAシート!Q$22=1,【実施期間中】個別事業におけるPDCAシート!Q$51*【実施期間中】個別事業におけるPDCAシート!Q94*'（参考）エネルギー起源CO2排出削減量の算出シート（計画時）'!$L$14,0)","v":0},{"$f":"IF(OR(R$23=1,R$24=1,R$25=1),R$52*R$108*'（参考）エネルギー起源CO2排出削減量の算出シート（計画時）'!$J$50*'（参考）エネルギー起源CO2排出削減量の算出シート（計画時）'!$L$50,0)+IF(【実施期間中】個別事業におけるPDCAシート!R$22=1,【実施期間中】個別事業におけるPDCAシート!R$51*【実施期間中】個別事業におけるPDCAシート!R94*'（参考）エネルギー起源CO2排出削減量の算出シート（計画時）'!$L$14,0)","v":0},{"$f":"IF(OR(S$23=1,S$24=1,S$25=1),S$52*S$108*'（参考）エネルギー起源CO2排出削減量の算出シート（計画時）'!$J$50*'（参考）エネルギー起源CO2排出削減量の算出シート（計画時）'!$L$50,0)+IF(【実施期間中】個別事業におけるPDCAシート!S$22=1,【実施期間中】個別事業におけるPDCAシート!S$51*【実施期間中】個別事業におけるPDCAシート!S94*'（参考）エネルギー起源CO2排出削減量の算出シート（計画時）'!$L$14,0)","v":0},{"$f":"IF(OR(T$23=1,T$24=1,T$25=1),T$52*T$108*'（参考）エネルギー起源CO2排出削減量の算出シート（計画時）'!$J$50*'（参考）エネルギー起源CO2排出削減量の算出シート（計画時）'!$L$50,0)+IF(【実施期間中】個別事業におけるPDCAシート!T$22=1,【実施期間中】個別事業におけるPDCAシート!T$51*【実施期間中】個別事業におけるPDCAシート!T94*'（参考）エネルギー起源CO2排出削減量の算出シート（計画時）'!$L$14,0)","v":0},{"$f":"IF(OR(U$23=1,U$24=1,U$25=1),U$52*U$108*'（参考）エネルギー起源CO2排出削減量の算出シート（計画時）'!$J$50*'（参考）エネルギー起源CO2排出削減量の算出シート（計画時）'!$L$50,0)+IF(【実施期間中】個別事業におけるPDCAシート!U$22=1,【実施期間中】個別事業におけるPDCAシート!U$51*【実施期間中】個別事業におけるPDCAシート!U94*'（参考）エネルギー起源CO2排出削減量の算出シート（計画時）'!$L$14,0)","v":0},{"$f":"IF(OR(V$23=1,V$24=1,V$25=1),V$52*V$108*'（参考）エネルギー起源CO2排出削減量の算出シート（計画時）'!$J$50*'（参考）エネルギー起源CO2排出削減量の算出シート（計画時）'!$L$50,0)+IF(【実施期間中】個別事業におけるPDCAシート!V$22=1,【実施期間中】個別事業におけるPDCAシート!V$51*【実施期間中】個別事業におけるPDCAシート!V94*'（参考）エネルギー起源CO2排出削減量の算出シート（計画時）'!$L$14,0)","v":0},"*"]
[115,null,null,null,null,"省エネ住宅（断熱リフォーム）",{"$f":"IF(OR(G$23=1,G$24=1),G$52*G109*'（参考）エネルギー起源CO2排出削減量の算出シート（計画時）'!$J$52*'（参考）エネルギー起源CO2排出削減量の算出シート（計画時）'!$L$52,0)+IF(【実施期間中】個別事業におけるPDCAシート!G$22=1,【実施期間中】個別事業におけるPDCAシート!G$51*【実施期間中】個別事業におけるPDCAシート!G95*'（参考）エネルギー起源CO2排出削減量の算出シート（計画時）'!$L$16,0)","v":0},{"$f":"IF(OR(H$23=1,H$24=1,H$25=1),H$52*H$109*'（参考）エネルギー起源CO2排出削減量の算出シート（計画時）'!$J$52*'（参考）エネルギー起源CO2排出削減量の算出シート（計画時）'!$L$52,0)+IF(【実施期間中】個別事業におけるPDCAシート!H$22=1,【実施期間中】個別事業におけるPDCAシート!H$51*【実施期間中】個別事業におけるPDCAシート!H95*'（参考）エネルギー起源CO2排出削減量の算出シート（計画時）'!$L$16,0)","v":0},{"$f":"IF(OR(I$23=1,I$24=1,I$25=1),I$52*I$109*'（参考）エネルギー起源CO2排出削減量の算出シート（計画時）'!$J$52*'（参考）エネルギー起源CO2排出削減量の算出シート（計画時）'!$L$52,0)+IF(【実施期間中】個別事業におけるPDCAシート!I$22=1,【実施期間中】個別事業におけるPDCAシート!I$51*【実施期間中】個別事業におけるPDCAシート!I95*'（参考）エネルギー起源CO2排出削減量の算出シート（計画時）'!$L$16,0)","v":0},{"$f":"IF(OR(J$23=1,J$24=1,J$25=1),J$52*J$109*'（参考）エネルギー起源CO2排出削減量の算出シート（計画時）'!$J$52*'（参考）エネルギー起源CO2排出削減量の算出シート（計画時）'!$L$52,0)+IF(【実施期間中】個別事業におけるPDCAシート!J$22=1,【実施期間中】個別事業におけるPDCAシート!J$51*【実施期間中】個別事業におけるPDCAシート!J95*'（参考）エネルギー起源CO2排出削減量の算出シート（計画時）'!$L$16,0)","v":0},{"$f":"IF(OR(K$23=1,K$24=1,K$25=1),K$52*K$109*'（参考）エネルギー起源CO2排出削減量の算出シート（計画時）'!$J$52*'（参考）エネルギー起源CO2排出削減量の算出シート（計画時）'!$L$52,0)+IF(【実施期間中】個別事業におけるPDCAシート!K$22=1,【実施期間中】個別事業におけるPDCAシート!K$51*【実施期間中】個別事業におけるPDCAシート!K95*'（参考）エネルギー起源CO2排出削減量の算出シート（計画時）'!$L$16,0)","v":0},{"$f":"IF(OR(L$23=1,L$24=1,L$25=1),L$52*L$109*'（参考）エネルギー起源CO2排出削減量の算出シート（計画時）'!$J$52*'（参考）エネルギー起源CO2排出削減量の算出シート（計画時）'!$L$52,0)+IF(【実施期間中】個別事業におけるPDCAシート!L$22=1,【実施期間中】個別事業におけるPDCAシート!L$51*【実施期間中】個別事業におけるPDCAシート!L95*'（参考）エネルギー起源CO2排出削減量の算出シート（計画時）'!$L$16,0)","v":0},{"$f":"IF(OR(M$23=1,M$24=1,M$25=1),M$52*M$109*'（参考）エネルギー起源CO2排出削減量の算出シート（計画時）'!$J$52*'（参考）エネルギー起源CO2排出削減量の算出シート（計画時）'!$L$52,0)+IF(【実施期間中】個別事業におけるPDCAシート!M$22=1,【実施期間中】個別事業におけるPDCAシート!M$51*【実施期間中】個別事業におけるPDCAシート!M95*'（参考）エネルギー起源CO2排出削減量の算出シート（計画時）'!$L$16,0)","v":0},{"$f":"IF(OR(N$23=1,N$24=1,N$25=1),N$52*N$109*'（参考）エネルギー起源CO2排出削減量の算出シート（計画時）'!$J$52*'（参考）エネルギー起源CO2排出削減量の算出シート（計画時）'!$L$52,0)+IF(【実施期間中】個別事業におけるPDCAシート!N$22=1,【実施期間中】個別事業におけるPDCAシート!N$51*【実施期間中】個別事業におけるPDCAシート!N95*'（参考）エネルギー起源CO2排出削減量の算出シート（計画時）'!$L$16,0)","v":0},{"$f":"IF(OR(O$23=1,O$24=1,O$25=1),O$52*O$109*'（参考）エネルギー起源CO2排出削減量の算出シート（計画時）'!$J$52*'（参考）エネルギー起源CO2排出削減量の算出シート（計画時）'!$L$52,0)+IF(【実施期間中】個別事業におけるPDCAシート!O$22=1,【実施期間中】個別事業におけるPDCAシート!O$51*【実施期間中】個別事業におけるPDCAシート!O95*'（参考）エネルギー起源CO2排出削減量の算出シート（計画時）'!$L$16,0)","v":0},{"$f":"IF(OR(P$23=1,P$24=1,P$25=1),P$52*P$109*'（参考）エネルギー起源CO2排出削減量の算出シート（計画時）'!$J$52*'（参考）エネルギー起源CO2排出削減量の算出シート（計画時）'!$L$52,0)+IF(【実施期間中】個別事業におけるPDCAシート!P$22=1,【実施期間中】個別事業におけるPDCAシート!P$51*【実施期間中】個別事業におけるPDCAシート!P95*'（参考）エネルギー起源CO2排出削減量の算出シート（計画時）'!$L$16,0)","v":0},{"$f":"IF(OR(Q$23=1,Q$24=1,Q$25=1),Q$52*Q$109*'（参考）エネルギー起源CO2排出削減量の算出シート（計画時）'!$J$52*'（参考）エネルギー起源CO2排出削減量の算出シート（計画時）'!$L$52,0)+IF(【実施期間中】個別事業におけるPDCAシート!Q$22=1,【実施期間中】個別事業におけるPDCAシート!Q$51*【実施期間中】個別事業におけるPDCAシート!Q95*'（参考）エネルギー起源CO2排出削減量の算出シート（計画時）'!$L$16,0)","v":0},{"$f":"IF(OR(R$23=1,R$24=1,R$25=1),R$52*R$109*'（参考）エネルギー起源CO2排出削減量の算出シート（計画時）'!$J$52*'（参考）エネルギー起源CO2排出削減量の算出シート（計画時）'!$L$52,0)+IF(【実施期間中】個別事業におけるPDCAシート!R$22=1,【実施期間中】個別事業におけるPDCAシート!R$51*【実施期間中】個別事業におけるPDCAシート!R95*'（参考）エネルギー起源CO2排出削減量の算出シート（計画時）'!$L$16,0)","v":0},{"$f":"IF(OR(S$23=1,S$24=1,S$25=1),S$52*S$109*'（参考）エネルギー起源CO2排出削減量の算出シート（計画時）'!$J$52*'（参考）エネルギー起源CO2排出削減量の算出シート（計画時）'!$L$52,0)+IF(【実施期間中】個別事業におけるPDCAシート!S$22=1,【実施期間中】個別事業におけるPDCAシート!S$51*【実施期間中】個別事業におけるPDCAシート!S95*'（参考）エネルギー起源CO2排出削減量の算出シート（計画時）'!$L$16,0)","v":0},{"$f":"IF(OR(T$23=1,T$24=1,T$25=1),T$52*T$109*'（参考）エネルギー起源CO2排出削減量の算出シート（計画時）'!$J$52*'（参考）エネルギー起源CO2排出削減量の算出シート（計画時）'!$L$52,0)+IF(【実施期間中】個別事業におけるPDCAシート!T$22=1,【実施期間中】個別事業におけるPDCAシート!T$51*【実施期間中】個別事業におけるPDCAシート!T95*'（参考）エネルギー起源CO2排出削減量の算出シート（計画時）'!$L$16,0)","v":0},{"$f":"IF(OR(U$23=1,U$24=1,U$25=1),U$52*U$109*'（参考）エネルギー起源CO2排出削減量の算出シート（計画時）'!$J$52*'（参考）エネルギー起源CO2排出削減量の算出シート（計画時）'!$L$52,0)+IF(【実施期間中】個別事業におけるPDCAシート!U$22=1,【実施期間中】個別事業におけるPDCAシート!U$51*【実施期間中】個別事業におけるPDCAシート!U95*'（参考）エネルギー起源CO2排出削減量の算出シート（計画時）'!$L$16,0)","v":0},{"$f":"IF(OR(V$23=1,V$24=1,V$25=1),V$52*V$109*'（参考）エネルギー起源CO2排出削減量の算出シート（計画時）'!$J$52*'（参考）エネルギー起源CO2排出削減量の算出シート（計画時）'!$L$52,0)+IF(【実施期間中】個別事業におけるPDCAシート!V$22=1,【実施期間中】個別事業におけるPDCAシート!V$51*【実施期間中】個別事業におけるPDCAシート!V95*'（参考）エネルギー起源CO2排出削減量の算出シート（計画時）'!$L$16,0)","v":0},"*"]
[116,null,null,null,null,"エコカー",{"$f":"IF(OR(G$23=1,G$24=1),G$52*G110*'（参考）エネルギー起源CO2排出削減量の算出シート（計画時）'!$J$54*'（参考）エネルギー起源CO2排出削減量の算出シート（計画時）'!$L$54,0)+IF(【実施期間中】個別事業におけるPDCAシート!G$22=1,【実施期間中】個別事業におけるPDCAシート!G$51*【実施期間中】個別事業におけるPDCAシート!G96*'（参考）エネルギー起源CO2排出削減量の算出シート（計画時）'!$L$18,0)","v":53.035230769230765},{"$f":"IF(OR(H$23=1,H$24=1,H$25=1),H$52*H$110*'（参考）エネルギー起源CO2排出削減量の算出シート（計画時）'!$J$54*'（参考）エネルギー起源CO2排出削減量の算出シート（計画時）'!$L$54,0)+IF(【実施期間中】個別事業におけるPDCAシート!H$22=1,【実施期間中】個別事業におけるPDCAシート!H$51*【実施期間中】個別事業におけるPDCAシート!H96*'（参考）エネルギー起源CO2排出削減量の算出シート（計画時）'!$L$18,0)","v":0},{"$f":"IF(OR(I$23=1,I$24=1,I$25=1),I$52*I$110*'（参考）エネルギー起源CO2排出削減量の算出シート（計画時）'!$J$54*'（参考）エネルギー起源CO2排出削減量の算出シート（計画時）'!$L$54,0)+IF(【実施期間中】個別事業におけるPDCAシート!I$22=1,【実施期間中】個別事業におけるPDCAシート!I$51*【実施期間中】個別事業におけるPDCAシート!I96*'（参考）エネルギー起源CO2排出削減量の算出シート（計画時）'!$L$18,0)","v":0},{"$f":"IF(OR(J$23=1,J$24=1,J$25=1),J$52*J$110*'（参考）エネルギー起源CO2排出削減量の算出シート（計画時）'!$J$54*'（参考）エネルギー起源CO2排出削減量の算出シート（計画時）'!$L$54,0)+IF(【実施期間中】個別事業におけるPDCAシート!J$22=1,【実施期間中】個別事業におけるPDCAシート!J$51*【実施期間中】個別事業におけるPDCAシート!J96*'（参考）エネルギー起源CO2排出削減量の算出シート（計画時）'!$L$18,0)","v":0},{"$f":"IF(OR(K$23=1,K$24=1,K$25=1),K$52*K$110*'（参考）エネルギー起源CO2排出削減量の算出シート（計画時）'!$J$54*'（参考）エネルギー起源CO2排出削減量の算出シート（計画時）'!$L$54,0)+IF(【実施期間中】個別事業におけるPDCAシート!K$22=1,【実施期間中】個別事業におけるPDCAシート!K$51*【実施期間中】個別事業におけるPDCAシート!K96*'（参考）エネルギー起源CO2排出削減量の算出シート（計画時）'!$L$18,0)","v":0},{"$f":"IF(OR(L$23=1,L$24=1,L$25=1),L$52*L$110*'（参考）エネルギー起源CO2排出削減量の算出シート（計画時）'!$J$54*'（参考）エネルギー起源CO2排出削減量の算出シート（計画時）'!$L$54,0)+IF(【実施期間中】個別事業におけるPDCAシート!L$22=1,【実施期間中】個別事業におけるPDCAシート!L$51*【実施期間中】個別事業におけるPDCAシート!L96*'（参考）エネルギー起源CO2排出削減量の算出シート（計画時）'!$L$18,0)","v":0},{"$f":"IF(OR(M$23=1,M$24=1,M$25=1),M$52*M$110*'（参考）エネルギー起源CO2排出削減量の算出シート（計画時）'!$J$54*'（参考）エネルギー起源CO2排出削減量の算出シート（計画時）'!$L$54,0)+IF(【実施期間中】個別事業におけるPDCAシート!M$22=1,【実施期間中】個別事業におけるPDCAシート!M$51*【実施期間中】個別事業におけるPDCAシート!M96*'（参考）エネルギー起源CO2排出削減量の算出シート（計画時）'!$L$18,0)","v":0},{"$f":"IF(OR(N$23=1,N$24=1,N$25=1),N$52*N$110*'（参考）エネルギー起源CO2排出削減量の算出シート（計画時）'!$J$54*'（参考）エネルギー起源CO2排出削減量の算出シート（計画時）'!$L$54,0)+IF(【実施期間中】個別事業におけるPDCAシート!N$22=1,【実施期間中】個別事業におけるPDCAシート!N$51*【実施期間中】個別事業におけるPDCAシート!N96*'（参考）エネルギー起源CO2排出削減量の算出シート（計画時）'!$L$18,0)","v":0},{"$f":"IF(OR(O$23=1,O$24=1,O$25=1),O$52*O$110*'（参考）エネルギー起源CO2排出削減量の算出シート（計画時）'!$J$54*'（参考）エネルギー起源CO2排出削減量の算出シート（計画時）'!$L$54,0)+IF(【実施期間中】個別事業におけるPDCAシート!O$22=1,【実施期間中】個別事業におけるPDCAシート!O$51*【実施期間中】個別事業におけるPDCAシート!O96*'（参考）エネルギー起源CO2排出削減量の算出シート（計画時）'!$L$18,0)","v":0},{"$f":"IF(OR(P$23=1,P$24=1,P$25=1),P$52*P$110*'（参考）エネルギー起源CO2排出削減量の算出シート（計画時）'!$J$54*'（参考）エネルギー起源CO2排出削減量の算出シート（計画時）'!$L$54,0)+IF(【実施期間中】個別事業におけるPDCAシート!P$22=1,【実施期間中】個別事業におけるPDCAシート!P$51*【実施期間中】個別事業におけるPDCAシート!P96*'（参考）エネルギー起源CO2排出削減量の算出シート（計画時）'!$L$18,0)","v":0},{"$f":"IF(OR(Q$23=1,Q$24=1,Q$25=1),Q$52*Q$110*'（参考）エネルギー起源CO2排出削減量の算出シート（計画時）'!$J$54*'（参考）エネルギー起源CO2排出削減量の算出シート（計画時）'!$L$54,0)+IF(【実施期間中】個別事業におけるPDCAシート!Q$22=1,【実施期間中】個別事業におけるPDCAシート!Q$51*【実施期間中】個別事業におけるPDCAシート!Q96*'（参考）エネルギー起源CO2排出削減量の算出シート（計画時）'!$L$18,0)","v":0},{"$f":"IF(OR(R$23=1,R$24=1,R$25=1),R$52*R$110*'（参考）エネルギー起源CO2排出削減量の算出シート（計画時）'!$J$54*'（参考）エネルギー起源CO2排出削減量の算出シート（計画時）'!$L$54,0)+IF(【実施期間中】個別事業におけるPDCAシート!R$22=1,【実施期間中】個別事業におけるPDCAシート!R$51*【実施期間中】個別事業におけるPDCAシート!R96*'（参考）エネルギー起源CO2排出削減量の算出シート（計画時）'!$L$18,0)","v":0},{"$f":"IF(OR(S$23=1,S$24=1,S$25=1),S$52*S$110*'（参考）エネルギー起源CO2排出削減量の算出シート（計画時）'!$J$54*'（参考）エネルギー起源CO2排出削減量の算出シート（計画時）'!$L$54,0)+IF(【実施期間中】個別事業におけるPDCAシート!S$22=1,【実施期間中】個別事業におけるPDCAシート!S$51*【実施期間中】個別事業におけるPDCAシート!S96*'（参考）エネルギー起源CO2排出削減量の算出シート（計画時）'!$L$18,0)","v":0},{"$f":"IF(OR(T$23=1,T$24=1,T$25=1),T$52*T$110*'（参考）エネルギー起源CO2排出削減量の算出シート（計画時）'!$J$54*'（参考）エネルギー起源CO2排出削減量の算出シート（計画時）'!$L$54,0)+IF(【実施期間中】個別事業におけるPDCAシート!T$22=1,【実施期間中】個別事業におけるPDCAシート!T$51*【実施期間中】個別事業におけるPDCAシート!T96*'（参考）エネルギー起源CO2排出削減量の算出シート（計画時）'!$L$18,0)","v":0},{"$f":"IF(OR(U$23=1,U$24=1,U$25=1),U$52*U$110*'（参考）エネルギー起源CO2排出削減量の算出シート（計画時）'!$J$54*'（参考）エネルギー起源CO2排出削減量の算出シート（計画時）'!$L$54,0)+IF(【実施期間中】個別事業におけるPDCAシート!U$22=1,【実施期間中】個別事業におけるPDCAシート!U$51*【実施期間中】個別事業におけるPDCAシート!U96*'（参考）エネルギー起源CO2排出削減量の算出シート（計画時）'!$L$18,0)","v":0},{"$f":"IF(OR(V$23=1,V$24=1,V$25=1),V$52*V$110*'（参考）エネルギー起源CO2排出削減量の算出シート（計画時）'!$J$54*'（参考）エネルギー起源CO2排出削減量の算出シート（計画時）'!$L$54,0)+IF(【実施期間中】個別事業におけるPDCAシート!V$22=1,【実施期間中】個別事業におけるPDCAシート!V$51*【実施期間中】個別事業におけるPDCAシート!V96*'（参考）エネルギー起源CO2排出削減量の算出シート（計画時）'!$L$18,0)","v":0},"*"]
[117,null,null,null,null,"クールビズ",{"$f":"IF(OR(G$23=1,G$24=1),G$52*G111*'（参考）エネルギー起源CO2排出削減量の算出シート（計画時）'!$J$56*'（参考）エネルギー起源CO2排出削減量の算出シート（計画時）'!$L$56,0)+IF(【実施期間中】個別事業におけるPDCAシート!G$22=1,【実施期間中】個別事業におけるPDCAシート!G$51*【実施期間中】個別事業におけるPDCAシート!G97*'（参考）エネルギー起源CO2排出削減量の算出シート（計画時）'!$L$20,0)","v":0},{"$f":"IF(OR(H$23=1,H$24=1,H$25=1),H$52*H$111*'（参考）エネルギー起源CO2排出削減量の算出シート（計画時）'!$J$56*'（参考）エネルギー起源CO2排出削減量の算出シート（計画時）'!$L$56,0)+IF(【実施期間中】個別事業におけるPDCAシート!H$22=1,【実施期間中】個別事業におけるPDCAシート!H$51*【実施期間中】個別事業におけるPDCAシート!H97*'（参考）エネルギー起源CO2排出削減量の算出シート（計画時）'!$L$20,0)","v":0},{"$f":"IF(OR(I$23=1,I$24=1,I$25=1),I$52*I$111*'（参考）エネルギー起源CO2排出削減量の算出シート（計画時）'!$J$56*'（参考）エネルギー起源CO2排出削減量の算出シート（計画時）'!$L$56,0)+IF(【実施期間中】個別事業におけるPDCAシート!I$22=1,【実施期間中】個別事業におけるPDCAシート!I$51*【実施期間中】個別事業におけるPDCAシート!I97*'（参考）エネルギー起源CO2排出削減量の算出シート（計画時）'!$L$20,0)","v":0},{"$f":"IF(OR(J$23=1,J$24=1,J$25=1),J$52*J$111*'（参考）エネルギー起源CO2排出削減量の算出シート（計画時）'!$J$56*'（参考）エネルギー起源CO2排出削減量の算出シート（計画時）'!$L$56,0)+IF(【実施期間中】個別事業におけるPDCAシート!J$22=1,【実施期間中】個別事業におけるPDCAシート!J$51*【実施期間中】個別事業におけるPDCAシート!J97*'（参考）エネルギー起源CO2排出削減量の算出シート（計画時）'!$L$20,0)","v":0},{"$f":"IF(OR(K$23=1,K$24=1,K$25=1),K$52*K$111*'（参考）エネルギー起源CO2排出削減量の算出シート（計画時）'!$J$56*'（参考）エネルギー起源CO2排出削減量の算出シート（計画時）'!$L$56,0)+IF(【実施期間中】個別事業におけるPDCAシート!K$22=1,【実施期間中】個別事業におけるPDCAシート!K$51*【実施期間中】個別事業におけるPDCAシート!K97*'（参考）エネルギー起源CO2排出削減量の算出シート（計画時）'!$L$20,0)","v":0},{"$f":"IF(OR(L$23=1,L$24=1,L$25=1),L$52*L$111*'（参考）エネルギー起源CO2排出削減量の算出シート（計画時）'!$J$56*'（参考）エネルギー起源CO2排出削減量の算出シート（計画時）'!$L$56,0)+IF(【実施期間中】個別事業におけるPDCAシート!L$22=1,【実施期間中】個別事業におけるPDCAシート!L$51*【実施期間中】個別事業におけるPDCAシート!L97*'（参考）エネルギー起源CO2排出削減量の算出シート（計画時）'!$L$20,0)","v":0},{"$f":"IF(OR(M$23=1,M$24=1,M$25=1),M$52*M$111*'（参考）エネルギー起源CO2排出削減量の算出シート（計画時）'!$J$56*'（参考）エネルギー起源CO2排出削減量の算出シート（計画時）'!$L$56,0)+IF(【実施期間中】個別事業におけるPDCAシート!M$22=1,【実施期間中】個別事業におけるPDCAシート!M$51*【実施期間中】個別事業におけるPDCAシート!M97*'（参考）エネルギー起源CO2排出削減量の算出シート（計画時）'!$L$20,0)","v":0},{"$f":"IF(OR(N$23=1,N$24=1,N$25=1),N$52*N$111*'（参考）エネルギー起源CO2排出削減量の算出シート（計画時）'!$J$56*'（参考）エネルギー起源CO2排出削減量の算出シート（計画時）'!$L$56,0)+IF(【実施期間中】個別事業におけるPDCAシート!N$22=1,【実施期間中】個別事業におけるPDCAシート!N$51*【実施期間中】個別事業におけるPDCAシート!N97*'（参考）エネルギー起源CO2排出削減量の算出シート（計画時）'!$L$20,0)","v":0},{"$f":"IF(OR(O$23=1,O$24=1,O$25=1),O$52*O$111*'（参考）エネルギー起源CO2排出削減量の算出シート（計画時）'!$J$56*'（参考）エネルギー起源CO2排出削減量の算出シート（計画時）'!$L$56,0)+IF(【実施期間中】個別事業におけるPDCAシート!O$22=1,【実施期間中】個別事業におけるPDCAシート!O$51*【実施期間中】個別事業におけるPDCAシート!O97*'（参考）エネルギー起源CO2排出削減量の算出シート（計画時）'!$L$20,0)","v":0},{"$f":"IF(OR(P$23=1,P$24=1,P$25=1),P$52*P$111*'（参考）エネルギー起源CO2排出削減量の算出シート（計画時）'!$J$56*'（参考）エネルギー起源CO2排出削減量の算出シート（計画時）'!$L$56,0)+IF(【実施期間中】個別事業におけるPDCAシート!P$22=1,【実施期間中】個別事業におけるPDCAシート!P$51*【実施期間中】個別事業におけるPDCAシート!P97*'（参考）エネルギー起源CO2排出削減量の算出シート（計画時）'!$L$20,0)","v":0},{"$f":"IF(OR(Q$23=1,Q$24=1,Q$25=1),Q$52*Q$111*'（参考）エネルギー起源CO2排出削減量の算出シート（計画時）'!$J$56*'（参考）エネルギー起源CO2排出削減量の算出シート（計画時）'!$L$56,0)+IF(【実施期間中】個別事業におけるPDCAシート!Q$22=1,【実施期間中】個別事業におけるPDCAシート!Q$51*【実施期間中】個別事業におけるPDCAシート!Q97*'（参考）エネルギー起源CO2排出削減量の算出シート（計画時）'!$L$20,0)","v":0},{"$f":"IF(OR(R$23=1,R$24=1,R$25=1),R$52*R$111*'（参考）エネルギー起源CO2排出削減量の算出シート（計画時）'!$J$56*'（参考）エネルギー起源CO2排出削減量の算出シート（計画時）'!$L$56,0)+IF(【実施期間中】個別事業におけるPDCAシート!R$22=1,【実施期間中】個別事業におけるPDCAシート!R$51*【実施期間中】個別事業におけるPDCAシート!R97*'（参考）エネルギー起源CO2排出削減量の算出シート（計画時）'!$L$20,0)","v":0},{"$f":"IF(OR(S$23=1,S$24=1,S$25=1),S$52*S$111*'（参考）エネルギー起源CO2排出削減量の算出シート（計画時）'!$J$56*'（参考）エネルギー起源CO2排出削減量の算出シート（計画時）'!$L$56,0)+IF(【実施期間中】個別事業におけるPDCAシート!S$22=1,【実施期間中】個別事業におけるPDCAシート!S$51*【実施期間中】個別事業におけるPDCAシート!S97*'（参考）エネルギー起源CO2排出削減量の算出シート（計画時）'!$L$20,0)","v":0},{"$f":"IF(OR(T$23=1,T$24=1,T$25=1),T$52*T$111*'（参考）エネルギー起源CO2排出削減量の算出シート（計画時）'!$J$56*'（参考）エネルギー起源CO2排出削減量の算出シート（計画時）'!$L$56,0)+IF(【実施期間中】個別事業におけるPDCAシート!T$22=1,【実施期間中】個別事業におけるPDCAシート!T$51*【実施期間中】個別事業におけるPDCAシート!T97*'（参考）エネルギー起源CO2排出削減量の算出シート（計画時）'!$L$20,0)","v":0},{"$f":"IF(OR(U$23=1,U$24=1,U$25=1),U$52*U$111*'（参考）エネルギー起源CO2排出削減量の算出シート（計画時）'!$J$56*'（参考）エネルギー起源CO2排出削減量の算出シート（計画時）'!$L$56,0)+IF(【実施期間中】個別事業におけるPDCAシート!U$22=1,【実施期間中】個別事業におけるPDCAシート!U$51*【実施期間中】個別事業におけるPDCAシート!U97*'（参考）エネルギー起源CO2排出削減量の算出シート（計画時）'!$L$20,0)","v":0},{"$f":"IF(OR(V$23=1,V$24=1,V$25=1),V$52*V$111*'（参考）エネルギー起源CO2排出削減量の算出シート（計画時）'!$J$56*'（参考）エネルギー起源CO2排出削減量の算出シート（計画時）'!$L$56,0)+IF(【実施期間中】個別事業におけるPDCAシート!V$22=1,【実施期間中】個別事業におけるPDCAシート!V$51*【実施期間中】個別事業におけるPDCAシート!V97*'（参考）エネルギー起源CO2排出削減量の算出シート（計画時）'!$L$20,0)","v":0},"*"]
[118,null,null,null,null,"ウォームビズ",{"$f":"IF(OR(G$23=1,G$24=1),G$52*G112*'（参考）エネルギー起源CO2排出削減量の算出シート（計画時）'!$J$58*'（参考）エネルギー起源CO2排出削減量の算出シート（計画時）'!$L$58,0)+IF(【実施期間中】個別事業におけるPDCAシート!G$22=1,【実施期間中】個別事業におけるPDCAシート!G$51*【実施期間中】個別事業におけるPDCAシート!G98*'（参考）エネルギー起源CO2排出削減量の算出シート（計画時）'!$L$22,0)","v":0},{"$f":"IF(OR(H$23=1,H$24=1,H$25=1),H$52*H$112*'（参考）エネルギー起源CO2排出削減量の算出シート（計画時）'!$J$58*'（参考）エネルギー起源CO2排出削減量の算出シート（計画時）'!$L$58,0)+IF(【実施期間中】個別事業におけるPDCAシート!H$22=1,【実施期間中】個別事業におけるPDCAシート!H$51*【実施期間中】個別事業におけるPDCAシート!H98*'（参考）エネルギー起源CO2排出削減量の算出シート（計画時）'!$L$22,0)","v":0},{"$f":"IF(OR(I$23=1,I$24=1,I$25=1),I$52*I$112*'（参考）エネルギー起源CO2排出削減量の算出シート（計画時）'!$J$58*'（参考）エネルギー起源CO2排出削減量の算出シート（計画時）'!$L$58,0)+IF(【実施期間中】個別事業におけるPDCAシート!I$22=1,【実施期間中】個別事業におけるPDCAシート!I$51*【実施期間中】個別事業におけるPDCAシート!I98*'（参考）エネルギー起源CO2排出削減量の算出シート（計画時）'!$L$22,0)","v":0},{"$f":"IF(OR(J$23=1,J$24=1,J$25=1),J$52*J$112*'（参考）エネルギー起源CO2排出削減量の算出シート（計画時）'!$J$58*'（参考）エネルギー起源CO2排出削減量の算出シート（計画時）'!$L$58,0)+IF(【実施期間中】個別事業におけるPDCAシート!J$22=1,【実施期間中】個別事業におけるPDCAシート!J$51*【実施期間中】個別事業におけるPDCAシート!J98*'（参考）エネルギー起源CO2排出削減量の算出シート（計画時）'!$L$22,0)","v":0},{"$f":"IF(OR(K$23=1,K$24=1,K$25=1),K$52*K$112*'（参考）エネルギー起源CO2排出削減量の算出シート（計画時）'!$J$58*'（参考）エネルギー起源CO2排出削減量の算出シート（計画時）'!$L$58,0)+IF(【実施期間中】個別事業におけるPDCAシート!K$22=1,【実施期間中】個別事業におけるPDCAシート!K$51*【実施期間中】個別事業におけるPDCAシート!K98*'（参考）エネルギー起源CO2排出削減量の算出シート（計画時）'!$L$22,0)","v":0},{"$f":"IF(OR(L$23=1,L$24=1,L$25=1),L$52*L$112*'（参考）エネルギー起源CO2排出削減量の算出シート（計画時）'!$J$58*'（参考）エネルギー起源CO2排出削減量の算出シート（計画時）'!$L$58,0)+IF(【実施期間中】個別事業におけるPDCAシート!L$22=1,【実施期間中】個別事業におけるPDCAシート!L$51*【実施期間中】個別事業におけるPDCAシート!L98*'（参考）エネルギー起源CO2排出削減量の算出シート（計画時）'!$L$22,0)","v":0},{"$f":"IF(OR(M$23=1,M$24=1,M$25=1),M$52*M$112*'（参考）エネルギー起源CO2排出削減量の算出シート（計画時）'!$J$58*'（参考）エネルギー起源CO2排出削減量の算出シート（計画時）'!$L$58,0)+IF(【実施期間中】個別事業におけるPDCAシート!M$22=1,【実施期間中】個別事業におけるPDCAシート!M$51*【実施期間中】個別事業におけるPDCAシート!M98*'（参考）エネルギー起源CO2排出削減量の算出シート（計画時）'!$L$22,0)","v":0},{"$f":"IF(OR(N$23=1,N$24=1,N$25=1),N$52*N$112*'（参考）エネルギー起源CO2排出削減量の算出シート（計画時）'!$J$58*'（参考）エネルギー起源CO2排出削減量の算出シート（計画時）'!$L$58,0)+IF(【実施期間中】個別事業におけるPDCAシート!N$22=1,【実施期間中】個別事業におけるPDCAシート!N$51*【実施期間中】個別事業におけるPDCAシート!N98*'（参考）エネルギー起源CO2排出削減量の算出シート（計画時）'!$L$22,0)","v":0},{"$f":"IF(OR(O$23=1,O$24=1,O$25=1),O$52*O$112*'（参考）エネルギー起源CO2排出削減量の算出シート（計画時）'!$J$58*'（参考）エネルギー起源CO2排出削減量の算出シート（計画時）'!$L$58,0)+IF(【実施期間中】個別事業におけるPDCAシート!O$22=1,【実施期間中】個別事業におけるPDCAシート!O$51*【実施期間中】個別事業におけるPDCAシート!O98*'（参考）エネルギー起源CO2排出削減量の算出シート（計画時）'!$L$22,0)","v":0},{"$f":"IF(OR(P$23=1,P$24=1,P$25=1),P$52*P$112*'（参考）エネルギー起源CO2排出削減量の算出シート（計画時）'!$J$58*'（参考）エネルギー起源CO2排出削減量の算出シート（計画時）'!$L$58,0)+IF(【実施期間中】個別事業におけるPDCAシート!P$22=1,【実施期間中】個別事業におけるPDCAシート!P$51*【実施期間中】個別事業におけるPDCAシート!P98*'（参考）エネルギー起源CO2排出削減量の算出シート（計画時）'!$L$22,0)","v":0},{"$f":"IF(OR(Q$23=1,Q$24=1,Q$25=1),Q$52*Q$112*'（参考）エネルギー起源CO2排出削減量の算出シート（計画時）'!$J$58*'（参考）エネルギー起源CO2排出削減量の算出シート（計画時）'!$L$58,0)+IF(【実施期間中】個別事業におけるPDCAシート!Q$22=1,【実施期間中】個別事業におけるPDCAシート!Q$51*【実施期間中】個別事業におけるPDCAシート!Q98*'（参考）エネルギー起源CO2排出削減量の算出シート（計画時）'!$L$22,0)","v":0},{"$f":"IF(OR(R$23=1,R$24=1,R$25=1),R$52*R$112*'（参考）エネルギー起源CO2排出削減量の算出シート（計画時）'!$J$58*'（参考）エネルギー起源CO2排出削減量の算出シート（計画時）'!$L$58,0)+IF(【実施期間中】個別事業におけるPDCAシート!R$22=1,【実施期間中】個別事業におけるPDCAシート!R$51*【実施期間中】個別事業におけるPDCAシート!R98*'（参考）エネルギー起源CO2排出削減量の算出シート（計画時）'!$L$22,0)","v":0},{"$f":"IF(OR(S$23=1,S$24=1,S$25=1),S$52*S$112*'（参考）エネルギー起源CO2排出削減量の算出シート（計画時）'!$J$58*'（参考）エネルギー起源CO2排出削減量の算出シート（計画時）'!$L$58,0)+IF(【実施期間中】個別事業におけるPDCAシート!S$22=1,【実施期間中】個別事業におけるPDCAシート!S$51*【実施期間中】個別事業におけるPDCAシート!S98*'（参考）エネルギー起源CO2排出削減量の算出シート（計画時）'!$L$22,0)","v":0},{"$f":"IF(OR(T$23=1,T$24=1,T$25=1),T$52*T$112*'（参考）エネルギー起源CO2排出削減量の算出シート（計画時）'!$J$58*'（参考）エネルギー起源CO2排出削減量の算出シート（計画時）'!$L$58,0)+IF(【実施期間中】個別事業におけるPDCAシート!T$22=1,【実施期間中】個別事業におけるPDCAシート!T$51*【実施期間中】個別事業におけるPDCAシート!T98*'（参考）エネルギー起源CO2排出削減量の算出シート（計画時）'!$L$22,0)","v":0},{"$f":"IF(OR(U$23=1,U$24=1,U$25=1),U$52*U$112*'（参考）エネルギー起源CO2排出削減量の算出シート（計画時）'!$J$58*'（参考）エネルギー起源CO2排出削減量の算出シート（計画時）'!$L$58,0)+IF(【実施期間中】個別事業におけるPDCAシート!U$22=1,【実施期間中】個別事業におけるPDCAシート!U$51*【実施期間中】個別事業におけるPDCAシート!U98*'（参考）エネルギー起源CO2排出削減量の算出シート（計画時）'!$L$22,0)","v":0},{"$f":"IF(OR(V$23=1,V$24=1,V$25=1),V$52*V$112*'（参考）エネルギー起源CO2排出削減量の算出シート（計画時）'!$J$58*'（参考）エネルギー起源CO2排出削減量の算出シート（計画時）'!$L$58,0)+IF(【実施期間中】個別事業におけるPDCAシート!V$22=1,【実施期間中】個別事業におけるPDCAシート!V$51*【実施期間中】個別事業におけるPDCAシート!V98*'（参考）エネルギー起源CO2排出削減量の算出シート（計画時）'!$L$22,0)","v":0},"*"]
[119,null,null,null,null,"照明の効率的利用",{"$f":"IF(OR(G$23=1,G$24=1),G$52*G113*'（参考）エネルギー起源CO2排出削減量の算出シート（計画時）'!$J$60*'（参考）エネルギー起源CO2排出削減量の算出シート（計画時）'!$L$60,0)+IF(【実施期間中】個別事業におけるPDCAシート!G$22=1,【実施期間中】個別事業におけるPDCAシート!G$51*【実施期間中】個別事業におけるPDCAシート!G99*'（参考）エネルギー起源CO2排出削減量の算出シート（計画時）'!$L$24,0)","v":0},{"$f":"IF(OR(H$23=1,H$24=1,H$25=1),H$52*H$113*'（参考）エネルギー起源CO2排出削減量の算出シート（計画時）'!$J$60*'（参考）エネルギー起源CO2排出削減量の算出シート（計画時）'!$L$60,0)+IF(【実施期間中】個別事業におけるPDCAシート!H$22=1,【実施期間中】個別事業におけるPDCAシート!H$51*【実施期間中】個別事業におけるPDCAシート!H99*'（参考）エネルギー起源CO2排出削減量の算出シート（計画時）'!$L$24,0)","v":0},{"$f":"IF(OR(I$23=1,I$24=1,I$25=1),I$52*I$113*'（参考）エネルギー起源CO2排出削減量の算出シート（計画時）'!$J$60*'（参考）エネルギー起源CO2排出削減量の算出シート（計画時）'!$L$60,0)+IF(【実施期間中】個別事業におけるPDCAシート!I$22=1,【実施期間中】個別事業におけるPDCAシート!I$51*【実施期間中】個別事業におけるPDCAシート!I99*'（参考）エネルギー起源CO2排出削減量の算出シート（計画時）'!$L$24,0)","v":0},{"$f":"IF(OR(J$23=1,J$24=1,J$25=1),J$52*J$113*'（参考）エネルギー起源CO2排出削減量の算出シート（計画時）'!$J$60*'（参考）エネルギー起源CO2排出削減量の算出シート（計画時）'!$L$60,0)+IF(【実施期間中】個別事業におけるPDCAシート!J$22=1,【実施期間中】個別事業におけるPDCAシート!J$51*【実施期間中】個別事業におけるPDCAシート!J99*'（参考）エネルギー起源CO2排出削減量の算出シート（計画時）'!$L$24,0)","v":0},{"$f":"IF(OR(K$23=1,K$24=1,K$25=1),K$52*K$113*'（参考）エネルギー起源CO2排出削減量の算出シート（計画時）'!$J$60*'（参考）エネルギー起源CO2排出削減量の算出シート（計画時）'!$L$60,0)+IF(【実施期間中】個別事業におけるPDCAシート!K$22=1,【実施期間中】個別事業におけるPDCAシート!K$51*【実施期間中】個別事業におけるPDCAシート!K99*'（参考）エネルギー起源CO2排出削減量の算出シート（計画時）'!$L$24,0)","v":0},{"$f":"IF(OR(L$23=1,L$24=1,L$25=1),L$52*L$113*'（参考）エネルギー起源CO2排出削減量の算出シート（計画時）'!$J$60*'（参考）エネルギー起源CO2排出削減量の算出シート（計画時）'!$L$60,0)+IF(【実施期間中】個別事業におけるPDCAシート!L$22=1,【実施期間中】個別事業におけるPDCAシート!L$51*【実施期間中】個別事業におけるPDCAシート!L99*'（参考）エネルギー起源CO2排出削減量の算出シート（計画時）'!$L$24,0)","v":0},{"$f":"IF(OR(M$23=1,M$24=1,M$25=1),M$52*M$113*'（参考）エネルギー起源CO2排出削減量の算出シート（計画時）'!$J$60*'（参考）エネルギー起源CO2排出削減量の算出シート（計画時）'!$L$60,0)+IF(【実施期間中】個別事業におけるPDCAシート!M$22=1,【実施期間中】個別事業におけるPDCAシート!M$51*【実施期間中】個別事業におけるPDCAシート!M99*'（参考）エネルギー起源CO2排出削減量の算出シート（計画時）'!$L$24,0)","v":0},{"$f":"IF(OR(N$23=1,N$24=1,N$25=1),N$52*N$113*'（参考）エネルギー起源CO2排出削減量の算出シート（計画時）'!$J$60*'（参考）エネルギー起源CO2排出削減量の算出シート（計画時）'!$L$60,0)+IF(【実施期間中】個別事業におけるPDCAシート!N$22=1,【実施期間中】個別事業におけるPDCAシート!N$51*【実施期間中】個別事業におけるPDCAシート!N99*'（参考）エネルギー起源CO2排出削減量の算出シート（計画時）'!$L$24,0)","v":0},{"$f":"IF(OR(O$23=1,O$24=1,O$25=1),O$52*O$113*'（参考）エネルギー起源CO2排出削減量の算出シート（計画時）'!$J$60*'（参考）エネルギー起源CO2排出削減量の算出シート（計画時）'!$L$60,0)+IF(【実施期間中】個別事業におけるPDCAシート!O$22=1,【実施期間中】個別事業におけるPDCAシート!O$51*【実施期間中】個別事業におけるPDCAシート!O99*'（参考）エネルギー起源CO2排出削減量の算出シート（計画時）'!$L$24,0)","v":0},{"$f":"IF(OR(P$23=1,P$24=1,P$25=1),P$52*P$113*'（参考）エネルギー起源CO2排出削減量の算出シート（計画時）'!$J$60*'（参考）エネルギー起源CO2排出削減量の算出シート（計画時）'!$L$60,0)+IF(【実施期間中】個別事業におけるPDCAシート!P$22=1,【実施期間中】個別事業におけるPDCAシート!P$51*【実施期間中】個別事業におけるPDCAシート!P99*'（参考）エネルギー起源CO2排出削減量の算出シート（計画時）'!$L$24,0)","v":0},{"$f":"IF(OR(Q$23=1,Q$24=1,Q$25=1),Q$52*Q$113*'（参考）エネルギー起源CO2排出削減量の算出シート（計画時）'!$J$60*'（参考）エネルギー起源CO2排出削減量の算出シート（計画時）'!$L$60,0)+IF(【実施期間中】個別事業におけるPDCAシート!Q$22=1,【実施期間中】個別事業におけるPDCAシート!Q$51*【実施期間中】個別事業におけるPDCAシート!Q99*'（参考）エネルギー起源CO2排出削減量の算出シート（計画時）'!$L$24,0)","v":0},{"$f":"IF(OR(R$23=1,R$24=1,R$25=1),R$52*R$113*'（参考）エネルギー起源CO2排出削減量の算出シート（計画時）'!$J$60*'（参考）エネルギー起源CO2排出削減量の算出シート（計画時）'!$L$60,0)+IF(【実施期間中】個別事業におけるPDCAシート!R$22=1,【実施期間中】個別事業におけるPDCAシート!R$51*【実施期間中】個別事業におけるPDCAシート!R99*'（参考）エネルギー起源CO2排出削減量の算出シート（計画時）'!$L$24,0)","v":0},{"$f":"IF(OR(S$23=1,S$24=1,S$25=1),S$52*S$113*'（参考）エネルギー起源CO2排出削減量の算出シート（計画時）'!$J$60*'（参考）エネルギー起源CO2排出削減量の算出シート（計画時）'!$L$60,0)+IF(【実施期間中】個別事業におけるPDCAシート!S$22=1,【実施期間中】個別事業におけるPDCAシート!S$51*【実施期間中】個別事業におけるPDCAシート!S99*'（参考）エネルギー起源CO2排出削減量の算出シート（計画時）'!$L$24,0)","v":0},{"$f":"IF(OR(T$23=1,T$24=1,T$25=1),T$52*T$113*'（参考）エネルギー起源CO2排出削減量の算出シート（計画時）'!$J$60*'（参考）エネルギー起源CO2排出削減量の算出シート（計画時）'!$L$60,0)+IF(【実施期間中】個別事業におけるPDCAシート!T$22=1,【実施期間中】個別事業におけるPDCAシート!T$51*【実施期間中】個別事業におけるPDCAシート!T99*'（参考）エネルギー起源CO2排出削減量の算出シート（計画時）'!$L$24,0)","v":0},{"$f":"IF(OR(U$23=1,U$24=1,U$25=1),U$52*U$113*'（参考）エネルギー起源CO2排出削減量の算出シート（計画時）'!$J$60*'（参考）エネルギー起源CO2排出削減量の算出シート（計画時）'!$L$60,0)+IF(【実施期間中】個別事業におけるPDCAシート!U$22=1,【実施期間中】個別事業におけるPDCAシート!U$51*【実施期間中】個別事業におけるPDCAシート!U99*'（参考）エネルギー起源CO2排出削減量の算出シート（計画時）'!$L$24,0)","v":0},{"$f":"IF(OR(V$23=1,V$24=1,V$25=1),V$52*V$113*'（参考）エネルギー起源CO2排出削減量の算出シート（計画時）'!$J$60*'（参考）エネルギー起源CO2排出削減量の算出シート（計画時）'!$L$60,0)+IF(【実施期間中】個別事業におけるPDCAシート!V$22=1,【実施期間中】個別事業におけるPDCAシート!V$51*【実施期間中】個別事業におけるPDCAシート!V99*'（参考）エネルギー起源CO2排出削減量の算出シート（計画時）'!$L$24,0)","v":0},"*"]
[120,null,null,null,null,"エコドライブ",{"$f":"IF(OR(G$23=1,G$24=1),G$52*G114*'（参考）エネルギー起源CO2排出削減量の算出シート（計画時）'!$J$62*'（参考）エネルギー起源CO2排出削減量の算出シート（計画時）'!$L$62,0)+IF(【実施期間中】個別事業におけるPDCAシート!G$22=1,【実施期間中】個別事業におけるPDCAシート!G$51*【実施期間中】個別事業におけるPDCAシート!G100*'（参考）エネルギー起源CO2排出削減量の算出シート（計画時）'!$L$26,0)","v":17.670590000000001},{"$f":"IF(OR(H$23=1,H$24=1,H$25=1),H$52*H$114*'（参考）エネルギー起源CO2排出削減量の算出シート（計画時）'!$J$62*'（参考）エネルギー起源CO2排出削減量の算出シート（計画時）'!$L$62,0)+IF(【実施期間中】個別事業におけるPDCAシート!H$22=1,【実施期間中】個別事業におけるPDCAシート!H$51*【実施期間中】個別事業におけるPDCAシート!H100*'（参考）エネルギー起源CO2排出削減量の算出シート（計画時）'!$L$26,0)","v":0},{"$f":"IF(OR(I$23=1,I$24=1,I$25=1),I$52*I$114*'（参考）エネルギー起源CO2排出削減量の算出シート（計画時）'!$J$62*'（参考）エネルギー起源CO2排出削減量の算出シート（計画時）'!$L$62,0)+IF(【実施期間中】個別事業におけるPDCAシート!I$22=1,【実施期間中】個別事業におけるPDCAシート!I$51*【実施期間中】個別事業におけるPDCAシート!I100*'（参考）エネルギー起源CO2排出削減量の算出シート（計画時）'!$L$26,0)","v":0},{"$f":"IF(OR(J$23=1,J$24=1,J$25=1),J$52*J$114*'（参考）エネルギー起源CO2排出削減量の算出シート（計画時）'!$J$62*'（参考）エネルギー起源CO2排出削減量の算出シート（計画時）'!$L$62,0)+IF(【実施期間中】個別事業におけるPDCAシート!J$22=1,【実施期間中】個別事業におけるPDCAシート!J$51*【実施期間中】個別事業におけるPDCAシート!J100*'（参考）エネルギー起源CO2排出削減量の算出シート（計画時）'!$L$26,0)","v":0},{"$f":"IF(OR(K$23=1,K$24=1,K$25=1),K$52*K$114*'（参考）エネルギー起源CO2排出削減量の算出シート（計画時）'!$J$62*'（参考）エネルギー起源CO2排出削減量の算出シート（計画時）'!$L$62,0)+IF(【実施期間中】個別事業におけるPDCAシート!K$22=1,【実施期間中】個別事業におけるPDCAシート!K$51*【実施期間中】個別事業におけるPDCAシート!K100*'（参考）エネルギー起源CO2排出削減量の算出シート（計画時）'!$L$26,0)","v":0},{"$f":"IF(OR(L$23=1,L$24=1,L$25=1),L$52*L$114*'（参考）エネルギー起源CO2排出削減量の算出シート（計画時）'!$J$62*'（参考）エネルギー起源CO2排出削減量の算出シート（計画時）'!$L$62,0)+IF(【実施期間中】個別事業におけるPDCAシート!L$22=1,【実施期間中】個別事業におけるPDCAシート!L$51*【実施期間中】個別事業におけるPDCAシート!L100*'（参考）エネルギー起源CO2排出削減量の算出シート（計画時）'!$L$26,0)","v":0},{"$f":"IF(OR(M$23=1,M$24=1,M$25=1),M$52*M$114*'（参考）エネルギー起源CO2排出削減量の算出シート（計画時）'!$J$62*'（参考）エネルギー起源CO2排出削減量の算出シート（計画時）'!$L$62,0)+IF(【実施期間中】個別事業におけるPDCAシート!M$22=1,【実施期間中】個別事業におけるPDCAシート!M$51*【実施期間中】個別事業におけるPDCAシート!M100*'（参考）エネルギー起源CO2排出削減量の算出シート（計画時）'!$L$26,0)","v":0},{"$f":"IF(OR(N$23=1,N$24=1,N$25=1),N$52*N$114*'（参考）エネルギー起源CO2排出削減量の算出シート（計画時）'!$J$62*'（参考）エネルギー起源CO2排出削減量の算出シート（計画時）'!$L$62,0)+IF(【実施期間中】個別事業におけるPDCAシート!N$22=1,【実施期間中】個別事業におけるPDCAシート!N$51*【実施期間中】個別事業におけるPDCAシート!N100*'（参考）エネルギー起源CO2排出削減量の算出シート（計画時）'!$L$26,0)","v":0},{"$f":"IF(OR(O$23=1,O$24=1,O$25=1),O$52*O$114*'（参考）エネルギー起源CO2排出削減量の算出シート（計画時）'!$J$62*'（参考）エネルギー起源CO2排出削減量の算出シート（計画時）'!$L$62,0)+IF(【実施期間中】個別事業におけるPDCAシート!O$22=1,【実施期間中】個別事業におけるPDCAシート!O$51*【実施期間中】個別事業におけるPDCAシート!O100*'（参考）エネルギー起源CO2排出削減量の算出シート（計画時）'!$L$26,0)","v":0},{"$f":"IF(OR(P$23=1,P$24=1,P$25=1),P$52*P$114*'（参考）エネルギー起源CO2排出削減量の算出シート（計画時）'!$J$62*'（参考）エネルギー起源CO2排出削減量の算出シート（計画時）'!$L$62,0)+IF(【実施期間中】個別事業におけるPDCAシート!P$22=1,【実施期間中】個別事業におけるPDCAシート!P$51*【実施期間中】個別事業におけるPDCAシート!P100*'（参考）エネルギー起源CO2排出削減量の算出シート（計画時）'!$L$26,0)","v":0},{"$f":"IF(OR(Q$23=1,Q$24=1,Q$25=1),Q$52*Q$114*'（参考）エネルギー起源CO2排出削減量の算出シート（計画時）'!$J$62*'（参考）エネルギー起源CO2排出削減量の算出シート（計画時）'!$L$62,0)+IF(【実施期間中】個別事業におけるPDCAシート!Q$22=1,【実施期間中】個別事業におけるPDCAシート!Q$51*【実施期間中】個別事業におけるPDCAシート!Q100*'（参考）エネルギー起源CO2排出削減量の算出シート（計画時）'!$L$26,0)","v":0},{"$f":"IF(OR(R$23=1,R$24=1,R$25=1),R$52*R$114*'（参考）エネルギー起源CO2排出削減量の算出シート（計画時）'!$J$62*'（参考）エネルギー起源CO2排出削減量の算出シート（計画時）'!$L$62,0)+IF(【実施期間中】個別事業におけるPDCAシート!R$22=1,【実施期間中】個別事業におけるPDCAシート!R$51*【実施期間中】個別事業におけるPDCAシート!R100*'（参考）エネルギー起源CO2排出削減量の算出シート（計画時）'!$L$26,0)","v":0},{"$f":"IF(OR(S$23=1,S$24=1,S$25=1),S$52*S$114*'（参考）エネルギー起源CO2排出削減量の算出シート（計画時）'!$J$62*'（参考）エネルギー起源CO2排出削減量の算出シート（計画時）'!$L$62,0)+IF(【実施期間中】個別事業におけるPDCAシート!S$22=1,【実施期間中】個別事業におけるPDCAシート!S$51*【実施期間中】個別事業におけるPDCAシート!S100*'（参考）エネルギー起源CO2排出削減量の算出シート（計画時）'!$L$26,0)","v":0},{"$f":"IF(OR(T$23=1,T$24=1,T$25=1),T$52*T$114*'（参考）エネルギー起源CO2排出削減量の算出シート（計画時）'!$J$62*'（参考）エネルギー起源CO2排出削減量の算出シート（計画時）'!$L$62,0)+IF(【実施期間中】個別事業におけるPDCAシート!T$22=1,【実施期間中】個別事業におけるPDCAシート!T$51*【実施期間中】個別事業におけるPDCAシート!T100*'（参考）エネルギー起源CO2排出削減量の算出シート（計画時）'!$L$26,0)","v":0},{"$f":"IF(OR(U$23=1,U$24=1,U$25=1),U$52*U$114*'（参考）エネルギー起源CO2排出削減量の算出シート（計画時）'!$J$62*'（参考）エネルギー起源CO2排出削減量の算出シート（計画時）'!$L$62,0)+IF(【実施期間中】個別事業におけるPDCAシート!U$22=1,【実施期間中】個別事業におけるPDCAシート!U$51*【実施期間中】個別事業におけるPDCAシート!U100*'（参考）エネルギー起源CO2排出削減量の算出シート（計画時）'!$L$26,0)","v":0},{"$f":"IF(OR(V$23=1,V$24=1,V$25=1),V$52*V$114*'（参考）エネルギー起源CO2排出削減量の算出シート（計画時）'!$J$62*'（参考）エネルギー起源CO2排出削減量の算出シート（計画時）'!$L$62,0)+IF(【実施期間中】個別事業におけるPDCAシート!V$22=1,【実施期間中】個別事業におけるPDCAシート!V$51*【実施期間中】個別事業におけるPDCAシート!V100*'（参考）エネルギー起源CO2排出削減量の算出シート（計画時）'!$L$26,0)","v":0},"*"]
[121,null,null,null,null,"カーシェア",{"$f":"IF(OR(G$23=1,G$24=1),G$52*G115*'（参考）エネルギー起源CO2排出削減量の算出シート（計画時）'!$J$64*'（参考）エネルギー起源CO2排出削減量の算出シート（計画時）'!$L$64,0)+IF(【実施期間中】個別事業におけるPDCAシート!G$22=1,【実施期間中】個別事業におけるPDCAシート!G$51*【実施期間中】個別事業におけるPDCAシート!G101*'（参考）エネルギー起源CO2排出削減量の算出シート（計画時）'!$L$28,0)","v":0},{"$f":"IF(OR(H$23=1,H$24=1,H$25=1),H$52*H$115*'（参考）エネルギー起源CO2排出削減量の算出シート（計画時）'!$J$64*'（参考）エネルギー起源CO2排出削減量の算出シート（計画時）'!$L$64,0)+IF(【実施期間中】個別事業におけるPDCAシート!H$22=1,【実施期間中】個別事業におけるPDCAシート!H$51*【実施期間中】個別事業におけるPDCAシート!H101*'（参考）エネルギー起源CO2排出削減量の算出シート（計画時）'!$L$28,0)","v":0},{"$f":"IF(OR(I$23=1,I$24=1,I$25=1),I$52*I$115*'（参考）エネルギー起源CO2排出削減量の算出シート（計画時）'!$J$64*'（参考）エネルギー起源CO2排出削減量の算出シート（計画時）'!$L$64,0)+IF(【実施期間中】個別事業におけるPDCAシート!I$22=1,【実施期間中】個別事業におけるPDCAシート!I$51*【実施期間中】個別事業におけるPDCAシート!I101*'（参考）エネルギー起源CO2排出削減量の算出シート（計画時）'!$L$28,0)","v":0},{"$f":"IF(OR(J$23=1,J$24=1,J$25=1),J$52*J$115*'（参考）エネルギー起源CO2排出削減量の算出シート（計画時）'!$J$64*'（参考）エネルギー起源CO2排出削減量の算出シート（計画時）'!$L$64,0)+IF(【実施期間中】個別事業におけるPDCAシート!J$22=1,【実施期間中】個別事業におけるPDCAシート!J$51*【実施期間中】個別事業におけるPDCAシート!J101*'（参考）エネルギー起源CO2排出削減量の算出シート（計画時）'!$L$28,0)","v":0},{"$f":"IF(OR(K$23=1,K$24=1,K$25=1),K$52*K$115*'（参考）エネルギー起源CO2排出削減量の算出シート（計画時）'!$J$64*'（参考）エネルギー起源CO2排出削減量の算出シート（計画時）'!$L$64,0)+IF(【実施期間中】個別事業におけるPDCAシート!K$22=1,【実施期間中】個別事業におけるPDCAシート!K$51*【実施期間中】個別事業におけるPDCAシート!K101*'（参考）エネルギー起源CO2排出削減量の算出シート（計画時）'!$L$28,0)","v":0},{"$f":"IF(OR(L$23=1,L$24=1,L$25=1),L$52*L$115*'（参考）エネルギー起源CO2排出削減量の算出シート（計画時）'!$J$64*'（参考）エネルギー起源CO2排出削減量の算出シート（計画時）'!$L$64,0)+IF(【実施期間中】個別事業におけるPDCAシート!L$22=1,【実施期間中】個別事業におけるPDCAシート!L$51*【実施期間中】個別事業におけるPDCAシート!L101*'（参考）エネルギー起源CO2排出削減量の算出シート（計画時）'!$L$28,0)","v":0},{"$f":"IF(OR(M$23=1,M$24=1,M$25=1),M$52*M$115*'（参考）エネルギー起源CO2排出削減量の算出シート（計画時）'!$J$64*'（参考）エネルギー起源CO2排出削減量の算出シート（計画時）'!$L$64,0)+IF(【実施期間中】個別事業におけるPDCAシート!M$22=1,【実施期間中】個別事業におけるPDCAシート!M$51*【実施期間中】個別事業におけるPDCAシート!M101*'（参考）エネルギー起源CO2排出削減量の算出シート（計画時）'!$L$28,0)","v":0},{"$f":"IF(OR(N$23=1,N$24=1,N$25=1),N$52*N$115*'（参考）エネルギー起源CO2排出削減量の算出シート（計画時）'!$J$64*'（参考）エネルギー起源CO2排出削減量の算出シート（計画時）'!$L$64,0)+IF(【実施期間中】個別事業におけるPDCAシート!N$22=1,【実施期間中】個別事業におけるPDCAシート!N$51*【実施期間中】個別事業におけるPDCAシート!N101*'（参考）エネルギー起源CO2排出削減量の算出シート（計画時）'!$L$28,0)","v":0},{"$f":"IF(OR(O$23=1,O$24=1,O$25=1),O$52*O$115*'（参考）エネルギー起源CO2排出削減量の算出シート（計画時）'!$J$64*'（参考）エネルギー起源CO2排出削減量の算出シート（計画時）'!$L$64,0)+IF(【実施期間中】個別事業におけるPDCAシート!O$22=1,【実施期間中】個別事業におけるPDCAシート!O$51*【実施期間中】個別事業におけるPDCAシート!O101*'（参考）エネルギー起源CO2排出削減量の算出シート（計画時）'!$L$28,0)","v":0},{"$f":"IF(OR(P$23=1,P$24=1,P$25=1),P$52*P$115*'（参考）エネルギー起源CO2排出削減量の算出シート（計画時）'!$J$64*'（参考）エネルギー起源CO2排出削減量の算出シート（計画時）'!$L$64,0)+IF(【実施期間中】個別事業におけるPDCAシート!P$22=1,【実施期間中】個別事業におけるPDCAシート!P$51*【実施期間中】個別事業におけるPDCAシート!P101*'（参考）エネルギー起源CO2排出削減量の算出シート（計画時）'!$L$28,0)","v":0},{"$f":"IF(OR(Q$23=1,Q$24=1,Q$25=1),Q$52*Q$115*'（参考）エネルギー起源CO2排出削減量の算出シート（計画時）'!$J$64*'（参考）エネルギー起源CO2排出削減量の算出シート（計画時）'!$L$64,0)+IF(【実施期間中】個別事業におけるPDCAシート!Q$22=1,【実施期間中】個別事業におけるPDCAシート!Q$51*【実施期間中】個別事業におけるPDCAシート!Q101*'（参考）エネルギー起源CO2排出削減量の算出シート（計画時）'!$L$28,0)","v":0},{"$f":"IF(OR(R$23=1,R$24=1,R$25=1),R$52*R$115*'（参考）エネルギー起源CO2排出削減量の算出シート（計画時）'!$J$64*'（参考）エネルギー起源CO2排出削減量の算出シート（計画時）'!$L$64,0)+IF(【実施期間中】個別事業におけるPDCAシート!R$22=1,【実施期間中】個別事業におけるPDCAシート!R$51*【実施期間中】個別事業におけるPDCAシート!R101*'（参考）エネルギー起源CO2排出削減量の算出シート（計画時）'!$L$28,0)","v":0},{"$f":"IF(OR(S$23=1,S$24=1,S$25=1),S$52*S$115*'（参考）エネルギー起源CO2排出削減量の算出シート（計画時）'!$J$64*'（参考）エネルギー起源CO2排出削減量の算出シート（計画時）'!$L$64,0)+IF(【実施期間中】個別事業におけるPDCAシート!S$22=1,【実施期間中】個別事業におけるPDCAシート!S$51*【実施期間中】個別事業におけるPDCAシート!S101*'（参考）エネルギー起源CO2排出削減量の算出シート（計画時）'!$L$28,0)","v":0},{"$f":"IF(OR(T$23=1,T$24=1,T$25=1),T$52*T$115*'（参考）エネルギー起源CO2排出削減量の算出シート（計画時）'!$J$64*'（参考）エネルギー起源CO2排出削減量の算出シート（計画時）'!$L$64,0)+IF(【実施期間中】個別事業におけるPDCAシート!T$22=1,【実施期間中】個別事業におけるPDCAシート!T$51*【実施期間中】個別事業におけるPDCAシート!T101*'（参考）エネルギー起源CO2排出削減量の算出シート（計画時）'!$L$28,0)","v":0},{"$f":"IF(OR(U$23=1,U$24=1,U$25=1),U$52*U$115*'（参考）エネルギー起源CO2排出削減量の算出シート（計画時）'!$J$64*'（参考）エネルギー起源CO2排出削減量の算出シート（計画時）'!$L$64,0)+IF(【実施期間中】個別事業におけるPDCAシート!U$22=1,【実施期間中】個別事業におけるPDCAシート!U$51*【実施期間中】個別事業におけるPDCAシート!U101*'（参考）エネルギー起源CO2排出削減量の算出シート（計画時）'!$L$28,0)","v":0},{"$f":"IF(OR(V$23=1,V$24=1,V$25=1),V$52*V$115*'（参考）エネルギー起源CO2排出削減量の算出シート（計画時）'!$J$64*'（参考）エネルギー起源CO2排出削減量の算出シート（計画時）'!$L$64,0)+IF(【実施期間中】個別事業におけるPDCAシート!V$22=1,【実施期間中】個別事業におけるPDCAシート!V$51*【実施期間中】個別事業におけるPDCAシート!V101*'（参考）エネルギー起源CO2排出削減量の算出シート（計画時）'!$L$28,0)","v":0},"*"]
[122,null,null,null,null,"スマートムーブ",{"$f":"IF(OR(G$23=1,G$24=1),G$52*G116*'（参考）エネルギー起源CO2排出削減量の算出シート（計画時）'!$J$66*'（参考）エネルギー起源CO2排出削減量の算出シート（計画時）'!$L$66,0)+IF(【実施期間中】個別事業におけるPDCAシート!G$22=1,【実施期間中】個別事業におけるPDCAシート!G$51*【実施期間中】個別事業におけるPDCAシート!G102*'（参考）エネルギー起源CO2排出削減量の算出シート（計画時）'!$L$30,0)","v":0},{"$f":"IF(OR(H$23=1,H$24=1,H$25=1),H$52*H$116*'（参考）エネルギー起源CO2排出削減量の算出シート（計画時）'!$J$66*'（参考）エネルギー起源CO2排出削減量の算出シート（計画時）'!$L$66,0)+IF(【実施期間中】個別事業におけるPDCAシート!H$22=1,【実施期間中】個別事業におけるPDCAシート!H$51*【実施期間中】個別事業におけるPDCAシート!H102*'（参考）エネルギー起源CO2排出削減量の算出シート（計画時）'!$L$30,0)","v":0},{"$f":"IF(OR(I$23=1,I$24=1,I$25=1),I$52*I$116*'（参考）エネルギー起源CO2排出削減量の算出シート（計画時）'!$J$66*'（参考）エネルギー起源CO2排出削減量の算出シート（計画時）'!$L$66,0)+IF(【実施期間中】個別事業におけるPDCAシート!I$22=1,【実施期間中】個別事業におけるPDCAシート!I$51*【実施期間中】個別事業におけるPDCAシート!I102*'（参考）エネルギー起源CO2排出削減量の算出シート（計画時）'!$L$30,0)","v":0},{"$f":"IF(OR(J$23=1,J$24=1,J$25=1),J$52*J$116*'（参考）エネルギー起源CO2排出削減量の算出シート（計画時）'!$J$66*'（参考）エネルギー起源CO2排出削減量の算出シート（計画時）'!$L$66,0)+IF(【実施期間中】個別事業におけるPDCAシート!J$22=1,【実施期間中】個別事業におけるPDCAシート!J$51*【実施期間中】個別事業におけるPDCAシート!J102*'（参考）エネルギー起源CO2排出削減量の算出シート（計画時）'!$L$30,0)","v":0},{"$f":"IF(OR(K$23=1,K$24=1,K$25=1),K$52*K$116*'（参考）エネルギー起源CO2排出削減量の算出シート（計画時）'!$J$66*'（参考）エネルギー起源CO2排出削減量の算出シート（計画時）'!$L$66,0)+IF(【実施期間中】個別事業におけるPDCAシート!K$22=1,【実施期間中】個別事業におけるPDCAシート!K$51*【実施期間中】個別事業におけるPDCAシート!K102*'（参考）エネルギー起源CO2排出削減量の算出シート（計画時）'!$L$30,0)","v":0},{"$f":"IF(OR(L$23=1,L$24=1,L$25=1),L$52*L$116*'（参考）エネルギー起源CO2排出削減量の算出シート（計画時）'!$J$66*'（参考）エネルギー起源CO2排出削減量の算出シート（計画時）'!$L$66,0)+IF(【実施期間中】個別事業におけるPDCAシート!L$22=1,【実施期間中】個別事業におけるPDCAシート!L$51*【実施期間中】個別事業におけるPDCAシート!L102*'（参考）エネルギー起源CO2排出削減量の算出シート（計画時）'!$L$30,0)","v":0},{"$f":"IF(OR(M$23=1,M$24=1,M$25=1),M$52*M$116*'（参考）エネルギー起源CO2排出削減量の算出シート（計画時）'!$J$66*'（参考）エネルギー起源CO2排出削減量の算出シート（計画時）'!$L$66,0)+IF(【実施期間中】個別事業におけるPDCAシート!M$22=1,【実施期間中】個別事業におけるPDCAシート!M$51*【実施期間中】個別事業におけるPDCAシート!M102*'（参考）エネルギー起源CO2排出削減量の算出シート（計画時）'!$L$30,0)","v":0},{"$f":"IF(OR(N$23=1,N$24=1,N$25=1),N$52*N$116*'（参考）エネルギー起源CO2排出削減量の算出シート（計画時）'!$J$66*'（参考）エネルギー起源CO2排出削減量の算出シート（計画時）'!$L$66,0)+IF(【実施期間中】個別事業におけるPDCAシート!N$22=1,【実施期間中】個別事業におけるPDCAシート!N$51*【実施期間中】個別事業におけるPDCAシート!N102*'（参考）エネルギー起源CO2排出削減量の算出シート（計画時）'!$L$30,0)","v":0},{"$f":"IF(OR(O$23=1,O$24=1,O$25=1),O$52*O$116*'（参考）エネルギー起源CO2排出削減量の算出シート（計画時）'!$J$66*'（参考）エネルギー起源CO2排出削減量の算出シート（計画時）'!$L$66,0)+IF(【実施期間中】個別事業におけるPDCAシート!O$22=1,【実施期間中】個別事業におけるPDCAシート!O$51*【実施期間中】個別事業におけるPDCAシート!O102*'（参考）エネルギー起源CO2排出削減量の算出シート（計画時）'!$L$30,0)","v":0},{"$f":"IF(OR(P$23=1,P$24=1,P$25=1),P$52*P$116*'（参考）エネルギー起源CO2排出削減量の算出シート（計画時）'!$J$66*'（参考）エネルギー起源CO2排出削減量の算出シート（計画時）'!$L$66,0)+IF(【実施期間中】個別事業におけるPDCAシート!P$22=1,【実施期間中】個別事業におけるPDCAシート!P$51*【実施期間中】個別事業におけるPDCAシート!P102*'（参考）エネルギー起源CO2排出削減量の算出シート（計画時）'!$L$30,0)","v":0},{"$f":"IF(OR(Q$23=1,Q$24=1,Q$25=1),Q$52*Q$116*'（参考）エネルギー起源CO2排出削減量の算出シート（計画時）'!$J$66*'（参考）エネルギー起源CO2排出削減量の算出シート（計画時）'!$L$66,0)+IF(【実施期間中】個別事業におけるPDCAシート!Q$22=1,【実施期間中】個別事業におけるPDCAシート!Q$51*【実施期間中】個別事業におけるPDCAシート!Q102*'（参考）エネルギー起源CO2排出削減量の算出シート（計画時）'!$L$30,0)","v":0},{"$f":"IF(OR(R$23=1,R$24=1,R$25=1),R$52*R$116*'（参考）エネルギー起源CO2排出削減量の算出シート（計画時）'!$J$66*'（参考）エネルギー起源CO2排出削減量の算出シート（計画時）'!$L$66,0)+IF(【実施期間中】個別事業におけるPDCAシート!R$22=1,【実施期間中】個別事業におけるPDCAシート!R$51*【実施期間中】個別事業におけるPDCAシート!R102*'（参考）エネルギー起源CO2排出削減量の算出シート（計画時）'!$L$30,0)","v":0},{"$f":"IF(OR(S$23=1,S$24=1,S$25=1),S$52*S$116*'（参考）エネルギー起源CO2排出削減量の算出シート（計画時）'!$J$66*'（参考）エネルギー起源CO2排出削減量の算出シート（計画時）'!$L$66,0)+IF(【実施期間中】個別事業におけるPDCAシート!S$22=1,【実施期間中】個別事業におけるPDCAシート!S$51*【実施期間中】個別事業におけるPDCAシート!S102*'（参考）エネルギー起源CO2排出削減量の算出シート（計画時）'!$L$30,0)","v":0},{"$f":"IF(OR(T$23=1,T$24=1,T$25=1),T$52*T$116*'（参考）エネルギー起源CO2排出削減量の算出シート（計画時）'!$J$66*'（参考）エネルギー起源CO2排出削減量の算出シート（計画時）'!$L$66,0)+IF(【実施期間中】個別事業におけるPDCAシート!T$22=1,【実施期間中】個別事業におけるPDCAシート!T$51*【実施期間中】個別事業におけるPDCAシート!T102*'（参考）エネルギー起源CO2排出削減量の算出シート（計画時）'!$L$30,0)","v":0},{"$f":"IF(OR(U$23=1,U$24=1,U$25=1),U$52*U$116*'（参考）エネルギー起源CO2排出削減量の算出シート（計画時）'!$J$66*'（参考）エネルギー起源CO2排出削減量の算出シート（計画時）'!$L$66,0)+IF(【実施期間中】個別事業におけるPDCAシート!U$22=1,【実施期間中】個別事業におけるPDCAシート!U$51*【実施期間中】個別事業におけるPDCAシート!U102*'（参考）エネルギー起源CO2排出削減量の算出シート（計画時）'!$L$30,0)","v":0},{"$f":"IF(OR(V$23=1,V$24=1,V$25=1),V$52*V$116*'（参考）エネルギー起源CO2排出削減量の算出シート（計画時）'!$J$66*'（参考）エネルギー起源CO2排出削減量の算出シート（計画時）'!$L$66,0)+IF(【実施期間中】個別事業におけるPDCAシート!V$22=1,【実施期間中】個別事業におけるPDCAシート!V$51*【実施期間中】個別事業におけるPDCAシート!V102*'（参考）エネルギー起源CO2排出削減量の算出シート（計画時）'!$L$30,0)","v":0},"*"]
[123,null,null,null,null,"再配達防止",{"$f":"IF(OR(G$23=1,G$24=1),G$52*G117*'（参考）行動・意識変容率過年度平均'!$M$13*'（参考）エネルギー起源CO2排出削減量の算出シート（計画時）'!$J$68*'（参考）エネルギー起源CO2排出削減量の算出シート（計画時）'!$L$68,0)+IF(【実施期間中】個別事業におけるPDCAシート!G$22=1,【実施期間中】個別事業におけるPDCAシート!G$51*【実施期間中】個別事業におけるPDCAシート!G103*'（参考）行動・意識変容率過年度平均'!$M$13*'（参考）エネルギー起源CO2排出削減量の算出シート（計画時）'!$L$32,0)","v":0},{"$f":"IF(OR(H$23=1,H$24=1),H$52*H117*'（参考）行動・意識変容率過年度平均'!$M$13*'（参考）エネルギー起源CO2排出削減量の算出シート（計画時）'!$J$68*'（参考）エネルギー起源CO2排出削減量の算出シート（計画時）'!$L$68,0)+IF(【実施期間中】個別事業におけるPDCAシート!H$22=1,【実施期間中】個別事業におけるPDCAシート!H$51*【実施期間中】個別事業におけるPDCAシート!H103*'（参考）行動・意識変容率過年度平均'!$M$13*'（参考）エネルギー起源CO2排出削減量の算出シート（計画時）'!$L$32,0)","v":0},{"$f":"IF(OR(I$23=1,I$24=1),I$52*I117*'（参考）行動・意識変容率過年度平均'!$M$13*'（参考）エネルギー起源CO2排出削減量の算出シート（計画時）'!$J$68*'（参考）エネルギー起源CO2排出削減量の算出シート（計画時）'!$L$68,0)+IF(【実施期間中】個別事業におけるPDCAシート!I$22=1,【実施期間中】個別事業におけるPDCAシート!I$51*【実施期間中】個別事業におけるPDCAシート!I103*'（参考）行動・意識変容率過年度平均'!$M$13*'（参考）エネルギー起源CO2排出削減量の算出シート（計画時）'!$L$32,0)","v":0},{"$f":"IF(OR(J$23=1,J$24=1),J$52*J117*'（参考）行動・意識変容率過年度平均'!$M$13*'（参考）エネルギー起源CO2排出削減量の算出シート（計画時）'!$J$68*'（参考）エネルギー起源CO2排出削減量の算出シート（計画時）'!$L$68,0)+IF(【実施期間中】個別事業におけるPDCAシート!J$22=1,【実施期間中】個別事業におけるPDCAシート!J$51*【実施期間中】個別事業におけるPDCAシート!J103*'（参考）行動・意識変容率過年度平均'!$M$13*'（参考）エネルギー起源CO2排出削減量の算出シート（計画時）'!$L$32,0)","v":0},{"$f":"IF(OR(K$23=1,K$24=1),K$52*K117*'（参考）行動・意識変容率過年度平均'!$M$13*'（参考）エネルギー起源CO2排出削減量の算出シート（計画時）'!$J$68*'（参考）エネルギー起源CO2排出削減量の算出シート（計画時）'!$L$68,0)+IF(【実施期間中】個別事業におけるPDCAシート!K$22=1,【実施期間中】個別事業におけるPDCAシート!K$51*【実施期間中】個別事業におけるPDCAシート!K103*'（参考）行動・意識変容率過年度平均'!$M$13*'（参考）エネルギー起源CO2排出削減量の算出シート（計画時）'!$L$32,0)","v":0},{"$f":"IF(OR(L$23=1,L$24=1),L$52*L117*'（参考）行動・意識変容率過年度平均'!$M$13*'（参考）エネルギー起源CO2排出削減量の算出シート（計画時）'!$J$68*'（参考）エネルギー起源CO2排出削減量の算出シート（計画時）'!$L$68,0)+IF(【実施期間中】個別事業におけるPDCAシート!L$22=1,【実施期間中】個別事業におけるPDCAシート!L$51*【実施期間中】個別事業におけるPDCAシート!L103*'（参考）行動・意識変容率過年度平均'!$M$13*'（参考）エネルギー起源CO2排出削減量の算出シート（計画時）'!$L$32,0)","v":0},{"$f":"IF(OR(M$23=1,M$24=1),M$52*M117*'（参考）行動・意識変容率過年度平均'!$M$13*'（参考）エネルギー起源CO2排出削減量の算出シート（計画時）'!$J$68*'（参考）エネルギー起源CO2排出削減量の算出シート（計画時）'!$L$68,0)+IF(【実施期間中】個別事業におけるPDCAシート!M$22=1,【実施期間中】個別事業におけるPDCAシート!M$51*【実施期間中】個別事業におけるPDCAシート!M103*'（参考）行動・意識変容率過年度平均'!$M$13*'（参考）エネルギー起源CO2排出削減量の算出シート（計画時）'!$L$32,0)","v":0},{"$f":"IF(OR(N$23=1,N$24=1),N$52*N117*'（参考）行動・意識変容率過年度平均'!$M$13*'（参考）エネルギー起源CO2排出削減量の算出シート（計画時）'!$J$68*'（参考）エネルギー起源CO2排出削減量の算出シート（計画時）'!$L$68,0)+IF(【実施期間中】個別事業におけるPDCAシート!N$22=1,【実施期間中】個別事業におけるPDCAシート!N$51*【実施期間中】個別事業におけるPDCAシート!N103*'（参考）行動・意識変容率過年度平均'!$M$13*'（参考）エネルギー起源CO2排出削減量の算出シート（計画時）'!$L$32,0)","v":0},{"$f":"IF(OR(O$23=1,O$24=1),O$52*O117*'（参考）行動・意識変容率過年度平均'!$M$13*'（参考）エネルギー起源CO2排出削減量の算出シート（計画時）'!$J$68*'（参考）エネルギー起源CO2排出削減量の算出シート（計画時）'!$L$68,0)+IF(【実施期間中】個別事業におけるPDCAシート!O$22=1,【実施期間中】個別事業におけるPDCAシート!O$51*【実施期間中】個別事業におけるPDCAシート!O103*'（参考）行動・意識変容率過年度平均'!$M$13*'（参考）エネルギー起源CO2排出削減量の算出シート（計画時）'!$L$32,0)","v":0},{"$f":"IF(OR(P$23=1,P$24=1),P$52*P117*'（参考）行動・意識変容率過年度平均'!$M$13*'（参考）エネルギー起源CO2排出削減量の算出シート（計画時）'!$J$68*'（参考）エネルギー起源CO2排出削減量の算出シート（計画時）'!$L$68,0)+IF(【実施期間中】個別事業におけるPDCAシート!P$22=1,【実施期間中】個別事業におけるPDCAシート!P$51*【実施期間中】個別事業におけるPDCAシート!P103*'（参考）行動・意識変容率過年度平均'!$M$13*'（参考）エネルギー起源CO2排出削減量の算出シート（計画時）'!$L$32,0)","v":0},{"$f":"IF(OR(Q$23=1,Q$24=1),Q$52*Q117*'（参考）行動・意識変容率過年度平均'!$M$13*'（参考）エネルギー起源CO2排出削減量の算出シート（計画時）'!$J$68*'（参考）エネルギー起源CO2排出削減量の算出シート（計画時）'!$L$68,0)+IF(【実施期間中】個別事業におけるPDCAシート!Q$22=1,【実施期間中】個別事業におけるPDCAシート!Q$51*【実施期間中】個別事業におけるPDCAシート!Q103*'（参考）行動・意識変容率過年度平均'!$M$13*'（参考）エネルギー起源CO2排出削減量の算出シート（計画時）'!$L$32,0)","v":0},{"$f":"IF(OR(R$23=1,R$24=1),R$52*R117*'（参考）行動・意識変容率過年度平均'!$M$13*'（参考）エネルギー起源CO2排出削減量の算出シート（計画時）'!$J$68*'（参考）エネルギー起源CO2排出削減量の算出シート（計画時）'!$L$68,0)+IF(【実施期間中】個別事業におけるPDCAシート!R$22=1,【実施期間中】個別事業におけるPDCAシート!R$51*【実施期間中】個別事業におけるPDCAシート!R103*'（参考）行動・意識変容率過年度平均'!$M$13*'（参考）エネルギー起源CO2排出削減量の算出シート（計画時）'!$L$32,0)","v":0},{"$f":"IF(OR(S$23=1,S$24=1),S$52*S117*'（参考）行動・意識変容率過年度平均'!$M$13*'（参考）エネルギー起源CO2排出削減量の算出シート（計画時）'!$J$68*'（参考）エネルギー起源CO2排出削減量の算出シート（計画時）'!$L$68,0)+IF(【実施期間中】個別事業におけるPDCAシート!S$22=1,【実施期間中】個別事業におけるPDCAシート!S$51*【実施期間中】個別事業におけるPDCAシート!S103*'（参考）行動・意識変容率過年度平均'!$M$13*'（参考）エネルギー起源CO2排出削減量の算出シート（計画時）'!$L$32,0)","v":0},{"$f":"IF(OR(T$23=1,T$24=1),T$52*T117*'（参考）行動・意識変容率過年度平均'!$M$13*'（参考）エネルギー起源CO2排出削減量の算出シート（計画時）'!$J$68*'（参考）エネルギー起源CO2排出削減量の算出シート（計画時）'!$L$68,0)+IF(【実施期間中】個別事業におけるPDCAシート!T$22=1,【実施期間中】個別事業におけるPDCAシート!T$51*【実施期間中】個別事業におけるPDCAシート!T103*'（参考）行動・意識変容率過年度平均'!$M$13*'（参考）エネルギー起源CO2排出削減量の算出シート（計画時）'!$L$32,0)","v":0},{"$f":"IF(OR(U$23=1,U$24=1),U$52*U117*'（参考）行動・意識変容率過年度平均'!$M$13*'（参考）エネルギー起源CO2排出削減量の算出シート（計画時）'!$J$68*'（参考）エネルギー起源CO2排出削減量の算出シート（計画時）'!$L$68,0)+IF(【実施期間中】個別事業におけるPDCAシート!U$22=1,【実施期間中】個別事業におけるPDCAシート!U$51*【実施期間中】個別事業におけるPDCAシート!U103*'（参考）行動・意識変容率過年度平均'!$M$13*'（参考）エネルギー起源CO2排出削減量の算出シート（計画時）'!$L$32,0)","v":0},{"$f":"IF(OR(V$23=1,V$24=1),V$52*V117*'（参考）行動・意識変容率過年度平均'!$M$13*'（参考）エネルギー起源CO2排出削減量の算出シート（計画時）'!$J$68*'（参考）エネルギー起源CO2排出削減量の算出シート（計画時）'!$L$68,0)+IF(【実施期間中】個別事業におけるPDCAシート!V$22=1,【実施期間中】個別事業におけるPDCAシート!V$51*【実施期間中】個別事業におけるPDCAシート!V103*'（参考）行動・意識変容率過年度平均'!$M$13*'（参考）エネルギー起源CO2排出削減量の算出シート（計画時）'!$L$32,0)","v":0},"*"]
[124,null,null,null,null,"再エネ",{"$f":"IF(OR(G$23=1,G$24=1),G$52*G1019*'（参考）エネルギー起源CO2排出削減量の算出シート（計画時）'!$J$70*'（参考）エネルギー起源CO2排出削減量の算出シート（計画時）'!$L$70,0)+IF(【実施期間中】個別事業におけるPDCAシート!G$22=1,【実施期間中】個別事業におけるPDCAシート!G$51*【実施期間中】個別事業におけるPDCAシート!G104*'（参考）エネルギー起源CO2排出削減量の算出シート（計画時）'!$L$34,0)","v":0},{"$f":"IF(OR(H$23=1,H$24=1,H$25=1),H$52*H$118*'（参考）エネルギー起源CO2排出削減量の算出シート（計画時）'!$J$70*'（参考）エネルギー起源CO2排出削減量の算出シート（計画時）'!$L$70,0)+IF(【実施期間中】個別事業におけるPDCAシート!H$22=1,【実施期間中】個別事業におけるPDCAシート!H$51*【実施期間中】個別事業におけるPDCAシート!H104*'（参考）エネルギー起源CO2排出削減量の算出シート（計画時）'!$L$34,0)","v":0},{"$f":"IF(OR(I$23=1,I$24=1,I$25=1),I$52*I$118*'（参考）エネルギー起源CO2排出削減量の算出シート（計画時）'!$J$70*'（参考）エネルギー起源CO2排出削減量の算出シート（計画時）'!$L$70,0)+IF(【実施期間中】個別事業におけるPDCAシート!I$22=1,【実施期間中】個別事業におけるPDCAシート!I$51*【実施期間中】個別事業におけるPDCAシート!I104*'（参考）エネルギー起源CO2排出削減量の算出シート（計画時）'!$L$34,0)","v":0},{"$f":"IF(OR(J$23=1,J$24=1,J$25=1),J$52*J$118*'（参考）エネルギー起源CO2排出削減量の算出シート（計画時）'!$J$70*'（参考）エネルギー起源CO2排出削減量の算出シート（計画時）'!$L$70,0)+IF(【実施期間中】個別事業におけるPDCAシート!J$22=1,【実施期間中】個別事業におけるPDCAシート!J$51*【実施期間中】個別事業におけるPDCAシート!J104*'（参考）エネルギー起源CO2排出削減量の算出シート（計画時）'!$L$34,0)","v":0},{"$f":"IF(OR(K$23=1,K$24=1,K$25=1),K$52*K$118*'（参考）エネルギー起源CO2排出削減量の算出シート（計画時）'!$J$70*'（参考）エネルギー起源CO2排出削減量の算出シート（計画時）'!$L$70,0)+IF(【実施期間中】個別事業におけるPDCAシート!K$22=1,【実施期間中】個別事業におけるPDCAシート!K$51*【実施期間中】個別事業におけるPDCAシート!K104*'（参考）エネルギー起源CO2排出削減量の算出シート（計画時）'!$L$34,0)","v":0},{"$f":"IF(OR(L$23=1,L$24=1,L$25=1),L$52*L$118*'（参考）エネルギー起源CO2排出削減量の算出シート（計画時）'!$J$70*'（参考）エネルギー起源CO2排出削減量の算出シート（計画時）'!$L$70,0)+IF(【実施期間中】個別事業におけるPDCAシート!L$22=1,【実施期間中】個別事業におけるPDCAシート!L$51*【実施期間中】個別事業におけるPDCAシート!L104*'（参考）エネルギー起源CO2排出削減量の算出シート（計画時）'!$L$34,0)","v":0},{"$f":"IF(OR(M$23=1,M$24=1,M$25=1),M$52*M$118*'（参考）エネルギー起源CO2排出削減量の算出シート（計画時）'!$J$70*'（参考）エネルギー起源CO2排出削減量の算出シート（計画時）'!$L$70,0)+IF(【実施期間中】個別事業におけるPDCAシート!M$22=1,【実施期間中】個別事業におけるPDCAシート!M$51*【実施期間中】個別事業におけるPDCAシート!M104*'（参考）エネルギー起源CO2排出削減量の算出シート（計画時）'!$L$34,0)","v":0},{"$f":"IF(OR(N$23=1,N$24=1,N$25=1),N$52*N$118*'（参考）エネルギー起源CO2排出削減量の算出シート（計画時）'!$J$70*'（参考）エネルギー起源CO2排出削減量の算出シート（計画時）'!$L$70,0)+IF(【実施期間中】個別事業におけるPDCAシート!N$22=1,【実施期間中】個別事業におけるPDCAシート!N$51*【実施期間中】個別事業におけるPDCAシート!N104*'（参考）エネルギー起源CO2排出削減量の算出シート（計画時）'!$L$34,0)","v":0},{"$f":"IF(OR(O$23=1,O$24=1,O$25=1),O$52*O$118*'（参考）エネルギー起源CO2排出削減量の算出シート（計画時）'!$J$70*'（参考）エネルギー起源CO2排出削減量の算出シート（計画時）'!$L$70,0)+IF(【実施期間中】個別事業におけるPDCAシート!O$22=1,【実施期間中】個別事業におけるPDCAシート!O$51*【実施期間中】個別事業におけるPDCAシート!O104*'（参考）エネルギー起源CO2排出削減量の算出シート（計画時）'!$L$34,0)","v":0},{"$f":"IF(OR(P$23=1,P$24=1,P$25=1),P$52*P$118*'（参考）エネルギー起源CO2排出削減量の算出シート（計画時）'!$J$70*'（参考）エネルギー起源CO2排出削減量の算出シート（計画時）'!$L$70,0)+IF(【実施期間中】個別事業におけるPDCAシート!P$22=1,【実施期間中】個別事業におけるPDCAシート!P$51*【実施期間中】個別事業におけるPDCAシート!P104*'（参考）エネルギー起源CO2排出削減量の算出シート（計画時）'!$L$34,0)","v":0},{"$f":"IF(OR(Q$23=1,Q$24=1,Q$25=1),Q$52*Q$118*'（参考）エネルギー起源CO2排出削減量の算出シート（計画時）'!$J$70*'（参考）エネルギー起源CO2排出削減量の算出シート（計画時）'!$L$70,0)+IF(【実施期間中】個別事業におけるPDCAシート!Q$22=1,【実施期間中】個別事業におけるPDCAシート!Q$51*【実施期間中】個別事業におけるPDCAシート!Q104*'（参考）エネルギー起源CO2排出削減量の算出シート（計画時）'!$L$34,0)","v":0},{"$f":"IF(OR(R$23=1,R$24=1,R$25=1),R$52*R$118*'（参考）エネルギー起源CO2排出削減量の算出シート（計画時）'!$J$70*'（参考）エネルギー起源CO2排出削減量の算出シート（計画時）'!$L$70,0)+IF(【実施期間中】個別事業におけるPDCAシート!R$22=1,【実施期間中】個別事業におけるPDCAシート!R$51*【実施期間中】個別事業におけるPDCAシート!R104*'（参考）エネルギー起源CO2排出削減量の算出シート（計画時）'!$L$34,0)","v":0},{"$f":"IF(OR(S$23=1,S$24=1,S$25=1),S$52*S$118*'（参考）エネルギー起源CO2排出削減量の算出シート（計画時）'!$J$70*'（参考）エネルギー起源CO2排出削減量の算出シート（計画時）'!$L$70,0)+IF(【実施期間中】個別事業におけるPDCAシート!S$22=1,【実施期間中】個別事業におけるPDCAシート!S$51*【実施期間中】個別事業におけるPDCAシート!S104*'（参考）エネルギー起源CO2排出削減量の算出シート（計画時）'!$L$34,0)","v":0},{"$f":"IF(OR(T$23=1,T$24=1,T$25=1),T$52*T$118*'（参考）エネルギー起源CO2排出削減量の算出シート（計画時）'!$J$70*'（参考）エネルギー起源CO2排出削減量の算出シート（計画時）'!$L$70,0)+IF(【実施期間中】個別事業におけるPDCAシート!T$22=1,【実施期間中】個別事業におけるPDCAシート!T$51*【実施期間中】個別事業におけるPDCAシート!T104*'（参考）エネルギー起源CO2排出削減量の算出シート（計画時）'!$L$34,0)","v":0},{"$f":"IF(OR(U$23=1,U$24=1,U$25=1),U$52*U$118*'（参考）エネルギー起源CO2排出削減量の算出シート（計画時）'!$J$70*'（参考）エネルギー起源CO2排出削減量の算出シート（計画時）'!$L$70,0)+IF(【実施期間中】個別事業におけるPDCAシート!U$22=1,【実施期間中】個別事業におけるPDCAシート!U$51*【実施期間中】個別事業におけるPDCAシート!U104*'（参考）エネルギー起源CO2排出削減量の算出シート（計画時）'!$L$34,0)","v":0},{"$f":"IF(OR(V$23=1,V$24=1,V$25=1),V$52*V$118*'（参考）エネルギー起源CO2排出削減量の算出シート（計画時）'!$J$70*'（参考）エネルギー起源CO2排出削減量の算出シート（計画時）'!$L$70,0)+IF(【実施期間中】個別事業におけるPDCAシート!V$22=1,【実施期間中】個別事業におけるPDCAシート!V$51*【実施期間中】個別事業におけるPDCAシート!V104*'（参考）エネルギー起源CO2排出削減量の算出シート（計画時）'!$L$34,0)","v":0},"*"]
[125,null,null,null,null,"食品ロス",{"$f":"IF(OR(G$23=1,G$24=1),G$52*G105*'（参考）エネルギー起源CO2排出削減量の算出シート（計画時）'!$J$74*'（参考）エネルギー起源CO2排出削減量の算出シート（計画時）'!$L$72,0)+IF(【実施期間中】個別事業におけるPDCAシート!G$22=1,【実施期間中】個別事業におけるPDCAシート!G$51*【実施期間中】個別事業におけるPDCAシート!G105*'（参考）エネルギー起源CO2排出削減量の算出シート（計画時）'!$L$38,0)","v":0},{"$f":"IF(OR(H$23=1,H$24=1,H$25=1),H$52*H$119*'（参考）エネルギー起源CO2排出削減量の算出シート（計画時）'!$J$72*'（参考）エネルギー起源CO2排出削減量の算出シート（計画時）'!$L$72,0)+IF(【実施期間中】個別事業におけるPDCAシート!H$22=1,【実施期間中】個別事業におけるPDCAシート!H$51*【実施期間中】個別事業におけるPDCAシート!H105*'（参考）エネルギー起源CO2排出削減量の算出シート（計画時）'!$L$36,0)","v":0},{"$f":"IF(OR(I$23=1,I$24=1,I$25=1),I$52*I$119*'（参考）エネルギー起源CO2排出削減量の算出シート（計画時）'!$J$72*'（参考）エネルギー起源CO2排出削減量の算出シート（計画時）'!$L$72,0)+IF(【実施期間中】個別事業におけるPDCAシート!I$22=1,【実施期間中】個別事業におけるPDCAシート!I$51*【実施期間中】個別事業におけるPDCAシート!I105*'（参考）エネルギー起源CO2排出削減量の算出シート（計画時）'!$L$36,0)","v":0},{"$f":"IF(OR(J$23=1,J$24=1,J$25=1),J$52*J$119*'（参考）エネルギー起源CO2排出削減量の算出シート（計画時）'!$J$72*'（参考）エネルギー起源CO2排出削減量の算出シート（計画時）'!$L$72,0)+IF(【実施期間中】個別事業におけるPDCAシート!J$22=1,【実施期間中】個別事業におけるPDCAシート!J$51*【実施期間中】個別事業におけるPDCAシート!J105*'（参考）エネルギー起源CO2排出削減量の算出シート（計画時）'!$L$36,0)","v":0},{"$f":"IF(OR(K$23=1,K$24=1,K$25=1),K$52*K$119*'（参考）エネルギー起源CO2排出削減量の算出シート（計画時）'!$J$72*'（参考）エネルギー起源CO2排出削減量の算出シート（計画時）'!$L$72,0)+IF(【実施期間中】個別事業におけるPDCAシート!K$22=1,【実施期間中】個別事業におけるPDCAシート!K$51*【実施期間中】個別事業におけるPDCAシート!K105*'（参考）エネルギー起源CO2排出削減量の算出シート（計画時）'!$L$36,0)","v":0},{"$f":"IF(OR(L$23=1,L$24=1,L$25=1),L$52*L$119*'（参考）エネルギー起源CO2排出削減量の算出シート（計画時）'!$J$72*'（参考）エネルギー起源CO2排出削減量の算出シート（計画時）'!$L$72,0)+IF(【実施期間中】個別事業におけるPDCAシート!L$22=1,【実施期間中】個別事業におけるPDCAシート!L$51*【実施期間中】個別事業におけるPDCAシート!L105*'（参考）エネルギー起源CO2排出削減量の算出シート（計画時）'!$L$36,0)","v":0},{"$f":"IF(OR(M$23=1,M$24=1,M$25=1),M$52*M$119*'（参考）エネルギー起源CO2排出削減量の算出シート（計画時）'!$J$72*'（参考）エネルギー起源CO2排出削減量の算出シート（計画時）'!$L$72,0)+IF(【実施期間中】個別事業におけるPDCAシート!M$22=1,【実施期間中】個別事業におけるPDCAシート!M$51*【実施期間中】個別事業におけるPDCAシート!M105*'（参考）エネルギー起源CO2排出削減量の算出シート（計画時）'!$L$36,0)","v":0},{"$f":"IF(OR(N$23=1,N$24=1,N$25=1),N$52*N$119*'（参考）エネルギー起源CO2排出削減量の算出シート（計画時）'!$J$72*'（参考）エネルギー起源CO2排出削減量の算出シート（計画時）'!$L$72,0)+IF(【実施期間中】個別事業におけるPDCAシート!N$22=1,【実施期間中】個別事業におけるPDCAシート!N$51*【実施期間中】個別事業におけるPDCAシート!N105*'（参考）エネルギー起源CO2排出削減量の算出シート（計画時）'!$L$36,0)","v":0},{"$f":"IF(OR(O$23=1,O$24=1,O$25=1),O$52*O$119*'（参考）エネルギー起源CO2排出削減量の算出シート（計画時）'!$J$72*'（参考）エネルギー起源CO2排出削減量の算出シート（計画時）'!$L$72,0)+IF(【実施期間中】個別事業におけるPDCAシート!O$22=1,【実施期間中】個別事業におけるPDCAシート!O$51*【実施期間中】個別事業におけるPDCAシート!O105*'（参考）エネルギー起源CO2排出削減量の算出シート（計画時）'!$L$36,0)","v":0},{"$f":"IF(OR(P$23=1,P$24=1,P$25=1),P$52*P$119*'（参考）エネルギー起源CO2排出削減量の算出シート（計画時）'!$J$72*'（参考）エネルギー起源CO2排出削減量の算出シート（計画時）'!$L$72,0)+IF(【実施期間中】個別事業におけるPDCAシート!P$22=1,【実施期間中】個別事業におけるPDCAシート!P$51*【実施期間中】個別事業におけるPDCAシート!P105*'（参考）エネルギー起源CO2排出削減量の算出シート（計画時）'!$L$36,0)","v":0},{"$f":"IF(OR(Q$23=1,Q$24=1,Q$25=1),Q$52*Q$119*'（参考）エネルギー起源CO2排出削減量の算出シート（計画時）'!$J$72*'（参考）エネルギー起源CO2排出削減量の算出シート（計画時）'!$L$72,0)+IF(【実施期間中】個別事業におけるPDCAシート!Q$22=1,【実施期間中】個別事業におけるPDCAシート!Q$51*【実施期間中】個別事業におけるPDCAシート!Q105*'（参考）エネルギー起源CO2排出削減量の算出シート（計画時）'!$L$36,0)","v":0},{"$f":"IF(OR(R$23=1,R$24=1,R$25=1),R$52*R$119*'（参考）エネルギー起源CO2排出削減量の算出シート（計画時）'!$J$72*'（参考）エネルギー起源CO2排出削減量の算出シート（計画時）'!$L$72,0)+IF(【実施期間中】個別事業におけるPDCAシート!R$22=1,【実施期間中】個別事業におけるPDCAシート!R$51*【実施期間中】個別事業におけるPDCAシート!R105*'（参考）エネルギー起源CO2排出削減量の算出シート（計画時）'!$L$36,0)","v":0},{"$f":"IF(OR(S$23=1,S$24=1,S$25=1),S$52*S$119*'（参考）エネルギー起源CO2排出削減量の算出シート（計画時）'!$J$72*'（参考）エネルギー起源CO2排出削減量の算出シート（計画時）'!$L$72,0)+IF(【実施期間中】個別事業におけるPDCAシート!S$22=1,【実施期間中】個別事業におけるPDCAシート!S$51*【実施期間中】個別事業におけるPDCAシート!S105*'（参考）エネルギー起源CO2排出削減量の算出シート（計画時）'!$L$36,0)","v":0},{"$f":"IF(OR(T$23=1,T$24=1,T$25=1),T$52*T$119*'（参考）エネルギー起源CO2排出削減量の算出シート（計画時）'!$J$72*'（参考）エネルギー起源CO2排出削減量の算出シート（計画時）'!$L$72,0)+IF(【実施期間中】個別事業におけるPDCAシート!T$22=1,【実施期間中】個別事業におけるPDCAシート!T$51*【実施期間中】個別事業におけるPDCAシート!T105*'（参考）エネルギー起源CO2排出削減量の算出シート（計画時）'!$L$36,0)","v":0},{"$f":"IF(OR(U$23=1,U$24=1,U$25=1),U$52*U$119*'（参考）エネルギー起源CO2排出削減量の算出シート（計画時）'!$J$72*'（参考）エネルギー起源CO2排出削減量の算出シート（計画時）'!$L$72,0)+IF(【実施期間中】個別事業におけるPDCAシート!U$22=1,【実施期間中】個別事業におけるPDCAシート!U$51*【実施期間中】個別事業におけるPDCAシート!U105*'（参考）エネルギー起源CO2排出削減量の算出シート（計画時）'!$L$36,0)","v":0},{"$f":"IF(OR(V$23=1,V$24=1,V$25=1),V$52*V$119*'（参考）エネルギー起源CO2排出削減量の算出シート（計画時）'!$J$72*'（参考）エネルギー起源CO2排出削減量の算出シート（計画時）'!$L$72,0)+IF(【実施期間中】個別事業におけるPDCAシート!V$22=1,【実施期間中】個別事業におけるPDCAシート!V$51*【実施期間中】個別事業におけるPDCAシート!V105*'（参考）エネルギー起源CO2排出削減量の算出シート（計画時）'!$L$36,0)","v":0},"*"]
[null,null,null,null,null,"その他",{"$f":"IF(G$21=1,IF(OR(G$23=1,G$24=1,G$25=1),G$52*'（参考）エネルギー起源CO2排出削減量の算出シート（計画時）'!$L$74,0)+IF(【実施期間中】個別事業におけるPDCAシート!G$22=1,【実施期間中】個別事業におけるPDCAシート!G$51*'（参考）エネルギー起源CO2排出削減量の算出シート（計画時）'!$L$38,0),0)","v":0},{"$f":"IF(H$21=1,IF(OR(H$23=1,H$24=1,H$25=1),H$52*'（参考）エネルギー起源CO2排出削減量の算出シート（計画時）'!$L$74,0)+IF(【実施期間中】個別事業におけるPDCAシート!H$22=1,【実施期間中】個別事業におけるPDCAシート!H$51*'（参考）エネルギー起源CO2排出削減量の算出シート（計画時）'!$L$38,0),0)","v":0},{"$f":"IF(I$21=1,IF(OR(I$23=1,I$24=1,I$25=1),I$52*'（参考）エネルギー起源CO2排出削減量の算出シート（計画時）'!$L$74,0)+IF(【実施期間中】個別事業におけるPDCAシート!I$22=1,【実施期間中】個別事業におけるPDCAシート!I$51*'（参考）エネルギー起源CO2排出削減量の算出シート（計画時）'!$L$38,0),0)","v":0},{"$f":"IF(J$21=1,IF(OR(J$23=1,J$24=1,J$25=1),J$52*'（参考）エネルギー起源CO2排出削減量の算出シート（計画時）'!$L$74,0)+IF(【実施期間中】個別事業におけるPDCAシート!J$22=1,【実施期間中】個別事業におけるPDCAシート!J$51*'（参考）エネルギー起源CO2排出削減量の算出シート（計画時）'!$L$38,0),0)","v":0},{"$f":"IF(K$21=1,IF(OR(K$23=1,K$24=1,K$25=1),K$52*'（参考）エネルギー起源CO2排出削減量の算出シート（計画時）'!$L$74,0)+IF(【実施期間中】個別事業におけるPDCAシート!K$22=1,【実施期間中】個別事業におけるPDCAシート!K$51*'（参考）エネルギー起源CO2排出削減量の算出シート（計画時）'!$L$38,0),0)","v":0},{"$f":"IF(L$21=1,IF(OR(L$23=1,L$24=1,L$25=1),L$52*'（参考）エネルギー起源CO2排出削減量の算出シート（計画時）'!$L$74,0)+IF(【実施期間中】個別事業におけるPDCAシート!L$22=1,【実施期間中】個別事業におけるPDCAシート!L$51*'（参考）エネルギー起源CO2排出削減量の算出シート（計画時）'!$L$38,0),0)","v":0},{"$f":"IF(M$21=1,IF(OR(M$23=1,M$24=1,M$25=1),M$52*'（参考）エネルギー起源CO2排出削減量の算出シート（計画時）'!$L$74,0)+IF(【実施期間中】個別事業におけるPDCAシート!M$22=1,【実施期間中】個別事業におけるPDCAシート!M$51*'（参考）エネルギー起源CO2排出削減量の算出シート（計画時）'!$L$38,0),0)","v":0},{"$f":"IF(N$21=1,IF(OR(N$23=1,N$24=1,N$25=1),N$52*'（参考）エネルギー起源CO2排出削減量の算出シート（計画時）'!$L$74,0)+IF(【実施期間中】個別事業におけるPDCAシート!N$22=1,【実施期間中】個別事業におけるPDCAシート!N$51*'（参考）エネルギー起源CO2排出削減量の算出シート（計画時）'!$L$38,0),0)","v":0},{"$f":"IF(O$21=1,IF(OR(O$23=1,O$24=1,O$25=1),O$52*'（参考）エネルギー起源CO2排出削減量の算出シート（計画時）'!$L$74,0)+IF(【実施期間中】個別事業におけるPDCAシート!O$22=1,【実施期間中】個別事業におけるPDCAシート!O$51*'（参考）エネルギー起源CO2排出削減量の算出シート（計画時）'!$L$38,0),0)","v":0},{"$f":"IF(P$21=1,IF(OR(P$23=1,P$24=1,P$25=1),P$52*'（参考）エネルギー起源CO2排出削減量の算出シート（計画時）'!$L$74,0)+IF(【実施期間中】個別事業におけるPDCAシート!P$22=1,【実施期間中】個別事業におけるPDCAシート!P$51*'（参考）エネルギー起源CO2排出削減量の算出シート（計画時）'!$L$38,0),0)","v":0},{"$f":"IF(Q$21=1,IF(OR(Q$23=1,Q$24=1,Q$25=1),Q$52*'（参考）エネルギー起源CO2排出削減量の算出シート（計画時）'!$L$74,0)+IF(【実施期間中】個別事業におけるPDCAシート!Q$22=1,【実施期間中】個別事業におけるPDCAシート!Q$51*'（参考）エネルギー起源CO2排出削減量の算出シート（計画時）'!$L$38,0),0)","v":0},{"$f":"IF(R$21=1,IF(OR(R$23=1,R$24=1,R$25=1),R$52*'（参考）エネルギー起源CO2排出削減量の算出シート（計画時）'!$L$74,0)+IF(【実施期間中】個別事業におけるPDCAシート!R$22=1,【実施期間中】個別事業におけるPDCAシート!R$51*'（参考）エネルギー起源CO2排出削減量の算出シート（計画時）'!$L$38,0),0)","v":0},{"$f":"IF(S$21=1,IF(OR(S$23=1,S$24=1,S$25=1),S$52*'（参考）エネルギー起源CO2排出削減量の算出シート（計画時）'!$L$74,0)+IF(【実施期間中】個別事業におけるPDCAシート!S$22=1,【実施期間中】個別事業におけるPDCAシート!S$51*'（参考）エネルギー起源CO2排出削減量の算出シート（計画時）'!$L$38,0),0)","v":0},{"$f":"IF(T$21=1,IF(OR(T$23=1,T$24=1,T$25=1),T$52*'（参考）エネルギー起源CO2排出削減量の算出シート（計画時）'!$L$74,0)+IF(【実施期間中】個別事業におけるPDCAシート!T$22=1,【実施期間中】個別事業におけるPDCAシート!T$51*'（参考）エネルギー起源CO2排出削減量の算出シート（計画時）'!$L$38,0),0)","v":0},{"$f":"IF(U$21=1,IF(OR(U$23=1,U$24=1,U$25=1),U$52*'（参考）エネルギー起源CO2排出削減量の算出シート（計画時）'!$L$74,0)+IF(【実施期間中】個別事業におけるPDCAシート!U$22=1,【実施期間中】個別事業におけるPDCAシート!U$51*'（参考）エネルギー起源CO2排出削減量の算出シート（計画時）'!$L$38,0),0)","v":0},{"$f":"IF(V$21=1,IF(OR(V$23=1,V$24=1,V$25=1),V$52*'（参考）エネルギー起源CO2排出削減量の算出シート（計画時）'!$L$74,0)+IF(【実施期間中】個別事業におけるPDCAシート!V$22=1,【実施期間中】個別事業におけるPDCAシート!V$51*'（参考）エネルギー起源CO2排出削減量の算出シート（計画時）'!$L$38,0),0)","v":0},"*"]
[127,"事業実施に要した費用実績（間接費（間接経費・間接人件費等）を含む。概算でも可）\n※数値で記入",null,null,null,null,400000,null,null,null,null,null,null,null,null,null,null,null,null,null,null,null,"*"]
["*","*","*","*","*","*","*","*","*","*","*","*","*","*","*","*","*","*","*","*","*","*","*"]

{"sheet":"【事業終了時】事業全体","index":18,"n_rows":30,"n_cols":8,"rows_kept":30,"cut":false,"hidden":true,"merged":[[30,2,36,11],[21,2,27,11],[8,2,8,4],[2,1,2,4],[2,5,2,11],[15,3,15,4],[14,3,14,4],[10,3,10,4]]}
[]
[null,"都道府県",null,null,null,"事業者名"]
[null,null,null,null,null,{"$f":"別紙１_実施計画書!E9","v":""}]
[]
[null,"＜事業終了時（通常事業）＞"]
[]
[null,"実績報告"]
[null,null,null,null,null,"計画値","実績値","達成率（%）"]
[null,null,"補助金所要額（円）",null,null,{"$f":"【事業開始時】事業全体!$F14","v":0},{"$f":"別紙２_経費所要額精算調書!J43","v":0},"-"]
[null,null,"KPI"]
[null,null,null,"普及啓発人数（リーチ数）",null,{"$f":"【事業開始時】事業全体!F16","v":0},{"$f":"別紙１_実施報告書!G992","v":0},{"$f":"IF(G11=\"\",\"\",G11/F11)","v":{"$error":"#DIV/0!"}}]
[null,null,null,"賛同数",null,"-","-","-"]
[null,null,null,null,"団体賛同数",{"$f":"【事業開始時】事業全体!F18","v":0},{"$f":"別紙１_実施報告書!G980","v":0},{"$f":"IF(G13=\"\",\"\",G13/F13)","v":{"$error":"#DIV/0!"}}]
[null,null,null,null,"個人賛同数",{"$f":"【事業開始時】事業全体!F19","v":0},{"$f":"別紙１_実施報告書!G982","v":0},{"$f":"IF(G14=\"\",\"\",G14/F14)","v":{"$error":"#DIV/0!"}}]
[null,null,null,"アンケート回収数",null,{"$f":"【事業開始時】事業全体!$F20","v":0},{"$f":"別紙１_実施報告書!G994","v":0},{"$f":"IF(G15=\"\",\"\",G15/F15)","v":{"$error":"#DIV/0!"}}]
[null,null,null,"CO2排出削減効果",null,{"$f":"【事業開始時】事業全体!$F21","v":0},{"$f":"別紙１_実施報告書!$G$967","v":0},{"$f":"IF(G16=\"\",\"\",G16/F16)","v":{"$error":"#DIV/0!"}}]
[]
[null,null,"実施した事業の成功要因、課題とその要因"]
[null,null,null,"①実施計画書どおりに事業を実施できたか。できなかった場合、その要因は何か"]
[null,null,null,"②事業全体を通して、普及啓発時に工夫した点は何か"]
[null,null,null,"③KPIの達成率に対する所感"]
[]
[]
[]
[]
[]
[]
[]
[]
[null,null,"上記課題の改善策"]

{"sheet":"（参考）普及啓発テーマ・訴求手法","index":19,"n_rows":23,"n_cols":8,"rows_kept":23,"cut":false,"hidden":true,"merged":[[22,6,22,14],[5,7,5,14],[6,7,6,14],[2,2,6,3],[18,2,18,5],[18,6,18,14],[3,7,3,14],[2,7,2,14],[4,7,4,14],[7,7,7,14],[8,7,8,14],[7,2,14,3],[2,4,2,6],[3,4,3,6],[4,4,4,6],[19,6,19,14],[20,6,20,14],[21,6,21,14],[10,7,10,14],[9,7,9,14],[12,7,12,14],[11,7,11,14],[7,4,14,6]]}
[]
[null,"（参考）普及啓発テーマ一覧"]
[null,null,"購買選好の\n変化",null,"省エネ家電買換え",null,null,"省エネ機器の買換え促進"]
[null,null,null,null,"省エネ住宅購入",null,null,"省エネ住宅の普及促進"]
[null,null,null,null,"エコカー買換え",null,null,"エコカーの普及促進"]
[null,null,null,null,"照明の効率的利用",null,null,"LED照明の普及促進"]
[null,null,null,null,"再エネ電力メニュー選択",null,null,"再エネ電力メニューの利用促進"]
[null,null,"価値観の変化",null,"エコなライフスタイル選択",null,null,"クールビズ実施の推進"]
[null,null,null,null,null,null,null,"ウォームビズ実施の推進"]
[null,null,null,null,null,null,null,"エコドライブの推進"]
[null,null,null,null,null,null,null,"カーシェアリングの利用促進"]
[null,null,null,null,null,null,null,"低炭素物流の普及促進（宅配便再配達防止）"]
[null,null,null,null,null,null,null,"スマートムーブの普及促進（自動車からのバス、電車、自転車への転換）"]
[null,null,null,null,null,null,null,"食品ロス削減の普及促進"]
[null,null,null,null,null,null,null,"その他"]
[]
[]
[null,"（参考）地域普及啓発事業における訴求手法一覧"]
[null,null,"地域普及啓発事業における\n訴求手法",null,null,null,"定義"]
[null,null,"a) 情報発信型（受動型）事業",null,null,null,"コミュニティFMや新聞広告等を通じ、不特定多数に対して一方向的に情報発信を行うことで普及啓発を行う事業"]
[null,null,"b) 情報発信型（能動型）事業",null,null,null,"講演会やパネル展示等により、対面で一方向的に普及啓発を行う事業"]
[null,null,"c) 双方向体験交流型事業",null,null,null,"交流会、試乗会又は省エネ診断等、参加者との双方向のコミュニケーションを通じて普及啓発を行う事業"]
[null,null,"d) 双方向ＷＥＢ等配信型",null,null,null,"SNSやWEB会議ツールを通じ、SNS利用者との双方向のコミュニケーションを通じて普及啓発を行う事業"]

{"sheet":"プルダウン選択肢","index":20,"n_rows":11,"n_cols":4,"rows_kept":11,"cut":false,"hidden":true,"merged":[]}
[]
[null,"オプション"]
[]
[null,"算出根拠","アンケート","旧算出根拠"]
[null,"受講者数・参加者数（講座や参加型イベント等の実数が把握できるもの）","- 選択 -","イベント来場者"]
[null,"イベント等におけるチラシ・パンフレットなどの配布数","有","ブース来訪者"]
[null,"アンケート回収数","無","参加者・受講者数"]
[null,"情報発信受動型における発行・配布部数",null,"発行・配布部数"]
[null,"閲覧・アクセス数",null,"閲覧・アクセス数"]
[null,"その他（「その他」欄に詳細を記入してください）",null,"通行量"]
[null,null,null,"聴取人口"]

{"sheet":"【管理者用】","index":21,"n_rows":3,"n_cols":5,"rows_kept":3,"cut":false,"hidden":true,"merged":[]}
[]
[null,"年度",{"$f":"様式第１_交付申請書!Q5","v":2021}]
[null,"期間",{"$f":"DATE($C$2,4,1)","v":"2021-04-01"},"～",{"$f":"DATE(C2+1,2,29)","v":"2022-03-01"}]