{"text_format":"1","workbook":"xlsx","n_sheets":7,"sheets":["入力手順","ローデータ⇒","①会場アンケート集計結果_食品ロス","集計結果⇒","②単純集計表 ","参照⇒","読み替え表_食品ロス"],"not_rendered":{"charts":5,"images":0,"macros":1,"external_links":0,"defined_names":2,"comments":0,"pivot_tables":0},"unopened":[],"bounds":{"document_bytes":16777216,"sheet_cells":100000,"rows_first":2000,"rows_last":500,"rows_between":2000,"halvings":0,"cell_chars":16384,"cell_head_chars":4096},"cells_cut":0,"cells_raw":0,"read":"whole","date_system":"1900"}

{"sheet":"入力手順","index":0,"n_rows":26,"n_cols":4,"rows_kept":26,"cut":false,"hidden":false,"merged":[[7,3,7,11],[15,3,15,11],[16,3,16,11],[8,3,8,11],[9,3,9,11],[10,3,10,11],[11,3,11,11],[13,3,13,11],[14,3,14,11],[12,3,12,11]]}
[]
[null,"会場アンケート入力ツール　シート構成・入力手順--------------------------------------------"]
[null,"◆食品ロス削減"]
[]
[null,"①「会場アンケート集計結果_食品ロス削減」シート【要入力】"]
[null,"・講演会・イベント等で回収されたアンケート調査票を入力する（データ化する）ツール"]
[null,"＜手順＞"]
[null,null,"①","「会場アンケート情報」の黄色セル欄に事業者番号、PDCAシート記載の事業番号、実施日、実施場所、アンケート配布状況を記入する"]
[null,null,"②","「表示」をクリックし、入力フォームを表示させる"]
[null,null,"③","「入力行」にアンケート結果の入力を開始する行番号を入力する（添付エクセルの場合は11行目から開始）"]
[null,null,"④","都道府県名、事業者名、アンケートを実施したイベント名、アンケート回収日付をそれぞれの欄に記入する"]
[null,null,"⑤"," 性別・年齢は入力フォームにしたがって選択する"]
[null,null,"⑥","「２．これまでの食品ロス削減実施状況について」は回答と一致するものを選択する"]
[null,null,"⑦","「３．今後の食品ロス削減実施意向について」は回答と一致するものを選択する"]
[null,null,"⑧","「4．実施意向の理由について」は回答と一致するものを選択する"]
[null,null,"⑨","「５．追跡アンケートへのご協力のお願い（メールアドレス）」では、アンケート下部を確認し、まずメールアドレスの有無を選択する。メールアドレスの記入があった場合は、メールアドレスを記入する"]
[null,null,"⑩","すべての入力が終わったら「【データ入力】」をクリック"]
[]
[]
[null,"②「単純集計表」シート"]
[null,"・「会場アンケート集計結果_食品ロス削減」シートに入力されたデータを簡易的に集計したものである"]
[null,"・来場者の性別・年代別構成比、現在の食品ロス削減実施状況、実施意向及び理由を把握可能"]
[]
[null,"③「読み替え表_食品ロス削減」シート"]
[null,"・本ファイルではアンケートの回答結果をデータ処理のため数字で代替している箇所がある"]
[null,"・その際のアンケート回答選択肢と数字の置換関係をまとめたシートである"]

{"sheet":"ローデータ⇒","index":1,"n_rows":0,"n_cols":0,"rows_kept":0,"cut":false,"hidden":false,"merged":[]}

{"sheet":"①会場アンケート集計結果_食品ロス","index":2,"n_rows":2011,"n_cols":38,"rows_kept":2011,"cut":false,"hidden":false,"merged":[[2,6,2,8],[7,11,7,12],[6,11,6,12],[6,13,6,20],[7,13,7,20],[6,21,6,23],[7,21,7,23],[7,7,7,8],[6,7,6,8],[6,9,6,10],[7,9,7,10]]}
[null,null,{"$f":"COLUMN()","v":3},{"$f":"COLUMN()","v":4},{"$f":"COLUMN()","v":5},{"$f":"COLUMN()","v":6},{"$f":"COLUMN()","v":7},{"$f":"COLUMN()","v":8},{"$f":"COLUMN()","v":9},{"$f":"COLUMN()","v":10},{"$f":"COLUMN()","v":11},{"$f":"COLUMN()","v":12},{"$f":"COLUMN()","v":13},{"$f":"COLUMN()","v":14},{"$f":"COLUMN()","v":15},{"$f":"COLUMN()","v":16},{"$f":"COLUMN()","v":17},{"$f":"COLUMN()","v":18},{"$f":"COLUMN()","v":19},{"$f":"COLUMN()","v":20},{"$f":"COLUMN()","v":21},{"$f":"COLUMN()","v":22},{"$f":"COLUMN()","v":23},{"$f":"COLUMN()","v":24},{"$f":"COLUMN()","v":25},{"$f":"COLUMN()","v":26},{"$f":"COLUMN()","v":27},{"$f":"COLUMN()","v":28},{"$f":"COLUMN()","v":29},{"$f":"COLUMN()","v":30},{"$f":"COLUMN()","v":31},{"$f":"COLUMN()","v":32},{"$f":"COLUMN()","v":33},{"$f":"COLUMN()","v":34},{"$f":"COLUMN()","v":35},null,{"$f":"COLUMN()","v":37},"*"]
[null,null,null,"【会場アンケート情報】"]
[null,null,null,"事業者番号","PDCAシート記載の事業番号","イベント名\n（PDCAシート記載の名称）","講演会・イベント　実施日",null,null,"実施場所","アンケート配布状況\n（どのタイミングでアンケートを実施したか）","アンケート\n回収数","ﾒｰﾙｱﾄﾞﾚｽ\n回収数"]
[null,null,null,null,null,{"$f":"$F$11&\"\"","v":""},"2021/XX/XX","～","2022/XX/XX",null,null,{"$f":"COUNTA($F$11:$F$2010)","v":0},{"$f":"COUNTIF($V$11:$V$2010,1)","v":0}]
[null,null,null,null,null,null,null,null,null,null,"↑プルダウンメニューから選択してください"]
[null,null,null,null,null,null,null,null,null,null,null,null,null,null,null,null,null,null,null,null,null,null,null,null,null,null,null,null,null,null,null,null,null,null,null,null,null,"*"]
[null,null,null,null,null,null,null,"１．あなたご自身について",null,"2．これまでの食品ロス削減のための取組の実施状況について",null,"３．今後の食品ロス削減のための取組の実施意向について",null,"４．実施意向の理由について",null,null,null,null,null,null,null,"５．追跡アンケートへのご協力のお願い（メールアドレス）",null,null,null,"作業用",null,"*"]
[null,null,null,"事業者情報",null,"イベント情報",null,"性別・年代",null,"現在の食品ロスを削減するための取組（食べ残しを減らす、食材を買いすぎない等）の実施状況についてお聞かせください。",null,"イベントに参加されて、食品ロスを削減するための取組を実施したいと思いましたか",null,"なぜ、食品ロスを削減するための取組を実施していますか/実施したいと思いましたか（3つまで）",null,null,null,null,null,null,null,"メールアドレス",null,null,null,null,null,"*"]
[null,null,"#","都道府県","事業者名","イベント名\n（PDCAシート記載の名称）","回収日付","性別","年代","#","回答","#","回答","CO2の削減に貢献する","もったいない","食費が安くなる","みんなが食品ロス削減に取り組んでいる","その他","その他（）","特に理由はない・なんとなく","未回答","記入\n有無","メールアドレス（@より前）","ドメイン","特定ID","Q4対象者","error"]
[null,null,null,null,null,null,null,null,null,null,null,null,null,1,2,3,4,5,null,6,99,null,null,null,null,null,null,"*"]
[null,null,{"$f":"ROW()-10","v":1},null,null,null,null,null,null,null,null,null,null,null,null,null,null,null,null,null,null,null,null,null,null,{"$f":"IF(OR(L11=1,L11=2,L11=3),1,0)","v":0},{"$f":"IFERROR(IF(J11=99,1,IF(MATCH(J11&\"/\"&L11,読み替え表_食品ロス!$P$29:$P$42,0),1,0)),0)","v":0},"*"]
[null,null,{"$f":"ROW()-10","v":2},null,null,null,null,null,null,null,null,null,null,null,null,null,null,null,null,null,null,null,null,null,null,{"$f":"IF(OR(L12=1,L12=2,L12=3),1,0)","v":0},{"$f":"IFERROR(IF(J12=99,1,IF(MATCH(J12&\"/\"&L12,読み替え表_食品ロス!$P$29:$P$42,0),1,0)),0)","v":0},"*"]
[null,null,{"$f":"ROW()-10","v":3},null,null,null,null,null,null,null,null,null,null,null,null,null,null,null,null,null,null,null,null,null,null,0,{"$f":"IFERROR(IF(J13=99,1,IF(MATCH(J13&\"/\"&L13,読み替え表_食品ロス!$P$29:$P$42,0),1,0)),0)","v":0},"*"]
[null,null,{"$f":"ROW()-10","v":4},null,null,null,null,null,null,null,null,null,null,null,null,null,null,null,null,null,null,null,null,null,null,0,{"$f":"IFERROR(IF(J14=99,1,IF(MATCH(J14&\"/\"&L14,読み替え表_食品ロス!$P$29:$P$42,0),1,0)),0)","v":0},"*"]
[null,null,5,null,null,null,null,null,null,null,null,null,null,null,null,null,null,null,null,null,null,null,null,null,null,0,{"$f":"IFERROR(IF(J15=99,1,IF(MATCH(J15&\"/\"&L15,読み替え表_食品ロス!$P$29:$P$42,0),1,0)),0)","v":0},"*"]
[null,null,6,null,null,null,null,null,null,null,null,null,null,null,null,null,null,null,null,null,null,null,null,null,null,0,{"$f":"IFERROR(IF(J16=99,1,IF(MATCH(J16&\"/\"&L16,読み替え表_食品ロス!$P$29:$P$42,0),1,0)),0)","v":0},"*"]
[null,null,7,null,null,null,null,null,null,null,null,null,null,null,null,null,null,null,null,null,null,null,null,null,null,0,{"$f":"IFERROR(IF(J17=99,1,IF(MATCH(J17&\"/\"&L17,読み替え表_食品ロス!$P$29:$P$42,0),1,0)),0)","v":0},"*"]
[null,null,8,null,null,null,null,null,null,null,null,null,null,null,null,null,null,null,null,null,null,null,null,null,null,0,{"$f":"IFERROR(IF(J18=99,1,IF(MATCH(J18&\"/\"&L18,読み替え表_食品ロス!$P$29:$P$42,0),1,0)),0)","v":0},"*"]
[null,null,9,null,null,null,null,null,null,null,null,null,null,null,null,null,null,null,null,null,null,null,null,null,null,0,{"$f":"IFERROR(IF(J19=99,1,IF(MATCH(J19&\"/\"&L19,読み替え表_食品ロス!$P$29:$P$42,0),1,0)),0)","v":0},"*"]
[null,null,10,null,null,null,null,null,null,null,null,null,null,null,null,null,null,null,null,null,null,null,null,null,null,0,{"$f":"IFERROR(IF(J20=99,1,IF(MATCH(J20&\"/\"&L20,読み替え表_食品ロス!$P$29:$P$42,0),1,0)),0)","v":0},"*"]
[null,null,11,null,null,null,null,null,null,null,null,null,null,null,null,null,null,null,null,null,null,null,null,null,null,0,{"$f":"IFERROR(IF(J21=99,1,IF(MATCH(J21&\"/\"&L21,読み替え表_食品ロス!$P$29:$P$42,0),1,0)),0)","v":0},"*"]
[null,null,12,null,null,null,null,null,null,null,null,null,null,null,null,null,null,null,null,null,null,null,null,null,null,0,{"$f":"IFERROR(IF(J22=99,1,IF(MATCH(J22&\"/\"&L22,読み替え表_食品ロス!$P$29:$P$42,0),1,0)),0)","v":0},"*"]
[null,null,13,null,null,null,null,null,null,null,null,null,null,null,null,null,null,null,null,null,null,null,null,null,null,0,{"$f":"IFERROR(IF(J23=99,1,IF(MATCH(J23&\"/\"&L23,読み替え表_食品ロス!$P$29:$P$42,0),1,0)),0)","v":0},"*"]
[null,null,14,null,null,null,null,null,null,null,null,null,null,null,null,null,null,null,null,null,null,null,null,null,null,0,{"$f":"IFERROR(IF(J24=99,1,IF(MATCH(J24&\"/\"&L24,読み替え表_食品ロス!$P$29:$P$42,0),1,0)),0)","v":0},"*"]
[null,null,15,null,null,null,null,null,null,null,null,null,null,null,null,null,null,null,null,null,null,null,null,null,null,0,{"$f":"IFERROR(IF(J25=99,1,IF(MATCH(J25&\"/\"&L25,読み替え表_食品ロス!$P$29:$P$42,0),1,0)),0)","v":0},"*"]
[null,null,16,null,null,null,null,null,null,null,null,null,null,null,null,null,null,null,null,null,null,null,null,null,null,0,{"$f":"IFERROR(IF(J26=99,1,IF(MATCH(J26&\"/\"&L26,読み替え表_食品ロス!$P$29:$P$42,0),1,0)),0)","v":0},"*"]
[null,null,17,null,null,null,null,null,null,null,null,null,null,null,null,null,null,null,null,null,null,null,null,null,null,0,{"$f":"IFERROR(IF(J27=99,1,IF(MATCH(J27&\"/\"&L27,読み替え表_食品ロス!$P$29:$P$42,0),1,0)),0)","v":0},"*"]
[null,null,18,null,null,null,null,null,null,null,null,null,null,null,null,null,null,null,null,null,null,null,null,null,null,0,{"$f":"IFERROR(IF(J28=99,1,IF(MATCH(J28&\"/\"&L28,読み替え表_食品ロス!$P$29:$P$42,0),1,0)),0)","v":0},"*"]
[null,null,19,null,null,null,null,null,null,null,null,null,null,null,null,null,null,null,null,null,null,null,null,null,null,0,{"$f":"IFERROR(IF(J29=99,1,IF(MATCH(J29&\"/\"&L29,読み替え表_食品ロス!$P$29:$P$42,0),1,0)),0)","v":0},"*"]
[null,null,20,null,null,null,null,null,null,null,null,null,null,null,null,null,null,null,null,null,null,null,null,null,null,0,{"$f":"IFERROR(IF(J30=99,1,IF(MATCH(J30&\"/\"&L30,読み替え表_食品ロス!$P$29:$P$42,0),1,0)),0)","v":0},"*"]
[null,null,21,null,null,null,null,null,null,null,null,null,null,null,null,null,null,null,null,null,null,null,null,null,null,0,{"$f":"IFERROR(IF(J31=99,1,IF(MATCH(J31&\"/\"&L31,読み替え表_食品ロス!$P$29:$P$42,0),1,0)),0)","v":0},"*"]
[null,null,22,null,null,null,null,null,null,null,null,null,null,null,null,null,null,null,null,null,null,null,null,null,null,0,{"$f":"IFERROR(IF(J32=99,1,IF(MATCH(J32&\"/\"&L32,読み替え表_食品ロス!$P$29:$P$42,0),1,0)),0)","v":0},"*"]
[null,null,23,null,null,null,null,null,null,null,null,null,null,null,null,null,null,null,null,null,null,null,null,null,null,0,{"$f":"IFERROR(IF(J33=99,1,IF(MATCH(J33&\"/\"&L33,読み替え表_食品ロス!$P$29:$P$42,0),1,0)),0)","v":0},"*"]
[null,null,24,null,null,null,null,null,null,null,null,null,null,null,null,null,null,null,null,null,null,null,null,null,null,0,{"$f":"IFERROR(IF(J34=99,1,IF(MATCH(J34&\"/\"&L34,読み替え表_食品ロス!$P$29:$P$42,0),1,0)),0)","v":0},"*"]
[null,null,25,null,null,null,null,null,null,null,null,null,null,null,null,null,null,null,null,null,null,null,null,null,null,0,{"$f":"IFERROR(IF(J35=99,1,IF(MATCH(J35&\"/\"&L35,読み替え表_食品ロス!$P$29:$P$42,0),1,0)),0)","v":0},"*"]
[null,null,26,null,null,null,null,null,null,null,null,null,null,null,null,null,null,null,null,null,null,null,null,null,null,0,{"$f":"IFERROR(IF(J36=99,1,IF(MATCH(J36&\"/\"&L36,読み替え表_食品ロス!$P$29:$P$42,0),1,0)),0)","v":0},"*"]
[null,null,27,null,null,null,null,null,null,null,null,null,null,null,null,null,null,null,null,null,null,null,null,null,null,0,{"$f":"IFERROR(IF(J37=99,1,IF(MATCH(J37&\"/\"&L37,読み替え表_食品ロス!$P$29:$P$42,0),1,0)),0)","v":0},"*"]
[null,null,28,null,null,null,null,null,null,null,null,null,null,null,null,null,null,null,null,null,null,null,null,null,null,0,{"$f":"IFERROR(IF(J38=99,1,IF(MATCH(J38&\"/\"&L38,読み替え表_食品ロス!$P$29:$P$42,0),1,0)),0)","v":0},"*"]
[null,null,29,null,null,null,null,null,null,null,null,null,null,null,null,null,null,null,null,null,null,null,null,null,null,0,{"$f":"IFERROR(IF(J39=99,1,IF(MATCH(J39&\"/\"&L39,読み替え表_食品ロス!$P$29:$P$42,0),1,0)),0)","v":0},"*"]
[null,null,30,null,null,null,null,null,null,null,null,null,null,null,null,null,null,null,null,null,null,null,null,null,null,0,{"$f":"IFERROR(IF(J40=99,1,IF(MATCH(J40&\"/\"&L40,読み替え表_食品ロス!$P$29:$P$42,0),1,0)),0)","v":0},"*"]
[null,null,31,null,null,null,null,null,null,null,null,null,null,null,null,null,null,null,null,null,null,null,null,null,null,0,{"$f":"IFERROR(IF(J41=99,1,IF(MATCH(J41&\"/\"&L41,読み替え表_食品ロス!$P$29:$P$42,0),1,0)),0)","v":0},"*"]
[null,null,32,null,null,null,null,null,null,null,null,null,null,null,null,null,null,null,null,null,null,null,null,null,null,0,{"$f":"IFERROR(IF(J42=99,1,IF(MATCH(J42&\"/\"&L42,読み替え表_食品ロス!$P$29:$P$42,0),1,0)),0)","v":0},"*"]
[null,null,33,null,null,null,null,null,null,null,null,null,null,null,null,null,null,null,null,null,null,null,null,null,null,0,{"$f":"IFERROR(IF(J43=99,1,IF(MATCH(J43&\"/\"&L43,読み替え表_食品ロス!$P$29:$P$42,0),1,0)),0)","v":0},"*"]
[null,null,34,null,null,null,null,null,null,null,null,null,null,null,null,null,null,null,null,null,null,null,null,null,null,0,{"$f":"IFERROR(IF(J44=99,1,IF(MATCH(J44&\"/\"&L44,読み替え表_食品ロス!$P$29:$P$42,0),1,0)),0)","v":0},"*"]
[null,null,35,null,null,null,null,null,null,null,null,null,null,null,null,null,null,null,null,null,null,null,null,null,null,0,{"$f":"IFERROR(IF(J45=99,1,IF(MATCH(J45&\"/\"&L45,読み替え表_食品ロス!$P$29:$P$42,0),1,0)),0)","v":0},"*"]
[null,null,36,null,null,null,null,null,null,null,null,null,null,null,null,null,null,null,null,null,null,null,null,null,null,0,{"$f":"IFERROR(IF(J46=99,1,IF(MATCH(J46&\"/\"&L46,読み替え表_食品ロス!$P$29:$P$42,0),1,0)),0)","v":0},"*"]
[null,null,37,null,null,null,null,null,null,null,null,null,null,null,null,null,null,null,null,null,null,null,null,null,null,0,{"$f":"IFERROR(IF(J47=99,1,IF(MATCH(J47&\"/\"&L47,読み替え表_食品ロス!$P$29:$P$42,0),1,0)),0)","v":0},"*"]
[null,null,38,null,null,null,null,null,null,null,null,null,null,null,null,null,null,null,null,null,null,null,null,null,null,0,{"$f":"IFERROR(IF(J48=99,1,IF(MATCH(J48&\"/\"&L48,読み替え表_食品ロス!$P$29:$P$42,0),1,0)),0)","v":0},"*"]
[null,null,39,null,null,null,null,null,null,null,null,null,null,null,null,null,null,null,null,null,null,null,null,null,null,0,{"$f":"IFERROR(IF(J49=99,1,IF(MATCH(J49&\"/\"&L49,読み替え表_食品ロス!$P$29:$P$42,0),1,0)),0)","v":0},"*"]
[null,null,40,null,null,null,null,null,null,null,null,null,null,null,null,null,null,null,null,null,null,null,null,null,null,0,{"$f":"IFERROR(IF(J50=99,1,IF(MATCH(J50&\"/\"&L50,読み替え表_食品ロス!$P$29:$P$42,0),1,0)),0)","v":0},"*"]
[null,null,41,null,null,null,null,null,null,null,null,null,null,null,null,null,null,null,null,null,null,null,null,null,null,0,{"$f":"IFERROR(IF(J51=99,1,IF(MATCH(J51&\"/\"&L51,読み替え表_食品ロス!$P$29:$P$42,0),1,0)),0)","v":0},"*"]
[null,null,42,null,null,null,null,null,null,null,null,null,null,null,null,null,null,null,null,null,null,null,null,null,null,0,{"$f":"IFERROR(IF(J52=99,1,IF(MATCH(J52&\"/\"&L52,読み替え表_食品ロス!$P$29:$P$42,0),1,0)),0)","v":0},"*"]
[null,null,43,null,null,null,null,null,null,null,null,null,null,null,null,null,null,null,null,null,null,null,null,null,null,0,{"$f":"IFERROR(IF(J53=99,1,IF(MATCH(J53&\"/\"&L53,読み替え表_食品ロス!$P$29:$P$42,0),1,0)),0)","v":0},"*"]
[null,null,44,null,null,null,null,null,null,null,null,null,null,null,null,null,null,null,null,null,null,null,null,null,null,0,{"$f":"IFERROR(IF(J54=99,1,IF(MATCH(J54&\"/\"&L54,読み替え表_食品ロス!$P$29:$P$42,0),1,0)),0)","v":0},"*"]
[null,null,45,null,null,null,null,null,null,null,null,null,null,null,null,null,null,null,null,null,null,null,null,null,null,0,{"$f":"IFERROR(IF(J55=99,1,IF(MATCH(J55&\"/\"&L55,読み替え表_食品ロス!$P$29:$P$42,0),1,0)),0)","v":0},"*"]
[null,null,46,null,null,null,null,null,null,null,null,null,null,null,null,null,null,null,null,null,null,null,null,null,null,0,{"$f":"IFERROR(IF(J56=99,1,IF(MATCH(J56&\"/\"&L56,読み替え表_食品ロス!$P$29:$P$42,0),1,0)),0)","v":0},"*"]
[null,null,47,null,null,null,null,null,null,null,null,null,null,null,null,null,null,null,null,null,null,null,null,null,null,0,{"$f":"IFERROR(IF(J57=99,1,IF(MATCH(J57&\"/\"&L57,読み替え表_食品ロス!$P$29:$P$42,0),1,0)),0)","v":0},"*"]
[null,null,48,null,null,null,null,null,null,null,null,null,null,null,null,null,null,null,null,null,null,null,null,null,null,0,{"$f":"IFERROR(IF(J58=99,1,IF(MATCH(J58&\"/\"&L58,読み替え表_食品ロス!$P$29:$P$42,0),1,0)),0)","v":0},"*"]
[null,null,49,null,null,null,null,null,null,null,null,null,null,null,null,null,null,null,null,null,null,null,null,null,null,0,{"$f":"IFERROR(IF(J59=99,1,IF(MATCH(J59&\"/\"&L59,読み替え表_食品ロス!$P$29:$P$42,0),1,0)),0)","v":0},"*"]
[null,null,50,null,null,null,null,null,null,null,null,null,null,null,null,null,null,null,null,null,null,null,null,null,null,0,{"$f":"IFERROR(IF(J60=99,1,IF(MATCH(J60&\"/\"&L60,読み替え表_食品ロス!$P$29:$P$42,0),1,0)),0)","v":0},"*"]
[null,null,51,null,null,null,null,null,null,null,null,null,null,null,null,null,null,null,null,null,null,null,null,null,null,0,{"$f":"IFERROR(IF(J61=99,1,IF(MATCH(J61&\"/\"&L61,読み替え表_食品ロス!$P$29:$P$42,0),1,0)),0)","v":0},"*"]
[null,null,52,null,null,null,null,null,null,null,null,null,null,null,null,null,null,null,null,null,null,null,null,null,null,0,{"$f":"IFERROR(IF(J62=99,1,IF(MATCH(J62&\"/\"&L62,読み替え表_食品ロス!$P$29:$P$42,0),1,0)),0)","v":0},"*"]
[null,null,53,null,null,null,null,null,null,null,null,null,null,null,null,null,null,null,null,null,null,null,null,null,null,0,{"$f":"IFERROR(IF(J63=99,1,IF(MATCH(J63&\"/\"&L63,読み替え表_食品ロス!$P$29:$P$42,0),1,0)),0)","v":0},"*"]
[null,null,54,null,null,null,null,null,null,null,null,null,null,null,null,null,null,null,null,null,null,null,null,null,null,0,{"$f":"IFERROR(IF(J64=99,1,IF(MATCH(J64&\"/\"&L64,読み替え表_食品ロス!$P$29:$P$42,0),1,0)),0)","v":0},"*"]
[null,null,55,null,null,null,null,null,null,null,null,null,null,null,null,null,null,null,null,null,null,null,null,null,null,0,{"$f":"IFERROR(IF(J65=99,1,IF(MATCH(J65&\"/\"&L65,読み替え表_食品ロス!$P$29:$P$42,0),1,0)),0)","v":0},"*"]
[null,null,56,null,null,null,null,null,null,null,null,null,null,null,null,null,null,null,null,null,null,null,null,null,null,0,{"$f":"IFERROR(IF(J66=99,1,IF(MATCH(J66&\"/\"&L66,読み替え表_食品ロス!$P$29:$P$42,0),1,0)),0)","v":0},"*"]
[null,null,57,null,null,null,null,null,null,null,null,null,null,null,null,null,null,null,null,null,null,null,null,null,null,0,{"$f":"IFERROR(IF(J67=99,1,IF(MATCH(J67&\"/\"&L67,読み替え表_食品ロス!$P$29:$P$42,0),1,0)),0)","v":0},"*"]
[null,null,58,null,null,null,null,null,null,null,null,null,null,null,null,null,null,null,null,null,null,null,null,null,null,0,{"$f":"IFERROR(IF(J68=99,1,IF(MATCH(J68&\"/\"&L68,読み替え表_食品ロス!$P$29:$P$42,0),1,0)),0)","v":0},"*"]
[null,null,59,null,null,null,null,null,null,null,null,null,null,null,null,null,null,null,null,null,null,null,null,null,null,0,{"$f":"IFERROR(IF(J69=99,1,IF(MATCH(J69&\"/\"&L69,読み替え表_食品ロス!$P$29:$P$42,0),1,0)),0)","v":0},"*"]
[null,null,60,null,null,null,null,null,null,null,null,null,null,null,null,null,null,null,null,null,null,null,null,null,null,0,{"$f":"IFERROR(IF(J70=99,1,IF(MATCH(J70&\"/\"&L70,読み替え表_食品ロス!$P$29:$P$42,0),1,0)),0)","v":0},"*"]
[null,null,61,null,null,null,null,null,null,null,null,null,null,null,null,null,null,null,null,null,null,null,null,null,null,0,{"$f":"IFERROR(IF(J71=99,1,IF(MATCH(J71&\"/\"&L71,読み替え表_食品ロス!$P$29:$P$42,0),1,0)),0)","v":0},"*"]
[null,null,62,null,null,null,null,null,null,null,null,null,null,null,null,null,null,null,null,null,null,null,null,null,null,0,{"$f":"IFERROR(IF(J72=99,1,IF(MATCH(J72&\"/\"&L72,読み替え表_食品ロス!$P$29:$P$42,0),1,0)),0)","v":0},"*"]
[null,null,63,null,null,null,null,null,null,null,null,null,null,null,null,null,null,null,null,null,null,null,null,null,null,0,{"$f":"IFERROR(IF(J73=99,1,IF(MATCH(J73&\"/\"&L73,読み替え表_食品ロス!$P$29:$P$42,0),1,0)),0)","v":0},"*"]
[null,null,64,null,null,null,null,null,null,null,null,null,null,null,null,null,null,null,null,null,null,null,null,null,null,0,{"$f":"IFERROR(IF(J74=99,1,IF(MATCH(J74&\"/\"&L74,読み替え表_食品ロス!$P$29:$P$42,0),1,0)),0)","v":0},"*"]
[null,null,65,null,null,null,null,null,null,null,null,null,null,null,null,null,null,null,null,null,null,null,null,null,null,0,{"$f":"IFERROR(IF(J75=99,1,IF(MATCH(J75&\"/\"&L75,読み替え表_食品ロス!$P$29:$P$42,0),1,0)),0)","v":0},"*"]
[null,null,{"$f":"ROW()-10","v":66},null,null,null,null,null,null,null,null,null,null,null,null,null,null,null,null,null,null,null,null,null,null,{"$f":"IF(OR(L76=1,L76=2,L76=3),1,0)","v":0},{"$f":"IFERROR(IF(J76=99,1,IF(MATCH(J76&\"/\"&L76,読み替え表_食品ロス!$P$29:$P$42,0),1,0)),0)","v":0},"*"]
[null,null,67,null,null,null,null,null,null,null,null,null,null,null,null,null,null,null,null,null,null,null,null,null,null,0,{"$f":"IFERROR(IF(J77=99,1,IF(MATCH(J77&\"/\"&L77,読み替え表_食品ロス!$P$29:$P$42,0),1,0)),0)","v":0},"*"]
[null,null,68,null,null,null,null,null,null,null,null,null,null,null,null,null,null,null,null,null,null,null,null,null,null,0,{"$f":"IFERROR(IF(J78=99,1,IF(MATCH(J78&\"/\"&L78,読み替え表_食品ロス!$P$29:$P$42,0),1,0)),0)","v":0},"*"]
[null,null,69,null,null,null,null,null,null,null,null,null,null,null,null,null,null,null,null,null,null,null,null,null,null,0,{"$f":"IFERROR(IF(J79=99,1,IF(MATCH(J79&\"/\"&L79,読み替え表_食品ロス!$P$29:$P$42,0),1,0)),0)","v":0},"*"]
[null,null,70,null,null,null,null,null,null,null,null,null,null,null,null,null,null,null,null,null,null,null,null,null,null,0,{"$f":"IFERROR(IF(J80=99,1,IF(MATCH(J80&\"/\"&L80,読み替え表_食品ロス!$P$29:$P$42,0),1,0)),0)","v":0},"*"]
[null,null,71,null,null,null,null,null,null,null,null,null,null,null,null,null,null,null,null,null,null,null,null,null,null,0,{"$f":"IFERROR(IF(J81=99,1,IF(MATCH(J81&\"/\"&L81,読み替え表_食品ロス!$P$29:$P$42,0),1,0)),0)","v":0},"*"]
[null,null,72,null,null,null,null,null,null,null,null,null,null,null,null,null,null,null,null,null,null,null,null,null,null,0,{"$f":"IFERROR(IF(J82=99,1,IF(MATCH(J82&\"/\"&L82,読み替え表_食品ロス!$P$29:$P$42,0),1,0)),0)","v":0},"*"]
[null,null,73,null,null,null,null,null,null,null,null,null,null,null,null,null,null,null,null,null,null,null,null,null,null,0,{"$f":"IFERROR(IF(J83=99,1,IF(MATCH(J83&\"/\"&L83,読み替え表_食品ロス!$P$29:$P$42,0),1,0)),0)","v":0},"*"]
[null,null,74,null,null,null,null,null,null,null,null,null,null,null,null,null,null,null,null,null,null,null,null,null,null,0,{"$f":"IFERROR(IF(J84=99,1,IF(MATCH(J84&\"/\"&L84,読み替え表_食品ロス!$P$29:$P$42,0),1,0)),0)","v":0},"*"]
[null,null,75,null,null,null,null,null,null,null,null,null,null,null,null,null,null,null,null,null,null,null,null,null,null,0,{"$f":"IFERROR(IF(J85=99,1,IF(MATCH(J85&\"/\"&L85,読み替え表_食品ロス!$P$29:$P$42,0),1,0)),0)","v":0},"*"]
[null,null,76,null,null,null,null,null,null,null,null,null,null,null,null,null,null,null,null,null,null,null,null,null,null,0,{"$f":"IFERROR(IF(J86=99,1,IF(MATCH(J86&\"/\"&L86,読み替え表_食品ロス!$P$29:$P$42,0),1,0)),0)","v":0},"*"]
[null,null,77,null,null,null,null,null,null,null,null,null,null,null,null,null,null,null,null,null,null,null,null,null,null,0,{"$f":"IFERROR(IF(J87=99,1,IF(MATCH(J87&\"/\"&L87,読み替え表_食品ロス!$P$29:$P$42,0),1,0)),0)","v":0},"*"]
[null,null,78,null,null,null,null,null,null,null,null,null,null,null,null,null,null,null,null,null,null,null,null,null,null,0,{"$f":"IFERROR(IF(J88=99,1,IF(MATCH(J88&\"/\"&L88,読み替え表_食品ロス!$P$29:$P$42,0),1,0)),0)","v":0},"*"]
[null,null,79,null,null,null,null,null,null,null,null,null,null,null,null,null,null,null,null,null,null,null,null,null,null,0,{"$f":"IFERROR(IF(J89=99,1,IF(MATCH(J89&\"/\"&L89,読み替え表_食品ロス!$P$29:$P$42,0),1,0)),0)","v":0},"*"]
[null,null,80,null,null,null,null,null,null,null,null,null,null,null,null,null,null,null,null,null,null,null,null,null,null,0,{"$f":"IFERROR(IF(J90=99,1,IF(MATCH(J90&\"/\"&L90,読み替え表_食品ロス!$P$29:$P$42,0),1,0)),0)","v":0},"*"]
[null,null,81,null,null,null,null,null,null,null,null,null,null,null,null,null,null,null,null,null,null,null,null,null,null,0,{"$f":"IFERROR(IF(J91=99,1,IF(MATCH(J91&\"/\"&L91,読み替え表_食品ロス!$P$29:$P$42,0),1,0)),0)","v":0},"*"]
[null,null,82,null,null,null,null,null,null,null,null,null,null,null,null,null,null,null,null,null,null,null,null,null,null,0,{"$f":"IFERROR(IF(J92=99,1,IF(MATCH(J92&\"/\"&L92,読み替え表_食品ロス!$P$29:$P$42,0),1,0)),0)","v":0},"*"]
[null,null,83,null,null,null,null,null,null,null,null,null,null,null,null,null,null,null,null,null,null,null,null,null,null,0,{"$f":"IFERROR(IF(J93=99,1,IF(MATCH(J93&\"/\"&L93,読み替え表_食品ロス!$P$29:$P$42,0),1,0)),0)","v":0},"*"]
[null,null,84,null,null,null,null,null,null,null,null,null,null,null,null,null,null,null,null,null,null,null,null,null,null,0,{"$f":"IFERROR(IF(J94=99,1,IF(MATCH(J94&\"/\"&L94,読み替え表_食品ロス!$P$29:$P$42,0),1,0)),0)","v":0},"*"]
[null,null,85,null,null,null,null,null,null,null,null,null,null,null,null,null,null,null,null,null,null,null,null,null,null,0,{"$f":"IFERROR(IF(J95=99,1,IF(MATCH(J95&\"/\"&L95,読み替え表_食品ロス!$P$29:$P$42,0),1,0)),0)","v":0},"*"]
[null,null,86,null,null,null,null,null,null,null,null,null,null,null,null,null,null,null,null,null,null,null,null,null,null,0,{"$f":"IFERROR(IF(J96=99,1,IF(MATCH(J96&\"/\"&L96,読み替え表_食品ロス!$P$29:$P$42,0),1,0)),0)","v":0},"*"]
[null,null,87,null,null,null,null,null,null,null,null,null,null,null,null,null,null,null,null,null,null,null,null,null,null,0,{"$f":"IFERROR(IF(J97=99,1,IF(MATCH(J97&\"/\"&L97,読み替え表_食品ロス!$P$29:$P$42,0),1,0)),0)","v":0},"*"]
[null,null,88,null,null,null,null,null,null,null,null,null,null,null,null,null,null,null,null,null,null,null,null,null,null,0,{"$f":"IFERROR(IF(J98=99,1,IF(MATCH(J98&\"/\"&L98,読み替え表_食品ロス!$P$29:$P$42,0),1,0)),0)","v":0},"*"]
[null,null,89,null,null,null,null,null,null,null,null,null,null,null,null,null,null,null,null,null,null,null,null,null,null,0,{"$f":"IFERROR(IF(J99=99,1,IF(MATCH(J99&\"/\"&L99,読み替え表_食品ロス!$P$29:$P$42,0),1,0)),0)","v":0},"*"]
[null,null,90,null,null,null,null,null,null,null,null,null,null,null,null,null,null,null,null,null,null,null,null,null,null,0,{"$f":"IFERROR(IF(J100=99,1,IF(MATCH(J100&\"/\"&L100,読み替え表_食品ロス!$P$29:$P$42,0),1,0)),0)","v":0},"*"]
[null,null,91,null,null,null,null,null,null,null,null,null,null,null,null,null,null,null,null,null,null,null,null,null,null,0,{"$f":"IFERROR(IF(J101=99,1,IF(MATCH(J101&\"/\"&L101,読み替え表_食品ロス!$P$29:$P$42,0),1,0)),0)","v":0},"*"]
[null,null,92,null,null,null,null,null,null,null,null,null,null,null,null,null,null,null,null,null,null,null,null,null,null,0,{"$f":"IFERROR(IF(J102=99,1,IF(MATCH(J102&\"/\"&L102,読み替え表_食品ロス!$P$29:$P$42,0),1,0)),0)","v":0},"*"]
[null,null,93,null,null,null,null,null,null,null,null,null,null,null,null,null,null,null,null,null,null,null,null,null,null,0,{"$f":"IFERROR(IF(J103=99,1,IF(MATCH(J103&\"/\"&L103,読み替え表_食品ロス!$P$29:$P$42,0),1,0)),0)","v":0},"*"]
[null,null,94,null,null,null,null,null,null,null,null,null,null,null,null,null,null,null,null,null,null,null,null,null,null,0,{"$f":"IFERROR(IF(J104=99,1,IF(MATCH(J104&\"/\"&L104,読み替え表_食品ロス!$P$29:$P$42,0),1,0)),0)","v":0},"*"]
[null,null,95,null,null,null,null,null,null,null,null,null,null,null,null,null,null,null,null,null,null,null,null,null,null,0,{"$f":"IFERROR(IF(J105=99,1,IF(MATCH(J105&\"/\"&L105,読み替え表_食品ロス!$P$29:$P$42,0),1,0)),0)","v":0},"*"]
[null,null,96,null,null,null,null,null,null,null,null,null,null,null,null,null,null,null,null,null,null,null,null,null,null,0,{"$f":"IFERROR(IF(J106=99,1,IF(MATCH(J106&\"/\"&L106,読み替え表_食品ロス!$P$29:$P$42,0),1,0)),0)","v":0},"*"]
[null,null,97,null,null,null,null,null,null,null,null,null,null,null,null,null,null,null,null,null,null,null,null,null,null,0,{"$f":"IFERROR(IF(J107=99,1,IF(MATCH(J107&\"/\"&L107,読み替え表_食品ロス!$P$29:$P$42,0),1,0)),0)","v":0},"*"]
[null,null,98,null,null,null,null,null,null,null,null,null,null,null,null,null,null,null,null,null,null,null,null,null,null,0,{"$f":"IFERROR(IF(J108=99,1,IF(MATCH(J108&\"/\"&L108,読み替え表_食品ロス!$P$29:$P$42,0),1,0)),0)","v":0},"*"]
[null,null,99,null,null,null,null,null,null,null,null,null,null,null,null,null,null,null,null,null,null,null,null,null,null,0,{"$f":"IFERROR(IF(J109=99,1,IF(MATCH(J109&\"/\"&L109,読み替え表_食品ロス!$P$29:$P$42,0),1,0)),0)","v":0},"*"]
[null,null,100,null,null,null,null,null,null,null,null,null,null,null,null,null,null,null,null,null,null,null,null,null,null,0,{"$f":"IFERROR(IF(J110=99,1,IF(MATCH(J110&\"/\"&L110,読み替え表_食品ロス!$P$29:$P$42,0),1,0)),0)","v":0},"*"]
[null,null,101,null,null,null,null,null,null,null,null,null,null,null,null,null,null,null,null,null,null,null,null,null,null,0,{"$f":"IFERROR(IF(J111=99,1,IF(MATCH(J111&\"/\"&L111,読み替え表_食品ロス!$P$29:$P$42,0),1,0)),0)","v":0},"*"]
[null,null,102,null,null,null,null,null,null,null,null,null,null,null,null,null,null,null,null,null,null,null,null,null,null,0,{"$f":"IFERROR(IF(J112=99,1,IF(MATCH(J112&\"/\"&L112,読み替え表_食品ロス!$P$29:$P$42,0),1,0)),0)","v":0},"*"]
[null,null,103,null,null,null,null,null,null,null,null,null,null,null,null,null,null,null,null,null,null,null,null,null,null,0,{"$f":"IFERROR(IF(J113=99,1,IF(MATCH(J113&\"/\"&L113,読み替え表_食品ロス!$P$29:$P$42,0),1,0)),0)","v":0},"*"]
[null,null,104,null,null,null,null,null,null,null,null,null,null,null,null,null,null,null,null,null,null,null,null,null,null,0,{"$f":"IFERROR(IF(J114=99,1,IF(MATCH(J114&\"/\"&L114,読み替え表_食品ロス!$P$29:$P$42,0),1,0)),0)","v":0},"*"]
[null,null,105,null,null,null,null,null,null,null,null,null,null,null,null,null,null,null,null,null,null,null,null,null,null,0,{"$f":"IFERROR(IF(J115=99,1,IF(MATCH(J115&\"/\"&L115,読み替え表_食品ロス!$P$29:$P$42,0),1,0)),0)","v":0},"*"]
[null,null,106,null,null,null,null,null,null,null,null,null,null,null,null,null,null,null,null,null,null,null,null,null,null,0,{"$f":"IFERROR(IF(J116=99,1,IF(MATCH(J116&\"/\"&L116,読み替え表_食品ロス!$P$29:$P$42,0),1,0)),0)","v":0},"*"]
[null,null,107,null,null,null,null,null,null,null,null,null,null,null,null,null,null,null,null,null,null,null,null,null,null,0,{"$f":"IFERROR(IF(J117=99,1,IF(MATCH(J117&\"/\"&L117,読み替え表_食品ロス!$P$29:$P$42,0),1,0)),0)","v":0},"*"]
[null,null,108,null,null,null,null,null,null,null,null,null,null,null,null,null,null,null,null,null,null,null,null,null,null,0,{"$f":"IFERROR(IF(J118=99,1,IF(MATCH(J118&\"/\"&L118,読み替え表_食品ロス!$P$29:$P$42,0),1,0)),0)","v":0},"*"]
[null,null,109,null,null,null,null,null,null,null,null,null,null,null,null,null,null,null,null,null,null,null,null,null,null,0,{"$f":"IFERROR(IF(J119=99,1,IF(MATCH(J119&\"/\"&L119,読み替え表_食品ロス!$P$29:$P$42,0),1,0)),0)","v":0},"*"]
[null,null,110,null,null,null,null,null,null,null,null,null,null,null,null,null,null,null,null,null,null,null,null,null,null,0,{"$f":"IFERROR(IF(J120=99,1,IF(MATCH(J120&\"/\"&L120,読み替え表_食品ロス!$P$29:$P$42,0),1,0)),0)","v":0},"*"]
[null,null,111,null,null,null,null,null,null,null,null,null,null,null,null,null,null,null,null,null,null,null,null,null,null,0,{"$f":"IFERROR(IF(J121=99,1,IF(MATCH(J121&\"/\"&L121,読み替え表_食品ロス!$P$29:$P$42,0),1,0)),0)","v":0},"*"]
[null,null,112,null,null,null,null,null,null,null,null,null,null,null,null,null,null,null,null,null,null,null,null,null,null,0,{"$f":"IFERROR(IF(J122=99,1,IF(MATCH(J122&\"/\"&L122,読み替え表_食品ロス!$P$29:$P$42,0),1,0)),0)","v":0},"*"]
[null,null,113,null,null,null,null,null,null,null,null,null,null,null,null,null,null,null,null,null,null,null,null,null,null,0,{"$f":"IFERROR(IF(J123=99,1,IF(MATCH(J123&\"/\"&L123,読み替え表_食品ロス!$P$29:$P$42,0),1,0)),0)","v":0},"*"]
[null,null,114,null,null,null,null,null,null,null,null,null,null,null,null,null,null,null,null,null,null,null,null,null,null,0,{"$f":"IFERROR(IF(J124=99,1,IF(MATCH(J124&\"/\"&L124,読み替え表_食品ロス!$P$29:$P$42,0),1,0)),0)","v":0},"*"]
[null,null,115,null,null,null,null,null,null,null,null,null,null,null,null,null,null,null,null,null,null,null,null,null,null,0,{"$f":"IFERROR(IF(J125=99,1,IF(MATCH(J125&\"/\"&L125,読み替え表_食品ロス!$P$29:$P$42,0),1,0)),0)","v":0},"*"]
[null,null,116,null,null,null,null,null,null,null,null,null,null,null,null,null,null,null,null,null,null,null,null,null,null,0,{"$f":"IFERROR(IF(J126=99,1,IF(MATCH(J126&\"/\"&L126,読み替え表_食品ロス!$P$29:$P$42,0),1,0)),0)","v":0},"*"]
[null,null,117,null,null,null,null,null,null,null,null,null,null,null,null,null,null,null,null,null,null,null,null,null,null,0,{"$f":"IFERROR(IF(J127=99,1,IF(MATCH(J127&\"/\"&L127,読み替え表_食品ロス!$P$29:$P$42,0),1,0)),0)","v":0},"*"]
[null,null,118,null,null,null,null,null,null,null,null,null,null,null,null,null,null,null,null,null,null,null,null,null,null,0,{"$f":"IFERROR(IF(J128=99,1,IF(MATCH(J128&\"/\"&L128,読み替え表_食品ロス!$P$29:$P$42,0),1,0)),0)","v":0},"*"]
[null,null,119,null,null,null,null,null,null,null,null,null,null,null,null,null,null,null,null,null,null,null,null,null,null,0,{"$f":"IFERROR(IF(J129=99,1,IF(MATCH(J129&\"/\"&L129,読み替え表_食品ロス!$P$29:$P$42,0),1,0)),0)","v":0},"*"]
[null,null,120,null,null,null,null,null,null,null,null,null,null,null,null,null,null,null,null,null,null,null,null,null,null,0,{"$f":"IFERROR(IF(J130=99,1,IF(MATCH(J130&\"/\"&L130,読み替え表_食品ロス!$P$29:$P$42,0),1,0)),0)","v":0},"*"]
[null,null,121,null,null,null,null,null,null,null,null,null,null,null,null,null,null,null,null,null,null,null,null,null,null,0,{"$f":"IFERROR(IF(J131=99,1,IF(MATCH(J131&\"/\"&L131,読み替え表_食品ロス!$P$29:$P$42,0),1,0)),0)","v":0},"*"]
[null,null,122,null,null,null,null,null,null,null,null,null,null,null,null,null,null,null,null,null,null,null,null,null,null,0,{"$f":"IFERROR(IF(J132=99,1,IF(MATCH(J132&\"/\"&L132,読み替え表_食品ロス!$P$29:$P$42,0),1,0)),0)","v":0},"*"]
[null,null,123,null,null,null,null,null,null,null,null,null,null,null,null,null,null,null,null,null,null,null,null,null,null,0,{"$f":"IFERROR(IF(J133=99,1,IF(MATCH(J133&\"/\"&L133,読み替え表_食品ロス!$P$29:$P$42,0),1,0)),0)","v":0},"*"]
[null,null,124,null,null,null,null,null,null,null,null,null,null,null,null,null,null,null,null,null,null,null,null,null,null,0,{"$f":"IFERROR(IF(J134=99,1,IF(MATCH(J134&\"/\"&L134,読み替え表_食品ロス!$P$29:$P$42,0),1,0)),0)","v":0},"*"]
[null,null,125,null,null,null,null,null,null,null,null,null,null,null,null,null,null,null,null,null,null,null,null,null,null,0,{"$f":"IFERROR(IF(J135=99,1,IF(MATCH(J135&\"/\"&L135,読み替え表_食品ロス!$P$29:$P$42,0),1,0)),0)","v":0},"*"]
[null,null,126,null,null,null,null,null,null,null,null,null,null,null,null,null,null,null,null,null,null,null,null,null,null,0,{"$f":"IFERROR(IF(J136=99,1,IF(MATCH(J136&\"/\"&L136,読み替え表_食品ロス!$P$29:$P$42,0),1,0)),0)","v":0},"*"]
[null,null,127,null,null,null,null,null,null,null,null,null,null,null,null,null,null,null,null,null,null,null,null,null,null,0,{"$f":"IFERROR(IF(J137=99,1,IF(MATCH(J137&\"/\"&L137,読み替え表_食品ロス!$P$29:$P$42,0),1,0)),0)","v":0},"*"]
[null,null,128,null,null,null,null,null,null,null,null,null,null,null,null,null,null,null,null,null,null,null,null,null,null,0,{"$f":"IFERROR(IF(J138=99,1,IF(MATCH(J138&\"/\"&L138,読み替え表_食品ロス!$P$29:$P$42,0),1,0)),0)","v":0},"*"]
[null,null,129,null,null,null,null,null,null,null,null,null,null,null,null,null,null,null,null,null,null,null,null,null,null,0,{"$f":"IFERROR(IF(J139=99,1,IF(MATCH(J139&\"/\"&L139,読み替え表_食品ロス!$P$29:$P$42,0),1,0)),0)","v":0},"*"]
[null,null,{"$f":"ROW()-10","v":130},null,null,null,null,null,null,null,null,null,null,null,null,null,null,null,null,null,null,null,null,null,null,{"$f":"IF(OR(L140=1,L140=2,L140=3),1,0)","v":0},{"$f":"IFERROR(IF(J140=99,1,IF(MATCH(J140&\"/\"&L140,読み替え表_食品ロス!$P$29:$P$42,0),1,0)),0)","v":0},"*"]
[null,null,131,null,null,null,null,null,null,null,null,null,null,null,null,null,null,null,null,null,null,null,null,null,null,0,{"$f":"IFERROR(IF(J141=99,1,IF(MATCH(J141&\"/\"&L141,読み替え表_食品ロス!$P$29:$P$42,0),1,0)),0)","v":0},"*"]
[null,null,132,null,null,null,null,null,null,null,null,null,null,null,null,null,null,null,null,null,null,null,null,null,null,0,{"$f":"IFERROR(IF(J142=99,1,IF(MATCH(J142&\"/\"&L142,読み替え表_食品ロス!$P$29:$P$42,0),1,0)),0)","v":0},"*"]
[null,null,133,null,null,null,null,null,null,null,null,null,null,null,null,null,null,null,null,null,null,null,null,null,null,0,{"$f":"IFERROR(IF(J143=99,1,IF(MATCH(J143&\"/\"&L143,読み替え表_食品ロス!$P$29:$P$42,0),1,0)),0)","v":0},"*"]
[null,null,134,null,null,null,null,null,null,null,null,null,null,null,null,null,null,null,null,null,null,null,null,null,null,0,{"$f":"IFERROR(IF(J144=99,1,IF(MATCH(J144&\"/\"&L144,読み替え表_食品ロス!$P$29:$P$42,0),1,0)),0)","v":0},"*"]
[null,null,135,null,null,null,null,null,null,null,null,null,null,null,null,null,null,null,null,null,null,null,null,null,null,0,{"$f":"IFERROR(IF(J145=99,1,IF(MATCH(J145&\"/\"&L145,読み替え表_食品ロス!$P$29:$P$42,0),1,0)),0)","v":0},"*"]
[null,null,136,null,null,null,null,null,null,null,null,null,null,null,null,null,null,null,null,null,null,null,null,null,null,0,{"$f":"IFERROR(IF(J146=99,1,IF(MATCH(J146&\"/\"&L146,読み替え表_食品ロス!$P$29:$P$42,0),1,0)),0)","v":0},"*"]
[null,null,137,null,null,null,null,null,null,null,null,null,null,null,null,null,null,null,null,null,null,null,null,null,null,0,{"$f":"IFERROR(IF(J147=99,1,IF(MATCH(J147&\"/\"&L147,読み替え表_食品ロス!$P$29:$P$42,0),1,0)),0)","v":0},"*"]
[null,null,138,null,null,null,null,null,null,null,null,null,null,null,null,null,null,null,null,null,null,null,null,null,null,0,{"$f":"IFERROR(IF(J148=99,1,IF(MATCH(J148&\"/\"&L148,読み替え表_食品ロス!$P$29:$P$42,0),1,0)),0)","v":0},"*"]
[null,null,139,null,null,null,null,null,null,null,null,null,null,null,null,null,null,null,null,null,null,null,null,null,null,0,{"$f":"IFERROR(IF(J149=99,1,IF(MATCH(J149&\"/\"&L149,読み替え表_食品ロス!$P$29:$P$42,0),1,0)),0)","v":0},"*"]
[null,null,140,null,null,null,null,null,null,null,null,null,null,null,null,null,null,null,null,null,null,null,null,null,null,0,{"$f":"IFERROR(IF(J150=99,1,IF(MATCH(J150&\"/\"&L150,読み替え表_食品ロス!$P$29:$P$42,0),1,0)),0)","v":0},"*"]
[null,null,141,null,null,null,null,null,null,null,null,null,null,null,null,null,null,null,null,null,null,null,null,null,null,0,{"$f":"IFERROR(IF(J151=99,1,IF(MATCH(J151&\"/\"&L151,読み替え表_食品ロス!$P$29:$P$42,0),1,0)),0)","v":0},"*"]
[null,null,142,null,null,null,null,null,null,null,null,null,null,null,null,null,null,null,null,null,null,null,null,null,null,0,{"$f":"IFERROR(IF(J152=99,1,IF(MATCH(J152&\"/\"&L152,読み替え表_食品ロス!$P$29:$P$42,0),1,0)),0)","v":0},"*"]
[null,null,143,null,null,null,null,null,null,null,null,null,null,null,null,null,null,null,null,null,null,null,null,null,null,0,{"$f":"IFERROR(IF(J153=99,1,IF(MATCH(J153&\"/\"&L153,読み替え表_食品ロス!$P$29:$P$42,0),1,0)),0)","v":0},"*"]
[null,null,144,null,null,null,null,null,null,null,null,null,null,null,null,null,null,null,null,null,null,null,null,null,null,0,{"$f":"IFERROR(IF(J154=99,1,IF(MATCH(J154&\"/\"&L154,読み替え表_食品ロス!$P$29:$P$42,0),1,0)),0)","v":0},"*"]
[null,null,145,null,null,null,null,null,null,null,null,null,null,null,null,null,null,null,null,null,null,null,null,null,null,0,{"$f":"IFERROR(IF(J155=99,1,IF(MATCH(J155&\"/\"&L155,読み替え表_食品ロス!$P$29:$P$42,0),1,0)),0)","v":0},"*"]
[null,null,146,null,null,null,null,null,null,null,null,null,null,null,null,null,null,null,null,null,null,null,null,null,null,0,{"$f":"IFERROR(IF(J156=99,1,IF(MATCH(J156&\"/\"&L156,読み替え表_食品ロス!$P$29:$P$42,0),1,0)),0)","v":0},"*"]
[null,null,147,null,null,null,null,null,null,null,null,null,null,null,null,null,null,null,null,null,null,null,null,null,null,0,{"$f":"IFERROR(IF(J157=99,1,IF(MATCH(J157&\"/\"&L157,読み替え表_食品ロス!$P$29:$P$42,0),1,0)),0)","v":0},"*"]
[null,null,148,null,null,null,null,null,null,null,null,null,null,null,null,null,null,null,null,null,null,null,null,null,null,0,{"$f":"IFERROR(IF(J158=99,1,IF(MATCH(J158&\"/\"&L158,読み替え表_食品ロス!$P$29:$P$42,0),1,0)),0)","v":0},"*"]
[null,null,149,null,null,null,null,null,null,null,null,null,null,null,null,null,null,null,null,null,null,null,null,null,null,0,{"$f":"IFERROR(IF(J159=99,1,IF(MATCH(J159&\"/\"&L159,読み替え表_食品ロス!$P$29:$P$42,0),1,0)),0)","v":0},"*"]
[null,null,150,null,null,null,null,null,null,null,null,null,null,null,null,null,null,null,null,null,null,null,null,null,null,0,{"$f":"IFERROR(IF(J160=99,1,IF(MATCH(J160&\"/\"&L160,読み替え表_食品ロス!$P$29:$P$42,0),1,0)),0)","v":0},"*"]
[null,null,151,null,null,null,null,null,null,null,null,null,null,null,null,null,null,null,null,null,null,null,null,null,null,0,{"$f":"IFERROR(IF(J161=99,1,IF(MATCH(J161&\"/\"&L161,読み替え表_食品ロス!$P$29:$P$42,0),1,0)),0)","v":0},"*"]
[null,null,152,null,null,null,null,null,null,null,null,null,null,null,null,null,null,null,null,null,null,null,null,null,null,0,{"$f":"IFERROR(IF(J162=99,1,IF(MATCH(J162&\"/\"&L162,読み替え表_食品ロス!$P$29:$P$42,0),1,0)),0)","v":0},"*"]
[null,null,153,null,null,null,null,null,null,null,null,null,null,null,null,null,null,null,null,null,null,null,null,null,null,0,{"$f":"IFERROR(IF(J163=99,1,IF(MATCH(J163&\"/\"&L163,読み替え表_食品ロス!$P$29:$P$42,0),1,0)),0)","v":0},"*"]
[null,null,154,null,null,null,null,null,null,null,null,null,null,null,null,null,null,null,null,null,null,null,null,null,null,0,{"$f":"IFERROR(IF(J164=99,1,IF(MATCH(J164&\"/\"&L164,読み替え表_食品ロス!$P$29:$P$42,0),1,0)),0)","v":0},"*"]
[null,null,155,null,null,null,null,null,null,null,null,null,null,null,null,null,null,null,null,null,null,null,null,null,null,0,{"$f":"IFERROR(IF(J165=99,1,IF(MATCH(J165&\"/\"&L165,読み替え表_食品ロス!$P$29:$P$42,0),1,0)),0)","v":0},"*"]
[null,null,156,null,null,null,null,null,null,null,null,null,null,null,null,null,null,null,null,null,null,null,null,null,null,0,{"$f":"IFERROR(IF(J166=99,1,IF(MATCH(J166&\"/\"&L166,読み替え表_食品ロス!$P$29:$P$42,0),1,0)),0)","v":0},"*"]
[null,null,157,null,null,null,null,null,null,null,null,null,null,null,null,null,null,null,null,null,null,null,null,null,null,0,{"$f":"IFERROR(IF(J167=99,1,IF(MATCH(J167&\"/\"&L167,読み替え表_食品ロス!$P$29:$P$42,0),1,0)),0)","v":0},"*"]
[null,null,158,null,null,null,null,null,null,null,null,null,null,null,null,null,null,null,null,null,null,null,null,null,null,0,{"$f":"IFERROR(IF(J168=99,1,IF(MATCH(J168&\"/\"&L168,読み替え表_食品ロス!$P$29:$P$42,0),1,0)),0)","v":0},"*"]
[null,null,159,null,null,null,null,null,null,null,null,null,null,null,null,null,null,null,null,null,null,null,null,null,null,0,{"$f":"IFERROR(IF(J169=99,1,IF(MATCH(J169&\"/\"&L169,読み替え表_食品ロス!$P$29:$P$42,0),1,0)),0)","v":0},"*"]
[null,null,160,null,null,null,null,null,null,null,null,null,null,null,null,null,null,null,null,null,null,null,null,null,null,0,{"$f":"IFERROR(IF(J170=99,1,IF(MATCH(J170&\"/\"&L170,読み替え表_食品ロス!$P$29:$P$42,0),1,0)),0)","v":0},"*"]
[null,null,161,null,null,null,null,null,null,null,null,null,null,null,null,null,null,null,null,null,null,null,null,null,null,0,{"$f":"IFERROR(IF(J171=99,1,IF(MATCH(J171&\"/\"&L171,読み替え表_食品ロス!$P$29:$P$42,0),1,0)),0)","v":0},"*"]
[null,null,162,null,null,null,null,null,null,null,null,null,null,null,null,null,null,null,null,null,null,null,null,null,null,0,{"$f":"IFERROR(IF(J172=99,1,IF(MATCH(J172&\"/\"&L172,読み替え表_食品ロス!$P$29:$P$42,0),1,0)),0)","v":0},"*"]
[null,null,163,null,null,null,null,null,null,null,null,null,null,null,null,null,null,null,null,null,null,null,null,null,null,0,{"$f":"IFERROR(IF(J173=99,1,IF(MATCH(J173&\"/\"&L173,読み替え表_食品ロス!$P$29:$P$42,0),1,0)),0)","v":0},"*"]
[null,null,164,null,null,null,null,null,null,null,null,null,null,null,null,null,null,null,null,null,null,null,null,null,null,0,{"$f":"IFERROR(IF(J174=99,1,IF(MATCH(J174&\"/\"&L174,読み替え表_食品ロス!$P$29:$P$42,0),1,0)),0)","v":0},"*"]
[null,null,165,null,null,null,null,null,null,null,null,null,null,null,null,null,null,null,null,null,null,null,null,null,null,0,{"$f":"IFERROR(IF(J175=99,1,IF(MATCH(J175&\"/\"&L175,読み替え表_食品ロス!$P$29:$P$42,0),1,0)),0)","v":0},"*"]
[null,null,166,null,null,null,null,null,null,null,null,null,null,null,null,null,null,null,null,null,null,null,null,null,null,0,{"$f":"IFERROR(IF(J176=99,1,IF(MATCH(J176&\"/\"&L176,読み替え表_食品ロス!$P$29:$P$42,0),1,0)),0)","v":0},"*"]
[null,null,167,null,null,null,null,null,null,null,null,null,null,null,null,null,null,null,null,null,null,null,null,null,null,0,{"$f":"IFERROR(IF(J177=99,1,IF(MATCH(J177&\"/\"&L177,読み替え表_食品ロス!$P$29:$P$42,0),1,0)),0)","v":0},"*"]
[null,null,168,null,null,null,null,null,null,null,null,null,null,null,null,null,null,null,null,null,null,null,null,null,null,0,{"$f":"IFERROR(IF(J178=99,1,IF(MATCH(J178&\"/\"&L178,読み替え表_食品ロス!$P$29:$P$42,0),1,0)),0)","v":0},"*"]
[null,null,169,null,null,null,null,null,null,null,null,null,null,null,null,null,null,null,null,null,null,null,null,null,null,0,{"$f":"IFERROR(IF(J179=99,1,IF(MATCH(J179&\"/\"&L179,読み替え表_食品ロス!$P$29:$P$42,0),1,0)),0)","v":0},"*"]
[null,null,170,null,null,null,null,null,null,null,null,null,null,null,null,null,null,null,null,null,null,null,null,null,null,0,{"$f":"IFERROR(IF(J180=99,1,IF(MATCH(J180&\"/\"&L180,読み替え表_食品ロス!$P$29:$P$42,0),1,0)),0)","v":0},"*"]
[null,null,171,null,null,null,null,null,null,null,null,null,null,null,null,null,null,null,null,null,null,null,null,null,null,0,{"$f":"IFERROR(IF(J181=99,1,IF(MATCH(J181&\"/\"&L181,読み替え表_食品ロス!$P$29:$P$42,0),1,0)),0)","v":0},"*"]
[null,null,172,null,null,null,null,null,null,null,null,null,null,null,null,null,null,null,null,null,null,null,null,null,null,0,{"$f":"IFERROR(IF(J182=99,1,IF(MATCH(J182&\"/\"&L182,読み替え表_食品ロス!$P$29:$P$42,0),1,0)),0)","v":0},"*"]
[null,null,173,null,null,null,null,null,null,null,null,null,null,null,null,null,null,null,null,null,null,null,null,null,null,0,{"$f":"IFERROR(IF(J183=99,1,IF(MATCH(J183&\"/\"&L183,読み替え表_食品ロス!$P$29:$P$42,0),1,0)),0)","v":0},"*"]
[null,null,174,null,null,null,null,null,null,null,null,null,null,null,null,null,null,null,null,null,null,null,null,null,null,0,{"$f":"IFERROR(IF(J184=99,1,IF(MATCH(J184&\"/\"&L184,読み替え表_食品ロス!$P$29:$P$42,0),1,0)),0)","v":0},"*"]
[null,null,175,null,null,null,null,null,null,null,null,null,null,null,null,null,null,null,null,null,null,null,null,null,null,0,{"$f":"IFERROR(IF(J185=99,1,IF(MATCH(J185&\"/\"&L185,読み替え表_食品ロス!$P$29:$P$42,0),1,0)),0)","v":0},"*"]
[null,null,176,null,null,null,null,null,null,null,null,null,null,null,null,null,null,null,null,null,null,null,null,null,null,0,{"$f":"IFERROR(IF(J186=99,1,IF(MATCH(J186&\"/\"&L186,読み替え表_食品ロス!$P$29:$P$42,0),1,0)),0)","v":0},"*"]
[null,null,177,null,null,null,null,null,null,null,null,null,null,null,null,null,null,null,null,null,null,null,null,null,null,0,{"$f":"IFERROR(IF(J187=99,1,IF(MATCH(J187&\"/\"&L187,読み替え表_食品ロス!$P$29:$P$42,0),1,0)),0)","v":0},"*"]
[null,null,178,null,null,null,null,null,null,null,null,null,null,null,null,null,null,null,null,null,null,null,null,null,null,0,{"$f":"IFERROR(IF(J188=99,1,IF(MATCH(J188&\"/\"&L188,読み替え表_食品ロス!$P$29:$P$42,0),1,0)),0)","v":0},"*"]
[null,null,179,null,null,null,null,null,null,null,null,null,null,null,null,null,null,null,null,null,null,null,null,null,null,0,{"$f":"IFERROR(IF(J189=99,1,IF(MATCH(J189&\"/\"&L189,読み替え表_食品ロス!$P$29:$P$42,0),1,0)),0)","v":0},"*"]
[null,null,180,null,null,null,null,null,null,null,null,null,null,null,null,null,null,null,null,null,null,null,null,null,null,0,{"$f":"IFERROR(IF(J190=99,1,IF(MATCH(J190&\"/\"&L190,読み替え表_食品ロス!$P$29:$P$42,0),1,0)),0)","v":0},"*"]
[null,null,181,null,null,null,null,null,null,null,null,null,null,null,null,null,null,null,null,null,null,null,null,null,null,0,{"$f":"IFERROR(IF(J191=99,1,IF(MATCH(J191&\"/\"&L191,読み替え表_食品ロス!$P$29:$P$42,0),1,0)),0)","v":0},"*"]
[null,null,182,null,null,null,null,null,null,null,null,null,null,null,null,null,null,null,null,null,null,null,null,null,null,0,{"$f":"IFERROR(IF(J192=99,1,IF(MATCH(J192&\"/\"&L192,読み替え表_食品ロス!$P$29:$P$42,0),1,0)),0)","v":0},"*"]
[null,null,183,null,null,null,null,null,null,null,null,null,null,null,null,null,null,null,null,null,null,null,null,null,null,0,{"$f":"IFERROR(IF(J193=99,1,IF(MATCH(J193&\"/\"&L193,読み替え表_食品ロス!$P$29:$P$42,0),1,0)),0)","v":0},"*"]
[null,null,184,null,null,null,null,null,null,null,null,null,null,null,null,null,null,null,null,null,null,null,null,null,null,0,{"$f":"IFERROR(IF(J194=99,1,IF(MATCH(J194&\"/\"&L194,読み替え表_食品ロス!$P$29:$P$42,0),1,0)),0)","v":0},"*"]
[null,null,185,null,null,null,null,null,null,null,null,null,null,null,null,null,null,null,null,null,null,null,null,null,null,0,{"$f":"IFERROR(IF(J195=99,1,IF(MATCH(J195&\"/\"&L195,読み替え表_食品ロス!$P$29:$P$42,0),1,0)),0)","v":0},"*"]
[null,null,186,null,null,null,null,null,null,null,null,null,null,null,null,null,null,null,null,null,null,null,null,null,null,0,{"$f":"IFERROR(IF(J196=99,1,IF(MATCH(J196&\"/\"&L196,読み替え表_食品ロス!$P$29:$P$42,0),1,0)),0)","v":0},"*"]
[null,null,187,null,null,null,null,null,null,null,null,null,null,null,null,null,null,null,null,null,null,null,null,null,null,0,{"$f":"IFERROR(IF(J197=99,1,IF(MATCH(J197&\"/\"&L197,読み替え表_食品ロス!$P$29:$P$42,0),1,0)),0)","v":0},"*"]
[null,null,188,null,null,null,null,null,null,null,null,null,null,null,null,null,null,null,null,null,null,null,null,null,null,0,{"$f":"IFERROR(IF(J198=99,1,IF(MATCH(J198&\"/\"&L198,読み替え表_食品ロス!$P$29:$P$42,0),1,0)),0)","v":0},"*"]
[null,null,189,null,null,null,null,null,null,null,null,null,null,null,null,null,null,null,null,null,null,null,null,null,null,0,{"$f":"IFERROR(IF(J199=99,1,IF(MATCH(J199&\"/\"&L199,読み替え表_食品ロス!$P$29:$P$42,0),1,0)),0)","v":0},"*"]
[null,null,190,null,null,null,null,null,null,null,null,null,null,null,null,null,null,null,null,null,null,null,null,null,null,0,{"$f":"IFERROR(IF(J200=99,1,IF(MATCH(J200&\"/\"&L200,読み替え表_食品ロス!$P$29:$P$42,0),1,0)),0)","v":0},"*"]
[null,null,191,null,null,null,null,null,null,null,null,null,null,null,null,null,null,null,null,null,null,null,null,null,null,0,{"$f":"IFERROR(IF(J201=99,1,IF(MATCH(J201&\"/\"&L201,読み替え表_食品ロス!$P$29:$P$42,0),1,0)),0)","v":0},"*"]
[null,null,192,null,null,null,null,null,null,null,null,null,null,null,null,null,null,null,null,null,null,null,null,null,null,0,{"$f":"IFERROR(IF(J202=99,1,IF(MATCH(J202&\"/\"&L202,読み替え表_食品ロス!$P$29:$P$42,0),1,0)),0)","v":0},"*"]
[null,null,193,null,null,null,null,null,null,null,null,null,null,null,null,null,null,null,null,null,null,null,null,null,null,0,{"$f":"IFERROR(IF(J203=99,1,IF(MATCH(J203&\"/\"&L203,読み替え表_食品ロス!$P$29:$P$42,0),1,0)),0)","v":0},"*"]
[null,null,{"$f":"ROW()-10","v":194},null,null,null,null,null,null,null,null,null,null,null,null,null,null,null,null,null,null,null,null,null,null,{"$f":"IF(OR(L204=1,L204=2,L204=3),1,0)","v":0},{"$f":"IFERROR(IF(J204=99,1,IF(MATCH(J204&\"/\"&L204,読み替え表_食品ロス!$P$29:$P$42,0),1,0)),0)","v":0},"*"]
[null,null,195,null,null,null,null,null,null,null,null,null,null,null,null,null,null,null,null,null,null,null,null,null,null,0,{"$f":"IFERROR(IF(J205=99,1,IF(MATCH(J205&\"/\"&L205,読み替え表_食品ロス!$P$29:$P$42,0),1,0)),0)","v":0},"*"]
[null,null,196,null,null,null,null,null,null,null,null,null,null,null,null,null,null,null,null,null,null,null,null,null,null,0,{"$f":"IFERROR(IF(J206=99,1,IF(MATCH(J206&\"/\"&L206,読み替え表_食品ロス!$P$29:$P$42,0),1,0)),0)","v":0},"*"]
[null,null,197,null,null,null,null,null,null,null,null,null,null,null,null,null,null,null,null,null,null,null,null,null,null,0,{"$f":"IFERROR(IF(J207=99,1,IF(MATCH(J207&\"/\"&L207,読み替え表_食品ロス!$P$29:$P$42,0),1,0)),0)","v":0},"*"]
[null,null,198,null,null,null,null,null,null,null,null,null,null,null,null,null,null,null,null,null,null,null,null,null,null,0,{"$f":"IFERROR(IF(J208=99,1,IF(MATCH(J208&\"/\"&L208,読み替え表_食品ロス!$P$29:$P$42,0),1,0)),0)","v":0},"*"]
[null,null,199,null,null,null,null,null,null,null,null,null,null,null,null,null,null,null,null,null,null,null,null,null,null,0,{"$f":"IFERROR(IF(J209=99,1,IF(MATCH(J209&\"/\"&L209,読み替え表_食品ロス!$P$29:$P$42,0),1,0)),0)","v":0},"*"]
[null,null,200,null,null,null,null,null,null,null,null,null,null,null,null,null,null,null,null,null,null,null,null,null,null,0,{"$f":"IFERROR(IF(J210=99,1,IF(MATCH(J210&\"/\"&L210,読み替え表_食品ロス!$P$29:$P$42,0),1,0)),0)","v":0},"*"]
[null,null,201,null,null,null,null,null,null,null,null,null,null,null,null,null,null,null,null,null,null,null,null,null,null,0,{"$f":"IFERROR(IF(J211=99,1,IF(MATCH(J211&\"/\"&L211,読み替え表_食品ロス!$P$29:$P$42,0),1,0)),0)","v":0},"*"]
[null,null,202,null,null,null,null,null,null,null,null,null,null,null,null,null,null,null,null,null,null,null,null,null,null,0,{"$f":"IFERROR(IF(J212=99,1,IF(MATCH(J212&\"/\"&L212,読み替え表_食品ロス!$P$29:$P$42,0),1,0)),0)","v":0},"*"]
[null,null,203,null,null,null,null,null,null,null,null,null,null,null,null,null,null,null,null,null,null,null,null,null,null,0,{"$f":"IFERROR(IF(J213=99,1,IF(MATCH(J213&\"/\"&L213,読み替え表_食品ロス!$P$29:$P$42,0),1,0)),0)","v":0},"*"]
[null,null,204,null,null,null,null,null,null,null,null,null,null,null,null,null,null,null,null,null,null,null,null,null,null,0,{"$f":"IFERROR(IF(J214=99,1,IF(MATCH(J214&\"/\"&L214,読み替え表_食品ロス!$P$29:$P$42,0),1,0)),0)","v":0},"*"]
[null,null,205,null,null,null,null,null,null,null,null,null,null,null,null,null,null,null,null,null,null,null,null,null,null,0,{"$f":"IFERROR(IF(J215=99,1,IF(MATCH(J215&\"/\"&L215,読み替え表_食品ロス!$P$29:$P$42,0),1,0)),0)","v":0},"*"]
[null,null,206,null,null,null,null,null,null,null,null,null,null,null,null,null,null,null,null,null,null,null,null,null,null,0,{"$f":"IFERROR(IF(J216=99,1,IF(MATCH(J216&\"/\"&L216,読み替え表_食品ロス!$P$29:$P$42,0),1,0)),0)","v":0},"*"]
[null,null,207,null,null,null,null,null,null,null,null,null,null,null,null,null,null,null,null,null,null,null,null,null,null,0,{"$f":"IFERROR(IF(J217=99,1,IF(MATCH(J217&\"/\"&L217,読み替え表_食品ロス!$P$29:$P$42,0),1,0)),0)","v":0},"*"]
[null,null,208,null,null,null,null,null,null,null,null,null,null,null,null,null,null,null,null,null,null,null,null,null,null,0,{"$f":"IFERROR(IF(J218=99,1,IF(MATCH(J218&\"/\"&L218,読み替え表_食品ロス!$P$29:$P$42,0),1,0)),0)","v":0},"*"]
[null,null,209,null,null,null,null,null,null,null,null,null,null,null,null,null,null,null,null,null,null,null,null,null,null,0,{"$f":"IFERROR(IF(J219=99,1,IF(MATCH(J219&\"/\"&L219,読み替え表_食品ロス!$P$29:$P$42,0),1,0)),0)","v":0},"*"]
[null,null,210,null,null,null,null,null,null,null,null,null,null,null,null,null,null,null,null,null,null,null,null,null,null,0,{"$f":"IFERROR(IF(J220=99,1,IF(MATCH(J220&\"/\"&L220,読み替え表_食品ロス!$P$29:$P$42,0),1,0)),0)","v":0},"*"]
[null,null,211,null,null,null,null,null,null,null,null,null,null,null,null,null,null,null,null,null,null,null,null,null,null,0,{"$f":"IFERROR(IF(J221=99,1,IF(MATCH(J221&\"/\"&L221,読み替え表_食品ロス!$P$29:$P$42,0),1,0)),0)","v":0},"*"]
[null,null,212,null,null,null,null,null,null,null,null,null,null,null,null,null,null,null,null,null,null,null,null,null,null,0,{"$f":"IFERROR(IF(J222=99,1,IF(MATCH(J222&\"/\"&L222,読み替え表_食品ロス!$P$29:$P$42,0),1,0)),0)","v":0},"*"]
[null,null,213,null,null,null,null,null,null,null,null,null,null,null,null,null,null,null,null,null,null,null,null,null,null,0,{"$f":"IFERROR(IF(J223=99,1,IF(MATCH(J223&\"/\"&L223,読み替え表_食品ロス!$P$29:$P$42,0),1,0)),0)","v":0},"*"]
[null,null,214,null,null,null,null,null,null,null,null,null,null,null,null,null,null,null,null,null,null,null,null,null,null,0,{"$f":"IFERROR(IF(J224=99,1,IF(MATCH(J224&\"/\"&L224,読み替え表_食品ロス!$P$29:$P$42,0),1,0)),0)","v":0},"*"]
[null,null,215,null,null,null,null,null,null,null,null,null,null,null,null,null,null,null,null,null,null,null,null,null,null,0,{"$f":"IFERROR(IF(J225=99,1,IF(MATCH(J225&\"/\"&L225,読み替え表_食品ロス!$P$29:$P$42,0),1,0)),0)","v":0},"*"]
[null,null,216,null,null,null,null,null,null,null,null,null,null,null,null,null,null,null,null,null,null,null,null,null,null,0,{"$f":"IFERROR(IF(J226=99,1,IF(MATCH(J226&\"/\"&L226,読み替え表_食品ロス!$P$29:$P$42,0),1,0)),0)","v":0},"*"]
[null,null,217,null,null,null,null,null,null,null,null,null,null,null,null,null,null,null,null,null,null,null,null,null,null,0,{"$f":"IFERROR(IF(J227=99,1,IF(MATCH(J227&\"/\"&L227,読み替え表_食品ロス!$P$29:$P$42,0),1,0)),0)","v":0},"*"]
[null,null,218,null,null,null,null,null,null,null,null,null,null,null,null,null,null,null,null,null,null,null,null,null,null,0,{"$f":"IFERROR(IF(J228=99,1,IF(MATCH(J228&\"/\"&L228,読み替え表_食品ロス!$P$29:$P$42,0),1,0)),0)","v":0},"*"]
[null,null,219,null,null,null,null,null,null,null,null,null,null,null,null,null,null,null,null,null,null,null,null,null,null,0,{"$f":"IFERROR(IF(J229=99,1,IF(MATCH(J229&\"/\"&L229,読み替え表_食品ロス!$P$29:$P$42,0),1,0)),0)","v":0},"*"]
[null,null,220,null,null,null,null,null,null,null,null,null,null,null,null,null,null,null,null,null,null,null,null,null,null,0,{"$f":"IFERROR(IF(J230=99,1,IF(MATCH(J230&\"/\"&L230,読み替え表_食品ロス!$P$29:$P$42,0),1,0)),0)","v":0},"*"]
[null,null,221,null,null,null,null,null,null,null,null,null,null,null,null,null,null,null,null,null,null,null,null,null,null,0,{"$f":"IFERROR(IF(J231=99,1,IF(MATCH(J231&\"/\"&L231,読み替え表_食品ロス!$P$29:$P$42,0),1,0)),0)","v":0},"*"]
[null,null,222,null,null,null,null,null,null,null,null,null,null,null,null,null,null,null,null,null,null,null,null,null,null,0,{"$f":"IFERROR(IF(J232=99,1,IF(MATCH(J232&\"/\"&L232,読み替え表_食品ロス!$P$29:$P$42,0),1,0)),0)","v":0},"*"]
[null,null,223,null,null,null,null,null,null,null,null,null,null,null,null,null,null,null,null,null,null,null,null,null,null,0,{"$f":"IFERROR(IF(J233=99,1,IF(MATCH(J233&\"/\"&L233,読み替え表_食品ロス!$P$29:$P$42,0),1,0)),0)","v":0},"*"]
[null,null,224,null,null,null,null,null,null,null,null,null,null,null,null,null,null,null,null,null,null,null,null,null,null,0,{"$f":"IFERROR(IF(J234=99,1,IF(MATCH(J234&\"/\"&L234,読み替え表_食品ロス!$P$29:$P$42,0),1,0)),0)","v":0},"*"]
[null,null,225,null,null,null,null,null,null,null,null,null,null,null,null,null,null,null,null,null,null,null,null,null,null,0,{"$f":"IFERROR(IF(J235=99,1,IF(MATCH(J235&\"/\"&L235,読み替え表_食品ロス!$P$29:$P$42,0),1,0)),0)","v":0},"*"]
[null,null,226,null,null,null,null,null,null,null,null,null,null,null,null,null,null,null,null,null,null,null,null,null,null,0,{"$f":"IFERROR(IF(J236=99,1,IF(MATCH(J236&\"/\"&L236,読み替え表_食品ロス!$P$29:$P$42,0),1,0)),0)","v":0},"*"]
[null,null,227,null,null,null,null,null,null,null,null,null,null,null,null,null,null,null,null,null,null,null,null,null,null,0,{"$f":"IFERROR(IF(J237=99,1,IF(MATCH(J237&\"/\"&L237,読み替え表_食品ロス!$P$29:$P$42,0),1,0)),0)","v":0},"*"]
[null,null,228,null,null,null,null,null,null,null,null,null,null,null,null,null,null,null,null,null,null,null,null,null,null,0,{"$f":"IFERROR(IF(J238=99,1,IF(MATCH(J238&\"/\"&L238,読み替え表_食品ロス!$P$29:$P$42,0),1,0)),0)","v":0},"*"]
[null,null,229,null,null,null,null,null,null,null,null,null,null,null,null,null,null,null,null,null,null,null,null,null,null,0,{"$f":"IFERROR(IF(J239=99,1,IF(MATCH(J239&\"/\"&L239,読み替え表_食品ロス!$P$29:$P$42,0),1,0)),0)","v":0},"*"]
[null,null,230,null,null,null,null,null,null,null,null,null,null,null,null,null,null,null,null,null,null,null,null,null,null,0,{"$f":"IFERROR(IF(J240=99,1,IF(MATCH(J240&\"/\"&L240,読み替え表_食品ロス!$P$29:$P$42,0),1,0)),0)","v":0},"*"]
[null,null,231,null,null,null,null,null,null,null,null,null,null,null,null,null,null,null,null,null,null,null,null,null,null,0,{"$f":"IFERROR(IF(J241=99,1,IF(MATCH(J241&\"/\"&L241,読み替え表_食品ロス!$P$29:$P$42,0),1,0)),0)","v":0},"*"]
[null,null,232,null,null,null,null,null,null,null,null,null,null,null,null,null,null,null,null,null,null,null,null,null,null,0,{"$f":"IFERROR(IF(J242=99,1,IF(MATCH(J242&\"/\"&L242,読み替え表_食品ロス!$P$29:$P$42,0),1,0)),0)","v":0},"*"]
[null,null,233,null,null,null,null,null,null,null,null,null,null,null,null,null,null,null,null,null,null,null,null,null,null,0,{"$f":"IFERROR(IF(J243=99,1,IF(MATCH(J243&\"/\"&L243,読み替え表_食品ロス!$P$29:$P$42,0),1,0)),0)","v":0},"*"]
[null,null,234,null,null,null,null,null,null,null,null,null,null,null,null,null,null,null,null,null,null,null,null,null,null,0,{"$f":"IFERROR(IF(J244=99,1,IF(MATCH(J244&\"/\"&L244,読み替え表_食品ロス!$P$29:$P$42,0),1,0)),0)","v":0},"*"]
[null,null,235,null,null,null,null,null,null,null,null,null,null,null,null,null,null,null,null,null,null,null,null,null,null,0,{"$f":"IFERROR(IF(J245=99,1,IF(MATCH(J245&\"/\"&L245,読み替え表_食品ロス!$P$29:$P$42,0),1,0)),0)","v":0},"*"]
[null,null,236,null,null,null,null,null,null,null,null,null,null,null,null,null,null,null,null,null,null,null,null,null,null,0,{"$f":"IFERROR(IF(J246=99,1,IF(MATCH(J246&\"/\"&L246,読み替え表_食品ロス!$P$29:$P$42,0),1,0)),0)","v":0},"*"]
[null,null,237,null,null,null,null,null,null,null,null,null,null,null,null,null,null,null,null,null,null,null,null,null,null,0,{"$f":"IFERROR(IF(J247=99,1,IF(MATCH(J247&\"/\"&L247,読み替え表_食品ロス!$P$29:$P$42,0),1,0)),0)","v":0},"*"]
[null,null,238,null,null,null,null,null,null,null,null,null,null,null,null,null,null,null,null,null,null,null,null,null,null,0,{"$f":"IFERROR(IF(J248=99,1,IF(MATCH(J248&\"/\"&L248,読み替え表_食品ロス!$P$29:$P$42,0),1,0)),0)","v":0},"*"]
[null,null,239,null,null,null,null,null,null,null,null,null,null,null,null,null,null,null,null,null,null,null,null,null,null,0,{"$f":"IFERROR(IF(J249=99,1,IF(MATCH(J249&\"/\"&L249,読み替え表_食品ロス!$P$29:$P$42,0),1,0)),0)","v":0},"*"]
[null,null,240,null,null,null,null,null,null,null,null,null,null,null,null,null,null,null,null,null,null,null,null,null,null,0,{"$f":"IFERROR(IF(J250=99,1,IF(MATCH(J250&\"/\"&L250,読み替え表_食品ロス!$P$29:$P$42,0),1,0)),0)","v":0},"*"]
[null,null,241,null,null,null,null,null,null,null,null,null,null,null,null,null,null,null,null,null,null,null,null,null,null,0,{"$f":"IFERROR(IF(J251=99,1,IF(MATCH(J251&\"/\"&L251,読み替え表_食品ロス!$P$29:$P$42,0),1,0)),0)","v":0},"*"]
[null,null,242,null,null,null,null,null,null,null,null,null,null,null,null,null,null,null,null,null,null,null,null,null,null,0,{"$f":"IFERROR(IF(J252=99,1,IF(MATCH(J252&\"/\"&L252,読み替え表_食品ロス!$P$29:$P$42,0),1,0)),0)","v":0},"*"]
[null,null,243,null,null,null,null,null,null,null,null,null,null,null,null,null,null,null,null,null,null,null,null,null,null,0,{"$f":"IFERROR(IF(J253=99,1,IF(MATCH(J253&\"/\"&L253,読み替え表_食品ロス!$P$29:$P$42,0),1,0)),0)","v":0},"*"]
[null,null,244,null,null,null,null,null,null,null,null,null,null,null,null,null,null,null,null,null,null,null,null,null,null,0,{"$f":"IFERROR(IF(J254=99,1,IF(MATCH(J254&\"/\"&L254,読み替え表_食品ロス!$P$29:$P$42,0),1,0)),0)","v":0},"*"]
[null,null,245,null,null,null,null,null,null,null,null,null,null,null,null,null,null,null,null,null,null,null,null,null,null,0,{"$f":"IFERROR(IF(J255=99,1,IF(MATCH(J255&\"/\"&L255,読み替え表_食品ロス!$P$29:$P$42,0),1,0)),0)","v":0},"*"]
[null,null,246,null,null,null,null,null,null,null,null,null,null,null,null,null,null,null,null,null,null,null,null,null,null,0,{"$f":"IFERROR(IF(J256=99,1,IF(MATCH(J256&\"/\"&L256,読み替え表_食品ロス!$P$29:$P$42,0),1,0)),0)","v":0},"*"]
[null,null,247,null,null,null,null,null,null,null,null,null,null,null,null,null,null,null,null,null,null,null,null,null,null,0,{"$f":"IFERROR(IF(J257=99,1,IF(MATCH(J257&\"/\"&L257,読み替え表_食品ロス!$P$29:$P$42,0),1,0)),0)","v":0},"*"]
[null,null,248,null,null,null,null,null,null,null,null,null,null,null,null,null,null,null,null,null,null,null,null,null,null,0,{"$f":"IFERROR(IF(J258=99,1,IF(MATCH(J258&\"/\"&L258,読み替え表_食品ロス!$P$29:$P$42,0),1,0)),0)","v":0},"*"]
[null,null,249,null,null,null,null,null,null,null,null,null,null,null,null,null,null,null,null,null,null,null,null,null,null,0,{"$f":"IFERROR(IF(J259=99,1,IF(MATCH(J259&\"/\"&L259,読み替え表_食品ロス!$P$29:$P$42,0),1,0)),0)","v":0},"*"]
[null,null,250,null,null,null,null,null,null,null,null,null,null,null,null,null,null,null,null,null,null,null,null,null,null,0,{"$f":"IFERROR(IF(J260=99,1,IF(MATCH(J260&\"/\"&L260,読み替え表_食品ロス!$P$29:$P$42,0),1,0)),0)","v":0},"*"]
[null,null,251,null,null,null,null,null,null,null,null,null,null,null,null,null,null,null,null,null,null,null,null,null,null,0,{"$f":"IFERROR(IF(J261=99,1,IF(MATCH(J261&\"/\"&L261,読み替え表_食品ロス!$P$29:$P$42,0),1,0)),0)","v":0},"*"]
[null,null,252,null,null,null,null,null,null,null,null,null,null,null,null,null,null,null,null,null,null,null,null,null,null,0,{"$f":"IFERROR(IF(J262=99,1,IF(MATCH(J262&\"/\"&L262,読み替え表_食品ロス!$P$29:$P$42,0),1,0)),0)","v":0},"*"]
[null,null,253,null,null,null,null,null,null,null,null,null,null,null,null,null,null,null,null,null,null,null,null,null,null,0,{"$f":"IFERROR(IF(J263=99,1,IF(MATCH(J263&\"/\"&L263,読み替え表_食品ロス!$P$29:$P$42,0),1,0)),0)","v":0},"*"]
[null,null,254,null,null,null,null,null,null,null,null,null,null,null,null,null,null,null,null,null,null,null,null,null,null,0,{"$f":"IFERROR(IF(J264=99,1,IF(MATCH(J264&\"/\"&L264,読み替え表_食品ロス!$P$29:$P$42,0),1,0)),0)","v":0},"*"]
[null,null,255,null,null,null,null,null,null,null,null,null,null,null,null,null,null,null,null,null,null,null,null,null,null,0,{"$f":"IFERROR(IF(J265=99,1,IF(MATCH(J265&\"/\"&L265,読み替え表_食品ロス!$P$29:$P$42,0),1,0)),0)","v":0},"*"]
[null,null,256,null,null,null,null,null,null,null,null,null,null,null,null,null,null,null,null,null,null,null,null,null,null,0,{"$f":"IFERROR(IF(J266=99,1,IF(MATCH(J266&\"/\"&L266,読み替え表_食品ロス!$P$29:$P$42,0),1,0)),0)","v":0},"*"]
[null,null,257,null,null,null,null,null,null,null,null,null,null,null,null,null,null,null,null,null,null,null,null,null,null,0,{"$f":"IFERROR(IF(J267=99,1,IF(MATCH(J267&\"/\"&L267,読み替え表_食品ロス!$P$29:$P$42,0),1,0)),0)","v":0},"*"]
[null,null,{"$f":"ROW()-10","v":258},null,null,null,null,null,null,null,null,null,null,null,null,null,null,null,null,null,null,null,null,null,null,{"$f":"IF(OR(L268=1,L268=2,L268=3),1,0)","v":0},{"$f":"IFERROR(IF(J268=99,1,IF(MATCH(J268&\"/\"&L268,読み替え表_食品ロス!$P$29:$P$42,0),1,0)),0)","v":0},"*"]
[null,null,259,null,null,null,null,null,null,null,null,null,null,null,null,null,null,null,null,null,null,null,null,null,null,0,{"$f":"IFERROR(IF(J269=99,1,IF(MATCH(J269&\"/\"&L269,読み替え表_食品ロス!$P$29:$P$42,0),1,0)),0)","v":0},"*"]
[null,null,260,null,null,null,null,null,null,null,null,null,null,null,null,null,null,null,null,null,null,null,null,null,null,0,{"$f":"IFERROR(IF(J270=99,1,IF(MATCH(J270&\"/\"&L270,読み替え表_食品ロス!$P$29:$P$42,0),1,0)),0)","v":0},"*"]
[null,null,261,null,null,null,null,null,null,null,null,null,null,null,null,null,null,null,null,null,null,null,null,null,null,0,{"$f":"IFERROR(IF(J271=99,1,IF(MATCH(J271&\"/\"&L271,読み替え表_食品ロス!$P$29:$P$42,0),1,0)),0)","v":0},"*"]
[null,null,262,null,null,null,null,null,null,null,null,null,null,null,null,null,null,null,null,null,null,null,null,null,null,0,{"$f":"IFERROR(IF(J272=99,1,IF(MATCH(J272&\"/\"&L272,読み替え表_食品ロス!$P$29:$P$42,0),1,0)),0)","v":0},"*"]
[null,null,263,null,null,null,null,null,null,null,null,null,null,null,null,null,null,null,null,null,null,null,null,null,null,0,{"$f":"IFERROR(IF(J273=99,1,IF(MATCH(J273&\"/\"&L273,読み替え表_食品ロス!$P$29:$P$42,0),1,0)),0)","v":0},"*"]
[null,null,264,null,null,null,null,null,null,null,null,null,null,null,null,null,null,null,null,null,null,null,null,null,null,0,{"$f":"IFERROR(IF(J274=99,1,IF(MATCH(J274&\"/\"&L274,読み替え表_食品ロス!$P$29:$P$42,0),1,0)),0)","v":0},"*"]
[null,null,265,null,null,null,null,null,null,null,null,null,null,null,null,null,null,null,null,null,null,null,null,null,null,0,{"$f":"IFERROR(IF(J275=99,1,IF(MATCH(J275&\"/\"&L275,読み替え表_食品ロス!$P$29:$P$42,0),1,0)),0)","v":0},"*"]
[null,null,266,null,null,null,null,null,null,null,null,null,null,null,null,null,null,null,null,null,null,null,null,null,null,0,{"$f":"IFERROR(IF(J276=99,1,IF(MATCH(J276&\"/\"&L276,読み替え表_食品ロス!$P$29:$P$42,0),1,0)),0)","v":0},"*"]
[null,null,267,null,null,null,null,null,null,null,null,null,null,null,null,null,null,null,null,null,null,null,null,null,null,0,{"$f":"IFERROR(IF(J277=99,1,IF(MATCH(J277&\"/\"&L277,読み替え表_食品ロス!$P$29:$P$42,0),1,0)),0)","v":0},"*"]
[null,null,268,null,null,null,null,null,null,null,null,null,null,null,null,null,null,null,null,null,null,null,null,null,null,0,{"$f":"IFERROR(IF(J278=99,1,IF(MATCH(J278&\"/\"&L278,読み替え表_食品ロス!$P$29:$P$42,0),1,0)),0)","v":0},"*"]
[null,null,269,null,null,null,null,null,null,null,null,null,null,null,null,null,null,null,null,null,null,null,null,null,null,0,{"$f":"IFERROR(IF(J279=99,1,IF(MATCH(J279&\"/\"&L279,読み替え表_食品ロス!$P$29:$P$42,0),1,0)),0)","v":0},"*"]
[null,null,270,null,null,null,null,null,null,null,null,null,null,null,null,null,null,null,null,null,null,null,null,null,null,0,{"$f":"IFERROR(IF(J280=99,1,IF(MATCH(J280&\"/\"&L280,読み替え表_食品ロス!$P$29:$P$42,0),1,0)),0)","v":0},"*"]
[null,null,271,null,null,null,null,null,null,null,null,null,null,null,null,null,null,null,null,null,null,null,null,null,null,0,{"$f":"IFERROR(IF(J281=99,1,IF(MATCH(J281&\"/\"&L281,読み替え表_食品ロス!$P$29:$P$42,0),1,0)),0)","v":0},"*"]
[null,null,272,null,null,null,null,null,null,null,null,null,null,null,null,null,null,null,null,null,null,null,null,null,null,0,{"$f":"IFERROR(IF(J282=99,1,IF(MATCH(J282&\"/\"&L282,読み替え表_食品ロス!$P$29:$P$42,0),1,0)),0)","v":0},"*"]
[null,null,273,null,null,null,null,null,null,null,null,null,null,null,null,null,null,null,null,null,null,null,null,null,null,0,{"$f":"IFERROR(IF(J283=99,1,IF(MATCH(J283&\"/\"&L283,読み替え表_食品ロス!$P$29:$P$42,0),1,0)),0)","v":0},"*"]
[null,null,274,null,null,null,null,null,null,null,null,null,null,null,null,null,null,null,null,null,null,null,null,null,null,0,{"$f":"IFERROR(IF(J284=99,1,IF(MATCH(J284&\"/\"&L284,読み替え表_食品ロス!$P$29:$P$42,0),1,0)),0)","v":0},"*"]
[null,null,275,null,null,null,null,null,null,null,null,null,null,null,null,null,null,null,null,null,null,null,null,null,null,0,{"$f":"IFERROR(IF(J285=99,1,IF(MATCH(J285&\"/\"&L285,読み替え表_食品ロス!$P$29:$P$42,0),1,0)),0)","v":0},"*"]
[null,null,276,null,null,null,null,null,null,null,null,null,null,null,null,null,null,null,null,null,null,null,null,null,null,0,{"$f":"IFERROR(IF(J286=99,1,IF(MATCH(J286&\"/\"&L286,読み替え表_食品ロス!$P$29:$P$42,0),1,0)),0)","v":0},"*"]
[null,null,277,null,null,null,null,null,null,null,null,null,null,null,null,null,null,null,null,null,null,null,null,null,null,0,{"$f":"IFERROR(IF(J287=99,1,IF(MATCH(J287&\"/\"&L287,読み替え表_食品ロス!$P$29:$P$42,0),1,0)),0)","v":0},"*"]
[null,null,278,null,null,null,null,null,null,null,null,null,null,null,null,null,null,null,null,null,null,null,null,null,null,0,{"$f":"IFERROR(IF(J288=99,1,IF(MATCH(J288&\"/\"&L288,読み替え表_食品ロス!$P$29:$P$42,0),1,0)),0)","v":0},"*"]
[null,null,279,null,null,null,null,null,null,null,null,null,null,null,null,null,null,null,null,null,null,null,null,null,null,0,{"$f":"IFERROR(IF(J289=99,1,IF(MATCH(J289&\"/\"&L289,読み替え表_食品ロス!$P$29:$P$42,0),1,0)),0)","v":0},"*"]
[null,null,280,null,null,null,null,null,null,null,null,null,null,null,null,null,null,null,null,null,null,null,null,null,null,0,{"$f":"IFERROR(IF(J290=99,1,IF(MATCH(J290&\"/\"&L290,読み替え表_食品ロス!$P$29:$P$42,0),1,0)),0)","v":0},"*"]
[null,null,281,null,null,null,null,null,null,null,null,null,null,null,null,null,null,null,null,null,null,null,null,null,null,0,{"$f":"IFERROR(IF(J291=99,1,IF(MATCH(J291&\"/\"&L291,読み替え表_食品ロス!$P$29:$P$42,0),1,0)),0)","v":0},"*"]
[null,null,282,null,null,null,null,null,null,null,null,null,null,null,null,null,null,null,null,null,null,null,null,null,null,0,{"$f":"IFERROR(IF(J292=99,1,IF(MATCH(J292&\"/\"&L292,読み替え表_食品ロス!$P$29:$P$42,0),1,0)),0)","v":0},"*"]
[null,null,283,null,null,null,null,null,null,null,null,null,null,null,null,null,null,null,null,null,null,null,null,null,null,0,{"$f":"IFERROR(IF(J293=99,1,IF(MATCH(J293&\"/\"&L293,読み替え表_食品ロス!$P$29:$P$42,0),1,0)),0)","v":0},"*"]
[null,null,284,null,null,null,null,null,null,null,null,null,null,null,null,null,null,null,null,null,null,null,null,null,null,0,{"$f":"IFERROR(IF(J294=99,1,IF(MATCH(J294&\"/\"&L294,読み替え表_食品ロス!$P$29:$P$42,0),1,0)),0)","v":0},"*"]
[null,null,285,null,null,null,null,null,null,null,null,null,null,null,null,null,null,null,null,null,null,null,null,null,null,0,{"$f":"IFERROR(IF(J295=99,1,IF(MATCH(J295&\"/\"&L295,読み替え表_食品ロス!$P$29:$P$42,0),1,0)),0)","v":0},"*"]
[null,null,286,null,null,null,null,null,null,null,null,null,null,null,null,null,null,null,null,null,null,null,null,null,null,0,{"$f":"IFERROR(IF(J296=99,1,IF(MATCH(J296&\"/\"&L296,読み替え表_食品ロス!$P$29:$P$42,0),1,0)),0)","v":0},"*"]
[null,null,287,null,null,null,null,null,null,null,null,null,null,null,null,null,null,null,null,null,null,null,null,null,null,0,{"$f":"IFERROR(IF(J297=99,1,IF(MATCH(J297&\"/\"&L297,読み替え表_食品ロス!$P$29:$P$42,0),1,0)),0)","v":0},"*"]
[null,null,288,null,null,null,null,null,null,null,null,null,null,null,null,null,null,null,null,null,null,null,null,null,null,0,{"$f":"IFERROR(IF(J298=99,1,IF(MATCH(J298&\"/\"&L298,読み替え表_食品ロス!$P$29:$P$42,0),1,0)),0)","v":0},"*"]
[null,null,289,null,null,null,null,null,null,null,null,null,null,null,null,null,null,null,null,null,null,null,null,null,null,0,{"$f":"IFERROR(IF(J299=99,1,IF(MATCH(J299&\"/\"&L299,読み替え表_食品ロス!$P$29:$P$42,0),1,0)),0)","v":0},"*"]
[null,null,290,null,null,null,null,null,null,null,null,null,null,null,null,null,null,null,null,null,null,null,null,null,null,0,{"$f":"IFERROR(IF(J300=99,1,IF(MATCH(J300&\"/\"&L300,読み替え表_食品ロス!$P$29:$P$42,0),1,0)),0)","v":0},"*"]
[null,null,291,null,null,null,null,null,null,null,null,null,null,null,null,null,null,null,null,null,null,null,null,null,null,0,{"$f":"IFERROR(IF(J301=99,1,IF(MATCH(J301&\"/\"&L301,読み替え表_食品ロス!$P$29:$P$42,0),1,0)),0)","v":0},"*"]
[null,null,292,null,null,null,null,null,null,null,null,null,null,null,null,null,null,null,null,null,null,null,null,null,null,0,{"$f":"IFERROR(IF(J302=99,1,IF(MATCH(J302&\"/\"&L302,読み替え表_食品ロス!$P$29:$P$42,0),1,0)),0)","v":0},"*"]
[null,null,293,null,null,null,null,null,null,null,null,null,null,null,null,null,null,null,null,null,null,null,null,null,null,0,{"$f":"IFERROR(IF(J303=99,1,IF(MATCH(J303&\"/\"&L303,読み替え表_食品ロス!$P$29:$P$42,0),1,0)),0)","v":0},"*"]
[null,null,294,null,null,null,null,null,null,null,null,null,null,null,null,null,null,null,null,null,null,null,null,null,null,0,{"$f":"IFERROR(IF(J304=99,1,IF(MATCH(J304&\"/\"&L304,読み替え表_食品ロス!$P$29:$P$42,0),1,0)),0)","v":0},"*"]
[null,null,295,null,null,null,null,null,null,null,null,null,null,null,null,null,null,null,null,null,null,null,null,null,null,0,{"$f":"IFERROR(IF(J305=99,1,IF(MATCH(J305&\"/\"&L305,読み替え表_食品ロス!$P$29:$P$42,0),1,0)),0)","v":0},"*"]
[null,null,296,null,null,null,null,null,null,null,null,null,null,null,null,null,null,null,null,null,null,null,null,null,null,0,{"$f":"IFERROR(IF(J306=99,1,IF(MATCH(J306&\"/\"&L306,読み替え表_食品ロス!$P$29:$P$42,0),1,0)),0)","v":0},"*"]
[null,null,297,null,null,null,null,null,null,null,null,null,null,null,null,null,null,null,null,null,null,null,null,null,null,0,{"$f":"IFERROR(IF(J307=99,1,IF(MATCH(J307&\"/\"&L307,読み替え表_食品ロス!$P$29:$P$42,0),1,0)),0)","v":0},"*"]
[null,null,298,null,null,null,null,null,null,null,null,null,null,null,null,null,null,null,null,null,null,null,null,null,null,0,{"$f":"IFERROR(IF(J308=99,1,IF(MATCH(J308&\"/\"&L308,読み替え表_食品ロス!$P$29:$P$42,0),1,0)),0)","v":0},"*"]
[null,null,299,null,null,null,null,null,null,null,null,null,null,null,null,null,null,null,null,null,null,null,null,null,null,0,{"$f":"IFERROR(IF(J309=99,1,IF(MATCH(J309&\"/\"&L309,読み替え表_食品ロス!$P$29:$P$42,0),1,0)),0)","v":0},"*"]
[null,null,300,null,null,null,null,null,null,null,null,null,null,null,null,null,null,null,null,null,null,null,null,null,null,0,{"$f":"IFERROR(IF(J310=99,1,IF(MATCH(J310&\"/\"&L310,読み替え表_食品ロス!$P$29:$P$42,0),1,0)),0)","v":0},"*"]
[null,null,301,null,null,null,null,null,null,null,null,null,null,null,null,null,null,null,null,null,null,null,null,null,null,0,{"$f":"IFERROR(IF(J311=99,1,IF(MATCH(J311&\"/\"&L311,読み替え表_食品ロス!$P$29:$P$42,0),1,0)),0)","v":0},"*"]
[null,null,302,null,null,null,null,null,null,null,null,null,null,null,null,null,null,null,null,null,null,null,null,null,null,0,{"$f":"IFERROR(IF(J312=99,1,IF(MATCH(J312&\"/\"&L312,読み替え表_食品ロス!$P$29:$P$42,0),1,0)),0)","v":0},"*"]
[null,null,303,null,null,null,null,null,null,null,null,null,null,null,null,null,null,null,null,null,null,null,null,null,null,0,{"$f":"IFERROR(IF(J313=99,1,IF(MATCH(J313&\"/\"&L313,読み替え表_食品ロス!$P$29:$P$42,0),1,0)),0)","v":0},"*"]
[null,null,304,null,null,null,null,null,null,null,null,null,null,null,null,null,null,null,null,null,null,null,null,null,null,0,{"$f":"IFERROR(IF(J314=99,1,IF(MATCH(J314&\"/\"&L314,読み替え表_食品ロス!$P$29:$P$42,0),1,0)),0)","v":0},"*"]
[null,null,305,null,null,null,null,null,null,null,null,null,null,null,null,null,null,null,null,null,null,null,null,null,null,0,{"$f":"IFERROR(IF(J315=99,1,IF(MATCH(J315&\"/\"&L315,読み替え表_食品ロス!$P$29:$P$42,0),1,0)),0)","v":0},"*"]
[null,null,306,null,null,null,null,null,null,null,null,null,null,null,null,null,null,null,null,null,null,null,null,null,null,0,{"$f":"IFERROR(IF(J316=99,1,IF(MATCH(J316&\"/\"&L316,読み替え表_食品ロス!$P$29:$P$42,0),1,0)),0)","v":0},"*"]
[null,null,307,null,null,null,null,null,null,null,null,null,null,null,null,null,null,null,null,null,null,null,null,null,null,0,{"$f":"IFERROR(IF(J317=99,1,IF(MATCH(J317&\"/\"&L317,読み替え表_食品ロス!$P$29:$P$42,0),1,0)),0)","v":0},"*"]
[null,null,308,null,null,null,null,null,null,null,null,null,null,null,null,null,null,null,null,null,null,null,null,null,null,0,{"$f":"IFERROR(IF(J318=99,1,IF(MATCH(J318&\"/\"&L318,読み替え表_食品ロス!$P$29:$P$42,0),1,0)),0)","v":0},"*"]
[null,null,309,null,null,null,null,null,null,null,null,null,null,null,null,null,null,null,null,null,null,null,null,null,null,0,{"$f":"IFERROR(IF(J319=99,1,IF(MATCH(J319&\"/\"&L319,読み替え表_食品ロス!$P$29:$P$42,0),1,0)),0)","v":0},"*"]
[null,null,310,null,null,null,null,null,null,null,null,null,null,null,null,null,null,null,null,null,null,null,null,null,null,0,{"$f":"IFERROR(IF(J320=99,1,IF(MATCH(J320&\"/\"&L320,読み替え表_食品ロス!$P$29:$P$42,0),1,0)),0)","v":0},"*"]
[null,null,311,null,null,null,null,null,null,null,null,null,null,null,null,null,null,null,null,null,null,null,null,null,null,0,{"$f":"IFERROR(IF(J321=99,1,IF(MATCH(J321&\"/\"&L321,読み替え表_食品ロス!$P$29:$P$42,0),1,0)),0)","v":0},"*"]
[null,null,312,null,null,null,null,null,null,null,null,null,null,null,null,null,null,null,null,null,null,null,null,null,null,0,{"$f":"IFERROR(IF(J322=99,1,IF(MATCH(J322&\"/\"&L322,読み替え表_食品ロス!$P$29:$P$42,0),1,0)),0)","v":0},"*"]
[null,null,313,null,null,null,null,null,null,null,null,null,null,null,null,null,null,null,null,null,null,null,null,null,null,0,{"$f":"IFERROR(IF(J323=99,1,IF(MATCH(J323&\"/\"&L323,読み替え表_食品ロス!$P$29:$P$42,0),1,0)),0)","v":0},"*"]
[null,null,314,null,null,null,null,null,null,null,null,null,null,null,null,null,null,null,null,null,null,null,null,null,null,0,{"$f":"IFERROR(IF(J324=99,1,IF(MATCH(J324&\"/\"&L324,読み替え表_食品ロス!$P$29:$P$42,0),1,0)),0)","v":0},"*"]
[null,null,315,null,null,null,null,null,null,null,null,null,null,null,null,null,null,null,null,null,null,null,null,null,null,0,{"$f":"IFERROR(IF(J325=99,1,IF(MATCH(J325&\"/\"&L325,読み替え表_食品ロス!$P$29:$P$42,0),1,0)),0)","v":0},"*"]
[null,null,316,null,null,null,null,null,null,null,null,null,null,null,null,null,null,null,null,null,null,null,null,null,null,0,{"$f":"IFERROR(IF(J326=99,1,IF(MATCH(J326&\"/\"&L326,読み替え表_食品ロス!$P$29:$P$42,0),1,0)),0)","v":0},"*"]
[null,null,317,null,null,null,null,null,null,null,null,null,null,null,null,null,null,null,null,null,null,null,null,null,null,0,{"$f":"IFERROR(IF(J327=99,1,IF(MATCH(J327&\"/\"&L327,読み替え表_食品ロス!$P$29:$P$42,0),1,0)),0)","v":0},"*"]
[null,null,318,null,null,null,null,null,null,null,null,null,null,null,null,null,null,null,null,null,null,null,null,null,null,0,{"$f":"IFERROR(IF(J328=99,1,IF(MATCH(J328&\"/\"&L328,読み替え表_食品ロス!$P$29:$P$42,0),1,0)),0)","v":0},"*"]
[null,null,319,null,null,null,null,null,null,null,null,null,null,null,null,null,null,null,null,null,null,null,null,null,null,0,{"$f":"IFERROR(IF(J329=99,1,IF(MATCH(J329&\"/\"&L329,読み替え表_食品ロス!$P$29:$P$42,0),1,0)),0)","v":0},"*"]
[null,null,320,null,null,null,null,null,null,null,null,null,null,null,null,null,null,null,null,null,null,null,null,null,null,0,{"$f":"IFERROR(IF(J330=99,1,IF(MATCH(J330&\"/\"&L330,読み替え表_食品ロス!$P$29:$P$42,0),1,0)),0)","v":0},"*"]
[null,null,321,null,null,null,null,null,null,null,null,null,null,null,null,null,null,null,null,null,null,null,null,null,null,0,{"$f":"IFERROR(IF(J331=99,1,IF(MATCH(J331&\"/\"&L331,読み替え表_食品ロス!$P$29:$P$42,0),1,0)),0)","v":0},"*"]
[null,null,{"$f":"ROW()-10","v":322},null,null,null,null,null,null,null,null,null,null,null,null,null,null,null,null,null,null,null,null,null,null,{"$f":"IF(OR(L332=1,L332=2,L332=3),1,0)","v":0},{"$f":"IFERROR(IF(J332=99,1,IF(MATCH(J332&\"/\"&L332,読み替え表_食品ロス!$P$29:$P$42,0),1,0)),0)","v":0},"*"]
[null,null,323,null,null,null,null,null,null,null,null,null,null,null,null,null,null,null,null,null,null,null,null,null,null,0,{"$f":"IFERROR(IF(J333=99,1,IF(MATCH(J333&\"/\"&L333,読み替え表_食品ロス!$P$29:$P$42,0),1,0)),0)","v":0},"*"]
[null,null,324,null,null,null,null,null,null,null,null,null,null,null,null,null,null,null,null,null,null,null,null,null,null,0,{"$f":"IFERROR(IF(J334=99,1,IF(MATCH(J334&\"/\"&L334,読み替え表_食品ロス!$P$29:$P$42,0),1,0)),0)","v":0},"*"]
[null,null,325,null,null,null,null,null,null,null,null,null,null,null,null,null,null,null,null,null,null,null,null,null,null,0,{"$f":"IFERROR(IF(J335=99,1,IF(MATCH(J335&\"/\"&L335,読み替え表_食品ロス!$P$29:$P$42,0),1,0)),0)","v":0},"*"]
[null,null,326,null,null,null,null,null,null,null,null,null,null,null,null,null,null,null,null,null,null,null,null,null,null,0,{"$f":"IFERROR(IF(J336=99,1,IF(MATCH(J336&\"/\"&L336,読み替え表_食品ロス!$P$29:$P$42,0),1,0)),0)","v":0},"*"]
[null,null,327,null,null,null,null,null,null,null,null,null,null,null,null,null,null,null,null,null,null,null,null,null,null,0,{"$f":"IFERROR(IF(J337=99,1,IF(MATCH(J337&\"/\"&L337,読み替え表_食品ロス!$P$29:$P$42,0),1,0)),0)","v":0},"*"]
[null,null,328,null,null,null,null,null,null,null,null,null,null,null,null,null,null,null,null,null,null,null,null,null,null,0,{"$f":"IFERROR(IF(J338=99,1,IF(MATCH(J338&\"/\"&L338,読み替え表_食品ロス!$P$29:$P$42,0),1,0)),0)","v":0},"*"]
[null,null,329,null,null,null,null,null,null,null,null,null,null,null,null,null,null,null,null,null,null,null,null,null,null,0,{"$f":"IFERROR(IF(J339=99,1,IF(MATCH(J339&\"/\"&L339,読み替え表_食品ロス!$P$29:$P$42,0),1,0)),0)","v":0},"*"]
[null,null,330,null,null,null,null,null,null,null,null,null,null,null,null,null,null,null,null,null,null,null,null,null,null,0,{"$f":"IFERROR(IF(J340=99,1,IF(MATCH(J340&\"/\"&L340,読み替え表_食品ロス!$P$29:$P$42,0),1,0)),0)","v":0},"*"]
[null,null,331,null,null,null,null,null,null,null,null,null,null,null,null,null,null,null,null,null,null,null,null,null,null,0,{"$f":"IFERROR(IF(J341=99,1,IF(MATCH(J341&\"/\"&L341,読み替え表_食品ロス!$P$29:$P$42,0),1,0)),0)","v":0},"*"]
[null,null,332,null,null,null,null,null,null,null,null,null,null,null,null,null,null,null,null,null,null,null,null,null,null,0,{"$f":"IFERROR(IF(J342=99,1,IF(MATCH(J342&\"/\"&L342,読み替え表_食品ロス!$P$29:$P$42,0),1,0)),0)","v":0},"*"]
[null,null,333,null,null,null,null,null,null,null,null,null,null,null,null,null,null,null,null,null,null,null,null,null,null,0,{"$f":"IFERROR(IF(J343=99,1,IF(MATCH(J343&\"/\"&L343,読み替え表_食品ロス!$P$29:$P$42,0),1,0)),0)","v":0},"*"]
[null,null,334,null,null,null,null,null,null,null,null,null,null,null,null,null,null,null,null,null,null,null,null,null,null,0,{"$f":"IFERROR(IF(J344=99,1,IF(MATCH(J344&\"/\"&L344,読み替え表_食品ロス!$P$29:$P$42,0),1,0)),0)","v":0},"*"]
[null,null,335,null,null,null,null,null,null,null,null,null,null,null,null,null,null,null,null,null,null,null,null,null,null,0,{"$f":"IFERROR(IF(J345=99,1,IF(MATCH(J345&\"/\"&L345,読み替え表_食品ロス!$P$29:$P$42,0),1,0)),0)","v":0},"*"]
[null,null,336,null,null,null,null,null,null,null,null,null,null,null,null,null,null,null,null,null,null,null,null,null,null,0,{"$f":"IFERROR(IF(J346=99,1,IF(MATCH(J346&\"/\"&L346,読み替え表_食品ロス!$P$29:$P$42,0),1,0)),0)","v":0},"*"]
[null,null,337,null,null,null,null,null,null,null,null,null,null,null,null,null,null,null,null,null,null,null,null,null,null,0,{"$f":"IFERROR(IF(J347=99,1,IF(MATCH(J347&\"/\"&L347,読み替え表_食品ロス!$P$29:$P$42,0),1,0)),0)","v":0},"*"]
[null,null,338,null,null,null,null,null,null,null,null,null,null,null,null,null,null,null,null,null,null,null,null,null,null,0,{"$f":"IFERROR(IF(J348=99,1,IF(MATCH(J348&\"/\"&L348,読み替え表_食品ロス!$P$29:$P$42,0),1,0)),0)","v":0},"*"]
[null,null,339,null,null,null,null,null,null,null,null,null,null,null,null,null,null,null,null,null,null,null,null,null,null,0,{"$f":"IFERROR(IF(J349=99,1,IF(MATCH(J349&\"/\"&L349,読み替え表_食品ロス!$P$29:$P$42,0),1,0)),0)","v":0},"*"]
[null,null,340,null,null,null,null,null,null,null,null,null,null,null,null,null,null,null,null,null,null,null,null,null,null,0,{"$f":"IFERROR(IF(J350=99,1,IF(MATCH(J350&\"/\"&L350,読み替え表_食品ロス!$P$29:$P$42,0),1,0)),0)","v":0},"*"]
[null,null,341,null,null,null,null,null,null,null,null,null,null,null,null,null,null,null,null,null,null,null,null,null,null,0,{"$f":"IFERROR(IF(J351=99,1,IF(MATCH(J351&\"/\"&L351,読み替え表_食品ロス!$P$29:$P$42,0),1,0)),0)","v":0},"*"]
[null,null,342,null,null,null,null,null,null,null,null,null,null,null,null,null,null,null,null,null,null,null,null,null,null,0,{"$f":"IFERROR(IF(J352=99,1,IF(MATCH(J352&\"/\"&L352,読み替え表_食品ロス!$P$29:$P$42,0),1,0)),0)","v":0},"*"]
[null,null,343,null,null,null,null,null,null,null,null,null,null,null,null,null,null,null,null,null,null,null,null,null,null,0,{"$f":"IFERROR(IF(J353=99,1,IF(MATCH(J353&\"/\"&L353,読み替え表_食品ロス!$P$29:$P$42,0),1,0)),0)","v":0},"*"]
[null,null,344,null,null,null,null,null,null,null,null,null,null,null,null,null,null,null,null,null,null,null,null,null,null,0,{"$f":"IFERROR(IF(J354=99,1,IF(MATCH(J354&\"/\"&L354,読み替え表_食品ロス!$P$29:$P$42,0),1,0)),0)","v":0},"*"]
[null,null,345,null,null,null,null,null,null,null,null,null,null,null,null,null,null,null,null,null,null,null,null,null,null,0,{"$f":"IFERROR(IF(J355=99,1,IF(MATCH(J355&\"/\"&L355,読み替え表_食品ロス!$P$29:$P$42,0),1,0)),0)","v":0},"*"]
[null,null,346,null,null,null,null,null,null,null,null,null,null,null,null,null,null,null,null,null,null,null,null,null,null,0,{"$f":"IFERROR(IF(J356=99,1,IF(MATCH(J356&\"/\"&L356,読み替え表_食品ロス!$P$29:$P$42,0),1,0)),0)","v":0},"*"]
[null,null,347,null,null,null,null,null,null,null,null,null,null,null,null,null,null,null,null,null,null,null,null,null,null,0,{"$f":"IFERROR(IF(J357=99,1,IF(MATCH(J357&\"/\"&L357,読み替え表_食品ロス!$P$29:$P$42,0),1,0)),0)","v":0},"*"]
[null,null,348,null,null,null,null,null,null,null,null,null,null,null,null,null,null,null,null,null,null,null,null,null,null,0,{"$f":"IFERROR(IF(J358=99,1,IF(MATCH(J358&\"/\"&L358,読み替え表_食品ロス!$P$29:$P$42,0),1,0)),0)","v":0},"*"]
[null,null,349,null,null,null,null,null,null,null,null,null,null,null,null,null,null,null,null,null,null,null,null,null,null,0,{"$f":"IFERROR(IF(J359=99,1,IF(MATCH(J359&\"/\"&L359,読み替え表_食品ロス!$P$29:$P$42,0),1,0)),0)","v":0},"*"]
[null,null,350,null,null,null,null,null,null,null,null,null,null,null,null,null,null,null,null,null,null,null,null,null,null,0,{"$f":"IFERROR(IF(J360=99,1,IF(MATCH(J360&\"/\"&L360,読み替え表_食品ロス!$P$29:$P$42,0),1,0)),0)","v":0},"*"]
[null,null,351,null,null,null,null,null,null,null,null,null,null,null,null,null,null,null,null,null,null,null,null,null,null,0,{"$f":"IFERROR(IF(J361=99,1,IF(MATCH(J361&\"/\"&L361,読み替え表_食品ロス!$P$29:$P$42,0),1,0)),0)","v":0},"*"]
[null,null,352,null,null,null,null,null,null,null,null,null,null,null,null,null,null,null,null,null,null,null,null,null,null,0,{"$f":"IFERROR(IF(J362=99,1,IF(MATCH(J362&\"/\"&L362,読み替え表_食品ロス!$P$29:$P$42,0),1,0)),0)","v":0},"*"]
[null,null,353,null,null,null,null,null,null,null,null,null,null,null,null,null,null,null,null,null,null,null,null,null,null,0,{"$f":"IFERROR(IF(J363=99,1,IF(MATCH(J363&\"/\"&L363,読み替え表_食品ロス!$P$29:$P$42,0),1,0)),0)","v":0},"*"]
[null,null,354,null,null,null,null,null,null,null,null,null,null,null,null,null,null,null,null,null,null,null,null,null,null,0,{"$f":"IFERROR(IF(J364=99,1,IF(MATCH(J364&\"/\"&L364,読み替え表_食品ロス!$P$29:$P$42,0),1,0)),0)","v":0},"*"]
[null,null,355,null,null,null,null,null,null,null,null,null,null,null,null,null,null,null,null,null,null,null,null,null,null,0,{"$f":"IFERROR(IF(J365=99,1,IF(MATCH(J365&\"/\"&L365,読み替え表_食品ロス!$P$29:$P$42,0),1,0)),0)","v":0},"*"]
[null,null,356,null,null,null,null,null,null,null,null,null,null,null,null,null,null,null,null,null,null,null,null,null,null,0,{"$f":"IFERROR(IF(J366=99,1,IF(MATCH(J366&\"/\"&L366,読み替え表_食品ロス!$P$29:$P$42,0),1,0)),0)","v":0},"*"]
[null,null,357,null,null,null,null,null,null,null,null,null,null,null,null,null,null,null,null,null,null,null,null,null,null,0,{"$f":"IFERROR(IF(J367=99,1,IF(MATCH(J367&\"/\"&L367,読み替え表_食品ロス!$P$29:$P$42,0),1,0)),0)","v":0},"*"]
[null,null,358,null,null,null,null,null,null,null,null,null,null,null,null,null,null,null,null,null,null,null,null,null,null,0,{"$f":"IFERROR(IF(J368=99,1,IF(MATCH(J368&\"/\"&L368,読み替え表_食品ロス!$P$29:$P$42,0),1,0)),0)","v":0},"*"]
[null,null,359,null,null,null,null,null,null,null,null,null,null,null,null,null,null,null,null,null,null,null,null,null,null,0,{"$f":"IFERROR(IF(J369=99,1,IF(MATCH(J369&\"/\"&L369,読み替え表_食品ロス!$P$29:$P$42,0),1,0)),0)","v":0},"*"]
[null,null,360,null,null,null,null,null,null,null,null,null,null,null,null,null,null,null,null,null,null,null,null,null,null,0,{"$f":"IFERROR(IF(J370=99,1,IF(MATCH(J370&\"/\"&L370,読み替え表_食品ロス!$P$29:$P$42,0),1,0)),0)","v":0},"*"]
[null,null,361,null,null,null,null,null,null,null,null,null,null,null,null,null,null,null,null,null,null,null,null,null,null,0,{"$f":"IFERROR(IF(J371=99,1,IF(MATCH(J371&\"/\"&L371,読み替え表_食品ロス!$P$29:$P$42,0),1,0)),0)","v":0},"*"]
[null,null,362,null,null,null,null,null,null,null,null,null,null,null,null,null,null,null,null,null,null,null,null,null,null,0,{"$f":"IFERROR(IF(J372=99,1,IF(MATCH(J372&\"/\"&L372,読み替え表_食品ロス!$P$29:$P$42,0),1,0)),0)","v":0},"*"]
[null,null,363,null,null,null,null,null,null,null,null,null,null,null,null,null,null,null,null,null,null,null,null,null,null,0,{"$f":"IFERROR(IF(J373=99,1,IF(MATCH(J373&\"/\"&L373,読み替え表_食品ロス!$P$29:$P$42,0),1,0)),0)","v":0},"*"]
[null,null,364,null,null,null,null,null,null,null,null,null,null,null,null,null,null,null,null,null,null,null,null,null,null,0,{"$f":"IFERROR(IF(J374=99,1,IF(MATCH(J374&\"/\"&L374,読み替え表_食品ロス!$P$29:$P$42,0),1,0)),0)","v":0},"*"]
[null,null,365,null,null,null,null,null,null,null,null,null,null,null,null,null,null,null,null,null,null,null,null,null,null,0,{"$f":"IFERROR(IF(J375=99,1,IF(MATCH(J375&\"/\"&L375,読み替え表_食品ロス!$P$29:$P$42,0),1,0)),0)","v":0},"*"]
[null,null,366,null,null,null,null,null,null,null,null,null,null,null,null,null,null,null,null,null,null,null,null,null,null,0,{"$f":"IFERROR(IF(J376=99,1,IF(MATCH(J376&\"/\"&L376,読み替え表_食品ロス!$P$29:$P$42,0),1,0)),0)","v":0},"*"]
[null,null,367,null,null,null,null,null,null,null,null,null,null,null,null,null,null,null,null,null,null,null,null,null,null,0,{"$f":"IFERROR(IF(J377=99,1,IF(MATCH(J377&\"/\"&L377,読み替え表_食品ロス!$P$29:$P$42,0),1,0)),0)","v":0},"*"]
[null,null,368,null,null,null,null,null,null,null,null,null,null,null,null,null,null,null,null,null,null,null,null,null,null,0,{"$f":"IFERROR(IF(J378=99,1,IF(MATCH(J378&\"/\"&L378,読み替え表_食品ロス!$P$29:$P$42,0),1,0)),0)","v":0},"*"]
[null,null,369,null,null,null,null,null,null,null,null,null,null,null,null,null,null,null,null,null,null,null,null,null,null,0,{"$f":"IFERROR(IF(J379=99,1,IF(MATCH(J379&\"/\"&L379,読み替え表_食品ロス!$P$29:$P$42,0),1,0)),0)","v":0},"*"]
[null,null,370,null,null,null,null,null,null,null,null,null,null,null,null,null,null,null,null,null,null,null,null,null,null,0,{"$f":"IFERROR(IF(J380=99,1,IF(MATCH(J380&\"/\"&L380,読み替え表_食品ロス!$P$29:$P$42,0),1,0)),0)","v":0},"*"]
[null,null,371,null,null,null,null,null,null,null,null,null,null,null,null,null,null,null,null,null,null,null,null,null,null,0,{"$f":"IFERROR(IF(J381=99,1,IF(MATCH(J381&\"/\"&L381,読み替え表_食品ロス!$P$29:$P$42,0),1,0)),0)","v":0},"*"]
[null,null,372,null,null,null,null,null,null,null,null,null,null,null,null,null,null,null,null,null,null,null,null,null,null,0,{"$f":"IFERROR(IF(J382=99,1,IF(MATCH(J382&\"/\"&L382,読み替え表_食品ロス!$P$29:$P$42,0),1,0)),0)","v":0},"*"]
[null,null,373,null,null,null,null,null,null,null,null,null,null,null,null,null,null,null,null,null,null,null,null,null,null,0,{"$f":"IFERROR(IF(J383=99,1,IF(MATCH(J383&\"/\"&L383,読み替え表_食品ロス!$P$29:$P$42,0),1,0)),0)","v":0},"*"]
[null,null,374,null,null,null,null,null,null,null,null,null,null,null,null,null,null,null,null,null,null,null,null,null,null,0,{"$f":"IFERROR(IF(J384=99,1,IF(MATCH(J384&\"/\"&L384,読み替え表_食品ロス!$P$29:$P$42,0),1,0)),0)","v":0},"*"]
[null,null,375,null,null,null,null,null,null,null,null,null,null,null,null,null,null,null,null,null,null,null,null,null,null,0,{"$f":"IFERROR(IF(J385=99,1,IF(MATCH(J385&\"/\"&L385,読み替え表_食品ロス!$P$29:$P$42,0),1,0)),0)","v":0},"*"]
[null,null,376,null,null,null,null,null,null,null,null,null,null,null,null,null,null,null,null,null,null,null,null,null,null,0,{"$f":"IFERROR(IF(J386=99,1,IF(MATCH(J386&\"/\"&L386,読み替え表_食品ロス!$P$29:$P$42,0),1,0)),0)","v":0},"*"]
[null,null,377,null,null,null,null,null,null,null,null,null,null,null,null,null,null,null,null,null,null,null,null,null,null,0,{"$f":"IFERROR(IF(J387=99,1,IF(MATCH(J387&\"/\"&L387,読み替え表_食品ロス!$P$29:$P$42,0),1,0)),0)","v":0},"*"]
[null,null,378,null,null,null,null,null,null,null,null,null,null,null,null,null,null,null,null,null,null,null,null,null,null,0,{"$f":"IFERROR(IF(J388=99,1,IF(MATCH(J388&\"/\"&L388,読み替え表_食品ロス!$P$29:$P$42,0),1,0)),0)","v":0},"*"]
[null,null,379,null,null,null,null,null,null,null,null,null,null,null,null,null,null,null,null,null,null,null,null,null,null,0,{"$f":"IFERROR(IF(J389=99,1,IF(MATCH(J389&\"/\"&L389,読み替え表_食品ロス!$P$29:$P$42,0),1,0)),0)","v":0},"*"]
[null,null,380,null,null,null,null,null,null,null,null,null,null,null,null,null,null,null,null,null,null,null,null,null,null,0,{"$f":"IFERROR(IF(J390=99,1,IF(MATCH(J390&\"/\"&L390,読み替え表_食品ロス!$P$29:$P$42,0),1,0)),0)","v":0},"*"]
[null,null,381,null,null,null,null,null,null,null,null,null,null,null,null,null,null,null,null,null,null,null,null,null,null,0,{"$f":"IFERROR(IF(J391=99,1,IF(MATCH(J391&\"/\"&L391,読み替え表_食品ロス!$P$29:$P$42,0),1,0)),0)","v":0},"*"]
[null,null,382,null,null,null,null,null,null,null,null,null,null,null,null,null,null,null,null,null,null,null,null,null,null,0,{"$f":"IFERROR(IF(J392=99,1,IF(MATCH(J392&\"/\"&L392,読み替え表_食品ロス!$P$29:$P$42,0),1,0)),0)","v":0},"*"]
[null,null,383,null,null,null,null,null,null,null,null,null,null,null,null,null,null,null,null,null,null,null,null,null,null,0,{"$f":"IFERROR(IF(J393=99,1,IF(MATCH(J393&\"/\"&L393,読み替え表_食品ロス!$P$29:$P$42,0),1,0)),0)","v":0},"*"]
[null,null,384,null,null,null,null,null,null,null,null,null,null,null,null,null,null,null,null,null,null,null,null,null,null,0,{"$f":"IFERROR(IF(J394=99,1,IF(MATCH(J394&\"/\"&L394,読み替え表_食品ロス!$P$29:$P$42,0),1,0)),0)","v":0},"*"]
[null,null,385,null,null,null,null,null,null,null,null,null,null,null,null,null,null,null,null,null,null,null,null,null,null,0,{"$f":"IFERROR(IF(J395=99,1,IF(MATCH(J395&\"/\"&L395,読み替え表_食品ロス!$P$29:$P$42,0),1,0)),0)","v":0},"*"]
[null,null,{"$f":"ROW()-10","v":386},null,null,null,null,null,null,null,null,null,null,null,null,null,null,null,null,null,null,null,null,null,null,{"$f":"IF(OR(L396=1,L396=2,L396=3),1,0)","v":0},{"$f":"IFERROR(IF(J396=99,1,IF(MATCH(J396&\"/\"&L396,読み替え表_食品ロス!$P$29:$P$42,0),1,0)),0)","v":0},"*"]
[null,null,387,null,null,null,null,null,null,null,null,null,null,null,null,null,null,null,null,null,null,null,null,null,null,0,{"$f":"IFERROR(IF(J397=99,1,IF(MATCH(J397&\"/\"&L397,読み替え表_食品ロス!$P$29:$P$42,0),1,0)),0)","v":0},"*"]
[null,null,388,null,null,null,null,null,null,null,null,null,null,null,null,null,null,null,null,null,null,null,null,null,null,0,{"$f":"IFERROR(IF(J398=99,1,IF(MATCH(J398&\"/\"&L398,読み替え表_食品ロス!$P$29:$P$42,0),1,0)),0)","v":0},"*"]
[null,null,389,null,null,null,null,null,null,null,null,null,null,null,null,null,null,null,null,null,null,null,null,null,null,0,{"$f":"IFERROR(IF(J399=99,1,IF(MATCH(J399&\"/\"&L399,読み替え表_食品ロス!$P$29:$P$42,0),1,0)),0)","v":0},"*"]
[null,null,390,null,null,null,null,null,null,null,null,null,null,null,null,null,null,null,null,null,null,null,null,null,null,0,{"$f":"IFERROR(IF(J400=99,1,IF(MATCH(J400&\"/\"&L400,読み替え表_食品ロス!$P$29:$P$42,0),1,0)),0)","v":0},"*"]
[null,null,391,null,null,null,null,null,null,null,null,null,null,null,null,null,null,null,null,null,null,null,null,null,null,0,{"$f":"IFERROR(IF(J401=99,1,IF(MATCH(J401&\"/\"&L401,読み替え表_食品ロス!$P$29:$P$42,0),1,0)),0)","v":0},"*"]
[null,null,392,null,null,null,null,null,null,null,null,null,null,null,null,null,null,null,null,null,null,null,null,null,null,0,{"$f":"IFERROR(IF(J402=99,1,IF(MATCH(J402&\"/\"&L402,読み替え表_食品ロス!$P$29:$P$42,0),1,0)),0)","v":0},"*"]
[null,null,393,null,null,null,null,null,null,null,null,null,null,null,null,null,null,null,null,null,null,null,null,null,null,0,{"$f":"IFERROR(IF(J403=99,1,IF(MATCH(J403&\"/\"&L403,読み替え表_食品ロス!$P$29:$P$42,0),1,0)),0)","v":0},"*"]
[null,null,394,null,null,null,null,null,null,null,null,null,null,null,null,null,null,null,null,null,null,null,null,null,null,0,{"$f":"IFERROR(IF(J404=99,1,IF(MATCH(J404&\"/\"&L404,読み替え表_食品ロス!$P$29:$P$42,0),1,0)),0)","v":0},"*"]
[null,null,395,null,null,null,null,null,null,null,null,null,null,null,null,null,null,null,null,null,null,null,null,null,null,0,{"$f":"IFERROR(IF(J405=99,1,IF(MATCH(J405&\"/\"&L405,読み替え表_食品ロス!$P$29:$P$42,0),1,0)),0)","v":0},"*"]
[null,null,396,null,null,null,null,null,null,null,null,null,null,null,null,null,null,null,null,null,null,null,null,null,null,0,{"$f":"IFERROR(IF(J406=99,1,IF(MATCH(J406&\"/\"&L406,読み替え表_食品ロス!$P$29:$P$42,0),1,0)),0)","v":0},"*"]
[null,null,397,null,null,null,null,null,null,null,null,null,null,null,null,null,null,null,null,null,null,null,null,null,null,0,{"$f":"IFERROR(IF(J407=99,1,IF(MATCH(J407&\"/\"&L407,読み替え表_食品ロス!$P$29:$P$42,0),1,0)),0)","v":0},"*"]
[null,null,398,null,null,null,null,null,null,null,null,null,null,null,null,null,null,null,null,null,null,null,null,null,null,0,{"$f":"IFERROR(IF(J408=99,1,IF(MATCH(J408&\"/\"&L408,読み替え表_食品ロス!$P$29:$P$42,0),1,0)),0)","v":0},"*"]
[null,null,399,null,null,null,null,null,null,null,null,null,null,null,null,null,null,null,null,null,null,null,null,null,null,0,{"$f":"IFERROR(IF(J409=99,1,IF(MATCH(J409&\"/\"&L409,読み替え表_食品ロス!$P$29:$P$42,0),1,0)),0)","v":0},"*"]
[null,null,400,null,null,null,null,null,null,null,null,null,null,null,null,null,null,null,null,null,null,null,null,null,null,0,{"$f":"IFERROR(IF(J410=99,1,IF(MATCH(J410&\"/\"&L410,読み替え表_食品ロス!$P$29:$P$42,0),1,0)),0)","v":0},"*"]
[null,null,401,null,null,null,null,null,null,null,null,null,null,null,null,null,null,null,null,null,null,null,null,null,null,0,{"$f":"IFERROR(IF(J411=99,1,IF(MATCH(J411&\"/\"&L411,読み替え表_食品ロス!$P$29:$P$42,0),1,0)),0)","v":0},"*"]
[null,null,402,null,null,null,null,null,null,null,null,null,null,null,null,null,null,null,null,null,null,null,null,null,null,0,{"$f":"IFERROR(IF(J412=99,1,IF(MATCH(J412&\"/\"&L412,読み替え表_食品ロス!$P$29:$P$42,0),1,0)),0)","v":0},"*"]
[null,null,403,null,null,null,null,null,null,null,null,null,null,null,null,null,null,null,null,null,null,null,null,null,null,0,{"$f":"IFERROR(IF(J413=99,1,IF(MATCH(J413&\"/\"&L413,読み替え表_食品ロス!$P$29:$P$42,0),1,0)),0)","v":0},"*"]
[null,null,404,null,null,null,null,null,null,null,null,null,null,null,null,null,null,null,null,null,null,null,null,null,null,0,{"$f":"IFERROR(IF(J414=99,1,IF(MATCH(J414&\"/\"&L414,読み替え表_食品ロス!$P$29:$P$42,0),1,0)),0)","v":0},"*"]
[null,null,405,null,null,null,null,null,null,null,null,null,null,null,null,null,null,null,null,null,null,null,null,null,null,0,{"$f":"IFERROR(IF(J415=99,1,IF(MATCH(J415&\"/\"&L415,読み替え表_食品ロス!$P$29:$P$42,0),1,0)),0)","v":0},"*"]
[null,null,406,null,null,null,null,null,null,null,null,null,null,null,null,null,null,null,null,null,null,null,null,null,null,0,{"$f":"IFERROR(IF(J416=99,1,IF(MATCH(J416&\"/\"&L416,読み替え表_食品ロス!$P$29:$P$42,0),1,0)),0)","v":0},"*"]
[null,null,407,null,null,null,null,null,null,null,null,null,null,null,null,null,null,null,null,null,null,null,null,null,null,0,{"$f":"IFERROR(IF(J417=99,1,IF(MATCH(J417&\"/\"&L417,読み替え表_食品ロス!$P$29:$P$42,0),1,0)),0)","v":0},"*"]
[null,null,408,null,null,null,null,null,null,null,null,null,null,null,null,null,null,null,null,null,null,null,null,null,null,0,{"$f":"IFERROR(IF(J418=99,1,IF(MATCH(J418&\"/\"&L418,読み替え表_食品ロス!$P$29:$P$42,0),1,0)),0)","v":0},"*"]
[null,null,409,null,null,null,null,null,null,null,null,null,null,null,null,null,null,null,null,null,null,null,null,null,null,0,{"$f":"IFERROR(IF(J419=99,1,IF(MATCH(J419&\"/\"&L419,読み替え表_食品ロス!$P$29:$P$42,0),1,0)),0)","v":0},"*"]
[null,null,410,null,null,null,null,null,null,null,null,null,null,null,null,null,null,null,null,null,null,null,null,null,null,0,{"$f":"IFERROR(IF(J420=99,1,IF(MATCH(J420&\"/\"&L420,読み替え表_食品ロス!$P$29:$P$42,0),1,0)),0)","v":0},"*"]
[null,null,411,null,null,null,null,null,null,null,null,null,null,null,null,null,null,null,null,null,null,null,null,null,null,0,{"$f":"IFERROR(IF(J421=99,1,IF(MATCH(J421&\"/\"&L421,読み替え表_食品ロス!$P$29:$P$42,0),1,0)),0)","v":0},"*"]
[null,null,412,null,null,null,null,null,null,null,null,null,null,null,null,null,null,null,null,null,null,null,null,null,null,0,{"$f":"IFERROR(IF(J422=99,1,IF(MATCH(J422&\"/\"&L422,読み替え表_食品ロス!$P$29:$P$42,0),1,0)),0)","v":0},"*"]
[null,null,413,null,null,null,null,null,null,null,null,null,null,null,null,null,null,null,null,null,null,null,null,null,null,0,{"$f":"IFERROR(IF(J423=99,1,IF(MATCH(J423&\"/\"&L423,読み替え表_食品ロス!$P$29:$P$42,0),1,0)),0)","v":0},"*"]
[null,null,414,null,null,null,null,null,null,null,null,null,null,null,null,null,null,null,null,null,null,null,null,null,null,0,{"$f":"IFERROR(IF(J424=99,1,IF(MATCH(J424&\"/\"&L424,読み替え表_食品ロス!$P$29:$P$42,0),1,0)),0)","v":0},"*"]
[null,null,415,null,null,null,null,null,null,null,null,null,null,null,null,null,null,null,null,null,null,null,null,null,null,0,{"$f":"IFERROR(IF(J425=99,1,IF(MATCH(J425&\"/\"&L425,読み替え表_食品ロス!$P$29:$P$42,0),1,0)),0)","v":0},"*"]
[null,null,416,null,null,null,null,null,null,null,null,null,null,null,null,null,null,null,null,null,null,null,null,null,null,0,{"$f":"IFERROR(IF(J426=99,1,IF(MATCH(J426&\"/\"&L426,読み替え表_食品ロス!$P$29:$P$42,0),1,0)),0)","v":0},"*"]
[null,null,417,null,null,null,null,null,null,null,null,null,null,null,null,null,null,null,null,null,null,null,null,null,null,0,{"$f":"IFERROR(IF(J427=99,1,IF(MATCH(J427&\"/\"&L427,読み替え表_食品ロス!$P$29:$P$42,0),1,0)),0)","v":0},"*"]
[null,null,418,null,null,null,null,null,null,null,null,null,null,null,null,null,null,null,null,null,null,null,null,null,null,0,{"$f":"IFERROR(IF(J428=99,1,IF(MATCH(J428&\"/\"&L428,読み替え表_食品ロス!$P$29:$P$42,0),1,0)),0)","v":0},"*"]
[null,null,419,null,null,null,null,null,null,null,null,null,null,null,null,null,null,null,null,null,null,null,null,null,null,0,{"$f":"IFERROR(IF(J429=99,1,IF(MATCH(J429&\"/\"&L429,読み替え表_食品ロス!$P$29:$P$42,0),1,0)),0)","v":0},"*"]
[null,null,420,null,null,null,null,null,null,null,null,null,null,null,null,null,null,null,null,null,null,null,null,null,null,0,{"$f":"IFERROR(IF(J430=99,1,IF(MATCH(J430&\"/\"&L430,読み替え表_食品ロス!$P$29:$P$42,0),1,0)),0)","v":0},"*"]
[null,null,421,null,null,null,null,null,null,null,null,null,null,null,null,null,null,null,null,null,null,null,null,null,null,0,{"$f":"IFERROR(IF(J431=99,1,IF(MATCH(J431&\"/\"&L431,読み替え表_食品ロス!$P$29:$P$42,0),1,0)),0)","v":0},"*"]
[null,null,422,null,null,null,null,null,null,null,null,null,null,null,null,null,null,null,null,null,null,null,null,null,null,0,{"$f":"IFERROR(IF(J432=99,1,IF(MATCH(J432&\"/\"&L432,読み替え表_食品ロス!$P$29:$P$42,0),1,0)),0)","v":0},"*"]
[null,null,423,null,null,null,null,null,null,null,null,null,null,null,null,null,null,null,null,null,null,null,null,null,null,0,{"$f":"IFERROR(IF(J433=99,1,IF(MATCH(J433&\"/\"&L433,読み替え表_食品ロス!$P$29:$P$42,0),1,0)),0)","v":0},"*"]
[null,null,424,null,null,null,null,null,null,null,null,null,null,null,null,null,null,null,null,null,null,null,null,null,null,0,{"$f":"IFERROR(IF(J434=99,1,IF(MATCH(J434&\"/\"&L434,読み替え表_食品ロス!$P$29:$P$42,0),1,0)),0)","v":0},"*"]
[null,null,425,null,null,null,null,null,null,null,null,null,null,null,null,null,null,null,null,null,null,null,null,null,null,0,{"$f":"IFERROR(IF(J435=99,1,IF(MATCH(J435&\"/\"&L435,読み替え表_食品ロス!$P$29:$P$42,0),1,0)),0)","v":0},"*"]
[null,null,426,null,null,null,null,null,null,null,null,null,null,null,null,null,null,null,null,null,null,null,null,null,null,0,{"$f":"IFERROR(IF(J436=99,1,IF(MATCH(J436&\"/\"&L436,読み替え表_食品ロス!$P$29:$P$42,0),1,0)),0)","v":0},"*"]
[null,null,427,null,null,null,null,null,null,null,null,null,null,null,null,null,null,null,null,null,null,null,null,null,null,0,{"$f":"IFERROR(IF(J437=99,1,IF(MATCH(J437&\"/\"&L437,読み替え表_食品ロス!$P$29:$P$42,0),1,0)),0)","v":0},"*"]
[null,null,428,null,null,null,null,null,null,null,null,null,null,null,null,null,null,null,null,null,null,null,null,null,null,0,{"$f":"IFERROR(IF(J438=99,1,IF(MATCH(J438&\"/\"&L438,読み替え表_食品ロス!$P$29:$P$42,0),1,0)),0)","v":0},"*"]
[null,null,429,null,null,null,null,null,null,null,null,null,null,null,null,null,null,null,null,null,null,null,null,null,null,0,{"$f":"IFERROR(IF(J439=99,1,IF(MATCH(J439&\"/\"&L439,読み替え表_食品ロス!$P$29:$P$42,0),1,0)),0)","v":0},"*"]
[null,null,430,null,null,null,null,null,null,null,null,null,null,null,null,null,null,null,null,null,null,null,null,null,null,0,{"$f":"IFERROR(IF(J440=99,1,IF(MATCH(J440&\"/\"&L440,読み替え表_食品ロス!$P$29:$P$42,0),1,0)),0)","v":0},"*"]
[null,null,431,null,null,null,null,null,null,null,null,null,null,null,null,null,null,null,null,null,null,null,null,null,null,0,{"$f":"IFERROR(IF(J441=99,1,IF(MATCH(J441&\"/\"&L441,読み替え表_食品ロス!$P$29:$P$42,0),1,0)),0)","v":0},"*"]
[null,null,432,null,null,null,null,null,null,null,null,null,null,null,null,null,null,null,null,null,null,null,null,null,null,0,{"$f":"IFERROR(IF(J442=99,1,IF(MATCH(J442&\"/\"&L442,読み替え表_食品ロス!$P$29:$P$42,0),1,0)),0)","v":0},"*"]
[null,null,433,null,null,null,null,null,null,null,null,null,null,null,null,null,null,null,null,null,null,null,null,null,null,0,{"$f":"IFERROR(IF(J443=99,1,IF(MATCH(J443&\"/\"&L443,読み替え表_食品ロス!$P$29:$P$42,0),1,0)),0)","v":0},"*"]
[null,null,434,null,null,null,null,null,null,null,null,null,null,null,null,null,null,null,null,null,null,null,null,null,null,0,{"$f":"IFERROR(IF(J444=99,1,IF(MATCH(J444&\"/\"&L444,読み替え表_食品ロス!$P$29:$P$42,0),1,0)),0)","v":0},"*"]
[null,null,435,null,null,null,null,null,null,null,null,null,null,null,null,null,null,null,null,null,null,null,null,null,null,0,{"$f":"IFERROR(IF(J445=99,1,IF(MATCH(J445&\"/\"&L445,読み替え表_食品ロス!$P$29:$P$42,0),1,0)),0)","v":0},"*"]
[null,null,436,null,null,null,null,null,null,null,null,null,null,null,null,null,null,null,null,null,null,null,null,null,null,0,{"$f":"IFERROR(IF(J446=99,1,IF(MATCH(J446&\"/\"&L446,読み替え表_食品ロス!$P$29:$P$42,0),1,0)),0)","v":0},"*"]
[null,null,437,null,null,null,null,null,null,null,null,null,null,null,null,null,null,null,null,null,null,null,null,null,null,0,{"$f":"IFERROR(IF(J447=99,1,IF(MATCH(J447&\"/\"&L447,読み替え表_食品ロス!$P$29:$P$42,0),1,0)),0)","v":0},"*"]
[null,null,438,null,null,null,null,null,null,null,null,null,null,null,null,null,null,null,null,null,null,null,null,null,null,0,{"$f":"IFERROR(IF(J448=99,1,IF(MATCH(J448&\"/\"&L448,読み替え表_食品ロス!$P$29:$P$42,0),1,0)),0)","v":0},"*"]
[null,null,439,null,null,null,null,null,null,null,null,null,null,null,null,null,null,null,null,null,null,null,null,null,null,0,{"$f":"IFERROR(IF(J449=99,1,IF(MATCH(J449&\"/\"&L449,読み替え表_食品ロス!$P$29:$P$42,0),1,0)),0)","v":0},"*"]
[null,null,440,null,null,null,null,null,null,null,null,null,null,null,null,null,null,null,null,null,null,null,null,null,null,0,{"$f":"IFERROR(IF(J450=99,1,IF(MATCH(J450&\"/\"&L450,読み替え表_食品ロス!$P$29:$P$42,0),1,0)),0)","v":0},"*"]
[null,null,441,null,null,null,null,null,null,null,null,null,null,null,null,null,null,null,null,null,null,null,null,null,null,0,{"$f":"IFERROR(IF(J451=99,1,IF(MATCH(J451&\"/\"&L451,読み替え表_食品ロス!$P$29:$P$42,0),1,0)),0)","v":0},"*"]
[null,null,442,null,null,null,null,null,null,null,null,null,null,null,null,null,null,null,null,null,null,null,null,null,null,0,{"$f":"IFERROR(IF(J452=99,1,IF(MATCH(J452&\"/\"&L452,読み替え表_食品ロス!$P$29:$P$42,0),1,0)),0)","v":0},"*"]
[null,null,443,null,null,null,null,null,null,null,null,null,null,null,null,null,null,null,null,null,null,null,null,null,null,0,{"$f":"IFERROR(IF(J453=99,1,IF(MATCH(J453&\"/\"&L453,読み替え表_食品ロス!$P$29:$P$42,0),1,0)),0)","v":0},"*"]
[null,null,444,null,null,null,null,null,null,null,null,null,null,null,null,null,null,null,null,null,null,null,null,null,null,0,{"$f":"IFERROR(IF(J454=99,1,IF(MATCH(J454&\"/\"&L454,読み替え表_食品ロス!$P$29:$P$42,0),1,0)),0)","v":0},"*"]
[null,null,445,null,null,null,null,null,null,null,null,null,null,null,null,null,null,null,null,null,null,null,null,null,null,0,{"$f":"IFERROR(IF(J455=99,1,IF(MATCH(J455&\"/\"&L455,読み替え表_食品ロス!$P$29:$P$42,0),1,0)),0)","v":0},"*"]
[null,null,446,null,null,null,null,null,null,null,null,null,null,null,null,null,null,null,null,null,null,null,null,null,null,0,{"$f":"IFERROR(IF(J456=99,1,IF(MATCH(J456&\"/\"&L456,読み替え表_食品ロス!$P$29:$P$42,0),1,0)),0)","v":0},"*"]
[null,null,447,null,null,null,null,null,null,null,null,null,null,null,null,null,null,null,null,null,null,null,null,null,null,0,{"$f":"IFERROR(IF(J457=99,1,IF(MATCH(J457&\"/\"&L457,読み替え表_食品ロス!$P$29:$P$42,0),1,0)),0)","v":0},"*"]
[null,null,448,null,null,null,null,null,null,null,null,null,null,null,null,null,null,null,null,null,null,null,null,null,null,0,{"$f":"IFERROR(IF(J458=99,1,IF(MATCH(J458&\"/\"&L458,読み替え表_食品ロス!$P$29:$P$42,0),1,0)),0)","v":0},"*"]
[null,null,449,null,null,null,null,null,null,null,null,null,null,null,null,null,null,null,null,null,null,null,null,null,null,0,{"$f":"IFERROR(IF(J459=99,1,IF(MATCH(J459&\"/\"&L459,読み替え表_食品ロス!$P$29:$P$42,0),1,0)),0)","v":0},"*"]
[null,null,{"$f":"ROW()-10","v":450},null,null,null,null,null,null,null,null,null,null,null,null,null,null,null,null,null,null,null,null,null,null,{"$f":"IF(OR(L460=1,L460=2,L460=3),1,0)","v":0},{"$f":"IFERROR(IF(J460=99,1,IF(MATCH(J460&\"/\"&L460,読み替え表_食品ロス!$P$29:$P$42,0),1,0)),0)","v":0},"*"]
[null,null,451,null,null,null,null,null,null,null,null,null,null,null,null,null,null,null,null,null,null,null,null,null,null,0,{"$f":"IFERROR(IF(J461=99,1,IF(MATCH(J461&\"/\"&L461,読み替え表_食品ロス!$P$29:$P$42,0),1,0)),0)","v":0},"*"]
[null,null,452,null,null,null,null,null,null,null,null,null,null,null,null,null,null,null,null,null,null,null,null,null,null,0,{"$f":"IFERROR(IF(J462=99,1,IF(MATCH(J462&\"/\"&L462,読み替え表_食品ロス!$P$29:$P$42,0),1,0)),0)","v":0},"*"]
[null,null,453,null,null,null,null,null,null,null,null,null,null,null,null,null,null,null,null,null,null,null,null,null,null,0,{"$f":"IFERROR(IF(J463=99,1,IF(MATCH(J463&\"/\"&L463,読み替え表_食品ロス!$P$29:$P$42,0),1,0)),0)","v":0},"*"]
[null,null,454,null,null,null,null,null,null,null,null,null,null,null,null,null,null,null,null,null,null,null,null,null,null,0,{"$f":"IFERROR(IF(J464=99,1,IF(MATCH(J464&\"/\"&L464,読み替え表_食品ロス!$P$29:$P$42,0),1,0)),0)","v":0},"*"]
[null,null,455,null,null,null,null,null,null,null,null,null,null,null,null,null,null,null,null,null,null,null,null,null,null,0,{"$f":"IFERROR(IF(J465=99,1,IF(MATCH(J465&\"/\"&L465,読み替え表_食品ロス!$P$29:$P$42,0),1,0)),0)","v":0},"*"]
[null,null,456,null,null,null,null,null,null,null,null,null,null,null,null,null,null,null,null,null,null,null,null,null,null,0,{"$f":"IFERROR(IF(J466=99,1,IF(MATCH(J466&\"/\"&L466,読み替え表_食品ロス!$P$29:$P$42,0),1,0)),0)","v":0},"*"]
[null,null,457,null,null,null,null,null,null,null,null,null,null,null,null,null,null,null,null,null,null,null,null,null,null,0,{"$f":"IFERROR(IF(J467=99,1,IF(MATCH(J467&\"/\"&L467,読み替え表_食品ロス!$P$29:$P$42,0),1,0)),0)","v":0},"*"]
[null,null,458,null,null,null,null,null,null,null,null,null,null,null,null,null,null,null,null,null,null,null,null,null,null,0,{"$f":"IFERROR(IF(J468=99,1,IF(MATCH(J468&\"/\"&L468,読み替え表_食品ロス!$P$29:$P$42,0),1,0)),0)","v":0},"*"]
[null,null,459,null,null,null,null,null,null,null,null,null,null,null,null,null,null,null,null,null,null,null,null,null,null,0,{"$f":"IFERROR(IF(J469=99,1,IF(MATCH(J469&\"/\"&L469,読み替え表_食品ロス!$P$29:$P$42,0),1,0)),0)","v":0},"*"]
[null,null,460,null,null,null,null,null,null,null,null,null,null,null,null,null,null,null,null,null,null,null,null,null,null,0,{"$f":"IFERROR(IF(J470=99,1,IF(MATCH(J470&\"/\"&L470,読み替え表_食品ロス!$P$29:$P$42,0),1,0)),0)","v":0},"*"]
[null,null,461,null,null,null,null,null,null,null,null,null,null,null,null,null,null,null,null,null,null,null,null,null,null,0,{"$f":"IFERROR(IF(J471=99,1,IF(MATCH(J471&\"/\"&L471,読み替え表_食品ロス!$P$29:$P$42,0),1,0)),0)","v":0},"*"]
[null,null,462,null,null,null,null,null,null,null,null,null,null,null,null,null,null,null,null,null,null,null,null,null,null,0,{"$f":"IFERROR(IF(J472=99,1,IF(MATCH(J472&\"/\"&L472,読み替え表_食品ロス!$P$29:$P$42,0),1,0)),0)","v":0},"*"]
[null,null,463,null,null,null,null,null,null,null,null,null,null,null,null,null,null,null,null,null,null,null,null,null,null,0,{"$f":"IFERROR(IF(J473=99,1,IF(MATCH(J473&\"/\"&L473,読み替え表_食品ロス!$P$29:$P$42,0),1,0)),0)","v":0},"*"]
[null,null,464,null,null,null,null,null,null,null,null,null,null,null,null,null,null,null,null,null,null,null,null,null,null,0,{"$f":"IFERROR(IF(J474=99,1,IF(MATCH(J474&\"/\"&L474,読み替え表_食品ロス!$P$29:$P$42,0),1,0)),0)","v":0},"*"]
[null,null,465,null,null,null,null,null,null,null,null,null,null,null,null,null,null,null,null,null,null,null,null,null,null,0,{"$f":"IFERROR(IF(J475=99,1,IF(MATCH(J475&\"/\"&L475,読み替え表_食品ロス!$P$29:$P$42,0),1,0)),0)","v":0},"*"]
[null,null,466,null,null,null,null,null,null,null,null,null,null,null,null,null,null,null,null,null,null,null,null,null,null,0,{"$f":"IFERROR(IF(J476=99,1,IF(MATCH(J476&\"/\"&L476,読み替え表_食品ロス!$P$29:$P$42,0),1,0)),0)","v":0},"*"]
[null,null,467,null,null,null,null,null,null,null,null,null,null,null,null,null,null,null,null,null,null,null,null,null,null,0,{"$f":"IFERROR(IF(J477=99,1,IF(MATCH(J477&\"/\"&L477,読み替え表_食品ロス!$P$29:$P$42,0),1,0)),0)","v":0},"*"]
[null,null,468,null,null,null,null,null,null,null,null,null,null,null,null,null,null,null,null,null,null,null,null,null,null,0,{"$f":"IFERROR(IF(J478=99,1,IF(MATCH(J478&\"/\"&L478,読み替え表_食品ロス!$P$29:$P$42,0),1,0)),0)","v":0},"*"]
[null,null,469,null,null,null,null,null,null,null,null,null,null,null,null,null,null,null,null,null,null,null,null,null,null,0,{"$f":"IFERROR(IF(J479=99,1,IF(MATCH(J479&\"/\"&L479,読み替え表_食品ロス!$P$29:$P$42,0),1,0)),0)","v":0},"*"]
[null,null,470,null,null,null,null,null,null,null,null,null,null,null,null,null,null,null,null,null,null,null,null,null,null,0,{"$f":"IFERROR(IF(J480=99,1,IF(MATCH(J480&\"/\"&L480,読み替え表_食品ロス!$P$29:$P$42,0),1,0)),0)","v":0},"*"]
[null,null,471,null,null,null,null,null,null,null,null,null,null,null,null,null,null,null,null,null,null,null,null,null,null,0,{"$f":"IFERROR(IF(J481=99,1,IF(MATCH(J481&\"/\"&L481,読み替え表_食品ロス!$P$29:$P$42,0),1,0)),0)","v":0},"*"]
[null,null,472,null,null,null,null,null,null,null,null,null,null,null,null,null,null,null,null,null,null,null,null,null,null,0,{"$f":"IFERROR(IF(J482=99,1,IF(MATCH(J482&\"/\"&L482,読み替え表_食品ロス!$P$29:$P$42,0),1,0)),0)","v":0},"*"]
[null,null,473,null,null,null,null,null,null,null,null,null,null,null,null,null,null,null,null,null,null,null,null,null,null,0,{"$f":"IFERROR(IF(J483=99,1,IF(MATCH(J483&\"/\"&L483,読み替え表_食品ロス!$P$29:$P$42,0),1,0)),0)","v":0},"*"]
[null,null,474,null,null,null,null,null,null,null,null,null,null,null,null,null,null,null,null,null,null,null,null,null,null,0,{"$f":"IFERROR(IF(J484=99,1,IF(MATCH(J484&\"/\"&L484,読み替え表_食品ロス!$P$29:$P$42,0),1,0)),0)","v":0},"*"]
[null,null,475,null,null,null,null,null,null,null,null,null,null,null,null,null,null,null,null,null,null,null,null,null,null,0,{"$f":"IFERROR(IF(J485=99,1,IF(MATCH(J485&\"/\"&L485,読み替え表_食品ロス!$P$29:$P$42,0),1,0)),0)","v":0},"*"]
[null,null,476,null,null,null,null,null,null,null,null,null,null,null,null,null,null,null,null,null,null,null,null,null,null,0,{"$f":"IFERROR(IF(J486=99,1,IF(MATCH(J486&\"/\"&L486,読み替え表_食品ロス!$P$29:$P$42,0),1,0)),0)","v":0},"*"]
[null,null,477,null,null,null,null,null,null,null,null,null,null,null,null,null,null,null,null,null,null,null,null,null,null,0,{"$f":"IFERROR(IF(J487=99,1,IF(MATCH(J487&\"/\"&L487,読み替え表_食品ロス!$P$29:$P$42,0),1,0)),0)","v":0},"*"]
[null,null,478,null,null,null,null,null,null,null,null,null,null,null,null,null,null,null,null,null,null,null,null,null,null,0,{"$f":"IFERROR(IF(J488=99,1,IF(MATCH(J488&\"/\"&L488,読み替え表_食品ロス!$P$29:$P$42,0),1,0)),0)","v":0},"*"]
[null,null,479,null,null,null,null,null,null,null,null,null,null,null,null,null,null,null,null,null,null,null,null,null,null,0,{"$f":"IFERROR(IF(J489=99,1,IF(MATCH(J489&\"/\"&L489,読み替え表_食品ロス!$P$29:$P$42,0),1,0)),0)","v":0},"*"]
[null,null,480,null,null,null,null,null,null,null,null,null,null,null,null,null,null,null,null,null,null,null,null,null,null,0,{"$f":"IFERROR(IF(J490=99,1,IF(MATCH(J490&\"/\"&L490,読み替え表_食品ロス!$P$29:$P$42,0),1,0)),0)","v":0},"*"]
[null,null,481,null,null,null,null,null,null,null,null,null,null,null,null,null,null,null,null,null,null,null,null,null,null,0,{"$f":"IFERROR(IF(J491=99,1,IF(MATCH(J491&\"/\"&L491,読み替え表_食品ロス!$P$29:$P$42,0),1,0)),0)","v":0},"*"]
[null,null,482,null,null,null,null,null,null,null,null,null,null,null,null,null,null,null,null,null,null,null,null,null,null,0,{"$f":"IFERROR(IF(J492=99,1,IF(MATCH(J492&\"/\"&L492,読み替え表_食品ロス!$P$29:$P$42,0),1,0)),0)","v":0},"*"]
[null,null,483,null,null,null,null,null,null,null,null,null,null,null,null,null,null,null,null,null,null,null,null,null,null,0,{"$f":"IFERROR(IF(J493=99,1,IF(MATCH(J493&\"/\"&L493,読み替え表_食品ロス!$P$29:$P$42,0),1,0)),0)","v":0},"*"]
[null,null,484,null,null,null,null,null,null,null,null,null,null,null,null,null,null,null,null,null,null,null,null,null,null,0,{"$f":"IFERROR(IF(J494=99,1,IF(MATCH(J494&\"/\"&L494,読み替え表_食品ロス!$P$29:$P$42,0),1,0)),0)","v":0},"*"]
[null,null,485,null,null,null,null,null,null,null,null,null,null,null,null,null,null,null,null,null,null,null,null,null,null,0,{"$f":"IFERROR(IF(J495=99,1,IF(MATCH(J495&\"/\"&L495,読み替え表_食品ロス!$P$29:$P$42,0),1,0)),0)","v":0},"*"]
[null,null,486,null,null,null,null,null,null,null,null,null,null,null,null,null,null,null,null,null,null,null,null,null,null,0,{"$f":"IFERROR(IF(J496=99,1,IF(MATCH(J496&\"/\"&L496,読み替え表_食品ロス!$P$29:$P$42,0),1,0)),0)","v":0},"*"]
[null,null,487,null,null,null,null,null,null,null,null,null,null,null,null,null,null,null,null,null,null,null,null,null,null,0,{"$f":"IFERROR(IF(J497=99,1,IF(MATCH(J497&\"/\"&L497,読み替え表_食品ロス!$P$29:$P$42,0),1,0)),0)","v":0},"*"]
[null,null,488,null,null,null,null,null,null,null,null,null,null,null,null,null,null,null,null,null,null,null,null,null,null,0,{"$f":"IFERROR(IF(J498=99,1,IF(MATCH(J498&\"/\"&L498,読み替え表_食品ロス!$P$29:$P$42,0),1,0)),0)","v":0},"*"]
[null,null,489,null,null,null,null,null,null,null,null,null,null,null,null,null,null,null,null,null,null,null,null,null,null,0,{"$f":"IFERROR(IF(J499=99,1,IF(MATCH(J499&\"/\"&L499,読み替え表_食品ロス!$P$29:$P$42,0),1,0)),0)","v":0},"*"]
[null,null,490,null,null,null,null,null,null,null,null,null,null,null,null,null,null,null,null,null,null,null,null,null,null,0,{"$f":"IFERROR(IF(J500=99,1,IF(MATCH(J500&\"/\"&L500,読み替え表_食品ロス!$P$29:$P$42,0),1,0)),0)","v":0},"*"]
[null,null,491,null,null,null,null,null,null,null,null,null,null,null,null,null,null,null,null,null,null,null,null,null,null,0,{"$f":"IFERROR(IF(J501=99,1,IF(MATCH(J501&\"/\"&L501,読み替え表_食品ロス!$P$29:$P$42,0),1,0)),0)","v":0},"*"]
[null,null,492,null,null,null,null,null,null,null,null,null,null,null,null,null,null,null,null,null,null,null,null,null,null,0,{"$f":"IFERROR(IF(J502=99,1,IF(MATCH(J502&\"/\"&L502,読み替え表_食品ロス!$P$29:$P$42,0),1,0)),0)","v":0},"*"]
[null,null,493,null,null,null,null,null,null,null,null,null,null,null,null,null,null,null,null,null,null,null,null,null,null,0,{"$f":"IFERROR(IF(J503=99,1,IF(MATCH(J503&\"/\"&L503,読み替え表_食品ロス!$P$29:$P$42,0),1,0)),0)","v":0},"*"]
[null,null,494,null,null,null,null,null,null,null,null,null,null,null,null,null,null,null,null,null,null,null,null,null,null,0,{"$f":"IFERROR(IF(J504=99,1,IF(MATCH(J504&\"/\"&L504,読み替え表_食品ロス!$P$29:$P$42,0),1,0)),0)","v":0},"*"]
[null,null,495,null,null,null,null,null,null,null,null,null,null,null,null,null,null,null,null,null,null,null,null,null,null,0,{"$f":"IFERROR(IF(J505=99,1,IF(MATCH(J505&\"/\"&L505,読み替え表_食品ロス!$P$29:$P$42,0),1,0)),0)","v":0},"*"]
[null,null,496,null,null,null,null,null,null,null,null,null,null,null,null,null,null,null,null,null,null,null,null,null,null,0,{"$f":"IFERROR(IF(J506=99,1,IF(MATCH(J506&\"/\"&L506,読み替え表_食品ロス!$P$29:$P$42,0),1,0)),0)","v":0},"*"]
[null,null,497,null,null,null,null,null,null,null,null,null,null,null,null,null,null,null,null,null,null,null,null,null,null,0,{"$f":"IFERROR(IF(J507=99,1,IF(MATCH(J507&\"/\"&L507,読み替え表_食品ロス!$P$29:$P$42,0),1,0)),0)","v":0},"*"]
[null,null,498,null,null,null,null,null,null,null,null,null,null,null,null,null,null,null,null,null,null,null,null,null,null,0,{"$f":"IFERROR(IF(J508=99,1,IF(MATCH(J508&\"/\"&L508,読み替え表_食品ロス!$P$29:$P$42,0),1,0)),0)","v":0},"*"]
[null,null,499,null,null,null,null,null,null,null,null,null,null,null,null,null,null,null,null,null,null,null,null,null,null,0,{"$f":"IFERROR(IF(J509=99,1,IF(MATCH(J509&\"/\"&L509,読み替え表_食品ロス!$P$29:$P$42,0),1,0)),0)","v":0},"*"]
[null,null,500,null,null,null,null,null,null,null,null,null,null,null,null,null,null,null,null,null,null,null,null,null,null,0,{"$f":"IFERROR(IF(J510=99,1,IF(MATCH(J510&\"/\"&L510,読み替え表_食品ロス!$P$29:$P$42,0),1,0)),0)","v":0},"*"]
[null,null,501,null,null,null,null,null,null,null,null,null,null,null,null,null,null,null,null,null,null,null,null,null,null,0,{"$f":"IFERROR(IF(J511=99,1,IF(MATCH(J511&\"/\"&L511,読み替え表_食品ロス!$P$29:$P$42,0),1,0)),0)","v":0},"*"]
[null,null,502,null,null,null,null,null,null,null,null,null,null,null,null,null,null,null,null,null,null,null,null,null,null,0,{"$f":"IFERROR(IF(J512=99,1,IF(MATCH(J512&\"/\"&L512,読み替え表_食品ロス!$P$29:$P$42,0),1,0)),0)","v":0},"*"]
[null,null,503,null,null,null,null,null,null,null,null,null,null,null,null,null,null,null,null,null,null,null,null,null,null,0,{"$f":"IFERROR(IF(J513=99,1,IF(MATCH(J513&\"/\"&L513,読み替え表_食品ロス!$P$29:$P$42,0),1,0)),0)","v":0},"*"]
[null,null,504,null,null,null,null,null,null,null,null,null,null,null,null,null,null,null,null,null,null,null,null,null,null,0,{"$f":"IFERROR(IF(J514=99,1,IF(MATCH(J514&\"/\"&L514,読み替え表_食品ロス!$P$29:$P$42,0),1,0)),0)","v":0},"*"]
[null,null,505,null,null,null,null,null,null,null,null,null,null,null,null,null,null,null,null,null,null,null,null,null,null,0,{"$f":"IFERROR(IF(J515=99,1,IF(MATCH(J515&\"/\"&L515,読み替え表_食品ロス!$P$29:$P$42,0),1,0)),0)","v":0},"*"]
[null,null,506,null,null,null,null,null,null,null,null,null,null,null,null,null,null,null,null,null,null,null,null,null,null,0,{"$f":"IFERROR(IF(J516=99,1,IF(MATCH(J516&\"/\"&L516,読み替え表_食品ロス!$P$29:$P$42,0),1,0)),0)","v":0},"*"]
[null,null,507,null,null,null,null,null,null,null,null,null,null,null,null,null,null,null,null,null,null,null,null,null,null,0,{"$f":"IFERROR(IF(J517=99,1,IF(MATCH(J517&\"/\"&L517,読み替え表_食品ロス!$P$29:$P$42,0),1,0)),0)","v":0},"*"]
[null,null,508,null,null,null,null,null,null,null,null,null,null,null,null,null,null,null,null,null,null,null,null,null,null,0,{"$f":"IFERROR(IF(J518=99,1,IF(MATCH(J518&\"/\"&L518,読み替え表_食品ロス!$P$29:$P$42,0),1,0)),0)","v":0},"*"]
[null,null,509,null,null,null,null,null,null,null,null,null,null,null,null,null,null,null,null,null,null,null,null,null,null,0,{"$f":"IFERROR(IF(J519=99,1,IF(MATCH(J519&\"/\"&L519,読み替え表_食品ロス!$P$29:$P$42,0),1,0)),0)","v":0},"*"]
[null,null,510,null,null,null,null,null,null,null,null,null,null,null,null,null,null,null,null,null,null,null,null,null,null,0,{"$f":"IFERROR(IF(J520=99,1,IF(MATCH(J520&\"/\"&L520,読み替え表_食品ロス!$P$29:$P$42,0),1,0)),0)","v":0},"*"]
[null,null,511,null,null,null,null,null,null,null,null,null,null,null,null,null,null,null,null,null,null,null,null,null,null,0,{"$f":"IFERROR(IF(J521=99,1,IF(MATCH(J521&\"/\"&L521,読み替え表_食品ロス!$P$29:$P$42,0),1,0)),0)","v":0},"*"]
[null,null,512,null,null,null,null,null,null,null,null,null,null,null,null,null,null,null,null,null,null,null,null,null,null,0,{"$f":"IFERROR(IF(J522=99,1,IF(MATCH(J522&\"/\"&L522,読み替え表_食品ロス!$P$29:$P$42,0),1,0)),0)","v":0},"*"]
[null,null,513,null,null,null,null,null,null,null,null,null,null,null,null,null,null,null,null,null,null,null,null,null,null,0,{"$f":"IFERROR(IF(J523=99,1,IF(MATCH(J523&\"/\"&L523,読み替え表_食品ロス!$P$29:$P$42,0),1,0)),0)","v":0},"*"]
[null,null,{"$f":"ROW()-10","v":514},null,null,null,null,null,null,null,null,null,null,null,null,null,null,null,null,null,null,null,null,null,null,{"$f":"IF(OR(L524=1,L524=2,L524=3),1,0)","v":0},{"$f":"IFERROR(IF(J524=99,1,IF(MATCH(J524&\"/\"&L524,読み替え表_食品ロス!$P$29:$P$42,0),1,0)),0)","v":0},"*"]
[null,null,515,null,null,null,null,null,null,null,null,null,null,null,null,null,null,null,null,null,null,null,null,null,null,0,{"$f":"IFERROR(IF(J525=99,1,IF(MATCH(J525&\"/\"&L525,読み替え表_食品ロス!$P$29:$P$42,0),1,0)),0)","v":0},"*"]
[null,null,516,null,null,null,null,null,null,null,null,null,null,null,null,null,null,null,null,null,null,null,null,null,null,0,{"$f":"IFERROR(IF(J526=99,1,IF(MATCH(J526&\"/\"&L526,読み替え表_食品ロス!$P$29:$P$42,0),1,0)),0)","v":0},"*"]
[null,null,517,null,null,null,null,null,null,null,null,null,null,null,null,null,null,null,null,null,null,null,null,null,null,0,{"$f":"IFERROR(IF(J527=99,1,IF(MATCH(J527&\"/\"&L527,読み替え表_食品ロス!$P$29:$P$42,0),1,0)),0)","v":0},"*"]
[null,null,518,null,null,null,null,null,null,null,null,null,null,null,null,null,null,null,null,null,null,null,null,null,null,0,{"$f":"IFERROR(IF(J528=99,1,IF(MATCH(J528&\"/\"&L528,読み替え表_食品ロス!$P$29:$P$42,0),1,0)),0)","v":0},"*"]
[null,null,519,null,null,null,null,null,null,null,null,null,null,null,null,null,null,null,null,null,null,null,null,null,null,0,{"$f":"IFERROR(IF(J529=99,1,IF(MATCH(J529&\"/\"&L529,読み替え表_食品ロス!$P$29:$P$42,0),1,0)),0)","v":0},"*"]
[null,null,520,null,null,null,null,null,null,null,null,null,null,null,null,null,null,null,null,null,null,null,null,null,null,0,{"$f":"IFERROR(IF(J530=99,1,IF(MATCH(J530&\"/\"&L530,読み替え表_食品ロス!$P$29:$P$42,0),1,0)),0)","v":0},"*"]
[null,null,521,null,null,null,null,null,null,null,null,null,null,null,null,null,null,null,null,null,null,null,null,null,null,0,{"$f":"IFERROR(IF(J531=99,1,IF(MATCH(J531&\"/\"&L531,読み替え表_食品ロス!$P$29:$P$42,0),1,0)),0)","v":0},"*"]
[null,null,522,null,null,null,null,null,null,null,null,null,null,null,null,null,null,null,null,null,null,null,null,null,null,0,{"$f":"IFERROR(IF(J532=99,1,IF(MATCH(J532&\"/\"&L532,読み替え表_食品ロス!$P$29:$P$42,0),1,0)),0)","v":0},"*"]
[null,null,523,null,null,null,null,null,null,null,null,null,null,null,null,null,null,null,null,null,null,null,null,null,null,0,{"$f":"IFERROR(IF(J533=99,1,IF(MATCH(J533&\"/\"&L533,読み替え表_食品ロス!$P$29:$P$42,0),1,0)),0)","v":0},"*"]
[null,null,524,null,null,null,null,null,null,null,null,null,null,null,null,null,null,null,null,null,null,null,null,null,null,0,{"$f":"IFERROR(IF(J534=99,1,IF(MATCH(J534&\"/\"&L534,読み替え表_食品ロス!$P$29:$P$42,0),1,0)),0)","v":0},"*"]
[null,null,525,null,null,null,null,null,null,null,null,null,null,null,null,null,null,null,null,null,null,null,null,null,null,0,{"$f":"IFERROR(IF(J535=99,1,IF(MATCH(J535&\"/\"&L535,読み替え表_食品ロス!$P$29:$P$42,0),1,0)),0)","v":0},"*"]
[null,null,526,null,null,null,null,null,null,null,null,null,null,null,null,null,null,null,null,null,null,null,null,null,null,0,{"$f":"IFERROR(IF(J536=99,1,IF(MATCH(J536&\"/\"&L536,読み替え表_食品ロス!$P$29:$P$42,0),1,0)),0)","v":0},"*"]
[null,null,527,null,null,null,null,null,null,null,null,null,null,null,null,null,null,null,null,null,null,null,null,null,null,0,{"$f":"IFERROR(IF(J537=99,1,IF(MATCH(J537&\"/\"&L537,読み替え表_食品ロス!$P$29:$P$42,0),1,0)),0)","v":0},"*"]
[null,null,528,null,null,null,null,null,null,null,null,null,null,null,null,null,null,null,null,null,null,null,null,null,null,0,{"$f":"IFERROR(IF(J538=99,1,IF(MATCH(J538&\"/\"&L538,読み替え表_食品ロス!$P$29:$P$42,0),1,0)),0)","v":0},"*"]
[null,null,529,null,null,null,null,null,null,null,null,null,null,null,null,null,null,null,null,null,null,null,null,null,null,0,{"$f":"IFERROR(IF(J539=99,1,IF(MATCH(J539&\"/\"&L539,読み替え表_食品ロス!$P$29:$P$42,0),1,0)),0)","v":0},"*"]
[null,null,530,null,null,null,null,null,null,null,null,null,null,null,null,null,null,null,null,null,null,null,null,null,null,0,{"$f":"IFERROR(IF(J540=99,1,IF(MATCH(J540&\"/\"&L540,読み替え表_食品ロス!$P$29:$P$42,0),1,0)),0)","v":0},"*"]
[null,null,531,null,null,null,null,null,null,null,null,null,null,null,null,null,null,null,null,null,null,null,null,null,null,0,{"$f":"IFERROR(IF(J541=99,1,IF(MATCH(J541&\"/\"&L541,読み替え表_食品ロス!$P$29:$P$42,0),1,0)),0)","v":0},"*"]
[null,null,532,null,null,null,null,null,null,null,null,null,null,null,null,null,null,null,null,null,null,null,null,null,null,0,{"$f":"IFERROR(IF(J542=99,1,IF(MATCH(J542&\"/\"&L542,読み替え表_食品ロス!$P$29:$P$42,0),1,0)),0)","v":0},"*"]
[null,null,533,null,null,null,null,null,null,null,null,null,null,null,null,null,null,null,null,null,null,null,null,null,null,0,{"$f":"IFERROR(IF(J543=99,1,IF(MATCH(J543&\"/\"&L543,読み替え表_食品ロス!$P$29:$P$42,0),1,0)),0)","v":0},"*"]
[null,null,534,null,null,null,null,null,null,null,null,null,null,null,null,null,null,null,null,null,null,null,null,null,null,0,{"$f":"IFERROR(IF(J544=99,1,IF(MATCH(J544&\"/\"&L544,読み替え表_食品ロス!$P$29:$P$42,0),1,0)),0)","v":0},"*"]
[null,null,535,null,null,null,null,null,null,null,null,null,null,null,null,null,null,null,null,null,null,null,null,null,null,0,{"$f":"IFERROR(IF(J545=99,1,IF(MATCH(J545&\"/\"&L545,読み替え表_食品ロス!$P$29:$P$42,0),1,0)),0)","v":0},"*"]
[null,null,536,null,null,null,null,null,null,null,null,null,null,null,null,null,null,null,null,null,null,null,null,null,null,0,{"$f":"IFERROR(IF(J546=99,1,IF(MATCH(J546&\"/\"&L546,読み替え表_食品ロス!$P$29:$P$42,0),1,0)),0)","v":0},"*"]
[null,null,537,null,null,null,null,null,null,null,null,null,null,null,null,null,null,null,null,null,null,null,null,null,null,0,{"$f":"IFERROR(IF(J547=99,1,IF(MATCH(J547&\"/\"&L547,読み替え表_食品ロス!$P$29:$P$42,0),1,0)),0)","v":0},"*"]
[null,null,538,null,null,null,null,null,null,null,null,null,null,null,null,null,null,null,null,null,null,null,null,null,null,0,{"$f":"IFERROR(IF(J548=99,1,IF(MATCH(J548&\"/\"&L548,読み替え表_食品ロス!$P$29:$P$42,0),1,0)),0)","v":0},"*"]
[null,null,539,null,null,null,null,null,null,null,null,null,null,null,null,null,null,null,null,null,null,null,null,null,null,0,{"$f":"IFERROR(IF(J549=99,1,IF(MATCH(J549&\"/\"&L549,読み替え表_食品ロス!$P$29:$P$42,0),1,0)),0)","v":0},"*"]
[null,null,540,null,null,null,null,null,null,null,null,null,null,null,null,null,null,null,null,null,null,null,null,null,null,0,{"$f":"IFERROR(IF(J550=99,1,IF(MATCH(J550&\"/\"&L550,読み替え表_食品ロス!$P$29:$P$42,0),1,0)),0)","v":0},"*"]
[null,null,541,null,null,null,null,null,null,null,null,null,null,null,null,null,null,null,null,null,null,null,null,null,null,0,{"$f":"IFERROR(IF(J551=99,1,IF(MATCH(J551&\"/\"&L551,読み替え表_食品ロス!$P$29:$P$42,0),1,0)),0)","v":0},"*"]
[null,null,542,null,null,null,null,null,null,null,null,null,null,null,null,null,null,null,null,null,null,null,null,null,null,0,{"$f":"IFERROR(IF(J552=99,1,IF(MATCH(J552&\"/\"&L552,読み替え表_食品ロス!$P$29:$P$42,0),1,0)),0)","v":0},"*"]
[null,null,543,null,null,null,null,null,null,null,null,null,null,null,null,null,null,null,null,null,null,null,null,null,null,0,{"$f":"IFERROR(IF(J553=99,1,IF(MATCH(J553&\"/\"&L553,読み替え表_食品ロス!$P$29:$P$42,0),1,0)),0)","v":0},"*"]
[null,null,544,null,null,null,null,null,null,null,null,null,null,null,null,null,null,null,null,null,null,null,null,null,null,0,{"$f":"IFERROR(IF(J554=99,1,IF(MATCH(J554&\"/\"&L554,読み替え表_食品ロス!$P$29:$P$42,0),1,0)),0)","v":0},"*"]
[null,null,545,null,null,null,null,null,null,null,null,null,null,null,null,null,null,null,null,null,null,null,null,null,null,0,{"$f":"IFERROR(IF(J555=99,1,IF(MATCH(J555&\"/\"&L555,読み替え表_食品ロス!$P$29:$P$42,0),1,0)),0)","v":0},"*"]
[null,null,546,null,null,null,null,null,null,null,null,null,null,null,null,null,null,null,null,null,null,null,null,null,null,0,{"$f":"IFERROR(IF(J556=99,1,IF(MATCH(J556&\"/\"&L556,読み替え表_食品ロス!$P$29:$P$42,0),1,0)),0)","v":0},"*"]
[null,null,547,null,null,null,null,null,null,null,null,null,null,null,null,null,null,null,null,null,null,null,null,null,null,0,{"$f":"IFERROR(IF(J557=99,1,IF(MATCH(J557&\"/\"&L557,読み替え表_食品ロス!$P$29:$P$42,0),1,0)),0)","v":0},"*"]
[null,null,548,null,null,null,null,null,null,null,null,null,null,null,null,null,null,null,null,null,null,null,null,null,null,0,{"$f":"IFERROR(IF(J558=99,1,IF(MATCH(J558&\"/\"&L558,読み替え表_食品ロス!$P$29:$P$42,0),1,0)),0)","v":0},"*"]
[null,null,549,null,null,null,null,null,null,null,null,null,null,null,null,null,null,null,null,null,null,null,null,null,null,0,{"$f":"IFERROR(IF(J559=99,1,IF(MATCH(J559&\"/\"&L559,読み替え表_食品ロス!$P$29:$P$42,0),1,0)),0)","v":0},"*"]
[null,null,550,null,null,null,null,null,null,null,null,null,null,null,null,null,null,null,null,null,null,null,null,null,null,0,{"$f":"IFERROR(IF(J560=99,1,IF(MATCH(J560&\"/\"&L560,読み替え表_食品ロス!$P$29:$P$42,0),1,0)),0)","v":0},"*"]
[null,null,551,null,null,null,null,null,null,null,null,null,null,null,null,null,null,null,null,null,null,null,null,null,null,0,{"$f":"IFERROR(IF(J561=99,1,IF(MATCH(J561&\"/\"&L561,読み替え表_食品ロス!$P$29:$P$42,0),1,0)),0)","v":0},"*"]
[null,null,552,null,null,null,null,null,null,null,null,null,null,null,null,null,null,null,null,null,null,null,null,null,null,0,{"$f":"IFERROR(IF(J562=99,1,IF(MATCH(J562&\"/\"&L562,読み替え表_食品ロス!$P$29:$P$42,0),1,0)),0)","v":0},"*"]
[null,null,553,null,null,null,null,null,null,null,null,null,null,null,null,null,null,null,null,null,null,null,null,null,null,0,{"$f":"IFERROR(IF(J563=99,1,IF(MATCH(J563&\"/\"&L563,読み替え表_食品ロス!$P$29:$P$42,0),1,0)),0)","v":0},"*"]
[null,null,554,null,null,null,null,null,null,null,null,null,null,null,null,null,null,null,null,null,null,null,null,null,null,0,{"$f":"IFERROR(IF(J564=99,1,IF(MATCH(J564&\"/\"&L564,読み替え表_食品ロス!$P$29:$P$42,0),1,0)),0)","v":0},"*"]
[null,null,555,null,null,null,null,null,null,null,null,null,null,null,null,null,null,null,null,null,null,null,null,null,null,0,{"$f":"IFERROR(IF(J565=99,1,IF(MATCH(J565&\"/\"&L565,読み替え表_食品ロス!$P$29:$P$42,0),1,0)),0)","v":0},"*"]
[null,null,556,null,null,null,null,null,null,null,null,null,null,null,null,null,null,null,null,null,null,null,null,null,null,0,{"$f":"IFERROR(IF(J566=99,1,IF(MATCH(J566&\"/\"&L566,読み替え表_食品ロス!$P$29:$P$42,0),1,0)),0)","v":0},"*"]
[null,null,557,null,null,null,null,null,null,null,null,null,null,null,null,null,null,null,null,null,null,null,null,null,null,0,{"$f":"IFERROR(IF(J567=99,1,IF(MATCH(J567&\"/\"&L567,読み替え表_食品ロス!$P$29:$P$42,0),1,0)),0)","v":0},"*"]
[null,null,558,null,null,null,null,null,null,null,null,null,null,null,null,null,null,null,null,null,null,null,null,null,null,0,{"$f":"IFERROR(IF(J568=99,1,IF(MATCH(J568&\"/\"&L568,読み替え表_食品ロス!$P$29:$P$42,0),1,0)),0)","v":0},"*"]
[null,null,559,null,null,null,null,null,null,null,null,null,null,null,null,null,null,null,null,null,null,null,null,null,null,0,{"$f":"IFERROR(IF(J569=99,1,IF(MATCH(J569&\"/\"&L569,読み替え表_食品ロス!$P$29:$P$42,0),1,0)),0)","v":0},"*"]
[null,null,560,null,null,null,null,null,null,null,null,null,null,null,null,null,null,null,null,null,null,null,null,null,null,0,{"$f":"IFERROR(IF(J570=99,1,IF(MATCH(J570&\"/\"&L570,読み替え表_食品ロス!$P$29:$P$42,0),1,0)),0)","v":0},"*"]
[null,null,561,null,null,null,null,null,null,null,null,null,null,null,null,null,null,null,null,null,null,null,null,null,null,0,{"$f":"IFERROR(IF(J571=99,1,IF(MATCH(J571&\"/\"&L571,読み替え表_食品ロス!$P$29:$P$42,0),1,0)),0)","v":0},"*"]
[null,null,562,null,null,null,null,null,null,null,null,null,null,null,null,null,null,null,null,null,null,null,null,null,null,0,{"$f":"IFERROR(IF(J572=99,1,IF(MATCH(J572&\"/\"&L572,読み替え表_食品ロス!$P$29:$P$42,0),1,0)),0)","v":0},"*"]
[null,null,563,null,null,null,null,null,null,null,null,null,null,null,null,null,null,null,null,null,null,null,null,null,null,0,{"$f":"IFERROR(IF(J573=99,1,IF(MATCH(J573&\"/\"&L573,読み替え表_食品ロス!$P$29:$P$42,0),1,0)),0)","v":0},"*"]
[null,null,564,null,null,null,null,null,null,null,null,null,null,null,null,null,null,null,null,null,null,null,null,null,null,0,{"$f":"IFERROR(IF(J574=99,1,IF(MATCH(J574&\"/\"&L574,読み替え表_食品ロス!$P$29:$P$42,0),1,0)),0)","v":0},"*"]
[null,null,565,null,null,null,null,null,null,null,null,null,null,null,null,null,null,null,null,null,null,null,null,null,null,0,{"$f":"IFERROR(IF(J575=99,1,IF(MATCH(J575&\"/\"&L575,読み替え表_食品ロス!$P$29:$P$42,0),1,0)),0)","v":0},"*"]
[null,null,566,null,null,null,null,null,null,null,null,null,null,null,null,null,null,null,null,null,null,null,null,null,null,0,{"$f":"IFERROR(IF(J576=99,1,IF(MATCH(J576&\"/\"&L576,読み替え表_食品ロス!$P$29:$P$42,0),1,0)),0)","v":0},"*"]
[null,null,567,null,null,null,null,null,null,null,null,null,null,null,null,null,null,null,null,null,null,null,null,null,null,0,{"$f":"IFERROR(IF(J577=99,1,IF(MATCH(J577&\"/\"&L577,読み替え表_食品ロス!$P$29:$P$42,0),1,0)),0)","v":0},"*"]
[null,null,568,null,null,null,null,null,null,null,null,null,null,null,null,null,null,null,null,null,null,null,null,null,null,0,{"$f":"IFERROR(IF(J578=99,1,IF(MATCH(J578&\"/\"&L578,読み替え表_食品ロス!$P$29:$P$42,0),1,0)),0)","v":0},"*"]
[null,null,569,null,null,null,null,null,null,null,null,null,null,null,null,null,null,null,null,null,null,null,null,null,null,0,{"$f":"IFERROR(IF(J579=99,1,IF(MATCH(J579&\"/\"&L579,読み替え表_食品ロス!$P$29:$P$42,0),1,0)),0)","v":0},"*"]
[null,null,570,null,null,null,null,null,null,null,null,null,null,null,null,null,null,null,null,null,null,null,null,null,null,0,{"$f":"IFERROR(IF(J580=99,1,IF(MATCH(J580&\"/\"&L580,読み替え表_食品ロス!$P$29:$P$42,0),1,0)),0)","v":0},"*"]
[null,null,571,null,null,null,null,null,null,null,null,null,null,null,null,null,null,null,null,null,null,null,null,null,null,0,{"$f":"IFERROR(IF(J581=99,1,IF(MATCH(J581&\"/\"&L581,読み替え表_食品ロス!$P$29:$P$42,0),1,0)),0)","v":0},"*"]
[null,null,572,null,null,null,null,null,null,null,null,null,null,null,null,null,null,null,null,null,null,null,null,null,null,0,{"$f":"IFERROR(IF(J582=99,1,IF(MATCH(J582&\"/\"&L582,読み替え表_食品ロス!$P$29:$P$42,0),1,0)),0)","v":0},"*"]
[null,null,573,null,null,null,null,null,null,null,null,null,null,null,null,null,null,null,null,null,null,null,null,null,null,0,{"$f":"IFERROR(IF(J583=99,1,IF(MATCH(J583&\"/\"&L583,読み替え表_食品ロス!$P$29:$P$42,0),1,0)),0)","v":0},"*"]
[null,null,574,null,null,null,null,null,null,null,null,null,null,null,null,null,null,null,null,null,null,null,null,null,null,0,{"$f":"IFERROR(IF(J584=99,1,IF(MATCH(J584&\"/\"&L584,読み替え表_食品ロス!$P$29:$P$42,0),1,0)),0)","v":0},"*"]
[null,null,575,null,null,null,null,null,null,null,null,null,null,null,null,null,null,null,null,null,null,null,null,null,null,0,{"$f":"IFERROR(IF(J585=99,1,IF(MATCH(J585&\"/\"&L585,読み替え表_食品ロス!$P$29:$P$42,0),1,0)),0)","v":0},"*"]
[null,null,576,null,null,null,null,null,null,null,null,null,null,null,null,null,null,null,null,null,null,null,null,null,null,0,{"$f":"IFERROR(IF(J586=99,1,IF(MATCH(J586&\"/\"&L586,読み替え表_食品ロス!$P$29:$P$42,0),1,0)),0)","v":0},"*"]
[null,null,577,null,null,null,null,null,null,null,null,null,null,null,null,null,null,null,null,null,null,null,null,null,null,0,{"$f":"IFERROR(IF(J587=99,1,IF(MATCH(J587&\"/\"&L587,読み替え表_食品ロス!$P$29:$P$42,0),1,0)),0)","v":0},"*"]
[null,null,{"$f":"ROW()-10","v":578},null,null,null,null,null,null,null,null,null,null,null,null,null,null,null,null,null,null,null,null,null,null,{"$f":"IF(OR(L588=1,L588=2,L588=3),1,0)","v":0},{"$f":"IFERROR(IF(J588=99,1,IF(MATCH(J588&\"/\"&L588,読み替え表_食品ロス!$P$29:$P$42,0),1,0)),0)","v":0},"*"]
[null,null,579,null,null,null,null,null,null,null,null,null,null,null,null,null,null,null,null,null,null,null,null,null,null,0,{"$f":"IFERROR(IF(J589=99,1,IF(MATCH(J589&\"/\"&L589,読み替え表_食品ロス!$P$29:$P$42,0),1,0)),0)","v":0},"*"]
[null,null,580,null,null,null,null,null,null,null,null,null,null,null,null,null,null,null,null,null,null,null,null,null,null,0,{"$f":"IFERROR(IF(J590=99,1,IF(MATCH(J590&\"/\"&L590,読み替え表_食品ロス!$P$29:$P$42,0),1,0)),0)","v":0},"*"]
[null,null,581,null,null,null,null,null,null,null,null,null,null,null,null,null,null,null,null,null,null,null,null,null,null,0,{"$f":"IFERROR(IF(J591=99,1,IF(MATCH(J591&\"/\"&L591,読み替え表_食品ロス!$P$29:$P$42,0),1,0)),0)","v":0},"*"]
[null,null,582,null,null,null,null,null,null,null,null,null,null,null,null,null,null,null,null,null,null,null,null,null,null,0,{"$f":"IFERROR(IF(J592=99,1,IF(MATCH(J592&\"/\"&L592,読み替え表_食品ロス!$P$29:$P$42,0),1,0)),0)","v":0},"*"]
[null,null,583,null,null,null,null,null,null,null,null,null,null,null,null,null,null,null,null,null,null,null,null,null,null,0,{"$f":"IFERROR(IF(J593=99,1,IF(MATCH(J593&\"/\"&L593,読み替え表_食品ロス!$P$29:$P$42,0),1,0)),0)","v":0},"*"]
[null,null,584,null,null,null,null,null,null,null,null,null,null,null,null,null,null,null,null,null,null,null,null,null,null,0,{"$f":"IFERROR(IF(J594=99,1,IF(MATCH(J594&\"/\"&L594,読み替え表_食品ロス!$P$29:$P$42,0),1,0)),0)","v":0},"*"]
[null,null,585,null,null,null,null,null,null,null,null,null,null,null,null,null,null,null,null,null,null,null,null,null,null,0,{"$f":"IFERROR(IF(J595=99,1,IF(MATCH(J595&\"/\"&L595,読み替え表_食品ロス!$P$29:$P$42,0),1,0)),0)","v":0},"*"]
[null,null,586,null,null,null,null,null,null,null,null,null,null,null,null,null,null,null,null,null,null,null,null,null,null,0,{"$f":"IFERROR(IF(J596=99,1,IF(MATCH(J596&\"/\"&L596,読み替え表_食品ロス!$P$29:$P$42,0),1,0)),0)","v":0},"*"]
[null,null,587,null,null,null,null,null,null,null,null,null,null,null,null,null,null,null,null,null,null,null,null,null,null,0,{"$f":"IFERROR(IF(J597=99,1,IF(MATCH(J597&\"/\"&L597,読み替え表_食品ロス!$P$29:$P$42,0),1,0)),0)","v":0},"*"]
[null,null,588,null,null,null,null,null,null,null,null,null,null,null,null,null,null,null,null,null,null,null,null,null,null,0,{"$f":"IFERROR(IF(J598=99,1,IF(MATCH(J598&\"/\"&L598,読み替え表_食品ロス!$P$29:$P$42,0),1,0)),0)","v":0},"*"]
[null,null,589,null,null,null,null,null,null,null,null,null,null,null,null,null,null,null,null,null,null,null,null,null,null,0,{"$f":"IFERROR(IF(J599=99,1,IF(MATCH(J599&\"/\"&L599,読み替え表_食品ロス!$P$29:$P$42,0),1,0)),0)","v":0},"*"]
[null,null,590,null,null,null,null,null,null,null,null,null,null,null,null,null,null,null,null,null,null,null,null,null,null,0,{"$f":"IFERROR(IF(J600=99,1,IF(MATCH(J600&\"/\"&L600,読み替え表_食品ロス!$P$29:$P$42,0),1,0)),0)","v":0},"*"]
[null,null,591,null,null,null,null,null,null,null,null,null,null,null,null,null,null,null,null,null,null,null,null,null,null,0,{"$f":"IFERROR(IF(J601=99,1,IF(MATCH(J601&\"/\"&L601,読み替え表_食品ロス!$P$29:$P$42,0),1,0)),0)","v":0},"*"]
[null,null,592,null,null,null,null,null,null,null,null,null,null,null,null,null,null,null,null,null,null,null,null,null,null,0,{"$f":"IFERROR(IF(J602=99,1,IF(MATCH(J602&\"/\"&L602,読み替え表_食品ロス!$P$29:$P$42,0),1,0)),0)","v":0},"*"]
[null,null,593,null,null,null,null,null,null,null,null,null,null,null,null,null,null,null,null,null,null,null,null,null,null,0,{"$f":"IFERROR(IF(J603=99,1,IF(MATCH(J603&\"/\"&L603,読み替え表_食品ロス!$P$29:$P$42,0),1,0)),0)","v":0},"*"]
[null,null,594,null,null,null,null,null,null,null,null,null,null,null,null,null,null,null,null,null,null,null,null,null,null,0,{"$f":"IFERROR(IF(J604=99,1,IF(MATCH(J604&\"/\"&L604,読み替え表_食品ロス!$P$29:$P$42,0),1,0)),0)","v":0},"*"]
[null,null,595,null,null,null,null,null,null,null,null,null,null,null,null,null,null,null,null,null,null,null,null,null,null,0,{"$f":"IFERROR(IF(J605=99,1,IF(MATCH(J605&\"/\"&L605,読み替え表_食品ロス!$P$29:$P$42,0),1,0)),0)","v":0},"*"]
[null,null,596,null,null,null,null,null,null,null,null,null,null,null,null,null,null,null,null,null,null,null,null,null,null,0,{"$f":"IFERROR(IF(J606=99,1,IF(MATCH(J606&\"/\"&L606,読み替え表_食品ロス!$P$29:$P$42,0),1,0)),0)","v":0},"*"]
[null,null,597,null,null,null,null,null,null,null,null,null,null,null,null,null,null,null,null,null,null,null,null,null,null,0,{"$f":"IFERROR(IF(J607=99,1,IF(MATCH(J607&\"/\"&L607,読み替え表_食品ロス!$P$29:$P$42,0),1,0)),0)","v":0},"*"]
[null,null,598,null,null,null,null,null,null,null,null,null,null,null,null,null,null,null,null,null,null,null,null,null,null,0,{"$f":"IFERROR(IF(J608=99,1,IF(MATCH(J608&\"/\"&L608,読み替え表_食品ロス!$P$29:$P$42,0),1,0)),0)","v":0},"*"]
[null,null,599,null,null,null,null,null,null,null,null,null,null,null,null,null,null,null,null,null,null,null,null,null,null,0,{"$f":"IFERROR(IF(J609=99,1,IF(MATCH(J609&\"/\"&L609,読み替え表_食品ロス!$P$29:$P$42,0),1,0)),0)","v":0},"*"]
[null,null,600,null,null,null,null,null,null,null,null,null,null,null,null,null,null,null,null,null,null,null,null,null,null,0,{"$f":"IFERROR(IF(J610=99,1,IF(MATCH(J610&\"/\"&L610,読み替え表_食品ロス!$P$29:$P$42,0),1,0)),0)","v":0},"*"]
[null,null,601,null,null,null,null,null,null,null,null,null,null,null,null,null,null,null,null,null,null,null,null,null,null,0,{"$f":"IFERROR(IF(J611=99,1,IF(MATCH(J611&\"/\"&L611,読み替え表_食品ロス!$P$29:$P$42,0),1,0)),0)","v":0},"*"]
[null,null,602,null,null,null,null,null,null,null,null,null,null,null,null,null,null,null,null,null,null,null,null,null,null,0,{"$f":"IFERROR(IF(J612=99,1,IF(MATCH(J612&\"/\"&L612,読み替え表_食品ロス!$P$29:$P$42,0),1,0)),0)","v":0},"*"]
[null,null,603,null,null,null,null,null,null,null,null,null,null,null,null,null,null,null,null,null,null,null,null,null,null,0,{"$f":"IFERROR(IF(J613=99,1,IF(MATCH(J613&\"/\"&L613,読み替え表_食品ロス!$P$29:$P$42,0),1,0)),0)","v":0},"*"]
[null,null,604,null,null,null,null,null,null,null,null,null,null,null,null,null,null,null,null,null,null,null,null,null,null,0,{"$f":"IFERROR(IF(J614=99,1,IF(MATCH(J614&\"/\"&L614,読み替え表_食品ロス!$P$29:$P$42,0),1,0)),0)","v":0},"*"]
[null,null,605,null,null,null,null,null,null,null,null,null,null,null,null,null,null,null,null,null,null,null,null,null,null,0,{"$f":"IFERROR(IF(J615=99,1,IF(MATCH(J615&\"/\"&L615,読み替え表_食品ロス!$P$29:$P$42,0),1,0)),0)","v":0},"*"]
[null,null,606,null,null,null,null,null,null,null,null,null,null,null,null,null,null,null,null,null,null,null,null,null,null,0,{"$f":"IFERROR(IF(J616=99,1,IF(MATCH(J616&\"/\"&L616,読み替え表_食品ロス!$P$29:$P$42,0),1,0)),0)","v":0},"*"]
[null,null,607,null,null,null,null,null,null,null,null,null,null,null,null,null,null,null,null,null,null,null,null,null,null,0,{"$f":"IFERROR(IF(J617=99,1,IF(MATCH(J617&\"/\"&L617,読み替え表_食品ロス!$P$29:$P$42,0),1,0)),0)","v":0},"*"]
[null,null,608,null,null,null,null,null,null,null,null,null,null,null,null,null,null,null,null,null,null,null,null,null,null,0,{"$f":"IFERROR(IF(J618=99,1,IF(MATCH(J618&\"/\"&L618,読み替え表_食品ロス!$P$29:$P$42,0),1,0)),0)","v":0},"*"]
[null,null,609,null,null,null,null,null,null,null,null,null,null,null,null,null,null,null,null,null,null,null,null,null,null,0,{"$f":"IFERROR(IF(J619=99,1,IF(MATCH(J619&\"/\"&L619,読み替え表_食品ロス!$P$29:$P$42,0),1,0)),0)","v":0},"*"]
[null,null,610,null,null,null,null,null,null,null,null,null,null,null,null,null,null,null,null,null,null,null,null,null,null,0,{"$f":"IFERROR(IF(J620=99,1,IF(MATCH(J620&\"/\"&L620,読み替え表_食品ロス!$P$29:$P$42,0),1,0)),0)","v":0},"*"]
[null,null,611,null,null,null,null,null,null,null,null,null,null,null,null,null,null,null,null,null,null,null,null,null,null,0,{"$f":"IFERROR(IF(J621=99,1,IF(MATCH(J621&\"/\"&L621,読み替え表_食品ロス!$P$29:$P$42,0),1,0)),0)","v":0},"*"]
[null,null,612,null,null,null,null,null,null,null,null,null,null,null,null,null,null,null,null,null,null,null,null,null,null,0,{"$f":"IFERROR(IF(J622=99,1,IF(MATCH(J622&\"/\"&L622,読み替え表_食品ロス!$P$29:$P$42,0),1,0)),0)","v":0},"*"]
[null,null,613,null,null,null,null,null,null,null,null,null,null,null,null,null,null,null,null,null,null,null,null,null,null,0,{"$f":"IFERROR(IF(J623=99,1,IF(MATCH(J623&\"/\"&L623,読み替え表_食品ロス!$P$29:$P$42,0),1,0)),0)","v":0},"*"]
[null,null,614,null,null,null,null,null,null,null,null,null,null,null,null,null,null,null,null,null,null,null,null,null,null,0,{"$f":"IFERROR(IF(J624=99,1,IF(MATCH(J624&\"/\"&L624,読み替え表_食品ロス!$P$29:$P$42,0),1,0)),0)","v":0},"*"]
[null,null,615,null,null,null,null,null,null,null,null,null,null,null,null,null,null,null,null,null,null,null,null,null,null,0,{"$f":"IFERROR(IF(J625=99,1,IF(MATCH(J625&\"/\"&L625,読み替え表_食品ロス!$P$29:$P$42,0),1,0)),0)","v":0},"*"]
[null,null,616,null,null,null,null,null,null,null,null,null,null,null,null,null,null,null,null,null,null,null,null,null,null,0,{"$f":"IFERROR(IF(J626=99,1,IF(MATCH(J626&\"/\"&L626,読み替え表_食品ロス!$P$29:$P$42,0),1,0)),0)","v":0},"*"]
[null,null,617,null,null,null,null,null,null,null,null,null,null,null,null,null,null,null,null,null,null,null,null,null,null,0,{"$f":"IFERROR(IF(J627=99,1,IF(MATCH(J627&\"/\"&L627,読み替え表_食品ロス!$P$29:$P$42,0),1,0)),0)","v":0},"*"]
[null,null,618,null,null,null,null,null,null,null,null,null,null,null,null,null,null,null,null,null,null,null,null,null,null,0,{"$f":"IFERROR(IF(J628=99,1,IF(MATCH(J628&\"/\"&L628,読み替え表_食品ロス!$P$29:$P$42,0),1,0)),0)","v":0},"*"]
[null,null,619,null,null,null,null,null,null,null,null,null,null,null,null,null,null,null,null,null,null,null,null,null,null,0,{"$f":"IFERROR(IF(J629=99,1,IF(MATCH(J629&\"/\"&L629,読み替え表_食品ロス!$P$29:$P$42,0),1,0)),0)","v":0},"*"]
[null,null,620,null,null,null,null,null,null,null,null,null,null,null,null,null,null,null,null,null,null,null,null,null,null,0,{"$f":"IFERROR(IF(J630=99,1,IF(MATCH(J630&\"/\"&L630,読み替え表_食品ロス!$P$29:$P$42,0),1,0)),0)","v":0},"*"]
[null,null,621,null,null,null,null,null,null,null,null,null,null,null,null,null,null,null,null,null,null,null,null,null,null,0,{"$f":"IFERROR(IF(J631=99,1,IF(MATCH(J631&\"/\"&L631,読み替え表_食品ロス!$P$29:$P$42,0),1,0)),0)","v":0},"*"]
[null,null,622,null,null,null,null,null,null,null,null,null,null,null,null,null,null,null,null,null,null,null,null,null,null,0,{"$f":"IFERROR(IF(J632=99,1,IF(MATCH(J632&\"/\"&L632,読み替え表_食品ロス!$P$29:$P$42,0),1,0)),0)","v":0},"*"]
[null,null,623,null,null,null,null,null,null,null,null,null,null,null,null,null,null,null,null,null,null,null,null,null,null,0,{"$f":"IFERROR(IF(J633=99,1,IF(MATCH(J633&\"/\"&L633,読み替え表_食品ロス!$P$29:$P$42,0),1,0)),0)","v":0},"*"]
[null,null,624,null,null,null,null,null,null,null,null,null,null,null,null,null,null,null,null,null,null,null,null,null,null,0,{"$f":"IFERROR(IF(J634=99,1,IF(MATCH(J634&\"/\"&L634,読み替え表_食品ロス!$P$29:$P$42,0),1,0)),0)","v":0},"*"]
[null,null,625,null,null,null,null,null,null,null,null,null,null,null,null,null,null,null,null,null,null,null,null,null,null,0,{"$f":"IFERROR(IF(J635=99,1,IF(MATCH(J635&\"/\"&L635,読み替え表_食品ロス!$P$29:$P$42,0),1,0)),0)","v":0},"*"]
[null,null,626,null,null,null,null,null,null,null,null,null,null,null,null,null,null,null,null,null,null,null,null,null,null,0,{"$f":"IFERROR(IF(J636=99,1,IF(MATCH(J636&\"/\"&L636,読み替え表_食品ロス!$P$29:$P$42,0),1,0)),0)","v":0},"*"]
[null,null,627,null,null,null,null,null,null,null,null,null,null,null,null,null,null,null,null,null,null,null,null,null,null,0,{"$f":"IFERROR(IF(J637=99,1,IF(MATCH(J637&\"/\"&L637,読み替え表_食品ロス!$P$29:$P$42,0),1,0)),0)","v":0},"*"]
[null,null,628,null,null,null,null,null,null,null,null,null,null,null,null,null,null,null,null,null,null,null,null,null,null,0,{"$f":"IFERROR(IF(J638=99,1,IF(MATCH(J638&\"/\"&L638,読み替え表_食品ロス!$P$29:$P$42,0),1,0)),0)","v":0},"*"]
[null,null,629,null,null,null,null,null,null,null,null,null,null,null,null,null,null,null,null,null,null,null,null,null,null,0,{"$f":"IFERROR(IF(J639=99,1,IF(MATCH(J639&\"/\"&L639,読み替え表_食品ロス!$P$29:$P$42,0),1,0)),0)","v":0},"*"]
[null,null,630,null,null,null,null,null,null,null,null,null,null,null,null,null,null,null,null,null,null,null,null,null,null,0,{"$f":"IFERROR(IF(J640=99,1,IF(MATCH(J640&\"/\"&L640,読み替え表_食品ロス!$P$29:$P$42,0),1,0)),0)","v":0},"*"]
[null,null,631,null,null,null,null,null,null,null,null,null,null,null,null,null,null,null,null,null,null,null,null,null,null,0,{"$f":"IFERROR(IF(J641=99,1,IF(MATCH(J641&\"/\"&L641,読み替え表_食品ロス!$P$29:$P$42,0),1,0)),0)","v":0},"*"]
[null,null,632,null,null,null,null,null,null,null,null,null,null,null,null,null,null,null,null,null,null,null,null,null,null,0,{"$f":"IFERROR(IF(J642=99,1,IF(MATCH(J642&\"/\"&L642,読み替え表_食品ロス!$P$29:$P$42,0),1,0)),0)","v":0},"*"]
[null,null,633,null,null,null,null,null,null,null,null,null,null,null,null,null,null,null,null,null,null,null,null,null,null,0,{"$f":"IFERROR(IF(J643=99,1,IF(MATCH(J643&\"/\"&L643,読み替え表_食品ロス!$P$29:$P$42,0),1,0)),0)","v":0},"*"]
[null,null,634,null,null,null,null,null,null,null,null,null,null,null,null,null,null,null,null,null,null,null,null,null,null,0,{"$f":"IFERROR(IF(J644=99,1,IF(MATCH(J644&\"/\"&L644,読み替え表_食品ロス!$P$29:$P$42,0),1,0)),0)","v":0},"*"]
[null,null,635,null,null,null,null,null,null,null,null,null,null,null,null,null,null,null,null,null,null,null,null,null,null,0,{"$f":"IFERROR(IF(J645=99,1,IF(MATCH(J645&\"/\"&L645,読み替え表_食品ロス!$P$29:$P$42,0),1,0)),0)","v":0},"*"]
[null,null,636,null,null,null,null,null,null,null,null,null,null,null,null,null,null,null,null,null,null,null,null,null,null,0,{"$f":"IFERROR(IF(J646=99,1,IF(MATCH(J646&\"/\"&L646,読み替え表_食品ロス!$P$29:$P$42,0),1,0)),0)","v":0},"*"]
[null,null,637,null,null,null,null,null,null,null,null,null,null,null,null,null,null,null,null,null,null,null,null,null,null,0,{"$f":"IFERROR(IF(J647=99,1,IF(MATCH(J647&\"/\"&L647,読み替え表_食品ロス!$P$29:$P$42,0),1,0)),0)","v":0},"*"]
[null,null,638,null,null,null,null,null,null,null,null,null,null,null,null,null,null,null,null,null,null,null,null,null,null,0,{"$f":"IFERROR(IF(J648=99,1,IF(MATCH(J648&\"/\"&L648,読み替え表_食品ロス!$P$29:$P$42,0),1,0)),0)","v":0},"*"]
[null,null,639,null,null,null,null,null,null,null,null,null,null,null,null,null,null,null,null,null,null,null,null,null,null,0,{"$f":"IFERROR(IF(J649=99,1,IF(MATCH(J649&\"/\"&L649,読み替え表_食品ロス!$P$29:$P$42,0),1,0)),0)","v":0},"*"]
[null,null,640,null,null,null,null,null,null,null,null,null,null,null,null,null,null,null,null,null,null,null,null,null,null,0,{"$f":"IFERROR(IF(J650=99,1,IF(MATCH(J650&\"/\"&L650,読み替え表_食品ロス!$P$29:$P$42,0),1,0)),0)","v":0},"*"]
[null,null,641,null,null,null,null,null,null,null,null,null,null,null,null,null,null,null,null,null,null,null,null,null,null,0,{"$f":"IFERROR(IF(J651=99,1,IF(MATCH(J651&\"/\"&L651,読み替え表_食品ロス!$P$29:$P$42,0),1,0)),0)","v":0},"*"]
[null,null,{"$f":"ROW()-10","v":642},null,null,null,null,null,null,null,null,null,null,null,null,null,null,null,null,null,null,null,null,null,null,{"$f":"IF(OR(L652=1,L652=2,L652=3),1,0)","v":0},{"$f":"IFERROR(IF(J652=99,1,IF(MATCH(J652&\"/\"&L652,読み替え表_食品ロス!$P$29:$P$42,0),1,0)),0)","v":0},"*"]
[null,null,643,null,null,null,null,null,null,null,null,null,null,null,null,null,null,null,null,null,null,null,null,null,null,0,{"$f":"IFERROR(IF(J653=99,1,IF(MATCH(J653&\"/\"&L653,読み替え表_食品ロス!$P$29:$P$42,0),1,0)),0)","v":0},"*"]
[null,null,644,null,null,null,null,null,null,null,null,null,null,null,null,null,null,null,null,null,null,null,null,null,null,0,{"$f":"IFERROR(IF(J654=99,1,IF(MATCH(J654&\"/\"&L654,読み替え表_食品ロス!$P$29:$P$42,0),1,0)),0)","v":0},"*"]
[null,null,645,null,null,null,null,null,null,null,null,null,null,null,null,null,null,null,null,null,null,null,null,null,null,0,{"$f":"IFERROR(IF(J655=99,1,IF(MATCH(J655&\"/\"&L655,読み替え表_食品ロス!$P$29:$P$42,0),1,0)),0)","v":0},"*"]
[null,null,646,null,null,null,null,null,null,null,null,null,null,null,null,null,null,null,null,null,null,null,null,null,null,0,{"$f":"IFERROR(IF(J656=99,1,IF(MATCH(J656&\"/\"&L656,読み替え表_食品ロス!$P$29:$P$42,0),1,0)),0)","v":0},"*"]
[null,null,647,null,null,null,null,null,null,null,null,null,null,null,null,null,null,null,null,null,null,null,null,null,null,0,{"$f":"IFERROR(IF(J657=99,1,IF(MATCH(J657&\"/\"&L657,読み替え表_食品ロス!$P$29:$P$42,0),1,0)),0)","v":0},"*"]
[null,null,648,null,null,null,null,null,null,null,null,null,null,null,null,null,null,null,null,null,null,null,null,null,null,0,{"$f":"IFERROR(IF(J658=99,1,IF(MATCH(J658&\"/\"&L658,読み替え表_食品ロス!$P$29:$P$42,0),1,0)),0)","v":0},"*"]
[null,null,649,null,null,null,null,null,null,null,null,null,null,null,null,null,null,null,null,null,null,null,null,null,null,0,{"$f":"IFERROR(IF(J659=99,1,IF(MATCH(J659&\"/\"&L659,読み替え表_食品ロス!$P$29:$P$42,0),1,0)),0)","v":0},"*"]
[null,null,650,null,null,null,null,null,null,null,null,null,null,null,null,null,null,null,null,null,null,null,null,null,null,0,{"$f":"IFERROR(IF(J660=99,1,IF(MATCH(J660&\"/\"&L660,読み替え表_食品ロス!$P$29:$P$42,0),1,0)),0)","v":0},"*"]
[null,null,651,null,null,null,null,null,null,null,null,null,null,null,null,null,null,null,null,null,null,null,null,null,null,0,{"$f":"IFERROR(IF(J661=99,1,IF(MATCH(J661&\"/\"&L661,読み替え表_食品ロス!$P$29:$P$42,0),1,0)),0)","v":0},"*"]
[null,null,652,null,null,null,null,null,null,null,null,null,null,null,null,null,null,null,null,null,null,null,null,null,null,0,{"$f":"IFERROR(IF(J662=99,1,IF(MATCH(J662&\"/\"&L662,読み替え表_食品ロス!$P$29:$P$42,0),1,0)),0)","v":0},"*"]
[null,null,653,null,null,null,null,null,null,null,null,null,null,null,null,null,null,null,null,null,null,null,null,null,null,0,{"$f":"IFERROR(IF(J663=99,1,IF(MATCH(J663&\"/\"&L663,読み替え表_食品ロス!$P$29:$P$42,0),1,0)),0)","v":0},"*"]
[null,null,654,null,null,null,null,null,null,null,null,null,null,null,null,null,null,null,null,null,null,null,null,null,null,0,{"$f":"IFERROR(IF(J664=99,1,IF(MATCH(J664&\"/\"&L664,読み替え表_食品ロス!$P$29:$P$42,0),1,0)),0)","v":0},"*"]
[null,null,655,null,null,null,null,null,null,null,null,null,null,null,null,null,null,null,null,null,null,null,null,null,null,0,{"$f":"IFERROR(IF(J665=99,1,IF(MATCH(J665&\"/\"&L665,読み替え表_食品ロス!$P$29:$P$42,0),1,0)),0)","v":0},"*"]
[null,null,656,null,null,null,null,null,null,null,null,null,null,null,null,null,null,null,null,null,null,null,null,null,null,0,{"$f":"IFERROR(IF(J666=99,1,IF(MATCH(J666&\"/\"&L666,読み替え表_食品ロス!$P$29:$P$42,0),1,0)),0)","v":0},"*"]
[null,null,657,null,null,null,null,null,null,null,null,null,null,null,null,null,null,null,null,null,null,null,null,null,null,0,{"$f":"IFERROR(IF(J667=99,1,IF(MATCH(J667&\"/\"&L667,読み替え表_食品ロス!$P$29:$P$42,0),1,0)),0)","v":0},"*"]
[null,null,658,null,null,null,null,null,null,null,null,null,null,null,null,null,null,null,null,null,null,null,null,null,null,0,{"$f":"IFERROR(IF(J668=99,1,IF(MATCH(J668&\"/\"&L668,読み替え表_食品ロス!$P$29:$P$42,0),1,0)),0)","v":0},"*"]
[null,null,659,null,null,null,null,null,null,null,null,null,null,null,null,null,null,null,null,null,null,null,null,null,null,0,{"$f":"IFERROR(IF(J669=99,1,IF(MATCH(J669&\"/\"&L669,読み替え表_食品ロス!$P$29:$P$42,0),1,0)),0)","v":0},"*"]
[null,null,660,null,null,null,null,null,null,null,null,null,null,null,null,null,null,null,null,null,null,null,null,null,null,0,{"$f":"IFERROR(IF(J670=99,1,IF(MATCH(J670&\"/\"&L670,読み替え表_食品ロス!$P$29:$P$42,0),1,0)),0)","v":0},"*"]
[null,null,661,null,null,null,null,null,null,null,null,null,null,null,null,null,null,null,null,null,null,null,null,null,null,0,{"$f":"IFERROR(IF(J671=99,1,IF(MATCH(J671&\"/\"&L671,読み替え表_食品ロス!$P$29:$P$42,0),1,0)),0)","v":0},"*"]
[null,null,662,null,null,null,null,null,null,null,null,null,null,null,null,null,null,null,null,null,null,null,null,null,null,0,{"$f":"IFERROR(IF(J672=99,1,IF(MATCH(J672&\"/\"&L672,読み替え表_食品ロス!$P$29:$P$42,0),1,0)),0)","v":0},"*"]
[null,null,663,null,null,null,null,null,null,null,null,null,null,null,null,null,null,null,null,null,null,null,null,null,null,0,{"$f":"IFERROR(IF(J673=99,1,IF(MATCH(J673&\"/\"&L673,読み替え表_食品ロス!$P$29:$P$42,0),1,0)),0)","v":0},"*"]
[null,null,664,null,null,null,null,null,null,null,null,null,null,null,null,null,null,null,null,null,null,null,null,null,null,0,{"$f":"IFERROR(IF(J674=99,1,IF(MATCH(J674&\"/\"&L674,読み替え表_食品ロス!$P$29:$P$42,0),1,0)),0)","v":0},"*"]
[null,null,665,null,null,null,null,null,null,null,null,null,null,null,null,null,null,null,null,null,null,null,null,null,null,0,{"$f":"IFERROR(IF(J675=99,1,IF(MATCH(J675&\"/\"&L675,読み替え表_食品ロス!$P$29:$P$42,0),1,0)),0)","v":0},"*"]
[null,null,666,null,null,null,null,null,null,null,null,null,null,null,null,null,null,null,null,null,null,null,null,null,null,0,{"$f":"IFERROR(IF(J676=99,1,IF(MATCH(J676&\"/\"&L676,読み替え表_食品ロス!$P$29:$P$42,0),1,0)),0)","v":0},"*"]
[null,null,667,null,null,null,null,null,null,null,null,null,null,null,null,null,null,null,null,null,null,null,null,null,null,0,{"$f":"IFERROR(IF(J677=99,1,IF(MATCH(J677&\"/\"&L677,読み替え表_食品ロス!$P$29:$P$42,0),1,0)),0)","v":0},"*"]
[null,null,668,null,null,null,null,null,null,null,null,null,null,null,null,null,null,null,null,null,null,null,null,null,null,0,{"$f":"IFERROR(IF(J678=99,1,IF(MATCH(J678&\"/\"&L678,読み替え表_食品ロス!$P$29:$P$42,0),1,0)),0)","v":0},"*"]
[null,null,669,null,null,null,null,null,null,null,null,null,null,null,null,null,null,null,null,null,null,null,null,null,null,0,{"$f":"IFERROR(IF(J679=99,1,IF(MATCH(J679&\"/\"&L679,読み替え表_食品ロス!$P$29:$P$42,0),1,0)),0)","v":0},"*"]
[null,null,670,null,null,null,null,null,null,null,null,null,null,null,null,null,null,null,null,null,null,null,null,null,null,0,{"$f":"IFERROR(IF(J680=99,1,IF(MATCH(J680&\"/\"&L680,読み替え表_食品ロス!$P$29:$P$42,0),1,0)),0)","v":0},"*"]
[null,null,671,null,null,null,null,null,null,null,null,null,null,null,null,null,null,null,null,null,null,null,null,null,null,0,{"$f":"IFERROR(IF(J681=99,1,IF(MATCH(J681&\"/\"&L681,読み替え表_食品ロス!$P$29:$P$42,0),1,0)),0)","v":0},"*"]
[null,null,672,null,null,null,null,null,null,null,null,null,null,null,null,null,null,null,null,null,null,null,null,null,null,0,{"$f":"IFERROR(IF(J682=99,1,IF(MATCH(J682&\"/\"&L682,読み替え表_食品ロス!$P$29:$P$42,0),1,0)),0)","v":0},"*"]
[null,null,673,null,null,null,null,null,null,null,null,null,null,null,null,null,null,null,null,null,null,null,null,null,null,0,{"$f":"IFERROR(IF(J683=99,1,IF(MATCH(J683&\"/\"&L683,読み替え表_食品ロス!$P$29:$P$42,0),1,0)),0)","v":0},"*"]
[null,null,674,null,null,null,null,null,null,null,null,null,null,null,null,null,null,null,null,null,null,null,null,null,null,0,{"$f":"IFERROR(IF(J684=99,1,IF(MATCH(J684&\"/\"&L684,読み替え表_食品ロス!$P$29:$P$42,0),1,0)),0)","v":0},"*"]
[null,null,675,null,null,null,null,null,null,null,null,null,null,null,null,null,null,null,null,null,null,null,null,null,null,0,{"$f":"IFERROR(IF(J685=99,1,IF(MATCH(J685&\"/\"&L685,読み替え表_食品ロス!$P$29:$P$42,0),1,0)),0)","v":0},"*"]
[null,null,676,null,null,null,null,null,null,null,null,null,null,null,null,null,null,null,null,null,null,null,null,null,null,0,{"$f":"IFERROR(IF(J686=99,1,IF(MATCH(J686&\"/\"&L686,読み替え表_食品ロス!$P$29:$P$42,0),1,0)),0)","v":0},"*"]
[null,null,677,null,null,null,null,null,null,null,null,null,null,null,null,null,null,null,null,null,null,null,null,null,null,0,{"$f":"IFERROR(IF(J687=99,1,IF(MATCH(J687&\"/\"&L687,読み替え表_食品ロス!$P$29:$P$42,0),1,0)),0)","v":0},"*"]
[null,null,678,null,null,null,null,null,null,null,null,null,null,null,null,null,null,null,null,null,null,null,null,null,null,0,{"$f":"IFERROR(IF(J688=99,1,IF(MATCH(J688&\"/\"&L688,読み替え表_食品ロス!$P$29:$P$42,0),1,0)),0)","v":0},"*"]
[null,null,679,null,null,null,null,null,null,null,null,null,null,null,null,null,null,null,null,null,null,null,null,null,null,0,{"$f":"IFERROR(IF(J689=99,1,IF(MATCH(J689&\"/\"&L689,読み替え表_食品ロス!$P$29:$P$42,0),1,0)),0)","v":0},"*"]
[null,null,680,null,null,null,null,null,null,null,null,null,null,null,null,null,null,null,null,null,null,null,null,null,null,0,{"$f":"IFERROR(IF(J690=99,1,IF(MATCH(J690&\"/\"&L690,読み替え表_食品ロス!$P$29:$P$42,0),1,0)),0)","v":0},"*"]
[null,null,681,null,null,null,null,null,null,null,null,null,null,null,null,null,null,null,null,null,null,null,null,null,null,0,{"$f":"IFERROR(IF(J691=99,1,IF(MATCH(J691&\"/\"&L691,読み替え表_食品ロス!$P$29:$P$42,0),1,0)),0)","v":0},"*"]
[null,null,682,null,null,null,null,null,null,null,null,null,null,null,null,null,null,null,null,null,null,null,null,null,null,0,{"$f":"IFERROR(IF(J692=99,1,IF(MATCH(J692&\"/\"&L692,読み替え表_食品ロス!$P$29:$P$42,0),1,0)),0)","v":0},"*"]
[null,null,683,null,null,null,null,null,null,null,null,null,null,null,null,null,null,null,null,null,null,null,null,null,null,0,{"$f":"IFERROR(IF(J693=99,1,IF(MATCH(J693&\"/\"&L693,読み替え表_食品ロス!$P$29:$P$42,0),1,0)),0)","v":0},"*"]
[null,null,684,null,null,null,null,null,null,null,null,null,null,null,null,null,null,null,null,null,null,null,null,null,null,0,{"$f":"IFERROR(IF(J694=99,1,IF(MATCH(J694&\"/\"&L694,読み替え表_食品ロス!$P$29:$P$42,0),1,0)),0)","v":0},"*"]
[null,null,685,null,null,null,null,null,null,null,null,null,null,null,null,null,null,null,null,null,null,null,null,null,null,0,{"$f":"IFERROR(IF(J695=99,1,IF(MATCH(J695&\"/\"&L695,読み替え表_食品ロス!$P$29:$P$42,0),1,0)),0)","v":0},"*"]
[null,null,686,null,null,null,null,null,null,null,null,null,null,null,null,null,null,null,null,null,null,null,null,null,null,0,{"$f":"IFERROR(IF(J696=99,1,IF(MATCH(J696&\"/\"&L696,読み替え表_食品ロス!$P$29:$P$42,0),1,0)),0)","v":0},"*"]
[null,null,687,null,null,null,null,null,null,null,null,null,null,null,null,null,null,null,null,null,null,null,null,null,null,0,{"$f":"IFERROR(IF(J697=99,1,IF(MATCH(J697&\"/\"&L697,読み替え表_食品ロス!$P$29:$P$42,0),1,0)),0)","v":0},"*"]
[null,null,688,null,null,null,null,null,null,null,null,null,null,null,null,null,null,null,null,null,null,null,null,null,null,0,{"$f":"IFERROR(IF(J698=99,1,IF(MATCH(J698&\"/\"&L698,読み替え表_食品ロス!$P$29:$P$42,0),1,0)),0)","v":0},"*"]
[null,null,689,null,null,null,null,null,null,null,null,null,null,null,null,null,null,null,null,null,null,null,null,null,null,0,{"$f":"IFERROR(IF(J699=99,1,IF(MATCH(J699&\"/\"&L699,読み替え表_食品ロス!$P$29:$P$42,0),1,0)),0)","v":0},"*"]
[null,null,690,null,null,null,null,null,null,null,null,null,null,null,null,null,null,null,null,null,null,null,null,null,null,0,{"$f":"IFERROR(IF(J700=99,1,IF(MATCH(J700&\"/\"&L700,読み替え表_食品ロス!$P$29:$P$42,0),1,0)),0)","v":0},"*"]
[null,null,691,null,null,null,null,null,null,null,null,null,null,null,null,null,null,null,null,null,null,null,null,null,null,0,{"$f":"IFERROR(IF(J701=99,1,IF(MATCH(J701&\"/\"&L701,読み替え表_食品ロス!$P$29:$P$42,0),1,0)),0)","v":0},"*"]
[null,null,692,null,null,null,null,null,null,null,null,null,null,null,null,null,null,null,null,null,null,null,null,null,null,0,{"$f":"IFERROR(IF(J702=99,1,IF(MATCH(J702&\"/\"&L702,読み替え表_食品ロス!$P$29:$P$42,0),1,0)),0)","v":0},"*"]
[null,null,693,null,null,null,null,null,null,null,null,null,null,null,null,null,null,null,null,null,null,null,null,null,null,0,{"$f":"IFERROR(IF(J703=99,1,IF(MATCH(J703&\"/\"&L703,読み替え表_食品ロス!$P$29:$P$42,0),1,0)),0)","v":0},"*"]
[null,null,694,null,null,null,null,null,null,null,null,null,null,null,null,null,null,null,null,null,null,null,null,null,null,0,{"$f":"IFERROR(IF(J704=99,1,IF(MATCH(J704&\"/\"&L704,読み替え表_食品ロス!$P$29:$P$42,0),1,0)),0)","v":0},"*"]
[null,null,695,null,null,null,null,null,null,null,null,null,null,null,null,null,null,null,null,null,null,null,null,null,null,0,{"$f":"IFERROR(IF(J705=99,1,IF(MATCH(J705&\"/\"&L705,読み替え表_食品ロス!$P$29:$P$42,0),1,0)),0)","v":0},"*"]
[null,null,696,null,null,null,null,null,null,null,null,null,null,null,null,null,null,null,null,null,null,null,null,null,null,0,{"$f":"IFERROR(IF(J706=99,1,IF(MATCH(J706&\"/\"&L706,読み替え表_食品ロス!$P$29:$P$42,0),1,0)),0)","v":0},"*"]
[null,null,697,null,null,null,null,null,null,null,null,null,null,null,null,null,null,null,null,null,null,null,null,null,null,0,{"$f":"IFERROR(IF(J707=99,1,IF(MATCH(J707&\"/\"&L707,読み替え表_食品ロス!$P$29:$P$42,0),1,0)),0)","v":0},"*"]
[null,null,698,null,null,null,null,null,null,null,null,null,null,null,null,null,null,null,null,null,null,null,null,null,null,0,{"$f":"IFERROR(IF(J708=99,1,IF(MATCH(J708&\"/\"&L708,読み替え表_食品ロス!$P$29:$P$42,0),1,0)),0)","v":0},"*"]
[null,null,699,null,null,null,null,null,null,null,null,null,null,null,null,null,null,null,null,null,null,null,null,null,null,0,{"$f":"IFERROR(IF(J709=99,1,IF(MATCH(J709&\"/\"&L709,読み替え表_食品ロス!$P$29:$P$42,0),1,0)),0)","v":0},"*"]
[null,null,700,null,null,null,null,null,null,null,null,null,null,null,null,null,null,null,null,null,null,null,null,null,null,0,{"$f":"IFERROR(IF(J710=99,1,IF(MATCH(J710&\"/\"&L710,読み替え表_食品ロス!$P$29:$P$42,0),1,0)),0)","v":0},"*"]
[null,null,701,null,null,null,null,null,null,null,null,null,null,null,null,null,null,null,null,null,null,null,null,null,null,0,{"$f":"IFERROR(IF(J711=99,1,IF(MATCH(J711&\"/\"&L711,読み替え表_食品ロス!$P$29:$P$42,0),1,0)),0)","v":0},"*"]
[null,null,702,null,null,null,null,null,null,null,null,null,null,null,null,null,null,null,null,null,null,null,null,null,null,0,{"$f":"IFERROR(IF(J712=99,1,IF(MATCH(J712&\"/\"&L712,読み替え表_食品ロス!$P$29:$P$42,0),1,0)),0)","v":0},"*"]
[null,null,703,null,null,null,null,null,null,null,null,null,null,null,null,null,null,null,null,null,null,null,null,null,null,0,{"$f":"IFERROR(IF(J713=99,1,IF(MATCH(J713&\"/\"&L713,読み替え表_食品ロス!$P$29:$P$42,0),1,0)),0)","v":0},"*"]
[null,null,704,null,null,null,null,null,null,null,null,null,null,null,null,null,null,null,null,null,null,null,null,null,null,0,{"$f":"IFERROR(IF(J714=99,1,IF(MATCH(J714&\"/\"&L714,読み替え表_食品ロス!$P$29:$P$42,0),1,0)),0)","v":0},"*"]
[null,null,705,null,null,null,null,null,null,null,null,null,null,null,null,null,null,null,null,null,null,null,null,null,null,0,{"$f":"IFERROR(IF(J715=99,1,IF(MATCH(J715&\"/\"&L715,読み替え表_食品ロス!$P$29:$P$42,0),1,0)),0)","v":0},"*"]
[null,null,{"$f":"ROW()-10","v":706},null,null,null,null,null,null,null,null,null,null,null,null,null,null,null,null,null,null,null,null,null,null,{"$f":"IF(OR(L716=1,L716=2,L716=3),1,0)","v":0},{"$f":"IFERROR(IF(J716=99,1,IF(MATCH(J716&\"/\"&L716,読み替え表_食品ロス!$P$29:$P$42,0),1,0)),0)","v":0},"*"]
[null,null,707,null,null,null,null,null,null,null,null,null,null,null,null,null,null,null,null,null,null,null,null,null,null,0,{"$f":"IFERROR(IF(J717=99,1,IF(MATCH(J717&\"/\"&L717,読み替え表_食品ロス!$P$29:$P$42,0),1,0)),0)","v":0},"*"]
[null,null,708,null,null,null,null,null,null,null,null,null,null,null,null,null,null,null,null,null,null,null,null,null,null,0,{"$f":"IFERROR(IF(J718=99,1,IF(MATCH(J718&\"/\"&L718,読み替え表_食品ロス!$P$29:$P$42,0),1,0)),0)","v":0},"*"]
[null,null,709,null,null,null,null,null,null,null,null,null,null,null,null,null,null,null,null,null,null,null,null,null,null,0,{"$f":"IFERROR(IF(J719=99,1,IF(MATCH(J719&\"/\"&L719,読み替え表_食品ロス!$P$29:$P$42,0),1,0)),0)","v":0},"*"]
[null,null,710,null,null,null,null,null,null,null,null,null,null,null,null,null,null,null,null,null,null,null,null,null,null,0,{"$f":"IFERROR(IF(J720=99,1,IF(MATCH(J720&\"/\"&L720,読み替え表_食品ロス!$P$29:$P$42,0),1,0)),0)","v":0},"*"]
[null,null,711,null,null,null,null,null,null,null,null,null,null,null,null,null,null,null,null,null,null,null,null,null,null,0,{"$f":"IFERROR(IF(J721=99,1,IF(MATCH(J721&\"/\"&L721,読み替え表_食品ロス!$P$29:$P$42,0),1,0)),0)","v":0},"*"]
[null,null,712,null,null,null,null,null,null,null,null,null,null,null,null,null,null,null,null,null,null,null,null,null,null,0,{"$f":"IFERROR(IF(J722=99,1,IF(MATCH(J722&\"/\"&L722,読み替え表_食品ロス!$P$29:$P$42,0),1,0)),0)","v":0},"*"]
[null,null,713,null,null,null,null,null,null,null,null,null,null,null,null,null,null,null,null,null,null,null,null,null,null,0,{"$f":"IFERROR(IF(J723=99,1,IF(MATCH(J723&\"/\"&L723,読み替え表_食品ロス!$P$29:$P$42,0),1,0)),0)","v":0},"*"]
[null,null,714,null,null,null,null,null,null,null,null,null,null,null,null,null,null,null,null,null,null,null,null,null,null,0,{"$f":"IFERROR(IF(J724=99,1,IF(MATCH(J724&\"/\"&L724,読み替え表_食品ロス!$P$29:$P$42,0),1,0)),0)","v":0},"*"]
[null,null,715,null,null,null,null,null,null,null,null,null,null,null,null,null,null,null,null,null,null,null,null,null,null,0,{"$f":"IFERROR(IF(J725=99,1,IF(MATCH(J725&\"/\"&L725,読み替え表_食品ロス!$P$29:$P$42,0),1,0)),0)","v":0},"*"]
[null,null,716,null,null,null,null,null,null,null,null,null,null,null,null,null,null,null,null,null,null,null,null,null,null,0,{"$f":"IFERROR(IF(J726=99,1,IF(MATCH(J726&\"/\"&L726,読み替え表_食品ロス!$P$29:$P$42,0),1,0)),0)","v":0},"*"]
[null,null,717,null,null,null,null,null,null,null,null,null,null,null,null,null,null,null,null,null,null,null,null,null,null,0,{"$f":"IFERROR(IF(J727=99,1,IF(MATCH(J727&\"/\"&L727,読み替え表_食品ロス!$P$29:$P$42,0),1,0)),0)","v":0},"*"]
[null,null,718,null,null,null,null,null,null,null,null,null,null,null,null,null,null,null,null,null,null,null,null,null,null,0,{"$f":"IFERROR(IF(J728=99,1,IF(MATCH(J728&\"/\"&L728,読み替え表_食品ロス!$P$29:$P$42,0),1,0)),0)","v":0},"*"]
[null,null,719,null,null,null,null,null,null,null,null,null,null,null,null,null,null,null,null,null,null,null,null,null,null,0,{"$f":"IFERROR(IF(J729=99,1,IF(MATCH(J729&\"/\"&L729,読み替え表_食品ロス!$P$29:$P$42,0),1,0)),0)","v":0},"*"]
[null,null,720,null,null,null,null,null,null,null,null,null,null,null,null,null,null,null,null,null,null,null,null,null,null,0,{"$f":"IFERROR(IF(J730=99,1,IF(MATCH(J730&\"/\"&L730,読み替え表_食品ロス!$P$29:$P$42,0),1,0)),0)","v":0},"*"]
[null,null,721,null,null,null,null,null,null,null,null,null,null,null,null,null,null,null,null,null,null,null,null,null,null,0,{"$f":"IFERROR(IF(J731=99,1,IF(MATCH(J731&\"/\"&L731,読み替え表_食品ロス!$P$29:$P$42,0),1,0)),0)","v":0},"*"]
[null,null,722,null,null,null,null,null,null,null,null,null,null,null,null,null,null,null,null,null,null,null,null,null,null,0,{"$f":"IFERROR(IF(J732=99,1,IF(MATCH(J732&\"/\"&L732,読み替え表_食品ロス!$P$29:$P$42,0),1,0)),0)","v":0},"*"]
[null,null,723,null,null,null,null,null,null,null,null,null,null,null,null,null,null,null,null,null,null,null,null,null,null,0,{"$f":"IFERROR(IF(J733=99,1,IF(MATCH(J733&\"/\"&L733,読み替え表_食品ロス!$P$29:$P$42,0),1,0)),0)","v":0},"*"]
[null,null,724,null,null,null,null,null,null,null,null,null,null,null,null,null,null,null,null,null,null,null,null,null,null,0,{"$f":"IFERROR(IF(J734=99,1,IF(MATCH(J734&\"/\"&L734,読み替え表_食品ロス!$P$29:$P$42,0),1,0)),0)","v":0},"*"]
[null,null,725,null,null,null,null,null,null,null,null,null,null,null,null,null,null,null,null,null,null,null,null,null,null,0,{"$f":"IFERROR(IF(J735=99,1,IF(MATCH(J735&\"/\"&L735,読み替え表_食品ロス!$P$29:$P$42,0),1,0)),0)","v":0},"*"]
[null,null,726,null,null,null,null,null,null,null,null,null,null,null,null,null,null,null,null,null,null,null,null,null,null,0,{"$f":"IFERROR(IF(J736=99,1,IF(MATCH(J736&\"/\"&L736,読み替え表_食品ロス!$P$29:$P$42,0),1,0)),0)","v":0},"*"]
[null,null,727,null,null,null,null,null,null,null,null,null,null,null,null,null,null,null,null,null,null,null,null,null,null,0,{"$f":"IFERROR(IF(J737=99,1,IF(MATCH(J737&\"/\"&L737,読み替え表_食品ロス!$P$29:$P$42,0),1,0)),0)","v":0},"*"]
[null,null,728,null,null,null,null,null,null,null,null,null,null,null,null,null,null,null,null,null,null,null,null,null,null,0,{"$f":"IFERROR(IF(J738=99,1,IF(MATCH(J738&\"/\"&L738,読み替え表_食品ロス!$P$29:$P$42,0),1,0)),0)","v":0},"*"]
[null,null,729,null,null,null,null,null,null,null,null,null,null,null,null,null,null,null,null,null,null,null,null,null,null,0,{"$f":"IFERROR(IF(J739=99,1,IF(MATCH(J739&\"/\"&L739,読み替え表_食品ロス!$P$29:$P$42,0),1,0)),0)","v":0},"*"]
[null,null,730,null,null,null,null,null,null,null,null,null,null,null,null,null,null,null,null,null,null,null,null,null,null,0,{"$f":"IFERROR(IF(J740=99,1,IF(MATCH(J740&\"/\"&L740,読み替え表_食品ロス!$P$29:$P$42,0),1,0)),0)","v":0},"*"]
[null,null,731,null,null,null,null,null,null,null,null,null,null,null,null,null,null,null,null,null,null,null,null,null,null,0,{"$f":"IFERROR(IF(J741=99,1,IF(MATCH(J741&\"/\"&L741,読み替え表_食品ロス!$P$29:$P$42,0),1,0)),0)","v":0},"*"]
[null,null,732,null,null,null,null,null,null,null,null,null,null,null,null,null,null,null,null,null,null,null,null,null,null,0,{"$f":"IFERROR(IF(J742=99,1,IF(MATCH(J742&\"/\"&L742,読み替え表_食品ロス!$P$29:$P$42,0),1,0)),0)","v":0},"*"]
[null,null,733,null,null,null,null,null,null,null,null,null,null,null,null,null,null,null,null,null,null,null,null,null,null,0,{"$f":"IFERROR(IF(J743=99,1,IF(MATCH(J743&\"/\"&L743,読み替え表_食品ロス!$P$29:$P$42,0),1,0)),0)","v":0},"*"]
[null,null,734,null,null,null,null,null,null,null,null,null,null,null,null,null,null,null,null,null,null,null,null,null,null,0,{"$f":"IFERROR(IF(J744=99,1,IF(MATCH(J744&\"/\"&L744,読み替え表_食品ロス!$P$29:$P$42,0),1,0)),0)","v":0},"*"]
[null,null,735,null,null,null,null,null,null,null,null,null,null,null,null,null,null,null,null,null,null,null,null,null,null,0,{"$f":"IFERROR(IF(J745=99,1,IF(MATCH(J745&\"/\"&L745,読み替え表_食品ロス!$P$29:$P$42,0),1,0)),0)","v":0},"*"]
[null,null,736,null,null,null,null,null,null,null,null,null,null,null,null,null,null,null,null,null,null,null,null,null,null,0,{"$f":"IFERROR(IF(J746=99,1,IF(MATCH(J746&\"/\"&L746,読み替え表_食品ロス!$P$29:$P$42,0),1,0)),0)","v":0},"*"]
[null,null,737,null,null,null,null,null,null,null,null,null,null,null,null,null,null,null,null,null,null,null,null,null,null,0,{"$f":"IFERROR(IF(J747=99,1,IF(MATCH(J747&\"/\"&L747,読み替え表_食品ロス!$P$29:$P$42,0),1,0)),0)","v":0},"*"]
[null,null,738,null,null,null,null,null,null,null,null,null,null,null,null,null,null,null,null,null,null,null,null,null,null,0,{"$f":"IFERROR(IF(J748=99,1,IF(MATCH(J748&\"/\"&L748,読み替え表_食品ロス!$P$29:$P$42,0),1,0)),0)","v":0},"*"]
[null,null,739,null,null,null,null,null,null,null,null,null,null,null,null,null,null,null,null,null,null,null,null,null,null,0,{"$f":"IFERROR(IF(J749=99,1,IF(MATCH(J749&\"/\"&L749,読み替え表_食品ロス!$P$29:$P$42,0),1,0)),0)","v":0},"*"]
[null,null,740,null,null,null,null,null,null,null,null,null,null,null,null,null,null,null,null,null,null,null,null,null,null,0,{"$f":"IFERROR(IF(J750=99,1,IF(MATCH(J750&\"/\"&L750,読み替え表_食品ロス!$P$29:$P$42,0),1,0)),0)","v":0},"*"]
[null,null,741,null,null,null,null,null,null,null,null,null,null,null,null,null,null,null,null,null,null,null,null,null,null,0,{"$f":"IFERROR(IF(J751=99,1,IF(MATCH(J751&\"/\"&L751,読み替え表_食品ロス!$P$29:$P$42,0),1,0)),0)","v":0},"*"]
[null,null,742,null,null,null,null,null,null,null,null,null,null,null,null,null,null,null,null,null,null,null,null,null,null,0,{"$f":"IFERROR(IF(J752=99,1,IF(MATCH(J752&\"/\"&L752,読み替え表_食品ロス!$P$29:$P$42,0),1,0)),0)","v":0},"*"]
[null,null,743,null,null,null,null,null,null,null,null,null,null,null,null,null,null,null,null,null,null,null,null,null,null,0,{"$f":"IFERROR(IF(J753=99,1,IF(MATCH(J753&\"/\"&L753,読み替え表_食品ロス!$P$29:$P$42,0),1,0)),0)","v":0},"*"]
[null,null,744,null,null,null,null,null,null,null,null,null,null,null,null,null,null,null,null,null,null,null,null,null,null,0,{"$f":"IFERROR(IF(J754=99,1,IF(MATCH(J754&\"/\"&L754,読み替え表_食品ロス!$P$29:$P$42,0),1,0)),0)","v":0},"*"]
[null,null,745,null,null,null,null,null,null,null,null,null,null,null,null,null,null,null,null,null,null,null,null,null,null,0,{"$f":"IFERROR(IF(J755=99,1,IF(MATCH(J755&\"/\"&L755,読み替え表_食品ロス!$P$29:$P$42,0),1,0)),0)","v":0},"*"]
[null,null,746,null,null,null,null,null,null,null,null,null,null,null,null,null,null,null,null,null,null,null,null,null,null,0,{"$f":"IFERROR(IF(J756=99,1,IF(MATCH(J756&\"/\"&L756,読み替え表_食品ロス!$P$29:$P$42,0),1,0)),0)","v":0},"*"]
[null,null,747,null,null,null,null,null,null,null,null,null,null,null,null,null,null,null,null,null,null,null,null,null,null,0,{"$f":"IFERROR(IF(J757=99,1,IF(MATCH(J757&\"/\"&L757,読み替え表_食品ロス!$P$29:$P$42,0),1,0)),0)","v":0},"*"]
[null,null,748,null,null,null,null,null,null,null,null,null,null,null,null,null,null,null,null,null,null,null,null,null,null,0,{"$f":"IFERROR(IF(J758=99,1,IF(MATCH(J758&\"/\"&L758,読み替え表_食品ロス!$P$29:$P$42,0),1,0)),0)","v":0},"*"]
[null,null,749,null,null,null,null,null,null,null,null,null,null,null,null,null,null,null,null,null,null,null,null,null,null,0,{"$f":"IFERROR(IF(J759=99,1,IF(MATCH(J759&\"/\"&L759,読み替え表_食品ロス!$P$29:$P$42,0),1,0)),0)","v":0},"*"]
[null,null,750,null,null,null,null,null,null,null,null,null,null,null,null,null,null,null,null,null,null,null,null,null,null,0,{"$f":"IFERROR(IF(J760=99,1,IF(MATCH(J760&\"/\"&L760,読み替え表_食品ロス!$P$29:$P$42,0),1,0)),0)","v":0},"*"]
[null,null,751,null,null,null,null,null,null,null,null,null,null,null,null,null,null,null,null,null,null,null,null,null,null,0,{"$f":"IFERROR(IF(J761=99,1,IF(MATCH(J761&\"/\"&L761,読み替え表_食品ロス!$P$29:$P$42,0),1,0)),0)","v":0},"*"]
[null,null,752,null,null,null,null,null,null,null,null,null,null,null,null,null,null,null,null,null,null,null,null,null,null,0,{"$f":"IFERROR(IF(J762=99,1,IF(MATCH(J762&\"/\"&L762,読み替え表_食品ロス!$P$29:$P$42,0),1,0)),0)","v":0},"*"]
[null,null,753,null,null,null,null,null,null,null,null,null,null,null,null,null,null,null,null,null,null,null,null,null,null,0,{"$f":"IFERROR(IF(J763=99,1,IF(MATCH(J763&\"/\"&L763,読み替え表_食品ロス!$P$29:$P$42,0),1,0)),0)","v":0},"*"]
[null,null,754,null,null,null,null,null,null,null,null,null,null,null,null,null,null,null,null,null,null,null,null,null,null,0,{"$f":"IFERROR(IF(J764=99,1,IF(MATCH(J764&\"/\"&L764,読み替え表_食品ロス!$P$29:$P$42,0),1,0)),0)","v":0},"*"]
[null,null,755,null,null,null,null,null,null,null,null,null,null,null,null,null,null,null,null,null,null,null,null,null,null,0,{"$f":"IFERROR(IF(J765=99,1,IF(MATCH(J765&\"/\"&L765,読み替え表_食品ロス!$P$29:$P$42,0),1,0)),0)","v":0},"*"]
[null,null,756,null,null,null,null,null,null,null,null,null,null,null,null,null,null,null,null,null,null,null,null,null,null,0,{"$f":"IFERROR(IF(J766=99,1,IF(MATCH(J766&\"/\"&L766,読み替え表_食品ロス!$P$29:$P$42,0),1,0)),0)","v":0},"*"]
[null,null,757,null,null,null,null,null,null,null,null,null,null,null,null,null,null,null,null,null,null,null,null,null,null,0,{"$f":"IFERROR(IF(J767=99,1,IF(MATCH(J767&\"/\"&L767,読み替え表_食品ロス!$P$29:$P$42,0),1,0)),0)","v":0},"*"]
[null,null,758,null,null,null,null,null,null,null,null,null,null,null,null,null,null,null,null,null,null,null,null,null,null,0,{"$f":"IFERROR(IF(J768=99,1,IF(MATCH(J768&\"/\"&L768,読み替え表_食品ロス!$P$29:$P$42,0),1,0)),0)","v":0},"*"]
[null,null,759,null,null,null,null,null,null,null,null,null,null,null,null,null,null,null,null,null,null,null,null,null,null,0,{"$f":"IFERROR(IF(J769=99,1,IF(MATCH(J769&\"/\"&L769,読み替え表_食品ロス!$P$29:$P$42,0),1,0)),0)","v":0},"*"]
[null,null,760,null,null,null,null,null,null,null,null,null,null,null,null,null,null,null,null,null,null,null,null,null,null,0,{"$f":"IFERROR(IF(J770=99,1,IF(MATCH(J770&\"/\"&L770,読み替え表_食品ロス!$P$29:$P$42,0),1,0)),0)","v":0},"*"]
[null,null,761,null,null,null,null,null,null,null,null,null,null,null,null,null,null,null,null,null,null,null,null,null,null,0,{"$f":"IFERROR(IF(J771=99,1,IF(MATCH(J771&\"/\"&L771,読み替え表_食品ロス!$P$29:$P$42,0),1,0)),0)","v":0},"*"]
[null,null,762,null,null,null,null,null,null,null,null,null,null,null,null,null,null,null,null,null,null,null,null,null,null,0,{"$f":"IFERROR(IF(J772=99,1,IF(MATCH(J772&\"/\"&L772,読み替え表_食品ロス!$P$29:$P$42,0),1,0)),0)","v":0},"*"]
[null,null,763,null,null,null,null,null,null,null,null,null,null,null,null,null,null,null,null,null,null,null,null,null,null,0,{"$f":"IFERROR(IF(J773=99,1,IF(MATCH(J773&\"/\"&L773,読み替え表_食品ロス!$P$29:$P$42,0),1,0)),0)","v":0},"*"]
[null,null,764,null,null,null,null,null,null,null,null,null,null,null,null,null,null,null,null,null,null,null,null,null,null,0,{"$f":"IFERROR(IF(J774=99,1,IF(MATCH(J774&\"/\"&L774,読み替え表_食品ロス!$P$29:$P$42,0),1,0)),0)","v":0},"*"]
[null,null,765,null,null,null,null,null,null,null,null,null,null,null,null,null,null,null,null,null,null,null,null,null,null,0,{"$f":"IFERROR(IF(J775=99,1,IF(MATCH(J775&\"/\"&L775,読み替え表_食品ロス!$P$29:$P$42,0),1,0)),0)","v":0},"*"]
[null,null,766,null,null,null,null,null,null,null,null,null,null,null,null,null,null,null,null,null,null,null,null,null,null,0,{"$f":"IFERROR(IF(J776=99,1,IF(MATCH(J776&\"/\"&L776,読み替え表_食品ロス!$P$29:$P$42,0),1,0)),0)","v":0},"*"]
[null,null,767,null,null,null,null,null,null,null,null,null,null,null,null,null,null,null,null,null,null,null,null,null,null,0,{"$f":"IFERROR(IF(J777=99,1,IF(MATCH(J777&\"/\"&L777,読み替え表_食品ロス!$P$29:$P$42,0),1,0)),0)","v":0},"*"]
[null,null,768,null,null,null,null,null,null,null,null,null,null,null,null,null,null,null,null,null,null,null,null,null,null,0,{"$f":"IFERROR(IF(J778=99,1,IF(MATCH(J778&\"/\"&L778,読み替え表_食品ロス!$P$29:$P$42,0),1,0)),0)","v":0},"*"]
[null,null,769,null,null,null,null,null,null,null,null,null,null,null,null,null,null,null,null,null,null,null,null,null,null,0,{"$f":"IFERROR(IF(J779=99,1,IF(MATCH(J779&\"/\"&L779,読み替え表_食品ロス!$P$29:$P$42,0),1,0)),0)","v":0},"*"]
[null,null,{"$f":"ROW()-10","v":770},null,null,null,null,null,null,null,null,null,null,null,null,null,null,null,null,null,null,null,null,null,null,{"$f":"IF(OR(L780=1,L780=2,L780=3),1,0)","v":0},{"$f":"IFERROR(IF(J780=99,1,IF(MATCH(J780&\"/\"&L780,読み替え表_食品ロス!$P$29:$P$42,0),1,0)),0)","v":0},"*"]
[null,null,771,null,null,null,null,null,null,null,null,null,null,null,null,null,null,null,null,null,null,null,null,null,null,0,{"$f":"IFERROR(IF(J781=99,1,IF(MATCH(J781&\"/\"&L781,読み替え表_食品ロス!$P$29:$P$42,0),1,0)),0)","v":0},"*"]
[null,null,772,null,null,null,null,null,null,null,null,null,null,null,null,null,null,null,null,null,null,null,null,null,null,0,{"$f":"IFERROR(IF(J782=99,1,IF(MATCH(J782&\"/\"&L782,読み替え表_食品ロス!$P$29:$P$42,0),1,0)),0)","v":0},"*"]
[null,null,773,null,null,null,null,null,null,null,null,null,null,null,null,null,null,null,null,null,null,null,null,null,null,0,{"$f":"IFERROR(IF(J783=99,1,IF(MATCH(J783&\"/\"&L783,読み替え表_食品ロス!$P$29:$P$42,0),1,0)),0)","v":0},"*"]
[null,null,774,null,null,null,null,null,null,null,null,null,null,null,null,null,null,null,null,null,null,null,null,null,null,0,{"$f":"IFERROR(IF(J784=99,1,IF(MATCH(J784&\"/\"&L784,読み替え表_食品ロス!$P$29:$P$42,0),1,0)),0)","v":0},"*"]
[null,null,775,null,null,null,null,null,null,null,null,null,null,null,null,null,null,null,null,null,null,null,null,null,null,0,{"$f":"IFERROR(IF(J785=99,1,IF(MATCH(J785&\"/\"&L785,読み替え表_食品ロス!$P$29:$P$42,0),1,0)),0)","v":0},"*"]
[null,null,776,null,null,null,null,null,null,null,null,null,null,null,null,null,null,null,null,null,null,null,null,null,null,0,{"$f":"IFERROR(IF(J786=99,1,IF(MATCH(J786&\"/\"&L786,読み替え表_食品ロス!$P$29:$P$42,0),1,0)),0)","v":0},"*"]
[null,null,777,null,null,null,null,null,null,null,null,null,null,null,null,null,null,null,null,null,null,null,null,null,null,0,{"$f":"IFERROR(IF(J787=99,1,IF(MATCH(J787&\"/\"&L787,読み替え表_食品ロス!$P$29:$P$42,0),1,0)),0)","v":0},"*"]
[null,null,778,null,null,null,null,null,null,null,null,null,null,null,null,null,null,null,null,null,null,null,null,null,null,0,{"$f":"IFERROR(IF(J788=99,1,IF(MATCH(J788&\"/\"&L788,読み替え表_食品ロス!$P$29:$P$42,0),1,0)),0)","v":0},"*"]
[null,null,779,null,null,null,null,null,null,null,null,null,null,null,null,null,null,null,null,null,null,null,null,null,null,0,{"$f":"IFERROR(IF(J789=99,1,IF(MATCH(J789&\"/\"&L789,読み替え表_食品ロス!$P$29:$P$42,0),1,0)),0)","v":0},"*"]
[null,null,780,null,null,null,null,null,null,null,null,null,null,null,null,null,null,null,null,null,null,null,null,null,null,0,{"$f":"IFERROR(IF(J790=99,1,IF(MATCH(J790&\"/\"&L790,読み替え表_食品ロス!$P$29:$P$42,0),1,0)),0)","v":0},"*"]
[null,null,781,null,null,null,null,null,null,null,null,null,null,null,null,null,null,null,null,null,null,null,null,null,null,0,{"$f":"IFERROR(IF(J791=99,1,IF(MATCH(J791&\"/\"&L791,読み替え表_食品ロス!$P$29:$P$42,0),1,0)),0)","v":0},"*"]
[null,null,782,null,null,null,null,null,null,null,null,null,null,null,null,null,null,null,null,null,null,null,null,null,null,0,{"$f":"IFERROR(IF(J792=99,1,IF(MATCH(J792&\"/\"&L792,読み替え表_食品ロス!$P$29:$P$42,0),1,0)),0)","v":0},"*"]
[null,null,783,null,null,null,null,null,null,null,null,null,null,null,null,null,null,null,null,null,null,null,null,null,null,0,{"$f":"IFERROR(IF(J793=99,1,IF(MATCH(J793&\"/\"&L793,読み替え表_食品ロス!$P$29:$P$42,0),1,0)),0)","v":0},"*"]
[null,null,784,null,null,null,null,null,null,null,null,null,null,null,null,null,null,null,null,null,null,null,null,null,null,0,{"$f":"IFERROR(IF(J794=99,1,IF(MATCH(J794&\"/\"&L794,読み替え表_食品ロス!$P$29:$P$42,0),1,0)),0)","v":0},"*"]
[null,null,785,null,null,null,null,null,null,null,null,null,null,null,null,null,null,null,null,null,null,null,null,null,null,0,{"$f":"IFERROR(IF(J795=99,1,IF(MATCH(J795&\"/\"&L795,読み替え表_食品ロス!$P$29:$P$42,0),1,0)),0)","v":0},"*"]
[null,null,786,null,null,null,null,null,null,null,null,null,null,null,null,null,null,null,null,null,null,null,null,null,null,0,{"$f":"IFERROR(IF(J796=99,1,IF(MATCH(J796&\"/\"&L796,読み替え表_食品ロス!$P$29:$P$42,0),1,0)),0)","v":0},"*"]
[null,null,787,null,null,null,null,null,null,null,null,null,null,null,null,null,null,null,null,null,null,null,null,null,null,0,{"$f":"IFERROR(IF(J797=99,1,IF(MATCH(J797&\"/\"&L797,読み替え表_食品ロス!$P$29:$P$42,0),1,0)),0)","v":0},"*"]
[null,null,788,null,null,null,null,null,null,null,null,null,null,null,null,null,null,null,null,null,null,null,null,null,null,0,{"$f":"IFERROR(IF(J798=99,1,IF(MATCH(J798&\"/\"&L798,読み替え表_食品ロス!$P$29:$P$42,0),1,0)),0)","v":0},"*"]
[null,null,789,null,null,null,null,null,null,null,null,null,null,null,null,null,null,null,null,null,null,null,null,null,null,0,{"$f":"IFERROR(IF(J799=99,1,IF(MATCH(J799&\"/\"&L799,読み替え表_食品ロス!$P$29:$P$42,0),1,0)),0)","v":0},"*"]
[null,null,790,null,null,null,null,null,null,null,null,null,null,null,null,null,null,null,null,null,null,null,null,null,null,0,{"$f":"IFERROR(IF(J800=99,1,IF(MATCH(J800&\"/\"&L800,読み替え表_食品ロス!$P$29:$P$42,0),1,0)),0)","v":0},"*"]
[null,null,791,null,null,null,null,null,null,null,null,null,null,null,null,null,null,null,null,null,null,null,null,null,null,0,{"$f":"IFERROR(IF(J801=99,1,IF(MATCH(J801&\"/\"&L801,読み替え表_食品ロス!$P$29:$P$42,0),1,0)),0)","v":0},"*"]
[null,null,792,null,null,null,null,null,null,null,null,null,null,null,null,null,null,null,null,null,null,null,null,null,null,0,{"$f":"IFERROR(IF(J802=99,1,IF(MATCH(J802&\"/\"&L802,読み替え表_食品ロス!$P$29:$P$42,0),1,0)),0)","v":0},"*"]
[null,null,793,null,null,null,null,null,null,null,null,null,null,null,null,null,null,null,null,null,null,null,null,null,null,0,{"$f":"IFERROR(IF(J803=99,1,IF(MATCH(J803&\"/\"&L803,読み替え表_食品ロス!$P$29:$P$42,0),1,0)),0)","v":0},"*"]
[null,null,794,null,null,null,null,null,null,null,null,null,null,null,null,null,null,null,null,null,null,null,null,null,null,0,{"$f":"IFERROR(IF(J804=99,1,IF(MATCH(J804&\"/\"&L804,読み替え表_食品ロス!$P$29:$P$42,0),1,0)),0)","v":0},"*"]
[null,null,795,null,null,null,null,null,null,null,null,null,null,null,null,null,null,null,null,null,null,null,null,null,null,0,{"$f":"IFERROR(IF(J805=99,1,IF(MATCH(J805&\"/\"&L805,読み替え表_食品ロス!$P$29:$P$42,0),1,0)),0)","v":0},"*"]
[null,null,796,null,null,null,null,null,null,null,null,null,null,null,null,null,null,null,null,null,null,null,null,null,null,0,{"$f":"IFERROR(IF(J806=99,1,IF(MATCH(J806&\"/\"&L806,読み替え表_食品ロス!$P$29:$P$42,0),1,0)),0)","v":0},"*"]
[null,null,797,null,null,null,null,null,null,null,null,null,null,null,null,null,null,null,null,null,null,null,null,null,null,0,{"$f":"IFERROR(IF(J807=99,1,IF(MATCH(J807&\"/\"&L807,読み替え表_食品ロス!$P$29:$P$42,0),1,0)),0)","v":0},"*"]
[null,null,798,null,null,null,null,null,null,null,null,null,null,null,null,null,null,null,null,null,null,null,null,null,null,0,{"$f":"IFERROR(IF(J808=99,1,IF(MATCH(J808&\"/\"&L808,読み替え表_食品ロス!$P$29:$P$42,0),1,0)),0)","v":0},"*"]
[null,null,799,null,null,null,null,null,null,null,null,null,null,null,null,null,null,null,null,null,null,null,null,null,null,0,{"$f":"IFERROR(IF(J809=99,1,IF(MATCH(J809&\"/\"&L809,読み替え表_食品ロス!$P$29:$P$42,0),1,0)),0)","v":0},"*"]
[null,null,800,null,null,null,null,null,null,null,null,null,null,null,null,null,null,null,null,null,null,null,null,null,null,0,{"$f":"IFERROR(IF(J810=99,1,IF(MATCH(J810&\"/\"&L810,読み替え表_食品ロス!$P$29:$P$42,0),1,0)),0)","v":0},"*"]
[null,null,801,null,null,null,null,null,null,null,null,null,null,null,null,null,null,null,null,null,null,null,null,null,null,0,{"$f":"IFERROR(IF(J811=99,1,IF(MATCH(J811&\"/\"&L811,読み替え表_食品ロス!$P$29:$P$42,0),1,0)),0)","v":0},"*"]
[null,null,802,null,null,null,null,null,null,null,null,null,null,null,null,null,null,null,null,null,null,null,null,null,null,0,{"$f":"IFERROR(IF(J812=99,1,IF(MATCH(J812&\"/\"&L812,読み替え表_食品ロス!$P$29:$P$42,0),1,0)),0)","v":0},"*"]
[null,null,803,null,null,null,null,null,null,null,null,null,null,null,null,null,null,null,null,null,null,null,null,null,null,0,{"$f":"IFERROR(IF(J813=99,1,IF(MATCH(J813&\"/\"&L813,読み替え表_食品ロス!$P$29:$P$42,0),1,0)),0)","v":0},"*"]
[null,null,804,null,null,null,null,null,null,null,null,null,null,null,null,null,null,null,null,null,null,null,null,null,null,0,{"$f":"IFERROR(IF(J814=99,1,IF(MATCH(J814&\"/\"&L814,読み替え表_食品ロス!$P$29:$P$42,0),1,0)),0)","v":0},"*"]
[null,null,805,null,null,null,null,null,null,null,null,null,null,null,null,null,null,null,null,null,null,null,null,null,null,0,{"$f":"IFERROR(IF(J815=99,1,IF(MATCH(J815&\"/\"&L815,読み替え表_食品ロス!$P$29:$P$42,0),1,0)),0)","v":0},"*"]
[null,null,806,null,null,null,null,null,null,null,null,null,null,null,null,null,null,null,null,null,null,null,null,null,null,0,{"$f":"IFERROR(IF(J816=99,1,IF(MATCH(J816&\"/\"&L816,読み替え表_食品ロス!$P$29:$P$42,0),1,0)),0)","v":0},"*"]
[null,null,807,null,null,null,null,null,null,null,null,null,null,null,null,null,null,null,null,null,null,null,null,null,null,0,{"$f":"IFERROR(IF(J817=99,1,IF(MATCH(J817&\"/\"&L817,読み替え表_食品ロス!$P$29:$P$42,0),1,0)),0)","v":0},"*"]
[null,null,808,null,null,null,null,null,null,null,null,null,null,null,null,null,null,null,null,null,null,null,null,null,null,0,{"$f":"IFERROR(IF(J818=99,1,IF(MATCH(J818&\"/\"&L818,読み替え表_食品ロス!$P$29:$P$42,0),1,0)),0)","v":0},"*"]
[null,null,809,null,null,null,null,null,null,null,null,null,null,null,null,null,null,null,null,null,null,null,null,null,null,0,{"$f":"IFERROR(IF(J819=99,1,IF(MATCH(J819&\"/\"&L819,読み替え表_食品ロス!$P$29:$P$42,0),1,0)),0)","v":0},"*"]
[null,null,810,null,null,null,null,null,null,null,null,null,null,null,null,null,null,null,null,null,null,null,null,null,null,0,{"$f":"IFERROR(IF(J820=99,1,IF(MATCH(J820&\"/\"&L820,読み替え表_食品ロス!$P$29:$P$42,0),1,0)),0)","v":0},"*"]
[null,null,811,null,null,null,null,null,null,null,null,null,null,null,null,null,null,null,null,null,null,null,null,null,null,0,{"$f":"IFERROR(IF(J821=99,1,IF(MATCH(J821&\"/\"&L821,読み替え表_食品ロス!$P$29:$P$42,0),1,0)),0)","v":0},"*"]
[null,null,812,null,null,null,null,null,null,null,null,null,null,null,null,null,null,null,null,null,null,null,null,null,null,0,{"$f":"IFERROR(IF(J822=99,1,IF(MATCH(J822&\"/\"&L822,読み替え表_食品ロス!$P$29:$P$42,0),1,0)),0)","v":0},"*"]
[null,null,813,null,null,null,null,null,null,null,null,null,null,null,null,null,null,null,null,null,null,null,null,null,null,0,{"$f":"IFERROR(IF(J823=99,1,IF(MATCH(J823&\"/\"&L823,読み替え表_食品ロス!$P$29:$P$42,0),1,0)),0)","v":0},"*"]
[null,null,814,null,null,null,null,null,null,null,null,null,null,null,null,null,null,null,null,null,null,null,null,null,null,0,{"$f":"IFERROR(IF(J824=99,1,IF(MATCH(J824&\"/\"&L824,読み替え表_食品ロス!$P$29:$P$42,0),1,0)),0)","v":0},"*"]
[null,null,815,null,null,null,null,null,null,null,null,null,null,null,null,null,null,null,null,null,null,null,null,null,null,0,{"$f":"IFERROR(IF(J825=99,1,IF(MATCH(J825&\"/\"&L825,読み替え表_食品ロス!$P$29:$P$42,0),1,0)),0)","v":0},"*"]
[null,null,816,null,null,null,null,null,null,null,null,null,null,null,null,null,null,null,null,null,null,null,null,null,null,0,{"$f":"IFERROR(IF(J826=99,1,IF(MATCH(J826&\"/\"&L826,読み替え表_食品ロス!$P$29:$P$42,0),1,0)),0)","v":0},"*"]
[null,null,817,null,null,null,null,null,null,null,null,null,null,null,null,null,null,null,null,null,null,null,null,null,null,0,{"$f":"IFERROR(IF(J827=99,1,IF(MATCH(J827&\"/\"&L827,読み替え表_食品ロス!$P$29:$P$42,0),1,0)),0)","v":0},"*"]
[null,null,818,null,null,null,null,null,null,null,null,null,null,null,null,null,null,null,null,null,null,null,null,null,null,0,{"$f":"IFERROR(IF(J828=99,1,IF(MATCH(J828&\"/\"&L828,読み替え表_食品ロス!$P$29:$P$42,0),1,0)),0)","v":0},"*"]
[null,null,819,null,null,null,null,null,null,null,null,null,null,null,null,null,null,null,null,null,null,null,null,null,null,0,{"$f":"IFERROR(IF(J829=99,1,IF(MATCH(J829&\"/\"&L829,読み替え表_食品ロス!$P$29:$P$42,0),1,0)),0)","v":0},"*"]
[null,null,820,null,null,null,null,null,null,null,null,null,null,null,null,null,null,null,null,null,null,null,null,null,null,0,{"$f":"IFERROR(IF(J830=99,1,IF(MATCH(J830&\"/\"&L830,読み替え表_食品ロス!$P$29:$P$42,0),1,0)),0)","v":0},"*"]
[null,null,821,null,null,null,null,null,null,null,null,null,null,null,null,null,null,null,null,null,null,null,null,null,null,0,{"$f":"IFERROR(IF(J831=99,1,IF(MATCH(J831&\"/\"&L831,読み替え表_食品ロス!$P$29:$P$42,0),1,0)),0)","v":0},"*"]
[null,null,822,null,null,null,null,null,null,null,null,null,null,null,null,null,null,null,null,null,null,null,null,null,null,0,{"$f":"IFERROR(IF(J832=99,1,IF(MATCH(J832&\"/\"&L832,読み替え表_食品ロス!$P$29:$P$42,0),1,0)),0)","v":0},"*"]
[null,null,823,null,null,null,null,null,null,null,null,null,null,null,null,null,null,null,null,null,null,null,null,null,null,0,{"$f":"IFERROR(IF(J833=99,1,IF(MATCH(J833&\"/\"&L833,読み替え表_食品ロス!$P$29:$P$42,0),1,0)),0)","v":0},"*"]
[null,null,824,null,null,null,null,null,null,null,null,null,null,null,null,null,null,null,null,null,null,null,null,null,null,0,{"$f":"IFERROR(IF(J834=99,1,IF(MATCH(J834&\"/\"&L834,読み替え表_食品ロス!$P$29:$P$42,0),1,0)),0)","v":0},"*"]
[null,null,825,null,null,null,null,null,null,null,null,null,null,null,null,null,null,null,null,null,null,null,null,null,null,0,{"$f":"IFERROR(IF(J835=99,1,IF(MATCH(J835&\"/\"&L835,読み替え表_食品ロス!$P$29:$P$42,0),1,0)),0)","v":0},"*"]
[null,null,826,null,null,null,null,null,null,null,null,null,null,null,null,null,null,null,null,null,null,null,null,null,null,0,{"$f":"IFERROR(IF(J836=99,1,IF(MATCH(J836&\"/\"&L836,読み替え表_食品ロス!$P$29:$P$42,0),1,0)),0)","v":0},"*"]
[null,null,827,null,null,null,null,null,null,null,null,null,null,null,null,null,null,null,null,null,null,null,null,null,null,0,{"$f":"IFERROR(IF(J837=99,1,IF(MATCH(J837&\"/\"&L837,読み替え表_食品ロス!$P$29:$P$42,0),1,0)),0)","v":0},"*"]
[null,null,828,null,null,null,null,null,null,null,null,null,null,null,null,null,null,null,null,null,null,null,null,null,null,0,{"$f":"IFERROR(IF(J838=99,1,IF(MATCH(J838&\"/\"&L838,読み替え表_食品ロス!$P$29:$P$42,0),1,0)),0)","v":0},"*"]
[null,null,829,null,null,null,null,null,null,null,null,null,null,null,null,null,null,null,null,null,null,null,null,null,null,0,{"$f":"IFERROR(IF(J839=99,1,IF(MATCH(J839&\"/\"&L839,読み替え表_食品ロス!$P$29:$P$42,0),1,0)),0)","v":0},"*"]
[null,null,830,null,null,null,null,null,null,null,null,null,null,null,null,null,null,null,null,null,null,null,null,null,null,0,{"$f":"IFERROR(IF(J840=99,1,IF(MATCH(J840&\"/\"&L840,読み替え表_食品ロス!$P$29:$P$42,0),1,0)),0)","v":0},"*"]
[null,null,831,null,null,null,null,null,null,null,null,null,null,null,null,null,null,null,null,null,null,null,null,null,null,0,{"$f":"IFERROR(IF(J841=99,1,IF(MATCH(J841&\"/\"&L841,読み替え表_食品ロス!$P$29:$P$42,0),1,0)),0)","v":0},"*"]
[null,null,832,null,null,null,null,null,null,null,null,null,null,null,null,null,null,null,null,null,null,null,null,null,null,0,{"$f":"IFERROR(IF(J842=99,1,IF(MATCH(J842&\"/\"&L842,読み替え表_食品ロス!$P$29:$P$42,0),1,0)),0)","v":0},"*"]
[null,null,833,null,null,null,null,null,null,null,null,null,null,null,null,null,null,null,null,null,null,null,null,null,null,0,{"$f":"IFERROR(IF(J843=99,1,IF(MATCH(J843&\"/\"&L843,読み替え表_食品ロス!$P$29:$P$42,0),1,0)),0)","v":0},"*"]
[null,null,{"$f":"ROW()-10","v":834},null,null,null,null,null,null,null,null,null,null,null,null,null,null,null,null,null,null,null,null,null,null,{"$f":"IF(OR(L844=1,L844=2,L844=3),1,0)","v":0},{"$f":"IFERROR(IF(J844=99,1,IF(MATCH(J844&\"/\"&L844,読み替え表_食品ロス!$P$29:$P$42,0),1,0)),0)","v":0},"*"]
[null,null,835,null,null,null,null,null,null,null,null,null,null,null,null,null,null,null,null,null,null,null,null,null,null,0,{"$f":"IFERROR(IF(J845=99,1,IF(MATCH(J845&\"/\"&L845,読み替え表_食品ロス!$P$29:$P$42,0),1,0)),0)","v":0},"*"]
[null,null,836,null,null,null,null,null,null,null,null,null,null,null,null,null,null,null,null,null,null,null,null,null,null,0,{"$f":"IFERROR(IF(J846=99,1,IF(MATCH(J846&\"/\"&L846,読み替え表_食品ロス!$P$29:$P$42,0),1,0)),0)","v":0},"*"]
[null,null,837,null,null,null,null,null,null,null,null,null,null,null,null,null,null,null,null,null,null,null,null,null,null,0,{"$f":"IFERROR(IF(J847=99,1,IF(MATCH(J847&\"/\"&L847,読み替え表_食品ロス!$P$29:$P$42,0),1,0)),0)","v":0},"*"]
[null,null,838,null,null,null,null,null,null,null,null,null,null,null,null,null,null,null,null,null,null,null,null,null,null,0,{"$f":"IFERROR(IF(J848=99,1,IF(MATCH(J848&\"/\"&L848,読み替え表_食品ロス!$P$29:$P$42,0),1,0)),0)","v":0},"*"]
[null,null,839,null,null,null,null,null,null,null,null,null,null,null,null,null,null,null,null,null,null,null,null,null,null,0,{"$f":"IFERROR(IF(J849=99,1,IF(MATCH(J849&\"/\"&L849,読み替え表_食品ロス!$P$29:$P$42,0),1,0)),0)","v":0},"*"]
[null,null,840,null,null,null,null,null,null,null,null,null,null,null,null,null,null,null,null,null,null,null,null,null,null,0,{"$f":"IFERROR(IF(J850=99,1,IF(MATCH(J850&\"/\"&L850,読み替え表_食品ロス!$P$29:$P$42,0),1,0)),0)","v":0},"*"]
[null,null,841,null,null,null,null,null,null,null,null,null,null,null,null,null,null,null,null,null,null,null,null,null,null,0,{"$f":"IFERROR(IF(J851=99,1,IF(MATCH(J851&\"/\"&L851,読み替え表_食品ロス!$P$29:$P$42,0),1,0)),0)","v":0},"*"]
[null,null,842,null,null,null,null,null,null,null,null,null,null,null,null,null,null,null,null,null,null,null,null,null,null,0,{"$f":"IFERROR(IF(J852=99,1,IF(MATCH(J852&\"/\"&L852,読み替え表_食品ロス!$P$29:$P$42,0),1,0)),0)","v":0},"*"]
[null,null,843,null,null,null,null,null,null,null,null,null,null,null,null,null,null,null,null,null,null,null,null,null,null,0,{"$f":"IFERROR(IF(J853=99,1,IF(MATCH(J853&\"/\"&L853,読み替え表_食品ロス!$P$29:$P$42,0),1,0)),0)","v":0},"*"]
[null,null,844,null,null,null,null,null,null,null,null,null,null,null,null,null,null,null,null,null,null,null,null,null,null,0,{"$f":"IFERROR(IF(J854=99,1,IF(MATCH(J854&\"/\"&L854,読み替え表_食品ロス!$P$29:$P$42,0),1,0)),0)","v":0},"*"]
[null,null,845,null,null,null,null,null,null,null,null,null,null,null,null,null,null,null,null,null,null,null,null,null,null,0,{"$f":"IFERROR(IF(J855=99,1,IF(MATCH(J855&\"/\"&L855,読み替え表_食品ロス!$P$29:$P$42,0),1,0)),0)","v":0},"*"]
[null,null,846,null,null,null,null,null,null,null,null,null,null,null,null,null,null,null,null,null,null,null,null,null,null,0,{"$f":"IFERROR(IF(J856=99,1,IF(MATCH(J856&\"/\"&L856,読み替え表_食品ロス!$P$29:$P$42,0),1,0)),0)","v":0},"*"]
[null,null,847,null,null,null,null,null,null,null,null,null,null,null,null,null,null,null,null,null,null,null,null,null,null,0,{"$f":"IFERROR(IF(J857=99,1,IF(MATCH(J857&\"/\"&L857,読み替え表_食品ロス!$P$29:$P$42,0),1,0)),0)","v":0},"*"]
[null,null,848,null,null,null,null,null,null,null,null,null,null,null,null,null,null,null,null,null,null,null,null,null,null,0,{"$f":"IFERROR(IF(J858=99,1,IF(MATCH(J858&\"/\"&L858,読み替え表_食品ロス!$P$29:$P$42,0),1,0)),0)","v":0},"*"]
[null,null,849,null,null,null,null,null,null,null,null,null,null,null,null,null,null,null,null,null,null,null,null,null,null,0,{"$f":"IFERROR(IF(J859=99,1,IF(MATCH(J859&\"/\"&L859,読み替え表_食品ロス!$P$29:$P$42,0),1,0)),0)","v":0},"*"]
[null,null,850,null,null,null,null,null,null,null,null,null,null,null,null,null,null,null,null,null,null,null,null,null,null,0,{"$f":"IFERROR(IF(J860=99,1,IF(MATCH(J860&\"/\"&L860,読み替え表_食品ロス!$P$29:$P$42,0),1,0)),0)","v":0},"*"]
[null,null,851,null,null,null,null,null,null,null,null,null,null,null,null,null,null,null,null,null,null,null,null,null,null,0,{"$f":"IFERROR(IF(J861=99,1,IF(MATCH(J861&\"/\"&L861,読み替え表_食品ロス!$P$29:$P$42,0),1,0)),0)","v":0},"*"]
[null,null,852,null,null,null,null,null,null,null,null,null,null,null,null,null,null,null,null,null,null,null,null,null,null,0,{"$f":"IFERROR(IF(J862=99,1,IF(MATCH(J862&\"/\"&L862,読み替え表_食品ロス!$P$29:$P$42,0),1,0)),0)","v":0},"*"]
[null,null,853,null,null,null,null,null,null,null,null,null,null,null,null,null,null,null,null,null,null,null,null,null,null,0,{"$f":"IFERROR(IF(J863=99,1,IF(MATCH(J863&\"/\"&L863,読み替え表_食品ロス!$P$29:$P$42,0),1,0)),0)","v":0},"*"]
[null,null,854,null,null,null,null,null,null,null,null,null,null,null,null,null,null,null,null,null,null,null,null,null,null,0,{"$f":"IFERROR(IF(J864=99,1,IF(MATCH(J864&\"/\"&L864,読み替え表_食品ロス!$P$29:$P$42,0),1,0)),0)","v":0},"*"]
[null,null,855,null,null,null,null,null,null,null,null,null,null,null,null,null,null,null,null,null,null,null,null,null,null,0,{"$f":"IFERROR(IF(J865=99,1,IF(MATCH(J865&\"/\"&L865,読み替え表_食品ロス!$P$29:$P$42,0),1,0)),0)","v":0},"*"]
[null,null,856,null,null,null,null,null,null,null,null,null,null,null,null,null,null,null,null,null,null,null,null,null,null,0,{"$f":"IFERROR(IF(J866=99,1,IF(MATCH(J866&\"/\"&L866,読み替え表_食品ロス!$P$29:$P$42,0),1,0)),0)","v":0},"*"]
[null,null,857,null,null,null,null,null,null,null,null,null,null,null,null,null,null,null,null,null,null,null,null,null,null,0,{"$f":"IFERROR(IF(J867=99,1,IF(MATCH(J867&\"/\"&L867,読み替え表_食品ロス!$P$29:$P$42,0),1,0)),0)","v":0},"*"]
[null,null,858,null,null,null,null,null,null,null,null,null,null,null,null,null,null,null,null,null,null,null,null,null,null,0,{"$f":"IFERROR(IF(J868=99,1,IF(MATCH(J868&\"/\"&L868,読み替え表_食品ロス!$P$29:$P$42,0),1,0)),0)","v":0},"*"]
[null,null,859,null,null,null,null,null,null,null,null,null,null,null,null,null,null,null,null,null,null,null,null,null,null,0,{"$f":"IFERROR(IF(J869=99,1,IF(MATCH(J869&\"/\"&L869,読み替え表_食品ロス!$P$29:$P$42,0),1,0)),0)","v":0},"*"]
[null,null,860,null,null,null,null,null,null,null,null,null,null,null,null,null,null,null,null,null,null,null,null,null,null,0,{"$f":"IFERROR(IF(J870=99,1,IF(MATCH(J870&\"/\"&L870,読み替え表_食品ロス!$P$29:$P$42,0),1,0)),0)","v":0},"*"]
[null,null,861,null,null,null,null,null,null,null,null,null,null,null,null,null,null,null,null,null,null,null,null,null,null,0,{"$f":"IFERROR(IF(J871=99,1,IF(MATCH(J871&\"/\"&L871,読み替え表_食品ロス!$P$29:$P$42,0),1,0)),0)","v":0},"*"]
[null,null,862,null,null,null,null,null,null,null,null,null,null,null,null,null,null,null,null,null,null,null,null,null,null,0,{"$f":"IFERROR(IF(J872=99,1,IF(MATCH(J872&\"/\"&L872,読み替え表_食品ロス!$P$29:$P$42,0),1,0)),0)","v":0},"*"]
[null,null,863,null,null,null,null,null,null,null,null,null,null,null,null,null,null,null,null,null,null,null,null,null,null,0,{"$f":"IFERROR(IF(J873=99,1,IF(MATCH(J873&\"/\"&L873,読み替え表_食品ロス!$P$29:$P$42,0),1,0)),0)","v":0},"*"]
[null,null,864,null,null,null,null,null,null,null,null,null,null,null,null,null,null,null,null,null,null,null,null,null,null,0,{"$f":"IFERROR(IF(J874=99,1,IF(MATCH(J874&\"/\"&L874,読み替え表_食品ロス!$P$29:$P$42,0),1,0)),0)","v":0},"*"]
[null,null,865,null,null,null,null,null,null,null,null,null,null,null,null,null,null,null,null,null,null,null,null,null,null,0,{"$f":"IFERROR(IF(J875=99,1,IF(MATCH(J875&\"/\"&L875,読み替え表_食品ロス!$P$29:$P$42,0),1,0)),0)","v":0},"*"]
[null,null,866,null,null,null,null,null,null,null,null,null,null,null,null,null,null,null,null,null,null,null,null,null,null,0,{"$f":"IFERROR(IF(J876=99,1,IF(MATCH(J876&\"/\"&L876,読み替え表_食品ロス!$P$29:$P$42,0),1,0)),0)","v":0},"*"]
[null,null,867,null,null,null,null,null,null,null,null,null,null,null,null,null,null,null,null,null,null,null,null,null,null,0,{"$f":"IFERROR(IF(J877=99,1,IF(MATCH(J877&\"/\"&L877,読み替え表_食品ロス!$P$29:$P$42,0),1,0)),0)","v":0},"*"]
[null,null,868,null,null,null,null,null,null,null,null,null,null,null,null,null,null,null,null,null,null,null,null,null,null,0,{"$f":"IFERROR(IF(J878=99,1,IF(MATCH(J878&\"/\"&L878,読み替え表_食品ロス!$P$29:$P$42,0),1,0)),0)","v":0},"*"]
[null,null,869,null,null,null,null,null,null,null,null,null,null,null,null,null,null,null,null,null,null,null,null,null,null,0,{"$f":"IFERROR(IF(J879=99,1,IF(MATCH(J879&\"/\"&L879,読み替え表_食品ロス!$P$29:$P$42,0),1,0)),0)","v":0},"*"]
[null,null,870,null,null,null,null,null,null,null,null,null,null,null,null,null,null,null,null,null,null,null,null,null,null,0,{"$f":"IFERROR(IF(J880=99,1,IF(MATCH(J880&\"/\"&L880,読み替え表_食品ロス!$P$29:$P$42,0),1,0)),0)","v":0},"*"]
[null,null,871,null,null,null,null,null,null,null,null,null,null,null,null,null,null,null,null,null,null,null,null,null,null,0,{"$f":"IFERROR(IF(J881=99,1,IF(MATCH(J881&\"/\"&L881,読み替え表_食品ロス!$P$29:$P$42,0),1,0)),0)","v":0},"*"]
[null,null,872,null,null,null,null,null,null,null,null,null,null,null,null,null,null,null,null,null,null,null,null,null,null,0,{"$f":"IFERROR(IF(J882=99,1,IF(MATCH(J882&\"/\"&L882,読み替え表_食品ロス!$P$29:$P$42,0),1,0)),0)","v":0},"*"]
[null,null,873,null,null,null,null,null,null,null,null,null,null,null,null,null,null,null,null,null,null,null,null,null,null,0,{"$f":"IFERROR(IF(J883=99,1,IF(MATCH(J883&\"/\"&L883,読み替え表_食品ロス!$P$29:$P$42,0),1,0)),0)","v":0},"*"]
[null,null,874,null,null,null,null,null,null,null,null,null,null,null,null,null,null,null,null,null,null,null,null,null,null,0,{"$f":"IFERROR(IF(J884=99,1,IF(MATCH(J884&\"/\"&L884,読み替え表_食品ロス!$P$29:$P$42,0),1,0)),0)","v":0},"*"]
[null,null,875,null,null,null,null,null,null,null,null,null,null,null,null,null,null,null,null,null,null,null,null,null,null,0,{"$f":"IFERROR(IF(J885=99,1,IF(MATCH(J885&\"/\"&L885,読み替え表_食品ロス!$P$29:$P$42,0),1,0)),0)","v":0},"*"]
[null,null,876,null,null,null,null,null,null,null,null,null,null,null,null,null,null,null,null,null,null,null,null,null,null,0,{"$f":"IFERROR(IF(J886=99,1,IF(MATCH(J886&\"/\"&L886,読み替え表_食品ロス!$P$29:$P$42,0),1,0)),0)","v":0},"*"]
[null,null,877,null,null,null,null,null,null,null,null,null,null,null,null,null,null,null,null,null,null,null,null,null,null,0,{"$f":"IFERROR(IF(J887=99,1,IF(MATCH(J887&\"/\"&L887,読み替え表_食品ロス!$P$29:$P$42,0),1,0)),0)","v":0},"*"]
[null,null,878,null,null,null,null,null,null,null,null,null,null,null,null,null,null,null,null,null,null,null,null,null,null,0,{"$f":"IFERROR(IF(J888=99,1,IF(MATCH(J888&\"/\"&L888,読み替え表_食品ロス!$P$29:$P$42,0),1,0)),0)","v":0},"*"]
[null,null,879,null,null,null,null,null,null,null,null,null,null,null,null,null,null,null,null,null,null,null,null,null,null,0,{"$f":"IFERROR(IF(J889=99,1,IF(MATCH(J889&\"/\"&L889,読み替え表_食品ロス!$P$29:$P$42,0),1,0)),0)","v":0},"*"]
[null,null,880,null,null,null,null,null,null,null,null,null,null,null,null,null,null,null,null,null,null,null,null,null,null,0,{"$f":"IFERROR(IF(J890=99,1,IF(MATCH(J890&\"/\"&L890,読み替え表_食品ロス!$P$29:$P$42,0),1,0)),0)","v":0},"*"]
[null,null,881,null,null,null,null,null,null,null,null,null,null,null,null,null,null,null,null,null,null,null,null,null,null,0,{"$f":"IFERROR(IF(J891=99,1,IF(MATCH(J891&\"/\"&L891,読み替え表_食品ロス!$P$29:$P$42,0),1,0)),0)","v":0},"*"]
[null,null,882,null,null,null,null,null,null,null,null,null,null,null,null,null,null,null,null,null,null,null,null,null,null,0,{"$f":"IFERROR(IF(J892=99,1,IF(MATCH(J892&\"/\"&L892,読み替え表_食品ロス!$P$29:$P$42,0),1,0)),0)","v":0},"*"]
[null,null,883,null,null,null,null,null,null,null,null,null,null,null,null,null,null,null,null,null,null,null,null,null,null,0,{"$f":"IFERROR(IF(J893=99,1,IF(MATCH(J893&\"/\"&L893,読み替え表_食品ロス!$P$29:$P$42,0),1,0)),0)","v":0},"*"]
[null,null,884,null,null,null,null,null,null,null,null,null,null,null,null,null,null,null,null,null,null,null,null,null,null,0,{"$f":"IFERROR(IF(J894=99,1,IF(MATCH(J894&\"/\"&L894,読み替え表_食品ロス!$P$29:$P$42,0),1,0)),0)","v":0},"*"]
[null,null,885,null,null,null,null,null,null,null,null,null,null,null,null,null,null,null,null,null,null,null,null,null,null,0,{"$f":"IFERROR(IF(J895=99,1,IF(MATCH(J895&\"/\"&L895,読み替え表_食品ロス!$P$29:$P$42,0),1,0)),0)","v":0},"*"]
[null,null,886,null,null,null,null,null,null,null,null,null,null,null,null,null,null,null,null,null,null,null,null,null,null,0,{"$f":"IFERROR(IF(J896=99,1,IF(MATCH(J896&\"/\"&L896,読み替え表_食品ロス!$P$29:$P$42,0),1,0)),0)","v":0},"*"]
[null,null,887,null,null,null,null,null,null,null,null,null,null,null,null,null,null,null,null,null,null,null,null,null,null,0,{"$f":"IFERROR(IF(J897=99,1,IF(MATCH(J897&\"/\"&L897,読み替え表_食品ロス!$P$29:$P$42,0),1,0)),0)","v":0},"*"]
[null,null,888,null,null,null,null,null,null,null,null,null,null,null,null,null,null,null,null,null,null,null,null,null,null,0,{"$f":"IFERROR(IF(J898=99,1,IF(MATCH(J898&\"/\"&L898,読み替え表_食品ロス!$P$29:$P$42,0),1,0)),0)","v":0},"*"]
[null,null,889,null,null,null,null,null,null,null,null,null,null,null,null,null,null,null,null,null,null,null,null,null,null,0,{"$f":"IFERROR(IF(J899=99,1,IF(MATCH(J899&\"/\"&L899,読み替え表_食品ロス!$P$29:$P$42,0),1,0)),0)","v":0},"*"]
[null,null,890,null,null,null,null,null,null,null,null,null,null,null,null,null,null,null,null,null,null,null,null,null,null,0,{"$f":"IFERROR(IF(J900=99,1,IF(MATCH(J900&\"/\"&L900,読み替え表_食品ロス!$P$29:$P$42,0),1,0)),0)","v":0},"*"]
[null,null,891,null,null,null,null,null,null,null,null,null,null,null,null,null,null,null,null,null,null,null,null,null,null,0,{"$f":"IFERROR(IF(J901=99,1,IF(MATCH(J901&\"/\"&L901,読み替え表_食品ロス!$P$29:$P$42,0),1,0)),0)","v":0},"*"]
[null,null,892,null,null,null,null,null,null,null,null,null,null,null,null,null,null,null,null,null,null,null,null,null,null,0,{"$f":"IFERROR(IF(J902=99,1,IF(MATCH(J902&\"/\"&L902,読み替え表_食品ロス!$P$29:$P$42,0),1,0)),0)","v":0},"*"]
[null,null,893,null,null,null,null,null,null,null,null,null,null,null,null,null,null,null,null,null,null,null,null,null,null,0,{"$f":"IFERROR(IF(J903=99,1,IF(MATCH(J903&\"/\"&L903,読み替え表_食品ロス!$P$29:$P$42,0),1,0)),0)","v":0},"*"]
[null,null,894,null,null,null,null,null,null,null,null,null,null,null,null,null,null,null,null,null,null,null,null,null,null,0,{"$f":"IFERROR(IF(J904=99,1,IF(MATCH(J904&\"/\"&L904,読み替え表_食品ロス!$P$29:$P$42,0),1,0)),0)","v":0},"*"]
[null,null,895,null,null,null,null,null,null,null,null,null,null,null,null,null,null,null,null,null,null,null,null,null,null,0,{"$f":"IFERROR(IF(J905=99,1,IF(MATCH(J905&\"/\"&L905,読み替え表_食品ロス!$P$29:$P$42,0),1,0)),0)","v":0},"*"]
[null,null,896,null,null,null,null,null,null,null,null,null,null,null,null,null,null,null,null,null,null,null,null,null,null,0,{"$f":"IFERROR(IF(J906=99,1,IF(MATCH(J906&\"/\"&L906,読み替え表_食品ロス!$P$29:$P$42,0),1,0)),0)","v":0},"*"]
[null,null,897,null,null,null,null,null,null,null,null,null,null,null,null,null,null,null,null,null,null,null,null,null,null,0,{"$f":"IFERROR(IF(J907=99,1,IF(MATCH(J907&\"/\"&L907,読み替え表_食品ロス!$P$29:$P$42,0),1,0)),0)","v":0},"*"]
[null,null,{"$f":"ROW()-10","v":898},null,null,null,null,null,null,null,null,null,null,null,null,null,null,null,null,null,null,null,null,null,null,{"$f":"IF(OR(L908=1,L908=2,L908=3),1,0)","v":0},{"$f":"IFERROR(IF(J908=99,1,IF(MATCH(J908&\"/\"&L908,読み替え表_食品ロス!$P$29:$P$42,0),1,0)),0)","v":0},"*"]
[null,null,899,null,null,null,null,null,null,null,null,null,null,null,null,null,null,null,null,null,null,null,null,null,null,0,{"$f":"IFERROR(IF(J909=99,1,IF(MATCH(J909&\"/\"&L909,読み替え表_食品ロス!$P$29:$P$42,0),1,0)),0)","v":0},"*"]
[null,null,900,null,null,null,null,null,null,null,null,null,null,null,null,null,null,null,null,null,null,null,null,null,null,0,{"$f":"IFERROR(IF(J910=99,1,IF(MATCH(J910&\"/\"&L910,読み替え表_食品ロス!$P$29:$P$42,0),1,0)),0)","v":0},"*"]
[null,null,901,null,null,null,null,null,null,null,null,null,null,null,null,null,null,null,null,null,null,null,null,null,null,0,{"$f":"IFERROR(IF(J911=99,1,IF(MATCH(J911&\"/\"&L911,読み替え表_食品ロス!$P$29:$P$42,0),1,0)),0)","v":0},"*"]
[null,null,902,null,null,null,null,null,null,null,null,null,null,null,null,null,null,null,null,null,null,null,null,null,null,0,{"$f":"IFERROR(IF(J912=99,1,IF(MATCH(J912&\"/\"&L912,読み替え表_食品ロス!$P$29:$P$42,0),1,0)),0)","v":0},"*"]
[null,null,903,null,null,null,null,null,null,null,null,null,null,null,null,null,null,null,null,null,null,null,null,null,null,0,{"$f":"IFERROR(IF(J913=99,1,IF(MATCH(J913&\"/\"&L913,読み替え表_食品ロス!$P$29:$P$42,0),1,0)),0)","v":0},"*"]
[null,null,904,null,null,null,null,null,null,null,null,null,null,null,null,null,null,null,null,null,null,null,null,null,null,0,{"$f":"IFERROR(IF(J914=99,1,IF(MATCH(J914&\"/\"&L914,読み替え表_食品ロス!$P$29:$P$42,0),1,0)),0)","v":0},"*"]
[null,null,905,null,null,null,null,null,null,null,null,null,null,null,null,null,null,null,null,null,null,null,null,null,null,0,{"$f":"IFERROR(IF(J915=99,1,IF(MATCH(J915&\"/\"&L915,読み替え表_食品ロス!$P$29:$P$42,0),1,0)),0)","v":0},"*"]
[null,null,906,null,null,null,null,null,null,null,null,null,null,null,null,null,null,null,null,null,null,null,null,null,null,0,{"$f":"IFERROR(IF(J916=99,1,IF(MATCH(J916&\"/\"&L916,読み替え表_食品ロス!$P$29:$P$42,0),1,0)),0)","v":0},"*"]
[null,null,907,null,null,null,null,null,null,null,null,null,null,null,null,null,null,null,null,null,null,null,null,null,null,0,{"$f":"IFERROR(IF(J917=99,1,IF(MATCH(J917&\"/\"&L917,読み替え表_食品ロス!$P$29:$P$42,0),1,0)),0)","v":0},"*"]
[null,null,908,null,null,null,null,null,null,null,null,null,null,null,null,null,null,null,null,null,null,null,null,null,null,0,{"$f":"IFERROR(IF(J918=99,1,IF(MATCH(J918&\"/\"&L918,読み替え表_食品ロス!$P$29:$P$42,0),1,0)),0)","v":0},"*"]
[null,null,909,null,null,null,null,null,null,null,null,null,null,null,null,null,null,null,null,null,null,null,null,null,null,0,{"$f":"IFERROR(IF(J919=99,1,IF(MATCH(J919&\"/\"&L919,読み替え表_食品ロス!$P$29:$P$42,0),1,0)),0)","v":0},"*"]
[null,null,910,null,null,null,null,null,null,null,null,null,null,null,null,null,null,null,null,null,null,null,null,null,null,0,{"$f":"IFERROR(IF(J920=99,1,IF(MATCH(J920&\"/\"&L920,読み替え表_食品ロス!$P$29:$P$42,0),1,0)),0)","v":0},"*"]
[null,null,911,null,null,null,null,null,null,null,null,null,null,null,null,null,null,null,null,null,null,null,null,null,null,0,{"$f":"IFERROR(IF(J921=99,1,IF(MATCH(J921&\"/\"&L921,読み替え表_食品ロス!$P$29:$P$42,0),1,0)),0)","v":0},"*"]
[null,null,912,null,null,null,null,null,null,null,null,null,null,null,null,null,null,null,null,null,null,null,null,null,null,0,{"$f":"IFERROR(IF(J922=99,1,IF(MATCH(J922&\"/\"&L922,読み替え表_食品ロス!$P$29:$P$42,0),1,0)),0)","v":0},"*"]
[null,null,913,null,null,null,null,null,null,null,null,null,null,null,null,null,null,null,null,null,null,null,null,null,null,0,{"$f":"IFERROR(IF(J923=99,1,IF(MATCH(J923&\"/\"&L923,読み替え表_食品ロス!$P$29:$P$42,0),1,0)),0)","v":0},"*"]
[null,null,914,null,null,null,null,null,null,null,null,null,null,null,null,null,null,null,null,null,null,null,null,null,null,0,{"$f":"IFERROR(IF(J924=99,1,IF(MATCH(J924&\"/\"&L924,読み替え表_食品ロス!$P$29:$P$42,0),1,0)),0)","v":0},"*"]
[null,null,915,null,null,null,null,null,null,null,null,null,null,null,null,null,null,null,null,null,null,null,null,null,null,0,{"$f":"IFERROR(IF(J925=99,1,IF(MATCH(J925&\"/\"&L925,読み替え表_食品ロス!$P$29:$P$42,0),1,0)),0)","v":0},"*"]
[null,null,916,null,null,null,null,null,null,null,null,null,null,null,null,null,null,null,null,null,null,null,null,null,null,0,{"$f":"IFERROR(IF(J926=99,1,IF(MATCH(J926&\"/\"&L926,読み替え表_食品ロス!$P$29:$P$42,0),1,0)),0)","v":0},"*"]
[null,null,917,null,null,null,null,null,null,null,null,null,null,null,null,null,null,null,null,null,null,null,null,null,null,0,{"$f":"IFERROR(IF(J927=99,1,IF(MATCH(J927&\"/\"&L927,読み替え表_食品ロス!$P$29:$P$42,0),1,0)),0)","v":0},"*"]
[null,null,918,null,null,null,null,null,null,null,null,null,null,null,null,null,null,null,null,null,null,null,null,null,null,0,{"$f":"IFERROR(IF(J928=99,1,IF(MATCH(J928&\"/\"&L928,読み替え表_食品ロス!$P$29:$P$42,0),1,0)),0)","v":0},"*"]
[null,null,919,null,null,null,null,null,null,null,null,null,null,null,null,null,null,null,null,null,null,null,null,null,null,0,{"$f":"IFERROR(IF(J929=99,1,IF(MATCH(J929&\"/\"&L929,読み替え表_食品ロス!$P$29:$P$42,0),1,0)),0)","v":0},"*"]
[null,null,920,null,null,null,null,null,null,null,null,null,null,null,null,null,null,null,null,null,null,null,null,null,null,0,{"$f":"IFERROR(IF(J930=99,1,IF(MATCH(J930&\"/\"&L930,読み替え表_食品ロス!$P$29:$P$42,0),1,0)),0)","v":0},"*"]
[null,null,921,null,null,null,null,null,null,null,null,null,null,null,null,null,null,null,null,null,null,null,null,null,null,0,{"$f":"IFERROR(IF(J931=99,1,IF(MATCH(J931&\"/\"&L931,読み替え表_食品ロス!$P$29:$P$42,0),1,0)),0)","v":0},"*"]
[null,null,922,null,null,null,null,null,null,null,null,null,null,null,null,null,null,null,null,null,null,null,null,null,null,0,{"$f":"IFERROR(IF(J932=99,1,IF(MATCH(J932&\"/\"&L932,読み替え表_食品ロス!$P$29:$P$42,0),1,0)),0)","v":0},"*"]
[null,null,923,null,null,null,null,null,null,null,null,null,null,null,null,null,null,null,null,null,null,null,null,null,null,0,{"$f":"IFERROR(IF(J933=99,1,IF(MATCH(J933&\"/\"&L933,読み替え表_食品ロス!$P$29:$P$42,0),1,0)),0)","v":0},"*"]
[null,null,924,null,null,null,null,null,null,null,null,null,null,null,null,null,null,null,null,null,null,null,null,null,null,0,{"$f":"IFERROR(IF(J934=99,1,IF(MATCH(J934&\"/\"&L934,読み替え表_食品ロス!$P$29:$P$42,0),1,0)),0)","v":0},"*"]
[null,null,925,null,null,null,null,null,null,null,null,null,null,null,null,null,null,null,null,null,null,null,null,null,null,0,{"$f":"IFERROR(IF(J935=99,1,IF(MATCH(J935&\"/\"&L935,読み替え表_食品ロス!$P$29:$P$42,0),1,0)),0)","v":0},"*"]
[null,null,926,null,null,null,null,null,null,null,null,null,null,null,null,null,null,null,null,null,null,null,null,null,null,0,{"$f":"IFERROR(IF(J936=99,1,IF(MATCH(J936&\"/\"&L936,読み替え表_食品ロス!$P$29:$P$42,0),1,0)),0)","v":0},"*"]
[null,null,927,null,null,null,null,null,null,null,null,null,null,null,null,null,null,null,null,null,null,null,null,null,null,0,{"$f":"IFERROR(IF(J937=99,1,IF(MATCH(J937&\"/\"&L937,読み替え表_食品ロス!$P$29:$P$42,0),1,0)),0)","v":0},"*"]
[null,null,928,null,null,null,null,null,null,null,null,null,null,null,null,null,null,null,null,null,null,null,null,null,null,0,{"$f":"IFERROR(IF(J938=99,1,IF(MATCH(J938&\"/\"&L938,読み替え表_食品ロス!$P$29:$P$42,0),1,0)),0)","v":0},"*"]
[null,null,929,null,null,null,null,null,null,null,null,null,null,null,null,null,null,null,null,null,null,null,null,null,null,0,{"$f":"IFERROR(IF(J939=99,1,IF(MATCH(J939&\"/\"&L939,読み替え表_食品ロス!$P$29:$P$42,0),1,0)),0)","v":0},"*"]
[null,null,930,null,null,null,null,null,null,null,null,null,null,null,null,null,null,null,null,null,null,null,null,null,null,0,{"$f":"IFERROR(IF(J940=99,1,IF(MATCH(J940&\"/\"&L940,読み替え表_食品ロス!$P$29:$P$42,0),1,0)),0)","v":0},"*"]
[null,null,931,null,null,null,null,null,null,null,null,null,null,null,null,null,null,null,null,null,null,null,null,null,null,0,{"$f":"IFERROR(IF(J941=99,1,IF(MATCH(J941&\"/\"&L941,読み替え表_食品ロス!$P$29:$P$42,0),1,0)),0)","v":0},"*"]
[null,null,932,null,null,null,null,null,null,null,null,null,null,null,null,null,null,null,null,null,null,null,null,null,null,0,{"$f":"IFERROR(IF(J942=99,1,IF(MATCH(J942&\"/\"&L942,読み替え表_食品ロス!$P$29:$P$42,0),1,0)),0)","v":0},"*"]
[null,null,933,null,null,null,null,null,null,null,null,null,null,null,null,null,null,null,null,null,null,null,null,null,null,0,{"$f":"IFERROR(IF(J943=99,1,IF(MATCH(J943&\"/\"&L943,読み替え表_食品ロス!$P$29:$P$42,0),1,0)),0)","v":0},"*"]
[null,null,934,null,null,null,null,null,null,null,null,null,null,null,null,null,null,null,null,null,null,null,null,null,null,0,{"$f":"IFERROR(IF(J944=99,1,IF(MATCH(J944&\"/\"&L944,読み替え表_食品ロス!$P$29:$P$42,0),1,0)),0)","v":0},"*"]
[null,null,935,null,null,null,null,null,null,null,null,null,null,null,null,null,null,null,null,null,null,null,null,null,null,0,{"$f":"IFERROR(IF(J945=99,1,IF(MATCH(J945&\"/\"&L945,読み替え表_食品ロス!$P$29:$P$42,0),1,0)),0)","v":0},"*"]
[null,null,936,null,null,null,null,null,null,null,null,null,null,null,null,null,null,null,null,null,null,null,null,null,null,0,{"$f":"IFERROR(IF(J946=99,1,IF(MATCH(J946&\"/\"&L946,読み替え表_食品ロス!$P$29:$P$42,0),1,0)),0)","v":0},"*"]
[null,null,937,null,null,null,null,null,null,null,null,null,null,null,null,null,null,null,null,null,null,null,null,null,null,0,{"$f":"IFERROR(IF(J947=99,1,IF(MATCH(J947&\"/\"&L947,読み替え表_食品ロス!$P$29:$P$42,0),1,0)),0)","v":0},"*"]
[null,null,938,null,null,null,null,null,null,null,null,null,null,null,null,null,null,null,null,null,null,null,null,null,null,0,{"$f":"IFERROR(IF(J948=99,1,IF(MATCH(J948&\"/\"&L948,読み替え表_食品ロス!$P$29:$P$42,0),1,0)),0)","v":0},"*"]
[null,null,939,null,null,null,null,null,null,null,null,null,null,null,null,null,null,null,null,null,null,null,null,null,null,0,{"$f":"IFERROR(IF(J949=99,1,IF(MATCH(J949&\"/\"&L949,読み替え表_食品ロス!$P$29:$P$42,0),1,0)),0)","v":0},"*"]
[null,null,940,null,null,null,null,null,null,null,null,null,null,null,null,null,null,null,null,null,null,null,null,null,null,0,{"$f":"IFERROR(IF(J950=99,1,IF(MATCH(J950&\"/\"&L950,読み替え表_食品ロス!$P$29:$P$42,0),1,0)),0)","v":0},"*"]
[null,null,941,null,null,null,null,null,null,null,null,null,null,null,null,null,null,null,null,null,null,null,null,null,null,0,{"$f":"IFERROR(IF(J951=99,1,IF(MATCH(J951&\"/\"&L951,読み替え表_食品ロス!$P$29:$P$42,0),1,0)),0)","v":0},"*"]
[null,null,942,null,null,null,null,null,null,null,null,null,null,null,null,null,null,null,null,null,null,null,null,null,null,0,{"$f":"IFERROR(IF(J952=99,1,IF(MATCH(J952&\"/\"&L952,読み替え表_食品ロス!$P$29:$P$42,0),1,0)),0)","v":0},"*"]
[null,null,943,null,null,null,null,null,null,null,null,null,null,null,null,null,null,null,null,null,null,null,null,null,null,0,{"$f":"IFERROR(IF(J953=99,1,IF(MATCH(J953&\"/\"&L953,読み替え表_食品ロス!$P$29:$P$42,0),1,0)),0)","v":0},"*"]
[null,null,944,null,null,null,null,null,null,null,null,null,null,null,null,null,null,null,null,null,null,null,null,null,null,0,{"$f":"IFERROR(IF(J954=99,1,IF(MATCH(J954&\"/\"&L954,読み替え表_食品ロス!$P$29:$P$42,0),1,0)),0)","v":0},"*"]
[null,null,945,null,null,null,null,null,null,null,null,null,null,null,null,null,null,null,null,null,null,null,null,null,null,0,{"$f":"IFERROR(IF(J955=99,1,IF(MATCH(J955&\"/\"&L955,読み替え表_食品ロス!$P$29:$P$42,0),1,0)),0)","v":0},"*"]
[null,null,946,null,null,null,null,null,null,null,null,null,null,null,null,null,null,null,null,null,null,null,null,null,null,0,{"$f":"IFERROR(IF(J956=99,1,IF(MATCH(J956&\"/\"&L956,読み替え表_食品ロス!$P$29:$P$42,0),1,0)),0)","v":0},"*"]
[null,null,947,null,null,null,null,null,null,null,null,null,null,null,null,null,null,null,null,null,null,null,null,null,null,0,{"$f":"IFERROR(IF(J957=99,1,IF(MATCH(J957&\"/\"&L957,読み替え表_食品ロス!$P$29:$P$42,0),1,0)),0)","v":0},"*"]
[null,null,948,null,null,null,null,null,null,null,null,null,null,null,null,null,null,null,null,null,null,null,null,null,null,0,{"$f":"IFERROR(IF(J958=99,1,IF(MATCH(J958&\"/\"&L958,読み替え表_食品ロス!$P$29:$P$42,0),1,0)),0)","v":0},"*"]
[null,null,949,null,null,null,null,null,null,null,null,null,null,null,null,null,null,null,null,null,null,null,null,null,null,0,{"$f":"IFERROR(IF(J959=99,1,IF(MATCH(J959&\"/\"&L959,読み替え表_食品ロス!$P$29:$P$42,0),1,0)),0)","v":0},"*"]
[null,null,950,null,null,null,null,null,null,null,null,null,null,null,null,null,null,null,null,null,null,null,null,null,null,0,{"$f":"IFERROR(IF(J960=99,1,IF(MATCH(J960&\"/\"&L960,読み替え表_食品ロス!$P$29:$P$42,0),1,0)),0)","v":0},"*"]
[null,null,951,null,null,null,null,null,null,null,null,null,null,null,null,null,null,null,null,null,null,null,null,null,null,0,{"$f":"IFERROR(IF(J961=99,1,IF(MATCH(J961&\"/\"&L961,読み替え表_食品ロス!$P$29:$P$42,0),1,0)),0)","v":0},"*"]
[null,null,952,null,null,null,null,null,null,null,null,null,null,null,null,null,null,null,null,null,null,null,null,null,null,0,{"$f":"IFERROR(IF(J962=99,1,IF(MATCH(J962&\"/\"&L962,読み替え表_食品ロス!$P$29:$P$42,0),1,0)),0)","v":0},"*"]
[null,null,953,null,null,null,null,null,null,null,null,null,null,null,null,null,null,null,null,null,null,null,null,null,null,0,{"$f":"IFERROR(IF(J963=99,1,IF(MATCH(J963&\"/\"&L963,読み替え表_食品ロス!$P$29:$P$42,0),1,0)),0)","v":0},"*"]
[null,null,954,null,null,null,null,null,null,null,null,null,null,null,null,null,null,null,null,null,null,null,null,null,null,0,{"$f":"IFERROR(IF(J964=99,1,IF(MATCH(J964&\"/\"&L964,読み替え表_食品ロス!$P$29:$P$42,0),1,0)),0)","v":0},"*"]
[null,null,955,null,null,null,null,null,null,null,null,null,null,null,null,null,null,null,null,null,null,null,null,null,null,0,{"$f":"IFERROR(IF(J965=99,1,IF(MATCH(J965&\"/\"&L965,読み替え表_食品ロス!$P$29:$P$42,0),1,0)),0)","v":0},"*"]
[null,null,956,null,null,null,null,null,null,null,null,null,null,null,null,null,null,null,null,null,null,null,null,null,null,0,{"$f":"IFERROR(IF(J966=99,1,IF(MATCH(J966&\"/\"&L966,読み替え表_食品ロス!$P$29:$P$42,0),1,0)),0)","v":0},"*"]
[null,null,957,null,null,null,null,null,null,null,null,null,null,null,null,null,null,null,null,null,null,null,null,null,null,0,{"$f":"IFERROR(IF(J967=99,1,IF(MATCH(J967&\"/\"&L967,読み替え表_食品ロス!$P$29:$P$42,0),1,0)),0)","v":0},"*"]
[null,null,958,null,null,null,null,null,null,null,null,null,null,null,null,null,null,null,null,null,null,null,null,null,null,0,{"$f":"IFERROR(IF(J968=99,1,IF(MATCH(J968&\"/\"&L968,読み替え表_食品ロス!$P$29:$P$42,0),1,0)),0)","v":0},"*"]
[null,null,959,null,null,null,null,null,null,null,null,null,null,null,null,null,null,null,null,null,null,null,null,null,null,0,{"$f":"IFERROR(IF(J969=99,1,IF(MATCH(J969&\"/\"&L969,読み替え表_食品ロス!$P$29:$P$42,0),1,0)),0)","v":0},"*"]
[null,null,960,null,null,null,null,null,null,null,null,null,null,null,null,null,null,null,null,null,null,null,null,null,null,0,{"$f":"IFERROR(IF(J970=99,1,IF(MATCH(J970&\"/\"&L970,読み替え表_食品ロス!$P$29:$P$42,0),1,0)),0)","v":0},"*"]
[null,null,961,null,null,null,null,null,null,null,null,null,null,null,null,null,null,null,null,null,null,null,null,null,null,0,{"$f":"IFERROR(IF(J971=99,1,IF(MATCH(J971&\"/\"&L971,読み替え表_食品ロス!$P$29:$P$42,0),1,0)),0)","v":0},"*"]
[null,null,{"$f":"ROW()-10","v":962},null,null,null,null,null,null,null,null,null,null,null,null,null,null,null,null,null,null,null,null,null,null,{"$f":"IF(OR(L972=1,L972=2,L972=3),1,0)","v":0},{"$f":"IFERROR(IF(J972=99,1,IF(MATCH(J972&\"/\"&L972,読み替え表_食品ロス!$P$29:$P$42,0),1,0)),0)","v":0},"*"]
[null,null,963,null,null,null,null,null,null,null,null,null,null,null,null,null,null,null,null,null,null,null,null,null,null,0,{"$f":"IFERROR(IF(J973=99,1,IF(MATCH(J973&\"/\"&L973,読み替え表_食品ロス!$P$29:$P$42,0),1,0)),0)","v":0},"*"]
[null,null,964,null,null,null,null,null,null,null,null,null,null,null,null,null,null,null,null,null,null,null,null,null,null,0,{"$f":"IFERROR(IF(J974=99,1,IF(MATCH(J974&\"/\"&L974,読み替え表_食品ロス!$P$29:$P$42,0),1,0)),0)","v":0},"*"]
[null,null,965,null,null,null,null,null,null,null,null,null,null,null,null,null,null,null,null,null,null,null,null,null,null,0,{"$f":"IFERROR(IF(J975=99,1,IF(MATCH(J975&\"/\"&L975,読み替え表_食品ロス!$P$29:$P$42,0),1,0)),0)","v":0},"*"]
[null,null,966,null,null,null,null,null,null,null,null,null,null,null,null,null,null,null,null,null,null,null,null,null,null,0,{"$f":"IFERROR(IF(J976=99,1,IF(MATCH(J976&\"/\"&L976,読み替え表_食品ロス!$P$29:$P$42,0),1,0)),0)","v":0},"*"]
[null,null,967,null,null,null,null,null,null,null,null,null,null,null,null,null,null,null,null,null,null,null,null,null,null,0,{"$f":"IFERROR(IF(J977=99,1,IF(MATCH(J977&\"/\"&L977,読み替え表_食品ロス!$P$29:$P$42,0),1,0)),0)","v":0},"*"]
[null,null,968,null,null,null,null,null,null,null,null,null,null,null,null,null,null,null,null,null,null,null,null,null,null,0,{"$f":"IFERROR(IF(J978=99,1,IF(MATCH(J978&\"/\"&L978,読み替え表_食品ロス!$P$29:$P$42,0),1,0)),0)","v":0},"*"]
[null,null,969,null,null,null,null,null,null,null,null,null,null,null,null,null,null,null,null,null,null,null,null,null,null,0,{"$f":"IFERROR(IF(J979=99,1,IF(MATCH(J979&\"/\"&L979,読み替え表_食品ロス!$P$29:$P$42,0),1,0)),0)","v":0},"*"]
[null,null,970,null,null,null,null,null,null,null,null,null,null,null,null,null,null,null,null,null,null,null,null,null,null,0,{"$f":"IFERROR(IF(J980=99,1,IF(MATCH(J980&\"/\"&L980,読み替え表_食品ロス!$P$29:$P$42,0),1,0)),0)","v":0},"*"]
[null,null,971,null,null,null,null,null,null,null,null,null,null,null,null,null,null,null,null,null,null,null,null,null,null,0,{"$f":"IFERROR(IF(J981=99,1,IF(MATCH(J981&\"/\"&L981,読み替え表_食品ロス!$P$29:$P$42,0),1,0)),0)","v":0},"*"]
[null,null,972,null,null,null,null,null,null,null,null,null,null,null,null,null,null,null,null,null,null,null,null,null,null,0,{"$f":"IFERROR(IF(J982=99,1,IF(MATCH(J982&\"/\"&L982,読み替え表_食品ロス!$P$29:$P$42,0),1,0)),0)","v":0},"*"]
[null,null,973,null,null,null,null,null,null,null,null,null,null,null,null,null,null,null,null,null,null,null,null,null,null,0,{"$f":"IFERROR(IF(J983=99,1,IF(MATCH(J983&\"/\"&L983,読み替え表_食品ロス!$P$29:$P$42,0),1,0)),0)","v":0},"*"]
[null,null,974,null,null,null,null,null,null,null,null,null,null,null,null,null,null,null,null,null,null,null,null,null,null,0,{"$f":"IFERROR(IF(J984=99,1,IF(MATCH(J984&\"/\"&L984,読み替え表_食品ロス!$P$29:$P$42,0),1,0)),0)","v":0},"*"]
[null,null,975,null,null,null,null,null,null,null,null,null,null,null,null,null,null,null,null,null,null,null,null,null,null,0,{"$f":"IFERROR(IF(J985=99,1,IF(MATCH(J985&\"/\"&L985,読み替え表_食品ロス!$P$29:$P$42,0),1,0)),0)","v":0},"*"]
[null,null,976,null,null,null,null,null,null,null,null,null,null,null,null,null,null,null,null,null,null,null,null,null,null,0,{"$f":"IFERROR(IF(J986=99,1,IF(MATCH(J986&\"/\"&L986,読み替え表_食品ロス!$P$29:$P$42,0),1,0)),0)","v":0},"*"]
[null,null,977,null,null,null,null,null,null,null,null,null,null,null,null,null,null,null,null,null,null,null,null,null,null,0,{"$f":"IFERROR(IF(J987=99,1,IF(MATCH(J987&\"/\"&L987,読み替え表_食品ロス!$P$29:$P$42,0),1,0)),0)","v":0},"*"]
[null,null,978,null,null,null,null,null,null,null,null,null,null,null,null,null,null,null,null,null,null,null,null,null,null,0,{"$f":"IFERROR(IF(J988=99,1,IF(MATCH(J988&\"/\"&L988,読み替え表_食品ロス!$P$29:$P$42,0),1,0)),0)","v":0},"*"]
[null,null,979,null,null,null,null,null,null,null,null,null,null,null,null,null,null,null,null,null,null,null,null,null,null,0,{"$f":"IFERROR(IF(J989=99,1,IF(MATCH(J989&\"/\"&L989,読み替え表_食品ロス!$P$29:$P$42,0),1,0)),0)","v":0},"*"]
[null,null,980,null,null,null,null,null,null,null,null,null,null,null,null,null,null,null,null,null,null,null,null,null,null,0,{"$f":"IFERROR(IF(J990=99,1,IF(MATCH(J990&\"/\"&L990,読み替え表_食品ロス!$P$29:$P$42,0),1,0)),0)","v":0},"*"]
[null,null,981,null,null,null,null,null,null,null,null,null,null,null,null,null,null,null,null,null,null,null,null,null,null,0,{"$f":"IFERROR(IF(J991=99,1,IF(MATCH(J991&\"/\"&L991,読み替え表_食品ロス!$P$29:$P$42,0),1,0)),0)","v":0},"*"]
[null,null,982,null,null,null,null,null,null,null,null,null,null,null,null,null,null,null,null,null,null,null,null,null,null,0,{"$f":"IFERROR(IF(J992=99,1,IF(MATCH(J992&\"/\"&L992,読み替え表_食品ロス!$P$29:$P$42,0),1,0)),0)","v":0},"*"]
[null,null,983,null,null,null,null,null,null,null,null,null,null,null,null,null,null,null,null,null,null,null,null,null,null,0,{"$f":"IFERROR(IF(J993=99,1,IF(MATCH(J993&\"/\"&L993,読み替え表_食品ロス!$P$29:$P$42,0),1,0)),0)","v":0},"*"]
[null,null,984,null,null,null,null,null,null,null,null,null,null,null,null,null,null,null,null,null,null,null,null,null,null,0,{"$f":"IFERROR(IF(J994=99,1,IF(MATCH(J994&\"/\"&L994,読み替え表_食品ロス!$P$29:$P$42,0),1,0)),0)","v":0},"*"]
[null,null,985,null,null,null,null,null,null,null,null,null,null,null,null,null,null,null,null,null,null,null,null,null,null,0,{"$f":"IFERROR(IF(J995=99,1,IF(MATCH(J995&\"/\"&L995,読み替え表_食品ロス!$P$29:$P$42,0),1,0)),0)","v":0},"*"]
[null,null,986,null,null,null,null,null,null,null,null,null,null,null,null,null,null,null,null,null,null,null,null,null,null,0,{"$f":"IFERROR(IF(J996=99,1,IF(MATCH(J996&\"/\"&L996,読み替え表_食品ロス!$P$29:$P$42,0),1,0)),0)","v":0},"*"]
[null,null,987,null,null,null,null,null,null,null,null,null,null,null,null,null,null,null,null,null,null,null,null,null,null,0,{"$f":"IFERROR(IF(J997=99,1,IF(MATCH(J997&\"/\"&L997,読み替え表_食品ロス!$P$29:$P$42,0),1,0)),0)","v":0},"*"]
[null,null,988,null,null,null,null,null,null,null,null,null,null,null,null,null,null,null,null,null,null,null,null,null,null,0,{"$f":"IFERROR(IF(J998=99,1,IF(MATCH(J998&\"/\"&L998,読み替え表_食品ロス!$P$29:$P$42,0),1,0)),0)","v":0},"*"]
[null,null,989,null,null,null,null,null,null,null,null,null,null,null,null,null,null,null,null,null,null,null,null,null,null,0,{"$f":"IFERROR(IF(J999=99,1,IF(MATCH(J999&\"/\"&L999,読み替え表_食品ロス!$P$29:$P$42,0),1,0)),0)","v":0},"*"]
[null,null,990,null,null,null,null,null,null,null,null,null,null,null,null,null,null,null,null,null,null,null,null,null,null,0,{"$f":"IFERROR(IF(J1000=99,1,IF(MATCH(J1000&\"/\"&L1000,読み替え表_食品ロス!$P$29:$P$42,0),1,0)),0)","v":0},"*"]
[null,null,991,null,null,null,null,null,null,null,null,null,null,null,null,null,null,null,null,null,null,null,null,null,null,0,{"$f":"IFERROR(IF(J1001=99,1,IF(MATCH(J1001&\"/\"&L1001,読み替え表_食品ロス!$P$29:$P$42,0),1,0)),0)","v":0},"*"]
[null,null,992,null,null,null,null,null,null,null,null,null,null,null,null,null,null,null,null,null,null,null,null,null,null,0,{"$f":"IFERROR(IF(J1002=99,1,IF(MATCH(J1002&\"/\"&L1002,読み替え表_食品ロス!$P$29:$P$42,0),1,0)),0)","v":0},"*"]
[null,null,993,null,null,null,null,null,null,null,null,null,null,null,null,null,null,null,null,null,null,null,null,null,null,0,{"$f":"IFERROR(IF(J1003=99,1,IF(MATCH(J1003&\"/\"&L1003,読み替え表_食品ロス!$P$29:$P$42,0),1,0)),0)","v":0},"*"]
[null,null,994,null,null,null,null,null,null,null,null,null,null,null,null,null,null,null,null,null,null,null,null,null,null,0,{"$f":"IFERROR(IF(J1004=99,1,IF(MATCH(J1004&\"/\"&L1004,読み替え表_食品ロス!$P$29:$P$42,0),1,0)),0)","v":0},"*"]
[null,null,995,null,null,null,null,null,null,null,null,null,null,null,null,null,null,null,null,null,null,null,null,null,null,0,{"$f":"IFERROR(IF(J1005=99,1,IF(MATCH(J1005&\"/\"&L1005,読み替え表_食品ロス!$P$29:$P$42,0),1,0)),0)","v":0},"*"]
[null,null,996,null,null,null,null,null,null,null,null,null,null,null,null,null,null,null,null,null,null,null,null,null,null,0,{"$f":"IFERROR(IF(J1006=99,1,IF(MATCH(J1006&\"/\"&L1006,読み替え表_食品ロス!$P$29:$P$42,0),1,0)),0)","v":0},"*"]
[null,null,997,null,null,null,null,null,null,null,null,null,null,null,null,null,null,null,null,null,null,null,null,null,null,0,{"$f":"IFERROR(IF(J1007=99,1,IF(MATCH(J1007&\"/\"&L1007,読み替え表_食品ロス!$P$29:$P$42,0),1,0)),0)","v":0},"*"]
[null,null,998,null,null,null,null,null,null,null,null,null,null,null,null,null,null,null,null,null,null,null,null,null,null,0,{"$f":"IFERROR(IF(J1008=99,1,IF(MATCH(J1008&\"/\"&L1008,読み替え表_食品ロス!$P$29:$P$42,0),1,0)),0)","v":0},"*"]
[null,null,999,null,null,null,null,null,null,null,null,null,null,null,null,null,null,null,null,null,null,null,null,null,null,0,{"$f":"IFERROR(IF(J1009=99,1,IF(MATCH(J1009&\"/\"&L1009,読み替え表_食品ロス!$P$29:$P$42,0),1,0)),0)","v":0},"*"]
[null,null,1000,null,null,null,null,null,null,null,null,null,null,null,null,null,null,null,null,null,null,null,null,null,null,0,{"$f":"IFERROR(IF(J1010=99,1,IF(MATCH(J1010&\"/\"&L1010,読み替え表_食品ロス!$P$29:$P$42,0),1,0)),0)","v":0},"*"]
[null,null,1001,null,null,null,null,null,null,null,null,null,null,null,null,null,null,null,null,null,null,null,null,null,null,0,{"$f":"IFERROR(IF(J1011=99,1,IF(MATCH(J1011&\"/\"&L1011,読み替え表_食品ロス!$P$29:$P$42,0),1,0)),0)","v":0},"*"]
[null,null,1002,null,null,null,null,null,null,null,null,null,null,null,null,null,null,null,null,null,null,null,null,null,null,0,{"$f":"IFERROR(IF(J1012=99,1,IF(MATCH(J1012&\"/\"&L1012,読み替え表_食品ロス!$P$29:$P$42,0),1,0)),0)","v":0},"*"]
[null,null,1003,null,null,null,null,null,null,null,null,null,null,null,null,null,null,null,null,null,null,null,null,null,null,0,{"$f":"IFERROR(IF(J1013=99,1,IF(MATCH(J1013&\"/\"&L1013,読み替え表_食品ロス!$P$29:$P$42,0),1,0)),0)","v":0},"*"]
[null,null,1004,null,null,null,null,null,null,null,null,null,null,null,null,null,null,null,null,null,null,null,null,null,null,0,{"$f":"IFERROR(IF(J1014=99,1,IF(MATCH(J1014&\"/\"&L1014,読み替え表_食品ロス!$P$29:$P$42,0),1,0)),0)","v":0},"*"]
[null,null,1005,null,null,null,null,null,null,null,null,null,null,null,null,null,null,null,null,null,null,null,null,null,null,0,{"$f":"IFERROR(IF(J1015=99,1,IF(MATCH(J1015&\"/\"&L1015,読み替え表_食品ロス!$P$29:$P$42,0),1,0)),0)","v":0},"*"]
[null,null,1006,null,null,null,null,null,null,null,null,null,null,null,null,null,null,null,null,null,null,null,null,null,null,0,{"$f":"IFERROR(IF(J1016=99,1,IF(MATCH(J1016&\"/\"&L1016,読み替え表_食品ロス!$P$29:$P$42,0),1,0)),0)","v":0},"*"]
[null,null,1007,null,null,null,null,null,null,null,null,null,null,null,null,null,null,null,null,null,null,null,null,null,null,0,{"$f":"IFERROR(IF(J1017=99,1,IF(MATCH(J1017&\"/\"&L1017,読み替え表_食品ロス!$P$29:$P$42,0),1,0)),0)","v":0},"*"]
[null,null,1008,null,null,null,null,null,null,null,null,null,null,null,null,null,null,null,null,null,null,null,null,null,null,0,{"$f":"IFERROR(IF(J1018=99,1,IF(MATCH(J1018&\"/\"&L1018,読み替え表_食品ロス!$P$29:$P$42,0),1,0)),0)","v":0},"*"]
[null,null,1009,null,null,null,null,null,null,null,null,null,null,null,null,null,null,null,null,null,null,null,null,null,null,0,{"$f":"IFERROR(IF(J1019=99,1,IF(MATCH(J1019&\"/\"&L1019,読み替え表_食品ロス!$P$29:$P$42,0),1,0)),0)","v":0},"*"]
[null,null,1010,null,null,null,null,null,null,null,null,null,null,null,null,null,null,null,null,null,null,null,null,null,null,0,{"$f":"IFERROR(IF(J1020=99,1,IF(MATCH(J1020&\"/\"&L1020,読み替え表_食品ロス!$P$29:$P$42,0),1,0)),0)","v":0},"*"]
[null,null,1011,null,null,null,null,null,null,null,null,null,null,null,null,null,null,null,null,null,null,null,null,null,null,0,{"$f":"IFERROR(IF(J1021=99,1,IF(MATCH(J1021&\"/\"&L1021,読み替え表_食品ロス!$P$29:$P$42,0),1,0)),0)","v":0},"*"]
[null,null,1012,null,null,null,null,null,null,null,null,null,null,null,null,null,null,null,null,null,null,null,null,null,null,0,{"$f":"IFERROR(IF(J1022=99,1,IF(MATCH(J1022&\"/\"&L1022,読み替え表_食品ロス!$P$29:$P$42,0),1,0)),0)","v":0},"*"]
[null,null,1013,null,null,null,null,null,null,null,null,null,null,null,null,null,null,null,null,null,null,null,null,null,null,0,{"$f":"IFERROR(IF(J1023=99,1,IF(MATCH(J1023&\"/\"&L1023,読み替え表_食品ロス!$P$29:$P$42,0),1,0)),0)","v":0},"*"]
[null,null,1014,null,null,null,null,null,null,null,null,null,null,null,null,null,null,null,null,null,null,null,null,null,null,0,{"$f":"IFERROR(IF(J1024=99,1,IF(MATCH(J1024&\"/\"&L1024,読み替え表_食品ロス!$P$29:$P$42,0),1,0)),0)","v":0},"*"]
[null,null,1015,null,null,null,null,null,null,null,null,null,null,null,null,null,null,null,null,null,null,null,null,null,null,0,{"$f":"IFERROR(IF(J1025=99,1,IF(MATCH(J1025&\"/\"&L1025,読み替え表_食品ロス!$P$29:$P$42,0),1,0)),0)","v":0},"*"]
[null,null,1016,null,null,null,null,null,null,null,null,null,null,null,null,null,null,null,null,null,null,null,null,null,null,0,{"$f":"IFERROR(IF(J1026=99,1,IF(MATCH(J1026&\"/\"&L1026,読み替え表_食品ロス!$P$29:$P$42,0),1,0)),0)","v":0},"*"]
[null,null,1017,null,null,null,null,null,null,null,null,null,null,null,null,null,null,null,null,null,null,null,null,null,null,0,{"$f":"IFERROR(IF(J1027=99,1,IF(MATCH(J1027&\"/\"&L1027,読み替え表_食品ロス!$P$29:$P$42,0),1,0)),0)","v":0},"*"]
[null,null,1018,null,null,null,null,null,null,null,null,null,null,null,null,null,null,null,null,null,null,null,null,null,null,0,{"$f":"IFERROR(IF(J1028=99,1,IF(MATCH(J1028&\"/\"&L1028,読み替え表_食品ロス!$P$29:$P$42,0),1,0)),0)","v":0},"*"]
[null,null,1019,null,null,null,null,null,null,null,null,null,null,null,null,null,null,null,null,null,null,null,null,null,null,0,{"$f":"IFERROR(IF(J1029=99,1,IF(MATCH(J1029&\"/\"&L1029,読み替え表_食品ロス!$P$29:$P$42,0),1,0)),0)","v":0},"*"]
[null,null,1020,null,null,null,null,null,null,null,null,null,null,null,null,null,null,null,null,null,null,null,null,null,null,0,{"$f":"IFERROR(IF(J1030=99,1,IF(MATCH(J1030&\"/\"&L1030,読み替え表_食品ロス!$P$29:$P$42,0),1,0)),0)","v":0},"*"]
[null,null,1021,null,null,null,null,null,null,null,null,null,null,null,null,null,null,null,null,null,null,null,null,null,null,0,{"$f":"IFERROR(IF(J1031=99,1,IF(MATCH(J1031&\"/\"&L1031,読み替え表_食品ロス!$P$29:$P$42,0),1,0)),0)","v":0},"*"]
[null,null,1022,null,null,null,null,null,null,null,null,null,null,null,null,null,null,null,null,null,null,null,null,null,null,0,{"$f":"IFERROR(IF(J1032=99,1,IF(MATCH(J1032&\"/\"&L1032,読み替え表_食品ロス!$P$29:$P$42,0),1,0)),0)","v":0},"*"]
[null,null,1023,null,null,null,null,null,null,null,null,null,null,null,null,null,null,null,null,null,null,null,null,null,null,0,{"$f":"IFERROR(IF(J1033=99,1,IF(MATCH(J1033&\"/\"&L1033,読み替え表_食品ロス!$P$29:$P$42,0),1,0)),0)","v":0},"*"]
[null,null,1024,null,null,null,null,null,null,null,null,null,null,null,null,null,null,null,null,null,null,null,null,null,null,0,{"$f":"IFERROR(IF(J1034=99,1,IF(MATCH(J1034&\"/\"&L1034,読み替え表_食品ロス!$P$29:$P$42,0),1,0)),0)","v":0},"*"]
[null,null,1025,null,null,null,null,null,null,null,null,null,null,null,null,null,null,null,null,null,null,null,null,null,null,0,{"$f":"IFERROR(IF(J1035=99,1,IF(MATCH(J1035&\"/\"&L1035,読み替え表_食品ロス!$P$29:$P$42,0),1,0)),0)","v":0},"*"]
[null,null,{"$f":"ROW()-10","v":1026},null,null,null,null,null,null,null,null,null,null,null,null,null,null,null,null,null,null,null,null,null,null,{"$f":"IF(OR(L1036=1,L1036=2,L1036=3),1,0)","v":0},{"$f":"IFERROR(IF(J1036=99,1,IF(MATCH(J1036&\"/\"&L1036,読み替え表_食品ロス!$P$29:$P$42,0),1,0)),0)","v":0},"*"]
[null,null,1027,null,null,null,null,null,null,null,null,null,null,null,null,null,null,null,null,null,null,null,null,null,null,0,{"$f":"IFERROR(IF(J1037=99,1,IF(MATCH(J1037&\"/\"&L1037,読み替え表_食品ロス!$P$29:$P$42,0),1,0)),0)","v":0},"*"]
[null,null,1028,null,null,null,null,null,null,null,null,null,null,null,null,null,null,null,null,null,null,null,null,null,null,0,{"$f":"IFERROR(IF(J1038=99,1,IF(MATCH(J1038&\"/\"&L1038,読み替え表_食品ロス!$P$29:$P$42,0),1,0)),0)","v":0},"*"]
[null,null,1029,null,null,null,null,null,null,null,null,null,null,null,null,null,null,null,null,null,null,null,null,null,null,0,{"$f":"IFERROR(IF(J1039=99,1,IF(MATCH(J1039&\"/\"&L1039,読み替え表_食品ロス!$P$29:$P$42,0),1,0)),0)","v":0},"*"]
[null,null,1030,null,null,null,null,null,null,null,null,null,null,null,null,null,null,null,null,null,null,null,null,null,null,0,{"$f":"IFERROR(IF(J1040=99,1,IF(MATCH(J1040&\"/\"&L1040,読み替え表_食品ロス!$P$29:$P$42,0),1,0)),0)","v":0},"*"]
[null,null,1031,null,null,null,null,null,null,null,null,null,null,null,null,null,null,null,null,null,null,null,null,null,null,0,{"$f":"IFERROR(IF(J1041=99,1,IF(MATCH(J1041&\"/\"&L1041,読み替え表_食品ロス!$P$29:$P$42,0),1,0)),0)","v":0},"*"]
[null,null,1032,null,null,null,null,null,null,null,null,null,null,null,null,null,null,null,null,null,null,null,null,null,null,0,{"$f":"IFERROR(IF(J1042=99,1,IF(MATCH(J1042&\"/\"&L1042,読み替え表_食品ロス!$P$29:$P$42,0),1,0)),0)","v":0},"*"]
[null,null,1033,null,null,null,null,null,null,null,null,null,null,null,null,null,null,null,null,null,null,null,null,null,null,0,{"$f":"IFERROR(IF(J1043=99,1,IF(MATCH(J1043&\"/\"&L1043,読み替え表_食品ロス!$P$29:$P$42,0),1,0)),0)","v":0},"*"]
[null,null,1034,null,null,null,null,null,null,null,null,null,null,null,null,null,null,null,null,null,null,null,null,null,null,0,{"$f":"IFERROR(IF(J1044=99,1,IF(MATCH(J1044&\"/\"&L1044,読み替え表_食品ロス!$P$29:$P$42,0),1,0)),0)","v":0},"*"]
[null,null,1035,null,null,null,null,null,null,null,null,null,null,null,null,null,null,null,null,null,null,null,null,null,null,0,{"$f":"IFERROR(IF(J1045=99,1,IF(MATCH(J1045&\"/\"&L1045,読み替え表_食品ロス!$P$29:$P$42,0),1,0)),0)","v":0},"*"]
[null,null,1036,null,null,null,null,null,null,null,null,null,null,null,null,null,null,null,null,null,null,null,null,null,null,0,{"$f":"IFERROR(IF(J1046=99,1,IF(MATCH(J1046&\"/\"&L1046,読み替え表_食品ロス!$P$29:$P$42,0),1,0)),0)","v":0},"*"]
[null,null,1037,null,null,null,null,null,null,null,null,null,null,null,null,null,null,null,null,null,null,null,null,null,null,0,{"$f":"IFERROR(IF(J1047=99,1,IF(MATCH(J1047&\"/\"&L1047,読み替え表_食品ロス!$P$29:$P$42,0),1,0)),0)","v":0},"*"]
[null,null,1038,null,null,null,null,null,null,null,null,null,null,null,null,null,null,null,null,null,null,null,null,null,null,0,{"$f":"IFERROR(IF(J1048=99,1,IF(MATCH(J1048&\"/\"&L1048,読み替え表_食品ロス!$P$29:$P$42,0),1,0)),0)","v":0},"*"]
[null,null,1039,null,null,null,null,null,null,null,null,null,null,null,null,null,null,null,null,null,null,null,null,null,null,0,{"$f":"IFERROR(IF(J1049=99,1,IF(MATCH(J1049&\"/\"&L1049,読み替え表_食品ロス!$P$29:$P$42,0),1,0)),0)","v":0},"*"]
[null,null,1040,null,null,null,null,null,null,null,null,null,null,null,null,null,null,null,null,null,null,null,null,null,null,0,{"$f":"IFERROR(IF(J1050=99,1,IF(MATCH(J1050&\"/\"&L1050,読み替え表_食品ロス!$P$29:$P$42,0),1,0)),0)","v":0},"*"]
[null,null,1041,null,null,null,null,null,null,null,null,null,null,null,null,null,null,null,null,null,null,null,null,null,null,0,{"$f":"IFERROR(IF(J1051=99,1,IF(MATCH(J1051&\"/\"&L1051,読み替え表_食品ロス!$P$29:$P$42,0),1,0)),0)","v":0},"*"]
[null,null,1042,null,null,null,null,null,null,null,null,null,null,null,null,null,null,null,null,null,null,null,null,null,null,0,{"$f":"IFERROR(IF(J1052=99,1,IF(MATCH(J1052&\"/\"&L1052,読み替え表_食品ロス!$P$29:$P$42,0),1,0)),0)","v":0},"*"]
[null,null,1043,null,null,null,null,null,null,null,null,null,null,null,null,null,null,null,null,null,null,null,null,null,null,0,{"$f":"IFERROR(IF(J1053=99,1,IF(MATCH(J1053&\"/\"&L1053,読み替え表_食品ロス!$P$29:$P$42,0),1,0)),0)","v":0},"*"]
[null,null,1044,null,null,null,null,null,null,null,null,null,null,null,null,null,null,null,null,null,null,null,null,null,null,0,{"$f":"IFERROR(IF(J1054=99,1,IF(MATCH(J1054&\"/\"&L1054,読み替え表_食品ロス!$P$29:$P$42,0),1,0)),0)","v":0},"*"]
[null,null,1045,null,null,null,null,null,null,null,null,null,null,null,null,null,null,null,null,null,null,null,null,null,null,0,{"$f":"IFERROR(IF(J1055=99,1,IF(MATCH(J1055&\"/\"&L1055,読み替え表_食品ロス!$P$29:$P$42,0),1,0)),0)","v":0},"*"]
[null,null,1046,null,null,null,null,null,null,null,null,null,null,null,null,null,null,null,null,null,null,null,null,null,null,0,{"$f":"IFERROR(IF(J1056=99,1,IF(MATCH(J1056&\"/\"&L1056,読み替え表_食品ロス!$P$29:$P$42,0),1,0)),0)","v":0},"*"]
[null,null,1047,null,null,null,null,null,null,null,null,null,null,null,null,null,null,null,null,null,null,null,null,null,null,0,{"$f":"IFERROR(IF(J1057=99,1,IF(MATCH(J1057&\"/\"&L1057,読み替え表_食品ロス!$P$29:$P$42,0),1,0)),0)","v":0},"*"]
[null,null,1048,null,null,null,null,null,null,null,null,null,null,null,null,null,null,null,null,null,null,null,null,null,null,0,{"$f":"IFERROR(IF(J1058=99,1,IF(MATCH(J1058&\"/\"&L1058,読み替え表_食品ロス!$P$29:$P$42,0),1,0)),0)","v":0},"*"]
[null,null,1049,null,null,null,null,null,null,null,null,null,null,null,null,null,null,null,null,null,null,null,null,null,null,0,{"$f":"IFERROR(IF(J1059=99,1,IF(MATCH(J1059&\"/\"&L1059,読み替え表_食品ロス!$P$29:$P$42,0),1,0)),0)","v":0},"*"]
[null,null,1050,null,null,null,null,null,null,null,null,null,null,null,null,null,null,null,null,null,null,null,null,null,null,0,{"$f":"IFERROR(IF(J1060=99,1,IF(MATCH(J1060&\"/\"&L1060,読み替え表_食品ロス!$P$29:$P$42,0),1,0)),0)","v":0},"*"]
[null,null,1051,null,null,null,null,null,null,null,null,null,null,null,null,null,null,null,null,null,null,null,null,null,null,0,{"$f":"IFERROR(IF(J1061=99,1,IF(MATCH(J1061&\"/\"&L1061,読み替え表_食品ロス!$P$29:$P$42,0),1,0)),0)","v":0},"*"]
[null,null,1052,null,null,null,null,null,null,null,null,null,null,null,null,null,null,null,null,null,null,null,null,null,null,0,{"$f":"IFERROR(IF(J1062=99,1,IF(MATCH(J1062&\"/\"&L1062,読み替え表_食品ロス!$P$29:$P$42,0),1,0)),0)","v":0},"*"]
[null,null,1053,null,null,null,null,null,null,null,null,null,null,null,null,null,null,null,null,null,null,null,null,null,null,0,{"$f":"IFERROR(IF(J1063=99,1,IF(MATCH(J1063&\"/\"&L1063,読み替え表_食品ロス!$P$29:$P$42,0),1,0)),0)","v":0},"*"]
[null,null,1054,null,null,null,null,null,null,null,null,null,null,null,null,null,null,null,null,null,null,null,null,null,null,0,{"$f":"IFERROR(IF(J1064=99,1,IF(MATCH(J1064&\"/\"&L1064,読み替え表_食品ロス!$P$29:$P$42,0),1,0)),0)","v":0},"*"]
[null,null,1055,null,null,null,null,null,null,null,null,null,null,null,null,null,null,null,null,null,null,null,null,null,null,0,{"$f":"IFERROR(IF(J1065=99,1,IF(MATCH(J1065&\"/\"&L1065,読み替え表_食品ロス!$P$29:$P$42,0),1,0)),0)","v":0},"*"]
[null,null,1056,null,null,null,null,null,null,null,null,null,null,null,null,null,null,null,null,null,null,null,null,null,null,0,{"$f":"IFERROR(IF(J1066=99,1,IF(MATCH(J1066&\"/\"&L1066,読み替え表_食品ロス!$P$29:$P$42,0),1,0)),0)","v":0},"*"]
[null,null,1057,null,null,null,null,null,null,null,null,null,null,null,null,null,null,null,null,null,null,null,null,null,null,0,{"$f":"IFERROR(IF(J1067=99,1,IF(MATCH(J1067&\"/\"&L1067,読み替え表_食品ロス!$P$29:$P$42,0),1,0)),0)","v":0},"*"]
[null,null,1058,null,null,null,null,null,null,null,null,null,null,null,null,null,null,null,null,null,null,null,null,null,null,0,{"$f":"IFERROR(IF(J1068=99,1,IF(MATCH(J1068&\"/\"&L1068,読み替え表_食品ロス!$P$29:$P$42,0),1,0)),0)","v":0},"*"]
[null,null,1059,null,null,null,null,null,null,null,null,null,null,null,null,null,null,null,null,null,null,null,null,null,null,0,{"$f":"IFERROR(IF(J1069=99,1,IF(MATCH(J1069&\"/\"&L1069,読み替え表_食品ロス!$P$29:$P$42,0),1,0)),0)","v":0},"*"]
[null,null,1060,null,null,null,null,null,null,null,null,null,null,null,null,null,null,null,null,null,null,null,null,null,null,0,{"$f":"IFERROR(IF(J1070=99,1,IF(MATCH(J1070&\"/\"&L1070,読み替え表_食品ロス!$P$29:$P$42,0),1,0)),0)","v":0},"*"]
[null,null,1061,null,null,null,null,null,null,null,null,null,null,null,null,null,null,null,null,null,null,null,null,null,null,0,{"$f":"IFERROR(IF(J1071=99,1,IF(MATCH(J1071&\"/\"&L1071,読み替え表_食品ロス!$P$29:$P$42,0),1,0)),0)","v":0},"*"]
[null,null,1062,null,null,null,null,null,null,null,null,null,null,null,null,null,null,null,null,null,null,null,null,null,null,0,{"$f":"IFERROR(IF(J1072=99,1,IF(MATCH(J1072&\"/\"&L1072,読み替え表_食品ロス!$P$29:$P$42,0),1,0)),0)","v":0},"*"]
[null,null,1063,null,null,null,null,null,null,null,null,null,null,null,null,null,null,null,null,null,null,null,null,null,null,0,{"$f":"IFERROR(IF(J1073=99,1,IF(MATCH(J1073&\"/\"&L1073,読み替え表_食品ロス!$P$29:$P$42,0),1,0)),0)","v":0},"*"]
[null,null,1064,null,null,null,null,null,null,null,null,null,null,null,null,null,null,null,null,null,null,null,null,null,null,0,{"$f":"IFERROR(IF(J1074=99,1,IF(MATCH(J1074&\"/\"&L1074,読み替え表_食品ロス!$P$29:$P$42,0),1,0)),0)","v":0},"*"]
[null,null,1065,null,null,null,null,null,null,null,null,null,null,null,null,null,null,null,null,null,null,null,null,null,null,0,{"$f":"IFERROR(IF(J1075=99,1,IF(MATCH(J1075&\"/\"&L1075,読み替え表_食品ロス!$P$29:$P$42,0),1,0)),0)","v":0},"*"]
[null,null,1066,null,null,null,null,null,null,null,null,null,null,null,null,null,null,null,null,null,null,null,null,null,null,0,{"$f":"IFERROR(IF(J1076=99,1,IF(MATCH(J1076&\"/\"&L1076,読み替え表_食品ロス!$P$29:$P$42,0),1,0)),0)","v":0},"*"]
[null,null,1067,null,null,null,null,null,null,null,null,null,null,null,null,null,null,null,null,null,null,null,null,null,null,0,{"$f":"IFERROR(IF(J1077=99,1,IF(MATCH(J1077&\"/\"&L1077,読み替え表_食品ロス!$P$29:$P$42,0),1,0)),0)","v":0},"*"]
[null,null,1068,null,null,null,null,null,null,null,null,null,null,null,null,null,null,null,null,null,null,null,null,null,null,0,{"$f":"IFERROR(IF(J1078=99,1,IF(MATCH(J1078&\"/\"&L1078,読み替え表_食品ロス!$P$29:$P$42,0),1,0)),0)","v":0},"*"]
[null,null,1069,null,null,null,null,null,null,null,null,null,null,null,null,null,null,null,null,null,null,null,null,null,null,0,{"$f":"IFERROR(IF(J1079=99,1,IF(MATCH(J1079&\"/\"&L1079,読み替え表_食品ロス!$P$29:$P$42,0),1,0)),0)","v":0},"*"]
[null,null,1070,null,null,null,null,null,null,null,null,null,null,null,null,null,null,null,null,null,null,null,null,null,null,0,{"$f":"IFERROR(IF(J1080=99,1,IF(MATCH(J1080&\"/\"&L1080,読み替え表_食品ロス!$P$29:$P$42,0),1,0)),0)","v":0},"*"]
[null,null,1071,null,null,null,null,null,null,null,null,null,null,null,null,null,null,null,null,null,null,null,null,null,null,0,{"$f":"IFERROR(IF(J1081=99,1,IF(MATCH(J1081&\"/\"&L1081,読み替え表_食品ロス!$P$29:$P$42,0),1,0)),0)","v":0},"*"]
[null,null,1072,null,null,null,null,null,null,null,null,null,null,null,null,null,null,null,null,null,null,null,null,null,null,0,{"$f":"IFERROR(IF(J1082=99,1,IF(MATCH(J1082&\"/\"&L1082,読み替え表_食品ロス!$P$29:$P$42,0),1,0)),0)","v":0},"*"]
[null,null,1073,null,null,null,null,null,null,null,null,null,null,null,null,null,null,null,null,null,null,null,null,null,null,0,{"$f":"IFERROR(IF(J1083=99,1,IF(MATCH(J1083&\"/\"&L1083,読み替え表_食品ロス!$P$29:$P$42,0),1,0)),0)","v":0},"*"]
[null,null,1074,null,null,null,null,null,null,null,null,null,null,null,null,null,null,null,null,null,null,null,null,null,null,0,{"$f":"IFERROR(IF(J1084=99,1,IF(MATCH(J1084&\"/\"&L1084,読み替え表_食品ロス!$P$29:$P$42,0),1,0)),0)","v":0},"*"]
[null,null,1075,null,null,null,null,null,null,null,null,null,null,null,null,null,null,null,null,null,null,null,null,null,null,0,{"$f":"IFERROR(IF(J1085=99,1,IF(MATCH(J1085&\"/\"&L1085,読み替え表_食品ロス!$P$29:$P$42,0),1,0)),0)","v":0},"*"]
[null,null,1076,null,null,null,null,null,null,null,null,null,null,null,null,null,null,null,null,null,null,null,null,null,null,0,{"$f":"IFERROR(IF(J1086=99,1,IF(MATCH(J1086&\"/\"&L1086,読み替え表_食品ロス!$P$29:$P$42,0),1,0)),0)","v":0},"*"]
[null,null,1077,null,null,null,null,null,null,null,null,null,null,null,null,null,null,null,null,null,null,null,null,null,null,0,{"$f":"IFERROR(IF(J1087=99,1,IF(MATCH(J1087&\"/\"&L1087,読み替え表_食品ロス!$P$29:$P$42,0),1,0)),0)","v":0},"*"]
[null,null,1078,null,null,null,null,null,null,null,null,null,null,null,null,null,null,null,null,null,null,null,null,null,null,0,{"$f":"IFERROR(IF(J1088=99,1,IF(MATCH(J1088&\"/\"&L1088,読み替え表_食品ロス!$P$29:$P$42,0),1,0)),0)","v":0},"*"]
[null,null,1079,null,null,null,null,null,null,null,null,null,null,null,null,null,null,null,null,null,null,null,null,null,null,0,{"$f":"IFERROR(IF(J1089=99,1,IF(MATCH(J1089&\"/\"&L1089,読み替え表_食品ロス!$P$29:$P$42,0),1,0)),0)","v":0},"*"]
[null,null,1080,null,null,null,null,null,null,null,null,null,null,null,null,null,null,null,null,null,null,null,null,null,null,0,{"$f":"IFERROR(IF(J1090=99,1,IF(MATCH(J1090&\"/\"&L1090,読み替え表_食品ロス!$P$29:$P$42,0),1,0)),0)","v":0},"*"]
[null,null,1081,null,null,null,null,null,null,null,null,null,null,null,null,null,null,null,null,null,null,null,null,null,null,0,{"$f":"IFERROR(IF(J1091=99,1,IF(MATCH(J1091&\"/\"&L1091,読み替え表_食品ロス!$P$29:$P$42,0),1,0)),0)","v":0},"*"]
[null,null,1082,null,null,null,null,null,null,null,null,null,null,null,null,null,null,null,null,null,null,null,null,null,null,0,{"$f":"IFERROR(IF(J1092=99,1,IF(MATCH(J1092&\"/\"&L1092,読み替え表_食品ロス!$P$29:$P$42,0),1,0)),0)","v":0},"*"]
[null,null,1083,null,null,null,null,null,null,null,null,null,null,null,null,null,null,null,null,null,null,null,null,null,null,0,{"$f":"IFERROR(IF(J1093=99,1,IF(MATCH(J1093&\"/\"&L1093,読み替え表_食品ロス!$P$29:$P$42,0),1,0)),0)","v":0},"*"]
[null,null,1084,null,null,null,null,null,null,null,null,null,null,null,null,null,null,null,null,null,null,null,null,null,null,0,{"$f":"IFERROR(IF(J1094=99,1,IF(MATCH(J1094&\"/\"&L1094,読み替え表_食品ロス!$P$29:$P$42,0),1,0)),0)","v":0},"*"]
[null,null,1085,null,null,null,null,null,null,null,null,null,null,null,null,null,null,null,null,null,null,null,null,null,null,0,{"$f":"IFERROR(IF(J1095=99,1,IF(MATCH(J1095&\"/\"&L1095,読み替え表_食品ロス!$P$29:$P$42,0),1,0)),0)","v":0},"*"]
[null,null,1086,null,null,null,null,null,null,null,null,null,null,null,null,null,null,null,null,null,null,null,null,null,null,0,{"$f":"IFERROR(IF(J1096=99,1,IF(MATCH(J1096&\"/\"&L1096,読み替え表_食品ロス!$P$29:$P$42,0),1,0)),0)","v":0},"*"]
[null,null,1087,null,null,null,null,null,null,null,null,null,null,null,null,null,null,null,null,null,null,null,null,null,null,0,{"$f":"IFERROR(IF(J1097=99,1,IF(MATCH(J1097&\"/\"&L1097,読み替え表_食品ロス!$P$29:$P$42,0),1,0)),0)","v":0},"*"]
[null,null,1088,null,null,null,null,null,null,null,null,null,null,null,null,null,null,null,null,null,null,null,null,null,null,0,{"$f":"IFERROR(IF(J1098=99,1,IF(MATCH(J1098&\"/\"&L1098,読み替え表_食品ロス!$P$29:$P$42,0),1,0)),0)","v":0},"*"]
[null,null,1089,null,null,null,null,null,null,null,null,null,null,null,null,null,null,null,null,null,null,null,null,null,null,0,{"$f":"IFERROR(IF(J1099=99,1,IF(MATCH(J1099&\"/\"&L1099,読み替え表_食品ロス!$P$29:$P$42,0),1,0)),0)","v":0},"*"]
[null,null,{"$f":"ROW()-10","v":1090},null,null,null,null,null,null,null,null,null,null,null,null,null,null,null,null,null,null,null,null,null,null,{"$f":"IF(OR(L1100=1,L1100=2,L1100=3),1,0)","v":0},{"$f":"IFERROR(IF(J1100=99,1,IF(MATCH(J1100&\"/\"&L1100,読み替え表_食品ロス!$P$29:$P$42,0),1,0)),0)","v":0},"*"]
[null,null,1091,null,null,null,null,null,null,null,null,null,null,null,null,null,null,null,null,null,null,null,null,null,null,0,{"$f":"IFERROR(IF(J1101=99,1,IF(MATCH(J1101&\"/\"&L1101,読み替え表_食品ロス!$P$29:$P$42,0),1,0)),0)","v":0},"*"]
[null,null,1092,null,null,null,null,null,null,null,null,null,null,null,null,null,null,null,null,null,null,null,null,null,null,0,{"$f":"IFERROR(IF(J1102=99,1,IF(MATCH(J1102&\"/\"&L1102,読み替え表_食品ロス!$P$29:$P$42,0),1,0)),0)","v":0},"*"]
[null,null,1093,null,null,null,null,null,null,null,null,null,null,null,null,null,null,null,null,null,null,null,null,null,null,0,{"$f":"IFERROR(IF(J1103=99,1,IF(MATCH(J1103&\"/\"&L1103,読み替え表_食品ロス!$P$29:$P$42,0),1,0)),0)","v":0},"*"]
[null,null,1094,null,null,null,null,null,null,null,null,null,null,null,null,null,null,null,null,null,null,null,null,null,null,0,{"$f":"IFERROR(IF(J1104=99,1,IF(MATCH(J1104&\"/\"&L1104,読み替え表_食品ロス!$P$29:$P$42,0),1,0)),0)","v":0},"*"]
[null,null,1095,null,null,null,null,null,null,null,null,null,null,null,null,null,null,null,null,null,null,null,null,null,null,0,{"$f":"IFERROR(IF(J1105=99,1,IF(MATCH(J1105&\"/\"&L1105,読み替え表_食品ロス!$P$29:$P$42,0),1,0)),0)","v":0},"*"]
[null,null,1096,null,null,null,null,null,null,null,null,null,null,null,null,null,null,null,null,null,null,null,null,null,null,0,{"$f":"IFERROR(IF(J1106=99,1,IF(MATCH(J1106&\"/\"&L1106,読み替え表_食品ロス!$P$29:$P$42,0),1,0)),0)","v":0},"*"]
[null,null,1097,null,null,null,null,null,null,null,null,null,null,null,null,null,null,null,null,null,null,null,null,null,null,0,{"$f":"IFERROR(IF(J1107=99,1,IF(MATCH(J1107&\"/\"&L1107,読み替え表_食品ロス!$P$29:$P$42,0),1,0)),0)","v":0},"*"]
[null,null,1098,null,null,null,null,null,null,null,null,null,null,null,null,null,null,null,null,null,null,null,null,null,null,0,{"$f":"IFERROR(IF(J1108=99,1,IF(MATCH(J1108&\"/\"&L1108,読み替え表_食品ロス!$P$29:$P$42,0),1,0)),0)","v":0},"*"]
[null,null,1099,null,null,null,null,null,null,null,null,null,null,null,null,null,null,null,null,null,null,null,null,null,null,0,{"$f":"IFERROR(IF(J1109=99,1,IF(MATCH(J1109&\"/\"&L1109,読み替え表_食品ロス!$P$29:$P$42,0),1,0)),0)","v":0},"*"]
[null,null,1100,null,null,null,null,null,null,null,null,null,null,null,null,null,null,null,null,null,null,null,null,null,null,0,{"$f":"IFERROR(IF(J1110=99,1,IF(MATCH(J1110&\"/\"&L1110,読み替え表_食品ロス!$P$29:$P$42,0),1,0)),0)","v":0},"*"]
[null,null,1101,null,null,null,null,null,null,null,null,null,null,null,null,null,null,null,null,null,null,null,null,null,null,0,{"$f":"IFERROR(IF(J1111=99,1,IF(MATCH(J1111&\"/\"&L1111,読み替え表_食品ロス!$P$29:$P$42,0),1,0)),0)","v":0},"*"]
[null,null,1102,null,null,null,null,null,null,null,null,null,null,null,null,null,null,null,null,null,null,null,null,null,null,0,{"$f":"IFERROR(IF(J1112=99,1,IF(MATCH(J1112&\"/\"&L1112,読み替え表_食品ロス!$P$29:$P$42,0),1,0)),0)","v":0},"*"]
[null,null,1103,null,null,null,null,null,null,null,null,null,null,null,null,null,null,null,null,null,null,null,null,null,null,0,{"$f":"IFERROR(IF(J1113=99,1,IF(MATCH(J1113&\"/\"&L1113,読み替え表_食品ロス!$P$29:$P$42,0),1,0)),0)","v":0},"*"]
[null,null,1104,null,null,null,null,null,null,null,null,null,null,null,null,null,null,null,null,null,null,null,null,null,null,0,{"$f":"IFERROR(IF(J1114=99,1,IF(MATCH(J1114&\"/\"&L1114,読み替え表_食品ロス!$P$29:$P$42,0),1,0)),0)","v":0},"*"]
[null,null,1105,null,null,null,null,null,null,null,null,null,null,null,null,null,null,null,null,null,null,null,null,null,null,0,{"$f":"IFERROR(IF(J1115=99,1,IF(MATCH(J1115&\"/\"&L1115,読み替え表_食品ロス!$P$29:$P$42,0),1,0)),0)","v":0},"*"]
[null,null,1106,null,null,null,null,null,null,null,null,null,null,null,null,null,null,null,null,null,null,null,null,null,null,0,{"$f":"IFERROR(IF(J1116=99,1,IF(MATCH(J1116&\"/\"&L1116,読み替え表_食品ロス!$P$29:$P$42,0),1,0)),0)","v":0},"*"]
[null,null,1107,null,null,null,null,null,null,null,null,null,null,null,null,null,null,null,null,null,null,null,null,null,null,0,{"$f":"IFERROR(IF(J1117=99,1,IF(MATCH(J1117&\"/\"&L1117,読み替え表_食品ロス!$P$29:$P$42,0),1,0)),0)","v":0},"*"]
[null,null,1108,null,null,null,null,null,null,null,null,null,null,null,null,null,null,null,null,null,null,null,null,null,null,0,{"$f":"IFERROR(IF(J1118=99,1,IF(MATCH(J1118&\"/\"&L1118,読み替え表_食品ロス!$P$29:$P$42,0),1,0)),0)","v":0},"*"]
[null,null,1109,null,null,null,null,null,null,null,null,null,null,null,null,null,null,null,null,null,null,null,null,null,null,0,{"$f":"IFERROR(IF(J1119=99,1,IF(MATCH(J1119&\"/\"&L1119,読み替え表_食品ロス!$P$29:$P$42,0),1,0)),0)","v":0},"*"]
[null,null,1110,null,null,null,null,null,null,null,null,null,null,null,null,null,null,null,null,null,null,null,null,null,null,0,{"$f":"IFERROR(IF(J1120=99,1,IF(MATCH(J1120&\"/\"&L1120,読み替え表_食品ロス!$P$29:$P$42,0),1,0)),0)","v":0},"*"]
[null,null,1111,null,null,null,null,null,null,null,null,null,null,null,null,null,null,null,null,null,null,null,null,null,null,0,{"$f":"IFERROR(IF(J1121=99,1,IF(MATCH(J1121&\"/\"&L1121,読み替え表_食品ロス!$P$29:$P$42,0),1,0)),0)","v":0},"*"]
[null,null,1112,null,null,null,null,null,null,null,null,null,null,null,null,null,null,null,null,null,null,null,null,null,null,0,{"$f":"IFERROR(IF(J1122=99,1,IF(MATCH(J1122&\"/\"&L1122,読み替え表_食品ロス!$P$29:$P$42,0),1,0)),0)","v":0},"*"]
[null,null,1113,null,null,null,null,null,null,null,null,null,null,null,null,null,null,null,null,null,null,null,null,null,null,0,{"$f":"IFERROR(IF(J1123=99,1,IF(MATCH(J1123&\"/\"&L1123,読み替え表_食品ロス!$P$29:$P$42,0),1,0)),0)","v":0},"*"]
[null,null,1114,null,null,null,null,null,null,null,null,null,null,null,null,null,null,null,null,null,null,null,null,null,null,0,{"$f":"IFERROR(IF(J1124=99,1,IF(MATCH(J1124&\"/\"&L1124,読み替え表_食品ロス!$P$29:$P$42,0),1,0)),0)","v":0},"*"]
[null,null,1115,null,null,null,null,null,null,null,null,null,null,null,null,null,null,null,null,null,null,null,null,null,null,0,{"$f":"IFERROR(IF(J1125=99,1,IF(MATCH(J1125&\"/\"&L1125,読み替え表_食品ロス!$P$29:$P$42,0),1,0)),0)","v":0},"*"]
[null,null,1116,null,null,null,null,null,null,null,null,null,null,null,null,null,null,null,null,null,null,null,null,null,null,0,{"$f":"IFERROR(IF(J1126=99,1,IF(MATCH(J1126&\"/\"&L1126,読み替え表_食品ロス!$P$29:$P$42,0),1,0)),0)","v":0},"*"]
[null,null,1117,null,null,null,null,null,null,null,null,null,null,null,null,null,null,null,null,null,null,null,null,null,null,0,{"$f":"IFERROR(IF(J1127=99,1,IF(MATCH(J1127&\"/\"&L1127,読み替え表_食品ロス!$P$29:$P$42,0),1,0)),0)","v":0},"*"]
[null,null,1118,null,null,null,null,null,null,null,null,null,null,null,null,null,null,null,null,null,null,null,null,null,null,0,{"$f":"IFERROR(IF(J1128=99,1,IF(MATCH(J1128&\"/\"&L1128,読み替え表_食品ロス!$P$29:$P$42,0),1,0)),0)","v":0},"*"]
[null,null,1119,null,null,null,null,null,null,null,null,null,null,null,null,null,null,null,null,null,null,null,null,null,null,0,{"$f":"IFERROR(IF(J1129=99,1,IF(MATCH(J1129&\"/\"&L1129,読み替え表_食品ロス!$P$29:$P$42,0),1,0)),0)","v":0},"*"]
[null,null,1120,null,null,null,null,null,null,null,null,null,null,null,null,null,null,null,null,null,null,null,null,null,null,0,{"$f":"IFERROR(IF(J1130=99,1,IF(MATCH(J1130&\"/\"&L1130,読み替え表_食品ロス!$P$29:$P$42,0),1,0)),0)","v":0},"*"]
[null,null,1121,null,null,null,null,null,null,null,null,null,null,null,null,null,null,null,null,null,null,null,null,null,null,0,{"$f":"IFERROR(IF(J1131=99,1,IF(MATCH(J1131&\"/\"&L1131,読み替え表_食品ロス!$P$29:$P$42,0),1,0)),0)","v":0},"*"]
[null,null,1122,null,null,null,null,null,null,null,null,null,null,null,null,null,null,null,null,null,null,null,null,null,null,0,{"$f":"IFERROR(IF(J1132=99,1,IF(MATCH(J1132&\"/\"&L1132,読み替え表_食品ロス!$P$29:$P$42,0),1,0)),0)","v":0},"*"]
[null,null,1123,null,null,null,null,null,null,null,null,null,null,null,null,null,null,null,null,null,null,null,null,null,null,0,{"$f":"IFERROR(IF(J1133=99,1,IF(MATCH(J1133&\"/\"&L1133,読み替え表_食品ロス!$P$29:$P$42,0),1,0)),0)","v":0},"*"]
[null,null,1124,null,null,null,null,null,null,null,null,null,null,null,null,null,null,null,null,null,null,null,null,null,null,0,{"$f":"IFERROR(IF(J1134=99,1,IF(MATCH(J1134&\"/\"&L1134,読み替え表_食品ロス!$P$29:$P$42,0),1,0)),0)","v":0},"*"]
[null,null,1125,null,null,null,null,null,null,null,null,null,null,null,null,null,null,null,null,null,null,null,null,null,null,0,{"$f":"IFERROR(IF(J1135=99,1,IF(MATCH(J1135&\"/\"&L1135,読み替え表_食品ロス!$P$29:$P$42,0),1,0)),0)","v":0},"*"]
[null,null,1126,null,null,null,null,null,null,null,null,null,null,null,null,null,null,null,null,null,null,null,null,null,null,0,{"$f":"IFERROR(IF(J1136=99,1,IF(MATCH(J1136&\"/\"&L1136,読み替え表_食品ロス!$P$29:$P$42,0),1,0)),0)","v":0},"*"]
[null,null,1127,null,null,null,null,null,null,null,null,null,null,null,null,null,null,null,null,null,null,null,null,null,null,0,{"$f":"IFERROR(IF(J1137=99,1,IF(MATCH(J1137&\"/\"&L1137,読み替え表_食品ロス!$P$29:$P$42,0),1,0)),0)","v":0},"*"]
[null,null,1128,null,null,null,null,null,null,null,null,null,null,null,null,null,null,null,null,null,null,null,null,null,null,0,{"$f":"IFERROR(IF(J1138=99,1,IF(MATCH(J1138&\"/\"&L1138,読み替え表_食品ロス!$P$29:$P$42,0),1,0)),0)","v":0},"*"]
[null,null,1129,null,null,null,null,null,null,null,null,null,null,null,null,null,null,null,null,null,null,null,null,null,null,0,{"$f":"IFERROR(IF(J1139=99,1,IF(MATCH(J1139&\"/\"&L1139,読み替え表_食品ロス!$P$29:$P$42,0),1,0)),0)","v":0},"*"]
[null,null,1130,null,null,null,null,null,null,null,null,null,null,null,null,null,null,null,null,null,null,null,null,null,null,0,{"$f":"IFERROR(IF(J1140=99,1,IF(MATCH(J1140&\"/\"&L1140,読み替え表_食品ロス!$P$29:$P$42,0),1,0)),0)","v":0},"*"]
[null,null,1131,null,null,null,null,null,null,null,null,null,null,null,null,null,null,null,null,null,null,null,null,null,null,0,{"$f":"IFERROR(IF(J1141=99,1,IF(MATCH(J1141&\"/\"&L1141,読み替え表_食品ロス!$P$29:$P$42,0),1,0)),0)","v":0},"*"]
[null,null,1132,null,null,null,null,null,null,null,null,null,null,null,null,null,null,null,null,null,null,null,null,null,null,0,{"$f":"IFERROR(IF(J1142=99,1,IF(MATCH(J1142&\"/\"&L1142,読み替え表_食品ロス!$P$29:$P$42,0),1,0)),0)","v":0},"*"]
[null,null,1133,null,null,null,null,null,null,null,null,null,null,null,null,null,null,null,null,null,null,null,null,null,null,0,{"$f":"IFERROR(IF(J1143=99,1,IF(MATCH(J1143&\"/\"&L1143,読み替え表_食品ロス!$P$29:$P$42,0),1,0)),0)","v":0},"*"]
[null,null,1134,null,null,null,null,null,null,null,null,null,null,null,null,null,null,null,null,null,null,null,null,null,null,0,{"$f":"IFERROR(IF(J1144=99,1,IF(MATCH(J1144&\"/\"&L1144,読み替え表_食品ロス!$P$29:$P$42,0),1,0)),0)","v":0},"*"]
[null,null,1135,null,null,null,null,null,null,null,null,null,null,null,null,null,null,null,null,null,null,null,null,null,null,0,{"$f":"IFERROR(IF(J1145=99,1,IF(MATCH(J1145&\"/\"&L1145,読み替え表_食品ロス!$P$29:$P$42,0),1,0)),0)","v":0},"*"]
[null,null,1136,null,null,null,null,null,null,null,null,null,null,null,null,null,null,null,null,null,null,null,null,null,null,0,{"$f":"IFERROR(IF(J1146=99,1,IF(MATCH(J1146&\"/\"&L1146,読み替え表_食品ロス!$P$29:$P$42,0),1,0)),0)","v":0},"*"]
[null,null,1137,null,null,null,null,null,null,null,null,null,null,null,null,null,null,null,null,null,null,null,null,null,null,0,{"$f":"IFERROR(IF(J1147=99,1,IF(MATCH(J1147&\"/\"&L1147,読み替え表_食品ロス!$P$29:$P$42,0),1,0)),0)","v":0},"*"]
[null,null,1138,null,null,null,null,null,null,null,null,null,null,null,null,null,null,null,null,null,null,null,null,null,null,0,{"$f":"IFERROR(IF(J1148=99,1,IF(MATCH(J1148&\"/\"&L1148,読み替え表_食品ロス!$P$29:$P$42,0),1,0)),0)","v":0},"*"]
[null,null,1139,null,null,null,null,null,null,null,null,null,null,null,null,null,null,null,null,null,null,null,null,null,null,0,{"$f":"IFERROR(IF(J1149=99,1,IF(MATCH(J1149&\"/\"&L1149,読み替え表_食品ロス!$P$29:$P$42,0),1,0)),0)","v":0},"*"]
[null,null,1140,null,null,null,null,null,null,null,null,null,null,null,null,null,null,null,null,null,null,null,null,null,null,0,{"$f":"IFERROR(IF(J1150=99,1,IF(MATCH(J1150&\"/\"&L1150,読み替え表_食品ロス!$P$29:$P$42,0),1,0)),0)","v":0},"*"]
[null,null,1141,null,null,null,null,null,null,null,null,null,null,null,null,null,null,null,null,null,null,null,null,null,null,0,{"$f":"IFERROR(IF(J1151=99,1,IF(MATCH(J1151&\"/\"&L1151,読み替え表_食品ロス!$P$29:$P$42,0),1,0)),0)","v":0},"*"]
[null,null,1142,null,null,null,null,null,null,null,null,null,null,null,null,null,null,null,null,null,null,null,null,null,null,0,{"$f":"IFERROR(IF(J1152=99,1,IF(MATCH(J1152&\"/\"&L1152,読み替え表_食品ロス!$P$29:$P$42,0),1,0)),0)","v":0},"*"]
[null,null,1143,null,null,null,null,null,null,null,null,null,null,null,null,null,null,null,null,null,null,null,null,null,null,0,{"$f":"IFERROR(IF(J1153=99,1,IF(MATCH(J1153&\"/\"&L1153,読み替え表_食品ロス!$P$29:$P$42,0),1,0)),0)","v":0},"*"]
[null,null,1144,null,null,null,null,null,null,null,null,null,null,null,null,null,null,null,null,null,null,null,null,null,null,0,{"$f":"IFERROR(IF(J1154=99,1,IF(MATCH(J1154&\"/\"&L1154,読み替え表_食品ロス!$P$29:$P$42,0),1,0)),0)","v":0},"*"]
[null,null,1145,null,null,null,null,null,null,null,null,null,null,null,null,null,null,null,null,null,null,null,null,null,null,0,{"$f":"IFERROR(IF(J1155=99,1,IF(MATCH(J1155&\"/\"&L1155,読み替え表_食品ロス!$P$29:$P$42,0),1,0)),0)","v":0},"*"]
[null,null,1146,null,null,null,null,null,null,null,null,null,null,null,null,null,null,null,null,null,null,null,null,null,null,0,{"$f":"IFERROR(IF(J1156=99,1,IF(MATCH(J1156&\"/\"&L1156,読み替え表_食品ロス!$P$29:$P$42,0),1,0)),0)","v":0},"*"]
[null,null,1147,null,null,null,null,null,null,null,null,null,null,null,null,null,null,null,null,null,null,null,null,null,null,0,{"$f":"IFERROR(IF(J1157=99,1,IF(MATCH(J1157&\"/\"&L1157,読み替え表_食品ロス!$P$29:$P$42,0),1,0)),0)","v":0},"*"]
[null,null,1148,null,null,null,null,null,null,null,null,null,null,null,null,null,null,null,null,null,null,null,null,null,null,0,{"$f":"IFERROR(IF(J1158=99,1,IF(MATCH(J1158&\"/\"&L1158,読み替え表_食品ロス!$P$29:$P$42,0),1,0)),0)","v":0},"*"]
[null,null,1149,null,null,null,null,null,null,null,null,null,null,null,null,null,null,null,null,null,null,null,null,null,null,0,{"$f":"IFERROR(IF(J1159=99,1,IF(MATCH(J1159&\"/\"&L1159,読み替え表_食品ロス!$P$29:$P$42,0),1,0)),0)","v":0},"*"]
[null,null,1150,null,null,null,null,null,null,null,null,null,null,null,null,null,null,null,null,null,null,null,null,null,null,0,{"$f":"IFERROR(IF(J1160=99,1,IF(MATCH(J1160&\"/\"&L1160,読み替え表_食品ロス!$P$29:$P$42,0),1,0)),0)","v":0},"*"]
[null,null,1151,null,null,null,null,null,null,null,null,null,null,null,null,null,null,null,null,null,null,null,null,null,null,0,{"$f":"IFERROR(IF(J1161=99,1,IF(MATCH(J1161&\"/\"&L1161,読み替え表_食品ロス!$P$29:$P$42,0),1,0)),0)","v":0},"*"]
[null,null,1152,null,null,null,null,null,null,null,null,null,null,null,null,null,null,null,null,null,null,null,null,null,null,0,{"$f":"IFERROR(IF(J1162=99,1,IF(MATCH(J1162&\"/\"&L1162,読み替え表_食品ロス!$P$29:$P$42,0),1,0)),0)","v":0},"*"]
[null,null,1153,null,null,null,null,null,null,null,null,null,null,null,null,null,null,null,null,null,null,null,null,null,null,0,{"$f":"IFERROR(IF(J1163=99,1,IF(MATCH(J1163&\"/\"&L1163,読み替え表_食品ロス!$P$29:$P$42,0),1,0)),0)","v":0},"*"]
[null,null,{"$f":"ROW()-10","v":1154},null,null,null,null,null,null,null,null,null,null,null,null,null,null,null,null,null,null,null,null,null,null,{"$f":"IF(OR(L1164=1,L1164=2,L1164=3),1,0)","v":0},{"$f":"IFERROR(IF(J1164=99,1,IF(MATCH(J1164&\"/\"&L1164,読み替え表_食品ロス!$P$29:$P$42,0),1,0)),0)","v":0},"*"]
[null,null,1155,null,null,null,null,null,null,null,null,null,null,null,null,null,null,null,null,null,null,null,null,null,null,0,{"$f":"IFERROR(IF(J1165=99,1,IF(MATCH(J1165&\"/\"&L1165,読み替え表_食品ロス!$P$29:$P$42,0),1,0)),0)","v":0},"*"]
[null,null,1156,null,null,null,null,null,null,null,null,null,null,null,null,null,null,null,null,null,null,null,null,null,null,0,{"$f":"IFERROR(IF(J1166=99,1,IF(MATCH(J1166&\"/\"&L1166,読み替え表_食品ロス!$P$29:$P$42,0),1,0)),0)","v":0},"*"]
[null,null,1157,null,null,null,null,null,null,null,null,null,null,null,null,null,null,null,null,null,null,null,null,null,null,0,{"$f":"IFERROR(IF(J1167=99,1,IF(MATCH(J1167&\"/\"&L1167,読み替え表_食品ロス!$P$29:$P$42,0),1,0)),0)","v":0},"*"]
[null,null,1158,null,null,null,null,null,null,null,null,null,null,null,null,null,null,null,null,null,null,null,null,null,null,0,{"$f":"IFERROR(IF(J1168=99,1,IF(MATCH(J1168&\"/\"&L1168,読み替え表_食品ロス!$P$29:$P$42,0),1,0)),0)","v":0},"*"]
[null,null,1159,null,null,null,null,null,null,null,null,null,null,null,null,null,null,null,null,null,null,null,null,null,null,0,{"$f":"IFERROR(IF(J1169=99,1,IF(MATCH(J1169&\"/\"&L1169,読み替え表_食品ロス!$P$29:$P$42,0),1,0)),0)","v":0},"*"]
[null,null,1160,null,null,null,null,null,null,null,null,null,null,null,null,null,null,null,null,null,null,null,null,null,null,0,{"$f":"IFERROR(IF(J1170=99,1,IF(MATCH(J1170&\"/\"&L1170,読み替え表_食品ロス!$P$29:$P$42,0),1,0)),0)","v":0},"*"]
[null,null,1161,null,null,null,null,null,null,null,null,null,null,null,null,null,null,null,null,null,null,null,null,null,null,0,{"$f":"IFERROR(IF(J1171=99,1,IF(MATCH(J1171&\"/\"&L1171,読み替え表_食品ロス!$P$29:$P$42,0),1,0)),0)","v":0},"*"]
[null,null,1162,null,null,null,null,null,null,null,null,null,null,null,null,null,null,null,null,null,null,null,null,null,null,0,{"$f":"IFERROR(IF(J1172=99,1,IF(MATCH(J1172&\"/\"&L1172,読み替え表_食品ロス!$P$29:$P$42,0),1,0)),0)","v":0},"*"]
[null,null,1163,null,null,null,null,null,null,null,null,null,null,null,null,null,null,null,null,null,null,null,null,null,null,0,{"$f":"IFERROR(IF(J1173=99,1,IF(MATCH(J1173&\"/\"&L1173,読み替え表_食品ロス!$P$29:$P$42,0),1,0)),0)","v":0},"*"]
[null,null,1164,null,null,null,null,null,null,null,null,null,null,null,null,null,null,null,null,null,null,null,null,null,null,0,{"$f":"IFERROR(IF(J1174=99,1,IF(MATCH(J1174&\"/\"&L1174,読み替え表_食品ロス!$P$29:$P$42,0),1,0)),0)","v":0},"*"]
[null,null,1165,null,null,null,null,null,null,null,null,null,null,null,null,null,null,null,null,null,null,null,null,null,null,0,{"$f":"IFERROR(IF(J1175=99,1,IF(MATCH(J1175&\"/\"&L1175,読み替え表_食品ロス!$P$29:$P$42,0),1,0)),0)","v":0},"*"]
[null,null,1166,null,null,null,null,null,null,null,null,null,null,null,null,null,null,null,null,null,null,null,null,null,null,0,{"$f":"IFERROR(IF(J1176=99,1,IF(MATCH(J1176&\"/\"&L1176,読み替え表_食品ロス!$P$29:$P$42,0),1,0)),0)","v":0},"*"]
[null,null,1167,null,null,null,null,null,null,null,null,null,null,null,null,null,null,null,null,null,null,null,null,null,null,0,{"$f":"IFERROR(IF(J1177=99,1,IF(MATCH(J1177&\"/\"&L1177,読み替え表_食品ロス!$P$29:$P$42,0),1,0)),0)","v":0},"*"]
[null,null,1168,null,null,null,null,null,null,null,null,null,null,null,null,null,null,null,null,null,null,null,null,null,null,0,{"$f":"IFERROR(IF(J1178=99,1,IF(MATCH(J1178&\"/\"&L1178,読み替え表_食品ロス!$P$29:$P$42,0),1,0)),0)","v":0},"*"]
[null,null,1169,null,null,null,null,null,null,null,null,null,null,null,null,null,null,null,null,null,null,null,null,null,null,0,{"$f":"IFERROR(IF(J1179=99,1,IF(MATCH(J1179&\"/\"&L1179,読み替え表_食品ロス!$P$29:$P$42,0),1,0)),0)","v":0},"*"]
[null,null,1170,null,null,null,null,null,null,null,null,null,null,null,null,null,null,null,null,null,null,null,null,null,null,0,{"$f":"IFERROR(IF(J1180=99,1,IF(MATCH(J1180&\"/\"&L1180,読み替え表_食品ロス!$P$29:$P$42,0),1,0)),0)","v":0},"*"]
[null,null,1171,null,null,null,null,null,null,null,null,null,null,null,null,null,null,null,null,null,null,null,null,null,null,0,{"$f":"IFERROR(IF(J1181=99,1,IF(MATCH(J1181&\"/\"&L1181,読み替え表_食品ロス!$P$29:$P$42,0),1,0)),0)","v":0},"*"]
[null,null,1172,null,null,null,null,null,null,null,null,null,null,null,null,null,null,null,null,null,null,null,null,null,null,0,{"$f":"IFERROR(IF(J1182=99,1,IF(MATCH(J1182&\"/\"&L1182,読み替え表_食品ロス!$P$29:$P$42,0),1,0)),0)","v":0},"*"]
[null,null,1173,null,null,null,null,null,null,null,null,null,null,null,null,null,null,null,null,null,null,null,null,null,null,0,{"$f":"IFERROR(IF(J1183=99,1,IF(MATCH(J1183&\"/\"&L1183,読み替え表_食品ロス!$P$29:$P$42,0),1,0)),0)","v":0},"*"]
[null,null,1174,null,null,null,null,null,null,null,null,null,null,null,null,null,null,null,null,null,null,null,null,null,null,0,{"$f":"IFERROR(IF(J1184=99,1,IF(MATCH(J1184&\"/\"&L1184,読み替え表_食品ロス!$P$29:$P$42,0),1,0)),0)","v":0},"*"]
[null,null,1175,null,null,null,null,null,null,null,null,null,null,null,null,null,null,null,null,null,null,null,null,null,null,0,{"$f":"IFERROR(IF(J1185=99,1,IF(MATCH(J1185&\"/\"&L1185,読み替え表_食品ロス!$P$29:$P$42,0),1,0)),0)","v":0},"*"]
[null,null,1176,null,null,null,null,null,null,null,null,null,null,null,null,null,null,null,null,null,null,null,null,null,null,0,{"$f":"IFERROR(IF(J1186=99,1,IF(MATCH(J1186&\"/\"&L1186,読み替え表_食品ロス!$P$29:$P$42,0),1,0)),0)","v":0},"*"]
[null,null,1177,null,null,null,null,null,null,null,null,null,null,null,null,null,null,null,null,null,null,null,null,null,null,0,{"$f":"IFERROR(IF(J1187=99,1,IF(MATCH(J1187&\"/\"&L1187,読み替え表_食品ロス!$P$29:$P$42,0),1,0)),0)","v":0},"*"]
[null,null,1178,null,null,null,null,null,null,null,null,null,null,null,null,null,null,null,null,null,null,null,null,null,null,0,{"$f":"IFERROR(IF(J1188=99,1,IF(MATCH(J1188&\"/\"&L1188,読み替え表_食品ロス!$P$29:$P$42,0),1,0)),0)","v":0},"*"]
[null,null,1179,null,null,null,null,null,null,null,null,null,null,null,null,null,null,null,null,null,null,null,null,null,null,0,{"$f":"IFERROR(IF(J1189=99,1,IF(MATCH(J1189&\"/\"&L1189,読み替え表_食品ロス!$P$29:$P$42,0),1,0)),0)","v":0},"*"]
[null,null,1180,null,null,null,null,null,null,null,null,null,null,null,null,null,null,null,null,null,null,null,null,null,null,0,{"$f":"IFERROR(IF(J1190=99,1,IF(MATCH(J1190&\"/\"&L1190,読み替え表_食品ロス!$P$29:$P$42,0),1,0)),0)","v":0},"*"]
[null,null,1181,null,null,null,null,null,null,null,null,null,null,null,null,null,null,null,null,null,null,null,null,null,null,0,{"$f":"IFERROR(IF(J1191=99,1,IF(MATCH(J1191&\"/\"&L1191,読み替え表_食品ロス!$P$29:$P$42,0),1,0)),0)","v":0},"*"]
[null,null,1182,null,null,null,null,null,null,null,null,null,null,null,null,null,null,null,null,null,null,null,null,null,null,0,{"$f":"IFERROR(IF(J1192=99,1,IF(MATCH(J1192&\"/\"&L1192,読み替え表_食品ロス!$P$29:$P$42,0),1,0)),0)","v":0},"*"]
[null,null,1183,null,null,null,null,null,null,null,null,null,null,null,null,null,null,null,null,null,null,null,null,null,null,0,{"$f":"IFERROR(IF(J1193=99,1,IF(MATCH(J1193&\"/\"&L1193,読み替え表_食品ロス!$P$29:$P$42,0),1,0)),0)","v":0},"*"]
[null,null,1184,null,null,null,null,null,null,null,null,null,null,null,null,null,null,null,null,null,null,null,null,null,null,0,{"$f":"IFERROR(IF(J1194=99,1,IF(MATCH(J1194&\"/\"&L1194,読み替え表_食品ロス!$P$29:$P$42,0),1,0)),0)","v":0},"*"]
[null,null,1185,null,null,null,null,null,null,null,null,null,null,null,null,null,null,null,null,null,null,null,null,null,null,0,{"$f":"IFERROR(IF(J1195=99,1,IF(MATCH(J1195&\"/\"&L1195,読み替え表_食品ロス!$P$29:$P$42,0),1,0)),0)","v":0},"*"]
[null,null,1186,null,null,null,null,null,null,null,null,null,null,null,null,null,null,null,null,null,null,null,null,null,null,0,{"$f":"IFERROR(IF(J1196=99,1,IF(MATCH(J1196&\"/\"&L1196,読み替え表_食品ロス!$P$29:$P$42,0),1,0)),0)","v":0},"*"]
[null,null,1187,null,null,null,null,null,null,null,null,null,null,null,null,null,null,null,null,null,null,null,null,null,null,0,{"$f":"IFERROR(IF(J1197=99,1,IF(MATCH(J1197&\"/\"&L1197,読み替え表_食品ロス!$P$29:$P$42,0),1,0)),0)","v":0},"*"]
[null,null,1188,null,null,null,null,null,null,null,null,null,null,null,null,null,null,null,null,null,null,null,null,null,null,0,{"$f":"IFERROR(IF(J1198=99,1,IF(MATCH(J1198&\"/\"&L1198,読み替え表_食品ロス!$P$29:$P$42,0),1,0)),0)","v":0},"*"]
[null,null,1189,null,null,null,null,null,null,null,null,null,null,null,null,null,null,null,null,null,null,null,null,null,null,0,{"$f":"IFERROR(IF(J1199=99,1,IF(MATCH(J1199&\"/\"&L1199,読み替え表_食品ロス!$P$29:$P$42,0),1,0)),0)","v":0},"*"]
[null,null,1190,null,null,null,null,null,null,null,null,null,null,null,null,null,null,null,null,null,null,null,null,null,null,0,{"$f":"IFERROR(IF(J1200=99,1,IF(MATCH(J1200&\"/\"&L1200,読み替え表_食品ロス!$P$29:$P$42,0),1,0)),0)","v":0},"*"]
[null,null,1191,null,null,null,null,null,null,null,null,null,null,null,null,null,null,null,null,null,null,null,null,null,null,0,{"$f":"IFERROR(IF(J1201=99,1,IF(MATCH(J1201&\"/\"&L1201,読み替え表_食品ロス!$P$29:$P$42,0),1,0)),0)","v":0},"*"]
[null,null,1192,null,null,null,null,null,null,null,null,null,null,null,null,null,null,null,null,null,null,null,null,null,null,0,{"$f":"IFERROR(IF(J1202=99,1,IF(MATCH(J1202&\"/\"&L1202,読み替え表_食品ロス!$P$29:$P$42,0),1,0)),0)","v":0},"*"]
[null,null,1193,null,null,null,null,null,null,null,null,null,null,null,null,null,null,null,null,null,null,null,null,null,null,0,{"$f":"IFERROR(IF(J1203=99,1,IF(MATCH(J1203&\"/\"&L1203,読み替え表_食品ロス!$P$29:$P$42,0),1,0)),0)","v":0},"*"]
[null,null,1194,null,null,null,null,null,null,null,null,null,null,null,null,null,null,null,null,null,null,null,null,null,null,0,{"$f":"IFERROR(IF(J1204=99,1,IF(MATCH(J1204&\"/\"&L1204,読み替え表_食品ロス!$P$29:$P$42,0),1,0)),0)","v":0},"*"]
[null,null,1195,null,null,null,null,null,null,null,null,null,null,null,null,null,null,null,null,null,null,null,null,null,null,0,{"$f":"IFERROR(IF(J1205=99,1,IF(MATCH(J1205&\"/\"&L1205,読み替え表_食品ロス!$P$29:$P$42,0),1,0)),0)","v":0},"*"]
[null,null,1196,null,null,null,null,null,null,null,null,null,null,null,null,null,null,null,null,null,null,null,null,null,null,0,{"$f":"IFERROR(IF(J1206=99,1,IF(MATCH(J1206&\"/\"&L1206,読み替え表_食品ロス!$P$29:$P$42,0),1,0)),0)","v":0},"*"]
[null,null,1197,null,null,null,null,null,null,null,null,null,null,null,null,null,null,null,null,null,null,null,null,null,null,0,{"$f":"IFERROR(IF(J1207=99,1,IF(MATCH(J1207&\"/\"&L1207,読み替え表_食品ロス!$P$29:$P$42,0),1,0)),0)","v":0},"*"]
[null,null,1198,null,null,null,null,null,null,null,null,null,null,null,null,null,null,null,null,null,null,null,null,null,null,0,{"$f":"IFERROR(IF(J1208=99,1,IF(MATCH(J1208&\"/\"&L1208,読み替え表_食品ロス!$P$29:$P$42,0),1,0)),0)","v":0},"*"]
[null,null,1199,null,null,null,null,null,null,null,null,null,null,null,null,null,null,null,null,null,null,null,null,null,null,0,{"$f":"IFERROR(IF(J1209=99,1,IF(MATCH(J1209&\"/\"&L1209,読み替え表_食品ロス!$P$29:$P$42,0),1,0)),0)","v":0},"*"]
[null,null,1200,null,null,null,null,null,null,null,null,null,null,null,null,null,null,null,null,null,null,null,null,null,null,0,{"$f":"IFERROR(IF(J1210=99,1,IF(MATCH(J1210&\"/\"&L1210,読み替え表_食品ロス!$P$29:$P$42,0),1,0)),0)","v":0},"*"]
[null,null,1201,null,null,null,null,null,null,null,null,null,null,null,null,null,null,null,null,null,null,null,null,null,null,0,{"$f":"IFERROR(IF(J1211=99,1,IF(MATCH(J1211&\"/\"&L1211,読み替え表_食品ロス!$P$29:$P$42,0),1,0)),0)","v":0},"*"]
[null,null,1202,null,null,null,null,null,null,null,null,null,null,null,null,null,null,null,null,null,null,null,null,null,null,0,{"$f":"IFERROR(IF(J1212=99,1,IF(MATCH(J1212&\"/\"&L1212,読み替え表_食品ロス!$P$29:$P$42,0),1,0)),0)","v":0},"*"]
[null,null,1203,null,null,null,null,null,null,null,null,null,null,null,null,null,null,null,null,null,null,null,null,null,null,0,{"$f":"IFERROR(IF(J1213=99,1,IF(MATCH(J1213&\"/\"&L1213,読み替え表_食品ロス!$P$29:$P$42,0),1,0)),0)","v":0},"*"]
[null,null,1204,null,null,null,null,null,null,null,null,null,null,null,null,null,null,null,null,null,null,null,null,null,null,0,{"$f":"IFERROR(IF(J1214=99,1,IF(MATCH(J1214&\"/\"&L1214,読み替え表_食品ロス!$P$29:$P$42,0),1,0)),0)","v":0},"*"]
[null,null,1205,null,null,null,null,null,null,null,null,null,null,null,null,null,null,null,null,null,null,null,null,null,null,0,{"$f":"IFERROR(IF(J1215=99,1,IF(MATCH(J1215&\"/\"&L1215,読み替え表_食品ロス!$P$29:$P$42,0),1,0)),0)","v":0},"*"]
[null,null,1206,null,null,null,null,null,null,null,null,null,null,null,null,null,null,null,null,null,null,null,null,null,null,0,{"$f":"IFERROR(IF(J1216=99,1,IF(MATCH(J1216&\"/\"&L1216,読み替え表_食品ロス!$P$29:$P$42,0),1,0)),0)","v":0},"*"]
[null,null,1207,null,null,null,null,null,null,null,null,null,null,null,null,null,null,null,null,null,null,null,null,null,null,0,{"$f":"IFERROR(IF(J1217=99,1,IF(MATCH(J1217&\"/\"&L1217,読み替え表_食品ロス!$P$29:$P$42,0),1,0)),0)","v":0},"*"]
[null,null,1208,null,null,null,null,null,null,null,null,null,null,null,null,null,null,null,null,null,null,null,null,null,null,0,{"$f":"IFERROR(IF(J1218=99,1,IF(MATCH(J1218&\"/\"&L1218,読み替え表_食品ロス!$P$29:$P$42,0),1,0)),0)","v":0},"*"]
[null,null,1209,null,null,null,null,null,null,null,null,null,null,null,null,null,null,null,null,null,null,null,null,null,null,0,{"$f":"IFERROR(IF(J1219=99,1,IF(MATCH(J1219&\"/\"&L1219,読み替え表_食品ロス!$P$29:$P$42,0),1,0)),0)","v":0},"*"]
[null,null,1210,null,null,null,null,null,null,null,null,null,null,null,null,null,null,null,null,null,null,null,null,null,null,0,{"$f":"IFERROR(IF(J1220=99,1,IF(MATCH(J1220&\"/\"&L1220,読み替え表_食品ロス!$P$29:$P$42,0),1,0)),0)","v":0},"*"]
[null,null,1211,null,null,null,null,null,null,null,null,null,null,null,null,null,null,null,null,null,null,null,null,null,null,0,{"$f":"IFERROR(IF(J1221=99,1,IF(MATCH(J1221&\"/\"&L1221,読み替え表_食品ロス!$P$29:$P$42,0),1,0)),0)","v":0},"*"]
[null,null,1212,null,null,null,null,null,null,null,null,null,null,null,null,null,null,null,null,null,null,null,null,null,null,0,{"$f":"IFERROR(IF(J1222=99,1,IF(MATCH(J1222&\"/\"&L1222,読み替え表_食品ロス!$P$29:$P$42,0),1,0)),0)","v":0},"*"]
[null,null,1213,null,null,null,null,null,null,null,null,null,null,null,null,null,null,null,null,null,null,null,null,null,null,0,{"$f":"IFERROR(IF(J1223=99,1,IF(MATCH(J1223&\"/\"&L1223,読み替え表_食品ロス!$P$29:$P$42,0),1,0)),0)","v":0},"*"]
[null,null,1214,null,null,null,null,null,null,null,null,null,null,null,null,null,null,null,null,null,null,null,null,null,null,0,{"$f":"IFERROR(IF(J1224=99,1,IF(MATCH(J1224&\"/\"&L1224,読み替え表_食品ロス!$P$29:$P$42,0),1,0)),0)","v":0},"*"]
[null,null,1215,null,null,null,null,null,null,null,null,null,null,null,null,null,null,null,null,null,null,null,null,null,null,0,{"$f":"IFERROR(IF(J1225=99,1,IF(MATCH(J1225&\"/\"&L1225,読み替え表_食品ロス!$P$29:$P$42,0),1,0)),0)","v":0},"*"]
[null,null,1216,null,null,null,null,null,null,null,null,null,null,null,null,null,null,null,null,null,null,null,null,null,null,0,{"$f":"IFERROR(IF(J1226=99,1,IF(MATCH(J1226&\"/\"&L1226,読み替え表_食品ロス!$P$29:$P$42,0),1,0)),0)","v":0},"*"]
[null,null,1217,null,null,null,null,null,null,null,null,null,null,null,null,null,null,null,null,null,null,null,null,null,null,0,{"$f":"IFERROR(IF(J1227=99,1,IF(MATCH(J1227&\"/\"&L1227,読み替え表_食品ロス!$P$29:$P$42,0),1,0)),0)","v":0},"*"]
[null,null,{"$f":"ROW()-10","v":1218},null,null,null,null,null,null,null,null,null,null,null,null,null,null,null,null,null,null,null,null,null,null,{"$f":"IF(OR(L1228=1,L1228=2,L1228=3),1,0)","v":0},{"$f":"IFERROR(IF(J1228=99,1,IF(MATCH(J1228&\"/\"&L1228,読み替え表_食品ロス!$P$29:$P$42,0),1,0)),0)","v":0},"*"]
[null,null,1219,null,null,null,null,null,null,null,null,null,null,null,null,null,null,null,null,null,null,null,null,null,null,0,{"$f":"IFERROR(IF(J1229=99,1,IF(MATCH(J1229&\"/\"&L1229,読み替え表_食品ロス!$P$29:$P$42,0),1,0)),0)","v":0},"*"]
[null,null,1220,null,null,null,null,null,null,null,null,null,null,null,null,null,null,null,null,null,null,null,null,null,null,0,{"$f":"IFERROR(IF(J1230=99,1,IF(MATCH(J1230&\"/\"&L1230,読み替え表_食品ロス!$P$29:$P$42,0),1,0)),0)","v":0},"*"]
[null,null,1221,null,null,null,null,null,null,null,null,null,null,null,null,null,null,null,null,null,null,null,null,null,null,0,{"$f":"IFERROR(IF(J1231=99,1,IF(MATCH(J1231&\"/\"&L1231,読み替え表_食品ロス!$P$29:$P$42,0),1,0)),0)","v":0},"*"]
[null,null,1222,null,null,null,null,null,null,null,null,null,null,null,null,null,null,null,null,null,null,null,null,null,null,0,{"$f":"IFERROR(IF(J1232=99,1,IF(MATCH(J1232&\"/\"&L1232,読み替え表_食品ロス!$P$29:$P$42,0),1,0)),0)","v":0},"*"]
[null,null,1223,null,null,null,null,null,null,null,null,null,null,null,null,null,null,null,null,null,null,null,null,null,null,0,{"$f":"IFERROR(IF(J1233=99,1,IF(MATCH(J1233&\"/\"&L1233,読み替え表_食品ロス!$P$29:$P$42,0),1,0)),0)","v":0},"*"]
[null,null,1224,null,null,null,null,null,null,null,null,null,null,null,null,null,null,null,null,null,null,null,null,null,null,0,{"$f":"IFERROR(IF(J1234=99,1,IF(MATCH(J1234&\"/\"&L1234,読み替え表_食品ロス!$P$29:$P$42,0),1,0)),0)","v":0},"*"]
[null,null,1225,null,null,null,null,null,null,null,null,null,null,null,null,null,null,null,null,null,null,null,null,null,null,0,{"$f":"IFERROR(IF(J1235=99,1,IF(MATCH(J1235&\"/\"&L1235,読み替え表_食品ロス!$P$29:$P$42,0),1,0)),0)","v":0},"*"]
[null,null,1226,null,null,null,null,null,null,null,null,null,null,null,null,null,null,null,null,null,null,null,null,null,null,0,{"$f":"IFERROR(IF(J1236=99,1,IF(MATCH(J1236&\"/\"&L1236,読み替え表_食品ロス!$P$29:$P$42,0),1,0)),0)","v":0},"*"]
[null,null,1227,null,null,null,null,null,null,null,null,null,null,null,null,null,null,null,null,null,null,null,null,null,null,0,{"$f":"IFERROR(IF(J1237=99,1,IF(MATCH(J1237&\"/\"&L1237,読み替え表_食品ロス!$P$29:$P$42,0),1,0)),0)","v":0},"*"]
[null,null,1228,null,null,null,null,null,null,null,null,null,null,null,null,null,null,null,null,null,null,null,null,null,null,0,{"$f":"IFERROR(IF(J1238=99,1,IF(MATCH(J1238&\"/\"&L1238,読み替え表_食品ロス!$P$29:$P$42,0),1,0)),0)","v":0},"*"]
[null,null,1229,null,null,null,null,null,null,null,null,null,null,null,null,null,null,null,null,null,null,null,null,null,null,0,{"$f":"IFERROR(IF(J1239=99,1,IF(MATCH(J1239&\"/\"&L1239,読み替え表_食品ロス!$P$29:$P$42,0),1,0)),0)","v":0},"*"]
[null,null,1230,null,null,null,null,null,null,null,null,null,null,null,null,null,null,null,null,null,null,null,null,null,null,0,{"$f":"IFERROR(IF(J1240=99,1,IF(MATCH(J1240&\"/\"&L1240,読み替え表_食品ロス!$P$29:$P$42,0),1,0)),0)","v":0},"*"]
[null,null,1231,null,null,null,null,null,null,null,null,null,null,null,null,null,null,null,null,null,null,null,null,null,null,0,{"$f":"IFERROR(IF(J1241=99,1,IF(MATCH(J1241&\"/\"&L1241,読み替え表_食品ロス!$P$29:$P$42,0),1,0)),0)","v":0},"*"]
[null,null,1232,null,null,null,null,null,null,null,null,null,null,null,null,null,null,null,null,null,null,null,null,null,null,0,{"$f":"IFERROR(IF(J1242=99,1,IF(MATCH(J1242&\"/\"&L1242,読み替え表_食品ロス!$P$29:$P$42,0),1,0)),0)","v":0},"*"]
[null,null,1233,null,null,null,null,null,null,null,null,null,null,null,null,null,null,null,null,null,null,null,null,null,null,0,{"$f":"IFERROR(IF(J1243=99,1,IF(MATCH(J1243&\"/\"&L1243,読み替え表_食品ロス!$P$29:$P$42,0),1,0)),0)","v":0},"*"]
[null,null,1234,null,null,null,null,null,null,null,null,null,null,null,null,null,null,null,null,null,null,null,null,null,null,0,{"$f":"IFERROR(IF(J1244=99,1,IF(MATCH(J1244&\"/\"&L1244,読み替え表_食品ロス!$P$29:$P$42,0),1,0)),0)","v":0},"*"]
[null,null,1235,null,null,null,null,null,null,null,null,null,null,null,null,null,null,null,null,null,null,null,null,null,null,0,{"$f":"IFERROR(IF(J1245=99,1,IF(MATCH(J1245&\"/\"&L1245,読み替え表_食品ロス!$P$29:$P$42,0),1,0)),0)","v":0},"*"]
[null,null,1236,null,null,null,null,null,null,null,null,null,null,null,null,null,null,null,null,null,null,null,null,null,null,0,{"$f":"IFERROR(IF(J1246=99,1,IF(MATCH(J1246&\"/\"&L1246,読み替え表_食品ロス!$P$29:$P$42,0),1,0)),0)","v":0},"*"]
[null,null,1237,null,null,null,null,null,null,null,null,null,null,null,null,null,null,null,null,null,null,null,null,null,null,0,{"$f":"IFERROR(IF(J1247=99,1,IF(MATCH(J1247&\"/\"&L1247,読み替え表_食品ロス!$P$29:$P$42,0),1,0)),0)","v":0},"*"]
[null,null,1238,null,null,null,null,null,null,null,null,null,null,null,null,null,null,null,null,null,null,null,null,null,null,0,{"$f":"IFERROR(IF(J1248=99,1,IF(MATCH(J1248&\"/\"&L1248,読み替え表_食品ロス!$P$29:$P$42,0),1,0)),0)","v":0},"*"]
[null,null,1239,null,null,null,null,null,null,null,null,null,null,null,null,null,null,null,null,null,null,null,null,null,null,0,{"$f":"IFERROR(IF(J1249=99,1,IF(MATCH(J1249&\"/\"&L1249,読み替え表_食品ロス!$P$29:$P$42,0),1,0)),0)","v":0},"*"]
[null,null,1240,null,null,null,null,null,null,null,null,null,null,null,null,null,null,null,null,null,null,null,null,null,null,0,{"$f":"IFERROR(IF(J1250=99,1,IF(MATCH(J1250&\"/\"&L1250,読み替え表_食品ロス!$P$29:$P$42,0),1,0)),0)","v":0},"*"]
[null,null,1241,null,null,null,null,null,null,null,null,null,null,null,null,null,null,null,null,null,null,null,null,null,null,0,{"$f":"IFERROR(IF(J1251=99,1,IF(MATCH(J1251&\"/\"&L1251,読み替え表_食品ロス!$P$29:$P$42,0),1,0)),0)","v":0},"*"]
[null,null,1242,null,null,null,null,null,null,null,null,null,null,null,null,null,null,null,null,null,null,null,null,null,null,0,{"$f":"IFERROR(IF(J1252=99,1,IF(MATCH(J1252&\"/\"&L1252,読み替え表_食品ロス!$P$29:$P$42,0),1,0)),0)","v":0},"*"]
[null,null,1243,null,null,null,null,null,null,null,null,null,null,null,null,null,null,null,null,null,null,null,null,null,null,0,{"$f":"IFERROR(IF(J1253=99,1,IF(MATCH(J1253&\"/\"&L1253,読み替え表_食品ロス!$P$29:$P$42,0),1,0)),0)","v":0},"*"]
[null,null,1244,null,null,null,null,null,null,null,null,null,null,null,null,null,null,null,null,null,null,null,null,null,null,0,{"$f":"IFERROR(IF(J1254=99,1,IF(MATCH(J1254&\"/\"&L1254,読み替え表_食品ロス!$P$29:$P$42,0),1,0)),0)","v":0},"*"]
[null,null,1245,null,null,null,null,null,null,null,null,null,null,null,null,null,null,null,null,null,null,null,null,null,null,0,{"$f":"IFERROR(IF(J1255=99,1,IF(MATCH(J1255&\"/\"&L1255,読み替え表_食品ロス!$P$29:$P$42,0),1,0)),0)","v":0},"*"]
[null,null,1246,null,null,null,null,null,null,null,null,null,null,null,null,null,null,null,null,null,null,null,null,null,null,0,{"$f":"IFERROR(IF(J1256=99,1,IF(MATCH(J1256&\"/\"&L1256,読み替え表_食品ロス!$P$29:$P$42,0),1,0)),0)","v":0},"*"]
[null,null,1247,null,null,null,null,null,null,null,null,null,null,null,null,null,null,null,null,null,null,null,null,null,null,0,{"$f":"IFERROR(IF(J1257=99,1,IF(MATCH(J1257&\"/\"&L1257,読み替え表_食品ロス!$P$29:$P$42,0),1,0)),0)","v":0},"*"]
[null,null,1248,null,null,null,null,null,null,null,null,null,null,null,null,null,null,null,null,null,null,null,null,null,null,0,{"$f":"IFERROR(IF(J1258=99,1,IF(MATCH(J1258&\"/\"&L1258,読み替え表_食品ロス!$P$29:$P$42,0),1,0)),0)","v":0},"*"]
[null,null,1249,null,null,null,null,null,null,null,null,null,null,null,null,null,null,null,null,null,null,null,null,null,null,0,{"$f":"IFERROR(IF(J1259=99,1,IF(MATCH(J1259&\"/\"&L1259,読み替え表_食品ロス!$P$29:$P$42,0),1,0)),0)","v":0},"*"]
[null,null,1250,null,null,null,null,null,null,null,null,null,null,null,null,null,null,null,null,null,null,null,null,null,null,0,{"$f":"IFERROR(IF(J1260=99,1,IF(MATCH(J1260&\"/\"&L1260,読み替え表_食品ロス!$P$29:$P$42,0),1,0)),0)","v":0},"*"]
[null,null,1251,null,null,null,null,null,null,null,null,null,null,null,null,null,null,null,null,null,null,null,null,null,null,0,{"$f":"IFERROR(IF(J1261=99,1,IF(MATCH(J1261&\"/\"&L1261,読み替え表_食品ロス!$P$29:$P$42,0),1,0)),0)","v":0},"*"]
[null,null,1252,null,null,null,null,null,null,null,null,null,null,null,null,null,null,null,null,null,null,null,null,null,null,0,{"$f":"IFERROR(IF(J1262=99,1,IF(MATCH(J1262&\"/\"&L1262,読み替え表_食品ロス!$P$29:$P$42,0),1,0)),0)","v":0},"*"]
[null,null,1253,null,null,null,null,null,null,null,null,null,null,null,null,null,null,null,null,null,null,null,null,null,null,0,{"$f":"IFERROR(IF(J1263=99,1,IF(MATCH(J1263&\"/\"&L1263,読み替え表_食品ロス!$P$29:$P$42,0),1,0)),0)","v":0},"*"]
[null,null,1254,null,null,null,null,null,null,null,null,null,null,null,null,null,null,null,null,null,null,null,null,null,null,0,{"$f":"IFERROR(IF(J1264=99,1,IF(MATCH(J1264&\"/\"&L1264,読み替え表_食品ロス!$P$29:$P$42,0),1,0)),0)","v":0},"*"]
[null,null,1255,null,null,null,null,null,null,null,null,null,null,null,null,null,null,null,null,null,null,null,null,null,null,0,{"$f":"IFERROR(IF(J1265=99,1,IF(MATCH(J1265&\"/\"&L1265,読み替え表_食品ロス!$P$29:$P$42,0),1,0)),0)","v":0},"*"]
[null,null,1256,null,null,null,null,null,null,null,null,null,null,null,null,null,null,null,null,null,null,null,null,null,null,0,{"$f":"IFERROR(IF(J1266=99,1,IF(MATCH(J1266&\"/\"&L1266,読み替え表_食品ロス!$P$29:$P$42,0),1,0)),0)","v":0},"*"]
[null,null,1257,null,null,null,null,null,null,null,null,null,null,null,null,null,null,null,null,null,null,null,null,null,null,0,{"$f":"IFERROR(IF(J1267=99,1,IF(MATCH(J1267&\"/\"&L1267,読み替え表_食品ロス!$P$29:$P$42,0),1,0)),0)","v":0},"*"]
[null,null,1258,null,null,null,null,null,null,null,null,null,null,null,null,null,null,null,null,null,null,null,null,null,null,0,{"$f":"IFERROR(IF(J1268=99,1,IF(MATCH(J1268&\"/\"&L1268,読み替え表_食品ロス!$P$29:$P$42,0),1,0)),0)","v":0},"*"]
[null,null,1259,null,null,null,null,null,null,null,null,null,null,null,null,null,null,null,null,null,null,null,null,null,null,0,{"$f":"IFERROR(IF(J1269=99,1,IF(MATCH(J1269&\"/\"&L1269,読み替え表_食品ロス!$P$29:$P$42,0),1,0)),0)","v":0},"*"]
[null,null,1260,null,null,null,null,null,null,null,null,null,null,null,null,null,null,null,null,null,null,null,null,null,null,0,{"$f":"IFERROR(IF(J1270=99,1,IF(MATCH(J1270&\"/\"&L1270,読み替え表_食品ロス!$P$29:$P$42,0),1,0)),0)","v":0},"*"]
[null,null,1261,null,null,null,null,null,null,null,null,null,null,null,null,null,null,null,null,null,null,null,null,null,null,0,{"$f":"IFERROR(IF(J1271=99,1,IF(MATCH(J1271&\"/\"&L1271,読み替え表_食品ロス!$P$29:$P$42,0),1,0)),0)","v":0},"*"]
[null,null,1262,null,null,null,null,null,null,null,null,null,null,null,null,null,null,null,null,null,null,null,null,null,null,0,{"$f":"IFERROR(IF(J1272=99,1,IF(MATCH(J1272&\"/\"&L1272,読み替え表_食品ロス!$P$29:$P$42,0),1,0)),0)","v":0},"*"]
[null,null,1263,null,null,null,null,null,null,null,null,null,null,null,null,null,null,null,null,null,null,null,null,null,null,0,{"$f":"IFERROR(IF(J1273=99,1,IF(MATCH(J1273&\"/\"&L1273,読み替え表_食品ロス!$P$29:$P$42,0),1,0)),0)","v":0},"*"]
[null,null,1264,null,null,null,null,null,null,null,null,null,null,null,null,null,null,null,null,null,null,null,null,null,null,0,{"$f":"IFERROR(IF(J1274=99,1,IF(MATCH(J1274&\"/\"&L1274,読み替え表_食品ロス!$P$29:$P$42,0),1,0)),0)","v":0},"*"]
[null,null,1265,null,null,null,null,null,null,null,null,null,null,null,null,null,null,null,null,null,null,null,null,null,null,0,{"$f":"IFERROR(IF(J1275=99,1,IF(MATCH(J1275&\"/\"&L1275,読み替え表_食品ロス!$P$29:$P$42,0),1,0)),0)","v":0},"*"]
[null,null,1266,null,null,null,null,null,null,null,null,null,null,null,null,null,null,null,null,null,null,null,null,null,null,0,{"$f":"IFERROR(IF(J1276=99,1,IF(MATCH(J1276&\"/\"&L1276,読み替え表_食品ロス!$P$29:$P$42,0),1,0)),0)","v":0},"*"]
[null,null,1267,null,null,null,null,null,null,null,null,null,null,null,null,null,null,null,null,null,null,null,null,null,null,0,{"$f":"IFERROR(IF(J1277=99,1,IF(MATCH(J1277&\"/\"&L1277,読み替え表_食品ロス!$P$29:$P$42,0),1,0)),0)","v":0},"*"]
[null,null,1268,null,null,null,null,null,null,null,null,null,null,null,null,null,null,null,null,null,null,null,null,null,null,0,{"$f":"IFERROR(IF(J1278=99,1,IF(MATCH(J1278&\"/\"&L1278,読み替え表_食品ロス!$P$29:$P$42,0),1,0)),0)","v":0},"*"]
[null,null,1269,null,null,null,null,null,null,null,null,null,null,null,null,null,null,null,null,null,null,null,null,null,null,0,{"$f":"IFERROR(IF(J1279=99,1,IF(MATCH(J1279&\"/\"&L1279,読み替え表_食品ロス!$P$29:$P$42,0),1,0)),0)","v":0},"*"]
[null,null,1270,null,null,null,null,null,null,null,null,null,null,null,null,null,null,null,null,null,null,null,null,null,null,0,{"$f":"IFERROR(IF(J1280=99,1,IF(MATCH(J1280&\"/\"&L1280,読み替え表_食品ロス!$P$29:$P$42,0),1,0)),0)","v":0},"*"]
[null,null,1271,null,null,null,null,null,null,null,null,null,null,null,null,null,null,null,null,null,null,null,null,null,null,0,{"$f":"IFERROR(IF(J1281=99,1,IF(MATCH(J1281&\"/\"&L1281,読み替え表_食品ロス!$P$29:$P$42,0),1,0)),0)","v":0},"*"]
[null,null,1272,null,null,null,null,null,null,null,null,null,null,null,null,null,null,null,null,null,null,null,null,null,null,0,{"$f":"IFERROR(IF(J1282=99,1,IF(MATCH(J1282&\"/\"&L1282,読み替え表_食品ロス!$P$29:$P$42,0),1,0)),0)","v":0},"*"]
[null,null,1273,null,null,null,null,null,null,null,null,null,null,null,null,null,null,null,null,null,null,null,null,null,null,0,{"$f":"IFERROR(IF(J1283=99,1,IF(MATCH(J1283&\"/\"&L1283,読み替え表_食品ロス!$P$29:$P$42,0),1,0)),0)","v":0},"*"]
[null,null,1274,null,null,null,null,null,null,null,null,null,null,null,null,null,null,null,null,null,null,null,null,null,null,0,{"$f":"IFERROR(IF(J1284=99,1,IF(MATCH(J1284&\"/\"&L1284,読み替え表_食品ロス!$P$29:$P$42,0),1,0)),0)","v":0},"*"]
[null,null,1275,null,null,null,null,null,null,null,null,null,null,null,null,null,null,null,null,null,null,null,null,null,null,0,{"$f":"IFERROR(IF(J1285=99,1,IF(MATCH(J1285&\"/\"&L1285,読み替え表_食品ロス!$P$29:$P$42,0),1,0)),0)","v":0},"*"]
[null,null,1276,null,null,null,null,null,null,null,null,null,null,null,null,null,null,null,null,null,null,null,null,null,null,0,{"$f":"IFERROR(IF(J1286=99,1,IF(MATCH(J1286&\"/\"&L1286,読み替え表_食品ロス!$P$29:$P$42,0),1,0)),0)","v":0},"*"]
[null,null,1277,null,null,null,null,null,null,null,null,null,null,null,null,null,null,null,null,null,null,null,null,null,null,0,{"$f":"IFERROR(IF(J1287=99,1,IF(MATCH(J1287&\"/\"&L1287,読み替え表_食品ロス!$P$29:$P$42,0),1,0)),0)","v":0},"*"]
[null,null,1278,null,null,null,null,null,null,null,null,null,null,null,null,null,null,null,null,null,null,null,null,null,null,0,{"$f":"IFERROR(IF(J1288=99,1,IF(MATCH(J1288&\"/\"&L1288,読み替え表_食品ロス!$P$29:$P$42,0),1,0)),0)","v":0},"*"]
[null,null,1279,null,null,null,null,null,null,null,null,null,null,null,null,null,null,null,null,null,null,null,null,null,null,0,{"$f":"IFERROR(IF(J1289=99,1,IF(MATCH(J1289&\"/\"&L1289,読み替え表_食品ロス!$P$29:$P$42,0),1,0)),0)","v":0},"*"]
[null,null,1280,null,null,null,null,null,null,null,null,null,null,null,null,null,null,null,null,null,null,null,null,null,null,0,{"$f":"IFERROR(IF(J1290=99,1,IF(MATCH(J1290&\"/\"&L1290,読み替え表_食品ロス!$P$29:$P$42,0),1,0)),0)","v":0},"*"]
[null,null,1281,null,null,null,null,null,null,null,null,null,null,null,null,null,null,null,null,null,null,null,null,null,null,0,{"$f":"IFERROR(IF(J1291=99,1,IF(MATCH(J1291&\"/\"&L1291,読み替え表_食品ロス!$P$29:$P$42,0),1,0)),0)","v":0},"*"]
[null,null,{"$f":"ROW()-10","v":1282},null,null,null,null,null,null,null,null,null,null,null,null,null,null,null,null,null,null,null,null,null,null,{"$f":"IF(OR(L1292=1,L1292=2,L1292=3),1,0)","v":0},{"$f":"IFERROR(IF(J1292=99,1,IF(MATCH(J1292&\"/\"&L1292,読み替え表_食品ロス!$P$29:$P$42,0),1,0)),0)","v":0},"*"]
[null,null,1283,null,null,null,null,null,null,null,null,null,null,null,null,null,null,null,null,null,null,null,null,null,null,0,{"$f":"IFERROR(IF(J1293=99,1,IF(MATCH(J1293&\"/\"&L1293,読み替え表_食品ロス!$P$29:$P$42,0),1,0)),0)","v":0},"*"]
[null,null,1284,null,null,null,null,null,null,null,null,null,null,null,null,null,null,null,null,null,null,null,null,null,null,0,{"$f":"IFERROR(IF(J1294=99,1,IF(MATCH(J1294&\"/\"&L1294,読み替え表_食品ロス!$P$29:$P$42,0),1,0)),0)","v":0},"*"]
[null,null,1285,null,null,null,null,null,null,null,null,null,null,null,null,null,null,null,null,null,null,null,null,null,null,0,{"$f":"IFERROR(IF(J1295=99,1,IF(MATCH(J1295&\"/\"&L1295,読み替え表_食品ロス!$P$29:$P$42,0),1,0)),0)","v":0},"*"]
[null,null,1286,null,null,null,null,null,null,null,null,null,null,null,null,null,null,null,null,null,null,null,null,null,null,0,{"$f":"IFERROR(IF(J1296=99,1,IF(MATCH(J1296&\"/\"&L1296,読み替え表_食品ロス!$P$29:$P$42,0),1,0)),0)","v":0},"*"]
[null,null,1287,null,null,null,null,null,null,null,null,null,null,null,null,null,null,null,null,null,null,null,null,null,null,0,{"$f":"IFERROR(IF(J1297=99,1,IF(MATCH(J1297&\"/\"&L1297,読み替え表_食品ロス!$P$29:$P$42,0),1,0)),0)","v":0},"*"]
[null,null,1288,null,null,null,null,null,null,null,null,null,null,null,null,null,null,null,null,null,null,null,null,null,null,0,{"$f":"IFERROR(IF(J1298=99,1,IF(MATCH(J1298&\"/\"&L1298,読み替え表_食品ロス!$P$29:$P$42,0),1,0)),0)","v":0},"*"]
[null,null,1289,null,null,null,null,null,null,null,null,null,null,null,null,null,null,null,null,null,null,null,null,null,null,0,{"$f":"IFERROR(IF(J1299=99,1,IF(MATCH(J1299&\"/\"&L1299,読み替え表_食品ロス!$P$29:$P$42,0),1,0)),0)","v":0},"*"]
[null,null,1290,null,null,null,null,null,null,null,null,null,null,null,null,null,null,null,null,null,null,null,null,null,null,0,{"$f":"IFERROR(IF(J1300=99,1,IF(MATCH(J1300&\"/\"&L1300,読み替え表_食品ロス!$P$29:$P$42,0),1,0)),0)","v":0},"*"]
[null,null,1291,null,null,null,null,null,null,null,null,null,null,null,null,null,null,null,null,null,null,null,null,null,null,0,{"$f":"IFERROR(IF(J1301=99,1,IF(MATCH(J1301&\"/\"&L1301,読み替え表_食品ロス!$P$29:$P$42,0),1,0)),0)","v":0},"*"]
[null,null,1292,null,null,null,null,null,null,null,null,null,null,null,null,null,null,null,null,null,null,null,null,null,null,0,{"$f":"IFERROR(IF(J1302=99,1,IF(MATCH(J1302&\"/\"&L1302,読み替え表_食品ロス!$P$29:$P$42,0),1,0)),0)","v":0},"*"]
[null,null,1293,null,null,null,null,null,null,null,null,null,null,null,null,null,null,null,null,null,null,null,null,null,null,0,{"$f":"IFERROR(IF(J1303=99,1,IF(MATCH(J1303&\"/\"&L1303,読み替え表_食品ロス!$P$29:$P$42,0),1,0)),0)","v":0},"*"]
[null,null,1294,null,null,null,null,null,null,null,null,null,null,null,null,null,null,null,null,null,null,null,null,null,null,0,{"$f":"IFERROR(IF(J1304=99,1,IF(MATCH(J1304&\"/\"&L1304,読み替え表_食品ロス!$P$29:$P$42,0),1,0)),0)","v":0},"*"]
[null,null,1295,null,null,null,null,null,null,null,null,null,null,null,null,null,null,null,null,null,null,null,null,null,null,0,{"$f":"IFERROR(IF(J1305=99,1,IF(MATCH(J1305&\"/\"&L1305,読み替え表_食品ロス!$P$29:$P$42,0),1,0)),0)","v":0},"*"]
[null,null,1296,null,null,null,null,null,null,null,null,null,null,null,null,null,null,null,null,null,null,null,null,null,null,0,{"$f":"IFERROR(IF(J1306=99,1,IF(MATCH(J1306&\"/\"&L1306,読み替え表_食品ロス!$P$29:$P$42,0),1,0)),0)","v":0},"*"]
[null,null,1297,null,null,null,null,null,null,null,null,null,null,null,null,null,null,null,null,null,null,null,null,null,null,0,{"$f":"IFERROR(IF(J1307=99,1,IF(MATCH(J1307&\"/\"&L1307,読み替え表_食品ロス!$P$29:$P$42,0),1,0)),0)","v":0},"*"]
[null,null,1298,null,null,null,null,null,null,null,null,null,null,null,null,null,null,null,null,null,null,null,null,null,null,0,{"$f":"IFERROR(IF(J1308=99,1,IF(MATCH(J1308&\"/\"&L1308,読み替え表_食品ロス!$P$29:$P$42,0),1,0)),0)","v":0},"*"]
[null,null,1299,null,null,null,null,null,null,null,null,null,null,null,null,null,null,null,null,null,null,null,null,null,null,0,{"$f":"IFERROR(IF(J1309=99,1,IF(MATCH(J1309&\"/\"&L1309,読み替え表_食品ロス!$P$29:$P$42,0),1,0)),0)","v":0},"*"]
[null,null,1300,null,null,null,null,null,null,null,null,null,null,null,null,null,null,null,null,null,null,null,null,null,null,0,{"$f":"IFERROR(IF(J1310=99,1,IF(MATCH(J1310&\"/\"&L1310,読み替え表_食品ロス!$P$29:$P$42,0),1,0)),0)","v":0},"*"]
[null,null,1301,null,null,null,null,null,null,null,null,null,null,null,null,null,null,null,null,null,null,null,null,null,null,0,{"$f":"IFERROR(IF(J1311=99,1,IF(MATCH(J1311&\"/\"&L1311,読み替え表_食品ロス!$P$29:$P$42,0),1,0)),0)","v":0},"*"]
[null,null,1302,null,null,null,null,null,null,null,null,null,null,null,null,null,null,null,null,null,null,null,null,null,null,0,{"$f":"IFERROR(IF(J1312=99,1,IF(MATCH(J1312&\"/\"&L1312,読み替え表_食品ロス!$P$29:$P$42,0),1,0)),0)","v":0},"*"]
[null,null,1303,null,null,null,null,null,null,null,null,null,null,null,null,null,null,null,null,null,null,null,null,null,null,0,{"$f":"IFERROR(IF(J1313=99,1,IF(MATCH(J1313&\"/\"&L1313,読み替え表_食品ロス!$P$29:$P$42,0),1,0)),0)","v":0},"*"]
[null,null,1304,null,null,null,null,null,null,null,null,null,null,null,null,null,null,null,null,null,null,null,null,null,null,0,{"$f":"IFERROR(IF(J1314=99,1,IF(MATCH(J1314&\"/\"&L1314,読み替え表_食品ロス!$P$29:$P$42,0),1,0)),0)","v":0},"*"]
[null,null,1305,null,null,null,null,null,null,null,null,null,null,null,null,null,null,null,null,null,null,null,null,null,null,0,{"$f":"IFERROR(IF(J1315=99,1,IF(MATCH(J1315&\"/\"&L1315,読み替え表_食品ロス!$P$29:$P$42,0),1,0)),0)","v":0},"*"]
[null,null,1306,null,null,null,null,null,null,null,null,null,null,null,null,null,null,null,null,null,null,null,null,null,null,0,{"$f":"IFERROR(IF(J1316=99,1,IF(MATCH(J1316&\"/\"&L1316,読み替え表_食品ロス!$P$29:$P$42,0),1,0)),0)","v":0},"*"]
[null,null,1307,null,null,null,null,null,null,null,null,null,null,null,null,null,null,null,null,null,null,null,null,null,null,0,{"$f":"IFERROR(IF(J1317=99,1,IF(MATCH(J1317&\"/\"&L1317,読み替え表_食品ロス!$P$29:$P$42,0),1,0)),0)","v":0},"*"]
[null,null,1308,null,null,null,null,null,null,null,null,null,null,null,null,null,null,null,null,null,null,null,null,null,null,0,{"$f":"IFERROR(IF(J1318=99,1,IF(MATCH(J1318&\"/\"&L1318,読み替え表_食品ロス!$P$29:$P$42,0),1,0)),0)","v":0},"*"]
[null,null,1309,null,null,null,null,null,null,null,null,null,null,null,null,null,null,null,null,null,null,null,null,null,null,0,{"$f":"IFERROR(IF(J1319=99,1,IF(MATCH(J1319&\"/\"&L1319,読み替え表_食品ロス!$P$29:$P$42,0),1,0)),0)","v":0},"*"]
[null,null,1310,null,null,null,null,null,null,null,null,null,null,null,null,null,null,null,null,null,null,null,null,null,null,0,{"$f":"IFERROR(IF(J1320=99,1,IF(MATCH(J1320&\"/\"&L1320,読み替え表_食品ロス!$P$29:$P$42,0),1,0)),0)","v":0},"*"]
[null,null,1311,null,null,null,null,null,null,null,null,null,null,null,null,null,null,null,null,null,null,null,null,null,null,0,{"$f":"IFERROR(IF(J1321=99,1,IF(MATCH(J1321&\"/\"&L1321,読み替え表_食品ロス!$P$29:$P$42,0),1,0)),0)","v":0},"*"]
[null,null,1312,null,null,null,null,null,null,null,null,null,null,null,null,null,null,null,null,null,null,null,null,null,null,0,{"$f":"IFERROR(IF(J1322=99,1,IF(MATCH(J1322&\"/\"&L1322,読み替え表_食品ロス!$P$29:$P$42,0),1,0)),0)","v":0},"*"]
[null,null,1313,null,null,null,null,null,null,null,null,null,null,null,null,null,null,null,null,null,null,null,null,null,null,0,{"$f":"IFERROR(IF(J1323=99,1,IF(MATCH(J1323&\"/\"&L1323,読み替え表_食品ロス!$P$29:$P$42,0),1,0)),0)","v":0},"*"]
[null,null,1314,null,null,null,null,null,null,null,null,null,null,null,null,null,null,null,null,null,null,null,null,null,null,0,{"$f":"IFERROR(IF(J1324=99,1,IF(MATCH(J1324&\"/\"&L1324,読み替え表_食品ロス!$P$29:$P$42,0),1,0)),0)","v":0},"*"]
[null,null,1315,null,null,null,null,null,null,null,null,null,null,null,null,null,null,null,null,null,null,null,null,null,null,0,{"$f":"IFERROR(IF(J1325=99,1,IF(MATCH(J1325&\"/\"&L1325,読み替え表_食品ロス!$P$29:$P$42,0),1,0)),0)","v":0},"*"]
[null,null,1316,null,null,null,null,null,null,null,null,null,null,null,null,null,null,null,null,null,null,null,null,null,null,0,{"$f":"IFERROR(IF(J1326=99,1,IF(MATCH(J1326&\"/\"&L1326,読み替え表_食品ロス!$P$29:$P$42,0),1,0)),0)","v":0},"*"]
[null,null,1317,null,null,null,null,null,null,null,null,null,null,null,null,null,null,null,null,null,null,null,null,null,null,0,{"$f":"IFERROR(IF(J1327=99,1,IF(MATCH(J1327&\"/\"&L1327,読み替え表_食品ロス!$P$29:$P$42,0),1,0)),0)","v":0},"*"]
[null,null,1318,null,null,null,null,null,null,null,null,null,null,null,null,null,null,null,null,null,null,null,null,null,null,0,{"$f":"IFERROR(IF(J1328=99,1,IF(MATCH(J1328&\"/\"&L1328,読み替え表_食品ロス!$P$29:$P$42,0),1,0)),0)","v":0},"*"]
[null,null,1319,null,null,null,null,null,null,null,null,null,null,null,null,null,null,null,null,null,null,null,null,null,null,0,{"$f":"IFERROR(IF(J1329=99,1,IF(MATCH(J1329&\"/\"&L1329,読み替え表_食品ロス!$P$29:$P$42,0),1,0)),0)","v":0},"*"]
[null,null,1320,null,null,null,null,null,null,null,null,null,null,null,null,null,null,null,null,null,null,null,null,null,null,0,{"$f":"IFERROR(IF(J1330=99,1,IF(MATCH(J1330&\"/\"&L1330,読み替え表_食品ロス!$P$29:$P$42,0),1,0)),0)","v":0},"*"]
[null,null,1321,null,null,null,null,null,null,null,null,null,null,null,null,null,null,null,null,null,null,null,null,null,null,0,{"$f":"IFERROR(IF(J1331=99,1,IF(MATCH(J1331&\"/\"&L1331,読み替え表_食品ロス!$P$29:$P$42,0),1,0)),0)","v":0},"*"]
[null,null,1322,null,null,null,null,null,null,null,null,null,null,null,null,null,null,null,null,null,null,null,null,null,null,0,{"$f":"IFERROR(IF(J1332=99,1,IF(MATCH(J1332&\"/\"&L1332,読み替え表_食品ロス!$P$29:$P$42,0),1,0)),0)","v":0},"*"]
[null,null,1323,null,null,null,null,null,null,null,null,null,null,null,null,null,null,null,null,null,null,null,null,null,null,0,{"$f":"IFERROR(IF(J1333=99,1,IF(MATCH(J1333&\"/\"&L1333,読み替え表_食品ロス!$P$29:$P$42,0),1,0)),0)","v":0},"*"]
[null,null,1324,null,null,null,null,null,null,null,null,null,null,null,null,null,null,null,null,null,null,null,null,null,null,0,{"$f":"IFERROR(IF(J1334=99,1,IF(MATCH(J1334&\"/\"&L1334,読み替え表_食品ロス!$P$29:$P$42,0),1,0)),0)","v":0},"*"]
[null,null,1325,null,null,null,null,null,null,null,null,null,null,null,null,null,null,null,null,null,null,null,null,null,null,0,{"$f":"IFERROR(IF(J1335=99,1,IF(MATCH(J1335&\"/\"&L1335,読み替え表_食品ロス!$P$29:$P$42,0),1,0)),0)","v":0},"*"]
[null,null,1326,null,null,null,null,null,null,null,null,null,null,null,null,null,null,null,null,null,null,null,null,null,null,0,{"$f":"IFERROR(IF(J1336=99,1,IF(MATCH(J1336&\"/\"&L1336,読み替え表_食品ロス!$P$29:$P$42,0),1,0)),0)","v":0},"*"]
[null,null,1327,null,null,null,null,null,null,null,null,null,null,null,null,null,null,null,null,null,null,null,null,null,null,0,{"$f":"IFERROR(IF(J1337=99,1,IF(MATCH(J1337&\"/\"&L1337,読み替え表_食品ロス!$P$29:$P$42,0),1,0)),0)","v":0},"*"]
[null,null,1328,null,null,null,null,null,null,null,null,null,null,null,null,null,null,null,null,null,null,null,null,null,null,0,{"$f":"IFERROR(IF(J1338=99,1,IF(MATCH(J1338&\"/\"&L1338,読み替え表_食品ロス!$P$29:$P$42,0),1,0)),0)","v":0},"*"]
[null,null,1329,null,null,null,null,null,null,null,null,null,null,null,null,null,null,null,null,null,null,null,null,null,null,0,{"$f":"IFERROR(IF(J1339=99,1,IF(MATCH(J1339&\"/\"&L1339,読み替え表_食品ロス!$P$29:$P$42,0),1,0)),0)","v":0},"*"]
[null,null,1330,null,null,null,null,null,null,null,null,null,null,null,null,null,null,null,null,null,null,null,null,null,null,0,{"$f":"IFERROR(IF(J1340=99,1,IF(MATCH(J1340&\"/\"&L1340,読み替え表_食品ロス!$P$29:$P$42,0),1,0)),0)","v":0},"*"]
[null,null,1331,null,null,null,null,null,null,null,null,null,null,null,null,null,null,null,null,null,null,null,null,null,null,0,{"$f":"IFERROR(IF(J1341=99,1,IF(MATCH(J1341&\"/\"&L1341,読み替え表_食品ロス!$P$29:$P$42,0),1,0)),0)","v":0},"*"]
[null,null,1332,null,null,null,null,null,null,null,null,null,null,null,null,null,null,null,null,null,null,null,null,null,null,0,{"$f":"IFERROR(IF(J1342=99,1,IF(MATCH(J1342&\"/\"&L1342,読み替え表_食品ロス!$P$29:$P$42,0),1,0)),0)","v":0},"*"]
[null,null,1333,null,null,null,null,null,null,null,null,null,null,null,null,null,null,null,null,null,null,null,null,null,null,0,{"$f":"IFERROR(IF(J1343=99,1,IF(MATCH(J1343&\"/\"&L1343,読み替え表_食品ロス!$P$29:$P$42,0),1,0)),0)","v":0},"*"]
[null,null,1334,null,null,null,null,null,null,null,null,null,null,null,null,null,null,null,null,null,null,null,null,null,null,0,{"$f":"IFERROR(IF(J1344=99,1,IF(MATCH(J1344&\"/\"&L1344,読み替え表_食品ロス!$P$29:$P$42,0),1,0)),0)","v":0},"*"]
[null,null,1335,null,null,null,null,null,null,null,null,null,null,null,null,null,null,null,null,null,null,null,null,null,null,0,{"$f":"IFERROR(IF(J1345=99,1,IF(MATCH(J1345&\"/\"&L1345,読み替え表_食品ロス!$P$29:$P$42,0),1,0)),0)","v":0},"*"]
[null,null,1336,null,null,null,null,null,null,null,null,null,null,null,null,null,null,null,null,null,null,null,null,null,null,0,{"$f":"IFERROR(IF(J1346=99,1,IF(MATCH(J1346&\"/\"&L1346,読み替え表_食品ロス!$P$29:$P$42,0),1,0)),0)","v":0},"*"]
[null,null,1337,null,null,null,null,null,null,null,null,null,null,null,null,null,null,null,null,null,null,null,null,null,null,0,{"$f":"IFERROR(IF(J1347=99,1,IF(MATCH(J1347&\"/\"&L1347,読み替え表_食品ロス!$P$29:$P$42,0),1,0)),0)","v":0},"*"]
[null,null,1338,null,null,null,null,null,null,null,null,null,null,null,null,null,null,null,null,null,null,null,null,null,null,0,{"$f":"IFERROR(IF(J1348=99,1,IF(MATCH(J1348&\"/\"&L1348,読み替え表_食品ロス!$P$29:$P$42,0),1,0)),0)","v":0},"*"]
[null,null,1339,null,null,null,null,null,null,null,null,null,null,null,null,null,null,null,null,null,null,null,null,null,null,0,{"$f":"IFERROR(IF(J1349=99,1,IF(MATCH(J1349&\"/\"&L1349,読み替え表_食品ロス!$P$29:$P$42,0),1,0)),0)","v":0},"*"]
[null,null,1340,null,null,null,null,null,null,null,null,null,null,null,null,null,null,null,null,null,null,null,null,null,null,0,{"$f":"IFERROR(IF(J1350=99,1,IF(MATCH(J1350&\"/\"&L1350,読み替え表_食品ロス!$P$29:$P$42,0),1,0)),0)","v":0},"*"]
[null,null,1341,null,null,null,null,null,null,null,null,null,null,null,null,null,null,null,null,null,null,null,null,null,null,0,{"$f":"IFERROR(IF(J1351=99,1,IF(MATCH(J1351&\"/\"&L1351,読み替え表_食品ロス!$P$29:$P$42,0),1,0)),0)","v":0},"*"]
[null,null,1342,null,null,null,null,null,null,null,null,null,null,null,null,null,null,null,null,null,null,null,null,null,null,0,{"$f":"IFERROR(IF(J1352=99,1,IF(MATCH(J1352&\"/\"&L1352,読み替え表_食品ロス!$P$29:$P$42,0),1,0)),0)","v":0},"*"]
[null,null,1343,null,null,null,null,null,null,null,null,null,null,null,null,null,null,null,null,null,null,null,null,null,null,0,{"$f":"IFERROR(IF(J1353=99,1,IF(MATCH(J1353&\"/\"&L1353,読み替え表_食品ロス!$P$29:$P$42,0),1,0)),0)","v":0},"*"]
[null,null,1344,null,null,null,null,null,null,null,null,null,null,null,null,null,null,null,null,null,null,null,null,null,null,0,{"$f":"IFERROR(IF(J1354=99,1,IF(MATCH(J1354&\"/\"&L1354,読み替え表_食品ロス!$P$29:$P$42,0),1,0)),0)","v":0},"*"]
[null,null,1345,null,null,null,null,null,null,null,null,null,null,null,null,null,null,null,null,null,null,null,null,null,null,0,{"$f":"IFERROR(IF(J1355=99,1,IF(MATCH(J1355&\"/\"&L1355,読み替え表_食品ロス!$P$29:$P$42,0),1,0)),0)","v":0},"*"]
[null,null,{"$f":"ROW()-10","v":1346},null,null,null,null,null,null,null,null,null,null,null,null,null,null,null,null,null,null,null,null,null,null,{"$f":"IF(OR(L1356=1,L1356=2,L1356=3),1,0)","v":0},{"$f":"IFERROR(IF(J1356=99,1,IF(MATCH(J1356&\"/\"&L1356,読み替え表_食品ロス!$P$29:$P$42,0),1,0)),0)","v":0},"*"]
[null,null,1347,null,null,null,null,null,null,null,null,null,null,null,null,null,null,null,null,null,null,null,null,null,null,0,{"$f":"IFERROR(IF(J1357=99,1,IF(MATCH(J1357&\"/\"&L1357,読み替え表_食品ロス!$P$29:$P$42,0),1,0)),0)","v":0},"*"]
[null,null,1348,null,null,null,null,null,null,null,null,null,null,null,null,null,null,null,null,null,null,null,null,null,null,0,{"$f":"IFERROR(IF(J1358=99,1,IF(MATCH(J1358&\"/\"&L1358,読み替え表_食品ロス!$P$29:$P$42,0),1,0)),0)","v":0},"*"]
[null,null,1349,null,null,null,null,null,null,null,null,null,null,null,null,null,null,null,null,null,null,null,null,null,null,0,{"$f":"IFERROR(IF(J1359=99,1,IF(MATCH(J1359&\"/\"&L1359,読み替え表_食品ロス!$P$29:$P$42,0),1,0)),0)","v":0},"*"]
[null,null,1350,null,null,null,null,null,null,null,null,null,null,null,null,null,null,null,null,null,null,null,null,null,null,0,{"$f":"IFERROR(IF(J1360=99,1,IF(MATCH(J1360&\"/\"&L1360,読み替え表_食品ロス!$P$29:$P$42,0),1,0)),0)","v":0},"*"]
[null,null,1351,null,null,null,null,null,null,null,null,null,null,null,null,null,null,null,null,null,null,null,null,null,null,0,{"$f":"IFERROR(IF(J1361=99,1,IF(MATCH(J1361&\"/\"&L1361,読み替え表_食品ロス!$P$29:$P$42,0),1,0)),0)","v":0},"*"]
[null,null,1352,null,null,null,null,null,null,null,null,null,null,null,null,null,null,null,null,null,null,null,null,null,null,0,{"$f":"IFERROR(IF(J1362=99,1,IF(MATCH(J1362&\"/\"&L1362,読み替え表_食品ロス!$P$29:$P$42,0),1,0)),0)","v":0},"*"]
[null,null,1353,null,null,null,null,null,null,null,null,null,null,null,null,null,null,null,null,null,null,null,null,null,null,0,{"$f":"IFERROR(IF(J1363=99,1,IF(MATCH(J1363&\"/\"&L1363,読み替え表_食品ロス!$P$29:$P$42,0),1,0)),0)","v":0},"*"]
[null,null,1354,null,null,null,null,null,null,null,null,null,null,null,null,null,null,null,null,null,null,null,null,null,null,0,{"$f":"IFERROR(IF(J1364=99,1,IF(MATCH(J1364&\"/\"&L1364,読み替え表_食品ロス!$P$29:$P$42,0),1,0)),0)","v":0},"*"]
[null,null,1355,null,null,null,null,null,null,null,null,null,null,null,null,null,null,null,null,null,null,null,null,null,null,0,{"$f":"IFERROR(IF(J1365=99,1,IF(MATCH(J1365&\"/\"&L1365,読み替え表_食品ロス!$P$29:$P$42,0),1,0)),0)","v":0},"*"]
[null,null,1356,null,null,null,null,null,null,null,null,null,null,null,null,null,null,null,null,null,null,null,null,null,null,0,{"$f":"IFERROR(IF(J1366=99,1,IF(MATCH(J1366&\"/\"&L1366,読み替え表_食品ロス!$P$29:$P$42,0),1,0)),0)","v":0},"*"]
[null,null,1357,null,null,null,null,null,null,null,null,null,null,null,null,null,null,null,null,null,null,null,null,null,null,0,{"$f":"IFERROR(IF(J1367=99,1,IF(MATCH(J1367&\"/\"&L1367,読み替え表_食品ロス!$P$29:$P$42,0),1,0)),0)","v":0},"*"]
[null,null,1358,null,null,null,null,null,null,null,null,null,null,null,null,null,null,null,null,null,null,null,null,null,null,0,{"$f":"IFERROR(IF(J1368=99,1,IF(MATCH(J1368&\"/\"&L1368,読み替え表_食品ロス!$P$29:$P$42,0),1,0)),0)","v":0},"*"]
[null,null,1359,null,null,null,null,null,null,null,null,null,null,null,null,null,null,null,null,null,null,null,null,null,null,0,{"$f":"IFERROR(IF(J1369=99,1,IF(MATCH(J1369&\"/\"&L1369,読み替え表_食品ロス!$P$29:$P$42,0),1,0)),0)","v":0},"*"]
[null,null,1360,null,null,null,null,null,null,null,null,null,null,null,null,null,null,null,null,null,null,null,null,null,null,0,{"$f":"IFERROR(IF(J1370=99,1,IF(MATCH(J1370&\"/\"&L1370,読み替え表_食品ロス!$P$29:$P$42,0),1,0)),0)","v":0},"*"]
[null,null,1361,null,null,null,null,null,null,null,null,null,null,null,null,null,null,null,null,null,null,null,null,null,null,0,{"$f":"IFERROR(IF(J1371=99,1,IF(MATCH(J1371&\"/\"&L1371,読み替え表_食品ロス!$P$29:$P$42,0),1,0)),0)","v":0},"*"]
[null,null,1362,null,null,null,null,null,null,null,null,null,null,null,null,null,null,null,null,null,null,null,null,null,null,0,{"$f":"IFERROR(IF(J1372=99,1,IF(MATCH(J1372&\"/\"&L1372,読み替え表_食品ロス!$P$29:$P$42,0),1,0)),0)","v":0},"*"]
[null,null,1363,null,null,null,null,null,null,null,null,null,null,null,null,null,null,null,null,null,null,null,null,null,null,0,{"$f":"IFERROR(IF(J1373=99,1,IF(MATCH(J1373&\"/\"&L1373,読み替え表_食品ロス!$P$29:$P$42,0),1,0)),0)","v":0},"*"]
[null,null,1364,null,null,null,null,null,null,null,null,null,null,null,null,null,null,null,null,null,null,null,null,null,null,0,{"$f":"IFERROR(IF(J1374=99,1,IF(MATCH(J1374&\"/\"&L1374,読み替え表_食品ロス!$P$29:$P$42,0),1,0)),0)","v":0},"*"]
[null,null,1365,null,null,null,null,null,null,null,null,null,null,null,null,null,null,null,null,null,null,null,null,null,null,0,{"$f":"IFERROR(IF(J1375=99,1,IF(MATCH(J1375&\"/\"&L1375,読み替え表_食品ロス!$P$29:$P$42,0),1,0)),0)","v":0},"*"]
[null,null,1366,null,null,null,null,null,null,null,null,null,null,null,null,null,null,null,null,null,null,null,null,null,null,0,{"$f":"IFERROR(IF(J1376=99,1,IF(MATCH(J1376&\"/\"&L1376,読み替え表_食品ロス!$P$29:$P$42,0),1,0)),0)","v":0},"*"]
[null,null,1367,null,null,null,null,null,null,null,null,null,null,null,null,null,null,null,null,null,null,null,null,null,null,0,{"$f":"IFERROR(IF(J1377=99,1,IF(MATCH(J1377&\"/\"&L1377,読み替え表_食品ロス!$P$29:$P$42,0),1,0)),0)","v":0},"*"]
[null,null,1368,null,null,null,null,null,null,null,null,null,null,null,null,null,null,null,null,null,null,null,null,null,null,0,{"$f":"IFERROR(IF(J1378=99,1,IF(MATCH(J1378&\"/\"&L1378,読み替え表_食品ロス!$P$29:$P$42,0),1,0)),0)","v":0},"*"]
[null,null,1369,null,null,null,null,null,null,null,null,null,null,null,null,null,null,null,null,null,null,null,null,null,null,0,{"$f":"IFERROR(IF(J1379=99,1,IF(MATCH(J1379&\"/\"&L1379,読み替え表_食品ロス!$P$29:$P$42,0),1,0)),0)","v":0},"*"]
[null,null,1370,null,null,null,null,null,null,null,null,null,null,null,null,null,null,null,null,null,null,null,null,null,null,0,{"$f":"IFERROR(IF(J1380=99,1,IF(MATCH(J1380&\"/\"&L1380,読み替え表_食品ロス!$P$29:$P$42,0),1,0)),0)","v":0},"*"]
[null,null,1371,null,null,null,null,null,null,null,null,null,null,null,null,null,null,null,null,null,null,null,null,null,null,0,{"$f":"IFERROR(IF(J1381=99,1,IF(MATCH(J1381&\"/\"&L1381,読み替え表_食品ロス!$P$29:$P$42,0),1,0)),0)","v":0},"*"]
[null,null,1372,null,null,null,null,null,null,null,null,null,null,null,null,null,null,null,null,null,null,null,null,null,null,0,{"$f":"IFERROR(IF(J1382=99,1,IF(MATCH(J1382&\"/\"&L1382,読み替え表_食品ロス!$P$29:$P$42,0),1,0)),0)","v":0},"*"]
[null,null,1373,null,null,null,null,null,null,null,null,null,null,null,null,null,null,null,null,null,null,null,null,null,null,0,{"$f":"IFERROR(IF(J1383=99,1,IF(MATCH(J1383&\"/\"&L1383,読み替え表_食品ロス!$P$29:$P$42,0),1,0)),0)","v":0},"*"]
[null,null,1374,null,null,null,null,null,null,null,null,null,null,null,null,null,null,null,null,null,null,null,null,null,null,0,{"$f":"IFERROR(IF(J1384=99,1,IF(MATCH(J1384&\"/\"&L1384,読み替え表_食品ロス!$P$29:$P$42,0),1,0)),0)","v":0},"*"]
[null,null,1375,null,null,null,null,null,null,null,null,null,null,null,null,null,null,null,null,null,null,null,null,null,null,0,{"$f":"IFERROR(IF(J1385=99,1,IF(MATCH(J1385&\"/\"&L1385,読み替え表_食品ロス!$P$29:$P$42,0),1,0)),0)","v":0},"*"]
[null,null,1376,null,null,null,null,null,null,null,null,null,null,null,null,null,null,null,null,null,null,null,null,null,null,0,{"$f":"IFERROR(IF(J1386=99,1,IF(MATCH(J1386&\"/\"&L1386,読み替え表_食品ロス!$P$29:$P$42,0),1,0)),0)","v":0},"*"]
[null,null,1377,null,null,null,null,null,null,null,null,null,null,null,null,null,null,null,null,null,null,null,null,null,null,0,{"$f":"IFERROR(IF(J1387=99,1,IF(MATCH(J1387&\"/\"&L1387,読み替え表_食品ロス!$P$29:$P$42,0),1,0)),0)","v":0},"*"]
[null,null,1378,null,null,null,null,null,null,null,null,null,null,null,null,null,null,null,null,null,null,null,null,null,null,0,{"$f":"IFERROR(IF(J1388=99,1,IF(MATCH(J1388&\"/\"&L1388,読み替え表_食品ロス!$P$29:$P$42,0),1,0)),0)","v":0},"*"]
[null,null,1379,null,null,null,null,null,null,null,null,null,null,null,null,null,null,null,null,null,null,null,null,null,null,0,{"$f":"IFERROR(IF(J1389=99,1,IF(MATCH(J1389&\"/\"&L1389,読み替え表_食品ロス!$P$29:$P$42,0),1,0)),0)","v":0},"*"]
[null,null,1380,null,null,null,null,null,null,null,null,null,null,null,null,null,null,null,null,null,null,null,null,null,null,0,{"$f":"IFERROR(IF(J1390=99,1,IF(MATCH(J1390&\"/\"&L1390,読み替え表_食品ロス!$P$29:$P$42,0),1,0)),0)","v":0},"*"]
[null,null,1381,null,null,null,null,null,null,null,null,null,null,null,null,null,null,null,null,null,null,null,null,null,null,0,{"$f":"IFERROR(IF(J1391=99,1,IF(MATCH(J1391&\"/\"&L1391,読み替え表_食品ロス!$P$29:$P$42,0),1,0)),0)","v":0},"*"]
[null,null,1382,null,null,null,null,null,null,null,null,null,null,null,null,null,null,null,null,null,null,null,null,null,null,0,{"$f":"IFERROR(IF(J1392=99,1,IF(MATCH(J1392&\"/\"&L1392,読み替え表_食品ロス!$P$29:$P$42,0),1,0)),0)","v":0},"*"]
[null,null,1383,null,null,null,null,null,null,null,null,null,null,null,null,null,null,null,null,null,null,null,null,null,null,0,{"$f":"IFERROR(IF(J1393=99,1,IF(MATCH(J1393&\"/\"&L1393,読み替え表_食品ロス!$P$29:$P$42,0),1,0)),0)","v":0},"*"]
[null,null,1384,null,null,null,null,null,null,null,null,null,null,null,null,null,null,null,null,null,null,null,null,null,null,0,{"$f":"IFERROR(IF(J1394=99,1,IF(MATCH(J1394&\"/\"&L1394,読み替え表_食品ロス!$P$29:$P$42,0),1,0)),0)","v":0},"*"]
[null,null,1385,null,null,null,null,null,null,null,null,null,null,null,null,null,null,null,null,null,null,null,null,null,null,0,{"$f":"IFERROR(IF(J1395=99,1,IF(MATCH(J1395&\"/\"&L1395,読み替え表_食品ロス!$P$29:$P$42,0),1,0)),0)","v":0},"*"]
[null,null,1386,null,null,null,null,null,null,null,null,null,null,null,null,null,null,null,null,null,null,null,null,null,null,0,{"$f":"IFERROR(IF(J1396=99,1,IF(MATCH(J1396&\"/\"&L1396,読み替え表_食品ロス!$P$29:$P$42,0),1,0)),0)","v":0},"*"]
[null,null,1387,null,null,null,null,null,null,null,null,null,null,null,null,null,null,null,null,null,null,null,null,null,null,0,{"$f":"IFERROR(IF(J1397=99,1,IF(MATCH(J1397&\"/\"&L1397,読み替え表_食品ロス!$P$29:$P$42,0),1,0)),0)","v":0},"*"]
[null,null,1388,null,null,null,null,null,null,null,null,null,null,null,null,null,null,null,null,null,null,null,null,null,null,0,{"$f":"IFERROR(IF(J1398=99,1,IF(MATCH(J1398&\"/\"&L1398,読み替え表_食品ロス!$P$29:$P$42,0),1,0)),0)","v":0},"*"]
[null,null,1389,null,null,null,null,null,null,null,null,null,null,null,null,null,null,null,null,null,null,null,null,null,null,0,{"$f":"IFERROR(IF(J1399=99,1,IF(MATCH(J1399&\"/\"&L1399,読み替え表_食品ロス!$P$29:$P$42,0),1,0)),0)","v":0},"*"]
[null,null,1390,null,null,null,null,null,null,null,null,null,null,null,null,null,null,null,null,null,null,null,null,null,null,0,{"$f":"IFERROR(IF(J1400=99,1,IF(MATCH(J1400&\"/\"&L1400,読み替え表_食品ロス!$P$29:$P$42,0),1,0)),0)","v":0},"*"]
[null,null,1391,null,null,null,null,null,null,null,null,null,null,null,null,null,null,null,null,null,null,null,null,null,null,0,{"$f":"IFERROR(IF(J1401=99,1,IF(MATCH(J1401&\"/\"&L1401,読み替え表_食品ロス!$P$29:$P$42,0),1,0)),0)","v":0},"*"]
[null,null,1392,null,null,null,null,null,null,null,null,null,null,null,null,null,null,null,null,null,null,null,null,null,null,0,{"$f":"IFERROR(IF(J1402=99,1,IF(MATCH(J1402&\"/\"&L1402,読み替え表_食品ロス!$P$29:$P$42,0),1,0)),0)","v":0},"*"]
[null,null,1393,null,null,null,null,null,null,null,null,null,null,null,null,null,null,null,null,null,null,null,null,null,null,0,{"$f":"IFERROR(IF(J1403=99,1,IF(MATCH(J1403&\"/\"&L1403,読み替え表_食品ロス!$P$29:$P$42,0),1,0)),0)","v":0},"*"]
[null,null,1394,null,null,null,null,null,null,null,null,null,null,null,null,null,null,null,null,null,null,null,null,null,null,0,{"$f":"IFERROR(IF(J1404=99,1,IF(MATCH(J1404&\"/\"&L1404,読み替え表_食品ロス!$P$29:$P$42,0),1,0)),0)","v":0},"*"]
[null,null,1395,null,null,null,null,null,null,null,null,null,null,null,null,null,null,null,null,null,null,null,null,null,null,0,{"$f":"IFERROR(IF(J1405=99,1,IF(MATCH(J1405&\"/\"&L1405,読み替え表_食品ロス!$P$29:$P$42,0),1,0)),0)","v":0},"*"]
[null,null,1396,null,null,null,null,null,null,null,null,null,null,null,null,null,null,null,null,null,null,null,null,null,null,0,{"$f":"IFERROR(IF(J1406=99,1,IF(MATCH(J1406&\"/\"&L1406,読み替え表_食品ロス!$P$29:$P$42,0),1,0)),0)","v":0},"*"]
[null,null,1397,null,null,null,null,null,null,null,null,null,null,null,null,null,null,null,null,null,null,null,null,null,null,0,{"$f":"IFERROR(IF(J1407=99,1,IF(MATCH(J1407&\"/\"&L1407,読み替え表_食品ロス!$P$29:$P$42,0),1,0)),0)","v":0},"*"]
[null,null,1398,null,null,null,null,null,null,null,null,null,null,null,null,null,null,null,null,null,null,null,null,null,null,0,{"$f":"IFERROR(IF(J1408=99,1,IF(MATCH(J1408&\"/\"&L1408,読み替え表_食品ロス!$P$29:$P$42,0),1,0)),0)","v":0},"*"]
[null,null,1399,null,null,null,null,null,null,null,null,null,null,null,null,null,null,null,null,null,null,null,null,null,null,0,{"$f":"IFERROR(IF(J1409=99,1,IF(MATCH(J1409&\"/\"&L1409,読み替え表_食品ロス!$P$29:$P$42,0),1,0)),0)","v":0},"*"]
[null,null,1400,null,null,null,null,null,null,null,null,null,null,null,null,null,null,null,null,null,null,null,null,null,null,0,{"$f":"IFERROR(IF(J1410=99,1,IF(MATCH(J1410&\"/\"&L1410,読み替え表_食品ロス!$P$29:$P$42,0),1,0)),0)","v":0},"*"]
[null,null,1401,null,null,null,null,null,null,null,null,null,null,null,null,null,null,null,null,null,null,null,null,null,null,0,{"$f":"IFERROR(IF(J1411=99,1,IF(MATCH(J1411&\"/\"&L1411,読み替え表_食品ロス!$P$29:$P$42,0),1,0)),0)","v":0},"*"]
[null,null,1402,null,null,null,null,null,null,null,null,null,null,null,null,null,null,null,null,null,null,null,null,null,null,0,{"$f":"IFERROR(IF(J1412=99,1,IF(MATCH(J1412&\"/\"&L1412,読み替え表_食品ロス!$P$29:$P$42,0),1,0)),0)","v":0},"*"]
[null,null,1403,null,null,null,null,null,null,null,null,null,null,null,null,null,null,null,null,null,null,null,null,null,null,0,{"$f":"IFERROR(IF(J1413=99,1,IF(MATCH(J1413&\"/\"&L1413,読み替え表_食品ロス!$P$29:$P$42,0),1,0)),0)","v":0},"*"]
[null,null,1404,null,null,null,null,null,null,null,null,null,null,null,null,null,null,null,null,null,null,null,null,null,null,0,{"$f":"IFERROR(IF(J1414=99,1,IF(MATCH(J1414&\"/\"&L1414,読み替え表_食品ロス!$P$29:$P$42,0),1,0)),0)","v":0},"*"]
[null,null,1405,null,null,null,null,null,null,null,null,null,null,null,null,null,null,null,null,null,null,null,null,null,null,0,{"$f":"IFERROR(IF(J1415=99,1,IF(MATCH(J1415&\"/\"&L1415,読み替え表_食品ロス!$P$29:$P$42,0),1,0)),0)","v":0},"*"]
[null,null,1406,null,null,null,null,null,null,null,null,null,null,null,null,null,null,null,null,null,null,null,null,null,null,0,{"$f":"IFERROR(IF(J1416=99,1,IF(MATCH(J1416&\"/\"&L1416,読み替え表_食品ロス!$P$29:$P$42,0),1,0)),0)","v":0},"*"]
[null,null,1407,null,null,null,null,null,null,null,null,null,null,null,null,null,null,null,null,null,null,null,null,null,null,0,{"$f":"IFERROR(IF(J1417=99,1,IF(MATCH(J1417&\"/\"&L1417,読み替え表_食品ロス!$P$29:$P$42,0),1,0)),0)","v":0},"*"]
[null,null,1408,null,null,null,null,null,null,null,null,null,null,null,null,null,null,null,null,null,null,null,null,null,null,0,{"$f":"IFERROR(IF(J1418=99,1,IF(MATCH(J1418&\"/\"&L1418,読み替え表_食品ロス!$P$29:$P$42,0),1,0)),0)","v":0},"*"]
[null,null,1409,null,null,null,null,null,null,null,null,null,null,null,null,null,null,null,null,null,null,null,null,null,null,0,{"$f":"IFERROR(IF(J1419=99,1,IF(MATCH(J1419&\"/\"&L1419,読み替え表_食品ロス!$P$29:$P$42,0),1,0)),0)","v":0},"*"]
[null,null,{"$f":"ROW()-10","v":1410},null,null,null,null,null,null,null,null,null,null,null,null,null,null,null,null,null,null,null,null,null,null,{"$f":"IF(OR(L1420=1,L1420=2,L1420=3),1,0)","v":0},{"$f":"IFERROR(IF(J1420=99,1,IF(MATCH(J1420&\"/\"&L1420,読み替え表_食品ロス!$P$29:$P$42,0),1,0)),0)","v":0},"*"]
[null,null,1411,null,null,null,null,null,null,null,null,null,null,null,null,null,null,null,null,null,null,null,null,null,null,0,{"$f":"IFERROR(IF(J1421=99,1,IF(MATCH(J1421&\"/\"&L1421,読み替え表_食品ロス!$P$29:$P$42,0),1,0)),0)","v":0},"*"]
[null,null,1412,null,null,null,null,null,null,null,null,null,null,null,null,null,null,null,null,null,null,null,null,null,null,0,{"$f":"IFERROR(IF(J1422=99,1,IF(MATCH(J1422&\"/\"&L1422,読み替え表_食品ロス!$P$29:$P$42,0),1,0)),0)","v":0},"*"]
[null,null,1413,null,null,null,null,null,null,null,null,null,null,null,null,null,null,null,null,null,null,null,null,null,null,0,{"$f":"IFERROR(IF(J1423=99,1,IF(MATCH(J1423&\"/\"&L1423,読み替え表_食品ロス!$P$29:$P$42,0),1,0)),0)","v":0},"*"]
[null,null,1414,null,null,null,null,null,null,null,null,null,null,null,null,null,null,null,null,null,null,null,null,null,null,0,{"$f":"IFERROR(IF(J1424=99,1,IF(MATCH(J1424&\"/\"&L1424,読み替え表_食品ロス!$P$29:$P$42,0),1,0)),0)","v":0},"*"]
[null,null,1415,null,null,null,null,null,null,null,null,null,null,null,null,null,null,null,null,null,null,null,null,null,null,0,{"$f":"IFERROR(IF(J1425=99,1,IF(MATCH(J1425&\"/\"&L1425,読み替え表_食品ロス!$P$29:$P$42,0),1,0)),0)","v":0},"*"]
[null,null,1416,null,null,null,null,null,null,null,null,null,null,null,null,null,null,null,null,null,null,null,null,null,null,0,{"$f":"IFERROR(IF(J1426=99,1,IF(MATCH(J1426&\"/\"&L1426,読み替え表_食品ロス!$P$29:$P$42,0),1,0)),0)","v":0},"*"]
[null,null,1417,null,null,null,null,null,null,null,null,null,null,null,null,null,null,null,null,null,null,null,null,null,null,0,{"$f":"IFERROR(IF(J1427=99,1,IF(MATCH(J1427&\"/\"&L1427,読み替え表_食品ロス!$P$29:$P$42,0),1,0)),0)","v":0},"*"]
[null,null,1418,null,null,null,null,null,null,null,null,null,null,null,null,null,null,null,null,null,null,null,null,null,null,0,{"$f":"IFERROR(IF(J1428=99,1,IF(MATCH(J1428&\"/\"&L1428,読み替え表_食品ロス!$P$29:$P$42,0),1,0)),0)","v":0},"*"]
[null,null,1419,null,null,null,null,null,null,null,null,null,null,null,null,null,null,null,null,null,null,null,null,null,null,0,{"$f":"IFERROR(IF(J1429=99,1,IF(MATCH(J1429&\"/\"&L1429,読み替え表_食品ロス!$P$29:$P$42,0),1,0)),0)","v":0},"*"]
[null,null,1420,null,null,null,null,null,null,null,null,null,null,null,null,null,null,null,null,null,null,null,null,null,null,0,{"$f":"IFERROR(IF(J1430=99,1,IF(MATCH(J1430&\"/\"&L1430,読み替え表_食品ロス!$P$29:$P$42,0),1,0)),0)","v":0},"*"]
[null,null,1421,null,null,null,null,null,null,null,null,null,null,null,null,null,null,null,null,null,null,null,null,null,null,0,{"$f":"IFERROR(IF(J1431=99,1,IF(MATCH(J1431&\"/\"&L1431,読み替え表_食品ロス!$P$29:$P$42,0),1,0)),0)","v":0},"*"]
[null,null,1422,null,null,null,null,null,null,null,null,null,null,null,null,null,null,null,null,null,null,null,null,null,null,0,{"$f":"IFERROR(IF(J1432=99,1,IF(MATCH(J1432&\"/\"&L1432,読み替え表_食品ロス!$P$29:$P$42,0),1,0)),0)","v":0},"*"]
[null,null,1423,null,null,null,null,null,null,null,null,null,null,null,null,null,null,null,null,null,null,null,null,null,null,0,{"$f":"IFERROR(IF(J1433=99,1,IF(MATCH(J1433&\"/\"&L1433,読み替え表_食品ロス!$P$29:$P$42,0),1,0)),0)","v":0},"*"]
[null,null,1424,null,null,null,null,null,null,null,null,null,null,null,null,null,null,null,null,null,null,null,null,null,null,0,{"$f":"IFERROR(IF(J1434=99,1,IF(MATCH(J1434&\"/\"&L1434,読み替え表_食品ロス!$P$29:$P$42,0),1,0)),0)","v":0},"*"]
[null,null,1425,null,null,null,null,null,null,null,null,null,null,null,null,null,null,null,null,null,null,null,null,null,null,0,{"$f":"IFERROR(IF(J1435=99,1,IF(MATCH(J1435&\"/\"&L1435,読み替え表_食品ロス!$P$29:$P$42,0),1,0)),0)","v":0},"*"]
[null,null,1426,null,null,null,null,null,null,null,null,null,null,null,null,null,null,null,null,null,null,null,null,null,null,0,{"$f":"IFERROR(IF(J1436=99,1,IF(MATCH(J1436&\"/\"&L1436,読み替え表_食品ロス!$P$29:$P$42,0),1,0)),0)","v":0},"*"]
[null,null,1427,null,null,null,null,null,null,null,null,null,null,null,null,null,null,null,null,null,null,null,null,null,null,0,{"$f":"IFERROR(IF(J1437=99,1,IF(MATCH(J1437&\"/\"&L1437,読み替え表_食品ロス!$P$29:$P$42,0),1,0)),0)","v":0},"*"]
[null,null,1428,null,null,null,null,null,null,null,null,null,null,null,null,null,null,null,null,null,null,null,null,null,null,0,{"$f":"IFERROR(IF(J1438=99,1,IF(MATCH(J1438&\"/\"&L1438,読み替え表_食品ロス!$P$29:$P$42,0),1,0)),0)","v":0},"*"]
[null,null,1429,null,null,null,null,null,null,null,null,null,null,null,null,null,null,null,null,null,null,null,null,null,null,0,{"$f":"IFERROR(IF(J1439=99,1,IF(MATCH(J1439&\"/\"&L1439,読み替え表_食品ロス!$P$29:$P$42,0),1,0)),0)","v":0},"*"]
[null,null,1430,null,null,null,null,null,null,null,null,null,null,null,null,null,null,null,null,null,null,null,null,null,null,0,{"$f":"IFERROR(IF(J1440=99,1,IF(MATCH(J1440&\"/\"&L1440,読み替え表_食品ロス!$P$29:$P$42,0),1,0)),0)","v":0},"*"]
[null,null,1431,null,null,null,null,null,null,null,null,null,null,null,null,null,null,null,null,null,null,null,null,null,null,0,{"$f":"IFERROR(IF(J1441=99,1,IF(MATCH(J1441&\"/\"&L1441,読み替え表_食品ロス!$P$29:$P$42,0),1,0)),0)","v":0},"*"]
[null,null,1432,null,null,null,null,null,null,null,null,null,null,null,null,null,null,null,null,null,null,null,null,null,null,0,{"$f":"IFERROR(IF(J1442=99,1,IF(MATCH(J1442&\"/\"&L1442,読み替え表_食品ロス!$P$29:$P$42,0),1,0)),0)","v":0},"*"]
[null,null,1433,null,null,null,null,null,null,null,null,null,null,null,null,null,null,null,null,null,null,null,null,null,null,0,{"$f":"IFERROR(IF(J1443=99,1,IF(MATCH(J1443&\"/\"&L1443,読み替え表_食品ロス!$P$29:$P$42,0),1,0)),0)","v":0},"*"]
[null,null,1434,null,null,null,null,null,null,null,null,null,null,null,null,null,null,null,null,null,null,null,null,null,null,0,{"$f":"IFERROR(IF(J1444=99,1,IF(MATCH(J1444&\"/\"&L1444,読み替え表_食品ロス!$P$29:$P$42,0),1,0)),0)","v":0},"*"]
[null,null,1435,null,null,null,null,null,null,null,null,null,null,null,null,null,null,null,null,null,null,null,null,null,null,0,{"$f":"IFERROR(IF(J1445=99,1,IF(MATCH(J1445&\"/\"&L1445,読み替え表_食品ロス!$P$29:$P$42,0),1,0)),0)","v":0},"*"]
[null,null,1436,null,null,null,null,null,null,null,null,null,null,null,null,null,null,null,null,null,null,null,null,null,null,0,{"$f":"IFERROR(IF(J1446=99,1,IF(MATCH(J1446&\"/\"&L1446,読み替え表_食品ロス!$P$29:$P$42,0),1,0)),0)","v":0},"*"]
[null,null,1437,null,null,null,null,null,null,null,null,null,null,null,null,null,null,null,null,null,null,null,null,null,null,0,{"$f":"IFERROR(IF(J1447=99,1,IF(MATCH(J1447&\"/\"&L1447,読み替え表_食品ロス!$P$29:$P$42,0),1,0)),0)","v":0},"*"]
[null,null,1438,null,null,null,null,null,null,null,null,null,null,null,null,null,null,null,null,null,null,null,null,null,null,0,{"$f":"IFERROR(IF(J1448=99,1,IF(MATCH(J1448&\"/\"&L1448,読み替え表_食品ロス!$P$29:$P$42,0),1,0)),0)","v":0},"*"]
[null,null,1439,null,null,null,null,null,null,null,null,null,null,null,null,null,null,null,null,null,null,null,null,null,null,0,{"$f":"IFERROR(IF(J1449=99,1,IF(MATCH(J1449&\"/\"&L1449,読み替え表_食品ロス!$P$29:$P$42,0),1,0)),0)","v":0},"*"]
[null,null,1440,null,null,null,null,null,null,null,null,null,null,null,null,null,null,null,null,null,null,null,null,null,null,0,{"$f":"IFERROR(IF(J1450=99,1,IF(MATCH(J1450&\"/\"&L1450,読み替え表_食品ロス!$P$29:$P$42,0),1,0)),0)","v":0},"*"]
[null,null,1441,null,null,null,null,null,null,null,null,null,null,null,null,null,null,null,null,null,null,null,null,null,null,0,{"$f":"IFERROR(IF(J1451=99,1,IF(MATCH(J1451&\"/\"&L1451,読み替え表_食品ロス!$P$29:$P$42,0),1,0)),0)","v":0},"*"]
[null,null,1442,null,null,null,null,null,null,null,null,null,null,null,null,null,null,null,null,null,null,null,null,null,null,0,{"$f":"IFERROR(IF(J1452=99,1,IF(MATCH(J1452&\"/\"&L1452,読み替え表_食品ロス!$P$29:$P$42,0),1,0)),0)","v":0},"*"]
[null,null,1443,null,null,null,null,null,null,null,null,null,null,null,null,null,null,null,null,null,null,null,null,null,null,0,{"$f":"IFERROR(IF(J1453=99,1,IF(MATCH(J1453&\"/\"&L1453,読み替え表_食品ロス!$P$29:$P$42,0),1,0)),0)","v":0},"*"]
[null,null,1444,null,null,null,null,null,null,null,null,null,null,null,null,null,null,null,null,null,null,null,null,null,null,0,{"$f":"IFERROR(IF(J1454=99,1,IF(MATCH(J1454&\"/\"&L1454,読み替え表_食品ロス!$P$29:$P$42,0),1,0)),0)","v":0},"*"]
[null,null,1445,null,null,null,null,null,null,null,null,null,null,null,null,null,null,null,null,null,null,null,null,null,null,0,{"$f":"IFERROR(IF(J1455=99,1,IF(MATCH(J1455&\"/\"&L1455,読み替え表_食品ロス!$P$29:$P$42,0),1,0)),0)","v":0},"*"]
[null,null,1446,null,null,null,null,null,null,null,null,null,null,null,null,null,null,null,null,null,null,null,null,null,null,0,{"$f":"IFERROR(IF(J1456=99,1,IF(MATCH(J1456&\"/\"&L1456,読み替え表_食品ロス!$P$29:$P$42,0),1,0)),0)","v":0},"*"]
[null,null,1447,null,null,null,null,null,null,null,null,null,null,null,null,null,null,null,null,null,null,null,null,null,null,0,{"$f":"IFERROR(IF(J1457=99,1,IF(MATCH(J1457&\"/\"&L1457,読み替え表_食品ロス!$P$29:$P$42,0),1,0)),0)","v":0},"*"]
[null,null,1448,null,null,null,null,null,null,null,null,null,null,null,null,null,null,null,null,null,null,null,null,null,null,0,{"$f":"IFERROR(IF(J1458=99,1,IF(MATCH(J1458&\"/\"&L1458,読み替え表_食品ロス!$P$29:$P$42,0),1,0)),0)","v":0},"*"]
[null,null,1449,null,null,null,null,null,null,null,null,null,null,null,null,null,null,null,null,null,null,null,null,null,null,0,{"$f":"IFERROR(IF(J1459=99,1,IF(MATCH(J1459&\"/\"&L1459,読み替え表_食品ロス!$P$29:$P$42,0),1,0)),0)","v":0},"*"]
[null,null,1450,null,null,null,null,null,null,null,null,null,null,null,null,null,null,null,null,null,null,null,null,null,null,0,{"$f":"IFERROR(IF(J1460=99,1,IF(MATCH(J1460&\"/\"&L1460,読み替え表_食品ロス!$P$29:$P$42,0),1,0)),0)","v":0},"*"]
[null,null,1451,null,null,null,null,null,null,null,null,null,null,null,null,null,null,null,null,null,null,null,null,null,null,0,{"$f":"IFERROR(IF(J1461=99,1,IF(MATCH(J1461&\"/\"&L1461,読み替え表_食品ロス!$P$29:$P$42,0),1,0)),0)","v":0},"*"]
[null,null,1452,null,null,null,null,null,null,null,null,null,null,null,null,null,null,null,null,null,null,null,null,null,null,0,{"$f":"IFERROR(IF(J1462=99,1,IF(MATCH(J1462&\"/\"&L1462,読み替え表_食品ロス!$P$29:$P$42,0),1,0)),0)","v":0},"*"]
[null,null,1453,null,null,null,null,null,null,null,null,null,null,null,null,null,null,null,null,null,null,null,null,null,null,0,{"$f":"IFERROR(IF(J1463=99,1,IF(MATCH(J1463&\"/\"&L1463,読み替え表_食品ロス!$P$29:$P$42,0),1,0)),0)","v":0},"*"]
[null,null,1454,null,null,null,null,null,null,null,null,null,null,null,null,null,null,null,null,null,null,null,null,null,null,0,{"$f":"IFERROR(IF(J1464=99,1,IF(MATCH(J1464&\"/\"&L1464,読み替え表_食品ロス!$P$29:$P$42,0),1,0)),0)","v":0},"*"]
[null,null,1455,null,null,null,null,null,null,null,null,null,null,null,null,null,null,null,null,null,null,null,null,null,null,0,{"$f":"IFERROR(IF(J1465=99,1,IF(MATCH(J1465&\"/\"&L1465,読み替え表_食品ロス!$P$29:$P$42,0),1,0)),0)","v":0},"*"]
[null,null,1456,null,null,null,null,null,null,null,null,null,null,null,null,null,null,null,null,null,null,null,null,null,null,0,{"$f":"IFERROR(IF(J1466=99,1,IF(MATCH(J1466&\"/\"&L1466,読み替え表_食品ロス!$P$29:$P$42,0),1,0)),0)","v":0},"*"]
[null,null,1457,null,null,null,null,null,null,null,null,null,null,null,null,null,null,null,null,null,null,null,null,null,null,0,{"$f":"IFERROR(IF(J1467=99,1,IF(MATCH(J1467&\"/\"&L1467,読み替え表_食品ロス!$P$29:$P$42,0),1,0)),0)","v":0},"*"]
[null,null,1458,null,null,null,null,null,null,null,null,null,null,null,null,null,null,null,null,null,null,null,null,null,null,0,{"$f":"IFERROR(IF(J1468=99,1,IF(MATCH(J1468&\"/\"&L1468,読み替え表_食品ロス!$P$29:$P$42,0),1,0)),0)","v":0},"*"]
[null,null,1459,null,null,null,null,null,null,null,null,null,null,null,null,null,null,null,null,null,null,null,null,null,null,0,{"$f":"IFERROR(IF(J1469=99,1,IF(MATCH(J1469&\"/\"&L1469,読み替え表_食品ロス!$P$29:$P$42,0),1,0)),0)","v":0},"*"]
[null,null,1460,null,null,null,null,null,null,null,null,null,null,null,null,null,null,null,null,null,null,null,null,null,null,0,{"$f":"IFERROR(IF(J1470=99,1,IF(MATCH(J1470&\"/\"&L1470,読み替え表_食品ロス!$P$29:$P$42,0),1,0)),0)","v":0},"*"]
[null,null,1461,null,null,null,null,null,null,null,null,null,null,null,null,null,null,null,null,null,null,null,null,null,null,0,{"$f":"IFERROR(IF(J1471=99,1,IF(MATCH(J1471&\"/\"&L1471,読み替え表_食品ロス!$P$29:$P$42,0),1,0)),0)","v":0},"*"]
[null,null,1462,null,null,null,null,null,null,null,null,null,null,null,null,null,null,null,null,null,null,null,null,null,null,0,{"$f":"IFERROR(IF(J1472=99,1,IF(MATCH(J1472&\"/\"&L1472,読み替え表_食品ロス!$P$29:$P$42,0),1,0)),0)","v":0},"*"]
[null,null,1463,null,null,null,null,null,null,null,null,null,null,null,null,null,null,null,null,null,null,null,null,null,null,0,{"$f":"IFERROR(IF(J1473=99,1,IF(MATCH(J1473&\"/\"&L1473,読み替え表_食品ロス!$P$29:$P$42,0),1,0)),0)","v":0},"*"]
[null,null,1464,null,null,null,null,null,null,null,null,null,null,null,null,null,null,null,null,null,null,null,null,null,null,0,{"$f":"IFERROR(IF(J1474=99,1,IF(MATCH(J1474&\"/\"&L1474,読み替え表_食品ロス!$P$29:$P$42,0),1,0)),0)","v":0},"*"]
[null,null,1465,null,null,null,null,null,null,null,null,null,null,null,null,null,null,null,null,null,null,null,null,null,null,0,{"$f":"IFERROR(IF(J1475=99,1,IF(MATCH(J1475&\"/\"&L1475,読み替え表_食品ロス!$P$29:$P$42,0),1,0)),0)","v":0},"*"]
[null,null,1466,null,null,null,null,null,null,null,null,null,null,null,null,null,null,null,null,null,null,null,null,null,null,0,{"$f":"IFERROR(IF(J1476=99,1,IF(MATCH(J1476&\"/\"&L1476,読み替え表_食品ロス!$P$29:$P$42,0),1,0)),0)","v":0},"*"]
[null,null,1467,null,null,null,null,null,null,null,null,null,null,null,null,null,null,null,null,null,null,null,null,null,null,0,{"$f":"IFERROR(IF(J1477=99,1,IF(MATCH(J1477&\"/\"&L1477,読み替え表_食品ロス!$P$29:$P$42,0),1,0)),0)","v":0},"*"]
[null,null,1468,null,null,null,null,null,null,null,null,null,null,null,null,null,null,null,null,null,null,null,null,null,null,0,{"$f":"IFERROR(IF(J1478=99,1,IF(MATCH(J1478&\"/\"&L1478,読み替え表_食品ロス!$P$29:$P$42,0),1,0)),0)","v":0},"*"]
[null,null,1469,null,null,null,null,null,null,null,null,null,null,null,null,null,null,null,null,null,null,null,null,null,null,0,{"$f":"IFERROR(IF(J1479=99,1,IF(MATCH(J1479&\"/\"&L1479,読み替え表_食品ロス!$P$29:$P$42,0),1,0)),0)","v":0},"*"]
[null,null,1470,null,null,null,null,null,null,null,null,null,null,null,null,null,null,null,null,null,null,null,null,null,null,0,{"$f":"IFERROR(IF(J1480=99,1,IF(MATCH(J1480&\"/\"&L1480,読み替え表_食品ロス!$P$29:$P$42,0),1,0)),0)","v":0},"*"]
[null,null,1471,null,null,null,null,null,null,null,null,null,null,null,null,null,null,null,null,null,null,null,null,null,null,0,{"$f":"IFERROR(IF(J1481=99,1,IF(MATCH(J1481&\"/\"&L1481,読み替え表_食品ロス!$P$29:$P$42,0),1,0)),0)","v":0},"*"]
[null,null,1472,null,null,null,null,null,null,null,null,null,null,null,null,null,null,null,null,null,null,null,null,null,null,0,{"$f":"IFERROR(IF(J1482=99,1,IF(MATCH(J1482&\"/\"&L1482,読み替え表_食品ロス!$P$29:$P$42,0),1,0)),0)","v":0},"*"]
[null,null,1473,null,null,null,null,null,null,null,null,null,null,null,null,null,null,null,null,null,null,null,null,null,null,0,{"$f":"IFERROR(IF(J1483=99,1,IF(MATCH(J1483&\"/\"&L1483,読み替え表_食品ロス!$P$29:$P$42,0),1,0)),0)","v":0},"*"]
[null,null,{"$f":"ROW()-10","v":1474},null,null,null,null,null,null,null,null,null,null,null,null,null,null,null,null,null,null,null,null,null,null,{"$f":"IF(OR(L1484=1,L1484=2,L1484=3),1,0)","v":0},{"$f":"IFERROR(IF(J1484=99,1,IF(MATCH(J1484&\"/\"&L1484,読み替え表_食品ロス!$P$29:$P$42,0),1,0)),0)","v":0},"*"]
[null,null,1475,null,null,null,null,null,null,null,null,null,null,null,null,null,null,null,null,null,null,null,null,null,null,0,{"$f":"IFERROR(IF(J1485=99,1,IF(MATCH(J1485&\"/\"&L1485,読み替え表_食品ロス!$P$29:$P$42,0),1,0)),0)","v":0},"*"]
[null,null,1476,null,null,null,null,null,null,null,null,null,null,null,null,null,null,null,null,null,null,null,null,null,null,0,{"$f":"IFERROR(IF(J1486=99,1,IF(MATCH(J1486&\"/\"&L1486,読み替え表_食品ロス!$P$29:$P$42,0),1,0)),0)","v":0},"*"]
[null,null,1477,null,null,null,null,null,null,null,null,null,null,null,null,null,null,null,null,null,null,null,null,null,null,0,{"$f":"IFERROR(IF(J1487=99,1,IF(MATCH(J1487&\"/\"&L1487,読み替え表_食品ロス!$P$29:$P$42,0),1,0)),0)","v":0},"*"]
[null,null,1478,null,null,null,null,null,null,null,null,null,null,null,null,null,null,null,null,null,null,null,null,null,null,0,{"$f":"IFERROR(IF(J1488=99,1,IF(MATCH(J1488&\"/\"&L1488,読み替え表_食品ロス!$P$29:$P$42,0),1,0)),0)","v":0},"*"]
[null,null,1479,null,null,null,null,null,null,null,null,null,null,null,null,null,null,null,null,null,null,null,null,null,null,0,{"$f":"IFERROR(IF(J1489=99,1,IF(MATCH(J1489&\"/\"&L1489,読み替え表_食品ロス!$P$29:$P$42,0),1,0)),0)","v":0},"*"]
[null,null,1480,null,null,null,null,null,null,null,null,null,null,null,null,null,null,null,null,null,null,null,null,null,null,0,{"$f":"IFERROR(IF(J1490=99,1,IF(MATCH(J1490&\"/\"&L1490,読み替え表_食品ロス!$P$29:$P$42,0),1,0)),0)","v":0},"*"]
[null,null,1481,null,null,null,null,null,null,null,null,null,null,null,null,null,null,null,null,null,null,null,null,null,null,0,{"$f":"IFERROR(IF(J1491=99,1,IF(MATCH(J1491&\"/\"&L1491,読み替え表_食品ロス!$P$29:$P$42,0),1,0)),0)","v":0},"*"]
[null,null,1482,null,null,null,null,null,null,null,null,null,null,null,null,null,null,null,null,null,null,null,null,null,null,0,{"$f":"IFERROR(IF(J1492=99,1,IF(MATCH(J1492&\"/\"&L1492,読み替え表_食品ロス!$P$29:$P$42,0),1,0)),0)","v":0},"*"]
[null,null,1483,null,null,null,null,null,null,null,null,null,null,null,null,null,null,null,null,null,null,null,null,null,null,0,{"$f":"IFERROR(IF(J1493=99,1,IF(MATCH(J1493&\"/\"&L1493,読み替え表_食品ロス!$P$29:$P$42,0),1,0)),0)","v":0},"*"]
[null,null,1484,null,null,null,null,null,null,null,null,null,null,null,null,null,null,null,null,null,null,null,null,null,null,0,{"$f":"IFERROR(IF(J1494=99,1,IF(MATCH(J1494&\"/\"&L1494,読み替え表_食品ロス!$P$29:$P$42,0),1,0)),0)","v":0},"*"]
[null,null,1485,null,null,null,null,null,null,null,null,null,null,null,null,null,null,null,null,null,null,null,null,null,null,0,{"$f":"IFERROR(IF(J1495=99,1,IF(MATCH(J1495&\"/\"&L1495,読み替え表_食品ロス!$P$29:$P$42,0),1,0)),0)","v":0},"*"]
[null,null,1486,null,null,null,null,null,null,null,null,null,null,null,null,null,null,null,null,null,null,null,null,null,null,0,{"$f":"IFERROR(IF(J1496=99,1,IF(MATCH(J1496&\"/\"&L1496,読み替え表_食品ロス!$P$29:$P$42,0),1,0)),0)","v":0},"*"]
[null,null,1487,null,null,null,null,null,null,null,null,null,null,null,null,null,null,null,null,null,null,null,null,null,null,0,{"$f":"IFERROR(IF(J1497=99,1,IF(MATCH(J1497&\"/\"&L1497,読み替え表_食品ロス!$P$29:$P$42,0),1,0)),0)","v":0},"*"]
[null,null,1488,null,null,null,null,null,null,null,null,null,null,null,null,null,null,null,null,null,null,null,null,null,null,0,{"$f":"IFERROR(IF(J1498=99,1,IF(MATCH(J1498&\"/\"&L1498,読み替え表_食品ロス!$P$29:$P$42,0),1,0)),0)","v":0},"*"]
[null,null,1489,null,null,null,null,null,null,null,null,null,null,null,null,null,null,null,null,null,null,null,null,null,null,0,{"$f":"IFERROR(IF(J1499=99,1,IF(MATCH(J1499&\"/\"&L1499,読み替え表_食品ロス!$P$29:$P$42,0),1,0)),0)","v":0},"*"]
[null,null,1490,null,null,null,null,null,null,null,null,null,null,null,null,null,null,null,null,null,null,null,null,null,null,0,{"$f":"IFERROR(IF(J1500=99,1,IF(MATCH(J1500&\"/\"&L1500,読み替え表_食品ロス!$P$29:$P$42,0),1,0)),0)","v":0},"*"]
[null,null,1491,null,null,null,null,null,null,null,null,null,null,null,null,null,null,null,null,null,null,null,null,null,null,0,{"$f":"IFERROR(IF(J1501=99,1,IF(MATCH(J1501&\"/\"&L1501,読み替え表_食品ロス!$P$29:$P$42,0),1,0)),0)","v":0},"*"]
[null,null,1492,null,null,null,null,null,null,null,null,null,null,null,null,null,null,null,null,null,null,null,null,null,null,0,{"$f":"IFERROR(IF(J1502=99,1,IF(MATCH(J1502&\"/\"&L1502,読み替え表_食品ロス!$P$29:$P$42,0),1,0)),0)","v":0},"*"]
[null,null,1493,null,null,null,null,null,null,null,null,null,null,null,null,null,null,null,null,null,null,null,null,null,null,0,{"$f":"IFERROR(IF(J1503=99,1,IF(MATCH(J1503&\"/\"&L1503,読み替え表_食品ロス!$P$29:$P$42,0),1,0)),0)","v":0},"*"]
[null,null,1494,null,null,null,null,null,null,null,null,null,null,null,null,null,null,null,null,null,null,null,null,null,null,0,{"$f":"IFERROR(IF(J1504=99,1,IF(MATCH(J1504&\"/\"&L1504,読み替え表_食品ロス!$P$29:$P$42,0),1,0)),0)","v":0},"*"]
[null,null,1495,null,null,null,null,null,null,null,null,null,null,null,null,null,null,null,null,null,null,null,null,null,null,0,{"$f":"IFERROR(IF(J1505=99,1,IF(MATCH(J1505&\"/\"&L1505,読み替え表_食品ロス!$P$29:$P$42,0),1,0)),0)","v":0},"*"]
[null,null,1496,null,null,null,null,null,null,null,null,null,null,null,null,null,null,null,null,null,null,null,null,null,null,0,{"$f":"IFERROR(IF(J1506=99,1,IF(MATCH(J1506&\"/\"&L1506,読み替え表_食品ロス!$P$29:$P$42,0),1,0)),0)","v":0},"*"]
[null,null,1497,null,null,null,null,null,null,null,null,null,null,null,null,null,null,null,null,null,null,null,null,null,null,0,{"$f":"IFERROR(IF(J1507=99,1,IF(MATCH(J1507&\"/\"&L1507,読み替え表_食品ロス!$P$29:$P$42,0),1,0)),0)","v":0},"*"]
[null,null,1498,null,null,null,null,null,null,null,null,null,null,null,null,null,null,null,null,null,null,null,null,null,null,0,{"$f":"IFERROR(IF(J1508=99,1,IF(MATCH(J1508&\"/\"&L1508,読み替え表_食品ロス!$P$29:$P$42,0),1,0)),0)","v":0},"*"]
[null,null,1499,null,null,null,null,null,null,null,null,null,null,null,null,null,null,null,null,null,null,null,null,null,null,0,{"$f":"IFERROR(IF(J1509=99,1,IF(MATCH(J1509&\"/\"&L1509,読み替え表_食品ロス!$P$29:$P$42,0),1,0)),0)","v":0},"*"]
[null,null,1500,null,null,null,null,null,null,null,null,null,null,null,null,null,null,null,null,null,null,null,null,null,null,0,{"$f":"IFERROR(IF(J1510=99,1,IF(MATCH(J1510&\"/\"&L1510,読み替え表_食品ロス!$P$29:$P$42,0),1,0)),0)","v":0},"*"]
[null,null,1501,null,null,null,null,null,null,null,null,null,null,null,null,null,null,null,null,null,null,null,null,null,null,0,{"$f":"IFERROR(IF(J1511=99,1,IF(MATCH(J1511&\"/\"&L1511,読み替え表_食品ロス!$P$29:$P$42,0),1,0)),0)","v":0},"*"]
[null,null,1502,null,null,null,null,null,null,null,null,null,null,null,null,null,null,null,null,null,null,null,null,null,null,0,{"$f":"IFERROR(IF(J1512=99,1,IF(MATCH(J1512&\"/\"&L1512,読み替え表_食品ロス!$P$29:$P$42,0),1,0)),0)","v":0},"*"]
[null,null,1503,null,null,null,null,null,null,null,null,null,null,null,null,null,null,null,null,null,null,null,null,null,null,0,{"$f":"IFERROR(IF(J1513=99,1,IF(MATCH(J1513&\"/\"&L1513,読み替え表_食品ロス!$P$29:$P$42,0),1,0)),0)","v":0},"*"]
[null,null,1504,null,null,null,null,null,null,null,null,null,null,null,null,null,null,null,null,null,null,null,null,null,null,0,{"$f":"IFERROR(IF(J1514=99,1,IF(MATCH(J1514&\"/\"&L1514,読み替え表_食品ロス!$P$29:$P$42,0),1,0)),0)","v":0},"*"]
[null,null,1505,null,null,null,null,null,null,null,null,null,null,null,null,null,null,null,null,null,null,null,null,null,null,0,{"$f":"IFERROR(IF(J1515=99,1,IF(MATCH(J1515&\"/\"&L1515,読み替え表_食品ロス!$P$29:$P$42,0),1,0)),0)","v":0},"*"]
[null,null,1506,null,null,null,null,null,null,null,null,null,null,null,null,null,null,null,null,null,null,null,null,null,null,0,{"$f":"IFERROR(IF(J1516=99,1,IF(MATCH(J1516&\"/\"&L1516,読み替え表_食品ロス!$P$29:$P$42,0),1,0)),0)","v":0},"*"]
[null,null,1507,null,null,null,null,null,null,null,null,null,null,null,null,null,null,null,null,null,null,null,null,null,null,0,{"$f":"IFERROR(IF(J1517=99,1,IF(MATCH(J1517&\"/\"&L1517,読み替え表_食品ロス!$P$29:$P$42,0),1,0)),0)","v":0},"*"]
[null,null,1508,null,null,null,null,null,null,null,null,null,null,null,null,null,null,null,null,null,null,null,null,null,null,0,{"$f":"IFERROR(IF(J1518=99,1,IF(MATCH(J1518&\"/\"&L1518,読み替え表_食品ロス!$P$29:$P$42,0),1,0)),0)","v":0},"*"]
[null,null,1509,null,null,null,null,null,null,null,null,null,null,null,null,null,null,null,null,null,null,null,null,null,null,0,{"$f":"IFERROR(IF(J1519=99,1,IF(MATCH(J1519&\"/\"&L1519,読み替え表_食品ロス!$P$29:$P$42,0),1,0)),0)","v":0},"*"]
[null,null,1510,null,null,null,null,null,null,null,null,null,null,null,null,null,null,null,null,null,null,null,null,null,null,0,{"$f":"IFERROR(IF(J1520=99,1,IF(MATCH(J1520&\"/\"&L1520,読み替え表_食品ロス!$P$29:$P$42,0),1,0)),0)","v":0},"*"]
[null,null,1511,null,null,null,null,null,null,null,null,null,null,null,null,null,null,null,null,null,null,null,null,null,null,0,{"$f":"IFERROR(IF(J1521=99,1,IF(MATCH(J1521&\"/\"&L1521,読み替え表_食品ロス!$P$29:$P$42,0),1,0)),0)","v":0},"*"]
[null,null,1512,null,null,null,null,null,null,null,null,null,null,null,null,null,null,null,null,null,null,null,null,null,null,0,{"$f":"IFERROR(IF(J1522=99,1,IF(MATCH(J1522&\"/\"&L1522,読み替え表_食品ロス!$P$29:$P$42,0),1,0)),0)","v":0},"*"]
[null,null,1513,null,null,null,null,null,null,null,null,null,null,null,null,null,null,null,null,null,null,null,null,null,null,0,{"$f":"IFERROR(IF(J1523=99,1,IF(MATCH(J1523&\"/\"&L1523,読み替え表_食品ロス!$P$29:$P$42,0),1,0)),0)","v":0},"*"]
[null,null,1514,null,null,null,null,null,null,null,null,null,null,null,null,null,null,null,null,null,null,null,null,null,null,0,{"$f":"IFERROR(IF(J1524=99,1,IF(MATCH(J1524&\"/\"&L1524,読み替え表_食品ロス!$P$29:$P$42,0),1,0)),0)","v":0},"*"]
[null,null,1515,null,null,null,null,null,null,null,null,null,null,null,null,null,null,null,null,null,null,null,null,null,null,0,{"$f":"IFERROR(IF(J1525=99,1,IF(MATCH(J1525&\"/\"&L1525,読み替え表_食品ロス!$P$29:$P$42,0),1,0)),0)","v":0},"*"]
[null,null,1516,null,null,null,null,null,null,null,null,null,null,null,null,null,null,null,null,null,null,null,null,null,null,0,{"$f":"IFERROR(IF(J1526=99,1,IF(MATCH(J1526&\"/\"&L1526,読み替え表_食品ロス!$P$29:$P$42,0),1,0)),0)","v":0},"*"]
[null,null,1517,null,null,null,null,null,null,null,null,null,null,null,null,null,null,null,null,null,null,null,null,null,null,0,{"$f":"IFERROR(IF(J1527=99,1,IF(MATCH(J1527&\"/\"&L1527,読み替え表_食品ロス!$P$29:$P$42,0),1,0)),0)","v":0},"*"]
[null,null,1518,null,null,null,null,null,null,null,null,null,null,null,null,null,null,null,null,null,null,null,null,null,null,0,{"$f":"IFERROR(IF(J1528=99,1,IF(MATCH(J1528&\"/\"&L1528,読み替え表_食品ロス!$P$29:$P$42,0),1,0)),0)","v":0},"*"]
[null,null,1519,null,null,null,null,null,null,null,null,null,null,null,null,null,null,null,null,null,null,null,null,null,null,0,{"$f":"IFERROR(IF(J1529=99,1,IF(MATCH(J1529&\"/\"&L1529,読み替え表_食品ロス!$P$29:$P$42,0),1,0)),0)","v":0},"*"]
[null,null,1520,null,null,null,null,null,null,null,null,null,null,null,null,null,null,null,null,null,null,null,null,null,null,0,{"$f":"IFERROR(IF(J1530=99,1,IF(MATCH(J1530&\"/\"&L1530,読み替え表_食品ロス!$P$29:$P$42,0),1,0)),0)","v":0},"*"]
[null,null,1521,null,null,null,null,null,null,null,null,null,null,null,null,null,null,null,null,null,null,null,null,null,null,0,{"$f":"IFERROR(IF(J1531=99,1,IF(MATCH(J1531&\"/\"&L1531,読み替え表_食品ロス!$P$29:$P$42,0),1,0)),0)","v":0},"*"]
[null,null,1522,null,null,null,null,null,null,null,null,null,null,null,null,null,null,null,null,null,null,null,null,null,null,0,{"$f":"IFERROR(IF(J1532=99,1,IF(MATCH(J1532&\"/\"&L1532,読み替え表_食品ロス!$P$29:$P$42,0),1,0)),0)","v":0},"*"]
[null,null,1523,null,null,null,null,null,null,null,null,null,null,null,null,null,null,null,null,null,null,null,null,null,null,0,{"$f":"IFERROR(IF(J1533=99,1,IF(MATCH(J1533&\"/\"&L1533,読み替え表_食品ロス!$P$29:$P$42,0),1,0)),0)","v":0},"*"]
[null,null,1524,null,null,null,null,null,null,null,null,null,null,null,null,null,null,null,null,null,null,null,null,null,null,0,{"$f":"IFERROR(IF(J1534=99,1,IF(MATCH(J1534&\"/\"&L1534,読み替え表_食品ロス!$P$29:$P$42,0),1,0)),0)","v":0},"*"]
[null,null,1525,null,null,null,null,null,null,null,null,null,null,null,null,null,null,null,null,null,null,null,null,null,null,0,{"$f":"IFERROR(IF(J1535=99,1,IF(MATCH(J1535&\"/\"&L1535,読み替え表_食品ロス!$P$29:$P$42,0),1,0)),0)","v":0},"*"]
[null,null,1526,null,null,null,null,null,null,null,null,null,null,null,null,null,null,null,null,null,null,null,null,null,null,0,{"$f":"IFERROR(IF(J1536=99,1,IF(MATCH(J1536&\"/\"&L1536,読み替え表_食品ロス!$P$29:$P$42,0),1,0)),0)","v":0},"*"]
[null,null,1527,null,null,null,null,null,null,null,null,null,null,null,null,null,null,null,null,null,null,null,null,null,null,0,{"$f":"IFERROR(IF(J1537=99,1,IF(MATCH(J1537&\"/\"&L1537,読み替え表_食品ロス!$P$29:$P$42,0),1,0)),0)","v":0},"*"]
[null,null,1528,null,null,null,null,null,null,null,null,null,null,null,null,null,null,null,null,null,null,null,null,null,null,0,{"$f":"IFERROR(IF(J1538=99,1,IF(MATCH(J1538&\"/\"&L1538,読み替え表_食品ロス!$P$29:$P$42,0),1,0)),0)","v":0},"*"]
[null,null,1529,null,null,null,null,null,null,null,null,null,null,null,null,null,null,null,null,null,null,null,null,null,null,0,{"$f":"IFERROR(IF(J1539=99,1,IF(MATCH(J1539&\"/\"&L1539,読み替え表_食品ロス!$P$29:$P$42,0),1,0)),0)","v":0},"*"]
[null,null,1530,null,null,null,null,null,null,null,null,null,null,null,null,null,null,null,null,null,null,null,null,null,null,0,{"$f":"IFERROR(IF(J1540=99,1,IF(MATCH(J1540&\"/\"&L1540,読み替え表_食品ロス!$P$29:$P$42,0),1,0)),0)","v":0},"*"]
[null,null,1531,null,null,null,null,null,null,null,null,null,null,null,null,null,null,null,null,null,null,null,null,null,null,0,{"$f":"IFERROR(IF(J1541=99,1,IF(MATCH(J1541&\"/\"&L1541,読み替え表_食品ロス!$P$29:$P$42,0),1,0)),0)","v":0},"*"]
[null,null,1532,null,null,null,null,null,null,null,null,null,null,null,null,null,null,null,null,null,null,null,null,null,null,0,{"$f":"IFERROR(IF(J1542=99,1,IF(MATCH(J1542&\"/\"&L1542,読み替え表_食品ロス!$P$29:$P$42,0),1,0)),0)","v":0},"*"]
[null,null,1533,null,null,null,null,null,null,null,null,null,null,null,null,null,null,null,null,null,null,null,null,null,null,0,{"$f":"IFERROR(IF(J1543=99,1,IF(MATCH(J1543&\"/\"&L1543,読み替え表_食品ロス!$P$29:$P$42,0),1,0)),0)","v":0},"*"]
[null,null,1534,null,null,null,null,null,null,null,null,null,null,null,null,null,null,null,null,null,null,null,null,null,null,0,{"$f":"IFERROR(IF(J1544=99,1,IF(MATCH(J1544&\"/\"&L1544,読み替え表_食品ロス!$P$29:$P$42,0),1,0)),0)","v":0},"*"]
[null,null,1535,null,null,null,null,null,null,null,null,null,null,null,null,null,null,null,null,null,null,null,null,null,null,0,{"$f":"IFERROR(IF(J1545=99,1,IF(MATCH(J1545&\"/\"&L1545,読み替え表_食品ロス!$P$29:$P$42,0),1,0)),0)","v":0},"*"]
[null,null,1536,null,null,null,null,null,null,null,null,null,null,null,null,null,null,null,null,null,null,null,null,null,null,0,{"$f":"IFERROR(IF(J1546=99,1,IF(MATCH(J1546&\"/\"&L1546,読み替え表_食品ロス!$P$29:$P$42,0),1,0)),0)","v":0},"*"]
[null,null,1537,null,null,null,null,null,null,null,null,null,null,null,null,null,null,null,null,null,null,null,null,null,null,0,{"$f":"IFERROR(IF(J1547=99,1,IF(MATCH(J1547&\"/\"&L1547,読み替え表_食品ロス!$P$29:$P$42,0),1,0)),0)","v":0},"*"]
[null,null,{"$f":"ROW()-10","v":1538},null,null,null,null,null,null,null,null,null,null,null,null,null,null,null,null,null,null,null,null,null,null,{"$f":"IF(OR(L1548=1,L1548=2,L1548=3),1,0)","v":0},{"$f":"IFERROR(IF(J1548=99,1,IF(MATCH(J1548&\"/\"&L1548,読み替え表_食品ロス!$P$29:$P$42,0),1,0)),0)","v":0},"*"]
[null,null,1539,null,null,null,null,null,null,null,null,null,null,null,null,null,null,null,null,null,null,null,null,null,null,0,{"$f":"IFERROR(IF(J1549=99,1,IF(MATCH(J1549&\"/\"&L1549,読み替え表_食品ロス!$P$29:$P$42,0),1,0)),0)","v":0},"*"]
[null,null,1540,null,null,null,null,null,null,null,null,null,null,null,null,null,null,null,null,null,null,null,null,null,null,0,{"$f":"IFERROR(IF(J1550=99,1,IF(MATCH(J1550&\"/\"&L1550,読み替え表_食品ロス!$P$29:$P$42,0),1,0)),0)","v":0},"*"]
[null,null,1541,null,null,null,null,null,null,null,null,null,null,null,null,null,null,null,null,null,null,null,null,null,null,0,{"$f":"IFERROR(IF(J1551=99,1,IF(MATCH(J1551&\"/\"&L1551,読み替え表_食品ロス!$P$29:$P$42,0),1,0)),0)","v":0},"*"]
[null,null,1542,null,null,null,null,null,null,null,null,null,null,null,null,null,null,null,null,null,null,null,null,null,null,0,{"$f":"IFERROR(IF(J1552=99,1,IF(MATCH(J1552&\"/\"&L1552,読み替え表_食品ロス!$P$29:$P$42,0),1,0)),0)","v":0},"*"]
[null,null,1543,null,null,null,null,null,null,null,null,null,null,null,null,null,null,null,null,null,null,null,null,null,null,0,{"$f":"IFERROR(IF(J1553=99,1,IF(MATCH(J1553&\"/\"&L1553,読み替え表_食品ロス!$P$29:$P$42,0),1,0)),0)","v":0},"*"]
[null,null,1544,null,null,null,null,null,null,null,null,null,null,null,null,null,null,null,null,null,null,null,null,null,null,0,{"$f":"IFERROR(IF(J1554=99,1,IF(MATCH(J1554&\"/\"&L1554,読み替え表_食品ロス!$P$29:$P$42,0),1,0)),0)","v":0},"*"]
[null,null,1545,null,null,null,null,null,null,null,null,null,null,null,null,null,null,null,null,null,null,null,null,null,null,0,{"$f":"IFERROR(IF(J1555=99,1,IF(MATCH(J1555&\"/\"&L1555,読み替え表_食品ロス!$P$29:$P$42,0),1,0)),0)","v":0},"*"]
[null,null,1546,null,null,null,null,null,null,null,null,null,null,null,null,null,null,null,null,null,null,null,null,null,null,0,{"$f":"IFERROR(IF(J1556=99,1,IF(MATCH(J1556&\"/\"&L1556,読み替え表_食品ロス!$P$29:$P$42,0),1,0)),0)","v":0},"*"]
[null,null,1547,null,null,null,null,null,null,null,null,null,null,null,null,null,null,null,null,null,null,null,null,null,null,0,{"$f":"IFERROR(IF(J1557=99,1,IF(MATCH(J1557&\"/\"&L1557,読み替え表_食品ロス!$P$29:$P$42,0),1,0)),0)","v":0},"*"]
[null,null,1548,null,null,null,null,null,null,null,null,null,null,null,null,null,null,null,null,null,null,null,null,null,null,0,{"$f":"IFERROR(IF(J1558=99,1,IF(MATCH(J1558&\"/\"&L1558,読み替え表_食品ロス!$P$29:$P$42,0),1,0)),0)","v":0},"*"]
[null,null,1549,null,null,null,null,null,null,null,null,null,null,null,null,null,null,null,null,null,null,null,null,null,null,0,{"$f":"IFERROR(IF(J1559=99,1,IF(MATCH(J1559&\"/\"&L1559,読み替え表_食品ロス!$P$29:$P$42,0),1,0)),0)","v":0},"*"]
[null,null,1550,null,null,null,null,null,null,null,null,null,null,null,null,null,null,null,null,null,null,null,null,null,null,0,{"$f":"IFERROR(IF(J1560=99,1,IF(MATCH(J1560&\"/\"&L1560,読み替え表_食品ロス!$P$29:$P$42,0),1,0)),0)","v":0},"*"]
[null,null,1551,null,null,null,null,null,null,null,null,null,null,null,null,null,null,null,null,null,null,null,null,null,null,0,{"$f":"IFERROR(IF(J1561=99,1,IF(MATCH(J1561&\"/\"&L1561,読み替え表_食品ロス!$P$29:$P$42,0),1,0)),0)","v":0},"*"]
[null,null,1552,null,null,null,null,null,null,null,null,null,null,null,null,null,null,null,null,null,null,null,null,null,null,0,{"$f":"IFERROR(IF(J1562=99,1,IF(MATCH(J1562&\"/\"&L1562,読み替え表_食品ロス!$P$29:$P$42,0),1,0)),0)","v":0},"*"]
[null,null,1553,null,null,null,null,null,null,null,null,null,null,null,null,null,null,null,null,null,null,null,null,null,null,0,{"$f":"IFERROR(IF(J1563=99,1,IF(MATCH(J1563&\"/\"&L1563,読み替え表_食品ロス!$P$29:$P$42,0),1,0)),0)","v":0},"*"]
[null,null,1554,null,null,null,null,null,null,null,null,null,null,null,null,null,null,null,null,null,null,null,null,null,null,0,{"$f":"IFERROR(IF(J1564=99,1,IF(MATCH(J1564&\"/\"&L1564,読み替え表_食品ロス!$P$29:$P$42,0),1,0)),0)","v":0},"*"]
[null,null,1555,null,null,null,null,null,null,null,null,null,null,null,null,null,null,null,null,null,null,null,null,null,null,0,{"$f":"IFERROR(IF(J1565=99,1,IF(MATCH(J1565&\"/\"&L1565,読み替え表_食品ロス!$P$29:$P$42,0),1,0)),0)","v":0},"*"]
[null,null,1556,null,null,null,null,null,null,null,null,null,null,null,null,null,null,null,null,null,null,null,null,null,null,0,{"$f":"IFERROR(IF(J1566=99,1,IF(MATCH(J1566&\"/\"&L1566,読み替え表_食品ロス!$P$29:$P$42,0),1,0)),0)","v":0},"*"]
[null,null,1557,null,null,null,null,null,null,null,null,null,null,null,null,null,null,null,null,null,null,null,null,null,null,0,{"$f":"IFERROR(IF(J1567=99,1,IF(MATCH(J1567&\"/\"&L1567,読み替え表_食品ロス!$P$29:$P$42,0),1,0)),0)","v":0},"*"]
[null,null,1558,null,null,null,null,null,null,null,null,null,null,null,null,null,null,null,null,null,null,null,null,null,null,0,{"$f":"IFERROR(IF(J1568=99,1,IF(MATCH(J1568&\"/\"&L1568,読み替え表_食品ロス!$P$29:$P$42,0),1,0)),0)","v":0},"*"]
[null,null,1559,null,null,null,null,null,null,null,null,null,null,null,null,null,null,null,null,null,null,null,null,null,null,0,{"$f":"IFERROR(IF(J1569=99,1,IF(MATCH(J1569&\"/\"&L1569,読み替え表_食品ロス!$P$29:$P$42,0),1,0)),0)","v":0},"*"]
[null,null,1560,null,null,null,null,null,null,null,null,null,null,null,null,null,null,null,null,null,null,null,null,null,null,0,{"$f":"IFERROR(IF(J1570=99,1,IF(MATCH(J1570&\"/\"&L1570,読み替え表_食品ロス!$P$29:$P$42,0),1,0)),0)","v":0},"*"]
[null,null,1561,null,null,null,null,null,null,null,null,null,null,null,null,null,null,null,null,null,null,null,null,null,null,0,{"$f":"IFERROR(IF(J1571=99,1,IF(MATCH(J1571&\"/\"&L1571,読み替え表_食品ロス!$P$29:$P$42,0),1,0)),0)","v":0},"*"]
[null,null,1562,null,null,null,null,null,null,null,null,null,null,null,null,null,null,null,null,null,null,null,null,null,null,0,{"$f":"IFERROR(IF(J1572=99,1,IF(MATCH(J1572&\"/\"&L1572,読み替え表_食品ロス!$P$29:$P$42,0),1,0)),0)","v":0},"*"]
[null,null,1563,null,null,null,null,null,null,null,null,null,null,null,null,null,null,null,null,null,null,null,null,null,null,0,{"$f":"IFERROR(IF(J1573=99,1,IF(MATCH(J1573&\"/\"&L1573,読み替え表_食品ロス!$P$29:$P$42,0),1,0)),0)","v":0},"*"]
[null,null,1564,null,null,null,null,null,null,null,null,null,null,null,null,null,null,null,null,null,null,null,null,null,null,0,{"$f":"IFERROR(IF(J1574=99,1,IF(MATCH(J1574&\"/\"&L1574,読み替え表_食品ロス!$P$29:$P$42,0),1,0)),0)","v":0},"*"]
[null,null,1565,null,null,null,null,null,null,null,null,null,null,null,null,null,null,null,null,null,null,null,null,null,null,0,{"$f":"IFERROR(IF(J1575=99,1,IF(MATCH(J1575&\"/\"&L1575,読み替え表_食品ロス!$P$29:$P$42,0),1,0)),0)","v":0},"*"]
[null,null,1566,null,null,null,null,null,null,null,null,null,null,null,null,null,null,null,null,null,null,null,null,null,null,0,{"$f":"IFERROR(IF(J1576=99,1,IF(MATCH(J1576&\"/\"&L1576,読み替え表_食品ロス!$P$29:$P$42,0),1,0)),0)","v":0},"*"]
[null,null,1567,null,null,null,null,null,null,null,null,null,null,null,null,null,null,null,null,null,null,null,null,null,null,0,{"$f":"IFERROR(IF(J1577=99,1,IF(MATCH(J1577&\"/\"&L1577,読み替え表_食品ロス!$P$29:$P$42,0),1,0)),0)","v":0},"*"]
[null,null,1568,null,null,null,null,null,null,null,null,null,null,null,null,null,null,null,null,null,null,null,null,null,null,0,{"$f":"IFERROR(IF(J1578=99,1,IF(MATCH(J1578&\"/\"&L1578,読み替え表_食品ロス!$P$29:$P$42,0),1,0)),0)","v":0},"*"]
[null,null,1569,null,null,null,null,null,null,null,null,null,null,null,null,null,null,null,null,null,null,null,null,null,null,0,{"$f":"IFERROR(IF(J1579=99,1,IF(MATCH(J1579&\"/\"&L1579,読み替え表_食品ロス!$P$29:$P$42,0),1,0)),0)","v":0},"*"]
[null,null,1570,null,null,null,null,null,null,null,null,null,null,null,null,null,null,null,null,null,null,null,null,null,null,0,{"$f":"IFERROR(IF(J1580=99,1,IF(MATCH(J1580&\"/\"&L1580,読み替え表_食品ロス!$P$29:$P$42,0),1,0)),0)","v":0},"*"]
[null,null,1571,null,null,null,null,null,null,null,null,null,null,null,null,null,null,null,null,null,null,null,null,null,null,0,{"$f":"IFERROR(IF(J1581=99,1,IF(MATCH(J1581&\"/\"&L1581,読み替え表_食品ロス!$P$29:$P$42,0),1,0)),0)","v":0},"*"]
[null,null,1572,null,null,null,null,null,null,null,null,null,null,null,null,null,null,null,null,null,null,null,null,null,null,0,{"$f":"IFERROR(IF(J1582=99,1,IF(MATCH(J1582&\"/\"&L1582,読み替え表_食品ロス!$P$29:$P$42,0),1,0)),0)","v":0},"*"]
[null,null,1573,null,null,null,null,null,null,null,null,null,null,null,null,null,null,null,null,null,null,null,null,null,null,0,{"$f":"IFERROR(IF(J1583=99,1,IF(MATCH(J1583&\"/\"&L1583,読み替え表_食品ロス!$P$29:$P$42,0),1,0)),0)","v":0},"*"]
[null,null,1574,null,null,null,null,null,null,null,null,null,null,null,null,null,null,null,null,null,null,null,null,null,null,0,{"$f":"IFERROR(IF(J1584=99,1,IF(MATCH(J1584&\"/\"&L1584,読み替え表_食品ロス!$P$29:$P$42,0),1,0)),0)","v":0},"*"]
[null,null,1575,null,null,null,null,null,null,null,null,null,null,null,null,null,null,null,null,null,null,null,null,null,null,0,{"$f":"IFERROR(IF(J1585=99,1,IF(MATCH(J1585&\"/\"&L1585,読み替え表_食品ロス!$P$29:$P$42,0),1,0)),0)","v":0},"*"]
[null,null,1576,null,null,null,null,null,null,null,null,null,null,null,null,null,null,null,null,null,null,null,null,null,null,0,{"$f":"IFERROR(IF(J1586=99,1,IF(MATCH(J1586&\"/\"&L1586,読み替え表_食品ロス!$P$29:$P$42,0),1,0)),0)","v":0},"*"]
[null,null,1577,null,null,null,null,null,null,null,null,null,null,null,null,null,null,null,null,null,null,null,null,null,null,0,{"$f":"IFERROR(IF(J1587=99,1,IF(MATCH(J1587&\"/\"&L1587,読み替え表_食品ロス!$P$29:$P$42,0),1,0)),0)","v":0},"*"]
[null,null,1578,null,null,null,null,null,null,null,null,null,null,null,null,null,null,null,null,null,null,null,null,null,null,0,{"$f":"IFERROR(IF(J1588=99,1,IF(MATCH(J1588&\"/\"&L1588,読み替え表_食品ロス!$P$29:$P$42,0),1,0)),0)","v":0},"*"]
[null,null,1579,null,null,null,null,null,null,null,null,null,null,null,null,null,null,null,null,null,null,null,null,null,null,0,{"$f":"IFERROR(IF(J1589=99,1,IF(MATCH(J1589&\"/\"&L1589,読み替え表_食品ロス!$P$29:$P$42,0),1,0)),0)","v":0},"*"]
[null,null,1580,null,null,null,null,null,null,null,null,null,null,null,null,null,null,null,null,null,null,null,null,null,null,0,{"$f":"IFERROR(IF(J1590=99,1,IF(MATCH(J1590&\"/\"&L1590,読み替え表_食品ロス!$P$29:$P$42,0),1,0)),0)","v":0},"*"]
[null,null,1581,null,null,null,null,null,null,null,null,null,null,null,null,null,null,null,null,null,null,null,null,null,null,0,{"$f":"IFERROR(IF(J1591=99,1,IF(MATCH(J1591&\"/\"&L1591,読み替え表_食品ロス!$P$29:$P$42,0),1,0)),0)","v":0},"*"]
[null,null,1582,null,null,null,null,null,null,null,null,null,null,null,null,null,null,null,null,null,null,null,null,null,null,0,{"$f":"IFERROR(IF(J1592=99,1,IF(MATCH(J1592&\"/\"&L1592,読み替え表_食品ロス!$P$29:$P$42,0),1,0)),0)","v":0},"*"]
[null,null,1583,null,null,null,null,null,null,null,null,null,null,null,null,null,null,null,null,null,null,null,null,null,null,0,{"$f":"IFERROR(IF(J1593=99,1,IF(MATCH(J1593&\"/\"&L1593,読み替え表_食品ロス!$P$29:$P$42,0),1,0)),0)","v":0},"*"]
[null,null,1584,null,null,null,null,null,null,null,null,null,null,null,null,null,null,null,null,null,null,null,null,null,null,0,{"$f":"IFERROR(IF(J1594=99,1,IF(MATCH(J1594&\"/\"&L1594,読み替え表_食品ロス!$P$29:$P$42,0),1,0)),0)","v":0},"*"]
[null,null,1585,null,null,null,null,null,null,null,null,null,null,null,null,null,null,null,null,null,null,null,null,null,null,0,{"$f":"IFERROR(IF(J1595=99,1,IF(MATCH(J1595&\"/\"&L1595,読み替え表_食品ロス!$P$29:$P$42,0),1,0)),0)","v":0},"*"]
[null,null,1586,null,null,null,null,null,null,null,null,null,null,null,null,null,null,null,null,null,null,null,null,null,null,0,{"$f":"IFERROR(IF(J1596=99,1,IF(MATCH(J1596&\"/\"&L1596,読み替え表_食品ロス!$P$29:$P$42,0),1,0)),0)","v":0},"*"]
[null,null,1587,null,null,null,null,null,null,null,null,null,null,null,null,null,null,null,null,null,null,null,null,null,null,0,{"$f":"IFERROR(IF(J1597=99,1,IF(MATCH(J1597&\"/\"&L1597,読み替え表_食品ロス!$P$29:$P$42,0),1,0)),0)","v":0},"*"]
[null,null,1588,null,null,null,null,null,null,null,null,null,null,null,null,null,null,null,null,null,null,null,null,null,null,0,{"$f":"IFERROR(IF(J1598=99,1,IF(MATCH(J1598&\"/\"&L1598,読み替え表_食品ロス!$P$29:$P$42,0),1,0)),0)","v":0},"*"]
[null,null,1589,null,null,null,null,null,null,null,null,null,null,null,null,null,null,null,null,null,null,null,null,null,null,0,{"$f":"IFERROR(IF(J1599=99,1,IF(MATCH(J1599&\"/\"&L1599,読み替え表_食品ロス!$P$29:$P$42,0),1,0)),0)","v":0},"*"]
[null,null,1590,null,null,null,null,null,null,null,null,null,null,null,null,null,null,null,null,null,null,null,null,null,null,0,{"$f":"IFERROR(IF(J1600=99,1,IF(MATCH(J1600&\"/\"&L1600,読み替え表_食品ロス!$P$29:$P$42,0),1,0)),0)","v":0},"*"]
[null,null,1591,null,null,null,null,null,null,null,null,null,null,null,null,null,null,null,null,null,null,null,null,null,null,0,{"$f":"IFERROR(IF(J1601=99,1,IF(MATCH(J1601&\"/\"&L1601,読み替え表_食品ロス!$P$29:$P$42,0),1,0)),0)","v":0},"*"]
[null,null,1592,null,null,null,null,null,null,null,null,null,null,null,null,null,null,null,null,null,null,null,null,null,null,0,{"$f":"IFERROR(IF(J1602=99,1,IF(MATCH(J1602&\"/\"&L1602,読み替え表_食品ロス!$P$29:$P$42,0),1,0)),0)","v":0},"*"]
[null,null,1593,null,null,null,null,null,null,null,null,null,null,null,null,null,null,null,null,null,null,null,null,null,null,0,{"$f":"IFERROR(IF(J1603=99,1,IF(MATCH(J1603&\"/\"&L1603,読み替え表_食品ロス!$P$29:$P$42,0),1,0)),0)","v":0},"*"]
[null,null,1594,null,null,null,null,null,null,null,null,null,null,null,null,null,null,null,null,null,null,null,null,null,null,0,{"$f":"IFERROR(IF(J1604=99,1,IF(MATCH(J1604&\"/\"&L1604,読み替え表_食品ロス!$P$29:$P$42,0),1,0)),0)","v":0},"*"]
[null,null,1595,null,null,null,null,null,null,null,null,null,null,null,null,null,null,null,null,null,null,null,null,null,null,0,{"$f":"IFERROR(IF(J1605=99,1,IF(MATCH(J1605&\"/\"&L1605,読み替え表_食品ロス!$P$29:$P$42,0),1,0)),0)","v":0},"*"]
[null,null,1596,null,null,null,null,null,null,null,null,null,null,null,null,null,null,null,null,null,null,null,null,null,null,0,{"$f":"IFERROR(IF(J1606=99,1,IF(MATCH(J1606&\"/\"&L1606,読み替え表_食品ロス!$P$29:$P$42,0),1,0)),0)","v":0},"*"]
[null,null,1597,null,null,null,null,null,null,null,null,null,null,null,null,null,null,null,null,null,null,null,null,null,null,0,{"$f":"IFERROR(IF(J1607=99,1,IF(MATCH(J1607&\"/\"&L1607,読み替え表_食品ロス!$P$29:$P$42,0),1,0)),0)","v":0},"*"]
[null,null,1598,null,null,null,null,null,null,null,null,null,null,null,null,null,null,null,null,null,null,null,null,null,null,0,{"$f":"IFERROR(IF(J1608=99,1,IF(MATCH(J1608&\"/\"&L1608,読み替え表_食品ロス!$P$29:$P$42,0),1,0)),0)","v":0},"*"]
[null,null,1599,null,null,null,null,null,null,null,null,null,null,null,null,null,null,null,null,null,null,null,null,null,null,0,{"$f":"IFERROR(IF(J1609=99,1,IF(MATCH(J1609&\"/\"&L1609,読み替え表_食品ロス!$P$29:$P$42,0),1,0)),0)","v":0},"*"]
[null,null,1600,null,null,null,null,null,null,null,null,null,null,null,null,null,null,null,null,null,null,null,null,null,null,0,{"$f":"IFERROR(IF(J1610=99,1,IF(MATCH(J1610&\"/\"&L1610,読み替え表_食品ロス!$P$29:$P$42,0),1,0)),0)","v":0},"*"]
[null,null,1601,null,null,null,null,null,null,null,null,null,null,null,null,null,null,null,null,null,null,null,null,null,null,0,{"$f":"IFERROR(IF(J1611=99,1,IF(MATCH(J1611&\"/\"&L1611,読み替え表_食品ロス!$P$29:$P$42,0),1,0)),0)","v":0},"*"]
[null,null,{"$f":"ROW()-10","v":1602},null,null,null,null,null,null,null,null,null,null,null,null,null,null,null,null,null,null,null,null,null,null,{"$f":"IF(OR(L1612=1,L1612=2,L1612=3),1,0)","v":0},{"$f":"IFERROR(IF(J1612=99,1,IF(MATCH(J1612&\"/\"&L1612,読み替え表_食品ロス!$P$29:$P$42,0),1,0)),0)","v":0},"*"]
[null,null,1603,null,null,null,null,null,null,null,null,null,null,null,null,null,null,null,null,null,null,null,null,null,null,0,{"$f":"IFERROR(IF(J1613=99,1,IF(MATCH(J1613&\"/\"&L1613,読み替え表_食品ロス!$P$29:$P$42,0),1,0)),0)","v":0},"*"]
[null,null,1604,null,null,null,null,null,null,null,null,null,null,null,null,null,null,null,null,null,null,null,null,null,null,0,{"$f":"IFERROR(IF(J1614=99,1,IF(MATCH(J1614&\"/\"&L1614,読み替え表_食品ロス!$P$29:$P$42,0),1,0)),0)","v":0},"*"]
[null,null,1605,null,null,null,null,null,null,null,null,null,null,null,null,null,null,null,null,null,null,null,null,null,null,0,{"$f":"IFERROR(IF(J1615=99,1,IF(MATCH(J1615&\"/\"&L1615,読み替え表_食品ロス!$P$29:$P$42,0),1,0)),0)","v":0},"*"]
[null,null,1606,null,null,null,null,null,null,null,null,null,null,null,null,null,null,null,null,null,null,null,null,null,null,0,{"$f":"IFERROR(IF(J1616=99,1,IF(MATCH(J1616&\"/\"&L1616,読み替え表_食品ロス!$P$29:$P$42,0),1,0)),0)","v":0},"*"]
[null,null,1607,null,null,null,null,null,null,null,null,null,null,null,null,null,null,null,null,null,null,null,null,null,null,0,{"$f":"IFERROR(IF(J1617=99,1,IF(MATCH(J1617&\"/\"&L1617,読み替え表_食品ロス!$P$29:$P$42,0),1,0)),0)","v":0},"*"]
[null,null,1608,null,null,null,null,null,null,null,null,null,null,null,null,null,null,null,null,null,null,null,null,null,null,0,{"$f":"IFERROR(IF(J1618=99,1,IF(MATCH(J1618&\"/\"&L1618,読み替え表_食品ロス!$P$29:$P$42,0),1,0)),0)","v":0},"*"]
[null,null,1609,null,null,null,null,null,null,null,null,null,null,null,null,null,null,null,null,null,null,null,null,null,null,0,{"$f":"IFERROR(IF(J1619=99,1,IF(MATCH(J1619&\"/\"&L1619,読み替え表_食品ロス!$P$29:$P$42,0),1,0)),0)","v":0},"*"]
[null,null,1610,null,null,null,null,null,null,null,null,null,null,null,null,null,null,null,null,null,null,null,null,null,null,0,{"$f":"IFERROR(IF(J1620=99,1,IF(MATCH(J1620&\"/\"&L1620,読み替え表_食品ロス!$P$29:$P$42,0),1,0)),0)","v":0},"*"]
[null,null,1611,null,null,null,null,null,null,null,null,null,null,null,null,null,null,null,null,null,null,null,null,null,null,0,{"$f":"IFERROR(IF(J1621=99,1,IF(MATCH(J1621&\"/\"&L1621,読み替え表_食品ロス!$P$29:$P$42,0),1,0)),0)","v":0},"*"]
[null,null,1612,null,null,null,null,null,null,null,null,null,null,null,null,null,null,null,null,null,null,null,null,null,null,0,{"$f":"IFERROR(IF(J1622=99,1,IF(MATCH(J1622&\"/\"&L1622,読み替え表_食品ロス!$P$29:$P$42,0),1,0)),0)","v":0},"*"]
[null,null,1613,null,null,null,null,null,null,null,null,null,null,null,null,null,null,null,null,null,null,null,null,null,null,0,{"$f":"IFERROR(IF(J1623=99,1,IF(MATCH(J1623&\"/\"&L1623,読み替え表_食品ロス!$P$29:$P$42,0),1,0)),0)","v":0},"*"]
[null,null,1614,null,null,null,null,null,null,null,null,null,null,null,null,null,null,null,null,null,null,null,null,null,null,0,{"$f":"IFERROR(IF(J1624=99,1,IF(MATCH(J1624&\"/\"&L1624,読み替え表_食品ロス!$P$29:$P$42,0),1,0)),0)","v":0},"*"]
[null,null,1615,null,null,null,null,null,null,null,null,null,null,null,null,null,null,null,null,null,null,null,null,null,null,0,{"$f":"IFERROR(IF(J1625=99,1,IF(MATCH(J1625&\"/\"&L1625,読み替え表_食品ロス!$P$29:$P$42,0),1,0)),0)","v":0},"*"]
[null,null,1616,null,null,null,null,null,null,null,null,null,null,null,null,null,null,null,null,null,null,null,null,null,null,0,{"$f":"IFERROR(IF(J1626=99,1,IF(MATCH(J1626&\"/\"&L1626,読み替え表_食品ロス!$P$29:$P$42,0),1,0)),0)","v":0},"*"]
[null,null,1617,null,null,null,null,null,null,null,null,null,null,null,null,null,null,null,null,null,null,null,null,null,null,0,{"$f":"IFERROR(IF(J1627=99,1,IF(MATCH(J1627&\"/\"&L1627,読み替え表_食品ロス!$P$29:$P$42,0),1,0)),0)","v":0},"*"]
[null,null,1618,null,null,null,null,null,null,null,null,null,null,null,null,null,null,null,null,null,null,null,null,null,null,0,{"$f":"IFERROR(IF(J1628=99,1,IF(MATCH(J1628&\"/\"&L1628,読み替え表_食品ロス!$P$29:$P$42,0),1,0)),0)","v":0},"*"]
[null,null,1619,null,null,null,null,null,null,null,null,null,null,null,null,null,null,null,null,null,null,null,null,null,null,0,{"$f":"IFERROR(IF(J1629=99,1,IF(MATCH(J1629&\"/\"&L1629,読み替え表_食品ロス!$P$29:$P$42,0),1,0)),0)","v":0},"*"]
[null,null,1620,null,null,null,null,null,null,null,null,null,null,null,null,null,null,null,null,null,null,null,null,null,null,0,{"$f":"IFERROR(IF(J1630=99,1,IF(MATCH(J1630&\"/\"&L1630,読み替え表_食品ロス!$P$29:$P$42,0),1,0)),0)","v":0},"*"]
[null,null,1621,null,null,null,null,null,null,null,null,null,null,null,null,null,null,null,null,null,null,null,null,null,null,0,{"$f":"IFERROR(IF(J1631=99,1,IF(MATCH(J1631&\"/\"&L1631,読み替え表_食品ロス!$P$29:$P$42,0),1,0)),0)","v":0},"*"]
[null,null,1622,null,null,null,null,null,null,null,null,null,null,null,null,null,null,null,null,null,null,null,null,null,null,0,{"$f":"IFERROR(IF(J1632=99,1,IF(MATCH(J1632&\"/\"&L1632,読み替え表_食品ロス!$P$29:$P$42,0),1,0)),0)","v":0},"*"]
[null,null,1623,null,null,null,null,null,null,null,null,null,null,null,null,null,null,null,null,null,null,null,null,null,null,0,{"$f":"IFERROR(IF(J1633=99,1,IF(MATCH(J1633&\"/\"&L1633,読み替え表_食品ロス!$P$29:$P$42,0),1,0)),0)","v":0},"*"]
[null,null,1624,null,null,null,null,null,null,null,null,null,null,null,null,null,null,null,null,null,null,null,null,null,null,0,{"$f":"IFERROR(IF(J1634=99,1,IF(MATCH(J1634&\"/\"&L1634,読み替え表_食品ロス!$P$29:$P$42,0),1,0)),0)","v":0},"*"]
[null,null,1625,null,null,null,null,null,null,null,null,null,null,null,null,null,null,null,null,null,null,null,null,null,null,0,{"$f":"IFERROR(IF(J1635=99,1,IF(MATCH(J1635&\"/\"&L1635,読み替え表_食品ロス!$P$29:$P$42,0),1,0)),0)","v":0},"*"]
[null,null,1626,null,null,null,null,null,null,null,null,null,null,null,null,null,null,null,null,null,null,null,null,null,null,0,{"$f":"IFERROR(IF(J1636=99,1,IF(MATCH(J1636&\"/\"&L1636,読み替え表_食品ロス!$P$29:$P$42,0),1,0)),0)","v":0},"*"]
[null,null,1627,null,null,null,null,null,null,null,null,null,null,null,null,null,null,null,null,null,null,null,null,null,null,0,{"$f":"IFERROR(IF(J1637=99,1,IF(MATCH(J1637&\"/\"&L1637,読み替え表_食品ロス!$P$29:$P$42,0),1,0)),0)","v":0},"*"]
[null,null,1628,null,null,null,null,null,null,null,null,null,null,null,null,null,null,null,null,null,null,null,null,null,null,0,{"$f":"IFERROR(IF(J1638=99,1,IF(MATCH(J1638&\"/\"&L1638,読み替え表_食品ロス!$P$29:$P$42,0),1,0)),0)","v":0},"*"]
[null,null,1629,null,null,null,null,null,null,null,null,null,null,null,null,null,null,null,null,null,null,null,null,null,null,0,{"$f":"IFERROR(IF(J1639=99,1,IF(MATCH(J1639&\"/\"&L1639,読み替え表_食品ロス!$P$29:$P$42,0),1,0)),0)","v":0},"*"]
[null,null,1630,null,null,null,null,null,null,null,null,null,null,null,null,null,null,null,null,null,null,null,null,null,null,0,{"$f":"IFERROR(IF(J1640=99,1,IF(MATCH(J1640&\"/\"&L1640,読み替え表_食品ロス!$P$29:$P$42,0),1,0)),0)","v":0},"*"]
[null,null,1631,null,null,null,null,null,null,null,null,null,null,null,null,null,null,null,null,null,null,null,null,null,null,0,{"$f":"IFERROR(IF(J1641=99,1,IF(MATCH(J1641&\"/\"&L1641,読み替え表_食品ロス!$P$29:$P$42,0),1,0)),0)","v":0},"*"]
[null,null,1632,null,null,null,null,null,null,null,null,null,null,null,null,null,null,null,null,null,null,null,null,null,null,0,{"$f":"IFERROR(IF(J1642=99,1,IF(MATCH(J1642&\"/\"&L1642,読み替え表_食品ロス!$P$29:$P$42,0),1,0)),0)","v":0},"*"]
[null,null,1633,null,null,null,null,null,null,null,null,null,null,null,null,null,null,null,null,null,null,null,null,null,null,0,{"$f":"IFERROR(IF(J1643=99,1,IF(MATCH(J1643&\"/\"&L1643,読み替え表_食品ロス!$P$29:$P$42,0),1,0)),0)","v":0},"*"]
[null,null,1634,null,null,null,null,null,null,null,null,null,null,null,null,null,null,null,null,null,null,null,null,null,null,0,{"$f":"IFERROR(IF(J1644=99,1,IF(MATCH(J1644&\"/\"&L1644,読み替え表_食品ロス!$P$29:$P$42,0),1,0)),0)","v":0},"*"]
[null,null,1635,null,null,null,null,null,null,null,null,null,null,null,null,null,null,null,null,null,null,null,null,null,null,0,{"$f":"IFERROR(IF(J1645=99,1,IF(MATCH(J1645&\"/\"&L1645,読み替え表_食品ロス!$P$29:$P$42,0),1,0)),0)","v":0},"*"]
[null,null,1636,null,null,null,null,null,null,null,null,null,null,null,null,null,null,null,null,null,null,null,null,null,null,0,{"$f":"IFERROR(IF(J1646=99,1,IF(MATCH(J1646&\"/\"&L1646,読み替え表_食品ロス!$P$29:$P$42,0),1,0)),0)","v":0},"*"]
[null,null,1637,null,null,null,null,null,null,null,null,null,null,null,null,null,null,null,null,null,null,null,null,null,null,0,{"$f":"IFERROR(IF(J1647=99,1,IF(MATCH(J1647&\"/\"&L1647,読み替え表_食品ロス!$P$29:$P$42,0),1,0)),0)","v":0},"*"]
[null,null,1638,null,null,null,null,null,null,null,null,null,null,null,null,null,null,null,null,null,null,null,null,null,null,0,{"$f":"IFERROR(IF(J1648=99,1,IF(MATCH(J1648&\"/\"&L1648,読み替え表_食品ロス!$P$29:$P$42,0),1,0)),0)","v":0},"*"]
[null,null,1639,null,null,null,null,null,null,null,null,null,null,null,null,null,null,null,null,null,null,null,null,null,null,0,{"$f":"IFERROR(IF(J1649=99,1,IF(MATCH(J1649&\"/\"&L1649,読み替え表_食品ロス!$P$29:$P$42,0),1,0)),0)","v":0},"*"]
[null,null,1640,null,null,null,null,null,null,null,null,null,null,null,null,null,null,null,null,null,null,null,null,null,null,0,{"$f":"IFERROR(IF(J1650=99,1,IF(MATCH(J1650&\"/\"&L1650,読み替え表_食品ロス!$P$29:$P$42,0),1,0)),0)","v":0},"*"]
[null,null,1641,null,null,null,null,null,null,null,null,null,null,null,null,null,null,null,null,null,null,null,null,null,null,0,{"$f":"IFERROR(IF(J1651=99,1,IF(MATCH(J1651&\"/\"&L1651,読み替え表_食品ロス!$P$29:$P$42,0),1,0)),0)","v":0},"*"]
[null,null,1642,null,null,null,null,null,null,null,null,null,null,null,null,null,null,null,null,null,null,null,null,null,null,0,{"$f":"IFERROR(IF(J1652=99,1,IF(MATCH(J1652&\"/\"&L1652,読み替え表_食品ロス!$P$29:$P$42,0),1,0)),0)","v":0},"*"]
[null,null,1643,null,null,null,null,null,null,null,null,null,null,null,null,null,null,null,null,null,null,null,null,null,null,0,{"$f":"IFERROR(IF(J1653=99,1,IF(MATCH(J1653&\"/\"&L1653,読み替え表_食品ロス!$P$29:$P$42,0),1,0)),0)","v":0},"*"]
[null,null,1644,null,null,null,null,null,null,null,null,null,null,null,null,null,null,null,null,null,null,null,null,null,null,0,{"$f":"IFERROR(IF(J1654=99,1,IF(MATCH(J1654&\"/\"&L1654,読み替え表_食品ロス!$P$29:$P$42,0),1,0)),0)","v":0},"*"]
[null,null,1645,null,null,null,null,null,null,null,null,null,null,null,null,null,null,null,null,null,null,null,null,null,null,0,{"$f":"IFERROR(IF(J1655=99,1,IF(MATCH(J1655&\"/\"&L1655,読み替え表_食品ロス!$P$29:$P$42,0),1,0)),0)","v":0},"*"]
[null,null,1646,null,null,null,null,null,null,null,null,null,null,null,null,null,null,null,null,null,null,null,null,null,null,0,{"$f":"IFERROR(IF(J1656=99,1,IF(MATCH(J1656&\"/\"&L1656,読み替え表_食品ロス!$P$29:$P$42,0),1,0)),0)","v":0},"*"]
[null,null,1647,null,null,null,null,null,null,null,null,null,null,null,null,null,null,null,null,null,null,null,null,null,null,0,{"$f":"IFERROR(IF(J1657=99,1,IF(MATCH(J1657&\"/\"&L1657,読み替え表_食品ロス!$P$29:$P$42,0),1,0)),0)","v":0},"*"]
[null,null,1648,null,null,null,null,null,null,null,null,null,null,null,null,null,null,null,null,null,null,null,null,null,null,0,{"$f":"IFERROR(IF(J1658=99,1,IF(MATCH(J1658&\"/\"&L1658,読み替え表_食品ロス!$P$29:$P$42,0),1,0)),0)","v":0},"*"]
[null,null,1649,null,null,null,null,null,null,null,null,null,null,null,null,null,null,null,null,null,null,null,null,null,null,0,{"$f":"IFERROR(IF(J1659=99,1,IF(MATCH(J1659&\"/\"&L1659,読み替え表_食品ロス!$P$29:$P$42,0),1,0)),0)","v":0},"*"]
[null,null,1650,null,null,null,null,null,null,null,null,null,null,null,null,null,null,null,null,null,null,null,null,null,null,0,{"$f":"IFERROR(IF(J1660=99,1,IF(MATCH(J1660&\"/\"&L1660,読み替え表_食品ロス!$P$29:$P$42,0),1,0)),0)","v":0},"*"]
[null,null,1651,null,null,null,null,null,null,null,null,null,null,null,null,null,null,null,null,null,null,null,null,null,null,0,{"$f":"IFERROR(IF(J1661=99,1,IF(MATCH(J1661&\"/\"&L1661,読み替え表_食品ロス!$P$29:$P$42,0),1,0)),0)","v":0},"*"]
[null,null,1652,null,null,null,null,null,null,null,null,null,null,null,null,null,null,null,null,null,null,null,null,null,null,0,{"$f":"IFERROR(IF(J1662=99,1,IF(MATCH(J1662&\"/\"&L1662,読み替え表_食品ロス!$P$29:$P$42,0),1,0)),0)","v":0},"*"]
[null,null,1653,null,null,null,null,null,null,null,null,null,null,null,null,null,null,null,null,null,null,null,null,null,null,0,{"$f":"IFERROR(IF(J1663=99,1,IF(MATCH(J1663&\"/\"&L1663,読み替え表_食品ロス!$P$29:$P$42,0),1,0)),0)","v":0},"*"]
[null,null,1654,null,null,null,null,null,null,null,null,null,null,null,null,null,null,null,null,null,null,null,null,null,null,0,{"$f":"IFERROR(IF(J1664=99,1,IF(MATCH(J1664&\"/\"&L1664,読み替え表_食品ロス!$P$29:$P$42,0),1,0)),0)","v":0},"*"]
[null,null,1655,null,null,null,null,null,null,null,null,null,null,null,null,null,null,null,null,null,null,null,null,null,null,0,{"$f":"IFERROR(IF(J1665=99,1,IF(MATCH(J1665&\"/\"&L1665,読み替え表_食品ロス!$P$29:$P$42,0),1,0)),0)","v":0},"*"]
[null,null,1656,null,null,null,null,null,null,null,null,null,null,null,null,null,null,null,null,null,null,null,null,null,null,0,{"$f":"IFERROR(IF(J1666=99,1,IF(MATCH(J1666&\"/\"&L1666,読み替え表_食品ロス!$P$29:$P$42,0),1,0)),0)","v":0},"*"]
[null,null,1657,null,null,null,null,null,null,null,null,null,null,null,null,null,null,null,null,null,null,null,null,null,null,0,{"$f":"IFERROR(IF(J1667=99,1,IF(MATCH(J1667&\"/\"&L1667,読み替え表_食品ロス!$P$29:$P$42,0),1,0)),0)","v":0},"*"]
[null,null,1658,null,null,null,null,null,null,null,null,null,null,null,null,null,null,null,null,null,null,null,null,null,null,0,{"$f":"IFERROR(IF(J1668=99,1,IF(MATCH(J1668&\"/\"&L1668,読み替え表_食品ロス!$P$29:$P$42,0),1,0)),0)","v":0},"*"]
[null,null,1659,null,null,null,null,null,null,null,null,null,null,null,null,null,null,null,null,null,null,null,null,null,null,0,{"$f":"IFERROR(IF(J1669=99,1,IF(MATCH(J1669&\"/\"&L1669,読み替え表_食品ロス!$P$29:$P$42,0),1,0)),0)","v":0},"*"]
[null,null,1660,null,null,null,null,null,null,null,null,null,null,null,null,null,null,null,null,null,null,null,null,null,null,0,{"$f":"IFERROR(IF(J1670=99,1,IF(MATCH(J1670&\"/\"&L1670,読み替え表_食品ロス!$P$29:$P$42,0),1,0)),0)","v":0},"*"]
[null,null,1661,null,null,null,null,null,null,null,null,null,null,null,null,null,null,null,null,null,null,null,null,null,null,0,{"$f":"IFERROR(IF(J1671=99,1,IF(MATCH(J1671&\"/\"&L1671,読み替え表_食品ロス!$P$29:$P$42,0),1,0)),0)","v":0},"*"]
[null,null,1662,null,null,null,null,null,null,null,null,null,null,null,null,null,null,null,null,null,null,null,null,null,null,0,{"$f":"IFERROR(IF(J1672=99,1,IF(MATCH(J1672&\"/\"&L1672,読み替え表_食品ロス!$P$29:$P$42,0),1,0)),0)","v":0},"*"]
[null,null,1663,null,null,null,null,null,null,null,null,null,null,null,null,null,null,null,null,null,null,null,null,null,null,0,{"$f":"IFERROR(IF(J1673=99,1,IF(MATCH(J1673&\"/\"&L1673,読み替え表_食品ロス!$P$29:$P$42,0),1,0)),0)","v":0},"*"]
[null,null,1664,null,null,null,null,null,null,null,null,null,null,null,null,null,null,null,null,null,null,null,null,null,null,0,{"$f":"IFERROR(IF(J1674=99,1,IF(MATCH(J1674&\"/\"&L1674,読み替え表_食品ロス!$P$29:$P$42,0),1,0)),0)","v":0},"*"]
[null,null,1665,null,null,null,null,null,null,null,null,null,null,null,null,null,null,null,null,null,null,null,null,null,null,0,{"$f":"IFERROR(IF(J1675=99,1,IF(MATCH(J1675&\"/\"&L1675,読み替え表_食品ロス!$P$29:$P$42,0),1,0)),0)","v":0},"*"]
[null,null,{"$f":"ROW()-10","v":1666},null,null,null,null,null,null,null,null,null,null,null,null,null,null,null,null,null,null,null,null,null,null,{"$f":"IF(OR(L1676=1,L1676=2,L1676=3),1,0)","v":0},{"$f":"IFERROR(IF(J1676=99,1,IF(MATCH(J1676&\"/\"&L1676,読み替え表_食品ロス!$P$29:$P$42,0),1,0)),0)","v":0},"*"]
[null,null,1667,null,null,null,null,null,null,null,null,null,null,null,null,null,null,null,null,null,null,null,null,null,null,0,{"$f":"IFERROR(IF(J1677=99,1,IF(MATCH(J1677&\"/\"&L1677,読み替え表_食品ロス!$P$29:$P$42,0),1,0)),0)","v":0},"*"]
[null,null,1668,null,null,null,null,null,null,null,null,null,null,null,null,null,null,null,null,null,null,null,null,null,null,0,{"$f":"IFERROR(IF(J1678=99,1,IF(MATCH(J1678&\"/\"&L1678,読み替え表_食品ロス!$P$29:$P$42,0),1,0)),0)","v":0},"*"]
[null,null,1669,null,null,null,null,null,null,null,null,null,null,null,null,null,null,null,null,null,null,null,null,null,null,0,{"$f":"IFERROR(IF(J1679=99,1,IF(MATCH(J1679&\"/\"&L1679,読み替え表_食品ロス!$P$29:$P$42,0),1,0)),0)","v":0},"*"]
[null,null,1670,null,null,null,null,null,null,null,null,null,null,null,null,null,null,null,null,null,null,null,null,null,null,0,{"$f":"IFERROR(IF(J1680=99,1,IF(MATCH(J1680&\"/\"&L1680,読み替え表_食品ロス!$P$29:$P$42,0),1,0)),0)","v":0},"*"]
[null,null,1671,null,null,null,null,null,null,null,null,null,null,null,null,null,null,null,null,null,null,null,null,null,null,0,{"$f":"IFERROR(IF(J1681=99,1,IF(MATCH(J1681&\"/\"&L1681,読み替え表_食品ロス!$P$29:$P$42,0),1,0)),0)","v":0},"*"]
[null,null,1672,null,null,null,null,null,null,null,null,null,null,null,null,null,null,null,null,null,null,null,null,null,null,0,{"$f":"IFERROR(IF(J1682=99,1,IF(MATCH(J1682&\"/\"&L1682,読み替え表_食品ロス!$P$29:$P$42,0),1,0)),0)","v":0},"*"]
[null,null,1673,null,null,null,null,null,null,null,null,null,null,null,null,null,null,null,null,null,null,null,null,null,null,0,{"$f":"IFERROR(IF(J1683=99,1,IF(MATCH(J1683&\"/\"&L1683,読み替え表_食品ロス!$P$29:$P$42,0),1,0)),0)","v":0},"*"]
[null,null,1674,null,null,null,null,null,null,null,null,null,null,null,null,null,null,null,null,null,null,null,null,null,null,0,{"$f":"IFERROR(IF(J1684=99,1,IF(MATCH(J1684&\"/\"&L1684,読み替え表_食品ロス!$P$29:$P$42,0),1,0)),0)","v":0},"*"]
[null,null,1675,null,null,null,null,null,null,null,null,null,null,null,null,null,null,null,null,null,null,null,null,null,null,0,{"$f":"IFERROR(IF(J1685=99,1,IF(MATCH(J1685&\"/\"&L1685,読み替え表_食品ロス!$P$29:$P$42,0),1,0)),0)","v":0},"*"]
[null,null,1676,null,null,null,null,null,null,null,null,null,null,null,null,null,null,null,null,null,null,null,null,null,null,0,{"$f":"IFERROR(IF(J1686=99,1,IF(MATCH(J1686&\"/\"&L1686,読み替え表_食品ロス!$P$29:$P$42,0),1,0)),0)","v":0},"*"]
[null,null,1677,null,null,null,null,null,null,null,null,null,null,null,null,null,null,null,null,null,null,null,null,null,null,0,{"$f":"IFERROR(IF(J1687=99,1,IF(MATCH(J1687&\"/\"&L1687,読み替え表_食品ロス!$P$29:$P$42,0),1,0)),0)","v":0},"*"]
[null,null,1678,null,null,null,null,null,null,null,null,null,null,null,null,null,null,null,null,null,null,null,null,null,null,0,{"$f":"IFERROR(IF(J1688=99,1,IF(MATCH(J1688&\"/\"&L1688,読み替え表_食品ロス!$P$29:$P$42,0),1,0)),0)","v":0},"*"]
[null,null,1679,null,null,null,null,null,null,null,null,null,null,null,null,null,null,null,null,null,null,null,null,null,null,0,{"$f":"IFERROR(IF(J1689=99,1,IF(MATCH(J1689&\"/\"&L1689,読み替え表_食品ロス!$P$29:$P$42,0),1,0)),0)","v":0},"*"]
[null,null,1680,null,null,null,null,null,null,null,null,null,null,null,null,null,null,null,null,null,null,null,null,null,null,0,{"$f":"IFERROR(IF(J1690=99,1,IF(MATCH(J1690&\"/\"&L1690,読み替え表_食品ロス!$P$29:$P$42,0),1,0)),0)","v":0},"*"]
[null,null,1681,null,null,null,null,null,null,null,null,null,null,null,null,null,null,null,null,null,null,null,null,null,null,0,{"$f":"IFERROR(IF(J1691=99,1,IF(MATCH(J1691&\"/\"&L1691,読み替え表_食品ロス!$P$29:$P$42,0),1,0)),0)","v":0},"*"]
[null,null,1682,null,null,null,null,null,null,null,null,null,null,null,null,null,null,null,null,null,null,null,null,null,null,0,{"$f":"IFERROR(IF(J1692=99,1,IF(MATCH(J1692&\"/\"&L1692,読み替え表_食品ロス!$P$29:$P$42,0),1,0)),0)","v":0},"*"]
[null,null,1683,null,null,null,null,null,null,null,null,null,null,null,null,null,null,null,null,null,null,null,null,null,null,0,{"$f":"IFERROR(IF(J1693=99,1,IF(MATCH(J1693&\"/\"&L1693,読み替え表_食品ロス!$P$29:$P$42,0),1,0)),0)","v":0},"*"]
[null,null,1684,null,null,null,null,null,null,null,null,null,null,null,null,null,null,null,null,null,null,null,null,null,null,0,{"$f":"IFERROR(IF(J1694=99,1,IF(MATCH(J1694&\"/\"&L1694,読み替え表_食品ロス!$P$29:$P$42,0),1,0)),0)","v":0},"*"]
[null,null,1685,null,null,null,null,null,null,null,null,null,null,null,null,null,null,null,null,null,null,null,null,null,null,0,{"$f":"IFERROR(IF(J1695=99,1,IF(MATCH(J1695&\"/\"&L1695,読み替え表_食品ロス!$P$29:$P$42,0),1,0)),0)","v":0},"*"]
[null,null,1686,null,null,null,null,null,null,null,null,null,null,null,null,null,null,null,null,null,null,null,null,null,null,0,{"$f":"IFERROR(IF(J1696=99,1,IF(MATCH(J1696&\"/\"&L1696,読み替え表_食品ロス!$P$29:$P$42,0),1,0)),0)","v":0},"*"]
[null,null,1687,null,null,null,null,null,null,null,null,null,null,null,null,null,null,null,null,null,null,null,null,null,null,0,{"$f":"IFERROR(IF(J1697=99,1,IF(MATCH(J1697&\"/\"&L1697,読み替え表_食品ロス!$P$29:$P$42,0),1,0)),0)","v":0},"*"]
[null,null,1688,null,null,null,null,null,null,null,null,null,null,null,null,null,null,null,null,null,null,null,null,null,null,0,{"$f":"IFERROR(IF(J1698=99,1,IF(MATCH(J1698&\"/\"&L1698,読み替え表_食品ロス!$P$29:$P$42,0),1,0)),0)","v":0},"*"]
[null,null,1689,null,null,null,null,null,null,null,null,null,null,null,null,null,null,null,null,null,null,null,null,null,null,0,{"$f":"IFERROR(IF(J1699=99,1,IF(MATCH(J1699&\"/\"&L1699,読み替え表_食品ロス!$P$29:$P$42,0),1,0)),0)","v":0},"*"]
[null,null,1690,null,null,null,null,null,null,null,null,null,null,null,null,null,null,null,null,null,null,null,null,null,null,0,{"$f":"IFERROR(IF(J1700=99,1,IF(MATCH(J1700&\"/\"&L1700,読み替え表_食品ロス!$P$29:$P$42,0),1,0)),0)","v":0},"*"]
[null,null,1691,null,null,null,null,null,null,null,null,null,null,null,null,null,null,null,null,null,null,null,null,null,null,0,{"$f":"IFERROR(IF(J1701=99,1,IF(MATCH(J1701&\"/\"&L1701,読み替え表_食品ロス!$P$29:$P$42,0),1,0)),0)","v":0},"*"]
[null,null,1692,null,null,null,null,null,null,null,null,null,null,null,null,null,null,null,null,null,null,null,null,null,null,0,{"$f":"IFERROR(IF(J1702=99,1,IF(MATCH(J1702&\"/\"&L1702,読み替え表_食品ロス!$P$29:$P$42,0),1,0)),0)","v":0},"*"]
[null,null,1693,null,null,null,null,null,null,null,null,null,null,null,null,null,null,null,null,null,null,null,null,null,null,0,{"$f":"IFERROR(IF(J1703=99,1,IF(MATCH(J1703&\"/\"&L1703,読み替え表_食品ロス!$P$29:$P$42,0),1,0)),0)","v":0},"*"]
[null,null,1694,null,null,null,null,null,null,null,null,null,null,null,null,null,null,null,null,null,null,null,null,null,null,0,{"$f":"IFERROR(IF(J1704=99,1,IF(MATCH(J1704&\"/\"&L1704,読み替え表_食品ロス!$P$29:$P$42,0),1,0)),0)","v":0},"*"]
[null,null,1695,null,null,null,null,null,null,null,null,null,null,null,null,null,null,null,null,null,null,null,null,null,null,0,{"$f":"IFERROR(IF(J1705=99,1,IF(MATCH(J1705&\"/\"&L1705,読み替え表_食品ロス!$P$29:$P$42,0),1,0)),0)","v":0},"*"]
[null,null,1696,null,null,null,null,null,null,null,null,null,null,null,null,null,null,null,null,null,null,null,null,null,null,0,{"$f":"IFERROR(IF(J1706=99,1,IF(MATCH(J1706&\"/\"&L1706,読み替え表_食品ロス!$P$29:$P$42,0),1,0)),0)","v":0},"*"]
[null,null,1697,null,null,null,null,null,null,null,null,null,null,null,null,null,null,null,null,null,null,null,null,null,null,0,{"$f":"IFERROR(IF(J1707=99,1,IF(MATCH(J1707&\"/\"&L1707,読み替え表_食品ロス!$P$29:$P$42,0),1,0)),0)","v":0},"*"]
[null,null,1698,null,null,null,null,null,null,null,null,null,null,null,null,null,null,null,null,null,null,null,null,null,null,0,{"$f":"IFERROR(IF(J1708=99,1,IF(MATCH(J1708&\"/\"&L1708,読み替え表_食品ロス!$P$29:$P$42,0),1,0)),0)","v":0},"*"]
[null,null,1699,null,null,null,null,null,null,null,null,null,null,null,null,null,null,null,null,null,null,null,null,null,null,0,{"$f":"IFERROR(IF(J1709=99,1,IF(MATCH(J1709&\"/\"&L1709,読み替え表_食品ロス!$P$29:$P$42,0),1,0)),0)","v":0},"*"]
[null,null,1700,null,null,null,null,null,null,null,null,null,null,null,null,null,null,null,null,null,null,null,null,null,null,0,{"$f":"IFERROR(IF(J1710=99,1,IF(MATCH(J1710&\"/\"&L1710,読み替え表_食品ロス!$P$29:$P$42,0),1,0)),0)","v":0},"*"]
[null,null,1701,null,null,null,null,null,null,null,null,null,null,null,null,null,null,null,null,null,null,null,null,null,null,0,{"$f":"IFERROR(IF(J1711=99,1,IF(MATCH(J1711&\"/\"&L1711,読み替え表_食品ロス!$P$29:$P$42,0),1,0)),0)","v":0},"*"]
[null,null,1702,null,null,null,null,null,null,null,null,null,null,null,null,null,null,null,null,null,null,null,null,null,null,0,{"$f":"IFERROR(IF(J1712=99,1,IF(MATCH(J1712&\"/\"&L1712,読み替え表_食品ロス!$P$29:$P$42,0),1,0)),0)","v":0},"*"]
[null,null,1703,null,null,null,null,null,null,null,null,null,null,null,null,null,null,null,null,null,null,null,null,null,null,0,{"$f":"IFERROR(IF(J1713=99,1,IF(MATCH(J1713&\"/\"&L1713,読み替え表_食品ロス!$P$29:$P$42,0),1,0)),0)","v":0},"*"]
[null,null,1704,null,null,null,null,null,null,null,null,null,null,null,null,null,null,null,null,null,null,null,null,null,null,0,{"$f":"IFERROR(IF(J1714=99,1,IF(MATCH(J1714&\"/\"&L1714,読み替え表_食品ロス!$P$29:$P$42,0),1,0)),0)","v":0},"*"]
[null,null,1705,null,null,null,null,null,null,null,null,null,null,null,null,null,null,null,null,null,null,null,null,null,null,0,{"$f":"IFERROR(IF(J1715=99,1,IF(MATCH(J1715&\"/\"&L1715,読み替え表_食品ロス!$P$29:$P$42,0),1,0)),0)","v":0},"*"]
[null,null,1706,null,null,null,null,null,null,null,null,null,null,null,null,null,null,null,null,null,null,null,null,null,null,0,{"$f":"IFERROR(IF(J1716=99,1,IF(MATCH(J1716&\"/\"&L1716,読み替え表_食品ロス!$P$29:$P$42,0),1,0)),0)","v":0},"*"]
[null,null,1707,null,null,null,null,null,null,null,null,null,null,null,null,null,null,null,null,null,null,null,null,null,null,0,{"$f":"IFERROR(IF(J1717=99,1,IF(MATCH(J1717&\"/\"&L1717,読み替え表_食品ロス!$P$29:$P$42,0),1,0)),0)","v":0},"*"]
[null,null,1708,null,null,null,null,null,null,null,null,null,null,null,null,null,null,null,null,null,null,null,null,null,null,0,{"$f":"IFERROR(IF(J1718=99,1,IF(MATCH(J1718&\"/\"&L1718,読み替え表_食品ロス!$P$29:$P$42,0),1,0)),0)","v":0},"*"]
[null,null,1709,null,null,null,null,null,null,null,null,null,null,null,null,null,null,null,null,null,null,null,null,null,null,0,{"$f":"IFERROR(IF(J1719=99,1,IF(MATCH(J1719&\"/\"&L1719,読み替え表_食品ロス!$P$29:$P$42,0),1,0)),0)","v":0},"*"]
[null,null,1710,null,null,null,null,null,null,null,null,null,null,null,null,null,null,null,null,null,null,null,null,null,null,0,{"$f":"IFERROR(IF(J1720=99,1,IF(MATCH(J1720&\"/\"&L1720,読み替え表_食品ロス!$P$29:$P$42,0),1,0)),0)","v":0},"*"]
[null,null,1711,null,null,null,null,null,null,null,null,null,null,null,null,null,null,null,null,null,null,null,null,null,null,0,{"$f":"IFERROR(IF(J1721=99,1,IF(MATCH(J1721&\"/\"&L1721,読み替え表_食品ロス!$P$29:$P$42,0),1,0)),0)","v":0},"*"]
[null,null,1712,null,null,null,null,null,null,null,null,null,null,null,null,null,null,null,null,null,null,null,null,null,null,0,{"$f":"IFERROR(IF(J1722=99,1,IF(MATCH(J1722&\"/\"&L1722,読み替え表_食品ロス!$P$29:$P$42,0),1,0)),0)","v":0},"*"]
[null,null,1713,null,null,null,null,null,null,null,null,null,null,null,null,null,null,null,null,null,null,null,null,null,null,0,{"$f":"IFERROR(IF(J1723=99,1,IF(MATCH(J1723&\"/\"&L1723,読み替え表_食品ロス!$P$29:$P$42,0),1,0)),0)","v":0},"*"]
[null,null,1714,null,null,null,null,null,null,null,null,null,null,null,null,null,null,null,null,null,null,null,null,null,null,0,{"$f":"IFERROR(IF(J1724=99,1,IF(MATCH(J1724&\"/\"&L1724,読み替え表_食品ロス!$P$29:$P$42,0),1,0)),0)","v":0},"*"]
[null,null,1715,null,null,null,null,null,null,null,null,null,null,null,null,null,null,null,null,null,null,null,null,null,null,0,{"$f":"IFERROR(IF(J1725=99,1,IF(MATCH(J1725&\"/\"&L1725,読み替え表_食品ロス!$P$29:$P$42,0),1,0)),0)","v":0},"*"]
[null,null,1716,null,null,null,null,null,null,null,null,null,null,null,null,null,null,null,null,null,null,null,null,null,null,0,{"$f":"IFERROR(IF(J1726=99,1,IF(MATCH(J1726&\"/\"&L1726,読み替え表_食品ロス!$P$29:$P$42,0),1,0)),0)","v":0},"*"]
[null,null,1717,null,null,null,null,null,null,null,null,null,null,null,null,null,null,null,null,null,null,null,null,null,null,0,{"$f":"IFERROR(IF(J1727=99,1,IF(MATCH(J1727&\"/\"&L1727,読み替え表_食品ロス!$P$29:$P$42,0),1,0)),0)","v":0},"*"]
[null,null,1718,null,null,null,null,null,null,null,null,null,null,null,null,null,null,null,null,null,null,null,null,null,null,0,{"$f":"IFERROR(IF(J1728=99,1,IF(MATCH(J1728&\"/\"&L1728,読み替え表_食品ロス!$P$29:$P$42,0),1,0)),0)","v":0},"*"]
[null,null,1719,null,null,null,null,null,null,null,null,null,null,null,null,null,null,null,null,null,null,null,null,null,null,0,{"$f":"IFERROR(IF(J1729=99,1,IF(MATCH(J1729&\"/\"&L1729,読み替え表_食品ロス!$P$29:$P$42,0),1,0)),0)","v":0},"*"]
[null,null,1720,null,null,null,null,null,null,null,null,null,null,null,null,null,null,null,null,null,null,null,null,null,null,0,{"$f":"IFERROR(IF(J1730=99,1,IF(MATCH(J1730&\"/\"&L1730,読み替え表_食品ロス!$P$29:$P$42,0),1,0)),0)","v":0},"*"]
[null,null,1721,null,null,null,null,null,null,null,null,null,null,null,null,null,null,null,null,null,null,null,null,null,null,0,{"$f":"IFERROR(IF(J1731=99,1,IF(MATCH(J1731&\"/\"&L1731,読み替え表_食品ロス!$P$29:$P$42,0),1,0)),0)","v":0},"*"]
[null,null,1722,null,null,null,null,null,null,null,null,null,null,null,null,null,null,null,null,null,null,null,null,null,null,0,{"$f":"IFERROR(IF(J1732=99,1,IF(MATCH(J1732&\"/\"&L1732,読み替え表_食品ロス!$P$29:$P$42,0),1,0)),0)","v":0},"*"]
[null,null,1723,null,null,null,null,null,null,null,null,null,null,null,null,null,null,null,null,null,null,null,null,null,null,0,{"$f":"IFERROR(IF(J1733=99,1,IF(MATCH(J1733&\"/\"&L1733,読み替え表_食品ロス!$P$29:$P$42,0),1,0)),0)","v":0},"*"]
[null,null,1724,null,null,null,null,null,null,null,null,null,null,null,null,null,null,null,null,null,null,null,null,null,null,0,{"$f":"IFERROR(IF(J1734=99,1,IF(MATCH(J1734&\"/\"&L1734,読み替え表_食品ロス!$P$29:$P$42,0),1,0)),0)","v":0},"*"]
[null,null,1725,null,null,null,null,null,null,null,null,null,null,null,null,null,null,null,null,null,null,null,null,null,null,0,{"$f":"IFERROR(IF(J1735=99,1,IF(MATCH(J1735&\"/\"&L1735,読み替え表_食品ロス!$P$29:$P$42,0),1,0)),0)","v":0},"*"]
[null,null,1726,null,null,null,null,null,null,null,null,null,null,null,null,null,null,null,null,null,null,null,null,null,null,0,{"$f":"IFERROR(IF(J1736=99,1,IF(MATCH(J1736&\"/\"&L1736,読み替え表_食品ロス!$P$29:$P$42,0),1,0)),0)","v":0},"*"]
[null,null,1727,null,null,null,null,null,null,null,null,null,null,null,null,null,null,null,null,null,null,null,null,null,null,0,{"$f":"IFERROR(IF(J1737=99,1,IF(MATCH(J1737&\"/\"&L1737,読み替え表_食品ロス!$P$29:$P$42,0),1,0)),0)","v":0},"*"]
[null,null,1728,null,null,null,null,null,null,null,null,null,null,null,null,null,null,null,null,null,null,null,null,null,null,0,{"$f":"IFERROR(IF(J1738=99,1,IF(MATCH(J1738&\"/\"&L1738,読み替え表_食品ロス!$P$29:$P$42,0),1,0)),0)","v":0},"*"]
[null,null,1729,null,null,null,null,null,null,null,null,null,null,null,null,null,null,null,null,null,null,null,null,null,null,0,{"$f":"IFERROR(IF(J1739=99,1,IF(MATCH(J1739&\"/\"&L1739,読み替え表_食品ロス!$P$29:$P$42,0),1,0)),0)","v":0},"*"]
[null,null,{"$f":"ROW()-10","v":1730},null,null,null,null,null,null,null,null,null,null,null,null,null,null,null,null,null,null,null,null,null,null,{"$f":"IF(OR(L1740=1,L1740=2,L1740=3),1,0)","v":0},{"$f":"IFERROR(IF(J1740=99,1,IF(MATCH(J1740&\"/\"&L1740,読み替え表_食品ロス!$P$29:$P$42,0),1,0)),0)","v":0},"*"]
[null,null,1731,null,null,null,null,null,null,null,null,null,null,null,null,null,null,null,null,null,null,null,null,null,null,0,{"$f":"IFERROR(IF(J1741=99,1,IF(MATCH(J1741&\"/\"&L1741,読み替え表_食品ロス!$P$29:$P$42,0),1,0)),0)","v":0},"*"]
[null,null,1732,null,null,null,null,null,null,null,null,null,null,null,null,null,null,null,null,null,null,null,null,null,null,0,{"$f":"IFERROR(IF(J1742=99,1,IF(MATCH(J1742&\"/\"&L1742,読み替え表_食品ロス!$P$29:$P$42,0),1,0)),0)","v":0},"*"]
[null,null,1733,null,null,null,null,null,null,null,null,null,null,null,null,null,null,null,null,null,null,null,null,null,null,0,{"$f":"IFERROR(IF(J1743=99,1,IF(MATCH(J1743&\"/\"&L1743,読み替え表_食品ロス!$P$29:$P$42,0),1,0)),0)","v":0},"*"]
[null,null,1734,null,null,null,null,null,null,null,null,null,null,null,null,null,null,null,null,null,null,null,null,null,null,0,{"$f":"IFERROR(IF(J1744=99,1,IF(MATCH(J1744&\"/\"&L1744,読み替え表_食品ロス!$P$29:$P$42,0),1,0)),0)","v":0},"*"]
[null,null,1735,null,null,null,null,null,null,null,null,null,null,null,null,null,null,null,null,null,null,null,null,null,null,0,{"$f":"IFERROR(IF(J1745=99,1,IF(MATCH(J1745&\"/\"&L1745,読み替え表_食品ロス!$P$29:$P$42,0),1,0)),0)","v":0},"*"]
[null,null,1736,null,null,null,null,null,null,null,null,null,null,null,null,null,null,null,null,null,null,null,null,null,null,0,{"$f":"IFERROR(IF(J1746=99,1,IF(MATCH(J1746&\"/\"&L1746,読み替え表_食品ロス!$P$29:$P$42,0),1,0)),0)","v":0},"*"]
[null,null,1737,null,null,null,null,null,null,null,null,null,null,null,null,null,null,null,null,null,null,null,null,null,null,0,{"$f":"IFERROR(IF(J1747=99,1,IF(MATCH(J1747&\"/\"&L1747,読み替え表_食品ロス!$P$29:$P$42,0),1,0)),0)","v":0},"*"]
[null,null,1738,null,null,null,null,null,null,null,null,null,null,null,null,null,null,null,null,null,null,null,null,null,null,0,{"$f":"IFERROR(IF(J1748=99,1,IF(MATCH(J1748&\"/\"&L1748,読み替え表_食品ロス!$P$29:$P$42,0),1,0)),0)","v":0},"*"]
[null,null,1739,null,null,null,null,null,null,null,null,null,null,null,null,null,null,null,null,null,null,null,null,null,null,0,{"$f":"IFERROR(IF(J1749=99,1,IF(MATCH(J1749&\"/\"&L1749,読み替え表_食品ロス!$P$29:$P$42,0),1,0)),0)","v":0},"*"]
[null,null,1740,null,null,null,null,null,null,null,null,null,null,null,null,null,null,null,null,null,null,null,null,null,null,0,{"$f":"IFERROR(IF(J1750=99,1,IF(MATCH(J1750&\"/\"&L1750,読み替え表_食品ロス!$P$29:$P$42,0),1,0)),0)","v":0},"*"]
[null,null,1741,null,null,null,null,null,null,null,null,null,null,null,null,null,null,null,null,null,null,null,null,null,null,0,{"$f":"IFERROR(IF(J1751=99,1,IF(MATCH(J1751&\"/\"&L1751,読み替え表_食品ロス!$P$29:$P$42,0),1,0)),0)","v":0},"*"]
[null,null,1742,null,null,null,null,null,null,null,null,null,null,null,null,null,null,null,null,null,null,null,null,null,null,0,{"$f":"IFERROR(IF(J1752=99,1,IF(MATCH(J1752&\"/\"&L1752,読み替え表_食品ロス!$P$29:$P$42,0),1,0)),0)","v":0},"*"]
[null,null,1743,null,null,null,null,null,null,null,null,null,null,null,null,null,null,null,null,null,null,null,null,null,null,0,{"$f":"IFERROR(IF(J1753=99,1,IF(MATCH(J1753&\"/\"&L1753,読み替え表_食品ロス!$P$29:$P$42,0),1,0)),0)","v":0},"*"]
[null,null,1744,null,null,null,null,null,null,null,null,null,null,null,null,null,null,null,null,null,null,null,null,null,null,0,{"$f":"IFERROR(IF(J1754=99,1,IF(MATCH(J1754&\"/\"&L1754,読み替え表_食品ロス!$P$29:$P$42,0),1,0)),0)","v":0},"*"]
[null,null,1745,null,null,null,null,null,null,null,null,null,null,null,null,null,null,null,null,null,null,null,null,null,null,0,{"$f":"IFERROR(IF(J1755=99,1,IF(MATCH(J1755&\"/\"&L1755,読み替え表_食品ロス!$P$29:$P$42,0),1,0)),0)","v":0},"*"]
[null,null,1746,null,null,null,null,null,null,null,null,null,null,null,null,null,null,null,null,null,null,null,null,null,null,0,{"$f":"IFERROR(IF(J1756=99,1,IF(MATCH(J1756&\"/\"&L1756,読み替え表_食品ロス!$P$29:$P$42,0),1,0)),0)","v":0},"*"]
[null,null,1747,null,null,null,null,null,null,null,null,null,null,null,null,null,null,null,null,null,null,null,null,null,null,0,{"$f":"IFERROR(IF(J1757=99,1,IF(MATCH(J1757&\"/\"&L1757,読み替え表_食品ロス!$P$29:$P$42,0),1,0)),0)","v":0},"*"]
[null,null,1748,null,null,null,null,null,null,null,null,null,null,null,null,null,null,null,null,null,null,null,null,null,null,0,{"$f":"IFERROR(IF(J1758=99,1,IF(MATCH(J1758&\"/\"&L1758,読み替え表_食品ロス!$P$29:$P$42,0),1,0)),0)","v":0},"*"]
[null,null,1749,null,null,null,null,null,null,null,null,null,null,null,null,null,null,null,null,null,null,null,null,null,null,0,{"$f":"IFERROR(IF(J1759=99,1,IF(MATCH(J1759&\"/\"&L1759,読み替え表_食品ロス!$P$29:$P$42,0),1,0)),0)","v":0},"*"]
[null,null,1750,null,null,null,null,null,null,null,null,null,null,null,null,null,null,null,null,null,null,null,null,null,null,0,{"$f":"IFERROR(IF(J1760=99,1,IF(MATCH(J1760&\"/\"&L1760,読み替え表_食品ロス!$P$29:$P$42,0),1,0)),0)","v":0},"*"]
[null,null,1751,null,null,null,null,null,null,null,null,null,null,null,null,null,null,null,null,null,null,null,null,null,null,0,{"$f":"IFERROR(IF(J1761=99,1,IF(MATCH(J1761&\"/\"&L1761,読み替え表_食品ロス!$P$29:$P$42,0),1,0)),0)","v":0},"*"]
[null,null,1752,null,null,null,null,null,null,null,null,null,null,null,null,null,null,null,null,null,null,null,null,null,null,0,{"$f":"IFERROR(IF(J1762=99,1,IF(MATCH(J1762&\"/\"&L1762,読み替え表_食品ロス!$P$29:$P$42,0),1,0)),0)","v":0},"*"]
[null,null,1753,null,null,null,null,null,null,null,null,null,null,null,null,null,null,null,null,null,null,null,null,null,null,0,{"$f":"IFERROR(IF(J1763=99,1,IF(MATCH(J1763&\"/\"&L1763,読み替え表_食品ロス!$P$29:$P$42,0),1,0)),0)","v":0},"*"]
[null,null,1754,null,null,null,null,null,null,null,null,null,null,null,null,null,null,null,null,null,null,null,null,null,null,0,{"$f":"IFERROR(IF(J1764=99,1,IF(MATCH(J1764&\"/\"&L1764,読み替え表_食品ロス!$P$29:$P$42,0),1,0)),0)","v":0},"*"]
[null,null,1755,null,null,null,null,null,null,null,null,null,null,null,null,null,null,null,null,null,null,null,null,null,null,0,{"$f":"IFERROR(IF(J1765=99,1,IF(MATCH(J1765&\"/\"&L1765,読み替え表_食品ロス!$P$29:$P$42,0),1,0)),0)","v":0},"*"]
[null,null,1756,null,null,null,null,null,null,null,null,null,null,null,null,null,null,null,null,null,null,null,null,null,null,0,{"$f":"IFERROR(IF(J1766=99,1,IF(MATCH(J1766&\"/\"&L1766,読み替え表_食品ロス!$P$29:$P$42,0),1,0)),0)","v":0},"*"]
[null,null,1757,null,null,null,null,null,null,null,null,null,null,null,null,null,null,null,null,null,null,null,null,null,null,0,{"$f":"IFERROR(IF(J1767=99,1,IF(MATCH(J1767&\"/\"&L1767,読み替え表_食品ロス!$P$29:$P$42,0),1,0)),0)","v":0},"*"]
[null,null,1758,null,null,null,null,null,null,null,null,null,null,null,null,null,null,null,null,null,null,null,null,null,null,0,{"$f":"IFERROR(IF(J1768=99,1,IF(MATCH(J1768&\"/\"&L1768,読み替え表_食品ロス!$P$29:$P$42,0),1,0)),0)","v":0},"*"]
[null,null,1759,null,null,null,null,null,null,null,null,null,null,null,null,null,null,null,null,null,null,null,null,null,null,0,{"$f":"IFERROR(IF(J1769=99,1,IF(MATCH(J1769&\"/\"&L1769,読み替え表_食品ロス!$P$29:$P$42,0),1,0)),0)","v":0},"*"]
[null,null,1760,null,null,null,null,null,null,null,null,null,null,null,null,null,null,null,null,null,null,null,null,null,null,0,{"$f":"IFERROR(IF(J1770=99,1,IF(MATCH(J1770&\"/\"&L1770,読み替え表_食品ロス!$P$29:$P$42,0),1,0)),0)","v":0},"*"]
[null,null,1761,null,null,null,null,null,null,null,null,null,null,null,null,null,null,null,null,null,null,null,null,null,null,0,{"$f":"IFERROR(IF(J1771=99,1,IF(MATCH(J1771&\"/\"&L1771,読み替え表_食品ロス!$P$29:$P$42,0),1,0)),0)","v":0},"*"]
[null,null,1762,null,null,null,null,null,null,null,null,null,null,null,null,null,null,null,null,null,null,null,null,null,null,0,{"$f":"IFERROR(IF(J1772=99,1,IF(MATCH(J1772&\"/\"&L1772,読み替え表_食品ロス!$P$29:$P$42,0),1,0)),0)","v":0},"*"]
[null,null,1763,null,null,null,null,null,null,null,null,null,null,null,null,null,null,null,null,null,null,null,null,null,null,0,{"$f":"IFERROR(IF(J1773=99,1,IF(MATCH(J1773&\"/\"&L1773,読み替え表_食品ロス!$P$29:$P$42,0),1,0)),0)","v":0},"*"]
[null,null,1764,null,null,null,null,null,null,null,null,null,null,null,null,null,null,null,null,null,null,null,null,null,null,0,{"$f":"IFERROR(IF(J1774=99,1,IF(MATCH(J1774&\"/\"&L1774,読み替え表_食品ロス!$P$29:$P$42,0),1,0)),0)","v":0},"*"]
[null,null,1765,null,null,null,null,null,null,null,null,null,null,null,null,null,null,null,null,null,null,null,null,null,null,0,{"$f":"IFERROR(IF(J1775=99,1,IF(MATCH(J1775&\"/\"&L1775,読み替え表_食品ロス!$P$29:$P$42,0),1,0)),0)","v":0},"*"]
[null,null,1766,null,null,null,null,null,null,null,null,null,null,null,null,null,null,null,null,null,null,null,null,null,null,0,{"$f":"IFERROR(IF(J1776=99,1,IF(MATCH(J1776&\"/\"&L1776,読み替え表_食品ロス!$P$29:$P$42,0),1,0)),0)","v":0},"*"]
[null,null,1767,null,null,null,null,null,null,null,null,null,null,null,null,null,null,null,null,null,null,null,null,null,null,0,{"$f":"IFERROR(IF(J1777=99,1,IF(MATCH(J1777&\"/\"&L1777,読み替え表_食品ロス!$P$29:$P$42,0),1,0)),0)","v":0},"*"]
[null,null,1768,null,null,null,null,null,null,null,null,null,null,null,null,null,null,null,null,null,null,null,null,null,null,0,{"$f":"IFERROR(IF(J1778=99,1,IF(MATCH(J1778&\"/\"&L1778,読み替え表_食品ロス!$P$29:$P$42,0),1,0)),0)","v":0},"*"]
[null,null,1769,null,null,null,null,null,null,null,null,null,null,null,null,null,null,null,null,null,null,null,null,null,null,0,{"$f":"IFERROR(IF(J1779=99,1,IF(MATCH(J1779&\"/\"&L1779,読み替え表_食品ロス!$P$29:$P$42,0),1,0)),0)","v":0},"*"]
[null,null,1770,null,null,null,null,null,null,null,null,null,null,null,null,null,null,null,null,null,null,null,null,null,null,0,{"$f":"IFERROR(IF(J1780=99,1,IF(MATCH(J1780&\"/\"&L1780,読み替え表_食品ロス!$P$29:$P$42,0),1,0)),0)","v":0},"*"]
[null,null,1771,null,null,null,null,null,null,null,null,null,null,null,null,null,null,null,null,null,null,null,null,null,null,0,{"$f":"IFERROR(IF(J1781=99,1,IF(MATCH(J1781&\"/\"&L1781,読み替え表_食品ロス!$P$29:$P$42,0),1,0)),0)","v":0},"*"]
[null,null,1772,null,null,null,null,null,null,null,null,null,null,null,null,null,null,null,null,null,null,null,null,null,null,0,{"$f":"IFERROR(IF(J1782=99,1,IF(MATCH(J1782&\"/\"&L1782,読み替え表_食品ロス!$P$29:$P$42,0),1,0)),0)","v":0},"*"]
[null,null,1773,null,null,null,null,null,null,null,null,null,null,null,null,null,null,null,null,null,null,null,null,null,null,0,{"$f":"IFERROR(IF(J1783=99,1,IF(MATCH(J1783&\"/\"&L1783,読み替え表_食品ロス!$P$29:$P$42,0),1,0)),0)","v":0},"*"]
[null,null,1774,null,null,null,null,null,null,null,null,null,null,null,null,null,null,null,null,null,null,null,null,null,null,0,{"$f":"IFERROR(IF(J1784=99,1,IF(MATCH(J1784&\"/\"&L1784,読み替え表_食品ロス!$P$29:$P$42,0),1,0)),0)","v":0},"*"]
[null,null,1775,null,null,null,null,null,null,null,null,null,null,null,null,null,null,null,null,null,null,null,null,null,null,0,{"$f":"IFERROR(IF(J1785=99,1,IF(MATCH(J1785&\"/\"&L1785,読み替え表_食品ロス!$P$29:$P$42,0),1,0)),0)","v":0},"*"]
[null,null,1776,null,null,null,null,null,null,null,null,null,null,null,null,null,null,null,null,null,null,null,null,null,null,0,{"$f":"IFERROR(IF(J1786=99,1,IF(MATCH(J1786&\"/\"&L1786,読み替え表_食品ロス!$P$29:$P$42,0),1,0)),0)","v":0},"*"]
[null,null,1777,null,null,null,null,null,null,null,null,null,null,null,null,null,null,null,null,null,null,null,null,null,null,0,{"$f":"IFERROR(IF(J1787=99,1,IF(MATCH(J1787&\"/\"&L1787,読み替え表_食品ロス!$P$29:$P$42,0),1,0)),0)","v":0},"*"]
[null,null,1778,null,null,null,null,null,null,null,null,null,null,null,null,null,null,null,null,null,null,null,null,null,null,0,{"$f":"IFERROR(IF(J1788=99,1,IF(MATCH(J1788&\"/\"&L1788,読み替え表_食品ロス!$P$29:$P$42,0),1,0)),0)","v":0},"*"]
[null,null,1779,null,null,null,null,null,null,null,null,null,null,null,null,null,null,null,null,null,null,null,null,null,null,0,{"$f":"IFERROR(IF(J1789=99,1,IF(MATCH(J1789&\"/\"&L1789,読み替え表_食品ロス!$P$29:$P$42,0),1,0)),0)","v":0},"*"]
[null,null,1780,null,null,null,null,null,null,null,null,null,null,null,null,null,null,null,null,null,null,null,null,null,null,0,{"$f":"IFERROR(IF(J1790=99,1,IF(MATCH(J1790&\"/\"&L1790,読み替え表_食品ロス!$P$29:$P$42,0),1,0)),0)","v":0},"*"]
[null,null,1781,null,null,null,null,null,null,null,null,null,null,null,null,null,null,null,null,null,null,null,null,null,null,0,{"$f":"IFERROR(IF(J1791=99,1,IF(MATCH(J1791&\"/\"&L1791,読み替え表_食品ロス!$P$29:$P$42,0),1,0)),0)","v":0},"*"]
[null,null,1782,null,null,null,null,null,null,null,null,null,null,null,null,null,null,null,null,null,null,null,null,null,null,0,{"$f":"IFERROR(IF(J1792=99,1,IF(MATCH(J1792&\"/\"&L1792,読み替え表_食品ロス!$P$29:$P$42,0),1,0)),0)","v":0},"*"]
[null,null,1783,null,null,null,null,null,null,null,null,null,null,null,null,null,null,null,null,null,null,null,null,null,null,0,{"$f":"IFERROR(IF(J1793=99,1,IF(MATCH(J1793&\"/\"&L1793,読み替え表_食品ロス!$P$29:$P$42,0),1,0)),0)","v":0},"*"]
[null,null,1784,null,null,null,null,null,null,null,null,null,null,null,null,null,null,null,null,null,null,null,null,null,null,0,{"$f":"IFERROR(IF(J1794=99,1,IF(MATCH(J1794&\"/\"&L1794,読み替え表_食品ロス!$P$29:$P$42,0),1,0)),0)","v":0},"*"]
[null,null,1785,null,null,null,null,null,null,null,null,null,null,null,null,null,null,null,null,null,null,null,null,null,null,0,{"$f":"IFERROR(IF(J1795=99,1,IF(MATCH(J1795&\"/\"&L1795,読み替え表_食品ロス!$P$29:$P$42,0),1,0)),0)","v":0},"*"]
[null,null,1786,null,null,null,null,null,null,null,null,null,null,null,null,null,null,null,null,null,null,null,null,null,null,0,{"$f":"IFERROR(IF(J1796=99,1,IF(MATCH(J1796&\"/\"&L1796,読み替え表_食品ロス!$P$29:$P$42,0),1,0)),0)","v":0},"*"]
[null,null,1787,null,null,null,null,null,null,null,null,null,null,null,null,null,null,null,null,null,null,null,null,null,null,0,{"$f":"IFERROR(IF(J1797=99,1,IF(MATCH(J1797&\"/\"&L1797,読み替え表_食品ロス!$P$29:$P$42,0),1,0)),0)","v":0},"*"]
[null,null,1788,null,null,null,null,null,null,null,null,null,null,null,null,null,null,null,null,null,null,null,null,null,null,0,{"$f":"IFERROR(IF(J1798=99,1,IF(MATCH(J1798&\"/\"&L1798,読み替え表_食品ロス!$P$29:$P$42,0),1,0)),0)","v":0},"*"]
[null,null,1789,null,null,null,null,null,null,null,null,null,null,null,null,null,null,null,null,null,null,null,null,null,null,0,{"$f":"IFERROR(IF(J1799=99,1,IF(MATCH(J1799&\"/\"&L1799,読み替え表_食品ロス!$P$29:$P$42,0),1,0)),0)","v":0},"*"]
[null,null,1790,null,null,null,null,null,null,null,null,null,null,null,null,null,null,null,null,null,null,null,null,null,null,0,{"$f":"IFERROR(IF(J1800=99,1,IF(MATCH(J1800&\"/\"&L1800,読み替え表_食品ロス!$P$29:$P$42,0),1,0)),0)","v":0},"*"]
[null,null,1791,null,null,null,null,null,null,null,null,null,null,null,null,null,null,null,null,null,null,null,null,null,null,0,{"$f":"IFERROR(IF(J1801=99,1,IF(MATCH(J1801&\"/\"&L1801,読み替え表_食品ロス!$P$29:$P$42,0),1,0)),0)","v":0},"*"]
[null,null,1792,null,null,null,null,null,null,null,null,null,null,null,null,null,null,null,null,null,null,null,null,null,null,0,{"$f":"IFERROR(IF(J1802=99,1,IF(MATCH(J1802&\"/\"&L1802,読み替え表_食品ロス!$P$29:$P$42,0),1,0)),0)","v":0},"*"]
[null,null,1793,null,null,null,null,null,null,null,null,null,null,null,null,null,null,null,null,null,null,null,null,null,null,0,{"$f":"IFERROR(IF(J1803=99,1,IF(MATCH(J1803&\"/\"&L1803,読み替え表_食品ロス!$P$29:$P$42,0),1,0)),0)","v":0},"*"]
[null,null,{"$f":"ROW()-10","v":1794},null,null,null,null,null,null,null,null,null,null,null,null,null,null,null,null,null,null,null,null,null,null,{"$f":"IF(OR(L1804=1,L1804=2,L1804=3),1,0)","v":0},{"$f":"IFERROR(IF(J1804=99,1,IF(MATCH(J1804&\"/\"&L1804,読み替え表_食品ロス!$P$29:$P$42,0),1,0)),0)","v":0},"*"]
[null,null,1795,null,null,null,null,null,null,null,null,null,null,null,null,null,null,null,null,null,null,null,null,null,null,0,{"$f":"IFERROR(IF(J1805=99,1,IF(MATCH(J1805&\"/\"&L1805,読み替え表_食品ロス!$P$29:$P$42,0),1,0)),0)","v":0},"*"]
[null,null,1796,null,null,null,null,null,null,null,null,null,null,null,null,null,null,null,null,null,null,null,null,null,null,0,{"$f":"IFERROR(IF(J1806=99,1,IF(MATCH(J1806&\"/\"&L1806,読み替え表_食品ロス!$P$29:$P$42,0),1,0)),0)","v":0},"*"]
[null,null,1797,null,null,null,null,null,null,null,null,null,null,null,null,null,null,null,null,null,null,null,null,null,null,0,{"$f":"IFERROR(IF(J1807=99,1,IF(MATCH(J1807&\"/\"&L1807,読み替え表_食品ロス!$P$29:$P$42,0),1,0)),0)","v":0},"*"]
[null,null,1798,null,null,null,null,null,null,null,null,null,null,null,null,null,null,null,null,null,null,null,null,null,null,0,{"$f":"IFERROR(IF(J1808=99,1,IF(MATCH(J1808&\"/\"&L1808,読み替え表_食品ロス!$P$29:$P$42,0),1,0)),0)","v":0},"*"]
[null,null,1799,null,null,null,null,null,null,null,null,null,null,null,null,null,null,null,null,null,null,null,null,null,null,0,{"$f":"IFERROR(IF(J1809=99,1,IF(MATCH(J1809&\"/\"&L1809,読み替え表_食品ロス!$P$29:$P$42,0),1,0)),0)","v":0},"*"]
[null,null,1800,null,null,null,null,null,null,null,null,null,null,null,null,null,null,null,null,null,null,null,null,null,null,0,{"$f":"IFERROR(IF(J1810=99,1,IF(MATCH(J1810&\"/\"&L1810,読み替え表_食品ロス!$P$29:$P$42,0),1,0)),0)","v":0},"*"]
[null,null,1801,null,null,null,null,null,null,null,null,null,null,null,null,null,null,null,null,null,null,null,null,null,null,0,{"$f":"IFERROR(IF(J1811=99,1,IF(MATCH(J1811&\"/\"&L1811,読み替え表_食品ロス!$P$29:$P$42,0),1,0)),0)","v":0},"*"]
[null,null,1802,null,null,null,null,null,null,null,null,null,null,null,null,null,null,null,null,null,null,null,null,null,null,0,{"$f":"IFERROR(IF(J1812=99,1,IF(MATCH(J1812&\"/\"&L1812,読み替え表_食品ロス!$P$29:$P$42,0),1,0)),0)","v":0},"*"]
[null,null,1803,null,null,null,null,null,null,null,null,null,null,null,null,null,null,null,null,null,null,null,null,null,null,0,{"$f":"IFERROR(IF(J1813=99,1,IF(MATCH(J1813&\"/\"&L1813,読み替え表_食品ロス!$P$29:$P$42,0),1,0)),0)","v":0},"*"]
[null,null,1804,null,null,null,null,null,null,null,null,null,null,null,null,null,null,null,null,null,null,null,null,null,null,0,{"$f":"IFERROR(IF(J1814=99,1,IF(MATCH(J1814&\"/\"&L1814,読み替え表_食品ロス!$P$29:$P$42,0),1,0)),0)","v":0},"*"]
[null,null,1805,null,null,null,null,null,null,null,null,null,null,null,null,null,null,null,null,null,null,null,null,null,null,0,{"$f":"IFERROR(IF(J1815=99,1,IF(MATCH(J1815&\"/\"&L1815,読み替え表_食品ロス!$P$29:$P$42,0),1,0)),0)","v":0},"*"]
[null,null,1806,null,null,null,null,null,null,null,null,null,null,null,null,null,null,null,null,null,null,null,null,null,null,0,{"$f":"IFERROR(IF(J1816=99,1,IF(MATCH(J1816&\"/\"&L1816,読み替え表_食品ロス!$P$29:$P$42,0),1,0)),0)","v":0},"*"]
[null,null,1807,null,null,null,null,null,null,null,null,null,null,null,null,null,null,null,null,null,null,null,null,null,null,0,{"$f":"IFERROR(IF(J1817=99,1,IF(MATCH(J1817&\"/\"&L1817,読み替え表_食品ロス!$P$29:$P$42,0),1,0)),0)","v":0},"*"]
[null,null,1808,null,null,null,null,null,null,null,null,null,null,null,null,null,null,null,null,null,null,null,null,null,null,0,{"$f":"IFERROR(IF(J1818=99,1,IF(MATCH(J1818&\"/\"&L1818,読み替え表_食品ロス!$P$29:$P$42,0),1,0)),0)","v":0},"*"]
[null,null,1809,null,null,null,null,null,null,null,null,null,null,null,null,null,null,null,null,null,null,null,null,null,null,0,{"$f":"IFERROR(IF(J1819=99,1,IF(MATCH(J1819&\"/\"&L1819,読み替え表_食品ロス!$P$29:$P$42,0),1,0)),0)","v":0},"*"]
[null,null,1810,null,null,null,null,null,null,null,null,null,null,null,null,null,null,null,null,null,null,null,null,null,null,0,{"$f":"IFERROR(IF(J1820=99,1,IF(MATCH(J1820&\"/\"&L1820,読み替え表_食品ロス!$P$29:$P$42,0),1,0)),0)","v":0},"*"]
[null,null,1811,null,null,null,null,null,null,null,null,null,null,null,null,null,null,null,null,null,null,null,null,null,null,0,{"$f":"IFERROR(IF(J1821=99,1,IF(MATCH(J1821&\"/\"&L1821,読み替え表_食品ロス!$P$29:$P$42,0),1,0)),0)","v":0},"*"]
[null,null,1812,null,null,null,null,null,null,null,null,null,null,null,null,null,null,null,null,null,null,null,null,null,null,0,{"$f":"IFERROR(IF(J1822=99,1,IF(MATCH(J1822&\"/\"&L1822,読み替え表_食品ロス!$P$29:$P$42,0),1,0)),0)","v":0},"*"]
[null,null,1813,null,null,null,null,null,null,null,null,null,null,null,null,null,null,null,null,null,null,null,null,null,null,0,{"$f":"IFERROR(IF(J1823=99,1,IF(MATCH(J1823&\"/\"&L1823,読み替え表_食品ロス!$P$29:$P$42,0),1,0)),0)","v":0},"*"]
[null,null,1814,null,null,null,null,null,null,null,null,null,null,null,null,null,null,null,null,null,null,null,null,null,null,0,{"$f":"IFERROR(IF(J1824=99,1,IF(MATCH(J1824&\"/\"&L1824,読み替え表_食品ロス!$P$29:$P$42,0),1,0)),0)","v":0},"*"]
[null,null,1815,null,null,null,null,null,null,null,null,null,null,null,null,null,null,null,null,null,null,null,null,null,null,0,{"$f":"IFERROR(IF(J1825=99,1,IF(MATCH(J1825&\"/\"&L1825,読み替え表_食品ロス!$P$29:$P$42,0),1,0)),0)","v":0},"*"]
[null,null,1816,null,null,null,null,null,null,null,null,null,null,null,null,null,null,null,null,null,null,null,null,null,null,0,{"$f":"IFERROR(IF(J1826=99,1,IF(MATCH(J1826&\"/\"&L1826,読み替え表_食品ロス!$P$29:$P$42,0),1,0)),0)","v":0},"*"]
[null,null,1817,null,null,null,null,null,null,null,null,null,null,null,null,null,null,null,null,null,null,null,null,null,null,0,{"$f":"IFERROR(IF(J1827=99,1,IF(MATCH(J1827&\"/\"&L1827,読み替え表_食品ロス!$P$29:$P$42,0),1,0)),0)","v":0},"*"]
[null,null,1818,null,null,null,null,null,null,null,null,null,null,null,null,null,null,null,null,null,null,null,null,null,null,0,{"$f":"IFERROR(IF(J1828=99,1,IF(MATCH(J1828&\"/\"&L1828,読み替え表_食品ロス!$P$29:$P$42,0),1,0)),0)","v":0},"*"]
[null,null,1819,null,null,null,null,null,null,null,null,null,null,null,null,null,null,null,null,null,null,null,null,null,null,0,{"$f":"IFERROR(IF(J1829=99,1,IF(MATCH(J1829&\"/\"&L1829,読み替え表_食品ロス!$P$29:$P$42,0),1,0)),0)","v":0},"*"]
[null,null,1820,null,null,null,null,null,null,null,null,null,null,null,null,null,null,null,null,null,null,null,null,null,null,0,{"$f":"IFERROR(IF(J1830=99,1,IF(MATCH(J1830&\"/\"&L1830,読み替え表_食品ロス!$P$29:$P$42,0),1,0)),0)","v":0},"*"]
[null,null,1821,null,null,null,null,null,null,null,null,null,null,null,null,null,null,null,null,null,null,null,null,null,null,0,{"$f":"IFERROR(IF(J1831=99,1,IF(MATCH(J1831&\"/\"&L1831,読み替え表_食品ロス!$P$29:$P$42,0),1,0)),0)","v":0},"*"]
[null,null,1822,null,null,null,null,null,null,null,null,null,null,null,null,null,null,null,null,null,null,null,null,null,null,0,{"$f":"IFERROR(IF(J1832=99,1,IF(MATCH(J1832&\"/\"&L1832,読み替え表_食品ロス!$P$29:$P$42,0),1,0)),0)","v":0},"*"]
[null,null,1823,null,null,null,null,null,null,null,null,null,null,null,null,null,null,null,null,null,null,null,null,null,null,0,{"$f":"IFERROR(IF(J1833=99,1,IF(MATCH(J1833&\"/\"&L1833,読み替え表_食品ロス!$P$29:$P$42,0),1,0)),0)","v":0},"*"]
[null,null,1824,null,null,null,null,null,null,null,null,null,null,null,null,null,null,null,null,null,null,null,null,null,null,0,{"$f":"IFERROR(IF(J1834=99,1,IF(MATCH(J1834&\"/\"&L1834,読み替え表_食品ロス!$P$29:$P$42,0),1,0)),0)","v":0},"*"]
[null,null,1825,null,null,null,null,null,null,null,null,null,null,null,null,null,null,null,null,null,null,null,null,null,null,0,{"$f":"IFERROR(IF(J1835=99,1,IF(MATCH(J1835&\"/\"&L1835,読み替え表_食品ロス!$P$29:$P$42,0),1,0)),0)","v":0},"*"]
[null,null,1826,null,null,null,null,null,null,null,null,null,null,null,null,null,null,null,null,null,null,null,null,null,null,0,{"$f":"IFERROR(IF(J1836=99,1,IF(MATCH(J1836&\"/\"&L1836,読み替え表_食品ロス!$P$29:$P$42,0),1,0)),0)","v":0},"*"]
[null,null,1827,null,null,null,null,null,null,null,null,null,null,null,null,null,null,null,null,null,null,null,null,null,null,0,{"$f":"IFERROR(IF(J1837=99,1,IF(MATCH(J1837&\"/\"&L1837,読み替え表_食品ロス!$P$29:$P$42,0),1,0)),0)","v":0},"*"]
[null,null,1828,null,null,null,null,null,null,null,null,null,null,null,null,null,null,null,null,null,null,null,null,null,null,0,{"$f":"IFERROR(IF(J1838=99,1,IF(MATCH(J1838&\"/\"&L1838,読み替え表_食品ロス!$P$29:$P$42,0),1,0)),0)","v":0},"*"]
[null,null,1829,null,null,null,null,null,null,null,null,null,null,null,null,null,null,null,null,null,null,null,null,null,null,0,{"$f":"IFERROR(IF(J1839=99,1,IF(MATCH(J1839&\"/\"&L1839,読み替え表_食品ロス!$P$29:$P$42,0),1,0)),0)","v":0},"*"]
[null,null,1830,null,null,null,null,null,null,null,null,null,null,null,null,null,null,null,null,null,null,null,null,null,null,0,{"$f":"IFERROR(IF(J1840=99,1,IF(MATCH(J1840&\"/\"&L1840,読み替え表_食品ロス!$P$29:$P$42,0),1,0)),0)","v":0},"*"]
[null,null,1831,null,null,null,null,null,null,null,null,null,null,null,null,null,null,null,null,null,null,null,null,null,null,0,{"$f":"IFERROR(IF(J1841=99,1,IF(MATCH(J1841&\"/\"&L1841,読み替え表_食品ロス!$P$29:$P$42,0),1,0)),0)","v":0},"*"]
[null,null,1832,null,null,null,null,null,null,null,null,null,null,null,null,null,null,null,null,null,null,null,null,null,null,0,{"$f":"IFERROR(IF(J1842=99,1,IF(MATCH(J1842&\"/\"&L1842,読み替え表_食品ロス!$P$29:$P$42,0),1,0)),0)","v":0},"*"]
[null,null,1833,null,null,null,null,null,null,null,null,null,null,null,null,null,null,null,null,null,null,null,null,null,null,0,{"$f":"IFERROR(IF(J1843=99,1,IF(MATCH(J1843&\"/\"&L1843,読み替え表_食品ロス!$P$29:$P$42,0),1,0)),0)","v":0},"*"]
[null,null,1834,null,null,null,null,null,null,null,null,null,null,null,null,null,null,null,null,null,null,null,null,null,null,0,{"$f":"IFERROR(IF(J1844=99,1,IF(MATCH(J1844&\"/\"&L1844,読み替え表_食品ロス!$P$29:$P$42,0),1,0)),0)","v":0},"*"]
[null,null,1835,null,null,null,null,null,null,null,null,null,null,null,null,null,null,null,null,null,null,null,null,null,null,0,{"$f":"IFERROR(IF(J1845=99,1,IF(MATCH(J1845&\"/\"&L1845,読み替え表_食品ロス!$P$29:$P$42,0),1,0)),0)","v":0},"*"]
[null,null,1836,null,null,null,null,null,null,null,null,null,null,null,null,null,null,null,null,null,null,null,null,null,null,0,{"$f":"IFERROR(IF(J1846=99,1,IF(MATCH(J1846&\"/\"&L1846,読み替え表_食品ロス!$P$29:$P$42,0),1,0)),0)","v":0},"*"]
[null,null,1837,null,null,null,null,null,null,null,null,null,null,null,null,null,null,null,null,null,null,null,null,null,null,0,{"$f":"IFERROR(IF(J1847=99,1,IF(MATCH(J1847&\"/\"&L1847,読み替え表_食品ロス!$P$29:$P$42,0),1,0)),0)","v":0},"*"]
[null,null,1838,null,null,null,null,null,null,null,null,null,null,null,null,null,null,null,null,null,null,null,null,null,null,0,{"$f":"IFERROR(IF(J1848=99,1,IF(MATCH(J1848&\"/\"&L1848,読み替え表_食品ロス!$P$29:$P$42,0),1,0)),0)","v":0},"*"]
[null,null,1839,null,null,null,null,null,null,null,null,null,null,null,null,null,null,null,null,null,null,null,null,null,null,0,{"$f":"IFERROR(IF(J1849=99,1,IF(MATCH(J1849&\"/\"&L1849,読み替え表_食品ロス!$P$29:$P$42,0),1,0)),0)","v":0},"*"]
[null,null,1840,null,null,null,null,null,null,null,null,null,null,null,null,null,null,null,null,null,null,null,null,null,null,0,{"$f":"IFERROR(IF(J1850=99,1,IF(MATCH(J1850&\"/\"&L1850,読み替え表_食品ロス!$P$29:$P$42,0),1,0)),0)","v":0},"*"]
[null,null,1841,null,null,null,null,null,null,null,null,null,null,null,null,null,null,null,null,null,null,null,null,null,null,0,{"$f":"IFERROR(IF(J1851=99,1,IF(MATCH(J1851&\"/\"&L1851,読み替え表_食品ロス!$P$29:$P$42,0),1,0)),0)","v":0},"*"]
[null,null,1842,null,null,null,null,null,null,null,null,null,null,null,null,null,null,null,null,null,null,null,null,null,null,0,{"$f":"IFERROR(IF(J1852=99,1,IF(MATCH(J1852&\"/\"&L1852,読み替え表_食品ロス!$P$29:$P$42,0),1,0)),0)","v":0},"*"]
[null,null,1843,null,null,null,null,null,null,null,null,null,null,null,null,null,null,null,null,null,null,null,null,null,null,0,{"$f":"IFERROR(IF(J1853=99,1,IF(MATCH(J1853&\"/\"&L1853,読み替え表_食品ロス!$P$29:$P$42,0),1,0)),0)","v":0},"*"]
[null,null,1844,null,null,null,null,null,null,null,null,null,null,null,null,null,null,null,null,null,null,null,null,null,null,0,{"$f":"IFERROR(IF(J1854=99,1,IF(MATCH(J1854&\"/\"&L1854,読み替え表_食品ロス!$P$29:$P$42,0),1,0)),0)","v":0},"*"]
[null,null,1845,null,null,null,null,null,null,null,null,null,null,null,null,null,null,null,null,null,null,null,null,null,null,0,{"$f":"IFERROR(IF(J1855=99,1,IF(MATCH(J1855&\"/\"&L1855,読み替え表_食品ロス!$P$29:$P$42,0),1,0)),0)","v":0},"*"]
[null,null,1846,null,null,null,null,null,null,null,null,null,null,null,null,null,null,null,null,null,null,null,null,null,null,0,{"$f":"IFERROR(IF(J1856=99,1,IF(MATCH(J1856&\"/\"&L1856,読み替え表_食品ロス!$P$29:$P$42,0),1,0)),0)","v":0},"*"]
[null,null,1847,null,null,null,null,null,null,null,null,null,null,null,null,null,null,null,null,null,null,null,null,null,null,0,{"$f":"IFERROR(IF(J1857=99,1,IF(MATCH(J1857&\"/\"&L1857,読み替え表_食品ロス!$P$29:$P$42,0),1,0)),0)","v":0},"*"]
[null,null,1848,null,null,null,null,null,null,null,null,null,null,null,null,null,null,null,null,null,null,null,null,null,null,0,{"$f":"IFERROR(IF(J1858=99,1,IF(MATCH(J1858&\"/\"&L1858,読み替え表_食品ロス!$P$29:$P$42,0),1,0)),0)","v":0},"*"]
[null,null,1849,null,null,null,null,null,null,null,null,null,null,null,null,null,null,null,null,null,null,null,null,null,null,0,{"$f":"IFERROR(IF(J1859=99,1,IF(MATCH(J1859&\"/\"&L1859,読み替え表_食品ロス!$P$29:$P$42,0),1,0)),0)","v":0},"*"]
[null,null,1850,null,null,null,null,null,null,null,null,null,null,null,null,null,null,null,null,null,null,null,null,null,null,0,{"$f":"IFERROR(IF(J1860=99,1,IF(MATCH(J1860&\"/\"&L1860,読み替え表_食品ロス!$P$29:$P$42,0),1,0)),0)","v":0},"*"]
[null,null,1851,null,null,null,null,null,null,null,null,null,null,null,null,null,null,null,null,null,null,null,null,null,null,0,{"$f":"IFERROR(IF(J1861=99,1,IF(MATCH(J1861&\"/\"&L1861,読み替え表_食品ロス!$P$29:$P$42,0),1,0)),0)","v":0},"*"]
[null,null,1852,null,null,null,null,null,null,null,null,null,null,null,null,null,null,null,null,null,null,null,null,null,null,0,{"$f":"IFERROR(IF(J1862=99,1,IF(MATCH(J1862&\"/\"&L1862,読み替え表_食品ロス!$P$29:$P$42,0),1,0)),0)","v":0},"*"]
[null,null,1853,null,null,null,null,null,null,null,null,null,null,null,null,null,null,null,null,null,null,null,null,null,null,0,{"$f":"IFERROR(IF(J1863=99,1,IF(MATCH(J1863&\"/\"&L1863,読み替え表_食品ロス!$P$29:$P$42,0),1,0)),0)","v":0},"*"]
[null,null,1854,null,null,null,null,null,null,null,null,null,null,null,null,null,null,null,null,null,null,null,null,null,null,0,{"$f":"IFERROR(IF(J1864=99,1,IF(MATCH(J1864&\"/\"&L1864,読み替え表_食品ロス!$P$29:$P$42,0),1,0)),0)","v":0},"*"]
[null,null,1855,null,null,null,null,null,null,null,null,null,null,null,null,null,null,null,null,null,null,null,null,null,null,0,{"$f":"IFERROR(IF(J1865=99,1,IF(MATCH(J1865&\"/\"&L1865,読み替え表_食品ロス!$P$29:$P$42,0),1,0)),0)","v":0},"*"]
[null,null,1856,null,null,null,null,null,null,null,null,null,null,null,null,null,null,null,null,null,null,null,null,null,null,0,{"$f":"IFERROR(IF(J1866=99,1,IF(MATCH(J1866&\"/\"&L1866,読み替え表_食品ロス!$P$29:$P$42,0),1,0)),0)","v":0},"*"]
[null,null,1857,null,null,null,null,null,null,null,null,null,null,null,null,null,null,null,null,null,null,null,null,null,null,0,{"$f":"IFERROR(IF(J1867=99,1,IF(MATCH(J1867&\"/\"&L1867,読み替え表_食品ロス!$P$29:$P$42,0),1,0)),0)","v":0},"*"]
[null,null,{"$f":"ROW()-10","v":1858},null,null,null,null,null,null,null,null,null,null,null,null,null,null,null,null,null,null,null,null,null,null,{"$f":"IF(OR(L1868=1,L1868=2,L1868=3),1,0)","v":0},{"$f":"IFERROR(IF(J1868=99,1,IF(MATCH(J1868&\"/\"&L1868,読み替え表_食品ロス!$P$29:$P$42,0),1,0)),0)","v":0},"*"]
[null,null,1859,null,null,null,null,null,null,null,null,null,null,null,null,null,null,null,null,null,null,null,null,null,null,0,{"$f":"IFERROR(IF(J1869=99,1,IF(MATCH(J1869&\"/\"&L1869,読み替え表_食品ロス!$P$29:$P$42,0),1,0)),0)","v":0},"*"]
[null,null,1860,null,null,null,null,null,null,null,null,null,null,null,null,null,null,null,null,null,null,null,null,null,null,0,{"$f":"IFERROR(IF(J1870=99,1,IF(MATCH(J1870&\"/\"&L1870,読み替え表_食品ロス!$P$29:$P$42,0),1,0)),0)","v":0},"*"]
[null,null,1861,null,null,null,null,null,null,null,null,null,null,null,null,null,null,null,null,null,null,null,null,null,null,0,{"$f":"IFERROR(IF(J1871=99,1,IF(MATCH(J1871&\"/\"&L1871,読み替え表_食品ロス!$P$29:$P$42,0),1,0)),0)","v":0},"*"]
[null,null,1862,null,null,null,null,null,null,null,null,null,null,null,null,null,null,null,null,null,null,null,null,null,null,0,{"$f":"IFERROR(IF(J1872=99,1,IF(MATCH(J1872&\"/\"&L1872,読み替え表_食品ロス!$P$29:$P$42,0),1,0)),0)","v":0},"*"]
[null,null,1863,null,null,null,null,null,null,null,null,null,null,null,null,null,null,null,null,null,null,null,null,null,null,0,{"$f":"IFERROR(IF(J1873=99,1,IF(MATCH(J1873&\"/\"&L1873,読み替え表_食品ロス!$P$29:$P$42,0),1,0)),0)","v":0},"*"]
[null,null,1864,null,null,null,null,null,null,null,null,null,null,null,null,null,null,null,null,null,null,null,null,null,null,0,{"$f":"IFERROR(IF(J1874=99,1,IF(MATCH(J1874&\"/\"&L1874,読み替え表_食品ロス!$P$29:$P$42,0),1,0)),0)","v":0},"*"]
[null,null,1865,null,null,null,null,null,null,null,null,null,null,null,null,null,null,null,null,null,null,null,null,null,null,0,{"$f":"IFERROR(IF(J1875=99,1,IF(MATCH(J1875&\"/\"&L1875,読み替え表_食品ロス!$P$29:$P$42,0),1,0)),0)","v":0},"*"]
[null,null,1866,null,null,null,null,null,null,null,null,null,null,null,null,null,null,null,null,null,null,null,null,null,null,0,{"$f":"IFERROR(IF(J1876=99,1,IF(MATCH(J1876&\"/\"&L1876,読み替え表_食品ロス!$P$29:$P$42,0),1,0)),0)","v":0},"*"]
[null,null,1867,null,null,null,null,null,null,null,null,null,null,null,null,null,null,null,null,null,null,null,null,null,null,0,{"$f":"IFERROR(IF(J1877=99,1,IF(MATCH(J1877&\"/\"&L1877,読み替え表_食品ロス!$P$29:$P$42,0),1,0)),0)","v":0},"*"]
[null,null,1868,null,null,null,null,null,null,null,null,null,null,null,null,null,null,null,null,null,null,null,null,null,null,0,{"$f":"IFERROR(IF(J1878=99,1,IF(MATCH(J1878&\"/\"&L1878,読み替え表_食品ロス!$P$29:$P$42,0),1,0)),0)","v":0},"*"]
[null,null,1869,null,null,null,null,null,null,null,null,null,null,null,null,null,null,null,null,null,null,null,null,null,null,0,{"$f":"IFERROR(IF(J1879=99,1,IF(MATCH(J1879&\"/\"&L1879,読み替え表_食品ロス!$P$29:$P$42,0),1,0)),0)","v":0},"*"]
[null,null,1870,null,null,null,null,null,null,null,null,null,null,null,null,null,null,null,null,null,null,null,null,null,null,0,{"$f":"IFERROR(IF(J1880=99,1,IF(MATCH(J1880&\"/\"&L1880,読み替え表_食品ロス!$P$29:$P$42,0),1,0)),0)","v":0},"*"]
[null,null,1871,null,null,null,null,null,null,null,null,null,null,null,null,null,null,null,null,null,null,null,null,null,null,0,{"$f":"IFERROR(IF(J1881=99,1,IF(MATCH(J1881&\"/\"&L1881,読み替え表_食品ロス!$P$29:$P$42,0),1,0)),0)","v":0},"*"]
[null,null,1872,null,null,null,null,null,null,null,null,null,null,null,null,null,null,null,null,null,null,null,null,null,null,0,{"$f":"IFERROR(IF(J1882=99,1,IF(MATCH(J1882&\"/\"&L1882,読み替え表_食品ロス!$P$29:$P$42,0),1,0)),0)","v":0},"*"]
[null,null,1873,null,null,null,null,null,null,null,null,null,null,null,null,null,null,null,null,null,null,null,null,null,null,0,{"$f":"IFERROR(IF(J1883=99,1,IF(MATCH(J1883&\"/\"&L1883,読み替え表_食品ロス!$P$29:$P$42,0),1,0)),0)","v":0},"*"]
[null,null,1874,null,null,null,null,null,null,null,null,null,null,null,null,null,null,null,null,null,null,null,null,null,null,0,{"$f":"IFERROR(IF(J1884=99,1,IF(MATCH(J1884&\"/\"&L1884,読み替え表_食品ロス!$P$29:$P$42,0),1,0)),0)","v":0},"*"]
[null,null,1875,null,null,null,null,null,null,null,null,null,null,null,null,null,null,null,null,null,null,null,null,null,null,0,{"$f":"IFERROR(IF(J1885=99,1,IF(MATCH(J1885&\"/\"&L1885,読み替え表_食品ロス!$P$29:$P$42,0),1,0)),0)","v":0},"*"]
[null,null,1876,null,null,null,null,null,null,null,null,null,null,null,null,null,null,null,null,null,null,null,null,null,null,0,{"$f":"IFERROR(IF(J1886=99,1,IF(MATCH(J1886&\"/\"&L1886,読み替え表_食品ロス!$P$29:$P$42,0),1,0)),0)","v":0},"*"]
[null,null,1877,null,null,null,null,null,null,null,null,null,null,null,null,null,null,null,null,null,null,null,null,null,null,0,{"$f":"IFERROR(IF(J1887=99,1,IF(MATCH(J1887&\"/\"&L1887,読み替え表_食品ロス!$P$29:$P$42,0),1,0)),0)","v":0},"*"]
[null,null,1878,null,null,null,null,null,null,null,null,null,null,null,null,null,null,null,null,null,null,null,null,null,null,0,{"$f":"IFERROR(IF(J1888=99,1,IF(MATCH(J1888&\"/\"&L1888,読み替え表_食品ロス!$P$29:$P$42,0),1,0)),0)","v":0},"*"]
[null,null,1879,null,null,null,null,null,null,null,null,null,null,null,null,null,null,null,null,null,null,null,null,null,null,0,{"$f":"IFERROR(IF(J1889=99,1,IF(MATCH(J1889&\"/\"&L1889,読み替え表_食品ロス!$P$29:$P$42,0),1,0)),0)","v":0},"*"]
[null,null,1880,null,null,null,null,null,null,null,null,null,null,null,null,null,null,null,null,null,null,null,null,null,null,0,{"$f":"IFERROR(IF(J1890=99,1,IF(MATCH(J1890&\"/\"&L1890,読み替え表_食品ロス!$P$29:$P$42,0),1,0)),0)","v":0},"*"]
[null,null,1881,null,null,null,null,null,null,null,null,null,null,null,null,null,null,null,null,null,null,null,null,null,null,0,{"$f":"IFERROR(IF(J1891=99,1,IF(MATCH(J1891&\"/\"&L1891,読み替え表_食品ロス!$P$29:$P$42,0),1,0)),0)","v":0},"*"]
[null,null,1882,null,null,null,null,null,null,null,null,null,null,null,null,null,null,null,null,null,null,null,null,null,null,0,{"$f":"IFERROR(IF(J1892=99,1,IF(MATCH(J1892&\"/\"&L1892,読み替え表_食品ロス!$P$29:$P$42,0),1,0)),0)","v":0},"*"]
[null,null,1883,null,null,null,null,null,null,null,null,null,null,null,null,null,null,null,null,null,null,null,null,null,null,0,{"$f":"IFERROR(IF(J1893=99,1,IF(MATCH(J1893&\"/\"&L1893,読み替え表_食品ロス!$P$29:$P$42,0),1,0)),0)","v":0},"*"]
[null,null,1884,null,null,null,null,null,null,null,null,null,null,null,null,null,null,null,null,null,null,null,null,null,null,0,{"$f":"IFERROR(IF(J1894=99,1,IF(MATCH(J1894&\"/\"&L1894,読み替え表_食品ロス!$P$29:$P$42,0),1,0)),0)","v":0},"*"]
[null,null,1885,null,null,null,null,null,null,null,null,null,null,null,null,null,null,null,null,null,null,null,null,null,null,0,{"$f":"IFERROR(IF(J1895=99,1,IF(MATCH(J1895&\"/\"&L1895,読み替え表_食品ロス!$P$29:$P$42,0),1,0)),0)","v":0},"*"]
[null,null,1886,null,null,null,null,null,null,null,null,null,null,null,null,null,null,null,null,null,null,null,null,null,null,0,{"$f":"IFERROR(IF(J1896=99,1,IF(MATCH(J1896&\"/\"&L1896,読み替え表_食品ロス!$P$29:$P$42,0),1,0)),0)","v":0},"*"]
[null,null,1887,null,null,null,null,null,null,null,null,null,null,null,null,null,null,null,null,null,null,null,null,null,null,0,{"$f":"IFERROR(IF(J1897=99,1,IF(MATCH(J1897&\"/\"&L1897,読み替え表_食品ロス!$P$29:$P$42,0),1,0)),0)","v":0},"*"]
[null,null,1888,null,null,null,null,null,null,null,null,null,null,null,null,null,null,null,null,null,null,null,null,null,null,0,{"$f":"IFERROR(IF(J1898=99,1,IF(MATCH(J1898&\"/\"&L1898,読み替え表_食品ロス!$P$29:$P$42,0),1,0)),0)","v":0},"*"]
[null,null,1889,null,null,null,null,null,null,null,null,null,null,null,null,null,null,null,null,null,null,null,null,null,null,0,{"$f":"IFERROR(IF(J1899=99,1,IF(MATCH(J1899&\"/\"&L1899,読み替え表_食品ロス!$P$29:$P$42,0),1,0)),0)","v":0},"*"]
[null,null,1890,null,null,null,null,null,null,null,null,null,null,null,null,null,null,null,null,null,null,null,null,null,null,0,{"$f":"IFERROR(IF(J1900=99,1,IF(MATCH(J1900&\"/\"&L1900,読み替え表_食品ロス!$P$29:$P$42,0),1,0)),0)","v":0},"*"]
[null,null,1891,null,null,null,null,null,null,null,null,null,null,null,null,null,null,null,null,null,null,null,null,null,null,0,{"$f":"IFERROR(IF(J1901=99,1,IF(MATCH(J1901&\"/\"&L1901,読み替え表_食品ロス!$P$29:$P$42,0),1,0)),0)","v":0},"*"]
[null,null,1892,null,null,null,null,null,null,null,null,null,null,null,null,null,null,null,null,null,null,null,null,null,null,0,{"$f":"IFERROR(IF(J1902=99,1,IF(MATCH(J1902&\"/\"&L1902,読み替え表_食品ロス!$P$29:$P$42,0),1,0)),0)","v":0},"*"]
[null,null,1893,null,null,null,null,null,null,null,null,null,null,null,null,null,null,null,null,null,null,null,null,null,null,0,{"$f":"IFERROR(IF(J1903=99,1,IF(MATCH(J1903&\"/\"&L1903,読み替え表_食品ロス!$P$29:$P$42,0),1,0)),0)","v":0},"*"]
[null,null,1894,null,null,null,null,null,null,null,null,null,null,null,null,null,null,null,null,null,null,null,null,null,null,0,{"$f":"IFERROR(IF(J1904=99,1,IF(MATCH(J1904&\"/\"&L1904,読み替え表_食品ロス!$P$29:$P$42,0),1,0)),0)","v":0},"*"]
[null,null,1895,null,null,null,null,null,null,null,null,null,null,null,null,null,null,null,null,null,null,null,null,null,null,0,{"$f":"IFERROR(IF(J1905=99,1,IF(MATCH(J1905&\"/\"&L1905,読み替え表_食品ロス!$P$29:$P$42,0),1,0)),0)","v":0},"*"]
[null,null,1896,null,null,null,null,null,null,null,null,null,null,null,null,null,null,null,null,null,null,null,null,null,null,0,{"$f":"IFERROR(IF(J1906=99,1,IF(MATCH(J1906&\"/\"&L1906,読み替え表_食品ロス!$P$29:$P$42,0),1,0)),0)","v":0},"*"]
[null,null,1897,null,null,null,null,null,null,null,null,null,null,null,null,null,null,null,null,null,null,null,null,null,null,0,{"$f":"IFERROR(IF(J1907=99,1,IF(MATCH(J1907&\"/\"&L1907,読み替え表_食品ロス!$P$29:$P$42,0),1,0)),0)","v":0},"*"]
[null,null,1898,null,null,null,null,null,null,null,null,null,null,null,null,null,null,null,null,null,null,null,null,null,null,0,{"$f":"IFERROR(IF(J1908=99,1,IF(MATCH(J1908&\"/\"&L1908,読み替え表_食品ロス!$P$29:$P$42,0),1,0)),0)","v":0},"*"]
[null,null,1899,null,null,null,null,null,null,null,null,null,null,null,null,null,null,null,null,null,null,null,null,null,null,0,{"$f":"IFERROR(IF(J1909=99,1,IF(MATCH(J1909&\"/\"&L1909,読み替え表_食品ロス!$P$29:$P$42,0),1,0)),0)","v":0},"*"]
[null,null,1900,null,null,null,null,null,null,null,null,null,null,null,null,null,null,null,null,null,null,null,null,null,null,0,{"$f":"IFERROR(IF(J1910=99,1,IF(MATCH(J1910&\"/\"&L1910,読み替え表_食品ロス!$P$29:$P$42,0),1,0)),0)","v":0},"*"]
[null,null,1901,null,null,null,null,null,null,null,null,null,null,null,null,null,null,null,null,null,null,null,null,null,null,0,{"$f":"IFERROR(IF(J1911=99,1,IF(MATCH(J1911&\"/\"&L1911,読み替え表_食品ロス!$P$29:$P$42,0),1,0)),0)","v":0},"*"]
[null,null,1902,null,null,null,null,null,null,null,null,null,null,null,null,null,null,null,null,null,null,null,null,null,null,0,{"$f":"IFERROR(IF(J1912=99,1,IF(MATCH(J1912&\"/\"&L1912,読み替え表_食品ロス!$P$29:$P$42,0),1,0)),0)","v":0},"*"]
[null,null,1903,null,null,null,null,null,null,null,null,null,null,null,null,null,null,null,null,null,null,null,null,null,null,0,{"$f":"IFERROR(IF(J1913=99,1,IF(MATCH(J1913&\"/\"&L1913,読み替え表_食品ロス!$P$29:$P$42,0),1,0)),0)","v":0},"*"]
[null,null,1904,null,null,null,null,null,null,null,null,null,null,null,null,null,null,null,null,null,null,null,null,null,null,0,{"$f":"IFERROR(IF(J1914=99,1,IF(MATCH(J1914&\"/\"&L1914,読み替え表_食品ロス!$P$29:$P$42,0),1,0)),0)","v":0},"*"]
[null,null,1905,null,null,null,null,null,null,null,null,null,null,null,null,null,null,null,null,null,null,null,null,null,null,0,{"$f":"IFERROR(IF(J1915=99,1,IF(MATCH(J1915&\"/\"&L1915,読み替え表_食品ロス!$P$29:$P$42,0),1,0)),0)","v":0},"*"]
[null,null,1906,null,null,null,null,null,null,null,null,null,null,null,null,null,null,null,null,null,null,null,null,null,null,0,{"$f":"IFERROR(IF(J1916=99,1,IF(MATCH(J1916&\"/\"&L1916,読み替え表_食品ロス!$P$29:$P$42,0),1,0)),0)","v":0},"*"]
[null,null,1907,null,null,null,null,null,null,null,null,null,null,null,null,null,null,null,null,null,null,null,null,null,null,0,{"$f":"IFERROR(IF(J1917=99,1,IF(MATCH(J1917&\"/\"&L1917,読み替え表_食品ロス!$P$29:$P$42,0),1,0)),0)","v":0},"*"]
[null,null,1908,null,null,null,null,null,null,null,null,null,null,null,null,null,null,null,null,null,null,null,null,null,null,0,{"$f":"IFERROR(IF(J1918=99,1,IF(MATCH(J1918&\"/\"&L1918,読み替え表_食品ロス!$P$29:$P$42,0),1,0)),0)","v":0},"*"]
[null,null,1909,null,null,null,null,null,null,null,null,null,null,null,null,null,null,null,null,null,null,null,null,null,null,0,{"$f":"IFERROR(IF(J1919=99,1,IF(MATCH(J1919&\"/\"&L1919,読み替え表_食品ロス!$P$29:$P$42,0),1,0)),0)","v":0},"*"]
[null,null,1910,null,null,null,null,null,null,null,null,null,null,null,null,null,null,null,null,null,null,null,null,null,null,0,{"$f":"IFERROR(IF(J1920=99,1,IF(MATCH(J1920&\"/\"&L1920,読み替え表_食品ロス!$P$29:$P$42,0),1,0)),0)","v":0},"*"]
[null,null,1911,null,null,null,null,null,null,null,null,null,null,null,null,null,null,null,null,null,null,null,null,null,null,0,{"$f":"IFERROR(IF(J1921=99,1,IF(MATCH(J1921&\"/\"&L1921,読み替え表_食品ロス!$P$29:$P$42,0),1,0)),0)","v":0},"*"]
[null,null,1912,null,null,null,null,null,null,null,null,null,null,null,null,null,null,null,null,null,null,null,null,null,null,0,{"$f":"IFERROR(IF(J1922=99,1,IF(MATCH(J1922&\"/\"&L1922,読み替え表_食品ロス!$P$29:$P$42,0),1,0)),0)","v":0},"*"]
[null,null,1913,null,null,null,null,null,null,null,null,null,null,null,null,null,null,null,null,null,null,null,null,null,null,0,{"$f":"IFERROR(IF(J1923=99,1,IF(MATCH(J1923&\"/\"&L1923,読み替え表_食品ロス!$P$29:$P$42,0),1,0)),0)","v":0},"*"]
[null,null,1914,null,null,null,null,null,null,null,null,null,null,null,null,null,null,null,null,null,null,null,null,null,null,0,{"$f":"IFERROR(IF(J1924=99,1,IF(MATCH(J1924&\"/\"&L1924,読み替え表_食品ロス!$P$29:$P$42,0),1,0)),0)","v":0},"*"]
[null,null,1915,null,null,null,null,null,null,null,null,null,null,null,null,null,null,null,null,null,null,null,null,null,null,0,{"$f":"IFERROR(IF(J1925=99,1,IF(MATCH(J1925&\"/\"&L1925,読み替え表_食品ロス!$P$29:$P$42,0),1,0)),0)","v":0},"*"]
[null,null,1916,null,null,null,null,null,null,null,null,null,null,null,null,null,null,null,null,null,null,null,null,null,null,0,{"$f":"IFERROR(IF(J1926=99,1,IF(MATCH(J1926&\"/\"&L1926,読み替え表_食品ロス!$P$29:$P$42,0),1,0)),0)","v":0},"*"]
[null,null,1917,null,null,null,null,null,null,null,null,null,null,null,null,null,null,null,null,null,null,null,null,null,null,0,{"$f":"IFERROR(IF(J1927=99,1,IF(MATCH(J1927&\"/\"&L1927,読み替え表_食品ロス!$P$29:$P$42,0),1,0)),0)","v":0},"*"]
[null,null,1918,null,null,null,null,null,null,null,null,null,null,null,null,null,null,null,null,null,null,null,null,null,null,0,{"$f":"IFERROR(IF(J1928=99,1,IF(MATCH(J1928&\"/\"&L1928,読み替え表_食品ロス!$P$29:$P$42,0),1,0)),0)","v":0},"*"]
[null,null,1919,null,null,null,null,null,null,null,null,null,null,null,null,null,null,null,null,null,null,null,null,null,null,0,{"$f":"IFERROR(IF(J1929=99,1,IF(MATCH(J1929&\"/\"&L1929,読み替え表_食品ロス!$P$29:$P$42,0),1,0)),0)","v":0},"*"]
[null,null,1920,null,null,null,null,null,null,null,null,null,null,null,null,null,null,null,null,null,null,null,null,null,null,0,{"$f":"IFERROR(IF(J1930=99,1,IF(MATCH(J1930&\"/\"&L1930,読み替え表_食品ロス!$P$29:$P$42,0),1,0)),0)","v":0},"*"]
[null,null,1921,null,null,null,null,null,null,null,null,null,null,null,null,null,null,null,null,null,null,null,null,null,null,0,{"$f":"IFERROR(IF(J1931=99,1,IF(MATCH(J1931&\"/\"&L1931,読み替え表_食品ロス!$P$29:$P$42,0),1,0)),0)","v":0},"*"]
[null,null,{"$f":"ROW()-10","v":1922},null,null,null,null,null,null,null,null,null,null,null,null,null,null,null,null,null,null,null,null,null,null,{"$f":"IF(OR(L1932=1,L1932=2,L1932=3),1,0)","v":0},{"$f":"IFERROR(IF(J1932=99,1,IF(MATCH(J1932&\"/\"&L1932,読み替え表_食品ロス!$P$29:$P$42,0),1,0)),0)","v":0},"*"]
[null,null,1923,null,null,null,null,null,null,null,null,null,null,null,null,null,null,null,null,null,null,null,null,null,null,0,{"$f":"IFERROR(IF(J1933=99,1,IF(MATCH(J1933&\"/\"&L1933,読み替え表_食品ロス!$P$29:$P$42,0),1,0)),0)","v":0},"*"]
[null,null,1924,null,null,null,null,null,null,null,null,null,null,null,null,null,null,null,null,null,null,null,null,null,null,0,{"$f":"IFERROR(IF(J1934=99,1,IF(MATCH(J1934&\"/\"&L1934,読み替え表_食品ロス!$P$29:$P$42,0),1,0)),0)","v":0},"*"]
[null,null,1925,null,null,null,null,null,null,null,null,null,null,null,null,null,null,null,null,null,null,null,null,null,null,0,{"$f":"IFERROR(IF(J1935=99,1,IF(MATCH(J1935&\"/\"&L1935,読み替え表_食品ロス!$P$29:$P$42,0),1,0)),0)","v":0},"*"]
[null,null,1926,null,null,null,null,null,null,null,null,null,null,null,null,null,null,null,null,null,null,null,null,null,null,0,{"$f":"IFERROR(IF(J1936=99,1,IF(MATCH(J1936&\"/\"&L1936,読み替え表_食品ロス!$P$29:$P$42,0),1,0)),0)","v":0},"*"]
[null,null,1927,null,null,null,null,null,null,null,null,null,null,null,null,null,null,null,null,null,null,null,null,null,null,0,{"$f":"IFERROR(IF(J1937=99,1,IF(MATCH(J1937&\"/\"&L1937,読み替え表_食品ロス!$P$29:$P$42,0),1,0)),0)","v":0},"*"]
[null,null,1928,null,null,null,null,null,null,null,null,null,null,null,null,null,null,null,null,null,null,null,null,null,null,0,{"$f":"IFERROR(IF(J1938=99,1,IF(MATCH(J1938&\"/\"&L1938,読み替え表_食品ロス!$P$29:$P$42,0),1,0)),0)","v":0},"*"]
[null,null,1929,null,null,null,null,null,null,null,null,null,null,null,null,null,null,null,null,null,null,null,null,null,null,0,{"$f":"IFERROR(IF(J1939=99,1,IF(MATCH(J1939&\"/\"&L1939,読み替え表_食品ロス!$P$29:$P$42,0),1,0)),0)","v":0},"*"]
[null,null,1930,null,null,null,null,null,null,null,null,null,null,null,null,null,null,null,null,null,null,null,null,null,null,0,{"$f":"IFERROR(IF(J1940=99,1,IF(MATCH(J1940&\"/\"&L1940,読み替え表_食品ロス!$P$29:$P$42,0),1,0)),0)","v":0},"*"]
[null,null,1931,null,null,null,null,null,null,null,null,null,null,null,null,null,null,null,null,null,null,null,null,null,null,0,{"$f":"IFERROR(IF(J1941=99,1,IF(MATCH(J1941&\"/\"&L1941,読み替え表_食品ロス!$P$29:$P$42,0),1,0)),0)","v":0},"*"]
[null,null,1932,null,null,null,null,null,null,null,null,null,null,null,null,null,null,null,null,null,null,null,null,null,null,0,{"$f":"IFERROR(IF(J1942=99,1,IF(MATCH(J1942&\"/\"&L1942,読み替え表_食品ロス!$P$29:$P$42,0),1,0)),0)","v":0},"*"]
[null,null,1933,null,null,null,null,null,null,null,null,null,null,null,null,null,null,null,null,null,null,null,null,null,null,0,{"$f":"IFERROR(IF(J1943=99,1,IF(MATCH(J1943&\"/\"&L1943,読み替え表_食品ロス!$P$29:$P$42,0),1,0)),0)","v":0},"*"]
[null,null,1934,null,null,null,null,null,null,null,null,null,null,null,null,null,null,null,null,null,null,null,null,null,null,0,{"$f":"IFERROR(IF(J1944=99,1,IF(MATCH(J1944&\"/\"&L1944,読み替え表_食品ロス!$P$29:$P$42,0),1,0)),0)","v":0},"*"]
[null,null,1935,null,null,null,null,null,null,null,null,null,null,null,null,null,null,null,null,null,null,null,null,null,null,0,{"$f":"IFERROR(IF(J1945=99,1,IF(MATCH(J1945&\"/\"&L1945,読み替え表_食品ロス!$P$29:$P$42,0),1,0)),0)","v":0},"*"]
[null,null,1936,null,null,null,null,null,null,null,null,null,null,null,null,null,null,null,null,null,null,null,null,null,null,0,{"$f":"IFERROR(IF(J1946=99,1,IF(MATCH(J1946&\"/\"&L1946,読み替え表_食品ロス!$P$29:$P$42,0),1,0)),0)","v":0},"*"]
[null,null,1937,null,null,null,null,null,null,null,null,null,null,null,null,null,null,null,null,null,null,null,null,null,null,0,{"$f":"IFERROR(IF(J1947=99,1,IF(MATCH(J1947&\"/\"&L1947,読み替え表_食品ロス!$P$29:$P$42,0),1,0)),0)","v":0},"*"]
[null,null,1938,null,null,null,null,null,null,null,null,null,null,null,null,null,null,null,null,null,null,null,null,null,null,0,{"$f":"IFERROR(IF(J1948=99,1,IF(MATCH(J1948&\"/\"&L1948,読み替え表_食品ロス!$P$29:$P$42,0),1,0)),0)","v":0},"*"]
[null,null,1939,null,null,null,null,null,null,null,null,null,null,null,null,null,null,null,null,null,null,null,null,null,null,0,{"$f":"IFERROR(IF(J1949=99,1,IF(MATCH(J1949&\"/\"&L1949,読み替え表_食品ロス!$P$29:$P$42,0),1,0)),0)","v":0},"*"]
[null,null,1940,null,null,null,null,null,null,null,null,null,null,null,null,null,null,null,null,null,null,null,null,null,null,0,{"$f":"IFERROR(IF(J1950=99,1,IF(MATCH(J1950&\"/\"&L1950,読み替え表_食品ロス!$P$29:$P$42,0),1,0)),0)","v":0},"*"]
[null,null,1941,null,null,null,null,null,null,null,null,null,null,null,null,null,null,null,null,null,null,null,null,null,null,0,{"$f":"IFERROR(IF(J1951=99,1,IF(MATCH(J1951&\"/\"&L1951,読み替え表_食品ロス!$P$29:$P$42,0),1,0)),0)","v":0},"*"]
[null,null,1942,null,null,null,null,null,null,null,null,null,null,null,null,null,null,null,null,null,null,null,null,null,null,0,{"$f":"IFERROR(IF(J1952=99,1,IF(MATCH(J1952&\"/\"&L1952,読み替え表_食品ロス!$P$29:$P$42,0),1,0)),0)","v":0},"*"]
[null,null,1943,null,null,null,null,null,null,null,null,null,null,null,null,null,null,null,null,null,null,null,null,null,null,0,{"$f":"IFERROR(IF(J1953=99,1,IF(MATCH(J1953&\"/\"&L1953,読み替え表_食品ロス!$P$29:$P$42,0),1,0)),0)","v":0},"*"]
[null,null,1944,null,null,null,null,null,null,null,null,null,null,null,null,null,null,null,null,null,null,null,null,null,null,0,{"$f":"IFERROR(IF(J1954=99,1,IF(MATCH(J1954&\"/\"&L1954,読み替え表_食品ロス!$P$29:$P$42,0),1,0)),0)","v":0},"*"]
[null,null,1945,null,null,null,null,null,null,null,null,null,null,null,null,null,null,null,null,null,null,null,null,null,null,0,{"$f":"IFERROR(IF(J1955=99,1,IF(MATCH(J1955&\"/\"&L1955,読み替え表_食品ロス!$P$29:$P$42,0),1,0)),0)","v":0},"*"]
[null,null,1946,null,null,null,null,null,null,null,null,null,null,null,null,null,null,null,null,null,null,null,null,null,null,0,{"$f":"IFERROR(IF(J1956=99,1,IF(MATCH(J1956&\"/\"&L1956,読み替え表_食品ロス!$P$29:$P$42,0),1,0)),0)","v":0},"*"]
[null,null,1947,null,null,null,null,null,null,null,null,null,null,null,null,null,null,null,null,null,null,null,null,null,null,0,{"$f":"IFERROR(IF(J1957=99,1,IF(MATCH(J1957&\"/\"&L1957,読み替え表_食品ロス!$P$29:$P$42,0),1,0)),0)","v":0},"*"]
[null,null,1948,null,null,null,null,null,null,null,null,null,null,null,null,null,null,null,null,null,null,null,null,null,null,0,{"$f":"IFERROR(IF(J1958=99,1,IF(MATCH(J1958&\"/\"&L1958,読み替え表_食品ロス!$P$29:$P$42,0),1,0)),0)","v":0},"*"]
[null,null,1949,null,null,null,null,null,null,null,null,null,null,null,null,null,null,null,null,null,null,null,null,null,null,0,{"$f":"IFERROR(IF(J1959=99,1,IF(MATCH(J1959&\"/\"&L1959,読み替え表_食品ロス!$P$29:$P$42,0),1,0)),0)","v":0},"*"]
[null,null,1950,null,null,null,null,null,null,null,null,null,null,null,null,null,null,null,null,null,null,null,null,null,null,0,{"$f":"IFERROR(IF(J1960=99,1,IF(MATCH(J1960&\"/\"&L1960,読み替え表_食品ロス!$P$29:$P$42,0),1,0)),0)","v":0},"*"]
[null,null,1951,null,null,null,null,null,null,null,null,null,null,null,null,null,null,null,null,null,null,null,null,null,null,0,{"$f":"IFERROR(IF(J1961=99,1,IF(MATCH(J1961&\"/\"&L1961,読み替え表_食品ロス!$P$29:$P$42,0),1,0)),0)","v":0},"*"]
[null,null,1952,null,null,null,null,null,null,null,null,null,null,null,null,null,null,null,null,null,null,null,null,null,null,0,{"$f":"IFERROR(IF(J1962=99,1,IF(MATCH(J1962&\"/\"&L1962,読み替え表_食品ロス!$P$29:$P$42,0),1,0)),0)","v":0},"*"]
[null,null,1953,null,null,null,null,null,null,null,null,null,null,null,null,null,null,null,null,null,null,null,null,null,null,0,{"$f":"IFERROR(IF(J1963=99,1,IF(MATCH(J1963&\"/\"&L1963,読み替え表_食品ロス!$P$29:$P$42,0),1,0)),0)","v":0},"*"]
[null,null,1954,null,null,null,null,null,null,null,null,null,null,null,null,null,null,null,null,null,null,null,null,null,null,0,{"$f":"IFERROR(IF(J1964=99,1,IF(MATCH(J1964&\"/\"&L1964,読み替え表_食品ロス!$P$29:$P$42,0),1,0)),0)","v":0},"*"]
[null,null,1955,null,null,null,null,null,null,null,null,null,null,null,null,null,null,null,null,null,null,null,null,null,null,0,{"$f":"IFERROR(IF(J1965=99,1,IF(MATCH(J1965&\"/\"&L1965,読み替え表_食品ロス!$P$29:$P$42,0),1,0)),0)","v":0},"*"]
[null,null,1956,null,null,null,null,null,null,null,null,null,null,null,null,null,null,null,null,null,null,null,null,null,null,0,{"$f":"IFERROR(IF(J1966=99,1,IF(MATCH(J1966&\"/\"&L1966,読み替え表_食品ロス!$P$29:$P$42,0),1,0)),0)","v":0},"*"]
[null,null,1957,null,null,null,null,null,null,null,null,null,null,null,null,null,null,null,null,null,null,null,null,null,null,0,{"$f":"IFERROR(IF(J1967=99,1,IF(MATCH(J1967&\"/\"&L1967,読み替え表_食品ロス!$P$29:$P$42,0),1,0)),0)","v":0},"*"]
[null,null,1958,null,null,null,null,null,null,null,null,null,null,null,null,null,null,null,null,null,null,null,null,null,null,0,{"$f":"IFERROR(IF(J1968=99,1,IF(MATCH(J1968&\"/\"&L1968,読み替え表_食品ロス!$P$29:$P$42,0),1,0)),0)","v":0},"*"]
[null,null,1959,null,null,null,null,null,null,null,null,null,null,null,null,null,null,null,null,null,null,null,null,null,null,0,{"$f":"IFERROR(IF(J1969=99,1,IF(MATCH(J1969&\"/\"&L1969,読み替え表_食品ロス!$P$29:$P$42,0),1,0)),0)","v":0},"*"]
[null,null,1960,null,null,null,null,null,null,null,null,null,null,null,null,null,null,null,null,null,null,null,null,null,null,0,{"$f":"IFERROR(IF(J1970=99,1,IF(MATCH(J1970&\"/\"&L1970,読み替え表_食品ロス!$P$29:$P$42,0),1,0)),0)","v":0},"*"]
[null,null,1961,null,null,null,null,null,null,null,null,null,null,null,null,null,null,null,null,null,null,null,null,null,null,0,{"$f":"IFERROR(IF(J1971=99,1,IF(MATCH(J1971&\"/\"&L1971,読み替え表_食品ロス!$P$29:$P$42,0),1,0)),0)","v":0},"*"]
[null,null,1962,null,null,null,null,null,null,null,null,null,null,null,null,null,null,null,null,null,null,null,null,null,null,0,{"$f":"IFERROR(IF(J1972=99,1,IF(MATCH(J1972&\"/\"&L1972,読み替え表_食品ロス!$P$29:$P$42,0),1,0)),0)","v":0},"*"]
[null,null,1963,null,null,null,null,null,null,null,null,null,null,null,null,null,null,null,null,null,null,null,null,null,null,0,{"$f":"IFERROR(IF(J1973=99,1,IF(MATCH(J1973&\"/\"&L1973,読み替え表_食品ロス!$P$29:$P$42,0),1,0)),0)","v":0},"*"]
[null,null,1964,null,null,null,null,null,null,null,null,null,null,null,null,null,null,null,null,null,null,null,null,null,null,0,{"$f":"IFERROR(IF(J1974=99,1,IF(MATCH(J1974&\"/\"&L1974,読み替え表_食品ロス!$P$29:$P$42,0),1,0)),0)","v":0},"*"]
[null,null,1965,null,null,null,null,null,null,null,null,null,null,null,null,null,null,null,null,null,null,null,null,null,null,0,{"$f":"IFERROR(IF(J1975=99,1,IF(MATCH(J1975&\"/\"&L1975,読み替え表_食品ロス!$P$29:$P$42,0),1,0)),0)","v":0},"*"]
[null,null,1966,null,null,null,null,null,null,null,null,null,null,null,null,null,null,null,null,null,null,null,null,null,null,0,{"$f":"IFERROR(IF(J1976=99,1,IF(MATCH(J1976&\"/\"&L1976,読み替え表_食品ロス!$P$29:$P$42,0),1,0)),0)","v":0},"*"]
[null,null,1967,null,null,null,null,null,null,null,null,null,null,null,null,null,null,null,null,null,null,null,null,null,null,0,{"$f":"IFERROR(IF(J1977=99,1,IF(MATCH(J1977&\"/\"&L1977,読み替え表_食品ロス!$P$29:$P$42,0),1,0)),0)","v":0},"*"]
[null,null,1968,null,null,null,null,null,null,null,null,null,null,null,null,null,null,null,null,null,null,null,null,null,null,0,{"$f":"IFERROR(IF(J1978=99,1,IF(MATCH(J1978&\"/\"&L1978,読み替え表_食品ロス!$P$29:$P$42,0),1,0)),0)","v":0},"*"]
[null,null,1969,null,null,null,null,null,null,null,null,null,null,null,null,null,null,null,null,null,null,null,null,null,null,0,{"$f":"IFERROR(IF(J1979=99,1,IF(MATCH(J1979&\"/\"&L1979,読み替え表_食品ロス!$P$29:$P$42,0),1,0)),0)","v":0},"*"]
[null,null,1970,null,null,null,null,null,null,null,null,null,null,null,null,null,null,null,null,null,null,null,null,null,null,0,{"$f":"IFERROR(IF(J1980=99,1,IF(MATCH(J1980&\"/\"&L1980,読み替え表_食品ロス!$P$29:$P$42,0),1,0)),0)","v":0},"*"]
[null,null,1971,null,null,null,null,null,null,null,null,null,null,null,null,null,null,null,null,null,null,null,null,null,null,0,{"$f":"IFERROR(IF(J1981=99,1,IF(MATCH(J1981&\"/\"&L1981,読み替え表_食品ロス!$P$29:$P$42,0),1,0)),0)","v":0},"*"]
[null,null,1972,null,null,null,null,null,null,null,null,null,null,null,null,null,null,null,null,null,null,null,null,null,null,0,{"$f":"IFERROR(IF(J1982=99,1,IF(MATCH(J1982&\"/\"&L1982,読み替え表_食品ロス!$P$29:$P$42,0),1,0)),0)","v":0},"*"]
[null,null,1973,null,null,null,null,null,null,null,null,null,null,null,null,null,null,null,null,null,null,null,null,null,null,0,{"$f":"IFERROR(IF(J1983=99,1,IF(MATCH(J1983&\"/\"&L1983,読み替え表_食品ロス!$P$29:$P$42,0),1,0)),0)","v":0},"*"]
[null,null,1974,null,null,null,null,null,null,null,null,null,null,null,null,null,null,null,null,null,null,null,null,null,null,0,{"$f":"IFERROR(IF(J1984=99,1,IF(MATCH(J1984&\"/\"&L1984,読み替え表_食品ロス!$P$29:$P$42,0),1,0)),0)","v":0},"*"]
[null,null,1975,null,null,null,null,null,null,null,null,null,null,null,null,null,null,null,null,null,null,null,null,null,null,0,{"$f":"IFERROR(IF(J1985=99,1,IF(MATCH(J1985&\"/\"&L1985,読み替え表_食品ロス!$P$29:$P$42,0),1,0)),0)","v":0},"*"]
[null,null,1976,null,null,null,null,null,null,null,null,null,null,null,null,null,null,null,null,null,null,null,null,null,null,0,{"$f":"IFERROR(IF(J1986=99,1,IF(MATCH(J1986&\"/\"&L1986,読み替え表_食品ロス!$P$29:$P$42,0),1,0)),0)","v":0},"*"]
[null,null,1977,null,null,null,null,null,null,null,null,null,null,null,null,null,null,null,null,null,null,null,null,null,null,0,{"$f":"IFERROR(IF(J1987=99,1,IF(MATCH(J1987&\"/\"&L1987,読み替え表_食品ロス!$P$29:$P$42,0),1,0)),0)","v":0},"*"]
[null,null,1978,null,null,null,null,null,null,null,null,null,null,null,null,null,null,null,null,null,null,null,null,null,null,0,{"$f":"IFERROR(IF(J1988=99,1,IF(MATCH(J1988&\"/\"&L1988,読み替え表_食品ロス!$P$29:$P$42,0),1,0)),0)","v":0},"*"]
[null,null,1979,null,null,null,null,null,null,null,null,null,null,null,null,null,null,null,null,null,null,null,null,null,null,0,{"$f":"IFERROR(IF(J1989=99,1,IF(MATCH(J1989&\"/\"&L1989,読み替え表_食品ロス!$P$29:$P$42,0),1,0)),0)","v":0},"*"]
[null,null,1980,null,null,null,null,null,null,null,null,null,null,null,null,null,null,null,null,null,null,null,null,null,null,0,{"$f":"IFERROR(IF(J1990=99,1,IF(MATCH(J1990&\"/\"&L1990,読み替え表_食品ロス!$P$29:$P$42,0),1,0)),0)","v":0},"*"]
[null,null,1981,null,null,null,null,null,null,null,null,null,null,null,null,null,null,null,null,null,null,null,null,null,null,0,{"$f":"IFERROR(IF(J1991=99,1,IF(MATCH(J1991&\"/\"&L1991,読み替え表_食品ロス!$P$29:$P$42,0),1,0)),0)","v":0},"*"]
[null,null,1982,null,null,null,null,null,null,null,null,null,null,null,null,null,null,null,null,null,null,null,null,null,null,0,{"$f":"IFERROR(IF(J1992=99,1,IF(MATCH(J1992&\"/\"&L1992,読み替え表_食品ロス!$P$29:$P$42,0),1,0)),0)","v":0},"*"]
[null,null,1983,null,null,null,null,null,null,null,null,null,null,null,null,null,null,null,null,null,null,null,null,null,null,0,{"$f":"IFERROR(IF(J1993=99,1,IF(MATCH(J1993&\"/\"&L1993,読み替え表_食品ロス!$P$29:$P$42,0),1,0)),0)","v":0},"*"]
[null,null,1984,null,null,null,null,null,null,null,null,null,null,null,null,null,null,null,null,null,null,null,null,null,null,0,{"$f":"IFERROR(IF(J1994=99,1,IF(MATCH(J1994&\"/\"&L1994,読み替え表_食品ロス!$P$29:$P$42,0),1,0)),0)","v":0},"*"]
[null,null,1985,null,null,null,null,null,null,null,null,null,null,null,null,null,null,null,null,null,null,null,null,null,null,0,{"$f":"IFERROR(IF(J1995=99,1,IF(MATCH(J1995&\"/\"&L1995,読み替え表_食品ロス!$P$29:$P$42,0),1,0)),0)","v":0},"*"]
[null,null,{"$f":"ROW()-10","v":1986},null,null,null,null,null,null,null,null,null,null,null,null,null,null,null,null,null,null,null,null,null,null,{"$f":"IF(OR(L1996=1,L1996=2,L1996=3),1,0)","v":0},{"$f":"IFERROR(IF(J1996=99,1,IF(MATCH(J1996&\"/\"&L1996,読み替え表_食品ロス!$P$29:$P$42,0),1,0)),0)","v":0},"*"]
[null,null,1987,null,null,null,null,null,null,null,null,null,null,null,null,null,null,null,null,null,null,null,null,null,null,0,{"$f":"IFERROR(IF(J1997=99,1,IF(MATCH(J1997&\"/\"&L1997,読み替え表_食品ロス!$P$29:$P$42,0),1,0)),0)","v":0},"*"]
[null,null,1988,null,null,null,null,null,null,null,null,null,null,null,null,null,null,null,null,null,null,null,null,null,null,0,{"$f":"IFERROR(IF(J1998=99,1,IF(MATCH(J1998&\"/\"&L1998,読み替え表_食品ロス!$P$29:$P$42,0),1,0)),0)","v":0},"*"]
[null,null,1989,null,null,null,null,null,null,null,null,null,null,null,null,null,null,null,null,null,null,null,null,null,null,0,{"$f":"IFERROR(IF(J1999=99,1,IF(MATCH(J1999&\"/\"&L1999,読み替え表_食品ロス!$P$29:$P$42,0),1,0)),0)","v":0},"*"]
[null,null,1990,null,null,null,null,null,null,null,null,null,null,null,null,null,null,null,null,null,null,null,null,null,null,0,{"$f":"IFERROR(IF(J2000=99,1,IF(MATCH(J2000&\"/\"&L2000,読み替え表_食品ロス!$P$29:$P$42,0),1,0)),0)","v":0},"*"]
[null,null,1991,null,null,null,null,null,null,null,null,null,null,null,null,null,null,null,null,null,null,null,null,null,null,0,{"$f":"IFERROR(IF(J2001=99,1,IF(MATCH(J2001&\"/\"&L2001,読み替え表_食品ロス!$P$29:$P$42,0),1,0)),0)","v":0},"*"]
[null,null,1992,null,null,null,null,null,null,null,null,null,null,null,null,null,null,null,null,null,null,null,null,null,null,0,{"$f":"IFERROR(IF(J2002=99,1,IF(MATCH(J2002&\"/\"&L2002,読み替え表_食品ロス!$P$29:$P$42,0),1,0)),0)","v":0},"*"]
[null,null,1993,null,null,null,null,null,null,null,null,null,null,null,null,null,null,null,null,null,null,null,null,null,null,0,{"$f":"IFERROR(IF(J2003=99,1,IF(MATCH(J2003&\"/\"&L2003,読み替え表_食品ロス!$P$29:$P$42,0),1,0)),0)","v":0},"*"]
[null,null,1994,null,null,null,null,null,null,null,null,null,null,null,null,null,null,null,null,null,null,null,null,null,null,0,{"$f":"IFERROR(IF(J2004=99,1,IF(MATCH(J2004&\"/\"&L2004,読み替え表_食品ロス!$P$29:$P$42,0),1,0)),0)","v":0},"*"]
[null,null,1995,null,null,null,null,null,null,null,null,null,null,null,null,null,null,null,null,null,null,null,null,null,null,0,{"$f":"IFERROR(IF(J2005=99,1,IF(MATCH(J2005&\"/\"&L2005,読み替え表_食品ロス!$P$29:$P$42,0),1,0)),0)","v":0},"*"]
[null,null,1996,null,null,null,null,null,null,null,null,null,null,null,null,null,null,null,null,null,null,null,null,null,null,0,{"$f":"IFERROR(IF(J2006=99,1,IF(MATCH(J2006&\"/\"&L2006,読み替え表_食品ロス!$P$29:$P$42,0),1,0)),0)","v":0},"*"]
[null,null,1997,null,null,null,null,null,null,null,null,null,null,null,null,null,null,null,null,null,null,null,null,null,null,0,{"$f":"IFERROR(IF(J2007=99,1,IF(MATCH(J2007&\"/\"&L2007,読み替え表_食品ロス!$P$29:$P$42,0),1,0)),0)","v":0},"*"]
[null,null,1998,null,null,null,null,null,null,null,null,null,null,null,null,null,null,null,null,null,null,null,null,null,null,0,{"$f":"IFERROR(IF(J2008=99,1,IF(MATCH(J2008&\"/\"&L2008,読み替え表_食品ロス!$P$29:$P$42,0),1,0)),0)","v":0},"*"]
[null,null,1999,null,null,null,null,null,null,null,null,null,null,null,null,null,null,null,null,null,null,null,null,null,null,0,{"$f":"IFERROR(IF(J2009=99,1,IF(MATCH(J2009&\"/\"&L2009,読み替え表_食品ロス!$P$29:$P$42,0),1,0)),0)","v":0},"*"]
[null,null,2000,null,null,null,null,null,null,null,null,null,null,null,null,null,null,null,null,null,null,null,null,null,null,0,{"$f":"IFERROR(IF(J2010=99,1,IF(MATCH(J2010&\"/\"&L2010,読み替え表_食品ロス!$P$29:$P$42,0),1,0)),0)","v":0},"*"]
[null,null,"*","*","*","*","*","*","*","*","*","*","*","*","*","*","*","*","*","*","*","*","*","*","*","*","*","*"]

{"sheet":"集計結果⇒","index":3,"n_rows":0,"n_cols":0,"rows_kept":0,"cut":false,"hidden":false,"merged":[]}

{"sheet":"②単純集計表 ","index":4,"n_rows":166,"n_cols":12,"rows_kept":166,"cut":false,"hidden":false,"merged":[[134,4,134,6],[134,8,134,10],[133,1,134,2],[154,1,162,2],[140,4,140,6],[140,8,140,10],[6,1,6,2],[7,1,7,2],[29,4,29,5],[30,4,30,5],[31,4,31,5],[32,4,32,5],[27,1,44,1],[27,3,27,5],[35,3,35,5],[44,4,44,5],[40,4,40,5],[37,4,37,5],[38,4,38,5],[39,4,39,5],[43,4,43,5],[51,1,55,1],[105,1,111,1],[75,1,80,1],[1,3,1,5],[7,3,7,5],[6,3,6,5],[5,1,5,2],[5,3,5,5],[41,4,41,5],[42,4,42,5],[34,4,34,5],[36,4,36,5],[33,4,33,5],[1,1,1,2],[18,1,25,1],[4,1,4,2],[4,3,4,5],[3,3,3,5],[2,3,2,5],[28,4,28,5],[2,1,2,2],[3,1,3,2],[13,1,16,1],[128,1,128,5],[132,3,132,6],[132,7,132,10],[133,4,133,6],[133,8,133,10],[123,1,123,5],[124,1,124,5],[125,1,125,5],[126,1,126,5],[127,1,127,5],[142,4,142,6],[139,1,142,2],[139,4,139,6],[139,8,139,10],[141,4,141,6],[141,8,141,10],[142,8,142,10],[135,1,138,2],[135,4,135,6],[135,8,135,10],[136,4,136,6],[136,8,136,10],[137,4,137,6],[137,8,137,10],[138,4,138,6],[138,8,138,10],[143,1,148,2],[143,4,143,6],[143,8,143,10],[144,4,144,6],[144,8,144,10],[145,4,145,6],[145,8,145,10],[146,4,146,6],[146,8,146,10],[147,4,147,6],[147,8,147,10],[148,4,148,6],[148,8,148,10],[149,8,149,10],[150,4,150,6],[150,8,150,10],[149,1,153,2],[149,4,149,6],[152,4,152,6],[152,8,152,10],[153,4,153,6],[153,8,153,10],[151,4,151,6],[151,8,151,10],[157,4,157,6],[157,8,157,10],[154,4,154,6],[154,8,154,10],[160,8,160,10],[161,4,161,6],[161,8,161,10],[162,4,162,6],[162,8,162,10],[158,4,158,6],[158,8,158,10],[159,4,159,6],[159,8,159,10],[160,4,160,6],[155,4,155,6],[155,8,155,10],[156,4,156,6],[156,8,156,10]]}
[]
[null,"都道府県",null,{"$f":"①会場アンケート集計結果_食品ロス!D11","v":0}]
[null,"事業者名",null,{"$f":"①会場アンケート集計結果_食品ロス!E11","v":0}]
[null,"イベント名",null,{"$f":"①会場アンケート集計結果_食品ロス!F11","v":0}]
[null,"回収日付",null,{"$f":"①会場アンケート集計結果_食品ロス!G11","v":"00:00:00"}]
[null,"アンケート回収数",null,{"$f":"COUNTIFS(①会場アンケート集計結果_食品ロス!$H$11:$H$2010,\"<>\"&\"\")","v":0}]
[null,"有効アンケート数",null,{"$f":"COUNTIFS(①会場アンケート集計結果_食品ロス!$H$11:$H$2010,\"<>\"&\"\",①会場アンケート集計結果_食品ロス!$AA$11:$AA$2010,0)","v":0},{"$f":"COUNTIFS(①会場アンケート集計結果_食品ロス!$H$11:$H$2010,\"<>\"&\"\",①会場アンケート集計結果_食品ロス!$AA$11:$AA$2010,0)","v":0},{"$f":"COUNTIFS(①会場アンケート集計結果_食品ロス!$H$11:$H$2010,\"<>\"&\"\",①会場アンケート集計結果_食品ロス!$AA$11:$AA$2010,0)","v":0}]
[null,"メールアドレス回収数",null,{"$f":"COUNTIFS(①会場アンケート集計結果_食品ロス!$H$11:$H$2010,\"<>\"&\"\",①会場アンケート集計結果_食品ロス!$AA$11:$AA$2010,0,①会場アンケート集計結果_食品ロス!$V$11:$V$2010,1)","v":0}]
[]
[null,"【設問1-1】性別・年代"]
[null,"※来場者層の把握のため、「有効回答数」ではなく「アンケート回収数」で集計"]
[]
[null,null,null,null,null,null,"アンケート\n回収者","有効\n回答者","%","検算用"]
[null,"性別",1,"男性",null,null,{"$f":"COUNTIFS(①会場アンケート集計結果_食品ロス!$H:$H,'②単純集計表 '!D14)","v":0},{"$f":"COUNTIFS(①会場アンケート集計結果_食品ロス!$AA:$AA,0,①会場アンケート集計結果_食品ロス!$H:$H,'②単純集計表 '!D14)","v":0},{"$f":"G14/$D$6","v":{"$error":"#DIV/0!"}}]
[null,null,2,"女性",null,null,{"$f":"COUNTIFS(①会場アンケート集計結果_食品ロス!$H:$H,'②単純集計表 '!D15)","v":0},{"$f":"COUNTIFS(①会場アンケート集計結果_食品ロス!$AA:$AA,0,①会場アンケート集計結果_食品ロス!$H:$H,'②単純集計表 '!D15)","v":0},{"$f":"G15/$D$6","v":{"$error":"#DIV/0!"}}]
[null,null,3,"その他",null,null,{"$f":"COUNTIFS(①会場アンケート集計結果_食品ロス!$H:$H,'②単純集計表 '!D16)","v":0},{"$f":"COUNTIFS(①会場アンケート集計結果_食品ロス!$AA:$AA,0,①会場アンケート集計結果_食品ロス!$H:$H,'②単純集計表 '!D16)","v":0},{"$f":"G16/$D$6","v":{"$error":"#DIV/0!"}}]
[null,null,99,"未回答",null,null,{"$f":"COUNTIFS(①会場アンケート集計結果_食品ロス!$H:$H,'②単純集計表 '!D17)","v":0},{"$f":"COUNTIFS(①会場アンケート集計結果_食品ロス!$AA:$AA,0,①会場アンケート集計結果_食品ロス!$H:$H,'②単純集計表 '!D17)","v":0},{"$f":"G17/$D$6","v":{"$error":"#DIV/0!"}},{"$f":"SUM(G14:G17)","v":0}]
[]
[null,"年代",1,"10代",null,null,{"$f":"COUNTIFS(①会場アンケート集計結果_食品ロス!$I:$I,'②単純集計表 '!D19)","v":0},{"$f":"COUNTIFS(①会場アンケート集計結果_食品ロス!$AA:$AA,0,①会場アンケート集計結果_食品ロス!$I:$I,'②単純集計表 '!D19)","v":0},{"$f":"G19/$D$6","v":{"$error":"#DIV/0!"}}]
[null,null,2,"20代",null,null,{"$f":"COUNTIFS(①会場アンケート集計結果_食品ロス!$I:$I,'②単純集計表 '!D20)","v":0},{"$f":"COUNTIFS(①会場アンケート集計結果_食品ロス!$AA:$AA,0,①会場アンケート集計結果_食品ロス!$I:$I,'②単純集計表 '!D20)","v":0},{"$f":"G20/$D$6","v":{"$error":"#DIV/0!"}}]
[null,null,3,"30代",null,null,{"$f":"COUNTIFS(①会場アンケート集計結果_食品ロス!$I:$I,'②単純集計表 '!D21)","v":0},{"$f":"COUNTIFS(①会場アンケート集計結果_食品ロス!$AA:$AA,0,①会場アンケート集計結果_食品ロス!$I:$I,'②単純集計表 '!D21)","v":0},{"$error":"#DIV/0!"}]
[null,null,4,"40代",null,null,{"$f":"COUNTIFS(①会場アンケート集計結果_食品ロス!$I:$I,'②単純集計表 '!D22)","v":0},{"$f":"COUNTIFS(①会場アンケート集計結果_食品ロス!$AA:$AA,0,①会場アンケート集計結果_食品ロス!$I:$I,'②単純集計表 '!D22)","v":0},{"$error":"#DIV/0!"}]
[null,null,5,"50代",null,null,{"$f":"COUNTIFS(①会場アンケート集計結果_食品ロス!$I:$I,'②単純集計表 '!D23)","v":0},{"$f":"COUNTIFS(①会場アンケート集計結果_食品ロス!$AA:$AA,0,①会場アンケート集計結果_食品ロス!$I:$I,'②単純集計表 '!D23)","v":0},{"$error":"#DIV/0!"}]
[null,null,6,"60代",null,null,{"$f":"COUNTIFS(①会場アンケート集計結果_食品ロス!$I:$I,'②単純集計表 '!D24)","v":0},{"$f":"COUNTIFS(①会場アンケート集計結果_食品ロス!$AA:$AA,0,①会場アンケート集計結果_食品ロス!$I:$I,'②単純集計表 '!D24)","v":0},{"$error":"#DIV/0!"}]
[null,null,7,"70代以上",null,null,{"$f":"COUNTIFS(①会場アンケート集計結果_食品ロス!$I:$I,'②単純集計表 '!D25)","v":0},{"$f":"COUNTIFS(①会場アンケート集計結果_食品ロス!$AA:$AA,0,①会場アンケート集計結果_食品ロス!$I:$I,'②単純集計表 '!D25)","v":0},{"$error":"#DIV/0!"}]
[null,null,99,"未回答",null,null,{"$f":"COUNTIFS(①会場アンケート集計結果_食品ロス!$I:$I,'②単純集計表 '!D26)","v":0},{"$f":"COUNTIFS(①会場アンケート集計結果_食品ロス!$AA:$AA,0,①会場アンケート集計結果_食品ロス!$I:$I,'②単純集計表 '!D26)","v":0},{"$error":"#DIV/0!"},{"$f":"SUM(G19:G26)","v":0}]
[]
[null,"性別・年代別",null,"男性",null,null,{"$f":"SUM(G29:G35)","v":0},{"$f":"SUM(H29:H35)","v":0},{"$f":"G28/$D$6","v":{"$error":"#DIV/0!"}}]
[null,null,null,"男性","10代",null,{"$f":"COUNTIFS(①会場アンケート集計結果_食品ロス!$H:$H,D29,①会場アンケート集計結果_食品ロス!$I:$I,E29)","v":0},{"$f":"COUNTIFS(①会場アンケート集計結果_食品ロス!$AA:$AA,0,①会場アンケート集計結果_食品ロス!$H:$H,D29,①会場アンケート集計結果_食品ロス!$I:$I,E29)","v":0},{"$f":"G29/$D$6","v":{"$error":"#DIV/0!"}}]
[null,null,null,"男性","20代",null,{"$f":"COUNTIFS(①会場アンケート集計結果_食品ロス!$H:$H,D30,①会場アンケート集計結果_食品ロス!$I:$I,E30)","v":0},{"$f":"COUNTIFS(①会場アンケート集計結果_食品ロス!$AA:$AA,0,①会場アンケート集計結果_食品ロス!$H:$H,D30,①会場アンケート集計結果_食品ロス!$I:$I,E30)","v":0},{"$error":"#DIV/0!"}]
[null,null,null,"男性","30代",null,{"$f":"COUNTIFS(①会場アンケート集計結果_食品ロス!$H:$H,D31,①会場アンケート集計結果_食品ロス!$I:$I,E31)","v":0},{"$f":"COUNTIFS(①会場アンケート集計結果_食品ロス!$AA:$AA,0,①会場アンケート集計結果_食品ロス!$H:$H,D31,①会場アンケート集計結果_食品ロス!$I:$I,E31)","v":0},{"$error":"#DIV/0!"}]
[null,null,null,"男性","40代",null,{"$f":"COUNTIFS(①会場アンケート集計結果_食品ロス!$H:$H,D32,①会場アンケート集計結果_食品ロス!$I:$I,E32)","v":0},{"$f":"COUNTIFS(①会場アンケート集計結果_食品ロス!$AA:$AA,0,①会場アンケート集計結果_食品ロス!$H:$H,D32,①会場アンケート集計結果_食品ロス!$I:$I,E32)","v":0},{"$error":"#DIV/0!"}]
[null,null,null,"男性","50代",null,{"$f":"COUNTIFS(①会場アンケート集計結果_食品ロス!$H:$H,D33,①会場アンケート集計結果_食品ロス!$I:$I,E33)","v":0},{"$f":"COUNTIFS(①会場アンケート集計結果_食品ロス!$AA:$AA,0,①会場アンケート集計結果_食品ロス!$H:$H,D33,①会場アンケート集計結果_食品ロス!$I:$I,E33)","v":0},{"$error":"#DIV/0!"}]
[null,null,null,"男性","60代",null,{"$f":"COUNTIFS(①会場アンケート集計結果_食品ロス!$H:$H,D34,①会場アンケート集計結果_食品ロス!$I:$I,E34)","v":0},{"$f":"COUNTIFS(①会場アンケート集計結果_食品ロス!$AA:$AA,0,①会場アンケート集計結果_食品ロス!$H:$H,D34,①会場アンケート集計結果_食品ロス!$I:$I,E34)","v":0},{"$error":"#DIV/0!"}]
[null,null,null,"男性","70代以上",null,{"$f":"COUNTIFS(①会場アンケート集計結果_食品ロス!$H:$H,D35,①会場アンケート集計結果_食品ロス!$I:$I,E35)","v":0},{"$f":"COUNTIFS(①会場アンケート集計結果_食品ロス!$AA:$AA,0,①会場アンケート集計結果_食品ロス!$H:$H,D35,①会場アンケート集計結果_食品ロス!$I:$I,E35)","v":0},{"$error":"#DIV/0!"}]
[null,null,null,"女性",null,null,{"$f":"SUM(G37:G43)","v":0},{"$f":"SUM(H37:H43)","v":0},{"$error":"#DIV/0!"}]
[null,null,null,"女性","10代",null,{"$f":"COUNTIFS(①会場アンケート集計結果_食品ロス!$H:$H,D37,①会場アンケート集計結果_食品ロス!$I:$I,E37)","v":0},{"$f":"COUNTIFS(①会場アンケート集計結果_食品ロス!$AA:$AA,0,①会場アンケート集計結果_食品ロス!$H:$H,D37,①会場アンケート集計結果_食品ロス!$I:$I,E37)","v":0},{"$error":"#DIV/0!"}]
[null,null,null,"女性","20代",null,{"$f":"COUNTIFS(①会場アンケート集計結果_食品ロス!$H:$H,D38,①会場アンケート集計結果_食品ロス!$I:$I,E38)","v":0},{"$f":"COUNTIFS(①会場アンケート集計結果_食品ロス!$AA:$AA,0,①会場アンケート集計結果_食品ロス!$H:$H,D38,①会場アンケート集計結果_食品ロス!$I:$I,E38)","v":0},{"$error":"#DIV/0!"}]
[null,null,null,"女性","30代",null,{"$f":"COUNTIFS(①会場アンケート集計結果_食品ロス!$H:$H,D39,①会場アンケート集計結果_食品ロス!$I:$I,E39)","v":0},{"$f":"COUNTIFS(①会場アンケート集計結果_食品ロス!$AA:$AA,0,①会場アンケート集計結果_食品ロス!$H:$H,D39,①会場アンケート集計結果_食品ロス!$I:$I,E39)","v":0},{"$error":"#DIV/0!"}]
[null,null,null,"女性","40代",null,{"$f":"COUNTIFS(①会場アンケート集計結果_食品ロス!$H:$H,D40,①会場アンケート集計結果_食品ロス!$I:$I,E40)","v":0},{"$f":"COUNTIFS(①会場アンケート集計結果_食品ロス!$AA:$AA,0,①会場アンケート集計結果_食品ロス!$H:$H,D40,①会場アンケート集計結果_食品ロス!$I:$I,E40)","v":0},{"$error":"#DIV/0!"}]
[null,null,null,"女性","50代",null,{"$f":"COUNTIFS(①会場アンケート集計結果_食品ロス!$H:$H,D41,①会場アンケート集計結果_食品ロス!$I:$I,E41)","v":0},{"$f":"COUNTIFS(①会場アンケート集計結果_食品ロス!$AA:$AA,0,①会場アンケート集計結果_食品ロス!$H:$H,D41,①会場アンケート集計結果_食品ロス!$I:$I,E41)","v":0},{"$error":"#DIV/0!"}]
[null,null,null,"女性","60代",null,{"$f":"COUNTIFS(①会場アンケート集計結果_食品ロス!$H:$H,D42,①会場アンケート集計結果_食品ロス!$I:$I,E42)","v":0},{"$f":"COUNTIFS(①会場アンケート集計結果_食品ロス!$AA:$AA,0,①会場アンケート集計結果_食品ロス!$H:$H,D42,①会場アンケート集計結果_食品ロス!$I:$I,E42)","v":0},{"$error":"#DIV/0!"}]
[null,null,null,"女性","70代以上",null,{"$f":"COUNTIFS(①会場アンケート集計結果_食品ロス!$H:$H,D43,①会場アンケート集計結果_食品ロス!$I:$I,E43)","v":0},{"$f":"COUNTIFS(①会場アンケート集計結果_食品ロス!$AA:$AA,0,①会場アンケート集計結果_食品ロス!$H:$H,D43,①会場アンケート集計結果_食品ロス!$I:$I,E43)","v":0},{"$error":"#DIV/0!"}]
[null,null,null,"その他","その他",null,{"$f":"COUNTIFS(①会場アンケート集計結果_食品ロス!$H:$H,D44,①会場アンケート集計結果_食品ロス!$I:$I,\"<>\"&D45)","v":0},{"$f":"COUNTIFS(①会場アンケート集計結果_食品ロス!$AA:$AA,0,①会場アンケート集計結果_食品ロス!$H:$H,D44,①会場アンケート集計結果_食品ロス!$I:$I,\"<>\"&D45)","v":0},{"$error":"#DIV/0!"}]
[null,null,null,"未回答","未回答",null,{"$f":"COUNTIFS(①会場アンケート集計結果_食品ロス!$H:$H,D45,①会場アンケート集計結果_食品ロス!$I:$I,\"<>\")\n+COUNTIFS(①会場アンケート集計結果_食品ロス!$H:$H,\"<>\",①会場アンケート集計結果_食品ロス!$I:$I,E45)\n-COUNTIFS(①会場アンケート集計結果_食品ロス!$H:$H,D45,①会場アンケート集計結果_食品ロス!$I:$I,E45)","v":0},{"$f":"COUNTIFS(①会場アンケート集計結果_食品ロス!$AA:$AA,0,①会場アンケート集計結果_食品ロス!$H:$H,D45,①会場アンケート集計結果_食品ロス!$I:$I,\"<>\")\n+COUNTIFS(①会場アンケート集計結果_食品ロス!$AA:$AA,0,①会場アンケート集計結果_食品ロス!$H:$H,\"<>\",①会場アンケート集計結果_食品ロス!$I:$I,E45)\n-COUNTIFS(①会場アンケート集計結果_食品ロス!$AA:$AA,0,①会場アンケート集計結果_食品ロス!$H:$H,D45,①会場アンケート集計結果_食品ロス!$I:$I,E45)","v":0},{"$error":"#DIV/0!"},{"$f":"SUM(G37:G45,G29:G35)","v":0}]
[]
[]
[]
[null,"【設問2】現在の食品ロス削減の取組状況についてお聞かせください（1つ回答）。"]
[]
[null,null,null,null,null,null,null,null,null,"回答者数","有効回答者数","%"]
[null,"これまでの食品ロス削減取組状況",1,"常に行っている",null,null,null,null,null,{"$f":"COUNTIFS(①会場アンケート集計結果_食品ロス!$J$11:$J$2010,$C52)","v":0},{"$f":"COUNTIFS(①会場アンケート集計結果_食品ロス!$J$11:$J$2010,$C52,①会場アンケート集計結果_食品ロス!$AA$11:$AA$2010,0)","v":0},{"$f":"K52/$D$7","v":{"$error":"#DIV/0!"}}]
[null,null,2,"気づいたときに行っている",null,null,null,null,null,{"$f":"COUNTIFS(①会場アンケート集計結果_食品ロス!$J$11:$J$2010,$C53)","v":0},{"$f":"COUNTIFS(①会場アンケート集計結果_食品ロス!$J$11:$J$2010,$C53,①会場アンケート集計結果_食品ロス!$AA$11:$AA$2010,0)","v":0},{"$error":"#DIV/0!"}]
[null,null,3,"行っていないが、行いたいと思っている",null,null,null,null,null,{"$f":"COUNTIFS(①会場アンケート集計結果_食品ロス!$J$11:$J$2010,$C54)","v":0},{"$f":"COUNTIFS(①会場アンケート集計結果_食品ロス!$J$11:$J$2010,$C54,①会場アンケート集計結果_食品ロス!$AA$11:$AA$2010,0)","v":0},{"$error":"#DIV/0!"}]
[null,null,4,"行っておらず、行いたいとも思わない",null,null,null,null,null,{"$f":"COUNTIFS(①会場アンケート集計結果_食品ロス!$J$11:$J$2010,$C55)","v":0},{"$f":"COUNTIFS(①会場アンケート集計結果_食品ロス!$J$11:$J$2010,$C55,①会場アンケート集計結果_食品ロス!$AA$11:$AA$2010,0)","v":0},{"$error":"#DIV/0!"}]
[null,null,99,"未回答",null,null,null,null,null,{"$f":"COUNTIFS(①会場アンケート集計結果_食品ロス!$J$11:$J$2010,$C56)","v":0},{"$f":"COUNTIFS(①会場アンケート集計結果_食品ロス!$J$11:$J$2010,$C56,①会場アンケート集計結果_食品ロス!$AA$11:$AA$2010,0)","v":0},{"$error":"#DIV/0!"}]
[null,null,null,null,null,null,null,"検算用","回答者数",{"$f":"SUM(J52:J56)","v":0}]
[null,null,null,null,null,null,null,null,"有効回答数",null,{"$f":"SUM(K52:K56)","v":0}]
[]
[]
[]
[]
[]
[]
[]
[]
[]
[]
[]
[]
[]
[]
[null,"【設問3】イベントに参加されて、食品ロス削減を実施したいと思いましたか（1つ回答）。"]
[]
[null,null,null,null,null,null,null,null,null,"回答者数","%"]
[null,"今後の食品ロス削減取組意向",1,"現在も常に行っており、今後も行いたい",null,null,null,null,null,{"$f":"COUNTIFS(①会場アンケート集計結果_食品ロス!$AA$11:$AA$2010,0,①会場アンケート集計結果_食品ロス!$L$11:$L$2010,$C76)","v":0},{"$f":"J76/$D$7","v":{"$error":"#DIV/0!"}}]
[null,null,2,"これまで行う頻度は少なかったが、今後は常に行いたい",null,null,null,null,null,{"$f":"COUNTIFS(①会場アンケート集計結果_食品ロス!$AA$11:$AA$2010,0,①会場アンケート集計結果_食品ロス!$L$11:$L$2010,$C77)","v":0},{"$error":"#DIV/0!"}]
[null,null,3,"機会があれば行いたい",null,null,null,null,null,{"$f":"COUNTIFS(①会場アンケート集計結果_食品ロス!$AA$11:$AA$2010,0,①会場アンケート集計結果_食品ロス!$L$11:$L$2010,$C78)","v":0},{"$error":"#DIV/0!"}]
[null,null,4,"行いたいとは思わない",null,null,null,null,null,{"$f":"COUNTIFS(①会場アンケート集計結果_食品ロス!$AA$11:$AA$2010,0,①会場アンケート集計結果_食品ロス!$L$11:$L$2010,$C79)","v":0},{"$error":"#DIV/0!"}]
[null,null,5,"わからない",null,null,null,null,null,{"$f":"COUNTIFS(①会場アンケート集計結果_食品ロス!$AA$11:$AA$2010,0,①会場アンケート集計結果_食品ロス!$L$11:$L$2010,$C80)","v":0},{"$error":"#DIV/0!"}]
[null,null,99,"未回答",null,null,null,null,null,{"$f":"COUNTIFS(①会場アンケート集計結果_食品ロス!$AA$11:$AA$2010,0,①会場アンケート集計結果_食品ロス!$L$11:$L$2010,$C81)","v":0},{"$error":"#DIV/0!"}]
[null,null,null,null,null,null,null,"検算用","有効回答数",{"$f":"SUM(J76:J81)","v":0}]
[]
[]
[]
[]
[]
[]
[]
[]
[]
[]
[]
[]
[]
[]
[]
[]
[]
[]
[]
[null,"【設問4】なぜ、食品ロス削減を実施していますか/実施したいと思いましたか（3つまで）。"]
[null,"※設問3で「現在も常に行っており、今後も行いたい」「これまで行う頻度は少なかったが、今後は常に行いたい」「機会があれば行いたい」と回答した人対象"]
[]
[null,null,null,null,null,null,null,null,null,"回答者数","%"]
[null,"取組意向の理由",1,"CO2の削減に貢献するため",null,null,null,null,null,{"$f":"COUNTIFS(①会場アンケート集計結果_食品ロス!$AA$11:$AA$2010,0,①会場アンケート集計結果_食品ロス!$N$11:$N$2010,1,①会場アンケート集計結果_食品ロス!$Z$11:$Z$2010,1)","v":0},{"$f":"J106/$L$112","v":{"$error":"#DIV/0!"}}]
[null,null,2,"もったいないと思うため",null,null,null,null,null,{"$f":"COUNTIFS(①会場アンケート集計結果_食品ロス!$AA$11:$AA$2010,0,①会場アンケート集計結果_食品ロス!$O$11:$O$2010,1,①会場アンケート集計結果_食品ロス!$Z$11:$Z$2010,1)","v":0},{"$f":"J107/$L$112","v":{"$error":"#DIV/0!"}}]
[null,null,3,"これまでよりも食費が安くなると思ったため",null,null,null,null,null,{"$f":"COUNTIFS(①会場アンケート集計結果_食品ロス!$AA$11:$AA$2010,0,①会場アンケート集計結果_食品ロス!$P$11:$P$2010,1,①会場アンケート集計結果_食品ロス!$Z$11:$Z$2010,1)","v":0},{"$error":"#DIV/0!"}]
[null,null,4,"みんな（周りの人）が食品ロス削減のための取組を行っているため",null,null,null,null,null,{"$f":"COUNTIFS(①会場アンケート集計結果_食品ロス!$AA$11:$AA$2010,0,①会場アンケート集計結果_食品ロス!$Q$11:$Q$2010,1,①会場アンケート集計結果_食品ロス!$Z$11:$Z$2010,1)","v":0},{"$error":"#DIV/0!"}]
[null,null,5,"その他",null,null,null,null,null,{"$f":"COUNTIFS(①会場アンケート集計結果_食品ロス!$AA$11:$AA$2010,0,①会場アンケート集計結果_食品ロス!$R$11:$R$2010,1,①会場アンケート集計結果_食品ロス!$Z$11:$Z$2010,1)","v":0},{"$error":"#DIV/0!"}]
[null,null,6,"特に理由はない・なんとなく",null,null,null,null,null,{"$f":"COUNTIFS(①会場アンケート集計結果_食品ロス!$AA$11:$AA$2010,0,①会場アンケート集計結果_食品ロス!$T$11:$T$2010,1,①会場アンケート集計結果_食品ロス!$Z$11:$Z$2010,1)","v":0},{"$error":"#DIV/0!"}]
[null,null,99,"未回答",null,null,null,null,null,{"$f":"COUNTIFS(①会場アンケート集計結果_食品ロス!$AA$11:$AA$2010,0,①会場アンケート集計結果_食品ロス!$U$11:$U$2010,1,①会場アンケート集計結果_食品ロス!$Z$11:$Z$2010,1)","v":0},{"$error":"#DIV/0!"},{"$f":"COUNTIFS(①会場アンケート集計結果_食品ロス!$AA$11:$AA$2010,0,①会場アンケート集計結果_食品ロス!$Z$11:$Z$2010,1)","v":0}]
[]
[]
[]
[]
[]
[]
[]
[]
[null,"【設問2、3】行動変容・意識変容"]
[]
[null,null,null,null,null,null,"回答者数","%","検算用"]
[null,"行動済み",null,null,null,null,{"$f":"SUM(L134:L135)","v":0},{"$f":"G124/$D$7","v":{"$error":"#DIV/0!"}}]
[null,"意識変容",null,null,null,null,{"$f":"SUM(L136:L139)","v":0},{"$f":"G125/$D$7","v":{"$error":"#DIV/0!"}}]
[null,"現状維持",null,null,null,null,{"$f":"SUM(L140:L143)","v":0},{"$error":"#DIV/0!"}]
[null,"マイナス変容",null,null,null,null,{"$f":"SUM(L144:L149)","v":0},{"$error":"#DIV/0!"}]
[null,"＜無効回答＞回答に矛盾があるため除外",null,null,null,null,{"$f":"SUM(L150:L154)","v":0},{"$error":"#DIV/0!"},{"$f":"SUM(G124:G127)","v":0},"←有効回答"]
[null,"対象外（一部未回答）",null,null,null,null,{"$f":"SUM(L155:L163)","v":0},{"$error":"#DIV/0!"},{"$f":"SUM(G124:G129)","v":0}]
[]
[]
[null,"変容定義"]
[null,null,null,"イベント前",null,null,null,"今後",null,null,null,"回答者数"]
[null,"行動済み",null,1,"常に行っている",null,null,1,"現在も常に行っており、今後も行いたい",null,null,{"$f":"COUNTIFS(①会場アンケート集計結果_食品ロス!$J$11:$J$5010,'②単純集計表 '!$D134,①会場アンケート集計結果_食品ロス!$L$11:$L$5010,'②単純集計表 '!$H134,①会場アンケート集計結果_食品ロス!$AA$11:$AA$5010,0)","v":0}]
[null,null,null,1,"常に行っている",null,null,99,"未回答",null,null,{"$f":"COUNTIFS(①会場アンケート集計結果_食品ロス!$J$11:$J$5010,'②単純集計表 '!$D135,①会場アンケート集計結果_食品ロス!$L$11:$L$5010,'②単純集計表 '!$H135,①会場アンケート集計結果_食品ロス!$AA$11:$AA$5010,0)","v":0}]
[null,"意識変容",null,2,"気づいたときに行っている",null,null,2,"これまで行う頻度は少なかったが、今後は常に行いたい",null,null,{"$f":"COUNTIFS(①会場アンケート集計結果_食品ロス!$J$11:$J$5010,'②単純集計表 '!$D136,①会場アンケート集計結果_食品ロス!$L$11:$L$5010,'②単純集計表 '!$H136,①会場アンケート集計結果_食品ロス!$AA$11:$AA$5010,0)","v":0}]
[null,null,null,3,"行っていないが、行いたいと思っている",null,null,2,"これまで行う頻度は少なかったが、今後は常に行いたい",null,null,{"$f":"COUNTIFS(①会場アンケート集計結果_食品ロス!$J$11:$J$5010,'②単純集計表 '!$D137,①会場アンケート集計結果_食品ロス!$L$11:$L$5010,'②単純集計表 '!$H137,①会場アンケート集計結果_食品ロス!$AA$11:$AA$5010,0)","v":0}]
[null,null,null,4,"行っておらず、行いたいとも思わない",null,null,2,"これまで行う頻度は少なかったが、今後は常に行いたい",null,null,{"$f":"COUNTIFS(①会場アンケート集計結果_食品ロス!$J$11:$J$5010,'②単純集計表 '!$D138,①会場アンケート集計結果_食品ロス!$L$11:$L$5010,'②単純集計表 '!$H138,①会場アンケート集計結果_食品ロス!$AA$11:$AA$5010,0)","v":0}]
[null,null,null,4,"行っておらず、行いたいとも思わない",null,null,3,"機会があれば行いたい",null,null,{"$f":"COUNTIFS(①会場アンケート集計結果_食品ロス!$J$11:$J$5010,'②単純集計表 '!$D139,①会場アンケート集計結果_食品ロス!$L$11:$L$5010,'②単純集計表 '!$H139,①会場アンケート集計結果_食品ロス!$AA$11:$AA$5010,0)","v":0}]
[null,"現状維持",null,2,"気づいたときに行っている",null,null,3,"機会があれば行いたい",null,null,{"$f":"COUNTIFS(①会場アンケート集計結果_食品ロス!$J$11:$J$5010,'②単純集計表 '!$D140,①会場アンケート集計結果_食品ロス!$L$11:$L$5010,'②単純集計表 '!$H140,①会場アンケート集計結果_食品ロス!$AA$11:$AA$5010,0)","v":0}]
[null,null,null,3,"行っていないが、行いたいと思っている",null,null,3,"機会があれば行いたい",null,null,{"$f":"COUNTIFS(①会場アンケート集計結果_食品ロス!$J$11:$J$5010,'②単純集計表 '!$D141,①会場アンケート集計結果_食品ロス!$L$11:$L$5010,'②単純集計表 '!$H141,①会場アンケート集計結果_食品ロス!$AA$11:$AA$5010,0)","v":0}]
[null,null,null,4,"行っておらず、行いたいとも思わない",null,null,4,"行いたいとは思わない",null,null,{"$f":"COUNTIFS(①会場アンケート集計結果_食品ロス!$J$11:$J$5010,'②単純集計表 '!$D142,①会場アンケート集計結果_食品ロス!$L$11:$L$5010,'②単純集計表 '!$H142,①会場アンケート集計結果_食品ロス!$AA$11:$AA$5010,0)","v":0}]
[null,null,null,4,"興味がなかった",null,null,5,"わからない",null,null,{"$f":"COUNTIFS(①会場アンケート集計結果_食品ロス!$J$11:$J$5010,'②単純集計表 '!$D143,①会場アンケート集計結果_食品ロス!$L$11:$L$5010,'②単純集計表 '!$H143,①会場アンケート集計結果_食品ロス!$AA$11:$AA$5010,0)","v":0}]
[null,"マイナス変容",null,1,"常に行っている",null,null,4,"行いたいとは思わない",null,null,{"$f":"COUNTIFS(①会場アンケート集計結果_食品ロス!$J$11:$J$5010,'②単純集計表 '!$D144,①会場アンケート集計結果_食品ロス!$L$11:$L$5010,'②単純集計表 '!$H144,①会場アンケート集計結果_食品ロス!$AA$11:$AA$5010,0)","v":0}]
[null,null,null,2,"気づいたときに行っている",null,null,4,"行いたいとは思わない",null,null,{"$f":"COUNTIFS(①会場アンケート集計結果_食品ロス!$J$11:$J$5010,'②単純集計表 '!$D145,①会場アンケート集計結果_食品ロス!$L$11:$L$5010,'②単純集計表 '!$H145,①会場アンケート集計結果_食品ロス!$AA$11:$AA$5010,0)","v":0}]
[null,null,null,3,"行っていないが、行いたいと思っている",null,null,4,"行いたいとは思わない",null,null,{"$f":"COUNTIFS(①会場アンケート集計結果_食品ロス!$J$11:$J$5010,'②単純集計表 '!$D146,①会場アンケート集計結果_食品ロス!$L$11:$L$5010,'②単純集計表 '!$H146,①会場アンケート集計結果_食品ロス!$AA$11:$AA$5010,0)","v":0}]
[null,null,null,1,"常に行っている",null,null,5,"わからない",null,null,{"$f":"COUNTIFS(①会場アンケート集計結果_食品ロス!$J$11:$J$5010,'②単純集計表 '!$D147,①会場アンケート集計結果_食品ロス!$L$11:$L$5010,'②単純集計表 '!$H147,①会場アンケート集計結果_食品ロス!$AA$11:$AA$5010,0)","v":0}]
[null,null,null,2,"気づいたときに行っている",null,null,5,"わからない",null,null,{"$f":"COUNTIFS(①会場アンケート集計結果_食品ロス!$J$11:$J$5010,'②単純集計表 '!$D148,①会場アンケート集計結果_食品ロス!$L$11:$L$5010,'②単純集計表 '!$H148,①会場アンケート集計結果_食品ロス!$AA$11:$AA$5010,0)","v":0}]
[null,null,null,3,"行っていないが、行いたいと思っている",null,null,5,"わからない",null,null,{"$f":"COUNTIFS(①会場アンケート集計結果_食品ロス!$J$11:$J$5010,'②単純集計表 '!$D149,①会場アンケート集計結果_食品ロス!$L$11:$L$5010,'②単純集計表 '!$H149,①会場アンケート集計結果_食品ロス!$AA$11:$AA$5010,0)","v":0}]
[null,"<無効回答>\n回答に矛盾があるため除外",null,1,"常に行っている",null,null,2,"これまで行う頻度は少なかったが、今後は常に行いたい",null,null,{"$f":"COUNTIFS(①会場アンケート集計結果_食品ロス!$J$11:$J$5010,'②単純集計表 '!$D150,①会場アンケート集計結果_食品ロス!$L$11:$L$5010,'②単純集計表 '!$H150,①会場アンケート集計結果_食品ロス!$AA$11:$AA$5010,0)","v":0}]
[null,null,null,1,"常に行っている",null,null,3,"機会があれば行いたい",null,null,{"$f":"COUNTIFS(①会場アンケート集計結果_食品ロス!$J$11:$J$5010,'②単純集計表 '!$D151,①会場アンケート集計結果_食品ロス!$L$11:$L$5010,'②単純集計表 '!$H151,①会場アンケート集計結果_食品ロス!$AA$11:$AA$5010,0)","v":0}]
[null,null,null,2,"気づいたときに行っている",null,null,1,"現在も常に行っており、今後も行いたい",null,null,{"$f":"COUNTIFS(①会場アンケート集計結果_食品ロス!$J$11:$J$5010,'②単純集計表 '!$D152,①会場アンケート集計結果_食品ロス!$L$11:$L$5010,'②単純集計表 '!$H152,①会場アンケート集計結果_食品ロス!$AA$11:$AA$5010,0)","v":0}]
[null,null,null,3,"行っていないが、行いたいと思っている",null,null,1,"現在も常に行っており、今後も行いたい",null,null,{"$f":"COUNTIFS(①会場アンケート集計結果_食品ロス!$J$11:$J$5010,'②単純集計表 '!$D153,①会場アンケート集計結果_食品ロス!$L$11:$L$5010,'②単純集計表 '!$H153,①会場アンケート集計結果_食品ロス!$AA$11:$AA$5010,0)","v":0}]
[null,null,null,4,"行っておらず、行いたいとも思わない",null,null,1,"現在も常に行っており、今後も行いたい",null,null,{"$f":"COUNTIFS(①会場アンケート集計結果_食品ロス!$J$11:$J$5010,'②単純集計表 '!$D154,①会場アンケート集計結果_食品ロス!$L$11:$L$5010,'②単純集計表 '!$H154,①会場アンケート集計結果_食品ロス!$AA$11:$AA$5010,0)","v":0}]
[null,"＜無効回答＞\n対象外（一部未回答）",null,99,"未回答",null,null,1,"現在も常に行っており、今後も行いたい",null,null,{"$f":"COUNTIFS(①会場アンケート集計結果_食品ロス!$J$11:$J$5010,'②単純集計表 '!$D155,①会場アンケート集計結果_食品ロス!$L$11:$L$5010,'②単純集計表 '!$H155,①会場アンケート集計結果_食品ロス!$AA$11:$AA$5010,0)","v":0}]
[null,null,null,99,"未回答",null,null,2,"これまで行う頻度は少なかったが、今後は常に行いたい",null,null,{"$f":"COUNTIFS(①会場アンケート集計結果_食品ロス!$J$11:$J$5010,'②単純集計表 '!$D156,①会場アンケート集計結果_食品ロス!$L$11:$L$5010,'②単純集計表 '!$H156,①会場アンケート集計結果_食品ロス!$AA$11:$AA$5010,0)","v":0}]
[null,null,null,99,"未回答",null,null,3,"機会があれば行いたい",null,null,{"$f":"COUNTIFS(①会場アンケート集計結果_食品ロス!$J$11:$J$5010,'②単純集計表 '!$D157,①会場アンケート集計結果_食品ロス!$L$11:$L$5010,'②単純集計表 '!$H157,①会場アンケート集計結果_食品ロス!$AA$11:$AA$5010,0)","v":0}]
[null,null,null,99,"未回答",null,null,4,"行いたいとは思わない",null,null,{"$f":"COUNTIFS(①会場アンケート集計結果_食品ロス!$J$11:$J$5010,'②単純集計表 '!$D158,①会場アンケート集計結果_食品ロス!$L$11:$L$5010,'②単純集計表 '!$H158,①会場アンケート集計結果_食品ロス!$AA$11:$AA$5010,0)","v":0}]
[null,null,null,99,"未回答",null,null,5,"わからない",null,null,{"$f":"COUNTIFS(①会場アンケート集計結果_食品ロス!$J$11:$J$5010,'②単純集計表 '!$D159,①会場アンケート集計結果_食品ロス!$L$11:$L$5010,'②単純集計表 '!$H159,①会場アンケート集計結果_食品ロス!$AA$11:$AA$5010,0)","v":0}]
[null,null,null,99,"未回答",null,null,99,"未回答",null,null,{"$f":"COUNTIFS(①会場アンケート集計結果_食品ロス!$J$11:$J$5010,'②単純集計表 '!$D160,①会場アンケート集計結果_食品ロス!$L$11:$L$5010,'②単純集計表 '!$H160,①会場アンケート集計結果_食品ロス!$AA$11:$AA$5010,0)","v":0}]
[null,null,null,2,"気づいたときに行っている",null,null,99,"未回答",null,null,{"$f":"COUNTIFS(①会場アンケート集計結果_食品ロス!$J$11:$J$5010,'②単純集計表 '!$D161,①会場アンケート集計結果_食品ロス!$L$11:$L$5010,'②単純集計表 '!$H161,①会場アンケート集計結果_食品ロス!$AA$11:$AA$5010,0)","v":0}]
[null,null,null,3,"行っていないが、行いたいと思っている",null,null,99,"未回答",null,null,{"$f":"COUNTIFS(①会場アンケート集計結果_食品ロス!$J$11:$J$5010,'②単純集計表 '!$D162,①会場アンケート集計結果_食品ロス!$L$11:$L$5010,'②単純集計表 '!$H162,①会場アンケート集計結果_食品ロス!$AA$11:$AA$5010,0)","v":0}]
[null,null,null,4,"行っておらず、行いたいとも思わない",null,null,99,"未回答",null,null,{"$f":"COUNTIFS(①会場アンケート集計結果_食品ロス!$J$11:$J$5010,'②単純集計表 '!$D163,①会場アンケート集計結果_食品ロス!$L$11:$L$5010,'②単純集計表 '!$H163,①会場アンケート集計結果_食品ロス!$AA$11:$AA$5010,0)","v":0}]
[null,null,null,null,null,null,null,null,null,null,"＜検算用＞"]
[null,null,null,null,null,null,null,null,null,null,"有効回答（無効回答・対象外を除く）⇒",{"$f":"SUM(L134:L149)","v":0}]
[null,null,null,null,null,null,null,null,null,null,"アンケート回収数⇒",{"$f":"SUM(L134:L163)","v":0}]

{"sheet":"参照⇒","index":5,"n_rows":0,"n_cols":0,"rows_kept":0,"cut":false,"hidden":false,"merged":[]}

{"sheet":"読み替え表_食品ロス","index":6,"n_rows":48,"n_cols":17,"rows_kept":48,"cut":false,"hidden":false,"merged":[[37,10,37,14],[33,10,33,14],[34,10,34,14],[35,10,35,14],[36,10,36,14],[38,10,38,14],[39,10,39,14],[40,4,40,7],[41,4,41,7],[40,10,40,14],[41,10,41,14],[39,4,39,7],[34,4,34,7],[35,4,35,7],[36,4,36,7],[37,4,37,7],[38,4,38,7],[33,4,33,7],[32,10,32,14],[32,4,32,7],[31,4,31,7],[30,4,30,7],[30,10,30,14],[31,10,31,14],[29,4,29,7],[28,4,28,7],[27,4,27,7],[27,10,27,14],[28,10,28,14],[29,10,29,14]]}
[]
[null,"・これまでの食品ロス取組取組状況について"]
[null,null,1,"常に行っている"]
[null,null,2,"気づいたときに行っている"]
[null,null,3,"行っていないが、行いたいと思っている"]
[null,null,4,"行っておらず、行いたいとも思わない"]
[null,null,99,"未回答"]
[]
[null,"・今後の食品ロス取組取組意向について"]
[null,null,1,"現在も常に行っており、今後も行いたい"]
[null,null,2,"これまで行う頻度は少なかったが、今後は常に行いたい"]
[null,null,3,"機会があれば行いたい"]
[null,null,4,"行いたいとは思わない"]
[null,null,5,"わからない"]
[null,null,99,"未回答"]
[]
[null,"・取組意向の理由について"]
[null,null,1,"CO2の削減に貢献するため"]
[null,null,2,"もったいないと思うため"]
[null,null,3,"これまでよりも食費が安くなると思ったため"]
[null,null,4,"みんな（周りの人）が食品ロス削減のための取組を行っているため"]
[null,null,5,"その他"]
[null,null,6,"特に理由はない・なんとなく"]
[null,null,99,"未回答"]
[]
[null,"・無効回答の定義：回答に矛盾があるため除外"]
[]
[null,null,null,"Q2の回答","普及啓発前（読替）",null,null,null,null,"Q3の回答","普及啓発後",null,null,null,null,"エラー参照用フラグ"]
[null,null,{"$f":"'②単純集計表 '!D150&\"/\"&'②単純集計表 '!H150","v":"1/2"},1,"常に行っている",null,null,null,"⇒",2,"これまで行う頻度は少なかったが、今後は常に行いたい",null,null,null,null,"1/2","※普及啓発前（アンケート回答時点）に「常に行っている」と回答しているにもかかわらず、普及啓発直後（アンケート回答時点）に常に行って「いない」と回答している"]
[null,null,{"$f":"'②単純集計表 '!D151&\"/\"&'②単純集計表 '!H151","v":"1/3"},1,"常に行っている",null,null,null,"⇒",3,"機会があれば行いたい",null,null,null,null,"1/3","※普及啓発前（アンケート回答時点）に「常に行っている」と回答しているにもかかわらず、普及啓発直後（アンケート回答時点）に常に行って「いない」と回答している"]
[null,null,{"$f":"'②単純集計表 '!D152&\"/\"&'②単純集計表 '!H152","v":"2/1"},2,"気づいたときに行っている",null,null,null,"⇒",1,"現在も常に行っており、今後も行いたい",null,null,null,null,"2/1","※普及啓発前（アンケート回答時点）に「常に行っている」と回答していないにもかかわらず、普及啓発直後（アンケート回答時点）に「常に行っている」と回答している"]
[null,null,{"$f":"'②単純集計表 '!D153&\"/\"&'②単純集計表 '!H153","v":"3/1"},3,"行っていないが、行いたいと思っている",null,null,null,"⇒",1,"現在も常に行っており、今後も行いたい",null,null,null,null,"3/1","※普及啓発前（アンケート回答時点）に「常に行っている」と回答していないにもかかわらず、普及啓発直後（アンケート回答時点）に「常に行っている」と回答している"]
[null,null,{"$f":"'②単純集計表 '!D154&\"/\"&'②単純集計表 '!H154","v":"4/1"},4,"行っておらず、行いたいとも思わない",null,null,null,"⇒",1,"現在も常に行っており、今後も行いたい",null,null,null,null,"4/1","※普及啓発前（アンケート回答時点）に「常に行っている」と回答していないにもかかわらず、普及啓発直後（アンケート回答時点）に「常に行っている」と回答している"]
[null,null,"99/1",99,"未回答",null,null,null,"⇒",1,"現在も常に行っており、今後も行いたい",null,null,null,null,"99/1","※一部設問が未回答であり、普及啓発効果が測定できないため"]
[null,null,"99/2",99,"未回答",null,null,null,"⇒",2,"これまで行う頻度は少なかったが、今後は常に行いたい",null,null,null,null,"99/2","※一部設問が未回答であり、普及啓発効果が測定できないため"]
[null,null,"99/3",99,"未回答",null,null,null,"⇒",3,"機会があれば行いたい",null,null,null,null,"99/3","※一部設問が未回答であり、普及啓発効果が測定できないため"]
[null,null,"99/4",99,"未回答",null,null,null,"⇒",4,"行いたいとは思わない",null,null,null,null,"99/4","※一部設問が未回答であり、普及啓発効果が測定できないため"]
[null,null,"99/5",99,"未回答",null,null,null,"⇒",5,"わからない",null,null,null,null,"99/5","※一部設問が未回答であり、普及啓発効果が測定できないため"]
[null,null,"99/99",99,"未回答",null,null,null,"⇒",99,"未回答",null,null,null,null,"99/99","※一部設問が未回答であり、普及啓発効果が測定できないため"]
[null,null,"2/99",2,"気づいたときに行っている",null,null,null,"⇒",99,"未回答",null,null,null,null,"2/99","※一部設問が未回答であり、普及啓発効果が測定できないため"]
[null,null,"3/99",3,"行っていないが、行いたいと思っている",null,null,null,"⇒",99,"未回答",null,null,null,null,"3/99","※一部設問が未回答であり、普及啓発効果が測定できないため"]
[null,null,"4/99",4,"行っておらず、行いたいとも思わない",null,null,null,"⇒",99,"未回答",null,null,null,null,"4/99","※一部設問が未回答であり、普及啓発効果が測定できないため"]
[]
[]
[null,"◆","アンケート配布状況オプション"]
[null,null,"普及啓発活動の実施前"]
[null,null,"普及啓発活動の実施直後"]
[null,null,"普及啓発活動実施の数日後"]