{"text_format":"1","workbook":"xlsx","n_sheets":7,"sheets":["入力手順","ローデータ⇒","①会場アンケート集計結果_低炭素物流","集計結果⇒","②単純集計表 ","参照⇒","読み替え表_低炭素物流"],"not_rendered":{"charts":6,"images":0,"macros":1,"external_links":0,"defined_names":2,"comments":0,"pivot_tables":0},"unopened":[],"bounds":{"document_bytes":16777216,"sheet_cells":100000,"rows_first":2000,"rows_last":500,"rows_between":2000,"halvings":0,"cell_chars":16384,"cell_head_chars":4096},"cells_cut":0,"cells_raw":0,"read":"whole","date_system":"1900"}

{"sheet":"入力手順","index":0,"n_rows":27,"n_cols":4,"rows_kept":27,"cut":false,"hidden":false,"merged":[[7,3,7,11],[22,1,22,12],[16,3,16,11],[17,3,17,11],[8,3,8,11],[9,3,9,11],[10,3,10,11],[11,3,11,11],[12,3,12,11],[14,3,14,11],[13,3,13,11],[15,3,15,11]]}
[]
[null,"会場アンケート入力ツール　シート構成・入力手順--------------------------------------------"]
[null,"◆低炭素物流"]
[]
[null,"①「会場アンケート集計結果_低炭素物流」シート【要入力】"]
[null,"・講演会・イベント等で回収されたアンケート調査票を入力する（データ化する）ツール"]
[null,"＜手順＞"]
[null,null,"①","「会場アンケート情報」の黄色セル欄に事業者番号、PDCAシート記載の事業番号、実施日、実施場所、アンケート配布状況を記入する"]
[null,null,"②","「表示」をクリックし、入力フォームを表示させる"]
[null,null,"③","「入力行」にアンケート結果の入力を開始する行番号を入力する（添付エクセルの場合は9行目から開始）"]
[null,null,"④","都道府県名、事業者名、アンケートを実施したイベント名、アンケート回収日付をそれぞれの欄に記入する"]
[null,null,"⑤"," 性別・年齢は入力フォームにしたがって選択する"]
[null,null,"⑥","「２．宅配の受取頻度について」は回答と一致するものを選択する"]
[null,null,"⑦","「３．再配達の頻度について」は回答と一致するものを選択する"]
[null,null,"⑧","「４．今後の宅配便の受取以降について」は回答と一致するものを選択する"]
[null,null,"⑨","「５．受取以降の理由」は回答と一致するものを選択する"]
[null,null,"⑩","「６．追跡アンケートへのご協力のお願い（メールアドレス）」では、アンケート下部を確認し、まずメールアドレスの有無を選択する。メールアドレスの記入があった場合は、メールアドレスを記入する"]
[null,null,"⑪","すべての入力が終わったら「【データ入力】」をクリック"]
[]
[]
[null,"②「単純集計表」シート"]
[null,"・「会場アンケート集計結果_低炭素物流」シートに入力されたデータを簡易的に集計したものである"]
["\n","・来場者の性別・年代別構成比、宅配便の受取頻度、再配達の割合、イベント参加後の宅配便の受取に対する意識、宅配便を1回で受け取る理由を把握可能"]
[]
[null,"③「読み替え表_低炭素物流」シート"]
[null,"・本ファイルではアンケートの回答結果をデータ処理のため数字で代替している箇所がある"]
[null,"・その際のアンケート回答選択肢と数字の置換関係をまとめたシートである"]

{"sheet":"ローデータ⇒","index":1,"n_rows":0,"n_cols":0,"rows_kept":0,"cut":false,"hidden":false,"merged":[]}

{"sheet":"①会場アンケート集計結果_低炭素物流","index":2,"n_rows":2008,"n_cols":38,"rows_kept":2008,"cut":false,"hidden":false,"merged":[[2,6,2,8],[6,9,6,10],[6,11,6,12],[6,13,6,14],[6,15,6,24],[6,7,6,8],[6,39,6,44],[6,45,6,50],[6,51,6,59],[6,28,6,30],[6,25,6,27]]}
[null,null,{"$f":"COLUMN()","v":3},{"$f":"COLUMN()","v":4},{"$f":"COLUMN()","v":5},{"$f":"COLUMN()","v":6},{"$f":"COLUMN()","v":7},{"$f":"COLUMN()","v":8},{"$f":"COLUMN()","v":9},{"$f":"COLUMN()","v":10},{"$f":"COLUMN()","v":11},{"$f":"COLUMN()","v":12},{"$f":"COLUMN()","v":13},{"$f":"COLUMN()","v":14},{"$f":"COLUMN()","v":15},{"$f":"COLUMN()","v":16},{"$f":"COLUMN()","v":17},{"$f":"COLUMN()","v":18},{"$f":"COLUMN()","v":19},{"$f":"COLUMN()","v":20},{"$f":"COLUMN()","v":21},{"$f":"COLUMN()","v":22},{"$f":"COLUMN()","v":23},{"$f":"COLUMN()","v":24},{"$f":"COLUMN()","v":25},null,null,null,{"$f":"COLUMN()","v":29},{"$f":"COLUMN()","v":30},{"$f":"COLUMN()","v":31},{"$f":"COLUMN()","v":32},{"$f":"COLUMN()","v":33},{"$f":"COLUMN()","v":34},{"$f":"COLUMN()","v":35},{"$f":"COLUMN()","v":36},{"$f":"COLUMN()","v":37},"*"]
[null,null,null,"【会場アンケート情報】"]
[null,null,null,"事業者番号","PDCAシート記載の事業番号","イベント名\n（PDCAシート記載の名称）","講演会・イベント　実施日",null,null,"実施場所","アンケート配布状況\n（どのタイミングでアンケートを実施したか）","アンケート\n回収数","ﾒｰﾙｱﾄﾞﾚｽ\n回収数"]
[null,null,null,null,null,{"$f":"$F$9&\"\"","v":""},"2021/XX/XX","～","2022/XX/XX",null,null,{"$f":"COUNTA($F$9:$F$1048576)","v":0},{"$f":"COUNTIF($AC$9:$AC$1048576,1)","v":0}]
[null,null,null,null,null,null,null,null,null,null,"↑プルダウンメニューから選択してください"]
[null,null,null,null,null,null,null,null,null,null,null,null,null,null,null,null,null,null,null,null,null,null,null,null,null,null,null,null,null,null,null,null,null,null,null,null,null,"*"]
[null,null,null,"事業者情報",null,"イベント情報",null,"１．あなたご自身について",null,"２．宅配便の受取頻度について",null,"３．再配達の頻度について",null,"４．今後の宅配便の受取意向について",null,"５．受取意向の理由について",null,null,null,null,null,null,null,null,null,"再配達個数",null,null,"６．追跡アンケートへのご協力のお願い（メールアドレス）",null,null,null,"（作業用）無効回答確認",null,null,null,null,"*"]
[null,null,"#","都道府県","事業者名","イベント名\n（PDCAシート記載の名称）","回収日付","性別","年代","#",null,"#",null,"#",null,"CO2削減","具体的な\n方法","2割が\n再配達","ドライバーの10人に1人が再配達","ポイント","送料\n値上げ","必要性を\n感じた","その他","その他備考：","未回答","受取頻度","再配達割合","月当たり再配達個数","記入\n有無","メールアドレス（＠より前）","ドメイン","特定ID","Q3,4矛盾回答\nerror","Q2=8（宅配をほとんど利用しない）","Q3=6（宅配便の荷物を受け取っていない）","Q4=7（意向無し）\nQ4=99（未回答）","error","*"]
[null,null,{"$f":"ROW()-8","v":1},null,null,null,null,null,null,null,null,null,null,null,null,null,null,null,null,null,null,null,null,null,null,{"$f":"IF(H9=\"\",\"-\",VLOOKUP(J9,読み替え表_低炭素物流!$C$4:$F$12,4,0))","v":"-"},{"$f":"IF(H9=\"\",\"-\",VLOOKUP(L9,読み替え表_低炭素物流!$C$15:$F$21,4,0))","v":"-"},{"$f":"IF(H9=\"\",\"-\",Z9*AA9)","v":"-"},null,null,null,null,{"$f":"IF(N9=1,IF(OR(L9=4,L9=5),0,1),0)","v":0},{"$f":"IF(J9=8,1,0)","v":0},{"$f":"IF(L9=6,1,0)","v":0},{"$f":"IF(N9=99,1,0)","v":0},{"$f":"AG9","v":0},"*"]
[null,null,{"$f":"ROW()-8","v":2},null,null,null,null,null,null,null,null,null,null,null,null,null,null,null,null,null,null,null,null,null,null,{"$f":"IF(H10=\"\",\"-\",VLOOKUP(J10,読み替え表_低炭素物流!$C$4:$F$12,4,0))","v":"-"},{"$f":"IF(H10=\"\",\"-\",VLOOKUP(L10,読み替え表_低炭素物流!$C$15:$F$21,4,0))","v":"-"},{"$f":"IF(H10=\"\",\"-\",Z10*AA10)","v":"-"},null,null,null,null,0,{"$f":"IF(J10=8,1,0)","v":0},{"$f":"IF(L10=6,1,0)","v":0},{"$f":"IF(OR(N10=7,N10=99),1,0)","v":0},{"$f":"AG10","v":0},"*"]
[null,null,3,null,null,null,null,null,null,null,null,null,null,null,null,null,null,null,null,null,null,null,null,null,null,{"$f":"IF(H11=\"\",\"-\",VLOOKUP(J11,読み替え表_低炭素物流!$C$4:$F$12,4,0))","v":"-"},{"$f":"IF(H11=\"\",\"-\",VLOOKUP(L11,読み替え表_低炭素物流!$C$15:$F$21,4,0))","v":"-"},"-",null,null,null,null,0,0,0,{"$f":"IF(OR(N11=7,N11=99),1,0)","v":0},0,"*"]
[null,null,4,null,null,null,null,null,null,null,null,null,null,null,null,null,null,null,null,null,null,null,null,null,null,{"$f":"IF(H12=\"\",\"-\",VLOOKUP(J12,読み替え表_低炭素物流!$C$4:$F$12,4,0))","v":"-"},{"$f":"IF(H12=\"\",\"-\",VLOOKUP(L12,読み替え表_低炭素物流!$C$15:$F$21,4,0))","v":"-"},"-",null,null,null,null,0,0,0,0,0,"*"]
[null,null,5,null,null,null,null,null,null,null,null,null,null,null,null,null,null,null,null,null,null,null,null,null,null,{"$f":"IF(H13=\"\",\"-\",VLOOKUP(J13,読み替え表_低炭素物流!$C$4:$F$12,4,0))","v":"-"},{"$f":"IF(H13=\"\",\"-\",VLOOKUP(L13,読み替え表_低炭素物流!$C$15:$F$21,4,0))","v":"-"},"-",null,null,null,null,0,0,0,{"$f":"IF(N13=99,1,0)","v":0},0,"*"]
[null,null,6,null,null,null,null,null,null,null,null,null,null,null,null,null,null,null,null,null,null,null,null,null,null,{"$f":"IF(H14=\"\",\"-\",VLOOKUP(J14,読み替え表_低炭素物流!$C$4:$F$12,4,0))","v":"-"},{"$f":"IF(H14=\"\",\"-\",VLOOKUP(L14,読み替え表_低炭素物流!$C$15:$F$21,4,0))","v":"-"},{"$f":"IF(H14=\"\",\"-\",Z14*AA14)","v":"-"},null,null,null,null,0,0,0,{"$f":"IF(OR(N14=7,N14=99),1,0)","v":0},0,"*"]
[null,null,7,null,null,null,null,null,null,null,null,null,null,null,null,null,null,null,null,null,null,null,null,null,null,{"$f":"IF(H15=\"\",\"-\",VLOOKUP(J15,読み替え表_低炭素物流!$C$4:$F$12,4,0))","v":"-"},{"$f":"IF(H15=\"\",\"-\",VLOOKUP(L15,読み替え表_低炭素物流!$C$15:$F$21,4,0))","v":"-"},"-",null,null,null,null,0,0,0,0,0,"*"]
[null,null,8,null,null,null,null,null,null,null,null,null,null,null,null,null,null,null,null,null,null,null,null,null,null,{"$f":"IF(H16=\"\",\"-\",VLOOKUP(J16,読み替え表_低炭素物流!$C$4:$F$12,4,0))","v":"-"},{"$f":"IF(H16=\"\",\"-\",VLOOKUP(L16,読み替え表_低炭素物流!$C$15:$F$21,4,0))","v":"-"},"-",null,null,null,null,0,0,0,0,0,"*"]
[null,null,9,null,null,null,null,null,null,null,null,null,null,null,null,null,null,null,null,null,null,null,null,null,null,{"$f":"IF(H17=\"\",\"-\",VLOOKUP(J17,読み替え表_低炭素物流!$C$4:$F$12,4,0))","v":"-"},{"$f":"IF(H17=\"\",\"-\",VLOOKUP(L17,読み替え表_低炭素物流!$C$15:$F$21,4,0))","v":"-"},"-",null,null,null,null,0,0,0,0,0,"*"]
[null,null,10,null,null,null,null,null,null,null,null,null,null,null,null,null,null,null,null,null,null,null,null,null,null,{"$f":"IF(H18=\"\",\"-\",VLOOKUP(J18,読み替え表_低炭素物流!$C$4:$F$12,4,0))","v":"-"},{"$f":"IF(H18=\"\",\"-\",VLOOKUP(L18,読み替え表_低炭素物流!$C$15:$F$21,4,0))","v":"-"},"-",null,null,null,null,0,0,0,0,0,"*"]
[null,null,11,null,null,null,null,null,null,null,null,null,null,null,null,null,null,null,null,null,null,null,null,null,null,{"$f":"IF(H19=\"\",\"-\",VLOOKUP(J19,読み替え表_低炭素物流!$C$4:$F$12,4,0))","v":"-"},{"$f":"IF(H19=\"\",\"-\",VLOOKUP(L19,読み替え表_低炭素物流!$C$15:$F$21,4,0))","v":"-"},"-",null,null,null,null,0,0,0,{"$f":"IF(OR(N19=7,N19=99),1,0)","v":0},0,"*"]
[null,null,12,null,null,null,null,null,null,null,null,null,null,null,null,null,null,null,null,null,null,null,null,null,null,{"$f":"IF(H20=\"\",\"-\",VLOOKUP(J20,読み替え表_低炭素物流!$C$4:$F$12,4,0))","v":"-"},{"$f":"IF(H20=\"\",\"-\",VLOOKUP(L20,読み替え表_低炭素物流!$C$15:$F$21,4,0))","v":"-"},"-",null,null,null,null,0,0,0,0,0,"*"]
[null,null,13,null,null,null,null,null,null,null,null,null,null,null,null,null,null,null,null,null,null,null,null,null,null,{"$f":"IF(H21=\"\",\"-\",VLOOKUP(J21,読み替え表_低炭素物流!$C$4:$F$12,4,0))","v":"-"},{"$f":"IF(H21=\"\",\"-\",VLOOKUP(L21,読み替え表_低炭素物流!$C$15:$F$21,4,0))","v":"-"},"-",null,null,null,null,0,0,0,0,0,"*"]
[null,null,14,null,null,null,null,null,null,null,null,null,null,null,null,null,null,null,null,null,null,null,null,null,null,{"$f":"IF(H22=\"\",\"-\",VLOOKUP(J22,読み替え表_低炭素物流!$C$4:$F$12,4,0))","v":"-"},{"$f":"IF(H22=\"\",\"-\",VLOOKUP(L22,読み替え表_低炭素物流!$C$15:$F$21,4,0))","v":"-"},"-",null,null,null,null,0,0,0,0,0,"*"]
[null,null,15,null,null,null,null,null,null,null,null,null,null,null,null,null,null,null,null,null,null,null,null,null,null,{"$f":"IF(H23=\"\",\"-\",VLOOKUP(J23,読み替え表_低炭素物流!$C$4:$F$12,4,0))","v":"-"},{"$f":"IF(H23=\"\",\"-\",VLOOKUP(L23,読み替え表_低炭素物流!$C$15:$F$21,4,0))","v":"-"},{"$f":"IF(H23=\"\",\"-\",Z23*AA23)","v":"-"},null,null,null,null,0,0,0,0,0,"*"]
[null,null,16,null,null,null,null,null,null,null,null,null,null,null,null,null,null,null,null,null,null,null,null,null,null,{"$f":"IF(H24=\"\",\"-\",VLOOKUP(J24,読み替え表_低炭素物流!$C$4:$F$12,4,0))","v":"-"},{"$f":"IF(H24=\"\",\"-\",VLOOKUP(L24,読み替え表_低炭素物流!$C$15:$F$21,4,0))","v":"-"},"-",null,null,null,null,0,0,0,{"$f":"IF(OR(N24=7,N24=99),1,0)","v":0},0,"*"]
[null,null,17,null,null,null,null,null,null,null,null,null,null,null,null,null,null,null,null,null,null,null,null,null,null,{"$f":"IF(H25=\"\",\"-\",VLOOKUP(J25,読み替え表_低炭素物流!$C$4:$F$12,4,0))","v":"-"},{"$f":"IF(H25=\"\",\"-\",VLOOKUP(L25,読み替え表_低炭素物流!$C$15:$F$21,4,0))","v":"-"},"-",null,null,null,null,0,0,0,0,0,"*"]
[null,null,18,null,null,null,null,null,null,null,null,null,null,null,null,null,null,null,null,null,null,null,null,null,null,{"$f":"IF(H26=\"\",\"-\",VLOOKUP(J26,読み替え表_低炭素物流!$C$4:$F$12,4,0))","v":"-"},{"$f":"IF(H26=\"\",\"-\",VLOOKUP(L26,読み替え表_低炭素物流!$C$15:$F$21,4,0))","v":"-"},"-",null,null,null,null,0,0,0,0,0,"*"]
[null,null,19,null,null,null,null,null,null,null,null,null,null,null,null,null,null,null,null,null,null,null,null,null,null,{"$f":"IF(H27=\"\",\"-\",VLOOKUP(J27,読み替え表_低炭素物流!$C$4:$F$12,4,0))","v":"-"},{"$f":"IF(H27=\"\",\"-\",VLOOKUP(L27,読み替え表_低炭素物流!$C$15:$F$21,4,0))","v":"-"},"-",null,null,null,null,0,0,0,0,0,"*"]
[null,null,20,null,null,null,null,null,null,null,null,null,null,null,null,null,null,null,null,null,null,null,null,null,null,{"$f":"IF(H28=\"\",\"-\",VLOOKUP(J28,読み替え表_低炭素物流!$C$4:$F$12,4,0))","v":"-"},{"$f":"IF(H28=\"\",\"-\",VLOOKUP(L28,読み替え表_低炭素物流!$C$15:$F$21,4,0))","v":"-"},"-",null,null,null,null,0,0,0,0,0,"*"]
[null,null,21,null,null,null,null,null,null,null,null,null,null,null,null,null,null,null,null,null,null,null,null,null,null,{"$f":"IF(H29=\"\",\"-\",VLOOKUP(J29,読み替え表_低炭素物流!$C$4:$F$12,4,0))","v":"-"},{"$f":"IF(H29=\"\",\"-\",VLOOKUP(L29,読み替え表_低炭素物流!$C$15:$F$21,4,0))","v":"-"},"-",null,null,null,null,0,0,0,0,0,"*"]
[null,null,22,null,null,null,null,null,null,null,null,null,null,null,null,null,null,null,null,null,null,null,null,null,null,{"$f":"IF(H30=\"\",\"-\",VLOOKUP(J30,読み替え表_低炭素物流!$C$4:$F$12,4,0))","v":"-"},{"$f":"IF(H30=\"\",\"-\",VLOOKUP(L30,読み替え表_低炭素物流!$C$15:$F$21,4,0))","v":"-"},"-",null,null,null,null,0,0,0,0,0,"*"]
[null,null,23,null,null,null,null,null,null,null,null,null,null,null,null,null,null,null,null,null,null,null,null,null,null,{"$f":"IF(H31=\"\",\"-\",VLOOKUP(J31,読み替え表_低炭素物流!$C$4:$F$12,4,0))","v":"-"},{"$f":"IF(H31=\"\",\"-\",VLOOKUP(L31,読み替え表_低炭素物流!$C$15:$F$21,4,0))","v":"-"},"-",null,null,null,null,0,0,0,0,0,"*"]
[null,null,24,null,null,null,null,null,null,null,null,null,null,null,null,null,null,null,null,null,null,null,null,null,null,{"$f":"IF(H32=\"\",\"-\",VLOOKUP(J32,読み替え表_低炭素物流!$C$4:$F$12,4,0))","v":"-"},{"$f":"IF(H32=\"\",\"-\",VLOOKUP(L32,読み替え表_低炭素物流!$C$15:$F$21,4,0))","v":"-"},"-",null,null,null,null,0,0,0,0,0,"*"]
[null,null,25,null,null,null,null,null,null,null,null,null,null,null,null,null,null,null,null,null,null,null,null,null,null,{"$f":"IF(H33=\"\",\"-\",VLOOKUP(J33,読み替え表_低炭素物流!$C$4:$F$12,4,0))","v":"-"},{"$f":"IF(H33=\"\",\"-\",VLOOKUP(L33,読み替え表_低炭素物流!$C$15:$F$21,4,0))","v":"-"},"-",null,null,null,null,0,0,0,0,0,"*"]
[null,null,26,null,null,null,null,null,null,null,null,null,null,null,null,null,null,null,null,null,null,null,null,null,null,{"$f":"IF(H34=\"\",\"-\",VLOOKUP(J34,読み替え表_低炭素物流!$C$4:$F$12,4,0))","v":"-"},{"$f":"IF(H34=\"\",\"-\",VLOOKUP(L34,読み替え表_低炭素物流!$C$15:$F$21,4,0))","v":"-"},"-",null,null,null,null,0,0,0,0,0,"*"]
[null,null,27,null,null,null,null,null,null,null,null,null,null,null,null,null,null,null,null,null,null,null,null,null,null,{"$f":"IF(H35=\"\",\"-\",VLOOKUP(J35,読み替え表_低炭素物流!$C$4:$F$12,4,0))","v":"-"},{"$f":"IF(H35=\"\",\"-\",VLOOKUP(L35,読み替え表_低炭素物流!$C$15:$F$21,4,0))","v":"-"},"-",null,null,null,null,0,0,0,0,0,"*"]
[null,null,28,null,null,null,null,null,null,null,null,null,null,null,null,null,null,null,null,null,null,null,null,null,null,{"$f":"IF(H36=\"\",\"-\",VLOOKUP(J36,読み替え表_低炭素物流!$C$4:$F$12,4,0))","v":"-"},{"$f":"IF(H36=\"\",\"-\",VLOOKUP(L36,読み替え表_低炭素物流!$C$15:$F$21,4,0))","v":"-"},"-",null,null,null,null,0,0,0,0,0,"*"]
[null,null,29,null,null,null,null,null,null,null,null,null,null,null,null,null,null,null,null,null,null,null,null,null,null,{"$f":"IF(H37=\"\",\"-\",VLOOKUP(J37,読み替え表_低炭素物流!$C$4:$F$12,4,0))","v":"-"},{"$f":"IF(H37=\"\",\"-\",VLOOKUP(L37,読み替え表_低炭素物流!$C$15:$F$21,4,0))","v":"-"},"-",null,null,null,null,0,0,0,0,0,"*"]
[null,null,30,null,null,null,null,null,null,null,null,null,null,null,null,null,null,null,null,null,null,null,null,null,null,{"$f":"IF(H38=\"\",\"-\",VLOOKUP(J38,読み替え表_低炭素物流!$C$4:$F$12,4,0))","v":"-"},{"$f":"IF(H38=\"\",\"-\",VLOOKUP(L38,読み替え表_低炭素物流!$C$15:$F$21,4,0))","v":"-"},"-",null,null,null,null,0,0,0,0,0,"*"]
[null,null,31,null,null,null,null,null,null,null,null,null,null,null,null,null,null,null,null,null,null,null,null,null,null,{"$f":"IF(H39=\"\",\"-\",VLOOKUP(J39,読み替え表_低炭素物流!$C$4:$F$12,4,0))","v":"-"},{"$f":"IF(H39=\"\",\"-\",VLOOKUP(L39,読み替え表_低炭素物流!$C$15:$F$21,4,0))","v":"-"},"-",null,null,null,null,0,0,0,0,0,"*"]
[null,null,32,null,null,null,null,null,null,null,null,null,null,null,null,null,null,null,null,null,null,null,null,null,null,{"$f":"IF(H40=\"\",\"-\",VLOOKUP(J40,読み替え表_低炭素物流!$C$4:$F$12,4,0))","v":"-"},{"$f":"IF(H40=\"\",\"-\",VLOOKUP(L40,読み替え表_低炭素物流!$C$15:$F$21,4,0))","v":"-"},"-",null,null,null,null,0,0,0,0,0,"*"]
[null,null,33,null,null,null,null,null,null,null,null,null,null,null,null,null,null,null,null,null,null,null,null,null,null,{"$f":"IF(H41=\"\",\"-\",VLOOKUP(J41,読み替え表_低炭素物流!$C$4:$F$12,4,0))","v":"-"},{"$f":"IF(H41=\"\",\"-\",VLOOKUP(L41,読み替え表_低炭素物流!$C$15:$F$21,4,0))","v":"-"},"-",null,null,null,null,0,0,0,0,0,"*"]
[null,null,34,null,null,null,null,null,null,null,null,null,null,null,null,null,null,null,null,null,null,null,null,null,null,{"$f":"IF(H42=\"\",\"-\",VLOOKUP(J42,読み替え表_低炭素物流!$C$4:$F$12,4,0))","v":"-"},{"$f":"IF(H42=\"\",\"-\",VLOOKUP(L42,読み替え表_低炭素物流!$C$15:$F$21,4,0))","v":"-"},"-",null,null,null,null,0,0,0,0,0,"*"]
[null,null,35,null,null,null,null,null,null,null,null,null,null,null,null,null,null,null,null,null,null,null,null,null,null,{"$f":"IF(H43=\"\",\"-\",VLOOKUP(J43,読み替え表_低炭素物流!$C$4:$F$12,4,0))","v":"-"},{"$f":"IF(H43=\"\",\"-\",VLOOKUP(L43,読み替え表_低炭素物流!$C$15:$F$21,4,0))","v":"-"},"-",null,null,null,null,0,0,0,0,0,"*"]
[null,null,36,null,null,null,null,null,null,null,null,null,null,null,null,null,null,null,null,null,null,null,null,null,null,{"$f":"IF(H44=\"\",\"-\",VLOOKUP(J44,読み替え表_低炭素物流!$C$4:$F$12,4,0))","v":"-"},{"$f":"IF(H44=\"\",\"-\",VLOOKUP(L44,読み替え表_低炭素物流!$C$15:$F$21,4,0))","v":"-"},"-",null,null,null,null,0,0,0,0,0,"*"]
[null,null,37,null,null,null,null,null,null,null,null,null,null,null,null,null,null,null,null,null,null,null,null,null,null,{"$f":"IF(H45=\"\",\"-\",VLOOKUP(J45,読み替え表_低炭素物流!$C$4:$F$12,4,0))","v":"-"},{"$f":"IF(H45=\"\",\"-\",VLOOKUP(L45,読み替え表_低炭素物流!$C$15:$F$21,4,0))","v":"-"},"-",null,null,null,null,0,0,0,0,0,"*"]
[null,null,38,null,null,null,null,null,null,null,null,null,null,null,null,null,null,null,null,null,null,null,null,null,null,{"$f":"IF(H46=\"\",\"-\",VLOOKUP(J46,読み替え表_低炭素物流!$C$4:$F$12,4,0))","v":"-"},{"$f":"IF(H46=\"\",\"-\",VLOOKUP(L46,読み替え表_低炭素物流!$C$15:$F$21,4,0))","v":"-"},"-",null,null,null,null,0,0,0,0,0,"*"]
[null,null,39,null,null,null,null,null,null,null,null,null,null,null,null,null,null,null,null,null,null,null,null,null,null,{"$f":"IF(H47=\"\",\"-\",VLOOKUP(J47,読み替え表_低炭素物流!$C$4:$F$12,4,0))","v":"-"},{"$f":"IF(H47=\"\",\"-\",VLOOKUP(L47,読み替え表_低炭素物流!$C$15:$F$21,4,0))","v":"-"},"-",null,null,null,null,0,0,0,0,0,"*"]
[null,null,40,null,null,null,null,null,null,null,null,null,null,null,null,null,null,null,null,null,null,null,null,null,null,{"$f":"IF(H48=\"\",\"-\",VLOOKUP(J48,読み替え表_低炭素物流!$C$4:$F$12,4,0))","v":"-"},{"$f":"IF(H48=\"\",\"-\",VLOOKUP(L48,読み替え表_低炭素物流!$C$15:$F$21,4,0))","v":"-"},"-",null,null,null,null,0,0,0,0,0,"*"]
[null,null,41,null,null,null,null,null,null,null,null,null,null,null,null,null,null,null,null,null,null,null,null,null,null,{"$f":"IF(H49=\"\",\"-\",VLOOKUP(J49,読み替え表_低炭素物流!$C$4:$F$12,4,0))","v":"-"},{"$f":"IF(H49=\"\",\"-\",VLOOKUP(L49,読み替え表_低炭素物流!$C$15:$F$21,4,0))","v":"-"},"-",null,null,null,null,0,0,0,0,0,"*"]
[null,null,42,null,null,null,null,null,null,null,null,null,null,null,null,null,null,null,null,null,null,null,null,null,null,{"$f":"IF(H50=\"\",\"-\",VLOOKUP(J50,読み替え表_低炭素物流!$C$4:$F$12,4,0))","v":"-"},{"$f":"IF(H50=\"\",\"-\",VLOOKUP(L50,読み替え表_低炭素物流!$C$15:$F$21,4,0))","v":"-"},"-",null,null,null,null,0,0,0,0,0,"*"]
[null,null,43,null,null,null,null,null,null,null,null,null,null,null,null,null,null,null,null,null,null,null,null,null,null,{"$f":"IF(H51=\"\",\"-\",VLOOKUP(J51,読み替え表_低炭素物流!$C$4:$F$12,4,0))","v":"-"},{"$f":"IF(H51=\"\",\"-\",VLOOKUP(L51,読み替え表_低炭素物流!$C$15:$F$21,4,0))","v":"-"},"-",null,null,null,null,0,0,0,0,0,"*"]
[null,null,44,null,null,null,null,null,null,null,null,null,null,null,null,null,null,null,null,null,null,null,null,null,null,{"$f":"IF(H52=\"\",\"-\",VLOOKUP(J52,読み替え表_低炭素物流!$C$4:$F$12,4,0))","v":"-"},{"$f":"IF(H52=\"\",\"-\",VLOOKUP(L52,読み替え表_低炭素物流!$C$15:$F$21,4,0))","v":"-"},"-",null,null,null,null,0,0,0,0,0,"*"]
[null,null,45,null,null,null,null,null,null,null,null,null,null,null,null,null,null,null,null,null,null,null,null,null,null,{"$f":"IF(H53=\"\",\"-\",VLOOKUP(J53,読み替え表_低炭素物流!$C$4:$F$12,4,0))","v":"-"},{"$f":"IF(H53=\"\",\"-\",VLOOKUP(L53,読み替え表_低炭素物流!$C$15:$F$21,4,0))","v":"-"},"-",null,null,null,null,0,0,0,0,0,"*"]
[null,null,46,null,null,null,null,null,null,null,null,null,null,null,null,null,null,null,null,null,null,null,null,null,null,{"$f":"IF(H54=\"\",\"-\",VLOOKUP(J54,読み替え表_低炭素物流!$C$4:$F$12,4,0))","v":"-"},{"$f":"IF(H54=\"\",\"-\",VLOOKUP(L54,読み替え表_低炭素物流!$C$15:$F$21,4,0))","v":"-"},"-",null,null,null,null,0,0,0,0,0,"*"]
[null,null,47,null,null,null,null,null,null,null,null,null,null,null,null,null,null,null,null,null,null,null,null,null,null,{"$f":"IF(H55=\"\",\"-\",VLOOKUP(J55,読み替え表_低炭素物流!$C$4:$F$12,4,0))","v":"-"},{"$f":"IF(H55=\"\",\"-\",VLOOKUP(L55,読み替え表_低炭素物流!$C$15:$F$21,4,0))","v":"-"},"-",null,null,null,null,0,0,0,0,0,"*"]
[null,null,48,null,null,null,null,null,null,null,null,null,null,null,null,null,null,null,null,null,null,null,null,null,null,{"$f":"IF(H56=\"\",\"-\",VLOOKUP(J56,読み替え表_低炭素物流!$C$4:$F$12,4,0))","v":"-"},{"$f":"IF(H56=\"\",\"-\",VLOOKUP(L56,読み替え表_低炭素物流!$C$15:$F$21,4,0))","v":"-"},"-",null,null,null,null,0,0,0,0,0,"*"]
[null,null,49,null,null,null,null,null,null,null,null,null,null,null,null,null,null,null,null,null,null,null,null,null,null,{"$f":"IF(H57=\"\",\"-\",VLOOKUP(J57,読み替え表_低炭素物流!$C$4:$F$12,4,0))","v":"-"},{"$f":"IF(H57=\"\",\"-\",VLOOKUP(L57,読み替え表_低炭素物流!$C$15:$F$21,4,0))","v":"-"},"-",null,null,null,null,0,0,0,0,0,"*"]
[null,null,50,null,null,null,null,null,null,null,null,null,null,null,null,null,null,null,null,null,null,null,null,null,null,{"$f":"IF(H58=\"\",\"-\",VLOOKUP(J58,読み替え表_低炭素物流!$C$4:$F$12,4,0))","v":"-"},{"$f":"IF(H58=\"\",\"-\",VLOOKUP(L58,読み替え表_低炭素物流!$C$15:$F$21,4,0))","v":"-"},"-",null,null,null,null,0,0,0,0,0,"*"]
[null,null,51,null,null,null,null,null,null,null,null,null,null,null,null,null,null,null,null,null,null,null,null,null,null,{"$f":"IF(H59=\"\",\"-\",VLOOKUP(J59,読み替え表_低炭素物流!$C$4:$F$12,4,0))","v":"-"},{"$f":"IF(H59=\"\",\"-\",VLOOKUP(L59,読み替え表_低炭素物流!$C$15:$F$21,4,0))","v":"-"},"-",null,null,null,null,0,0,0,0,0,"*"]
[null,null,52,null,null,null,null,null,null,null,null,null,null,null,null,null,null,null,null,null,null,null,null,null,null,{"$f":"IF(H60=\"\",\"-\",VLOOKUP(J60,読み替え表_低炭素物流!$C$4:$F$12,4,0))","v":"-"},{"$f":"IF(H60=\"\",\"-\",VLOOKUP(L60,読み替え表_低炭素物流!$C$15:$F$21,4,0))","v":"-"},"-",null,null,null,null,0,0,0,0,0,"*"]
[null,null,53,null,null,null,null,null,null,null,null,null,null,null,null,null,null,null,null,null,null,null,null,null,null,{"$f":"IF(H61=\"\",\"-\",VLOOKUP(J61,読み替え表_低炭素物流!$C$4:$F$12,4,0))","v":"-"},{"$f":"IF(H61=\"\",\"-\",VLOOKUP(L61,読み替え表_低炭素物流!$C$15:$F$21,4,0))","v":"-"},"-",null,null,null,null,0,0,0,0,0,"*"]
[null,null,54,null,null,null,null,null,null,null,null,null,null,null,null,null,null,null,null,null,null,null,null,null,null,{"$f":"IF(H62=\"\",\"-\",VLOOKUP(J62,読み替え表_低炭素物流!$C$4:$F$12,4,0))","v":"-"},{"$f":"IF(H62=\"\",\"-\",VLOOKUP(L62,読み替え表_低炭素物流!$C$15:$F$21,4,0))","v":"-"},"-",null,null,null,null,0,0,0,0,0,"*"]
[null,null,55,null,null,null,null,null,null,null,null,null,null,null,null,null,null,null,null,null,null,null,null,null,null,{"$f":"IF(H63=\"\",\"-\",VLOOKUP(J63,読み替え表_低炭素物流!$C$4:$F$12,4,0))","v":"-"},{"$f":"IF(H63=\"\",\"-\",VLOOKUP(L63,読み替え表_低炭素物流!$C$15:$F$21,4,0))","v":"-"},"-",null,null,null,null,0,0,0,0,0,"*"]
[null,null,56,null,null,null,null,null,null,null,null,null,null,null,null,null,null,null,null,null,null,null,null,null,null,{"$f":"IF(H64=\"\",\"-\",VLOOKUP(J64,読み替え表_低炭素物流!$C$4:$F$12,4,0))","v":"-"},{"$f":"IF(H64=\"\",\"-\",VLOOKUP(L64,読み替え表_低炭素物流!$C$15:$F$21,4,0))","v":"-"},"-",null,null,null,null,0,0,0,0,0,"*"]
[null,null,57,null,null,null,null,null,null,null,null,null,null,null,null,null,null,null,null,null,null,null,null,null,null,{"$f":"IF(H65=\"\",\"-\",VLOOKUP(J65,読み替え表_低炭素物流!$C$4:$F$12,4,0))","v":"-"},{"$f":"IF(H65=\"\",\"-\",VLOOKUP(L65,読み替え表_低炭素物流!$C$15:$F$21,4,0))","v":"-"},"-",null,null,null,null,0,0,0,0,0,"*"]
[null,null,58,null,null,null,null,null,null,null,null,null,null,null,null,null,null,null,null,null,null,null,null,null,null,{"$f":"IF(H66=\"\",\"-\",VLOOKUP(J66,読み替え表_低炭素物流!$C$4:$F$12,4,0))","v":"-"},{"$f":"IF(H66=\"\",\"-\",VLOOKUP(L66,読み替え表_低炭素物流!$C$15:$F$21,4,0))","v":"-"},"-",null,null,null,null,0,0,0,0,0,"*"]
[null,null,59,null,null,null,null,null,null,null,null,null,null,null,null,null,null,null,null,null,null,null,null,null,null,{"$f":"IF(H67=\"\",\"-\",VLOOKUP(J67,読み替え表_低炭素物流!$C$4:$F$12,4,0))","v":"-"},{"$f":"IF(H67=\"\",\"-\",VLOOKUP(L67,読み替え表_低炭素物流!$C$15:$F$21,4,0))","v":"-"},"-",null,null,null,null,0,0,0,0,0,"*"]
[null,null,60,null,null,null,null,null,null,null,null,null,null,null,null,null,null,null,null,null,null,null,null,null,null,{"$f":"IF(H68=\"\",\"-\",VLOOKUP(J68,読み替え表_低炭素物流!$C$4:$F$12,4,0))","v":"-"},{"$f":"IF(H68=\"\",\"-\",VLOOKUP(L68,読み替え表_低炭素物流!$C$15:$F$21,4,0))","v":"-"},"-",null,null,null,null,0,0,0,0,0,"*"]
[null,null,61,null,null,null,null,null,null,null,null,null,null,null,null,null,null,null,null,null,null,null,null,null,null,{"$f":"IF(H69=\"\",\"-\",VLOOKUP(J69,読み替え表_低炭素物流!$C$4:$F$12,4,0))","v":"-"},{"$f":"IF(H69=\"\",\"-\",VLOOKUP(L69,読み替え表_低炭素物流!$C$15:$F$21,4,0))","v":"-"},"-",null,null,null,null,0,0,0,0,0,"*"]
[null,null,62,null,null,null,null,null,null,null,null,null,null,null,null,null,null,null,null,null,null,null,null,null,null,{"$f":"IF(H70=\"\",\"-\",VLOOKUP(J70,読み替え表_低炭素物流!$C$4:$F$12,4,0))","v":"-"},{"$f":"IF(H70=\"\",\"-\",VLOOKUP(L70,読み替え表_低炭素物流!$C$15:$F$21,4,0))","v":"-"},"-",null,null,null,null,0,0,0,0,0,"*"]
[null,null,63,null,null,null,null,null,null,null,null,null,null,null,null,null,null,null,null,null,null,null,null,null,null,{"$f":"IF(H71=\"\",\"-\",VLOOKUP(J71,読み替え表_低炭素物流!$C$4:$F$12,4,0))","v":"-"},{"$f":"IF(H71=\"\",\"-\",VLOOKUP(L71,読み替え表_低炭素物流!$C$15:$F$21,4,0))","v":"-"},"-",null,null,null,null,0,0,0,0,0,"*"]
[null,null,64,null,null,null,null,null,null,null,null,null,null,null,null,null,null,null,null,null,null,null,null,null,null,{"$f":"IF(H72=\"\",\"-\",VLOOKUP(J72,読み替え表_低炭素物流!$C$4:$F$12,4,0))","v":"-"},{"$f":"IF(H72=\"\",\"-\",VLOOKUP(L72,読み替え表_低炭素物流!$C$15:$F$21,4,0))","v":"-"},"-",null,null,null,null,0,0,0,0,0,"*"]
[null,null,65,null,null,null,null,null,null,null,null,null,null,null,null,null,null,null,null,null,null,null,null,null,null,{"$f":"IF(H73=\"\",\"-\",VLOOKUP(J73,読み替え表_低炭素物流!$C$4:$F$12,4,0))","v":"-"},{"$f":"IF(H73=\"\",\"-\",VLOOKUP(L73,読み替え表_低炭素物流!$C$15:$F$21,4,0))","v":"-"},"-",null,null,null,null,{"$f":"IF(N73=1,IF(OR(L73=4,L73=5),0,1),0)","v":0},0,0,0,0,"*"]
[null,null,{"$f":"ROW()-8","v":66},null,null,null,null,null,null,null,null,null,null,null,null,null,null,null,null,null,null,null,null,null,null,{"$f":"IF(H74=\"\",\"-\",VLOOKUP(J74,読み替え表_低炭素物流!$C$4:$F$12,4,0))","v":"-"},{"$f":"IF(H74=\"\",\"-\",VLOOKUP(L74,読み替え表_低炭素物流!$C$15:$F$21,4,0))","v":"-"},{"$f":"IF(H74=\"\",\"-\",Z74*AA74)","v":"-"},null,null,null,null,0,{"$f":"IF(J74=8,1,0)","v":0},{"$f":"IF(L74=6,1,0)","v":0},0,{"$f":"AG74","v":0},"*"]
[null,null,67,null,null,null,null,null,null,null,null,null,null,null,null,null,null,null,null,null,null,null,null,null,null,{"$f":"IF(H75=\"\",\"-\",VLOOKUP(J75,読み替え表_低炭素物流!$C$4:$F$12,4,0))","v":"-"},{"$f":"IF(H75=\"\",\"-\",VLOOKUP(L75,読み替え表_低炭素物流!$C$15:$F$21,4,0))","v":"-"},"-",null,null,null,null,0,0,0,0,0,"*"]
[null,null,68,null,null,null,null,null,null,null,null,null,null,null,null,null,null,null,null,null,null,null,null,null,null,{"$f":"IF(H76=\"\",\"-\",VLOOKUP(J76,読み替え表_低炭素物流!$C$4:$F$12,4,0))","v":"-"},{"$f":"IF(H76=\"\",\"-\",VLOOKUP(L76,読み替え表_低炭素物流!$C$15:$F$21,4,0))","v":"-"},"-",null,null,null,null,0,0,0,0,0,"*"]
[null,null,69,null,null,null,null,null,null,null,null,null,null,null,null,null,null,null,null,null,null,null,null,null,null,{"$f":"IF(H77=\"\",\"-\",VLOOKUP(J77,読み替え表_低炭素物流!$C$4:$F$12,4,0))","v":"-"},{"$f":"IF(H77=\"\",\"-\",VLOOKUP(L77,読み替え表_低炭素物流!$C$15:$F$21,4,0))","v":"-"},"-",null,null,null,null,0,0,0,0,0,"*"]
[null,null,70,null,null,null,null,null,null,null,null,null,null,null,null,null,null,null,null,null,null,null,null,null,null,{"$f":"IF(H78=\"\",\"-\",VLOOKUP(J78,読み替え表_低炭素物流!$C$4:$F$12,4,0))","v":"-"},{"$f":"IF(H78=\"\",\"-\",VLOOKUP(L78,読み替え表_低炭素物流!$C$15:$F$21,4,0))","v":"-"},"-",null,null,null,null,0,0,0,0,0,"*"]
[null,null,71,null,null,null,null,null,null,null,null,null,null,null,null,null,null,null,null,null,null,null,null,null,null,{"$f":"IF(H79=\"\",\"-\",VLOOKUP(J79,読み替え表_低炭素物流!$C$4:$F$12,4,0))","v":"-"},{"$f":"IF(H79=\"\",\"-\",VLOOKUP(L79,読み替え表_低炭素物流!$C$15:$F$21,4,0))","v":"-"},"-",null,null,null,null,0,0,0,0,0,"*"]
[null,null,72,null,null,null,null,null,null,null,null,null,null,null,null,null,null,null,null,null,null,null,null,null,null,{"$f":"IF(H80=\"\",\"-\",VLOOKUP(J80,読み替え表_低炭素物流!$C$4:$F$12,4,0))","v":"-"},{"$f":"IF(H80=\"\",\"-\",VLOOKUP(L80,読み替え表_低炭素物流!$C$15:$F$21,4,0))","v":"-"},"-",null,null,null,null,0,0,0,0,0,"*"]
[null,null,73,null,null,null,null,null,null,null,null,null,null,null,null,null,null,null,null,null,null,null,null,null,null,{"$f":"IF(H81=\"\",\"-\",VLOOKUP(J81,読み替え表_低炭素物流!$C$4:$F$12,4,0))","v":"-"},{"$f":"IF(H81=\"\",\"-\",VLOOKUP(L81,読み替え表_低炭素物流!$C$15:$F$21,4,0))","v":"-"},"-",null,null,null,null,0,0,0,0,0,"*"]
[null,null,74,null,null,null,null,null,null,null,null,null,null,null,null,null,null,null,null,null,null,null,null,null,null,{"$f":"IF(H82=\"\",\"-\",VLOOKUP(J82,読み替え表_低炭素物流!$C$4:$F$12,4,0))","v":"-"},{"$f":"IF(H82=\"\",\"-\",VLOOKUP(L82,読み替え表_低炭素物流!$C$15:$F$21,4,0))","v":"-"},"-",null,null,null,null,0,0,0,0,0,"*"]
[null,null,75,null,null,null,null,null,null,null,null,null,null,null,null,null,null,null,null,null,null,null,null,null,null,{"$f":"IF(H83=\"\",\"-\",VLOOKUP(J83,読み替え表_低炭素物流!$C$4:$F$12,4,0))","v":"-"},{"$f":"IF(H83=\"\",\"-\",VLOOKUP(L83,読み替え表_低炭素物流!$C$15:$F$21,4,0))","v":"-"},"-",null,null,null,null,0,0,0,0,0,"*"]
[null,null,76,null,null,null,null,null,null,null,null,null,null,null,null,null,null,null,null,null,null,null,null,null,null,{"$f":"IF(H84=\"\",\"-\",VLOOKUP(J84,読み替え表_低炭素物流!$C$4:$F$12,4,0))","v":"-"},{"$f":"IF(H84=\"\",\"-\",VLOOKUP(L84,読み替え表_低炭素物流!$C$15:$F$21,4,0))","v":"-"},"-",null,null,null,null,0,0,0,0,0,"*"]
[null,null,77,null,null,null,null,null,null,null,null,null,null,null,null,null,null,null,null,null,null,null,null,null,null,{"$f":"IF(H85=\"\",\"-\",VLOOKUP(J85,読み替え表_低炭素物流!$C$4:$F$12,4,0))","v":"-"},{"$f":"IF(H85=\"\",\"-\",VLOOKUP(L85,読み替え表_低炭素物流!$C$15:$F$21,4,0))","v":"-"},"-",null,null,null,null,0,0,0,0,0,"*"]
[null,null,78,null,null,null,null,null,null,null,null,null,null,null,null,null,null,null,null,null,null,null,null,null,null,{"$f":"IF(H86=\"\",\"-\",VLOOKUP(J86,読み替え表_低炭素物流!$C$4:$F$12,4,0))","v":"-"},{"$f":"IF(H86=\"\",\"-\",VLOOKUP(L86,読み替え表_低炭素物流!$C$15:$F$21,4,0))","v":"-"},"-",null,null,null,null,0,0,0,0,0,"*"]
[null,null,79,null,null,null,null,null,null,null,null,null,null,null,null,null,null,null,null,null,null,null,null,null,null,{"$f":"IF(H87=\"\",\"-\",VLOOKUP(J87,読み替え表_低炭素物流!$C$4:$F$12,4,0))","v":"-"},{"$f":"IF(H87=\"\",\"-\",VLOOKUP(L87,読み替え表_低炭素物流!$C$15:$F$21,4,0))","v":"-"},"-",null,null,null,null,0,0,0,0,0,"*"]
[null,null,80,null,null,null,null,null,null,null,null,null,null,null,null,null,null,null,null,null,null,null,null,null,null,{"$f":"IF(H88=\"\",\"-\",VLOOKUP(J88,読み替え表_低炭素物流!$C$4:$F$12,4,0))","v":"-"},{"$f":"IF(H88=\"\",\"-\",VLOOKUP(L88,読み替え表_低炭素物流!$C$15:$F$21,4,0))","v":"-"},"-",null,null,null,null,0,0,0,{"$f":"IF(OR(N88=7,N88=99),1,0)","v":0},0,"*"]
[null,null,81,null,null,null,null,null,null,null,null,null,null,null,null,null,null,null,null,null,null,null,null,null,null,{"$f":"IF(H89=\"\",\"-\",VLOOKUP(J89,読み替え表_低炭素物流!$C$4:$F$12,4,0))","v":"-"},{"$f":"IF(H89=\"\",\"-\",VLOOKUP(L89,読み替え表_低炭素物流!$C$15:$F$21,4,0))","v":"-"},"-",null,null,null,null,0,0,0,0,0,"*"]
[null,null,82,null,null,null,null,null,null,null,null,null,null,null,null,null,null,null,null,null,null,null,null,null,null,{"$f":"IF(H90=\"\",\"-\",VLOOKUP(J90,読み替え表_低炭素物流!$C$4:$F$12,4,0))","v":"-"},{"$f":"IF(H90=\"\",\"-\",VLOOKUP(L90,読み替え表_低炭素物流!$C$15:$F$21,4,0))","v":"-"},"-",null,null,null,null,0,0,0,0,0,"*"]
[null,null,83,null,null,null,null,null,null,null,null,null,null,null,null,null,null,null,null,null,null,null,null,null,null,{"$f":"IF(H91=\"\",\"-\",VLOOKUP(J91,読み替え表_低炭素物流!$C$4:$F$12,4,0))","v":"-"},{"$f":"IF(H91=\"\",\"-\",VLOOKUP(L91,読み替え表_低炭素物流!$C$15:$F$21,4,0))","v":"-"},"-",null,null,null,null,0,0,0,0,0,"*"]
[null,null,84,null,null,null,null,null,null,null,null,null,null,null,null,null,null,null,null,null,null,null,null,null,null,{"$f":"IF(H92=\"\",\"-\",VLOOKUP(J92,読み替え表_低炭素物流!$C$4:$F$12,4,0))","v":"-"},{"$f":"IF(H92=\"\",\"-\",VLOOKUP(L92,読み替え表_低炭素物流!$C$15:$F$21,4,0))","v":"-"},"-",null,null,null,null,0,0,0,0,0,"*"]
[null,null,85,null,null,null,null,null,null,null,null,null,null,null,null,null,null,null,null,null,null,null,null,null,null,{"$f":"IF(H93=\"\",\"-\",VLOOKUP(J93,読み替え表_低炭素物流!$C$4:$F$12,4,0))","v":"-"},{"$f":"IF(H93=\"\",\"-\",VLOOKUP(L93,読み替え表_低炭素物流!$C$15:$F$21,4,0))","v":"-"},"-",null,null,null,null,0,0,0,0,0,"*"]
[null,null,86,null,null,null,null,null,null,null,null,null,null,null,null,null,null,null,null,null,null,null,null,null,null,{"$f":"IF(H94=\"\",\"-\",VLOOKUP(J94,読み替え表_低炭素物流!$C$4:$F$12,4,0))","v":"-"},{"$f":"IF(H94=\"\",\"-\",VLOOKUP(L94,読み替え表_低炭素物流!$C$15:$F$21,4,0))","v":"-"},"-",null,null,null,null,0,0,0,0,0,"*"]
[null,null,87,null,null,null,null,null,null,null,null,null,null,null,null,null,null,null,null,null,null,null,null,null,null,{"$f":"IF(H95=\"\",\"-\",VLOOKUP(J95,読み替え表_低炭素物流!$C$4:$F$12,4,0))","v":"-"},{"$f":"IF(H95=\"\",\"-\",VLOOKUP(L95,読み替え表_低炭素物流!$C$15:$F$21,4,0))","v":"-"},"-",null,null,null,null,0,0,0,0,0,"*"]
[null,null,88,null,null,null,null,null,null,null,null,null,null,null,null,null,null,null,null,null,null,null,null,null,null,{"$f":"IF(H96=\"\",\"-\",VLOOKUP(J96,読み替え表_低炭素物流!$C$4:$F$12,4,0))","v":"-"},{"$f":"IF(H96=\"\",\"-\",VLOOKUP(L96,読み替え表_低炭素物流!$C$15:$F$21,4,0))","v":"-"},"-",null,null,null,null,0,0,0,0,0,"*"]
[null,null,89,null,null,null,null,null,null,null,null,null,null,null,null,null,null,null,null,null,null,null,null,null,null,{"$f":"IF(H97=\"\",\"-\",VLOOKUP(J97,読み替え表_低炭素物流!$C$4:$F$12,4,0))","v":"-"},{"$f":"IF(H97=\"\",\"-\",VLOOKUP(L97,読み替え表_低炭素物流!$C$15:$F$21,4,0))","v":"-"},"-",null,null,null,null,0,0,0,0,0,"*"]
[null,null,90,null,null,null,null,null,null,null,null,null,null,null,null,null,null,null,null,null,null,null,null,null,null,{"$f":"IF(H98=\"\",\"-\",VLOOKUP(J98,読み替え表_低炭素物流!$C$4:$F$12,4,0))","v":"-"},{"$f":"IF(H98=\"\",\"-\",VLOOKUP(L98,読み替え表_低炭素物流!$C$15:$F$21,4,0))","v":"-"},"-",null,null,null,null,0,0,0,0,0,"*"]
[null,null,91,null,null,null,null,null,null,null,null,null,null,null,null,null,null,null,null,null,null,null,null,null,null,{"$f":"IF(H99=\"\",\"-\",VLOOKUP(J99,読み替え表_低炭素物流!$C$4:$F$12,4,0))","v":"-"},{"$f":"IF(H99=\"\",\"-\",VLOOKUP(L99,読み替え表_低炭素物流!$C$15:$F$21,4,0))","v":"-"},"-",null,null,null,null,0,0,0,0,0,"*"]
[null,null,92,null,null,null,null,null,null,null,null,null,null,null,null,null,null,null,null,null,null,null,null,null,null,{"$f":"IF(H100=\"\",\"-\",VLOOKUP(J100,読み替え表_低炭素物流!$C$4:$F$12,4,0))","v":"-"},{"$f":"IF(H100=\"\",\"-\",VLOOKUP(L100,読み替え表_低炭素物流!$C$15:$F$21,4,0))","v":"-"},"-",null,null,null,null,0,0,0,0,0,"*"]
[null,null,93,null,null,null,null,null,null,null,null,null,null,null,null,null,null,null,null,null,null,null,null,null,null,{"$f":"IF(H101=\"\",\"-\",VLOOKUP(J101,読み替え表_低炭素物流!$C$4:$F$12,4,0))","v":"-"},{"$f":"IF(H101=\"\",\"-\",VLOOKUP(L101,読み替え表_低炭素物流!$C$15:$F$21,4,0))","v":"-"},"-",null,null,null,null,0,0,0,0,0,"*"]
[null,null,94,null,null,null,null,null,null,null,null,null,null,null,null,null,null,null,null,null,null,null,null,null,null,{"$f":"IF(H102=\"\",\"-\",VLOOKUP(J102,読み替え表_低炭素物流!$C$4:$F$12,4,0))","v":"-"},{"$f":"IF(H102=\"\",\"-\",VLOOKUP(L102,読み替え表_低炭素物流!$C$15:$F$21,4,0))","v":"-"},"-",null,null,null,null,0,0,0,0,0,"*"]
[null,null,95,null,null,null,null,null,null,null,null,null,null,null,null,null,null,null,null,null,null,null,null,null,null,{"$f":"IF(H103=\"\",\"-\",VLOOKUP(J103,読み替え表_低炭素物流!$C$4:$F$12,4,0))","v":"-"},{"$f":"IF(H103=\"\",\"-\",VLOOKUP(L103,読み替え表_低炭素物流!$C$15:$F$21,4,0))","v":"-"},"-",null,null,null,null,0,0,0,0,0,"*"]
[null,null,96,null,null,null,null,null,null,null,null,null,null,null,null,null,null,null,null,null,null,null,null,null,null,{"$f":"IF(H104=\"\",\"-\",VLOOKUP(J104,読み替え表_低炭素物流!$C$4:$F$12,4,0))","v":"-"},{"$f":"IF(H104=\"\",\"-\",VLOOKUP(L104,読み替え表_低炭素物流!$C$15:$F$21,4,0))","v":"-"},"-",null,null,null,null,0,0,0,0,0,"*"]
[null,null,97,null,null,null,null,null,null,null,null,null,null,null,null,null,null,null,null,null,null,null,null,null,null,{"$f":"IF(H105=\"\",\"-\",VLOOKUP(J105,読み替え表_低炭素物流!$C$4:$F$12,4,0))","v":"-"},{"$f":"IF(H105=\"\",\"-\",VLOOKUP(L105,読み替え表_低炭素物流!$C$15:$F$21,4,0))","v":"-"},"-",null,null,null,null,0,0,0,0,0,"*"]
[null,null,98,null,null,null,null,null,null,null,null,null,null,null,null,null,null,null,null,null,null,null,null,null,null,{"$f":"IF(H106=\"\",\"-\",VLOOKUP(J106,読み替え表_低炭素物流!$C$4:$F$12,4,0))","v":"-"},{"$f":"IF(H106=\"\",\"-\",VLOOKUP(L106,読み替え表_低炭素物流!$C$15:$F$21,4,0))","v":"-"},"-",null,null,null,null,0,0,0,0,0,"*"]
[null,null,99,null,null,null,null,null,null,null,null,null,null,null,null,null,null,null,null,null,null,null,null,null,null,{"$f":"IF(H107=\"\",\"-\",VLOOKUP(J107,読み替え表_低炭素物流!$C$4:$F$12,4,0))","v":"-"},{"$f":"IF(H107=\"\",\"-\",VLOOKUP(L107,読み替え表_低炭素物流!$C$15:$F$21,4,0))","v":"-"},"-",null,null,null,null,0,0,0,0,0,"*"]
[null,null,100,null,null,null,null,null,null,null,null,null,null,null,null,null,null,null,null,null,null,null,null,null,null,{"$f":"IF(H108=\"\",\"-\",VLOOKUP(J108,読み替え表_低炭素物流!$C$4:$F$12,4,0))","v":"-"},{"$f":"IF(H108=\"\",\"-\",VLOOKUP(L108,読み替え表_低炭素物流!$C$15:$F$21,4,0))","v":"-"},"-",null,null,null,null,0,0,0,0,0,"*"]
[null,null,101,null,null,null,null,null,null,null,null,null,null,null,null,null,null,null,null,null,null,null,null,null,null,{"$f":"IF(H109=\"\",\"-\",VLOOKUP(J109,読み替え表_低炭素物流!$C$4:$F$12,4,0))","v":"-"},{"$f":"IF(H109=\"\",\"-\",VLOOKUP(L109,読み替え表_低炭素物流!$C$15:$F$21,4,0))","v":"-"},"-",null,null,null,null,0,0,0,0,0,"*"]
[null,null,102,null,null,null,null,null,null,null,null,null,null,null,null,null,null,null,null,null,null,null,null,null,null,{"$f":"IF(H110=\"\",\"-\",VLOOKUP(J110,読み替え表_低炭素物流!$C$4:$F$12,4,0))","v":"-"},{"$f":"IF(H110=\"\",\"-\",VLOOKUP(L110,読み替え表_低炭素物流!$C$15:$F$21,4,0))","v":"-"},"-",null,null,null,null,0,0,0,0,0,"*"]
[null,null,103,null,null,null,null,null,null,null,null,null,null,null,null,null,null,null,null,null,null,null,null,null,null,{"$f":"IF(H111=\"\",\"-\",VLOOKUP(J111,読み替え表_低炭素物流!$C$4:$F$12,4,0))","v":"-"},{"$f":"IF(H111=\"\",\"-\",VLOOKUP(L111,読み替え表_低炭素物流!$C$15:$F$21,4,0))","v":"-"},"-",null,null,null,null,0,0,0,0,0,"*"]
[null,null,104,null,null,null,null,null,null,null,null,null,null,null,null,null,null,null,null,null,null,null,null,null,null,{"$f":"IF(H112=\"\",\"-\",VLOOKUP(J112,読み替え表_低炭素物流!$C$4:$F$12,4,0))","v":"-"},{"$f":"IF(H112=\"\",\"-\",VLOOKUP(L112,読み替え表_低炭素物流!$C$15:$F$21,4,0))","v":"-"},"-",null,null,null,null,0,0,0,0,0,"*"]
[null,null,105,null,null,null,null,null,null,null,null,null,null,null,null,null,null,null,null,null,null,null,null,null,null,{"$f":"IF(H113=\"\",\"-\",VLOOKUP(J113,読み替え表_低炭素物流!$C$4:$F$12,4,0))","v":"-"},{"$f":"IF(H113=\"\",\"-\",VLOOKUP(L113,読み替え表_低炭素物流!$C$15:$F$21,4,0))","v":"-"},"-",null,null,null,null,0,0,0,0,0,"*"]
[null,null,106,null,null,null,null,null,null,null,null,null,null,null,null,null,null,null,null,null,null,null,null,null,null,{"$f":"IF(H114=\"\",\"-\",VLOOKUP(J114,読み替え表_低炭素物流!$C$4:$F$12,4,0))","v":"-"},{"$f":"IF(H114=\"\",\"-\",VLOOKUP(L114,読み替え表_低炭素物流!$C$15:$F$21,4,0))","v":"-"},"-",null,null,null,null,0,0,0,0,0,"*"]
[null,null,107,null,null,null,null,null,null,null,null,null,null,null,null,null,null,null,null,null,null,null,null,null,null,{"$f":"IF(H115=\"\",\"-\",VLOOKUP(J115,読み替え表_低炭素物流!$C$4:$F$12,4,0))","v":"-"},{"$f":"IF(H115=\"\",\"-\",VLOOKUP(L115,読み替え表_低炭素物流!$C$15:$F$21,4,0))","v":"-"},"-",null,null,null,null,0,0,0,0,0,"*"]
[null,null,108,null,null,null,null,null,null,null,null,null,null,null,null,null,null,null,null,null,null,null,null,null,null,{"$f":"IF(H116=\"\",\"-\",VLOOKUP(J116,読み替え表_低炭素物流!$C$4:$F$12,4,0))","v":"-"},{"$f":"IF(H116=\"\",\"-\",VLOOKUP(L116,読み替え表_低炭素物流!$C$15:$F$21,4,0))","v":"-"},"-",null,null,null,null,0,0,0,0,0,"*"]
[null,null,109,null,null,null,null,null,null,null,null,null,null,null,null,null,null,null,null,null,null,null,null,null,null,{"$f":"IF(H117=\"\",\"-\",VLOOKUP(J117,読み替え表_低炭素物流!$C$4:$F$12,4,0))","v":"-"},{"$f":"IF(H117=\"\",\"-\",VLOOKUP(L117,読み替え表_低炭素物流!$C$15:$F$21,4,0))","v":"-"},"-",null,null,null,null,0,0,0,0,0,"*"]
[null,null,110,null,null,null,null,null,null,null,null,null,null,null,null,null,null,null,null,null,null,null,null,null,null,{"$f":"IF(H118=\"\",\"-\",VLOOKUP(J118,読み替え表_低炭素物流!$C$4:$F$12,4,0))","v":"-"},{"$f":"IF(H118=\"\",\"-\",VLOOKUP(L118,読み替え表_低炭素物流!$C$15:$F$21,4,0))","v":"-"},"-",null,null,null,null,0,0,0,0,0,"*"]
[null,null,111,null,null,null,null,null,null,null,null,null,null,null,null,null,null,null,null,null,null,null,null,null,null,{"$f":"IF(H119=\"\",\"-\",VLOOKUP(J119,読み替え表_低炭素物流!$C$4:$F$12,4,0))","v":"-"},{"$f":"IF(H119=\"\",\"-\",VLOOKUP(L119,読み替え表_低炭素物流!$C$15:$F$21,4,0))","v":"-"},"-",null,null,null,null,0,0,0,0,0,"*"]
[null,null,112,null,null,null,null,null,null,null,null,null,null,null,null,null,null,null,null,null,null,null,null,null,null,{"$f":"IF(H120=\"\",\"-\",VLOOKUP(J120,読み替え表_低炭素物流!$C$4:$F$12,4,0))","v":"-"},{"$f":"IF(H120=\"\",\"-\",VLOOKUP(L120,読み替え表_低炭素物流!$C$15:$F$21,4,0))","v":"-"},"-",null,null,null,null,0,0,0,0,0,"*"]
[null,null,113,null,null,null,null,null,null,null,null,null,null,null,null,null,null,null,null,null,null,null,null,null,null,{"$f":"IF(H121=\"\",\"-\",VLOOKUP(J121,読み替え表_低炭素物流!$C$4:$F$12,4,0))","v":"-"},{"$f":"IF(H121=\"\",\"-\",VLOOKUP(L121,読み替え表_低炭素物流!$C$15:$F$21,4,0))","v":"-"},"-",null,null,null,null,0,0,0,0,0,"*"]
[null,null,114,null,null,null,null,null,null,null,null,null,null,null,null,null,null,null,null,null,null,null,null,null,null,{"$f":"IF(H122=\"\",\"-\",VLOOKUP(J122,読み替え表_低炭素物流!$C$4:$F$12,4,0))","v":"-"},{"$f":"IF(H122=\"\",\"-\",VLOOKUP(L122,読み替え表_低炭素物流!$C$15:$F$21,4,0))","v":"-"},"-",null,null,null,null,0,0,0,0,0,"*"]
[null,null,115,null,null,null,null,null,null,null,null,null,null,null,null,null,null,null,null,null,null,null,null,null,null,{"$f":"IF(H123=\"\",\"-\",VLOOKUP(J123,読み替え表_低炭素物流!$C$4:$F$12,4,0))","v":"-"},{"$f":"IF(H123=\"\",\"-\",VLOOKUP(L123,読み替え表_低炭素物流!$C$15:$F$21,4,0))","v":"-"},"-",null,null,null,null,0,0,0,0,0,"*"]
[null,null,116,null,null,null,null,null,null,null,null,null,null,null,null,null,null,null,null,null,null,null,null,null,null,{"$f":"IF(H124=\"\",\"-\",VLOOKUP(J124,読み替え表_低炭素物流!$C$4:$F$12,4,0))","v":"-"},{"$f":"IF(H124=\"\",\"-\",VLOOKUP(L124,読み替え表_低炭素物流!$C$15:$F$21,4,0))","v":"-"},"-",null,null,null,null,0,0,0,0,0,"*"]
[null,null,117,null,null,null,null,null,null,null,null,null,null,null,null,null,null,null,null,null,null,null,null,null,null,{"$f":"IF(H125=\"\",\"-\",VLOOKUP(J125,読み替え表_低炭素物流!$C$4:$F$12,4,0))","v":"-"},{"$f":"IF(H125=\"\",\"-\",VLOOKUP(L125,読み替え表_低炭素物流!$C$15:$F$21,4,0))","v":"-"},"-",null,null,null,null,0,0,0,0,0,"*"]
[null,null,118,null,null,null,null,null,null,null,null,null,null,null,null,null,null,null,null,null,null,null,null,null,null,{"$f":"IF(H126=\"\",\"-\",VLOOKUP(J126,読み替え表_低炭素物流!$C$4:$F$12,4,0))","v":"-"},{"$f":"IF(H126=\"\",\"-\",VLOOKUP(L126,読み替え表_低炭素物流!$C$15:$F$21,4,0))","v":"-"},"-",null,null,null,null,0,0,0,0,0,"*"]
[null,null,119,null,null,null,null,null,null,null,null,null,null,null,null,null,null,null,null,null,null,null,null,null,null,{"$f":"IF(H127=\"\",\"-\",VLOOKUP(J127,読み替え表_低炭素物流!$C$4:$F$12,4,0))","v":"-"},{"$f":"IF(H127=\"\",\"-\",VLOOKUP(L127,読み替え表_低炭素物流!$C$15:$F$21,4,0))","v":"-"},"-",null,null,null,null,0,0,0,0,0,"*"]
[null,null,120,null,null,null,null,null,null,null,null,null,null,null,null,null,null,null,null,null,null,null,null,null,null,{"$f":"IF(H128=\"\",\"-\",VLOOKUP(J128,読み替え表_低炭素物流!$C$4:$F$12,4,0))","v":"-"},{"$f":"IF(H128=\"\",\"-\",VLOOKUP(L128,読み替え表_低炭素物流!$C$15:$F$21,4,0))","v":"-"},"-",null,null,null,null,0,0,0,0,0,"*"]
[null,null,121,null,null,null,null,null,null,null,null,null,null,null,null,null,null,null,null,null,null,null,null,null,null,{"$f":"IF(H129=\"\",\"-\",VLOOKUP(J129,読み替え表_低炭素物流!$C$4:$F$12,4,0))","v":"-"},{"$f":"IF(H129=\"\",\"-\",VLOOKUP(L129,読み替え表_低炭素物流!$C$15:$F$21,4,0))","v":"-"},"-",null,null,null,null,0,0,0,0,0,"*"]
[null,null,122,null,null,null,null,null,null,null,null,null,null,null,null,null,null,null,null,null,null,null,null,null,null,{"$f":"IF(H130=\"\",\"-\",VLOOKUP(J130,読み替え表_低炭素物流!$C$4:$F$12,4,0))","v":"-"},{"$f":"IF(H130=\"\",\"-\",VLOOKUP(L130,読み替え表_低炭素物流!$C$15:$F$21,4,0))","v":"-"},"-",null,null,null,null,0,0,0,0,0,"*"]
[null,null,123,null,null,null,null,null,null,null,null,null,null,null,null,null,null,null,null,null,null,null,null,null,null,{"$f":"IF(H131=\"\",\"-\",VLOOKUP(J131,読み替え表_低炭素物流!$C$4:$F$12,4,0))","v":"-"},{"$f":"IF(H131=\"\",\"-\",VLOOKUP(L131,読み替え表_低炭素物流!$C$15:$F$21,4,0))","v":"-"},"-",null,null,null,null,0,0,0,0,0,"*"]
[null,null,124,null,null,null,null,null,null,null,null,null,null,null,null,null,null,null,null,null,null,null,null,null,null,{"$f":"IF(H132=\"\",\"-\",VLOOKUP(J132,読み替え表_低炭素物流!$C$4:$F$12,4,0))","v":"-"},{"$f":"IF(H132=\"\",\"-\",VLOOKUP(L132,読み替え表_低炭素物流!$C$15:$F$21,4,0))","v":"-"},"-",null,null,null,null,0,0,0,0,0,"*"]
[null,null,125,null,null,null,null,null,null,null,null,null,null,null,null,null,null,null,null,null,null,null,null,null,null,{"$f":"IF(H133=\"\",\"-\",VLOOKUP(J133,読み替え表_低炭素物流!$C$4:$F$12,4,0))","v":"-"},{"$f":"IF(H133=\"\",\"-\",VLOOKUP(L133,読み替え表_低炭素物流!$C$15:$F$21,4,0))","v":"-"},"-",null,null,null,null,0,0,0,0,0,"*"]
[null,null,126,null,null,null,null,null,null,null,null,null,null,null,null,null,null,null,null,null,null,null,null,null,null,{"$f":"IF(H134=\"\",\"-\",VLOOKUP(J134,読み替え表_低炭素物流!$C$4:$F$12,4,0))","v":"-"},{"$f":"IF(H134=\"\",\"-\",VLOOKUP(L134,読み替え表_低炭素物流!$C$15:$F$21,4,0))","v":"-"},"-",null,null,null,null,0,0,0,0,0,"*"]
[null,null,127,null,null,null,null,null,null,null,null,null,null,null,null,null,null,null,null,null,null,null,null,null,null,{"$f":"IF(H135=\"\",\"-\",VLOOKUP(J135,読み替え表_低炭素物流!$C$4:$F$12,4,0))","v":"-"},{"$f":"IF(H135=\"\",\"-\",VLOOKUP(L135,読み替え表_低炭素物流!$C$15:$F$21,4,0))","v":"-"},"-",null,null,null,null,0,0,0,0,0,"*"]
[null,null,128,null,null,null,null,null,null,null,null,null,null,null,null,null,null,null,null,null,null,null,null,null,null,{"$f":"IF(H136=\"\",\"-\",VLOOKUP(J136,読み替え表_低炭素物流!$C$4:$F$12,4,0))","v":"-"},{"$f":"IF(H136=\"\",\"-\",VLOOKUP(L136,読み替え表_低炭素物流!$C$15:$F$21,4,0))","v":"-"},"-",null,null,null,null,0,0,0,0,0,"*"]
[null,null,129,null,null,null,null,null,null,null,null,null,null,null,null,null,null,null,null,null,null,null,null,null,null,{"$f":"IF(H137=\"\",\"-\",VLOOKUP(J137,読み替え表_低炭素物流!$C$4:$F$12,4,0))","v":"-"},{"$f":"IF(H137=\"\",\"-\",VLOOKUP(L137,読み替え表_低炭素物流!$C$15:$F$21,4,0))","v":"-"},"-",null,null,null,null,{"$f":"IF(N137=1,IF(OR(L137=4,L137=5),0,1),0)","v":0},0,0,0,0,"*"]
[null,null,{"$f":"ROW()-8","v":130},null,null,null,null,null,null,null,null,null,null,null,null,null,null,null,null,null,null,null,null,null,null,{"$f":"IF(H138=\"\",\"-\",VLOOKUP(J138,読み替え表_低炭素物流!$C$4:$F$12,4,0))","v":"-"},{"$f":"IF(H138=\"\",\"-\",VLOOKUP(L138,読み替え表_低炭素物流!$C$15:$F$21,4,0))","v":"-"},{"$f":"IF(H138=\"\",\"-\",Z138*AA138)","v":"-"},null,null,null,null,0,{"$f":"IF(J138=8,1,0)","v":0},{"$f":"IF(L138=6,1,0)","v":0},0,{"$f":"AG138","v":0},"*"]
[null,null,131,null,null,null,null,null,null,null,null,null,null,null,null,null,null,null,null,null,null,null,null,null,null,{"$f":"IF(H139=\"\",\"-\",VLOOKUP(J139,読み替え表_低炭素物流!$C$4:$F$12,4,0))","v":"-"},{"$f":"IF(H139=\"\",\"-\",VLOOKUP(L139,読み替え表_低炭素物流!$C$15:$F$21,4,0))","v":"-"},"-",null,null,null,null,0,0,0,0,0,"*"]
[null,null,132,null,null,null,null,null,null,null,null,null,null,null,null,null,null,null,null,null,null,null,null,null,null,{"$f":"IF(H140=\"\",\"-\",VLOOKUP(J140,読み替え表_低炭素物流!$C$4:$F$12,4,0))","v":"-"},{"$f":"IF(H140=\"\",\"-\",VLOOKUP(L140,読み替え表_低炭素物流!$C$15:$F$21,4,0))","v":"-"},"-",null,null,null,null,0,0,0,0,0,"*"]
[null,null,133,null,null,null,null,null,null,null,null,null,null,null,null,null,null,null,null,null,null,null,null,null,null,{"$f":"IF(H141=\"\",\"-\",VLOOKUP(J141,読み替え表_低炭素物流!$C$4:$F$12,4,0))","v":"-"},{"$f":"IF(H141=\"\",\"-\",VLOOKUP(L141,読み替え表_低炭素物流!$C$15:$F$21,4,0))","v":"-"},"-",null,null,null,null,0,0,0,0,0,"*"]
[null,null,134,null,null,null,null,null,null,null,null,null,null,null,null,null,null,null,null,null,null,null,null,null,null,{"$f":"IF(H142=\"\",\"-\",VLOOKUP(J142,読み替え表_低炭素物流!$C$4:$F$12,4,0))","v":"-"},{"$f":"IF(H142=\"\",\"-\",VLOOKUP(L142,読み替え表_低炭素物流!$C$15:$F$21,4,0))","v":"-"},"-",null,null,null,null,0,0,0,0,0,"*"]
[null,null,135,null,null,null,null,null,null,null,null,null,null,null,null,null,null,null,null,null,null,null,null,null,null,{"$f":"IF(H143=\"\",\"-\",VLOOKUP(J143,読み替え表_低炭素物流!$C$4:$F$12,4,0))","v":"-"},{"$f":"IF(H143=\"\",\"-\",VLOOKUP(L143,読み替え表_低炭素物流!$C$15:$F$21,4,0))","v":"-"},"-",null,null,null,null,0,0,0,0,0,"*"]
[null,null,136,null,null,null,null,null,null,null,null,null,null,null,null,null,null,null,null,null,null,null,null,null,null,{"$f":"IF(H144=\"\",\"-\",VLOOKUP(J144,読み替え表_低炭素物流!$C$4:$F$12,4,0))","v":"-"},{"$f":"IF(H144=\"\",\"-\",VLOOKUP(L144,読み替え表_低炭素物流!$C$15:$F$21,4,0))","v":"-"},"-",null,null,null,null,0,0,0,0,0,"*"]
[null,null,137,null,null,null,null,null,null,null,null,null,null,null,null,null,null,null,null,null,null,null,null,null,null,{"$f":"IF(H145=\"\",\"-\",VLOOKUP(J145,読み替え表_低炭素物流!$C$4:$F$12,4,0))","v":"-"},{"$f":"IF(H145=\"\",\"-\",VLOOKUP(L145,読み替え表_低炭素物流!$C$15:$F$21,4,0))","v":"-"},"-",null,null,null,null,0,0,0,0,0,"*"]
[null,null,138,null,null,null,null,null,null,null,null,null,null,null,null,null,null,null,null,null,null,null,null,null,null,{"$f":"IF(H146=\"\",\"-\",VLOOKUP(J146,読み替え表_低炭素物流!$C$4:$F$12,4,0))","v":"-"},{"$f":"IF(H146=\"\",\"-\",VLOOKUP(L146,読み替え表_低炭素物流!$C$15:$F$21,4,0))","v":"-"},"-",null,null,null,null,0,0,0,0,0,"*"]
[null,null,139,null,null,null,null,null,null,null,null,null,null,null,null,null,null,null,null,null,null,null,null,null,null,{"$f":"IF(H147=\"\",\"-\",VLOOKUP(J147,読み替え表_低炭素物流!$C$4:$F$12,4,0))","v":"-"},{"$f":"IF(H147=\"\",\"-\",VLOOKUP(L147,読み替え表_低炭素物流!$C$15:$F$21,4,0))","v":"-"},"-",null,null,null,null,0,0,0,0,0,"*"]
[null,null,140,null,null,null,null,null,null,null,null,null,null,null,null,null,null,null,null,null,null,null,null,null,null,{"$f":"IF(H148=\"\",\"-\",VLOOKUP(J148,読み替え表_低炭素物流!$C$4:$F$12,4,0))","v":"-"},{"$f":"IF(H148=\"\",\"-\",VLOOKUP(L148,読み替え表_低炭素物流!$C$15:$F$21,4,0))","v":"-"},"-",null,null,null,null,0,0,0,0,0,"*"]
[null,null,141,null,null,null,null,null,null,null,null,null,null,null,null,null,null,null,null,null,null,null,null,null,null,{"$f":"IF(H149=\"\",\"-\",VLOOKUP(J149,読み替え表_低炭素物流!$C$4:$F$12,4,0))","v":"-"},{"$f":"IF(H149=\"\",\"-\",VLOOKUP(L149,読み替え表_低炭素物流!$C$15:$F$21,4,0))","v":"-"},"-",null,null,null,null,0,0,0,0,0,"*"]
[null,null,142,null,null,null,null,null,null,null,null,null,null,null,null,null,null,null,null,null,null,null,null,null,null,{"$f":"IF(H150=\"\",\"-\",VLOOKUP(J150,読み替え表_低炭素物流!$C$4:$F$12,4,0))","v":"-"},{"$f":"IF(H150=\"\",\"-\",VLOOKUP(L150,読み替え表_低炭素物流!$C$15:$F$21,4,0))","v":"-"},"-",null,null,null,null,0,0,0,0,0,"*"]
[null,null,143,null,null,null,null,null,null,null,null,null,null,null,null,null,null,null,null,null,null,null,null,null,null,{"$f":"IF(H151=\"\",\"-\",VLOOKUP(J151,読み替え表_低炭素物流!$C$4:$F$12,4,0))","v":"-"},{"$f":"IF(H151=\"\",\"-\",VLOOKUP(L151,読み替え表_低炭素物流!$C$15:$F$21,4,0))","v":"-"},"-",null,null,null,null,0,0,0,0,0,"*"]
[null,null,144,null,null,null,null,null,null,null,null,null,null,null,null,null,null,null,null,null,null,null,null,null,null,{"$f":"IF(H152=\"\",\"-\",VLOOKUP(J152,読み替え表_低炭素物流!$C$4:$F$12,4,0))","v":"-"},{"$f":"IF(H152=\"\",\"-\",VLOOKUP(L152,読み替え表_低炭素物流!$C$15:$F$21,4,0))","v":"-"},"-",null,null,null,null,0,0,0,{"$f":"IF(OR(N152=7,N152=99),1,0)","v":0},0,"*"]
[null,null,145,null,null,null,null,null,null,null,null,null,null,null,null,null,null,null,null,null,null,null,null,null,null,{"$f":"IF(H153=\"\",\"-\",VLOOKUP(J153,読み替え表_低炭素物流!$C$4:$F$12,4,0))","v":"-"},{"$f":"IF(H153=\"\",\"-\",VLOOKUP(L153,読み替え表_低炭素物流!$C$15:$F$21,4,0))","v":"-"},"-",null,null,null,null,0,0,0,0,0,"*"]
[null,null,146,null,null,null,null,null,null,null,null,null,null,null,null,null,null,null,null,null,null,null,null,null,null,{"$f":"IF(H154=\"\",\"-\",VLOOKUP(J154,読み替え表_低炭素物流!$C$4:$F$12,4,0))","v":"-"},{"$f":"IF(H154=\"\",\"-\",VLOOKUP(L154,読み替え表_低炭素物流!$C$15:$F$21,4,0))","v":"-"},"-",null,null,null,null,0,0,0,0,0,"*"]
[null,null,147,null,null,null,null,null,null,null,null,null,null,null,null,null,null,null,null,null,null,null,null,null,null,{"$f":"IF(H155=\"\",\"-\",VLOOKUP(J155,読み替え表_低炭素物流!$C$4:$F$12,4,0))","v":"-"},{"$f":"IF(H155=\"\",\"-\",VLOOKUP(L155,読み替え表_低炭素物流!$C$15:$F$21,4,0))","v":"-"},"-",null,null,null,null,0,0,0,0,0,"*"]
[null,null,148,null,null,null,null,null,null,null,null,null,null,null,null,null,null,null,null,null,null,null,null,null,null,{"$f":"IF(H156=\"\",\"-\",VLOOKUP(J156,読み替え表_低炭素物流!$C$4:$F$12,4,0))","v":"-"},{"$f":"IF(H156=\"\",\"-\",VLOOKUP(L156,読み替え表_低炭素物流!$C$15:$F$21,4,0))","v":"-"},"-",null,null,null,null,0,0,0,0,0,"*"]
[null,null,149,null,null,null,null,null,null,null,null,null,null,null,null,null,null,null,null,null,null,null,null,null,null,{"$f":"IF(H157=\"\",\"-\",VLOOKUP(J157,読み替え表_低炭素物流!$C$4:$F$12,4,0))","v":"-"},{"$f":"IF(H157=\"\",\"-\",VLOOKUP(L157,読み替え表_低炭素物流!$C$15:$F$21,4,0))","v":"-"},"-",null,null,null,null,0,0,0,0,0,"*"]
[null,null,150,null,null,null,null,null,null,null,null,null,null,null,null,null,null,null,null,null,null,null,null,null,null,{"$f":"IF(H158=\"\",\"-\",VLOOKUP(J158,読み替え表_低炭素物流!$C$4:$F$12,4,0))","v":"-"},{"$f":"IF(H158=\"\",\"-\",VLOOKUP(L158,読み替え表_低炭素物流!$C$15:$F$21,4,0))","v":"-"},"-",null,null,null,null,0,0,0,0,0,"*"]
[null,null,151,null,null,null,null,null,null,null,null,null,null,null,null,null,null,null,null,null,null,null,null,null,null,{"$f":"IF(H159=\"\",\"-\",VLOOKUP(J159,読み替え表_低炭素物流!$C$4:$F$12,4,0))","v":"-"},{"$f":"IF(H159=\"\",\"-\",VLOOKUP(L159,読み替え表_低炭素物流!$C$15:$F$21,4,0))","v":"-"},"-",null,null,null,null,0,0,0,0,0,"*"]
[null,null,152,null,null,null,null,null,null,null,null,null,null,null,null,null,null,null,null,null,null,null,null,null,null,{"$f":"IF(H160=\"\",\"-\",VLOOKUP(J160,読み替え表_低炭素物流!$C$4:$F$12,4,0))","v":"-"},{"$f":"IF(H160=\"\",\"-\",VLOOKUP(L160,読み替え表_低炭素物流!$C$15:$F$21,4,0))","v":"-"},"-",null,null,null,null,0,0,0,0,0,"*"]
[null,null,153,null,null,null,null,null,null,null,null,null,null,null,null,null,null,null,null,null,null,null,null,null,null,{"$f":"IF(H161=\"\",\"-\",VLOOKUP(J161,読み替え表_低炭素物流!$C$4:$F$12,4,0))","v":"-"},{"$f":"IF(H161=\"\",\"-\",VLOOKUP(L161,読み替え表_低炭素物流!$C$15:$F$21,4,0))","v":"-"},"-",null,null,null,null,0,0,0,0,0,"*"]
[null,null,154,null,null,null,null,null,null,null,null,null,null,null,null,null,null,null,null,null,null,null,null,null,null,{"$f":"IF(H162=\"\",\"-\",VLOOKUP(J162,読み替え表_低炭素物流!$C$4:$F$12,4,0))","v":"-"},{"$f":"IF(H162=\"\",\"-\",VLOOKUP(L162,読み替え表_低炭素物流!$C$15:$F$21,4,0))","v":"-"},"-",null,null,null,null,0,0,0,0,0,"*"]
[null,null,155,null,null,null,null,null,null,null,null,null,null,null,null,null,null,null,null,null,null,null,null,null,null,{"$f":"IF(H163=\"\",\"-\",VLOOKUP(J163,読み替え表_低炭素物流!$C$4:$F$12,4,0))","v":"-"},{"$f":"IF(H163=\"\",\"-\",VLOOKUP(L163,読み替え表_低炭素物流!$C$15:$F$21,4,0))","v":"-"},"-",null,null,null,null,0,0,0,0,0,"*"]
[null,null,156,null,null,null,null,null,null,null,null,null,null,null,null,null,null,null,null,null,null,null,null,null,null,{"$f":"IF(H164=\"\",\"-\",VLOOKUP(J164,読み替え表_低炭素物流!$C$4:$F$12,4,0))","v":"-"},{"$f":"IF(H164=\"\",\"-\",VLOOKUP(L164,読み替え表_低炭素物流!$C$15:$F$21,4,0))","v":"-"},"-",null,null,null,null,0,0,0,0,0,"*"]
[null,null,157,null,null,null,null,null,null,null,null,null,null,null,null,null,null,null,null,null,null,null,null,null,null,{"$f":"IF(H165=\"\",\"-\",VLOOKUP(J165,読み替え表_低炭素物流!$C$4:$F$12,4,0))","v":"-"},{"$f":"IF(H165=\"\",\"-\",VLOOKUP(L165,読み替え表_低炭素物流!$C$15:$F$21,4,0))","v":"-"},"-",null,null,null,null,0,0,0,0,0,"*"]
[null,null,158,null,null,null,null,null,null,null,null,null,null,null,null,null,null,null,null,null,null,null,null,null,null,{"$f":"IF(H166=\"\",\"-\",VLOOKUP(J166,読み替え表_低炭素物流!$C$4:$F$12,4,0))","v":"-"},{"$f":"IF(H166=\"\",\"-\",VLOOKUP(L166,読み替え表_低炭素物流!$C$15:$F$21,4,0))","v":"-"},"-",null,null,null,null,0,0,0,0,0,"*"]
[null,null,159,null,null,null,null,null,null,null,null,null,null,null,null,null,null,null,null,null,null,null,null,null,null,{"$f":"IF(H167=\"\",\"-\",VLOOKUP(J167,読み替え表_低炭素物流!$C$4:$F$12,4,0))","v":"-"},{"$f":"IF(H167=\"\",\"-\",VLOOKUP(L167,読み替え表_低炭素物流!$C$15:$F$21,4,0))","v":"-"},"-",null,null,null,null,0,0,0,0,0,"*"]
[null,null,160,null,null,null,null,null,null,null,null,null,null,null,null,null,null,null,null,null,null,null,null,null,null,{"$f":"IF(H168=\"\",\"-\",VLOOKUP(J168,読み替え表_低炭素物流!$C$4:$F$12,4,0))","v":"-"},{"$f":"IF(H168=\"\",\"-\",VLOOKUP(L168,読み替え表_低炭素物流!$C$15:$F$21,4,0))","v":"-"},"-",null,null,null,null,0,0,0,0,0,"*"]
[null,null,161,null,null,null,null,null,null,null,null,null,null,null,null,null,null,null,null,null,null,null,null,null,null,{"$f":"IF(H169=\"\",\"-\",VLOOKUP(J169,読み替え表_低炭素物流!$C$4:$F$12,4,0))","v":"-"},{"$f":"IF(H169=\"\",\"-\",VLOOKUP(L169,読み替え表_低炭素物流!$C$15:$F$21,4,0))","v":"-"},"-",null,null,null,null,0,0,0,0,0,"*"]
[null,null,162,null,null,null,null,null,null,null,null,null,null,null,null,null,null,null,null,null,null,null,null,null,null,{"$f":"IF(H170=\"\",\"-\",VLOOKUP(J170,読み替え表_低炭素物流!$C$4:$F$12,4,0))","v":"-"},{"$f":"IF(H170=\"\",\"-\",VLOOKUP(L170,読み替え表_低炭素物流!$C$15:$F$21,4,0))","v":"-"},"-",null,null,null,null,0,0,0,0,0,"*"]
[null,null,163,null,null,null,null,null,null,null,null,null,null,null,null,null,null,null,null,null,null,null,null,null,null,{"$f":"IF(H171=\"\",\"-\",VLOOKUP(J171,読み替え表_低炭素物流!$C$4:$F$12,4,0))","v":"-"},{"$f":"IF(H171=\"\",\"-\",VLOOKUP(L171,読み替え表_低炭素物流!$C$15:$F$21,4,0))","v":"-"},"-",null,null,null,null,0,0,0,0,0,"*"]
[null,null,164,null,null,null,null,null,null,null,null,null,null,null,null,null,null,null,null,null,null,null,null,null,null,{"$f":"IF(H172=\"\",\"-\",VLOOKUP(J172,読み替え表_低炭素物流!$C$4:$F$12,4,0))","v":"-"},{"$f":"IF(H172=\"\",\"-\",VLOOKUP(L172,読み替え表_低炭素物流!$C$15:$F$21,4,0))","v":"-"},"-",null,null,null,null,0,0,0,0,0,"*"]
[null,null,165,null,null,null,null,null,null,null,null,null,null,null,null,null,null,null,null,null,null,null,null,null,null,{"$f":"IF(H173=\"\",\"-\",VLOOKUP(J173,読み替え表_低炭素物流!$C$4:$F$12,4,0))","v":"-"},{"$f":"IF(H173=\"\",\"-\",VLOOKUP(L173,読み替え表_低炭素物流!$C$15:$F$21,4,0))","v":"-"},"-",null,null,null,null,0,0,0,0,0,"*"]
[null,null,166,null,null,null,null,null,null,null,null,null,null,null,null,null,null,null,null,null,null,null,null,null,null,{"$f":"IF(H174=\"\",\"-\",VLOOKUP(J174,読み替え表_低炭素物流!$C$4:$F$12,4,0))","v":"-"},{"$f":"IF(H174=\"\",\"-\",VLOOKUP(L174,読み替え表_低炭素物流!$C$15:$F$21,4,0))","v":"-"},"-",null,null,null,null,0,0,0,0,0,"*"]
[null,null,167,null,null,null,null,null,null,null,null,null,null,null,null,null,null,null,null,null,null,null,null,null,null,{"$f":"IF(H175=\"\",\"-\",VLOOKUP(J175,読み替え表_低炭素物流!$C$4:$F$12,4,0))","v":"-"},{"$f":"IF(H175=\"\",\"-\",VLOOKUP(L175,読み替え表_低炭素物流!$C$15:$F$21,4,0))","v":"-"},"-",null,null,null,null,0,0,0,0,0,"*"]
[null,null,168,null,null,null,null,null,null,null,null,null,null,null,null,null,null,null,null,null,null,null,null,null,null,{"$f":"IF(H176=\"\",\"-\",VLOOKUP(J176,読み替え表_低炭素物流!$C$4:$F$12,4,0))","v":"-"},{"$f":"IF(H176=\"\",\"-\",VLOOKUP(L176,読み替え表_低炭素物流!$C$15:$F$21,4,0))","v":"-"},"-",null,null,null,null,0,0,0,0,0,"*"]
[null,null,169,null,null,null,null,null,null,null,null,null,null,null,null,null,null,null,null,null,null,null,null,null,null,{"$f":"IF(H177=\"\",\"-\",VLOOKUP(J177,読み替え表_低炭素物流!$C$4:$F$12,4,0))","v":"-"},{"$f":"IF(H177=\"\",\"-\",VLOOKUP(L177,読み替え表_低炭素物流!$C$15:$F$21,4,0))","v":"-"},"-",null,null,null,null,0,0,0,0,0,"*"]
[null,null,170,null,null,null,null,null,null,null,null,null,null,null,null,null,null,null,null,null,null,null,null,null,null,{"$f":"IF(H178=\"\",\"-\",VLOOKUP(J178,読み替え表_低炭素物流!$C$4:$F$12,4,0))","v":"-"},{"$f":"IF(H178=\"\",\"-\",VLOOKUP(L178,読み替え表_低炭素物流!$C$15:$F$21,4,0))","v":"-"},"-",null,null,null,null,0,0,0,0,0,"*"]
[null,null,171,null,null,null,null,null,null,null,null,null,null,null,null,null,null,null,null,null,null,null,null,null,null,{"$f":"IF(H179=\"\",\"-\",VLOOKUP(J179,読み替え表_低炭素物流!$C$4:$F$12,4,0))","v":"-"},{"$f":"IF(H179=\"\",\"-\",VLOOKUP(L179,読み替え表_低炭素物流!$C$15:$F$21,4,0))","v":"-"},"-",null,null,null,null,0,0,0,0,0,"*"]
[null,null,172,null,null,null,null,null,null,null,null,null,null,null,null,null,null,null,null,null,null,null,null,null,null,{"$f":"IF(H180=\"\",\"-\",VLOOKUP(J180,読み替え表_低炭素物流!$C$4:$F$12,4,0))","v":"-"},{"$f":"IF(H180=\"\",\"-\",VLOOKUP(L180,読み替え表_低炭素物流!$C$15:$F$21,4,0))","v":"-"},"-",null,null,null,null,0,0,0,0,0,"*"]
[null,null,173,null,null,null,null,null,null,null,null,null,null,null,null,null,null,null,null,null,null,null,null,null,null,{"$f":"IF(H181=\"\",\"-\",VLOOKUP(J181,読み替え表_低炭素物流!$C$4:$F$12,4,0))","v":"-"},{"$f":"IF(H181=\"\",\"-\",VLOOKUP(L181,読み替え表_低炭素物流!$C$15:$F$21,4,0))","v":"-"},"-",null,null,null,null,0,0,0,0,0,"*"]
[null,null,174,null,null,null,null,null,null,null,null,null,null,null,null,null,null,null,null,null,null,null,null,null,null,{"$f":"IF(H182=\"\",\"-\",VLOOKUP(J182,読み替え表_低炭素物流!$C$4:$F$12,4,0))","v":"-"},{"$f":"IF(H182=\"\",\"-\",VLOOKUP(L182,読み替え表_低炭素物流!$C$15:$F$21,4,0))","v":"-"},"-",null,null,null,null,0,0,0,0,0,"*"]
[null,null,175,null,null,null,null,null,null,null,null,null,null,null,null,null,null,null,null,null,null,null,null,null,null,{"$f":"IF(H183=\"\",\"-\",VLOOKUP(J183,読み替え表_低炭素物流!$C$4:$F$12,4,0))","v":"-"},{"$f":"IF(H183=\"\",\"-\",VLOOKUP(L183,読み替え表_低炭素物流!$C$15:$F$21,4,0))","v":"-"},"-",null,null,null,null,0,0,0,0,0,"*"]
[null,null,176,null,null,null,null,null,null,null,null,null,null,null,null,null,null,null,null,null,null,null,null,null,null,{"$f":"IF(H184=\"\",\"-\",VLOOKUP(J184,読み替え表_低炭素物流!$C$4:$F$12,4,0))","v":"-"},{"$f":"IF(H184=\"\",\"-\",VLOOKUP(L184,読み替え表_低炭素物流!$C$15:$F$21,4,0))","v":"-"},"-",null,null,null,null,0,0,0,0,0,"*"]
[null,null,177,null,null,null,null,null,null,null,null,null,null,null,null,null,null,null,null,null,null,null,null,null,null,{"$f":"IF(H185=\"\",\"-\",VLOOKUP(J185,読み替え表_低炭素物流!$C$4:$F$12,4,0))","v":"-"},{"$f":"IF(H185=\"\",\"-\",VLOOKUP(L185,読み替え表_低炭素物流!$C$15:$F$21,4,0))","v":"-"},"-",null,null,null,null,0,0,0,0,0,"*"]
[null,null,178,null,null,null,null,null,null,null,null,null,null,null,null,null,null,null,null,null,null,null,null,null,null,{"$f":"IF(H186=\"\",\"-\",VLOOKUP(J186,読み替え表_低炭素物流!$C$4:$F$12,4,0))","v":"-"},{"$f":"IF(H186=\"\",\"-\",VLOOKUP(L186,読み替え表_低炭素物流!$C$15:$F$21,4,0))","v":"-"},"-",null,null,null,null,0,0,0,0,0,"*"]
[null,null,179,null,null,null,null,null,null,null,null,null,null,null,null,null,null,null,null,null,null,null,null,null,null,{"$f":"IF(H187=\"\",\"-\",VLOOKUP(J187,読み替え表_低炭素物流!$C$4:$F$12,4,0))","v":"-"},{"$f":"IF(H187=\"\",\"-\",VLOOKUP(L187,読み替え表_低炭素物流!$C$15:$F$21,4,0))","v":"-"},"-",null,null,null,null,0,0,0,0,0,"*"]
[null,null,180,null,null,null,null,null,null,null,null,null,null,null,null,null,null,null,null,null,null,null,null,null,null,{"$f":"IF(H188=\"\",\"-\",VLOOKUP(J188,読み替え表_低炭素物流!$C$4:$F$12,4,0))","v":"-"},{"$f":"IF(H188=\"\",\"-\",VLOOKUP(L188,読み替え表_低炭素物流!$C$15:$F$21,4,0))","v":"-"},"-",null,null,null,null,0,0,0,0,0,"*"]
[null,null,181,null,null,null,null,null,null,null,null,null,null,null,null,null,null,null,null,null,null,null,null,null,null,{"$f":"IF(H189=\"\",\"-\",VLOOKUP(J189,読み替え表_低炭素物流!$C$4:$F$12,4,0))","v":"-"},{"$f":"IF(H189=\"\",\"-\",VLOOKUP(L189,読み替え表_低炭素物流!$C$15:$F$21,4,0))","v":"-"},"-",null,null,null,null,0,0,0,0,0,"*"]
[null,null,182,null,null,null,null,null,null,null,null,null,null,null,null,null,null,null,null,null,null,null,null,null,null,{"$f":"IF(H190=\"\",\"-\",VLOOKUP(J190,読み替え表_低炭素物流!$C$4:$F$12,4,0))","v":"-"},{"$f":"IF(H190=\"\",\"-\",VLOOKUP(L190,読み替え表_低炭素物流!$C$15:$F$21,4,0))","v":"-"},"-",null,null,null,null,0,0,0,0,0,"*"]
[null,null,183,null,null,null,null,null,null,null,null,null,null,null,null,null,null,null,null,null,null,null,null,null,null,{"$f":"IF(H191=\"\",\"-\",VLOOKUP(J191,読み替え表_低炭素物流!$C$4:$F$12,4,0))","v":"-"},{"$f":"IF(H191=\"\",\"-\",VLOOKUP(L191,読み替え表_低炭素物流!$C$15:$F$21,4,0))","v":"-"},"-",null,null,null,null,0,0,0,0,0,"*"]
[null,null,184,null,null,null,null,null,null,null,null,null,null,null,null,null,null,null,null,null,null,null,null,null,null,{"$f":"IF(H192=\"\",\"-\",VLOOKUP(J192,読み替え表_低炭素物流!$C$4:$F$12,4,0))","v":"-"},{"$f":"IF(H192=\"\",\"-\",VLOOKUP(L192,読み替え表_低炭素物流!$C$15:$F$21,4,0))","v":"-"},"-",null,null,null,null,0,0,0,0,0,"*"]
[null,null,185,null,null,null,null,null,null,null,null,null,null,null,null,null,null,null,null,null,null,null,null,null,null,{"$f":"IF(H193=\"\",\"-\",VLOOKUP(J193,読み替え表_低炭素物流!$C$4:$F$12,4,0))","v":"-"},{"$f":"IF(H193=\"\",\"-\",VLOOKUP(L193,読み替え表_低炭素物流!$C$15:$F$21,4,0))","v":"-"},"-",null,null,null,null,0,0,0,0,0,"*"]
[null,null,186,null,null,null,null,null,null,null,null,null,null,null,null,null,null,null,null,null,null,null,null,null,null,{"$f":"IF(H194=\"\",\"-\",VLOOKUP(J194,読み替え表_低炭素物流!$C$4:$F$12,4,0))","v":"-"},{"$f":"IF(H194=\"\",\"-\",VLOOKUP(L194,読み替え表_低炭素物流!$C$15:$F$21,4,0))","v":"-"},"-",null,null,null,null,0,0,0,0,0,"*"]
[null,null,187,null,null,null,null,null,null,null,null,null,null,null,null,null,null,null,null,null,null,null,null,null,null,{"$f":"IF(H195=\"\",\"-\",VLOOKUP(J195,読み替え表_低炭素物流!$C$4:$F$12,4,0))","v":"-"},{"$f":"IF(H195=\"\",\"-\",VLOOKUP(L195,読み替え表_低炭素物流!$C$15:$F$21,4,0))","v":"-"},"-",null,null,null,null,0,0,0,0,0,"*"]
[null,null,188,null,null,null,null,null,null,null,null,null,null,null,null,null,null,null,null,null,null,null,null,null,null,{"$f":"IF(H196=\"\",\"-\",VLOOKUP(J196,読み替え表_低炭素物流!$C$4:$F$12,4,0))","v":"-"},{"$f":"IF(H196=\"\",\"-\",VLOOKUP(L196,読み替え表_低炭素物流!$C$15:$F$21,4,0))","v":"-"},"-",null,null,null,null,0,0,0,0,0,"*"]
[null,null,189,null,null,null,null,null,null,null,null,null,null,null,null,null,null,null,null,null,null,null,null,null,null,{"$f":"IF(H197=\"\",\"-\",VLOOKUP(J197,読み替え表_低炭素物流!$C$4:$F$12,4,0))","v":"-"},{"$f":"IF(H197=\"\",\"-\",VLOOKUP(L197,読み替え表_低炭素物流!$C$15:$F$21,4,0))","v":"-"},"-",null,null,null,null,0,0,0,0,0,"*"]
[null,null,190,null,null,null,null,null,null,null,null,null,null,null,null,null,null,null,null,null,null,null,null,null,null,{"$f":"IF(H198=\"\",\"-\",VLOOKUP(J198,読み替え表_低炭素物流!$C$4:$F$12,4,0))","v":"-"},{"$f":"IF(H198=\"\",\"-\",VLOOKUP(L198,読み替え表_低炭素物流!$C$15:$F$21,4,0))","v":"-"},"-",null,null,null,null,0,0,0,0,0,"*"]
[null,null,191,null,null,null,null,null,null,null,null,null,null,null,null,null,null,null,null,null,null,null,null,null,null,{"$f":"IF(H199=\"\",\"-\",VLOOKUP(J199,読み替え表_低炭素物流!$C$4:$F$12,4,0))","v":"-"},{"$f":"IF(H199=\"\",\"-\",VLOOKUP(L199,読み替え表_低炭素物流!$C$15:$F$21,4,0))","v":"-"},"-",null,null,null,null,0,0,0,0,0,"*"]
[null,null,192,null,null,null,null,null,null,null,null,null,null,null,null,null,null,null,null,null,null,null,null,null,null,{"$f":"IF(H200=\"\",\"-\",VLOOKUP(J200,読み替え表_低炭素物流!$C$4:$F$12,4,0))","v":"-"},{"$f":"IF(H200=\"\",\"-\",VLOOKUP(L200,読み替え表_低炭素物流!$C$15:$F$21,4,0))","v":"-"},"-",null,null,null,null,0,0,0,0,0,"*"]
[null,null,193,null,null,null,null,null,null,null,null,null,null,null,null,null,null,null,null,null,null,null,null,null,null,{"$f":"IF(H201=\"\",\"-\",VLOOKUP(J201,読み替え表_低炭素物流!$C$4:$F$12,4,0))","v":"-"},{"$f":"IF(H201=\"\",\"-\",VLOOKUP(L201,読み替え表_低炭素物流!$C$15:$F$21,4,0))","v":"-"},"-",null,null,null,null,{"$f":"IF(N201=1,IF(OR(L201=4,L201=5),0,1),0)","v":0},0,0,0,0,"*"]
[null,null,{"$f":"ROW()-8","v":194},null,null,null,null,null,null,null,null,null,null,null,null,null,null,null,null,null,null,null,null,null,null,{"$f":"IF(H202=\"\",\"-\",VLOOKUP(J202,読み替え表_低炭素物流!$C$4:$F$12,4,0))","v":"-"},{"$f":"IF(H202=\"\",\"-\",VLOOKUP(L202,読み替え表_低炭素物流!$C$15:$F$21,4,0))","v":"-"},{"$f":"IF(H202=\"\",\"-\",Z202*AA202)","v":"-"},null,null,null,null,0,{"$f":"IF(J202=8,1,0)","v":0},{"$f":"IF(L202=6,1,0)","v":0},0,{"$f":"AG202","v":0},"*"]
[null,null,195,null,null,null,null,null,null,null,null,null,null,null,null,null,null,null,null,null,null,null,null,null,null,{"$f":"IF(H203=\"\",\"-\",VLOOKUP(J203,読み替え表_低炭素物流!$C$4:$F$12,4,0))","v":"-"},{"$f":"IF(H203=\"\",\"-\",VLOOKUP(L203,読み替え表_低炭素物流!$C$15:$F$21,4,0))","v":"-"},"-",null,null,null,null,0,0,0,0,0,"*"]
[null,null,196,null,null,null,null,null,null,null,null,null,null,null,null,null,null,null,null,null,null,null,null,null,null,{"$f":"IF(H204=\"\",\"-\",VLOOKUP(J204,読み替え表_低炭素物流!$C$4:$F$12,4,0))","v":"-"},{"$f":"IF(H204=\"\",\"-\",VLOOKUP(L204,読み替え表_低炭素物流!$C$15:$F$21,4,0))","v":"-"},"-",null,null,null,null,0,0,0,0,0,"*"]
[null,null,197,null,null,null,null,null,null,null,null,null,null,null,null,null,null,null,null,null,null,null,null,null,null,{"$f":"IF(H205=\"\",\"-\",VLOOKUP(J205,読み替え表_低炭素物流!$C$4:$F$12,4,0))","v":"-"},{"$f":"IF(H205=\"\",\"-\",VLOOKUP(L205,読み替え表_低炭素物流!$C$15:$F$21,4,0))","v":"-"},"-",null,null,null,null,0,0,0,0,0,"*"]
[null,null,198,null,null,null,null,null,null,null,null,null,null,null,null,null,null,null,null,null,null,null,null,null,null,{"$f":"IF(H206=\"\",\"-\",VLOOKUP(J206,読み替え表_低炭素物流!$C$4:$F$12,4,0))","v":"-"},{"$f":"IF(H206=\"\",\"-\",VLOOKUP(L206,読み替え表_低炭素物流!$C$15:$F$21,4,0))","v":"-"},"-",null,null,null,null,0,0,0,0,0,"*"]
[null,null,199,null,null,null,null,null,null,null,null,null,null,null,null,null,null,null,null,null,null,null,null,null,null,{"$f":"IF(H207=\"\",\"-\",VLOOKUP(J207,読み替え表_低炭素物流!$C$4:$F$12,4,0))","v":"-"},{"$f":"IF(H207=\"\",\"-\",VLOOKUP(L207,読み替え表_低炭素物流!$C$15:$F$21,4,0))","v":"-"},"-",null,null,null,null,0,0,0,0,0,"*"]
[null,null,200,null,null,null,null,null,null,null,null,null,null,null,null,null,null,null,null,null,null,null,null,null,null,{"$f":"IF(H208=\"\",\"-\",VLOOKUP(J208,読み替え表_低炭素物流!$C$4:$F$12,4,0))","v":"-"},{"$f":"IF(H208=\"\",\"-\",VLOOKUP(L208,読み替え表_低炭素物流!$C$15:$F$21,4,0))","v":"-"},"-",null,null,null,null,0,0,0,0,0,"*"]
[null,null,201,null,null,null,null,null,null,null,null,null,null,null,null,null,null,null,null,null,null,null,null,null,null,{"$f":"IF(H209=\"\",\"-\",VLOOKUP(J209,読み替え表_低炭素物流!$C$4:$F$12,4,0))","v":"-"},{"$f":"IF(H209=\"\",\"-\",VLOOKUP(L209,読み替え表_低炭素物流!$C$15:$F$21,4,0))","v":"-"},"-",null,null,null,null,0,0,0,0,0,"*"]
[null,null,202,null,null,null,null,null,null,null,null,null,null,null,null,null,null,null,null,null,null,null,null,null,null,{"$f":"IF(H210=\"\",\"-\",VLOOKUP(J210,読み替え表_低炭素物流!$C$4:$F$12,4,0))","v":"-"},{"$f":"IF(H210=\"\",\"-\",VLOOKUP(L210,読み替え表_低炭素物流!$C$15:$F$21,4,0))","v":"-"},"-",null,null,null,null,0,0,0,0,0,"*"]
[null,null,203,null,null,null,null,null,null,null,null,null,null,null,null,null,null,null,null,null,null,null,null,null,null,{"$f":"IF(H211=\"\",\"-\",VLOOKUP(J211,読み替え表_低炭素物流!$C$4:$F$12,4,0))","v":"-"},{"$f":"IF(H211=\"\",\"-\",VLOOKUP(L211,読み替え表_低炭素物流!$C$15:$F$21,4,0))","v":"-"},"-",null,null,null,null,0,0,0,0,0,"*"]
[null,null,204,null,null,null,null,null,null,null,null,null,null,null,null,null,null,null,null,null,null,null,null,null,null,{"$f":"IF(H212=\"\",\"-\",VLOOKUP(J212,読み替え表_低炭素物流!$C$4:$F$12,4,0))","v":"-"},{"$f":"IF(H212=\"\",\"-\",VLOOKUP(L212,読み替え表_低炭素物流!$C$15:$F$21,4,0))","v":"-"},"-",null,null,null,null,0,0,0,0,0,"*"]
[null,null,205,null,null,null,null,null,null,null,null,null,null,null,null,null,null,null,null,null,null,null,null,null,null,{"$f":"IF(H213=\"\",\"-\",VLOOKUP(J213,読み替え表_低炭素物流!$C$4:$F$12,4,0))","v":"-"},{"$f":"IF(H213=\"\",\"-\",VLOOKUP(L213,読み替え表_低炭素物流!$C$15:$F$21,4,0))","v":"-"},"-",null,null,null,null,0,0,0,0,0,"*"]
[null,null,206,null,null,null,null,null,null,null,null,null,null,null,null,null,null,null,null,null,null,null,null,null,null,{"$f":"IF(H214=\"\",\"-\",VLOOKUP(J214,読み替え表_低炭素物流!$C$4:$F$12,4,0))","v":"-"},{"$f":"IF(H214=\"\",\"-\",VLOOKUP(L214,読み替え表_低炭素物流!$C$15:$F$21,4,0))","v":"-"},"-",null,null,null,null,0,0,0,0,0,"*"]
[null,null,207,null,null,null,null,null,null,null,null,null,null,null,null,null,null,null,null,null,null,null,null,null,null,{"$f":"IF(H215=\"\",\"-\",VLOOKUP(J215,読み替え表_低炭素物流!$C$4:$F$12,4,0))","v":"-"},{"$f":"IF(H215=\"\",\"-\",VLOOKUP(L215,読み替え表_低炭素物流!$C$15:$F$21,4,0))","v":"-"},"-",null,null,null,null,0,0,0,0,0,"*"]
[null,null,208,null,null,null,null,null,null,null,null,null,null,null,null,null,null,null,null,null,null,null,null,null,null,{"$f":"IF(H216=\"\",\"-\",VLOOKUP(J216,読み替え表_低炭素物流!$C$4:$F$12,4,0))","v":"-"},{"$f":"IF(H216=\"\",\"-\",VLOOKUP(L216,読み替え表_低炭素物流!$C$15:$F$21,4,0))","v":"-"},"-",null,null,null,null,0,0,0,{"$f":"IF(OR(N216=7,N216=99),1,0)","v":0},0,"*"]
[null,null,209,null,null,null,null,null,null,null,null,null,null,null,null,null,null,null,null,null,null,null,null,null,null,{"$f":"IF(H217=\"\",\"-\",VLOOKUP(J217,読み替え表_低炭素物流!$C$4:$F$12,4,0))","v":"-"},{"$f":"IF(H217=\"\",\"-\",VLOOKUP(L217,読み替え表_低炭素物流!$C$15:$F$21,4,0))","v":"-"},"-",null,null,null,null,0,0,0,0,0,"*"]
[null,null,210,null,null,null,null,null,null,null,null,null,null,null,null,null,null,null,null,null,null,null,null,null,null,{"$f":"IF(H218=\"\",\"-\",VLOOKUP(J218,読み替え表_低炭素物流!$C$4:$F$12,4,0))","v":"-"},{"$f":"IF(H218=\"\",\"-\",VLOOKUP(L218,読み替え表_低炭素物流!$C$15:$F$21,4,0))","v":"-"},"-",null,null,null,null,0,0,0,0,0,"*"]
[null,null,211,null,null,null,null,null,null,null,null,null,null,null,null,null,null,null,null,null,null,null,null,null,null,{"$f":"IF(H219=\"\",\"-\",VLOOKUP(J219,読み替え表_低炭素物流!$C$4:$F$12,4,0))","v":"-"},{"$f":"IF(H219=\"\",\"-\",VLOOKUP(L219,読み替え表_低炭素物流!$C$15:$F$21,4,0))","v":"-"},"-",null,null,null,null,0,0,0,0,0,"*"]
[null,null,212,null,null,null,null,null,null,null,null,null,null,null,null,null,null,null,null,null,null,null,null,null,null,{"$f":"IF(H220=\"\",\"-\",VLOOKUP(J220,読み替え表_低炭素物流!$C$4:$F$12,4,0))","v":"-"},{"$f":"IF(H220=\"\",\"-\",VLOOKUP(L220,読み替え表_低炭素物流!$C$15:$F$21,4,0))","v":"-"},"-",null,null,null,null,0,0,0,0,0,"*"]
[null,null,213,null,null,null,null,null,null,null,null,null,null,null,null,null,null,null,null,null,null,null,null,null,null,{"$f":"IF(H221=\"\",\"-\",VLOOKUP(J221,読み替え表_低炭素物流!$C$4:$F$12,4,0))","v":"-"},{"$f":"IF(H221=\"\",\"-\",VLOOKUP(L221,読み替え表_低炭素物流!$C$15:$F$21,4,0))","v":"-"},"-",null,null,null,null,0,0,0,0,0,"*"]
[null,null,214,null,null,null,null,null,null,null,null,null,null,null,null,null,null,null,null,null,null,null,null,null,null,{"$f":"IF(H222=\"\",\"-\",VLOOKUP(J222,読み替え表_低炭素物流!$C$4:$F$12,4,0))","v":"-"},{"$f":"IF(H222=\"\",\"-\",VLOOKUP(L222,読み替え表_低炭素物流!$C$15:$F$21,4,0))","v":"-"},"-",null,null,null,null,0,0,0,0,0,"*"]
[null,null,215,null,null,null,null,null,null,null,null,null,null,null,null,null,null,null,null,null,null,null,null,null,null,{"$f":"IF(H223=\"\",\"-\",VLOOKUP(J223,読み替え表_低炭素物流!$C$4:$F$12,4,0))","v":"-"},{"$f":"IF(H223=\"\",\"-\",VLOOKUP(L223,読み替え表_低炭素物流!$C$15:$F$21,4,0))","v":"-"},"-",null,null,null,null,0,0,0,0,0,"*"]
[null,null,216,null,null,null,null,null,null,null,null,null,null,null,null,null,null,null,null,null,null,null,null,null,null,{"$f":"IF(H224=\"\",\"-\",VLOOKUP(J224,読み替え表_低炭素物流!$C$4:$F$12,4,0))","v":"-"},{"$f":"IF(H224=\"\",\"-\",VLOOKUP(L224,読み替え表_低炭素物流!$C$15:$F$21,4,0))","v":"-"},"-",null,null,null,null,0,0,0,0,0,"*"]
[null,null,217,null,null,null,null,null,null,null,null,null,null,null,null,null,null,null,null,null,null,null,null,null,null,{"$f":"IF(H225=\"\",\"-\",VLOOKUP(J225,読み替え表_低炭素物流!$C$4:$F$12,4,0))","v":"-"},{"$f":"IF(H225=\"\",\"-\",VLOOKUP(L225,読み替え表_低炭素物流!$C$15:$F$21,4,0))","v":"-"},"-",null,null,null,null,0,0,0,0,0,"*"]
[null,null,218,null,null,null,null,null,null,null,null,null,null,null,null,null,null,null,null,null,null,null,null,null,null,{"$f":"IF(H226=\"\",\"-\",VLOOKUP(J226,読み替え表_低炭素物流!$C$4:$F$12,4,0))","v":"-"},{"$f":"IF(H226=\"\",\"-\",VLOOKUP(L226,読み替え表_低炭素物流!$C$15:$F$21,4,0))","v":"-"},"-",null,null,null,null,0,0,0,0,0,"*"]
[null,null,219,null,null,null,null,null,null,null,null,null,null,null,null,null,null,null,null,null,null,null,null,null,null,{"$f":"IF(H227=\"\",\"-\",VLOOKUP(J227,読み替え表_低炭素物流!$C$4:$F$12,4,0))","v":"-"},{"$f":"IF(H227=\"\",\"-\",VLOOKUP(L227,読み替え表_低炭素物流!$C$15:$F$21,4,0))","v":"-"},"-",null,null,null,null,0,0,0,0,0,"*"]
[null,null,220,null,null,null,null,null,null,null,null,null,null,null,null,null,null,null,null,null,null,null,null,null,null,{"$f":"IF(H228=\"\",\"-\",VLOOKUP(J228,読み替え表_低炭素物流!$C$4:$F$12,4,0))","v":"-"},{"$f":"IF(H228=\"\",\"-\",VLOOKUP(L228,読み替え表_低炭素物流!$C$15:$F$21,4,0))","v":"-"},"-",null,null,null,null,0,0,0,0,0,"*"]
[null,null,221,null,null,null,null,null,null,null,null,null,null,null,null,null,null,null,null,null,null,null,null,null,null,{"$f":"IF(H229=\"\",\"-\",VLOOKUP(J229,読み替え表_低炭素物流!$C$4:$F$12,4,0))","v":"-"},{"$f":"IF(H229=\"\",\"-\",VLOOKUP(L229,読み替え表_低炭素物流!$C$15:$F$21,4,0))","v":"-"},"-",null,null,null,null,0,0,0,0,0,"*"]
[null,null,222,null,null,null,null,null,null,null,null,null,null,null,null,null,null,null,null,null,null,null,null,null,null,{"$f":"IF(H230=\"\",\"-\",VLOOKUP(J230,読み替え表_低炭素物流!$C$4:$F$12,4,0))","v":"-"},{"$f":"IF(H230=\"\",\"-\",VLOOKUP(L230,読み替え表_低炭素物流!$C$15:$F$21,4,0))","v":"-"},"-",null,null,null,null,0,0,0,0,0,"*"]
[null,null,223,null,null,null,null,null,null,null,null,null,null,null,null,null,null,null,null,null,null,null,null,null,null,{"$f":"IF(H231=\"\",\"-\",VLOOKUP(J231,読み替え表_低炭素物流!$C$4:$F$12,4,0))","v":"-"},{"$f":"IF(H231=\"\",\"-\",VLOOKUP(L231,読み替え表_低炭素物流!$C$15:$F$21,4,0))","v":"-"},"-",null,null,null,null,0,0,0,0,0,"*"]
[null,null,224,null,null,null,null,null,null,null,null,null,null,null,null,null,null,null,null,null,null,null,null,null,null,{"$f":"IF(H232=\"\",\"-\",VLOOKUP(J232,読み替え表_低炭素物流!$C$4:$F$12,4,0))","v":"-"},{"$f":"IF(H232=\"\",\"-\",VLOOKUP(L232,読み替え表_低炭素物流!$C$15:$F$21,4,0))","v":"-"},"-",null,null,null,null,0,0,0,0,0,"*"]
[null,null,225,null,null,null,null,null,null,null,null,null,null,null,null,null,null,null,null,null,null,null,null,null,null,{"$f":"IF(H233=\"\",\"-\",VLOOKUP(J233,読み替え表_低炭素物流!$C$4:$F$12,4,0))","v":"-"},{"$f":"IF(H233=\"\",\"-\",VLOOKUP(L233,読み替え表_低炭素物流!$C$15:$F$21,4,0))","v":"-"},"-",null,null,null,null,0,0,0,0,0,"*"]
[null,null,226,null,null,null,null,null,null,null,null,null,null,null,null,null,null,null,null,null,null,null,null,null,null,{"$f":"IF(H234=\"\",\"-\",VLOOKUP(J234,読み替え表_低炭素物流!$C$4:$F$12,4,0))","v":"-"},{"$f":"IF(H234=\"\",\"-\",VLOOKUP(L234,読み替え表_低炭素物流!$C$15:$F$21,4,0))","v":"-"},"-",null,null,null,null,0,0,0,0,0,"*"]
[null,null,227,null,null,null,null,null,null,null,null,null,null,null,null,null,null,null,null,null,null,null,null,null,null,{"$f":"IF(H235=\"\",\"-\",VLOOKUP(J235,読み替え表_低炭素物流!$C$4:$F$12,4,0))","v":"-"},{"$f":"IF(H235=\"\",\"-\",VLOOKUP(L235,読み替え表_低炭素物流!$C$15:$F$21,4,0))","v":"-"},"-",null,null,null,null,0,0,0,0,0,"*"]
[null,null,228,null,null,null,null,null,null,null,null,null,null,null,null,null,null,null,null,null,null,null,null,null,null,{"$f":"IF(H236=\"\",\"-\",VLOOKUP(J236,読み替え表_低炭素物流!$C$4:$F$12,4,0))","v":"-"},{"$f":"IF(H236=\"\",\"-\",VLOOKUP(L236,読み替え表_低炭素物流!$C$15:$F$21,4,0))","v":"-"},"-",null,null,null,null,0,0,0,0,0,"*"]
[null,null,229,null,null,null,null,null,null,null,null,null,null,null,null,null,null,null,null,null,null,null,null,null,null,{"$f":"IF(H237=\"\",\"-\",VLOOKUP(J237,読み替え表_低炭素物流!$C$4:$F$12,4,0))","v":"-"},{"$f":"IF(H237=\"\",\"-\",VLOOKUP(L237,読み替え表_低炭素物流!$C$15:$F$21,4,0))","v":"-"},"-",null,null,null,null,0,0,0,0,0,"*"]
[null,null,230,null,null,null,null,null,null,null,null,null,null,null,null,null,null,null,null,null,null,null,null,null,null,{"$f":"IF(H238=\"\",\"-\",VLOOKUP(J238,読み替え表_低炭素物流!$C$4:$F$12,4,0))","v":"-"},{"$f":"IF(H238=\"\",\"-\",VLOOKUP(L238,読み替え表_低炭素物流!$C$15:$F$21,4,0))","v":"-"},"-",null,null,null,null,0,0,0,0,0,"*"]
[null,null,231,null,null,null,null,null,null,null,null,null,null,null,null,null,null,null,null,null,null,null,null,null,null,{"$f":"IF(H239=\"\",\"-\",VLOOKUP(J239,読み替え表_低炭素物流!$C$4:$F$12,4,0))","v":"-"},{"$f":"IF(H239=\"\",\"-\",VLOOKUP(L239,読み替え表_低炭素物流!$C$15:$F$21,4,0))","v":"-"},"-",null,null,null,null,0,0,0,0,0,"*"]
[null,null,232,null,null,null,null,null,null,null,null,null,null,null,null,null,null,null,null,null,null,null,null,null,null,{"$f":"IF(H240=\"\",\"-\",VLOOKUP(J240,読み替え表_低炭素物流!$C$4:$F$12,4,0))","v":"-"},{"$f":"IF(H240=\"\",\"-\",VLOOKUP(L240,読み替え表_低炭素物流!$C$15:$F$21,4,0))","v":"-"},"-",null,null,null,null,0,0,0,0,0,"*"]
[null,null,233,null,null,null,null,null,null,null,null,null,null,null,null,null,null,null,null,null,null,null,null,null,null,{"$f":"IF(H241=\"\",\"-\",VLOOKUP(J241,読み替え表_低炭素物流!$C$4:$F$12,4,0))","v":"-"},{"$f":"IF(H241=\"\",\"-\",VLOOKUP(L241,読み替え表_低炭素物流!$C$15:$F$21,4,0))","v":"-"},"-",null,null,null,null,0,0,0,0,0,"*"]
[null,null,234,null,null,null,null,null,null,null,null,null,null,null,null,null,null,null,null,null,null,null,null,null,null,{"$f":"IF(H242=\"\",\"-\",VLOOKUP(J242,読み替え表_低炭素物流!$C$4:$F$12,4,0))","v":"-"},{"$f":"IF(H242=\"\",\"-\",VLOOKUP(L242,読み替え表_低炭素物流!$C$15:$F$21,4,0))","v":"-"},"-",null,null,null,null,0,0,0,0,0,"*"]
[null,null,235,null,null,null,null,null,null,null,null,null,null,null,null,null,null,null,null,null,null,null,null,null,null,{"$f":"IF(H243=\"\",\"-\",VLOOKUP(J243,読み替え表_低炭素物流!$C$4:$F$12,4,0))","v":"-"},{"$f":"IF(H243=\"\",\"-\",VLOOKUP(L243,読み替え表_低炭素物流!$C$15:$F$21,4,0))","v":"-"},"-",null,null,null,null,0,0,0,0,0,"*"]
[null,null,236,null,null,null,null,null,null,null,null,null,null,null,null,null,null,null,null,null,null,null,null,null,null,{"$f":"IF(H244=\"\",\"-\",VLOOKUP(J244,読み替え表_低炭素物流!$C$4:$F$12,4,0))","v":"-"},{"$f":"IF(H244=\"\",\"-\",VLOOKUP(L244,読み替え表_低炭素物流!$C$15:$F$21,4,0))","v":"-"},"-",null,null,null,null,0,0,0,0,0,"*"]
[null,null,237,null,null,null,null,null,null,null,null,null,null,null,null,null,null,null,null,null,null,null,null,null,null,{"$f":"IF(H245=\"\",\"-\",VLOOKUP(J245,読み替え表_低炭素物流!$C$4:$F$12,4,0))","v":"-"},{"$f":"IF(H245=\"\",\"-\",VLOOKUP(L245,読み替え表_低炭素物流!$C$15:$F$21,4,0))","v":"-"},"-",null,null,null,null,0,0,0,0,0,"*"]
[null,null,238,null,null,null,null,null,null,null,null,null,null,null,null,null,null,null,null,null,null,null,null,null,null,{"$f":"IF(H246=\"\",\"-\",VLOOKUP(J246,読み替え表_低炭素物流!$C$4:$F$12,4,0))","v":"-"},{"$f":"IF(H246=\"\",\"-\",VLOOKUP(L246,読み替え表_低炭素物流!$C$15:$F$21,4,0))","v":"-"},"-",null,null,null,null,0,0,0,0,0,"*"]
[null,null,239,null,null,null,null,null,null,null,null,null,null,null,null,null,null,null,null,null,null,null,null,null,null,{"$f":"IF(H247=\"\",\"-\",VLOOKUP(J247,読み替え表_低炭素物流!$C$4:$F$12,4,0))","v":"-"},{"$f":"IF(H247=\"\",\"-\",VLOOKUP(L247,読み替え表_低炭素物流!$C$15:$F$21,4,0))","v":"-"},"-",null,null,null,null,0,0,0,0,0,"*"]
[null,null,240,null,null,null,null,null,null,null,null,null,null,null,null,null,null,null,null,null,null,null,null,null,null,{"$f":"IF(H248=\"\",\"-\",VLOOKUP(J248,読み替え表_低炭素物流!$C$4:$F$12,4,0))","v":"-"},{"$f":"IF(H248=\"\",\"-\",VLOOKUP(L248,読み替え表_低炭素物流!$C$15:$F$21,4,0))","v":"-"},"-",null,null,null,null,0,0,0,0,0,"*"]
[null,null,241,null,null,null,null,null,null,null,null,null,null,null,null,null,null,null,null,null,null,null,null,null,null,{"$f":"IF(H249=\"\",\"-\",VLOOKUP(J249,読み替え表_低炭素物流!$C$4:$F$12,4,0))","v":"-"},{"$f":"IF(H249=\"\",\"-\",VLOOKUP(L249,読み替え表_低炭素物流!$C$15:$F$21,4,0))","v":"-"},"-",null,null,null,null,0,0,0,0,0,"*"]
[null,null,242,null,null,null,null,null,null,null,null,null,null,null,null,null,null,null,null,null,null,null,null,null,null,{"$f":"IF(H250=\"\",\"-\",VLOOKUP(J250,読み替え表_低炭素物流!$C$4:$F$12,4,0))","v":"-"},{"$f":"IF(H250=\"\",\"-\",VLOOKUP(L250,読み替え表_低炭素物流!$C$15:$F$21,4,0))","v":"-"},"-",null,null,null,null,0,0,0,0,0,"*"]
[null,null,243,null,null,null,null,null,null,null,null,null,null,null,null,null,null,null,null,null,null,null,null,null,null,{"$f":"IF(H251=\"\",\"-\",VLOOKUP(J251,読み替え表_低炭素物流!$C$4:$F$12,4,0))","v":"-"},{"$f":"IF(H251=\"\",\"-\",VLOOKUP(L251,読み替え表_低炭素物流!$C$15:$F$21,4,0))","v":"-"},"-",null,null,null,null,0,0,0,0,0,"*"]
[null,null,244,null,null,null,null,null,null,null,null,null,null,null,null,null,null,null,null,null,null,null,null,null,null,{"$f":"IF(H252=\"\",\"-\",VLOOKUP(J252,読み替え表_低炭素物流!$C$4:$F$12,4,0))","v":"-"},{"$f":"IF(H252=\"\",\"-\",VLOOKUP(L252,読み替え表_低炭素物流!$C$15:$F$21,4,0))","v":"-"},"-",null,null,null,null,0,0,0,0,0,"*"]
[null,null,245,null,null,null,null,null,null,null,null,null,null,null,null,null,null,null,null,null,null,null,null,null,null,{"$f":"IF(H253=\"\",\"-\",VLOOKUP(J253,読み替え表_低炭素物流!$C$4:$F$12,4,0))","v":"-"},{"$f":"IF(H253=\"\",\"-\",VLOOKUP(L253,読み替え表_低炭素物流!$C$15:$F$21,4,0))","v":"-"},"-",null,null,null,null,0,0,0,0,0,"*"]
[null,null,246,null,null,null,null,null,null,null,null,null,null,null,null,null,null,null,null,null,null,null,null,null,null,{"$f":"IF(H254=\"\",\"-\",VLOOKUP(J254,読み替え表_低炭素物流!$C$4:$F$12,4,0))","v":"-"},{"$f":"IF(H254=\"\",\"-\",VLOOKUP(L254,読み替え表_低炭素物流!$C$15:$F$21,4,0))","v":"-"},"-",null,null,null,null,0,0,0,0,0,"*"]
[null,null,247,null,null,null,null,null,null,null,null,null,null,null,null,null,null,null,null,null,null,null,null,null,null,{"$f":"IF(H255=\"\",\"-\",VLOOKUP(J255,読み替え表_低炭素物流!$C$4:$F$12,4,0))","v":"-"},{"$f":"IF(H255=\"\",\"-\",VLOOKUP(L255,読み替え表_低炭素物流!$C$15:$F$21,4,0))","v":"-"},"-",null,null,null,null,0,0,0,0,0,"*"]
[null,null,248,null,null,null,null,null,null,null,null,null,null,null,null,null,null,null,null,null,null,null,null,null,null,{"$f":"IF(H256=\"\",\"-\",VLOOKUP(J256,読み替え表_低炭素物流!$C$4:$F$12,4,0))","v":"-"},{"$f":"IF(H256=\"\",\"-\",VLOOKUP(L256,読み替え表_低炭素物流!$C$15:$F$21,4,0))","v":"-"},"-",null,null,null,null,0,0,0,0,0,"*"]
[null,null,249,null,null,null,null,null,null,null,null,null,null,null,null,null,null,null,null,null,null,null,null,null,null,{"$f":"IF(H257=\"\",\"-\",VLOOKUP(J257,読み替え表_低炭素物流!$C$4:$F$12,4,0))","v":"-"},{"$f":"IF(H257=\"\",\"-\",VLOOKUP(L257,読み替え表_低炭素物流!$C$15:$F$21,4,0))","v":"-"},"-",null,null,null,null,0,0,0,0,0,"*"]
[null,null,250,null,null,null,null,null,null,null,null,null,null,null,null,null,null,null,null,null,null,null,null,null,null,{"$f":"IF(H258=\"\",\"-\",VLOOKUP(J258,読み替え表_低炭素物流!$C$4:$F$12,4,0))","v":"-"},{"$f":"IF(H258=\"\",\"-\",VLOOKUP(L258,読み替え表_低炭素物流!$C$15:$F$21,4,0))","v":"-"},"-",null,null,null,null,0,0,0,0,0,"*"]
[null,null,251,null,null,null,null,null,null,null,null,null,null,null,null,null,null,null,null,null,null,null,null,null,null,{"$f":"IF(H259=\"\",\"-\",VLOOKUP(J259,読み替え表_低炭素物流!$C$4:$F$12,4,0))","v":"-"},{"$f":"IF(H259=\"\",\"-\",VLOOKUP(L259,読み替え表_低炭素物流!$C$15:$F$21,4,0))","v":"-"},"-",null,null,null,null,0,0,0,0,0,"*"]
[null,null,252,null,null,null,null,null,null,null,null,null,null,null,null,null,null,null,null,null,null,null,null,null,null,{"$f":"IF(H260=\"\",\"-\",VLOOKUP(J260,読み替え表_低炭素物流!$C$4:$F$12,4,0))","v":"-"},{"$f":"IF(H260=\"\",\"-\",VLOOKUP(L260,読み替え表_低炭素物流!$C$15:$F$21,4,0))","v":"-"},"-",null,null,null,null,0,0,0,0,0,"*"]
[null,null,253,null,null,null,null,null,null,null,null,null,null,null,null,null,null,null,null,null,null,null,null,null,null,{"$f":"IF(H261=\"\",\"-\",VLOOKUP(J261,読み替え表_低炭素物流!$C$4:$F$12,4,0))","v":"-"},{"$f":"IF(H261=\"\",\"-\",VLOOKUP(L261,読み替え表_低炭素物流!$C$15:$F$21,4,0))","v":"-"},"-",null,null,null,null,0,0,0,0,0,"*"]
[null,null,254,null,null,null,null,null,null,null,null,null,null,null,null,null,null,null,null,null,null,null,null,null,null,{"$f":"IF(H262=\"\",\"-\",VLOOKUP(J262,読み替え表_低炭素物流!$C$4:$F$12,4,0))","v":"-"},{"$f":"IF(H262=\"\",\"-\",VLOOKUP(L262,読み替え表_低炭素物流!$C$15:$F$21,4,0))","v":"-"},"-",null,null,null,null,0,0,0,0,0,"*"]
[null,null,255,null,null,null,null,null,null,null,null,null,null,null,null,null,null,null,null,null,null,null,null,null,null,{"$f":"IF(H263=\"\",\"-\",VLOOKUP(J263,読み替え表_低炭素物流!$C$4:$F$12,4,0))","v":"-"},{"$f":"IF(H263=\"\",\"-\",VLOOKUP(L263,読み替え表_低炭素物流!$C$15:$F$21,4,0))","v":"-"},"-",null,null,null,null,0,0,0,0,0,"*"]
[null,null,256,null,null,null,null,null,null,null,null,null,null,null,null,null,null,null,null,null,null,null,null,null,null,{"$f":"IF(H264=\"\",\"-\",VLOOKUP(J264,読み替え表_低炭素物流!$C$4:$F$12,4,0))","v":"-"},{"$f":"IF(H264=\"\",\"-\",VLOOKUP(L264,読み替え表_低炭素物流!$C$15:$F$21,4,0))","v":"-"},"-",null,null,null,null,0,0,0,0,0,"*"]
[null,null,257,null,null,null,null,null,null,null,null,null,null,null,null,null,null,null,null,null,null,null,null,null,null,{"$f":"IF(H265=\"\",\"-\",VLOOKUP(J265,読み替え表_低炭素物流!$C$4:$F$12,4,0))","v":"-"},{"$f":"IF(H265=\"\",\"-\",VLOOKUP(L265,読み替え表_低炭素物流!$C$15:$F$21,4,0))","v":"-"},"-",null,null,null,null,{"$f":"IF(N265=1,IF(OR(L265=4,L265=5),0,1),0)","v":0},0,0,0,0,"*"]
[null,null,{"$f":"ROW()-8","v":258},null,null,null,null,null,null,null,null,null,null,null,null,null,null,null,null,null,null,null,null,null,null,{"$f":"IF(H266=\"\",\"-\",VLOOKUP(J266,読み替え表_低炭素物流!$C$4:$F$12,4,0))","v":"-"},{"$f":"IF(H266=\"\",\"-\",VLOOKUP(L266,読み替え表_低炭素物流!$C$15:$F$21,4,0))","v":"-"},{"$f":"IF(H266=\"\",\"-\",Z266*AA266)","v":"-"},null,null,null,null,0,{"$f":"IF(J266=8,1,0)","v":0},{"$f":"IF(L266=6,1,0)","v":0},0,{"$f":"AG266","v":0},"*"]
[null,null,259,null,null,null,null,null,null,null,null,null,null,null,null,null,null,null,null,null,null,null,null,null,null,{"$f":"IF(H267=\"\",\"-\",VLOOKUP(J267,読み替え表_低炭素物流!$C$4:$F$12,4,0))","v":"-"},{"$f":"IF(H267=\"\",\"-\",VLOOKUP(L267,読み替え表_低炭素物流!$C$15:$F$21,4,0))","v":"-"},"-",null,null,null,null,0,0,0,0,0,"*"]
[null,null,260,null,null,null,null,null,null,null,null,null,null,null,null,null,null,null,null,null,null,null,null,null,null,{"$f":"IF(H268=\"\",\"-\",VLOOKUP(J268,読み替え表_低炭素物流!$C$4:$F$12,4,0))","v":"-"},{"$f":"IF(H268=\"\",\"-\",VLOOKUP(L268,読み替え表_低炭素物流!$C$15:$F$21,4,0))","v":"-"},"-",null,null,null,null,0,0,0,0,0,"*"]
[null,null,261,null,null,null,null,null,null,null,null,null,null,null,null,null,null,null,null,null,null,null,null,null,null,{"$f":"IF(H269=\"\",\"-\",VLOOKUP(J269,読み替え表_低炭素物流!$C$4:$F$12,4,0))","v":"-"},{"$f":"IF(H269=\"\",\"-\",VLOOKUP(L269,読み替え表_低炭素物流!$C$15:$F$21,4,0))","v":"-"},"-",null,null,null,null,0,0,0,0,0,"*"]
[null,null,262,null,null,null,null,null,null,null,null,null,null,null,null,null,null,null,null,null,null,null,null,null,null,{"$f":"IF(H270=\"\",\"-\",VLOOKUP(J270,読み替え表_低炭素物流!$C$4:$F$12,4,0))","v":"-"},{"$f":"IF(H270=\"\",\"-\",VLOOKUP(L270,読み替え表_低炭素物流!$C$15:$F$21,4,0))","v":"-"},"-",null,null,null,null,0,0,0,0,0,"*"]
[null,null,263,null,null,null,null,null,null,null,null,null,null,null,null,null,null,null,null,null,null,null,null,null,null,{"$f":"IF(H271=\"\",\"-\",VLOOKUP(J271,読み替え表_低炭素物流!$C$4:$F$12,4,0))","v":"-"},{"$f":"IF(H271=\"\",\"-\",VLOOKUP(L271,読み替え表_低炭素物流!$C$15:$F$21,4,0))","v":"-"},"-",null,null,null,null,0,0,0,0,0,"*"]
[null,null,264,null,null,null,null,null,null,null,null,null,null,null,null,null,null,null,null,null,null,null,null,null,null,{"$f":"IF(H272=\"\",\"-\",VLOOKUP(J272,読み替え表_低炭素物流!$C$4:$F$12,4,0))","v":"-"},{"$f":"IF(H272=\"\",\"-\",VLOOKUP(L272,読み替え表_低炭素物流!$C$15:$F$21,4,0))","v":"-"},"-",null,null,null,null,0,0,0,0,0,"*"]
[null,null,265,null,null,null,null,null,null,null,null,null,null,null,null,null,null,null,null,null,null,null,null,null,null,{"$f":"IF(H273=\"\",\"-\",VLOOKUP(J273,読み替え表_低炭素物流!$C$4:$F$12,4,0))","v":"-"},{"$f":"IF(H273=\"\",\"-\",VLOOKUP(L273,読み替え表_低炭素物流!$C$15:$F$21,4,0))","v":"-"},"-",null,null,null,null,0,0,0,0,0,"*"]
[null,null,266,null,null,null,null,null,null,null,null,null,null,null,null,null,null,null,null,null,null,null,null,null,null,{"$f":"IF(H274=\"\",\"-\",VLOOKUP(J274,読み替え表_低炭素物流!$C$4:$F$12,4,0))","v":"-"},{"$f":"IF(H274=\"\",\"-\",VLOOKUP(L274,読み替え表_低炭素物流!$C$15:$F$21,4,0))","v":"-"},"-",null,null,null,null,0,0,0,0,0,"*"]
[null,null,267,null,null,null,null,null,null,null,null,null,null,null,null,null,null,null,null,null,null,null,null,null,null,{"$f":"IF(H275=\"\",\"-\",VLOOKUP(J275,読み替え表_低炭素物流!$C$4:$F$12,4,0))","v":"-"},{"$f":"IF(H275=\"\",\"-\",VLOOKUP(L275,読み替え表_低炭素物流!$C$15:$F$21,4,0))","v":"-"},"-",null,null,null,null,0,0,0,0,0,"*"]
[null,null,268,null,null,null,null,null,null,null,null,null,null,null,null,null,null,null,null,null,null,null,null,null,null,{"$f":"IF(H276=\"\",\"-\",VLOOKUP(J276,読み替え表_低炭素物流!$C$4:$F$12,4,0))","v":"-"},{"$f":"IF(H276=\"\",\"-\",VLOOKUP(L276,読み替え表_低炭素物流!$C$15:$F$21,4,0))","v":"-"},"-",null,null,null,null,0,0,0,0,0,"*"]
[null,null,269,null,null,null,null,null,null,null,null,null,null,null,null,null,null,null,null,null,null,null,null,null,null,{"$f":"IF(H277=\"\",\"-\",VLOOKUP(J277,読み替え表_低炭素物流!$C$4:$F$12,4,0))","v":"-"},{"$f":"IF(H277=\"\",\"-\",VLOOKUP(L277,読み替え表_低炭素物流!$C$15:$F$21,4,0))","v":"-"},"-",null,null,null,null,0,0,0,0,0,"*"]
[null,null,270,null,null,null,null,null,null,null,null,null,null,null,null,null,null,null,null,null,null,null,null,null,null,{"$f":"IF(H278=\"\",\"-\",VLOOKUP(J278,読み替え表_低炭素物流!$C$4:$F$12,4,0))","v":"-"},{"$f":"IF(H278=\"\",\"-\",VLOOKUP(L278,読み替え表_低炭素物流!$C$15:$F$21,4,0))","v":"-"},"-",null,null,null,null,0,0,0,0,0,"*"]
[null,null,271,null,null,null,null,null,null,null,null,null,null,null,null,null,null,null,null,null,null,null,null,null,null,{"$f":"IF(H279=\"\",\"-\",VLOOKUP(J279,読み替え表_低炭素物流!$C$4:$F$12,4,0))","v":"-"},{"$f":"IF(H279=\"\",\"-\",VLOOKUP(L279,読み替え表_低炭素物流!$C$15:$F$21,4,0))","v":"-"},"-",null,null,null,null,0,0,0,0,0,"*"]
[null,null,272,null,null,null,null,null,null,null,null,null,null,null,null,null,null,null,null,null,null,null,null,null,null,{"$f":"IF(H280=\"\",\"-\",VLOOKUP(J280,読み替え表_低炭素物流!$C$4:$F$12,4,0))","v":"-"},{"$f":"IF(H280=\"\",\"-\",VLOOKUP(L280,読み替え表_低炭素物流!$C$15:$F$21,4,0))","v":"-"},"-",null,null,null,null,0,0,0,{"$f":"IF(OR(N280=7,N280=99),1,0)","v":0},0,"*"]
[null,null,273,null,null,null,null,null,null,null,null,null,null,null,null,null,null,null,null,null,null,null,null,null,null,{"$f":"IF(H281=\"\",\"-\",VLOOKUP(J281,読み替え表_低炭素物流!$C$4:$F$12,4,0))","v":"-"},{"$f":"IF(H281=\"\",\"-\",VLOOKUP(L281,読み替え表_低炭素物流!$C$15:$F$21,4,0))","v":"-"},"-",null,null,null,null,0,0,0,0,0,"*"]
[null,null,274,null,null,null,null,null,null,null,null,null,null,null,null,null,null,null,null,null,null,null,null,null,null,{"$f":"IF(H282=\"\",\"-\",VLOOKUP(J282,読み替え表_低炭素物流!$C$4:$F$12,4,0))","v":"-"},{"$f":"IF(H282=\"\",\"-\",VLOOKUP(L282,読み替え表_低炭素物流!$C$15:$F$21,4,0))","v":"-"},"-",null,null,null,null,0,0,0,0,0,"*"]
[null,null,275,null,null,null,null,null,null,null,null,null,null,null,null,null,null,null,null,null,null,null,null,null,null,{"$f":"IF(H283=\"\",\"-\",VLOOKUP(J283,読み替え表_低炭素物流!$C$4:$F$12,4,0))","v":"-"},{"$f":"IF(H283=\"\",\"-\",VLOOKUP(L283,読み替え表_低炭素物流!$C$15:$F$21,4,0))","v":"-"},"-",null,null,null,null,0,0,0,0,0,"*"]
[null,null,276,null,null,null,null,null,null,null,null,null,null,null,null,null,null,null,null,null,null,null,null,null,null,{"$f":"IF(H284=\"\",\"-\",VLOOKUP(J284,読み替え表_低炭素物流!$C$4:$F$12,4,0))","v":"-"},{"$f":"IF(H284=\"\",\"-\",VLOOKUP(L284,読み替え表_低炭素物流!$C$15:$F$21,4,0))","v":"-"},"-",null,null,null,null,0,0,0,0,0,"*"]
[null,null,277,null,null,null,null,null,null,null,null,null,null,null,null,null,null,null,null,null,null,null,null,null,null,{"$f":"IF(H285=\"\",\"-\",VLOOKUP(J285,読み替え表_低炭素物流!$C$4:$F$12,4,0))","v":"-"},{"$f":"IF(H285=\"\",\"-\",VLOOKUP(L285,読み替え表_低炭素物流!$C$15:$F$21,4,0))","v":"-"},"-",null,null,null,null,0,0,0,0,0,"*"]
[null,null,278,null,null,null,null,null,null,null,null,null,null,null,null,null,null,null,null,null,null,null,null,null,null,{"$f":"IF(H286=\"\",\"-\",VLOOKUP(J286,読み替え表_低炭素物流!$C$4:$F$12,4,0))","v":"-"},{"$f":"IF(H286=\"\",\"-\",VLOOKUP(L286,読み替え表_低炭素物流!$C$15:$F$21,4,0))","v":"-"},"-",null,null,null,null,0,0,0,0,0,"*"]
[null,null,279,null,null,null,null,null,null,null,null,null,null,null,null,null,null,null,null,null,null,null,null,null,null,{"$f":"IF(H287=\"\",\"-\",VLOOKUP(J287,読み替え表_低炭素物流!$C$4:$F$12,4,0))","v":"-"},{"$f":"IF(H287=\"\",\"-\",VLOOKUP(L287,読み替え表_低炭素物流!$C$15:$F$21,4,0))","v":"-"},"-",null,null,null,null,0,0,0,0,0,"*"]
[null,null,280,null,null,null,null,null,null,null,null,null,null,null,null,null,null,null,null,null,null,null,null,null,null,{"$f":"IF(H288=\"\",\"-\",VLOOKUP(J288,読み替え表_低炭素物流!$C$4:$F$12,4,0))","v":"-"},{"$f":"IF(H288=\"\",\"-\",VLOOKUP(L288,読み替え表_低炭素物流!$C$15:$F$21,4,0))","v":"-"},"-",null,null,null,null,0,0,0,0,0,"*"]
[null,null,281,null,null,null,null,null,null,null,null,null,null,null,null,null,null,null,null,null,null,null,null,null,null,{"$f":"IF(H289=\"\",\"-\",VLOOKUP(J289,読み替え表_低炭素物流!$C$4:$F$12,4,0))","v":"-"},{"$f":"IF(H289=\"\",\"-\",VLOOKUP(L289,読み替え表_低炭素物流!$C$15:$F$21,4,0))","v":"-"},"-",null,null,null,null,0,0,0,0,0,"*"]
[null,null,282,null,null,null,null,null,null,null,null,null,null,null,null,null,null,null,null,null,null,null,null,null,null,{"$f":"IF(H290=\"\",\"-\",VLOOKUP(J290,読み替え表_低炭素物流!$C$4:$F$12,4,0))","v":"-"},{"$f":"IF(H290=\"\",\"-\",VLOOKUP(L290,読み替え表_低炭素物流!$C$15:$F$21,4,0))","v":"-"},"-",null,null,null,null,0,0,0,0,0,"*"]
[null,null,283,null,null,null,null,null,null,null,null,null,null,null,null,null,null,null,null,null,null,null,null,null,null,{"$f":"IF(H291=\"\",\"-\",VLOOKUP(J291,読み替え表_低炭素物流!$C$4:$F$12,4,0))","v":"-"},{"$f":"IF(H291=\"\",\"-\",VLOOKUP(L291,読み替え表_低炭素物流!$C$15:$F$21,4,0))","v":"-"},"-",null,null,null,null,0,0,0,0,0,"*"]
[null,null,284,null,null,null,null,null,null,null,null,null,null,null,null,null,null,null,null,null,null,null,null,null,null,{"$f":"IF(H292=\"\",\"-\",VLOOKUP(J292,読み替え表_低炭素物流!$C$4:$F$12,4,0))","v":"-"},{"$f":"IF(H292=\"\",\"-\",VLOOKUP(L292,読み替え表_低炭素物流!$C$15:$F$21,4,0))","v":"-"},"-",null,null,null,null,0,0,0,0,0,"*"]
[null,null,285,null,null,null,null,null,null,null,null,null,null,null,null,null,null,null,null,null,null,null,null,null,null,{"$f":"IF(H293=\"\",\"-\",VLOOKUP(J293,読み替え表_低炭素物流!$C$4:$F$12,4,0))","v":"-"},{"$f":"IF(H293=\"\",\"-\",VLOOKUP(L293,読み替え表_低炭素物流!$C$15:$F$21,4,0))","v":"-"},"-",null,null,null,null,0,0,0,0,0,"*"]
[null,null,286,null,null,null,null,null,null,null,null,null,null,null,null,null,null,null,null,null,null,null,null,null,null,{"$f":"IF(H294=\"\",\"-\",VLOOKUP(J294,読み替え表_低炭素物流!$C$4:$F$12,4,0))","v":"-"},{"$f":"IF(H294=\"\",\"-\",VLOOKUP(L294,読み替え表_低炭素物流!$C$15:$F$21,4,0))","v":"-"},"-",null,null,null,null,0,0,0,0,0,"*"]
[null,null,287,null,null,null,null,null,null,null,null,null,null,null,null,null,null,null,null,null,null,null,null,null,null,{"$f":"IF(H295=\"\",\"-\",VLOOKUP(J295,読み替え表_低炭素物流!$C$4:$F$12,4,0))","v":"-"},{"$f":"IF(H295=\"\",\"-\",VLOOKUP(L295,読み替え表_低炭素物流!$C$15:$F$21,4,0))","v":"-"},"-",null,null,null,null,0,0,0,0,0,"*"]
[null,null,288,null,null,null,null,null,null,null,null,null,null,null,null,null,null,null,null,null,null,null,null,null,null,{"$f":"IF(H296=\"\",\"-\",VLOOKUP(J296,読み替え表_低炭素物流!$C$4:$F$12,4,0))","v":"-"},{"$f":"IF(H296=\"\",\"-\",VLOOKUP(L296,読み替え表_低炭素物流!$C$15:$F$21,4,0))","v":"-"},"-",null,null,null,null,0,0,0,0,0,"*"]
[null,null,289,null,null,null,null,null,null,null,null,null,null,null,null,null,null,null,null,null,null,null,null,null,null,{"$f":"IF(H297=\"\",\"-\",VLOOKUP(J297,読み替え表_低炭素物流!$C$4:$F$12,4,0))","v":"-"},{"$f":"IF(H297=\"\",\"-\",VLOOKUP(L297,読み替え表_低炭素物流!$C$15:$F$21,4,0))","v":"-"},"-",null,null,null,null,0,0,0,0,0,"*"]
[null,null,290,null,null,null,null,null,null,null,null,null,null,null,null,null,null,null,null,null,null,null,null,null,null,{"$f":"IF(H298=\"\",\"-\",VLOOKUP(J298,読み替え表_低炭素物流!$C$4:$F$12,4,0))","v":"-"},{"$f":"IF(H298=\"\",\"-\",VLOOKUP(L298,読み替え表_低炭素物流!$C$15:$F$21,4,0))","v":"-"},"-",null,null,null,null,0,0,0,0,0,"*"]
[null,null,291,null,null,null,null,null,null,null,null,null,null,null,null,null,null,null,null,null,null,null,null,null,null,{"$f":"IF(H299=\"\",\"-\",VLOOKUP(J299,読み替え表_低炭素物流!$C$4:$F$12,4,0))","v":"-"},{"$f":"IF(H299=\"\",\"-\",VLOOKUP(L299,読み替え表_低炭素物流!$C$15:$F$21,4,0))","v":"-"},"-",null,null,null,null,0,0,0,0,0,"*"]
[null,null,292,null,null,null,null,null,null,null,null,null,null,null,null,null,null,null,null,null,null,null,null,null,null,{"$f":"IF(H300=\"\",\"-\",VLOOKUP(J300,読み替え表_低炭素物流!$C$4:$F$12,4,0))","v":"-"},{"$f":"IF(H300=\"\",\"-\",VLOOKUP(L300,読み替え表_低炭素物流!$C$15:$F$21,4,0))","v":"-"},"-",null,null,null,null,0,0,0,0,0,"*"]
[null,null,293,null,null,null,null,null,null,null,null,null,null,null,null,null,null,null,null,null,null,null,null,null,null,{"$f":"IF(H301=\"\",\"-\",VLOOKUP(J301,読み替え表_低炭素物流!$C$4:$F$12,4,0))","v":"-"},{"$f":"IF(H301=\"\",\"-\",VLOOKUP(L301,読み替え表_低炭素物流!$C$15:$F$21,4,0))","v":"-"},"-",null,null,null,null,0,0,0,0,0,"*"]
[null,null,294,null,null,null,null,null,null,null,null,null,null,null,null,null,null,null,null,null,null,null,null,null,null,{"$f":"IF(H302=\"\",\"-\",VLOOKUP(J302,読み替え表_低炭素物流!$C$4:$F$12,4,0))","v":"-"},{"$f":"IF(H302=\"\",\"-\",VLOOKUP(L302,読み替え表_低炭素物流!$C$15:$F$21,4,0))","v":"-"},"-",null,null,null,null,0,0,0,0,0,"*"]
[null,null,295,null,null,null,null,null,null,null,null,null,null,null,null,null,null,null,null,null,null,null,null,null,null,{"$f":"IF(H303=\"\",\"-\",VLOOKUP(J303,読み替え表_低炭素物流!$C$4:$F$12,4,0))","v":"-"},{"$f":"IF(H303=\"\",\"-\",VLOOKUP(L303,読み替え表_低炭素物流!$C$15:$F$21,4,0))","v":"-"},"-",null,null,null,null,0,0,0,0,0,"*"]
[null,null,296,null,null,null,null,null,null,null,null,null,null,null,null,null,null,null,null,null,null,null,null,null,null,{"$f":"IF(H304=\"\",\"-\",VLOOKUP(J304,読み替え表_低炭素物流!$C$4:$F$12,4,0))","v":"-"},{"$f":"IF(H304=\"\",\"-\",VLOOKUP(L304,読み替え表_低炭素物流!$C$15:$F$21,4,0))","v":"-"},"-",null,null,null,null,0,0,0,0,0,"*"]
[null,null,297,null,null,null,null,null,null,null,null,null,null,null,null,null,null,null,null,null,null,null,null,null,null,{"$f":"IF(H305=\"\",\"-\",VLOOKUP(J305,読み替え表_低炭素物流!$C$4:$F$12,4,0))","v":"-"},{"$f":"IF(H305=\"\",\"-\",VLOOKUP(L305,読み替え表_低炭素物流!$C$15:$F$21,4,0))","v":"-"},"-",null,null,null,null,0,0,0,0,0,"*"]
[null,null,298,null,null,null,null,null,null,null,null,null,null,null,null,null,null,null,null,null,null,null,null,null,null,{"$f":"IF(H306=\"\",\"-\",VLOOKUP(J306,読み替え表_低炭素物流!$C$4:$F$12,4,0))","v":"-"},{"$f":"IF(H306=\"\",\"-\",VLOOKUP(L306,読み替え表_低炭素物流!$C$15:$F$21,4,0))","v":"-"},"-",null,null,null,null,0,0,0,0,0,"*"]
[null,null,299,null,null,null,null,null,null,null,null,null,null,null,null,null,null,null,null,null,null,null,null,null,null,{"$f":"IF(H307=\"\",\"-\",VLOOKUP(J307,読み替え表_低炭素物流!$C$4:$F$12,4,0))","v":"-"},{"$f":"IF(H307=\"\",\"-\",VLOOKUP(L307,読み替え表_低炭素物流!$C$15:$F$21,4,0))","v":"-"},"-",null,null,null,null,0,0,0,0,0,"*"]
[null,null,300,null,null,null,null,null,null,null,null,null,null,null,null,null,null,null,null,null,null,null,null,null,null,{"$f":"IF(H308=\"\",\"-\",VLOOKUP(J308,読み替え表_低炭素物流!$C$4:$F$12,4,0))","v":"-"},{"$f":"IF(H308=\"\",\"-\",VLOOKUP(L308,読み替え表_低炭素物流!$C$15:$F$21,4,0))","v":"-"},"-",null,null,null,null,0,0,0,0,0,"*"]
[null,null,301,null,null,null,null,null,null,null,null,null,null,null,null,null,null,null,null,null,null,null,null,null,null,{"$f":"IF(H309=\"\",\"-\",VLOOKUP(J309,読み替え表_低炭素物流!$C$4:$F$12,4,0))","v":"-"},{"$f":"IF(H309=\"\",\"-\",VLOOKUP(L309,読み替え表_低炭素物流!$C$15:$F$21,4,0))","v":"-"},"-",null,null,null,null,0,0,0,0,0,"*"]
[null,null,302,null,null,null,null,null,null,null,null,null,null,null,null,null,null,null,null,null,null,null,null,null,null,{"$f":"IF(H310=\"\",\"-\",VLOOKUP(J310,読み替え表_低炭素物流!$C$4:$F$12,4,0))","v":"-"},{"$f":"IF(H310=\"\",\"-\",VLOOKUP(L310,読み替え表_低炭素物流!$C$15:$F$21,4,0))","v":"-"},"-",null,null,null,null,0,0,0,0,0,"*"]
[null,null,303,null,null,null,null,null,null,null,null,null,null,null,null,null,null,null,null,null,null,null,null,null,null,{"$f":"IF(H311=\"\",\"-\",VLOOKUP(J311,読み替え表_低炭素物流!$C$4:$F$12,4,0))","v":"-"},{"$f":"IF(H311=\"\",\"-\",VLOOKUP(L311,読み替え表_低炭素物流!$C$15:$F$21,4,0))","v":"-"},"-",null,null,null,null,0,0,0,0,0,"*"]
[null,null,304,null,null,null,null,null,null,null,null,null,null,null,null,null,null,null,null,null,null,null,null,null,null,{"$f":"IF(H312=\"\",\"-\",VLOOKUP(J312,読み替え表_低炭素物流!$C$4:$F$12,4,0))","v":"-"},{"$f":"IF(H312=\"\",\"-\",VLOOKUP(L312,読み替え表_低炭素物流!$C$15:$F$21,4,0))","v":"-"},"-",null,null,null,null,0,0,0,0,0,"*"]
[null,null,305,null,null,null,null,null,null,null,null,null,null,null,null,null,null,null,null,null,null,null,null,null,null,{"$f":"IF(H313=\"\",\"-\",VLOOKUP(J313,読み替え表_低炭素物流!$C$4:$F$12,4,0))","v":"-"},{"$f":"IF(H313=\"\",\"-\",VLOOKUP(L313,読み替え表_低炭素物流!$C$15:$F$21,4,0))","v":"-"},"-",null,null,null,null,0,0,0,0,0,"*"]
[null,null,306,null,null,null,null,null,null,null,null,null,null,null,null,null,null,null,null,null,null,null,null,null,null,{"$f":"IF(H314=\"\",\"-\",VLOOKUP(J314,読み替え表_低炭素物流!$C$4:$F$12,4,0))","v":"-"},{"$f":"IF(H314=\"\",\"-\",VLOOKUP(L314,読み替え表_低炭素物流!$C$15:$F$21,4,0))","v":"-"},"-",null,null,null,null,0,0,0,0,0,"*"]
[null,null,307,null,null,null,null,null,null,null,null,null,null,null,null,null,null,null,null,null,null,null,null,null,null,{"$f":"IF(H315=\"\",\"-\",VLOOKUP(J315,読み替え表_低炭素物流!$C$4:$F$12,4,0))","v":"-"},{"$f":"IF(H315=\"\",\"-\",VLOOKUP(L315,読み替え表_低炭素物流!$C$15:$F$21,4,0))","v":"-"},"-",null,null,null,null,0,0,0,0,0,"*"]
[null,null,308,null,null,null,null,null,null,null,null,null,null,null,null,null,null,null,null,null,null,null,null,null,null,{"$f":"IF(H316=\"\",\"-\",VLOOKUP(J316,読み替え表_低炭素物流!$C$4:$F$12,4,0))","v":"-"},{"$f":"IF(H316=\"\",\"-\",VLOOKUP(L316,読み替え表_低炭素物流!$C$15:$F$21,4,0))","v":"-"},"-",null,null,null,null,0,0,0,0,0,"*"]
[null,null,309,null,null,null,null,null,null,null,null,null,null,null,null,null,null,null,null,null,null,null,null,null,null,{"$f":"IF(H317=\"\",\"-\",VLOOKUP(J317,読み替え表_低炭素物流!$C$4:$F$12,4,0))","v":"-"},{"$f":"IF(H317=\"\",\"-\",VLOOKUP(L317,読み替え表_低炭素物流!$C$15:$F$21,4,0))","v":"-"},"-",null,null,null,null,0,0,0,0,0,"*"]
[null,null,310,null,null,null,null,null,null,null,null,null,null,null,null,null,null,null,null,null,null,null,null,null,null,{"$f":"IF(H318=\"\",\"-\",VLOOKUP(J318,読み替え表_低炭素物流!$C$4:$F$12,4,0))","v":"-"},{"$f":"IF(H318=\"\",\"-\",VLOOKUP(L318,読み替え表_低炭素物流!$C$15:$F$21,4,0))","v":"-"},"-",null,null,null,null,0,0,0,0,0,"*"]
[null,null,311,null,null,null,null,null,null,null,null,null,null,null,null,null,null,null,null,null,null,null,null,null,null,{"$f":"IF(H319=\"\",\"-\",VLOOKUP(J319,読み替え表_低炭素物流!$C$4:$F$12,4,0))","v":"-"},{"$f":"IF(H319=\"\",\"-\",VLOOKUP(L319,読み替え表_低炭素物流!$C$15:$F$21,4,0))","v":"-"},"-",null,null,null,null,0,0,0,0,0,"*"]
[null,null,312,null,null,null,null,null,null,null,null,null,null,null,null,null,null,null,null,null,null,null,null,null,null,{"$f":"IF(H320=\"\",\"-\",VLOOKUP(J320,読み替え表_低炭素物流!$C$4:$F$12,4,0))","v":"-"},{"$f":"IF(H320=\"\",\"-\",VLOOKUP(L320,読み替え表_低炭素物流!$C$15:$F$21,4,0))","v":"-"},"-",null,null,null,null,0,0,0,0,0,"*"]
[null,null,313,null,null,null,null,null,null,null,null,null,null,null,null,null,null,null,null,null,null,null,null,null,null,{"$f":"IF(H321=\"\",\"-\",VLOOKUP(J321,読み替え表_低炭素物流!$C$4:$F$12,4,0))","v":"-"},{"$f":"IF(H321=\"\",\"-\",VLOOKUP(L321,読み替え表_低炭素物流!$C$15:$F$21,4,0))","v":"-"},"-",null,null,null,null,0,0,0,0,0,"*"]
[null,null,314,null,null,null,null,null,null,null,null,null,null,null,null,null,null,null,null,null,null,null,null,null,null,{"$f":"IF(H322=\"\",\"-\",VLOOKUP(J322,読み替え表_低炭素物流!$C$4:$F$12,4,0))","v":"-"},{"$f":"IF(H322=\"\",\"-\",VLOOKUP(L322,読み替え表_低炭素物流!$C$15:$F$21,4,0))","v":"-"},"-",null,null,null,null,0,0,0,0,0,"*"]
[null,null,315,null,null,null,null,null,null,null,null,null,null,null,null,null,null,null,null,null,null,null,null,null,null,{"$f":"IF(H323=\"\",\"-\",VLOOKUP(J323,読み替え表_低炭素物流!$C$4:$F$12,4,0))","v":"-"},{"$f":"IF(H323=\"\",\"-\",VLOOKUP(L323,読み替え表_低炭素物流!$C$15:$F$21,4,0))","v":"-"},"-",null,null,null,null,0,0,0,0,0,"*"]
[null,null,316,null,null,null,null,null,null,null,null,null,null,null,null,null,null,null,null,null,null,null,null,null,null,{"$f":"IF(H324=\"\",\"-\",VLOOKUP(J324,読み替え表_低炭素物流!$C$4:$F$12,4,0))","v":"-"},{"$f":"IF(H324=\"\",\"-\",VLOOKUP(L324,読み替え表_低炭素物流!$C$15:$F$21,4,0))","v":"-"},"-",null,null,null,null,0,0,0,0,0,"*"]
[null,null,317,null,null,null,null,null,null,null,null,null,null,null,null,null,null,null,null,null,null,null,null,null,null,{"$f":"IF(H325=\"\",\"-\",VLOOKUP(J325,読み替え表_低炭素物流!$C$4:$F$12,4,0))","v":"-"},{"$f":"IF(H325=\"\",\"-\",VLOOKUP(L325,読み替え表_低炭素物流!$C$15:$F$21,4,0))","v":"-"},"-",null,null,null,null,0,0,0,0,0,"*"]
[null,null,318,null,null,null,null,null,null,null,null,null,null,null,null,null,null,null,null,null,null,null,null,null,null,{"$f":"IF(H326=\"\",\"-\",VLOOKUP(J326,読み替え表_低炭素物流!$C$4:$F$12,4,0))","v":"-"},{"$f":"IF(H326=\"\",\"-\",VLOOKUP(L326,読み替え表_低炭素物流!$C$15:$F$21,4,0))","v":"-"},"-",null,null,null,null,0,0,0,0,0,"*"]
[null,null,319,null,null,null,null,null,null,null,null,null,null,null,null,null,null,null,null,null,null,null,null,null,null,{"$f":"IF(H327=\"\",\"-\",VLOOKUP(J327,読み替え表_低炭素物流!$C$4:$F$12,4,0))","v":"-"},{"$f":"IF(H327=\"\",\"-\",VLOOKUP(L327,読み替え表_低炭素物流!$C$15:$F$21,4,0))","v":"-"},"-",null,null,null,null,0,0,0,0,0,"*"]
[null,null,320,null,null,null,null,null,null,null,null,null,null,null,null,null,null,null,null,null,null,null,null,null,null,{"$f":"IF(H328=\"\",\"-\",VLOOKUP(J328,読み替え表_低炭素物流!$C$4:$F$12,4,0))","v":"-"},{"$f":"IF(H328=\"\",\"-\",VLOOKUP(L328,読み替え表_低炭素物流!$C$15:$F$21,4,0))","v":"-"},"-",null,null,null,null,0,0,0,0,0,"*"]
[null,null,321,null,null,null,null,null,null,null,null,null,null,null,null,null,null,null,null,null,null,null,null,null,null,{"$f":"IF(H329=\"\",\"-\",VLOOKUP(J329,読み替え表_低炭素物流!$C$4:$F$12,4,0))","v":"-"},{"$f":"IF(H329=\"\",\"-\",VLOOKUP(L329,読み替え表_低炭素物流!$C$15:$F$21,4,0))","v":"-"},"-",null,null,null,null,{"$f":"IF(N329=1,IF(OR(L329=4,L329=5),0,1),0)","v":0},0,0,0,0,"*"]
[null,null,{"$f":"ROW()-8","v":322},null,null,null,null,null,null,null,null,null,null,null,null,null,null,null,null,null,null,null,null,null,null,{"$f":"IF(H330=\"\",\"-\",VLOOKUP(J330,読み替え表_低炭素物流!$C$4:$F$12,4,0))","v":"-"},{"$f":"IF(H330=\"\",\"-\",VLOOKUP(L330,読み替え表_低炭素物流!$C$15:$F$21,4,0))","v":"-"},{"$f":"IF(H330=\"\",\"-\",Z330*AA330)","v":"-"},null,null,null,null,0,{"$f":"IF(J330=8,1,0)","v":0},{"$f":"IF(L330=6,1,0)","v":0},0,{"$f":"AG330","v":0},"*"]
[null,null,323,null,null,null,null,null,null,null,null,null,null,null,null,null,null,null,null,null,null,null,null,null,null,{"$f":"IF(H331=\"\",\"-\",VLOOKUP(J331,読み替え表_低炭素物流!$C$4:$F$12,4,0))","v":"-"},{"$f":"IF(H331=\"\",\"-\",VLOOKUP(L331,読み替え表_低炭素物流!$C$15:$F$21,4,0))","v":"-"},"-",null,null,null,null,0,0,0,0,0,"*"]
[null,null,324,null,null,null,null,null,null,null,null,null,null,null,null,null,null,null,null,null,null,null,null,null,null,{"$f":"IF(H332=\"\",\"-\",VLOOKUP(J332,読み替え表_低炭素物流!$C$4:$F$12,4,0))","v":"-"},{"$f":"IF(H332=\"\",\"-\",VLOOKUP(L332,読み替え表_低炭素物流!$C$15:$F$21,4,0))","v":"-"},"-",null,null,null,null,0,0,0,0,0,"*"]
[null,null,325,null,null,null,null,null,null,null,null,null,null,null,null,null,null,null,null,null,null,null,null,null,null,{"$f":"IF(H333=\"\",\"-\",VLOOKUP(J333,読み替え表_低炭素物流!$C$4:$F$12,4,0))","v":"-"},{"$f":"IF(H333=\"\",\"-\",VLOOKUP(L333,読み替え表_低炭素物流!$C$15:$F$21,4,0))","v":"-"},"-",null,null,null,null,0,0,0,0,0,"*"]
[null,null,326,null,null,null,null,null,null,null,null,null,null,null,null,null,null,null,null,null,null,null,null,null,null,{"$f":"IF(H334=\"\",\"-\",VLOOKUP(J334,読み替え表_低炭素物流!$C$4:$F$12,4,0))","v":"-"},{"$f":"IF(H334=\"\",\"-\",VLOOKUP(L334,読み替え表_低炭素物流!$C$15:$F$21,4,0))","v":"-"},"-",null,null,null,null,0,0,0,0,0,"*"]
[null,null,327,null,null,null,null,null,null,null,null,null,null,null,null,null,null,null,null,null,null,null,null,null,null,{"$f":"IF(H335=\"\",\"-\",VLOOKUP(J335,読み替え表_低炭素物流!$C$4:$F$12,4,0))","v":"-"},{"$f":"IF(H335=\"\",\"-\",VLOOKUP(L335,読み替え表_低炭素物流!$C$15:$F$21,4,0))","v":"-"},"-",null,null,null,null,0,0,0,0,0,"*"]
[null,null,328,null,null,null,null,null,null,null,null,null,null,null,null,null,null,null,null,null,null,null,null,null,null,{"$f":"IF(H336=\"\",\"-\",VLOOKUP(J336,読み替え表_低炭素物流!$C$4:$F$12,4,0))","v":"-"},{"$f":"IF(H336=\"\",\"-\",VLOOKUP(L336,読み替え表_低炭素物流!$C$15:$F$21,4,0))","v":"-"},"-",null,null,null,null,0,0,0,0,0,"*"]
[null,null,329,null,null,null,null,null,null,null,null,null,null,null,null,null,null,null,null,null,null,null,null,null,null,{"$f":"IF(H337=\"\",\"-\",VLOOKUP(J337,読み替え表_低炭素物流!$C$4:$F$12,4,0))","v":"-"},{"$f":"IF(H337=\"\",\"-\",VLOOKUP(L337,読み替え表_低炭素物流!$C$15:$F$21,4,0))","v":"-"},"-",null,null,null,null,0,0,0,0,0,"*"]
[null,null,330,null,null,null,null,null,null,null,null,null,null,null,null,null,null,null,null,null,null,null,null,null,null,{"$f":"IF(H338=\"\",\"-\",VLOOKUP(J338,読み替え表_低炭素物流!$C$4:$F$12,4,0))","v":"-"},{"$f":"IF(H338=\"\",\"-\",VLOOKUP(L338,読み替え表_低炭素物流!$C$15:$F$21,4,0))","v":"-"},"-",null,null,null,null,0,0,0,0,0,"*"]
[null,null,331,null,null,null,null,null,null,null,null,null,null,null,null,null,null,null,null,null,null,null,null,null,null,{"$f":"IF(H339=\"\",\"-\",VLOOKUP(J339,読み替え表_低炭素物流!$C$4:$F$12,4,0))","v":"-"},{"$f":"IF(H339=\"\",\"-\",VLOOKUP(L339,読み替え表_低炭素物流!$C$15:$F$21,4,0))","v":"-"},"-",null,null,null,null,0,0,0,0,0,"*"]
[null,null,332,null,null,null,null,null,null,null,null,null,null,null,null,null,null,null,null,null,null,null,null,null,null,{"$f":"IF(H340=\"\",\"-\",VLOOKUP(J340,読み替え表_低炭素物流!$C$4:$F$12,4,0))","v":"-"},{"$f":"IF(H340=\"\",\"-\",VLOOKUP(L340,読み替え表_低炭素物流!$C$15:$F$21,4,0))","v":"-"},"-",null,null,null,null,0,0,0,0,0,"*"]
[null,null,333,null,null,null,null,null,null,null,null,null,null,null,null,null,null,null,null,null,null,null,null,null,null,{"$f":"IF(H341=\"\",\"-\",VLOOKUP(J341,読み替え表_低炭素物流!$C$4:$F$12,4,0))","v":"-"},{"$f":"IF(H341=\"\",\"-\",VLOOKUP(L341,読み替え表_低炭素物流!$C$15:$F$21,4,0))","v":"-"},"-",null,null,null,null,0,0,0,0,0,"*"]
[null,null,334,null,null,null,null,null,null,null,null,null,null,null,null,null,null,null,null,null,null,null,null,null,null,{"$f":"IF(H342=\"\",\"-\",VLOOKUP(J342,読み替え表_低炭素物流!$C$4:$F$12,4,0))","v":"-"},{"$f":"IF(H342=\"\",\"-\",VLOOKUP(L342,読み替え表_低炭素物流!$C$15:$F$21,4,0))","v":"-"},"-",null,null,null,null,0,0,0,0,0,"*"]
[null,null,335,null,null,null,null,null,null,null,null,null,null,null,null,null,null,null,null,null,null,null,null,null,null,{"$f":"IF(H343=\"\",\"-\",VLOOKUP(J343,読み替え表_低炭素物流!$C$4:$F$12,4,0))","v":"-"},{"$f":"IF(H343=\"\",\"-\",VLOOKUP(L343,読み替え表_低炭素物流!$C$15:$F$21,4,0))","v":"-"},"-",null,null,null,null,0,0,0,0,0,"*"]
[null,null,336,null,null,null,null,null,null,null,null,null,null,null,null,null,null,null,null,null,null,null,null,null,null,{"$f":"IF(H344=\"\",\"-\",VLOOKUP(J344,読み替え表_低炭素物流!$C$4:$F$12,4,0))","v":"-"},{"$f":"IF(H344=\"\",\"-\",VLOOKUP(L344,読み替え表_低炭素物流!$C$15:$F$21,4,0))","v":"-"},"-",null,null,null,null,0,0,0,{"$f":"IF(OR(N344=7,N344=99),1,0)","v":0},0,"*"]
[null,null,337,null,null,null,null,null,null,null,null,null,null,null,null,null,null,null,null,null,null,null,null,null,null,{"$f":"IF(H345=\"\",\"-\",VLOOKUP(J345,読み替え表_低炭素物流!$C$4:$F$12,4,0))","v":"-"},{"$f":"IF(H345=\"\",\"-\",VLOOKUP(L345,読み替え表_低炭素物流!$C$15:$F$21,4,0))","v":"-"},"-",null,null,null,null,0,0,0,0,0,"*"]
[null,null,338,null,null,null,null,null,null,null,null,null,null,null,null,null,null,null,null,null,null,null,null,null,null,{"$f":"IF(H346=\"\",\"-\",VLOOKUP(J346,読み替え表_低炭素物流!$C$4:$F$12,4,0))","v":"-"},{"$f":"IF(H346=\"\",\"-\",VLOOKUP(L346,読み替え表_低炭素物流!$C$15:$F$21,4,0))","v":"-"},"-",null,null,null,null,0,0,0,0,0,"*"]
[null,null,339,null,null,null,null,null,null,null,null,null,null,null,null,null,null,null,null,null,null,null,null,null,null,{"$f":"IF(H347=\"\",\"-\",VLOOKUP(J347,読み替え表_低炭素物流!$C$4:$F$12,4,0))","v":"-"},{"$f":"IF(H347=\"\",\"-\",VLOOKUP(L347,読み替え表_低炭素物流!$C$15:$F$21,4,0))","v":"-"},"-",null,null,null,null,0,0,0,0,0,"*"]
[null,null,340,null,null,null,null,null,null,null,null,null,null,null,null,null,null,null,null,null,null,null,null,null,null,{"$f":"IF(H348=\"\",\"-\",VLOOKUP(J348,読み替え表_低炭素物流!$C$4:$F$12,4,0))","v":"-"},{"$f":"IF(H348=\"\",\"-\",VLOOKUP(L348,読み替え表_低炭素物流!$C$15:$F$21,4,0))","v":"-"},"-",null,null,null,null,0,0,0,0,0,"*"]
[null,null,341,null,null,null,null,null,null,null,null,null,null,null,null,null,null,null,null,null,null,null,null,null,null,{"$f":"IF(H349=\"\",\"-\",VLOOKUP(J349,読み替え表_低炭素物流!$C$4:$F$12,4,0))","v":"-"},{"$f":"IF(H349=\"\",\"-\",VLOOKUP(L349,読み替え表_低炭素物流!$C$15:$F$21,4,0))","v":"-"},"-",null,null,null,null,0,0,0,0,0,"*"]
[null,null,342,null,null,null,null,null,null,null,null,null,null,null,null,null,null,null,null,null,null,null,null,null,null,{"$f":"IF(H350=\"\",\"-\",VLOOKUP(J350,読み替え表_低炭素物流!$C$4:$F$12,4,0))","v":"-"},{"$f":"IF(H350=\"\",\"-\",VLOOKUP(L350,読み替え表_低炭素物流!$C$15:$F$21,4,0))","v":"-"},"-",null,null,null,null,0,0,0,0,0,"*"]
[null,null,343,null,null,null,null,null,null,null,null,null,null,null,null,null,null,null,null,null,null,null,null,null,null,{"$f":"IF(H351=\"\",\"-\",VLOOKUP(J351,読み替え表_低炭素物流!$C$4:$F$12,4,0))","v":"-"},{"$f":"IF(H351=\"\",\"-\",VLOOKUP(L351,読み替え表_低炭素物流!$C$15:$F$21,4,0))","v":"-"},"-",null,null,null,null,0,0,0,0,0,"*"]
[null,null,344,null,null,null,null,null,null,null,null,null,null,null,null,null,null,null,null,null,null,null,null,null,null,{"$f":"IF(H352=\"\",\"-\",VLOOKUP(J352,読み替え表_低炭素物流!$C$4:$F$12,4,0))","v":"-"},{"$f":"IF(H352=\"\",\"-\",VLOOKUP(L352,読み替え表_低炭素物流!$C$15:$F$21,4,0))","v":"-"},"-",null,null,null,null,0,0,0,0,0,"*"]
[null,null,345,null,null,null,null,null,null,null,null,null,null,null,null,null,null,null,null,null,null,null,null,null,null,{"$f":"IF(H353=\"\",\"-\",VLOOKUP(J353,読み替え表_低炭素物流!$C$4:$F$12,4,0))","v":"-"},{"$f":"IF(H353=\"\",\"-\",VLOOKUP(L353,読み替え表_低炭素物流!$C$15:$F$21,4,0))","v":"-"},"-",null,null,null,null,0,0,0,0,0,"*"]
[null,null,346,null,null,null,null,null,null,null,null,null,null,null,null,null,null,null,null,null,null,null,null,null,null,{"$f":"IF(H354=\"\",\"-\",VLOOKUP(J354,読み替え表_低炭素物流!$C$4:$F$12,4,0))","v":"-"},{"$f":"IF(H354=\"\",\"-\",VLOOKUP(L354,読み替え表_低炭素物流!$C$15:$F$21,4,0))","v":"-"},"-",null,null,null,null,0,0,0,0,0,"*"]
[null,null,347,null,null,null,null,null,null,null,null,null,null,null,null,null,null,null,null,null,null,null,null,null,null,{"$f":"IF(H355=\"\",\"-\",VLOOKUP(J355,読み替え表_低炭素物流!$C$4:$F$12,4,0))","v":"-"},{"$f":"IF(H355=\"\",\"-\",VLOOKUP(L355,読み替え表_低炭素物流!$C$15:$F$21,4,0))","v":"-"},"-",null,null,null,null,0,0,0,0,0,"*"]
[null,null,348,null,null,null,null,null,null,null,null,null,null,null,null,null,null,null,null,null,null,null,null,null,null,{"$f":"IF(H356=\"\",\"-\",VLOOKUP(J356,読み替え表_低炭素物流!$C$4:$F$12,4,0))","v":"-"},{"$f":"IF(H356=\"\",\"-\",VLOOKUP(L356,読み替え表_低炭素物流!$C$15:$F$21,4,0))","v":"-"},"-",null,null,null,null,0,0,0,0,0,"*"]
[null,null,349,null,null,null,null,null,null,null,null,null,null,null,null,null,null,null,null,null,null,null,null,null,null,{"$f":"IF(H357=\"\",\"-\",VLOOKUP(J357,読み替え表_低炭素物流!$C$4:$F$12,4,0))","v":"-"},{"$f":"IF(H357=\"\",\"-\",VLOOKUP(L357,読み替え表_低炭素物流!$C$15:$F$21,4,0))","v":"-"},"-",null,null,null,null,0,0,0,0,0,"*"]
[null,null,350,null,null,null,null,null,null,null,null,null,null,null,null,null,null,null,null,null,null,null,null,null,null,{"$f":"IF(H358=\"\",\"-\",VLOOKUP(J358,読み替え表_低炭素物流!$C$4:$F$12,4,0))","v":"-"},{"$f":"IF(H358=\"\",\"-\",VLOOKUP(L358,読み替え表_低炭素物流!$C$15:$F$21,4,0))","v":"-"},"-",null,null,null,null,0,0,0,0,0,"*"]
[null,null,351,null,null,null,null,null,null,null,null,null,null,null,null,null,null,null,null,null,null,null,null,null,null,{"$f":"IF(H359=\"\",\"-\",VLOOKUP(J359,読み替え表_低炭素物流!$C$4:$F$12,4,0))","v":"-"},{"$f":"IF(H359=\"\",\"-\",VLOOKUP(L359,読み替え表_低炭素物流!$C$15:$F$21,4,0))","v":"-"},"-",null,null,null,null,0,0,0,0,0,"*"]
[null,null,352,null,null,null,null,null,null,null,null,null,null,null,null,null,null,null,null,null,null,null,null,null,null,{"$f":"IF(H360=\"\",\"-\",VLOOKUP(J360,読み替え表_低炭素物流!$C$4:$F$12,4,0))","v":"-"},{"$f":"IF(H360=\"\",\"-\",VLOOKUP(L360,読み替え表_低炭素物流!$C$15:$F$21,4,0))","v":"-"},"-",null,null,null,null,0,0,0,0,0,"*"]
[null,null,353,null,null,null,null,null,null,null,null,null,null,null,null,null,null,null,null,null,null,null,null,null,null,{"$f":"IF(H361=\"\",\"-\",VLOOKUP(J361,読み替え表_低炭素物流!$C$4:$F$12,4,0))","v":"-"},{"$f":"IF(H361=\"\",\"-\",VLOOKUP(L361,読み替え表_低炭素物流!$C$15:$F$21,4,0))","v":"-"},"-",null,null,null,null,0,0,0,0,0,"*"]
[null,null,354,null,null,null,null,null,null,null,null,null,null,null,null,null,null,null,null,null,null,null,null,null,null,{"$f":"IF(H362=\"\",\"-\",VLOOKUP(J362,読み替え表_低炭素物流!$C$4:$F$12,4,0))","v":"-"},{"$f":"IF(H362=\"\",\"-\",VLOOKUP(L362,読み替え表_低炭素物流!$C$15:$F$21,4,0))","v":"-"},"-",null,null,null,null,0,0,0,0,0,"*"]
[null,null,355,null,null,null,null,null,null,null,null,null,null,null,null,null,null,null,null,null,null,null,null,null,null,{"$f":"IF(H363=\"\",\"-\",VLOOKUP(J363,読み替え表_低炭素物流!$C$4:$F$12,4,0))","v":"-"},{"$f":"IF(H363=\"\",\"-\",VLOOKUP(L363,読み替え表_低炭素物流!$C$15:$F$21,4,0))","v":"-"},"-",null,null,null,null,0,0,0,0,0,"*"]
[null,null,356,null,null,null,null,null,null,null,null,null,null,null,null,null,null,null,null,null,null,null,null,null,null,{"$f":"IF(H364=\"\",\"-\",VLOOKUP(J364,読み替え表_低炭素物流!$C$4:$F$12,4,0))","v":"-"},{"$f":"IF(H364=\"\",\"-\",VLOOKUP(L364,読み替え表_低炭素物流!$C$15:$F$21,4,0))","v":"-"},"-",null,null,null,null,0,0,0,0,0,"*"]
[null,null,357,null,null,null,null,null,null,null,null,null,null,null,null,null,null,null,null,null,null,null,null,null,null,{"$f":"IF(H365=\"\",\"-\",VLOOKUP(J365,読み替え表_低炭素物流!$C$4:$F$12,4,0))","v":"-"},{"$f":"IF(H365=\"\",\"-\",VLOOKUP(L365,読み替え表_低炭素物流!$C$15:$F$21,4,0))","v":"-"},"-",null,null,null,null,0,0,0,0,0,"*"]
[null,null,358,null,null,null,null,null,null,null,null,null,null,null,null,null,null,null,null,null,null,null,null,null,null,{"$f":"IF(H366=\"\",\"-\",VLOOKUP(J366,読み替え表_低炭素物流!$C$4:$F$12,4,0))","v":"-"},{"$f":"IF(H366=\"\",\"-\",VLOOKUP(L366,読み替え表_低炭素物流!$C$15:$F$21,4,0))","v":"-"},"-",null,null,null,null,0,0,0,0,0,"*"]
[null,null,359,null,null,null,null,null,null,null,null,null,null,null,null,null,null,null,null,null,null,null,null,null,null,{"$f":"IF(H367=\"\",\"-\",VLOOKUP(J367,読み替え表_低炭素物流!$C$4:$F$12,4,0))","v":"-"},{"$f":"IF(H367=\"\",\"-\",VLOOKUP(L367,読み替え表_低炭素物流!$C$15:$F$21,4,0))","v":"-"},"-",null,null,null,null,0,0,0,0,0,"*"]
[null,null,360,null,null,null,null,null,null,null,null,null,null,null,null,null,null,null,null,null,null,null,null,null,null,{"$f":"IF(H368=\"\",\"-\",VLOOKUP(J368,読み替え表_低炭素物流!$C$4:$F$12,4,0))","v":"-"},{"$f":"IF(H368=\"\",\"-\",VLOOKUP(L368,読み替え表_低炭素物流!$C$15:$F$21,4,0))","v":"-"},"-",null,null,null,null,0,0,0,0,0,"*"]
[null,null,361,null,null,null,null,null,null,null,null,null,null,null,null,null,null,null,null,null,null,null,null,null,null,{"$f":"IF(H369=\"\",\"-\",VLOOKUP(J369,読み替え表_低炭素物流!$C$4:$F$12,4,0))","v":"-"},{"$f":"IF(H369=\"\",\"-\",VLOOKUP(L369,読み替え表_低炭素物流!$C$15:$F$21,4,0))","v":"-"},"-",null,null,null,null,0,0,0,0,0,"*"]
[null,null,362,null,null,null,null,null,null,null,null,null,null,null,null,null,null,null,null,null,null,null,null,null,null,{"$f":"IF(H370=\"\",\"-\",VLOOKUP(J370,読み替え表_低炭素物流!$C$4:$F$12,4,0))","v":"-"},{"$f":"IF(H370=\"\",\"-\",VLOOKUP(L370,読み替え表_低炭素物流!$C$15:$F$21,4,0))","v":"-"},"-",null,null,null,null,0,0,0,0,0,"*"]
[null,null,363,null,null,null,null,null,null,null,null,null,null,null,null,null,null,null,null,null,null,null,null,null,null,{"$f":"IF(H371=\"\",\"-\",VLOOKUP(J371,読み替え表_低炭素物流!$C$4:$F$12,4,0))","v":"-"},{"$f":"IF(H371=\"\",\"-\",VLOOKUP(L371,読み替え表_低炭素物流!$C$15:$F$21,4,0))","v":"-"},"-",null,null,null,null,0,0,0,0,0,"*"]
[null,null,364,null,null,null,null,null,null,null,null,null,null,null,null,null,null,null,null,null,null,null,null,null,null,{"$f":"IF(H372=\"\",\"-\",VLOOKUP(J372,読み替え表_低炭素物流!$C$4:$F$12,4,0))","v":"-"},{"$f":"IF(H372=\"\",\"-\",VLOOKUP(L372,読み替え表_低炭素物流!$C$15:$F$21,4,0))","v":"-"},"-",null,null,null,null,0,0,0,0,0,"*"]
[null,null,365,null,null,null,null,null,null,null,null,null,null,null,null,null,null,null,null,null,null,null,null,null,null,{"$f":"IF(H373=\"\",\"-\",VLOOKUP(J373,読み替え表_低炭素物流!$C$4:$F$12,4,0))","v":"-"},{"$f":"IF(H373=\"\",\"-\",VLOOKUP(L373,読み替え表_低炭素物流!$C$15:$F$21,4,0))","v":"-"},"-",null,null,null,null,0,0,0,0,0,"*"]
[null,null,366,null,null,null,null,null,null,null,null,null,null,null,null,null,null,null,null,null,null,null,null,null,null,{"$f":"IF(H374=\"\",\"-\",VLOOKUP(J374,読み替え表_低炭素物流!$C$4:$F$12,4,0))","v":"-"},{"$f":"IF(H374=\"\",\"-\",VLOOKUP(L374,読み替え表_低炭素物流!$C$15:$F$21,4,0))","v":"-"},"-",null,null,null,null,0,0,0,0,0,"*"]
[null,null,367,null,null,null,null,null,null,null,null,null,null,null,null,null,null,null,null,null,null,null,null,null,null,{"$f":"IF(H375=\"\",\"-\",VLOOKUP(J375,読み替え表_低炭素物流!$C$4:$F$12,4,0))","v":"-"},{"$f":"IF(H375=\"\",\"-\",VLOOKUP(L375,読み替え表_低炭素物流!$C$15:$F$21,4,0))","v":"-"},"-",null,null,null,null,0,0,0,0,0,"*"]
[null,null,368,null,null,null,null,null,null,null,null,null,null,null,null,null,null,null,null,null,null,null,null,null,null,{"$f":"IF(H376=\"\",\"-\",VLOOKUP(J376,読み替え表_低炭素物流!$C$4:$F$12,4,0))","v":"-"},{"$f":"IF(H376=\"\",\"-\",VLOOKUP(L376,読み替え表_低炭素物流!$C$15:$F$21,4,0))","v":"-"},"-",null,null,null,null,0,0,0,0,0,"*"]
[null,null,369,null,null,null,null,null,null,null,null,null,null,null,null,null,null,null,null,null,null,null,null,null,null,{"$f":"IF(H377=\"\",\"-\",VLOOKUP(J377,読み替え表_低炭素物流!$C$4:$F$12,4,0))","v":"-"},{"$f":"IF(H377=\"\",\"-\",VLOOKUP(L377,読み替え表_低炭素物流!$C$15:$F$21,4,0))","v":"-"},"-",null,null,null,null,0,0,0,0,0,"*"]
[null,null,370,null,null,null,null,null,null,null,null,null,null,null,null,null,null,null,null,null,null,null,null,null,null,{"$f":"IF(H378=\"\",\"-\",VLOOKUP(J378,読み替え表_低炭素物流!$C$4:$F$12,4,0))","v":"-"},{"$f":"IF(H378=\"\",\"-\",VLOOKUP(L378,読み替え表_低炭素物流!$C$15:$F$21,4,0))","v":"-"},"-",null,null,null,null,0,0,0,0,0,"*"]
[null,null,371,null,null,null,null,null,null,null,null,null,null,null,null,null,null,null,null,null,null,null,null,null,null,{"$f":"IF(H379=\"\",\"-\",VLOOKUP(J379,読み替え表_低炭素物流!$C$4:$F$12,4,0))","v":"-"},{"$f":"IF(H379=\"\",\"-\",VLOOKUP(L379,読み替え表_低炭素物流!$C$15:$F$21,4,0))","v":"-"},"-",null,null,null,null,0,0,0,0,0,"*"]
[null,null,372,null,null,null,null,null,null,null,null,null,null,null,null,null,null,null,null,null,null,null,null,null,null,{"$f":"IF(H380=\"\",\"-\",VLOOKUP(J380,読み替え表_低炭素物流!$C$4:$F$12,4,0))","v":"-"},{"$f":"IF(H380=\"\",\"-\",VLOOKUP(L380,読み替え表_低炭素物流!$C$15:$F$21,4,0))","v":"-"},"-",null,null,null,null,0,0,0,0,0,"*"]
[null,null,373,null,null,null,null,null,null,null,null,null,null,null,null,null,null,null,null,null,null,null,null,null,null,{"$f":"IF(H381=\"\",\"-\",VLOOKUP(J381,読み替え表_低炭素物流!$C$4:$F$12,4,0))","v":"-"},{"$f":"IF(H381=\"\",\"-\",VLOOKUP(L381,読み替え表_低炭素物流!$C$15:$F$21,4,0))","v":"-"},"-",null,null,null,null,0,0,0,0,0,"*"]
[null,null,374,null,null,null,null,null,null,null,null,null,null,null,null,null,null,null,null,null,null,null,null,null,null,{"$f":"IF(H382=\"\",\"-\",VLOOKUP(J382,読み替え表_低炭素物流!$C$4:$F$12,4,0))","v":"-"},{"$f":"IF(H382=\"\",\"-\",VLOOKUP(L382,読み替え表_低炭素物流!$C$15:$F$21,4,0))","v":"-"},"-",null,null,null,null,0,0,0,0,0,"*"]
[null,null,375,null,null,null,null,null,null,null,null,null,null,null,null,null,null,null,null,null,null,null,null,null,null,{"$f":"IF(H383=\"\",\"-\",VLOOKUP(J383,読み替え表_低炭素物流!$C$4:$F$12,4,0))","v":"-"},{"$f":"IF(H383=\"\",\"-\",VLOOKUP(L383,読み替え表_低炭素物流!$C$15:$F$21,4,0))","v":"-"},"-",null,null,null,null,0,0,0,0,0,"*"]
[null,null,376,null,null,null,null,null,null,null,null,null,null,null,null,null,null,null,null,null,null,null,null,null,null,{"$f":"IF(H384=\"\",\"-\",VLOOKUP(J384,読み替え表_低炭素物流!$C$4:$F$12,4,0))","v":"-"},{"$f":"IF(H384=\"\",\"-\",VLOOKUP(L384,読み替え表_低炭素物流!$C$15:$F$21,4,0))","v":"-"},"-",null,null,null,null,0,0,0,0,0,"*"]
[null,null,377,null,null,null,null,null,null,null,null,null,null,null,null,null,null,null,null,null,null,null,null,null,null,{"$f":"IF(H385=\"\",\"-\",VLOOKUP(J385,読み替え表_低炭素物流!$C$4:$F$12,4,0))","v":"-"},{"$f":"IF(H385=\"\",\"-\",VLOOKUP(L385,読み替え表_低炭素物流!$C$15:$F$21,4,0))","v":"-"},"-",null,null,null,null,0,0,0,0,0,"*"]
[null,null,378,null,null,null,null,null,null,null,null,null,null,null,null,null,null,null,null,null,null,null,null,null,null,{"$f":"IF(H386=\"\",\"-\",VLOOKUP(J386,読み替え表_低炭素物流!$C$4:$F$12,4,0))","v":"-"},{"$f":"IF(H386=\"\",\"-\",VLOOKUP(L386,読み替え表_低炭素物流!$C$15:$F$21,4,0))","v":"-"},"-",null,null,null,null,0,0,0,0,0,"*"]
[null,null,379,null,null,null,null,null,null,null,null,null,null,null,null,null,null,null,null,null,null,null,null,null,null,{"$f":"IF(H387=\"\",\"-\",VLOOKUP(J387,読み替え表_低炭素物流!$C$4:$F$12,4,0))","v":"-"},{"$f":"IF(H387=\"\",\"-\",VLOOKUP(L387,読み替え表_低炭素物流!$C$15:$F$21,4,0))","v":"-"},"-",null,null,null,null,0,0,0,0,0,"*"]
[null,null,380,null,null,null,null,null,null,null,null,null,null,null,null,null,null,null,null,null,null,null,null,null,null,{"$f":"IF(H388=\"\",\"-\",VLOOKUP(J388,読み替え表_低炭素物流!$C$4:$F$12,4,0))","v":"-"},{"$f":"IF(H388=\"\",\"-\",VLOOKUP(L388,読み替え表_低炭素物流!$C$15:$F$21,4,0))","v":"-"},"-",null,null,null,null,0,0,0,0,0,"*"]
[null,null,381,null,null,null,null,null,null,null,null,null,null,null,null,null,null,null,null,null,null,null,null,null,null,{"$f":"IF(H389=\"\",\"-\",VLOOKUP(J389,読み替え表_低炭素物流!$C$4:$F$12,4,0))","v":"-"},{"$f":"IF(H389=\"\",\"-\",VLOOKUP(L389,読み替え表_低炭素物流!$C$15:$F$21,4,0))","v":"-"},"-",null,null,null,null,0,0,0,0,0,"*"]
[null,null,382,null,null,null,null,null,null,null,null,null,null,null,null,null,null,null,null,null,null,null,null,null,null,{"$f":"IF(H390=\"\",\"-\",VLOOKUP(J390,読み替え表_低炭素物流!$C$4:$F$12,4,0))","v":"-"},{"$f":"IF(H390=\"\",\"-\",VLOOKUP(L390,読み替え表_低炭素物流!$C$15:$F$21,4,0))","v":"-"},"-",null,null,null,null,0,0,0,0,0,"*"]
[null,null,383,null,null,null,null,null,null,null,null,null,null,null,null,null,null,null,null,null,null,null,null,null,null,{"$f":"IF(H391=\"\",\"-\",VLOOKUP(J391,読み替え表_低炭素物流!$C$4:$F$12,4,0))","v":"-"},{"$f":"IF(H391=\"\",\"-\",VLOOKUP(L391,読み替え表_低炭素物流!$C$15:$F$21,4,0))","v":"-"},"-",null,null,null,null,0,0,0,0,0,"*"]
[null,null,384,null,null,null,null,null,null,null,null,null,null,null,null,null,null,null,null,null,null,null,null,null,null,{"$f":"IF(H392=\"\",\"-\",VLOOKUP(J392,読み替え表_低炭素物流!$C$4:$F$12,4,0))","v":"-"},{"$f":"IF(H392=\"\",\"-\",VLOOKUP(L392,読み替え表_低炭素物流!$C$15:$F$21,4,0))","v":"-"},"-",null,null,null,null,0,0,0,0,0,"*"]
[null,null,385,null,null,null,null,null,null,null,null,null,null,null,null,null,null,null,null,null,null,null,null,null,null,{"$f":"IF(H393=\"\",\"-\",VLOOKUP(J393,読み替え表_低炭素物流!$C$4:$F$12,4,0))","v":"-"},{"$f":"IF(H393=\"\",\"-\",VLOOKUP(L393,読み替え表_低炭素物流!$C$15:$F$21,4,0))","v":"-"},"-",null,null,null,null,{"$f":"IF(N393=1,IF(OR(L393=4,L393=5),0,1),0)","v":0},0,0,0,0,"*"]
[null,null,{"$f":"ROW()-8","v":386},null,null,null,null,null,null,null,null,null,null,null,null,null,null,null,null,null,null,null,null,null,null,{"$f":"IF(H394=\"\",\"-\",VLOOKUP(J394,読み替え表_低炭素物流!$C$4:$F$12,4,0))","v":"-"},{"$f":"IF(H394=\"\",\"-\",VLOOKUP(L394,読み替え表_低炭素物流!$C$15:$F$21,4,0))","v":"-"},{"$f":"IF(H394=\"\",\"-\",Z394*AA394)","v":"-"},null,null,null,null,0,{"$f":"IF(J394=8,1,0)","v":0},{"$f":"IF(L394=6,1,0)","v":0},0,{"$f":"AG394","v":0},"*"]
[null,null,387,null,null,null,null,null,null,null,null,null,null,null,null,null,null,null,null,null,null,null,null,null,null,{"$f":"IF(H395=\"\",\"-\",VLOOKUP(J395,読み替え表_低炭素物流!$C$4:$F$12,4,0))","v":"-"},{"$f":"IF(H395=\"\",\"-\",VLOOKUP(L395,読み替え表_低炭素物流!$C$15:$F$21,4,0))","v":"-"},"-",null,null,null,null,0,0,0,0,0,"*"]
[null,null,388,null,null,null,null,null,null,null,null,null,null,null,null,null,null,null,null,null,null,null,null,null,null,{"$f":"IF(H396=\"\",\"-\",VLOOKUP(J396,読み替え表_低炭素物流!$C$4:$F$12,4,0))","v":"-"},{"$f":"IF(H396=\"\",\"-\",VLOOKUP(L396,読み替え表_低炭素物流!$C$15:$F$21,4,0))","v":"-"},"-",null,null,null,null,0,0,0,0,0,"*"]
[null,null,389,null,null,null,null,null,null,null,null,null,null,null,null,null,null,null,null,null,null,null,null,null,null,{"$f":"IF(H397=\"\",\"-\",VLOOKUP(J397,読み替え表_低炭素物流!$C$4:$F$12,4,0))","v":"-"},{"$f":"IF(H397=\"\",\"-\",VLOOKUP(L397,読み替え表_低炭素物流!$C$15:$F$21,4,0))","v":"-"},"-",null,null,null,null,0,0,0,0,0,"*"]
[null,null,390,null,null,null,null,null,null,null,null,null,null,null,null,null,null,null,null,null,null,null,null,null,null,{"$f":"IF(H398=\"\",\"-\",VLOOKUP(J398,読み替え表_低炭素物流!$C$4:$F$12,4,0))","v":"-"},{"$f":"IF(H398=\"\",\"-\",VLOOKUP(L398,読み替え表_低炭素物流!$C$15:$F$21,4,0))","v":"-"},"-",null,null,null,null,0,0,0,0,0,"*"]
[null,null,391,null,null,null,null,null,null,null,null,null,null,null,null,null,null,null,null,null,null,null,null,null,null,{"$f":"IF(H399=\"\",\"-\",VLOOKUP(J399,読み替え表_低炭素物流!$C$4:$F$12,4,0))","v":"-"},{"$f":"IF(H399=\"\",\"-\",VLOOKUP(L399,読み替え表_低炭素物流!$C$15:$F$21,4,0))","v":"-"},"-",null,null,null,null,0,0,0,0,0,"*"]
[null,null,392,null,null,null,null,null,null,null,null,null,null,null,null,null,null,null,null,null,null,null,null,null,null,{"$f":"IF(H400=\"\",\"-\",VLOOKUP(J400,読み替え表_低炭素物流!$C$4:$F$12,4,0))","v":"-"},{"$f":"IF(H400=\"\",\"-\",VLOOKUP(L400,読み替え表_低炭素物流!$C$15:$F$21,4,0))","v":"-"},"-",null,null,null,null,0,0,0,0,0,"*"]
[null,null,393,null,null,null,null,null,null,null,null,null,null,null,null,null,null,null,null,null,null,null,null,null,null,{"$f":"IF(H401=\"\",\"-\",VLOOKUP(J401,読み替え表_低炭素物流!$C$4:$F$12,4,0))","v":"-"},{"$f":"IF(H401=\"\",\"-\",VLOOKUP(L401,読み替え表_低炭素物流!$C$15:$F$21,4,0))","v":"-"},"-",null,null,null,null,0,0,0,0,0,"*"]
[null,null,394,null,null,null,null,null,null,null,null,null,null,null,null,null,null,null,null,null,null,null,null,null,null,{"$f":"IF(H402=\"\",\"-\",VLOOKUP(J402,読み替え表_低炭素物流!$C$4:$F$12,4,0))","v":"-"},{"$f":"IF(H402=\"\",\"-\",VLOOKUP(L402,読み替え表_低炭素物流!$C$15:$F$21,4,0))","v":"-"},"-",null,null,null,null,0,0,0,0,0,"*"]
[null,null,395,null,null,null,null,null,null,null,null,null,null,null,null,null,null,null,null,null,null,null,null,null,null,{"$f":"IF(H403=\"\",\"-\",VLOOKUP(J403,読み替え表_低炭素物流!$C$4:$F$12,4,0))","v":"-"},{"$f":"IF(H403=\"\",\"-\",VLOOKUP(L403,読み替え表_低炭素物流!$C$15:$F$21,4,0))","v":"-"},"-",null,null,null,null,0,0,0,0,0,"*"]
[null,null,396,null,null,null,null,null,null,null,null,null,null,null,null,null,null,null,null,null,null,null,null,null,null,{"$f":"IF(H404=\"\",\"-\",VLOOKUP(J404,読み替え表_低炭素物流!$C$4:$F$12,4,0))","v":"-"},{"$f":"IF(H404=\"\",\"-\",VLOOKUP(L404,読み替え表_低炭素物流!$C$15:$F$21,4,0))","v":"-"},"-",null,null,null,null,0,0,0,0,0,"*"]
[null,null,397,null,null,null,null,null,null,null,null,null,null,null,null,null,null,null,null,null,null,null,null,null,null,{"$f":"IF(H405=\"\",\"-\",VLOOKUP(J405,読み替え表_低炭素物流!$C$4:$F$12,4,0))","v":"-"},{"$f":"IF(H405=\"\",\"-\",VLOOKUP(L405,読み替え表_低炭素物流!$C$15:$F$21,4,0))","v":"-"},"-",null,null,null,null,0,0,0,0,0,"*"]
[null,null,398,null,null,null,null,null,null,null,null,null,null,null,null,null,null,null,null,null,null,null,null,null,null,{"$f":"IF(H406=\"\",\"-\",VLOOKUP(J406,読み替え表_低炭素物流!$C$4:$F$12,4,0))","v":"-"},{"$f":"IF(H406=\"\",\"-\",VLOOKUP(L406,読み替え表_低炭素物流!$C$15:$F$21,4,0))","v":"-"},"-",null,null,null,null,0,0,0,0,0,"*"]
[null,null,399,null,null,null,null,null,null,null,null,null,null,null,null,null,null,null,null,null,null,null,null,null,null,{"$f":"IF(H407=\"\",\"-\",VLOOKUP(J407,読み替え表_低炭素物流!$C$4:$F$12,4,0))","v":"-"},{"$f":"IF(H407=\"\",\"-\",VLOOKUP(L407,読み替え表_低炭素物流!$C$15:$F$21,4,0))","v":"-"},"-",null,null,null,null,0,0,0,0,0,"*"]
[null,null,400,null,null,null,null,null,null,null,null,null,null,null,null,null,null,null,null,null,null,null,null,null,null,{"$f":"IF(H408=\"\",\"-\",VLOOKUP(J408,読み替え表_低炭素物流!$C$4:$F$12,4,0))","v":"-"},{"$f":"IF(H408=\"\",\"-\",VLOOKUP(L408,読み替え表_低炭素物流!$C$15:$F$21,4,0))","v":"-"},"-",null,null,null,null,0,0,0,{"$f":"IF(OR(N408=7,N408=99),1,0)","v":0},0,"*"]
[null,null,401,null,null,null,null,null,null,null,null,null,null,null,null,null,null,null,null,null,null,null,null,null,null,{"$f":"IF(H409=\"\",\"-\",VLOOKUP(J409,読み替え表_低炭素物流!$C$4:$F$12,4,0))","v":"-"},{"$f":"IF(H409=\"\",\"-\",VLOOKUP(L409,読み替え表_低炭素物流!$C$15:$F$21,4,0))","v":"-"},"-",null,null,null,null,0,0,0,0,0,"*"]
[null,null,402,null,null,null,null,null,null,null,null,null,null,null,null,null,null,null,null,null,null,null,null,null,null,{"$f":"IF(H410=\"\",\"-\",VLOOKUP(J410,読み替え表_低炭素物流!$C$4:$F$12,4,0))","v":"-"},{"$f":"IF(H410=\"\",\"-\",VLOOKUP(L410,読み替え表_低炭素物流!$C$15:$F$21,4,0))","v":"-"},"-",null,null,null,null,0,0,0,0,0,"*"]
[null,null,403,null,null,null,null,null,null,null,null,null,null,null,null,null,null,null,null,null,null,null,null,null,null,{"$f":"IF(H411=\"\",\"-\",VLOOKUP(J411,読み替え表_低炭素物流!$C$4:$F$12,4,0))","v":"-"},{"$f":"IF(H411=\"\",\"-\",VLOOKUP(L411,読み替え表_低炭素物流!$C$15:$F$21,4,0))","v":"-"},"-",null,null,null,null,0,0,0,0,0,"*"]
[null,null,404,null,null,null,null,null,null,null,null,null,null,null,null,null,null,null,null,null,null,null,null,null,null,{"$f":"IF(H412=\"\",\"-\",VLOOKUP(J412,読み替え表_低炭素物流!$C$4:$F$12,4,0))","v":"-"},{"$f":"IF(H412=\"\",\"-\",VLOOKUP(L412,読み替え表_低炭素物流!$C$15:$F$21,4,0))","v":"-"},"-",null,null,null,null,0,0,0,0,0,"*"]
[null,null,405,null,null,null,null,null,null,null,null,null,null,null,null,null,null,null,null,null,null,null,null,null,null,{"$f":"IF(H413=\"\",\"-\",VLOOKUP(J413,読み替え表_低炭素物流!$C$4:$F$12,4,0))","v":"-"},{"$f":"IF(H413=\"\",\"-\",VLOOKUP(L413,読み替え表_低炭素物流!$C$15:$F$21,4,0))","v":"-"},"-",null,null,null,null,0,0,0,0,0,"*"]
[null,null,406,null,null,null,null,null,null,null,null,null,null,null,null,null,null,null,null,null,null,null,null,null,null,{"$f":"IF(H414=\"\",\"-\",VLOOKUP(J414,読み替え表_低炭素物流!$C$4:$F$12,4,0))","v":"-"},{"$f":"IF(H414=\"\",\"-\",VLOOKUP(L414,読み替え表_低炭素物流!$C$15:$F$21,4,0))","v":"-"},"-",null,null,null,null,0,0,0,0,0,"*"]
[null,null,407,null,null,null,null,null,null,null,null,null,null,null,null,null,null,null,null,null,null,null,null,null,null,{"$f":"IF(H415=\"\",\"-\",VLOOKUP(J415,読み替え表_低炭素物流!$C$4:$F$12,4,0))","v":"-"},{"$f":"IF(H415=\"\",\"-\",VLOOKUP(L415,読み替え表_低炭素物流!$C$15:$F$21,4,0))","v":"-"},"-",null,null,null,null,0,0,0,0,0,"*"]
[null,null,408,null,null,null,null,null,null,null,null,null,null,null,null,null,null,null,null,null,null,null,null,null,null,{"$f":"IF(H416=\"\",\"-\",VLOOKUP(J416,読み替え表_低炭素物流!$C$4:$F$12,4,0))","v":"-"},{"$f":"IF(H416=\"\",\"-\",VLOOKUP(L416,読み替え表_低炭素物流!$C$15:$F$21,4,0))","v":"-"},"-",null,null,null,null,0,0,0,0,0,"*"]
[null,null,409,null,null,null,null,null,null,null,null,null,null,null,null,null,null,null,null,null,null,null,null,null,null,{"$f":"IF(H417=\"\",\"-\",VLOOKUP(J417,読み替え表_低炭素物流!$C$4:$F$12,4,0))","v":"-"},{"$f":"IF(H417=\"\",\"-\",VLOOKUP(L417,読み替え表_低炭素物流!$C$15:$F$21,4,0))","v":"-"},"-",null,null,null,null,0,0,0,0,0,"*"]
[null,null,410,null,null,null,null,null,null,null,null,null,null,null,null,null,null,null,null,null,null,null,null,null,null,{"$f":"IF(H418=\"\",\"-\",VLOOKUP(J418,読み替え表_低炭素物流!$C$4:$F$12,4,0))","v":"-"},{"$f":"IF(H418=\"\",\"-\",VLOOKUP(L418,読み替え表_低炭素物流!$C$15:$F$21,4,0))","v":"-"},"-",null,null,null,null,0,0,0,0,0,"*"]
[null,null,411,null,null,null,null,null,null,null,null,null,null,null,null,null,null,null,null,null,null,null,null,null,null,{"$f":"IF(H419=\"\",\"-\",VLOOKUP(J419,読み替え表_低炭素物流!$C$4:$F$12,4,0))","v":"-"},{"$f":"IF(H419=\"\",\"-\",VLOOKUP(L419,読み替え表_低炭素物流!$C$15:$F$21,4,0))","v":"-"},"-",null,null,null,null,0,0,0,0,0,"*"]
[null,null,412,null,null,null,null,null,null,null,null,null,null,null,null,null,null,null,null,null,null,null,null,null,null,{"$f":"IF(H420=\"\",\"-\",VLOOKUP(J420,読み替え表_低炭素物流!$C$4:$F$12,4,0))","v":"-"},{"$f":"IF(H420=\"\",\"-\",VLOOKUP(L420,読み替え表_低炭素物流!$C$15:$F$21,4,0))","v":"-"},"-",null,null,null,null,0,0,0,0,0,"*"]
[null,null,413,null,null,null,null,null,null,null,null,null,null,null,null,null,null,null,null,null,null,null,null,null,null,{"$f":"IF(H421=\"\",\"-\",VLOOKUP(J421,読み替え表_低炭素物流!$C$4:$F$12,4,0))","v":"-"},{"$f":"IF(H421=\"\",\"-\",VLOOKUP(L421,読み替え表_低炭素物流!$C$15:$F$21,4,0))","v":"-"},"-",null,null,null,null,0,0,0,0,0,"*"]
[null,null,414,null,null,null,null,null,null,null,null,null,null,null,null,null,null,null,null,null,null,null,null,null,null,{"$f":"IF(H422=\"\",\"-\",VLOOKUP(J422,読み替え表_低炭素物流!$C$4:$F$12,4,0))","v":"-"},{"$f":"IF(H422=\"\",\"-\",VLOOKUP(L422,読み替え表_低炭素物流!$C$15:$F$21,4,0))","v":"-"},"-",null,null,null,null,0,0,0,0,0,"*"]
[null,null,415,null,null,null,null,null,null,null,null,null,null,null,null,null,null,null,null,null,null,null,null,null,null,{"$f":"IF(H423=\"\",\"-\",VLOOKUP(J423,読み替え表_低炭素物流!$C$4:$F$12,4,0))","v":"-"},{"$f":"IF(H423=\"\",\"-\",VLOOKUP(L423,読み替え表_低炭素物流!$C$15:$F$21,4,0))","v":"-"},"-",null,null,null,null,0,0,0,0,0,"*"]
[null,null,416,null,null,null,null,null,null,null,null,null,null,null,null,null,null,null,null,null,null,null,null,null,null,{"$f":"IF(H424=\"\",\"-\",VLOOKUP(J424,読み替え表_低炭素物流!$C$4:$F$12,4,0))","v":"-"},{"$f":"IF(H424=\"\",\"-\",VLOOKUP(L424,読み替え表_低炭素物流!$C$15:$F$21,4,0))","v":"-"},"-",null,null,null,null,0,0,0,0,0,"*"]
[null,null,417,null,null,null,null,null,null,null,null,null,null,null,null,null,null,null,null,null,null,null,null,null,null,{"$f":"IF(H425=\"\",\"-\",VLOOKUP(J425,読み替え表_低炭素物流!$C$4:$F$12,4,0))","v":"-"},{"$f":"IF(H425=\"\",\"-\",VLOOKUP(L425,読み替え表_低炭素物流!$C$15:$F$21,4,0))","v":"-"},"-",null,null,null,null,0,0,0,0,0,"*"]
[null,null,418,null,null,null,null,null,null,null,null,null,null,null,null,null,null,null,null,null,null,null,null,null,null,{"$f":"IF(H426=\"\",\"-\",VLOOKUP(J426,読み替え表_低炭素物流!$C$4:$F$12,4,0))","v":"-"},{"$f":"IF(H426=\"\",\"-\",VLOOKUP(L426,読み替え表_低炭素物流!$C$15:$F$21,4,0))","v":"-"},"-",null,null,null,null,0,0,0,0,0,"*"]
[null,null,419,null,null,null,null,null,null,null,null,null,null,null,null,null,null,null,null,null,null,null,null,null,null,{"$f":"IF(H427=\"\",\"-\",VLOOKUP(J427,読み替え表_低炭素物流!$C$4:$F$12,4,0))","v":"-"},{"$f":"IF(H427=\"\",\"-\",VLOOKUP(L427,読み替え表_低炭素物流!$C$15:$F$21,4,0))","v":"-"},"-",null,null,null,null,0,0,0,0,0,"*"]
[null,null,420,null,null,null,null,null,null,null,null,null,null,null,null,null,null,null,null,null,null,null,null,null,null,{"$f":"IF(H428=\"\",\"-\",VLOOKUP(J428,読み替え表_低炭素物流!$C$4:$F$12,4,0))","v":"-"},{"$f":"IF(H428=\"\",\"-\",VLOOKUP(L428,読み替え表_低炭素物流!$C$15:$F$21,4,0))","v":"-"},"-",null,null,null,null,0,0,0,0,0,"*"]
[null,null,421,null,null,null,null,null,null,null,null,null,null,null,null,null,null,null,null,null,null,null,null,null,null,{"$f":"IF(H429=\"\",\"-\",VLOOKUP(J429,読み替え表_低炭素物流!$C$4:$F$12,4,0))","v":"-"},{"$f":"IF(H429=\"\",\"-\",VLOOKUP(L429,読み替え表_低炭素物流!$C$15:$F$21,4,0))","v":"-"},"-",null,null,null,null,0,0,0,0,0,"*"]
[null,null,422,null,null,null,null,null,null,null,null,null,null,null,null,null,null,null,null,null,null,null,null,null,null,{"$f":"IF(H430=\"\",\"-\",VLOOKUP(J430,読み替え表_低炭素物流!$C$4:$F$12,4,0))","v":"-"},{"$f":"IF(H430=\"\",\"-\",VLOOKUP(L430,読み替え表_低炭素物流!$C$15:$F$21,4,0))","v":"-"},"-",null,null,null,null,0,0,0,0,0,"*"]
[null,null,423,null,null,null,null,null,null,null,null,null,null,null,null,null,null,null,null,null,null,null,null,null,null,{"$f":"IF(H431=\"\",\"-\",VLOOKUP(J431,読み替え表_低炭素物流!$C$4:$F$12,4,0))","v":"-"},{"$f":"IF(H431=\"\",\"-\",VLOOKUP(L431,読み替え表_低炭素物流!$C$15:$F$21,4,0))","v":"-"},"-",null,null,null,null,0,0,0,0,0,"*"]
[null,null,424,null,null,null,null,null,null,null,null,null,null,null,null,null,null,null,null,null,null,null,null,null,null,{"$f":"IF(H432=\"\",\"-\",VLOOKUP(J432,読み替え表_低炭素物流!$C$4:$F$12,4,0))","v":"-"},{"$f":"IF(H432=\"\",\"-\",VLOOKUP(L432,読み替え表_低炭素物流!$C$15:$F$21,4,0))","v":"-"},"-",null,null,null,null,0,0,0,0,0,"*"]
[null,null,425,null,null,null,null,null,null,null,null,null,null,null,null,null,null,null,null,null,null,null,null,null,null,{"$f":"IF(H433=\"\",\"-\",VLOOKUP(J433,読み替え表_低炭素物流!$C$4:$F$12,4,0))","v":"-"},{"$f":"IF(H433=\"\",\"-\",VLOOKUP(L433,読み替え表_低炭素物流!$C$15:$F$21,4,0))","v":"-"},"-",null,null,null,null,0,0,0,0,0,"*"]
[null,null,426,null,null,null,null,null,null,null,null,null,null,null,null,null,null,null,null,null,null,null,null,null,null,{"$f":"IF(H434=\"\",\"-\",VLOOKUP(J434,読み替え表_低炭素物流!$C$4:$F$12,4,0))","v":"-"},{"$f":"IF(H434=\"\",\"-\",VLOOKUP(L434,読み替え表_低炭素物流!$C$15:$F$21,4,0))","v":"-"},"-",null,null,null,null,0,0,0,0,0,"*"]
[null,null,427,null,null,null,null,null,null,null,null,null,null,null,null,null,null,null,null,null,null,null,null,null,null,{"$f":"IF(H435=\"\",\"-\",VLOOKUP(J435,読み替え表_低炭素物流!$C$4:$F$12,4,0))","v":"-"},{"$f":"IF(H435=\"\",\"-\",VLOOKUP(L435,読み替え表_低炭素物流!$C$15:$F$21,4,0))","v":"-"},"-",null,null,null,null,0,0,0,0,0,"*"]
[null,null,428,null,null,null,null,null,null,null,null,null,null,null,null,null,null,null,null,null,null,null,null,null,null,{"$f":"IF(H436=\"\",\"-\",VLOOKUP(J436,読み替え表_低炭素物流!$C$4:$F$12,4,0))","v":"-"},{"$f":"IF(H436=\"\",\"-\",VLOOKUP(L436,読み替え表_低炭素物流!$C$15:$F$21,4,0))","v":"-"},"-",null,null,null,null,0,0,0,0,0,"*"]
[null,null,429,null,null,null,null,null,null,null,null,null,null,null,null,null,null,null,null,null,null,null,null,null,null,{"$f":"IF(H437=\"\",\"-\",VLOOKUP(J437,読み替え表_低炭素物流!$C$4:$F$12,4,0))","v":"-"},{"$f":"IF(H437=\"\",\"-\",VLOOKUP(L437,読み替え表_低炭素物流!$C$15:$F$21,4,0))","v":"-"},"-",null,null,null,null,0,0,0,0,0,"*"]
[null,null,430,null,null,null,null,null,null,null,null,null,null,null,null,null,null,null,null,null,null,null,null,null,null,{"$f":"IF(H438=\"\",\"-\",VLOOKUP(J438,読み替え表_低炭素物流!$C$4:$F$12,4,0))","v":"-"},{"$f":"IF(H438=\"\",\"-\",VLOOKUP(L438,読み替え表_低炭素物流!$C$15:$F$21,4,0))","v":"-"},"-",null,null,null,null,0,0,0,0,0,"*"]
[null,null,431,null,null,null,null,null,null,null,null,null,null,null,null,null,null,null,null,null,null,null,null,null,null,{"$f":"IF(H439=\"\",\"-\",VLOOKUP(J439,読み替え表_低炭素物流!$C$4:$F$12,4,0))","v":"-"},{"$f":"IF(H439=\"\",\"-\",VLOOKUP(L439,読み替え表_低炭素物流!$C$15:$F$21,4,0))","v":"-"},"-",null,null,null,null,0,0,0,0,0,"*"]
[null,null,432,null,null,null,null,null,null,null,null,null,null,null,null,null,null,null,null,null,null,null,null,null,null,{"$f":"IF(H440=\"\",\"-\",VLOOKUP(J440,読み替え表_低炭素物流!$C$4:$F$12,4,0))","v":"-"},{"$f":"IF(H440=\"\",\"-\",VLOOKUP(L440,読み替え表_低炭素物流!$C$15:$F$21,4,0))","v":"-"},"-",null,null,null,null,0,0,0,0,0,"*"]
[null,null,433,null,null,null,null,null,null,null,null,null,null,null,null,null,null,null,null,null,null,null,null,null,null,{"$f":"IF(H441=\"\",\"-\",VLOOKUP(J441,読み替え表_低炭素物流!$C$4:$F$12,4,0))","v":"-"},{"$f":"IF(H441=\"\",\"-\",VLOOKUP(L441,読み替え表_低炭素物流!$C$15:$F$21,4,0))","v":"-"},"-",null,null,null,null,0,0,0,0,0,"*"]
[null,null,434,null,null,null,null,null,null,null,null,null,null,null,null,null,null,null,null,null,null,null,null,null,null,{"$f":"IF(H442=\"\",\"-\",VLOOKUP(J442,読み替え表_低炭素物流!$C$4:$F$12,4,0))","v":"-"},{"$f":"IF(H442=\"\",\"-\",VLOOKUP(L442,読み替え表_低炭素物流!$C$15:$F$21,4,0))","v":"-"},"-",null,null,null,null,0,0,0,0,0,"*"]
[null,null,435,null,null,null,null,null,null,null,null,null,null,null,null,null,null,null,null,null,null,null,null,null,null,{"$f":"IF(H443=\"\",\"-\",VLOOKUP(J443,読み替え表_低炭素物流!$C$4:$F$12,4,0))","v":"-"},{"$f":"IF(H443=\"\",\"-\",VLOOKUP(L443,読み替え表_低炭素物流!$C$15:$F$21,4,0))","v":"-"},"-",null,null,null,null,0,0,0,0,0,"*"]
[null,null,436,null,null,null,null,null,null,null,null,null,null,null,null,null,null,null,null,null,null,null,null,null,null,{"$f":"IF(H444=\"\",\"-\",VLOOKUP(J444,読み替え表_低炭素物流!$C$4:$F$12,4,0))","v":"-"},{"$f":"IF(H444=\"\",\"-\",VLOOKUP(L444,読み替え表_低炭素物流!$C$15:$F$21,4,0))","v":"-"},"-",null,null,null,null,0,0,0,0,0,"*"]
[null,null,437,null,null,null,null,null,null,null,null,null,null,null,null,null,null,null,null,null,null,null,null,null,null,{"$f":"IF(H445=\"\",\"-\",VLOOKUP(J445,読み替え表_低炭素物流!$C$4:$F$12,4,0))","v":"-"},{"$f":"IF(H445=\"\",\"-\",VLOOKUP(L445,読み替え表_低炭素物流!$C$15:$F$21,4,0))","v":"-"},"-",null,null,null,null,0,0,0,0,0,"*"]
[null,null,438,null,null,null,null,null,null,null,null,null,null,null,null,null,null,null,null,null,null,null,null,null,null,{"$f":"IF(H446=\"\",\"-\",VLOOKUP(J446,読み替え表_低炭素物流!$C$4:$F$12,4,0))","v":"-"},{"$f":"IF(H446=\"\",\"-\",VLOOKUP(L446,読み替え表_低炭素物流!$C$15:$F$21,4,0))","v":"-"},"-",null,null,null,null,0,0,0,0,0,"*"]
[null,null,439,null,null,null,null,null,null,null,null,null,null,null,null,null,null,null,null,null,null,null,null,null,null,{"$f":"IF(H447=\"\",\"-\",VLOOKUP(J447,読み替え表_低炭素物流!$C$4:$F$12,4,0))","v":"-"},{"$f":"IF(H447=\"\",\"-\",VLOOKUP(L447,読み替え表_低炭素物流!$C$15:$F$21,4,0))","v":"-"},"-",null,null,null,null,0,0,0,0,0,"*"]
[null,null,440,null,null,null,null,null,null,null,null,null,null,null,null,null,null,null,null,null,null,null,null,null,null,{"$f":"IF(H448=\"\",\"-\",VLOOKUP(J448,読み替え表_低炭素物流!$C$4:$F$12,4,0))","v":"-"},{"$f":"IF(H448=\"\",\"-\",VLOOKUP(L448,読み替え表_低炭素物流!$C$15:$F$21,4,0))","v":"-"},"-",null,null,null,null,0,0,0,0,0,"*"]
[null,null,441,null,null,null,null,null,null,null,null,null,null,null,null,null,null,null,null,null,null,null,null,null,null,{"$f":"IF(H449=\"\",\"-\",VLOOKUP(J449,読み替え表_低炭素物流!$C$4:$F$12,4,0))","v":"-"},{"$f":"IF(H449=\"\",\"-\",VLOOKUP(L449,読み替え表_低炭素物流!$C$15:$F$21,4,0))","v":"-"},"-",null,null,null,null,0,0,0,0,0,"*"]
[null,null,442,null,null,null,null,null,null,null,null,null,null,null,null,null,null,null,null,null,null,null,null,null,null,{"$f":"IF(H450=\"\",\"-\",VLOOKUP(J450,読み替え表_低炭素物流!$C$4:$F$12,4,0))","v":"-"},{"$f":"IF(H450=\"\",\"-\",VLOOKUP(L450,読み替え表_低炭素物流!$C$15:$F$21,4,0))","v":"-"},"-",null,null,null,null,0,0,0,0,0,"*"]
[null,null,443,null,null,null,null,null,null,null,null,null,null,null,null,null,null,null,null,null,null,null,null,null,null,{"$f":"IF(H451=\"\",\"-\",VLOOKUP(J451,読み替え表_低炭素物流!$C$4:$F$12,4,0))","v":"-"},{"$f":"IF(H451=\"\",\"-\",VLOOKUP(L451,読み替え表_低炭素物流!$C$15:$F$21,4,0))","v":"-"},"-",null,null,null,null,0,0,0,0,0,"*"]
[null,null,444,null,null,null,null,null,null,null,null,null,null,null,null,null,null,null,null,null,null,null,null,null,null,{"$f":"IF(H452=\"\",\"-\",VLOOKUP(J452,読み替え表_低炭素物流!$C$4:$F$12,4,0))","v":"-"},{"$f":"IF(H452=\"\",\"-\",VLOOKUP(L452,読み替え表_低炭素物流!$C$15:$F$21,4,0))","v":"-"},"-",null,null,null,null,0,0,0,0,0,"*"]
[null,null,445,null,null,null,null,null,null,null,null,null,null,null,null,null,null,null,null,null,null,null,null,null,null,{"$f":"IF(H453=\"\",\"-\",VLOOKUP(J453,読み替え表_低炭素物流!$C$4:$F$12,4,0))","v":"-"},{"$f":"IF(H453=\"\",\"-\",VLOOKUP(L453,読み替え表_低炭素物流!$C$15:$F$21,4,0))","v":"-"},"-",null,null,null,null,0,0,0,0,0,"*"]
[null,null,446,null,null,null,null,null,null,null,null,null,null,null,null,null,null,null,null,null,null,null,null,null,null,{"$f":"IF(H454=\"\",\"-\",VLOOKUP(J454,読み替え表_低炭素物流!$C$4:$F$12,4,0))","v":"-"},{"$f":"IF(H454=\"\",\"-\",VLOOKUP(L454,読み替え表_低炭素物流!$C$15:$F$21,4,0))","v":"-"},"-",null,null,null,null,0,0,0,0,0,"*"]
[null,null,447,null,null,null,null,null,null,null,null,null,null,null,null,null,null,null,null,null,null,null,null,null,null,{"$f":"IF(H455=\"\",\"-\",VLOOKUP(J455,読み替え表_低炭素物流!$C$4:$F$12,4,0))","v":"-"},{"$f":"IF(H455=\"\",\"-\",VLOOKUP(L455,読み替え表_低炭素物流!$C$15:$F$21,4,0))","v":"-"},"-",null,null,null,null,0,0,0,0,0,"*"]
[null,null,448,null,null,null,null,null,null,null,null,null,null,null,null,null,null,null,null,null,null,null,null,null,null,{"$f":"IF(H456=\"\",\"-\",VLOOKUP(J456,読み替え表_低炭素物流!$C$4:$F$12,4,0))","v":"-"},{"$f":"IF(H456=\"\",\"-\",VLOOKUP(L456,読み替え表_低炭素物流!$C$15:$F$21,4,0))","v":"-"},"-",null,null,null,null,0,0,0,0,0,"*"]
[null,null,449,null,null,null,null,null,null,null,null,null,null,null,null,null,null,null,null,null,null,null,null,null,null,{"$f":"IF(H457=\"\",\"-\",VLOOKUP(J457,読み替え表_低炭素物流!$C$4:$F$12,4,0))","v":"-"},{"$f":"IF(H457=\"\",\"-\",VLOOKUP(L457,読み替え表_低炭素物流!$C$15:$F$21,4,0))","v":"-"},"-",null,null,null,null,{"$f":"IF(N457=1,IF(OR(L457=4,L457=5),0,1),0)","v":0},0,0,0,0,"*"]
[null,null,{"$f":"ROW()-8","v":450},null,null,null,null,null,null,null,null,null,null,null,null,null,null,null,null,null,null,null,null,null,null,{"$f":"IF(H458=\"\",\"-\",VLOOKUP(J458,読み替え表_低炭素物流!$C$4:$F$12,4,0))","v":"-"},{"$f":"IF(H458=\"\",\"-\",VLOOKUP(L458,読み替え表_低炭素物流!$C$15:$F$21,4,0))","v":"-"},{"$f":"IF(H458=\"\",\"-\",Z458*AA458)","v":"-"},null,null,null,null,0,{"$f":"IF(J458=8,1,0)","v":0},{"$f":"IF(L458=6,1,0)","v":0},0,{"$f":"AG458","v":0},"*"]
[null,null,451,null,null,null,null,null,null,null,null,null,null,null,null,null,null,null,null,null,null,null,null,null,null,{"$f":"IF(H459=\"\",\"-\",VLOOKUP(J459,読み替え表_低炭素物流!$C$4:$F$12,4,0))","v":"-"},{"$f":"IF(H459=\"\",\"-\",VLOOKUP(L459,読み替え表_低炭素物流!$C$15:$F$21,4,0))","v":"-"},"-",null,null,null,null,0,0,0,0,0,"*"]
[null,null,452,null,null,null,null,null,null,null,null,null,null,null,null,null,null,null,null,null,null,null,null,null,null,{"$f":"IF(H460=\"\",\"-\",VLOOKUP(J460,読み替え表_低炭素物流!$C$4:$F$12,4,0))","v":"-"},{"$f":"IF(H460=\"\",\"-\",VLOOKUP(L460,読み替え表_低炭素物流!$C$15:$F$21,4,0))","v":"-"},"-",null,null,null,null,0,0,0,0,0,"*"]
[null,null,453,null,null,null,null,null,null,null,null,null,null,null,null,null,null,null,null,null,null,null,null,null,null,{"$f":"IF(H461=\"\",\"-\",VLOOKUP(J461,読み替え表_低炭素物流!$C$4:$F$12,4,0))","v":"-"},{"$f":"IF(H461=\"\",\"-\",VLOOKUP(L461,読み替え表_低炭素物流!$C$15:$F$21,4,0))","v":"-"},"-",null,null,null,null,0,0,0,0,0,"*"]
[null,null,454,null,null,null,null,null,null,null,null,null,null,null,null,null,null,null,null,null,null,null,null,null,null,{"$f":"IF(H462=\"\",\"-\",VLOOKUP(J462,読み替え表_低炭素物流!$C$4:$F$12,4,0))","v":"-"},{"$f":"IF(H462=\"\",\"-\",VLOOKUP(L462,読み替え表_低炭素物流!$C$15:$F$21,4,0))","v":"-"},"-",null,null,null,null,0,0,0,0,0,"*"]
[null,null,455,null,null,null,null,null,null,null,null,null,null,null,null,null,null,null,null,null,null,null,null,null,null,{"$f":"IF(H463=\"\",\"-\",VLOOKUP(J463,読み替え表_低炭素物流!$C$4:$F$12,4,0))","v":"-"},{"$f":"IF(H463=\"\",\"-\",VLOOKUP(L463,読み替え表_低炭素物流!$C$15:$F$21,4,0))","v":"-"},"-",null,null,null,null,0,0,0,0,0,"*"]
[null,null,456,null,null,null,null,null,null,null,null,null,null,null,null,null,null,null,null,null,null,null,null,null,null,{"$f":"IF(H464=\"\",\"-\",VLOOKUP(J464,読み替え表_低炭素物流!$C$4:$F$12,4,0))","v":"-"},{"$f":"IF(H464=\"\",\"-\",VLOOKUP(L464,読み替え表_低炭素物流!$C$15:$F$21,4,0))","v":"-"},"-",null,null,null,null,0,0,0,0,0,"*"]
[null,null,457,null,null,null,null,null,null,null,null,null,null,null,null,null,null,null,null,null,null,null,null,null,null,{"$f":"IF(H465=\"\",\"-\",VLOOKUP(J465,読み替え表_低炭素物流!$C$4:$F$12,4,0))","v":"-"},{"$f":"IF(H465=\"\",\"-\",VLOOKUP(L465,読み替え表_低炭素物流!$C$15:$F$21,4,0))","v":"-"},"-",null,null,null,null,0,0,0,0,0,"*"]
[null,null,458,null,null,null,null,null,null,null,null,null,null,null,null,null,null,null,null,null,null,null,null,null,null,{"$f":"IF(H466=\"\",\"-\",VLOOKUP(J466,読み替え表_低炭素物流!$C$4:$F$12,4,0))","v":"-"},{"$f":"IF(H466=\"\",\"-\",VLOOKUP(L466,読み替え表_低炭素物流!$C$15:$F$21,4,0))","v":"-"},"-",null,null,null,null,0,0,0,0,0,"*"]
[null,null,459,null,null,null,null,null,null,null,null,null,null,null,null,null,null,null,null,null,null,null,null,null,null,{"$f":"IF(H467=\"\",\"-\",VLOOKUP(J467,読み替え表_低炭素物流!$C$4:$F$12,4,0))","v":"-"},{"$f":"IF(H467=\"\",\"-\",VLOOKUP(L467,読み替え表_低炭素物流!$C$15:$F$21,4,0))","v":"-"},"-",null,null,null,null,0,0,0,0,0,"*"]
[null,null,460,null,null,null,null,null,null,null,null,null,null,null,null,null,null,null,null,null,null,null,null,null,null,{"$f":"IF(H468=\"\",\"-\",VLOOKUP(J468,読み替え表_低炭素物流!$C$4:$F$12,4,0))","v":"-"},{"$f":"IF(H468=\"\",\"-\",VLOOKUP(L468,読み替え表_低炭素物流!$C$15:$F$21,4,0))","v":"-"},"-",null,null,null,null,0,0,0,0,0,"*"]
[null,null,461,null,null,null,null,null,null,null,null,null,null,null,null,null,null,null,null,null,null,null,null,null,null,{"$f":"IF(H469=\"\",\"-\",VLOOKUP(J469,読み替え表_低炭素物流!$C$4:$F$12,4,0))","v":"-"},{"$f":"IF(H469=\"\",\"-\",VLOOKUP(L469,読み替え表_低炭素物流!$C$15:$F$21,4,0))","v":"-"},"-",null,null,null,null,0,0,0,0,0,"*"]
[null,null,462,null,null,null,null,null,null,null,null,null,null,null,null,null,null,null,null,null,null,null,null,null,null,{"$f":"IF(H470=\"\",\"-\",VLOOKUP(J470,読み替え表_低炭素物流!$C$4:$F$12,4,0))","v":"-"},{"$f":"IF(H470=\"\",\"-\",VLOOKUP(L470,読み替え表_低炭素物流!$C$15:$F$21,4,0))","v":"-"},"-",null,null,null,null,0,0,0,0,0,"*"]
[null,null,463,null,null,null,null,null,null,null,null,null,null,null,null,null,null,null,null,null,null,null,null,null,null,{"$f":"IF(H471=\"\",\"-\",VLOOKUP(J471,読み替え表_低炭素物流!$C$4:$F$12,4,0))","v":"-"},{"$f":"IF(H471=\"\",\"-\",VLOOKUP(L471,読み替え表_低炭素物流!$C$15:$F$21,4,0))","v":"-"},"-",null,null,null,null,0,0,0,0,0,"*"]
[null,null,464,null,null,null,null,null,null,null,null,null,null,null,null,null,null,null,null,null,null,null,null,null,null,{"$f":"IF(H472=\"\",\"-\",VLOOKUP(J472,読み替え表_低炭素物流!$C$4:$F$12,4,0))","v":"-"},{"$f":"IF(H472=\"\",\"-\",VLOOKUP(L472,読み替え表_低炭素物流!$C$15:$F$21,4,0))","v":"-"},"-",null,null,null,null,0,0,0,{"$f":"IF(OR(N472=7,N472=99),1,0)","v":0},0,"*"]
[null,null,465,null,null,null,null,null,null,null,null,null,null,null,null,null,null,null,null,null,null,null,null,null,null,{"$f":"IF(H473=\"\",\"-\",VLOOKUP(J473,読み替え表_低炭素物流!$C$4:$F$12,4,0))","v":"-"},{"$f":"IF(H473=\"\",\"-\",VLOOKUP(L473,読み替え表_低炭素物流!$C$15:$F$21,4,0))","v":"-"},"-",null,null,null,null,0,0,0,0,0,"*"]
[null,null,466,null,null,null,null,null,null,null,null,null,null,null,null,null,null,null,null,null,null,null,null,null,null,{"$f":"IF(H474=\"\",\"-\",VLOOKUP(J474,読み替え表_低炭素物流!$C$4:$F$12,4,0))","v":"-"},{"$f":"IF(H474=\"\",\"-\",VLOOKUP(L474,読み替え表_低炭素物流!$C$15:$F$21,4,0))","v":"-"},"-",null,null,null,null,0,0,0,0,0,"*"]
[null,null,467,null,null,null,null,null,null,null,null,null,null,null,null,null,null,null,null,null,null,null,null,null,null,{"$f":"IF(H475=\"\",\"-\",VLOOKUP(J475,読み替え表_低炭素物流!$C$4:$F$12,4,0))","v":"-"},{"$f":"IF(H475=\"\",\"-\",VLOOKUP(L475,読み替え表_低炭素物流!$C$15:$F$21,4,0))","v":"-"},"-",null,null,null,null,0,0,0,0,0,"*"]
[null,null,468,null,null,null,null,null,null,null,null,null,null,null,null,null,null,null,null,null,null,null,null,null,null,{"$f":"IF(H476=\"\",\"-\",VLOOKUP(J476,読み替え表_低炭素物流!$C$4:$F$12,4,0))","v":"-"},{"$f":"IF(H476=\"\",\"-\",VLOOKUP(L476,読み替え表_低炭素物流!$C$15:$F$21,4,0))","v":"-"},"-",null,null,null,null,0,0,0,0,0,"*"]
[null,null,469,null,null,null,null,null,null,null,null,null,null,null,null,null,null,null,null,null,null,null,null,null,null,{"$f":"IF(H477=\"\",\"-\",VLOOKUP(J477,読み替え表_低炭素物流!$C$4:$F$12,4,0))","v":"-"},{"$f":"IF(H477=\"\",\"-\",VLOOKUP(L477,読み替え表_低炭素物流!$C$15:$F$21,4,0))","v":"-"},"-",null,null,null,null,0,0,0,0,0,"*"]
[null,null,470,null,null,null,null,null,null,null,null,null,null,null,null,null,null,null,null,null,null,null,null,null,null,{"$f":"IF(H478=\"\",\"-\",VLOOKUP(J478,読み替え表_低炭素物流!$C$4:$F$12,4,0))","v":"-"},{"$f":"IF(H478=\"\",\"-\",VLOOKUP(L478,読み替え表_低炭素物流!$C$15:$F$21,4,0))","v":"-"},"-",null,null,null,null,0,0,0,0,0,"*"]
[null,null,471,null,null,null,null,null,null,null,null,null,null,null,null,null,null,null,null,null,null,null,null,null,null,{"$f":"IF(H479=\"\",\"-\",VLOOKUP(J479,読み替え表_低炭素物流!$C$4:$F$12,4,0))","v":"-"},{"$f":"IF(H479=\"\",\"-\",VLOOKUP(L479,読み替え表_低炭素物流!$C$15:$F$21,4,0))","v":"-"},"-",null,null,null,null,0,0,0,0,0,"*"]
[null,null,472,null,null,null,null,null,null,null,null,null,null,null,null,null,null,null,null,null,null,null,null,null,null,{"$f":"IF(H480=\"\",\"-\",VLOOKUP(J480,読み替え表_低炭素物流!$C$4:$F$12,4,0))","v":"-"},{"$f":"IF(H480=\"\",\"-\",VLOOKUP(L480,読み替え表_低炭素物流!$C$15:$F$21,4,0))","v":"-"},"-",null,null,null,null,0,0,0,0,0,"*"]
[null,null,473,null,null,null,null,null,null,null,null,null,null,null,null,null,null,null,null,null,null,null,null,null,null,{"$f":"IF(H481=\"\",\"-\",VLOOKUP(J481,読み替え表_低炭素物流!$C$4:$F$12,4,0))","v":"-"},{"$f":"IF(H481=\"\",\"-\",VLOOKUP(L481,読み替え表_低炭素物流!$C$15:$F$21,4,0))","v":"-"},"-",null,null,null,null,0,0,0,0,0,"*"]
[null,null,474,null,null,null,null,null,null,null,null,null,null,null,null,null,null,null,null,null,null,null,null,null,null,{"$f":"IF(H482=\"\",\"-\",VLOOKUP(J482,読み替え表_低炭素物流!$C$4:$F$12,4,0))","v":"-"},{"$f":"IF(H482=\"\",\"-\",VLOOKUP(L482,読み替え表_低炭素物流!$C$15:$F$21,4,0))","v":"-"},"-",null,null,null,null,0,0,0,0,0,"*"]
[null,null,475,null,null,null,null,null,null,null,null,null,null,null,null,null,null,null,null,null,null,null,null,null,null,{"$f":"IF(H483=\"\",\"-\",VLOOKUP(J483,読み替え表_低炭素物流!$C$4:$F$12,4,0))","v":"-"},{"$f":"IF(H483=\"\",\"-\",VLOOKUP(L483,読み替え表_低炭素物流!$C$15:$F$21,4,0))","v":"-"},"-",null,null,null,null,0,0,0,0,0,"*"]
[null,null,476,null,null,null,null,null,null,null,null,null,null,null,null,null,null,null,null,null,null,null,null,null,null,{"$f":"IF(H484=\"\",\"-\",VLOOKUP(J484,読み替え表_低炭素物流!$C$4:$F$12,4,0))","v":"-"},{"$f":"IF(H484=\"\",\"-\",VLOOKUP(L484,読み替え表_低炭素物流!$C$15:$F$21,4,0))","v":"-"},"-",null,null,null,null,0,0,0,0,0,"*"]
[null,null,477,null,null,null,null,null,null,null,null,null,null,null,null,null,null,null,null,null,null,null,null,null,null,{"$f":"IF(H485=\"\",\"-\",VLOOKUP(J485,読み替え表_低炭素物流!$C$4:$F$12,4,0))","v":"-"},{"$f":"IF(H485=\"\",\"-\",VLOOKUP(L485,読み替え表_低炭素物流!$C$15:$F$21,4,0))","v":"-"},"-",null,null,null,null,0,0,0,0,0,"*"]
[null,null,478,null,null,null,null,null,null,null,null,null,null,null,null,null,null,null,null,null,null,null,null,null,null,{"$f":"IF(H486=\"\",\"-\",VLOOKUP(J486,読み替え表_低炭素物流!$C$4:$F$12,4,0))","v":"-"},{"$f":"IF(H486=\"\",\"-\",VLOOKUP(L486,読み替え表_低炭素物流!$C$15:$F$21,4,0))","v":"-"},"-",null,null,null,null,0,0,0,0,0,"*"]
[null,null,479,null,null,null,null,null,null,null,null,null,null,null,null,null,null,null,null,null,null,null,null,null,null,{"$f":"IF(H487=\"\",\"-\",VLOOKUP(J487,読み替え表_低炭素物流!$C$4:$F$12,4,0))","v":"-"},{"$f":"IF(H487=\"\",\"-\",VLOOKUP(L487,読み替え表_低炭素物流!$C$15:$F$21,4,0))","v":"-"},"-",null,null,null,null,0,0,0,0,0,"*"]
[null,null,480,null,null,null,null,null,null,null,null,null,null,null,null,null,null,null,null,null,null,null,null,null,null,{"$f":"IF(H488=\"\",\"-\",VLOOKUP(J488,読み替え表_低炭素物流!$C$4:$F$12,4,0))","v":"-"},{"$f":"IF(H488=\"\",\"-\",VLOOKUP(L488,読み替え表_低炭素物流!$C$15:$F$21,4,0))","v":"-"},"-",null,null,null,null,0,0,0,0,0,"*"]
[null,null,481,null,null,null,null,null,null,null,null,null,null,null,null,null,null,null,null,null,null,null,null,null,null,{"$f":"IF(H489=\"\",\"-\",VLOOKUP(J489,読み替え表_低炭素物流!$C$4:$F$12,4,0))","v":"-"},{"$f":"IF(H489=\"\",\"-\",VLOOKUP(L489,読み替え表_低炭素物流!$C$15:$F$21,4,0))","v":"-"},"-",null,null,null,null,0,0,0,0,0,"*"]
[null,null,482,null,null,null,null,null,null,null,null,null,null,null,null,null,null,null,null,null,null,null,null,null,null,{"$f":"IF(H490=\"\",\"-\",VLOOKUP(J490,読み替え表_低炭素物流!$C$4:$F$12,4,0))","v":"-"},{"$f":"IF(H490=\"\",\"-\",VLOOKUP(L490,読み替え表_低炭素物流!$C$15:$F$21,4,0))","v":"-"},"-",null,null,null,null,0,0,0,0,0,"*"]
[null,null,483,null,null,null,null,null,null,null,null,null,null,null,null,null,null,null,null,null,null,null,null,null,null,{"$f":"IF(H491=\"\",\"-\",VLOOKUP(J491,読み替え表_低炭素物流!$C$4:$F$12,4,0))","v":"-"},{"$f":"IF(H491=\"\",\"-\",VLOOKUP(L491,読み替え表_低炭素物流!$C$15:$F$21,4,0))","v":"-"},"-",null,null,null,null,0,0,0,0,0,"*"]
[null,null,484,null,null,null,null,null,null,null,null,null,null,null,null,null,null,null,null,null,null,null,null,null,null,{"$f":"IF(H492=\"\",\"-\",VLOOKUP(J492,読み替え表_低炭素物流!$C$4:$F$12,4,0))","v":"-"},{"$f":"IF(H492=\"\",\"-\",VLOOKUP(L492,読み替え表_低炭素物流!$C$15:$F$21,4,0))","v":"-"},"-",null,null,null,null,0,0,0,0,0,"*"]
[null,null,485,null,null,null,null,null,null,null,null,null,null,null,null,null,null,null,null,null,null,null,null,null,null,{"$f":"IF(H493=\"\",\"-\",VLOOKUP(J493,読み替え表_低炭素物流!$C$4:$F$12,4,0))","v":"-"},{"$f":"IF(H493=\"\",\"-\",VLOOKUP(L493,読み替え表_低炭素物流!$C$15:$F$21,4,0))","v":"-"},"-",null,null,null,null,0,0,0,0,0,"*"]
[null,null,486,null,null,null,null,null,null,null,null,null,null,null,null,null,null,null,null,null,null,null,null,null,null,{"$f":"IF(H494=\"\",\"-\",VLOOKUP(J494,読み替え表_低炭素物流!$C$4:$F$12,4,0))","v":"-"},{"$f":"IF(H494=\"\",\"-\",VLOOKUP(L494,読み替え表_低炭素物流!$C$15:$F$21,4,0))","v":"-"},"-",null,null,null,null,0,0,0,0,0,"*"]
[null,null,487,null,null,null,null,null,null,null,null,null,null,null,null,null,null,null,null,null,null,null,null,null,null,{"$f":"IF(H495=\"\",\"-\",VLOOKUP(J495,読み替え表_低炭素物流!$C$4:$F$12,4,0))","v":"-"},{"$f":"IF(H495=\"\",\"-\",VLOOKUP(L495,読み替え表_低炭素物流!$C$15:$F$21,4,0))","v":"-"},"-",null,null,null,null,0,0,0,0,0,"*"]
[null,null,488,null,null,null,null,null,null,null,null,null,null,null,null,null,null,null,null,null,null,null,null,null,null,{"$f":"IF(H496=\"\",\"-\",VLOOKUP(J496,読み替え表_低炭素物流!$C$4:$F$12,4,0))","v":"-"},{"$f":"IF(H496=\"\",\"-\",VLOOKUP(L496,読み替え表_低炭素物流!$C$15:$F$21,4,0))","v":"-"},"-",null,null,null,null,0,0,0,0,0,"*"]
[null,null,489,null,null,null,null,null,null,null,null,null,null,null,null,null,null,null,null,null,null,null,null,null,null,{"$f":"IF(H497=\"\",\"-\",VLOOKUP(J497,読み替え表_低炭素物流!$C$4:$F$12,4,0))","v":"-"},{"$f":"IF(H497=\"\",\"-\",VLOOKUP(L497,読み替え表_低炭素物流!$C$15:$F$21,4,0))","v":"-"},"-",null,null,null,null,0,0,0,0,0,"*"]
[null,null,490,null,null,null,null,null,null,null,null,null,null,null,null,null,null,null,null,null,null,null,null,null,null,{"$f":"IF(H498=\"\",\"-\",VLOOKUP(J498,読み替え表_低炭素物流!$C$4:$F$12,4,0))","v":"-"},{"$f":"IF(H498=\"\",\"-\",VLOOKUP(L498,読み替え表_低炭素物流!$C$15:$F$21,4,0))","v":"-"},"-",null,null,null,null,0,0,0,0,0,"*"]
[null,null,491,null,null,null,null,null,null,null,null,null,null,null,null,null,null,null,null,null,null,null,null,null,null,{"$f":"IF(H499=\"\",\"-\",VLOOKUP(J499,読み替え表_低炭素物流!$C$4:$F$12,4,0))","v":"-"},{"$f":"IF(H499=\"\",\"-\",VLOOKUP(L499,読み替え表_低炭素物流!$C$15:$F$21,4,0))","v":"-"},"-",null,null,null,null,0,0,0,0,0,"*"]
[null,null,492,null,null,null,null,null,null,null,null,null,null,null,null,null,null,null,null,null,null,null,null,null,null,{"$f":"IF(H500=\"\",\"-\",VLOOKUP(J500,読み替え表_低炭素物流!$C$4:$F$12,4,0))","v":"-"},{"$f":"IF(H500=\"\",\"-\",VLOOKUP(L500,読み替え表_低炭素物流!$C$15:$F$21,4,0))","v":"-"},"-",null,null,null,null,0,0,0,0,0,"*"]
[null,null,493,null,null,null,null,null,null,null,null,null,null,null,null,null,null,null,null,null,null,null,null,null,null,{"$f":"IF(H501=\"\",\"-\",VLOOKUP(J501,読み替え表_低炭素物流!$C$4:$F$12,4,0))","v":"-"},{"$f":"IF(H501=\"\",\"-\",VLOOKUP(L501,読み替え表_低炭素物流!$C$15:$F$21,4,0))","v":"-"},"-",null,null,null,null,0,0,0,0,0,"*"]
[null,null,494,null,null,null,null,null,null,null,null,null,null,null,null,null,null,null,null,null,null,null,null,null,null,{"$f":"IF(H502=\"\",\"-\",VLOOKUP(J502,読み替え表_低炭素物流!$C$4:$F$12,4,0))","v":"-"},{"$f":"IF(H502=\"\",\"-\",VLOOKUP(L502,読み替え表_低炭素物流!$C$15:$F$21,4,0))","v":"-"},"-",null,null,null,null,0,0,0,0,0,"*"]
[null,null,495,null,null,null,null,null,null,null,null,null,null,null,null,null,null,null,null,null,null,null,null,null,null,{"$f":"IF(H503=\"\",\"-\",VLOOKUP(J503,読み替え表_低炭素物流!$C$4:$F$12,4,0))","v":"-"},{"$f":"IF(H503=\"\",\"-\",VLOOKUP(L503,読み替え表_低炭素物流!$C$15:$F$21,4,0))","v":"-"},"-",null,null,null,null,0,0,0,0,0,"*"]
[null,null,496,null,null,null,null,null,null,null,null,null,null,null,null,null,null,null,null,null,null,null,null,null,null,{"$f":"IF(H504=\"\",\"-\",VLOOKUP(J504,読み替え表_低炭素物流!$C$4:$F$12,4,0))","v":"-"},{"$f":"IF(H504=\"\",\"-\",VLOOKUP(L504,読み替え表_低炭素物流!$C$15:$F$21,4,0))","v":"-"},"-",null,null,null,null,0,0,0,0,0,"*"]
[null,null,497,null,null,null,null,null,null,null,null,null,null,null,null,null,null,null,null,null,null,null,null,null,null,{"$f":"IF(H505=\"\",\"-\",VLOOKUP(J505,読み替え表_低炭素物流!$C$4:$F$12,4,0))","v":"-"},{"$f":"IF(H505=\"\",\"-\",VLOOKUP(L505,読み替え表_低炭素物流!$C$15:$F$21,4,0))","v":"-"},"-",null,null,null,null,0,0,0,0,0,"*"]
[null,null,498,null,null,null,null,null,null,null,null,null,null,null,null,null,null,null,null,null,null,null,null,null,null,{"$f":"IF(H506=\"\",\"-\",VLOOKUP(J506,読み替え表_低炭素物流!$C$4:$F$12,4,0))","v":"-"},{"$f":"IF(H506=\"\",\"-\",VLOOKUP(L506,読み替え表_低炭素物流!$C$15:$F$21,4,0))","v":"-"},"-",null,null,null,null,0,0,0,0,0,"*"]
[null,null,499,null,null,null,null,null,null,null,null,null,null,null,null,null,null,null,null,null,null,null,null,null,null,{"$f":"IF(H507=\"\",\"-\",VLOOKUP(J507,読み替え表_低炭素物流!$C$4:$F$12,4,0))","v":"-"},{"$f":"IF(H507=\"\",\"-\",VLOOKUP(L507,読み替え表_低炭素物流!$C$15:$F$21,4,0))","v":"-"},"-",null,null,null,null,0,0,0,0,0,"*"]
[null,null,500,null,null,null,null,null,null,null,null,null,null,null,null,null,null,null,null,null,null,null,null,null,null,{"$f":"IF(H508=\"\",\"-\",VLOOKUP(J508,読み替え表_低炭素物流!$C$4:$F$12,4,0))","v":"-"},{"$f":"IF(H508=\"\",\"-\",VLOOKUP(L508,読み替え表_低炭素物流!$C$15:$F$21,4,0))","v":"-"},"-",null,null,null,null,0,0,0,0,0,"*"]
[null,null,501,null,null,null,null,null,null,null,null,null,null,null,null,null,null,null,null,null,null,null,null,null,null,{"$f":"IF(H509=\"\",\"-\",VLOOKUP(J509,読み替え表_低炭素物流!$C$4:$F$12,4,0))","v":"-"},{"$f":"IF(H509=\"\",\"-\",VLOOKUP(L509,読み替え表_低炭素物流!$C$15:$F$21,4,0))","v":"-"},"-",null,null,null,null,0,0,0,0,0,"*"]
[null,null,502,null,null,null,null,null,null,null,null,null,null,null,null,null,null,null,null,null,null,null,null,null,null,{"$f":"IF(H510=\"\",\"-\",VLOOKUP(J510,読み替え表_低炭素物流!$C$4:$F$12,4,0))","v":"-"},{"$f":"IF(H510=\"\",\"-\",VLOOKUP(L510,読み替え表_低炭素物流!$C$15:$F$21,4,0))","v":"-"},"-",null,null,null,null,0,0,0,0,0,"*"]
[null,null,503,null,null,null,null,null,null,null,null,null,null,null,null,null,null,null,null,null,null,null,null,null,null,{"$f":"IF(H511=\"\",\"-\",VLOOKUP(J511,読み替え表_低炭素物流!$C$4:$F$12,4,0))","v":"-"},{"$f":"IF(H511=\"\",\"-\",VLOOKUP(L511,読み替え表_低炭素物流!$C$15:$F$21,4,0))","v":"-"},"-",null,null,null,null,0,0,0,0,0,"*"]
[null,null,504,null,null,null,null,null,null,null,null,null,null,null,null,null,null,null,null,null,null,null,null,null,null,{"$f":"IF(H512=\"\",\"-\",VLOOKUP(J512,読み替え表_低炭素物流!$C$4:$F$12,4,0))","v":"-"},{"$f":"IF(H512=\"\",\"-\",VLOOKUP(L512,読み替え表_低炭素物流!$C$15:$F$21,4,0))","v":"-"},"-",null,null,null,null,0,0,0,0,0,"*"]
[null,null,505,null,null,null,null,null,null,null,null,null,null,null,null,null,null,null,null,null,null,null,null,null,null,{"$f":"IF(H513=\"\",\"-\",VLOOKUP(J513,読み替え表_低炭素物流!$C$4:$F$12,4,0))","v":"-"},{"$f":"IF(H513=\"\",\"-\",VLOOKUP(L513,読み替え表_低炭素物流!$C$15:$F$21,4,0))","v":"-"},"-",null,null,null,null,0,0,0,0,0,"*"]
[null,null,506,null,null,null,null,null,null,null,null,null,null,null,null,null,null,null,null,null,null,null,null,null,null,{"$f":"IF(H514=\"\",\"-\",VLOOKUP(J514,読み替え表_低炭素物流!$C$4:$F$12,4,0))","v":"-"},{"$f":"IF(H514=\"\",\"-\",VLOOKUP(L514,読み替え表_低炭素物流!$C$15:$F$21,4,0))","v":"-"},"-",null,null,null,null,0,0,0,0,0,"*"]
[null,null,507,null,null,null,null,null,null,null,null,null,null,null,null,null,null,null,null,null,null,null,null,null,null,{"$f":"IF(H515=\"\",\"-\",VLOOKUP(J515,読み替え表_低炭素物流!$C$4:$F$12,4,0))","v":"-"},{"$f":"IF(H515=\"\",\"-\",VLOOKUP(L515,読み替え表_低炭素物流!$C$15:$F$21,4,0))","v":"-"},"-",null,null,null,null,0,0,0,0,0,"*"]
[null,null,508,null,null,null,null,null,null,null,null,null,null,null,null,null,null,null,null,null,null,null,null,null,null,{"$f":"IF(H516=\"\",\"-\",VLOOKUP(J516,読み替え表_低炭素物流!$C$4:$F$12,4,0))","v":"-"},{"$f":"IF(H516=\"\",\"-\",VLOOKUP(L516,読み替え表_低炭素物流!$C$15:$F$21,4,0))","v":"-"},"-",null,null,null,null,0,0,0,0,0,"*"]
[null,null,509,null,null,null,null,null,null,null,null,null,null,null,null,null,null,null,null,null,null,null,null,null,null,{"$f":"IF(H517=\"\",\"-\",VLOOKUP(J517,読み替え表_低炭素物流!$C$4:$F$12,4,0))","v":"-"},{"$f":"IF(H517=\"\",\"-\",VLOOKUP(L517,読み替え表_低炭素物流!$C$15:$F$21,4,0))","v":"-"},"-",null,null,null,null,0,0,0,0,0,"*"]
[null,null,510,null,null,null,null,null,null,null,null,null,null,null,null,null,null,null,null,null,null,null,null,null,null,{"$f":"IF(H518=\"\",\"-\",VLOOKUP(J518,読み替え表_低炭素物流!$C$4:$F$12,4,0))","v":"-"},{"$f":"IF(H518=\"\",\"-\",VLOOKUP(L518,読み替え表_低炭素物流!$C$15:$F$21,4,0))","v":"-"},"-",null,null,null,null,0,0,0,0,0,"*"]
[null,null,511,null,null,null,null,null,null,null,null,null,null,null,null,null,null,null,null,null,null,null,null,null,null,{"$f":"IF(H519=\"\",\"-\",VLOOKUP(J519,読み替え表_低炭素物流!$C$4:$F$12,4,0))","v":"-"},{"$f":"IF(H519=\"\",\"-\",VLOOKUP(L519,読み替え表_低炭素物流!$C$15:$F$21,4,0))","v":"-"},"-",null,null,null,null,0,0,0,0,0,"*"]
[null,null,512,null,null,null,null,null,null,null,null,null,null,null,null,null,null,null,null,null,null,null,null,null,null,{"$f":"IF(H520=\"\",\"-\",VLOOKUP(J520,読み替え表_低炭素物流!$C$4:$F$12,4,0))","v":"-"},{"$f":"IF(H520=\"\",\"-\",VLOOKUP(L520,読み替え表_低炭素物流!$C$15:$F$21,4,0))","v":"-"},"-",null,null,null,null,0,0,0,0,0,"*"]
[null,null,513,null,null,null,null,null,null,null,null,null,null,null,null,null,null,null,null,null,null,null,null,null,null,{"$f":"IF(H521=\"\",\"-\",VLOOKUP(J521,読み替え表_低炭素物流!$C$4:$F$12,4,0))","v":"-"},{"$f":"IF(H521=\"\",\"-\",VLOOKUP(L521,読み替え表_低炭素物流!$C$15:$F$21,4,0))","v":"-"},"-",null,null,null,null,{"$f":"IF(N521=1,IF(OR(L521=4,L521=5),0,1),0)","v":0},0,0,0,0,"*"]
[null,null,{"$f":"ROW()-8","v":514},null,null,null,null,null,null,null,null,null,null,null,null,null,null,null,null,null,null,null,null,null,null,{"$f":"IF(H522=\"\",\"-\",VLOOKUP(J522,読み替え表_低炭素物流!$C$4:$F$12,4,0))","v":"-"},{"$f":"IF(H522=\"\",\"-\",VLOOKUP(L522,読み替え表_低炭素物流!$C$15:$F$21,4,0))","v":"-"},{"$f":"IF(H522=\"\",\"-\",Z522*AA522)","v":"-"},null,null,null,null,0,{"$f":"IF(J522=8,1,0)","v":0},{"$f":"IF(L522=6,1,0)","v":0},0,{"$f":"AG522","v":0},"*"]
[null,null,515,null,null,null,null,null,null,null,null,null,null,null,null,null,null,null,null,null,null,null,null,null,null,{"$f":"IF(H523=\"\",\"-\",VLOOKUP(J523,読み替え表_低炭素物流!$C$4:$F$12,4,0))","v":"-"},{"$f":"IF(H523=\"\",\"-\",VLOOKUP(L523,読み替え表_低炭素物流!$C$15:$F$21,4,0))","v":"-"},"-",null,null,null,null,0,0,0,0,0,"*"]
[null,null,516,null,null,null,null,null,null,null,null,null,null,null,null,null,null,null,null,null,null,null,null,null,null,{"$f":"IF(H524=\"\",\"-\",VLOOKUP(J524,読み替え表_低炭素物流!$C$4:$F$12,4,0))","v":"-"},{"$f":"IF(H524=\"\",\"-\",VLOOKUP(L524,読み替え表_低炭素物流!$C$15:$F$21,4,0))","v":"-"},"-",null,null,null,null,0,0,0,0,0,"*"]
[null,null,517,null,null,null,null,null,null,null,null,null,null,null,null,null,null,null,null,null,null,null,null,null,null,{"$f":"IF(H525=\"\",\"-\",VLOOKUP(J525,読み替え表_低炭素物流!$C$4:$F$12,4,0))","v":"-"},{"$f":"IF(H525=\"\",\"-\",VLOOKUP(L525,読み替え表_低炭素物流!$C$15:$F$21,4,0))","v":"-"},"-",null,null,null,null,0,0,0,0,0,"*"]
[null,null,518,null,null,null,null,null,null,null,null,null,null,null,null,null,null,null,null,null,null,null,null,null,null,{"$f":"IF(H526=\"\",\"-\",VLOOKUP(J526,読み替え表_低炭素物流!$C$4:$F$12,4,0))","v":"-"},{"$f":"IF(H526=\"\",\"-\",VLOOKUP(L526,読み替え表_低炭素物流!$C$15:$F$21,4,0))","v":"-"},"-",null,null,null,null,0,0,0,0,0,"*"]
[null,null,519,null,null,null,null,null,null,null,null,null,null,null,null,null,null,null,null,null,null,null,null,null,null,{"$f":"IF(H527=\"\",\"-\",VLOOKUP(J527,読み替え表_低炭素物流!$C$4:$F$12,4,0))","v":"-"},{"$f":"IF(H527=\"\",\"-\",VLOOKUP(L527,読み替え表_低炭素物流!$C$15:$F$21,4,0))","v":"-"},"-",null,null,null,null,0,0,0,0,0,"*"]
[null,null,520,null,null,null,null,null,null,null,null,null,null,null,null,null,null,null,null,null,null,null,null,null,null,{"$f":"IF(H528=\"\",\"-\",VLOOKUP(J528,読み替え表_低炭素物流!$C$4:$F$12,4,0))","v":"-"},{"$f":"IF(H528=\"\",\"-\",VLOOKUP(L528,読み替え表_低炭素物流!$C$15:$F$21,4,0))","v":"-"},"-",null,null,null,null,0,0,0,0,0,"*"]
[null,null,521,null,null,null,null,null,null,null,null,null,null,null,null,null,null,null,null,null,null,null,null,null,null,{"$f":"IF(H529=\"\",\"-\",VLOOKUP(J529,読み替え表_低炭素物流!$C$4:$F$12,4,0))","v":"-"},{"$f":"IF(H529=\"\",\"-\",VLOOKUP(L529,読み替え表_低炭素物流!$C$15:$F$21,4,0))","v":"-"},"-",null,null,null,null,0,0,0,0,0,"*"]
[null,null,522,null,null,null,null,null,null,null,null,null,null,null,null,null,null,null,null,null,null,null,null,null,null,{"$f":"IF(H530=\"\",\"-\",VLOOKUP(J530,読み替え表_低炭素物流!$C$4:$F$12,4,0))","v":"-"},{"$f":"IF(H530=\"\",\"-\",VLOOKUP(L530,読み替え表_低炭素物流!$C$15:$F$21,4,0))","v":"-"},"-",null,null,null,null,0,0,0,0,0,"*"]
[null,null,523,null,null,null,null,null,null,null,null,null,null,null,null,null,null,null,null,null,null,null,null,null,null,{"$f":"IF(H531=\"\",\"-\",VLOOKUP(J531,読み替え表_低炭素物流!$C$4:$F$12,4,0))","v":"-"},{"$f":"IF(H531=\"\",\"-\",VLOOKUP(L531,読み替え表_低炭素物流!$C$15:$F$21,4,0))","v":"-"},"-",null,null,null,null,0,0,0,0,0,"*"]
[null,null,524,null,null,null,null,null,null,null,null,null,null,null,null,null,null,null,null,null,null,null,null,null,null,{"$f":"IF(H532=\"\",\"-\",VLOOKUP(J532,読み替え表_低炭素物流!$C$4:$F$12,4,0))","v":"-"},{"$f":"IF(H532=\"\",\"-\",VLOOKUP(L532,読み替え表_低炭素物流!$C$15:$F$21,4,0))","v":"-"},"-",null,null,null,null,0,0,0,0,0,"*"]
[null,null,525,null,null,null,null,null,null,null,null,null,null,null,null,null,null,null,null,null,null,null,null,null,null,{"$f":"IF(H533=\"\",\"-\",VLOOKUP(J533,読み替え表_低炭素物流!$C$4:$F$12,4,0))","v":"-"},{"$f":"IF(H533=\"\",\"-\",VLOOKUP(L533,読み替え表_低炭素物流!$C$15:$F$21,4,0))","v":"-"},"-",null,null,null,null,0,0,0,0,0,"*"]
[null,null,526,null,null,null,null,null,null,null,null,null,null,null,null,null,null,null,null,null,null,null,null,null,null,{"$f":"IF(H534=\"\",\"-\",VLOOKUP(J534,読み替え表_低炭素物流!$C$4:$F$12,4,0))","v":"-"},{"$f":"IF(H534=\"\",\"-\",VLOOKUP(L534,読み替え表_低炭素物流!$C$15:$F$21,4,0))","v":"-"},"-",null,null,null,null,0,0,0,0,0,"*"]
[null,null,527,null,null,null,null,null,null,null,null,null,null,null,null,null,null,null,null,null,null,null,null,null,null,{"$f":"IF(H535=\"\",\"-\",VLOOKUP(J535,読み替え表_低炭素物流!$C$4:$F$12,4,0))","v":"-"},{"$f":"IF(H535=\"\",\"-\",VLOOKUP(L535,読み替え表_低炭素物流!$C$15:$F$21,4,0))","v":"-"},"-",null,null,null,null,0,0,0,0,0,"*"]
[null,null,528,null,null,null,null,null,null,null,null,null,null,null,null,null,null,null,null,null,null,null,null,null,null,{"$f":"IF(H536=\"\",\"-\",VLOOKUP(J536,読み替え表_低炭素物流!$C$4:$F$12,4,0))","v":"-"},{"$f":"IF(H536=\"\",\"-\",VLOOKUP(L536,読み替え表_低炭素物流!$C$15:$F$21,4,0))","v":"-"},"-",null,null,null,null,0,0,0,{"$f":"IF(OR(N536=7,N536=99),1,0)","v":0},0,"*"]
[null,null,529,null,null,null,null,null,null,null,null,null,null,null,null,null,null,null,null,null,null,null,null,null,null,{"$f":"IF(H537=\"\",\"-\",VLOOKUP(J537,読み替え表_低炭素物流!$C$4:$F$12,4,0))","v":"-"},{"$f":"IF(H537=\"\",\"-\",VLOOKUP(L537,読み替え表_低炭素物流!$C$15:$F$21,4,0))","v":"-"},"-",null,null,null,null,0,0,0,0,0,"*"]
[null,null,530,null,null,null,null,null,null,null,null,null,null,null,null,null,null,null,null,null,null,null,null,null,null,{"$f":"IF(H538=\"\",\"-\",VLOOKUP(J538,読み替え表_低炭素物流!$C$4:$F$12,4,0))","v":"-"},{"$f":"IF(H538=\"\",\"-\",VLOOKUP(L538,読み替え表_低炭素物流!$C$15:$F$21,4,0))","v":"-"},"-",null,null,null,null,0,0,0,0,0,"*"]
[null,null,531,null,null,null,null,null,null,null,null,null,null,null,null,null,null,null,null,null,null,null,null,null,null,{"$f":"IF(H539=\"\",\"-\",VLOOKUP(J539,読み替え表_低炭素物流!$C$4:$F$12,4,0))","v":"-"},{"$f":"IF(H539=\"\",\"-\",VLOOKUP(L539,読み替え表_低炭素物流!$C$15:$F$21,4,0))","v":"-"},"-",null,null,null,null,0,0,0,0,0,"*"]
[null,null,532,null,null,null,null,null,null,null,null,null,null,null,null,null,null,null,null,null,null,null,null,null,null,{"$f":"IF(H540=\"\",\"-\",VLOOKUP(J540,読み替え表_低炭素物流!$C$4:$F$12,4,0))","v":"-"},{"$f":"IF(H540=\"\",\"-\",VLOOKUP(L540,読み替え表_低炭素物流!$C$15:$F$21,4,0))","v":"-"},"-",null,null,null,null,0,0,0,0,0,"*"]
[null,null,533,null,null,null,null,null,null,null,null,null,null,null,null,null,null,null,null,null,null,null,null,null,null,{"$f":"IF(H541=\"\",\"-\",VLOOKUP(J541,読み替え表_低炭素物流!$C$4:$F$12,4,0))","v":"-"},{"$f":"IF(H541=\"\",\"-\",VLOOKUP(L541,読み替え表_低炭素物流!$C$15:$F$21,4,0))","v":"-"},"-",null,null,null,null,0,0,0,0,0,"*"]
[null,null,534,null,null,null,null,null,null,null,null,null,null,null,null,null,null,null,null,null,null,null,null,null,null,{"$f":"IF(H542=\"\",\"-\",VLOOKUP(J542,読み替え表_低炭素物流!$C$4:$F$12,4,0))","v":"-"},{"$f":"IF(H542=\"\",\"-\",VLOOKUP(L542,読み替え表_低炭素物流!$C$15:$F$21,4,0))","v":"-"},"-",null,null,null,null,0,0,0,0,0,"*"]
[null,null,535,null,null,null,null,null,null,null,null,null,null,null,null,null,null,null,null,null,null,null,null,null,null,{"$f":"IF(H543=\"\",\"-\",VLOOKUP(J543,読み替え表_低炭素物流!$C$4:$F$12,4,0))","v":"-"},{"$f":"IF(H543=\"\",\"-\",VLOOKUP(L543,読み替え表_低炭素物流!$C$15:$F$21,4,0))","v":"-"},"-",null,null,null,null,0,0,0,0,0,"*"]
[null,null,536,null,null,null,null,null,null,null,null,null,null,null,null,null,null,null,null,null,null,null,null,null,null,{"$f":"IF(H544=\"\",\"-\",VLOOKUP(J544,読み替え表_低炭素物流!$C$4:$F$12,4,0))","v":"-"},{"$f":"IF(H544=\"\",\"-\",VLOOKUP(L544,読み替え表_低炭素物流!$C$15:$F$21,4,0))","v":"-"},"-",null,null,null,null,0,0,0,0,0,"*"]
[null,null,537,null,null,null,null,null,null,null,null,null,null,null,null,null,null,null,null,null,null,null,null,null,null,{"$f":"IF(H545=\"\",\"-\",VLOOKUP(J545,読み替え表_低炭素物流!$C$4:$F$12,4,0))","v":"-"},{"$f":"IF(H545=\"\",\"-\",VLOOKUP(L545,読み替え表_低炭素物流!$C$15:$F$21,4,0))","v":"-"},"-",null,null,null,null,0,0,0,0,0,"*"]
[null,null,538,null,null,null,null,null,null,null,null,null,null,null,null,null,null,null,null,null,null,null,null,null,null,{"$f":"IF(H546=\"\",\"-\",VLOOKUP(J546,読み替え表_低炭素物流!$C$4:$F$12,4,0))","v":"-"},{"$f":"IF(H546=\"\",\"-\",VLOOKUP(L546,読み替え表_低炭素物流!$C$15:$F$21,4,0))","v":"-"},"-",null,null,null,null,0,0,0,0,0,"*"]
[null,null,539,null,null,null,null,null,null,null,null,null,null,null,null,null,null,null,null,null,null,null,null,null,null,{"$f":"IF(H547=\"\",\"-\",VLOOKUP(J547,読み替え表_低炭素物流!$C$4:$F$12,4,0))","v":"-"},{"$f":"IF(H547=\"\",\"-\",VLOOKUP(L547,読み替え表_低炭素物流!$C$15:$F$21,4,0))","v":"-"},"-",null,null,null,null,0,0,0,0,0,"*"]
[null,null,540,null,null,null,null,null,null,null,null,null,null,null,null,null,null,null,null,null,null,null,null,null,null,{"$f":"IF(H548=\"\",\"-\",VLOOKUP(J548,読み替え表_低炭素物流!$C$4:$F$12,4,0))","v":"-"},{"$f":"IF(H548=\"\",\"-\",VLOOKUP(L548,読み替え表_低炭素物流!$C$15:$F$21,4,0))","v":"-"},"-",null,null,null,null,0,0,0,0,0,"*"]
[null,null,541,null,null,null,null,null,null,null,null,null,null,null,null,null,null,null,null,null,null,null,null,null,null,{"$f":"IF(H549=\"\",\"-\",VLOOKUP(J549,読み替え表_低炭素物流!$C$4:$F$12,4,0))","v":"-"},{"$f":"IF(H549=\"\",\"-\",VLOOKUP(L549,読み替え表_低炭素物流!$C$15:$F$21,4,0))","v":"-"},"-",null,null,null,null,0,0,0,0,0,"*"]
[null,null,542,null,null,null,null,null,null,null,null,null,null,null,null,null,null,null,null,null,null,null,null,null,null,{"$f":"IF(H550=\"\",\"-\",VLOOKUP(J550,読み替え表_低炭素物流!$C$4:$F$12,4,0))","v":"-"},{"$f":"IF(H550=\"\",\"-\",VLOOKUP(L550,読み替え表_低炭素物流!$C$15:$F$21,4,0))","v":"-"},"-",null,null,null,null,0,0,0,0,0,"*"]
[null,null,543,null,null,null,null,null,null,null,null,null,null,null,null,null,null,null,null,null,null,null,null,null,null,{"$f":"IF(H551=\"\",\"-\",VLOOKUP(J551,読み替え表_低炭素物流!$C$4:$F$12,4,0))","v":"-"},{"$f":"IF(H551=\"\",\"-\",VLOOKUP(L551,読み替え表_低炭素物流!$C$15:$F$21,4,0))","v":"-"},"-",null,null,null,null,0,0,0,0,0,"*"]
[null,null,544,null,null,null,null,null,null,null,null,null,null,null,null,null,null,null,null,null,null,null,null,null,null,{"$f":"IF(H552=\"\",\"-\",VLOOKUP(J552,読み替え表_低炭素物流!$C$4:$F$12,4,0))","v":"-"},{"$f":"IF(H552=\"\",\"-\",VLOOKUP(L552,読み替え表_低炭素物流!$C$15:$F$21,4,0))","v":"-"},"-",null,null,null,null,0,0,0,0,0,"*"]
[null,null,545,null,null,null,null,null,null,null,null,null,null,null,null,null,null,null,null,null,null,null,null,null,null,{"$f":"IF(H553=\"\",\"-\",VLOOKUP(J553,読み替え表_低炭素物流!$C$4:$F$12,4,0))","v":"-"},{"$f":"IF(H553=\"\",\"-\",VLOOKUP(L553,読み替え表_低炭素物流!$C$15:$F$21,4,0))","v":"-"},"-",null,null,null,null,0,0,0,0,0,"*"]
[null,null,546,null,null,null,null,null,null,null,null,null,null,null,null,null,null,null,null,null,null,null,null,null,null,{"$f":"IF(H554=\"\",\"-\",VLOOKUP(J554,読み替え表_低炭素物流!$C$4:$F$12,4,0))","v":"-"},{"$f":"IF(H554=\"\",\"-\",VLOOKUP(L554,読み替え表_低炭素物流!$C$15:$F$21,4,0))","v":"-"},"-",null,null,null,null,0,0,0,0,0,"*"]
[null,null,547,null,null,null,null,null,null,null,null,null,null,null,null,null,null,null,null,null,null,null,null,null,null,{"$f":"IF(H555=\"\",\"-\",VLOOKUP(J555,読み替え表_低炭素物流!$C$4:$F$12,4,0))","v":"-"},{"$f":"IF(H555=\"\",\"-\",VLOOKUP(L555,読み替え表_低炭素物流!$C$15:$F$21,4,0))","v":"-"},"-",null,null,null,null,0,0,0,0,0,"*"]
[null,null,548,null,null,null,null,null,null,null,null,null,null,null,null,null,null,null,null,null,null,null,null,null,null,{"$f":"IF(H556=\"\",\"-\",VLOOKUP(J556,読み替え表_低炭素物流!$C$4:$F$12,4,0))","v":"-"},{"$f":"IF(H556=\"\",\"-\",VLOOKUP(L556,読み替え表_低炭素物流!$C$15:$F$21,4,0))","v":"-"},"-",null,null,null,null,0,0,0,0,0,"*"]
[null,null,549,null,null,null,null,null,null,null,null,null,null,null,null,null,null,null,null,null,null,null,null,null,null,{"$f":"IF(H557=\"\",\"-\",VLOOKUP(J557,読み替え表_低炭素物流!$C$4:$F$12,4,0))","v":"-"},{"$f":"IF(H557=\"\",\"-\",VLOOKUP(L557,読み替え表_低炭素物流!$C$15:$F$21,4,0))","v":"-"},"-",null,null,null,null,0,0,0,0,0,"*"]
[null,null,550,null,null,null,null,null,null,null,null,null,null,null,null,null,null,null,null,null,null,null,null,null,null,{"$f":"IF(H558=\"\",\"-\",VLOOKUP(J558,読み替え表_低炭素物流!$C$4:$F$12,4,0))","v":"-"},{"$f":"IF(H558=\"\",\"-\",VLOOKUP(L558,読み替え表_低炭素物流!$C$15:$F$21,4,0))","v":"-"},"-",null,null,null,null,0,0,0,0,0,"*"]
[null,null,551,null,null,null,null,null,null,null,null,null,null,null,null,null,null,null,null,null,null,null,null,null,null,{"$f":"IF(H559=\"\",\"-\",VLOOKUP(J559,読み替え表_低炭素物流!$C$4:$F$12,4,0))","v":"-"},{"$f":"IF(H559=\"\",\"-\",VLOOKUP(L559,読み替え表_低炭素物流!$C$15:$F$21,4,0))","v":"-"},"-",null,null,null,null,0,0,0,0,0,"*"]
[null,null,552,null,null,null,null,null,null,null,null,null,null,null,null,null,null,null,null,null,null,null,null,null,null,{"$f":"IF(H560=\"\",\"-\",VLOOKUP(J560,読み替え表_低炭素物流!$C$4:$F$12,4,0))","v":"-"},{"$f":"IF(H560=\"\",\"-\",VLOOKUP(L560,読み替え表_低炭素物流!$C$15:$F$21,4,0))","v":"-"},"-",null,null,null,null,0,0,0,0,0,"*"]
[null,null,553,null,null,null,null,null,null,null,null,null,null,null,null,null,null,null,null,null,null,null,null,null,null,{"$f":"IF(H561=\"\",\"-\",VLOOKUP(J561,読み替え表_低炭素物流!$C$4:$F$12,4,0))","v":"-"},{"$f":"IF(H561=\"\",\"-\",VLOOKUP(L561,読み替え表_低炭素物流!$C$15:$F$21,4,0))","v":"-"},"-",null,null,null,null,0,0,0,0,0,"*"]
[null,null,554,null,null,null,null,null,null,null,null,null,null,null,null,null,null,null,null,null,null,null,null,null,null,{"$f":"IF(H562=\"\",\"-\",VLOOKUP(J562,読み替え表_低炭素物流!$C$4:$F$12,4,0))","v":"-"},{"$f":"IF(H562=\"\",\"-\",VLOOKUP(L562,読み替え表_低炭素物流!$C$15:$F$21,4,0))","v":"-"},"-",null,null,null,null,0,0,0,0,0,"*"]
[null,null,555,null,null,null,null,null,null,null,null,null,null,null,null,null,null,null,null,null,null,null,null,null,null,{"$f":"IF(H563=\"\",\"-\",VLOOKUP(J563,読み替え表_低炭素物流!$C$4:$F$12,4,0))","v":"-"},{"$f":"IF(H563=\"\",\"-\",VLOOKUP(L563,読み替え表_低炭素物流!$C$15:$F$21,4,0))","v":"-"},"-",null,null,null,null,0,0,0,0,0,"*"]
[null,null,556,null,null,null,null,null,null,null,null,null,null,null,null,null,null,null,null,null,null,null,null,null,null,{"$f":"IF(H564=\"\",\"-\",VLOOKUP(J564,読み替え表_低炭素物流!$C$4:$F$12,4,0))","v":"-"},{"$f":"IF(H564=\"\",\"-\",VLOOKUP(L564,読み替え表_低炭素物流!$C$15:$F$21,4,0))","v":"-"},"-",null,null,null,null,0,0,0,0,0,"*"]
[null,null,557,null,null,null,null,null,null,null,null,null,null,null,null,null,null,null,null,null,null,null,null,null,null,{"$f":"IF(H565=\"\",\"-\",VLOOKUP(J565,読み替え表_低炭素物流!$C$4:$F$12,4,0))","v":"-"},{"$f":"IF(H565=\"\",\"-\",VLOOKUP(L565,読み替え表_低炭素物流!$C$15:$F$21,4,0))","v":"-"},"-",null,null,null,null,0,0,0,0,0,"*"]
[null,null,558,null,null,null,null,null,null,null,null,null,null,null,null,null,null,null,null,null,null,null,null,null,null,{"$f":"IF(H566=\"\",\"-\",VLOOKUP(J566,読み替え表_低炭素物流!$C$4:$F$12,4,0))","v":"-"},{"$f":"IF(H566=\"\",\"-\",VLOOKUP(L566,読み替え表_低炭素物流!$C$15:$F$21,4,0))","v":"-"},"-",null,null,null,null,0,0,0,0,0,"*"]
[null,null,559,null,null,null,null,null,null,null,null,null,null,null,null,null,null,null,null,null,null,null,null,null,null,{"$f":"IF(H567=\"\",\"-\",VLOOKUP(J567,読み替え表_低炭素物流!$C$4:$F$12,4,0))","v":"-"},{"$f":"IF(H567=\"\",\"-\",VLOOKUP(L567,読み替え表_低炭素物流!$C$15:$F$21,4,0))","v":"-"},"-",null,null,null,null,0,0,0,0,0,"*"]
[null,null,560,null,null,null,null,null,null,null,null,null,null,null,null,null,null,null,null,null,null,null,null,null,null,{"$f":"IF(H568=\"\",\"-\",VLOOKUP(J568,読み替え表_低炭素物流!$C$4:$F$12,4,0))","v":"-"},{"$f":"IF(H568=\"\",\"-\",VLOOKUP(L568,読み替え表_低炭素物流!$C$15:$F$21,4,0))","v":"-"},"-",null,null,null,null,0,0,0,0,0,"*"]
[null,null,561,null,null,null,null,null,null,null,null,null,null,null,null,null,null,null,null,null,null,null,null,null,null,{"$f":"IF(H569=\"\",\"-\",VLOOKUP(J569,読み替え表_低炭素物流!$C$4:$F$12,4,0))","v":"-"},{"$f":"IF(H569=\"\",\"-\",VLOOKUP(L569,読み替え表_低炭素物流!$C$15:$F$21,4,0))","v":"-"},"-",null,null,null,null,0,0,0,0,0,"*"]
[null,null,562,null,null,null,null,null,null,null,null,null,null,null,null,null,null,null,null,null,null,null,null,null,null,{"$f":"IF(H570=\"\",\"-\",VLOOKUP(J570,読み替え表_低炭素物流!$C$4:$F$12,4,0))","v":"-"},{"$f":"IF(H570=\"\",\"-\",VLOOKUP(L570,読み替え表_低炭素物流!$C$15:$F$21,4,0))","v":"-"},"-",null,null,null,null,0,0,0,0,0,"*"]
[null,null,563,null,null,null,null,null,null,null,null,null,null,null,null,null,null,null,null,null,null,null,null,null,null,{"$f":"IF(H571=\"\",\"-\",VLOOKUP(J571,読み替え表_低炭素物流!$C$4:$F$12,4,0))","v":"-"},{"$f":"IF(H571=\"\",\"-\",VLOOKUP(L571,読み替え表_低炭素物流!$C$15:$F$21,4,0))","v":"-"},"-",null,null,null,null,0,0,0,0,0,"*"]
[null,null,564,null,null,null,null,null,null,null,null,null,null,null,null,null,null,null,null,null,null,null,null,null,null,{"$f":"IF(H572=\"\",\"-\",VLOOKUP(J572,読み替え表_低炭素物流!$C$4:$F$12,4,0))","v":"-"},{"$f":"IF(H572=\"\",\"-\",VLOOKUP(L572,読み替え表_低炭素物流!$C$15:$F$21,4,0))","v":"-"},"-",null,null,null,null,0,0,0,0,0,"*"]
[null,null,565,null,null,null,null,null,null,null,null,null,null,null,null,null,null,null,null,null,null,null,null,null,null,{"$f":"IF(H573=\"\",\"-\",VLOOKUP(J573,読み替え表_低炭素物流!$C$4:$F$12,4,0))","v":"-"},{"$f":"IF(H573=\"\",\"-\",VLOOKUP(L573,読み替え表_低炭素物流!$C$15:$F$21,4,0))","v":"-"},"-",null,null,null,null,0,0,0,0,0,"*"]
[null,null,566,null,null,null,null,null,null,null,null,null,null,null,null,null,null,null,null,null,null,null,null,null,null,{"$f":"IF(H574=\"\",\"-\",VLOOKUP(J574,読み替え表_低炭素物流!$C$4:$F$12,4,0))","v":"-"},{"$f":"IF(H574=\"\",\"-\",VLOOKUP(L574,読み替え表_低炭素物流!$C$15:$F$21,4,0))","v":"-"},"-",null,null,null,null,0,0,0,0,0,"*"]
[null,null,567,null,null,null,null,null,null,null,null,null,null,null,null,null,null,null,null,null,null,null,null,null,null,{"$f":"IF(H575=\"\",\"-\",VLOOKUP(J575,読み替え表_低炭素物流!$C$4:$F$12,4,0))","v":"-"},{"$f":"IF(H575=\"\",\"-\",VLOOKUP(L575,読み替え表_低炭素物流!$C$15:$F$21,4,0))","v":"-"},"-",null,null,null,null,0,0,0,0,0,"*"]
[null,null,568,null,null,null,null,null,null,null,null,null,null,null,null,null,null,null,null,null,null,null,null,null,null,{"$f":"IF(H576=\"\",\"-\",VLOOKUP(J576,読み替え表_低炭素物流!$C$4:$F$12,4,0))","v":"-"},{"$f":"IF(H576=\"\",\"-\",VLOOKUP(L576,読み替え表_低炭素物流!$C$15:$F$21,4,0))","v":"-"},"-",null,null,null,null,0,0,0,0,0,"*"]
[null,null,569,null,null,null,null,null,null,null,null,null,null,null,null,null,null,null,null,null,null,null,null,null,null,{"$f":"IF(H577=\"\",\"-\",VLOOKUP(J577,読み替え表_低炭素物流!$C$4:$F$12,4,0))","v":"-"},{"$f":"IF(H577=\"\",\"-\",VLOOKUP(L577,読み替え表_低炭素物流!$C$15:$F$21,4,0))","v":"-"},"-",null,null,null,null,0,0,0,0,0,"*"]
[null,null,570,null,null,null,null,null,null,null,null,null,null,null,null,null,null,null,null,null,null,null,null,null,null,{"$f":"IF(H578=\"\",\"-\",VLOOKUP(J578,読み替え表_低炭素物流!$C$4:$F$12,4,0))","v":"-"},{"$f":"IF(H578=\"\",\"-\",VLOOKUP(L578,読み替え表_低炭素物流!$C$15:$F$21,4,0))","v":"-"},"-",null,null,null,null,0,0,0,0,0,"*"]
[null,null,571,null,null,null,null,null,null,null,null,null,null,null,null,null,null,null,null,null,null,null,null,null,null,{"$f":"IF(H579=\"\",\"-\",VLOOKUP(J579,読み替え表_低炭素物流!$C$4:$F$12,4,0))","v":"-"},{"$f":"IF(H579=\"\",\"-\",VLOOKUP(L579,読み替え表_低炭素物流!$C$15:$F$21,4,0))","v":"-"},"-",null,null,null,null,0,0,0,0,0,"*"]
[null,null,572,null,null,null,null,null,null,null,null,null,null,null,null,null,null,null,null,null,null,null,null,null,null,{"$f":"IF(H580=\"\",\"-\",VLOOKUP(J580,読み替え表_低炭素物流!$C$4:$F$12,4,0))","v":"-"},{"$f":"IF(H580=\"\",\"-\",VLOOKUP(L580,読み替え表_低炭素物流!$C$15:$F$21,4,0))","v":"-"},"-",null,null,null,null,0,0,0,0,0,"*"]
[null,null,573,null,null,null,null,null,null,null,null,null,null,null,null,null,null,null,null,null,null,null,null,null,null,{"$f":"IF(H581=\"\",\"-\",VLOOKUP(J581,読み替え表_低炭素物流!$C$4:$F$12,4,0))","v":"-"},{"$f":"IF(H581=\"\",\"-\",VLOOKUP(L581,読み替え表_低炭素物流!$C$15:$F$21,4,0))","v":"-"},"-",null,null,null,null,0,0,0,0,0,"*"]
[null,null,574,null,null,null,null,null,null,null,null,null,null,null,null,null,null,null,null,null,null,null,null,null,null,{"$f":"IF(H582=\"\",\"-\",VLOOKUP(J582,読み替え表_低炭素物流!$C$4:$F$12,4,0))","v":"-"},{"$f":"IF(H582=\"\",\"-\",VLOOKUP(L582,読み替え表_低炭素物流!$C$15:$F$21,4,0))","v":"-"},"-",null,null,null,null,0,0,0,0,0,"*"]
[null,null,575,null,null,null,null,null,null,null,null,null,null,null,null,null,null,null,null,null,null,null,null,null,null,{"$f":"IF(H583=\"\",\"-\",VLOOKUP(J583,読み替え表_低炭素物流!$C$4:$F$12,4,0))","v":"-"},{"$f":"IF(H583=\"\",\"-\",VLOOKUP(L583,読み替え表_低炭素物流!$C$15:$F$21,4,0))","v":"-"},"-",null,null,null,null,0,0,0,0,0,"*"]
[null,null,576,null,null,null,null,null,null,null,null,null,null,null,null,null,null,null,null,null,null,null,null,null,null,{"$f":"IF(H584=\"\",\"-\",VLOOKUP(J584,読み替え表_低炭素物流!$C$4:$F$12,4,0))","v":"-"},{"$f":"IF(H584=\"\",\"-\",VLOOKUP(L584,読み替え表_低炭素物流!$C$15:$F$21,4,0))","v":"-"},"-",null,null,null,null,0,0,0,0,0,"*"]
[null,null,577,null,null,null,null,null,null,null,null,null,null,null,null,null,null,null,null,null,null,null,null,null,null,{"$f":"IF(H585=\"\",\"-\",VLOOKUP(J585,読み替え表_低炭素物流!$C$4:$F$12,4,0))","v":"-"},{"$f":"IF(H585=\"\",\"-\",VLOOKUP(L585,読み替え表_低炭素物流!$C$15:$F$21,4,0))","v":"-"},"-",null,null,null,null,{"$f":"IF(N585=1,IF(OR(L585=4,L585=5),0,1),0)","v":0},0,0,0,0,"*"]
[null,null,{"$f":"ROW()-8","v":578},null,null,null,null,null,null,null,null,null,null,null,null,null,null,null,null,null,null,null,null,null,null,{"$f":"IF(H586=\"\",\"-\",VLOOKUP(J586,読み替え表_低炭素物流!$C$4:$F$12,4,0))","v":"-"},{"$f":"IF(H586=\"\",\"-\",VLOOKUP(L586,読み替え表_低炭素物流!$C$15:$F$21,4,0))","v":"-"},{"$f":"IF(H586=\"\",\"-\",Z586*AA586)","v":"-"},null,null,null,null,0,{"$f":"IF(J586=8,1,0)","v":0},{"$f":"IF(L586=6,1,0)","v":0},0,{"$f":"AG586","v":0},"*"]
[null,null,579,null,null,null,null,null,null,null,null,null,null,null,null,null,null,null,null,null,null,null,null,null,null,{"$f":"IF(H587=\"\",\"-\",VLOOKUP(J587,読み替え表_低炭素物流!$C$4:$F$12,4,0))","v":"-"},{"$f":"IF(H587=\"\",\"-\",VLOOKUP(L587,読み替え表_低炭素物流!$C$15:$F$21,4,0))","v":"-"},"-",null,null,null,null,0,0,0,0,0,"*"]
[null,null,580,null,null,null,null,null,null,null,null,null,null,null,null,null,null,null,null,null,null,null,null,null,null,{"$f":"IF(H588=\"\",\"-\",VLOOKUP(J588,読み替え表_低炭素物流!$C$4:$F$12,4,0))","v":"-"},{"$f":"IF(H588=\"\",\"-\",VLOOKUP(L588,読み替え表_低炭素物流!$C$15:$F$21,4,0))","v":"-"},"-",null,null,null,null,0,0,0,0,0,"*"]
[null,null,581,null,null,null,null,null,null,null,null,null,null,null,null,null,null,null,null,null,null,null,null,null,null,{"$f":"IF(H589=\"\",\"-\",VLOOKUP(J589,読み替え表_低炭素物流!$C$4:$F$12,4,0))","v":"-"},{"$f":"IF(H589=\"\",\"-\",VLOOKUP(L589,読み替え表_低炭素物流!$C$15:$F$21,4,0))","v":"-"},"-",null,null,null,null,0,0,0,0,0,"*"]
[null,null,582,null,null,null,null,null,null,null,null,null,null,null,null,null,null,null,null,null,null,null,null,null,null,{"$f":"IF(H590=\"\",\"-\",VLOOKUP(J590,読み替え表_低炭素物流!$C$4:$F$12,4,0))","v":"-"},{"$f":"IF(H590=\"\",\"-\",VLOOKUP(L590,読み替え表_低炭素物流!$C$15:$F$21,4,0))","v":"-"},"-",null,null,null,null,0,0,0,0,0,"*"]
[null,null,583,null,null,null,null,null,null,null,null,null,null,null,null,null,null,null,null,null,null,null,null,null,null,{"$f":"IF(H591=\"\",\"-\",VLOOKUP(J591,読み替え表_低炭素物流!$C$4:$F$12,4,0))","v":"-"},{"$f":"IF(H591=\"\",\"-\",VLOOKUP(L591,読み替え表_低炭素物流!$C$15:$F$21,4,0))","v":"-"},"-",null,null,null,null,0,0,0,0,0,"*"]
[null,null,584,null,null,null,null,null,null,null,null,null,null,null,null,null,null,null,null,null,null,null,null,null,null,{"$f":"IF(H592=\"\",\"-\",VLOOKUP(J592,読み替え表_低炭素物流!$C$4:$F$12,4,0))","v":"-"},{"$f":"IF(H592=\"\",\"-\",VLOOKUP(L592,読み替え表_低炭素物流!$C$15:$F$21,4,0))","v":"-"},"-",null,null,null,null,0,0,0,0,0,"*"]
[null,null,585,null,null,null,null,null,null,null,null,null,null,null,null,null,null,null,null,null,null,null,null,null,null,{"$f":"IF(H593=\"\",\"-\",VLOOKUP(J593,読み替え表_低炭素物流!$C$4:$F$12,4,0))","v":"-"},{"$f":"IF(H593=\"\",\"-\",VLOOKUP(L593,読み替え表_低炭素物流!$C$15:$F$21,4,0))","v":"-"},"-",null,null,null,null,0,0,0,0,0,"*"]
[null,null,586,null,null,null,null,null,null,null,null,null,null,null,null,null,null,null,null,null,null,null,null,null,null,{"$f":"IF(H594=\"\",\"-\",VLOOKUP(J594,読み替え表_低炭素物流!$C$4:$F$12,4,0))","v":"-"},{"$f":"IF(H594=\"\",\"-\",VLOOKUP(L594,読み替え表_低炭素物流!$C$15:$F$21,4,0))","v":"-"},"-",null,null,null,null,0,0,0,0,0,"*"]
[null,null,587,null,null,null,null,null,null,null,null,null,null,null,null,null,null,null,null,null,null,null,null,null,null,{"$f":"IF(H595=\"\",\"-\",VLOOKUP(J595,読み替え表_低炭素物流!$C$4:$F$12,4,0))","v":"-"},{"$f":"IF(H595=\"\",\"-\",VLOOKUP(L595,読み替え表_低炭素物流!$C$15:$F$21,4,0))","v":"-"},"-",null,null,null,null,0,0,0,0,0,"*"]
[null,null,588,null,null,null,null,null,null,null,null,null,null,null,null,null,null,null,null,null,null,null,null,null,null,{"$f":"IF(H596=\"\",\"-\",VLOOKUP(J596,読み替え表_低炭素物流!$C$4:$F$12,4,0))","v":"-"},{"$f":"IF(H596=\"\",\"-\",VLOOKUP(L596,読み替え表_低炭素物流!$C$15:$F$21,4,0))","v":"-"},"-",null,null,null,null,0,0,0,0,0,"*"]
[null,null,589,null,null,null,null,null,null,null,null,null,null,null,null,null,null,null,null,null,null,null,null,null,null,{"$f":"IF(H597=\"\",\"-\",VLOOKUP(J597,読み替え表_低炭素物流!$C$4:$F$12,4,0))","v":"-"},{"$f":"IF(H597=\"\",\"-\",VLOOKUP(L597,読み替え表_低炭素物流!$C$15:$F$21,4,0))","v":"-"},"-",null,null,null,null,0,0,0,0,0,"*"]
[null,null,590,null,null,null,null,null,null,null,null,null,null,null,null,null,null,null,null,null,null,null,null,null,null,{"$f":"IF(H598=\"\",\"-\",VLOOKUP(J598,読み替え表_低炭素物流!$C$4:$F$12,4,0))","v":"-"},{"$f":"IF(H598=\"\",\"-\",VLOOKUP(L598,読み替え表_低炭素物流!$C$15:$F$21,4,0))","v":"-"},"-",null,null,null,null,0,0,0,0,0,"*"]
[null,null,591,null,null,null,null,null,null,null,null,null,null,null,null,null,null,null,null,null,null,null,null,null,null,{"$f":"IF(H599=\"\",\"-\",VLOOKUP(J599,読み替え表_低炭素物流!$C$4:$F$12,4,0))","v":"-"},{"$f":"IF(H599=\"\",\"-\",VLOOKUP(L599,読み替え表_低炭素物流!$C$15:$F$21,4,0))","v":"-"},"-",null,null,null,null,0,0,0,0,0,"*"]
[null,null,592,null,null,null,null,null,null,null,null,null,null,null,null,null,null,null,null,null,null,null,null,null,null,{"$f":"IF(H600=\"\",\"-\",VLOOKUP(J600,読み替え表_低炭素物流!$C$4:$F$12,4,0))","v":"-"},{"$f":"IF(H600=\"\",\"-\",VLOOKUP(L600,読み替え表_低炭素物流!$C$15:$F$21,4,0))","v":"-"},"-",null,null,null,null,0,0,0,{"$f":"IF(OR(N600=7,N600=99),1,0)","v":0},0,"*"]
[null,null,593,null,null,null,null,null,null,null,null,null,null,null,null,null,null,null,null,null,null,null,null,null,null,{"$f":"IF(H601=\"\",\"-\",VLOOKUP(J601,読み替え表_低炭素物流!$C$4:$F$12,4,0))","v":"-"},{"$f":"IF(H601=\"\",\"-\",VLOOKUP(L601,読み替え表_低炭素物流!$C$15:$F$21,4,0))","v":"-"},"-",null,null,null,null,0,0,0,0,0,"*"]
[null,null,594,null,null,null,null,null,null,null,null,null,null,null,null,null,null,null,null,null,null,null,null,null,null,{"$f":"IF(H602=\"\",\"-\",VLOOKUP(J602,読み替え表_低炭素物流!$C$4:$F$12,4,0))","v":"-"},{"$f":"IF(H602=\"\",\"-\",VLOOKUP(L602,読み替え表_低炭素物流!$C$15:$F$21,4,0))","v":"-"},"-",null,null,null,null,0,0,0,0,0,"*"]
[null,null,595,null,null,null,null,null,null,null,null,null,null,null,null,null,null,null,null,null,null,null,null,null,null,{"$f":"IF(H603=\"\",\"-\",VLOOKUP(J603,読み替え表_低炭素物流!$C$4:$F$12,4,0))","v":"-"},{"$f":"IF(H603=\"\",\"-\",VLOOKUP(L603,読み替え表_低炭素物流!$C$15:$F$21,4,0))","v":"-"},"-",null,null,null,null,0,0,0,0,0,"*"]
[null,null,596,null,null,null,null,null,null,null,null,null,null,null,null,null,null,null,null,null,null,null,null,null,null,{"$f":"IF(H604=\"\",\"-\",VLOOKUP(J604,読み替え表_低炭素物流!$C$4:$F$12,4,0))","v":"-"},{"$f":"IF(H604=\"\",\"-\",VLOOKUP(L604,読み替え表_低炭素物流!$C$15:$F$21,4,0))","v":"-"},"-",null,null,null,null,0,0,0,0,0,"*"]
[null,null,597,null,null,null,null,null,null,null,null,null,null,null,null,null,null,null,null,null,null,null,null,null,null,{"$f":"IF(H605=\"\",\"-\",VLOOKUP(J605,読み替え表_低炭素物流!$C$4:$F$12,4,0))","v":"-"},{"$f":"IF(H605=\"\",\"-\",VLOOKUP(L605,読み替え表_低炭素物流!$C$15:$F$21,4,0))","v":"-"},"-",null,null,null,null,0,0,0,0,0,"*"]
[null,null,598,null,null,null,null,null,null,null,null,null,null,null,null,null,null,null,null,null,null,null,null,null,null,{"$f":"IF(H606=\"\",\"-\",VLOOKUP(J606,読み替え表_低炭素物流!$C$4:$F$12,4,0))","v":"-"},{"$f":"IF(H606=\"\",\"-\",VLOOKUP(L606,読み替え表_低炭素物流!$C$15:$F$21,4,0))","v":"-"},"-",null,null,null,null,0,0,0,0,0,"*"]
[null,null,599,null,null,null,null,null,null,null,null,null,null,null,null,null,null,null,null,null,null,null,null,null,null,{"$f":"IF(H607=\"\",\"-\",VLOOKUP(J607,読み替え表_低炭素物流!$C$4:$F$12,4,0))","v":"-"},{"$f":"IF(H607=\"\",\"-\",VLOOKUP(L607,読み替え表_低炭素物流!$C$15:$F$21,4,0))","v":"-"},"-",null,null,null,null,0,0,0,0,0,"*"]
[null,null,600,null,null,null,null,null,null,null,null,null,null,null,null,null,null,null,null,null,null,null,null,null,null,{"$f":"IF(H608=\"\",\"-\",VLOOKUP(J608,読み替え表_低炭素物流!$C$4:$F$12,4,0))","v":"-"},{"$f":"IF(H608=\"\",\"-\",VLOOKUP(L608,読み替え表_低炭素物流!$C$15:$F$21,4,0))","v":"-"},"-",null,null,null,null,0,0,0,0,0,"*"]
[null,null,601,null,null,null,null,null,null,null,null,null,null,null,null,null,null,null,null,null,null,null,null,null,null,{"$f":"IF(H609=\"\",\"-\",VLOOKUP(J609,読み替え表_低炭素物流!$C$4:$F$12,4,0))","v":"-"},{"$f":"IF(H609=\"\",\"-\",VLOOKUP(L609,読み替え表_低炭素物流!$C$15:$F$21,4,0))","v":"-"},"-",null,null,null,null,0,0,0,0,0,"*"]
[null,null,602,null,null,null,null,null,null,null,null,null,null,null,null,null,null,null,null,null,null,null,null,null,null,{"$f":"IF(H610=\"\",\"-\",VLOOKUP(J610,読み替え表_低炭素物流!$C$4:$F$12,4,0))","v":"-"},{"$f":"IF(H610=\"\",\"-\",VLOOKUP(L610,読み替え表_低炭素物流!$C$15:$F$21,4,0))","v":"-"},"-",null,null,null,null,0,0,0,0,0,"*"]
[null,null,603,null,null,null,null,null,null,null,null,null,null,null,null,null,null,null,null,null,null,null,null,null,null,{"$f":"IF(H611=\"\",\"-\",VLOOKUP(J611,読み替え表_低炭素物流!$C$4:$F$12,4,0))","v":"-"},{"$f":"IF(H611=\"\",\"-\",VLOOKUP(L611,読み替え表_低炭素物流!$C$15:$F$21,4,0))","v":"-"},"-",null,null,null,null,0,0,0,0,0,"*"]
[null,null,604,null,null,null,null,null,null,null,null,null,null,null,null,null,null,null,null,null,null,null,null,null,null,{"$f":"IF(H612=\"\",\"-\",VLOOKUP(J612,読み替え表_低炭素物流!$C$4:$F$12,4,0))","v":"-"},{"$f":"IF(H612=\"\",\"-\",VLOOKUP(L612,読み替え表_低炭素物流!$C$15:$F$21,4,0))","v":"-"},"-",null,null,null,null,0,0,0,0,0,"*"]
[null,null,605,null,null,null,null,null,null,null,null,null,null,null,null,null,null,null,null,null,null,null,null,null,null,{"$f":"IF(H613=\"\",\"-\",VLOOKUP(J613,読み替え表_低炭素物流!$C$4:$F$12,4,0))","v":"-"},{"$f":"IF(H613=\"\",\"-\",VLOOKUP(L613,読み替え表_低炭素物流!$C$15:$F$21,4,0))","v":"-"},"-",null,null,null,null,0,0,0,0,0,"*"]
[null,null,606,null,null,null,null,null,null,null,null,null,null,null,null,null,null,null,null,null,null,null,null,null,null,{"$f":"IF(H614=\"\",\"-\",VLOOKUP(J614,読み替え表_低炭素物流!$C$4:$F$12,4,0))","v":"-"},{"$f":"IF(H614=\"\",\"-\",VLOOKUP(L614,読み替え表_低炭素物流!$C$15:$F$21,4,0))","v":"-"},"-",null,null,null,null,0,0,0,0,0,"*"]
[null,null,607,null,null,null,null,null,null,null,null,null,null,null,null,null,null,null,null,null,null,null,null,null,null,{"$f":"IF(H615=\"\",\"-\",VLOOKUP(J615,読み替え表_低炭素物流!$C$4:$F$12,4,0))","v":"-"},{"$f":"IF(H615=\"\",\"-\",VLOOKUP(L615,読み替え表_低炭素物流!$C$15:$F$21,4,0))","v":"-"},"-",null,null,null,null,0,0,0,0,0,"*"]
[null,null,608,null,null,null,null,null,null,null,null,null,null,null,null,null,null,null,null,null,null,null,null,null,null,{"$f":"IF(H616=\"\",\"-\",VLOOKUP(J616,読み替え表_低炭素物流!$C$4:$F$12,4,0))","v":"-"},{"$f":"IF(H616=\"\",\"-\",VLOOKUP(L616,読み替え表_低炭素物流!$C$15:$F$21,4,0))","v":"-"},"-",null,null,null,null,0,0,0,0,0,"*"]
[null,null,609,null,null,null,null,null,null,null,null,null,null,null,null,null,null,null,null,null,null,null,null,null,null,{"$f":"IF(H617=\"\",\"-\",VLOOKUP(J617,読み替え表_低炭素物流!$C$4:$F$12,4,0))","v":"-"},{"$f":"IF(H617=\"\",\"-\",VLOOKUP(L617,読み替え表_低炭素物流!$C$15:$F$21,4,0))","v":"-"},"-",null,null,null,null,0,0,0,0,0,"*"]
[null,null,610,null,null,null,null,null,null,null,null,null,null,null,null,null,null,null,null,null,null,null,null,null,null,{"$f":"IF(H618=\"\",\"-\",VLOOKUP(J618,読み替え表_低炭素物流!$C$4:$F$12,4,0))","v":"-"},{"$f":"IF(H618=\"\",\"-\",VLOOKUP(L618,読み替え表_低炭素物流!$C$15:$F$21,4,0))","v":"-"},"-",null,null,null,null,0,0,0,0,0,"*"]
[null,null,611,null,null,null,null,null,null,null,null,null,null,null,null,null,null,null,null,null,null,null,null,null,null,{"$f":"IF(H619=\"\",\"-\",VLOOKUP(J619,読み替え表_低炭素物流!$C$4:$F$12,4,0))","v":"-"},{"$f":"IF(H619=\"\",\"-\",VLOOKUP(L619,読み替え表_低炭素物流!$C$15:$F$21,4,0))","v":"-"},"-",null,null,null,null,0,0,0,0,0,"*"]
[null,null,612,null,null,null,null,null,null,null,null,null,null,null,null,null,null,null,null,null,null,null,null,null,null,{"$f":"IF(H620=\"\",\"-\",VLOOKUP(J620,読み替え表_低炭素物流!$C$4:$F$12,4,0))","v":"-"},{"$f":"IF(H620=\"\",\"-\",VLOOKUP(L620,読み替え表_低炭素物流!$C$15:$F$21,4,0))","v":"-"},"-",null,null,null,null,0,0,0,0,0,"*"]
[null,null,613,null,null,null,null,null,null,null,null,null,null,null,null,null,null,null,null,null,null,null,null,null,null,{"$f":"IF(H621=\"\",\"-\",VLOOKUP(J621,読み替え表_低炭素物流!$C$4:$F$12,4,0))","v":"-"},{"$f":"IF(H621=\"\",\"-\",VLOOKUP(L621,読み替え表_低炭素物流!$C$15:$F$21,4,0))","v":"-"},"-",null,null,null,null,0,0,0,0,0,"*"]
[null,null,614,null,null,null,null,null,null,null,null,null,null,null,null,null,null,null,null,null,null,null,null,null,null,{"$f":"IF(H622=\"\",\"-\",VLOOKUP(J622,読み替え表_低炭素物流!$C$4:$F$12,4,0))","v":"-"},{"$f":"IF(H622=\"\",\"-\",VLOOKUP(L622,読み替え表_低炭素物流!$C$15:$F$21,4,0))","v":"-"},"-",null,null,null,null,0,0,0,0,0,"*"]
[null,null,615,null,null,null,null,null,null,null,null,null,null,null,null,null,null,null,null,null,null,null,null,null,null,{"$f":"IF(H623=\"\",\"-\",VLOOKUP(J623,読み替え表_低炭素物流!$C$4:$F$12,4,0))","v":"-"},{"$f":"IF(H623=\"\",\"-\",VLOOKUP(L623,読み替え表_低炭素物流!$C$15:$F$21,4,0))","v":"-"},"-",null,null,null,null,0,0,0,0,0,"*"]
[null,null,616,null,null,null,null,null,null,null,null,null,null,null,null,null,null,null,null,null,null,null,null,null,null,{"$f":"IF(H624=\"\",\"-\",VLOOKUP(J624,読み替え表_低炭素物流!$C$4:$F$12,4,0))","v":"-"},{"$f":"IF(H624=\"\",\"-\",VLOOKUP(L624,読み替え表_低炭素物流!$C$15:$F$21,4,0))","v":"-"},"-",null,null,null,null,0,0,0,0,0,"*"]
[null,null,617,null,null,null,null,null,null,null,null,null,null,null,null,null,null,null,null,null,null,null,null,null,null,{"$f":"IF(H625=\"\",\"-\",VLOOKUP(J625,読み替え表_低炭素物流!$C$4:$F$12,4,0))","v":"-"},{"$f":"IF(H625=\"\",\"-\",VLOOKUP(L625,読み替え表_低炭素物流!$C$15:$F$21,4,0))","v":"-"},"-",null,null,null,null,0,0,0,0,0,"*"]
[null,null,618,null,null,null,null,null,null,null,null,null,null,null,null,null,null,null,null,null,null,null,null,null,null,{"$f":"IF(H626=\"\",\"-\",VLOOKUP(J626,読み替え表_低炭素物流!$C$4:$F$12,4,0))","v":"-"},{"$f":"IF(H626=\"\",\"-\",VLOOKUP(L626,読み替え表_低炭素物流!$C$15:$F$21,4,0))","v":"-"},"-",null,null,null,null,0,0,0,0,0,"*"]
[null,null,619,null,null,null,null,null,null,null,null,null,null,null,null,null,null,null,null,null,null,null,null,null,null,{"$f":"IF(H627=\"\",\"-\",VLOOKUP(J627,読み替え表_低炭素物流!$C$4:$F$12,4,0))","v":"-"},{"$f":"IF(H627=\"\",\"-\",VLOOKUP(L627,読み替え表_低炭素物流!$C$15:$F$21,4,0))","v":"-"},"-",null,null,null,null,0,0,0,0,0,"*"]
[null,null,620,null,null,null,null,null,null,null,null,null,null,null,null,null,null,null,null,null,null,null,null,null,null,{"$f":"IF(H628=\"\",\"-\",VLOOKUP(J628,読み替え表_低炭素物流!$C$4:$F$12,4,0))","v":"-"},{"$f":"IF(H628=\"\",\"-\",VLOOKUP(L628,読み替え表_低炭素物流!$C$15:$F$21,4,0))","v":"-"},"-",null,null,null,null,0,0,0,0,0,"*"]
[null,null,621,null,null,null,null,null,null,null,null,null,null,null,null,null,null,null,null,null,null,null,null,null,null,{"$f":"IF(H629=\"\",\"-\",VLOOKUP(J629,読み替え表_低炭素物流!$C$4:$F$12,4,0))","v":"-"},{"$f":"IF(H629=\"\",\"-\",VLOOKUP(L629,読み替え表_低炭素物流!$C$15:$F$21,4,0))","v":"-"},"-",null,null,null,null,0,0,0,0,0,"*"]
[null,null,622,null,null,null,null,null,null,null,null,null,null,null,null,null,null,null,null,null,null,null,null,null,null,{"$f":"IF(H630=\"\",\"-\",VLOOKUP(J630,読み替え表_低炭素物流!$C$4:$F$12,4,0))","v":"-"},{"$f":"IF(H630=\"\",\"-\",VLOOKUP(L630,読み替え表_低炭素物流!$C$15:$F$21,4,0))","v":"-"},"-",null,null,null,null,0,0,0,0,0,"*"]
[null,null,623,null,null,null,null,null,null,null,null,null,null,null,null,null,null,null,null,null,null,null,null,null,null,{"$f":"IF(H631=\"\",\"-\",VLOOKUP(J631,読み替え表_低炭素物流!$C$4:$F$12,4,0))","v":"-"},{"$f":"IF(H631=\"\",\"-\",VLOOKUP(L631,読み替え表_低炭素物流!$C$15:$F$21,4,0))","v":"-"},"-",null,null,null,null,0,0,0,0,0,"*"]
[null,null,624,null,null,null,null,null,null,null,null,null,null,null,null,null,null,null,null,null,null,null,null,null,null,{"$f":"IF(H632=\"\",\"-\",VLOOKUP(J632,読み替え表_低炭素物流!$C$4:$F$12,4,0))","v":"-"},{"$f":"IF(H632=\"\",\"-\",VLOOKUP(L632,読み替え表_低炭素物流!$C$15:$F$21,4,0))","v":"-"},"-",null,null,null,null,0,0,0,0,0,"*"]
[null,null,625,null,null,null,null,null,null,null,null,null,null,null,null,null,null,null,null,null,null,null,null,null,null,{"$f":"IF(H633=\"\",\"-\",VLOOKUP(J633,読み替え表_低炭素物流!$C$4:$F$12,4,0))","v":"-"},{"$f":"IF(H633=\"\",\"-\",VLOOKUP(L633,読み替え表_低炭素物流!$C$15:$F$21,4,0))","v":"-"},"-",null,null,null,null,0,0,0,0,0,"*"]
[null,null,626,null,null,null,null,null,null,null,null,null,null,null,null,null,null,null,null,null,null,null,null,null,null,{"$f":"IF(H634=\"\",\"-\",VLOOKUP(J634,読み替え表_低炭素物流!$C$4:$F$12,4,0))","v":"-"},{"$f":"IF(H634=\"\",\"-\",VLOOKUP(L634,読み替え表_低炭素物流!$C$15:$F$21,4,0))","v":"-"},"-",null,null,null,null,0,0,0,0,0,"*"]
[null,null,627,null,null,null,null,null,null,null,null,null,null,null,null,null,null,null,null,null,null,null,null,null,null,{"$f":"IF(H635=\"\",\"-\",VLOOKUP(J635,読み替え表_低炭素物流!$C$4:$F$12,4,0))","v":"-"},{"$f":"IF(H635=\"\",\"-\",VLOOKUP(L635,読み替え表_低炭素物流!$C$15:$F$21,4,0))","v":"-"},"-",null,null,null,null,0,0,0,0,0,"*"]
[null,null,628,null,null,null,null,null,null,null,null,null,null,null,null,null,null,null,null,null,null,null,null,null,null,{"$f":"IF(H636=\"\",\"-\",VLOOKUP(J636,読み替え表_低炭素物流!$C$4:$F$12,4,0))","v":"-"},{"$f":"IF(H636=\"\",\"-\",VLOOKUP(L636,読み替え表_低炭素物流!$C$15:$F$21,4,0))","v":"-"},"-",null,null,null,null,0,0,0,0,0,"*"]
[null,null,629,null,null,null,null,null,null,null,null,null,null,null,null,null,null,null,null,null,null,null,null,null,null,{"$f":"IF(H637=\"\",\"-\",VLOOKUP(J637,読み替え表_低炭素物流!$C$4:$F$12,4,0))","v":"-"},{"$f":"IF(H637=\"\",\"-\",VLOOKUP(L637,読み替え表_低炭素物流!$C$15:$F$21,4,0))","v":"-"},"-",null,null,null,null,0,0,0,0,0,"*"]
[null,null,630,null,null,null,null,null,null,null,null,null,null,null,null,null,null,null,null,null,null,null,null,null,null,{"$f":"IF(H638=\"\",\"-\",VLOOKUP(J638,読み替え表_低炭素物流!$C$4:$F$12,4,0))","v":"-"},{"$f":"IF(H638=\"\",\"-\",VLOOKUP(L638,読み替え表_低炭素物流!$C$15:$F$21,4,0))","v":"-"},"-",null,null,null,null,0,0,0,0,0,"*"]
[null,null,631,null,null,null,null,null,null,null,null,null,null,null,null,null,null,null,null,null,null,null,null,null,null,{"$f":"IF(H639=\"\",\"-\",VLOOKUP(J639,読み替え表_低炭素物流!$C$4:$F$12,4,0))","v":"-"},{"$f":"IF(H639=\"\",\"-\",VLOOKUP(L639,読み替え表_低炭素物流!$C$15:$F$21,4,0))","v":"-"},"-",null,null,null,null,0,0,0,0,0,"*"]
[null,null,632,null,null,null,null,null,null,null,null,null,null,null,null,null,null,null,null,null,null,null,null,null,null,{"$f":"IF(H640=\"\",\"-\",VLOOKUP(J640,読み替え表_低炭素物流!$C$4:$F$12,4,0))","v":"-"},{"$f":"IF(H640=\"\",\"-\",VLOOKUP(L640,読み替え表_低炭素物流!$C$15:$F$21,4,0))","v":"-"},"-",null,null,null,null,0,0,0,0,0,"*"]
[null,null,633,null,null,null,null,null,null,null,null,null,null,null,null,null,null,null,null,null,null,null,null,null,null,{"$f":"IF(H641=\"\",\"-\",VLOOKUP(J641,読み替え表_低炭素物流!$C$4:$F$12,4,0))","v":"-"},{"$f":"IF(H641=\"\",\"-\",VLOOKUP(L641,読み替え表_低炭素物流!$C$15:$F$21,4,0))","v":"-"},"-",null,null,null,null,0,0,0,0,0,"*"]
[null,null,634,null,null,null,null,null,null,null,null,null,null,null,null,null,null,null,null,null,null,null,null,null,null,{"$f":"IF(H642=\"\",\"-\",VLOOKUP(J642,読み替え表_低炭素物流!$C$4:$F$12,4,0))","v":"-"},{"$f":"IF(H642=\"\",\"-\",VLOOKUP(L642,読み替え表_低炭素物流!$C$15:$F$21,4,0))","v":"-"},"-",null,null,null,null,0,0,0,0,0,"*"]
[null,null,635,null,null,null,null,null,null,null,null,null,null,null,null,null,null,null,null,null,null,null,null,null,null,{"$f":"IF(H643=\"\",\"-\",VLOOKUP(J643,読み替え表_低炭素物流!$C$4:$F$12,4,0))","v":"-"},{"$f":"IF(H643=\"\",\"-\",VLOOKUP(L643,読み替え表_低炭素物流!$C$15:$F$21,4,0))","v":"-"},"-",null,null,null,null,0,0,0,0,0,"*"]
[null,null,636,null,null,null,null,null,null,null,null,null,null,null,null,null,null,null,null,null,null,null,null,null,null,{"$f":"IF(H644=\"\",\"-\",VLOOKUP(J644,読み替え表_低炭素物流!$C$4:$F$12,4,0))","v":"-"},{"$f":"IF(H644=\"\",\"-\",VLOOKUP(L644,読み替え表_低炭素物流!$C$15:$F$21,4,0))","v":"-"},"-",null,null,null,null,0,0,0,0,0,"*"]
[null,null,637,null,null,null,null,null,null,null,null,null,null,null,null,null,null,null,null,null,null,null,null,null,null,{"$f":"IF(H645=\"\",\"-\",VLOOKUP(J645,読み替え表_低炭素物流!$C$4:$F$12,4,0))","v":"-"},{"$f":"IF(H645=\"\",\"-\",VLOOKUP(L645,読み替え表_低炭素物流!$C$15:$F$21,4,0))","v":"-"},"-",null,null,null,null,0,0,0,0,0,"*"]
[null,null,638,null,null,null,null,null,null,null,null,null,null,null,null,null,null,null,null,null,null,null,null,null,null,{"$f":"IF(H646=\"\",\"-\",VLOOKUP(J646,読み替え表_低炭素物流!$C$4:$F$12,4,0))","v":"-"},{"$f":"IF(H646=\"\",\"-\",VLOOKUP(L646,読み替え表_低炭素物流!$C$15:$F$21,4,0))","v":"-"},"-",null,null,null,null,0,0,0,0,0,"*"]
[null,null,639,null,null,null,null,null,null,null,null,null,null,null,null,null,null,null,null,null,null,null,null,null,null,{"$f":"IF(H647=\"\",\"-\",VLOOKUP(J647,読み替え表_低炭素物流!$C$4:$F$12,4,0))","v":"-"},{"$f":"IF(H647=\"\",\"-\",VLOOKUP(L647,読み替え表_低炭素物流!$C$15:$F$21,4,0))","v":"-"},"-",null,null,null,null,0,0,0,0,0,"*"]
[null,null,640,null,null,null,null,null,null,null,null,null,null,null,null,null,null,null,null,null,null,null,null,null,null,{"$f":"IF(H648=\"\",\"-\",VLOOKUP(J648,読み替え表_低炭素物流!$C$4:$F$12,4,0))","v":"-"},{"$f":"IF(H648=\"\",\"-\",VLOOKUP(L648,読み替え表_低炭素物流!$C$15:$F$21,4,0))","v":"-"},"-",null,null,null,null,0,0,0,0,0,"*"]
[null,null,641,null,null,null,null,null,null,null,null,null,null,null,null,null,null,null,null,null,null,null,null,null,null,{"$f":"IF(H649=\"\",\"-\",VLOOKUP(J649,読み替え表_低炭素物流!$C$4:$F$12,4,0))","v":"-"},{"$f":"IF(H649=\"\",\"-\",VLOOKUP(L649,読み替え表_低炭素物流!$C$15:$F$21,4,0))","v":"-"},"-",null,null,null,null,{"$f":"IF(N649=1,IF(OR(L649=4,L649=5),0,1),0)","v":0},0,0,0,0,"*"]
[null,null,{"$f":"ROW()-8","v":642},null,null,null,null,null,null,null,null,null,null,null,null,null,null,null,null,null,null,null,null,null,null,{"$f":"IF(H650=\"\",\"-\",VLOOKUP(J650,読み替え表_低炭素物流!$C$4:$F$12,4,0))","v":"-"},{"$f":"IF(H650=\"\",\"-\",VLOOKUP(L650,読み替え表_低炭素物流!$C$15:$F$21,4,0))","v":"-"},{"$f":"IF(H650=\"\",\"-\",Z650*AA650)","v":"-"},null,null,null,null,0,{"$f":"IF(J650=8,1,0)","v":0},{"$f":"IF(L650=6,1,0)","v":0},0,{"$f":"AG650","v":0},"*"]
[null,null,643,null,null,null,null,null,null,null,null,null,null,null,null,null,null,null,null,null,null,null,null,null,null,{"$f":"IF(H651=\"\",\"-\",VLOOKUP(J651,読み替え表_低炭素物流!$C$4:$F$12,4,0))","v":"-"},{"$f":"IF(H651=\"\",\"-\",VLOOKUP(L651,読み替え表_低炭素物流!$C$15:$F$21,4,0))","v":"-"},"-",null,null,null,null,0,0,0,0,0,"*"]
[null,null,644,null,null,null,null,null,null,null,null,null,null,null,null,null,null,null,null,null,null,null,null,null,null,{"$f":"IF(H652=\"\",\"-\",VLOOKUP(J652,読み替え表_低炭素物流!$C$4:$F$12,4,0))","v":"-"},{"$f":"IF(H652=\"\",\"-\",VLOOKUP(L652,読み替え表_低炭素物流!$C$15:$F$21,4,0))","v":"-"},"-",null,null,null,null,0,0,0,0,0,"*"]
[null,null,645,null,null,null,null,null,null,null,null,null,null,null,null,null,null,null,null,null,null,null,null,null,null,{"$f":"IF(H653=\"\",\"-\",VLOOKUP(J653,読み替え表_低炭素物流!$C$4:$F$12,4,0))","v":"-"},{"$f":"IF(H653=\"\",\"-\",VLOOKUP(L653,読み替え表_低炭素物流!$C$15:$F$21,4,0))","v":"-"},"-",null,null,null,null,0,0,0,0,0,"*"]
[null,null,646,null,null,null,null,null,null,null,null,null,null,null,null,null,null,null,null,null,null,null,null,null,null,{"$f":"IF(H654=\"\",\"-\",VLOOKUP(J654,読み替え表_低炭素物流!$C$4:$F$12,4,0))","v":"-"},{"$f":"IF(H654=\"\",\"-\",VLOOKUP(L654,読み替え表_低炭素物流!$C$15:$F$21,4,0))","v":"-"},"-",null,null,null,null,0,0,0,0,0,"*"]
[null,null,647,null,null,null,null,null,null,null,null,null,null,null,null,null,null,null,null,null,null,null,null,null,null,{"$f":"IF(H655=\"\",\"-\",VLOOKUP(J655,読み替え表_低炭素物流!$C$4:$F$12,4,0))","v":"-"},{"$f":"IF(H655=\"\",\"-\",VLOOKUP(L655,読み替え表_低炭素物流!$C$15:$F$21,4,0))","v":"-"},"-",null,null,null,null,0,0,0,0,0,"*"]
[null,null,648,null,null,null,null,null,null,null,null,null,null,null,null,null,null,null,null,null,null,null,null,null,null,{"$f":"IF(H656=\"\",\"-\",VLOOKUP(J656,読み替え表_低炭素物流!$C$4:$F$12,4,0))","v":"-"},{"$f":"IF(H656=\"\",\"-\",VLOOKUP(L656,読み替え表_低炭素物流!$C$15:$F$21,4,0))","v":"-"},"-",null,null,null,null,0,0,0,0,0,"*"]
[null,null,649,null,null,null,null,null,null,null,null,null,null,null,null,null,null,null,null,null,null,null,null,null,null,{"$f":"IF(H657=\"\",\"-\",VLOOKUP(J657,読み替え表_低炭素物流!$C$4:$F$12,4,0))","v":"-"},{"$f":"IF(H657=\"\",\"-\",VLOOKUP(L657,読み替え表_低炭素物流!$C$15:$F$21,4,0))","v":"-"},"-",null,null,null,null,0,0,0,0,0,"*"]
[null,null,650,null,null,null,null,null,null,null,null,null,null,null,null,null,null,null,null,null,null,null,null,null,null,{"$f":"IF(H658=\"\",\"-\",VLOOKUP(J658,読み替え表_低炭素物流!$C$4:$F$12,4,0))","v":"-"},{"$f":"IF(H658=\"\",\"-\",VLOOKUP(L658,読み替え表_低炭素物流!$C$15:$F$21,4,0))","v":"-"},"-",null,null,null,null,0,0,0,0,0,"*"]
[null,null,651,null,null,null,null,null,null,null,null,null,null,null,null,null,null,null,null,null,null,null,null,null,null,{"$f":"IF(H659=\"\",\"-\",VLOOKUP(J659,読み替え表_低炭素物流!$C$4:$F$12,4,0))","v":"-"},{"$f":"IF(H659=\"\",\"-\",VLOOKUP(L659,読み替え表_低炭素物流!$C$15:$F$21,4,0))","v":"-"},"-",null,null,null,null,0,0,0,0,0,"*"]
[null,null,652,null,null,null,null,null,null,null,null,null,null,null,null,null,null,null,null,null,null,null,null,null,null,{"$f":"IF(H660=\"\",\"-\",VLOOKUP(J660,読み替え表_低炭素物流!$C$4:$F$12,4,0))","v":"-"},{"$f":"IF(H660=\"\",\"-\",VLOOKUP(L660,読み替え表_低炭素物流!$C$15:$F$21,4,0))","v":"-"},"-",null,null,null,null,0,0,0,0,0,"*"]
[null,null,653,null,null,null,null,null,null,null,null,null,null,null,null,null,null,null,null,null,null,null,null,null,null,{"$f":"IF(H661=\"\",\"-\",VLOOKUP(J661,読み替え表_低炭素物流!$C$4:$F$12,4,0))","v":"-"},{"$f":"IF(H661=\"\",\"-\",VLOOKUP(L661,読み替え表_低炭素物流!$C$15:$F$21,4,0))","v":"-"},"-",null,null,null,null,0,0,0,0,0,"*"]
[null,null,654,null,null,null,null,null,null,null,null,null,null,null,null,null,null,null,null,null,null,null,null,null,null,{"$f":"IF(H662=\"\",\"-\",VLOOKUP(J662,読み替え表_低炭素物流!$C$4:$F$12,4,0))","v":"-"},{"$f":"IF(H662=\"\",\"-\",VLOOKUP(L662,読み替え表_低炭素物流!$C$15:$F$21,4,0))","v":"-"},"-",null,null,null,null,0,0,0,0,0,"*"]
[null,null,655,null,null,null,null,null,null,null,null,null,null,null,null,null,null,null,null,null,null,null,null,null,null,{"$f":"IF(H663=\"\",\"-\",VLOOKUP(J663,読み替え表_低炭素物流!$C$4:$F$12,4,0))","v":"-"},{"$f":"IF(H663=\"\",\"-\",VLOOKUP(L663,読み替え表_低炭素物流!$C$15:$F$21,4,0))","v":"-"},"-",null,null,null,null,0,0,0,0,0,"*"]
[null,null,656,null,null,null,null,null,null,null,null,null,null,null,null,null,null,null,null,null,null,null,null,null,null,{"$f":"IF(H664=\"\",\"-\",VLOOKUP(J664,読み替え表_低炭素物流!$C$4:$F$12,4,0))","v":"-"},{"$f":"IF(H664=\"\",\"-\",VLOOKUP(L664,読み替え表_低炭素物流!$C$15:$F$21,4,0))","v":"-"},"-",null,null,null,null,0,0,0,{"$f":"IF(OR(N664=7,N664=99),1,0)","v":0},0,"*"]
[null,null,657,null,null,null,null,null,null,null,null,null,null,null,null,null,null,null,null,null,null,null,null,null,null,{"$f":"IF(H665=\"\",\"-\",VLOOKUP(J665,読み替え表_低炭素物流!$C$4:$F$12,4,0))","v":"-"},{"$f":"IF(H665=\"\",\"-\",VLOOKUP(L665,読み替え表_低炭素物流!$C$15:$F$21,4,0))","v":"-"},"-",null,null,null,null,0,0,0,0,0,"*"]
[null,null,658,null,null,null,null,null,null,null,null,null,null,null,null,null,null,null,null,null,null,null,null,null,null,{"$f":"IF(H666=\"\",\"-\",VLOOKUP(J666,読み替え表_低炭素物流!$C$4:$F$12,4,0))","v":"-"},{"$f":"IF(H666=\"\",\"-\",VLOOKUP(L666,読み替え表_低炭素物流!$C$15:$F$21,4,0))","v":"-"},"-",null,null,null,null,0,0,0,0,0,"*"]
[null,null,659,null,null,null,null,null,null,null,null,null,null,null,null,null,null,null,null,null,null,null,null,null,null,{"$f":"IF(H667=\"\",\"-\",VLOOKUP(J667,読み替え表_低炭素物流!$C$4:$F$12,4,0))","v":"-"},{"$f":"IF(H667=\"\",\"-\",VLOOKUP(L667,読み替え表_低炭素物流!$C$15:$F$21,4,0))","v":"-"},"-",null,null,null,null,0,0,0,0,0,"*"]
[null,null,660,null,null,null,null,null,null,null,null,null,null,null,null,null,null,null,null,null,null,null,null,null,null,{"$f":"IF(H668=\"\",\"-\",VLOOKUP(J668,読み替え表_低炭素物流!$C$4:$F$12,4,0))","v":"-"},{"$f":"IF(H668=\"\",\"-\",VLOOKUP(L668,読み替え表_低炭素物流!$C$15:$F$21,4,0))","v":"-"},"-",null,null,null,null,0,0,0,0,0,"*"]
[null,null,661,null,null,null,null,null,null,null,null,null,null,null,null,null,null,null,null,null,null,null,null,null,null,{"$f":"IF(H669=\"\",\"-\",VLOOKUP(J669,読み替え表_低炭素物流!$C$4:$F$12,4,0))","v":"-"},{"$f":"IF(H669=\"\",\"-\",VLOOKUP(L669,読み替え表_低炭素物流!$C$15:$F$21,4,0))","v":"-"},"-",null,null,null,null,0,0,0,0,0,"*"]
[null,null,662,null,null,null,null,null,null,null,null,null,null,null,null,null,null,null,null,null,null,null,null,null,null,{"$f":"IF(H670=\"\",\"-\",VLOOKUP(J670,読み替え表_低炭素物流!$C$4:$F$12,4,0))","v":"-"},{"$f":"IF(H670=\"\",\"-\",VLOOKUP(L670,読み替え表_低炭素物流!$C$15:$F$21,4,0))","v":"-"},"-",null,null,null,null,0,0,0,0,0,"*"]
[null,null,663,null,null,null,null,null,null,null,null,null,null,null,null,null,null,null,null,null,null,null,null,null,null,{"$f":"IF(H671=\"\",\"-\",VLOOKUP(J671,読み替え表_低炭素物流!$C$4:$F$12,4,0))","v":"-"},{"$f":"IF(H671=\"\",\"-\",VLOOKUP(L671,読み替え表_低炭素物流!$C$15:$F$21,4,0))","v":"-"},"-",null,null,null,null,0,0,0,0,0,"*"]
[null,null,664,null,null,null,null,null,null,null,null,null,null,null,null,null,null,null,null,null,null,null,null,null,null,{"$f":"IF(H672=\"\",\"-\",VLOOKUP(J672,読み替え表_低炭素物流!$C$4:$F$12,4,0))","v":"-"},{"$f":"IF(H672=\"\",\"-\",VLOOKUP(L672,読み替え表_低炭素物流!$C$15:$F$21,4,0))","v":"-"},"-",null,null,null,null,0,0,0,0,0,"*"]
[null,null,665,null,null,null,null,null,null,null,null,null,null,null,null,null,null,null,null,null,null,null,null,null,null,{"$f":"IF(H673=\"\",\"-\",VLOOKUP(J673,読み替え表_低炭素物流!$C$4:$F$12,4,0))","v":"-"},{"$f":"IF(H673=\"\",\"-\",VLOOKUP(L673,読み替え表_低炭素物流!$C$15:$F$21,4,0))","v":"-"},"-",null,null,null,null,0,0,0,0,0,"*"]
[null,null,666,null,null,null,null,null,null,null,null,null,null,null,null,null,null,null,null,null,null,null,null,null,null,{"$f":"IF(H674=\"\",\"-\",VLOOKUP(J674,読み替え表_低炭素物流!$C$4:$F$12,4,0))","v":"-"},{"$f":"IF(H674=\"\",\"-\",VLOOKUP(L674,読み替え表_低炭素物流!$C$15:$F$21,4,0))","v":"-"},"-",null,null,null,null,0,0,0,0,0,"*"]
[null,null,667,null,null,null,null,null,null,null,null,null,null,null,null,null,null,null,null,null,null,null,null,null,null,{"$f":"IF(H675=\"\",\"-\",VLOOKUP(J675,読み替え表_低炭素物流!$C$4:$F$12,4,0))","v":"-"},{"$f":"IF(H675=\"\",\"-\",VLOOKUP(L675,読み替え表_低炭素物流!$C$15:$F$21,4,0))","v":"-"},"-",null,null,null,null,0,0,0,0,0,"*"]
[null,null,668,null,null,null,null,null,null,null,null,null,null,null,null,null,null,null,null,null,null,null,null,null,null,{"$f":"IF(H676=\"\",\"-\",VLOOKUP(J676,読み替え表_低炭素物流!$C$4:$F$12,4,0))","v":"-"},{"$f":"IF(H676=\"\",\"-\",VLOOKUP(L676,読み替え表_低炭素物流!$C$15:$F$21,4,0))","v":"-"},"-",null,null,null,null,0,0,0,0,0,"*"]
[null,null,669,null,null,null,null,null,null,null,null,null,null,null,null,null,null,null,null,null,null,null,null,null,null,{"$f":"IF(H677=\"\",\"-\",VLOOKUP(J677,読み替え表_低炭素物流!$C$4:$F$12,4,0))","v":"-"},{"$f":"IF(H677=\"\",\"-\",VLOOKUP(L677,読み替え表_低炭素物流!$C$15:$F$21,4,0))","v":"-"},"-",null,null,null,null,0,0,0,0,0,"*"]
[null,null,670,null,null,null,null,null,null,null,null,null,null,null,null,null,null,null,null,null,null,null,null,null,null,{"$f":"IF(H678=\"\",\"-\",VLOOKUP(J678,読み替え表_低炭素物流!$C$4:$F$12,4,0))","v":"-"},{"$f":"IF(H678=\"\",\"-\",VLOOKUP(L678,読み替え表_低炭素物流!$C$15:$F$21,4,0))","v":"-"},"-",null,null,null,null,0,0,0,0,0,"*"]
[null,null,671,null,null,null,null,null,null,null,null,null,null,null,null,null,null,null,null,null,null,null,null,null,null,{"$f":"IF(H679=\"\",\"-\",VLOOKUP(J679,読み替え表_低炭素物流!$C$4:$F$12,4,0))","v":"-"},{"$f":"IF(H679=\"\",\"-\",VLOOKUP(L679,読み替え表_低炭素物流!$C$15:$F$21,4,0))","v":"-"},"-",null,null,null,null,0,0,0,0,0,"*"]
[null,null,672,null,null,null,null,null,null,null,null,null,null,null,null,null,null,null,null,null,null,null,null,null,null,{"$f":"IF(H680=\"\",\"-\",VLOOKUP(J680,読み替え表_低炭素物流!$C$4:$F$12,4,0))","v":"-"},{"$f":"IF(H680=\"\",\"-\",VLOOKUP(L680,読み替え表_低炭素物流!$C$15:$F$21,4,0))","v":"-"},"-",null,null,null,null,0,0,0,0,0,"*"]
[null,null,673,null,null,null,null,null,null,null,null,null,null,null,null,null,null,null,null,null,null,null,null,null,null,{"$f":"IF(H681=\"\",\"-\",VLOOKUP(J681,読み替え表_低炭素物流!$C$4:$F$12,4,0))","v":"-"},{"$f":"IF(H681=\"\",\"-\",VLOOKUP(L681,読み替え表_低炭素物流!$C$15:$F$21,4,0))","v":"-"},"-",null,null,null,null,0,0,0,0,0,"*"]
[null,null,674,null,null,null,null,null,null,null,null,null,null,null,null,null,null,null,null,null,null,null,null,null,null,{"$f":"IF(H682=\"\",\"-\",VLOOKUP(J682,読み替え表_低炭素物流!$C$4:$F$12,4,0))","v":"-"},{"$f":"IF(H682=\"\",\"-\",VLOOKUP(L682,読み替え表_低炭素物流!$C$15:$F$21,4,0))","v":"-"},"-",null,null,null,null,0,0,0,0,0,"*"]
[null,null,675,null,null,null,null,null,null,null,null,null,null,null,null,null,null,null,null,null,null,null,null,null,null,{"$f":"IF(H683=\"\",\"-\",VLOOKUP(J683,読み替え表_低炭素物流!$C$4:$F$12,4,0))","v":"-"},{"$f":"IF(H683=\"\",\"-\",VLOOKUP(L683,読み替え表_低炭素物流!$C$15:$F$21,4,0))","v":"-"},"-",null,null,null,null,0,0,0,0,0,"*"]
[null,null,676,null,null,null,null,null,null,null,null,null,null,null,null,null,null,null,null,null,null,null,null,null,null,{"$f":"IF(H684=\"\",\"-\",VLOOKUP(J684,読み替え表_低炭素物流!$C$4:$F$12,4,0))","v":"-"},{"$f":"IF(H684=\"\",\"-\",VLOOKUP(L684,読み替え表_低炭素物流!$C$15:$F$21,4,0))","v":"-"},"-",null,null,null,null,0,0,0,0,0,"*"]
[null,null,677,null,null,null,null,null,null,null,null,null,null,null,null,null,null,null,null,null,null,null,null,null,null,{"$f":"IF(H685=\"\",\"-\",VLOOKUP(J685,読み替え表_低炭素物流!$C$4:$F$12,4,0))","v":"-"},{"$f":"IF(H685=\"\",\"-\",VLOOKUP(L685,読み替え表_低炭素物流!$C$15:$F$21,4,0))","v":"-"},"-",null,null,null,null,0,0,0,0,0,"*"]
[null,null,678,null,null,null,null,null,null,null,null,null,null,null,null,null,null,null,null,null,null,null,null,null,null,{"$f":"IF(H686=\"\",\"-\",VLOOKUP(J686,読み替え表_低炭素物流!$C$4:$F$12,4,0))","v":"-"},{"$f":"IF(H686=\"\",\"-\",VLOOKUP(L686,読み替え表_低炭素物流!$C$15:$F$21,4,0))","v":"-"},"-",null,null,null,null,0,0,0,0,0,"*"]
[null,null,679,null,null,null,null,null,null,null,null,null,null,null,null,null,null,null,null,null,null,null,null,null,null,{"$f":"IF(H687=\"\",\"-\",VLOOKUP(J687,読み替え表_低炭素物流!$C$4:$F$12,4,0))","v":"-"},{"$f":"IF(H687=\"\",\"-\",VLOOKUP(L687,読み替え表_低炭素物流!$C$15:$F$21,4,0))","v":"-"},"-",null,null,null,null,0,0,0,0,0,"*"]
[null,null,680,null,null,null,null,null,null,null,null,null,null,null,null,null,null,null,null,null,null,null,null,null,null,{"$f":"IF(H688=\"\",\"-\",VLOOKUP(J688,読み替え表_低炭素物流!$C$4:$F$12,4,0))","v":"-"},{"$f":"IF(H688=\"\",\"-\",VLOOKUP(L688,読み替え表_低炭素物流!$C$15:$F$21,4,0))","v":"-"},"-",null,null,null,null,0,0,0,0,0,"*"]
[null,null,681,null,null,null,null,null,null,null,null,null,null,null,null,null,null,null,null,null,null,null,null,null,null,{"$f":"IF(H689=\"\",\"-\",VLOOKUP(J689,読み替え表_低炭素物流!$C$4:$F$12,4,0))","v":"-"},{"$f":"IF(H689=\"\",\"-\",VLOOKUP(L689,読み替え表_低炭素物流!$C$15:$F$21,4,0))","v":"-"},"-",null,null,null,null,0,0,0,0,0,"*"]
[null,null,682,null,null,null,null,null,null,null,null,null,null,null,null,null,null,null,null,null,null,null,null,null,null,{"$f":"IF(H690=\"\",\"-\",VLOOKUP(J690,読み替え表_低炭素物流!$C$4:$F$12,4,0))","v":"-"},{"$f":"IF(H690=\"\",\"-\",VLOOKUP(L690,読み替え表_低炭素物流!$C$15:$F$21,4,0))","v":"-"},"-",null,null,null,null,0,0,0,0,0,"*"]
[null,null,683,null,null,null,null,null,null,null,null,null,null,null,null,null,null,null,null,null,null,null,null,null,null,{"$f":"IF(H691=\"\",\"-\",VLOOKUP(J691,読み替え表_低炭素物流!$C$4:$F$12,4,0))","v":"-"},{"$f":"IF(H691=\"\",\"-\",VLOOKUP(L691,読み替え表_低炭素物流!$C$15:$F$21,4,0))","v":"-"},"-",null,null,null,null,0,0,0,0,0,"*"]
[null,null,684,null,null,null,null,null,null,null,null,null,null,null,null,null,null,null,null,null,null,null,null,null,null,{"$f":"IF(H692=\"\",\"-\",VLOOKUP(J692,読み替え表_低炭素物流!$C$4:$F$12,4,0))","v":"-"},{"$f":"IF(H692=\"\",\"-\",VLOOKUP(L692,読み替え表_低炭素物流!$C$15:$F$21,4,0))","v":"-"},"-",null,null,null,null,0,0,0,0,0,"*"]
[null,null,685,null,null,null,null,null,null,null,null,null,null,null,null,null,null,null,null,null,null,null,null,null,null,{"$f":"IF(H693=\"\",\"-\",VLOOKUP(J693,読み替え表_低炭素物流!$C$4:$F$12,4,0))","v":"-"},{"$f":"IF(H693=\"\",\"-\",VLOOKUP(L693,読み替え表_低炭素物流!$C$15:$F$21,4,0))","v":"-"},"-",null,null,null,null,0,0,0,0,0,"*"]
[null,null,686,null,null,null,null,null,null,null,null,null,null,null,null,null,null,null,null,null,null,null,null,null,null,{"$f":"IF(H694=\"\",\"-\",VLOOKUP(J694,読み替え表_低炭素物流!$C$4:$F$12,4,0))","v":"-"},{"$f":"IF(H694=\"\",\"-\",VLOOKUP(L694,読み替え表_低炭素物流!$C$15:$F$21,4,0))","v":"-"},"-",null,null,null,null,0,0,0,0,0,"*"]
[null,null,687,null,null,null,null,null,null,null,null,null,null,null,null,null,null,null,null,null,null,null,null,null,null,{"$f":"IF(H695=\"\",\"-\",VLOOKUP(J695,読み替え表_低炭素物流!$C$4:$F$12,4,0))","v":"-"},{"$f":"IF(H695=\"\",\"-\",VLOOKUP(L695,読み替え表_低炭素物流!$C$15:$F$21,4,0))","v":"-"},"-",null,null,null,null,0,0,0,0,0,"*"]
[null,null,688,null,null,null,null,null,null,null,null,null,null,null,null,null,null,null,null,null,null,null,null,null,null,{"$f":"IF(H696=\"\",\"-\",VLOOKUP(J696,読み替え表_低炭素物流!$C$4:$F$12,4,0))","v":"-"},{"$f":"IF(H696=\"\",\"-\",VLOOKUP(L696,読み替え表_低炭素物流!$C$15:$F$21,4,0))","v":"-"},"-",null,null,null,null,0,0,0,0,0,"*"]
[null,null,689,null,null,null,null,null,null,null,null,null,null,null,null,null,null,null,null,null,null,null,null,null,null,{"$f":"IF(H697=\"\",\"-\",VLOOKUP(J697,読み替え表_低炭素物流!$C$4:$F$12,4,0))","v":"-"},{"$f":"IF(H697=\"\",\"-\",VLOOKUP(L697,読み替え表_低炭素物流!$C$15:$F$21,4,0))","v":"-"},"-",null,null,null,null,0,0,0,0,0,"*"]
[null,null,690,null,null,null,null,null,null,null,null,null,null,null,null,null,null,null,null,null,null,null,null,null,null,{"$f":"IF(H698=\"\",\"-\",VLOOKUP(J698,読み替え表_低炭素物流!$C$4:$F$12,4,0))","v":"-"},{"$f":"IF(H698=\"\",\"-\",VLOOKUP(L698,読み替え表_低炭素物流!$C$15:$F$21,4,0))","v":"-"},"-",null,null,null,null,0,0,0,0,0,"*"]
[null,null,691,null,null,null,null,null,null,null,null,null,null,null,null,null,null,null,null,null,null,null,null,null,null,{"$f":"IF(H699=\"\",\"-\",VLOOKUP(J699,読み替え表_低炭素物流!$C$4:$F$12,4,0))","v":"-"},{"$f":"IF(H699=\"\",\"-\",VLOOKUP(L699,読み替え表_低炭素物流!$C$15:$F$21,4,0))","v":"-"},"-",null,null,null,null,0,0,0,0,0,"*"]
[null,null,692,null,null,null,null,null,null,null,null,null,null,null,null,null,null,null,null,null,null,null,null,null,null,{"$f":"IF(H700=\"\",\"-\",VLOOKUP(J700,読み替え表_低炭素物流!$C$4:$F$12,4,0))","v":"-"},{"$f":"IF(H700=\"\",\"-\",VLOOKUP(L700,読み替え表_低炭素物流!$C$15:$F$21,4,0))","v":"-"},"-",null,null,null,null,0,0,0,0,0,"*"]
[null,null,693,null,null,null,null,null,null,null,null,null,null,null,null,null,null,null,null,null,null,null,null,null,null,{"$f":"IF(H701=\"\",\"-\",VLOOKUP(J701,読み替え表_低炭素物流!$C$4:$F$12,4,0))","v":"-"},{"$f":"IF(H701=\"\",\"-\",VLOOKUP(L701,読み替え表_低炭素物流!$C$15:$F$21,4,0))","v":"-"},"-",null,null,null,null,0,0,0,0,0,"*"]
[null,null,694,null,null,null,null,null,null,null,null,null,null,null,null,null,null,null,null,null,null,null,null,null,null,{"$f":"IF(H702=\"\",\"-\",VLOOKUP(J702,読み替え表_低炭素物流!$C$4:$F$12,4,0))","v":"-"},{"$f":"IF(H702=\"\",\"-\",VLOOKUP(L702,読み替え表_低炭素物流!$C$15:$F$21,4,0))","v":"-"},"-",null,null,null,null,0,0,0,0,0,"*"]
[null,null,695,null,null,null,null,null,null,null,null,null,null,null,null,null,null,null,null,null,null,null,null,null,null,{"$f":"IF(H703=\"\",\"-\",VLOOKUP(J703,読み替え表_低炭素物流!$C$4:$F$12,4,0))","v":"-"},{"$f":"IF(H703=\"\",\"-\",VLOOKUP(L703,読み替え表_低炭素物流!$C$15:$F$21,4,0))","v":"-"},"-",null,null,null,null,0,0,0,0,0,"*"]
[null,null,696,null,null,null,null,null,null,null,null,null,null,null,null,null,null,null,null,null,null,null,null,null,null,{"$f":"IF(H704=\"\",\"-\",VLOOKUP(J704,読み替え表_低炭素物流!$C$4:$F$12,4,0))","v":"-"},{"$f":"IF(H704=\"\",\"-\",VLOOKUP(L704,読み替え表_低炭素物流!$C$15:$F$21,4,0))","v":"-"},"-",null,null,null,null,0,0,0,0,0,"*"]
[null,null,697,null,null,null,null,null,null,null,null,null,null,null,null,null,null,null,null,null,null,null,null,null,null,{"$f":"IF(H705=\"\",\"-\",VLOOKUP(J705,読み替え表_低炭素物流!$C$4:$F$12,4,0))","v":"-"},{"$f":"IF(H705=\"\",\"-\",VLOOKUP(L705,読み替え表_低炭素物流!$C$15:$F$21,4,0))","v":"-"},"-",null,null,null,null,0,0,0,0,0,"*"]
[null,null,698,null,null,null,null,null,null,null,null,null,null,null,null,null,null,null,null,null,null,null,null,null,null,{"$f":"IF(H706=\"\",\"-\",VLOOKUP(J706,読み替え表_低炭素物流!$C$4:$F$12,4,0))","v":"-"},{"$f":"IF(H706=\"\",\"-\",VLOOKUP(L706,読み替え表_低炭素物流!$C$15:$F$21,4,0))","v":"-"},"-",null,null,null,null,0,0,0,0,0,"*"]
[null,null,699,null,null,null,null,null,null,null,null,null,null,null,null,null,null,null,null,null,null,null,null,null,null,{"$f":"IF(H707=\"\",\"-\",VLOOKUP(J707,読み替え表_低炭素物流!$C$4:$F$12,4,0))","v":"-"},{"$f":"IF(H707=\"\",\"-\",VLOOKUP(L707,読み替え表_低炭素物流!$C$15:$F$21,4,0))","v":"-"},"-",null,null,null,null,0,0,0,0,0,"*"]
[null,null,700,null,null,null,null,null,null,null,null,null,null,null,null,null,null,null,null,null,null,null,null,null,null,{"$f":"IF(H708=\"\",\"-\",VLOOKUP(J708,読み替え表_低炭素物流!$C$4:$F$12,4,0))","v":"-"},{"$f":"IF(H708=\"\",\"-\",VLOOKUP(L708,読み替え表_低炭素物流!$C$15:$F$21,4,0))","v":"-"},"-",null,null,null,null,0,0,0,0,0,"*"]
[null,null,701,null,null,null,null,null,null,null,null,null,null,null,null,null,null,null,null,null,null,null,null,null,null,{"$f":"IF(H709=\"\",\"-\",VLOOKUP(J709,読み替え表_低炭素物流!$C$4:$F$12,4,0))","v":"-"},{"$f":"IF(H709=\"\",\"-\",VLOOKUP(L709,読み替え表_低炭素物流!$C$15:$F$21,4,0))","v":"-"},"-",null,null,null,null,0,0,0,0,0,"*"]
[null,null,702,null,null,null,null,null,null,null,null,null,null,null,null,null,null,null,null,null,null,null,null,null,null,{"$f":"IF(H710=\"\",\"-\",VLOOKUP(J710,読み替え表_低炭素物流!$C$4:$F$12,4,0))","v":"-"},{"$f":"IF(H710=\"\",\"-\",VLOOKUP(L710,読み替え表_低炭素物流!$C$15:$F$21,4,0))","v":"-"},"-",null,null,null,null,0,0,0,0,0,"*"]
[null,null,703,null,null,null,null,null,null,null,null,null,null,null,null,null,null,null,null,null,null,null,null,null,null,{"$f":"IF(H711=\"\",\"-\",VLOOKUP(J711,読み替え表_低炭素物流!$C$4:$F$12,4,0))","v":"-"},{"$f":"IF(H711=\"\",\"-\",VLOOKUP(L711,読み替え表_低炭素物流!$C$15:$F$21,4,0))","v":"-"},"-",null,null,null,null,0,0,0,0,0,"*"]
[null,null,704,null,null,null,null,null,null,null,null,null,null,null,null,null,null,null,null,null,null,null,null,null,null,{"$f":"IF(H712=\"\",\"-\",VLOOKUP(J712,読み替え表_低炭素物流!$C$4:$F$12,4,0))","v":"-"},{"$f":"IF(H712=\"\",\"-\",VLOOKUP(L712,読み替え表_低炭素物流!$C$15:$F$21,4,0))","v":"-"},"-",null,null,null,null,0,0,0,0,0,"*"]
[null,null,705,null,null,null,null,null,null,null,null,null,null,null,null,null,null,null,null,null,null,null,null,null,null,{"$f":"IF(H713=\"\",\"-\",VLOOKUP(J713,読み替え表_低炭素物流!$C$4:$F$12,4,0))","v":"-"},{"$f":"IF(H713=\"\",\"-\",VLOOKUP(L713,読み替え表_低炭素物流!$C$15:$F$21,4,0))","v":"-"},"-",null,null,null,null,{"$f":"IF(N713=1,IF(OR(L713=4,L713=5),0,1),0)","v":0},0,0,0,0,"*"]
[null,null,{"$f":"ROW()-8","v":706},null,null,null,null,null,null,null,null,null,null,null,null,null,null,null,null,null,null,null,null,null,null,{"$f":"IF(H714=\"\",\"-\",VLOOKUP(J714,読み替え表_低炭素物流!$C$4:$F$12,4,0))","v":"-"},{"$f":"IF(H714=\"\",\"-\",VLOOKUP(L714,読み替え表_低炭素物流!$C$15:$F$21,4,0))","v":"-"},{"$f":"IF(H714=\"\",\"-\",Z714*AA714)","v":"-"},null,null,null,null,0,{"$f":"IF(J714=8,1,0)","v":0},{"$f":"IF(L714=6,1,0)","v":0},0,{"$f":"AG714","v":0},"*"]
[null,null,707,null,null,null,null,null,null,null,null,null,null,null,null,null,null,null,null,null,null,null,null,null,null,{"$f":"IF(H715=\"\",\"-\",VLOOKUP(J715,読み替え表_低炭素物流!$C$4:$F$12,4,0))","v":"-"},{"$f":"IF(H715=\"\",\"-\",VLOOKUP(L715,読み替え表_低炭素物流!$C$15:$F$21,4,0))","v":"-"},"-",null,null,null,null,0,0,0,0,0,"*"]
[null,null,708,null,null,null,null,null,null,null,null,null,null,null,null,null,null,null,null,null,null,null,null,null,null,{"$f":"IF(H716=\"\",\"-\",VLOOKUP(J716,読み替え表_低炭素物流!$C$4:$F$12,4,0))","v":"-"},{"$f":"IF(H716=\"\",\"-\",VLOOKUP(L716,読み替え表_低炭素物流!$C$15:$F$21,4,0))","v":"-"},"-",null,null,null,null,0,0,0,0,0,"*"]
[null,null,709,null,null,null,null,null,null,null,null,null,null,null,null,null,null,null,null,null,null,null,null,null,null,{"$f":"IF(H717=\"\",\"-\",VLOOKUP(J717,読み替え表_低炭素物流!$C$4:$F$12,4,0))","v":"-"},{"$f":"IF(H717=\"\",\"-\",VLOOKUP(L717,読み替え表_低炭素物流!$C$15:$F$21,4,0))","v":"-"},"-",null,null,null,null,0,0,0,0,0,"*"]
[null,null,710,null,null,null,null,null,null,null,null,null,null,null,null,null,null,null,null,null,null,null,null,null,null,{"$f":"IF(H718=\"\",\"-\",VLOOKUP(J718,読み替え表_低炭素物流!$C$4:$F$12,4,0))","v":"-"},{"$f":"IF(H718=\"\",\"-\",VLOOKUP(L718,読み替え表_低炭素物流!$C$15:$F$21,4,0))","v":"-"},"-",null,null,null,null,0,0,0,0,0,"*"]
[null,null,711,null,null,null,null,null,null,null,null,null,null,null,null,null,null,null,null,null,null,null,null,null,null,{"$f":"IF(H719=\"\",\"-\",VLOOKUP(J719,読み替え表_低炭素物流!$C$4:$F$12,4,0))","v":"-"},{"$f":"IF(H719=\"\",\"-\",VLOOKUP(L719,読み替え表_低炭素物流!$C$15:$F$21,4,0))","v":"-"},"-",null,null,null,null,0,0,0,0,0,"*"]
[null,null,712,null,null,null,null,null,null,null,null,null,null,null,null,null,null,null,null,null,null,null,null,null,null,{"$f":"IF(H720=\"\",\"-\",VLOOKUP(J720,読み替え表_低炭素物流!$C$4:$F$12,4,0))","v":"-"},{"$f":"IF(H720=\"\",\"-\",VLOOKUP(L720,読み替え表_低炭素物流!$C$15:$F$21,4,0))","v":"-"},"-",null,null,null,null,0,0,0,0,0,"*"]
[null,null,713,null,null,null,null,null,null,null,null,null,null,null,null,null,null,null,null,null,null,null,null,null,null,{"$f":"IF(H721=\"\",\"-\",VLOOKUP(J721,読み替え表_低炭素物流!$C$4:$F$12,4,0))","v":"-"},{"$f":"IF(H721=\"\",\"-\",VLOOKUP(L721,読み替え表_低炭素物流!$C$15:$F$21,4,0))","v":"-"},"-",null,null,null,null,0,0,0,0,0,"*"]
[null,null,714,null,null,null,null,null,null,null,null,null,null,null,null,null,null,null,null,null,null,null,null,null,null,{"$f":"IF(H722=\"\",\"-\",VLOOKUP(J722,読み替え表_低炭素物流!$C$4:$F$12,4,0))","v":"-"},{"$f":"IF(H722=\"\",\"-\",VLOOKUP(L722,読み替え表_低炭素物流!$C$15:$F$21,4,0))","v":"-"},"-",null,null,null,null,0,0,0,0,0,"*"]
[null,null,715,null,null,null,null,null,null,null,null,null,null,null,null,null,null,null,null,null,null,null,null,null,null,{"$f":"IF(H723=\"\",\"-\",VLOOKUP(J723,読み替え表_低炭素物流!$C$4:$F$12,4,0))","v":"-"},{"$f":"IF(H723=\"\",\"-\",VLOOKUP(L723,読み替え表_低炭素物流!$C$15:$F$21,4,0))","v":"-"},"-",null,null,null,null,0,0,0,0,0,"*"]
[null,null,716,null,null,null,null,null,null,null,null,null,null,null,null,null,null,null,null,null,null,null,null,null,null,{"$f":"IF(H724=\"\",\"-\",VLOOKUP(J724,読み替え表_低炭素物流!$C$4:$F$12,4,0))","v":"-"},{"$f":"IF(H724=\"\",\"-\",VLOOKUP(L724,読み替え表_低炭素物流!$C$15:$F$21,4,0))","v":"-"},"-",null,null,null,null,0,0,0,0,0,"*"]
[null,null,717,null,null,null,null,null,null,null,null,null,null,null,null,null,null,null,null,null,null,null,null,null,null,{"$f":"IF(H725=\"\",\"-\",VLOOKUP(J725,読み替え表_低炭素物流!$C$4:$F$12,4,0))","v":"-"},{"$f":"IF(H725=\"\",\"-\",VLOOKUP(L725,読み替え表_低炭素物流!$C$15:$F$21,4,0))","v":"-"},"-",null,null,null,null,0,0,0,0,0,"*"]
[null,null,718,null,null,null,null,null,null,null,null,null,null,null,null,null,null,null,null,null,null,null,null,null,null,{"$f":"IF(H726=\"\",\"-\",VLOOKUP(J726,読み替え表_低炭素物流!$C$4:$F$12,4,0))","v":"-"},{"$f":"IF(H726=\"\",\"-\",VLOOKUP(L726,読み替え表_低炭素物流!$C$15:$F$21,4,0))","v":"-"},"-",null,null,null,null,0,0,0,0,0,"*"]
[null,null,719,null,null,null,null,null,null,null,null,null,null,null,null,null,null,null,null,null,null,null,null,null,null,{"$f":"IF(H727=\"\",\"-\",VLOOKUP(J727,読み替え表_低炭素物流!$C$4:$F$12,4,0))","v":"-"},{"$f":"IF(H727=\"\",\"-\",VLOOKUP(L727,読み替え表_低炭素物流!$C$15:$F$21,4,0))","v":"-"},"-",null,null,null,null,0,0,0,0,0,"*"]
[null,null,720,null,null,null,null,null,null,null,null,null,null,null,null,null,null,null,null,null,null,null,null,null,null,{"$f":"IF(H728=\"\",\"-\",VLOOKUP(J728,読み替え表_低炭素物流!$C$4:$F$12,4,0))","v":"-"},{"$f":"IF(H728=\"\",\"-\",VLOOKUP(L728,読み替え表_低炭素物流!$C$15:$F$21,4,0))","v":"-"},"-",null,null,null,null,0,0,0,{"$f":"IF(OR(N728=7,N728=99),1,0)","v":0},0,"*"]
[null,null,721,null,null,null,null,null,null,null,null,null,null,null,null,null,null,null,null,null,null,null,null,null,null,{"$f":"IF(H729=\"\",\"-\",VLOOKUP(J729,読み替え表_低炭素物流!$C$4:$F$12,4,0))","v":"-"},{"$f":"IF(H729=\"\",\"-\",VLOOKUP(L729,読み替え表_低炭素物流!$C$15:$F$21,4,0))","v":"-"},"-",null,null,null,null,0,0,0,0,0,"*"]
[null,null,722,null,null,null,null,null,null,null,null,null,null,null,null,null,null,null,null,null,null,null,null,null,null,{"$f":"IF(H730=\"\",\"-\",VLOOKUP(J730,読み替え表_低炭素物流!$C$4:$F$12,4,0))","v":"-"},{"$f":"IF(H730=\"\",\"-\",VLOOKUP(L730,読み替え表_低炭素物流!$C$15:$F$21,4,0))","v":"-"},"-",null,null,null,null,0,0,0,0,0,"*"]
[null,null,723,null,null,null,null,null,null,null,null,null,null,null,null,null,null,null,null,null,null,null,null,null,null,{"$f":"IF(H731=\"\",\"-\",VLOOKUP(J731,読み替え表_低炭素物流!$C$4:$F$12,4,0))","v":"-"},{"$f":"IF(H731=\"\",\"-\",VLOOKUP(L731,読み替え表_低炭素物流!$C$15:$F$21,4,0))","v":"-"},"-",null,null,null,null,0,0,0,0,0,"*"]
[null,null,724,null,null,null,null,null,null,null,null,null,null,null,null,null,null,null,null,null,null,null,null,null,null,{"$f":"IF(H732=\"\",\"-\",VLOOKUP(J732,読み替え表_低炭素物流!$C$4:$F$12,4,0))","v":"-"},{"$f":"IF(H732=\"\",\"-\",VLOOKUP(L732,読み替え表_低炭素物流!$C$15:$F$21,4,0))","v":"-"},"-",null,null,null,null,0,0,0,0,0,"*"]
[null,null,725,null,null,null,null,null,null,null,null,null,null,null,null,null,null,null,null,null,null,null,null,null,null,{"$f":"IF(H733=\"\",\"-\",VLOOKUP(J733,読み替え表_低炭素物流!$C$4:$F$12,4,0))","v":"-"},{"$f":"IF(H733=\"\",\"-\",VLOOKUP(L733,読み替え表_低炭素物流!$C$15:$F$21,4,0))","v":"-"},"-",null,null,null,null,0,0,0,0,0,"*"]
[null,null,726,null,null,null,null,null,null,null,null,null,null,null,null,null,null,null,null,null,null,null,null,null,null,{"$f":"IF(H734=\"\",\"-\",VLOOKUP(J734,読み替え表_低炭素物流!$C$4:$F$12,4,0))","v":"-"},{"$f":"IF(H734=\"\",\"-\",VLOOKUP(L734,読み替え表_低炭素物流!$C$15:$F$21,4,0))","v":"-"},"-",null,null,null,null,0,0,0,0,0,"*"]
[null,null,727,null,null,null,null,null,null,null,null,null,null,null,null,null,null,null,null,null,null,null,null,null,null,{"$f":"IF(H735=\"\",\"-\",VLOOKUP(J735,読み替え表_低炭素物流!$C$4:$F$12,4,0))","v":"-"},{"$f":"IF(H735=\"\",\"-\",VLOOKUP(L735,読み替え表_低炭素物流!$C$15:$F$21,4,0))","v":"-"},"-",null,null,null,null,0,0,0,0,0,"*"]
[null,null,728,null,null,null,null,null,null,null,null,null,null,null,null,null,null,null,null,null,null,null,null,null,null,{"$f":"IF(H736=\"\",\"-\",VLOOKUP(J736,読み替え表_低炭素物流!$C$4:$F$12,4,0))","v":"-"},{"$f":"IF(H736=\"\",\"-\",VLOOKUP(L736,読み替え表_低炭素物流!$C$15:$F$21,4,0))","v":"-"},"-",null,null,null,null,0,0,0,0,0,"*"]
[null,null,729,null,null,null,null,null,null,null,null,null,null,null,null,null,null,null,null,null,null,null,null,null,null,{"$f":"IF(H737=\"\",\"-\",VLOOKUP(J737,読み替え表_低炭素物流!$C$4:$F$12,4,0))","v":"-"},{"$f":"IF(H737=\"\",\"-\",VLOOKUP(L737,読み替え表_低炭素物流!$C$15:$F$21,4,0))","v":"-"},"-",null,null,null,null,0,0,0,0,0,"*"]
[null,null,730,null,null,null,null,null,null,null,null,null,null,null,null,null,null,null,null,null,null,null,null,null,null,{"$f":"IF(H738=\"\",\"-\",VLOOKUP(J738,読み替え表_低炭素物流!$C$4:$F$12,4,0))","v":"-"},{"$f":"IF(H738=\"\",\"-\",VLOOKUP(L738,読み替え表_低炭素物流!$C$15:$F$21,4,0))","v":"-"},"-",null,null,null,null,0,0,0,0,0,"*"]
[null,null,731,null,null,null,null,null,null,null,null,null,null,null,null,null,null,null,null,null,null,null,null,null,null,{"$f":"IF(H739=\"\",\"-\",VLOOKUP(J739,読み替え表_低炭素物流!$C$4:$F$12,4,0))","v":"-"},{"$f":"IF(H739=\"\",\"-\",VLOOKUP(L739,読み替え表_低炭素物流!$C$15:$F$21,4,0))","v":"-"},"-",null,null,null,null,0,0,0,0,0,"*"]
[null,null,732,null,null,null,null,null,null,null,null,null,null,null,null,null,null,null,null,null,null,null,null,null,null,{"$f":"IF(H740=\"\",\"-\",VLOOKUP(J740,読み替え表_低炭素物流!$C$4:$F$12,4,0))","v":"-"},{"$f":"IF(H740=\"\",\"-\",VLOOKUP(L740,読み替え表_低炭素物流!$C$15:$F$21,4,0))","v":"-"},"-",null,null,null,null,0,0,0,0,0,"*"]
[null,null,733,null,null,null,null,null,null,null,null,null,null,null,null,null,null,null,null,null,null,null,null,null,null,{"$f":"IF(H741=\"\",\"-\",VLOOKUP(J741,読み替え表_低炭素物流!$C$4:$F$12,4,0))","v":"-"},{"$f":"IF(H741=\"\",\"-\",VLOOKUP(L741,読み替え表_低炭素物流!$C$15:$F$21,4,0))","v":"-"},"-",null,null,null,null,0,0,0,0,0,"*"]
[null,null,734,null,null,null,null,null,null,null,null,null,null,null,null,null,null,null,null,null,null,null,null,null,null,{"$f":"IF(H742=\"\",\"-\",VLOOKUP(J742,読み替え表_低炭素物流!$C$4:$F$12,4,0))","v":"-"},{"$f":"IF(H742=\"\",\"-\",VLOOKUP(L742,読み替え表_低炭素物流!$C$15:$F$21,4,0))","v":"-"},"-",null,null,null,null,0,0,0,0,0,"*"]
[null,null,735,null,null,null,null,null,null,null,null,null,null,null,null,null,null,null,null,null,null,null,null,null,null,{"$f":"IF(H743=\"\",\"-\",VLOOKUP(J743,読み替え表_低炭素物流!$C$4:$F$12,4,0))","v":"-"},{"$f":"IF(H743=\"\",\"-\",VLOOKUP(L743,読み替え表_低炭素物流!$C$15:$F$21,4,0))","v":"-"},"-",null,null,null,null,0,0,0,0,0,"*"]
[null,null,736,null,null,null,null,null,null,null,null,null,null,null,null,null,null,null,null,null,null,null,null,null,null,{"$f":"IF(H744=\"\",\"-\",VLOOKUP(J744,読み替え表_低炭素物流!$C$4:$F$12,4,0))","v":"-"},{"$f":"IF(H744=\"\",\"-\",VLOOKUP(L744,読み替え表_低炭素物流!$C$15:$F$21,4,0))","v":"-"},"-",null,null,null,null,0,0,0,0,0,"*"]
[null,null,737,null,null,null,null,null,null,null,null,null,null,null,null,null,null,null,null,null,null,null,null,null,null,{"$f":"IF(H745=\"\",\"-\",VLOOKUP(J745,読み替え表_低炭素物流!$C$4:$F$12,4,0))","v":"-"},{"$f":"IF(H745=\"\",\"-\",VLOOKUP(L745,読み替え表_低炭素物流!$C$15:$F$21,4,0))","v":"-"},"-",null,null,null,null,0,0,0,0,0,"*"]
[null,null,738,null,null,null,null,null,null,null,null,null,null,null,null,null,null,null,null,null,null,null,null,null,null,{"$f":"IF(H746=\"\",\"-\",VLOOKUP(J746,読み替え表_低炭素物流!$C$4:$F$12,4,0))","v":"-"},{"$f":"IF(H746=\"\",\"-\",VLOOKUP(L746,読み替え表_低炭素物流!$C$15:$F$21,4,0))","v":"-"},"-",null,null,null,null,0,0,0,0,0,"*"]
[null,null,739,null,null,null,null,null,null,null,null,null,null,null,null,null,null,null,null,null,null,null,null,null,null,{"$f":"IF(H747=\"\",\"-\",VLOOKUP(J747,読み替え表_低炭素物流!$C$4:$F$12,4,0))","v":"-"},{"$f":"IF(H747=\"\",\"-\",VLOOKUP(L747,読み替え表_低炭素物流!$C$15:$F$21,4,0))","v":"-"},"-",null,null,null,null,0,0,0,0,0,"*"]
[null,null,740,null,null,null,null,null,null,null,null,null,null,null,null,null,null,null,null,null,null,null,null,null,null,{"$f":"IF(H748=\"\",\"-\",VLOOKUP(J748,読み替え表_低炭素物流!$C$4:$F$12,4,0))","v":"-"},{"$f":"IF(H748=\"\",\"-\",VLOOKUP(L748,読み替え表_低炭素物流!$C$15:$F$21,4,0))","v":"-"},"-",null,null,null,null,0,0,0,0,0,"*"]
[null,null,741,null,null,null,null,null,null,null,null,null,null,null,null,null,null,null,null,null,null,null,null,null,null,{"$f":"IF(H749=\"\",\"-\",VLOOKUP(J749,読み替え表_低炭素物流!$C$4:$F$12,4,0))","v":"-"},{"$f":"IF(H749=\"\",\"-\",VLOOKUP(L749,読み替え表_低炭素物流!$C$15:$F$21,4,0))","v":"-"},"-",null,null,null,null,0,0,0,0,0,"*"]
[null,null,742,null,null,null,null,null,null,null,null,null,null,null,null,null,null,null,null,null,null,null,null,null,null,{"$f":"IF(H750=\"\",\"-\",VLOOKUP(J750,読み替え表_低炭素物流!$C$4:$F$12,4,0))","v":"-"},{"$f":"IF(H750=\"\",\"-\",VLOOKUP(L750,読み替え表_低炭素物流!$C$15:$F$21,4,0))","v":"-"},"-",null,null,null,null,0,0,0,0,0,"*"]
[null,null,743,null,null,null,null,null,null,null,null,null,null,null,null,null,null,null,null,null,null,null,null,null,null,{"$f":"IF(H751=\"\",\"-\",VLOOKUP(J751,読み替え表_低炭素物流!$C$4:$F$12,4,0))","v":"-"},{"$f":"IF(H751=\"\",\"-\",VLOOKUP(L751,読み替え表_低炭素物流!$C$15:$F$21,4,0))","v":"-"},"-",null,null,null,null,0,0,0,0,0,"*"]
[null,null,744,null,null,null,null,null,null,null,null,null,null,null,null,null,null,null,null,null,null,null,null,null,null,{"$f":"IF(H752=\"\",\"-\",VLOOKUP(J752,読み替え表_低炭素物流!$C$4:$F$12,4,0))","v":"-"},{"$f":"IF(H752=\"\",\"-\",VLOOKUP(L752,読み替え表_低炭素物流!$C$15:$F$21,4,0))","v":"-"},"-",null,null,null,null,0,0,0,0,0,"*"]
[null,null,745,null,null,null,null,null,null,null,null,null,null,null,null,null,null,null,null,null,null,null,null,null,null,{"$f":"IF(H753=\"\",\"-\",VLOOKUP(J753,読み替え表_低炭素物流!$C$4:$F$12,4,0))","v":"-"},{"$f":"IF(H753=\"\",\"-\",VLOOKUP(L753,読み替え表_低炭素物流!$C$15:$F$21,4,0))","v":"-"},"-",null,null,null,null,0,0,0,0,0,"*"]
[null,null,746,null,null,null,null,null,null,null,null,null,null,null,null,null,null,null,null,null,null,null,null,null,null,{"$f":"IF(H754=\"\",\"-\",VLOOKUP(J754,読み替え表_低炭素物流!$C$4:$F$12,4,0))","v":"-"},{"$f":"IF(H754=\"\",\"-\",VLOOKUP(L754,読み替え表_低炭素物流!$C$15:$F$21,4,0))","v":"-"},"-",null,null,null,null,0,0,0,0,0,"*"]
[null,null,747,null,null,null,null,null,null,null,null,null,null,null,null,null,null,null,null,null,null,null,null,null,null,{"$f":"IF(H755=\"\",\"-\",VLOOKUP(J755,読み替え表_低炭素物流!$C$4:$F$12,4,0))","v":"-"},{"$f":"IF(H755=\"\",\"-\",VLOOKUP(L755,読み替え表_低炭素物流!$C$15:$F$21,4,0))","v":"-"},"-",null,null,null,null,0,0,0,0,0,"*"]
[null,null,748,null,null,null,null,null,null,null,null,null,null,null,null,null,null,null,null,null,null,null,null,null,null,{"$f":"IF(H756=\"\",\"-\",VLOOKUP(J756,読み替え表_低炭素物流!$C$4:$F$12,4,0))","v":"-"},{"$f":"IF(H756=\"\",\"-\",VLOOKUP(L756,読み替え表_低炭素物流!$C$15:$F$21,4,0))","v":"-"},"-",null,null,null,null,0,0,0,0,0,"*"]
[null,null,749,null,null,null,null,null,null,null,null,null,null,null,null,null,null,null,null,null,null,null,null,null,null,{"$f":"IF(H757=\"\",\"-\",VLOOKUP(J757,読み替え表_低炭素物流!$C$4:$F$12,4,0))","v":"-"},{"$f":"IF(H757=\"\",\"-\",VLOOKUP(L757,読み替え表_低炭素物流!$C$15:$F$21,4,0))","v":"-"},"-",null,null,null,null,0,0,0,0,0,"*"]
[null,null,750,null,null,null,null,null,null,null,null,null,null,null,null,null,null,null,null,null,null,null,null,null,null,{"$f":"IF(H758=\"\",\"-\",VLOOKUP(J758,読み替え表_低炭素物流!$C$4:$F$12,4,0))","v":"-"},{"$f":"IF(H758=\"\",\"-\",VLOOKUP(L758,読み替え表_低炭素物流!$C$15:$F$21,4,0))","v":"-"},"-",null,null,null,null,0,0,0,0,0,"*"]
[null,null,751,null,null,null,null,null,null,null,null,null,null,null,null,null,null,null,null,null,null,null,null,null,null,{"$f":"IF(H759=\"\",\"-\",VLOOKUP(J759,読み替え表_低炭素物流!$C$4:$F$12,4,0))","v":"-"},{"$f":"IF(H759=\"\",\"-\",VLOOKUP(L759,読み替え表_低炭素物流!$C$15:$F$21,4,0))","v":"-"},"-",null,null,null,null,0,0,0,0,0,"*"]
[null,null,752,null,null,null,null,null,null,null,null,null,null,null,null,null,null,null,null,null,null,null,null,null,null,{"$f":"IF(H760=\"\",\"-\",VLOOKUP(J760,読み替え表_低炭素物流!$C$4:$F$12,4,0))","v":"-"},{"$f":"IF(H760=\"\",\"-\",VLOOKUP(L760,読み替え表_低炭素物流!$C$15:$F$21,4,0))","v":"-"},"-",null,null,null,null,0,0,0,0,0,"*"]
[null,null,753,null,null,null,null,null,null,null,null,null,null,null,null,null,null,null,null,null,null,null,null,null,null,{"$f":"IF(H761=\"\",\"-\",VLOOKUP(J761,読み替え表_低炭素物流!$C$4:$F$12,4,0))","v":"-"},{"$f":"IF(H761=\"\",\"-\",VLOOKUP(L761,読み替え表_低炭素物流!$C$15:$F$21,4,0))","v":"-"},"-",null,null,null,null,0,0,0,0,0,"*"]
[null,null,754,null,null,null,null,null,null,null,null,null,null,null,null,null,null,null,null,null,null,null,null,null,null,{"$f":"IF(H762=\"\",\"-\",VLOOKUP(J762,読み替え表_低炭素物流!$C$4:$F$12,4,0))","v":"-"},{"$f":"IF(H762=\"\",\"-\",VLOOKUP(L762,読み替え表_低炭素物流!$C$15:$F$21,4,0))","v":"-"},"-",null,null,null,null,0,0,0,0,0,"*"]
[null,null,755,null,null,null,null,null,null,null,null,null,null,null,null,null,null,null,null,null,null,null,null,null,null,{"$f":"IF(H763=\"\",\"-\",VLOOKUP(J763,読み替え表_低炭素物流!$C$4:$F$12,4,0))","v":"-"},{"$f":"IF(H763=\"\",\"-\",VLOOKUP(L763,読み替え表_低炭素物流!$C$15:$F$21,4,0))","v":"-"},"-",null,null,null,null,0,0,0,0,0,"*"]
[null,null,756,null,null,null,null,null,null,null,null,null,null,null,null,null,null,null,null,null,null,null,null,null,null,{"$f":"IF(H764=\"\",\"-\",VLOOKUP(J764,読み替え表_低炭素物流!$C$4:$F$12,4,0))","v":"-"},{"$f":"IF(H764=\"\",\"-\",VLOOKUP(L764,読み替え表_低炭素物流!$C$15:$F$21,4,0))","v":"-"},"-",null,null,null,null,0,0,0,0,0,"*"]
[null,null,757,null,null,null,null,null,null,null,null,null,null,null,null,null,null,null,null,null,null,null,null,null,null,{"$f":"IF(H765=\"\",\"-\",VLOOKUP(J765,読み替え表_低炭素物流!$C$4:$F$12,4,0))","v":"-"},{"$f":"IF(H765=\"\",\"-\",VLOOKUP(L765,読み替え表_低炭素物流!$C$15:$F$21,4,0))","v":"-"},"-",null,null,null,null,0,0,0,0,0,"*"]
[null,null,758,null,null,null,null,null,null,null,null,null,null,null,null,null,null,null,null,null,null,null,null,null,null,{"$f":"IF(H766=\"\",\"-\",VLOOKUP(J766,読み替え表_低炭素物流!$C$4:$F$12,4,0))","v":"-"},{"$f":"IF(H766=\"\",\"-\",VLOOKUP(L766,読み替え表_低炭素物流!$C$15:$F$21,4,0))","v":"-"},"-",null,null,null,null,0,0,0,0,0,"*"]
[null,null,759,null,null,null,null,null,null,null,null,null,null,null,null,null,null,null,null,null,null,null,null,null,null,{"$f":"IF(H767=\"\",\"-\",VLOOKUP(J767,読み替え表_低炭素物流!$C$4:$F$12,4,0))","v":"-"},{"$f":"IF(H767=\"\",\"-\",VLOOKUP(L767,読み替え表_低炭素物流!$C$15:$F$21,4,0))","v":"-"},"-",null,null,null,null,0,0,0,0,0,"*"]
[null,null,760,null,null,null,null,null,null,null,null,null,null,null,null,null,null,null,null,null,null,null,null,null,null,{"$f":"IF(H768=\"\",\"-\",VLOOKUP(J768,読み替え表_低炭素物流!$C$4:$F$12,4,0))","v":"-"},{"$f":"IF(H768=\"\",\"-\",VLOOKUP(L768,読み替え表_低炭素物流!$C$15:$F$21,4,0))","v":"-"},"-",null,null,null,null,0,0,0,0,0,"*"]
[null,null,761,null,null,null,null,null,null,null,null,null,null,null,null,null,null,null,null,null,null,null,null,null,null,{"$f":"IF(H769=\"\",\"-\",VLOOKUP(J769,読み替え表_低炭素物流!$C$4:$F$12,4,0))","v":"-"},{"$f":"IF(H769=\"\",\"-\",VLOOKUP(L769,読み替え表_低炭素物流!$C$15:$F$21,4,0))","v":"-"},"-",null,null,null,null,0,0,0,0,0,"*"]
[null,null,762,null,null,null,null,null,null,null,null,null,null,null,null,null,null,null,null,null,null,null,null,null,null,{"$f":"IF(H770=\"\",\"-\",VLOOKUP(J770,読み替え表_低炭素物流!$C$4:$F$12,4,0))","v":"-"},{"$f":"IF(H770=\"\",\"-\",VLOOKUP(L770,読み替え表_低炭素物流!$C$15:$F$21,4,0))","v":"-"},"-",null,null,null,null,0,0,0,0,0,"*"]
[null,null,763,null,null,null,null,null,null,null,null,null,null,null,null,null,null,null,null,null,null,null,null,null,null,{"$f":"IF(H771=\"\",\"-\",VLOOKUP(J771,読み替え表_低炭素物流!$C$4:$F$12,4,0))","v":"-"},{"$f":"IF(H771=\"\",\"-\",VLOOKUP(L771,読み替え表_低炭素物流!$C$15:$F$21,4,0))","v":"-"},"-",null,null,null,null,0,0,0,0,0,"*"]
[null,null,764,null,null,null,null,null,null,null,null,null,null,null,null,null,null,null,null,null,null,null,null,null,null,{"$f":"IF(H772=\"\",\"-\",VLOOKUP(J772,読み替え表_低炭素物流!$C$4:$F$12,4,0))","v":"-"},{"$f":"IF(H772=\"\",\"-\",VLOOKUP(L772,読み替え表_低炭素物流!$C$15:$F$21,4,0))","v":"-"},"-",null,null,null,null,0,0,0,0,0,"*"]
[null,null,765,null,null,null,null,null,null,null,null,null,null,null,null,null,null,null,null,null,null,null,null,null,null,{"$f":"IF(H773=\"\",\"-\",VLOOKUP(J773,読み替え表_低炭素物流!$C$4:$F$12,4,0))","v":"-"},{"$f":"IF(H773=\"\",\"-\",VLOOKUP(L773,読み替え表_低炭素物流!$C$15:$F$21,4,0))","v":"-"},"-",null,null,null,null,0,0,0,0,0,"*"]
[null,null,766,null,null,null,null,null,null,null,null,null,null,null,null,null,null,null,null,null,null,null,null,null,null,{"$f":"IF(H774=\"\",\"-\",VLOOKUP(J774,読み替え表_低炭素物流!$C$4:$F$12,4,0))","v":"-"},{"$f":"IF(H774=\"\",\"-\",VLOOKUP(L774,読み替え表_低炭素物流!$C$15:$F$21,4,0))","v":"-"},"-",null,null,null,null,0,0,0,0,0,"*"]
[null,null,767,null,null,null,null,null,null,null,null,null,null,null,null,null,null,null,null,null,null,null,null,null,null,{"$f":"IF(H775=\"\",\"-\",VLOOKUP(J775,読み替え表_低炭素物流!$C$4:$F$12,4,0))","v":"-"},{"$f":"IF(H775=\"\",\"-\",VLOOKUP(L775,読み替え表_低炭素物流!$C$15:$F$21,4,0))","v":"-"},"-",null,null,null,null,0,0,0,0,0,"*"]
[null,null,768,null,null,null,null,null,null,null,null,null,null,null,null,null,null,null,null,null,null,null,null,null,null,{"$f":"IF(H776=\"\",\"-\",VLOOKUP(J776,読み替え表_低炭素物流!$C$4:$F$12,4,0))","v":"-"},{"$f":"IF(H776=\"\",\"-\",VLOOKUP(L776,読み替え表_低炭素物流!$C$15:$F$21,4,0))","v":"-"},"-",null,null,null,null,0,0,0,0,0,"*"]
[null,null,769,null,null,null,null,null,null,null,null,null,null,null,null,null,null,null,null,null,null,null,null,null,null,{"$f":"IF(H777=\"\",\"-\",VLOOKUP(J777,読み替え表_低炭素物流!$C$4:$F$12,4,0))","v":"-"},{"$f":"IF(H777=\"\",\"-\",VLOOKUP(L777,読み替え表_低炭素物流!$C$15:$F$21,4,0))","v":"-"},"-",null,null,null,null,{"$f":"IF(N777=1,IF(OR(L777=4,L777=5),0,1),0)","v":0},0,0,0,0,"*"]
[null,null,{"$f":"ROW()-8","v":770},null,null,null,null,null,null,null,null,null,null,null,null,null,null,null,null,null,null,null,null,null,null,{"$f":"IF(H778=\"\",\"-\",VLOOKUP(J778,読み替え表_低炭素物流!$C$4:$F$12,4,0))","v":"-"},{"$f":"IF(H778=\"\",\"-\",VLOOKUP(L778,読み替え表_低炭素物流!$C$15:$F$21,4,0))","v":"-"},{"$f":"IF(H778=\"\",\"-\",Z778*AA778)","v":"-"},null,null,null,null,0,{"$f":"IF(J778=8,1,0)","v":0},{"$f":"IF(L778=6,1,0)","v":0},0,{"$f":"AG778","v":0},"*"]
[null,null,771,null,null,null,null,null,null,null,null,null,null,null,null,null,null,null,null,null,null,null,null,null,null,{"$f":"IF(H779=\"\",\"-\",VLOOKUP(J779,読み替え表_低炭素物流!$C$4:$F$12,4,0))","v":"-"},{"$f":"IF(H779=\"\",\"-\",VLOOKUP(L779,読み替え表_低炭素物流!$C$15:$F$21,4,0))","v":"-"},"-",null,null,null,null,0,0,0,0,0,"*"]
[null,null,772,null,null,null,null,null,null,null,null,null,null,null,null,null,null,null,null,null,null,null,null,null,null,{"$f":"IF(H780=\"\",\"-\",VLOOKUP(J780,読み替え表_低炭素物流!$C$4:$F$12,4,0))","v":"-"},{"$f":"IF(H780=\"\",\"-\",VLOOKUP(L780,読み替え表_低炭素物流!$C$15:$F$21,4,0))","v":"-"},"-",null,null,null,null,0,0,0,0,0,"*"]
[null,null,773,null,null,null,null,null,null,null,null,null,null,null,null,null,null,null,null,null,null,null,null,null,null,{"$f":"IF(H781=\"\",\"-\",VLOOKUP(J781,読み替え表_低炭素物流!$C$4:$F$12,4,0))","v":"-"},{"$f":"IF(H781=\"\",\"-\",VLOOKUP(L781,読み替え表_低炭素物流!$C$15:$F$21,4,0))","v":"-"},"-",null,null,null,null,0,0,0,0,0,"*"]
[null,null,774,null,null,null,null,null,null,null,null,null,null,null,null,null,null,null,null,null,null,null,null,null,null,{"$f":"IF(H782=\"\",\"-\",VLOOKUP(J782,読み替え表_低炭素物流!$C$4:$F$12,4,0))","v":"-"},{"$f":"IF(H782=\"\",\"-\",VLOOKUP(L782,読み替え表_低炭素物流!$C$15:$F$21,4,0))","v":"-"},"-",null,null,null,null,0,0,0,0,0,"*"]
[null,null,775,null,null,null,null,null,null,null,null,null,null,null,null,null,null,null,null,null,null,null,null,null,null,{"$f":"IF(H783=\"\",\"-\",VLOOKUP(J783,読み替え表_低炭素物流!$C$4:$F$12,4,0))","v":"-"},{"$f":"IF(H783=\"\",\"-\",VLOOKUP(L783,読み替え表_低炭素物流!$C$15:$F$21,4,0))","v":"-"},"-",null,null,null,null,0,0,0,0,0,"*"]
[null,null,776,null,null,null,null,null,null,null,null,null,null,null,null,null,null,null,null,null,null,null,null,null,null,{"$f":"IF(H784=\"\",\"-\",VLOOKUP(J784,読み替え表_低炭素物流!$C$4:$F$12,4,0))","v":"-"},{"$f":"IF(H784=\"\",\"-\",VLOOKUP(L784,読み替え表_低炭素物流!$C$15:$F$21,4,0))","v":"-"},"-",null,null,null,null,0,0,0,0,0,"*"]
[null,null,777,null,null,null,null,null,null,null,null,null,null,null,null,null,null,null,null,null,null,null,null,null,null,{"$f":"IF(H785=\"\",\"-\",VLOOKUP(J785,読み替え表_低炭素物流!$C$4:$F$12,4,0))","v":"-"},{"$f":"IF(H785=\"\",\"-\",VLOOKUP(L785,読み替え表_低炭素物流!$C$15:$F$21,4,0))","v":"-"},"-",null,null,null,null,0,0,0,0,0,"*"]
[null,null,778,null,null,null,null,null,null,null,null,null,null,null,null,null,null,null,null,null,null,null,null,null,null,{"$f":"IF(H786=\"\",\"-\",VLOOKUP(J786,読み替え表_低炭素物流!$C$4:$F$12,4,0))","v":"-"},{"$f":"IF(H786=\"\",\"-\",VLOOKUP(L786,読み替え表_低炭素物流!$C$15:$F$21,4,0))","v":"-"},"-",null,null,null,null,0,0,0,0,0,"*"]
[null,null,779,null,null,null,null,null,null,null,null,null,null,null,null,null,null,null,null,null,null,null,null,null,null,{"$f":"IF(H787=\"\",\"-\",VLOOKUP(J787,読み替え表_低炭素物流!$C$4:$F$12,4,0))","v":"-"},{"$f":"IF(H787=\"\",\"-\",VLOOKUP(L787,読み替え表_低炭素物流!$C$15:$F$21,4,0))","v":"-"},"-",null,null,null,null,0,0,0,0,0,"*"]
[null,null,780,null,null,null,null,null,null,null,null,null,null,null,null,null,null,null,null,null,null,null,null,null,null,{"$f":"IF(H788=\"\",\"-\",VLOOKUP(J788,読み替え表_低炭素物流!$C$4:$F$12,4,0))","v":"-"},{"$f":"IF(H788=\"\",\"-\",VLOOKUP(L788,読み替え表_低炭素物流!$C$15:$F$21,4,0))","v":"-"},"-",null,null,null,null,0,0,0,0,0,"*"]
[null,null,781,null,null,null,null,null,null,null,null,null,null,null,null,null,null,null,null,null,null,null,null,null,null,{"$f":"IF(H789=\"\",\"-\",VLOOKUP(J789,読み替え表_低炭素物流!$C$4:$F$12,4,0))","v":"-"},{"$f":"IF(H789=\"\",\"-\",VLOOKUP(L789,読み替え表_低炭素物流!$C$15:$F$21,4,0))","v":"-"},"-",null,null,null,null,0,0,0,0,0,"*"]
[null,null,782,null,null,null,null,null,null,null,null,null,null,null,null,null,null,null,null,null,null,null,null,null,null,{"$f":"IF(H790=\"\",\"-\",VLOOKUP(J790,読み替え表_低炭素物流!$C$4:$F$12,4,0))","v":"-"},{"$f":"IF(H790=\"\",\"-\",VLOOKUP(L790,読み替え表_低炭素物流!$C$15:$F$21,4,0))","v":"-"},"-",null,null,null,null,0,0,0,0,0,"*"]
[null,null,783,null,null,null,null,null,null,null,null,null,null,null,null,null,null,null,null,null,null,null,null,null,null,{"$f":"IF(H791=\"\",\"-\",VLOOKUP(J791,読み替え表_低炭素物流!$C$4:$F$12,4,0))","v":"-"},{"$f":"IF(H791=\"\",\"-\",VLOOKUP(L791,読み替え表_低炭素物流!$C$15:$F$21,4,0))","v":"-"},"-",null,null,null,null,0,0,0,0,0,"*"]
[null,null,784,null,null,null,null,null,null,null,null,null,null,null,null,null,null,null,null,null,null,null,null,null,null,{"$f":"IF(H792=\"\",\"-\",VLOOKUP(J792,読み替え表_低炭素物流!$C$4:$F$12,4,0))","v":"-"},{"$f":"IF(H792=\"\",\"-\",VLOOKUP(L792,読み替え表_低炭素物流!$C$15:$F$21,4,0))","v":"-"},"-",null,null,null,null,0,0,0,{"$f":"IF(OR(N792=7,N792=99),1,0)","v":0},0,"*"]
[null,null,785,null,null,null,null,null,null,null,null,null,null,null,null,null,null,null,null,null,null,null,null,null,null,{"$f":"IF(H793=\"\",\"-\",VLOOKUP(J793,読み替え表_低炭素物流!$C$4:$F$12,4,0))","v":"-"},{"$f":"IF(H793=\"\",\"-\",VLOOKUP(L793,読み替え表_低炭素物流!$C$15:$F$21,4,0))","v":"-"},"-",null,null,null,null,0,0,0,0,0,"*"]
[null,null,786,null,null,null,null,null,null,null,null,null,null,null,null,null,null,null,null,null,null,null,null,null,null,{"$f":"IF(H794=\"\",\"-\",VLOOKUP(J794,読み替え表_低炭素物流!$C$4:$F$12,4,0))","v":"-"},{"$f":"IF(H794=\"\",\"-\",VLOOKUP(L794,読み替え表_低炭素物流!$C$15:$F$21,4,0))","v":"-"},"-",null,null,null,null,0,0,0,0,0,"*"]
[null,null,787,null,null,null,null,null,null,null,null,null,null,null,null,null,null,null,null,null,null,null,null,null,null,{"$f":"IF(H795=\"\",\"-\",VLOOKUP(J795,読み替え表_低炭素物流!$C$4:$F$12,4,0))","v":"-"},{"$f":"IF(H795=\"\",\"-\",VLOOKUP(L795,読み替え表_低炭素物流!$C$15:$F$21,4,0))","v":"-"},"-",null,null,null,null,0,0,0,0,0,"*"]
[null,null,788,null,null,null,null,null,null,null,null,null,null,null,null,null,null,null,null,null,null,null,null,null,null,{"$f":"IF(H796=\"\",\"-\",VLOOKUP(J796,読み替え表_低炭素物流!$C$4:$F$12,4,0))","v":"-"},{"$f":"IF(H796=\"\",\"-\",VLOOKUP(L796,読み替え表_低炭素物流!$C$15:$F$21,4,0))","v":"-"},"-",null,null,null,null,0,0,0,0,0,"*"]
[null,null,789,null,null,null,null,null,null,null,null,null,null,null,null,null,null,null,null,null,null,null,null,null,null,{"$f":"IF(H797=\"\",\"-\",VLOOKUP(J797,読み替え表_低炭素物流!$C$4:$F$12,4,0))","v":"-"},{"$f":"IF(H797=\"\",\"-\",VLOOKUP(L797,読み替え表_低炭素物流!$C$15:$F$21,4,0))","v":"-"},"-",null,null,null,null,0,0,0,0,0,"*"]
[null,null,790,null,null,null,null,null,null,null,null,null,null,null,null,null,null,null,null,null,null,null,null,null,null,{"$f":"IF(H798=\"\",\"-\",VLOOKUP(J798,読み替え表_低炭素物流!$C$4:$F$12,4,0))","v":"-"},{"$f":"IF(H798=\"\",\"-\",VLOOKUP(L798,読み替え表_低炭素物流!$C$15:$F$21,4,0))","v":"-"},"-",null,null,null,null,0,0,0,0,0,"*"]
[null,null,791,null,null,null,null,null,null,null,null,null,null,null,null,null,null,null,null,null,null,null,null,null,null,{"$f":"IF(H799=\"\",\"-\",VLOOKUP(J799,読み替え表_低炭素物流!$C$4:$F$12,4,0))","v":"-"},{"$f":"IF(H799=\"\",\"-\",VLOOKUP(L799,読み替え表_低炭素物流!$C$15:$F$21,4,0))","v":"-"},"-",null,null,null,null,0,0,0,0,0,"*"]
[null,null,792,null,null,null,null,null,null,null,null,null,null,null,null,null,null,null,null,null,null,null,null,null,null,{"$f":"IF(H800=\"\",\"-\",VLOOKUP(J800,読み替え表_低炭素物流!$C$4:$F$12,4,0))","v":"-"},{"$f":"IF(H800=\"\",\"-\",VLOOKUP(L800,読み替え表_低炭素物流!$C$15:$F$21,4,0))","v":"-"},"-",null,null,null,null,0,0,0,0,0,"*"]
[null,null,793,null,null,null,null,null,null,null,null,null,null,null,null,null,null,null,null,null,null,null,null,null,null,{"$f":"IF(H801=\"\",\"-\",VLOOKUP(J801,読み替え表_低炭素物流!$C$4:$F$12,4,0))","v":"-"},{"$f":"IF(H801=\"\",\"-\",VLOOKUP(L801,読み替え表_低炭素物流!$C$15:$F$21,4,0))","v":"-"},"-",null,null,null,null,0,0,0,0,0,"*"]
[null,null,794,null,null,null,null,null,null,null,null,null,null,null,null,null,null,null,null,null,null,null,null,null,null,{"$f":"IF(H802=\"\",\"-\",VLOOKUP(J802,読み替え表_低炭素物流!$C$4:$F$12,4,0))","v":"-"},{"$f":"IF(H802=\"\",\"-\",VLOOKUP(L802,読み替え表_低炭素物流!$C$15:$F$21,4,0))","v":"-"},"-",null,null,null,null,0,0,0,0,0,"*"]
[null,null,795,null,null,null,null,null,null,null,null,null,null,null,null,null,null,null,null,null,null,null,null,null,null,{"$f":"IF(H803=\"\",\"-\",VLOOKUP(J803,読み替え表_低炭素物流!$C$4:$F$12,4,0))","v":"-"},{"$f":"IF(H803=\"\",\"-\",VLOOKUP(L803,読み替え表_低炭素物流!$C$15:$F$21,4,0))","v":"-"},"-",null,null,null,null,0,0,0,0,0,"*"]
[null,null,796,null,null,null,null,null,null,null,null,null,null,null,null,null,null,null,null,null,null,null,null,null,null,{"$f":"IF(H804=\"\",\"-\",VLOOKUP(J804,読み替え表_低炭素物流!$C$4:$F$12,4,0))","v":"-"},{"$f":"IF(H804=\"\",\"-\",VLOOKUP(L804,読み替え表_低炭素物流!$C$15:$F$21,4,0))","v":"-"},"-",null,null,null,null,0,0,0,0,0,"*"]
[null,null,797,null,null,null,null,null,null,null,null,null,null,null,null,null,null,null,null,null,null,null,null,null,null,{"$f":"IF(H805=\"\",\"-\",VLOOKUP(J805,読み替え表_低炭素物流!$C$4:$F$12,4,0))","v":"-"},{"$f":"IF(H805=\"\",\"-\",VLOOKUP(L805,読み替え表_低炭素物流!$C$15:$F$21,4,0))","v":"-"},"-",null,null,null,null,0,0,0,0,0,"*"]
[null,null,798,null,null,null,null,null,null,null,null,null,null,null,null,null,null,null,null,null,null,null,null,null,null,{"$f":"IF(H806=\"\",\"-\",VLOOKUP(J806,読み替え表_低炭素物流!$C$4:$F$12,4,0))","v":"-"},{"$f":"IF(H806=\"\",\"-\",VLOOKUP(L806,読み替え表_低炭素物流!$C$15:$F$21,4,0))","v":"-"},"-",null,null,null,null,0,0,0,0,0,"*"]
[null,null,799,null,null,null,null,null,null,null,null,null,null,null,null,null,null,null,null,null,null,null,null,null,null,{"$f":"IF(H807=\"\",\"-\",VLOOKUP(J807,読み替え表_低炭素物流!$C$4:$F$12,4,0))","v":"-"},{"$f":"IF(H807=\"\",\"-\",VLOOKUP(L807,読み替え表_低炭素物流!$C$15:$F$21,4,0))","v":"-"},"-",null,null,null,null,0,0,0,0,0,"*"]
[null,null,800,null,null,null,null,null,null,null,null,null,null,null,null,null,null,null,null,null,null,null,null,null,null,{"$f":"IF(H808=\"\",\"-\",VLOOKUP(J808,読み替え表_低炭素物流!$C$4:$F$12,4,0))","v":"-"},{"$f":"IF(H808=\"\",\"-\",VLOOKUP(L808,読み替え表_低炭素物流!$C$15:$F$21,4,0))","v":"-"},"-",null,null,null,null,0,0,0,0,0,"*"]
[null,null,801,null,null,null,null,null,null,null,null,null,null,null,null,null,null,null,null,null,null,null,null,null,null,{"$f":"IF(H809=\"\",\"-\",VLOOKUP(J809,読み替え表_低炭素物流!$C$4:$F$12,4,0))","v":"-"},{"$f":"IF(H809=\"\",\"-\",VLOOKUP(L809,読み替え表_低炭素物流!$C$15:$F$21,4,0))","v":"-"},"-",null,null,null,null,0,0,0,0,0,"*"]
[null,null,802,null,null,null,null,null,null,null,null,null,null,null,null,null,null,null,null,null,null,null,null,null,null,{"$f":"IF(H810=\"\",\"-\",VLOOKUP(J810,読み替え表_低炭素物流!$C$4:$F$12,4,0))","v":"-"},{"$f":"IF(H810=\"\",\"-\",VLOOKUP(L810,読み替え表_低炭素物流!$C$15:$F$21,4,0))","v":"-"},"-",null,null,null,null,0,0,0,0,0,"*"]
[null,null,803,null,null,null,null,null,null,null,null,null,null,null,null,null,null,null,null,null,null,null,null,null,null,{"$f":"IF(H811=\"\",\"-\",VLOOKUP(J811,読み替え表_低炭素物流!$C$4:$F$12,4,0))","v":"-"},{"$f":"IF(H811=\"\",\"-\",VLOOKUP(L811,読み替え表_低炭素物流!$C$15:$F$21,4,0))","v":"-"},"-",null,null,null,null,0,0,0,0,0,"*"]
[null,null,804,null,null,null,null,null,null,null,null,null,null,null,null,null,null,null,null,null,null,null,null,null,null,{"$f":"IF(H812=\"\",\"-\",VLOOKUP(J812,読み替え表_低炭素物流!$C$4:$F$12,4,0))","v":"-"},{"$f":"IF(H812=\"\",\"-\",VLOOKUP(L812,読み替え表_低炭素物流!$C$15:$F$21,4,0))","v":"-"},"-",null,null,null,null,0,0,0,0,0,"*"]
[null,null,805,null,null,null,null,null,null,null,null,null,null,null,null,null,null,null,null,null,null,null,null,null,null,{"$f":"IF(H813=\"\",\"-\",VLOOKUP(J813,読み替え表_低炭素物流!$C$4:$F$12,4,0))","v":"-"},{"$f":"IF(H813=\"\",\"-\",VLOOKUP(L813,読み替え表_低炭素物流!$C$15:$F$21,4,0))","v":"-"},"-",null,null,null,null,0,0,0,0,0,"*"]
[null,null,806,null,null,null,null,null,null,null,null,null,null,null,null,null,null,null,null,null,null,null,null,null,null,{"$f":"IF(H814=\"\",\"-\",VLOOKUP(J814,読み替え表_低炭素物流!$C$4:$F$12,4,0))","v":"-"},{"$f":"IF(H814=\"\",\"-\",VLOOKUP(L814,読み替え表_低炭素物流!$C$15:$F$21,4,0))","v":"-"},"-",null,null,null,null,0,0,0,0,0,"*"]
[null,null,807,null,null,null,null,null,null,null,null,null,null,null,null,null,null,null,null,null,null,null,null,null,null,{"$f":"IF(H815=\"\",\"-\",VLOOKUP(J815,読み替え表_低炭素物流!$C$4:$F$12,4,0))","v":"-"},{"$f":"IF(H815=\"\",\"-\",VLOOKUP(L815,読み替え表_低炭素物流!$C$15:$F$21,4,0))","v":"-"},"-",null,null,null,null,0,0,0,0,0,"*"]
[null,null,808,null,null,null,null,null,null,null,null,null,null,null,null,null,null,null,null,null,null,null,null,null,null,{"$f":"IF(H816=\"\",\"-\",VLOOKUP(J816,読み替え表_低炭素物流!$C$4:$F$12,4,0))","v":"-"},{"$f":"IF(H816=\"\",\"-\",VLOOKUP(L816,読み替え表_低炭素物流!$C$15:$F$21,4,0))","v":"-"},"-",null,null,null,null,0,0,0,0,0,"*"]
[null,null,809,null,null,null,null,null,null,null,null,null,null,null,null,null,null,null,null,null,null,null,null,null,null,{"$f":"IF(H817=\"\",\"-\",VLOOKUP(J817,読み替え表_低炭素物流!$C$4:$F$12,4,0))","v":"-"},{"$f":"IF(H817=\"\",\"-\",VLOOKUP(L817,読み替え表_低炭素物流!$C$15:$F$21,4,0))","v":"-"},"-",null,null,null,null,0,0,0,0,0,"*"]
[null,null,810,null,null,null,null,null,null,null,null,null,null,null,null,null,null,null,null,null,null,null,null,null,null,{"$f":"IF(H818=\"\",\"-\",VLOOKUP(J818,読み替え表_低炭素物流!$C$4:$F$12,4,0))","v":"-"},{"$f":"IF(H818=\"\",\"-\",VLOOKUP(L818,読み替え表_低炭素物流!$C$15:$F$21,4,0))","v":"-"},"-",null,null,null,null,0,0,0,0,0,"*"]
[null,null,811,null,null,null,null,null,null,null,null,null,null,null,null,null,null,null,null,null,null,null,null,null,null,{"$f":"IF(H819=\"\",\"-\",VLOOKUP(J819,読み替え表_低炭素物流!$C$4:$F$12,4,0))","v":"-"},{"$f":"IF(H819=\"\",\"-\",VLOOKUP(L819,読み替え表_低炭素物流!$C$15:$F$21,4,0))","v":"-"},"-",null,null,null,null,0,0,0,0,0,"*"]
[null,null,812,null,null,null,null,null,null,null,null,null,null,null,null,null,null,null,null,null,null,null,null,null,null,{"$f":"IF(H820=\"\",\"-\",VLOOKUP(J820,読み替え表_低炭素物流!$C$4:$F$12,4,0))","v":"-"},{"$f":"IF(H820=\"\",\"-\",VLOOKUP(L820,読み替え表_低炭素物流!$C$15:$F$21,4,0))","v":"-"},"-",null,null,null,null,0,0,0,0,0,"*"]
[null,null,813,null,null,null,null,null,null,null,null,null,null,null,null,null,null,null,null,null,null,null,null,null,null,{"$f":"IF(H821=\"\",\"-\",VLOOKUP(J821,読み替え表_低炭素物流!$C$4:$F$12,4,0))","v":"-"},{"$f":"IF(H821=\"\",\"-\",VLOOKUP(L821,読み替え表_低炭素物流!$C$15:$F$21,4,0))","v":"-"},"-",null,null,null,null,0,0,0,0,0,"*"]
[null,null,814,null,null,null,null,null,null,null,null,null,null,null,null,null,null,null,null,null,null,null,null,null,null,{"$f":"IF(H822=\"\",\"-\",VLOOKUP(J822,読み替え表_低炭素物流!$C$4:$F$12,4,0))","v":"-"},{"$f":"IF(H822=\"\",\"-\",VLOOKUP(L822,読み替え表_低炭素物流!$C$15:$F$21,4,0))","v":"-"},"-",null,null,null,null,0,0,0,0,0,"*"]
[null,null,815,null,null,null,null,null,null,null,null,null,null,null,null,null,null,null,null,null,null,null,null,null,null,{"$f":"IF(H823=\"\",\"-\",VLOOKUP(J823,読み替え表_低炭素物流!$C$4:$F$12,4,0))","v":"-"},{"$f":"IF(H823=\"\",\"-\",VLOOKUP(L823,読み替え表_低炭素物流!$C$15:$F$21,4,0))","v":"-"},"-",null,null,null,null,0,0,0,0,0,"*"]
[null,null,816,null,null,null,null,null,null,null,null,null,null,null,null,null,null,null,null,null,null,null,null,null,null,{"$f":"IF(H824=\"\",\"-\",VLOOKUP(J824,読み替え表_低炭素物流!$C$4:$F$12,4,0))","v":"-"},{"$f":"IF(H824=\"\",\"-\",VLOOKUP(L824,読み替え表_低炭素物流!$C$15:$F$21,4,0))","v":"-"},"-",null,null,null,null,0,0,0,0,0,"*"]
[null,null,817,null,null,null,null,null,null,null,null,null,null,null,null,null,null,null,null,null,null,null,null,null,null,{"$f":"IF(H825=\"\",\"-\",VLOOKUP(J825,読み替え表_低炭素物流!$C$4:$F$12,4,0))","v":"-"},{"$f":"IF(H825=\"\",\"-\",VLOOKUP(L825,読み替え表_低炭素物流!$C$15:$F$21,4,0))","v":"-"},"-",null,null,null,null,0,0,0,0,0,"*"]
[null,null,818,null,null,null,null,null,null,null,null,null,null,null,null,null,null,null,null,null,null,null,null,null,null,{"$f":"IF(H826=\"\",\"-\",VLOOKUP(J826,読み替え表_低炭素物流!$C$4:$F$12,4,0))","v":"-"},{"$f":"IF(H826=\"\",\"-\",VLOOKUP(L826,読み替え表_低炭素物流!$C$15:$F$21,4,0))","v":"-"},"-",null,null,null,null,0,0,0,0,0,"*"]
[null,null,819,null,null,null,null,null,null,null,null,null,null,null,null,null,null,null,null,null,null,null,null,null,null,{"$f":"IF(H827=\"\",\"-\",VLOOKUP(J827,読み替え表_低炭素物流!$C$4:$F$12,4,0))","v":"-"},{"$f":"IF(H827=\"\",\"-\",VLOOKUP(L827,読み替え表_低炭素物流!$C$15:$F$21,4,0))","v":"-"},"-",null,null,null,null,0,0,0,0,0,"*"]
[null,null,820,null,null,null,null,null,null,null,null,null,null,null,null,null,null,null,null,null,null,null,null,null,null,{"$f":"IF(H828=\"\",\"-\",VLOOKUP(J828,読み替え表_低炭素物流!$C$4:$F$12,4,0))","v":"-"},{"$f":"IF(H828=\"\",\"-\",VLOOKUP(L828,読み替え表_低炭素物流!$C$15:$F$21,4,0))","v":"-"},"-",null,null,null,null,0,0,0,0,0,"*"]
[null,null,821,null,null,null,null,null,null,null,null,null,null,null,null,null,null,null,null,null,null,null,null,null,null,{"$f":"IF(H829=\"\",\"-\",VLOOKUP(J829,読み替え表_低炭素物流!$C$4:$F$12,4,0))","v":"-"},{"$f":"IF(H829=\"\",\"-\",VLOOKUP(L829,読み替え表_低炭素物流!$C$15:$F$21,4,0))","v":"-"},"-",null,null,null,null,0,0,0,0,0,"*"]
[null,null,822,null,null,null,null,null,null,null,null,null,null,null,null,null,null,null,null,null,null,null,null,null,null,{"$f":"IF(H830=\"\",\"-\",VLOOKUP(J830,読み替え表_低炭素物流!$C$4:$F$12,4,0))","v":"-"},{"$f":"IF(H830=\"\",\"-\",VLOOKUP(L830,読み替え表_低炭素物流!$C$15:$F$21,4,0))","v":"-"},"-",null,null,null,null,0,0,0,0,0,"*"]
[null,null,823,null,null,null,null,null,null,null,null,null,null,null,null,null,null,null,null,null,null,null,null,null,null,{"$f":"IF(H831=\"\",\"-\",VLOOKUP(J831,読み替え表_低炭素物流!$C$4:$F$12,4,0))","v":"-"},{"$f":"IF(H831=\"\",\"-\",VLOOKUP(L831,読み替え表_低炭素物流!$C$15:$F$21,4,0))","v":"-"},"-",null,null,null,null,0,0,0,0,0,"*"]
[null,null,824,null,null,null,null,null,null,null,null,null,null,null,null,null,null,null,null,null,null,null,null,null,null,{"$f":"IF(H832=\"\",\"-\",VLOOKUP(J832,読み替え表_低炭素物流!$C$4:$F$12,4,0))","v":"-"},{"$f":"IF(H832=\"\",\"-\",VLOOKUP(L832,読み替え表_低炭素物流!$C$15:$F$21,4,0))","v":"-"},"-",null,null,null,null,0,0,0,0,0,"*"]
[null,null,825,null,null,null,null,null,null,null,null,null,null,null,null,null,null,null,null,null,null,null,null,null,null,{"$f":"IF(H833=\"\",\"-\",VLOOKUP(J833,読み替え表_低炭素物流!$C$4:$F$12,4,0))","v":"-"},{"$f":"IF(H833=\"\",\"-\",VLOOKUP(L833,読み替え表_低炭素物流!$C$15:$F$21,4,0))","v":"-"},"-",null,null,null,null,0,0,0,0,0,"*"]
[null,null,826,null,null,null,null,null,null,null,null,null,null,null,null,null,null,null,null,null,null,null,null,null,null,{"$f":"IF(H834=\"\",\"-\",VLOOKUP(J834,読み替え表_低炭素物流!$C$4:$F$12,4,0))","v":"-"},{"$f":"IF(H834=\"\",\"-\",VLOOKUP(L834,読み替え表_低炭素物流!$C$15:$F$21,4,0))","v":"-"},"-",null,null,null,null,0,0,0,0,0,"*"]
[null,null,827,null,null,null,null,null,null,null,null,null,null,null,null,null,null,null,null,null,null,null,null,null,null,{"$f":"IF(H835=\"\",\"-\",VLOOKUP(J835,読み替え表_低炭素物流!$C$4:$F$12,4,0))","v":"-"},{"$f":"IF(H835=\"\",\"-\",VLOOKUP(L835,読み替え表_低炭素物流!$C$15:$F$21,4,0))","v":"-"},"-",null,null,null,null,0,0,0,0,0,"*"]
[null,null,828,null,null,null,null,null,null,null,null,null,null,null,null,null,null,null,null,null,null,null,null,null,null,{"$f":"IF(H836=\"\",\"-\",VLOOKUP(J836,読み替え表_低炭素物流!$C$4:$F$12,4,0))","v":"-"},{"$f":"IF(H836=\"\",\"-\",VLOOKUP(L836,読み替え表_低炭素物流!$C$15:$F$21,4,0))","v":"-"},"-",null,null,null,null,0,0,0,0,0,"*"]
[null,null,829,null,null,null,null,null,null,null,null,null,null,null,null,null,null,null,null,null,null,null,null,null,null,{"$f":"IF(H837=\"\",\"-\",VLOOKUP(J837,読み替え表_低炭素物流!$C$4:$F$12,4,0))","v":"-"},{"$f":"IF(H837=\"\",\"-\",VLOOKUP(L837,読み替え表_低炭素物流!$C$15:$F$21,4,0))","v":"-"},"-",null,null,null,null,0,0,0,0,0,"*"]
[null,null,830,null,null,null,null,null,null,null,null,null,null,null,null,null,null,null,null,null,null,null,null,null,null,{"$f":"IF(H838=\"\",\"-\",VLOOKUP(J838,読み替え表_低炭素物流!$C$4:$F$12,4,0))","v":"-"},{"$f":"IF(H838=\"\",\"-\",VLOOKUP(L838,読み替え表_低炭素物流!$C$15:$F$21,4,0))","v":"-"},"-",null,null,null,null,0,0,0,0,0,"*"]
[null,null,831,null,null,null,null,null,null,null,null,null,null,null,null,null,null,null,null,null,null,null,null,null,null,{"$f":"IF(H839=\"\",\"-\",VLOOKUP(J839,読み替え表_低炭素物流!$C$4:$F$12,4,0))","v":"-"},{"$f":"IF(H839=\"\",\"-\",VLOOKUP(L839,読み替え表_低炭素物流!$C$15:$F$21,4,0))","v":"-"},"-",null,null,null,null,0,0,0,0,0,"*"]
[null,null,832,null,null,null,null,null,null,null,null,null,null,null,null,null,null,null,null,null,null,null,null,null,null,{"$f":"IF(H840=\"\",\"-\",VLOOKUP(J840,読み替え表_低炭素物流!$C$4:$F$12,4,0))","v":"-"},{"$f":"IF(H840=\"\",\"-\",VLOOKUP(L840,読み替え表_低炭素物流!$C$15:$F$21,4,0))","v":"-"},"-",null,null,null,null,0,0,0,0,0,"*"]
[null,null,833,null,null,null,null,null,null,null,null,null,null,null,null,null,null,null,null,null,null,null,null,null,null,{"$f":"IF(H841=\"\",\"-\",VLOOKUP(J841,読み替え表_低炭素物流!$C$4:$F$12,4,0))","v":"-"},{"$f":"IF(H841=\"\",\"-\",VLOOKUP(L841,読み替え表_低炭素物流!$C$15:$F$21,4,0))","v":"-"},"-",null,null,null,null,{"$f":"IF(N841=1,IF(OR(L841=4,L841=5),0,1),0)","v":0},0,0,0,0,"*"]
[null,null,{"$f":"ROW()-8","v":834},null,null,null,null,null,null,null,null,null,null,null,null,null,null,null,null,null,null,null,null,null,null,{"$f":"IF(H842=\"\",\"-\",VLOOKUP(J842,読み替え表_低炭素物流!$C$4:$F$12,4,0))","v":"-"},{"$f":"IF(H842=\"\",\"-\",VLOOKUP(L842,読み替え表_低炭素物流!$C$15:$F$21,4,0))","v":"-"},{"$f":"IF(H842=\"\",\"-\",Z842*AA842)","v":"-"},null,null,null,null,0,{"$f":"IF(J842=8,1,0)","v":0},{"$f":"IF(L842=6,1,0)","v":0},0,{"$f":"AG842","v":0},"*"]
[null,null,835,null,null,null,null,null,null,null,null,null,null,null,null,null,null,null,null,null,null,null,null,null,null,{"$f":"IF(H843=\"\",\"-\",VLOOKUP(J843,読み替え表_低炭素物流!$C$4:$F$12,4,0))","v":"-"},{"$f":"IF(H843=\"\",\"-\",VLOOKUP(L843,読み替え表_低炭素物流!$C$15:$F$21,4,0))","v":"-"},"-",null,null,null,null,0,0,0,0,0,"*"]
[null,null,836,null,null,null,null,null,null,null,null,null,null,null,null,null,null,null,null,null,null,null,null,null,null,{"$f":"IF(H844=\"\",\"-\",VLOOKUP(J844,読み替え表_低炭素物流!$C$4:$F$12,4,0))","v":"-"},{"$f":"IF(H844=\"\",\"-\",VLOOKUP(L844,読み替え表_低炭素物流!$C$15:$F$21,4,0))","v":"-"},"-",null,null,null,null,0,0,0,0,0,"*"]
[null,null,837,null,null,null,null,null,null,null,null,null,null,null,null,null,null,null,null,null,null,null,null,null,null,{"$f":"IF(H845=\"\",\"-\",VLOOKUP(J845,読み替え表_低炭素物流!$C$4:$F$12,4,0))","v":"-"},{"$f":"IF(H845=\"\",\"-\",VLOOKUP(L845,読み替え表_低炭素物流!$C$15:$F$21,4,0))","v":"-"},"-",null,null,null,null,0,0,0,0,0,"*"]
[null,null,838,null,null,null,null,null,null,null,null,null,null,null,null,null,null,null,null,null,null,null,null,null,null,{"$f":"IF(H846=\"\",\"-\",VLOOKUP(J846,読み替え表_低炭素物流!$C$4:$F$12,4,0))","v":"-"},{"$f":"IF(H846=\"\",\"-\",VLOOKUP(L846,読み替え表_低炭素物流!$C$15:$F$21,4,0))","v":"-"},"-",null,null,null,null,0,0,0,0,0,"*"]
[null,null,839,null,null,null,null,null,null,null,null,null,null,null,null,null,null,null,null,null,null,null,null,null,null,{"$f":"IF(H847=\"\",\"-\",VLOOKUP(J847,読み替え表_低炭素物流!$C$4:$F$12,4,0))","v":"-"},{"$f":"IF(H847=\"\",\"-\",VLOOKUP(L847,読み替え表_低炭素物流!$C$15:$F$21,4,0))","v":"-"},"-",null,null,null,null,0,0,0,0,0,"*"]
[null,null,840,null,null,null,null,null,null,null,null,null,null,null,null,null,null,null,null,null,null,null,null,null,null,{"$f":"IF(H848=\"\",\"-\",VLOOKUP(J848,読み替え表_低炭素物流!$C$4:$F$12,4,0))","v":"-"},{"$f":"IF(H848=\"\",\"-\",VLOOKUP(L848,読み替え表_低炭素物流!$C$15:$F$21,4,0))","v":"-"},"-",null,null,null,null,0,0,0,0,0,"*"]
[null,null,841,null,null,null,null,null,null,null,null,null,null,null,null,null,null,null,null,null,null,null,null,null,null,{"$f":"IF(H849=\"\",\"-\",VLOOKUP(J849,読み替え表_低炭素物流!$C$4:$F$12,4,0))","v":"-"},{"$f":"IF(H849=\"\",\"-\",VLOOKUP(L849,読み替え表_低炭素物流!$C$15:$F$21,4,0))","v":"-"},"-",null,null,null,null,0,0,0,0,0,"*"]
[null,null,842,null,null,null,null,null,null,null,null,null,null,null,null,null,null,null,null,null,null,null,null,null,null,{"$f":"IF(H850=\"\",\"-\",VLOOKUP(J850,読み替え表_低炭素物流!$C$4:$F$12,4,0))","v":"-"},{"$f":"IF(H850=\"\",\"-\",VLOOKUP(L850,読み替え表_低炭素物流!$C$15:$F$21,4,0))","v":"-"},"-",null,null,null,null,0,0,0,0,0,"*"]
[null,null,843,null,null,null,null,null,null,null,null,null,null,null,null,null,null,null,null,null,null,null,null,null,null,{"$f":"IF(H851=\"\",\"-\",VLOOKUP(J851,読み替え表_低炭素物流!$C$4:$F$12,4,0))","v":"-"},{"$f":"IF(H851=\"\",\"-\",VLOOKUP(L851,読み替え表_低炭素物流!$C$15:$F$21,4,0))","v":"-"},"-",null,null,null,null,0,0,0,0,0,"*"]
[null,null,844,null,null,null,null,null,null,null,null,null,null,null,null,null,null,null,null,null,null,null,null,null,null,{"$f":"IF(H852=\"\",\"-\",VLOOKUP(J852,読み替え表_低炭素物流!$C$4:$F$12,4,0))","v":"-"},{"$f":"IF(H852=\"\",\"-\",VLOOKUP(L852,読み替え表_低炭素物流!$C$15:$F$21,4,0))","v":"-"},"-",null,null,null,null,0,0,0,0,0,"*"]
[null,null,845,null,null,null,null,null,null,null,null,null,null,null,null,null,null,null,null,null,null,null,null,null,null,{"$f":"IF(H853=\"\",\"-\",VLOOKUP(J853,読み替え表_低炭素物流!$C$4:$F$12,4,0))","v":"-"},{"$f":"IF(H853=\"\",\"-\",VLOOKUP(L853,読み替え表_低炭素物流!$C$15:$F$21,4,0))","v":"-"},"-",null,null,null,null,0,0,0,0,0,"*"]
[null,null,846,null,null,null,null,null,null,null,null,null,null,null,null,null,null,null,null,null,null,null,null,null,null,{"$f":"IF(H854=\"\",\"-\",VLOOKUP(J854,読み替え表_低炭素物流!$C$4:$F$12,4,0))","v":"-"},{"$f":"IF(H854=\"\",\"-\",VLOOKUP(L854,読み替え表_低炭素物流!$C$15:$F$21,4,0))","v":"-"},"-",null,null,null,null,0,0,0,0,0,"*"]
[null,null,847,null,null,null,null,null,null,null,null,null,null,null,null,null,null,null,null,null,null,null,null,null,null,{"$f":"IF(H855=\"\",\"-\",VLOOKUP(J855,読み替え表_低炭素物流!$C$4:$F$12,4,0))","v":"-"},{"$f":"IF(H855=\"\",\"-\",VLOOKUP(L855,読み替え表_低炭素物流!$C$15:$F$21,4,0))","v":"-"},"-",null,null,null,null,0,0,0,0,0,"*"]
[null,null,848,null,null,null,null,null,null,null,null,null,null,null,null,null,null,null,null,null,null,null,null,null,null,{"$f":"IF(H856=\"\",\"-\",VLOOKUP(J856,読み替え表_低炭素物流!$C$4:$F$12,4,0))","v":"-"},{"$f":"IF(H856=\"\",\"-\",VLOOKUP(L856,読み替え表_低炭素物流!$C$15:$F$21,4,0))","v":"-"},"-",null,null,null,null,0,0,0,{"$f":"IF(OR(N856=7,N856=99),1,0)","v":0},0,"*"]
[null,null,849,null,null,null,null,null,null,null,null,null,null,null,null,null,null,null,null,null,null,null,null,null,null,{"$f":"IF(H857=\"\",\"-\",VLOOKUP(J857,読み替え表_低炭素物流!$C$4:$F$12,4,0))","v":"-"},{"$f":"IF(H857=\"\",\"-\",VLOOKUP(L857,読み替え表_低炭素物流!$C$15:$F$21,4,0))","v":"-"},"-",null,null,null,null,0,0,0,0,0,"*"]
[null,null,850,null,null,null,null,null,null,null,null,null,null,null,null,null,null,null,null,null,null,null,null,null,null,{"$f":"IF(H858=\"\",\"-\",VLOOKUP(J858,読み替え表_低炭素物流!$C$4:$F$12,4,0))","v":"-"},{"$f":"IF(H858=\"\",\"-\",VLOOKUP(L858,読み替え表_低炭素物流!$C$15:$F$21,4,0))","v":"-"},"-",null,null,null,null,0,0,0,0,0,"*"]
[null,null,851,null,null,null,null,null,null,null,null,null,null,null,null,null,null,null,null,null,null,null,null,null,null,{"$f":"IF(H859=\"\",\"-\",VLOOKUP(J859,読み替え表_低炭素物流!$C$4:$F$12,4,0))","v":"-"},{"$f":"IF(H859=\"\",\"-\",VLOOKUP(L859,読み替え表_低炭素物流!$C$15:$F$21,4,0))","v":"-"},"-",null,null,null,null,0,0,0,0,0,"*"]
[null,null,852,null,null,null,null,null,null,null,null,null,null,null,null,null,null,null,null,null,null,null,null,null,null,{"$f":"IF(H860=\"\",\"-\",VLOOKUP(J860,読み替え表_低炭素物流!$C$4:$F$12,4,0))","v":"-"},{"$f":"IF(H860=\"\",\"-\",VLOOKUP(L860,読み替え表_低炭素物流!$C$15:$F$21,4,0))","v":"-"},"-",null,null,null,null,0,0,0,0,0,"*"]
[null,null,853,null,null,null,null,null,null,null,null,null,null,null,null,null,null,null,null,null,null,null,null,null,null,{"$f":"IF(H861=\"\",\"-\",VLOOKUP(J861,読み替え表_低炭素物流!$C$4:$F$12,4,0))","v":"-"},{"$f":"IF(H861=\"\",\"-\",VLOOKUP(L861,読み替え表_低炭素物流!$C$15:$F$21,4,0))","v":"-"},"-",null,null,null,null,0,0,0,0,0,"*"]
[null,null,854,null,null,null,null,null,null,null,null,null,null,null,null,null,null,null,null,null,null,null,null,null,null,{"$f":"IF(H862=\"\",\"-\",VLOOKUP(J862,読み替え表_低炭素物流!$C$4:$F$12,4,0))","v":"-"},{"$f":"IF(H862=\"\",\"-\",VLOOKUP(L862,読み替え表_低炭素物流!$C$15:$F$21,4,0))","v":"-"},"-",null,null,null,null,0,0,0,0,0,"*"]
[null,null,855,null,null,null,null,null,null,null,null,null,null,null,null,null,null,null,null,null,null,null,null,null,null,{"$f":"IF(H863=\"\",\"-\",VLOOKUP(J863,読み替え表_低炭素物流!$C$4:$F$12,4,0))","v":"-"},{"$f":"IF(H863=\"\",\"-\",VLOOKUP(L863,読み替え表_低炭素物流!$C$15:$F$21,4,0))","v":"-"},"-",null,null,null,null,0,0,0,0,0,"*"]
[null,null,856,null,null,null,null,null,null,null,null,null,null,null,null,null,null,null,null,null,null,null,null,null,null,{"$f":"IF(H864=\"\",\"-\",VLOOKUP(J864,読み替え表_低炭素物流!$C$4:$F$12,4,0))","v":"-"},{"$f":"IF(H864=\"\",\"-\",VLOOKUP(L864,読み替え表_低炭素物流!$C$15:$F$21,4,0))","v":"-"},"-",null,null,null,null,0,0,0,0,0,"*"]
[null,null,857,null,null,null,null,null,null,null,null,null,null,null,null,null,null,null,null,null,null,null,null,null,null,{"$f":"IF(H865=\"\",\"-\",VLOOKUP(J865,読み替え表_低炭素物流!$C$4:$F$12,4,0))","v":"-"},{"$f":"IF(H865=\"\",\"-\",VLOOKUP(L865,読み替え表_低炭素物流!$C$15:$F$21,4,0))","v":"-"},"-",null,null,null,null,0,0,0,0,0,"*"]
[null,null,858,null,null,null,null,null,null,null,null,null,null,null,null,null,null,null,null,null,null,null,null,null,null,{"$f":"IF(H866=\"\",\"-\",VLOOKUP(J866,読み替え表_低炭素物流!$C$4:$F$12,4,0))","v":"-"},{"$f":"IF(H866=\"\",\"-\",VLOOKUP(L866,読み替え表_低炭素物流!$C$15:$F$21,4,0))","v":"-"},"-",null,null,null,null,0,0,0,0,0,"*"]
[null,null,859,null,null,null,null,null,null,null,null,null,null,null,null,null,null,null,null,null,null,null,null,null,null,{"$f":"IF(H867=\"\",\"-\",VLOOKUP(J867,読み替え表_低炭素物流!$C$4:$F$12,4,0))","v":"-"},{"$f":"IF(H867=\"\",\"-\",VLOOKUP(L867,読み替え表_低炭素物流!$C$15:$F$21,4,0))","v":"-"},"-",null,null,null,null,0,0,0,0,0,"*"]
[null,null,860,null,null,null,null,null,null,null,null,null,null,null,null,null,null,null,null,null,null,null,null,null,null,{"$f":"IF(H868=\"\",\"-\",VLOOKUP(J868,読み替え表_低炭素物流!$C$4:$F$12,4,0))","v":"-"},{"$f":"IF(H868=\"\",\"-\",VLOOKUP(L868,読み替え表_低炭素物流!$C$15:$F$21,4,0))","v":"-"},"-",null,null,null,null,0,0,0,0,0,"*"]
[null,null,861,null,null,null,null,null,null,null,null,null,null,null,null,null,null,null,null,null,null,null,null,null,null,{"$f":"IF(H869=\"\",\"-\",VLOOKUP(J869,読み替え表_低炭素物流!$C$4:$F$12,4,0))","v":"-"},{"$f":"IF(H869=\"\",\"-\",VLOOKUP(L869,読み替え表_低炭素物流!$C$15:$F$21,4,0))","v":"-"},"-",null,null,null,null,0,0,0,0,0,"*"]
[null,null,862,null,null,null,null,null,null,null,null,null,null,null,null,null,null,null,null,null,null,null,null,null,null,{"$f":"IF(H870=\"\",\"-\",VLOOKUP(J870,読み替え表_低炭素物流!$C$4:$F$12,4,0))","v":"-"},{"$f":"IF(H870=\"\",\"-\",VLOOKUP(L870,読み替え表_低炭素物流!$C$15:$F$21,4,0))","v":"-"},"-",null,null,null,null,0,0,0,0,0,"*"]
[null,null,863,null,null,null,null,null,null,null,null,null,null,null,null,null,null,null,null,null,null,null,null,null,null,{"$f":"IF(H871=\"\",\"-\",VLOOKUP(J871,読み替え表_低炭素物流!$C$4:$F$12,4,0))","v":"-"},{"$f":"IF(H871=\"\",\"-\",VLOOKUP(L871,読み替え表_低炭素物流!$C$15:$F$21,4,0))","v":"-"},"-",null,null,null,null,0,0,0,0,0,"*"]
[null,null,864,null,null,null,null,null,null,null,null,null,null,null,null,null,null,null,null,null,null,null,null,null,null,{"$f":"IF(H872=\"\",\"-\",VLOOKUP(J872,読み替え表_低炭素物流!$C$4:$F$12,4,0))","v":"-"},{"$f":"IF(H872=\"\",\"-\",VLOOKUP(L872,読み替え表_低炭素物流!$C$15:$F$21,4,0))","v":"-"},"-",null,null,null,null,0,0,0,0,0,"*"]
[null,null,865,null,null,null,null,null,null,null,null,null,null,null,null,null,null,null,null,null,null,null,null,null,null,{"$f":"IF(H873=\"\",\"-\",VLOOKUP(J873,読み替え表_低炭素物流!$C$4:$F$12,4,0))","v":"-"},{"$f":"IF(H873=\"\",\"-\",VLOOKUP(L873,読み替え表_低炭素物流!$C$15:$F$21,4,0))","v":"-"},"-",null,null,null,null,0,0,0,0,0,"*"]
[null,null,866,null,null,null,null,null,null,null,null,null,null,null,null,null,null,null,null,null,null,null,null,null,null,{"$f":"IF(H874=\"\",\"-\",VLOOKUP(J874,読み替え表_低炭素物流!$C$4:$F$12,4,0))","v":"-"},{"$f":"IF(H874=\"\",\"-\",VLOOKUP(L874,読み替え表_低炭素物流!$C$15:$F$21,4,0))","v":"-"},"-",null,null,null,null,0,0,0,0,0,"*"]
[null,null,867,null,null,null,null,null,null,null,null,null,null,null,null,null,null,null,null,null,null,null,null,null,null,{"$f":"IF(H875=\"\",\"-\",VLOOKUP(J875,読み替え表_低炭素物流!$C$4:$F$12,4,0))","v":"-"},{"$f":"IF(H875=\"\",\"-\",VLOOKUP(L875,読み替え表_低炭素物流!$C$15:$F$21,4,0))","v":"-"},"-",null,null,null,null,0,0,0,0,0,"*"]
[null,null,868,null,null,null,null,null,null,null,null,null,null,null,null,null,null,null,null,null,null,null,null,null,null,{"$f":"IF(H876=\"\",\"-\",VLOOKUP(J876,読み替え表_低炭素物流!$C$4:$F$12,4,0))","v":"-"},{"$f":"IF(H876=\"\",\"-\",VLOOKUP(L876,読み替え表_低炭素物流!$C$15:$F$21,4,0))","v":"-"},"-",null,null,null,null,0,0,0,0,0,"*"]
[null,null,869,null,null,null,null,null,null,null,null,null,null,null,null,null,null,null,null,null,null,null,null,null,null,{"$f":"IF(H877=\"\",\"-\",VLOOKUP(J877,読み替え表_低炭素物流!$C$4:$F$12,4,0))","v":"-"},{"$f":"IF(H877=\"\",\"-\",VLOOKUP(L877,読み替え表_低炭素物流!$C$15:$F$21,4,0))","v":"-"},"-",null,null,null,null,0,0,0,0,0,"*"]
[null,null,870,null,null,null,null,null,null,null,null,null,null,null,null,null,null,null,null,null,null,null,null,null,null,{"$f":"IF(H878=\"\",\"-\",VLOOKUP(J878,読み替え表_低炭素物流!$C$4:$F$12,4,0))","v":"-"},{"$f":"IF(H878=\"\",\"-\",VLOOKUP(L878,読み替え表_低炭素物流!$C$15:$F$21,4,0))","v":"-"},"-",null,null,null,null,0,0,0,0,0,"*"]
[null,null,871,null,null,null,null,null,null,null,null,null,null,null,null,null,null,null,null,null,null,null,null,null,null,{"$f":"IF(H879=\"\",\"-\",VLOOKUP(J879,読み替え表_低炭素物流!$C$4:$F$12,4,0))","v":"-"},{"$f":"IF(H879=\"\",\"-\",VLOOKUP(L879,読み替え表_低炭素物流!$C$15:$F$21,4,0))","v":"-"},"-",null,null,null,null,0,0,0,0,0,"*"]
[null,null,872,null,null,null,null,null,null,null,null,null,null,null,null,null,null,null,null,null,null,null,null,null,null,{"$f":"IF(H880=\"\",\"-\",VLOOKUP(J880,読み替え表_低炭素物流!$C$4:$F$12,4,0))","v":"-"},{"$f":"IF(H880=\"\",\"-\",VLOOKUP(L880,読み替え表_低炭素物流!$C$15:$F$21,4,0))","v":"-"},"-",null,null,null,null,0,0,0,0,0,"*"]
[null,null,873,null,null,null,null,null,null,null,null,null,null,null,null,null,null,null,null,null,null,null,null,null,null,{"$f":"IF(H881=\"\",\"-\",VLOOKUP(J881,読み替え表_低炭素物流!$C$4:$F$12,4,0))","v":"-"},{"$f":"IF(H881=\"\",\"-\",VLOOKUP(L881,読み替え表_低炭素物流!$C$15:$F$21,4,0))","v":"-"},"-",null,null,null,null,0,0,0,0,0,"*"]
[null,null,874,null,null,null,null,null,null,null,null,null,null,null,null,null,null,null,null,null,null,null,null,null,null,{"$f":"IF(H882=\"\",\"-\",VLOOKUP(J882,読み替え表_低炭素物流!$C$4:$F$12,4,0))","v":"-"},{"$f":"IF(H882=\"\",\"-\",VLOOKUP(L882,読み替え表_低炭素物流!$C$15:$F$21,4,0))","v":"-"},"-",null,null,null,null,0,0,0,0,0,"*"]
[null,null,875,null,null,null,null,null,null,null,null,null,null,null,null,null,null,null,null,null,null,null,null,null,null,{"$f":"IF(H883=\"\",\"-\",VLOOKUP(J883,読み替え表_低炭素物流!$C$4:$F$12,4,0))","v":"-"},{"$f":"IF(H883=\"\",\"-\",VLOOKUP(L883,読み替え表_低炭素物流!$C$15:$F$21,4,0))","v":"-"},"-",null,null,null,null,0,0,0,0,0,"*"]
[null,null,876,null,null,null,null,null,null,null,null,null,null,null,null,null,null,null,null,null,null,null,null,null,null,{"$f":"IF(H884=\"\",\"-\",VLOOKUP(J884,読み替え表_低炭素物流!$C$4:$F$12,4,0))","v":"-"},{"$f":"IF(H884=\"\",\"-\",VLOOKUP(L884,読み替え表_低炭素物流!$C$15:$F$21,4,0))","v":"-"},"-",null,null,null,null,0,0,0,0,0,"*"]
[null,null,877,null,null,null,null,null,null,null,null,null,null,null,null,null,null,null,null,null,null,null,null,null,null,{"$f":"IF(H885=\"\",\"-\",VLOOKUP(J885,読み替え表_低炭素物流!$C$4:$F$12,4,0))","v":"-"},{"$f":"IF(H885=\"\",\"-\",VLOOKUP(L885,読み替え表_低炭素物流!$C$15:$F$21,4,0))","v":"-"},"-",null,null,null,null,0,0,0,0,0,"*"]
[null,null,878,null,null,null,null,null,null,null,null,null,null,null,null,null,null,null,null,null,null,null,null,null,null,{"$f":"IF(H886=\"\",\"-\",VLOOKUP(J886,読み替え表_低炭素物流!$C$4:$F$12,4,0))","v":"-"},{"$f":"IF(H886=\"\",\"-\",VLOOKUP(L886,読み替え表_低炭素物流!$C$15:$F$21,4,0))","v":"-"},"-",null,null,null,null,0,0,0,0,0,"*"]
[null,null,879,null,null,null,null,null,null,null,null,null,null,null,null,null,null,null,null,null,null,null,null,null,null,{"$f":"IF(H887=\"\",\"-\",VLOOKUP(J887,読み替え表_低炭素物流!$C$4:$F$12,4,0))","v":"-"},{"$f":"IF(H887=\"\",\"-\",VLOOKUP(L887,読み替え表_低炭素物流!$C$15:$F$21,4,0))","v":"-"},"-",null,null,null,null,0,0,0,0,0,"*"]
[null,null,880,null,null,null,null,null,null,null,null,null,null,null,null,null,null,null,null,null,null,null,null,null,null,{"$f":"IF(H888=\"\",\"-\",VLOOKUP(J888,読み替え表_低炭素物流!$C$4:$F$12,4,0))","v":"-"},{"$f":"IF(H888=\"\",\"-\",VLOOKUP(L888,読み替え表_低炭素物流!$C$15:$F$21,4,0))","v":"-"},"-",null,null,null,null,0,0,0,0,0,"*"]
[null,null,881,null,null,null,null,null,null,null,null,null,null,null,null,null,null,null,null,null,null,null,null,null,null,{"$f":"IF(H889=\"\",\"-\",VLOOKUP(J889,読み替え表_低炭素物流!$C$4:$F$12,4,0))","v":"-"},{"$f":"IF(H889=\"\",\"-\",VLOOKUP(L889,読み替え表_低炭素物流!$C$15:$F$21,4,0))","v":"-"},"-",null,null,null,null,0,0,0,0,0,"*"]
[null,null,882,null,null,null,null,null,null,null,null,null,null,null,null,null,null,null,null,null,null,null,null,null,null,{"$f":"IF(H890=\"\",\"-\",VLOOKUP(J890,読み替え表_低炭素物流!$C$4:$F$12,4,0))","v":"-"},{"$f":"IF(H890=\"\",\"-\",VLOOKUP(L890,読み替え表_低炭素物流!$C$15:$F$21,4,0))","v":"-"},"-",null,null,null,null,0,0,0,0,0,"*"]
[null,null,883,null,null,null,null,null,null,null,null,null,null,null,null,null,null,null,null,null,null,null,null,null,null,{"$f":"IF(H891=\"\",\"-\",VLOOKUP(J891,読み替え表_低炭素物流!$C$4:$F$12,4,0))","v":"-"},{"$f":"IF(H891=\"\",\"-\",VLOOKUP(L891,読み替え表_低炭素物流!$C$15:$F$21,4,0))","v":"-"},"-",null,null,null,null,0,0,0,0,0,"*"]
[null,null,884,null,null,null,null,null,null,null,null,null,null,null,null,null,null,null,null,null,null,null,null,null,null,{"$f":"IF(H892=\"\",\"-\",VLOOKUP(J892,読み替え表_低炭素物流!$C$4:$F$12,4,0))","v":"-"},{"$f":"IF(H892=\"\",\"-\",VLOOKUP(L892,読み替え表_低炭素物流!$C$15:$F$21,4,0))","v":"-"},"-",null,null,null,null,0,0,0,0,0,"*"]
[null,null,885,null,null,null,null,null,null,null,null,null,null,null,null,null,null,null,null,null,null,null,null,null,null,{"$f":"IF(H893=\"\",\"-\",VLOOKUP(J893,読み替え表_低炭素物流!$C$4:$F$12,4,0))","v":"-"},{"$f":"IF(H893=\"\",\"-\",VLOOKUP(L893,読み替え表_低炭素物流!$C$15:$F$21,4,0))","v":"-"},"-",null,null,null,null,0,0,0,0,0,"*"]
[null,null,886,null,null,null,null,null,null,null,null,null,null,null,null,null,null,null,null,null,null,null,null,null,null,{"$f":"IF(H894=\"\",\"-\",VLOOKUP(J894,読み替え表_低炭素物流!$C$4:$F$12,4,0))","v":"-"},{"$f":"IF(H894=\"\",\"-\",VLOOKUP(L894,読み替え表_低炭素物流!$C$15:$F$21,4,0))","v":"-"},"-",null,null,null,null,0,0,0,0,0,"*"]
[null,null,887,null,null,null,null,null,null,null,null,null,null,null,null,null,null,null,null,null,null,null,null,null,null,{"$f":"IF(H895=\"\",\"-\",VLOOKUP(J895,読み替え表_低炭素物流!$C$4:$F$12,4,0))","v":"-"},{"$f":"IF(H895=\"\",\"-\",VLOOKUP(L895,読み替え表_低炭素物流!$C$15:$F$21,4,0))","v":"-"},"-",null,null,null,null,0,0,0,0,0,"*"]
[null,null,888,null,null,null,null,null,null,null,null,null,null,null,null,null,null,null,null,null,null,null,null,null,null,{"$f":"IF(H896=\"\",\"-\",VLOOKUP(J896,読み替え表_低炭素物流!$C$4:$F$12,4,0))","v":"-"},{"$f":"IF(H896=\"\",\"-\",VLOOKUP(L896,読み替え表_低炭素物流!$C$15:$F$21,4,0))","v":"-"},"-",null,null,null,null,0,0,0,0,0,"*"]
[null,null,889,null,null,null,null,null,null,null,null,null,null,null,null,null,null,null,null,null,null,null,null,null,null,{"$f":"IF(H897=\"\",\"-\",VLOOKUP(J897,読み替え表_低炭素物流!$C$4:$F$12,4,0))","v":"-"},{"$f":"IF(H897=\"\",\"-\",VLOOKUP(L897,読み替え表_低炭素物流!$C$15:$F$21,4,0))","v":"-"},"-",null,null,null,null,0,0,0,0,0,"*"]
[null,null,890,null,null,null,null,null,null,null,null,null,null,null,null,null,null,null,null,null,null,null,null,null,null,{"$f":"IF(H898=\"\",\"-\",VLOOKUP(J898,読み替え表_低炭素物流!$C$4:$F$12,4,0))","v":"-"},{"$f":"IF(H898=\"\",\"-\",VLOOKUP(L898,読み替え表_低炭素物流!$C$15:$F$21,4,0))","v":"-"},"-",null,null,null,null,0,0,0,0,0,"*"]
[null,null,891,null,null,null,null,null,null,null,null,null,null,null,null,null,null,null,null,null,null,null,null,null,null,{"$f":"IF(H899=\"\",\"-\",VLOOKUP(J899,読み替え表_低炭素物流!$C$4:$F$12,4,0))","v":"-"},{"$f":"IF(H899=\"\",\"-\",VLOOKUP(L899,読み替え表_低炭素物流!$C$15:$F$21,4,0))","v":"-"},"-",null,null,null,null,0,0,0,0,0,"*"]
[null,null,892,null,null,null,null,null,null,null,null,null,null,null,null,null,null,null,null,null,null,null,null,null,null,{"$f":"IF(H900=\"\",\"-\",VLOOKUP(J900,読み替え表_低炭素物流!$C$4:$F$12,4,0))","v":"-"},{"$f":"IF(H900=\"\",\"-\",VLOOKUP(L900,読み替え表_低炭素物流!$C$15:$F$21,4,0))","v":"-"},"-",null,null,null,null,0,0,0,0,0,"*"]
[null,null,893,null,null,null,null,null,null,null,null,null,null,null,null,null,null,null,null,null,null,null,null,null,null,{"$f":"IF(H901=\"\",\"-\",VLOOKUP(J901,読み替え表_低炭素物流!$C$4:$F$12,4,0))","v":"-"},{"$f":"IF(H901=\"\",\"-\",VLOOKUP(L901,読み替え表_低炭素物流!$C$15:$F$21,4,0))","v":"-"},"-",null,null,null,null,0,0,0,0,0,"*"]
[null,null,894,null,null,null,null,null,null,null,null,null,null,null,null,null,null,null,null,null,null,null,null,null,null,{"$f":"IF(H902=\"\",\"-\",VLOOKUP(J902,読み替え表_低炭素物流!$C$4:$F$12,4,0))","v":"-"},{"$f":"IF(H902=\"\",\"-\",VLOOKUP(L902,読み替え表_低炭素物流!$C$15:$F$21,4,0))","v":"-"},"-",null,null,null,null,0,0,0,0,0,"*"]
[null,null,895,null,null,null,null,null,null,null,null,null,null,null,null,null,null,null,null,null,null,null,null,null,null,{"$f":"IF(H903=\"\",\"-\",VLOOKUP(J903,読み替え表_低炭素物流!$C$4:$F$12,4,0))","v":"-"},{"$f":"IF(H903=\"\",\"-\",VLOOKUP(L903,読み替え表_低炭素物流!$C$15:$F$21,4,0))","v":"-"},"-",null,null,null,null,0,0,0,0,0,"*"]
[null,null,896,null,null,null,null,null,null,null,null,null,null,null,null,null,null,null,null,null,null,null,null,null,null,{"$f":"IF(H904=\"\",\"-\",VLOOKUP(J904,読み替え表_低炭素物流!$C$4:$F$12,4,0))","v":"-"},{"$f":"IF(H904=\"\",\"-\",VLOOKUP(L904,読み替え表_低炭素物流!$C$15:$F$21,4,0))","v":"-"},"-",null,null,null,null,0,0,0,0,0,"*"]
[null,null,897,null,null,null,null,null,null,null,null,null,null,null,null,null,null,null,null,null,null,null,null,null,null,{"$f":"IF(H905=\"\",\"-\",VLOOKUP(J905,読み替え表_低炭素物流!$C$4:$F$12,4,0))","v":"-"},{"$f":"IF(H905=\"\",\"-\",VLOOKUP(L905,読み替え表_低炭素物流!$C$15:$F$21,4,0))","v":"-"},"-",null,null,null,null,{"$f":"IF(N905=1,IF(OR(L905=4,L905=5),0,1),0)","v":0},0,0,0,0,"*"]
[null,null,{"$f":"ROW()-8","v":898},null,null,null,null,null,null,null,null,null,null,null,null,null,null,null,null,null,null,null,null,null,null,{"$f":"IF(H906=\"\",\"-\",VLOOKUP(J906,読み替え表_低炭素物流!$C$4:$F$12,4,0))","v":"-"},{"$f":"IF(H906=\"\",\"-\",VLOOKUP(L906,読み替え表_低炭素物流!$C$15:$F$21,4,0))","v":"-"},{"$f":"IF(H906=\"\",\"-\",Z906*AA906)","v":"-"},null,null,null,null,0,{"$f":"IF(J906=8,1,0)","v":0},{"$f":"IF(L906=6,1,0)","v":0},0,{"$f":"AG906","v":0},"*"]
[null,null,899,null,null,null,null,null,null,null,null,null,null,null,null,null,null,null,null,null,null,null,null,null,null,{"$f":"IF(H907=\"\",\"-\",VLOOKUP(J907,読み替え表_低炭素物流!$C$4:$F$12,4,0))","v":"-"},{"$f":"IF(H907=\"\",\"-\",VLOOKUP(L907,読み替え表_低炭素物流!$C$15:$F$21,4,0))","v":"-"},"-",null,null,null,null,0,0,0,0,0,"*"]
[null,null,900,null,null,null,null,null,null,null,null,null,null,null,null,null,null,null,null,null,null,null,null,null,null,{"$f":"IF(H908=\"\",\"-\",VLOOKUP(J908,読み替え表_低炭素物流!$C$4:$F$12,4,0))","v":"-"},{"$f":"IF(H908=\"\",\"-\",VLOOKUP(L908,読み替え表_低炭素物流!$C$15:$F$21,4,0))","v":"-"},"-",null,null,null,null,0,0,0,0,0,"*"]
[null,null,901,null,null,null,null,null,null,null,null,null,null,null,null,null,null,null,null,null,null,null,null,null,null,{"$f":"IF(H909=\"\",\"-\",VLOOKUP(J909,読み替え表_低炭素物流!$C$4:$F$12,4,0))","v":"-"},{"$f":"IF(H909=\"\",\"-\",VLOOKUP(L909,読み替え表_低炭素物流!$C$15:$F$21,4,0))","v":"-"},"-",null,null,null,null,0,0,0,0,0,"*"]
[null,null,902,null,null,null,null,null,null,null,null,null,null,null,null,null,null,null,null,null,null,null,null,null,null,{"$f":"IF(H910=\"\",\"-\",VLOOKUP(J910,読み替え表_低炭素物流!$C$4:$F$12,4,0))","v":"-"},{"$f":"IF(H910=\"\",\"-\",VLOOKUP(L910,読み替え表_低炭素物流!$C$15:$F$21,4,0))","v":"-"},"-",null,null,null,null,0,0,0,0,0,"*"]
[null,null,903,null,null,null,null,null,null,null,null,null,null,null,null,null,null,null,null,null,null,null,null,null,null,{"$f":"IF(H911=\"\",\"-\",VLOOKUP(J911,読み替え表_低炭素物流!$C$4:$F$12,4,0))","v":"-"},{"$f":"IF(H911=\"\",\"-\",VLOOKUP(L911,読み替え表_低炭素物流!$C$15:$F$21,4,0))","v":"-"},"-",null,null,null,null,0,0,0,0,0,"*"]
[null,null,904,null,null,null,null,null,null,null,null,null,null,null,null,null,null,null,null,null,null,null,null,null,null,{"$f":"IF(H912=\"\",\"-\",VLOOKUP(J912,読み替え表_低炭素物流!$C$4:$F$12,4,0))","v":"-"},{"$f":"IF(H912=\"\",\"-\",VLOOKUP(L912,読み替え表_低炭素物流!$C$15:$F$21,4,0))","v":"-"},"-",null,null,null,null,0,0,0,0,0,"*"]
[null,null,905,null,null,null,null,null,null,null,null,null,null,null,null,null,null,null,null,null,null,null,null,null,null,{"$f":"IF(H913=\"\",\"-\",VLOOKUP(J913,読み替え表_低炭素物流!$C$4:$F$12,4,0))","v":"-"},{"$f":"IF(H913=\"\",\"-\",VLOOKUP(L913,読み替え表_低炭素物流!$C$15:$F$21,4,0))","v":"-"},"-",null,null,null,null,0,0,0,0,0,"*"]
[null,null,906,null,null,null,null,null,null,null,null,null,null,null,null,null,null,null,null,null,null,null,null,null,null,{"$f":"IF(H914=\"\",\"-\",VLOOKUP(J914,読み替え表_低炭素物流!$C$4:$F$12,4,0))","v":"-"},{"$f":"IF(H914=\"\",\"-\",VLOOKUP(L914,読み替え表_低炭素物流!$C$15:$F$21,4,0))","v":"-"},"-",null,null,null,null,0,0,0,0,0,"*"]
[null,null,907,null,null,null,null,null,null,null,null,null,null,null,null,null,null,null,null,null,null,null,null,null,null,{"$f":"IF(H915=\"\",\"-\",VLOOKUP(J915,読み替え表_低炭素物流!$C$4:$F$12,4,0))","v":"-"},{"$f":"IF(H915=\"\",\"-\",VLOOKUP(L915,読み替え表_低炭素物流!$C$15:$F$21,4,0))","v":"-"},"-",null,null,null,null,0,0,0,0,0,"*"]
[null,null,908,null,null,null,null,null,null,null,null,null,null,null,null,null,null,null,null,null,null,null,null,null,null,{"$f":"IF(H916=\"\",\"-\",VLOOKUP(J916,読み替え表_低炭素物流!$C$4:$F$12,4,0))","v":"-"},{"$f":"IF(H916=\"\",\"-\",VLOOKUP(L916,読み替え表_低炭素物流!$C$15:$F$21,4,0))","v":"-"},"-",null,null,null,null,0,0,0,0,0,"*"]
[null,null,909,null,null,null,null,null,null,null,null,null,null,null,null,null,null,null,null,null,null,null,null,null,null,{"$f":"IF(H917=\"\",\"-\",VLOOKUP(J917,読み替え表_低炭素物流!$C$4:$F$12,4,0))","v":"-"},{"$f":"IF(H917=\"\",\"-\",VLOOKUP(L917,読み替え表_低炭素物流!$C$15:$F$21,4,0))","v":"-"},"-",null,null,null,null,0,0,0,0,0,"*"]
[null,null,910,null,null,null,null,null,null,null,null,null,null,null,null,null,null,null,null,null,null,null,null,null,null,{"$f":"IF(H918=\"\",\"-\",VLOOKUP(J918,読み替え表_低炭素物流!$C$4:$F$12,4,0))","v":"-"},{"$f":"IF(H918=\"\",\"-\",VLOOKUP(L918,読み替え表_低炭素物流!$C$15:$F$21,4,0))","v":"-"},"-",null,null,null,null,0,0,0,0,0,"*"]
[null,null,911,null,null,null,null,null,null,null,null,null,null,null,null,null,null,null,null,null,null,null,null,null,null,{"$f":"IF(H919=\"\",\"-\",VLOOKUP(J919,読み替え表_低炭素物流!$C$4:$F$12,4,0))","v":"-"},{"$f":"IF(H919=\"\",\"-\",VLOOKUP(L919,読み替え表_低炭素物流!$C$15:$F$21,4,0))","v":"-"},"-",null,null,null,null,0,0,0,0,0,"*"]
[null,null,912,null,null,null,null,null,null,null,null,null,null,null,null,null,null,null,null,null,null,null,null,null,null,{"$f":"IF(H920=\"\",\"-\",VLOOKUP(J920,読み替え表_低炭素物流!$C$4:$F$12,4,0))","v":"-"},{"$f":"IF(H920=\"\",\"-\",VLOOKUP(L920,読み替え表_低炭素物流!$C$15:$F$21,4,0))","v":"-"},"-",null,null,null,null,0,0,0,{"$f":"IF(OR(N920=7,N920=99),1,0)","v":0},0,"*"]
[null,null,913,null,null,null,null,null,null,null,null,null,null,null,null,null,null,null,null,null,null,null,null,null,null,{"$f":"IF(H921=\"\",\"-\",VLOOKUP(J921,読み替え表_低炭素物流!$C$4:$F$12,4,0))","v":"-"},{"$f":"IF(H921=\"\",\"-\",VLOOKUP(L921,読み替え表_低炭素物流!$C$15:$F$21,4,0))","v":"-"},"-",null,null,null,null,0,0,0,0,0,"*"]
[null,null,914,null,null,null,null,null,null,null,null,null,null,null,null,null,null,null,null,null,null,null,null,null,null,{"$f":"IF(H922=\"\",\"-\",VLOOKUP(J922,読み替え表_低炭素物流!$C$4:$F$12,4,0))","v":"-"},{"$f":"IF(H922=\"\",\"-\",VLOOKUP(L922,読み替え表_低炭素物流!$C$15:$F$21,4,0))","v":"-"},"-",null,null,null,null,0,0,0,0,0,"*"]
[null,null,915,null,null,null,null,null,null,null,null,null,null,null,null,null,null,null,null,null,null,null,null,null,null,{"$f":"IF(H923=\"\",\"-\",VLOOKUP(J923,読み替え表_低炭素物流!$C$4:$F$12,4,0))","v":"-"},{"$f":"IF(H923=\"\",\"-\",VLOOKUP(L923,読み替え表_低炭素物流!$C$15:$F$21,4,0))","v":"-"},"-",null,null,null,null,0,0,0,0,0,"*"]
[null,null,916,null,null,null,null,null,null,null,null,null,null,null,null,null,null,null,null,null,null,null,null,null,null,{"$f":"IF(H924=\"\",\"-\",VLOOKUP(J924,読み替え表_低炭素物流!$C$4:$F$12,4,0))","v":"-"},{"$f":"IF(H924=\"\",\"-\",VLOOKUP(L924,読み替え表_低炭素物流!$C$15:$F$21,4,0))","v":"-"},"-",null,null,null,null,0,0,0,0,0,"*"]
[null,null,917,null,null,null,null,null,null,null,null,null,null,null,null,null,null,null,null,null,null,null,null,null,null,{"$f":"IF(H925=\"\",\"-\",VLOOKUP(J925,読み替え表_低炭素物流!$C$4:$F$12,4,0))","v":"-"},{"$f":"IF(H925=\"\",\"-\",VLOOKUP(L925,読み替え表_低炭素物流!$C$15:$F$21,4,0))","v":"-"},"-",null,null,null,null,0,0,0,0,0,"*"]
[null,null,918,null,null,null,null,null,null,null,null,null,null,null,null,null,null,null,null,null,null,null,null,null,null,{"$f":"IF(H926=\"\",\"-\",VLOOKUP(J926,読み替え表_低炭素物流!$C$4:$F$12,4,0))","v":"-"},{"$f":"IF(H926=\"\",\"-\",VLOOKUP(L926,読み替え表_低炭素物流!$C$15:$F$21,4,0))","v":"-"},"-",null,null,null,null,0,0,0,0,0,"*"]
[null,null,919,null,null,null,null,null,null,null,null,null,null,null,null,null,null,null,null,null,null,null,null,null,null,{"$f":"IF(H927=\"\",\"-\",VLOOKUP(J927,読み替え表_低炭素物流!$C$4:$F$12,4,0))","v":"-"},{"$f":"IF(H927=\"\",\"-\",VLOOKUP(L927,読み替え表_低炭素物流!$C$15:$F$21,4,0))","v":"-"},"-",null,null,null,null,0,0,0,0,0,"*"]
[null,null,920,null,null,null,null,null,null,null,null,null,null,null,null,null,null,null,null,null,null,null,null,null,null,{"$f":"IF(H928=\"\",\"-\",VLOOKUP(J928,読み替え表_低炭素物流!$C$4:$F$12,4,0))","v":"-"},{"$f":"IF(H928=\"\",\"-\",VLOOKUP(L928,読み替え表_低炭素物流!$C$15:$F$21,4,0))","v":"-"},"-",null,null,null,null,0,0,0,0,0,"*"]
[null,null,921,null,null,null,null,null,null,null,null,null,null,null,null,null,null,null,null,null,null,null,null,null,null,{"$f":"IF(H929=\"\",\"-\",VLOOKUP(J929,読み替え表_低炭素物流!$C$4:$F$12,4,0))","v":"-"},{"$f":"IF(H929=\"\",\"-\",VLOOKUP(L929,読み替え表_低炭素物流!$C$15:$F$21,4,0))","v":"-"},"-",null,null,null,null,0,0,0,0,0,"*"]
[null,null,922,null,null,null,null,null,null,null,null,null,null,null,null,null,null,null,null,null,null,null,null,null,null,{"$f":"IF(H930=\"\",\"-\",VLOOKUP(J930,読み替え表_低炭素物流!$C$4:$F$12,4,0))","v":"-"},{"$f":"IF(H930=\"\",\"-\",VLOOKUP(L930,読み替え表_低炭素物流!$C$15:$F$21,4,0))","v":"-"},"-",null,null,null,null,0,0,0,0,0,"*"]
[null,null,923,null,null,null,null,null,null,null,null,null,null,null,null,null,null,null,null,null,null,null,null,null,null,{"$f":"IF(H931=\"\",\"-\",VLOOKUP(J931,読み替え表_低炭素物流!$C$4:$F$12,4,0))","v":"-"},{"$f":"IF(H931=\"\",\"-\",VLOOKUP(L931,読み替え表_低炭素物流!$C$15:$F$21,4,0))","v":"-"},"-",null,null,null,null,0,0,0,0,0,"*"]
[null,null,924,null,null,null,null,null,null,null,null,null,null,null,null,null,null,null,null,null,null,null,null,null,null,{"$f":"IF(H932=\"\",\"-\",VLOOKUP(J932,読み替え表_低炭素物流!$C$4:$F$12,4,0))","v":"-"},{"$f":"IF(H932=\"\",\"-\",VLOOKUP(L932,読み替え表_低炭素物流!$C$15:$F$21,4,0))","v":"-"},"-",null,null,null,null,0,0,0,0,0,"*"]
[null,null,925,null,null,null,null,null,null,null,null,null,null,null,null,null,null,null,null,null,null,null,null,null,null,{"$f":"IF(H933=\"\",\"-\",VLOOKUP(J933,読み替え表_低炭素物流!$C$4:$F$12,4,0))","v":"-"},{"$f":"IF(H933=\"\",\"-\",VLOOKUP(L933,読み替え表_低炭素物流!$C$15:$F$21,4,0))","v":"-"},"-",null,null,null,null,0,0,0,0,0,"*"]
[null,null,926,null,null,null,null,null,null,null,null,null,null,null,null,null,null,null,null,null,null,null,null,null,null,{"$f":"IF(H934=\"\",\"-\",VLOOKUP(J934,読み替え表_低炭素物流!$C$4:$F$12,4,0))","v":"-"},{"$f":"IF(H934=\"\",\"-\",VLOOKUP(L934,読み替え表_低炭素物流!$C$15:$F$21,4,0))","v":"-"},"-",null,null,null,null,0,0,0,0,0,"*"]
[null,null,927,null,null,null,null,null,null,null,null,null,null,null,null,null,null,null,null,null,null,null,null,null,null,{"$f":"IF(H935=\"\",\"-\",VLOOKUP(J935,読み替え表_低炭素物流!$C$4:$F$12,4,0))","v":"-"},{"$f":"IF(H935=\"\",\"-\",VLOOKUP(L935,読み替え表_低炭素物流!$C$15:$F$21,4,0))","v":"-"},"-",null,null,null,null,0,0,0,0,0,"*"]
[null,null,928,null,null,null,null,null,null,null,null,null,null,null,null,null,null,null,null,null,null,null,null,null,null,{"$f":"IF(H936=\"\",\"-\",VLOOKUP(J936,読み替え表_低炭素物流!$C$4:$F$12,4,0))","v":"-"},{"$f":"IF(H936=\"\",\"-\",VLOOKUP(L936,読み替え表_低炭素物流!$C$15:$F$21,4,0))","v":"-"},"-",null,null,null,null,0,0,0,0,0,"*"]
[null,null,929,null,null,null,null,null,null,null,null,null,null,null,null,null,null,null,null,null,null,null,null,null,null,{"$f":"IF(H937=\"\",\"-\",VLOOKUP(J937,読み替え表_低炭素物流!$C$4:$F$12,4,0))","v":"-"},{"$f":"IF(H937=\"\",\"-\",VLOOKUP(L937,読み替え表_低炭素物流!$C$15:$F$21,4,0))","v":"-"},"-",null,null,null,null,0,0,0,0,0,"*"]
[null,null,930,null,null,null,null,null,null,null,null,null,null,null,null,null,null,null,null,null,null,null,null,null,null,{"$f":"IF(H938=\"\",\"-\",VLOOKUP(J938,読み替え表_低炭素物流!$C$4:$F$12,4,0))","v":"-"},{"$f":"IF(H938=\"\",\"-\",VLOOKUP(L938,読み替え表_低炭素物流!$C$15:$F$21,4,0))","v":"-"},"-",null,null,null,null,0,0,0,0,0,"*"]
[null,null,931,null,null,null,null,null,null,null,null,null,null,null,null,null,null,null,null,null,null,null,null,null,null,{"$f":"IF(H939=\"\",\"-\",VLOOKUP(J939,読み替え表_低炭素物流!$C$4:$F$12,4,0))","v":"-"},{"$f":"IF(H939=\"\",\"-\",VLOOKUP(L939,読み替え表_低炭素物流!$C$15:$F$21,4,0))","v":"-"},"-",null,null,null,null,0,0,0,0,0,"*"]
[null,null,932,null,null,null,null,null,null,null,null,null,null,null,null,null,null,null,null,null,null,null,null,null,null,{"$f":"IF(H940=\"\",\"-\",VLOOKUP(J940,読み替え表_低炭素物流!$C$4:$F$12,4,0))","v":"-"},{"$f":"IF(H940=\"\",\"-\",VLOOKUP(L940,読み替え表_低炭素物流!$C$15:$F$21,4,0))","v":"-"},"-",null,null,null,null,0,0,0,0,0,"*"]
[null,null,933,null,null,null,null,null,null,null,null,null,null,null,null,null,null,null,null,null,null,null,null,null,null,{"$f":"IF(H941=\"\",\"-\",VLOOKUP(J941,読み替え表_低炭素物流!$C$4:$F$12,4,0))","v":"-"},{"$f":"IF(H941=\"\",\"-\",VLOOKUP(L941,読み替え表_低炭素物流!$C$15:$F$21,4,0))","v":"-"},"-",null,null,null,null,0,0,0,0,0,"*"]
[null,null,934,null,null,null,null,null,null,null,null,null,null,null,null,null,null,null,null,null,null,null,null,null,null,{"$f":"IF(H942=\"\",\"-\",VLOOKUP(J942,読み替え表_低炭素物流!$C$4:$F$12,4,0))","v":"-"},{"$f":"IF(H942=\"\",\"-\",VLOOKUP(L942,読み替え表_低炭素物流!$C$15:$F$21,4,0))","v":"-"},"-",null,null,null,null,0,0,0,0,0,"*"]
[null,null,935,null,null,null,null,null,null,null,null,null,null,null,null,null,null,null,null,null,null,null,null,null,null,{"$f":"IF(H943=\"\",\"-\",VLOOKUP(J943,読み替え表_低炭素物流!$C$4:$F$12,4,0))","v":"-"},{"$f":"IF(H943=\"\",\"-\",VLOOKUP(L943,読み替え表_低炭素物流!$C$15:$F$21,4,0))","v":"-"},"-",null,null,null,null,0,0,0,0,0,"*"]
[null,null,936,null,null,null,null,null,null,null,null,null,null,null,null,null,null,null,null,null,null,null,null,null,null,{"$f":"IF(H944=\"\",\"-\",VLOOKUP(J944,読み替え表_低炭素物流!$C$4:$F$12,4,0))","v":"-"},{"$f":"IF(H944=\"\",\"-\",VLOOKUP(L944,読み替え表_低炭素物流!$C$15:$F$21,4,0))","v":"-"},"-",null,null,null,null,0,0,0,0,0,"*"]
[null,null,937,null,null,null,null,null,null,null,null,null,null,null,null,null,null,null,null,null,null,null,null,null,null,{"$f":"IF(H945=\"\",\"-\",VLOOKUP(J945,読み替え表_低炭素物流!$C$4:$F$12,4,0))","v":"-"},{"$f":"IF(H945=\"\",\"-\",VLOOKUP(L945,読み替え表_低炭素物流!$C$15:$F$21,4,0))","v":"-"},"-",null,null,null,null,0,0,0,0,0,"*"]
[null,null,938,null,null,null,null,null,null,null,null,null,null,null,null,null,null,null,null,null,null,null,null,null,null,{"$f":"IF(H946=\"\",\"-\",VLOOKUP(J946,読み替え表_低炭素物流!$C$4:$F$12,4,0))","v":"-"},{"$f":"IF(H946=\"\",\"-\",VLOOKUP(L946,読み替え表_低炭素物流!$C$15:$F$21,4,0))","v":"-"},"-",null,null,null,null,0,0,0,0,0,"*"]
[null,null,939,null,null,null,null,null,null,null,null,null,null,null,null,null,null,null,null,null,null,null,null,null,null,{"$f":"IF(H947=\"\",\"-\",VLOOKUP(J947,読み替え表_低炭素物流!$C$4:$F$12,4,0))","v":"-"},{"$f":"IF(H947=\"\",\"-\",VLOOKUP(L947,読み替え表_低炭素物流!$C$15:$F$21,4,0))","v":"-"},"-",null,null,null,null,0,0,0,0,0,"*"]
[null,null,940,null,null,null,null,null,null,null,null,null,null,null,null,null,null,null,null,null,null,null,null,null,null,{"$f":"IF(H948=\"\",\"-\",VLOOKUP(J948,読み替え表_低炭素物流!$C$4:$F$12,4,0))","v":"-"},{"$f":"IF(H948=\"\",\"-\",VLOOKUP(L948,読み替え表_低炭素物流!$C$15:$F$21,4,0))","v":"-"},"-",null,null,null,null,0,0,0,0,0,"*"]
[null,null,941,null,null,null,null,null,null,null,null,null,null,null,null,null,null,null,null,null,null,null,null,null,null,{"$f":"IF(H949=\"\",\"-\",VLOOKUP(J949,読み替え表_低炭素物流!$C$4:$F$12,4,0))","v":"-"},{"$f":"IF(H949=\"\",\"-\",VLOOKUP(L949,読み替え表_低炭素物流!$C$15:$F$21,4,0))","v":"-"},"-",null,null,null,null,0,0,0,0,0,"*"]
[null,null,942,null,null,null,null,null,null,null,null,null,null,null,null,null,null,null,null,null,null,null,null,null,null,{"$f":"IF(H950=\"\",\"-\",VLOOKUP(J950,読み替え表_低炭素物流!$C$4:$F$12,4,0))","v":"-"},{"$f":"IF(H950=\"\",\"-\",VLOOKUP(L950,読み替え表_低炭素物流!$C$15:$F$21,4,0))","v":"-"},"-",null,null,null,null,0,0,0,0,0,"*"]
[null,null,943,null,null,null,null,null,null,null,null,null,null,null,null,null,null,null,null,null,null,null,null,null,null,{"$f":"IF(H951=\"\",\"-\",VLOOKUP(J951,読み替え表_低炭素物流!$C$4:$F$12,4,0))","v":"-"},{"$f":"IF(H951=\"\",\"-\",VLOOKUP(L951,読み替え表_低炭素物流!$C$15:$F$21,4,0))","v":"-"},"-",null,null,null,null,0,0,0,0,0,"*"]
[null,null,944,null,null,null,null,null,null,null,null,null,null,null,null,null,null,null,null,null,null,null,null,null,null,{"$f":"IF(H952=\"\",\"-\",VLOOKUP(J952,読み替え表_低炭素物流!$C$4:$F$12,4,0))","v":"-"},{"$f":"IF(H952=\"\",\"-\",VLOOKUP(L952,読み替え表_低炭素物流!$C$15:$F$21,4,0))","v":"-"},"-",null,null,null,null,0,0,0,0,0,"*"]
[null,null,945,null,null,null,null,null,null,null,null,null,null,null,null,null,null,null,null,null,null,null,null,null,null,{"$f":"IF(H953=\"\",\"-\",VLOOKUP(J953,読み替え表_低炭素物流!$C$4:$F$12,4,0))","v":"-"},{"$f":"IF(H953=\"\",\"-\",VLOOKUP(L953,読み替え表_低炭素物流!$C$15:$F$21,4,0))","v":"-"},"-",null,null,null,null,0,0,0,0,0,"*"]
[null,null,946,null,null,null,null,null,null,null,null,null,null,null,null,null,null,null,null,null,null,null,null,null,null,{"$f":"IF(H954=\"\",\"-\",VLOOKUP(J954,読み替え表_低炭素物流!$C$4:$F$12,4,0))","v":"-"},{"$f":"IF(H954=\"\",\"-\",VLOOKUP(L954,読み替え表_低炭素物流!$C$15:$F$21,4,0))","v":"-"},"-",null,null,null,null,0,0,0,0,0,"*"]
[null,null,947,null,null,null,null,null,null,null,null,null,null,null,null,null,null,null,null,null,null,null,null,null,null,{"$f":"IF(H955=\"\",\"-\",VLOOKUP(J955,読み替え表_低炭素物流!$C$4:$F$12,4,0))","v":"-"},{"$f":"IF(H955=\"\",\"-\",VLOOKUP(L955,読み替え表_低炭素物流!$C$15:$F$21,4,0))","v":"-"},"-",null,null,null,null,0,0,0,0,0,"*"]
[null,null,948,null,null,null,null,null,null,null,null,null,null,null,null,null,null,null,null,null,null,null,null,null,null,{"$f":"IF(H956=\"\",\"-\",VLOOKUP(J956,読み替え表_低炭素物流!$C$4:$F$12,4,0))","v":"-"},{"$f":"IF(H956=\"\",\"-\",VLOOKUP(L956,読み替え表_低炭素物流!$C$15:$F$21,4,0))","v":"-"},"-",null,null,null,null,0,0,0,0,0,"*"]
[null,null,949,null,null,null,null,null,null,null,null,null,null,null,null,null,null,null,null,null,null,null,null,null,null,{"$f":"IF(H957=\"\",\"-\",VLOOKUP(J957,読み替え表_低炭素物流!$C$4:$F$12,4,0))","v":"-"},{"$f":"IF(H957=\"\",\"-\",VLOOKUP(L957,読み替え表_低炭素物流!$C$15:$F$21,4,0))","v":"-"},"-",null,null,null,null,0,0,0,0,0,"*"]
[null,null,950,null,null,null,null,null,null,null,null,null,null,null,null,null,null,null,null,null,null,null,null,null,null,{"$f":"IF(H958=\"\",\"-\",VLOOKUP(J958,読み替え表_低炭素物流!$C$4:$F$12,4,0))","v":"-"},{"$f":"IF(H958=\"\",\"-\",VLOOKUP(L958,読み替え表_低炭素物流!$C$15:$F$21,4,0))","v":"-"},"-",null,null,null,null,0,0,0,0,0,"*"]
[null,null,951,null,null,null,null,null,null,null,null,null,null,null,null,null,null,null,null,null,null,null,null,null,null,{"$f":"IF(H959=\"\",\"-\",VLOOKUP(J959,読み替え表_低炭素物流!$C$4:$F$12,4,0))","v":"-"},{"$f":"IF(H959=\"\",\"-\",VLOOKUP(L959,読み替え表_低炭素物流!$C$15:$F$21,4,0))","v":"-"},"-",null,null,null,null,0,0,0,0,0,"*"]
[null,null,952,null,null,null,null,null,null,null,null,null,null,null,null,null,null,null,null,null,null,null,null,null,null,{"$f":"IF(H960=\"\",\"-\",VLOOKUP(J960,読み替え表_低炭素物流!$C$4:$F$12,4,0))","v":"-"},{"$f":"IF(H960=\"\",\"-\",VLOOKUP(L960,読み替え表_低炭素物流!$C$15:$F$21,4,0))","v":"-"},"-",null,null,null,null,0,0,0,0,0,"*"]
[null,null,953,null,null,null,null,null,null,null,null,null,null,null,null,null,null,null,null,null,null,null,null,null,null,{"$f":"IF(H961=\"\",\"-\",VLOOKUP(J961,読み替え表_低炭素物流!$C$4:$F$12,4,0))","v":"-"},{"$f":"IF(H961=\"\",\"-\",VLOOKUP(L961,読み替え表_低炭素物流!$C$15:$F$21,4,0))","v":"-"},"-",null,null,null,null,0,0,0,0,0,"*"]
[null,null,954,null,null,null,null,null,null,null,null,null,null,null,null,null,null,null,null,null,null,null,null,null,null,{"$f":"IF(H962=\"\",\"-\",VLOOKUP(J962,読み替え表_低炭素物流!$C$4:$F$12,4,0))","v":"-"},{"$f":"IF(H962=\"\",\"-\",VLOOKUP(L962,読み替え表_低炭素物流!$C$15:$F$21,4,0))","v":"-"},"-",null,null,null,null,0,0,0,0,0,"*"]
[null,null,955,null,null,null,null,null,null,null,null,null,null,null,null,null,null,null,null,null,null,null,null,null,null,{"$f":"IF(H963=\"\",\"-\",VLOOKUP(J963,読み替え表_低炭素物流!$C$4:$F$12,4,0))","v":"-"},{"$f":"IF(H963=\"\",\"-\",VLOOKUP(L963,読み替え表_低炭素物流!$C$15:$F$21,4,0))","v":"-"},"-",null,null,null,null,0,0,0,0,0,"*"]
[null,null,956,null,null,null,null,null,null,null,null,null,null,null,null,null,null,null,null,null,null,null,null,null,null,{"$f":"IF(H964=\"\",\"-\",VLOOKUP(J964,読み替え表_低炭素物流!$C$4:$F$12,4,0))","v":"-"},{"$f":"IF(H964=\"\",\"-\",VLOOKUP(L964,読み替え表_低炭素物流!$C$15:$F$21,4,0))","v":"-"},"-",null,null,null,null,0,0,0,0,0,"*"]
[null,null,957,null,null,null,null,null,null,null,null,null,null,null,null,null,null,null,null,null,null,null,null,null,null,{"$f":"IF(H965=\"\",\"-\",VLOOKUP(J965,読み替え表_低炭素物流!$C$4:$F$12,4,0))","v":"-"},{"$f":"IF(H965=\"\",\"-\",VLOOKUP(L965,読み替え表_低炭素物流!$C$15:$F$21,4,0))","v":"-"},"-",null,null,null,null,0,0,0,0,0,"*"]
[null,null,958,null,null,null,null,null,null,null,null,null,null,null,null,null,null,null,null,null,null,null,null,null,null,{"$f":"IF(H966=\"\",\"-\",VLOOKUP(J966,読み替え表_低炭素物流!$C$4:$F$12,4,0))","v":"-"},{"$f":"IF(H966=\"\",\"-\",VLOOKUP(L966,読み替え表_低炭素物流!$C$15:$F$21,4,0))","v":"-"},"-",null,null,null,null,0,0,0,0,0,"*"]
[null,null,959,null,null,null,null,null,null,null,null,null,null,null,null,null,null,null,null,null,null,null,null,null,null,{"$f":"IF(H967=\"\",\"-\",VLOOKUP(J967,読み替え表_低炭素物流!$C$4:$F$12,4,0))","v":"-"},{"$f":"IF(H967=\"\",\"-\",VLOOKUP(L967,読み替え表_低炭素物流!$C$15:$F$21,4,0))","v":"-"},"-",null,null,null,null,0,0,0,0,0,"*"]
[null,null,960,null,null,null,null,null,null,null,null,null,null,null,null,null,null,null,null,null,null,null,null,null,null,{"$f":"IF(H968=\"\",\"-\",VLOOKUP(J968,読み替え表_低炭素物流!$C$4:$F$12,4,0))","v":"-"},{"$f":"IF(H968=\"\",\"-\",VLOOKUP(L968,読み替え表_低炭素物流!$C$15:$F$21,4,0))","v":"-"},"-",null,null,null,null,0,0,0,0,0,"*"]
[null,null,961,null,null,null,null,null,null,null,null,null,null,null,null,null,null,null,null,null,null,null,null,null,null,{"$f":"IF(H969=\"\",\"-\",VLOOKUP(J969,読み替え表_低炭素物流!$C$4:$F$12,4,0))","v":"-"},{"$f":"IF(H969=\"\",\"-\",VLOOKUP(L969,読み替え表_低炭素物流!$C$15:$F$21,4,0))","v":"-"},"-",null,null,null,null,{"$f":"IF(N969=1,IF(OR(L969=4,L969=5),0,1),0)","v":0},0,0,0,0,"*"]
[null,null,{"$f":"ROW()-8","v":962},null,null,null,null,null,null,null,null,null,null,null,null,null,null,null,null,null,null,null,null,null,null,{"$f":"IF(H970=\"\",\"-\",VLOOKUP(J970,読み替え表_低炭素物流!$C$4:$F$12,4,0))","v":"-"},{"$f":"IF(H970=\"\",\"-\",VLOOKUP(L970,読み替え表_低炭素物流!$C$15:$F$21,4,0))","v":"-"},{"$f":"IF(H970=\"\",\"-\",Z970*AA970)","v":"-"},null,null,null,null,0,{"$f":"IF(J970=8,1,0)","v":0},{"$f":"IF(L970=6,1,0)","v":0},0,{"$f":"AG970","v":0},"*"]
[null,null,963,null,null,null,null,null,null,null,null,null,null,null,null,null,null,null,null,null,null,null,null,null,null,{"$f":"IF(H971=\"\",\"-\",VLOOKUP(J971,読み替え表_低炭素物流!$C$4:$F$12,4,0))","v":"-"},{"$f":"IF(H971=\"\",\"-\",VLOOKUP(L971,読み替え表_低炭素物流!$C$15:$F$21,4,0))","v":"-"},"-",null,null,null,null,0,0,0,0,0,"*"]
[null,null,964,null,null,null,null,null,null,null,null,null,null,null,null,null,null,null,null,null,null,null,null,null,null,{"$f":"IF(H972=\"\",\"-\",VLOOKUP(J972,読み替え表_低炭素物流!$C$4:$F$12,4,0))","v":"-"},{"$f":"IF(H972=\"\",\"-\",VLOOKUP(L972,読み替え表_低炭素物流!$C$15:$F$21,4,0))","v":"-"},"-",null,null,null,null,0,0,0,0,0,"*"]
[null,null,965,null,null,null,null,null,null,null,null,null,null,null,null,null,null,null,null,null,null,null,null,null,null,{"$f":"IF(H973=\"\",\"-\",VLOOKUP(J973,読み替え表_低炭素物流!$C$4:$F$12,4,0))","v":"-"},{"$f":"IF(H973=\"\",\"-\",VLOOKUP(L973,読み替え表_低炭素物流!$C$15:$F$21,4,0))","v":"-"},"-",null,null,null,null,0,0,0,0,0,"*"]
[null,null,966,null,null,null,null,null,null,null,null,null,null,null,null,null,null,null,null,null,null,null,null,null,null,{"$f":"IF(H974=\"\",\"-\",VLOOKUP(J974,読み替え表_低炭素物流!$C$4:$F$12,4,0))","v":"-"},{"$f":"IF(H974=\"\",\"-\",VLOOKUP(L974,読み替え表_低炭素物流!$C$15:$F$21,4,0))","v":"-"},"-",null,null,null,null,0,0,0,0,0,"*"]
[null,null,967,null,null,null,null,null,null,null,null,null,null,null,null,null,null,null,null,null,null,null,null,null,null,{"$f":"IF(H975=\"\",\"-\",VLOOKUP(J975,読み替え表_低炭素物流!$C$4:$F$12,4,0))","v":"-"},{"$f":"IF(H975=\"\",\"-\",VLOOKUP(L975,読み替え表_低炭素物流!$C$15:$F$21,4,0))","v":"-"},"-",null,null,null,null,0,0,0,0,0,"*"]
[null,null,968,null,null,null,null,null,null,null,null,null,null,null,null,null,null,null,null,null,null,null,null,null,null,{"$f":"IF(H976=\"\",\"-\",VLOOKUP(J976,読み替え表_低炭素物流!$C$4:$F$12,4,0))","v":"-"},{"$f":"IF(H976=\"\",\"-\",VLOOKUP(L976,読み替え表_低炭素物流!$C$15:$F$21,4,0))","v":"-"},"-",null,null,null,null,0,0,0,0,0,"*"]
[null,null,969,null,null,null,null,null,null,null,null,null,null,null,null,null,null,null,null,null,null,null,null,null,null,{"$f":"IF(H977=\"\",\"-\",VLOOKUP(J977,読み替え表_低炭素物流!$C$4:$F$12,4,0))","v":"-"},{"$f":"IF(H977=\"\",\"-\",VLOOKUP(L977,読み替え表_低炭素物流!$C$15:$F$21,4,0))","v":"-"},"-",null,null,null,null,0,0,0,0,0,"*"]
[null,null,970,null,null,null,null,null,null,null,null,null,null,null,null,null,null,null,null,null,null,null,null,null,null,{"$f":"IF(H978=\"\",\"-\",VLOOKUP(J978,読み替え表_低炭素物流!$C$4:$F$12,4,0))","v":"-"},{"$f":"IF(H978=\"\",\"-\",VLOOKUP(L978,読み替え表_低炭素物流!$C$15:$F$21,4,0))","v":"-"},"-",null,null,null,null,0,0,0,0,0,"*"]
[null,null,971,null,null,null,null,null,null,null,null,null,null,null,null,null,null,null,null,null,null,null,null,null,null,{"$f":"IF(H979=\"\",\"-\",VLOOKUP(J979,読み替え表_低炭素物流!$C$4:$F$12,4,0))","v":"-"},{"$f":"IF(H979=\"\",\"-\",VLOOKUP(L979,読み替え表_低炭素物流!$C$15:$F$21,4,0))","v":"-"},"-",null,null,null,null,0,0,0,0,0,"*"]
[null,null,972,null,null,null,null,null,null,null,null,null,null,null,null,null,null,null,null,null,null,null,null,null,null,{"$f":"IF(H980=\"\",\"-\",VLOOKUP(J980,読み替え表_低炭素物流!$C$4:$F$12,4,0))","v":"-"},{"$f":"IF(H980=\"\",\"-\",VLOOKUP(L980,読み替え表_低炭素物流!$C$15:$F$21,4,0))","v":"-"},"-",null,null,null,null,0,0,0,0,0,"*"]
[null,null,973,null,null,null,null,null,null,null,null,null,null,null,null,null,null,null,null,null,null,null,null,null,null,{"$f":"IF(H981=\"\",\"-\",VLOOKUP(J981,読み替え表_低炭素物流!$C$4:$F$12,4,0))","v":"-"},{"$f":"IF(H981=\"\",\"-\",VLOOKUP(L981,読み替え表_低炭素物流!$C$15:$F$21,4,0))","v":"-"},"-",null,null,null,null,0,0,0,0,0,"*"]
[null,null,974,null,null,null,null,null,null,null,null,null,null,null,null,null,null,null,null,null,null,null,null,null,null,{"$f":"IF(H982=\"\",\"-\",VLOOKUP(J982,読み替え表_低炭素物流!$C$4:$F$12,4,0))","v":"-"},{"$f":"IF(H982=\"\",\"-\",VLOOKUP(L982,読み替え表_低炭素物流!$C$15:$F$21,4,0))","v":"-"},"-",null,null,null,null,0,0,0,0,0,"*"]
[null,null,975,null,null,null,null,null,null,null,null,null,null,null,null,null,null,null,null,null,null,null,null,null,null,{"$f":"IF(H983=\"\",\"-\",VLOOKUP(J983,読み替え表_低炭素物流!$C$4:$F$12,4,0))","v":"-"},{"$f":"IF(H983=\"\",\"-\",VLOOKUP(L983,読み替え表_低炭素物流!$C$15:$F$21,4,0))","v":"-"},"-",null,null,null,null,0,0,0,0,0,"*"]
[null,null,976,null,null,null,null,null,null,null,null,null,null,null,null,null,null,null,null,null,null,null,null,null,null,{"$f":"IF(H984=\"\",\"-\",VLOOKUP(J984,読み替え表_低炭素物流!$C$4:$F$12,4,0))","v":"-"},{"$f":"IF(H984=\"\",\"-\",VLOOKUP(L984,読み替え表_低炭素物流!$C$15:$F$21,4,0))","v":"-"},"-",null,null,null,null,0,0,0,{"$f":"IF(OR(N984=7,N984=99),1,0)","v":0},0,"*"]
[null,null,977,null,null,null,null,null,null,null,null,null,null,null,null,null,null,null,null,null,null,null,null,null,null,{"$f":"IF(H985=\"\",\"-\",VLOOKUP(J985,読み替え表_低炭素物流!$C$4:$F$12,4,0))","v":"-"},{"$f":"IF(H985=\"\",\"-\",VLOOKUP(L985,読み替え表_低炭素物流!$C$15:$F$21,4,0))","v":"-"},"-",null,null,null,null,0,0,0,0,0,"*"]
[null,null,978,null,null,null,null,null,null,null,null,null,null,null,null,null,null,null,null,null,null,null,null,null,null,{"$f":"IF(H986=\"\",\"-\",VLOOKUP(J986,読み替え表_低炭素物流!$C$4:$F$12,4,0))","v":"-"},{"$f":"IF(H986=\"\",\"-\",VLOOKUP(L986,読み替え表_低炭素物流!$C$15:$F$21,4,0))","v":"-"},"-",null,null,null,null,0,0,0,0,0,"*"]
[null,null,979,null,null,null,null,null,null,null,null,null,null,null,null,null,null,null,null,null,null,null,null,null,null,{"$f":"IF(H987=\"\",\"-\",VLOOKUP(J987,読み替え表_低炭素物流!$C$4:$F$12,4,0))","v":"-"},{"$f":"IF(H987=\"\",\"-\",VLOOKUP(L987,読み替え表_低炭素物流!$C$15:$F$21,4,0))","v":"-"},"-",null,null,null,null,0,0,0,0,0,"*"]
[null,null,980,null,null,null,null,null,null,null,null,null,null,null,null,null,null,null,null,null,null,null,null,null,null,{"$f":"IF(H988=\"\",\"-\",VLOOKUP(J988,読み替え表_低炭素物流!$C$4:$F$12,4,0))","v":"-"},{"$f":"IF(H988=\"\",\"-\",VLOOKUP(L988,読み替え表_低炭素物流!$C$15:$F$21,4,0))","v":"-"},"-",null,null,null,null,0,0,0,0,0,"*"]
[null,null,981,null,null,null,null,null,null,null,null,null,null,null,null,null,null,null,null,null,null,null,null,null,null,{"$f":"IF(H989=\"\",\"-\",VLOOKUP(J989,読み替え表_低炭素物流!$C$4:$F$12,4,0))","v":"-"},{"$f":"IF(H989=\"\",\"-\",VLOOKUP(L989,読み替え表_低炭素物流!$C$15:$F$21,4,0))","v":"-"},"-",null,null,null,null,0,0,0,0,0,"*"]
[null,null,982,null,null,null,null,null,null,null,null,null,null,null,null,null,null,null,null,null,null,null,null,null,null,{"$f":"IF(H990=\"\",\"-\",VLOOKUP(J990,読み替え表_低炭素物流!$C$4:$F$12,4,0))","v":"-"},{"$f":"IF(H990=\"\",\"-\",VLOOKUP(L990,読み替え表_低炭素物流!$C$15:$F$21,4,0))","v":"-"},"-",null,null,null,null,0,0,0,0,0,"*"]
[null,null,983,null,null,null,null,null,null,null,null,null,null,null,null,null,null,null,null,null,null,null,null,null,null,{"$f":"IF(H991=\"\",\"-\",VLOOKUP(J991,読み替え表_低炭素物流!$C$4:$F$12,4,0))","v":"-"},{"$f":"IF(H991=\"\",\"-\",VLOOKUP(L991,読み替え表_低炭素物流!$C$15:$F$21,4,0))","v":"-"},"-",null,null,null,null,0,0,0,0,0,"*"]
[null,null,984,null,null,null,null,null,null,null,null,null,null,null,null,null,null,null,null,null,null,null,null,null,null,{"$f":"IF(H992=\"\",\"-\",VLOOKUP(J992,読み替え表_低炭素物流!$C$4:$F$12,4,0))","v":"-"},{"$f":"IF(H992=\"\",\"-\",VLOOKUP(L992,読み替え表_低炭素物流!$C$15:$F$21,4,0))","v":"-"},"-",null,null,null,null,0,0,0,0,0,"*"]
[null,null,985,null,null,null,null,null,null,null,null,null,null,null,null,null,null,null,null,null,null,null,null,null,null,{"$f":"IF(H993=\"\",\"-\",VLOOKUP(J993,読み替え表_低炭素物流!$C$4:$F$12,4,0))","v":"-"},{"$f":"IF(H993=\"\",\"-\",VLOOKUP(L993,読み替え表_低炭素物流!$C$15:$F$21,4,0))","v":"-"},"-",null,null,null,null,0,0,0,0,0,"*"]
[null,null,986,null,null,null,null,null,null,null,null,null,null,null,null,null,null,null,null,null,null,null,null,null,null,{"$f":"IF(H994=\"\",\"-\",VLOOKUP(J994,読み替え表_低炭素物流!$C$4:$F$12,4,0))","v":"-"},{"$f":"IF(H994=\"\",\"-\",VLOOKUP(L994,読み替え表_低炭素物流!$C$15:$F$21,4,0))","v":"-"},"-",null,null,null,null,0,0,0,0,0,"*"]
[null,null,987,null,null,null,null,null,null,null,null,null,null,null,null,null,null,null,null,null,null,null,null,null,null,{"$f":"IF(H995=\"\",\"-\",VLOOKUP(J995,読み替え表_低炭素物流!$C$4:$F$12,4,0))","v":"-"},{"$f":"IF(H995=\"\",\"-\",VLOOKUP(L995,読み替え表_低炭素物流!$C$15:$F$21,4,0))","v":"-"},"-",null,null,null,null,0,0,0,0,0,"*"]
[null,null,988,null,null,null,null,null,null,null,null,null,null,null,null,null,null,null,null,null,null,null,null,null,null,{"$f":"IF(H996=\"\",\"-\",VLOOKUP(J996,読み替え表_低炭素物流!$C$4:$F$12,4,0))","v":"-"},{"$f":"IF(H996=\"\",\"-\",VLOOKUP(L996,読み替え表_低炭素物流!$C$15:$F$21,4,0))","v":"-"},"-",null,null,null,null,0,0,0,0,0,"*"]
[null,null,989,null,null,null,null,null,null,null,null,null,null,null,null,null,null,null,null,null,null,null,null,null,null,{"$f":"IF(H997=\"\",\"-\",VLOOKUP(J997,読み替え表_低炭素物流!$C$4:$F$12,4,0))","v":"-"},{"$f":"IF(H997=\"\",\"-\",VLOOKUP(L997,読み替え表_低炭素物流!$C$15:$F$21,4,0))","v":"-"},"-",null,null,null,null,0,0,0,0,0,"*"]
[null,null,990,null,null,null,null,null,null,null,null,null,null,null,null,null,null,null,null,null,null,null,null,null,null,{"$f":"IF(H998=\"\",\"-\",VLOOKUP(J998,読み替え表_低炭素物流!$C$4:$F$12,4,0))","v":"-"},{"$f":"IF(H998=\"\",\"-\",VLOOKUP(L998,読み替え表_低炭素物流!$C$15:$F$21,4,0))","v":"-"},"-",null,null,null,null,0,0,0,0,0,"*"]
[null,null,991,null,null,null,null,null,null,null,null,null,null,null,null,null,null,null,null,null,null,null,null,null,null,{"$f":"IF(H999=\"\",\"-\",VLOOKUP(J999,読み替え表_低炭素物流!$C$4:$F$12,4,0))","v":"-"},{"$f":"IF(H999=\"\",\"-\",VLOOKUP(L999,読み替え表_低炭素物流!$C$15:$F$21,4,0))","v":"-"},"-",null,null,null,null,0,0,0,0,0,"*"]
[null,null,992,null,null,null,null,null,null,null,null,null,null,null,null,null,null,null,null,null,null,null,null,null,null,{"$f":"IF(H1000=\"\",\"-\",VLOOKUP(J1000,読み替え表_低炭素物流!$C$4:$F$12,4,0))","v":"-"},{"$f":"IF(H1000=\"\",\"-\",VLOOKUP(L1000,読み替え表_低炭素物流!$C$15:$F$21,4,0))","v":"-"},"-",null,null,null,null,0,0,0,0,0,"*"]
[null,null,993,null,null,null,null,null,null,null,null,null,null,null,null,null,null,null,null,null,null,null,null,null,null,{"$f":"IF(H1001=\"\",\"-\",VLOOKUP(J1001,読み替え表_低炭素物流!$C$4:$F$12,4,0))","v":"-"},{"$f":"IF(H1001=\"\",\"-\",VLOOKUP(L1001,読み替え表_低炭素物流!$C$15:$F$21,4,0))","v":"-"},"-",null,null,null,null,0,0,0,0,0,"*"]
[null,null,994,null,null,null,null,null,null,null,null,null,null,null,null,null,null,null,null,null,null,null,null,null,null,{"$f":"IF(H1002=\"\",\"-\",VLOOKUP(J1002,読み替え表_低炭素物流!$C$4:$F$12,4,0))","v":"-"},{"$f":"IF(H1002=\"\",\"-\",VLOOKUP(L1002,読み替え表_低炭素物流!$C$15:$F$21,4,0))","v":"-"},"-",null,null,null,null,0,0,0,0,0,"*"]
[null,null,995,null,null,null,null,null,null,null,null,null,null,null,null,null,null,null,null,null,null,null,null,null,null,{"$f":"IF(H1003=\"\",\"-\",VLOOKUP(J1003,読み替え表_低炭素物流!$C$4:$F$12,4,0))","v":"-"},{"$f":"IF(H1003=\"\",\"-\",VLOOKUP(L1003,読み替え表_低炭素物流!$C$15:$F$21,4,0))","v":"-"},"-",null,null,null,null,0,0,0,0,0,"*"]
[null,null,996,null,null,null,null,null,null,null,null,null,null,null,null,null,null,null,null,null,null,null,null,null,null,{"$f":"IF(H1004=\"\",\"-\",VLOOKUP(J1004,読み替え表_低炭素物流!$C$4:$F$12,4,0))","v":"-"},{"$f":"IF(H1004=\"\",\"-\",VLOOKUP(L1004,読み替え表_低炭素物流!$C$15:$F$21,4,0))","v":"-"},"-",null,null,null,null,0,0,0,0,0,"*"]
[null,null,997,null,null,null,null,null,null,null,null,null,null,null,null,null,null,null,null,null,null,null,null,null,null,{"$f":"IF(H1005=\"\",\"-\",VLOOKUP(J1005,読み替え表_低炭素物流!$C$4:$F$12,4,0))","v":"-"},{"$f":"IF(H1005=\"\",\"-\",VLOOKUP(L1005,読み替え表_低炭素物流!$C$15:$F$21,4,0))","v":"-"},"-",null,null,null,null,0,0,0,0,0,"*"]
[null,null,998,null,null,null,null,null,null,null,null,null,null,null,null,null,null,null,null,null,null,null,null,null,null,{"$f":"IF(H1006=\"\",\"-\",VLOOKUP(J1006,読み替え表_低炭素物流!$C$4:$F$12,4,0))","v":"-"},{"$f":"IF(H1006=\"\",\"-\",VLOOKUP(L1006,読み替え表_低炭素物流!$C$15:$F$21,4,0))","v":"-"},"-",null,null,null,null,0,0,0,0,0,"*"]
[null,null,999,null,null,null,null,null,null,null,null,null,null,null,null,null,null,null,null,null,null,null,null,null,null,{"$f":"IF(H1007=\"\",\"-\",VLOOKUP(J1007,読み替え表_低炭素物流!$C$4:$F$12,4,0))","v":"-"},{"$f":"IF(H1007=\"\",\"-\",VLOOKUP(L1007,読み替え表_低炭素物流!$C$15:$F$21,4,0))","v":"-"},"-",null,null,null,null,0,0,0,0,0,"*"]
[null,null,1000,null,null,null,null,null,null,null,null,null,null,null,null,null,null,null,null,null,null,null,null,null,null,{"$f":"IF(H1008=\"\",\"-\",VLOOKUP(J1008,読み替え表_低炭素物流!$C$4:$F$12,4,0))","v":"-"},{"$f":"IF(H1008=\"\",\"-\",VLOOKUP(L1008,読み替え表_低炭素物流!$C$15:$F$21,4,0))","v":"-"},"-",null,null,null,null,0,0,0,0,0,"*"]
[null,null,1001,null,null,null,null,null,null,null,null,null,null,null,null,null,null,null,null,null,null,null,null,null,null,{"$f":"IF(H1009=\"\",\"-\",VLOOKUP(J1009,読み替え表_低炭素物流!$C$4:$F$12,4,0))","v":"-"},{"$f":"IF(H1009=\"\",\"-\",VLOOKUP(L1009,読み替え表_低炭素物流!$C$15:$F$21,4,0))","v":"-"},{"$f":"IF(H1009=\"\",\"-\",Z1009*AA1009)","v":"-"},null,null,null,null,0,{"$f":"IF(J1009=8,1,0)","v":0},{"$f":"IF(L1009=6,1,0)","v":0},0,0,"*"]
[null,null,1002,null,null,null,null,null,null,null,null,null,null,null,null,null,null,null,null,null,null,null,null,null,null,{"$f":"IF(H1010=\"\",\"-\",VLOOKUP(J1010,読み替え表_低炭素物流!$C$4:$F$12,4,0))","v":"-"},{"$f":"IF(H1010=\"\",\"-\",VLOOKUP(L1010,読み替え表_低炭素物流!$C$15:$F$21,4,0))","v":"-"},"-",null,null,null,null,0,0,0,0,0,"*"]
[null,null,1003,null,null,null,null,null,null,null,null,null,null,null,null,null,null,null,null,null,null,null,null,null,null,{"$f":"IF(H1011=\"\",\"-\",VLOOKUP(J1011,読み替え表_低炭素物流!$C$4:$F$12,4,0))","v":"-"},{"$f":"IF(H1011=\"\",\"-\",VLOOKUP(L1011,読み替え表_低炭素物流!$C$15:$F$21,4,0))","v":"-"},"-",null,null,null,null,0,0,0,0,0,"*"]
[null,null,1004,null,null,null,null,null,null,null,null,null,null,null,null,null,null,null,null,null,null,null,null,null,null,{"$f":"IF(H1012=\"\",\"-\",VLOOKUP(J1012,読み替え表_低炭素物流!$C$4:$F$12,4,0))","v":"-"},{"$f":"IF(H1012=\"\",\"-\",VLOOKUP(L1012,読み替え表_低炭素物流!$C$15:$F$21,4,0))","v":"-"},"-",null,null,null,null,0,0,0,0,0,"*"]
[null,null,1005,null,null,null,null,null,null,null,null,null,null,null,null,null,null,null,null,null,null,null,null,null,null,{"$f":"IF(H1013=\"\",\"-\",VLOOKUP(J1013,読み替え表_低炭素物流!$C$4:$F$12,4,0))","v":"-"},{"$f":"IF(H1013=\"\",\"-\",VLOOKUP(L1013,読み替え表_低炭素物流!$C$15:$F$21,4,0))","v":"-"},"-",null,null,null,null,0,0,0,0,0,"*"]
[null,null,1006,null,null,null,null,null,null,null,null,null,null,null,null,null,null,null,null,null,null,null,null,null,null,{"$f":"IF(H1014=\"\",\"-\",VLOOKUP(J1014,読み替え表_低炭素物流!$C$4:$F$12,4,0))","v":"-"},{"$f":"IF(H1014=\"\",\"-\",VLOOKUP(L1014,読み替え表_低炭素物流!$C$15:$F$21,4,0))","v":"-"},"-",null,null,null,null,0,0,0,0,0,"*"]
[null,null,1007,null,null,null,null,null,null,null,null,null,null,null,null,null,null,null,null,null,null,null,null,null,null,{"$f":"IF(H1015=\"\",\"-\",VLOOKUP(J1015,読み替え表_低炭素物流!$C$4:$F$12,4,0))","v":"-"},{"$f":"IF(H1015=\"\",\"-\",VLOOKUP(L1015,読み替え表_低炭素物流!$C$15:$F$21,4,0))","v":"-"},"-",null,null,null,null,0,0,0,0,0,"*"]
[null,null,1008,null,null,null,null,null,null,null,null,null,null,null,null,null,null,null,null,null,null,null,null,null,null,{"$f":"IF(H1016=\"\",\"-\",VLOOKUP(J1016,読み替え表_低炭素物流!$C$4:$F$12,4,0))","v":"-"},{"$f":"IF(H1016=\"\",\"-\",VLOOKUP(L1016,読み替え表_低炭素物流!$C$15:$F$21,4,0))","v":"-"},"-",null,null,null,null,0,0,0,0,0,"*"]
[null,null,1009,null,null,null,null,null,null,null,null,null,null,null,null,null,null,null,null,null,null,null,null,null,null,{"$f":"IF(H1017=\"\",\"-\",VLOOKUP(J1017,読み替え表_低炭素物流!$C$4:$F$12,4,0))","v":"-"},{"$f":"IF(H1017=\"\",\"-\",VLOOKUP(L1017,読み替え表_低炭素物流!$C$15:$F$21,4,0))","v":"-"},"-",null,null,null,null,0,0,0,0,0,"*"]
[null,null,1010,null,null,null,null,null,null,null,null,null,null,null,null,null,null,null,null,null,null,null,null,null,null,{"$f":"IF(H1018=\"\",\"-\",VLOOKUP(J1018,読み替え表_低炭素物流!$C$4:$F$12,4,0))","v":"-"},{"$f":"IF(H1018=\"\",\"-\",VLOOKUP(L1018,読み替え表_低炭素物流!$C$15:$F$21,4,0))","v":"-"},"-",null,null,null,null,0,0,0,0,0,"*"]
[null,null,1011,null,null,null,null,null,null,null,null,null,null,null,null,null,null,null,null,null,null,null,null,null,null,{"$f":"IF(H1019=\"\",\"-\",VLOOKUP(J1019,読み替え表_低炭素物流!$C$4:$F$12,4,0))","v":"-"},{"$f":"IF(H1019=\"\",\"-\",VLOOKUP(L1019,読み替え表_低炭素物流!$C$15:$F$21,4,0))","v":"-"},"-",null,null,null,null,0,0,0,0,0,"*"]
[null,null,1012,null,null,null,null,null,null,null,null,null,null,null,null,null,null,null,null,null,null,null,null,null,null,{"$f":"IF(H1020=\"\",\"-\",VLOOKUP(J1020,読み替え表_低炭素物流!$C$4:$F$12,4,0))","v":"-"},{"$f":"IF(H1020=\"\",\"-\",VLOOKUP(L1020,読み替え表_低炭素物流!$C$15:$F$21,4,0))","v":"-"},"-",null,null,null,null,0,0,0,0,0,"*"]
[null,null,1013,null,null,null,null,null,null,null,null,null,null,null,null,null,null,null,null,null,null,null,null,null,null,{"$f":"IF(H1021=\"\",\"-\",VLOOKUP(J1021,読み替え表_低炭素物流!$C$4:$F$12,4,0))","v":"-"},{"$f":"IF(H1021=\"\",\"-\",VLOOKUP(L1021,読み替え表_低炭素物流!$C$15:$F$21,4,0))","v":"-"},"-",null,null,null,null,0,0,0,0,0,"*"]
[null,null,1014,null,null,null,null,null,null,null,null,null,null,null,null,null,null,null,null,null,null,null,null,null,null,{"$f":"IF(H1022=\"\",\"-\",VLOOKUP(J1022,読み替え表_低炭素物流!$C$4:$F$12,4,0))","v":"-"},{"$f":"IF(H1022=\"\",\"-\",VLOOKUP(L1022,読み替え表_低炭素物流!$C$15:$F$21,4,0))","v":"-"},"-",null,null,null,null,0,0,0,0,0,"*"]
[null,null,1015,null,null,null,null,null,null,null,null,null,null,null,null,null,null,null,null,null,null,null,null,null,null,{"$f":"IF(H1023=\"\",\"-\",VLOOKUP(J1023,読み替え表_低炭素物流!$C$4:$F$12,4,0))","v":"-"},{"$f":"IF(H1023=\"\",\"-\",VLOOKUP(L1023,読み替え表_低炭素物流!$C$15:$F$21,4,0))","v":"-"},"-",null,null,null,null,0,0,0,0,0,"*"]
[null,null,1016,null,null,null,null,null,null,null,null,null,null,null,null,null,null,null,null,null,null,null,null,null,null,{"$f":"IF(H1024=\"\",\"-\",VLOOKUP(J1024,読み替え表_低炭素物流!$C$4:$F$12,4,0))","v":"-"},{"$f":"IF(H1024=\"\",\"-\",VLOOKUP(L1024,読み替え表_低炭素物流!$C$15:$F$21,4,0))","v":"-"},"-",null,null,null,null,0,0,0,0,0,"*"]
[null,null,1017,null,null,null,null,null,null,null,null,null,null,null,null,null,null,null,null,null,null,null,null,null,null,{"$f":"IF(H1025=\"\",\"-\",VLOOKUP(J1025,読み替え表_低炭素物流!$C$4:$F$12,4,0))","v":"-"},{"$f":"IF(H1025=\"\",\"-\",VLOOKUP(L1025,読み替え表_低炭素物流!$C$15:$F$21,4,0))","v":"-"},"-",null,null,null,null,0,0,0,0,0,"*"]
[null,null,1018,null,null,null,null,null,null,null,null,null,null,null,null,null,null,null,null,null,null,null,null,null,null,{"$f":"IF(H1026=\"\",\"-\",VLOOKUP(J1026,読み替え表_低炭素物流!$C$4:$F$12,4,0))","v":"-"},{"$f":"IF(H1026=\"\",\"-\",VLOOKUP(L1026,読み替え表_低炭素物流!$C$15:$F$21,4,0))","v":"-"},"-",null,null,null,null,0,0,0,0,0,"*"]
[null,null,1019,null,null,null,null,null,null,null,null,null,null,null,null,null,null,null,null,null,null,null,null,null,null,{"$f":"IF(H1027=\"\",\"-\",VLOOKUP(J1027,読み替え表_低炭素物流!$C$4:$F$12,4,0))","v":"-"},{"$f":"IF(H1027=\"\",\"-\",VLOOKUP(L1027,読み替え表_低炭素物流!$C$15:$F$21,4,0))","v":"-"},"-",null,null,null,null,0,0,0,0,0,"*"]
[null,null,1020,null,null,null,null,null,null,null,null,null,null,null,null,null,null,null,null,null,null,null,null,null,null,{"$f":"IF(H1028=\"\",\"-\",VLOOKUP(J1028,読み替え表_低炭素物流!$C$4:$F$12,4,0))","v":"-"},{"$f":"IF(H1028=\"\",\"-\",VLOOKUP(L1028,読み替え表_低炭素物流!$C$15:$F$21,4,0))","v":"-"},"-",null,null,null,null,0,0,0,0,0,"*"]
[null,null,1021,null,null,null,null,null,null,null,null,null,null,null,null,null,null,null,null,null,null,null,null,null,null,{"$f":"IF(H1029=\"\",\"-\",VLOOKUP(J1029,読み替え表_低炭素物流!$C$4:$F$12,4,0))","v":"-"},{"$f":"IF(H1029=\"\",\"-\",VLOOKUP(L1029,読み替え表_低炭素物流!$C$15:$F$21,4,0))","v":"-"},"-",null,null,null,null,0,0,0,0,0,"*"]
[null,null,1022,null,null,null,null,null,null,null,null,null,null,null,null,null,null,null,null,null,null,null,null,null,null,{"$f":"IF(H1030=\"\",\"-\",VLOOKUP(J1030,読み替え表_低炭素物流!$C$4:$F$12,4,0))","v":"-"},{"$f":"IF(H1030=\"\",\"-\",VLOOKUP(L1030,読み替え表_低炭素物流!$C$15:$F$21,4,0))","v":"-"},"-",null,null,null,null,0,0,0,0,0,"*"]
[null,null,1023,null,null,null,null,null,null,null,null,null,null,null,null,null,null,null,null,null,null,null,null,null,null,{"$f":"IF(H1031=\"\",\"-\",VLOOKUP(J1031,読み替え表_低炭素物流!$C$4:$F$12,4,0))","v":"-"},{"$f":"IF(H1031=\"\",\"-\",VLOOKUP(L1031,読み替え表_低炭素物流!$C$15:$F$21,4,0))","v":"-"},"-",null,null,null,null,0,0,0,0,0,"*"]
[null,null,1024,null,null,null,null,null,null,null,null,null,null,null,null,null,null,null,null,null,null,null,null,null,null,{"$f":"IF(H1032=\"\",\"-\",VLOOKUP(J1032,読み替え表_低炭素物流!$C$4:$F$12,4,0))","v":"-"},{"$f":"IF(H1032=\"\",\"-\",VLOOKUP(L1032,読み替え表_低炭素物流!$C$15:$F$21,4,0))","v":"-"},"-",null,null,null,null,0,0,0,0,0,"*"]
[null,null,1025,null,null,null,null,null,null,null,null,null,null,null,null,null,null,null,null,null,null,null,null,null,null,{"$f":"IF(H1033=\"\",\"-\",VLOOKUP(J1033,読み替え表_低炭素物流!$C$4:$F$12,4,0))","v":"-"},{"$f":"IF(H1033=\"\",\"-\",VLOOKUP(L1033,読み替え表_低炭素物流!$C$15:$F$21,4,0))","v":"-"},"-",null,null,null,null,{"$f":"IF(N1033=1,IF(OR(L1033=4,L1033=5),0,1),0)","v":0},0,0,0,0,"*"]
[null,null,{"$f":"ROW()-8","v":1026},null,null,null,null,null,null,null,null,null,null,null,null,null,null,null,null,null,null,null,null,null,null,{"$f":"IF(H1034=\"\",\"-\",VLOOKUP(J1034,読み替え表_低炭素物流!$C$4:$F$12,4,0))","v":"-"},{"$f":"IF(H1034=\"\",\"-\",VLOOKUP(L1034,読み替え表_低炭素物流!$C$15:$F$21,4,0))","v":"-"},"-",null,null,null,null,0,0,0,0,{"$f":"AG1034","v":0},"*"]
[null,null,1027,null,null,null,null,null,null,null,null,null,null,null,null,null,null,null,null,null,null,null,null,null,null,{"$f":"IF(H1035=\"\",\"-\",VLOOKUP(J1035,読み替え表_低炭素物流!$C$4:$F$12,4,0))","v":"-"},{"$f":"IF(H1035=\"\",\"-\",VLOOKUP(L1035,読み替え表_低炭素物流!$C$15:$F$21,4,0))","v":"-"},"-",null,null,null,null,0,0,0,0,0,"*"]
[null,null,1028,null,null,null,null,null,null,null,null,null,null,null,null,null,null,null,null,null,null,null,null,null,null,{"$f":"IF(H1036=\"\",\"-\",VLOOKUP(J1036,読み替え表_低炭素物流!$C$4:$F$12,4,0))","v":"-"},{"$f":"IF(H1036=\"\",\"-\",VLOOKUP(L1036,読み替え表_低炭素物流!$C$15:$F$21,4,0))","v":"-"},"-",null,null,null,null,0,0,0,0,0,"*"]
[null,null,1029,null,null,null,null,null,null,null,null,null,null,null,null,null,null,null,null,null,null,null,null,null,null,{"$f":"IF(H1037=\"\",\"-\",VLOOKUP(J1037,読み替え表_低炭素物流!$C$4:$F$12,4,0))","v":"-"},{"$f":"IF(H1037=\"\",\"-\",VLOOKUP(L1037,読み替え表_低炭素物流!$C$15:$F$21,4,0))","v":"-"},"-",null,null,null,null,0,0,0,0,0,"*"]
[null,null,1030,null,null,null,null,null,null,null,null,null,null,null,null,null,null,null,null,null,null,null,null,null,null,{"$f":"IF(H1038=\"\",\"-\",VLOOKUP(J1038,読み替え表_低炭素物流!$C$4:$F$12,4,0))","v":"-"},{"$f":"IF(H1038=\"\",\"-\",VLOOKUP(L1038,読み替え表_低炭素物流!$C$15:$F$21,4,0))","v":"-"},"-",null,null,null,null,0,0,0,0,0,"*"]
[null,null,1031,null,null,null,null,null,null,null,null,null,null,null,null,null,null,null,null,null,null,null,null,null,null,{"$f":"IF(H1039=\"\",\"-\",VLOOKUP(J1039,読み替え表_低炭素物流!$C$4:$F$12,4,0))","v":"-"},{"$f":"IF(H1039=\"\",\"-\",VLOOKUP(L1039,読み替え表_低炭素物流!$C$15:$F$21,4,0))","v":"-"},"-",null,null,null,null,0,0,0,0,0,"*"]
[null,null,1032,null,null,null,null,null,null,null,null,null,null,null,null,null,null,null,null,null,null,null,null,null,null,{"$f":"IF(H1040=\"\",\"-\",VLOOKUP(J1040,読み替え表_低炭素物流!$C$4:$F$12,4,0))","v":"-"},{"$f":"IF(H1040=\"\",\"-\",VLOOKUP(L1040,読み替え表_低炭素物流!$C$15:$F$21,4,0))","v":"-"},"-",null,null,null,null,0,0,0,0,0,"*"]
[null,null,1033,null,null,null,null,null,null,null,null,null,null,null,null,null,null,null,null,null,null,null,null,null,null,{"$f":"IF(H1041=\"\",\"-\",VLOOKUP(J1041,読み替え表_低炭素物流!$C$4:$F$12,4,0))","v":"-"},{"$f":"IF(H1041=\"\",\"-\",VLOOKUP(L1041,読み替え表_低炭素物流!$C$15:$F$21,4,0))","v":"-"},"-",null,null,null,null,0,0,0,0,0,"*"]
[null,null,1034,null,null,null,null,null,null,null,null,null,null,null,null,null,null,null,null,null,null,null,null,null,null,{"$f":"IF(H1042=\"\",\"-\",VLOOKUP(J1042,読み替え表_低炭素物流!$C$4:$F$12,4,0))","v":"-"},{"$f":"IF(H1042=\"\",\"-\",VLOOKUP(L1042,読み替え表_低炭素物流!$C$15:$F$21,4,0))","v":"-"},"-",null,null,null,null,0,0,0,0,0,"*"]
[null,null,1035,null,null,null,null,null,null,null,null,null,null,null,null,null,null,null,null,null,null,null,null,null,null,{"$f":"IF(H1043=\"\",\"-\",VLOOKUP(J1043,読み替え表_低炭素物流!$C$4:$F$12,4,0))","v":"-"},{"$f":"IF(H1043=\"\",\"-\",VLOOKUP(L1043,読み替え表_低炭素物流!$C$15:$F$21,4,0))","v":"-"},"-",null,null,null,null,0,0,0,0,0,"*"]
[null,null,1036,null,null,null,null,null,null,null,null,null,null,null,null,null,null,null,null,null,null,null,null,null,null,{"$f":"IF(H1044=\"\",\"-\",VLOOKUP(J1044,読み替え表_低炭素物流!$C$4:$F$12,4,0))","v":"-"},{"$f":"IF(H1044=\"\",\"-\",VLOOKUP(L1044,読み替え表_低炭素物流!$C$15:$F$21,4,0))","v":"-"},"-",null,null,null,null,0,0,0,0,0,"*"]
[null,null,1037,null,null,null,null,null,null,null,null,null,null,null,null,null,null,null,null,null,null,null,null,null,null,{"$f":"IF(H1045=\"\",\"-\",VLOOKUP(J1045,読み替え表_低炭素物流!$C$4:$F$12,4,0))","v":"-"},{"$f":"IF(H1045=\"\",\"-\",VLOOKUP(L1045,読み替え表_低炭素物流!$C$15:$F$21,4,0))","v":"-"},"-",null,null,null,null,0,0,0,0,0,"*"]
[null,null,1038,null,null,null,null,null,null,null,null,null,null,null,null,null,null,null,null,null,null,null,null,null,null,{"$f":"IF(H1046=\"\",\"-\",VLOOKUP(J1046,読み替え表_低炭素物流!$C$4:$F$12,4,0))","v":"-"},{"$f":"IF(H1046=\"\",\"-\",VLOOKUP(L1046,読み替え表_低炭素物流!$C$15:$F$21,4,0))","v":"-"},"-",null,null,null,null,0,0,0,0,0,"*"]
[null,null,1039,null,null,null,null,null,null,null,null,null,null,null,null,null,null,null,null,null,null,null,null,null,null,{"$f":"IF(H1047=\"\",\"-\",VLOOKUP(J1047,読み替え表_低炭素物流!$C$4:$F$12,4,0))","v":"-"},{"$f":"IF(H1047=\"\",\"-\",VLOOKUP(L1047,読み替え表_低炭素物流!$C$15:$F$21,4,0))","v":"-"},"-",null,null,null,null,0,0,0,0,0,"*"]
[null,null,1040,null,null,null,null,null,null,null,null,null,null,null,null,null,null,null,null,null,null,null,null,null,null,{"$f":"IF(H1048=\"\",\"-\",VLOOKUP(J1048,読み替え表_低炭素物流!$C$4:$F$12,4,0))","v":"-"},{"$f":"IF(H1048=\"\",\"-\",VLOOKUP(L1048,読み替え表_低炭素物流!$C$15:$F$21,4,0))","v":"-"},"-",null,null,null,null,0,0,0,{"$f":"IF(OR(N1048=7,N1048=99),1,0)","v":0},0,"*"]
[null,null,1041,null,null,null,null,null,null,null,null,null,null,null,null,null,null,null,null,null,null,null,null,null,null,{"$f":"IF(H1049=\"\",\"-\",VLOOKUP(J1049,読み替え表_低炭素物流!$C$4:$F$12,4,0))","v":"-"},{"$f":"IF(H1049=\"\",\"-\",VLOOKUP(L1049,読み替え表_低炭素物流!$C$15:$F$21,4,0))","v":"-"},"-",null,null,null,null,0,0,0,0,0,"*"]
[null,null,1042,null,null,null,null,null,null,null,null,null,null,null,null,null,null,null,null,null,null,null,null,null,null,{"$f":"IF(H1050=\"\",\"-\",VLOOKUP(J1050,読み替え表_低炭素物流!$C$4:$F$12,4,0))","v":"-"},{"$f":"IF(H1050=\"\",\"-\",VLOOKUP(L1050,読み替え表_低炭素物流!$C$15:$F$21,4,0))","v":"-"},"-",null,null,null,null,0,0,0,0,0,"*"]
[null,null,1043,null,null,null,null,null,null,null,null,null,null,null,null,null,null,null,null,null,null,null,null,null,null,{"$f":"IF(H1051=\"\",\"-\",VLOOKUP(J1051,読み替え表_低炭素物流!$C$4:$F$12,4,0))","v":"-"},{"$f":"IF(H1051=\"\",\"-\",VLOOKUP(L1051,読み替え表_低炭素物流!$C$15:$F$21,4,0))","v":"-"},"-",null,null,null,null,0,0,0,0,0,"*"]
[null,null,1044,null,null,null,null,null,null,null,null,null,null,null,null,null,null,null,null,null,null,null,null,null,null,{"$f":"IF(H1052=\"\",\"-\",VLOOKUP(J1052,読み替え表_低炭素物流!$C$4:$F$12,4,0))","v":"-"},{"$f":"IF(H1052=\"\",\"-\",VLOOKUP(L1052,読み替え表_低炭素物流!$C$15:$F$21,4,0))","v":"-"},"-",null,null,null,null,0,0,0,0,0,"*"]
[null,null,1045,null,null,null,null,null,null,null,null,null,null,null,null,null,null,null,null,null,null,null,null,null,null,{"$f":"IF(H1053=\"\",\"-\",VLOOKUP(J1053,読み替え表_低炭素物流!$C$4:$F$12,4,0))","v":"-"},{"$f":"IF(H1053=\"\",\"-\",VLOOKUP(L1053,読み替え表_低炭素物流!$C$15:$F$21,4,0))","v":"-"},"-",null,null,null,null,0,0,0,0,0,"*"]
[null,null,1046,null,null,null,null,null,null,null,null,null,null,null,null,null,null,null,null,null,null,null,null,null,null,{"$f":"IF(H1054=\"\",\"-\",VLOOKUP(J1054,読み替え表_低炭素物流!$C$4:$F$12,4,0))","v":"-"},{"$f":"IF(H1054=\"\",\"-\",VLOOKUP(L1054,読み替え表_低炭素物流!$C$15:$F$21,4,0))","v":"-"},"-",null,null,null,null,0,0,0,0,0,"*"]
[null,null,1047,null,null,null,null,null,null,null,null,null,null,null,null,null,null,null,null,null,null,null,null,null,null,{"$f":"IF(H1055=\"\",\"-\",VLOOKUP(J1055,読み替え表_低炭素物流!$C$4:$F$12,4,0))","v":"-"},{"$f":"IF(H1055=\"\",\"-\",VLOOKUP(L1055,読み替え表_低炭素物流!$C$15:$F$21,4,0))","v":"-"},"-",null,null,null,null,0,0,0,0,0,"*"]
[null,null,1048,null,null,null,null,null,null,null,null,null,null,null,null,null,null,null,null,null,null,null,null,null,null,{"$f":"IF(H1056=\"\",\"-\",VLOOKUP(J1056,読み替え表_低炭素物流!$C$4:$F$12,4,0))","v":"-"},{"$f":"IF(H1056=\"\",\"-\",VLOOKUP(L1056,読み替え表_低炭素物流!$C$15:$F$21,4,0))","v":"-"},"-",null,null,null,null,0,0,0,0,0,"*"]
[null,null,1049,null,null,null,null,null,null,null,null,null,null,null,null,null,null,null,null,null,null,null,null,null,null,{"$f":"IF(H1057=\"\",\"-\",VLOOKUP(J1057,読み替え表_低炭素物流!$C$4:$F$12,4,0))","v":"-"},{"$f":"IF(H1057=\"\",\"-\",VLOOKUP(L1057,読み替え表_低炭素物流!$C$15:$F$21,4,0))","v":"-"},"-",null,null,null,null,0,0,0,0,0,"*"]
[null,null,1050,null,null,null,null,null,null,null,null,null,null,null,null,null,null,null,null,null,null,null,null,null,null,{"$f":"IF(H1058=\"\",\"-\",VLOOKUP(J1058,読み替え表_低炭素物流!$C$4:$F$12,4,0))","v":"-"},{"$f":"IF(H1058=\"\",\"-\",VLOOKUP(L1058,読み替え表_低炭素物流!$C$15:$F$21,4,0))","v":"-"},"-",null,null,null,null,0,0,0,0,0,"*"]
[null,null,1051,null,null,null,null,null,null,null,null,null,null,null,null,null,null,null,null,null,null,null,null,null,null,{"$f":"IF(H1059=\"\",\"-\",VLOOKUP(J1059,読み替え表_低炭素物流!$C$4:$F$12,4,0))","v":"-"},{"$f":"IF(H1059=\"\",\"-\",VLOOKUP(L1059,読み替え表_低炭素物流!$C$15:$F$21,4,0))","v":"-"},"-",null,null,null,null,0,0,0,0,0,"*"]
[null,null,1052,null,null,null,null,null,null,null,null,null,null,null,null,null,null,null,null,null,null,null,null,null,null,{"$f":"IF(H1060=\"\",\"-\",VLOOKUP(J1060,読み替え表_低炭素物流!$C$4:$F$12,4,0))","v":"-"},{"$f":"IF(H1060=\"\",\"-\",VLOOKUP(L1060,読み替え表_低炭素物流!$C$15:$F$21,4,0))","v":"-"},"-",null,null,null,null,0,0,0,0,0,"*"]
[null,null,1053,null,null,null,null,null,null,null,null,null,null,null,null,null,null,null,null,null,null,null,null,null,null,{"$f":"IF(H1061=\"\",\"-\",VLOOKUP(J1061,読み替え表_低炭素物流!$C$4:$F$12,4,0))","v":"-"},{"$f":"IF(H1061=\"\",\"-\",VLOOKUP(L1061,読み替え表_低炭素物流!$C$15:$F$21,4,0))","v":"-"},"-",null,null,null,null,0,0,0,0,0,"*"]
[null,null,1054,null,null,null,null,null,null,null,null,null,null,null,null,null,null,null,null,null,null,null,null,null,null,{"$f":"IF(H1062=\"\",\"-\",VLOOKUP(J1062,読み替え表_低炭素物流!$C$4:$F$12,4,0))","v":"-"},{"$f":"IF(H1062=\"\",\"-\",VLOOKUP(L1062,読み替え表_低炭素物流!$C$15:$F$21,4,0))","v":"-"},"-",null,null,null,null,0,0,0,0,0,"*"]
[null,null,1055,null,null,null,null,null,null,null,null,null,null,null,null,null,null,null,null,null,null,null,null,null,null,{"$f":"IF(H1063=\"\",\"-\",VLOOKUP(J1063,読み替え表_低炭素物流!$C$4:$F$12,4,0))","v":"-"},{"$f":"IF(H1063=\"\",\"-\",VLOOKUP(L1063,読み替え表_低炭素物流!$C$15:$F$21,4,0))","v":"-"},"-",null,null,null,null,0,0,0,0,0,"*"]
[null,null,1056,null,null,null,null,null,null,null,null,null,null,null,null,null,null,null,null,null,null,null,null,null,null,{"$f":"IF(H1064=\"\",\"-\",VLOOKUP(J1064,読み替え表_低炭素物流!$C$4:$F$12,4,0))","v":"-"},{"$f":"IF(H1064=\"\",\"-\",VLOOKUP(L1064,読み替え表_低炭素物流!$C$15:$F$21,4,0))","v":"-"},"-",null,null,null,null,0,0,0,0,0,"*"]
[null,null,1057,null,null,null,null,null,null,null,null,null,null,null,null,null,null,null,null,null,null,null,null,null,null,{"$f":"IF(H1065=\"\",\"-\",VLOOKUP(J1065,読み替え表_低炭素物流!$C$4:$F$12,4,0))","v":"-"},{"$f":"IF(H1065=\"\",\"-\",VLOOKUP(L1065,読み替え表_低炭素物流!$C$15:$F$21,4,0))","v":"-"},"-",null,null,null,null,0,0,0,0,0,"*"]
[null,null,1058,null,null,null,null,null,null,null,null,null,null,null,null,null,null,null,null,null,null,null,null,null,null,{"$f":"IF(H1066=\"\",\"-\",VLOOKUP(J1066,読み替え表_低炭素物流!$C$4:$F$12,4,0))","v":"-"},{"$f":"IF(H1066=\"\",\"-\",VLOOKUP(L1066,読み替え表_低炭素物流!$C$15:$F$21,4,0))","v":"-"},"-",null,null,null,null,0,0,0,0,0,"*"]
[null,null,1059,null,null,null,null,null,null,null,null,null,null,null,null,null,null,null,null,null,null,null,null,null,null,{"$f":"IF(H1067=\"\",\"-\",VLOOKUP(J1067,読み替え表_低炭素物流!$C$4:$F$12,4,0))","v":"-"},{"$f":"IF(H1067=\"\",\"-\",VLOOKUP(L1067,読み替え表_低炭素物流!$C$15:$F$21,4,0))","v":"-"},"-",null,null,null,null,0,0,0,0,0,"*"]
[null,null,1060,null,null,null,null,null,null,null,null,null,null,null,null,null,null,null,null,null,null,null,null,null,null,{"$f":"IF(H1068=\"\",\"-\",VLOOKUP(J1068,読み替え表_低炭素物流!$C$4:$F$12,4,0))","v":"-"},{"$f":"IF(H1068=\"\",\"-\",VLOOKUP(L1068,読み替え表_低炭素物流!$C$15:$F$21,4,0))","v":"-"},"-",null,null,null,null,0,0,0,0,0,"*"]
[null,null,1061,null,null,null,null,null,null,null,null,null,null,null,null,null,null,null,null,null,null,null,null,null,null,{"$f":"IF(H1069=\"\",\"-\",VLOOKUP(J1069,読み替え表_低炭素物流!$C$4:$F$12,4,0))","v":"-"},{"$f":"IF(H1069=\"\",\"-\",VLOOKUP(L1069,読み替え表_低炭素物流!$C$15:$F$21,4,0))","v":"-"},"-",null,null,null,null,0,0,0,0,0,"*"]
[null,null,1062,null,null,null,null,null,null,null,null,null,null,null,null,null,null,null,null,null,null,null,null,null,null,{"$f":"IF(H1070=\"\",\"-\",VLOOKUP(J1070,読み替え表_低炭素物流!$C$4:$F$12,4,0))","v":"-"},{"$f":"IF(H1070=\"\",\"-\",VLOOKUP(L1070,読み替え表_低炭素物流!$C$15:$F$21,4,0))","v":"-"},"-",null,null,null,null,0,0,0,0,0,"*"]
[null,null,1063,null,null,null,null,null,null,null,null,null,null,null,null,null,null,null,null,null,null,null,null,null,null,{"$f":"IF(H1071=\"\",\"-\",VLOOKUP(J1071,読み替え表_低炭素物流!$C$4:$F$12,4,0))","v":"-"},{"$f":"IF(H1071=\"\",\"-\",VLOOKUP(L1071,読み替え表_低炭素物流!$C$15:$F$21,4,0))","v":"-"},"-",null,null,null,null,0,0,0,0,0,"*"]
[null,null,1064,null,null,null,null,null,null,null,null,null,null,null,null,null,null,null,null,null,null,null,null,null,null,{"$f":"IF(H1072=\"\",\"-\",VLOOKUP(J1072,読み替え表_低炭素物流!$C$4:$F$12,4,0))","v":"-"},{"$f":"IF(H1072=\"\",\"-\",VLOOKUP(L1072,読み替え表_低炭素物流!$C$15:$F$21,4,0))","v":"-"},"-",null,null,null,null,0,0,0,0,0,"*"]
[null,null,1065,null,null,null,null,null,null,null,null,null,null,null,null,null,null,null,null,null,null,null,null,null,null,{"$f":"IF(H1073=\"\",\"-\",VLOOKUP(J1073,読み替え表_低炭素物流!$C$4:$F$12,4,0))","v":"-"},{"$f":"IF(H1073=\"\",\"-\",VLOOKUP(L1073,読み替え表_低炭素物流!$C$15:$F$21,4,0))","v":"-"},{"$f":"IF(H1073=\"\",\"-\",Z1073*AA1073)","v":"-"},null,null,null,null,0,{"$f":"IF(J1073=8,1,0)","v":0},{"$f":"IF(L1073=6,1,0)","v":0},0,0,"*"]
[null,null,1066,null,null,null,null,null,null,null,null,null,null,null,null,null,null,null,null,null,null,null,null,null,null,{"$f":"IF(H1074=\"\",\"-\",VLOOKUP(J1074,読み替え表_低炭素物流!$C$4:$F$12,4,0))","v":"-"},{"$f":"IF(H1074=\"\",\"-\",VLOOKUP(L1074,読み替え表_低炭素物流!$C$15:$F$21,4,0))","v":"-"},"-",null,null,null,null,0,0,0,0,0,"*"]
[null,null,1067,null,null,null,null,null,null,null,null,null,null,null,null,null,null,null,null,null,null,null,null,null,null,{"$f":"IF(H1075=\"\",\"-\",VLOOKUP(J1075,読み替え表_低炭素物流!$C$4:$F$12,4,0))","v":"-"},{"$f":"IF(H1075=\"\",\"-\",VLOOKUP(L1075,読み替え表_低炭素物流!$C$15:$F$21,4,0))","v":"-"},"-",null,null,null,null,0,0,0,0,0,"*"]
[null,null,1068,null,null,null,null,null,null,null,null,null,null,null,null,null,null,null,null,null,null,null,null,null,null,{"$f":"IF(H1076=\"\",\"-\",VLOOKUP(J1076,読み替え表_低炭素物流!$C$4:$F$12,4,0))","v":"-"},{"$f":"IF(H1076=\"\",\"-\",VLOOKUP(L1076,読み替え表_低炭素物流!$C$15:$F$21,4,0))","v":"-"},"-",null,null,null,null,0,0,0,0,0,"*"]
[null,null,1069,null,null,null,null,null,null,null,null,null,null,null,null,null,null,null,null,null,null,null,null,null,null,{"$f":"IF(H1077=\"\",\"-\",VLOOKUP(J1077,読み替え表_低炭素物流!$C$4:$F$12,4,0))","v":"-"},{"$f":"IF(H1077=\"\",\"-\",VLOOKUP(L1077,読み替え表_低炭素物流!$C$15:$F$21,4,0))","v":"-"},"-",null,null,null,null,0,0,0,0,0,"*"]
[null,null,1070,null,null,null,null,null,null,null,null,null,null,null,null,null,null,null,null,null,null,null,null,null,null,{"$f":"IF(H1078=\"\",\"-\",VLOOKUP(J1078,読み替え表_低炭素物流!$C$4:$F$12,4,0))","v":"-"},{"$f":"IF(H1078=\"\",\"-\",VLOOKUP(L1078,読み替え表_低炭素物流!$C$15:$F$21,4,0))","v":"-"},"-",null,null,null,null,0,0,0,0,0,"*"]
[null,null,1071,null,null,null,null,null,null,null,null,null,null,null,null,null,null,null,null,null,null,null,null,null,null,{"$f":"IF(H1079=\"\",\"-\",VLOOKUP(J1079,読み替え表_低炭素物流!$C$4:$F$12,4,0))","v":"-"},{"$f":"IF(H1079=\"\",\"-\",VLOOKUP(L1079,読み替え表_低炭素物流!$C$15:$F$21,4,0))","v":"-"},"-",null,null,null,null,0,0,0,0,0,"*"]
[null,null,1072,null,null,null,null,null,null,null,null,null,null,null,null,null,null,null,null,null,null,null,null,null,null,{"$f":"IF(H1080=\"\",\"-\",VLOOKUP(J1080,読み替え表_低炭素物流!$C$4:$F$12,4,0))","v":"-"},{"$f":"IF(H1080=\"\",\"-\",VLOOKUP(L1080,読み替え表_低炭素物流!$C$15:$F$21,4,0))","v":"-"},"-",null,null,null,null,0,0,0,0,0,"*"]
[null,null,1073,null,null,null,null,null,null,null,null,null,null,null,null,null,null,null,null,null,null,null,null,null,null,{"$f":"IF(H1081=\"\",\"-\",VLOOKUP(J1081,読み替え表_低炭素物流!$C$4:$F$12,4,0))","v":"-"},{"$f":"IF(H1081=\"\",\"-\",VLOOKUP(L1081,読み替え表_低炭素物流!$C$15:$F$21,4,0))","v":"-"},"-",null,null,null,null,0,0,0,0,0,"*"]
[null,null,1074,null,null,null,null,null,null,null,null,null,null,null,null,null,null,null,null,null,null,null,null,null,null,{"$f":"IF(H1082=\"\",\"-\",VLOOKUP(J1082,読み替え表_低炭素物流!$C$4:$F$12,4,0))","v":"-"},{"$f":"IF(H1082=\"\",\"-\",VLOOKUP(L1082,読み替え表_低炭素物流!$C$15:$F$21,4,0))","v":"-"},"-",null,null,null,null,0,0,0,0,0,"*"]
[null,null,1075,null,null,null,null,null,null,null,null,null,null,null,null,null,null,null,null,null,null,null,null,null,null,{"$f":"IF(H1083=\"\",\"-\",VLOOKUP(J1083,読み替え表_低炭素物流!$C$4:$F$12,4,0))","v":"-"},{"$f":"IF(H1083=\"\",\"-\",VLOOKUP(L1083,読み替え表_低炭素物流!$C$15:$F$21,4,0))","v":"-"},"-",null,null,null,null,0,0,0,0,0,"*"]
[null,null,1076,null,null,null,null,null,null,null,null,null,null,null,null,null,null,null,null,null,null,null,null,null,null,{"$f":"IF(H1084=\"\",\"-\",VLOOKUP(J1084,読み替え表_低炭素物流!$C$4:$F$12,4,0))","v":"-"},{"$f":"IF(H1084=\"\",\"-\",VLOOKUP(L1084,読み替え表_低炭素物流!$C$15:$F$21,4,0))","v":"-"},"-",null,null,null,null,0,0,0,0,0,"*"]
[null,null,1077,null,null,null,null,null,null,null,null,null,null,null,null,null,null,null,null,null,null,null,null,null,null,{"$f":"IF(H1085=\"\",\"-\",VLOOKUP(J1085,読み替え表_低炭素物流!$C$4:$F$12,4,0))","v":"-"},{"$f":"IF(H1085=\"\",\"-\",VLOOKUP(L1085,読み替え表_低炭素物流!$C$15:$F$21,4,0))","v":"-"},"-",null,null,null,null,0,0,0,0,0,"*"]
[null,null,1078,null,null,null,null,null,null,null,null,null,null,null,null,null,null,null,null,null,null,null,null,null,null,{"$f":"IF(H1086=\"\",\"-\",VLOOKUP(J1086,読み替え表_低炭素物流!$C$4:$F$12,4,0))","v":"-"},{"$f":"IF(H1086=\"\",\"-\",VLOOKUP(L1086,読み替え表_低炭素物流!$C$15:$F$21,4,0))","v":"-"},"-",null,null,null,null,0,0,0,0,0,"*"]
[null,null,1079,null,null,null,null,null,null,null,null,null,null,null,null,null,null,null,null,null,null,null,null,null,null,{"$f":"IF(H1087=\"\",\"-\",VLOOKUP(J1087,読み替え表_低炭素物流!$C$4:$F$12,4,0))","v":"-"},{"$f":"IF(H1087=\"\",\"-\",VLOOKUP(L1087,読み替え表_低炭素物流!$C$15:$F$21,4,0))","v":"-"},"-",null,null,null,null,0,0,0,0,0,"*"]
[null,null,1080,null,null,null,null,null,null,null,null,null,null,null,null,null,null,null,null,null,null,null,null,null,null,{"$f":"IF(H1088=\"\",\"-\",VLOOKUP(J1088,読み替え表_低炭素物流!$C$4:$F$12,4,0))","v":"-"},{"$f":"IF(H1088=\"\",\"-\",VLOOKUP(L1088,読み替え表_低炭素物流!$C$15:$F$21,4,0))","v":"-"},"-",null,null,null,null,0,0,0,0,0,"*"]
[null,null,1081,null,null,null,null,null,null,null,null,null,null,null,null,null,null,null,null,null,null,null,null,null,null,{"$f":"IF(H1089=\"\",\"-\",VLOOKUP(J1089,読み替え表_低炭素物流!$C$4:$F$12,4,0))","v":"-"},{"$f":"IF(H1089=\"\",\"-\",VLOOKUP(L1089,読み替え表_低炭素物流!$C$15:$F$21,4,0))","v":"-"},"-",null,null,null,null,0,0,0,0,0,"*"]
[null,null,1082,null,null,null,null,null,null,null,null,null,null,null,null,null,null,null,null,null,null,null,null,null,null,{"$f":"IF(H1090=\"\",\"-\",VLOOKUP(J1090,読み替え表_低炭素物流!$C$4:$F$12,4,0))","v":"-"},{"$f":"IF(H1090=\"\",\"-\",VLOOKUP(L1090,読み替え表_低炭素物流!$C$15:$F$21,4,0))","v":"-"},"-",null,null,null,null,0,0,0,0,0,"*"]
[null,null,1083,null,null,null,null,null,null,null,null,null,null,null,null,null,null,null,null,null,null,null,null,null,null,{"$f":"IF(H1091=\"\",\"-\",VLOOKUP(J1091,読み替え表_低炭素物流!$C$4:$F$12,4,0))","v":"-"},{"$f":"IF(H1091=\"\",\"-\",VLOOKUP(L1091,読み替え表_低炭素物流!$C$15:$F$21,4,0))","v":"-"},"-",null,null,null,null,0,0,0,0,0,"*"]
[null,null,1084,null,null,null,null,null,null,null,null,null,null,null,null,null,null,null,null,null,null,null,null,null,null,{"$f":"IF(H1092=\"\",\"-\",VLOOKUP(J1092,読み替え表_低炭素物流!$C$4:$F$12,4,0))","v":"-"},{"$f":"IF(H1092=\"\",\"-\",VLOOKUP(L1092,読み替え表_低炭素物流!$C$15:$F$21,4,0))","v":"-"},"-",null,null,null,null,0,0,0,0,0,"*"]
[null,null,1085,null,null,null,null,null,null,null,null,null,null,null,null,null,null,null,null,null,null,null,null,null,null,{"$f":"IF(H1093=\"\",\"-\",VLOOKUP(J1093,読み替え表_低炭素物流!$C$4:$F$12,4,0))","v":"-"},{"$f":"IF(H1093=\"\",\"-\",VLOOKUP(L1093,読み替え表_低炭素物流!$C$15:$F$21,4,0))","v":"-"},"-",null,null,null,null,0,0,0,0,0,"*"]
[null,null,1086,null,null,null,null,null,null,null,null,null,null,null,null,null,null,null,null,null,null,null,null,null,null,{"$f":"IF(H1094=\"\",\"-\",VLOOKUP(J1094,読み替え表_低炭素物流!$C$4:$F$12,4,0))","v":"-"},{"$f":"IF(H1094=\"\",\"-\",VLOOKUP(L1094,読み替え表_低炭素物流!$C$15:$F$21,4,0))","v":"-"},"-",null,null,null,null,0,0,0,0,0,"*"]
[null,null,1087,null,null,null,null,null,null,null,null,null,null,null,null,null,null,null,null,null,null,null,null,null,null,{"$f":"IF(H1095=\"\",\"-\",VLOOKUP(J1095,読み替え表_低炭素物流!$C$4:$F$12,4,0))","v":"-"},{"$f":"IF(H1095=\"\",\"-\",VLOOKUP(L1095,読み替え表_低炭素物流!$C$15:$F$21,4,0))","v":"-"},"-",null,null,null,null,0,0,0,0,0,"*"]
[null,null,1088,null,null,null,null,null,null,null,null,null,null,null,null,null,null,null,null,null,null,null,null,null,null,{"$f":"IF(H1096=\"\",\"-\",VLOOKUP(J1096,読み替え表_低炭素物流!$C$4:$F$12,4,0))","v":"-"},{"$f":"IF(H1096=\"\",\"-\",VLOOKUP(L1096,読み替え表_低炭素物流!$C$15:$F$21,4,0))","v":"-"},"-",null,null,null,null,0,0,0,0,0,"*"]
[null,null,1089,null,null,null,null,null,null,null,null,null,null,null,null,null,null,null,null,null,null,null,null,null,null,{"$f":"IF(H1097=\"\",\"-\",VLOOKUP(J1097,読み替え表_低炭素物流!$C$4:$F$12,4,0))","v":"-"},{"$f":"IF(H1097=\"\",\"-\",VLOOKUP(L1097,読み替え表_低炭素物流!$C$15:$F$21,4,0))","v":"-"},"-",null,null,null,null,{"$f":"IF(N1097=1,IF(OR(L1097=4,L1097=5),0,1),0)","v":0},0,0,0,0,"*"]
[null,null,{"$f":"ROW()-8","v":1090},null,null,null,null,null,null,null,null,null,null,null,null,null,null,null,null,null,null,null,null,null,null,{"$f":"IF(H1098=\"\",\"-\",VLOOKUP(J1098,読み替え表_低炭素物流!$C$4:$F$12,4,0))","v":"-"},{"$f":"IF(H1098=\"\",\"-\",VLOOKUP(L1098,読み替え表_低炭素物流!$C$15:$F$21,4,0))","v":"-"},"-",null,null,null,null,0,0,0,0,{"$f":"AG1098","v":0},"*"]
[null,null,1091,null,null,null,null,null,null,null,null,null,null,null,null,null,null,null,null,null,null,null,null,null,null,{"$f":"IF(H1099=\"\",\"-\",VLOOKUP(J1099,読み替え表_低炭素物流!$C$4:$F$12,4,0))","v":"-"},{"$f":"IF(H1099=\"\",\"-\",VLOOKUP(L1099,読み替え表_低炭素物流!$C$15:$F$21,4,0))","v":"-"},"-",null,null,null,null,0,0,0,0,0,"*"]
[null,null,1092,null,null,null,null,null,null,null,null,null,null,null,null,null,null,null,null,null,null,null,null,null,null,{"$f":"IF(H1100=\"\",\"-\",VLOOKUP(J1100,読み替え表_低炭素物流!$C$4:$F$12,4,0))","v":"-"},{"$f":"IF(H1100=\"\",\"-\",VLOOKUP(L1100,読み替え表_低炭素物流!$C$15:$F$21,4,0))","v":"-"},"-",null,null,null,null,0,0,0,0,0,"*"]
[null,null,1093,null,null,null,null,null,null,null,null,null,null,null,null,null,null,null,null,null,null,null,null,null,null,{"$f":"IF(H1101=\"\",\"-\",VLOOKUP(J1101,読み替え表_低炭素物流!$C$4:$F$12,4,0))","v":"-"},{"$f":"IF(H1101=\"\",\"-\",VLOOKUP(L1101,読み替え表_低炭素物流!$C$15:$F$21,4,0))","v":"-"},"-",null,null,null,null,0,0,0,0,0,"*"]
[null,null,1094,null,null,null,null,null,null,null,null,null,null,null,null,null,null,null,null,null,null,null,null,null,null,{"$f":"IF(H1102=\"\",\"-\",VLOOKUP(J1102,読み替え表_低炭素物流!$C$4:$F$12,4,0))","v":"-"},{"$f":"IF(H1102=\"\",\"-\",VLOOKUP(L1102,読み替え表_低炭素物流!$C$15:$F$21,4,0))","v":"-"},"-",null,null,null,null,0,0,0,0,0,"*"]
[null,null,1095,null,null,null,null,null,null,null,null,null,null,null,null,null,null,null,null,null,null,null,null,null,null,{"$f":"IF(H1103=\"\",\"-\",VLOOKUP(J1103,読み替え表_低炭素物流!$C$4:$F$12,4,0))","v":"-"},{"$f":"IF(H1103=\"\",\"-\",VLOOKUP(L1103,読み替え表_低炭素物流!$C$15:$F$21,4,0))","v":"-"},"-",null,null,null,null,0,0,0,0,0,"*"]
[null,null,1096,null,null,null,null,null,null,null,null,null,null,null,null,null,null,null,null,null,null,null,null,null,null,{"$f":"IF(H1104=\"\",\"-\",VLOOKUP(J1104,読み替え表_低炭素物流!$C$4:$F$12,4,0))","v":"-"},{"$f":"IF(H1104=\"\",\"-\",VLOOKUP(L1104,読み替え表_低炭素物流!$C$15:$F$21,4,0))","v":"-"},"-",null,null,null,null,0,0,0,0,0,"*"]
[null,null,1097,null,null,null,null,null,null,null,null,null,null,null,null,null,null,null,null,null,null,null,null,null,null,{"$f":"IF(H1105=\"\",\"-\",VLOOKUP(J1105,読み替え表_低炭素物流!$C$4:$F$12,4,0))","v":"-"},{"$f":"IF(H1105=\"\",\"-\",VLOOKUP(L1105,読み替え表_低炭素物流!$C$15:$F$21,4,0))","v":"-"},"-",null,null,null,null,0,0,0,0,0,"*"]
[null,null,1098,null,null,null,null,null,null,null,null,null,null,null,null,null,null,null,null,null,null,null,null,null,null,{"$f":"IF(H1106=\"\",\"-\",VLOOKUP(J1106,読み替え表_低炭素物流!$C$4:$F$12,4,0))","v":"-"},{"$f":"IF(H1106=\"\",\"-\",VLOOKUP(L1106,読み替え表_低炭素物流!$C$15:$F$21,4,0))","v":"-"},"-",null,null,null,null,0,0,0,0,0,"*"]
[null,null,1099,null,null,null,null,null,null,null,null,null,null,null,null,null,null,null,null,null,null,null,null,null,null,{"$f":"IF(H1107=\"\",\"-\",VLOOKUP(J1107,読み替え表_低炭素物流!$C$4:$F$12,4,0))","v":"-"},{"$f":"IF(H1107=\"\",\"-\",VLOOKUP(L1107,読み替え表_低炭素物流!$C$15:$F$21,4,0))","v":"-"},"-",null,null,null,null,0,0,0,0,0,"*"]
[null,null,1100,null,null,null,null,null,null,null,null,null,null,null,null,null,null,null,null,null,null,null,null,null,null,{"$f":"IF(H1108=\"\",\"-\",VLOOKUP(J1108,読み替え表_低炭素物流!$C$4:$F$12,4,0))","v":"-"},{"$f":"IF(H1108=\"\",\"-\",VLOOKUP(L1108,読み替え表_低炭素物流!$C$15:$F$21,4,0))","v":"-"},"-",null,null,null,null,0,0,0,0,0,"*"]
[null,null,1101,null,null,null,null,null,null,null,null,null,null,null,null,null,null,null,null,null,null,null,null,null,null,{"$f":"IF(H1109=\"\",\"-\",VLOOKUP(J1109,読み替え表_低炭素物流!$C$4:$F$12,4,0))","v":"-"},{"$f":"IF(H1109=\"\",\"-\",VLOOKUP(L1109,読み替え表_低炭素物流!$C$15:$F$21,4,0))","v":"-"},"-",null,null,null,null,0,0,0,0,0,"*"]
[null,null,1102,null,null,null,null,null,null,null,null,null,null,null,null,null,null,null,null,null,null,null,null,null,null,{"$f":"IF(H1110=\"\",\"-\",VLOOKUP(J1110,読み替え表_低炭素物流!$C$4:$F$12,4,0))","v":"-"},{"$f":"IF(H1110=\"\",\"-\",VLOOKUP(L1110,読み替え表_低炭素物流!$C$15:$F$21,4,0))","v":"-"},"-",null,null,null,null,0,0,0,0,0,"*"]
[null,null,1103,null,null,null,null,null,null,null,null,null,null,null,null,null,null,null,null,null,null,null,null,null,null,{"$f":"IF(H1111=\"\",\"-\",VLOOKUP(J1111,読み替え表_低炭素物流!$C$4:$F$12,4,0))","v":"-"},{"$f":"IF(H1111=\"\",\"-\",VLOOKUP(L1111,読み替え表_低炭素物流!$C$15:$F$21,4,0))","v":"-"},"-",null,null,null,null,0,0,0,0,0,"*"]
[null,null,1104,null,null,null,null,null,null,null,null,null,null,null,null,null,null,null,null,null,null,null,null,null,null,{"$f":"IF(H1112=\"\",\"-\",VLOOKUP(J1112,読み替え表_低炭素物流!$C$4:$F$12,4,0))","v":"-"},{"$f":"IF(H1112=\"\",\"-\",VLOOKUP(L1112,読み替え表_低炭素物流!$C$15:$F$21,4,0))","v":"-"},"-",null,null,null,null,0,0,0,{"$f":"IF(OR(N1112=7,N1112=99),1,0)","v":0},0,"*"]
[null,null,1105,null,null,null,null,null,null,null,null,null,null,null,null,null,null,null,null,null,null,null,null,null,null,{"$f":"IF(H1113=\"\",\"-\",VLOOKUP(J1113,読み替え表_低炭素物流!$C$4:$F$12,4,0))","v":"-"},{"$f":"IF(H1113=\"\",\"-\",VLOOKUP(L1113,読み替え表_低炭素物流!$C$15:$F$21,4,0))","v":"-"},"-",null,null,null,null,0,0,0,0,0,"*"]
[null,null,1106,null,null,null,null,null,null,null,null,null,null,null,null,null,null,null,null,null,null,null,null,null,null,{"$f":"IF(H1114=\"\",\"-\",VLOOKUP(J1114,読み替え表_低炭素物流!$C$4:$F$12,4,0))","v":"-"},{"$f":"IF(H1114=\"\",\"-\",VLOOKUP(L1114,読み替え表_低炭素物流!$C$15:$F$21,4,0))","v":"-"},"-",null,null,null,null,0,0,0,0,0,"*"]
[null,null,1107,null,null,null,null,null,null,null,null,null,null,null,null,null,null,null,null,null,null,null,null,null,null,{"$f":"IF(H1115=\"\",\"-\",VLOOKUP(J1115,読み替え表_低炭素物流!$C$4:$F$12,4,0))","v":"-"},{"$f":"IF(H1115=\"\",\"-\",VLOOKUP(L1115,読み替え表_低炭素物流!$C$15:$F$21,4,0))","v":"-"},"-",null,null,null,null,0,0,0,0,0,"*"]
[null,null,1108,null,null,null,null,null,null,null,null,null,null,null,null,null,null,null,null,null,null,null,null,null,null,{"$f":"IF(H1116=\"\",\"-\",VLOOKUP(J1116,読み替え表_低炭素物流!$C$4:$F$12,4,0))","v":"-"},{"$f":"IF(H1116=\"\",\"-\",VLOOKUP(L1116,読み替え表_低炭素物流!$C$15:$F$21,4,0))","v":"-"},"-",null,null,null,null,0,0,0,0,0,"*"]
[null,null,1109,null,null,null,null,null,null,null,null,null,null,null,null,null,null,null,null,null,null,null,null,null,null,{"$f":"IF(H1117=\"\",\"-\",VLOOKUP(J1117,読み替え表_低炭素物流!$C$4:$F$12,4,0))","v":"-"},{"$f":"IF(H1117=\"\",\"-\",VLOOKUP(L1117,読み替え表_低炭素物流!$C$15:$F$21,4,0))","v":"-"},"-",null,null,null,null,0,0,0,0,0,"*"]
[null,null,1110,null,null,null,null,null,null,null,null,null,null,null,null,null,null,null,null,null,null,null,null,null,null,{"$f":"IF(H1118=\"\",\"-\",VLOOKUP(J1118,読み替え表_低炭素物流!$C$4:$F$12,4,0))","v":"-"},{"$f":"IF(H1118=\"\",\"-\",VLOOKUP(L1118,読み替え表_低炭素物流!$C$15:$F$21,4,0))","v":"-"},"-",null,null,null,null,0,0,0,0,0,"*"]
[null,null,1111,null,null,null,null,null,null,null,null,null,null,null,null,null,null,null,null,null,null,null,null,null,null,{"$f":"IF(H1119=\"\",\"-\",VLOOKUP(J1119,読み替え表_低炭素物流!$C$4:$F$12,4,0))","v":"-"},{"$f":"IF(H1119=\"\",\"-\",VLOOKUP(L1119,読み替え表_低炭素物流!$C$15:$F$21,4,0))","v":"-"},"-",null,null,null,null,0,0,0,0,0,"*"]
[null,null,1112,null,null,null,null,null,null,null,null,null,null,null,null,null,null,null,null,null,null,null,null,null,null,{"$f":"IF(H1120=\"\",\"-\",VLOOKUP(J1120,読み替え表_低炭素物流!$C$4:$F$12,4,0))","v":"-"},{"$f":"IF(H1120=\"\",\"-\",VLOOKUP(L1120,読み替え表_低炭素物流!$C$15:$F$21,4,0))","v":"-"},"-",null,null,null,null,0,0,0,0,0,"*"]
[null,null,1113,null,null,null,null,null,null,null,null,null,null,null,null,null,null,null,null,null,null,null,null,null,null,{"$f":"IF(H1121=\"\",\"-\",VLOOKUP(J1121,読み替え表_低炭素物流!$C$4:$F$12,4,0))","v":"-"},{"$f":"IF(H1121=\"\",\"-\",VLOOKUP(L1121,読み替え表_低炭素物流!$C$15:$F$21,4,0))","v":"-"},"-",null,null,null,null,0,0,0,0,0,"*"]
[null,null,1114,null,null,null,null,null,null,null,null,null,null,null,null,null,null,null,null,null,null,null,null,null,null,{"$f":"IF(H1122=\"\",\"-\",VLOOKUP(J1122,読み替え表_低炭素物流!$C$4:$F$12,4,0))","v":"-"},{"$f":"IF(H1122=\"\",\"-\",VLOOKUP(L1122,読み替え表_低炭素物流!$C$15:$F$21,4,0))","v":"-"},"-",null,null,null,null,0,0,0,0,0,"*"]
[null,null,1115,null,null,null,null,null,null,null,null,null,null,null,null,null,null,null,null,null,null,null,null,null,null,{"$f":"IF(H1123=\"\",\"-\",VLOOKUP(J1123,読み替え表_低炭素物流!$C$4:$F$12,4,0))","v":"-"},{"$f":"IF(H1123=\"\",\"-\",VLOOKUP(L1123,読み替え表_低炭素物流!$C$15:$F$21,4,0))","v":"-"},"-",null,null,null,null,0,0,0,0,0,"*"]
[null,null,1116,null,null,null,null,null,null,null,null,null,null,null,null,null,null,null,null,null,null,null,null,null,null,{"$f":"IF(H1124=\"\",\"-\",VLOOKUP(J1124,読み替え表_低炭素物流!$C$4:$F$12,4,0))","v":"-"},{"$f":"IF(H1124=\"\",\"-\",VLOOKUP(L1124,読み替え表_低炭素物流!$C$15:$F$21,4,0))","v":"-"},"-",null,null,null,null,0,0,0,0,0,"*"]
[null,null,1117,null,null,null,null,null,null,null,null,null,null,null,null,null,null,null,null,null,null,null,null,null,null,{"$f":"IF(H1125=\"\",\"-\",VLOOKUP(J1125,読み替え表_低炭素物流!$C$4:$F$12,4,0))","v":"-"},{"$f":"IF(H1125=\"\",\"-\",VLOOKUP(L1125,読み替え表_低炭素物流!$C$15:$F$21,4,0))","v":"-"},"-",null,null,null,null,0,0,0,0,0,"*"]
[null,null,1118,null,null,null,null,null,null,null,null,null,null,null,null,null,null,null,null,null,null,null,null,null,null,{"$f":"IF(H1126=\"\",\"-\",VLOOKUP(J1126,読み替え表_低炭素物流!$C$4:$F$12,4,0))","v":"-"},{"$f":"IF(H1126=\"\",\"-\",VLOOKUP(L1126,読み替え表_低炭素物流!$C$15:$F$21,4,0))","v":"-"},"-",null,null,null,null,0,0,0,0,0,"*"]
[null,null,1119,null,null,null,null,null,null,null,null,null,null,null,null,null,null,null,null,null,null,null,null,null,null,{"$f":"IF(H1127=\"\",\"-\",VLOOKUP(J1127,読み替え表_低炭素物流!$C$4:$F$12,4,0))","v":"-"},{"$f":"IF(H1127=\"\",\"-\",VLOOKUP(L1127,読み替え表_低炭素物流!$C$15:$F$21,4,0))","v":"-"},"-",null,null,null,null,0,0,0,0,0,"*"]
[null,null,1120,null,null,null,null,null,null,null,null,null,null,null,null,null,null,null,null,null,null,null,null,null,null,{"$f":"IF(H1128=\"\",\"-\",VLOOKUP(J1128,読み替え表_低炭素物流!$C$4:$F$12,4,0))","v":"-"},{"$f":"IF(H1128=\"\",\"-\",VLOOKUP(L1128,読み替え表_低炭素物流!$C$15:$F$21,4,0))","v":"-"},"-",null,null,null,null,0,0,0,0,0,"*"]
[null,null,1121,null,null,null,null,null,null,null,null,null,null,null,null,null,null,null,null,null,null,null,null,null,null,{"$f":"IF(H1129=\"\",\"-\",VLOOKUP(J1129,読み替え表_低炭素物流!$C$4:$F$12,4,0))","v":"-"},{"$f":"IF(H1129=\"\",\"-\",VLOOKUP(L1129,読み替え表_低炭素物流!$C$15:$F$21,4,0))","v":"-"},"-",null,null,null,null,0,0,0,0,0,"*"]
[null,null,1122,null,null,null,null,null,null,null,null,null,null,null,null,null,null,null,null,null,null,null,null,null,null,{"$f":"IF(H1130=\"\",\"-\",VLOOKUP(J1130,読み替え表_低炭素物流!$C$4:$F$12,4,0))","v":"-"},{"$f":"IF(H1130=\"\",\"-\",VLOOKUP(L1130,読み替え表_低炭素物流!$C$15:$F$21,4,0))","v":"-"},"-",null,null,null,null,0,0,0,0,0,"*"]
[null,null,1123,null,null,null,null,null,null,null,null,null,null,null,null,null,null,null,null,null,null,null,null,null,null,{"$f":"IF(H1131=\"\",\"-\",VLOOKUP(J1131,読み替え表_低炭素物流!$C$4:$F$12,4,0))","v":"-"},{"$f":"IF(H1131=\"\",\"-\",VLOOKUP(L1131,読み替え表_低炭素物流!$C$15:$F$21,4,0))","v":"-"},"-",null,null,null,null,0,0,0,0,0,"*"]
[null,null,1124,null,null,null,null,null,null,null,null,null,null,null,null,null,null,null,null,null,null,null,null,null,null,{"$f":"IF(H1132=\"\",\"-\",VLOOKUP(J1132,読み替え表_低炭素物流!$C$4:$F$12,4,0))","v":"-"},{"$f":"IF(H1132=\"\",\"-\",VLOOKUP(L1132,読み替え表_低炭素物流!$C$15:$F$21,4,0))","v":"-"},"-",null,null,null,null,0,0,0,0,0,"*"]
[null,null,1125,null,null,null,null,null,null,null,null,null,null,null,null,null,null,null,null,null,null,null,null,null,null,{"$f":"IF(H1133=\"\",\"-\",VLOOKUP(J1133,読み替え表_低炭素物流!$C$4:$F$12,4,0))","v":"-"},{"$f":"IF(H1133=\"\",\"-\",VLOOKUP(L1133,読み替え表_低炭素物流!$C$15:$F$21,4,0))","v":"-"},"-",null,null,null,null,0,0,0,0,0,"*"]
[null,null,1126,null,null,null,null,null,null,null,null,null,null,null,null,null,null,null,null,null,null,null,null,null,null,{"$f":"IF(H1134=\"\",\"-\",VLOOKUP(J1134,読み替え表_低炭素物流!$C$4:$F$12,4,0))","v":"-"},{"$f":"IF(H1134=\"\",\"-\",VLOOKUP(L1134,読み替え表_低炭素物流!$C$15:$F$21,4,0))","v":"-"},"-",null,null,null,null,0,0,0,0,0,"*"]
[null,null,1127,null,null,null,null,null,null,null,null,null,null,null,null,null,null,null,null,null,null,null,null,null,null,{"$f":"IF(H1135=\"\",\"-\",VLOOKUP(J1135,読み替え表_低炭素物流!$C$4:$F$12,4,0))","v":"-"},{"$f":"IF(H1135=\"\",\"-\",VLOOKUP(L1135,読み替え表_低炭素物流!$C$15:$F$21,4,0))","v":"-"},"-",null,null,null,null,0,0,0,0,0,"*"]
[null,null,1128,null,null,null,null,null,null,null,null,null,null,null,null,null,null,null,null,null,null,null,null,null,null,{"$f":"IF(H1136=\"\",\"-\",VLOOKUP(J1136,読み替え表_低炭素物流!$C$4:$F$12,4,0))","v":"-"},{"$f":"IF(H1136=\"\",\"-\",VLOOKUP(L1136,読み替え表_低炭素物流!$C$15:$F$21,4,0))","v":"-"},"-",null,null,null,null,0,0,0,0,0,"*"]
[null,null,1129,null,null,null,null,null,null,null,null,null,null,null,null,null,null,null,null,null,null,null,null,null,null,{"$f":"IF(H1137=\"\",\"-\",VLOOKUP(J1137,読み替え表_低炭素物流!$C$4:$F$12,4,0))","v":"-"},{"$f":"IF(H1137=\"\",\"-\",VLOOKUP(L1137,読み替え表_低炭素物流!$C$15:$F$21,4,0))","v":"-"},{"$f":"IF(H1137=\"\",\"-\",Z1137*AA1137)","v":"-"},null,null,null,null,0,{"$f":"IF(J1137=8,1,0)","v":0},{"$f":"IF(L1137=6,1,0)","v":0},0,0,"*"]
[null,null,1130,null,null,null,null,null,null,null,null,null,null,null,null,null,null,null,null,null,null,null,null,null,null,{"$f":"IF(H1138=\"\",\"-\",VLOOKUP(J1138,読み替え表_低炭素物流!$C$4:$F$12,4,0))","v":"-"},{"$f":"IF(H1138=\"\",\"-\",VLOOKUP(L1138,読み替え表_低炭素物流!$C$15:$F$21,4,0))","v":"-"},"-",null,null,null,null,0,0,0,0,0,"*"]
[null,null,1131,null,null,null,null,null,null,null,null,null,null,null,null,null,null,null,null,null,null,null,null,null,null,{"$f":"IF(H1139=\"\",\"-\",VLOOKUP(J1139,読み替え表_低炭素物流!$C$4:$F$12,4,0))","v":"-"},{"$f":"IF(H1139=\"\",\"-\",VLOOKUP(L1139,読み替え表_低炭素物流!$C$15:$F$21,4,0))","v":"-"},"-",null,null,null,null,0,0,0,0,0,"*"]
[null,null,1132,null,null,null,null,null,null,null,null,null,null,null,null,null,null,null,null,null,null,null,null,null,null,{"$f":"IF(H1140=\"\",\"-\",VLOOKUP(J1140,読み替え表_低炭素物流!$C$4:$F$12,4,0))","v":"-"},{"$f":"IF(H1140=\"\",\"-\",VLOOKUP(L1140,読み替え表_低炭素物流!$C$15:$F$21,4,0))","v":"-"},"-",null,null,null,null,0,0,0,0,0,"*"]
[null,null,1133,null,null,null,null,null,null,null,null,null,null,null,null,null,null,null,null,null,null,null,null,null,null,{"$f":"IF(H1141=\"\",\"-\",VLOOKUP(J1141,読み替え表_低炭素物流!$C$4:$F$12,4,0))","v":"-"},{"$f":"IF(H1141=\"\",\"-\",VLOOKUP(L1141,読み替え表_低炭素物流!$C$15:$F$21,4,0))","v":"-"},"-",null,null,null,null,0,0,0,0,0,"*"]
[null,null,1134,null,null,null,null,null,null,null,null,null,null,null,null,null,null,null,null,null,null,null,null,null,null,{"$f":"IF(H1142=\"\",\"-\",VLOOKUP(J1142,読み替え表_低炭素物流!$C$4:$F$12,4,0))","v":"-"},{"$f":"IF(H1142=\"\",\"-\",VLOOKUP(L1142,読み替え表_低炭素物流!$C$15:$F$21,4,0))","v":"-"},"-",null,null,null,null,0,0,0,0,0,"*"]
[null,null,1135,null,null,null,null,null,null,null,null,null,null,null,null,null,null,null,null,null,null,null,null,null,null,{"$f":"IF(H1143=\"\",\"-\",VLOOKUP(J1143,読み替え表_低炭素物流!$C$4:$F$12,4,0))","v":"-"},{"$f":"IF(H1143=\"\",\"-\",VLOOKUP(L1143,読み替え表_低炭素物流!$C$15:$F$21,4,0))","v":"-"},"-",null,null,null,null,0,0,0,0,0,"*"]
[null,null,1136,null,null,null,null,null,null,null,null,null,null,null,null,null,null,null,null,null,null,null,null,null,null,{"$f":"IF(H1144=\"\",\"-\",VLOOKUP(J1144,読み替え表_低炭素物流!$C$4:$F$12,4,0))","v":"-"},{"$f":"IF(H1144=\"\",\"-\",VLOOKUP(L1144,読み替え表_低炭素物流!$C$15:$F$21,4,0))","v":"-"},"-",null,null,null,null,0,0,0,0,0,"*"]
[null,null,1137,null,null,null,null,null,null,null,null,null,null,null,null,null,null,null,null,null,null,null,null,null,null,{"$f":"IF(H1145=\"\",\"-\",VLOOKUP(J1145,読み替え表_低炭素物流!$C$4:$F$12,4,0))","v":"-"},{"$f":"IF(H1145=\"\",\"-\",VLOOKUP(L1145,読み替え表_低炭素物流!$C$15:$F$21,4,0))","v":"-"},"-",null,null,null,null,0,0,0,0,0,"*"]
[null,null,1138,null,null,null,null,null,null,null,null,null,null,null,null,null,null,null,null,null,null,null,null,null,null,{"$f":"IF(H1146=\"\",\"-\",VLOOKUP(J1146,読み替え表_低炭素物流!$C$4:$F$12,4,0))","v":"-"},{"$f":"IF(H1146=\"\",\"-\",VLOOKUP(L1146,読み替え表_低炭素物流!$C$15:$F$21,4,0))","v":"-"},"-",null,null,null,null,0,0,0,0,0,"*"]
[null,null,1139,null,null,null,null,null,null,null,null,null,null,null,null,null,null,null,null,null,null,null,null,null,null,{"$f":"IF(H1147=\"\",\"-\",VLOOKUP(J1147,読み替え表_低炭素物流!$C$4:$F$12,4,0))","v":"-"},{"$f":"IF(H1147=\"\",\"-\",VLOOKUP(L1147,読み替え表_低炭素物流!$C$15:$F$21,4,0))","v":"-"},"-",null,null,null,null,0,0,0,0,0,"*"]
[null,null,1140,null,null,null,null,null,null,null,null,null,null,null,null,null,null,null,null,null,null,null,null,null,null,{"$f":"IF(H1148=\"\",\"-\",VLOOKUP(J1148,読み替え表_低炭素物流!$C$4:$F$12,4,0))","v":"-"},{"$f":"IF(H1148=\"\",\"-\",VLOOKUP(L1148,読み替え表_低炭素物流!$C$15:$F$21,4,0))","v":"-"},"-",null,null,null,null,0,0,0,0,0,"*"]
[null,null,1141,null,null,null,null,null,null,null,null,null,null,null,null,null,null,null,null,null,null,null,null,null,null,{"$f":"IF(H1149=\"\",\"-\",VLOOKUP(J1149,読み替え表_低炭素物流!$C$4:$F$12,4,0))","v":"-"},{"$f":"IF(H1149=\"\",\"-\",VLOOKUP(L1149,読み替え表_低炭素物流!$C$15:$F$21,4,0))","v":"-"},"-",null,null,null,null,0,0,0,0,0,"*"]
[null,null,1142,null,null,null,null,null,null,null,null,null,null,null,null,null,null,null,null,null,null,null,null,null,null,{"$f":"IF(H1150=\"\",\"-\",VLOOKUP(J1150,読み替え表_低炭素物流!$C$4:$F$12,4,0))","v":"-"},{"$f":"IF(H1150=\"\",\"-\",VLOOKUP(L1150,読み替え表_低炭素物流!$C$15:$F$21,4,0))","v":"-"},"-",null,null,null,null,0,0,0,0,0,"*"]
[null,null,1143,null,null,null,null,null,null,null,null,null,null,null,null,null,null,null,null,null,null,null,null,null,null,{"$f":"IF(H1151=\"\",\"-\",VLOOKUP(J1151,読み替え表_低炭素物流!$C$4:$F$12,4,0))","v":"-"},{"$f":"IF(H1151=\"\",\"-\",VLOOKUP(L1151,読み替え表_低炭素物流!$C$15:$F$21,4,0))","v":"-"},"-",null,null,null,null,0,0,0,0,0,"*"]
[null,null,1144,null,null,null,null,null,null,null,null,null,null,null,null,null,null,null,null,null,null,null,null,null,null,{"$f":"IF(H1152=\"\",\"-\",VLOOKUP(J1152,読み替え表_低炭素物流!$C$4:$F$12,4,0))","v":"-"},{"$f":"IF(H1152=\"\",\"-\",VLOOKUP(L1152,読み替え表_低炭素物流!$C$15:$F$21,4,0))","v":"-"},"-",null,null,null,null,0,0,0,0,0,"*"]
[null,null,1145,null,null,null,null,null,null,null,null,null,null,null,null,null,null,null,null,null,null,null,null,null,null,{"$f":"IF(H1153=\"\",\"-\",VLOOKUP(J1153,読み替え表_低炭素物流!$C$4:$F$12,4,0))","v":"-"},{"$f":"IF(H1153=\"\",\"-\",VLOOKUP(L1153,読み替え表_低炭素物流!$C$15:$F$21,4,0))","v":"-"},"-",null,null,null,null,0,0,0,0,0,"*"]
[null,null,1146,null,null,null,null,null,null,null,null,null,null,null,null,null,null,null,null,null,null,null,null,null,null,{"$f":"IF(H1154=\"\",\"-\",VLOOKUP(J1154,読み替え表_低炭素物流!$C$4:$F$12,4,0))","v":"-"},{"$f":"IF(H1154=\"\",\"-\",VLOOKUP(L1154,読み替え表_低炭素物流!$C$15:$F$21,4,0))","v":"-"},"-",null,null,null,null,0,0,0,0,0,"*"]
[null,null,1147,null,null,null,null,null,null,null,null,null,null,null,null,null,null,null,null,null,null,null,null,null,null,{"$f":"IF(H1155=\"\",\"-\",VLOOKUP(J1155,読み替え表_低炭素物流!$C$4:$F$12,4,0))","v":"-"},{"$f":"IF(H1155=\"\",\"-\",VLOOKUP(L1155,読み替え表_低炭素物流!$C$15:$F$21,4,0))","v":"-"},"-",null,null,null,null,0,0,0,0,0,"*"]
[null,null,1148,null,null,null,null,null,null,null,null,null,null,null,null,null,null,null,null,null,null,null,null,null,null,{"$f":"IF(H1156=\"\",\"-\",VLOOKUP(J1156,読み替え表_低炭素物流!$C$4:$F$12,4,0))","v":"-"},{"$f":"IF(H1156=\"\",\"-\",VLOOKUP(L1156,読み替え表_低炭素物流!$C$15:$F$21,4,0))","v":"-"},"-",null,null,null,null,0,0,0,0,0,"*"]
[null,null,1149,null,null,null,null,null,null,null,null,null,null,null,null,null,null,null,null,null,null,null,null,null,null,{"$f":"IF(H1157=\"\",\"-\",VLOOKUP(J1157,読み替え表_低炭素物流!$C$4:$F$12,4,0))","v":"-"},{"$f":"IF(H1157=\"\",\"-\",VLOOKUP(L1157,読み替え表_低炭素物流!$C$15:$F$21,4,0))","v":"-"},"-",null,null,null,null,0,0,0,0,0,"*"]
[null,null,1150,null,null,null,null,null,null,null,null,null,null,null,null,null,null,null,null,null,null,null,null,null,null,{"$f":"IF(H1158=\"\",\"-\",VLOOKUP(J1158,読み替え表_低炭素物流!$C$4:$F$12,4,0))","v":"-"},{"$f":"IF(H1158=\"\",\"-\",VLOOKUP(L1158,読み替え表_低炭素物流!$C$15:$F$21,4,0))","v":"-"},"-",null,null,null,null,0,0,0,0,0,"*"]
[null,null,1151,null,null,null,null,null,null,null,null,null,null,null,null,null,null,null,null,null,null,null,null,null,null,{"$f":"IF(H1159=\"\",\"-\",VLOOKUP(J1159,読み替え表_低炭素物流!$C$4:$F$12,4,0))","v":"-"},{"$f":"IF(H1159=\"\",\"-\",VLOOKUP(L1159,読み替え表_低炭素物流!$C$15:$F$21,4,0))","v":"-"},"-",null,null,null,null,0,0,0,0,0,"*"]
[null,null,1152,null,null,null,null,null,null,null,null,null,null,null,null,null,null,null,null,null,null,null,null,null,null,{"$f":"IF(H1160=\"\",\"-\",VLOOKUP(J1160,読み替え表_低炭素物流!$C$4:$F$12,4,0))","v":"-"},{"$f":"IF(H1160=\"\",\"-\",VLOOKUP(L1160,読み替え表_低炭素物流!$C$15:$F$21,4,0))","v":"-"},"-",null,null,null,null,0,0,0,0,0,"*"]
[null,null,1153,null,null,null,null,null,null,null,null,null,null,null,null,null,null,null,null,null,null,null,null,null,null,{"$f":"IF(H1161=\"\",\"-\",VLOOKUP(J1161,読み替え表_低炭素物流!$C$4:$F$12,4,0))","v":"-"},{"$f":"IF(H1161=\"\",\"-\",VLOOKUP(L1161,読み替え表_低炭素物流!$C$15:$F$21,4,0))","v":"-"},"-",null,null,null,null,{"$f":"IF(N1161=1,IF(OR(L1161=4,L1161=5),0,1),0)","v":0},0,0,0,0,"*"]
[null,null,{"$f":"ROW()-8","v":1154},null,null,null,null,null,null,null,null,null,null,null,null,null,null,null,null,null,null,null,null,null,null,{"$f":"IF(H1162=\"\",\"-\",VLOOKUP(J1162,読み替え表_低炭素物流!$C$4:$F$12,4,0))","v":"-"},{"$f":"IF(H1162=\"\",\"-\",VLOOKUP(L1162,読み替え表_低炭素物流!$C$15:$F$21,4,0))","v":"-"},"-",null,null,null,null,0,0,0,0,{"$f":"AG1162","v":0},"*"]
[null,null,1155,null,null,null,null,null,null,null,null,null,null,null,null,null,null,null,null,null,null,null,null,null,null,{"$f":"IF(H1163=\"\",\"-\",VLOOKUP(J1163,読み替え表_低炭素物流!$C$4:$F$12,4,0))","v":"-"},{"$f":"IF(H1163=\"\",\"-\",VLOOKUP(L1163,読み替え表_低炭素物流!$C$15:$F$21,4,0))","v":"-"},"-",null,null,null,null,0,0,0,0,0,"*"]
[null,null,1156,null,null,null,null,null,null,null,null,null,null,null,null,null,null,null,null,null,null,null,null,null,null,{"$f":"IF(H1164=\"\",\"-\",VLOOKUP(J1164,読み替え表_低炭素物流!$C$4:$F$12,4,0))","v":"-"},{"$f":"IF(H1164=\"\",\"-\",VLOOKUP(L1164,読み替え表_低炭素物流!$C$15:$F$21,4,0))","v":"-"},"-",null,null,null,null,0,0,0,0,0,"*"]
[null,null,1157,null,null,null,null,null,null,null,null,null,null,null,null,null,null,null,null,null,null,null,null,null,null,{"$f":"IF(H1165=\"\",\"-\",VLOOKUP(J1165,読み替え表_低炭素物流!$C$4:$F$12,4,0))","v":"-"},{"$f":"IF(H1165=\"\",\"-\",VLOOKUP(L1165,読み替え表_低炭素物流!$C$15:$F$21,4,0))","v":"-"},"-",null,null,null,null,0,0,0,0,0,"*"]
[null,null,1158,null,null,null,null,null,null,null,null,null,null,null,null,null,null,null,null,null,null,null,null,null,null,{"$f":"IF(H1166=\"\",\"-\",VLOOKUP(J1166,読み替え表_低炭素物流!$C$4:$F$12,4,0))","v":"-"},{"$f":"IF(H1166=\"\",\"-\",VLOOKUP(L1166,読み替え表_低炭素物流!$C$15:$F$21,4,0))","v":"-"},"-",null,null,null,null,0,0,0,0,0,"*"]
[null,null,1159,null,null,null,null,null,null,null,null,null,null,null,null,null,null,null,null,null,null,null,null,null,null,{"$f":"IF(H1167=\"\",\"-\",VLOOKUP(J1167,読み替え表_低炭素物流!$C$4:$F$12,4,0))","v":"-"},{"$f":"IF(H1167=\"\",\"-\",VLOOKUP(L1167,読み替え表_低炭素物流!$C$15:$F$21,4,0))","v":"-"},"-",null,null,null,null,0,0,0,0,0,"*"]
[null,null,1160,null,null,null,null,null,null,null,null,null,null,null,null,null,null,null,null,null,null,null,null,null,null,{"$f":"IF(H1168=\"\",\"-\",VLOOKUP(J1168,読み替え表_低炭素物流!$C$4:$F$12,4,0))","v":"-"},{"$f":"IF(H1168=\"\",\"-\",VLOOKUP(L1168,読み替え表_低炭素物流!$C$15:$F$21,4,0))","v":"-"},"-",null,null,null,null,0,0,0,0,0,"*"]
[null,null,1161,null,null,null,null,null,null,null,null,null,null,null,null,null,null,null,null,null,null,null,null,null,null,{"$f":"IF(H1169=\"\",\"-\",VLOOKUP(J1169,読み替え表_低炭素物流!$C$4:$F$12,4,0))","v":"-"},{"$f":"IF(H1169=\"\",\"-\",VLOOKUP(L1169,読み替え表_低炭素物流!$C$15:$F$21,4,0))","v":"-"},"-",null,null,null,null,0,0,0,0,0,"*"]
[null,null,1162,null,null,null,null,null,null,null,null,null,null,null,null,null,null,null,null,null,null,null,null,null,null,{"$f":"IF(H1170=\"\",\"-\",VLOOKUP(J1170,読み替え表_低炭素物流!$C$4:$F$12,4,0))","v":"-"},{"$f":"IF(H1170=\"\",\"-\",VLOOKUP(L1170,読み替え表_低炭素物流!$C$15:$F$21,4,0))","v":"-"},"-",null,null,null,null,0,0,0,0,0,"*"]
[null,null,1163,null,null,null,null,null,null,null,null,null,null,null,null,null,null,null,null,null,null,null,null,null,null,{"$f":"IF(H1171=\"\",\"-\",VLOOKUP(J1171,読み替え表_低炭素物流!$C$4:$F$12,4,0))","v":"-"},{"$f":"IF(H1171=\"\",\"-\",VLOOKUP(L1171,読み替え表_低炭素物流!$C$15:$F$21,4,0))","v":"-"},"-",null,null,null,null,0,0,0,0,0,"*"]
[null,null,1164,null,null,null,null,null,null,null,null,null,null,null,null,null,null,null,null,null,null,null,null,null,null,{"$f":"IF(H1172=\"\",\"-\",VLOOKUP(J1172,読み替え表_低炭素物流!$C$4:$F$12,4,0))","v":"-"},{"$f":"IF(H1172=\"\",\"-\",VLOOKUP(L1172,読み替え表_低炭素物流!$C$15:$F$21,4,0))","v":"-"},"-",null,null,null,null,0,0,0,0,0,"*"]
[null,null,1165,null,null,null,null,null,null,null,null,null,null,null,null,null,null,null,null,null,null,null,null,null,null,{"$f":"IF(H1173=\"\",\"-\",VLOOKUP(J1173,読み替え表_低炭素物流!$C$4:$F$12,4,0))","v":"-"},{"$f":"IF(H1173=\"\",\"-\",VLOOKUP(L1173,読み替え表_低炭素物流!$C$15:$F$21,4,0))","v":"-"},"-",null,null,null,null,0,0,0,0,0,"*"]
[null,null,1166,null,null,null,null,null,null,null,null,null,null,null,null,null,null,null,null,null,null,null,null,null,null,{"$f":"IF(H1174=\"\",\"-\",VLOOKUP(J1174,読み替え表_低炭素物流!$C$4:$F$12,4,0))","v":"-"},{"$f":"IF(H1174=\"\",\"-\",VLOOKUP(L1174,読み替え表_低炭素物流!$C$15:$F$21,4,0))","v":"-"},"-",null,null,null,null,0,0,0,0,0,"*"]
[null,null,1167,null,null,null,null,null,null,null,null,null,null,null,null,null,null,null,null,null,null,null,null,null,null,{"$f":"IF(H1175=\"\",\"-\",VLOOKUP(J1175,読み替え表_低炭素物流!$C$4:$F$12,4,0))","v":"-"},{"$f":"IF(H1175=\"\",\"-\",VLOOKUP(L1175,読み替え表_低炭素物流!$C$15:$F$21,4,0))","v":"-"},"-",null,null,null,null,0,0,0,0,0,"*"]
[null,null,1168,null,null,null,null,null,null,null,null,null,null,null,null,null,null,null,null,null,null,null,null,null,null,{"$f":"IF(H1176=\"\",\"-\",VLOOKUP(J1176,読み替え表_低炭素物流!$C$4:$F$12,4,0))","v":"-"},{"$f":"IF(H1176=\"\",\"-\",VLOOKUP(L1176,読み替え表_低炭素物流!$C$15:$F$21,4,0))","v":"-"},"-",null,null,null,null,0,0,0,{"$f":"IF(OR(N1176=7,N1176=99),1,0)","v":0},0,"*"]
[null,null,1169,null,null,null,null,null,null,null,null,null,null,null,null,null,null,null,null,null,null,null,null,null,null,{"$f":"IF(H1177=\"\",\"-\",VLOOKUP(J1177,読み替え表_低炭素物流!$C$4:$F$12,4,0))","v":"-"},{"$f":"IF(H1177=\"\",\"-\",VLOOKUP(L1177,読み替え表_低炭素物流!$C$15:$F$21,4,0))","v":"-"},"-",null,null,null,null,0,0,0,0,0,"*"]
[null,null,1170,null,null,null,null,null,null,null,null,null,null,null,null,null,null,null,null,null,null,null,null,null,null,{"$f":"IF(H1178=\"\",\"-\",VLOOKUP(J1178,読み替え表_低炭素物流!$C$4:$F$12,4,0))","v":"-"},{"$f":"IF(H1178=\"\",\"-\",VLOOKUP(L1178,読み替え表_低炭素物流!$C$15:$F$21,4,0))","v":"-"},"-",null,null,null,null,0,0,0,0,0,"*"]
[null,null,1171,null,null,null,null,null,null,null,null,null,null,null,null,null,null,null,null,null,null,null,null,null,null,{"$f":"IF(H1179=\"\",\"-\",VLOOKUP(J1179,読み替え表_低炭素物流!$C$4:$F$12,4,0))","v":"-"},{"$f":"IF(H1179=\"\",\"-\",VLOOKUP(L1179,読み替え表_低炭素物流!$C$15:$F$21,4,0))","v":"-"},"-",null,null,null,null,0,0,0,0,0,"*"]
[null,null,1172,null,null,null,null,null,null,null,null,null,null,null,null,null,null,null,null,null,null,null,null,null,null,{"$f":"IF(H1180=\"\",\"-\",VLOOKUP(J1180,読み替え表_低炭素物流!$C$4:$F$12,4,0))","v":"-"},{"$f":"IF(H1180=\"\",\"-\",VLOOKUP(L1180,読み替え表_低炭素物流!$C$15:$F$21,4,0))","v":"-"},"-",null,null,null,null,0,0,0,0,0,"*"]
[null,null,1173,null,null,null,null,null,null,null,null,null,null,null,null,null,null,null,null,null,null,null,null,null,null,{"$f":"IF(H1181=\"\",\"-\",VLOOKUP(J1181,読み替え表_低炭素物流!$C$4:$F$12,4,0))","v":"-"},{"$f":"IF(H1181=\"\",\"-\",VLOOKUP(L1181,読み替え表_低炭素物流!$C$15:$F$21,4,0))","v":"-"},"-",null,null,null,null,0,0,0,0,0,"*"]
[null,null,1174,null,null,null,null,null,null,null,null,null,null,null,null,null,null,null,null,null,null,null,null,null,null,{"$f":"IF(H1182=\"\",\"-\",VLOOKUP(J1182,読み替え表_低炭素物流!$C$4:$F$12,4,0))","v":"-"},{"$f":"IF(H1182=\"\",\"-\",VLOOKUP(L1182,読み替え表_低炭素物流!$C$15:$F$21,4,0))","v":"-"},"-",null,null,null,null,0,0,0,0,0,"*"]
[null,null,1175,null,null,null,null,null,null,null,null,null,null,null,null,null,null,null,null,null,null,null,null,null,null,{"$f":"IF(H1183=\"\",\"-\",VLOOKUP(J1183,読み替え表_低炭素物流!$C$4:$F$12,4,0))","v":"-"},{"$f":"IF(H1183=\"\",\"-\",VLOOKUP(L1183,読み替え表_低炭素物流!$C$15:$F$21,4,0))","v":"-"},"-",null,null,null,null,0,0,0,0,0,"*"]
[null,null,1176,null,null,null,null,null,null,null,null,null,null,null,null,null,null,null,null,null,null,null,null,null,null,{"$f":"IF(H1184=\"\",\"-\",VLOOKUP(J1184,読み替え表_低炭素物流!$C$4:$F$12,4,0))","v":"-"},{"$f":"IF(H1184=\"\",\"-\",VLOOKUP(L1184,読み替え表_低炭素物流!$C$15:$F$21,4,0))","v":"-"},"-",null,null,null,null,0,0,0,0,0,"*"]
[null,null,1177,null,null,null,null,null,null,null,null,null,null,null,null,null,null,null,null,null,null,null,null,null,null,{"$f":"IF(H1185=\"\",\"-\",VLOOKUP(J1185,読み替え表_低炭素物流!$C$4:$F$12,4,0))","v":"-"},{"$f":"IF(H1185=\"\",\"-\",VLOOKUP(L1185,読み替え表_低炭素物流!$C$15:$F$21,4,0))","v":"-"},"-",null,null,null,null,0,0,0,0,0,"*"]
[null,null,1178,null,null,null,null,null,null,null,null,null,null,null,null,null,null,null,null,null,null,null,null,null,null,{"$f":"IF(H1186=\"\",\"-\",VLOOKUP(J1186,読み替え表_低炭素物流!$C$4:$F$12,4,0))","v":"-"},{"$f":"IF(H1186=\"\",\"-\",VLOOKUP(L1186,読み替え表_低炭素物流!$C$15:$F$21,4,0))","v":"-"},"-",null,null,null,null,0,0,0,0,0,"*"]
[null,null,1179,null,null,null,null,null,null,null,null,null,null,null,null,null,null,null,null,null,null,null,null,null,null,{"$f":"IF(H1187=\"\",\"-\",VLOOKUP(J1187,読み替え表_低炭素物流!$C$4:$F$12,4,0))","v":"-"},{"$f":"IF(H1187=\"\",\"-\",VLOOKUP(L1187,読み替え表_低炭素物流!$C$15:$F$21,4,0))","v":"-"},"-",null,null,null,null,0,0,0,0,0,"*"]
[null,null,1180,null,null,null,null,null,null,null,null,null,null,null,null,null,null,null,null,null,null,null,null,null,null,{"$f":"IF(H1188=\"\",\"-\",VLOOKUP(J1188,読み替え表_低炭素物流!$C$4:$F$12,4,0))","v":"-"},{"$f":"IF(H1188=\"\",\"-\",VLOOKUP(L1188,読み替え表_低炭素物流!$C$15:$F$21,4,0))","v":"-"},"-",null,null,null,null,0,0,0,0,0,"*"]
[null,null,1181,null,null,null,null,null,null,null,null,null,null,null,null,null,null,null,null,null,null,null,null,null,null,{"$f":"IF(H1189=\"\",\"-\",VLOOKUP(J1189,読み替え表_低炭素物流!$C$4:$F$12,4,0))","v":"-"},{"$f":"IF(H1189=\"\",\"-\",VLOOKUP(L1189,読み替え表_低炭素物流!$C$15:$F$21,4,0))","v":"-"},"-",null,null,null,null,0,0,0,0,0,"*"]
[null,null,1182,null,null,null,null,null,null,null,null,null,null,null,null,null,null,null,null,null,null,null,null,null,null,{"$f":"IF(H1190=\"\",\"-\",VLOOKUP(J1190,読み替え表_低炭素物流!$C$4:$F$12,4,0))","v":"-"},{"$f":"IF(H1190=\"\",\"-\",VLOOKUP(L1190,読み替え表_低炭素物流!$C$15:$F$21,4,0))","v":"-"},"-",null,null,null,null,0,0,0,0,0,"*"]
[null,null,1183,null,null,null,null,null,null,null,null,null,null,null,null,null,null,null,null,null,null,null,null,null,null,{"$f":"IF(H1191=\"\",\"-\",VLOOKUP(J1191,読み替え表_低炭素物流!$C$4:$F$12,4,0))","v":"-"},{"$f":"IF(H1191=\"\",\"-\",VLOOKUP(L1191,読み替え表_低炭素物流!$C$15:$F$21,4,0))","v":"-"},"-",null,null,null,null,0,0,0,0,0,"*"]
[null,null,1184,null,null,null,null,null,null,null,null,null,null,null,null,null,null,null,null,null,null,null,null,null,null,{"$f":"IF(H1192=\"\",\"-\",VLOOKUP(J1192,読み替え表_低炭素物流!$C$4:$F$12,4,0))","v":"-"},{"$f":"IF(H1192=\"\",\"-\",VLOOKUP(L1192,読み替え表_低炭素物流!$C$15:$F$21,4,0))","v":"-"},"-",null,null,null,null,0,0,0,0,0,"*"]
[null,null,1185,null,null,null,null,null,null,null,null,null,null,null,null,null,null,null,null,null,null,null,null,null,null,{"$f":"IF(H1193=\"\",\"-\",VLOOKUP(J1193,読み替え表_低炭素物流!$C$4:$F$12,4,0))","v":"-"},{"$f":"IF(H1193=\"\",\"-\",VLOOKUP(L1193,読み替え表_低炭素物流!$C$15:$F$21,4,0))","v":"-"},"-",null,null,null,null,0,0,0,0,0,"*"]
[null,null,1186,null,null,null,null,null,null,null,null,null,null,null,null,null,null,null,null,null,null,null,null,null,null,{"$f":"IF(H1194=\"\",\"-\",VLOOKUP(J1194,読み替え表_低炭素物流!$C$4:$F$12,4,0))","v":"-"},{"$f":"IF(H1194=\"\",\"-\",VLOOKUP(L1194,読み替え表_低炭素物流!$C$15:$F$21,4,0))","v":"-"},"-",null,null,null,null,0,0,0,0,0,"*"]
[null,null,1187,null,null,null,null,null,null,null,null,null,null,null,null,null,null,null,null,null,null,null,null,null,null,{"$f":"IF(H1195=\"\",\"-\",VLOOKUP(J1195,読み替え表_低炭素物流!$C$4:$F$12,4,0))","v":"-"},{"$f":"IF(H1195=\"\",\"-\",VLOOKUP(L1195,読み替え表_低炭素物流!$C$15:$F$21,4,0))","v":"-"},"-",null,null,null,null,0,0,0,0,0,"*"]
[null,null,1188,null,null,null,null,null,null,null,null,null,null,null,null,null,null,null,null,null,null,null,null,null,null,{"$f":"IF(H1196=\"\",\"-\",VLOOKUP(J1196,読み替え表_低炭素物流!$C$4:$F$12,4,0))","v":"-"},{"$f":"IF(H1196=\"\",\"-\",VLOOKUP(L1196,読み替え表_低炭素物流!$C$15:$F$21,4,0))","v":"-"},"-",null,null,null,null,0,0,0,0,0,"*"]
[null,null,1189,null,null,null,null,null,null,null,null,null,null,null,null,null,null,null,null,null,null,null,null,null,null,{"$f":"IF(H1197=\"\",\"-\",VLOOKUP(J1197,読み替え表_低炭素物流!$C$4:$F$12,4,0))","v":"-"},{"$f":"IF(H1197=\"\",\"-\",VLOOKUP(L1197,読み替え表_低炭素物流!$C$15:$F$21,4,0))","v":"-"},"-",null,null,null,null,0,0,0,0,0,"*"]
[null,null,1190,null,null,null,null,null,null,null,null,null,null,null,null,null,null,null,null,null,null,null,null,null,null,{"$f":"IF(H1198=\"\",\"-\",VLOOKUP(J1198,読み替え表_低炭素物流!$C$4:$F$12,4,0))","v":"-"},{"$f":"IF(H1198=\"\",\"-\",VLOOKUP(L1198,読み替え表_低炭素物流!$C$15:$F$21,4,0))","v":"-"},"-",null,null,null,null,0,0,0,0,0,"*"]
[null,null,1191,null,null,null,null,null,null,null,null,null,null,null,null,null,null,null,null,null,null,null,null,null,null,{"$f":"IF(H1199=\"\",\"-\",VLOOKUP(J1199,読み替え表_低炭素物流!$C$4:$F$12,4,0))","v":"-"},{"$f":"IF(H1199=\"\",\"-\",VLOOKUP(L1199,読み替え表_低炭素物流!$C$15:$F$21,4,0))","v":"-"},"-",null,null,null,null,0,0,0,0,0,"*"]
[null,null,1192,null,null,null,null,null,null,null,null,null,null,null,null,null,null,null,null,null,null,null,null,null,null,{"$f":"IF(H1200=\"\",\"-\",VLOOKUP(J1200,読み替え表_低炭素物流!$C$4:$F$12,4,0))","v":"-"},{"$f":"IF(H1200=\"\",\"-\",VLOOKUP(L1200,読み替え表_低炭素物流!$C$15:$F$21,4,0))","v":"-"},"-",null,null,null,null,0,0,0,0,0,"*"]
[null,null,1193,null,null,null,null,null,null,null,null,null,null,null,null,null,null,null,null,null,null,null,null,null,null,{"$f":"IF(H1201=\"\",\"-\",VLOOKUP(J1201,読み替え表_低炭素物流!$C$4:$F$12,4,0))","v":"-"},{"$f":"IF(H1201=\"\",\"-\",VLOOKUP(L1201,読み替え表_低炭素物流!$C$15:$F$21,4,0))","v":"-"},{"$f":"IF(H1201=\"\",\"-\",Z1201*AA1201)","v":"-"},null,null,null,null,0,{"$f":"IF(J1201=8,1,0)","v":0},{"$f":"IF(L1201=6,1,0)","v":0},0,0,"*"]
[null,null,1194,null,null,null,null,null,null,null,null,null,null,null,null,null,null,null,null,null,null,null,null,null,null,{"$f":"IF(H1202=\"\",\"-\",VLOOKUP(J1202,読み替え表_低炭素物流!$C$4:$F$12,4,0))","v":"-"},{"$f":"IF(H1202=\"\",\"-\",VLOOKUP(L1202,読み替え表_低炭素物流!$C$15:$F$21,4,0))","v":"-"},"-",null,null,null,null,0,0,0,0,0,"*"]
[null,null,1195,null,null,null,null,null,null,null,null,null,null,null,null,null,null,null,null,null,null,null,null,null,null,{"$f":"IF(H1203=\"\",\"-\",VLOOKUP(J1203,読み替え表_低炭素物流!$C$4:$F$12,4,0))","v":"-"},{"$f":"IF(H1203=\"\",\"-\",VLOOKUP(L1203,読み替え表_低炭素物流!$C$15:$F$21,4,0))","v":"-"},"-",null,null,null,null,0,0,0,0,0,"*"]
[null,null,1196,null,null,null,null,null,null,null,null,null,null,null,null,null,null,null,null,null,null,null,null,null,null,{"$f":"IF(H1204=\"\",\"-\",VLOOKUP(J1204,読み替え表_低炭素物流!$C$4:$F$12,4,0))","v":"-"},{"$f":"IF(H1204=\"\",\"-\",VLOOKUP(L1204,読み替え表_低炭素物流!$C$15:$F$21,4,0))","v":"-"},"-",null,null,null,null,0,0,0,0,0,"*"]
[null,null,1197,null,null,null,null,null,null,null,null,null,null,null,null,null,null,null,null,null,null,null,null,null,null,{"$f":"IF(H1205=\"\",\"-\",VLOOKUP(J1205,読み替え表_低炭素物流!$C$4:$F$12,4,0))","v":"-"},{"$f":"IF(H1205=\"\",\"-\",VLOOKUP(L1205,読み替え表_低炭素物流!$C$15:$F$21,4,0))","v":"-"},"-",null,null,null,null,0,0,0,0,0,"*"]
[null,null,1198,null,null,null,null,null,null,null,null,null,null,null,null,null,null,null,null,null,null,null,null,null,null,{"$f":"IF(H1206=\"\",\"-\",VLOOKUP(J1206,読み替え表_低炭素物流!$C$4:$F$12,4,0))","v":"-"},{"$f":"IF(H1206=\"\",\"-\",VLOOKUP(L1206,読み替え表_低炭素物流!$C$15:$F$21,4,0))","v":"-"},"-",null,null,null,null,0,0,0,0,0,"*"]
[null,null,1199,null,null,null,null,null,null,null,null,null,null,null,null,null,null,null,null,null,null,null,null,null,null,{"$f":"IF(H1207=\"\",\"-\",VLOOKUP(J1207,読み替え表_低炭素物流!$C$4:$F$12,4,0))","v":"-"},{"$f":"IF(H1207=\"\",\"-\",VLOOKUP(L1207,読み替え表_低炭素物流!$C$15:$F$21,4,0))","v":"-"},"-",null,null,null,null,0,0,0,0,0,"*"]
[null,null,1200,null,null,null,null,null,null,null,null,null,null,null,null,null,null,null,null,null,null,null,null,null,null,{"$f":"IF(H1208=\"\",\"-\",VLOOKUP(J1208,読み替え表_低炭素物流!$C$4:$F$12,4,0))","v":"-"},{"$f":"IF(H1208=\"\",\"-\",VLOOKUP(L1208,読み替え表_低炭素物流!$C$15:$F$21,4,0))","v":"-"},"-",null,null,null,null,0,0,0,0,0,"*"]
[null,null,1201,null,null,null,null,null,null,null,null,null,null,null,null,null,null,null,null,null,null,null,null,null,null,{"$f":"IF(H1209=\"\",\"-\",VLOOKUP(J1209,読み替え表_低炭素物流!$C$4:$F$12,4,0))","v":"-"},{"$f":"IF(H1209=\"\",\"-\",VLOOKUP(L1209,読み替え表_低炭素物流!$C$15:$F$21,4,0))","v":"-"},"-",null,null,null,null,0,0,0,0,0,"*"]
[null,null,1202,null,null,null,null,null,null,null,null,null,null,null,null,null,null,null,null,null,null,null,null,null,null,{"$f":"IF(H1210=\"\",\"-\",VLOOKUP(J1210,読み替え表_低炭素物流!$C$4:$F$12,4,0))","v":"-"},{"$f":"IF(H1210=\"\",\"-\",VLOOKUP(L1210,読み替え表_低炭素物流!$C$15:$F$21,4,0))","v":"-"},"-",null,null,null,null,0,0,0,0,0,"*"]
[null,null,1203,null,null,null,null,null,null,null,null,null,null,null,null,null,null,null,null,null,null,null,null,null,null,{"$f":"IF(H1211=\"\",\"-\",VLOOKUP(J1211,読み替え表_低炭素物流!$C$4:$F$12,4,0))","v":"-"},{"$f":"IF(H1211=\"\",\"-\",VLOOKUP(L1211,読み替え表_低炭素物流!$C$15:$F$21,4,0))","v":"-"},"-",null,null,null,null,0,0,0,0,0,"*"]
[null,null,1204,null,null,null,null,null,null,null,null,null,null,null,null,null,null,null,null,null,null,null,null,null,null,{"$f":"IF(H1212=\"\",\"-\",VLOOKUP(J1212,読み替え表_低炭素物流!$C$4:$F$12,4,0))","v":"-"},{"$f":"IF(H1212=\"\",\"-\",VLOOKUP(L1212,読み替え表_低炭素物流!$C$15:$F$21,4,0))","v":"-"},"-",null,null,null,null,0,0,0,0,0,"*"]
[null,null,1205,null,null,null,null,null,null,null,null,null,null,null,null,null,null,null,null,null,null,null,null,null,null,{"$f":"IF(H1213=\"\",\"-\",VLOOKUP(J1213,読み替え表_低炭素物流!$C$4:$F$12,4,0))","v":"-"},{"$f":"IF(H1213=\"\",\"-\",VLOOKUP(L1213,読み替え表_低炭素物流!$C$15:$F$21,4,0))","v":"-"},"-",null,null,null,null,0,0,0,0,0,"*"]
[null,null,1206,null,null,null,null,null,null,null,null,null,null,null,null,null,null,null,null,null,null,null,null,null,null,{"$f":"IF(H1214=\"\",\"-\",VLOOKUP(J1214,読み替え表_低炭素物流!$C$4:$F$12,4,0))","v":"-"},{"$f":"IF(H1214=\"\",\"-\",VLOOKUP(L1214,読み替え表_低炭素物流!$C$15:$F$21,4,0))","v":"-"},"-",null,null,null,null,0,0,0,0,0,"*"]
[null,null,1207,null,null,null,null,null,null,null,null,null,null,null,null,null,null,null,null,null,null,null,null,null,null,{"$f":"IF(H1215=\"\",\"-\",VLOOKUP(J1215,読み替え表_低炭素物流!$C$4:$F$12,4,0))","v":"-"},{"$f":"IF(H1215=\"\",\"-\",VLOOKUP(L1215,読み替え表_低炭素物流!$C$15:$F$21,4,0))","v":"-"},"-",null,null,null,null,0,0,0,0,0,"*"]
[null,null,1208,null,null,null,null,null,null,null,null,null,null,null,null,null,null,null,null,null,null,null,null,null,null,{"$f":"IF(H1216=\"\",\"-\",VLOOKUP(J1216,読み替え表_低炭素物流!$C$4:$F$12,4,0))","v":"-"},{"$f":"IF(H1216=\"\",\"-\",VLOOKUP(L1216,読み替え表_低炭素物流!$C$15:$F$21,4,0))","v":"-"},"-",null,null,null,null,0,0,0,0,0,"*"]
[null,null,1209,null,null,null,null,null,null,null,null,null,null,null,null,null,null,null,null,null,null,null,null,null,null,{"$f":"IF(H1217=\"\",\"-\",VLOOKUP(J1217,読み替え表_低炭素物流!$C$4:$F$12,4,0))","v":"-"},{"$f":"IF(H1217=\"\",\"-\",VLOOKUP(L1217,読み替え表_低炭素物流!$C$15:$F$21,4,0))","v":"-"},"-",null,null,null,null,0,0,0,0,0,"*"]
[null,null,1210,null,null,null,null,null,null,null,null,null,null,null,null,null,null,null,null,null,null,null,null,null,null,{"$f":"IF(H1218=\"\",\"-\",VLOOKUP(J1218,読み替え表_低炭素物流!$C$4:$F$12,4,0))","v":"-"},{"$f":"IF(H1218=\"\",\"-\",VLOOKUP(L1218,読み替え表_低炭素物流!$C$15:$F$21,4,0))","v":"-"},"-",null,null,null,null,0,0,0,0,0,"*"]
[null,null,1211,null,null,null,null,null,null,null,null,null,null,null,null,null,null,null,null,null,null,null,null,null,null,{"$f":"IF(H1219=\"\",\"-\",VLOOKUP(J1219,読み替え表_低炭素物流!$C$4:$F$12,4,0))","v":"-"},{"$f":"IF(H1219=\"\",\"-\",VLOOKUP(L1219,読み替え表_低炭素物流!$C$15:$F$21,4,0))","v":"-"},"-",null,null,null,null,0,0,0,0,0,"*"]
[null,null,1212,null,null,null,null,null,null,null,null,null,null,null,null,null,null,null,null,null,null,null,null,null,null,{"$f":"IF(H1220=\"\",\"-\",VLOOKUP(J1220,読み替え表_低炭素物流!$C$4:$F$12,4,0))","v":"-"},{"$f":"IF(H1220=\"\",\"-\",VLOOKUP(L1220,読み替え表_低炭素物流!$C$15:$F$21,4,0))","v":"-"},"-",null,null,null,null,0,0,0,0,0,"*"]
[null,null,1213,null,null,null,null,null,null,null,null,null,null,null,null,null,null,null,null,null,null,null,null,null,null,{"$f":"IF(H1221=\"\",\"-\",VLOOKUP(J1221,読み替え表_低炭素物流!$C$4:$F$12,4,0))","v":"-"},{"$f":"IF(H1221=\"\",\"-\",VLOOKUP(L1221,読み替え表_低炭素物流!$C$15:$F$21,4,0))","v":"-"},"-",null,null,null,null,0,0,0,0,0,"*"]
[null,null,1214,null,null,null,null,null,null,null,null,null,null,null,null,null,null,null,null,null,null,null,null,null,null,{"$f":"IF(H1222=\"\",\"-\",VLOOKUP(J1222,読み替え表_低炭素物流!$C$4:$F$12,4,0))","v":"-"},{"$f":"IF(H1222=\"\",\"-\",VLOOKUP(L1222,読み替え表_低炭素物流!$C$15:$F$21,4,0))","v":"-"},"-",null,null,null,null,0,0,0,0,0,"*"]
[null,null,1215,null,null,null,null,null,null,null,null,null,null,null,null,null,null,null,null,null,null,null,null,null,null,{"$f":"IF(H1223=\"\",\"-\",VLOOKUP(J1223,読み替え表_低炭素物流!$C$4:$F$12,4,0))","v":"-"},{"$f":"IF(H1223=\"\",\"-\",VLOOKUP(L1223,読み替え表_低炭素物流!$C$15:$F$21,4,0))","v":"-"},"-",null,null,null,null,0,0,0,0,0,"*"]
[null,null,1216,null,null,null,null,null,null,null,null,null,null,null,null,null,null,null,null,null,null,null,null,null,null,{"$f":"IF(H1224=\"\",\"-\",VLOOKUP(J1224,読み替え表_低炭素物流!$C$4:$F$12,4,0))","v":"-"},{"$f":"IF(H1224=\"\",\"-\",VLOOKUP(L1224,読み替え表_低炭素物流!$C$15:$F$21,4,0))","v":"-"},"-",null,null,null,null,0,0,0,0,0,"*"]
[null,null,1217,null,null,null,null,null,null,null,null,null,null,null,null,null,null,null,null,null,null,null,null,null,null,{"$f":"IF(H1225=\"\",\"-\",VLOOKUP(J1225,読み替え表_低炭素物流!$C$4:$F$12,4,0))","v":"-"},{"$f":"IF(H1225=\"\",\"-\",VLOOKUP(L1225,読み替え表_低炭素物流!$C$15:$F$21,4,0))","v":"-"},"-",null,null,null,null,{"$f":"IF(N1225=1,IF(OR(L1225=4,L1225=5),0,1),0)","v":0},0,0,0,0,"*"]
[null,null,{"$f":"ROW()-8","v":1218},null,null,null,null,null,null,null,null,null,null,null,null,null,null,null,null,null,null,null,null,null,null,{"$f":"IF(H1226=\"\",\"-\",VLOOKUP(J1226,読み替え表_低炭素物流!$C$4:$F$12,4,0))","v":"-"},{"$f":"IF(H1226=\"\",\"-\",VLOOKUP(L1226,読み替え表_低炭素物流!$C$15:$F$21,4,0))","v":"-"},"-",null,null,null,null,0,0,0,0,{"$f":"AG1226","v":0},"*"]
[null,null,1219,null,null,null,null,null,null,null,null,null,null,null,null,null,null,null,null,null,null,null,null,null,null,{"$f":"IF(H1227=\"\",\"-\",VLOOKUP(J1227,読み替え表_低炭素物流!$C$4:$F$12,4,0))","v":"-"},{"$f":"IF(H1227=\"\",\"-\",VLOOKUP(L1227,読み替え表_低炭素物流!$C$15:$F$21,4,0))","v":"-"},"-",null,null,null,null,0,0,0,0,0,"*"]
[null,null,1220,null,null,null,null,null,null,null,null,null,null,null,null,null,null,null,null,null,null,null,null,null,null,{"$f":"IF(H1228=\"\",\"-\",VLOOKUP(J1228,読み替え表_低炭素物流!$C$4:$F$12,4,0))","v":"-"},{"$f":"IF(H1228=\"\",\"-\",VLOOKUP(L1228,読み替え表_低炭素物流!$C$15:$F$21,4,0))","v":"-"},"-",null,null,null,null,0,0,0,0,0,"*"]
[null,null,1221,null,null,null,null,null,null,null,null,null,null,null,null,null,null,null,null,null,null,null,null,null,null,{"$f":"IF(H1229=\"\",\"-\",VLOOKUP(J1229,読み替え表_低炭素物流!$C$4:$F$12,4,0))","v":"-"},{"$f":"IF(H1229=\"\",\"-\",VLOOKUP(L1229,読み替え表_低炭素物流!$C$15:$F$21,4,0))","v":"-"},"-",null,null,null,null,0,0,0,0,0,"*"]
[null,null,1222,null,null,null,null,null,null,null,null,null,null,null,null,null,null,null,null,null,null,null,null,null,null,{"$f":"IF(H1230=\"\",\"-\",VLOOKUP(J1230,読み替え表_低炭素物流!$C$4:$F$12,4,0))","v":"-"},{"$f":"IF(H1230=\"\",\"-\",VLOOKUP(L1230,読み替え表_低炭素物流!$C$15:$F$21,4,0))","v":"-"},"-",null,null,null,null,0,0,0,0,0,"*"]
[null,null,1223,null,null,null,null,null,null,null,null,null,null,null,null,null,null,null,null,null,null,null,null,null,null,{"$f":"IF(H1231=\"\",\"-\",VLOOKUP(J1231,読み替え表_低炭素物流!$C$4:$F$12,4,0))","v":"-"},{"$f":"IF(H1231=\"\",\"-\",VLOOKUP(L1231,読み替え表_低炭素物流!$C$15:$F$21,4,0))","v":"-"},"-",null,null,null,null,0,0,0,0,0,"*"]
[null,null,1224,null,null,null,null,null,null,null,null,null,null,null,null,null,null,null,null,null,null,null,null,null,null,{"$f":"IF(H1232=\"\",\"-\",VLOOKUP(J1232,読み替え表_低炭素物流!$C$4:$F$12,4,0))","v":"-"},{"$f":"IF(H1232=\"\",\"-\",VLOOKUP(L1232,読み替え表_低炭素物流!$C$15:$F$21,4,0))","v":"-"},"-",null,null,null,null,0,0,0,0,0,"*"]
[null,null,1225,null,null,null,null,null,null,null,null,null,null,null,null,null,null,null,null,null,null,null,null,null,null,{"$f":"IF(H1233=\"\",\"-\",VLOOKUP(J1233,読み替え表_低炭素物流!$C$4:$F$12,4,0))","v":"-"},{"$f":"IF(H1233=\"\",\"-\",VLOOKUP(L1233,読み替え表_低炭素物流!$C$15:$F$21,4,0))","v":"-"},"-",null,null,null,null,0,0,0,0,0,"*"]
[null,null,1226,null,null,null,null,null,null,null,null,null,null,null,null,null,null,null,null,null,null,null,null,null,null,{"$f":"IF(H1234=\"\",\"-\",VLOOKUP(J1234,読み替え表_低炭素物流!$C$4:$F$12,4,0))","v":"-"},{"$f":"IF(H1234=\"\",\"-\",VLOOKUP(L1234,読み替え表_低炭素物流!$C$15:$F$21,4,0))","v":"-"},"-",null,null,null,null,0,0,0,0,0,"*"]
[null,null,1227,null,null,null,null,null,null,null,null,null,null,null,null,null,null,null,null,null,null,null,null,null,null,{"$f":"IF(H1235=\"\",\"-\",VLOOKUP(J1235,読み替え表_低炭素物流!$C$4:$F$12,4,0))","v":"-"},{"$f":"IF(H1235=\"\",\"-\",VLOOKUP(L1235,読み替え表_低炭素物流!$C$15:$F$21,4,0))","v":"-"},"-",null,null,null,null,0,0,0,0,0,"*"]
[null,null,1228,null,null,null,null,null,null,null,null,null,null,null,null,null,null,null,null,null,null,null,null,null,null,{"$f":"IF(H1236=\"\",\"-\",VLOOKUP(J1236,読み替え表_低炭素物流!$C$4:$F$12,4,0))","v":"-"},{"$f":"IF(H1236=\"\",\"-\",VLOOKUP(L1236,読み替え表_低炭素物流!$C$15:$F$21,4,0))","v":"-"},"-",null,null,null,null,0,0,0,0,0,"*"]
[null,null,1229,null,null,null,null,null,null,null,null,null,null,null,null,null,null,null,null,null,null,null,null,null,null,{"$f":"IF(H1237=\"\",\"-\",VLOOKUP(J1237,読み替え表_低炭素物流!$C$4:$F$12,4,0))","v":"-"},{"$f":"IF(H1237=\"\",\"-\",VLOOKUP(L1237,読み替え表_低炭素物流!$C$15:$F$21,4,0))","v":"-"},"-",null,null,null,null,0,0,0,0,0,"*"]
[null,null,1230,null,null,null,null,null,null,null,null,null,null,null,null,null,null,null,null,null,null,null,null,null,null,{"$f":"IF(H1238=\"\",\"-\",VLOOKUP(J1238,読み替え表_低炭素物流!$C$4:$F$12,4,0))","v":"-"},{"$f":"IF(H1238=\"\",\"-\",VLOOKUP(L1238,読み替え表_低炭素物流!$C$15:$F$21,4,0))","v":"-"},"-",null,null,null,null,0,0,0,0,0,"*"]
[null,null,1231,null,null,null,null,null,null,null,null,null,null,null,null,null,null,null,null,null,null,null,null,null,null,{"$f":"IF(H1239=\"\",\"-\",VLOOKUP(J1239,読み替え表_低炭素物流!$C$4:$F$12,4,0))","v":"-"},{"$f":"IF(H1239=\"\",\"-\",VLOOKUP(L1239,読み替え表_低炭素物流!$C$15:$F$21,4,0))","v":"-"},"-",null,null,null,null,0,0,0,0,0,"*"]
[null,null,1232,null,null,null,null,null,null,null,null,null,null,null,null,null,null,null,null,null,null,null,null,null,null,{"$f":"IF(H1240=\"\",\"-\",VLOOKUP(J1240,読み替え表_低炭素物流!$C$4:$F$12,4,0))","v":"-"},{"$f":"IF(H1240=\"\",\"-\",VLOOKUP(L1240,読み替え表_低炭素物流!$C$15:$F$21,4,0))","v":"-"},"-",null,null,null,null,0,0,0,{"$f":"IF(OR(N1240=7,N1240=99),1,0)","v":0},0,"*"]
[null,null,1233,null,null,null,null,null,null,null,null,null,null,null,null,null,null,null,null,null,null,null,null,null,null,{"$f":"IF(H1241=\"\",\"-\",VLOOKUP(J1241,読み替え表_低炭素物流!$C$4:$F$12,4,0))","v":"-"},{"$f":"IF(H1241=\"\",\"-\",VLOOKUP(L1241,読み替え表_低炭素物流!$C$15:$F$21,4,0))","v":"-"},"-",null,null,null,null,0,0,0,0,0,"*"]
[null,null,1234,null,null,null,null,null,null,null,null,null,null,null,null,null,null,null,null,null,null,null,null,null,null,{"$f":"IF(H1242=\"\",\"-\",VLOOKUP(J1242,読み替え表_低炭素物流!$C$4:$F$12,4,0))","v":"-"},{"$f":"IF(H1242=\"\",\"-\",VLOOKUP(L1242,読み替え表_低炭素物流!$C$15:$F$21,4,0))","v":"-"},"-",null,null,null,null,0,0,0,0,0,"*"]
[null,null,1235,null,null,null,null,null,null,null,null,null,null,null,null,null,null,null,null,null,null,null,null,null,null,{"$f":"IF(H1243=\"\",\"-\",VLOOKUP(J1243,読み替え表_低炭素物流!$C$4:$F$12,4,0))","v":"-"},{"$f":"IF(H1243=\"\",\"-\",VLOOKUP(L1243,読み替え表_低炭素物流!$C$15:$F$21,4,0))","v":"-"},"-",null,null,null,null,0,0,0,0,0,"*"]
[null,null,1236,null,null,null,null,null,null,null,null,null,null,null,null,null,null,null,null,null,null,null,null,null,null,{"$f":"IF(H1244=\"\",\"-\",VLOOKUP(J1244,読み替え表_低炭素物流!$C$4:$F$12,4,0))","v":"-"},{"$f":"IF(H1244=\"\",\"-\",VLOOKUP(L1244,読み替え表_低炭素物流!$C$15:$F$21,4,0))","v":"-"},"-",null,null,null,null,0,0,0,0,0,"*"]
[null,null,1237,null,null,null,null,null,null,null,null,null,null,null,null,null,null,null,null,null,null,null,null,null,null,{"$f":"IF(H1245=\"\",\"-\",VLOOKUP(J1245,読み替え表_低炭素物流!$C$4:$F$12,4,0))","v":"-"},{"$f":"IF(H1245=\"\",\"-\",VLOOKUP(L1245,読み替え表_低炭素物流!$C$15:$F$21,4,0))","v":"-"},"-",null,null,null,null,0,0,0,0,0,"*"]
[null,null,1238,null,null,null,null,null,null,null,null,null,null,null,null,null,null,null,null,null,null,null,null,null,null,{"$f":"IF(H1246=\"\",\"-\",VLOOKUP(J1246,読み替え表_低炭素物流!$C$4:$F$12,4,0))","v":"-"},{"$f":"IF(H1246=\"\",\"-\",VLOOKUP(L1246,読み替え表_低炭素物流!$C$15:$F$21,4,0))","v":"-"},"-",null,null,null,null,0,0,0,0,0,"*"]
[null,null,1239,null,null,null,null,null,null,null,null,null,null,null,null,null,null,null,null,null,null,null,null,null,null,{"$f":"IF(H1247=\"\",\"-\",VLOOKUP(J1247,読み替え表_低炭素物流!$C$4:$F$12,4,0))","v":"-"},{"$f":"IF(H1247=\"\",\"-\",VLOOKUP(L1247,読み替え表_低炭素物流!$C$15:$F$21,4,0))","v":"-"},"-",null,null,null,null,0,0,0,0,0,"*"]
[null,null,1240,null,null,null,null,null,null,null,null,null,null,null,null,null,null,null,null,null,null,null,null,null,null,{"$f":"IF(H1248=\"\",\"-\",VLOOKUP(J1248,読み替え表_低炭素物流!$C$4:$F$12,4,0))","v":"-"},{"$f":"IF(H1248=\"\",\"-\",VLOOKUP(L1248,読み替え表_低炭素物流!$C$15:$F$21,4,0))","v":"-"},"-",null,null,null,null,0,0,0,0,0,"*"]
[null,null,1241,null,null,null,null,null,null,null,null,null,null,null,null,null,null,null,null,null,null,null,null,null,null,{"$f":"IF(H1249=\"\",\"-\",VLOOKUP(J1249,読み替え表_低炭素物流!$C$4:$F$12,4,0))","v":"-"},{"$f":"IF(H1249=\"\",\"-\",VLOOKUP(L1249,読み替え表_低炭素物流!$C$15:$F$21,4,0))","v":"-"},"-",null,null,null,null,0,0,0,0,0,"*"]
[null,null,1242,null,null,null,null,null,null,null,null,null,null,null,null,null,null,null,null,null,null,null,null,null,null,{"$f":"IF(H1250=\"\",\"-\",VLOOKUP(J1250,読み替え表_低炭素物流!$C$4:$F$12,4,0))","v":"-"},{"$f":"IF(H1250=\"\",\"-\",VLOOKUP(L1250,読み替え表_低炭素物流!$C$15:$F$21,4,0))","v":"-"},"-",null,null,null,null,0,0,0,0,0,"*"]
[null,null,1243,null,null,null,null,null,null,null,null,null,null,null,null,null,null,null,null,null,null,null,null,null,null,{"$f":"IF(H1251=\"\",\"-\",VLOOKUP(J1251,読み替え表_低炭素物流!$C$4:$F$12,4,0))","v":"-"},{"$f":"IF(H1251=\"\",\"-\",VLOOKUP(L1251,読み替え表_低炭素物流!$C$15:$F$21,4,0))","v":"-"},"-",null,null,null,null,0,0,0,0,0,"*"]
[null,null,1244,null,null,null,null,null,null,null,null,null,null,null,null,null,null,null,null,null,null,null,null,null,null,{"$f":"IF(H1252=\"\",\"-\",VLOOKUP(J1252,読み替え表_低炭素物流!$C$4:$F$12,4,0))","v":"-"},{"$f":"IF(H1252=\"\",\"-\",VLOOKUP(L1252,読み替え表_低炭素物流!$C$15:$F$21,4,0))","v":"-"},"-",null,null,null,null,0,0,0,0,0,"*"]
[null,null,1245,null,null,null,null,null,null,null,null,null,null,null,null,null,null,null,null,null,null,null,null,null,null,{"$f":"IF(H1253=\"\",\"-\",VLOOKUP(J1253,読み替え表_低炭素物流!$C$4:$F$12,4,0))","v":"-"},{"$f":"IF(H1253=\"\",\"-\",VLOOKUP(L1253,読み替え表_低炭素物流!$C$15:$F$21,4,0))","v":"-"},"-",null,null,null,null,0,0,0,0,0,"*"]
[null,null,1246,null,null,null,null,null,null,null,null,null,null,null,null,null,null,null,null,null,null,null,null,null,null,{"$f":"IF(H1254=\"\",\"-\",VLOOKUP(J1254,読み替え表_低炭素物流!$C$4:$F$12,4,0))","v":"-"},{"$f":"IF(H1254=\"\",\"-\",VLOOKUP(L1254,読み替え表_低炭素物流!$C$15:$F$21,4,0))","v":"-"},"-",null,null,null,null,0,0,0,0,0,"*"]
[null,null,1247,null,null,null,null,null,null,null,null,null,null,null,null,null,null,null,null,null,null,null,null,null,null,{"$f":"IF(H1255=\"\",\"-\",VLOOKUP(J1255,読み替え表_低炭素物流!$C$4:$F$12,4,0))","v":"-"},{"$f":"IF(H1255=\"\",\"-\",VLOOKUP(L1255,読み替え表_低炭素物流!$C$15:$F$21,4,0))","v":"-"},"-",null,null,null,null,0,0,0,0,0,"*"]
[null,null,1248,null,null,null,null,null,null,null,null,null,null,null,null,null,null,null,null,null,null,null,null,null,null,{"$f":"IF(H1256=\"\",\"-\",VLOOKUP(J1256,読み替え表_低炭素物流!$C$4:$F$12,4,0))","v":"-"},{"$f":"IF(H1256=\"\",\"-\",VLOOKUP(L1256,読み替え表_低炭素物流!$C$15:$F$21,4,0))","v":"-"},"-",null,null,null,null,0,0,0,0,0,"*"]
[null,null,1249,null,null,null,null,null,null,null,null,null,null,null,null,null,null,null,null,null,null,null,null,null,null,{"$f":"IF(H1257=\"\",\"-\",VLOOKUP(J1257,読み替え表_低炭素物流!$C$4:$F$12,4,0))","v":"-"},{"$f":"IF(H1257=\"\",\"-\",VLOOKUP(L1257,読み替え表_低炭素物流!$C$15:$F$21,4,0))","v":"-"},"-",null,null,null,null,0,0,0,0,0,"*"]
[null,null,1250,null,null,null,null,null,null,null,null,null,null,null,null,null,null,null,null,null,null,null,null,null,null,{"$f":"IF(H1258=\"\",\"-\",VLOOKUP(J1258,読み替え表_低炭素物流!$C$4:$F$12,4,0))","v":"-"},{"$f":"IF(H1258=\"\",\"-\",VLOOKUP(L1258,読み替え表_低炭素物流!$C$15:$F$21,4,0))","v":"-"},"-",null,null,null,null,0,0,0,0,0,"*"]
[null,null,1251,null,null,null,null,null,null,null,null,null,null,null,null,null,null,null,null,null,null,null,null,null,null,{"$f":"IF(H1259=\"\",\"-\",VLOOKUP(J1259,読み替え表_低炭素物流!$C$4:$F$12,4,0))","v":"-"},{"$f":"IF(H1259=\"\",\"-\",VLOOKUP(L1259,読み替え表_低炭素物流!$C$15:$F$21,4,0))","v":"-"},"-",null,null,null,null,0,0,0,0,0,"*"]
[null,null,1252,null,null,null,null,null,null,null,null,null,null,null,null,null,null,null,null,null,null,null,null,null,null,{"$f":"IF(H1260=\"\",\"-\",VLOOKUP(J1260,読み替え表_低炭素物流!$C$4:$F$12,4,0))","v":"-"},{"$f":"IF(H1260=\"\",\"-\",VLOOKUP(L1260,読み替え表_低炭素物流!$C$15:$F$21,4,0))","v":"-"},"-",null,null,null,null,0,0,0,0,0,"*"]
[null,null,1253,null,null,null,null,null,null,null,null,null,null,null,null,null,null,null,null,null,null,null,null,null,null,{"$f":"IF(H1261=\"\",\"-\",VLOOKUP(J1261,読み替え表_低炭素物流!$C$4:$F$12,4,0))","v":"-"},{"$f":"IF(H1261=\"\",\"-\",VLOOKUP(L1261,読み替え表_低炭素物流!$C$15:$F$21,4,0))","v":"-"},"-",null,null,null,null,0,0,0,0,0,"*"]
[null,null,1254,null,null,null,null,null,null,null,null,null,null,null,null,null,null,null,null,null,null,null,null,null,null,{"$f":"IF(H1262=\"\",\"-\",VLOOKUP(J1262,読み替え表_低炭素物流!$C$4:$F$12,4,0))","v":"-"},{"$f":"IF(H1262=\"\",\"-\",VLOOKUP(L1262,読み替え表_低炭素物流!$C$15:$F$21,4,0))","v":"-"},"-",null,null,null,null,0,0,0,0,0,"*"]
[null,null,1255,null,null,null,null,null,null,null,null,null,null,null,null,null,null,null,null,null,null,null,null,null,null,{"$f":"IF(H1263=\"\",\"-\",VLOOKUP(J1263,読み替え表_低炭素物流!$C$4:$F$12,4,0))","v":"-"},{"$f":"IF(H1263=\"\",\"-\",VLOOKUP(L1263,読み替え表_低炭素物流!$C$15:$F$21,4,0))","v":"-"},"-",null,null,null,null,0,0,0,0,0,"*"]
[null,null,1256,null,null,null,null,null,null,null,null,null,null,null,null,null,null,null,null,null,null,null,null,null,null,{"$f":"IF(H1264=\"\",\"-\",VLOOKUP(J1264,読み替え表_低炭素物流!$C$4:$F$12,4,0))","v":"-"},{"$f":"IF(H1264=\"\",\"-\",VLOOKUP(L1264,読み替え表_低炭素物流!$C$15:$F$21,4,0))","v":"-"},"-",null,null,null,null,0,0,0,0,0,"*"]
[null,null,1257,null,null,null,null,null,null,null,null,null,null,null,null,null,null,null,null,null,null,null,null,null,null,{"$f":"IF(H1265=\"\",\"-\",VLOOKUP(J1265,読み替え表_低炭素物流!$C$4:$F$12,4,0))","v":"-"},{"$f":"IF(H1265=\"\",\"-\",VLOOKUP(L1265,読み替え表_低炭素物流!$C$15:$F$21,4,0))","v":"-"},{"$f":"IF(H1265=\"\",\"-\",Z1265*AA1265)","v":"-"},null,null,null,null,0,{"$f":"IF(J1265=8,1,0)","v":0},{"$f":"IF(L1265=6,1,0)","v":0},0,0,"*"]
[null,null,1258,null,null,null,null,null,null,null,null,null,null,null,null,null,null,null,null,null,null,null,null,null,null,{"$f":"IF(H1266=\"\",\"-\",VLOOKUP(J1266,読み替え表_低炭素物流!$C$4:$F$12,4,0))","v":"-"},{"$f":"IF(H1266=\"\",\"-\",VLOOKUP(L1266,読み替え表_低炭素物流!$C$15:$F$21,4,0))","v":"-"},"-",null,null,null,null,0,0,0,0,0,"*"]
[null,null,1259,null,null,null,null,null,null,null,null,null,null,null,null,null,null,null,null,null,null,null,null,null,null,{"$f":"IF(H1267=\"\",\"-\",VLOOKUP(J1267,読み替え表_低炭素物流!$C$4:$F$12,4,0))","v":"-"},{"$f":"IF(H1267=\"\",\"-\",VLOOKUP(L1267,読み替え表_低炭素物流!$C$15:$F$21,4,0))","v":"-"},"-",null,null,null,null,0,0,0,0,0,"*"]
[null,null,1260,null,null,null,null,null,null,null,null,null,null,null,null,null,null,null,null,null,null,null,null,null,null,{"$f":"IF(H1268=\"\",\"-\",VLOOKUP(J1268,読み替え表_低炭素物流!$C$4:$F$12,4,0))","v":"-"},{"$f":"IF(H1268=\"\",\"-\",VLOOKUP(L1268,読み替え表_低炭素物流!$C$15:$F$21,4,0))","v":"-"},"-",null,null,null,null,0,0,0,0,0,"*"]
[null,null,1261,null,null,null,null,null,null,null,null,null,null,null,null,null,null,null,null,null,null,null,null,null,null,{"$f":"IF(H1269=\"\",\"-\",VLOOKUP(J1269,読み替え表_低炭素物流!$C$4:$F$12,4,0))","v":"-"},{"$f":"IF(H1269=\"\",\"-\",VLOOKUP(L1269,読み替え表_低炭素物流!$C$15:$F$21,4,0))","v":"-"},"-",null,null,null,null,0,0,0,0,0,"*"]
[null,null,1262,null,null,null,null,null,null,null,null,null,null,null,null,null,null,null,null,null,null,null,null,null,null,{"$f":"IF(H1270=\"\",\"-\",VLOOKUP(J1270,読み替え表_低炭素物流!$C$4:$F$12,4,0))","v":"-"},{"$f":"IF(H1270=\"\",\"-\",VLOOKUP(L1270,読み替え表_低炭素物流!$C$15:$F$21,4,0))","v":"-"},"-",null,null,null,null,0,0,0,0,0,"*"]
[null,null,1263,null,null,null,null,null,null,null,null,null,null,null,null,null,null,null,null,null,null,null,null,null,null,{"$f":"IF(H1271=\"\",\"-\",VLOOKUP(J1271,読み替え表_低炭素物流!$C$4:$F$12,4,0))","v":"-"},{"$f":"IF(H1271=\"\",\"-\",VLOOKUP(L1271,読み替え表_低炭素物流!$C$15:$F$21,4,0))","v":"-"},"-",null,null,null,null,0,0,0,0,0,"*"]
[null,null,1264,null,null,null,null,null,null,null,null,null,null,null,null,null,null,null,null,null,null,null,null,null,null,{"$f":"IF(H1272=\"\",\"-\",VLOOKUP(J1272,読み替え表_低炭素物流!$C$4:$F$12,4,0))","v":"-"},{"$f":"IF(H1272=\"\",\"-\",VLOOKUP(L1272,読み替え表_低炭素物流!$C$15:$F$21,4,0))","v":"-"},"-",null,null,null,null,0,0,0,0,0,"*"]
[null,null,1265,null,null,null,null,null,null,null,null,null,null,null,null,null,null,null,null,null,null,null,null,null,null,{"$f":"IF(H1273=\"\",\"-\",VLOOKUP(J1273,読み替え表_低炭素物流!$C$4:$F$12,4,0))","v":"-"},{"$f":"IF(H1273=\"\",\"-\",VLOOKUP(L1273,読み替え表_低炭素物流!$C$15:$F$21,4,0))","v":"-"},"-",null,null,null,null,0,0,0,0,0,"*"]
[null,null,1266,null,null,null,null,null,null,null,null,null,null,null,null,null,null,null,null,null,null,null,null,null,null,{"$f":"IF(H1274=\"\",\"-\",VLOOKUP(J1274,読み替え表_低炭素物流!$C$4:$F$12,4,0))","v":"-"},{"$f":"IF(H1274=\"\",\"-\",VLOOKUP(L1274,読み替え表_低炭素物流!$C$15:$F$21,4,0))","v":"-"},"-",null,null,null,null,0,0,0,0,0,"*"]
[null,null,1267,null,null,null,null,null,null,null,null,null,null,null,null,null,null,null,null,null,null,null,null,null,null,{"$f":"IF(H1275=\"\",\"-\",VLOOKUP(J1275,読み替え表_低炭素物流!$C$4:$F$12,4,0))","v":"-"},{"$f":"IF(H1275=\"\",\"-\",VLOOKUP(L1275,読み替え表_低炭素物流!$C$15:$F$21,4,0))","v":"-"},"-",null,null,null,null,0,0,0,0,0,"*"]
[null,null,1268,null,null,null,null,null,null,null,null,null,null,null,null,null,null,null,null,null,null,null,null,null,null,{"$f":"IF(H1276=\"\",\"-\",VLOOKUP(J1276,読み替え表_低炭素物流!$C$4:$F$12,4,0))","v":"-"},{"$f":"IF(H1276=\"\",\"-\",VLOOKUP(L1276,読み替え表_低炭素物流!$C$15:$F$21,4,0))","v":"-"},"-",null,null,null,null,0,0,0,0,0,"*"]
[null,null,1269,null,null,null,null,null,null,null,null,null,null,null,null,null,null,null,null,null,null,null,null,null,null,{"$f":"IF(H1277=\"\",\"-\",VLOOKUP(J1277,読み替え表_低炭素物流!$C$4:$F$12,4,0))","v":"-"},{"$f":"IF(H1277=\"\",\"-\",VLOOKUP(L1277,読み替え表_低炭素物流!$C$15:$F$21,4,0))","v":"-"},"-",null,null,null,null,0,0,0,0,0,"*"]
[null,null,1270,null,null,null,null,null,null,null,null,null,null,null,null,null,null,null,null,null,null,null,null,null,null,{"$f":"IF(H1278=\"\",\"-\",VLOOKUP(J1278,読み替え表_低炭素物流!$C$4:$F$12,4,0))","v":"-"},{"$f":"IF(H1278=\"\",\"-\",VLOOKUP(L1278,読み替え表_低炭素物流!$C$15:$F$21,4,0))","v":"-"},"-",null,null,null,null,0,0,0,0,0,"*"]
[null,null,1271,null,null,null,null,null,null,null,null,null,null,null,null,null,null,null,null,null,null,null,null,null,null,{"$f":"IF(H1279=\"\",\"-\",VLOOKUP(J1279,読み替え表_低炭素物流!$C$4:$F$12,4,0))","v":"-"},{"$f":"IF(H1279=\"\",\"-\",VLOOKUP(L1279,読み替え表_低炭素物流!$C$15:$F$21,4,0))","v":"-"},"-",null,null,null,null,0,0,0,0,0,"*"]
[null,null,1272,null,null,null,null,null,null,null,null,null,null,null,null,null,null,null,null,null,null,null,null,null,null,{"$f":"IF(H1280=\"\",\"-\",VLOOKUP(J1280,読み替え表_低炭素物流!$C$4:$F$12,4,0))","v":"-"},{"$f":"IF(H1280=\"\",\"-\",VLOOKUP(L1280,読み替え表_低炭素物流!$C$15:$F$21,4,0))","v":"-"},"-",null,null,null,null,0,0,0,0,0,"*"]
[null,null,1273,null,null,null,null,null,null,null,null,null,null,null,null,null,null,null,null,null,null,null,null,null,null,{"$f":"IF(H1281=\"\",\"-\",VLOOKUP(J1281,読み替え表_低炭素物流!$C$4:$F$12,4,0))","v":"-"},{"$f":"IF(H1281=\"\",\"-\",VLOOKUP(L1281,読み替え表_低炭素物流!$C$15:$F$21,4,0))","v":"-"},"-",null,null,null,null,0,0,0,0,0,"*"]
[null,null,1274,null,null,null,null,null,null,null,null,null,null,null,null,null,null,null,null,null,null,null,null,null,null,{"$f":"IF(H1282=\"\",\"-\",VLOOKUP(J1282,読み替え表_低炭素物流!$C$4:$F$12,4,0))","v":"-"},{"$f":"IF(H1282=\"\",\"-\",VLOOKUP(L1282,読み替え表_低炭素物流!$C$15:$F$21,4,0))","v":"-"},"-",null,null,null,null,0,0,0,0,0,"*"]
[null,null,1275,null,null,null,null,null,null,null,null,null,null,null,null,null,null,null,null,null,null,null,null,null,null,{"$f":"IF(H1283=\"\",\"-\",VLOOKUP(J1283,読み替え表_低炭素物流!$C$4:$F$12,4,0))","v":"-"},{"$f":"IF(H1283=\"\",\"-\",VLOOKUP(L1283,読み替え表_低炭素物流!$C$15:$F$21,4,0))","v":"-"},"-",null,null,null,null,0,0,0,0,0,"*"]
[null,null,1276,null,null,null,null,null,null,null,null,null,null,null,null,null,null,null,null,null,null,null,null,null,null,{"$f":"IF(H1284=\"\",\"-\",VLOOKUP(J1284,読み替え表_低炭素物流!$C$4:$F$12,4,0))","v":"-"},{"$f":"IF(H1284=\"\",\"-\",VLOOKUP(L1284,読み替え表_低炭素物流!$C$15:$F$21,4,0))","v":"-"},"-",null,null,null,null,0,0,0,0,0,"*"]
[null,null,1277,null,null,null,null,null,null,null,null,null,null,null,null,null,null,null,null,null,null,null,null,null,null,{"$f":"IF(H1285=\"\",\"-\",VLOOKUP(J1285,読み替え表_低炭素物流!$C$4:$F$12,4,0))","v":"-"},{"$f":"IF(H1285=\"\",\"-\",VLOOKUP(L1285,読み替え表_低炭素物流!$C$15:$F$21,4,0))","v":"-"},"-",null,null,null,null,0,0,0,0,0,"*"]
[null,null,1278,null,null,null,null,null,null,null,null,null,null,null,null,null,null,null,null,null,null,null,null,null,null,{"$f":"IF(H1286=\"\",\"-\",VLOOKUP(J1286,読み替え表_低炭素物流!$C$4:$F$12,4,0))","v":"-"},{"$f":"IF(H1286=\"\",\"-\",VLOOKUP(L1286,読み替え表_低炭素物流!$C$15:$F$21,4,0))","v":"-"},"-",null,null,null,null,0,0,0,0,0,"*"]
[null,null,1279,null,null,null,null,null,null,null,null,null,null,null,null,null,null,null,null,null,null,null,null,null,null,{"$f":"IF(H1287=\"\",\"-\",VLOOKUP(J1287,読み替え表_低炭素物流!$C$4:$F$12,4,0))","v":"-"},{"$f":"IF(H1287=\"\",\"-\",VLOOKUP(L1287,読み替え表_低炭素物流!$C$15:$F$21,4,0))","v":"-"},"-",null,null,null,null,0,0,0,0,0,"*"]
[null,null,1280,null,null,null,null,null,null,null,null,null,null,null,null,null,null,null,null,null,null,null,null,null,null,{"$f":"IF(H1288=\"\",\"-\",VLOOKUP(J1288,読み替え表_低炭素物流!$C$4:$F$12,4,0))","v":"-"},{"$f":"IF(H1288=\"\",\"-\",VLOOKUP(L1288,読み替え表_低炭素物流!$C$15:$F$21,4,0))","v":"-"},"-",null,null,null,null,0,0,0,0,0,"*"]
[null,null,1281,null,null,null,null,null,null,null,null,null,null,null,null,null,null,null,null,null,null,null,null,null,null,{"$f":"IF(H1289=\"\",\"-\",VLOOKUP(J1289,読み替え表_低炭素物流!$C$4:$F$12,4,0))","v":"-"},{"$f":"IF(H1289=\"\",\"-\",VLOOKUP(L1289,読み替え表_低炭素物流!$C$15:$F$21,4,0))","v":"-"},"-",null,null,null,null,{"$f":"IF(N1289=1,IF(OR(L1289=4,L1289=5),0,1),0)","v":0},0,0,0,0,"*"]
[null,null,{"$f":"ROW()-8","v":1282},null,null,null,null,null,null,null,null,null,null,null,null,null,null,null,null,null,null,null,null,null,null,{"$f":"IF(H1290=\"\",\"-\",VLOOKUP(J1290,読み替え表_低炭素物流!$C$4:$F$12,4,0))","v":"-"},{"$f":"IF(H1290=\"\",\"-\",VLOOKUP(L1290,読み替え表_低炭素物流!$C$15:$F$21,4,0))","v":"-"},"-",null,null,null,null,0,0,0,0,{"$f":"AG1290","v":0},"*"]
[null,null,1283,null,null,null,null,null,null,null,null,null,null,null,null,null,null,null,null,null,null,null,null,null,null,{"$f":"IF(H1291=\"\",\"-\",VLOOKUP(J1291,読み替え表_低炭素物流!$C$4:$F$12,4,0))","v":"-"},{"$f":"IF(H1291=\"\",\"-\",VLOOKUP(L1291,読み替え表_低炭素物流!$C$15:$F$21,4,0))","v":"-"},"-",null,null,null,null,0,0,0,0,0,"*"]
[null,null,1284,null,null,null,null,null,null,null,null,null,null,null,null,null,null,null,null,null,null,null,null,null,null,{"$f":"IF(H1292=\"\",\"-\",VLOOKUP(J1292,読み替え表_低炭素物流!$C$4:$F$12,4,0))","v":"-"},{"$f":"IF(H1292=\"\",\"-\",VLOOKUP(L1292,読み替え表_低炭素物流!$C$15:$F$21,4,0))","v":"-"},"-",null,null,null,null,0,0,0,0,0,"*"]
[null,null,1285,null,null,null,null,null,null,null,null,null,null,null,null,null,null,null,null,null,null,null,null,null,null,{"$f":"IF(H1293=\"\",\"-\",VLOOKUP(J1293,読み替え表_低炭素物流!$C$4:$F$12,4,0))","v":"-"},{"$f":"IF(H1293=\"\",\"-\",VLOOKUP(L1293,読み替え表_低炭素物流!$C$15:$F$21,4,0))","v":"-"},"-",null,null,null,null,0,0,0,0,0,"*"]
[null,null,1286,null,null,null,null,null,null,null,null,null,null,null,null,null,null,null,null,null,null,null,null,null,null,{"$f":"IF(H1294=\"\",\"-\",VLOOKUP(J1294,読み替え表_低炭素物流!$C$4:$F$12,4,0))","v":"-"},{"$f":"IF(H1294=\"\",\"-\",VLOOKUP(L1294,読み替え表_低炭素物流!$C$15:$F$21,4,0))","v":"-"},"-",null,null,null,null,0,0,0,0,0,"*"]
[null,null,1287,null,null,null,null,null,null,null,null,null,null,null,null,null,null,null,null,null,null,null,null,null,null,{"$f":"IF(H1295=\"\",\"-\",VLOOKUP(J1295,読み替え表_低炭素物流!$C$4:$F$12,4,0))","v":"-"},{"$f":"IF(H1295=\"\",\"-\",VLOOKUP(L1295,読み替え表_低炭素物流!$C$15:$F$21,4,0))","v":"-"},"-",null,null,null,null,0,0,0,0,0,"*"]
[null,null,1288,null,null,null,null,null,null,null,null,null,null,null,null,null,null,null,null,null,null,null,null,null,null,{"$f":"IF(H1296=\"\",\"-\",VLOOKUP(J1296,読み替え表_低炭素物流!$C$4:$F$12,4,0))","v":"-"},{"$f":"IF(H1296=\"\",\"-\",VLOOKUP(L1296,読み替え表_低炭素物流!$C$15:$F$21,4,0))","v":"-"},"-",null,null,null,null,0,0,0,0,0,"*"]
[null,null,1289,null,null,null,null,null,null,null,null,null,null,null,null,null,null,null,null,null,null,null,null,null,null,{"$f":"IF(H1297=\"\",\"-\",VLOOKUP(J1297,読み替え表_低炭素物流!$C$4:$F$12,4,0))","v":"-"},{"$f":"IF(H1297=\"\",\"-\",VLOOKUP(L1297,読み替え表_低炭素物流!$C$15:$F$21,4,0))","v":"-"},"-",null,null,null,null,0,0,0,0,0,"*"]
[null,null,1290,null,null,null,null,null,null,null,null,null,null,null,null,null,null,null,null,null,null,null,null,null,null,{"$f":"IF(H1298=\"\",\"-\",VLOOKUP(J1298,読み替え表_低炭素物流!$C$4:$F$12,4,0))","v":"-"},{"$f":"IF(H1298=\"\",\"-\",VLOOKUP(L1298,読み替え表_低炭素物流!$C$15:$F$21,4,0))","v":"-"},"-",null,null,null,null,0,0,0,0,0,"*"]
[null,null,1291,null,null,null,null,null,null,null,null,null,null,null,null,null,null,null,null,null,null,null,null,null,null,{"$f":"IF(H1299=\"\",\"-\",VLOOKUP(J1299,読み替え表_低炭素物流!$C$4:$F$12,4,0))","v":"-"},{"$f":"IF(H1299=\"\",\"-\",VLOOKUP(L1299,読み替え表_低炭素物流!$C$15:$F$21,4,0))","v":"-"},"-",null,null,null,null,0,0,0,0,0,"*"]
[null,null,1292,null,null,null,null,null,null,null,null,null,null,null,null,null,null,null,null,null,null,null,null,null,null,{"$f":"IF(H1300=\"\",\"-\",VLOOKUP(J1300,読み替え表_低炭素物流!$C$4:$F$12,4,0))","v":"-"},{"$f":"IF(H1300=\"\",\"-\",VLOOKUP(L1300,読み替え表_低炭素物流!$C$15:$F$21,4,0))","v":"-"},"-",null,null,null,null,0,0,0,0,0,"*"]
[null,null,1293,null,null,null,null,null,null,null,null,null,null,null,null,null,null,null,null,null,null,null,null,null,null,{"$f":"IF(H1301=\"\",\"-\",VLOOKUP(J1301,読み替え表_低炭素物流!$C$4:$F$12,4,0))","v":"-"},{"$f":"IF(H1301=\"\",\"-\",VLOOKUP(L1301,読み替え表_低炭素物流!$C$15:$F$21,4,0))","v":"-"},"-",null,null,null,null,0,0,0,0,0,"*"]
[null,null,1294,null,null,null,null,null,null,null,null,null,null,null,null,null,null,null,null,null,null,null,null,null,null,{"$f":"IF(H1302=\"\",\"-\",VLOOKUP(J1302,読み替え表_低炭素物流!$C$4:$F$12,4,0))","v":"-"},{"$f":"IF(H1302=\"\",\"-\",VLOOKUP(L1302,読み替え表_低炭素物流!$C$15:$F$21,4,0))","v":"-"},"-",null,null,null,null,0,0,0,0,0,"*"]
[null,null,1295,null,null,null,null,null,null,null,null,null,null,null,null,null,null,null,null,null,null,null,null,null,null,{"$f":"IF(H1303=\"\",\"-\",VLOOKUP(J1303,読み替え表_低炭素物流!$C$4:$F$12,4,0))","v":"-"},{"$f":"IF(H1303=\"\",\"-\",VLOOKUP(L1303,読み替え表_低炭素物流!$C$15:$F$21,4,0))","v":"-"},"-",null,null,null,null,0,0,0,0,0,"*"]
[null,null,1296,null,null,null,null,null,null,null,null,null,null,null,null,null,null,null,null,null,null,null,null,null,null,{"$f":"IF(H1304=\"\",\"-\",VLOOKUP(J1304,読み替え表_低炭素物流!$C$4:$F$12,4,0))","v":"-"},{"$f":"IF(H1304=\"\",\"-\",VLOOKUP(L1304,読み替え表_低炭素物流!$C$15:$F$21,4,0))","v":"-"},"-",null,null,null,null,0,0,0,{"$f":"IF(OR(N1304=7,N1304=99),1,0)","v":0},0,"*"]
[null,null,1297,null,null,null,null,null,null,null,null,null,null,null,null,null,null,null,null,null,null,null,null,null,null,{"$f":"IF(H1305=\"\",\"-\",VLOOKUP(J1305,読み替え表_低炭素物流!$C$4:$F$12,4,0))","v":"-"},{"$f":"IF(H1305=\"\",\"-\",VLOOKUP(L1305,読み替え表_低炭素物流!$C$15:$F$21,4,0))","v":"-"},"-",null,null,null,null,0,0,0,0,0,"*"]
[null,null,1298,null,null,null,null,null,null,null,null,null,null,null,null,null,null,null,null,null,null,null,null,null,null,{"$f":"IF(H1306=\"\",\"-\",VLOOKUP(J1306,読み替え表_低炭素物流!$C$4:$F$12,4,0))","v":"-"},{"$f":"IF(H1306=\"\",\"-\",VLOOKUP(L1306,読み替え表_低炭素物流!$C$15:$F$21,4,0))","v":"-"},"-",null,null,null,null,0,0,0,0,0,"*"]
[null,null,1299,null,null,null,null,null,null,null,null,null,null,null,null,null,null,null,null,null,null,null,null,null,null,{"$f":"IF(H1307=\"\",\"-\",VLOOKUP(J1307,読み替え表_低炭素物流!$C$4:$F$12,4,0))","v":"-"},{"$f":"IF(H1307=\"\",\"-\",VLOOKUP(L1307,読み替え表_低炭素物流!$C$15:$F$21,4,0))","v":"-"},"-",null,null,null,null,0,0,0,0,0,"*"]
[null,null,1300,null,null,null,null,null,null,null,null,null,null,null,null,null,null,null,null,null,null,null,null,null,null,{"$f":"IF(H1308=\"\",\"-\",VLOOKUP(J1308,読み替え表_低炭素物流!$C$4:$F$12,4,0))","v":"-"},{"$f":"IF(H1308=\"\",\"-\",VLOOKUP(L1308,読み替え表_低炭素物流!$C$15:$F$21,4,0))","v":"-"},"-",null,null,null,null,0,0,0,0,0,"*"]
[null,null,1301,null,null,null,null,null,null,null,null,null,null,null,null,null,null,null,null,null,null,null,null,null,null,{"$f":"IF(H1309=\"\",\"-\",VLOOKUP(J1309,読み替え表_低炭素物流!$C$4:$F$12,4,0))","v":"-"},{"$f":"IF(H1309=\"\",\"-\",VLOOKUP(L1309,読み替え表_低炭素物流!$C$15:$F$21,4,0))","v":"-"},"-",null,null,null,null,0,0,0,0,0,"*"]
[null,null,1302,null,null,null,null,null,null,null,null,null,null,null,null,null,null,null,null,null,null,null,null,null,null,{"$f":"IF(H1310=\"\",\"-\",VLOOKUP(J1310,読み替え表_低炭素物流!$C$4:$F$12,4,0))","v":"-"},{"$f":"IF(H1310=\"\",\"-\",VLOOKUP(L1310,読み替え表_低炭素物流!$C$15:$F$21,4,0))","v":"-"},"-",null,null,null,null,0,0,0,0,0,"*"]
[null,null,1303,null,null,null,null,null,null,null,null,null,null,null,null,null,null,null,null,null,null,null,null,null,null,{"$f":"IF(H1311=\"\",\"-\",VLOOKUP(J1311,読み替え表_低炭素物流!$C$4:$F$12,4,0))","v":"-"},{"$f":"IF(H1311=\"\",\"-\",VLOOKUP(L1311,読み替え表_低炭素物流!$C$15:$F$21,4,0))","v":"-"},"-",null,null,null,null,0,0,0,0,0,"*"]
[null,null,1304,null,null,null,null,null,null,null,null,null,null,null,null,null,null,null,null,null,null,null,null,null,null,{"$f":"IF(H1312=\"\",\"-\",VLOOKUP(J1312,読み替え表_低炭素物流!$C$4:$F$12,4,0))","v":"-"},{"$f":"IF(H1312=\"\",\"-\",VLOOKUP(L1312,読み替え表_低炭素物流!$C$15:$F$21,4,0))","v":"-"},"-",null,null,null,null,0,0,0,0,0,"*"]
[null,null,1305,null,null,null,null,null,null,null,null,null,null,null,null,null,null,null,null,null,null,null,null,null,null,{"$f":"IF(H1313=\"\",\"-\",VLOOKUP(J1313,読み替え表_低炭素物流!$C$4:$F$12,4,0))","v":"-"},{"$f":"IF(H1313=\"\",\"-\",VLOOKUP(L1313,読み替え表_低炭素物流!$C$15:$F$21,4,0))","v":"-"},"-",null,null,null,null,0,0,0,0,0,"*"]
[null,null,1306,null,null,null,null,null,null,null,null,null,null,null,null,null,null,null,null,null,null,null,null,null,null,{"$f":"IF(H1314=\"\",\"-\",VLOOKUP(J1314,読み替え表_低炭素物流!$C$4:$F$12,4,0))","v":"-"},{"$f":"IF(H1314=\"\",\"-\",VLOOKUP(L1314,読み替え表_低炭素物流!$C$15:$F$21,4,0))","v":"-"},"-",null,null,null,null,0,0,0,0,0,"*"]
[null,null,1307,null,null,null,null,null,null,null,null,null,null,null,null,null,null,null,null,null,null,null,null,null,null,{"$f":"IF(H1315=\"\",\"-\",VLOOKUP(J1315,読み替え表_低炭素物流!$C$4:$F$12,4,0))","v":"-"},{"$f":"IF(H1315=\"\",\"-\",VLOOKUP(L1315,読み替え表_低炭素物流!$C$15:$F$21,4,0))","v":"-"},"-",null,null,null,null,0,0,0,0,0,"*"]
[null,null,1308,null,null,null,null,null,null,null,null,null,null,null,null,null,null,null,null,null,null,null,null,null,null,{"$f":"IF(H1316=\"\",\"-\",VLOOKUP(J1316,読み替え表_低炭素物流!$C$4:$F$12,4,0))","v":"-"},{"$f":"IF(H1316=\"\",\"-\",VLOOKUP(L1316,読み替え表_低炭素物流!$C$15:$F$21,4,0))","v":"-"},"-",null,null,null,null,0,0,0,0,0,"*"]
[null,null,1309,null,null,null,null,null,null,null,null,null,null,null,null,null,null,null,null,null,null,null,null,null,null,{"$f":"IF(H1317=\"\",\"-\",VLOOKUP(J1317,読み替え表_低炭素物流!$C$4:$F$12,4,0))","v":"-"},{"$f":"IF(H1317=\"\",\"-\",VLOOKUP(L1317,読み替え表_低炭素物流!$C$15:$F$21,4,0))","v":"-"},"-",null,null,null,null,0,0,0,0,0,"*"]
[null,null,1310,null,null,null,null,null,null,null,null,null,null,null,null,null,null,null,null,null,null,null,null,null,null,{"$f":"IF(H1318=\"\",\"-\",VLOOKUP(J1318,読み替え表_低炭素物流!$C$4:$F$12,4,0))","v":"-"},{"$f":"IF(H1318=\"\",\"-\",VLOOKUP(L1318,読み替え表_低炭素物流!$C$15:$F$21,4,0))","v":"-"},"-",null,null,null,null,0,0,0,0,0,"*"]
[null,null,1311,null,null,null,null,null,null,null,null,null,null,null,null,null,null,null,null,null,null,null,null,null,null,{"$f":"IF(H1319=\"\",\"-\",VLOOKUP(J1319,読み替え表_低炭素物流!$C$4:$F$12,4,0))","v":"-"},{"$f":"IF(H1319=\"\",\"-\",VLOOKUP(L1319,読み替え表_低炭素物流!$C$15:$F$21,4,0))","v":"-"},"-",null,null,null,null,0,0,0,0,0,"*"]
[null,null,1312,null,null,null,null,null,null,null,null,null,null,null,null,null,null,null,null,null,null,null,null,null,null,{"$f":"IF(H1320=\"\",\"-\",VLOOKUP(J1320,読み替え表_低炭素物流!$C$4:$F$12,4,0))","v":"-"},{"$f":"IF(H1320=\"\",\"-\",VLOOKUP(L1320,読み替え表_低炭素物流!$C$15:$F$21,4,0))","v":"-"},"-",null,null,null,null,0,0,0,0,0,"*"]
[null,null,1313,null,null,null,null,null,null,null,null,null,null,null,null,null,null,null,null,null,null,null,null,null,null,{"$f":"IF(H1321=\"\",\"-\",VLOOKUP(J1321,読み替え表_低炭素物流!$C$4:$F$12,4,0))","v":"-"},{"$f":"IF(H1321=\"\",\"-\",VLOOKUP(L1321,読み替え表_低炭素物流!$C$15:$F$21,4,0))","v":"-"},"-",null,null,null,null,0,0,0,0,0,"*"]
[null,null,1314,null,null,null,null,null,null,null,null,null,null,null,null,null,null,null,null,null,null,null,null,null,null,{"$f":"IF(H1322=\"\",\"-\",VLOOKUP(J1322,読み替え表_低炭素物流!$C$4:$F$12,4,0))","v":"-"},{"$f":"IF(H1322=\"\",\"-\",VLOOKUP(L1322,読み替え表_低炭素物流!$C$15:$F$21,4,0))","v":"-"},"-",null,null,null,null,0,0,0,0,0,"*"]
[null,null,1315,null,null,null,null,null,null,null,null,null,null,null,null,null,null,null,null,null,null,null,null,null,null,{"$f":"IF(H1323=\"\",\"-\",VLOOKUP(J1323,読み替え表_低炭素物流!$C$4:$F$12,4,0))","v":"-"},{"$f":"IF(H1323=\"\",\"-\",VLOOKUP(L1323,読み替え表_低炭素物流!$C$15:$F$21,4,0))","v":"-"},"-",null,null,null,null,0,0,0,0,0,"*"]
[null,null,1316,null,null,null,null,null,null,null,null,null,null,null,null,null,null,null,null,null,null,null,null,null,null,{"$f":"IF(H1324=\"\",\"-\",VLOOKUP(J1324,読み替え表_低炭素物流!$C$4:$F$12,4,0))","v":"-"},{"$f":"IF(H1324=\"\",\"-\",VLOOKUP(L1324,読み替え表_低炭素物流!$C$15:$F$21,4,0))","v":"-"},"-",null,null,null,null,0,0,0,0,0,"*"]
[null,null,1317,null,null,null,null,null,null,null,null,null,null,null,null,null,null,null,null,null,null,null,null,null,null,{"$f":"IF(H1325=\"\",\"-\",VLOOKUP(J1325,読み替え表_低炭素物流!$C$4:$F$12,4,0))","v":"-"},{"$f":"IF(H1325=\"\",\"-\",VLOOKUP(L1325,読み替え表_低炭素物流!$C$15:$F$21,4,0))","v":"-"},"-",null,null,null,null,0,0,0,0,0,"*"]
[null,null,1318,null,null,null,null,null,null,null,null,null,null,null,null,null,null,null,null,null,null,null,null,null,null,{"$f":"IF(H1326=\"\",\"-\",VLOOKUP(J1326,読み替え表_低炭素物流!$C$4:$F$12,4,0))","v":"-"},{"$f":"IF(H1326=\"\",\"-\",VLOOKUP(L1326,読み替え表_低炭素物流!$C$15:$F$21,4,0))","v":"-"},"-",null,null,null,null,0,0,0,0,0,"*"]
[null,null,1319,null,null,null,null,null,null,null,null,null,null,null,null,null,null,null,null,null,null,null,null,null,null,{"$f":"IF(H1327=\"\",\"-\",VLOOKUP(J1327,読み替え表_低炭素物流!$C$4:$F$12,4,0))","v":"-"},{"$f":"IF(H1327=\"\",\"-\",VLOOKUP(L1327,読み替え表_低炭素物流!$C$15:$F$21,4,0))","v":"-"},"-",null,null,null,null,0,0,0,0,0,"*"]
[null,null,1320,null,null,null,null,null,null,null,null,null,null,null,null,null,null,null,null,null,null,null,null,null,null,{"$f":"IF(H1328=\"\",\"-\",VLOOKUP(J1328,読み替え表_低炭素物流!$C$4:$F$12,4,0))","v":"-"},{"$f":"IF(H1328=\"\",\"-\",VLOOKUP(L1328,読み替え表_低炭素物流!$C$15:$F$21,4,0))","v":"-"},"-",null,null,null,null,0,0,0,0,0,"*"]
[null,null,1321,null,null,null,null,null,null,null,null,null,null,null,null,null,null,null,null,null,null,null,null,null,null,{"$f":"IF(H1329=\"\",\"-\",VLOOKUP(J1329,読み替え表_低炭素物流!$C$4:$F$12,4,0))","v":"-"},{"$f":"IF(H1329=\"\",\"-\",VLOOKUP(L1329,読み替え表_低炭素物流!$C$15:$F$21,4,0))","v":"-"},{"$f":"IF(H1329=\"\",\"-\",Z1329*AA1329)","v":"-"},null,null,null,null,0,{"$f":"IF(J1329=8,1,0)","v":0},{"$f":"IF(L1329=6,1,0)","v":0},0,0,"*"]
[null,null,1322,null,null,null,null,null,null,null,null,null,null,null,null,null,null,null,null,null,null,null,null,null,null,{"$f":"IF(H1330=\"\",\"-\",VLOOKUP(J1330,読み替え表_低炭素物流!$C$4:$F$12,4,0))","v":"-"},{"$f":"IF(H1330=\"\",\"-\",VLOOKUP(L1330,読み替え表_低炭素物流!$C$15:$F$21,4,0))","v":"-"},"-",null,null,null,null,0,0,0,0,0,"*"]
[null,null,1323,null,null,null,null,null,null,null,null,null,null,null,null,null,null,null,null,null,null,null,null,null,null,{"$f":"IF(H1331=\"\",\"-\",VLOOKUP(J1331,読み替え表_低炭素物流!$C$4:$F$12,4,0))","v":"-"},{"$f":"IF(H1331=\"\",\"-\",VLOOKUP(L1331,読み替え表_低炭素物流!$C$15:$F$21,4,0))","v":"-"},"-",null,null,null,null,0,0,0,0,0,"*"]
[null,null,1324,null,null,null,null,null,null,null,null,null,null,null,null,null,null,null,null,null,null,null,null,null,null,{"$f":"IF(H1332=\"\",\"-\",VLOOKUP(J1332,読み替え表_低炭素物流!$C$4:$F$12,4,0))","v":"-"},{"$f":"IF(H1332=\"\",\"-\",VLOOKUP(L1332,読み替え表_低炭素物流!$C$15:$F$21,4,0))","v":"-"},"-",null,null,null,null,0,0,0,0,0,"*"]
[null,null,1325,null,null,null,null,null,null,null,null,null,null,null,null,null,null,null,null,null,null,null,null,null,null,{"$f":"IF(H1333=\"\",\"-\",VLOOKUP(J1333,読み替え表_低炭素物流!$C$4:$F$12,4,0))","v":"-"},{"$f":"IF(H1333=\"\",\"-\",VLOOKUP(L1333,読み替え表_低炭素物流!$C$15:$F$21,4,0))","v":"-"},"-",null,null,null,null,0,0,0,0,0,"*"]
[null,null,1326,null,null,null,null,null,null,null,null,null,null,null,null,null,null,null,null,null,null,null,null,null,null,{"$f":"IF(H1334=\"\",\"-\",VLOOKUP(J1334,読み替え表_低炭素物流!$C$4:$F$12,4,0))","v":"-"},{"$f":"IF(H1334=\"\",\"-\",VLOOKUP(L1334,読み替え表_低炭素物流!$C$15:$F$21,4,0))","v":"-"},"-",null,null,null,null,0,0,0,0,0,"*"]
[null,null,1327,null,null,null,null,null,null,null,null,null,null,null,null,null,null,null,null,null,null,null,null,null,null,{"$f":"IF(H1335=\"\",\"-\",VLOOKUP(J1335,読み替え表_低炭素物流!$C$4:$F$12,4,0))","v":"-"},{"$f":"IF(H1335=\"\",\"-\",VLOOKUP(L1335,読み替え表_低炭素物流!$C$15:$F$21,4,0))","v":"-"},"-",null,null,null,null,0,0,0,0,0,"*"]
[null,null,1328,null,null,null,null,null,null,null,null,null,null,null,null,null,null,null,null,null,null,null,null,null,null,{"$f":"IF(H1336=\"\",\"-\",VLOOKUP(J1336,読み替え表_低炭素物流!$C$4:$F$12,4,0))","v":"-"},{"$f":"IF(H1336=\"\",\"-\",VLOOKUP(L1336,読み替え表_低炭素物流!$C$15:$F$21,4,0))","v":"-"},"-",null,null,null,null,0,0,0,0,0,"*"]
[null,null,1329,null,null,null,null,null,null,null,null,null,null,null,null,null,null,null,null,null,null,null,null,null,null,{"$f":"IF(H1337=\"\",\"-\",VLOOKUP(J1337,読み替え表_低炭素物流!$C$4:$F$12,4,0))","v":"-"},{"$f":"IF(H1337=\"\",\"-\",VLOOKUP(L1337,読み替え表_低炭素物流!$C$15:$F$21,4,0))","v":"-"},"-",null,null,null,null,0,0,0,0,0,"*"]
[null,null,1330,null,null,null,null,null,null,null,null,null,null,null,null,null,null,null,null,null,null,null,null,null,null,{"$f":"IF(H1338=\"\",\"-\",VLOOKUP(J1338,読み替え表_低炭素物流!$C$4:$F$12,4,0))","v":"-"},{"$f":"IF(H1338=\"\",\"-\",VLOOKUP(L1338,読み替え表_低炭素物流!$C$15:$F$21,4,0))","v":"-"},"-",null,null,null,null,0,0,0,0,0,"*"]
[null,null,1331,null,null,null,null,null,null,null,null,null,null,null,null,null,null,null,null,null,null,null,null,null,null,{"$f":"IF(H1339=\"\",\"-\",VLOOKUP(J1339,読み替え表_低炭素物流!$C$4:$F$12,4,0))","v":"-"},{"$f":"IF(H1339=\"\",\"-\",VLOOKUP(L1339,読み替え表_低炭素物流!$C$15:$F$21,4,0))","v":"-"},"-",null,null,null,null,0,0,0,0,0,"*"]
[null,null,1332,null,null,null,null,null,null,null,null,null,null,null,null,null,null,null,null,null,null,null,null,null,null,{"$f":"IF(H1340=\"\",\"-\",VLOOKUP(J1340,読み替え表_低炭素物流!$C$4:$F$12,4,0))","v":"-"},{"$f":"IF(H1340=\"\",\"-\",VLOOKUP(L1340,読み替え表_低炭素物流!$C$15:$F$21,4,0))","v":"-"},"-",null,null,null,null,0,0,0,0,0,"*"]
[null,null,1333,null,null,null,null,null,null,null,null,null,null,null,null,null,null,null,null,null,null,null,null,null,null,{"$f":"IF(H1341=\"\",\"-\",VLOOKUP(J1341,読み替え表_低炭素物流!$C$4:$F$12,4,0))","v":"-"},{"$f":"IF(H1341=\"\",\"-\",VLOOKUP(L1341,読み替え表_低炭素物流!$C$15:$F$21,4,0))","v":"-"},"-",null,null,null,null,0,0,0,0,0,"*"]
[null,null,1334,null,null,null,null,null,null,null,null,null,null,null,null,null,null,null,null,null,null,null,null,null,null,{"$f":"IF(H1342=\"\",\"-\",VLOOKUP(J1342,読み替え表_低炭素物流!$C$4:$F$12,4,0))","v":"-"},{"$f":"IF(H1342=\"\",\"-\",VLOOKUP(L1342,読み替え表_低炭素物流!$C$15:$F$21,4,0))","v":"-"},"-",null,null,null,null,0,0,0,0,0,"*"]
[null,null,1335,null,null,null,null,null,null,null,null,null,null,null,null,null,null,null,null,null,null,null,null,null,null,{"$f":"IF(H1343=\"\",\"-\",VLOOKUP(J1343,読み替え表_低炭素物流!$C$4:$F$12,4,0))","v":"-"},{"$f":"IF(H1343=\"\",\"-\",VLOOKUP(L1343,読み替え表_低炭素物流!$C$15:$F$21,4,0))","v":"-"},"-",null,null,null,null,0,0,0,0,0,"*"]
[null,null,1336,null,null,null,null,null,null,null,null,null,null,null,null,null,null,null,null,null,null,null,null,null,null,{"$f":"IF(H1344=\"\",\"-\",VLOOKUP(J1344,読み替え表_低炭素物流!$C$4:$F$12,4,0))","v":"-"},{"$f":"IF(H1344=\"\",\"-\",VLOOKUP(L1344,読み替え表_低炭素物流!$C$15:$F$21,4,0))","v":"-"},"-",null,null,null,null,0,0,0,0,0,"*"]
[null,null,1337,null,null,null,null,null,null,null,null,null,null,null,null,null,null,null,null,null,null,null,null,null,null,{"$f":"IF(H1345=\"\",\"-\",VLOOKUP(J1345,読み替え表_低炭素物流!$C$4:$F$12,4,0))","v":"-"},{"$f":"IF(H1345=\"\",\"-\",VLOOKUP(L1345,読み替え表_低炭素物流!$C$15:$F$21,4,0))","v":"-"},"-",null,null,null,null,0,0,0,0,0,"*"]
[null,null,1338,null,null,null,null,null,null,null,null,null,null,null,null,null,null,null,null,null,null,null,null,null,null,{"$f":"IF(H1346=\"\",\"-\",VLOOKUP(J1346,読み替え表_低炭素物流!$C$4:$F$12,4,0))","v":"-"},{"$f":"IF(H1346=\"\",\"-\",VLOOKUP(L1346,読み替え表_低炭素物流!$C$15:$F$21,4,0))","v":"-"},"-",null,null,null,null,0,0,0,0,0,"*"]
[null,null,1339,null,null,null,null,null,null,null,null,null,null,null,null,null,null,null,null,null,null,null,null,null,null,{"$f":"IF(H1347=\"\",\"-\",VLOOKUP(J1347,読み替え表_低炭素物流!$C$4:$F$12,4,0))","v":"-"},{"$f":"IF(H1347=\"\",\"-\",VLOOKUP(L1347,読み替え表_低炭素物流!$C$15:$F$21,4,0))","v":"-"},"-",null,null,null,null,0,0,0,0,0,"*"]
[null,null,1340,null,null,null,null,null,null,null,null,null,null,null,null,null,null,null,null,null,null,null,null,null,null,{"$f":"IF(H1348=\"\",\"-\",VLOOKUP(J1348,読み替え表_低炭素物流!$C$4:$F$12,4,0))","v":"-"},{"$f":"IF(H1348=\"\",\"-\",VLOOKUP(L1348,読み替え表_低炭素物流!$C$15:$F$21,4,0))","v":"-"},"-",null,null,null,null,0,0,0,0,0,"*"]
[null,null,1341,null,null,null,null,null,null,null,null,null,null,null,null,null,null,null,null,null,null,null,null,null,null,{"$f":"IF(H1349=\"\",\"-\",VLOOKUP(J1349,読み替え表_低炭素物流!$C$4:$F$12,4,0))","v":"-"},{"$f":"IF(H1349=\"\",\"-\",VLOOKUP(L1349,読み替え表_低炭素物流!$C$15:$F$21,4,0))","v":"-"},"-",null,null,null,null,0,0,0,0,0,"*"]
[null,null,1342,null,null,null,null,null,null,null,null,null,null,null,null,null,null,null,null,null,null,null,null,null,null,{"$f":"IF(H1350=\"\",\"-\",VLOOKUP(J1350,読み替え表_低炭素物流!$C$4:$F$12,4,0))","v":"-"},{"$f":"IF(H1350=\"\",\"-\",VLOOKUP(L1350,読み替え表_低炭素物流!$C$15:$F$21,4,0))","v":"-"},"-",null,null,null,null,0,0,0,0,0,"*"]
[null,null,1343,null,null,null,null,null,null,null,null,null,null,null,null,null,null,null,null,null,null,null,null,null,null,{"$f":"IF(H1351=\"\",\"-\",VLOOKUP(J1351,読み替え表_低炭素物流!$C$4:$F$12,4,0))","v":"-"},{"$f":"IF(H1351=\"\",\"-\",VLOOKUP(L1351,読み替え表_低炭素物流!$C$15:$F$21,4,0))","v":"-"},"-",null,null,null,null,0,0,0,0,0,"*"]
[null,null,1344,null,null,null,null,null,null,null,null,null,null,null,null,null,null,null,null,null,null,null,null,null,null,{"$f":"IF(H1352=\"\",\"-\",VLOOKUP(J1352,読み替え表_低炭素物流!$C$4:$F$12,4,0))","v":"-"},{"$f":"IF(H1352=\"\",\"-\",VLOOKUP(L1352,読み替え表_低炭素物流!$C$15:$F$21,4,0))","v":"-"},"-",null,null,null,null,0,0,0,0,0,"*"]
[null,null,1345,null,null,null,null,null,null,null,null,null,null,null,null,null,null,null,null,null,null,null,null,null,null,{"$f":"IF(H1353=\"\",\"-\",VLOOKUP(J1353,読み替え表_低炭素物流!$C$4:$F$12,4,0))","v":"-"},{"$f":"IF(H1353=\"\",\"-\",VLOOKUP(L1353,読み替え表_低炭素物流!$C$15:$F$21,4,0))","v":"-"},"-",null,null,null,null,{"$f":"IF(N1353=1,IF(OR(L1353=4,L1353=5),0,1),0)","v":0},0,0,0,0,"*"]
[null,null,{"$f":"ROW()-8","v":1346},null,null,null,null,null,null,null,null,null,null,null,null,null,null,null,null,null,null,null,null,null,null,{"$f":"IF(H1354=\"\",\"-\",VLOOKUP(J1354,読み替え表_低炭素物流!$C$4:$F$12,4,0))","v":"-"},{"$f":"IF(H1354=\"\",\"-\",VLOOKUP(L1354,読み替え表_低炭素物流!$C$15:$F$21,4,0))","v":"-"},"-",null,null,null,null,0,0,0,0,{"$f":"AG1354","v":0},"*"]
[null,null,1347,null,null,null,null,null,null,null,null,null,null,null,null,null,null,null,null,null,null,null,null,null,null,{"$f":"IF(H1355=\"\",\"-\",VLOOKUP(J1355,読み替え表_低炭素物流!$C$4:$F$12,4,0))","v":"-"},{"$f":"IF(H1355=\"\",\"-\",VLOOKUP(L1355,読み替え表_低炭素物流!$C$15:$F$21,4,0))","v":"-"},"-",null,null,null,null,0,0,0,0,0,"*"]
[null,null,1348,null,null,null,null,null,null,null,null,null,null,null,null,null,null,null,null,null,null,null,null,null,null,{"$f":"IF(H1356=\"\",\"-\",VLOOKUP(J1356,読み替え表_低炭素物流!$C$4:$F$12,4,0))","v":"-"},{"$f":"IF(H1356=\"\",\"-\",VLOOKUP(L1356,読み替え表_低炭素物流!$C$15:$F$21,4,0))","v":"-"},"-",null,null,null,null,0,0,0,0,0,"*"]
[null,null,1349,null,null,null,null,null,null,null,null,null,null,null,null,null,null,null,null,null,null,null,null,null,null,{"$f":"IF(H1357=\"\",\"-\",VLOOKUP(J1357,読み替え表_低炭素物流!$C$4:$F$12,4,0))","v":"-"},{"$f":"IF(H1357=\"\",\"-\",VLOOKUP(L1357,読み替え表_低炭素物流!$C$15:$F$21,4,0))","v":"-"},"-",null,null,null,null,0,0,0,0,0,"*"]
[null,null,1350,null,null,null,null,null,null,null,null,null,null,null,null,null,null,null,null,null,null,null,null,null,null,{"$f":"IF(H1358=\"\",\"-\",VLOOKUP(J1358,読み替え表_低炭素物流!$C$4:$F$12,4,0))","v":"-"},{"$f":"IF(H1358=\"\",\"-\",VLOOKUP(L1358,読み替え表_低炭素物流!$C$15:$F$21,4,0))","v":"-"},"-",null,null,null,null,0,0,0,0,0,"*"]
[null,null,1351,null,null,null,null,null,null,null,null,null,null,null,null,null,null,null,null,null,null,null,null,null,null,{"$f":"IF(H1359=\"\",\"-\",VLOOKUP(J1359,読み替え表_低炭素物流!$C$4:$F$12,4,0))","v":"-"},{"$f":"IF(H1359=\"\",\"-\",VLOOKUP(L1359,読み替え表_低炭素物流!$C$15:$F$21,4,0))","v":"-"},"-",null,null,null,null,0,0,0,0,0,"*"]
[null,null,1352,null,null,null,null,null,null,null,null,null,null,null,null,null,null,null,null,null,null,null,null,null,null,{"$f":"IF(H1360=\"\",\"-\",VLOOKUP(J1360,読み替え表_低炭素物流!$C$4:$F$12,4,0))","v":"-"},{"$f":"IF(H1360=\"\",\"-\",VLOOKUP(L1360,読み替え表_低炭素物流!$C$15:$F$21,4,0))","v":"-"},"-",null,null,null,null,0,0,0,0,0,"*"]
[null,null,1353,null,null,null,null,null,null,null,null,null,null,null,null,null,null,null,null,null,null,null,null,null,null,{"$f":"IF(H1361=\"\",\"-\",VLOOKUP(J1361,読み替え表_低炭素物流!$C$4:$F$12,4,0))","v":"-"},{"$f":"IF(H1361=\"\",\"-\",VLOOKUP(L1361,読み替え表_低炭素物流!$C$15:$F$21,4,0))","v":"-"},"-",null,null,null,null,0,0,0,0,0,"*"]
[null,null,1354,null,null,null,null,null,null,null,null,null,null,null,null,null,null,null,null,null,null,null,null,null,null,{"$f":"IF(H1362=\"\",\"-\",VLOOKUP(J1362,読み替え表_低炭素物流!$C$4:$F$12,4,0))","v":"-"},{"$f":"IF(H1362=\"\",\"-\",VLOOKUP(L1362,読み替え表_低炭素物流!$C$15:$F$21,4,0))","v":"-"},"-",null,null,null,null,0,0,0,0,0,"*"]
[null,null,1355,null,null,null,null,null,null,null,null,null,null,null,null,null,null,null,null,null,null,null,null,null,null,{"$f":"IF(H1363=\"\",\"-\",VLOOKUP(J1363,読み替え表_低炭素物流!$C$4:$F$12,4,0))","v":"-"},{"$f":"IF(H1363=\"\",\"-\",VLOOKUP(L1363,読み替え表_低炭素物流!$C$15:$F$21,4,0))","v":"-"},"-",null,null,null,null,0,0,0,0,0,"*"]
[null,null,1356,null,null,null,null,null,null,null,null,null,null,null,null,null,null,null,null,null,null,null,null,null,null,{"$f":"IF(H1364=\"\",\"-\",VLOOKUP(J1364,読み替え表_低炭素物流!$C$4:$F$12,4,0))","v":"-"},{"$f":"IF(H1364=\"\",\"-\",VLOOKUP(L1364,読み替え表_低炭素物流!$C$15:$F$21,4,0))","v":"-"},"-",null,null,null,null,0,0,0,0,0,"*"]
[null,null,1357,null,null,null,null,null,null,null,null,null,null,null,null,null,null,null,null,null,null,null,null,null,null,{"$f":"IF(H1365=\"\",\"-\",VLOOKUP(J1365,読み替え表_低炭素物流!$C$4:$F$12,4,0))","v":"-"},{"$f":"IF(H1365=\"\",\"-\",VLOOKUP(L1365,読み替え表_低炭素物流!$C$15:$F$21,4,0))","v":"-"},"-",null,null,null,null,0,0,0,0,0,"*"]
[null,null,1358,null,null,null,null,null,null,null,null,null,null,null,null,null,null,null,null,null,null,null,null,null,null,{"$f":"IF(H1366=\"\",\"-\",VLOOKUP(J1366,読み替え表_低炭素物流!$C$4:$F$12,4,0))","v":"-"},{"$f":"IF(H1366=\"\",\"-\",VLOOKUP(L1366,読み替え表_低炭素物流!$C$15:$F$21,4,0))","v":"-"},"-",null,null,null,null,0,0,0,0,0,"*"]
[null,null,1359,null,null,null,null,null,null,null,null,null,null,null,null,null,null,null,null,null,null,null,null,null,null,{"$f":"IF(H1367=\"\",\"-\",VLOOKUP(J1367,読み替え表_低炭素物流!$C$4:$F$12,4,0))","v":"-"},{"$f":"IF(H1367=\"\",\"-\",VLOOKUP(L1367,読み替え表_低炭素物流!$C$15:$F$21,4,0))","v":"-"},"-",null,null,null,null,0,0,0,0,0,"*"]
[null,null,1360,null,null,null,null,null,null,null,null,null,null,null,null,null,null,null,null,null,null,null,null,null,null,{"$f":"IF(H1368=\"\",\"-\",VLOOKUP(J1368,読み替え表_低炭素物流!$C$4:$F$12,4,0))","v":"-"},{"$f":"IF(H1368=\"\",\"-\",VLOOKUP(L1368,読み替え表_低炭素物流!$C$15:$F$21,4,0))","v":"-"},"-",null,null,null,null,0,0,0,{"$f":"IF(OR(N1368=7,N1368=99),1,0)","v":0},0,"*"]
[null,null,1361,null,null,null,null,null,null,null,null,null,null,null,null,null,null,null,null,null,null,null,null,null,null,{"$f":"IF(H1369=\"\",\"-\",VLOOKUP(J1369,読み替え表_低炭素物流!$C$4:$F$12,4,0))","v":"-"},{"$f":"IF(H1369=\"\",\"-\",VLOOKUP(L1369,読み替え表_低炭素物流!$C$15:$F$21,4,0))","v":"-"},"-",null,null,null,null,0,0,0,0,0,"*"]
[null,null,1362,null,null,null,null,null,null,null,null,null,null,null,null,null,null,null,null,null,null,null,null,null,null,{"$f":"IF(H1370=\"\",\"-\",VLOOKUP(J1370,読み替え表_低炭素物流!$C$4:$F$12,4,0))","v":"-"},{"$f":"IF(H1370=\"\",\"-\",VLOOKUP(L1370,読み替え表_低炭素物流!$C$15:$F$21,4,0))","v":"-"},"-",null,null,null,null,0,0,0,0,0,"*"]
[null,null,1363,null,null,null,null,null,null,null,null,null,null,null,null,null,null,null,null,null,null,null,null,null,null,{"$f":"IF(H1371=\"\",\"-\",VLOOKUP(J1371,読み替え表_低炭素物流!$C$4:$F$12,4,0))","v":"-"},{"$f":"IF(H1371=\"\",\"-\",VLOOKUP(L1371,読み替え表_低炭素物流!$C$15:$F$21,4,0))","v":"-"},"-",null,null,null,null,0,0,0,0,0,"*"]
[null,null,1364,null,null,null,null,null,null,null,null,null,null,null,null,null,null,null,null,null,null,null,null,null,null,{"$f":"IF(H1372=\"\",\"-\",VLOOKUP(J1372,読み替え表_低炭素物流!$C$4:$F$12,4,0))","v":"-"},{"$f":"IF(H1372=\"\",\"-\",VLOOKUP(L1372,読み替え表_低炭素物流!$C$15:$F$21,4,0))","v":"-"},"-",null,null,null,null,0,0,0,0,0,"*"]
[null,null,1365,null,null,null,null,null,null,null,null,null,null,null,null,null,null,null,null,null,null,null,null,null,null,{"$f":"IF(H1373=\"\",\"-\",VLOOKUP(J1373,読み替え表_低炭素物流!$C$4:$F$12,4,0))","v":"-"},{"$f":"IF(H1373=\"\",\"-\",VLOOKUP(L1373,読み替え表_低炭素物流!$C$15:$F$21,4,0))","v":"-"},"-",null,null,null,null,0,0,0,0,0,"*"]
[null,null,1366,null,null,null,null,null,null,null,null,null,null,null,null,null,null,null,null,null,null,null,null,null,null,{"$f":"IF(H1374=\"\",\"-\",VLOOKUP(J1374,読み替え表_低炭素物流!$C$4:$F$12,4,0))","v":"-"},{"$f":"IF(H1374=\"\",\"-\",VLOOKUP(L1374,読み替え表_低炭素物流!$C$15:$F$21,4,0))","v":"-"},"-",null,null,null,null,0,0,0,0,0,"*"]
[null,null,1367,null,null,null,null,null,null,null,null,null,null,null,null,null,null,null,null,null,null,null,null,null,null,{"$f":"IF(H1375=\"\",\"-\",VLOOKUP(J1375,読み替え表_低炭素物流!$C$4:$F$12,4,0))","v":"-"},{"$f":"IF(H1375=\"\",\"-\",VLOOKUP(L1375,読み替え表_低炭素物流!$C$15:$F$21,4,0))","v":"-"},"-",null,null,null,null,0,0,0,0,0,"*"]
[null,null,1368,null,null,null,null,null,null,null,null,null,null,null,null,null,null,null,null,null,null,null,null,null,null,{"$f":"IF(H1376=\"\",\"-\",VLOOKUP(J1376,読み替え表_低炭素物流!$C$4:$F$12,4,0))","v":"-"},{"$f":"IF(H1376=\"\",\"-\",VLOOKUP(L1376,読み替え表_低炭素物流!$C$15:$F$21,4,0))","v":"-"},"-",null,null,null,null,0,0,0,0,0,"*"]
[null,null,1369,null,null,null,null,null,null,null,null,null,null,null,null,null,null,null,null,null,null,null,null,null,null,{"$f":"IF(H1377=\"\",\"-\",VLOOKUP(J1377,読み替え表_低炭素物流!$C$4:$F$12,4,0))","v":"-"},{"$f":"IF(H1377=\"\",\"-\",VLOOKUP(L1377,読み替え表_低炭素物流!$C$15:$F$21,4,0))","v":"-"},"-",null,null,null,null,0,0,0,0,0,"*"]
[null,null,1370,null,null,null,null,null,null,null,null,null,null,null,null,null,null,null,null,null,null,null,null,null,null,{"$f":"IF(H1378=\"\",\"-\",VLOOKUP(J1378,読み替え表_低炭素物流!$C$4:$F$12,4,0))","v":"-"},{"$f":"IF(H1378=\"\",\"-\",VLOOKUP(L1378,読み替え表_低炭素物流!$C$15:$F$21,4,0))","v":"-"},"-",null,null,null,null,0,0,0,0,0,"*"]
[null,null,1371,null,null,null,null,null,null,null,null,null,null,null,null,null,null,null,null,null,null,null,null,null,null,{"$f":"IF(H1379=\"\",\"-\",VLOOKUP(J1379,読み替え表_低炭素物流!$C$4:$F$12,4,0))","v":"-"},{"$f":"IF(H1379=\"\",\"-\",VLOOKUP(L1379,読み替え表_低炭素物流!$C$15:$F$21,4,0))","v":"-"},"-",null,null,null,null,0,0,0,0,0,"*"]
[null,null,1372,null,null,null,null,null,null,null,null,null,null,null,null,null,null,null,null,null,null,null,null,null,null,{"$f":"IF(H1380=\"\",\"-\",VLOOKUP(J1380,読み替え表_低炭素物流!$C$4:$F$12,4,0))","v":"-"},{"$f":"IF(H1380=\"\",\"-\",VLOOKUP(L1380,読み替え表_低炭素物流!$C$15:$F$21,4,0))","v":"-"},"-",null,null,null,null,0,0,0,0,0,"*"]
[null,null,1373,null,null,null,null,null,null,null,null,null,null,null,null,null,null,null,null,null,null,null,null,null,null,{"$f":"IF(H1381=\"\",\"-\",VLOOKUP(J1381,読み替え表_低炭素物流!$C$4:$F$12,4,0))","v":"-"},{"$f":"IF(H1381=\"\",\"-\",VLOOKUP(L1381,読み替え表_低炭素物流!$C$15:$F$21,4,0))","v":"-"},"-",null,null,null,null,0,0,0,0,0,"*"]
[null,null,1374,null,null,null,null,null,null,null,null,null,null,null,null,null,null,null,null,null,null,null,null,null,null,{"$f":"IF(H1382=\"\",\"-\",VLOOKUP(J1382,読み替え表_低炭素物流!$C$4:$F$12,4,0))","v":"-"},{"$f":"IF(H1382=\"\",\"-\",VLOOKUP(L1382,読み替え表_低炭素物流!$C$15:$F$21,4,0))","v":"-"},"-",null,null,null,null,0,0,0,0,0,"*"]
[null,null,1375,null,null,null,null,null,null,null,null,null,null,null,null,null,null,null,null,null,null,null,null,null,null,{"$f":"IF(H1383=\"\",\"-\",VLOOKUP(J1383,読み替え表_低炭素物流!$C$4:$F$12,4,0))","v":"-"},{"$f":"IF(H1383=\"\",\"-\",VLOOKUP(L1383,読み替え表_低炭素物流!$C$15:$F$21,4,0))","v":"-"},"-",null,null,null,null,0,0,0,0,0,"*"]
[null,null,1376,null,null,null,null,null,null,null,null,null,null,null,null,null,null,null,null,null,null,null,null,null,null,{"$f":"IF(H1384=\"\",\"-\",VLOOKUP(J1384,読み替え表_低炭素物流!$C$4:$F$12,4,0))","v":"-"},{"$f":"IF(H1384=\"\",\"-\",VLOOKUP(L1384,読み替え表_低炭素物流!$C$15:$F$21,4,0))","v":"-"},"-",null,null,null,null,0,0,0,0,0,"*"]
[null,null,1377,null,null,null,null,null,null,null,null,null,null,null,null,null,null,null,null,null,null,null,null,null,null,{"$f":"IF(H1385=\"\",\"-\",VLOOKUP(J1385,読み替え表_低炭素物流!$C$4:$F$12,4,0))","v":"-"},{"$f":"IF(H1385=\"\",\"-\",VLOOKUP(L1385,読み替え表_低炭素物流!$C$15:$F$21,4,0))","v":"-"},"-",null,null,null,null,0,0,0,0,0,"*"]
[null,null,1378,null,null,null,null,null,null,null,null,null,null,null,null,null,null,null,null,null,null,null,null,null,null,{"$f":"IF(H1386=\"\",\"-\",VLOOKUP(J1386,読み替え表_低炭素物流!$C$4:$F$12,4,0))","v":"-"},{"$f":"IF(H1386=\"\",\"-\",VLOOKUP(L1386,読み替え表_低炭素物流!$C$15:$F$21,4,0))","v":"-"},"-",null,null,null,null,0,0,0,0,0,"*"]
[null,null,1379,null,null,null,null,null,null,null,null,null,null,null,null,null,null,null,null,null,null,null,null,null,null,{"$f":"IF(H1387=\"\",\"-\",VLOOKUP(J1387,読み替え表_低炭素物流!$C$4:$F$12,4,0))","v":"-"},{"$f":"IF(H1387=\"\",\"-\",VLOOKUP(L1387,読み替え表_低炭素物流!$C$15:$F$21,4,0))","v":"-"},"-",null,null,null,null,0,0,0,0,0,"*"]
[null,null,1380,null,null,null,null,null,null,null,null,null,null,null,null,null,null,null,null,null,null,null,null,null,null,{"$f":"IF(H1388=\"\",\"-\",VLOOKUP(J1388,読み替え表_低炭素物流!$C$4:$F$12,4,0))","v":"-"},{"$f":"IF(H1388=\"\",\"-\",VLOOKUP(L1388,読み替え表_低炭素物流!$C$15:$F$21,4,0))","v":"-"},"-",null,null,null,null,0,0,0,0,0,"*"]
[null,null,1381,null,null,null,null,null,null,null,null,null,null,null,null,null,null,null,null,null,null,null,null,null,null,{"$f":"IF(H1389=\"\",\"-\",VLOOKUP(J1389,読み替え表_低炭素物流!$C$4:$F$12,4,0))","v":"-"},{"$f":"IF(H1389=\"\",\"-\",VLOOKUP(L1389,読み替え表_低炭素物流!$C$15:$F$21,4,0))","v":"-"},"-",null,null,null,null,0,0,0,0,0,"*"]
[null,null,1382,null,null,null,null,null,null,null,null,null,null,null,null,null,null,null,null,null,null,null,null,null,null,{"$f":"IF(H1390=\"\",\"-\",VLOOKUP(J1390,読み替え表_低炭素物流!$C$4:$F$12,4,0))","v":"-"},{"$f":"IF(H1390=\"\",\"-\",VLOOKUP(L1390,読み替え表_低炭素物流!$C$15:$F$21,4,0))","v":"-"},"-",null,null,null,null,0,0,0,0,0,"*"]
[null,null,1383,null,null,null,null,null,null,null,null,null,null,null,null,null,null,null,null,null,null,null,null,null,null,{"$f":"IF(H1391=\"\",\"-\",VLOOKUP(J1391,読み替え表_低炭素物流!$C$4:$F$12,4,0))","v":"-"},{"$f":"IF(H1391=\"\",\"-\",VLOOKUP(L1391,読み替え表_低炭素物流!$C$15:$F$21,4,0))","v":"-"},"-",null,null,null,null,0,0,0,0,0,"*"]
[null,null,1384,null,null,null,null,null,null,null,null,null,null,null,null,null,null,null,null,null,null,null,null,null,null,{"$f":"IF(H1392=\"\",\"-\",VLOOKUP(J1392,読み替え表_低炭素物流!$C$4:$F$12,4,0))","v":"-"},{"$f":"IF(H1392=\"\",\"-\",VLOOKUP(L1392,読み替え表_低炭素物流!$C$15:$F$21,4,0))","v":"-"},"-",null,null,null,null,0,0,0,0,0,"*"]
[null,null,1385,null,null,null,null,null,null,null,null,null,null,null,null,null,null,null,null,null,null,null,null,null,null,{"$f":"IF(H1393=\"\",\"-\",VLOOKUP(J1393,読み替え表_低炭素物流!$C$4:$F$12,4,0))","v":"-"},{"$f":"IF(H1393=\"\",\"-\",VLOOKUP(L1393,読み替え表_低炭素物流!$C$15:$F$21,4,0))","v":"-"},{"$f":"IF(H1393=\"\",\"-\",Z1393*AA1393)","v":"-"},null,null,null,null,0,{"$f":"IF(J1393=8,1,0)","v":0},{"$f":"IF(L1393=6,1,0)","v":0},0,0,"*"]
[null,null,1386,null,null,null,null,null,null,null,null,null,null,null,null,null,null,null,null,null,null,null,null,null,null,{"$f":"IF(H1394=\"\",\"-\",VLOOKUP(J1394,読み替え表_低炭素物流!$C$4:$F$12,4,0))","v":"-"},{"$f":"IF(H1394=\"\",\"-\",VLOOKUP(L1394,読み替え表_低炭素物流!$C$15:$F$21,4,0))","v":"-"},"-",null,null,null,null,0,0,0,0,0,"*"]
[null,null,1387,null,null,null,null,null,null,null,null,null,null,null,null,null,null,null,null,null,null,null,null,null,null,{"$f":"IF(H1395=\"\",\"-\",VLOOKUP(J1395,読み替え表_低炭素物流!$C$4:$F$12,4,0))","v":"-"},{"$f":"IF(H1395=\"\",\"-\",VLOOKUP(L1395,読み替え表_低炭素物流!$C$15:$F$21,4,0))","v":"-"},"-",null,null,null,null,0,0,0,0,0,"*"]
[null,null,1388,null,null,null,null,null,null,null,null,null,null,null,null,null,null,null,null,null,null,null,null,null,null,{"$f":"IF(H1396=\"\",\"-\",VLOOKUP(J1396,読み替え表_低炭素物流!$C$4:$F$12,4,0))","v":"-"},{"$f":"IF(H1396=\"\",\"-\",VLOOKUP(L1396,読み替え表_低炭素物流!$C$15:$F$21,4,0))","v":"-"},"-",null,null,null,null,0,0,0,0,0,"*"]
[null,null,1389,null,null,null,null,null,null,null,null,null,null,null,null,null,null,null,null,null,null,null,null,null,null,{"$f":"IF(H1397=\"\",\"-\",VLOOKUP(J1397,読み替え表_低炭素物流!$C$4:$F$12,4,0))","v":"-"},{"$f":"IF(H1397=\"\",\"-\",VLOOKUP(L1397,読み替え表_低炭素物流!$C$15:$F$21,4,0))","v":"-"},"-",null,null,null,null,0,0,0,0,0,"*"]
[null,null,1390,null,null,null,null,null,null,null,null,null,null,null,null,null,null,null,null,null,null,null,null,null,null,{"$f":"IF(H1398=\"\",\"-\",VLOOKUP(J1398,読み替え表_低炭素物流!$C$4:$F$12,4,0))","v":"-"},{"$f":"IF(H1398=\"\",\"-\",VLOOKUP(L1398,読み替え表_低炭素物流!$C$15:$F$21,4,0))","v":"-"},"-",null,null,null,null,0,0,0,0,0,"*"]
[null,null,1391,null,null,null,null,null,null,null,null,null,null,null,null,null,null,null,null,null,null,null,null,null,null,{"$f":"IF(H1399=\"\",\"-\",VLOOKUP(J1399,読み替え表_低炭素物流!$C$4:$F$12,4,0))","v":"-"},{"$f":"IF(H1399=\"\",\"-\",VLOOKUP(L1399,読み替え表_低炭素物流!$C$15:$F$21,4,0))","v":"-"},"-",null,null,null,null,0,0,0,0,0,"*"]
[null,null,1392,null,null,null,null,null,null,null,null,null,null,null,null,null,null,null,null,null,null,null,null,null,null,{"$f":"IF(H1400=\"\",\"-\",VLOOKUP(J1400,読み替え表_低炭素物流!$C$4:$F$12,4,0))","v":"-"},{"$f":"IF(H1400=\"\",\"-\",VLOOKUP(L1400,読み替え表_低炭素物流!$C$15:$F$21,4,0))","v":"-"},"-",null,null,null,null,0,0,0,0,0,"*"]
[null,null,1393,null,null,null,null,null,null,null,null,null,null,null,null,null,null,null,null,null,null,null,null,null,null,{"$f":"IF(H1401=\"\",\"-\",VLOOKUP(J1401,読み替え表_低炭素物流!$C$4:$F$12,4,0))","v":"-"},{"$f":"IF(H1401=\"\",\"-\",VLOOKUP(L1401,読み替え表_低炭素物流!$C$15:$F$21,4,0))","v":"-"},"-",null,null,null,null,0,0,0,0,0,"*"]
[null,null,1394,null,null,null,null,null,null,null,null,null,null,null,null,null,null,null,null,null,null,null,null,null,null,{"$f":"IF(H1402=\"\",\"-\",VLOOKUP(J1402,読み替え表_低炭素物流!$C$4:$F$12,4,0))","v":"-"},{"$f":"IF(H1402=\"\",\"-\",VLOOKUP(L1402,読み替え表_低炭素物流!$C$15:$F$21,4,0))","v":"-"},"-",null,null,null,null,0,0,0,0,0,"*"]
[null,null,1395,null,null,null,null,null,null,null,null,null,null,null,null,null,null,null,null,null,null,null,null,null,null,{"$f":"IF(H1403=\"\",\"-\",VLOOKUP(J1403,読み替え表_低炭素物流!$C$4:$F$12,4,0))","v":"-"},{"$f":"IF(H1403=\"\",\"-\",VLOOKUP(L1403,読み替え表_低炭素物流!$C$15:$F$21,4,0))","v":"-"},"-",null,null,null,null,0,0,0,0,0,"*"]
[null,null,1396,null,null,null,null,null,null,null,null,null,null,null,null,null,null,null,null,null,null,null,null,null,null,{"$f":"IF(H1404=\"\",\"-\",VLOOKUP(J1404,読み替え表_低炭素物流!$C$4:$F$12,4,0))","v":"-"},{"$f":"IF(H1404=\"\",\"-\",VLOOKUP(L1404,読み替え表_低炭素物流!$C$15:$F$21,4,0))","v":"-"},"-",null,null,null,null,0,0,0,0,0,"*"]
[null,null,1397,null,null,null,null,null,null,null,null,null,null,null,null,null,null,null,null,null,null,null,null,null,null,{"$f":"IF(H1405=\"\",\"-\",VLOOKUP(J1405,読み替え表_低炭素物流!$C$4:$F$12,4,0))","v":"-"},{"$f":"IF(H1405=\"\",\"-\",VLOOKUP(L1405,読み替え表_低炭素物流!$C$15:$F$21,4,0))","v":"-"},"-",null,null,null,null,0,0,0,0,0,"*"]
[null,null,1398,null,null,null,null,null,null,null,null,null,null,null,null,null,null,null,null,null,null,null,null,null,null,{"$f":"IF(H1406=\"\",\"-\",VLOOKUP(J1406,読み替え表_低炭素物流!$C$4:$F$12,4,0))","v":"-"},{"$f":"IF(H1406=\"\",\"-\",VLOOKUP(L1406,読み替え表_低炭素物流!$C$15:$F$21,4,0))","v":"-"},"-",null,null,null,null,0,0,0,0,0,"*"]
[null,null,1399,null,null,null,null,null,null,null,null,null,null,null,null,null,null,null,null,null,null,null,null,null,null,{"$f":"IF(H1407=\"\",\"-\",VLOOKUP(J1407,読み替え表_低炭素物流!$C$4:$F$12,4,0))","v":"-"},{"$f":"IF(H1407=\"\",\"-\",VLOOKUP(L1407,読み替え表_低炭素物流!$C$15:$F$21,4,0))","v":"-"},"-",null,null,null,null,0,0,0,0,0,"*"]
[null,null,1400,null,null,null,null,null,null,null,null,null,null,null,null,null,null,null,null,null,null,null,null,null,null,{"$f":"IF(H1408=\"\",\"-\",VLOOKUP(J1408,読み替え表_低炭素物流!$C$4:$F$12,4,0))","v":"-"},{"$f":"IF(H1408=\"\",\"-\",VLOOKUP(L1408,読み替え表_低炭素物流!$C$15:$F$21,4,0))","v":"-"},"-",null,null,null,null,0,0,0,0,0,"*"]
[null,null,1401,null,null,null,null,null,null,null,null,null,null,null,null,null,null,null,null,null,null,null,null,null,null,{"$f":"IF(H1409=\"\",\"-\",VLOOKUP(J1409,読み替え表_低炭素物流!$C$4:$F$12,4,0))","v":"-"},{"$f":"IF(H1409=\"\",\"-\",VLOOKUP(L1409,読み替え表_低炭素物流!$C$15:$F$21,4,0))","v":"-"},"-",null,null,null,null,0,0,0,0,0,"*"]
[null,null,1402,null,null,null,null,null,null,null,null,null,null,null,null,null,null,null,null,null,null,null,null,null,null,{"$f":"IF(H1410=\"\",\"-\",VLOOKUP(J1410,読み替え表_低炭素物流!$C$4:$F$12,4,0))","v":"-"},{"$f":"IF(H1410=\"\",\"-\",VLOOKUP(L1410,読み替え表_低炭素物流!$C$15:$F$21,4,0))","v":"-"},"-",null,null,null,null,0,0,0,0,0,"*"]
[null,null,1403,null,null,null,null,null,null,null,null,null,null,null,null,null,null,null,null,null,null,null,null,null,null,{"$f":"IF(H1411=\"\",\"-\",VLOOKUP(J1411,読み替え表_低炭素物流!$C$4:$F$12,4,0))","v":"-"},{"$f":"IF(H1411=\"\",\"-\",VLOOKUP(L1411,読み替え表_低炭素物流!$C$15:$F$21,4,0))","v":"-"},"-",null,null,null,null,0,0,0,0,0,"*"]
[null,null,1404,null,null,null,null,null,null,null,null,null,null,null,null,null,null,null,null,null,null,null,null,null,null,{"$f":"IF(H1412=\"\",\"-\",VLOOKUP(J1412,読み替え表_低炭素物流!$C$4:$F$12,4,0))","v":"-"},{"$f":"IF(H1412=\"\",\"-\",VLOOKUP(L1412,読み替え表_低炭素物流!$C$15:$F$21,4,0))","v":"-"},"-",null,null,null,null,0,0,0,0,0,"*"]
[null,null,1405,null,null,null,null,null,null,null,null,null,null,null,null,null,null,null,null,null,null,null,null,null,null,{"$f":"IF(H1413=\"\",\"-\",VLOOKUP(J1413,読み替え表_低炭素物流!$C$4:$F$12,4,0))","v":"-"},{"$f":"IF(H1413=\"\",\"-\",VLOOKUP(L1413,読み替え表_低炭素物流!$C$15:$F$21,4,0))","v":"-"},"-",null,null,null,null,0,0,0,0,0,"*"]
[null,null,1406,null,null,null,null,null,null,null,null,null,null,null,null,null,null,null,null,null,null,null,null,null,null,{"$f":"IF(H1414=\"\",\"-\",VLOOKUP(J1414,読み替え表_低炭素物流!$C$4:$F$12,4,0))","v":"-"},{"$f":"IF(H1414=\"\",\"-\",VLOOKUP(L1414,読み替え表_低炭素物流!$C$15:$F$21,4,0))","v":"-"},"-",null,null,null,null,0,0,0,0,0,"*"]
[null,null,1407,null,null,null,null,null,null,null,null,null,null,null,null,null,null,null,null,null,null,null,null,null,null,{"$f":"IF(H1415=\"\",\"-\",VLOOKUP(J1415,読み替え表_低炭素物流!$C$4:$F$12,4,0))","v":"-"},{"$f":"IF(H1415=\"\",\"-\",VLOOKUP(L1415,読み替え表_低炭素物流!$C$15:$F$21,4,0))","v":"-"},"-",null,null,null,null,0,0,0,0,0,"*"]
[null,null,1408,null,null,null,null,null,null,null,null,null,null,null,null,null,null,null,null,null,null,null,null,null,null,{"$f":"IF(H1416=\"\",\"-\",VLOOKUP(J1416,読み替え表_低炭素物流!$C$4:$F$12,4,0))","v":"-"},{"$f":"IF(H1416=\"\",\"-\",VLOOKUP(L1416,読み替え表_低炭素物流!$C$15:$F$21,4,0))","v":"-"},"-",null,null,null,null,0,0,0,0,0,"*"]
[null,null,1409,null,null,null,null,null,null,null,null,null,null,null,null,null,null,null,null,null,null,null,null,null,null,{"$f":"IF(H1417=\"\",\"-\",VLOOKUP(J1417,読み替え表_低炭素物流!$C$4:$F$12,4,0))","v":"-"},{"$f":"IF(H1417=\"\",\"-\",VLOOKUP(L1417,読み替え表_低炭素物流!$C$15:$F$21,4,0))","v":"-"},"-",null,null,null,null,{"$f":"IF(N1417=1,IF(OR(L1417=4,L1417=5),0,1),0)","v":0},0,0,0,0,"*"]
[null,null,{"$f":"ROW()-8","v":1410},null,null,null,null,null,null,null,null,null,null,null,null,null,null,null,null,null,null,null,null,null,null,{"$f":"IF(H1418=\"\",\"-\",VLOOKUP(J1418,読み替え表_低炭素物流!$C$4:$F$12,4,0))","v":"-"},{"$f":"IF(H1418=\"\",\"-\",VLOOKUP(L1418,読み替え表_低炭素物流!$C$15:$F$21,4,0))","v":"-"},"-",null,null,null,null,0,0,0,0,{"$f":"AG1418","v":0},"*"]
[null,null,1411,null,null,null,null,null,null,null,null,null,null,null,null,null,null,null,null,null,null,null,null,null,null,{"$f":"IF(H1419=\"\",\"-\",VLOOKUP(J1419,読み替え表_低炭素物流!$C$4:$F$12,4,0))","v":"-"},{"$f":"IF(H1419=\"\",\"-\",VLOOKUP(L1419,読み替え表_低炭素物流!$C$15:$F$21,4,0))","v":"-"},"-",null,null,null,null,0,0,0,0,0,"*"]
[null,null,1412,null,null,null,null,null,null,null,null,null,null,null,null,null,null,null,null,null,null,null,null,null,null,{"$f":"IF(H1420=\"\",\"-\",VLOOKUP(J1420,読み替え表_低炭素物流!$C$4:$F$12,4,0))","v":"-"},{"$f":"IF(H1420=\"\",\"-\",VLOOKUP(L1420,読み替え表_低炭素物流!$C$15:$F$21,4,0))","v":"-"},"-",null,null,null,null,0,0,0,0,0,"*"]
[null,null,1413,null,null,null,null,null,null,null,null,null,null,null,null,null,null,null,null,null,null,null,null,null,null,{"$f":"IF(H1421=\"\",\"-\",VLOOKUP(J1421,読み替え表_低炭素物流!$C$4:$F$12,4,0))","v":"-"},{"$f":"IF(H1421=\"\",\"-\",VLOOKUP(L1421,読み替え表_低炭素物流!$C$15:$F$21,4,0))","v":"-"},"-",null,null,null,null,0,0,0,0,0,"*"]
[null,null,1414,null,null,null,null,null,null,null,null,null,null,null,null,null,null,null,null,null,null,null,null,null,null,{"$f":"IF(H1422=\"\",\"-\",VLOOKUP(J1422,読み替え表_低炭素物流!$C$4:$F$12,4,0))","v":"-"},{"$f":"IF(H1422=\"\",\"-\",VLOOKUP(L1422,読み替え表_低炭素物流!$C$15:$F$21,4,0))","v":"-"},"-",null,null,null,null,0,0,0,0,0,"*"]
[null,null,1415,null,null,null,null,null,null,null,null,null,null,null,null,null,null,null,null,null,null,null,null,null,null,{"$f":"IF(H1423=\"\",\"-\",VLOOKUP(J1423,読み替え表_低炭素物流!$C$4:$F$12,4,0))","v":"-"},{"$f":"IF(H1423=\"\",\"-\",VLOOKUP(L1423,読み替え表_低炭素物流!$C$15:$F$21,4,0))","v":"-"},"-",null,null,null,null,0,0,0,0,0,"*"]
[null,null,1416,null,null,null,null,null,null,null,null,null,null,null,null,null,null,null,null,null,null,null,null,null,null,{"$f":"IF(H1424=\"\",\"-\",VLOOKUP(J1424,読み替え表_低炭素物流!$C$4:$F$12,4,0))","v":"-"},{"$f":"IF(H1424=\"\",\"-\",VLOOKUP(L1424,読み替え表_低炭素物流!$C$15:$F$21,4,0))","v":"-"},"-",null,null,null,null,0,0,0,0,0,"*"]
[null,null,1417,null,null,null,null,null,null,null,null,null,null,null,null,null,null,null,null,null,null,null,null,null,null,{"$f":"IF(H1425=\"\",\"-\",VLOOKUP(J1425,読み替え表_低炭素物流!$C$4:$F$12,4,0))","v":"-"},{"$f":"IF(H1425=\"\",\"-\",VLOOKUP(L1425,読み替え表_低炭素物流!$C$15:$F$21,4,0))","v":"-"},"-",null,null,null,null,0,0,0,0,0,"*"]
[null,null,1418,null,null,null,null,null,null,null,null,null,null,null,null,null,null,null,null,null,null,null,null,null,null,{"$f":"IF(H1426=\"\",\"-\",VLOOKUP(J1426,読み替え表_低炭素物流!$C$4:$F$12,4,0))","v":"-"},{"$f":"IF(H1426=\"\",\"-\",VLOOKUP(L1426,読み替え表_低炭素物流!$C$15:$F$21,4,0))","v":"-"},"-",null,null,null,null,0,0,0,0,0,"*"]
[null,null,1419,null,null,null,null,null,null,null,null,null,null,null,null,null,null,null,null,null,null,null,null,null,null,{"$f":"IF(H1427=\"\",\"-\",VLOOKUP(J1427,読み替え表_低炭素物流!$C$4:$F$12,4,0))","v":"-"},{"$f":"IF(H1427=\"\",\"-\",VLOOKUP(L1427,読み替え表_低炭素物流!$C$15:$F$21,4,0))","v":"-"},"-",null,null,null,null,0,0,0,0,0,"*"]
[null,null,1420,null,null,null,null,null,null,null,null,null,null,null,null,null,null,null,null,null,null,null,null,null,null,{"$f":"IF(H1428=\"\",\"-\",VLOOKUP(J1428,読み替え表_低炭素物流!$C$4:$F$12,4,0))","v":"-"},{"$f":"IF(H1428=\"\",\"-\",VLOOKUP(L1428,読み替え表_低炭素物流!$C$15:$F$21,4,0))","v":"-"},"-",null,null,null,null,0,0,0,0,0,"*"]
[null,null,1421,null,null,null,null,null,null,null,null,null,null,null,null,null,null,null,null,null,null,null,null,null,null,{"$f":"IF(H1429=\"\",\"-\",VLOOKUP(J1429,読み替え表_低炭素物流!$C$4:$F$12,4,0))","v":"-"},{"$f":"IF(H1429=\"\",\"-\",VLOOKUP(L1429,読み替え表_低炭素物流!$C$15:$F$21,4,0))","v":"-"},"-",null,null,null,null,0,0,0,0,0,"*"]
[null,null,1422,null,null,null,null,null,null,null,null,null,null,null,null,null,null,null,null,null,null,null,null,null,null,{"$f":"IF(H1430=\"\",\"-\",VLOOKUP(J1430,読み替え表_低炭素物流!$C$4:$F$12,4,0))","v":"-"},{"$f":"IF(H1430=\"\",\"-\",VLOOKUP(L1430,読み替え表_低炭素物流!$C$15:$F$21,4,0))","v":"-"},"-",null,null,null,null,0,0,0,0,0,"*"]
[null,null,1423,null,null,null,null,null,null,null,null,null,null,null,null,null,null,null,null,null,null,null,null,null,null,{"$f":"IF(H1431=\"\",\"-\",VLOOKUP(J1431,読み替え表_低炭素物流!$C$4:$F$12,4,0))","v":"-"},{"$f":"IF(H1431=\"\",\"-\",VLOOKUP(L1431,読み替え表_低炭素物流!$C$15:$F$21,4,0))","v":"-"},"-",null,null,null,null,0,0,0,0,0,"*"]
[null,null,1424,null,null,null,null,null,null,null,null,null,null,null,null,null,null,null,null,null,null,null,null,null,null,{"$f":"IF(H1432=\"\",\"-\",VLOOKUP(J1432,読み替え表_低炭素物流!$C$4:$F$12,4,0))","v":"-"},{"$f":"IF(H1432=\"\",\"-\",VLOOKUP(L1432,読み替え表_低炭素物流!$C$15:$F$21,4,0))","v":"-"},"-",null,null,null,null,0,0,0,{"$f":"IF(OR(N1432=7,N1432=99),1,0)","v":0},0,"*"]
[null,null,1425,null,null,null,null,null,null,null,null,null,null,null,null,null,null,null,null,null,null,null,null,null,null,{"$f":"IF(H1433=\"\",\"-\",VLOOKUP(J1433,読み替え表_低炭素物流!$C$4:$F$12,4,0))","v":"-"},{"$f":"IF(H1433=\"\",\"-\",VLOOKUP(L1433,読み替え表_低炭素物流!$C$15:$F$21,4,0))","v":"-"},"-",null,null,null,null,0,0,0,0,0,"*"]
[null,null,1426,null,null,null,null,null,null,null,null,null,null,null,null,null,null,null,null,null,null,null,null,null,null,{"$f":"IF(H1434=\"\",\"-\",VLOOKUP(J1434,読み替え表_低炭素物流!$C$4:$F$12,4,0))","v":"-"},{"$f":"IF(H1434=\"\",\"-\",VLOOKUP(L1434,読み替え表_低炭素物流!$C$15:$F$21,4,0))","v":"-"},"-",null,null,null,null,0,0,0,0,0,"*"]
[null,null,1427,null,null,null,null,null,null,null,null,null,null,null,null,null,null,null,null,null,null,null,null,null,null,{"$f":"IF(H1435=\"\",\"-\",VLOOKUP(J1435,読み替え表_低炭素物流!$C$4:$F$12,4,0))","v":"-"},{"$f":"IF(H1435=\"\",\"-\",VLOOKUP(L1435,読み替え表_低炭素物流!$C$15:$F$21,4,0))","v":"-"},"-",null,null,null,null,0,0,0,0,0,"*"]
[null,null,1428,null,null,null,null,null,null,null,null,null,null,null,null,null,null,null,null,null,null,null,null,null,null,{"$f":"IF(H1436=\"\",\"-\",VLOOKUP(J1436,読み替え表_低炭素物流!$C$4:$F$12,4,0))","v":"-"},{"$f":"IF(H1436=\"\",\"-\",VLOOKUP(L1436,読み替え表_低炭素物流!$C$15:$F$21,4,0))","v":"-"},"-",null,null,null,null,0,0,0,0,0,"*"]
[null,null,1429,null,null,null,null,null,null,null,null,null,null,null,null,null,null,null,null,null,null,null,null,null,null,{"$f":"IF(H1437=\"\",\"-\",VLOOKUP(J1437,読み替え表_低炭素物流!$C$4:$F$12,4,0))","v":"-"},{"$f":"IF(H1437=\"\",\"-\",VLOOKUP(L1437,読み替え表_低炭素物流!$C$15:$F$21,4,0))","v":"-"},"-",null,null,null,null,0,0,0,0,0,"*"]
[null,null,1430,null,null,null,null,null,null,null,null,null,null,null,null,null,null,null,null,null,null,null,null,null,null,{"$f":"IF(H1438=\"\",\"-\",VLOOKUP(J1438,読み替え表_低炭素物流!$C$4:$F$12,4,0))","v":"-"},{"$f":"IF(H1438=\"\",\"-\",VLOOKUP(L1438,読み替え表_低炭素物流!$C$15:$F$21,4,0))","v":"-"},"-",null,null,null,null,0,0,0,0,0,"*"]
[null,null,1431,null,null,null,null,null,null,null,null,null,null,null,null,null,null,null,null,null,null,null,null,null,null,{"$f":"IF(H1439=\"\",\"-\",VLOOKUP(J1439,読み替え表_低炭素物流!$C$4:$F$12,4,0))","v":"-"},{"$f":"IF(H1439=\"\",\"-\",VLOOKUP(L1439,読み替え表_低炭素物流!$C$15:$F$21,4,0))","v":"-"},"-",null,null,null,null,0,0,0,0,0,"*"]
[null,null,1432,null,null,null,null,null,null,null,null,null,null,null,null,null,null,null,null,null,null,null,null,null,null,{"$f":"IF(H1440=\"\",\"-\",VLOOKUP(J1440,読み替え表_低炭素物流!$C$4:$F$12,4,0))","v":"-"},{"$f":"IF(H1440=\"\",\"-\",VLOOKUP(L1440,読み替え表_低炭素物流!$C$15:$F$21,4,0))","v":"-"},"-",null,null,null,null,0,0,0,0,0,"*"]
[null,null,1433,null,null,null,null,null,null,null,null,null,null,null,null,null,null,null,null,null,null,null,null,null,null,{"$f":"IF(H1441=\"\",\"-\",VLOOKUP(J1441,読み替え表_低炭素物流!$C$4:$F$12,4,0))","v":"-"},{"$f":"IF(H1441=\"\",\"-\",VLOOKUP(L1441,読み替え表_低炭素物流!$C$15:$F$21,4,0))","v":"-"},"-",null,null,null,null,0,0,0,0,0,"*"]
[null,null,1434,null,null,null,null,null,null,null,null,null,null,null,null,null,null,null,null,null,null,null,null,null,null,{"$f":"IF(H1442=\"\",\"-\",VLOOKUP(J1442,読み替え表_低炭素物流!$C$4:$F$12,4,0))","v":"-"},{"$f":"IF(H1442=\"\",\"-\",VLOOKUP(L1442,読み替え表_低炭素物流!$C$15:$F$21,4,0))","v":"-"},"-",null,null,null,null,0,0,0,0,0,"*"]
[null,null,1435,null,null,null,null,null,null,null,null,null,null,null,null,null,null,null,null,null,null,null,null,null,null,{"$f":"IF(H1443=\"\",\"-\",VLOOKUP(J1443,読み替え表_低炭素物流!$C$4:$F$12,4,0))","v":"-"},{"$f":"IF(H1443=\"\",\"-\",VLOOKUP(L1443,読み替え表_低炭素物流!$C$15:$F$21,4,0))","v":"-"},"-",null,null,null,null,0,0,0,0,0,"*"]
[null,null,1436,null,null,null,null,null,null,null,null,null,null,null,null,null,null,null,null,null,null,null,null,null,null,{"$f":"IF(H1444=\"\",\"-\",VLOOKUP(J1444,読み替え表_低炭素物流!$C$4:$F$12,4,0))","v":"-"},{"$f":"IF(H1444=\"\",\"-\",VLOOKUP(L1444,読み替え表_低炭素物流!$C$15:$F$21,4,0))","v":"-"},"-",null,null,null,null,0,0,0,0,0,"*"]
[null,null,1437,null,null,null,null,null,null,null,null,null,null,null,null,null,null,null,null,null,null,null,null,null,null,{"$f":"IF(H1445=\"\",\"-\",VLOOKUP(J1445,読み替え表_低炭素物流!$C$4:$F$12,4,0))","v":"-"},{"$f":"IF(H1445=\"\",\"-\",VLOOKUP(L1445,読み替え表_低炭素物流!$C$15:$F$21,4,0))","v":"-"},"-",null,null,null,null,0,0,0,0,0,"*"]
[null,null,1438,null,null,null,null,null,null,null,null,null,null,null,null,null,null,null,null,null,null,null,null,null,null,{"$f":"IF(H1446=\"\",\"-\",VLOOKUP(J1446,読み替え表_低炭素物流!$C$4:$F$12,4,0))","v":"-"},{"$f":"IF(H1446=\"\",\"-\",VLOOKUP(L1446,読み替え表_低炭素物流!$C$15:$F$21,4,0))","v":"-"},"-",null,null,null,null,0,0,0,0,0,"*"]
[null,null,1439,null,null,null,null,null,null,null,null,null,null,null,null,null,null,null,null,null,null,null,null,null,null,{"$f":"IF(H1447=\"\",\"-\",VLOOKUP(J1447,読み替え表_低炭素物流!$C$4:$F$12,4,0))","v":"-"},{"$f":"IF(H1447=\"\",\"-\",VLOOKUP(L1447,読み替え表_低炭素物流!$C$15:$F$21,4,0))","v":"-"},"-",null,null,null,null,0,0,0,0,0,"*"]
[null,null,1440,null,null,null,null,null,null,null,null,null,null,null,null,null,null,null,null,null,null,null,null,null,null,{"$f":"IF(H1448=\"\",\"-\",VLOOKUP(J1448,読み替え表_低炭素物流!$C$4:$F$12,4,0))","v":"-"},{"$f":"IF(H1448=\"\",\"-\",VLOOKUP(L1448,読み替え表_低炭素物流!$C$15:$F$21,4,0))","v":"-"},"-",null,null,null,null,0,0,0,0,0,"*"]
[null,null,1441,null,null,null,null,null,null,null,null,null,null,null,null,null,null,null,null,null,null,null,null,null,null,{"$f":"IF(H1449=\"\",\"-\",VLOOKUP(J1449,読み替え表_低炭素物流!$C$4:$F$12,4,0))","v":"-"},{"$f":"IF(H1449=\"\",\"-\",VLOOKUP(L1449,読み替え表_低炭素物流!$C$15:$F$21,4,0))","v":"-"},"-",null,null,null,null,0,0,0,0,0,"*"]
[null,null,1442,null,null,null,null,null,null,null,null,null,null,null,null,null,null,null,null,null,null,null,null,null,null,{"$f":"IF(H1450=\"\",\"-\",VLOOKUP(J1450,読み替え表_低炭素物流!$C$4:$F$12,4,0))","v":"-"},{"$f":"IF(H1450=\"\",\"-\",VLOOKUP(L1450,読み替え表_低炭素物流!$C$15:$F$21,4,0))","v":"-"},"-",null,null,null,null,0,0,0,0,0,"*"]
[null,null,1443,null,null,null,null,null,null,null,null,null,null,null,null,null,null,null,null,null,null,null,null,null,null,{"$f":"IF(H1451=\"\",\"-\",VLOOKUP(J1451,読み替え表_低炭素物流!$C$4:$F$12,4,0))","v":"-"},{"$f":"IF(H1451=\"\",\"-\",VLOOKUP(L1451,読み替え表_低炭素物流!$C$15:$F$21,4,0))","v":"-"},"-",null,null,null,null,0,0,0,0,0,"*"]
[null,null,1444,null,null,null,null,null,null,null,null,null,null,null,null,null,null,null,null,null,null,null,null,null,null,{"$f":"IF(H1452=\"\",\"-\",VLOOKUP(J1452,読み替え表_低炭素物流!$C$4:$F$12,4,0))","v":"-"},{"$f":"IF(H1452=\"\",\"-\",VLOOKUP(L1452,読み替え表_低炭素物流!$C$15:$F$21,4,0))","v":"-"},"-",null,null,null,null,0,0,0,0,0,"*"]
[null,null,1445,null,null,null,null,null,null,null,null,null,null,null,null,null,null,null,null,null,null,null,null,null,null,{"$f":"IF(H1453=\"\",\"-\",VLOOKUP(J1453,読み替え表_低炭素物流!$C$4:$F$12,4,0))","v":"-"},{"$f":"IF(H1453=\"\",\"-\",VLOOKUP(L1453,読み替え表_低炭素物流!$C$15:$F$21,4,0))","v":"-"},"-",null,null,null,null,0,0,0,0,0,"*"]
[null,null,1446,null,null,null,null,null,null,null,null,null,null,null,null,null,null,null,null,null,null,null,null,null,null,{"$f":"IF(H1454=\"\",\"-\",VLOOKUP(J1454,読み替え表_低炭素物流!$C$4:$F$12,4,0))","v":"-"},{"$f":"IF(H1454=\"\",\"-\",VLOOKUP(L1454,読み替え表_低炭素物流!$C$15:$F$21,4,0))","v":"-"},"-",null,null,null,null,0,0,0,0,0,"*"]
[null,null,1447,null,null,null,null,null,null,null,null,null,null,null,null,null,null,null,null,null,null,null,null,null,null,{"$f":"IF(H1455=\"\",\"-\",VLOOKUP(J1455,読み替え表_低炭素物流!$C$4:$F$12,4,0))","v":"-"},{"$f":"IF(H1455=\"\",\"-\",VLOOKUP(L1455,読み替え表_低炭素物流!$C$15:$F$21,4,0))","v":"-"},"-",null,null,null,null,0,0,0,0,0,"*"]
[null,null,1448,null,null,null,null,null,null,null,null,null,null,null,null,null,null,null,null,null,null,null,null,null,null,{"$f":"IF(H1456=\"\",\"-\",VLOOKUP(J1456,読み替え表_低炭素物流!$C$4:$F$12,4,0))","v":"-"},{"$f":"IF(H1456=\"\",\"-\",VLOOKUP(L1456,読み替え表_低炭素物流!$C$15:$F$21,4,0))","v":"-"},"-",null,null,null,null,0,0,0,0,0,"*"]
[null,null,1449,null,null,null,null,null,null,null,null,null,null,null,null,null,null,null,null,null,null,null,null,null,null,{"$f":"IF(H1457=\"\",\"-\",VLOOKUP(J1457,読み替え表_低炭素物流!$C$4:$F$12,4,0))","v":"-"},{"$f":"IF(H1457=\"\",\"-\",VLOOKUP(L1457,読み替え表_低炭素物流!$C$15:$F$21,4,0))","v":"-"},{"$f":"IF(H1457=\"\",\"-\",Z1457*AA1457)","v":"-"},null,null,null,null,0,{"$f":"IF(J1457=8,1,0)","v":0},{"$f":"IF(L1457=6,1,0)","v":0},0,0,"*"]
[null,null,1450,null,null,null,null,null,null,null,null,null,null,null,null,null,null,null,null,null,null,null,null,null,null,{"$f":"IF(H1458=\"\",\"-\",VLOOKUP(J1458,読み替え表_低炭素物流!$C$4:$F$12,4,0))","v":"-"},{"$f":"IF(H1458=\"\",\"-\",VLOOKUP(L1458,読み替え表_低炭素物流!$C$15:$F$21,4,0))","v":"-"},"-",null,null,null,null,0,0,0,0,0,"*"]
[null,null,1451,null,null,null,null,null,null,null,null,null,null,null,null,null,null,null,null,null,null,null,null,null,null,{"$f":"IF(H1459=\"\",\"-\",VLOOKUP(J1459,読み替え表_低炭素物流!$C$4:$F$12,4,0))","v":"-"},{"$f":"IF(H1459=\"\",\"-\",VLOOKUP(L1459,読み替え表_低炭素物流!$C$15:$F$21,4,0))","v":"-"},"-",null,null,null,null,0,0,0,0,0,"*"]
[null,null,1452,null,null,null,null,null,null,null,null,null,null,null,null,null,null,null,null,null,null,null,null,null,null,{"$f":"IF(H1460=\"\",\"-\",VLOOKUP(J1460,読み替え表_低炭素物流!$C$4:$F$12,4,0))","v":"-"},{"$f":"IF(H1460=\"\",\"-\",VLOOKUP(L1460,読み替え表_低炭素物流!$C$15:$F$21,4,0))","v":"-"},"-",null,null,null,null,0,0,0,0,0,"*"]
[null,null,1453,null,null,null,null,null,null,null,null,null,null,null,null,null,null,null,null,null,null,null,null,null,null,{"$f":"IF(H1461=\"\",\"-\",VLOOKUP(J1461,読み替え表_低炭素物流!$C$4:$F$12,4,0))","v":"-"},{"$f":"IF(H1461=\"\",\"-\",VLOOKUP(L1461,読み替え表_低炭素物流!$C$15:$F$21,4,0))","v":"-"},"-",null,null,null,null,0,0,0,0,0,"*"]
[null,null,1454,null,null,null,null,null,null,null,null,null,null,null,null,null,null,null,null,null,null,null,null,null,null,{"$f":"IF(H1462=\"\",\"-\",VLOOKUP(J1462,読み替え表_低炭素物流!$C$4:$F$12,4,0))","v":"-"},{"$f":"IF(H1462=\"\",\"-\",VLOOKUP(L1462,読み替え表_低炭素物流!$C$15:$F$21,4,0))","v":"-"},"-",null,null,null,null,0,0,0,0,0,"*"]
[null,null,1455,null,null,null,null,null,null,null,null,null,null,null,null,null,null,null,null,null,null,null,null,null,null,{"$f":"IF(H1463=\"\",\"-\",VLOOKUP(J1463,読み替え表_低炭素物流!$C$4:$F$12,4,0))","v":"-"},{"$f":"IF(H1463=\"\",\"-\",VLOOKUP(L1463,読み替え表_低炭素物流!$C$15:$F$21,4,0))","v":"-"},"-",null,null,null,null,0,0,0,0,0,"*"]
[null,null,1456,null,null,null,null,null,null,null,null,null,null,null,null,null,null,null,null,null,null,null,null,null,null,{"$f":"IF(H1464=\"\",\"-\",VLOOKUP(J1464,読み替え表_低炭素物流!$C$4:$F$12,4,0))","v":"-"},{"$f":"IF(H1464=\"\",\"-\",VLOOKUP(L1464,読み替え表_低炭素物流!$C$15:$F$21,4,0))","v":"-"},"-",null,null,null,null,0,0,0,0,0,"*"]
[null,null,1457,null,null,null,null,null,null,null,null,null,null,null,null,null,null,null,null,null,null,null,null,null,null,{"$f":"IF(H1465=\"\",\"-\",VLOOKUP(J1465,読み替え表_低炭素物流!$C$4:$F$12,4,0))","v":"-"},{"$f":"IF(H1465=\"\",\"-\",VLOOKUP(L1465,読み替え表_低炭素物流!$C$15:$F$21,4,0))","v":"-"},"-",null,null,null,null,0,0,0,0,0,"*"]
[null,null,1458,null,null,null,null,null,null,null,null,null,null,null,null,null,null,null,null,null,null,null,null,null,null,{"$f":"IF(H1466=\"\",\"-\",VLOOKUP(J1466,読み替え表_低炭素物流!$C$4:$F$12,4,0))","v":"-"},{"$f":"IF(H1466=\"\",\"-\",VLOOKUP(L1466,読み替え表_低炭素物流!$C$15:$F$21,4,0))","v":"-"},"-",null,null,null,null,0,0,0,0,0,"*"]
[null,null,1459,null,null,null,null,null,null,null,null,null,null,null,null,null,null,null,null,null,null,null,null,null,null,{"$f":"IF(H1467=\"\",\"-\",VLOOKUP(J1467,読み替え表_低炭素物流!$C$4:$F$12,4,0))","v":"-"},{"$f":"IF(H1467=\"\",\"-\",VLOOKUP(L1467,読み替え表_低炭素物流!$C$15:$F$21,4,0))","v":"-"},"-",null,null,null,null,0,0,0,0,0,"*"]
[null,null,1460,null,null,null,null,null,null,null,null,null,null,null,null,null,null,null,null,null,null,null,null,null,null,{"$f":"IF(H1468=\"\",\"-\",VLOOKUP(J1468,読み替え表_低炭素物流!$C$4:$F$12,4,0))","v":"-"},{"$f":"IF(H1468=\"\",\"-\",VLOOKUP(L1468,読み替え表_低炭素物流!$C$15:$F$21,4,0))","v":"-"},"-",null,null,null,null,0,0,0,0,0,"*"]
[null,null,1461,null,null,null,null,null,null,null,null,null,null,null,null,null,null,null,null,null,null,null,null,null,null,{"$f":"IF(H1469=\"\",\"-\",VLOOKUP(J1469,読み替え表_低炭素物流!$C$4:$F$12,4,0))","v":"-"},{"$f":"IF(H1469=\"\",\"-\",VLOOKUP(L1469,読み替え表_低炭素物流!$C$15:$F$21,4,0))","v":"-"},"-",null,null,null,null,0,0,0,0,0,"*"]
[null,null,1462,null,null,null,null,null,null,null,null,null,null,null,null,null,null,null,null,null,null,null,null,null,null,{"$f":"IF(H1470=\"\",\"-\",VLOOKUP(J1470,読み替え表_低炭素物流!$C$4:$F$12,4,0))","v":"-"},{"$f":"IF(H1470=\"\",\"-\",VLOOKUP(L1470,読み替え表_低炭素物流!$C$15:$F$21,4,0))","v":"-"},"-",null,null,null,null,0,0,0,0,0,"*"]
[null,null,1463,null,null,null,null,null,null,null,null,null,null,null,null,null,null,null,null,null,null,null,null,null,null,{"$f":"IF(H1471=\"\",\"-\",VLOOKUP(J1471,読み替え表_低炭素物流!$C$4:$F$12,4,0))","v":"-"},{"$f":"IF(H1471=\"\",\"-\",VLOOKUP(L1471,読み替え表_低炭素物流!$C$15:$F$21,4,0))","v":"-"},"-",null,null,null,null,0,0,0,0,0,"*"]
[null,null,1464,null,null,null,null,null,null,null,null,null,null,null,null,null,null,null,null,null,null,null,null,null,null,{"$f":"IF(H1472=\"\",\"-\",VLOOKUP(J1472,読み替え表_低炭素物流!$C$4:$F$12,4,0))","v":"-"},{"$f":"IF(H1472=\"\",\"-\",VLOOKUP(L1472,読み替え表_低炭素物流!$C$15:$F$21,4,0))","v":"-"},"-",null,null,null,null,0,0,0,0,0,"*"]
[null,null,1465,null,null,null,null,null,null,null,null,null,null,null,null,null,null,null,null,null,null,null,null,null,null,{"$f":"IF(H1473=\"\",\"-\",VLOOKUP(J1473,読み替え表_低炭素物流!$C$4:$F$12,4,0))","v":"-"},{"$f":"IF(H1473=\"\",\"-\",VLOOKUP(L1473,読み替え表_低炭素物流!$C$15:$F$21,4,0))","v":"-"},"-",null,null,null,null,0,0,0,0,0,"*"]
[null,null,1466,null,null,null,null,null,null,null,null,null,null,null,null,null,null,null,null,null,null,null,null,null,null,{"$f":"IF(H1474=\"\",\"-\",VLOOKUP(J1474,読み替え表_低炭素物流!$C$4:$F$12,4,0))","v":"-"},{"$f":"IF(H1474=\"\",\"-\",VLOOKUP(L1474,読み替え表_低炭素物流!$C$15:$F$21,4,0))","v":"-"},"-",null,null,null,null,0,0,0,0,0,"*"]
[null,null,1467,null,null,null,null,null,null,null,null,null,null,null,null,null,null,null,null,null,null,null,null,null,null,{"$f":"IF(H1475=\"\",\"-\",VLOOKUP(J1475,読み替え表_低炭素物流!$C$4:$F$12,4,0))","v":"-"},{"$f":"IF(H1475=\"\",\"-\",VLOOKUP(L1475,読み替え表_低炭素物流!$C$15:$F$21,4,0))","v":"-"},"-",null,null,null,null,0,0,0,0,0,"*"]
[null,null,1468,null,null,null,null,null,null,null,null,null,null,null,null,null,null,null,null,null,null,null,null,null,null,{"$f":"IF(H1476=\"\",\"-\",VLOOKUP(J1476,読み替え表_低炭素物流!$C$4:$F$12,4,0))","v":"-"},{"$f":"IF(H1476=\"\",\"-\",VLOOKUP(L1476,読み替え表_低炭素物流!$C$15:$F$21,4,0))","v":"-"},"-",null,null,null,null,0,0,0,0,0,"*"]
[null,null,1469,null,null,null,null,null,null,null,null,null,null,null,null,null,null,null,null,null,null,null,null,null,null,{"$f":"IF(H1477=\"\",\"-\",VLOOKUP(J1477,読み替え表_低炭素物流!$C$4:$F$12,4,0))","v":"-"},{"$f":"IF(H1477=\"\",\"-\",VLOOKUP(L1477,読み替え表_低炭素物流!$C$15:$F$21,4,0))","v":"-"},"-",null,null,null,null,0,0,0,0,0,"*"]
[null,null,1470,null,null,null,null,null,null,null,null,null,null,null,null,null,null,null,null,null,null,null,null,null,null,{"$f":"IF(H1478=\"\",\"-\",VLOOKUP(J1478,読み替え表_低炭素物流!$C$4:$F$12,4,0))","v":"-"},{"$f":"IF(H1478=\"\",\"-\",VLOOKUP(L1478,読み替え表_低炭素物流!$C$15:$F$21,4,0))","v":"-"},"-",null,null,null,null,0,0,0,0,0,"*"]
[null,null,1471,null,null,null,null,null,null,null,null,null,null,null,null,null,null,null,null,null,null,null,null,null,null,{"$f":"IF(H1479=\"\",\"-\",VLOOKUP(J1479,読み替え表_低炭素物流!$C$4:$F$12,4,0))","v":"-"},{"$f":"IF(H1479=\"\",\"-\",VLOOKUP(L1479,読み替え表_低炭素物流!$C$15:$F$21,4,0))","v":"-"},"-",null,null,null,null,0,0,0,0,0,"*"]
[null,null,1472,null,null,null,null,null,null,null,null,null,null,null,null,null,null,null,null,null,null,null,null,null,null,{"$f":"IF(H1480=\"\",\"-\",VLOOKUP(J1480,読み替え表_低炭素物流!$C$4:$F$12,4,0))","v":"-"},{"$f":"IF(H1480=\"\",\"-\",VLOOKUP(L1480,読み替え表_低炭素物流!$C$15:$F$21,4,0))","v":"-"},"-",null,null,null,null,0,0,0,0,0,"*"]
[null,null,1473,null,null,null,null,null,null,null,null,null,null,null,null,null,null,null,null,null,null,null,null,null,null,{"$f":"IF(H1481=\"\",\"-\",VLOOKUP(J1481,読み替え表_低炭素物流!$C$4:$F$12,4,0))","v":"-"},{"$f":"IF(H1481=\"\",\"-\",VLOOKUP(L1481,読み替え表_低炭素物流!$C$15:$F$21,4,0))","v":"-"},"-",null,null,null,null,{"$f":"IF(N1481=1,IF(OR(L1481=4,L1481=5),0,1),0)","v":0},0,0,0,0,"*"]
[null,null,{"$f":"ROW()-8","v":1474},null,null,null,null,null,null,null,null,null,null,null,null,null,null,null,null,null,null,null,null,null,null,{"$f":"IF(H1482=\"\",\"-\",VLOOKUP(J1482,読み替え表_低炭素物流!$C$4:$F$12,4,0))","v":"-"},{"$f":"IF(H1482=\"\",\"-\",VLOOKUP(L1482,読み替え表_低炭素物流!$C$15:$F$21,4,0))","v":"-"},"-",null,null,null,null,0,0,0,0,{"$f":"AG1482","v":0},"*"]
[null,null,1475,null,null,null,null,null,null,null,null,null,null,null,null,null,null,null,null,null,null,null,null,null,null,{"$f":"IF(H1483=\"\",\"-\",VLOOKUP(J1483,読み替え表_低炭素物流!$C$4:$F$12,4,0))","v":"-"},{"$f":"IF(H1483=\"\",\"-\",VLOOKUP(L1483,読み替え表_低炭素物流!$C$15:$F$21,4,0))","v":"-"},"-",null,null,null,null,0,0,0,0,0,"*"]
[null,null,1476,null,null,null,null,null,null,null,null,null,null,null,null,null,null,null,null,null,null,null,null,null,null,{"$f":"IF(H1484=\"\",\"-\",VLOOKUP(J1484,読み替え表_低炭素物流!$C$4:$F$12,4,0))","v":"-"},{"$f":"IF(H1484=\"\",\"-\",VLOOKUP(L1484,読み替え表_低炭素物流!$C$15:$F$21,4,0))","v":"-"},"-",null,null,null,null,0,0,0,0,0,"*"]
[null,null,1477,null,null,null,null,null,null,null,null,null,null,null,null,null,null,null,null,null,null,null,null,null,null,{"$f":"IF(H1485=\"\",\"-\",VLOOKUP(J1485,読み替え表_低炭素物流!$C$4:$F$12,4,0))","v":"-"},{"$f":"IF(H1485=\"\",\"-\",VLOOKUP(L1485,読み替え表_低炭素物流!$C$15:$F$21,4,0))","v":"-"},"-",null,null,null,null,0,0,0,0,0,"*"]
[null,null,1478,null,null,null,null,null,null,null,null,null,null,null,null,null,null,null,null,null,null,null,null,null,null,{"$f":"IF(H1486=\"\",\"-\",VLOOKUP(J1486,読み替え表_低炭素物流!$C$4:$F$12,4,0))","v":"-"},{"$f":"IF(H1486=\"\",\"-\",VLOOKUP(L1486,読み替え表_低炭素物流!$C$15:$F$21,4,0))","v":"-"},"-",null,null,null,null,0,0,0,0,0,"*"]
[null,null,1479,null,null,null,null,null,null,null,null,null,null,null,null,null,null,null,null,null,null,null,null,null,null,{"$f":"IF(H1487=\"\",\"-\",VLOOKUP(J1487,読み替え表_低炭素物流!$C$4:$F$12,4,0))","v":"-"},{"$f":"IF(H1487=\"\",\"-\",VLOOKUP(L1487,読み替え表_低炭素物流!$C$15:$F$21,4,0))","v":"-"},"-",null,null,null,null,0,0,0,0,0,"*"]
[null,null,1480,null,null,null,null,null,null,null,null,null,null,null,null,null,null,null,null,null,null,null,null,null,null,{"$f":"IF(H1488=\"\",\"-\",VLOOKUP(J1488,読み替え表_低炭素物流!$C$4:$F$12,4,0))","v":"-"},{"$f":"IF(H1488=\"\",\"-\",VLOOKUP(L1488,読み替え表_低炭素物流!$C$15:$F$21,4,0))","v":"-"},"-",null,null,null,null,0,0,0,0,0,"*"]
[null,null,1481,null,null,null,null,null,null,null,null,null,null,null,null,null,null,null,null,null,null,null,null,null,null,{"$f":"IF(H1489=\"\",\"-\",VLOOKUP(J1489,読み替え表_低炭素物流!$C$4:$F$12,4,0))","v":"-"},{"$f":"IF(H1489=\"\",\"-\",VLOOKUP(L1489,読み替え表_低炭素物流!$C$15:$F$21,4,0))","v":"-"},"-",null,null,null,null,0,0,0,0,0,"*"]
[null,null,1482,null,null,null,null,null,null,null,null,null,null,null,null,null,null,null,null,null,null,null,null,null,null,{"$f":"IF(H1490=\"\",\"-\",VLOOKUP(J1490,読み替え表_低炭素物流!$C$4:$F$12,4,0))","v":"-"},{"$f":"IF(H1490=\"\",\"-\",VLOOKUP(L1490,読み替え表_低炭素物流!$C$15:$F$21,4,0))","v":"-"},"-",null,null,null,null,0,0,0,0,0,"*"]
[null,null,1483,null,null,null,null,null,null,null,null,null,null,null,null,null,null,null,null,null,null,null,null,null,null,{"$f":"IF(H1491=\"\",\"-\",VLOOKUP(J1491,読み替え表_低炭素物流!$C$4:$F$12,4,0))","v":"-"},{"$f":"IF(H1491=\"\",\"-\",VLOOKUP(L1491,読み替え表_低炭素物流!$C$15:$F$21,4,0))","v":"-"},"-",null,null,null,null,0,0,0,0,0,"*"]
[null,null,1484,null,null,null,null,null,null,null,null,null,null,null,null,null,null,null,null,null,null,null,null,null,null,{"$f":"IF(H1492=\"\",\"-\",VLOOKUP(J1492,読み替え表_低炭素物流!$C$4:$F$12,4,0))","v":"-"},{"$f":"IF(H1492=\"\",\"-\",VLOOKUP(L1492,読み替え表_低炭素物流!$C$15:$F$21,4,0))","v":"-"},"-",null,null,null,null,0,0,0,0,0,"*"]
[null,null,1485,null,null,null,null,null,null,null,null,null,null,null,null,null,null,null,null,null,null,null,null,null,null,{"$f":"IF(H1493=\"\",\"-\",VLOOKUP(J1493,読み替え表_低炭素物流!$C$4:$F$12,4,0))","v":"-"},{"$f":"IF(H1493=\"\",\"-\",VLOOKUP(L1493,読み替え表_低炭素物流!$C$15:$F$21,4,0))","v":"-"},"-",null,null,null,null,0,0,0,0,0,"*"]
[null,null,1486,null,null,null,null,null,null,null,null,null,null,null,null,null,null,null,null,null,null,null,null,null,null,{"$f":"IF(H1494=\"\",\"-\",VLOOKUP(J1494,読み替え表_低炭素物流!$C$4:$F$12,4,0))","v":"-"},{"$f":"IF(H1494=\"\",\"-\",VLOOKUP(L1494,読み替え表_低炭素物流!$C$15:$F$21,4,0))","v":"-"},"-",null,null,null,null,0,0,0,0,0,"*"]
[null,null,1487,null,null,null,null,null,null,null,null,null,null,null,null,null,null,null,null,null,null,null,null,null,null,{"$f":"IF(H1495=\"\",\"-\",VLOOKUP(J1495,読み替え表_低炭素物流!$C$4:$F$12,4,0))","v":"-"},{"$f":"IF(H1495=\"\",\"-\",VLOOKUP(L1495,読み替え表_低炭素物流!$C$15:$F$21,4,0))","v":"-"},"-",null,null,null,null,0,0,0,0,0,"*"]
[null,null,1488,null,null,null,null,null,null,null,null,null,null,null,null,null,null,null,null,null,null,null,null,null,null,{"$f":"IF(H1496=\"\",\"-\",VLOOKUP(J1496,読み替え表_低炭素物流!$C$4:$F$12,4,0))","v":"-"},{"$f":"IF(H1496=\"\",\"-\",VLOOKUP(L1496,読み替え表_低炭素物流!$C$15:$F$21,4,0))","v":"-"},"-",null,null,null,null,0,0,0,{"$f":"IF(OR(N1496=7,N1496=99),1,0)","v":0},0,"*"]
[null,null,1489,null,null,null,null,null,null,null,null,null,null,null,null,null,null,null,null,null,null,null,null,null,null,{"$f":"IF(H1497=\"\",\"-\",VLOOKUP(J1497,読み替え表_低炭素物流!$C$4:$F$12,4,0))","v":"-"},{"$f":"IF(H1497=\"\",\"-\",VLOOKUP(L1497,読み替え表_低炭素物流!$C$15:$F$21,4,0))","v":"-"},"-",null,null,null,null,0,0,0,0,0,"*"]
[null,null,1490,null,null,null,null,null,null,null,null,null,null,null,null,null,null,null,null,null,null,null,null,null,null,{"$f":"IF(H1498=\"\",\"-\",VLOOKUP(J1498,読み替え表_低炭素物流!$C$4:$F$12,4,0))","v":"-"},{"$f":"IF(H1498=\"\",\"-\",VLOOKUP(L1498,読み替え表_低炭素物流!$C$15:$F$21,4,0))","v":"-"},"-",null,null,null,null,0,0,0,0,0,"*"]
[null,null,1491,null,null,null,null,null,null,null,null,null,null,null,null,null,null,null,null,null,null,null,null,null,null,{"$f":"IF(H1499=\"\",\"-\",VLOOKUP(J1499,読み替え表_低炭素物流!$C$4:$F$12,4,0))","v":"-"},{"$f":"IF(H1499=\"\",\"-\",VLOOKUP(L1499,読み替え表_低炭素物流!$C$15:$F$21,4,0))","v":"-"},"-",null,null,null,null,0,0,0,0,0,"*"]
[null,null,1492,null,null,null,null,null,null,null,null,null,null,null,null,null,null,null,null,null,null,null,null,null,null,{"$f":"IF(H1500=\"\",\"-\",VLOOKUP(J1500,読み替え表_低炭素物流!$C$4:$F$12,4,0))","v":"-"},{"$f":"IF(H1500=\"\",\"-\",VLOOKUP(L1500,読み替え表_低炭素物流!$C$15:$F$21,4,0))","v":"-"},"-",null,null,null,null,0,0,0,0,0,"*"]
[null,null,1493,null,null,null,null,null,null,null,null,null,null,null,null,null,null,null,null,null,null,null,null,null,null,{"$f":"IF(H1501=\"\",\"-\",VLOOKUP(J1501,読み替え表_低炭素物流!$C$4:$F$12,4,0))","v":"-"},{"$f":"IF(H1501=\"\",\"-\",VLOOKUP(L1501,読み替え表_低炭素物流!$C$15:$F$21,4,0))","v":"-"},"-",null,null,null,null,0,0,0,0,0,"*"]
[null,null,1494,null,null,null,null,null,null,null,null,null,null,null,null,null,null,null,null,null,null,null,null,null,null,{"$f":"IF(H1502=\"\",\"-\",VLOOKUP(J1502,読み替え表_低炭素物流!$C$4:$F$12,4,0))","v":"-"},{"$f":"IF(H1502=\"\",\"-\",VLOOKUP(L1502,読み替え表_低炭素物流!$C$15:$F$21,4,0))","v":"-"},"-",null,null,null,null,0,0,0,0,0,"*"]
[null,null,1495,null,null,null,null,null,null,null,null,null,null,null,null,null,null,null,null,null,null,null,null,null,null,{"$f":"IF(H1503=\"\",\"-\",VLOOKUP(J1503,読み替え表_低炭素物流!$C$4:$F$12,4,0))","v":"-"},{"$f":"IF(H1503=\"\",\"-\",VLOOKUP(L1503,読み替え表_低炭素物流!$C$15:$F$21,4,0))","v":"-"},"-",null,null,null,null,0,0,0,0,0,"*"]
[null,null,1496,null,null,null,null,null,null,null,null,null,null,null,null,null,null,null,null,null,null,null,null,null,null,{"$f":"IF(H1504=\"\",\"-\",VLOOKUP(J1504,読み替え表_低炭素物流!$C$4:$F$12,4,0))","v":"-"},{"$f":"IF(H1504=\"\",\"-\",VLOOKUP(L1504,読み替え表_低炭素物流!$C$15:$F$21,4,0))","v":"-"},"-",null,null,null,null,0,0,0,0,0,"*"]
[null,null,1497,null,null,null,null,null,null,null,null,null,null,null,null,null,null,null,null,null,null,null,null,null,null,{"$f":"IF(H1505=\"\",\"-\",VLOOKUP(J1505,読み替え表_低炭素物流!$C$4:$F$12,4,0))","v":"-"},{"$f":"IF(H1505=\"\",\"-\",VLOOKUP(L1505,読み替え表_低炭素物流!$C$15:$F$21,4,0))","v":"-"},"-",null,null,null,null,0,0,0,0,0,"*"]
[null,null,1498,null,null,null,null,null,null,null,null,null,null,null,null,null,null,null,null,null,null,null,null,null,null,{"$f":"IF(H1506=\"\",\"-\",VLOOKUP(J1506,読み替え表_低炭素物流!$C$4:$F$12,4,0))","v":"-"},{"$f":"IF(H1506=\"\",\"-\",VLOOKUP(L1506,読み替え表_低炭素物流!$C$15:$F$21,4,0))","v":"-"},"-",null,null,null,null,0,0,0,0,0,"*"]
[null,null,1499,null,null,null,null,null,null,null,null,null,null,null,null,null,null,null,null,null,null,null,null,null,null,{"$f":"IF(H1507=\"\",\"-\",VLOOKUP(J1507,読み替え表_低炭素物流!$C$4:$F$12,4,0))","v":"-"},{"$f":"IF(H1507=\"\",\"-\",VLOOKUP(L1507,読み替え表_低炭素物流!$C$15:$F$21,4,0))","v":"-"},"-",null,null,null,null,0,0,0,0,0,"*"]
[null,null,1500,null,null,null,null,null,null,null,null,null,null,null,null,null,null,null,null,null,null,null,null,null,null,{"$f":"IF(H1508=\"\",\"-\",VLOOKUP(J1508,読み替え表_低炭素物流!$C$4:$F$12,4,0))","v":"-"},{"$f":"IF(H1508=\"\",\"-\",VLOOKUP(L1508,読み替え表_低炭素物流!$C$15:$F$21,4,0))","v":"-"},"-",null,null,null,null,0,0,0,0,0,"*"]
[null,null,1501,null,null,null,null,null,null,null,null,null,null,null,null,null,null,null,null,null,null,null,null,null,null,{"$f":"IF(H1509=\"\",\"-\",VLOOKUP(J1509,読み替え表_低炭素物流!$C$4:$F$12,4,0))","v":"-"},{"$f":"IF(H1509=\"\",\"-\",VLOOKUP(L1509,読み替え表_低炭素物流!$C$15:$F$21,4,0))","v":"-"},"-",null,null,null,null,0,0,0,0,0,"*"]
[null,null,1502,null,null,null,null,null,null,null,null,null,null,null,null,null,null,null,null,null,null,null,null,null,null,{"$f":"IF(H1510=\"\",\"-\",VLOOKUP(J1510,読み替え表_低炭素物流!$C$4:$F$12,4,0))","v":"-"},{"$f":"IF(H1510=\"\",\"-\",VLOOKUP(L1510,読み替え表_低炭素物流!$C$15:$F$21,4,0))","v":"-"},"-",null,null,null,null,0,0,0,0,0,"*"]
[null,null,1503,null,null,null,null,null,null,null,null,null,null,null,null,null,null,null,null,null,null,null,null,null,null,{"$f":"IF(H1511=\"\",\"-\",VLOOKUP(J1511,読み替え表_低炭素物流!$C$4:$F$12,4,0))","v":"-"},{"$f":"IF(H1511=\"\",\"-\",VLOOKUP(L1511,読み替え表_低炭素物流!$C$15:$F$21,4,0))","v":"-"},"-",null,null,null,null,0,0,0,0,0,"*"]
[null,null,1504,null,null,null,null,null,null,null,null,null,null,null,null,null,null,null,null,null,null,null,null,null,null,{"$f":"IF(H1512=\"\",\"-\",VLOOKUP(J1512,読み替え表_低炭素物流!$C$4:$F$12,4,0))","v":"-"},{"$f":"IF(H1512=\"\",\"-\",VLOOKUP(L1512,読み替え表_低炭素物流!$C$15:$F$21,4,0))","v":"-"},"-",null,null,null,null,0,0,0,0,0,"*"]
[null,null,1505,null,null,null,null,null,null,null,null,null,null,null,null,null,null,null,null,null,null,null,null,null,null,{"$f":"IF(H1513=\"\",\"-\",VLOOKUP(J1513,読み替え表_低炭素物流!$C$4:$F$12,4,0))","v":"-"},{"$f":"IF(H1513=\"\",\"-\",VLOOKUP(L1513,読み替え表_低炭素物流!$C$15:$F$21,4,0))","v":"-"},"-",null,null,null,null,0,0,0,0,0,"*"]
[null,null,1506,null,null,null,null,null,null,null,null,null,null,null,null,null,null,null,null,null,null,null,null,null,null,{"$f":"IF(H1514=\"\",\"-\",VLOOKUP(J1514,読み替え表_低炭素物流!$C$4:$F$12,4,0))","v":"-"},{"$f":"IF(H1514=\"\",\"-\",VLOOKUP(L1514,読み替え表_低炭素物流!$C$15:$F$21,4,0))","v":"-"},"-",null,null,null,null,0,0,0,0,0,"*"]
[null,null,1507,null,null,null,null,null,null,null,null,null,null,null,null,null,null,null,null,null,null,null,null,null,null,{"$f":"IF(H1515=\"\",\"-\",VLOOKUP(J1515,読み替え表_低炭素物流!$C$4:$F$12,4,0))","v":"-"},{"$f":"IF(H1515=\"\",\"-\",VLOOKUP(L1515,読み替え表_低炭素物流!$C$15:$F$21,4,0))","v":"-"},"-",null,null,null,null,0,0,0,0,0,"*"]
[null,null,1508,null,null,null,null,null,null,null,null,null,null,null,null,null,null,null,null,null,null,null,null,null,null,{"$f":"IF(H1516=\"\",\"-\",VLOOKUP(J1516,読み替え表_低炭素物流!$C$4:$F$12,4,0))","v":"-"},{"$f":"IF(H1516=\"\",\"-\",VLOOKUP(L1516,読み替え表_低炭素物流!$C$15:$F$21,4,0))","v":"-"},"-",null,null,null,null,0,0,0,0,0,"*"]
[null,null,1509,null,null,null,null,null,null,null,null,null,null,null,null,null,null,null,null,null,null,null,null,null,null,{"$f":"IF(H1517=\"\",\"-\",VLOOKUP(J1517,読み替え表_低炭素物流!$C$4:$F$12,4,0))","v":"-"},{"$f":"IF(H1517=\"\",\"-\",VLOOKUP(L1517,読み替え表_低炭素物流!$C$15:$F$21,4,0))","v":"-"},"-",null,null,null,null,0,0,0,0,0,"*"]
[null,null,1510,null,null,null,null,null,null,null,null,null,null,null,null,null,null,null,null,null,null,null,null,null,null,{"$f":"IF(H1518=\"\",\"-\",VLOOKUP(J1518,読み替え表_低炭素物流!$C$4:$F$12,4,0))","v":"-"},{"$f":"IF(H1518=\"\",\"-\",VLOOKUP(L1518,読み替え表_低炭素物流!$C$15:$F$21,4,0))","v":"-"},"-",null,null,null,null,0,0,0,0,0,"*"]
[null,null,1511,null,null,null,null,null,null,null,null,null,null,null,null,null,null,null,null,null,null,null,null,null,null,{"$f":"IF(H1519=\"\",\"-\",VLOOKUP(J1519,読み替え表_低炭素物流!$C$4:$F$12,4,0))","v":"-"},{"$f":"IF(H1519=\"\",\"-\",VLOOKUP(L1519,読み替え表_低炭素物流!$C$15:$F$21,4,0))","v":"-"},"-",null,null,null,null,0,0,0,0,0,"*"]
[null,null,1512,null,null,null,null,null,null,null,null,null,null,null,null,null,null,null,null,null,null,null,null,null,null,{"$f":"IF(H1520=\"\",\"-\",VLOOKUP(J1520,読み替え表_低炭素物流!$C$4:$F$12,4,0))","v":"-"},{"$f":"IF(H1520=\"\",\"-\",VLOOKUP(L1520,読み替え表_低炭素物流!$C$15:$F$21,4,0))","v":"-"},"-",null,null,null,null,0,0,0,0,0,"*"]
[null,null,1513,null,null,null,null,null,null,null,null,null,null,null,null,null,null,null,null,null,null,null,null,null,null,{"$f":"IF(H1521=\"\",\"-\",VLOOKUP(J1521,読み替え表_低炭素物流!$C$4:$F$12,4,0))","v":"-"},{"$f":"IF(H1521=\"\",\"-\",VLOOKUP(L1521,読み替え表_低炭素物流!$C$15:$F$21,4,0))","v":"-"},{"$f":"IF(H1521=\"\",\"-\",Z1521*AA1521)","v":"-"},null,null,null,null,0,{"$f":"IF(J1521=8,1,0)","v":0},{"$f":"IF(L1521=6,1,0)","v":0},0,0,"*"]
[null,null,1514,null,null,null,null,null,null,null,null,null,null,null,null,null,null,null,null,null,null,null,null,null,null,{"$f":"IF(H1522=\"\",\"-\",VLOOKUP(J1522,読み替え表_低炭素物流!$C$4:$F$12,4,0))","v":"-"},{"$f":"IF(H1522=\"\",\"-\",VLOOKUP(L1522,読み替え表_低炭素物流!$C$15:$F$21,4,0))","v":"-"},"-",null,null,null,null,0,0,0,0,0,"*"]
[null,null,1515,null,null,null,null,null,null,null,null,null,null,null,null,null,null,null,null,null,null,null,null,null,null,{"$f":"IF(H1523=\"\",\"-\",VLOOKUP(J1523,読み替え表_低炭素物流!$C$4:$F$12,4,0))","v":"-"},{"$f":"IF(H1523=\"\",\"-\",VLOOKUP(L1523,読み替え表_低炭素物流!$C$15:$F$21,4,0))","v":"-"},"-",null,null,null,null,0,0,0,0,0,"*"]
[null,null,1516,null,null,null,null,null,null,null,null,null,null,null,null,null,null,null,null,null,null,null,null,null,null,{"$f":"IF(H1524=\"\",\"-\",VLOOKUP(J1524,読み替え表_低炭素物流!$C$4:$F$12,4,0))","v":"-"},{"$f":"IF(H1524=\"\",\"-\",VLOOKUP(L1524,読み替え表_低炭素物流!$C$15:$F$21,4,0))","v":"-"},"-",null,null,null,null,0,0,0,0,0,"*"]
[null,null,1517,null,null,null,null,null,null,null,null,null,null,null,null,null,null,null,null,null,null,null,null,null,null,{"$f":"IF(H1525=\"\",\"-\",VLOOKUP(J1525,読み替え表_低炭素物流!$C$4:$F$12,4,0))","v":"-"},{"$f":"IF(H1525=\"\",\"-\",VLOOKUP(L1525,読み替え表_低炭素物流!$C$15:$F$21,4,0))","v":"-"},"-",null,null,null,null,0,0,0,0,0,"*"]
[null,null,1518,null,null,null,null,null,null,null,null,null,null,null,null,null,null,null,null,null,null,null,null,null,null,{"$f":"IF(H1526=\"\",\"-\",VLOOKUP(J1526,読み替え表_低炭素物流!$C$4:$F$12,4,0))","v":"-"},{"$f":"IF(H1526=\"\",\"-\",VLOOKUP(L1526,読み替え表_低炭素物流!$C$15:$F$21,4,0))","v":"-"},"-",null,null,null,null,0,0,0,0,0,"*"]
[null,null,1519,null,null,null,null,null,null,null,null,null,null,null,null,null,null,null,null,null,null,null,null,null,null,{"$f":"IF(H1527=\"\",\"-\",VLOOKUP(J1527,読み替え表_低炭素物流!$C$4:$F$12,4,0))","v":"-"},{"$f":"IF(H1527=\"\",\"-\",VLOOKUP(L1527,読み替え表_低炭素物流!$C$15:$F$21,4,0))","v":"-"},"-",null,null,null,null,0,0,0,0,0,"*"]
[null,null,1520,null,null,null,null,null,null,null,null,null,null,null,null,null,null,null,null,null,null,null,null,null,null,{"$f":"IF(H1528=\"\",\"-\",VLOOKUP(J1528,読み替え表_低炭素物流!$C$4:$F$12,4,0))","v":"-"},{"$f":"IF(H1528=\"\",\"-\",VLOOKUP(L1528,読み替え表_低炭素物流!$C$15:$F$21,4,0))","v":"-"},"-",null,null,null,null,0,0,0,0,0,"*"]
[null,null,1521,null,null,null,null,null,null,null,null,null,null,null,null,null,null,null,null,null,null,null,null,null,null,{"$f":"IF(H1529=\"\",\"-\",VLOOKUP(J1529,読み替え表_低炭素物流!$C$4:$F$12,4,0))","v":"-"},{"$f":"IF(H1529=\"\",\"-\",VLOOKUP(L1529,読み替え表_低炭素物流!$C$15:$F$21,4,0))","v":"-"},"-",null,null,null,null,0,0,0,0,0,"*"]
[null,null,1522,null,null,null,null,null,null,null,null,null,null,null,null,null,null,null,null,null,null,null,null,null,null,{"$f":"IF(H1530=\"\",\"-\",VLOOKUP(J1530,読み替え表_低炭素物流!$C$4:$F$12,4,0))","v":"-"},{"$f":"IF(H1530=\"\",\"-\",VLOOKUP(L1530,読み替え表_低炭素物流!$C$15:$F$21,4,0))","v":"-"},"-",null,null,null,null,0,0,0,0,0,"*"]
[null,null,1523,null,null,null,null,null,null,null,null,null,null,null,null,null,null,null,null,null,null,null,null,null,null,{"$f":"IF(H1531=\"\",\"-\",VLOOKUP(J1531,読み替え表_低炭素物流!$C$4:$F$12,4,0))","v":"-"},{"$f":"IF(H1531=\"\",\"-\",VLOOKUP(L1531,読み替え表_低炭素物流!$C$15:$F$21,4,0))","v":"-"},"-",null,null,null,null,0,0,0,0,0,"*"]
[null,null,1524,null,null,null,null,null,null,null,null,null,null,null,null,null,null,null,null,null,null,null,null,null,null,{"$f":"IF(H1532=\"\",\"-\",VLOOKUP(J1532,読み替え表_低炭素物流!$C$4:$F$12,4,0))","v":"-"},{"$f":"IF(H1532=\"\",\"-\",VLOOKUP(L1532,読み替え表_低炭素物流!$C$15:$F$21,4,0))","v":"-"},"-",null,null,null,null,0,0,0,0,0,"*"]
[null,null,1525,null,null,null,null,null,null,null,null,null,null,null,null,null,null,null,null,null,null,null,null,null,null,{"$f":"IF(H1533=\"\",\"-\",VLOOKUP(J1533,読み替え表_低炭素物流!$C$4:$F$12,4,0))","v":"-"},{"$f":"IF(H1533=\"\",\"-\",VLOOKUP(L1533,読み替え表_低炭素物流!$C$15:$F$21,4,0))","v":"-"},"-",null,null,null,null,0,0,0,0,0,"*"]
[null,null,1526,null,null,null,null,null,null,null,null,null,null,null,null,null,null,null,null,null,null,null,null,null,null,{"$f":"IF(H1534=\"\",\"-\",VLOOKUP(J1534,読み替え表_低炭素物流!$C$4:$F$12,4,0))","v":"-"},{"$f":"IF(H1534=\"\",\"-\",VLOOKUP(L1534,読み替え表_低炭素物流!$C$15:$F$21,4,0))","v":"-"},"-",null,null,null,null,0,0,0,0,0,"*"]
[null,null,1527,null,null,null,null,null,null,null,null,null,null,null,null,null,null,null,null,null,null,null,null,null,null,{"$f":"IF(H1535=\"\",\"-\",VLOOKUP(J1535,読み替え表_低炭素物流!$C$4:$F$12,4,0))","v":"-"},{"$f":"IF(H1535=\"\",\"-\",VLOOKUP(L1535,読み替え表_低炭素物流!$C$15:$F$21,4,0))","v":"-"},"-",null,null,null,null,0,0,0,0,0,"*"]
[null,null,1528,null,null,null,null,null,null,null,null,null,null,null,null,null,null,null,null,null,null,null,null,null,null,{"$f":"IF(H1536=\"\",\"-\",VLOOKUP(J1536,読み替え表_低炭素物流!$C$4:$F$12,4,0))","v":"-"},{"$f":"IF(H1536=\"\",\"-\",VLOOKUP(L1536,読み替え表_低炭素物流!$C$15:$F$21,4,0))","v":"-"},"-",null,null,null,null,0,0,0,0,0,"*"]
[null,null,1529,null,null,null,null,null,null,null,null,null,null,null,null,null,null,null,null,null,null,null,null,null,null,{"$f":"IF(H1537=\"\",\"-\",VLOOKUP(J1537,読み替え表_低炭素物流!$C$4:$F$12,4,0))","v":"-"},{"$f":"IF(H1537=\"\",\"-\",VLOOKUP(L1537,読み替え表_低炭素物流!$C$15:$F$21,4,0))","v":"-"},"-",null,null,null,null,0,0,0,0,0,"*"]
[null,null,1530,null,null,null,null,null,null,null,null,null,null,null,null,null,null,null,null,null,null,null,null,null,null,{"$f":"IF(H1538=\"\",\"-\",VLOOKUP(J1538,読み替え表_低炭素物流!$C$4:$F$12,4,0))","v":"-"},{"$f":"IF(H1538=\"\",\"-\",VLOOKUP(L1538,読み替え表_低炭素物流!$C$15:$F$21,4,0))","v":"-"},"-",null,null,null,null,0,0,0,0,0,"*"]
[null,null,1531,null,null,null,null,null,null,null,null,null,null,null,null,null,null,null,null,null,null,null,null,null,null,{"$f":"IF(H1539=\"\",\"-\",VLOOKUP(J1539,読み替え表_低炭素物流!$C$4:$F$12,4,0))","v":"-"},{"$f":"IF(H1539=\"\",\"-\",VLOOKUP(L1539,読み替え表_低炭素物流!$C$15:$F$21,4,0))","v":"-"},"-",null,null,null,null,0,0,0,0,0,"*"]
[null,null,1532,null,null,null,null,null,null,null,null,null,null,null,null,null,null,null,null,null,null,null,null,null,null,{"$f":"IF(H1540=\"\",\"-\",VLOOKUP(J1540,読み替え表_低炭素物流!$C$4:$F$12,4,0))","v":"-"},{"$f":"IF(H1540=\"\",\"-\",VLOOKUP(L1540,読み替え表_低炭素物流!$C$15:$F$21,4,0))","v":"-"},"-",null,null,null,null,0,0,0,0,0,"*"]
[null,null,1533,null,null,null,null,null,null,null,null,null,null,null,null,null,null,null,null,null,null,null,null,null,null,{"$f":"IF(H1541=\"\",\"-\",VLOOKUP(J1541,読み替え表_低炭素物流!$C$4:$F$12,4,0))","v":"-"},{"$f":"IF(H1541=\"\",\"-\",VLOOKUP(L1541,読み替え表_低炭素物流!$C$15:$F$21,4,0))","v":"-"},"-",null,null,null,null,0,0,0,0,0,"*"]
[null,null,1534,null,null,null,null,null,null,null,null,null,null,null,null,null,null,null,null,null,null,null,null,null,null,{"$f":"IF(H1542=\"\",\"-\",VLOOKUP(J1542,読み替え表_低炭素物流!$C$4:$F$12,4,0))","v":"-"},{"$f":"IF(H1542=\"\",\"-\",VLOOKUP(L1542,読み替え表_低炭素物流!$C$15:$F$21,4,0))","v":"-"},"-",null,null,null,null,0,0,0,0,0,"*"]
[null,null,1535,null,null,null,null,null,null,null,null,null,null,null,null,null,null,null,null,null,null,null,null,null,null,{"$f":"IF(H1543=\"\",\"-\",VLOOKUP(J1543,読み替え表_低炭素物流!$C$4:$F$12,4,0))","v":"-"},{"$f":"IF(H1543=\"\",\"-\",VLOOKUP(L1543,読み替え表_低炭素物流!$C$15:$F$21,4,0))","v":"-"},"-",null,null,null,null,0,0,0,0,0,"*"]
[null,null,1536,null,null,null,null,null,null,null,null,null,null,null,null,null,null,null,null,null,null,null,null,null,null,{"$f":"IF(H1544=\"\",\"-\",VLOOKUP(J1544,読み替え表_低炭素物流!$C$4:$F$12,4,0))","v":"-"},{"$f":"IF(H1544=\"\",\"-\",VLOOKUP(L1544,読み替え表_低炭素物流!$C$15:$F$21,4,0))","v":"-"},"-",null,null,null,null,0,0,0,0,0,"*"]
[null,null,1537,null,null,null,null,null,null,null,null,null,null,null,null,null,null,null,null,null,null,null,null,null,null,{"$f":"IF(H1545=\"\",\"-\",VLOOKUP(J1545,読み替え表_低炭素物流!$C$4:$F$12,4,0))","v":"-"},{"$f":"IF(H1545=\"\",\"-\",VLOOKUP(L1545,読み替え表_低炭素物流!$C$15:$F$21,4,0))","v":"-"},"-",null,null,null,null,{"$f":"IF(N1545=1,IF(OR(L1545=4,L1545=5),0,1),0)","v":0},0,0,0,0,"*"]
[null,null,{"$f":"ROW()-8","v":1538},null,null,null,null,null,null,null,null,null,null,null,null,null,null,null,null,null,null,null,null,null,null,{"$f":"IF(H1546=\"\",\"-\",VLOOKUP(J1546,読み替え表_低炭素物流!$C$4:$F$12,4,0))","v":"-"},{"$f":"IF(H1546=\"\",\"-\",VLOOKUP(L1546,読み替え表_低炭素物流!$C$15:$F$21,4,0))","v":"-"},"-",null,null,null,null,0,0,0,0,{"$f":"AG1546","v":0},"*"]
[null,null,1539,null,null,null,null,null,null,null,null,null,null,null,null,null,null,null,null,null,null,null,null,null,null,{"$f":"IF(H1547=\"\",\"-\",VLOOKUP(J1547,読み替え表_低炭素物流!$C$4:$F$12,4,0))","v":"-"},{"$f":"IF(H1547=\"\",\"-\",VLOOKUP(L1547,読み替え表_低炭素物流!$C$15:$F$21,4,0))","v":"-"},"-",null,null,null,null,0,0,0,0,0,"*"]
[null,null,1540,null,null,null,null,null,null,null,null,null,null,null,null,null,null,null,null,null,null,null,null,null,null,{"$f":"IF(H1548=\"\",\"-\",VLOOKUP(J1548,読み替え表_低炭素物流!$C$4:$F$12,4,0))","v":"-"},{"$f":"IF(H1548=\"\",\"-\",VLOOKUP(L1548,読み替え表_低炭素物流!$C$15:$F$21,4,0))","v":"-"},"-",null,null,null,null,0,0,0,0,0,"*"]
[null,null,1541,null,null,null,null,null,null,null,null,null,null,null,null,null,null,null,null,null,null,null,null,null,null,{"$f":"IF(H1549=\"\",\"-\",VLOOKUP(J1549,読み替え表_低炭素物流!$C$4:$F$12,4,0))","v":"-"},{"$f":"IF(H1549=\"\",\"-\",VLOOKUP(L1549,読み替え表_低炭素物流!$C$15:$F$21,4,0))","v":"-"},"-",null,null,null,null,0,0,0,0,0,"*"]
[null,null,1542,null,null,null,null,null,null,null,null,null,null,null,null,null,null,null,null,null,null,null,null,null,null,{"$f":"IF(H1550=\"\",\"-\",VLOOKUP(J1550,読み替え表_低炭素物流!$C$4:$F$12,4,0))","v":"-"},{"$f":"IF(H1550=\"\",\"-\",VLOOKUP(L1550,読み替え表_低炭素物流!$C$15:$F$21,4,0))","v":"-"},"-",null,null,null,null,0,0,0,0,0,"*"]
[null,null,1543,null,null,null,null,null,null,null,null,null,null,null,null,null,null,null,null,null,null,null,null,null,null,{"$f":"IF(H1551=\"\",\"-\",VLOOKUP(J1551,読み替え表_低炭素物流!$C$4:$F$12,4,0))","v":"-"},{"$f":"IF(H1551=\"\",\"-\",VLOOKUP(L1551,読み替え表_低炭素物流!$C$15:$F$21,4,0))","v":"-"},"-",null,null,null,null,0,0,0,0,0,"*"]
[null,null,1544,null,null,null,null,null,null,null,null,null,null,null,null,null,null,null,null,null,null,null,null,null,null,{"$f":"IF(H1552=\"\",\"-\",VLOOKUP(J1552,読み替え表_低炭素物流!$C$4:$F$12,4,0))","v":"-"},{"$f":"IF(H1552=\"\",\"-\",VLOOKUP(L1552,読み替え表_低炭素物流!$C$15:$F$21,4,0))","v":"-"},"-",null,null,null,null,0,0,0,0,0,"*"]
[null,null,1545,null,null,null,null,null,null,null,null,null,null,null,null,null,null,null,null,null,null,null,null,null,null,{"$f":"IF(H1553=\"\",\"-\",VLOOKUP(J1553,読み替え表_低炭素物流!$C$4:$F$12,4,0))","v":"-"},{"$f":"IF(H1553=\"\",\"-\",VLOOKUP(L1553,読み替え表_低炭素物流!$C$15:$F$21,4,0))","v":"-"},"-",null,null,null,null,0,0,0,0,0,"*"]
[null,null,1546,null,null,null,null,null,null,null,null,null,null,null,null,null,null,null,null,null,null,null,null,null,null,{"$f":"IF(H1554=\"\",\"-\",VLOOKUP(J1554,読み替え表_低炭素物流!$C$4:$F$12,4,0))","v":"-"},{"$f":"IF(H1554=\"\",\"-\",VLOOKUP(L1554,読み替え表_低炭素物流!$C$15:$F$21,4,0))","v":"-"},"-",null,null,null,null,0,0,0,0,0,"*"]
[null,null,1547,null,null,null,null,null,null,null,null,null,null,null,null,null,null,null,null,null,null,null,null,null,null,{"$f":"IF(H1555=\"\",\"-\",VLOOKUP(J1555,読み替え表_低炭素物流!$C$4:$F$12,4,0))","v":"-"},{"$f":"IF(H1555=\"\",\"-\",VLOOKUP(L1555,読み替え表_低炭素物流!$C$15:$F$21,4,0))","v":"-"},"-",null,null,null,null,0,0,0,0,0,"*"]
[null,null,1548,null,null,null,null,null,null,null,null,null,null,null,null,null,null,null,null,null,null,null,null,null,null,{"$f":"IF(H1556=\"\",\"-\",VLOOKUP(J1556,読み替え表_低炭素物流!$C$4:$F$12,4,0))","v":"-"},{"$f":"IF(H1556=\"\",\"-\",VLOOKUP(L1556,読み替え表_低炭素物流!$C$15:$F$21,4,0))","v":"-"},"-",null,null,null,null,0,0,0,0,0,"*"]
[null,null,1549,null,null,null,null,null,null,null,null,null,null,null,null,null,null,null,null,null,null,null,null,null,null,{"$f":"IF(H1557=\"\",\"-\",VLOOKUP(J1557,読み替え表_低炭素物流!$C$4:$F$12,4,0))","v":"-"},{"$f":"IF(H1557=\"\",\"-\",VLOOKUP(L1557,読み替え表_低炭素物流!$C$15:$F$21,4,0))","v":"-"},"-",null,null,null,null,0,0,0,0,0,"*"]
[null,null,1550,null,null,null,null,null,null,null,null,null,null,null,null,null,null,null,null,null,null,null,null,null,null,{"$f":"IF(H1558=\"\",\"-\",VLOOKUP(J1558,読み替え表_低炭素物流!$C$4:$F$12,4,0))","v":"-"},{"$f":"IF(H1558=\"\",\"-\",VLOOKUP(L1558,読み替え表_低炭素物流!$C$15:$F$21,4,0))","v":"-"},"-",null,null,null,null,0,0,0,0,0,"*"]
[null,null,1551,null,null,null,null,null,null,null,null,null,null,null,null,null,null,null,null,null,null,null,null,null,null,{"$f":"IF(H1559=\"\",\"-\",VLOOKUP(J1559,読み替え表_低炭素物流!$C$4:$F$12,4,0))","v":"-"},{"$f":"IF(H1559=\"\",\"-\",VLOOKUP(L1559,読み替え表_低炭素物流!$C$15:$F$21,4,0))","v":"-"},"-",null,null,null,null,0,0,0,0,0,"*"]
[null,null,1552,null,null,null,null,null,null,null,null,null,null,null,null,null,null,null,null,null,null,null,null,null,null,{"$f":"IF(H1560=\"\",\"-\",VLOOKUP(J1560,読み替え表_低炭素物流!$C$4:$F$12,4,0))","v":"-"},{"$f":"IF(H1560=\"\",\"-\",VLOOKUP(L1560,読み替え表_低炭素物流!$C$15:$F$21,4,0))","v":"-"},"-",null,null,null,null,0,0,0,{"$f":"IF(OR(N1560=7,N1560=99),1,0)","v":0},0,"*"]
[null,null,1553,null,null,null,null,null,null,null,null,null,null,null,null,null,null,null,null,null,null,null,null,null,null,{"$f":"IF(H1561=\"\",\"-\",VLOOKUP(J1561,読み替え表_低炭素物流!$C$4:$F$12,4,0))","v":"-"},{"$f":"IF(H1561=\"\",\"-\",VLOOKUP(L1561,読み替え表_低炭素物流!$C$15:$F$21,4,0))","v":"-"},"-",null,null,null,null,0,0,0,0,0,"*"]
[null,null,1554,null,null,null,null,null,null,null,null,null,null,null,null,null,null,null,null,null,null,null,null,null,null,{"$f":"IF(H1562=\"\",\"-\",VLOOKUP(J1562,読み替え表_低炭素物流!$C$4:$F$12,4,0))","v":"-"},{"$f":"IF(H1562=\"\",\"-\",VLOOKUP(L1562,読み替え表_低炭素物流!$C$15:$F$21,4,0))","v":"-"},"-",null,null,null,null,0,0,0,0,0,"*"]
[null,null,1555,null,null,null,null,null,null,null,null,null,null,null,null,null,null,null,null,null,null,null,null,null,null,{"$f":"IF(H1563=\"\",\"-\",VLOOKUP(J1563,読み替え表_低炭素物流!$C$4:$F$12,4,0))","v":"-"},{"$f":"IF(H1563=\"\",\"-\",VLOOKUP(L1563,読み替え表_低炭素物流!$C$15:$F$21,4,0))","v":"-"},"-",null,null,null,null,0,0,0,0,0,"*"]
[null,null,1556,null,null,null,null,null,null,null,null,null,null,null,null,null,null,null,null,null,null,null,null,null,null,{"$f":"IF(H1564=\"\",\"-\",VLOOKUP(J1564,読み替え表_低炭素物流!$C$4:$F$12,4,0))","v":"-"},{"$f":"IF(H1564=\"\",\"-\",VLOOKUP(L1564,読み替え表_低炭素物流!$C$15:$F$21,4,0))","v":"-"},"-",null,null,null,null,0,0,0,0,0,"*"]
[null,null,1557,null,null,null,null,null,null,null,null,null,null,null,null,null,null,null,null,null,null,null,null,null,null,{"$f":"IF(H1565=\"\",\"-\",VLOOKUP(J1565,読み替え表_低炭素物流!$C$4:$F$12,4,0))","v":"-"},{"$f":"IF(H1565=\"\",\"-\",VLOOKUP(L1565,読み替え表_低炭素物流!$C$15:$F$21,4,0))","v":"-"},"-",null,null,null,null,0,0,0,0,0,"*"]
[null,null,1558,null,null,null,null,null,null,null,null,null,null,null,null,null,null,null,null,null,null,null,null,null,null,{"$f":"IF(H1566=\"\",\"-\",VLOOKUP(J1566,読み替え表_低炭素物流!$C$4:$F$12,4,0))","v":"-"},{"$f":"IF(H1566=\"\",\"-\",VLOOKUP(L1566,読み替え表_低炭素物流!$C$15:$F$21,4,0))","v":"-"},"-",null,null,null,null,0,0,0,0,0,"*"]
[null,null,1559,null,null,null,null,null,null,null,null,null,null,null,null,null,null,null,null,null,null,null,null,null,null,{"$f":"IF(H1567=\"\",\"-\",VLOOKUP(J1567,読み替え表_低炭素物流!$C$4:$F$12,4,0))","v":"-"},{"$f":"IF(H1567=\"\",\"-\",VLOOKUP(L1567,読み替え表_低炭素物流!$C$15:$F$21,4,0))","v":"-"},"-",null,null,null,null,0,0,0,0,0,"*"]
[null,null,1560,null,null,null,null,null,null,null,null,null,null,null,null,null,null,null,null,null,null,null,null,null,null,{"$f":"IF(H1568=\"\",\"-\",VLOOKUP(J1568,読み替え表_低炭素物流!$C$4:$F$12,4,0))","v":"-"},{"$f":"IF(H1568=\"\",\"-\",VLOOKUP(L1568,読み替え表_低炭素物流!$C$15:$F$21,4,0))","v":"-"},"-",null,null,null,null,0,0,0,0,0,"*"]
[null,null,1561,null,null,null,null,null,null,null,null,null,null,null,null,null,null,null,null,null,null,null,null,null,null,{"$f":"IF(H1569=\"\",\"-\",VLOOKUP(J1569,読み替え表_低炭素物流!$C$4:$F$12,4,0))","v":"-"},{"$f":"IF(H1569=\"\",\"-\",VLOOKUP(L1569,読み替え表_低炭素物流!$C$15:$F$21,4,0))","v":"-"},"-",null,null,null,null,0,0,0,0,0,"*"]
[null,null,1562,null,null,null,null,null,null,null,null,null,null,null,null,null,null,null,null,null,null,null,null,null,null,{"$f":"IF(H1570=\"\",\"-\",VLOOKUP(J1570,読み替え表_低炭素物流!$C$4:$F$12,4,0))","v":"-"},{"$f":"IF(H1570=\"\",\"-\",VLOOKUP(L1570,読み替え表_低炭素物流!$C$15:$F$21,4,0))","v":"-"},"-",null,null,null,null,0,0,0,0,0,"*"]
[null,null,1563,null,null,null,null,null,null,null,null,null,null,null,null,null,null,null,null,null,null,null,null,null,null,{"$f":"IF(H1571=\"\",\"-\",VLOOKUP(J1571,読み替え表_低炭素物流!$C$4:$F$12,4,0))","v":"-"},{"$f":"IF(H1571=\"\",\"-\",VLOOKUP(L1571,読み替え表_低炭素物流!$C$15:$F$21,4,0))","v":"-"},"-",null,null,null,null,0,0,0,0,0,"*"]
[null,null,1564,null,null,null,null,null,null,null,null,null,null,null,null,null,null,null,null,null,null,null,null,null,null,{"$f":"IF(H1572=\"\",\"-\",VLOOKUP(J1572,読み替え表_低炭素物流!$C$4:$F$12,4,0))","v":"-"},{"$f":"IF(H1572=\"\",\"-\",VLOOKUP(L1572,読み替え表_低炭素物流!$C$15:$F$21,4,0))","v":"-"},"-",null,null,null,null,0,0,0,0,0,"*"]
[null,null,1565,null,null,null,null,null,null,null,null,null,null,null,null,null,null,null,null,null,null,null,null,null,null,{"$f":"IF(H1573=\"\",\"-\",VLOOKUP(J1573,読み替え表_低炭素物流!$C$4:$F$12,4,0))","v":"-"},{"$f":"IF(H1573=\"\",\"-\",VLOOKUP(L1573,読み替え表_低炭素物流!$C$15:$F$21,4,0))","v":"-"},"-",null,null,null,null,0,0,0,0,0,"*"]
[null,null,1566,null,null,null,null,null,null,null,null,null,null,null,null,null,null,null,null,null,null,null,null,null,null,{"$f":"IF(H1574=\"\",\"-\",VLOOKUP(J1574,読み替え表_低炭素物流!$C$4:$F$12,4,0))","v":"-"},{"$f":"IF(H1574=\"\",\"-\",VLOOKUP(L1574,読み替え表_低炭素物流!$C$15:$F$21,4,0))","v":"-"},"-",null,null,null,null,0,0,0,0,0,"*"]
[null,null,1567,null,null,null,null,null,null,null,null,null,null,null,null,null,null,null,null,null,null,null,null,null,null,{"$f":"IF(H1575=\"\",\"-\",VLOOKUP(J1575,読み替え表_低炭素物流!$C$4:$F$12,4,0))","v":"-"},{"$f":"IF(H1575=\"\",\"-\",VLOOKUP(L1575,読み替え表_低炭素物流!$C$15:$F$21,4,0))","v":"-"},"-",null,null,null,null,0,0,0,0,0,"*"]
[null,null,1568,null,null,null,null,null,null,null,null,null,null,null,null,null,null,null,null,null,null,null,null,null,null,{"$f":"IF(H1576=\"\",\"-\",VLOOKUP(J1576,読み替え表_低炭素物流!$C$4:$F$12,4,0))","v":"-"},{"$f":"IF(H1576=\"\",\"-\",VLOOKUP(L1576,読み替え表_低炭素物流!$C$15:$F$21,4,0))","v":"-"},"-",null,null,null,null,0,0,0,0,0,"*"]
[null,null,1569,null,null,null,null,null,null,null,null,null,null,null,null,null,null,null,null,null,null,null,null,null,null,{"$f":"IF(H1577=\"\",\"-\",VLOOKUP(J1577,読み替え表_低炭素物流!$C$4:$F$12,4,0))","v":"-"},{"$f":"IF(H1577=\"\",\"-\",VLOOKUP(L1577,読み替え表_低炭素物流!$C$15:$F$21,4,0))","v":"-"},"-",null,null,null,null,0,0,0,0,0,"*"]
[null,null,1570,null,null,null,null,null,null,null,null,null,null,null,null,null,null,null,null,null,null,null,null,null,null,{"$f":"IF(H1578=\"\",\"-\",VLOOKUP(J1578,読み替え表_低炭素物流!$C$4:$F$12,4,0))","v":"-"},{"$f":"IF(H1578=\"\",\"-\",VLOOKUP(L1578,読み替え表_低炭素物流!$C$15:$F$21,4,0))","v":"-"},"-",null,null,null,null,0,0,0,0,0,"*"]
[null,null,1571,null,null,null,null,null,null,null,null,null,null,null,null,null,null,null,null,null,null,null,null,null,null,{"$f":"IF(H1579=\"\",\"-\",VLOOKUP(J1579,読み替え表_低炭素物流!$C$4:$F$12,4,0))","v":"-"},{"$f":"IF(H1579=\"\",\"-\",VLOOKUP(L1579,読み替え表_低炭素物流!$C$15:$F$21,4,0))","v":"-"},"-",null,null,null,null,0,0,0,0,0,"*"]
[null,null,1572,null,null,null,null,null,null,null,null,null,null,null,null,null,null,null,null,null,null,null,null,null,null,{"$f":"IF(H1580=\"\",\"-\",VLOOKUP(J1580,読み替え表_低炭素物流!$C$4:$F$12,4,0))","v":"-"},{"$f":"IF(H1580=\"\",\"-\",VLOOKUP(L1580,読み替え表_低炭素物流!$C$15:$F$21,4,0))","v":"-"},"-",null,null,null,null,0,0,0,0,0,"*"]
[null,null,1573,null,null,null,null,null,null,null,null,null,null,null,null,null,null,null,null,null,null,null,null,null,null,{"$f":"IF(H1581=\"\",\"-\",VLOOKUP(J1581,読み替え表_低炭素物流!$C$4:$F$12,4,0))","v":"-"},{"$f":"IF(H1581=\"\",\"-\",VLOOKUP(L1581,読み替え表_低炭素物流!$C$15:$F$21,4,0))","v":"-"},"-",null,null,null,null,0,0,0,0,0,"*"]
[null,null,1574,null,null,null,null,null,null,null,null,null,null,null,null,null,null,null,null,null,null,null,null,null,null,{"$f":"IF(H1582=\"\",\"-\",VLOOKUP(J1582,読み替え表_低炭素物流!$C$4:$F$12,4,0))","v":"-"},{"$f":"IF(H1582=\"\",\"-\",VLOOKUP(L1582,読み替え表_低炭素物流!$C$15:$F$21,4,0))","v":"-"},"-",null,null,null,null,0,0,0,0,0,"*"]
[null,null,1575,null,null,null,null,null,null,null,null,null,null,null,null,null,null,null,null,null,null,null,null,null,null,{"$f":"IF(H1583=\"\",\"-\",VLOOKUP(J1583,読み替え表_低炭素物流!$C$4:$F$12,4,0))","v":"-"},{"$f":"IF(H1583=\"\",\"-\",VLOOKUP(L1583,読み替え表_低炭素物流!$C$15:$F$21,4,0))","v":"-"},"-",null,null,null,null,0,0,0,0,0,"*"]
[null,null,1576,null,null,null,null,null,null,null,null,null,null,null,null,null,null,null,null,null,null,null,null,null,null,{"$f":"IF(H1584=\"\",\"-\",VLOOKUP(J1584,読み替え表_低炭素物流!$C$4:$F$12,4,0))","v":"-"},{"$f":"IF(H1584=\"\",\"-\",VLOOKUP(L1584,読み替え表_低炭素物流!$C$15:$F$21,4,0))","v":"-"},"-",null,null,null,null,0,0,0,0,0,"*"]
[null,null,1577,null,null,null,null,null,null,null,null,null,null,null,null,null,null,null,null,null,null,null,null,null,null,{"$f":"IF(H1585=\"\",\"-\",VLOOKUP(J1585,読み替え表_低炭素物流!$C$4:$F$12,4,0))","v":"-"},{"$f":"IF(H1585=\"\",\"-\",VLOOKUP(L1585,読み替え表_低炭素物流!$C$15:$F$21,4,0))","v":"-"},{"$f":"IF(H1585=\"\",\"-\",Z1585*AA1585)","v":"-"},null,null,null,null,0,{"$f":"IF(J1585=8,1,0)","v":0},{"$f":"IF(L1585=6,1,0)","v":0},0,0,"*"]
[null,null,1578,null,null,null,null,null,null,null,null,null,null,null,null,null,null,null,null,null,null,null,null,null,null,{"$f":"IF(H1586=\"\",\"-\",VLOOKUP(J1586,読み替え表_低炭素物流!$C$4:$F$12,4,0))","v":"-"},{"$f":"IF(H1586=\"\",\"-\",VLOOKUP(L1586,読み替え表_低炭素物流!$C$15:$F$21,4,0))","v":"-"},"-",null,null,null,null,0,0,0,0,0,"*"]
[null,null,1579,null,null,null,null,null,null,null,null,null,null,null,null,null,null,null,null,null,null,null,null,null,null,{"$f":"IF(H1587=\"\",\"-\",VLOOKUP(J1587,読み替え表_低炭素物流!$C$4:$F$12,4,0))","v":"-"},{"$f":"IF(H1587=\"\",\"-\",VLOOKUP(L1587,読み替え表_低炭素物流!$C$15:$F$21,4,0))","v":"-"},"-",null,null,null,null,0,0,0,0,0,"*"]
[null,null,1580,null,null,null,null,null,null,null,null,null,null,null,null,null,null,null,null,null,null,null,null,null,null,{"$f":"IF(H1588=\"\",\"-\",VLOOKUP(J1588,読み替え表_低炭素物流!$C$4:$F$12,4,0))","v":"-"},{"$f":"IF(H1588=\"\",\"-\",VLOOKUP(L1588,読み替え表_低炭素物流!$C$15:$F$21,4,0))","v":"-"},"-",null,null,null,null,0,0,0,0,0,"*"]
[null,null,1581,null,null,null,null,null,null,null,null,null,null,null,null,null,null,null,null,null,null,null,null,null,null,{"$f":"IF(H1589=\"\",\"-\",VLOOKUP(J1589,読み替え表_低炭素物流!$C$4:$F$12,4,0))","v":"-"},{"$f":"IF(H1589=\"\",\"-\",VLOOKUP(L1589,読み替え表_低炭素物流!$C$15:$F$21,4,0))","v":"-"},"-",null,null,null,null,0,0,0,0,0,"*"]
[null,null,1582,null,null,null,null,null,null,null,null,null,null,null,null,null,null,null,null,null,null,null,null,null,null,{"$f":"IF(H1590=\"\",\"-\",VLOOKUP(J1590,読み替え表_低炭素物流!$C$4:$F$12,4,0))","v":"-"},{"$f":"IF(H1590=\"\",\"-\",VLOOKUP(L1590,読み替え表_低炭素物流!$C$15:$F$21,4,0))","v":"-"},"-",null,null,null,null,0,0,0,0,0,"*"]
[null,null,1583,null,null,null,null,null,null,null,null,null,null,null,null,null,null,null,null,null,null,null,null,null,null,{"$f":"IF(H1591=\"\",\"-\",VLOOKUP(J1591,読み替え表_低炭素物流!$C$4:$F$12,4,0))","v":"-"},{"$f":"IF(H1591=\"\",\"-\",VLOOKUP(L1591,読み替え表_低炭素物流!$C$15:$F$21,4,0))","v":"-"},"-",null,null,null,null,0,0,0,0,0,"*"]
[null,null,1584,null,null,null,null,null,null,null,null,null,null,null,null,null,null,null,null,null,null,null,null,null,null,{"$f":"IF(H1592=\"\",\"-\",VLOOKUP(J1592,読み替え表_低炭素物流!$C$4:$F$12,4,0))","v":"-"},{"$f":"IF(H1592=\"\",\"-\",VLOOKUP(L1592,読み替え表_低炭素物流!$C$15:$F$21,4,0))","v":"-"},"-",null,null,null,null,0,0,0,0,0,"*"]
[null,null,1585,null,null,null,null,null,null,null,null,null,null,null,null,null,null,null,null,null,null,null,null,null,null,{"$f":"IF(H1593=\"\",\"-\",VLOOKUP(J1593,読み替え表_低炭素物流!$C$4:$F$12,4,0))","v":"-"},{"$f":"IF(H1593=\"\",\"-\",VLOOKUP(L1593,読み替え表_低炭素物流!$C$15:$F$21,4,0))","v":"-"},"-",null,null,null,null,0,0,0,0,0,"*"]
[null,null,1586,null,null,null,null,null,null,null,null,null,null,null,null,null,null,null,null,null,null,null,null,null,null,{"$f":"IF(H1594=\"\",\"-\",VLOOKUP(J1594,読み替え表_低炭素物流!$C$4:$F$12,4,0))","v":"-"},{"$f":"IF(H1594=\"\",\"-\",VLOOKUP(L1594,読み替え表_低炭素物流!$C$15:$F$21,4,0))","v":"-"},"-",null,null,null,null,0,0,0,0,0,"*"]
[null,null,1587,null,null,null,null,null,null,null,null,null,null,null,null,null,null,null,null,null,null,null,null,null,null,{"$f":"IF(H1595=\"\",\"-\",VLOOKUP(J1595,読み替え表_低炭素物流!$C$4:$F$12,4,0))","v":"-"},{"$f":"IF(H1595=\"\",\"-\",VLOOKUP(L1595,読み替え表_低炭素物流!$C$15:$F$21,4,0))","v":"-"},"-",null,null,null,null,0,0,0,0,0,"*"]
[null,null,1588,null,null,null,null,null,null,null,null,null,null,null,null,null,null,null,null,null,null,null,null,null,null,{"$f":"IF(H1596=\"\",\"-\",VLOOKUP(J1596,読み替え表_低炭素物流!$C$4:$F$12,4,0))","v":"-"},{"$f":"IF(H1596=\"\",\"-\",VLOOKUP(L1596,読み替え表_低炭素物流!$C$15:$F$21,4,0))","v":"-"},"-",null,null,null,null,0,0,0,0,0,"*"]
[null,null,1589,null,null,null,null,null,null,null,null,null,null,null,null,null,null,null,null,null,null,null,null,null,null,{"$f":"IF(H1597=\"\",\"-\",VLOOKUP(J1597,読み替え表_低炭素物流!$C$4:$F$12,4,0))","v":"-"},{"$f":"IF(H1597=\"\",\"-\",VLOOKUP(L1597,読み替え表_低炭素物流!$C$15:$F$21,4,0))","v":"-"},"-",null,null,null,null,0,0,0,0,0,"*"]
[null,null,1590,null,null,null,null,null,null,null,null,null,null,null,null,null,null,null,null,null,null,null,null,null,null,{"$f":"IF(H1598=\"\",\"-\",VLOOKUP(J1598,読み替え表_低炭素物流!$C$4:$F$12,4,0))","v":"-"},{"$f":"IF(H1598=\"\",\"-\",VLOOKUP(L1598,読み替え表_低炭素物流!$C$15:$F$21,4,0))","v":"-"},"-",null,null,null,null,0,0,0,0,0,"*"]
[null,null,1591,null,null,null,null,null,null,null,null,null,null,null,null,null,null,null,null,null,null,null,null,null,null,{"$f":"IF(H1599=\"\",\"-\",VLOOKUP(J1599,読み替え表_低炭素物流!$C$4:$F$12,4,0))","v":"-"},{"$f":"IF(H1599=\"\",\"-\",VLOOKUP(L1599,読み替え表_低炭素物流!$C$15:$F$21,4,0))","v":"-"},"-",null,null,null,null,0,0,0,0,0,"*"]
[null,null,1592,null,null,null,null,null,null,null,null,null,null,null,null,null,null,null,null,null,null,null,null,null,null,{"$f":"IF(H1600=\"\",\"-\",VLOOKUP(J1600,読み替え表_低炭素物流!$C$4:$F$12,4,0))","v":"-"},{"$f":"IF(H1600=\"\",\"-\",VLOOKUP(L1600,読み替え表_低炭素物流!$C$15:$F$21,4,0))","v":"-"},"-",null,null,null,null,0,0,0,0,0,"*"]
[null,null,1593,null,null,null,null,null,null,null,null,null,null,null,null,null,null,null,null,null,null,null,null,null,null,{"$f":"IF(H1601=\"\",\"-\",VLOOKUP(J1601,読み替え表_低炭素物流!$C$4:$F$12,4,0))","v":"-"},{"$f":"IF(H1601=\"\",\"-\",VLOOKUP(L1601,読み替え表_低炭素物流!$C$15:$F$21,4,0))","v":"-"},"-",null,null,null,null,0,0,0,0,0,"*"]
[null,null,1594,null,null,null,null,null,null,null,null,null,null,null,null,null,null,null,null,null,null,null,null,null,null,{"$f":"IF(H1602=\"\",\"-\",VLOOKUP(J1602,読み替え表_低炭素物流!$C$4:$F$12,4,0))","v":"-"},{"$f":"IF(H1602=\"\",\"-\",VLOOKUP(L1602,読み替え表_低炭素物流!$C$15:$F$21,4,0))","v":"-"},"-",null,null,null,null,0,0,0,0,0,"*"]
[null,null,1595,null,null,null,null,null,null,null,null,null,null,null,null,null,null,null,null,null,null,null,null,null,null,{"$f":"IF(H1603=\"\",\"-\",VLOOKUP(J1603,読み替え表_低炭素物流!$C$4:$F$12,4,0))","v":"-"},{"$f":"IF(H1603=\"\",\"-\",VLOOKUP(L1603,読み替え表_低炭素物流!$C$15:$F$21,4,0))","v":"-"},"-",null,null,null,null,0,0,0,0,0,"*"]
[null,null,1596,null,null,null,null,null,null,null,null,null,null,null,null,null,null,null,null,null,null,null,null,null,null,{"$f":"IF(H1604=\"\",\"-\",VLOOKUP(J1604,読み替え表_低炭素物流!$C$4:$F$12,4,0))","v":"-"},{"$f":"IF(H1604=\"\",\"-\",VLOOKUP(L1604,読み替え表_低炭素物流!$C$15:$F$21,4,0))","v":"-"},"-",null,null,null,null,0,0,0,0,0,"*"]
[null,null,1597,null,null,null,null,null,null,null,null,null,null,null,null,null,null,null,null,null,null,null,null,null,null,{"$f":"IF(H1605=\"\",\"-\",VLOOKUP(J1605,読み替え表_低炭素物流!$C$4:$F$12,4,0))","v":"-"},{"$f":"IF(H1605=\"\",\"-\",VLOOKUP(L1605,読み替え表_低炭素物流!$C$15:$F$21,4,0))","v":"-"},"-",null,null,null,null,0,0,0,0,0,"*"]
[null,null,1598,null,null,null,null,null,null,null,null,null,null,null,null,null,null,null,null,null,null,null,null,null,null,{"$f":"IF(H1606=\"\",\"-\",VLOOKUP(J1606,読み替え表_低炭素物流!$C$4:$F$12,4,0))","v":"-"},{"$f":"IF(H1606=\"\",\"-\",VLOOKUP(L1606,読み替え表_低炭素物流!$C$15:$F$21,4,0))","v":"-"},"-",null,null,null,null,0,0,0,0,0,"*"]
[null,null,1599,null,null,null,null,null,null,null,null,null,null,null,null,null,null,null,null,null,null,null,null,null,null,{"$f":"IF(H1607=\"\",\"-\",VLOOKUP(J1607,読み替え表_低炭素物流!$C$4:$F$12,4,0))","v":"-"},{"$f":"IF(H1607=\"\",\"-\",VLOOKUP(L1607,読み替え表_低炭素物流!$C$15:$F$21,4,0))","v":"-"},"-",null,null,null,null,0,0,0,0,0,"*"]
[null,null,1600,null,null,null,null,null,null,null,null,null,null,null,null,null,null,null,null,null,null,null,null,null,null,{"$f":"IF(H1608=\"\",\"-\",VLOOKUP(J1608,読み替え表_低炭素物流!$C$4:$F$12,4,0))","v":"-"},{"$f":"IF(H1608=\"\",\"-\",VLOOKUP(L1608,読み替え表_低炭素物流!$C$15:$F$21,4,0))","v":"-"},"-",null,null,null,null,0,0,0,0,0,"*"]
[null,null,1601,null,null,null,null,null,null,null,null,null,null,null,null,null,null,null,null,null,null,null,null,null,null,{"$f":"IF(H1609=\"\",\"-\",VLOOKUP(J1609,読み替え表_低炭素物流!$C$4:$F$12,4,0))","v":"-"},{"$f":"IF(H1609=\"\",\"-\",VLOOKUP(L1609,読み替え表_低炭素物流!$C$15:$F$21,4,0))","v":"-"},"-",null,null,null,null,{"$f":"IF(N1609=1,IF(OR(L1609=4,L1609=5),0,1),0)","v":0},0,0,0,0,"*"]
[null,null,{"$f":"ROW()-8","v":1602},null,null,null,null,null,null,null,null,null,null,null,null,null,null,null,null,null,null,null,null,null,null,{"$f":"IF(H1610=\"\",\"-\",VLOOKUP(J1610,読み替え表_低炭素物流!$C$4:$F$12,4,0))","v":"-"},{"$f":"IF(H1610=\"\",\"-\",VLOOKUP(L1610,読み替え表_低炭素物流!$C$15:$F$21,4,0))","v":"-"},"-",null,null,null,null,0,0,0,0,{"$f":"AG1610","v":0},"*"]
[null,null,1603,null,null,null,null,null,null,null,null,null,null,null,null,null,null,null,null,null,null,null,null,null,null,{"$f":"IF(H1611=\"\",\"-\",VLOOKUP(J1611,読み替え表_低炭素物流!$C$4:$F$12,4,0))","v":"-"},{"$f":"IF(H1611=\"\",\"-\",VLOOKUP(L1611,読み替え表_低炭素物流!$C$15:$F$21,4,0))","v":"-"},"-",null,null,null,null,0,0,0,0,0,"*"]
[null,null,1604,null,null,null,null,null,null,null,null,null,null,null,null,null,null,null,null,null,null,null,null,null,null,{"$f":"IF(H1612=\"\",\"-\",VLOOKUP(J1612,読み替え表_低炭素物流!$C$4:$F$12,4,0))","v":"-"},{"$f":"IF(H1612=\"\",\"-\",VLOOKUP(L1612,読み替え表_低炭素物流!$C$15:$F$21,4,0))","v":"-"},"-",null,null,null,null,0,0,0,0,0,"*"]
[null,null,1605,null,null,null,null,null,null,null,null,null,null,null,null,null,null,null,null,null,null,null,null,null,null,{"$f":"IF(H1613=\"\",\"-\",VLOOKUP(J1613,読み替え表_低炭素物流!$C$4:$F$12,4,0))","v":"-"},{"$f":"IF(H1613=\"\",\"-\",VLOOKUP(L1613,読み替え表_低炭素物流!$C$15:$F$21,4,0))","v":"-"},"-",null,null,null,null,0,0,0,0,0,"*"]
[null,null,1606,null,null,null,null,null,null,null,null,null,null,null,null,null,null,null,null,null,null,null,null,null,null,{"$f":"IF(H1614=\"\",\"-\",VLOOKUP(J1614,読み替え表_低炭素物流!$C$4:$F$12,4,0))","v":"-"},{"$f":"IF(H1614=\"\",\"-\",VLOOKUP(L1614,読み替え表_低炭素物流!$C$15:$F$21,4,0))","v":"-"},"-",null,null,null,null,0,0,0,0,0,"*"]
[null,null,1607,null,null,null,null,null,null,null,null,null,null,null,null,null,null,null,null,null,null,null,null,null,null,{"$f":"IF(H1615=\"\",\"-\",VLOOKUP(J1615,読み替え表_低炭素物流!$C$4:$F$12,4,0))","v":"-"},{"$f":"IF(H1615=\"\",\"-\",VLOOKUP(L1615,読み替え表_低炭素物流!$C$15:$F$21,4,0))","v":"-"},"-",null,null,null,null,0,0,0,0,0,"*"]
[null,null,1608,null,null,null,null,null,null,null,null,null,null,null,null,null,null,null,null,null,null,null,null,null,null,{"$f":"IF(H1616=\"\",\"-\",VLOOKUP(J1616,読み替え表_低炭素物流!$C$4:$F$12,4,0))","v":"-"},{"$f":"IF(H1616=\"\",\"-\",VLOOKUP(L1616,読み替え表_低炭素物流!$C$15:$F$21,4,0))","v":"-"},"-",null,null,null,null,0,0,0,0,0,"*"]
[null,null,1609,null,null,null,null,null,null,null,null,null,null,null,null,null,null,null,null,null,null,null,null,null,null,{"$f":"IF(H1617=\"\",\"-\",VLOOKUP(J1617,読み替え表_低炭素物流!$C$4:$F$12,4,0))","v":"-"},{"$f":"IF(H1617=\"\",\"-\",VLOOKUP(L1617,読み替え表_低炭素物流!$C$15:$F$21,4,0))","v":"-"},"-",null,null,null,null,0,0,0,0,0,"*"]
[null,null,1610,null,null,null,null,null,null,null,null,null,null,null,null,null,null,null,null,null,null,null,null,null,null,{"$f":"IF(H1618=\"\",\"-\",VLOOKUP(J1618,読み替え表_低炭素物流!$C$4:$F$12,4,0))","v":"-"},{"$f":"IF(H1618=\"\",\"-\",VLOOKUP(L1618,読み替え表_低炭素物流!$C$15:$F$21,4,0))","v":"-"},"-",null,null,null,null,0,0,0,0,0,"*"]
[null,null,1611,null,null,null,null,null,null,null,null,null,null,null,null,null,null,null,null,null,null,null,null,null,null,{"$f":"IF(H1619=\"\",\"-\",VLOOKUP(J1619,読み替え表_低炭素物流!$C$4:$F$12,4,0))","v":"-"},{"$f":"IF(H1619=\"\",\"-\",VLOOKUP(L1619,読み替え表_低炭素物流!$C$15:$F$21,4,0))","v":"-"},"-",null,null,null,null,0,0,0,0,0,"*"]
[null,null,1612,null,null,null,null,null,null,null,null,null,null,null,null,null,null,null,null,null,null,null,null,null,null,{"$f":"IF(H1620=\"\",\"-\",VLOOKUP(J1620,読み替え表_低炭素物流!$C$4:$F$12,4,0))","v":"-"},{"$f":"IF(H1620=\"\",\"-\",VLOOKUP(L1620,読み替え表_低炭素物流!$C$15:$F$21,4,0))","v":"-"},"-",null,null,null,null,0,0,0,0,0,"*"]
[null,null,1613,null,null,null,null,null,null,null,null,null,null,null,null,null,null,null,null,null,null,null,null,null,null,{"$f":"IF(H1621=\"\",\"-\",VLOOKUP(J1621,読み替え表_低炭素物流!$C$4:$F$12,4,0))","v":"-"},{"$f":"IF(H1621=\"\",\"-\",VLOOKUP(L1621,読み替え表_低炭素物流!$C$15:$F$21,4,0))","v":"-"},"-",null,null,null,null,0,0,0,0,0,"*"]
[null,null,1614,null,null,null,null,null,null,null,null,null,null,null,null,null,null,null,null,null,null,null,null,null,null,{"$f":"IF(H1622=\"\",\"-\",VLOOKUP(J1622,読み替え表_低炭素物流!$C$4:$F$12,4,0))","v":"-"},{"$f":"IF(H1622=\"\",\"-\",VLOOKUP(L1622,読み替え表_低炭素物流!$C$15:$F$21,4,0))","v":"-"},"-",null,null,null,null,0,0,0,0,0,"*"]
[null,null,1615,null,null,null,null,null,null,null,null,null,null,null,null,null,null,null,null,null,null,null,null,null,null,{"$f":"IF(H1623=\"\",\"-\",VLOOKUP(J1623,読み替え表_低炭素物流!$C$4:$F$12,4,0))","v":"-"},{"$f":"IF(H1623=\"\",\"-\",VLOOKUP(L1623,読み替え表_低炭素物流!$C$15:$F$21,4,0))","v":"-"},"-",null,null,null,null,0,0,0,0,0,"*"]
[null,null,1616,null,null,null,null,null,null,null,null,null,null,null,null,null,null,null,null,null,null,null,null,null,null,{"$f":"IF(H1624=\"\",\"-\",VLOOKUP(J1624,読み替え表_低炭素物流!$C$4:$F$12,4,0))","v":"-"},{"$f":"IF(H1624=\"\",\"-\",VLOOKUP(L1624,読み替え表_低炭素物流!$C$15:$F$21,4,0))","v":"-"},"-",null,null,null,null,0,0,0,{"$f":"IF(OR(N1624=7,N1624=99),1,0)","v":0},0,"*"]
[null,null,1617,null,null,null,null,null,null,null,null,null,null,null,null,null,null,null,null,null,null,null,null,null,null,{"$f":"IF(H1625=\"\",\"-\",VLOOKUP(J1625,読み替え表_低炭素物流!$C$4:$F$12,4,0))","v":"-"},{"$f":"IF(H1625=\"\",\"-\",VLOOKUP(L1625,読み替え表_低炭素物流!$C$15:$F$21,4,0))","v":"-"},"-",null,null,null,null,0,0,0,0,0,"*"]
[null,null,1618,null,null,null,null,null,null,null,null,null,null,null,null,null,null,null,null,null,null,null,null,null,null,{"$f":"IF(H1626=\"\",\"-\",VLOOKUP(J1626,読み替え表_低炭素物流!$C$4:$F$12,4,0))","v":"-"},{"$f":"IF(H1626=\"\",\"-\",VLOOKUP(L1626,読み替え表_低炭素物流!$C$15:$F$21,4,0))","v":"-"},"-",null,null,null,null,0,0,0,0,0,"*"]
[null,null,1619,null,null,null,null,null,null,null,null,null,null,null,null,null,null,null,null,null,null,null,null,null,null,{"$f":"IF(H1627=\"\",\"-\",VLOOKUP(J1627,読み替え表_低炭素物流!$C$4:$F$12,4,0))","v":"-"},{"$f":"IF(H1627=\"\",\"-\",VLOOKUP(L1627,読み替え表_低炭素物流!$C$15:$F$21,4,0))","v":"-"},"-",null,null,null,null,0,0,0,0,0,"*"]
[null,null,1620,null,null,null,null,null,null,null,null,null,null,null,null,null,null,null,null,null,null,null,null,null,null,{"$f":"IF(H1628=\"\",\"-\",VLOOKUP(J1628,読み替え表_低炭素物流!$C$4:$F$12,4,0))","v":"-"},{"$f":"IF(H1628=\"\",\"-\",VLOOKUP(L1628,読み替え表_低炭素物流!$C$15:$F$21,4,0))","v":"-"},"-",null,null,null,null,0,0,0,0,0,"*"]
[null,null,1621,null,null,null,null,null,null,null,null,null,null,null,null,null,null,null,null,null,null,null,null,null,null,{"$f":"IF(H1629=\"\",\"-\",VLOOKUP(J1629,読み替え表_低炭素物流!$C$4:$F$12,4,0))","v":"-"},{"$f":"IF(H1629=\"\",\"-\",VLOOKUP(L1629,読み替え表_低炭素物流!$C$15:$F$21,4,0))","v":"-"},"-",null,null,null,null,0,0,0,0,0,"*"]
[null,null,1622,null,null,null,null,null,null,null,null,null,null,null,null,null,null,null,null,null,null,null,null,null,null,{"$f":"IF(H1630=\"\",\"-\",VLOOKUP(J1630,読み替え表_低炭素物流!$C$4:$F$12,4,0))","v":"-"},{"$f":"IF(H1630=\"\",\"-\",VLOOKUP(L1630,読み替え表_低炭素物流!$C$15:$F$21,4,0))","v":"-"},"-",null,null,null,null,0,0,0,0,0,"*"]
[null,null,1623,null,null,null,null,null,null,null,null,null,null,null,null,null,null,null,null,null,null,null,null,null,null,{"$f":"IF(H1631=\"\",\"-\",VLOOKUP(J1631,読み替え表_低炭素物流!$C$4:$F$12,4,0))","v":"-"},{"$f":"IF(H1631=\"\",\"-\",VLOOKUP(L1631,読み替え表_低炭素物流!$C$15:$F$21,4,0))","v":"-"},"-",null,null,null,null,0,0,0,0,0,"*"]
[null,null,1624,null,null,null,null,null,null,null,null,null,null,null,null,null,null,null,null,null,null,null,null,null,null,{"$f":"IF(H1632=\"\",\"-\",VLOOKUP(J1632,読み替え表_低炭素物流!$C$4:$F$12,4,0))","v":"-"},{"$f":"IF(H1632=\"\",\"-\",VLOOKUP(L1632,読み替え表_低炭素物流!$C$15:$F$21,4,0))","v":"-"},"-",null,null,null,null,0,0,0,0,0,"*"]
[null,null,1625,null,null,null,null,null,null,null,null,null,null,null,null,null,null,null,null,null,null,null,null,null,null,{"$f":"IF(H1633=\"\",\"-\",VLOOKUP(J1633,読み替え表_低炭素物流!$C$4:$F$12,4,0))","v":"-"},{"$f":"IF(H1633=\"\",\"-\",VLOOKUP(L1633,読み替え表_低炭素物流!$C$15:$F$21,4,0))","v":"-"},"-",null,null,null,null,0,0,0,0,0,"*"]
[null,null,1626,null,null,null,null,null,null,null,null,null,null,null,null,null,null,null,null,null,null,null,null,null,null,{"$f":"IF(H1634=\"\",\"-\",VLOOKUP(J1634,読み替え表_低炭素物流!$C$4:$F$12,4,0))","v":"-"},{"$f":"IF(H1634=\"\",\"-\",VLOOKUP(L1634,読み替え表_低炭素物流!$C$15:$F$21,4,0))","v":"-"},"-",null,null,null,null,0,0,0,0,0,"*"]
[null,null,1627,null,null,null,null,null,null,null,null,null,null,null,null,null,null,null,null,null,null,null,null,null,null,{"$f":"IF(H1635=\"\",\"-\",VLOOKUP(J1635,読み替え表_低炭素物流!$C$4:$F$12,4,0))","v":"-"},{"$f":"IF(H1635=\"\",\"-\",VLOOKUP(L1635,読み替え表_低炭素物流!$C$15:$F$21,4,0))","v":"-"},"-",null,null,null,null,0,0,0,0,0,"*"]
[null,null,1628,null,null,null,null,null,null,null,null,null,null,null,null,null,null,null,null,null,null,null,null,null,null,{"$f":"IF(H1636=\"\",\"-\",VLOOKUP(J1636,読み替え表_低炭素物流!$C$4:$F$12,4,0))","v":"-"},{"$f":"IF(H1636=\"\",\"-\",VLOOKUP(L1636,読み替え表_低炭素物流!$C$15:$F$21,4,0))","v":"-"},"-",null,null,null,null,0,0,0,0,0,"*"]
[null,null,1629,null,null,null,null,null,null,null,null,null,null,null,null,null,null,null,null,null,null,null,null,null,null,{"$f":"IF(H1637=\"\",\"-\",VLOOKUP(J1637,読み替え表_低炭素物流!$C$4:$F$12,4,0))","v":"-"},{"$f":"IF(H1637=\"\",\"-\",VLOOKUP(L1637,読み替え表_低炭素物流!$C$15:$F$21,4,0))","v":"-"},"-",null,null,null,null,0,0,0,0,0,"*"]
[null,null,1630,null,null,null,null,null,null,null,null,null,null,null,null,null,null,null,null,null,null,null,null,null,null,{"$f":"IF(H1638=\"\",\"-\",VLOOKUP(J1638,読み替え表_低炭素物流!$C$4:$F$12,4,0))","v":"-"},{"$f":"IF(H1638=\"\",\"-\",VLOOKUP(L1638,読み替え表_低炭素物流!$C$15:$F$21,4,0))","v":"-"},"-",null,null,null,null,0,0,0,0,0,"*"]
[null,null,1631,null,null,null,null,null,null,null,null,null,null,null,null,null,null,null,null,null,null,null,null,null,null,{"$f":"IF(H1639=\"\",\"-\",VLOOKUP(J1639,読み替え表_低炭素物流!$C$4:$F$12,4,0))","v":"-"},{"$f":"IF(H1639=\"\",\"-\",VLOOKUP(L1639,読み替え表_低炭素物流!$C$15:$F$21,4,0))","v":"-"},"-",null,null,null,null,0,0,0,0,0,"*"]
[null,null,1632,null,null,null,null,null,null,null,null,null,null,null,null,null,null,null,null,null,null,null,null,null,null,{"$f":"IF(H1640=\"\",\"-\",VLOOKUP(J1640,読み替え表_低炭素物流!$C$4:$F$12,4,0))","v":"-"},{"$f":"IF(H1640=\"\",\"-\",VLOOKUP(L1640,読み替え表_低炭素物流!$C$15:$F$21,4,0))","v":"-"},"-",null,null,null,null,0,0,0,0,0,"*"]
[null,null,1633,null,null,null,null,null,null,null,null,null,null,null,null,null,null,null,null,null,null,null,null,null,null,{"$f":"IF(H1641=\"\",\"-\",VLOOKUP(J1641,読み替え表_低炭素物流!$C$4:$F$12,4,0))","v":"-"},{"$f":"IF(H1641=\"\",\"-\",VLOOKUP(L1641,読み替え表_低炭素物流!$C$15:$F$21,4,0))","v":"-"},"-",null,null,null,null,0,0,0,0,0,"*"]
[null,null,1634,null,null,null,null,null,null,null,null,null,null,null,null,null,null,null,null,null,null,null,null,null,null,{"$f":"IF(H1642=\"\",\"-\",VLOOKUP(J1642,読み替え表_低炭素物流!$C$4:$F$12,4,0))","v":"-"},{"$f":"IF(H1642=\"\",\"-\",VLOOKUP(L1642,読み替え表_低炭素物流!$C$15:$F$21,4,0))","v":"-"},"-",null,null,null,null,0,0,0,0,0,"*"]
[null,null,1635,null,null,null,null,null,null,null,null,null,null,null,null,null,null,null,null,null,null,null,null,null,null,{"$f":"IF(H1643=\"\",\"-\",VLOOKUP(J1643,読み替え表_低炭素物流!$C$4:$F$12,4,0))","v":"-"},{"$f":"IF(H1643=\"\",\"-\",VLOOKUP(L1643,読み替え表_低炭素物流!$C$15:$F$21,4,0))","v":"-"},"-",null,null,null,null,0,0,0,0,0,"*"]
[null,null,1636,null,null,null,null,null,null,null,null,null,null,null,null,null,null,null,null,null,null,null,null,null,null,{"$f":"IF(H1644=\"\",\"-\",VLOOKUP(J1644,読み替え表_低炭素物流!$C$4:$F$12,4,0))","v":"-"},{"$f":"IF(H1644=\"\",\"-\",VLOOKUP(L1644,読み替え表_低炭素物流!$C$15:$F$21,4,0))","v":"-"},"-",null,null,null,null,0,0,0,0,0,"*"]
[null,null,1637,null,null,null,null,null,null,null,null,null,null,null,null,null,null,null,null,null,null,null,null,null,null,{"$f":"IF(H1645=\"\",\"-\",VLOOKUP(J1645,読み替え表_低炭素物流!$C$4:$F$12,4,0))","v":"-"},{"$f":"IF(H1645=\"\",\"-\",VLOOKUP(L1645,読み替え表_低炭素物流!$C$15:$F$21,4,0))","v":"-"},"-",null,null,null,null,0,0,0,0,0,"*"]
[null,null,1638,null,null,null,null,null,null,null,null,null,null,null,null,null,null,null,null,null,null,null,null,null,null,{"$f":"IF(H1646=\"\",\"-\",VLOOKUP(J1646,読み替え表_低炭素物流!$C$4:$F$12,4,0))","v":"-"},{"$f":"IF(H1646=\"\",\"-\",VLOOKUP(L1646,読み替え表_低炭素物流!$C$15:$F$21,4,0))","v":"-"},"-",null,null,null,null,0,0,0,0,0,"*"]
[null,null,1639,null,null,null,null,null,null,null,null,null,null,null,null,null,null,null,null,null,null,null,null,null,null,{"$f":"IF(H1647=\"\",\"-\",VLOOKUP(J1647,読み替え表_低炭素物流!$C$4:$F$12,4,0))","v":"-"},{"$f":"IF(H1647=\"\",\"-\",VLOOKUP(L1647,読み替え表_低炭素物流!$C$15:$F$21,4,0))","v":"-"},"-",null,null,null,null,0,0,0,0,0,"*"]
[null,null,1640,null,null,null,null,null,null,null,null,null,null,null,null,null,null,null,null,null,null,null,null,null,null,{"$f":"IF(H1648=\"\",\"-\",VLOOKUP(J1648,読み替え表_低炭素物流!$C$4:$F$12,4,0))","v":"-"},{"$f":"IF(H1648=\"\",\"-\",VLOOKUP(L1648,読み替え表_低炭素物流!$C$15:$F$21,4,0))","v":"-"},"-",null,null,null,null,0,0,0,0,0,"*"]
[null,null,1641,null,null,null,null,null,null,null,null,null,null,null,null,null,null,null,null,null,null,null,null,null,null,{"$f":"IF(H1649=\"\",\"-\",VLOOKUP(J1649,読み替え表_低炭素物流!$C$4:$F$12,4,0))","v":"-"},{"$f":"IF(H1649=\"\",\"-\",VLOOKUP(L1649,読み替え表_低炭素物流!$C$15:$F$21,4,0))","v":"-"},{"$f":"IF(H1649=\"\",\"-\",Z1649*AA1649)","v":"-"},null,null,null,null,0,{"$f":"IF(J1649=8,1,0)","v":0},{"$f":"IF(L1649=6,1,0)","v":0},0,0,"*"]
[null,null,1642,null,null,null,null,null,null,null,null,null,null,null,null,null,null,null,null,null,null,null,null,null,null,{"$f":"IF(H1650=\"\",\"-\",VLOOKUP(J1650,読み替え表_低炭素物流!$C$4:$F$12,4,0))","v":"-"},{"$f":"IF(H1650=\"\",\"-\",VLOOKUP(L1650,読み替え表_低炭素物流!$C$15:$F$21,4,0))","v":"-"},"-",null,null,null,null,0,0,0,0,0,"*"]
[null,null,1643,null,null,null,null,null,null,null,null,null,null,null,null,null,null,null,null,null,null,null,null,null,null,{"$f":"IF(H1651=\"\",\"-\",VLOOKUP(J1651,読み替え表_低炭素物流!$C$4:$F$12,4,0))","v":"-"},{"$f":"IF(H1651=\"\",\"-\",VLOOKUP(L1651,読み替え表_低炭素物流!$C$15:$F$21,4,0))","v":"-"},"-",null,null,null,null,0,0,0,0,0,"*"]
[null,null,1644,null,null,null,null,null,null,null,null,null,null,null,null,null,null,null,null,null,null,null,null,null,null,{"$f":"IF(H1652=\"\",\"-\",VLOOKUP(J1652,読み替え表_低炭素物流!$C$4:$F$12,4,0))","v":"-"},{"$f":"IF(H1652=\"\",\"-\",VLOOKUP(L1652,読み替え表_低炭素物流!$C$15:$F$21,4,0))","v":"-"},"-",null,null,null,null,0,0,0,0,0,"*"]
[null,null,1645,null,null,null,null,null,null,null,null,null,null,null,null,null,null,null,null,null,null,null,null,null,null,{"$f":"IF(H1653=\"\",\"-\",VLOOKUP(J1653,読み替え表_低炭素物流!$C$4:$F$12,4,0))","v":"-"},{"$f":"IF(H1653=\"\",\"-\",VLOOKUP(L1653,読み替え表_低炭素物流!$C$15:$F$21,4,0))","v":"-"},"-",null,null,null,null,0,0,0,0,0,"*"]
[null,null,1646,null,null,null,null,null,null,null,null,null,null,null,null,null,null,null,null,null,null,null,null,null,null,{"$f":"IF(H1654=\"\",\"-\",VLOOKUP(J1654,読み替え表_低炭素物流!$C$4:$F$12,4,0))","v":"-"},{"$f":"IF(H1654=\"\",\"-\",VLOOKUP(L1654,読み替え表_低炭素物流!$C$15:$F$21,4,0))","v":"-"},"-",null,null,null,null,0,0,0,0,0,"*"]
[null,null,1647,null,null,null,null,null,null,null,null,null,null,null,null,null,null,null,null,null,null,null,null,null,null,{"$f":"IF(H1655=\"\",\"-\",VLOOKUP(J1655,読み替え表_低炭素物流!$C$4:$F$12,4,0))","v":"-"},{"$f":"IF(H1655=\"\",\"-\",VLOOKUP(L1655,読み替え表_低炭素物流!$C$15:$F$21,4,0))","v":"-"},"-",null,null,null,null,0,0,0,0,0,"*"]
[null,null,1648,null,null,null,null,null,null,null,null,null,null,null,null,null,null,null,null,null,null,null,null,null,null,{"$f":"IF(H1656=\"\",\"-\",VLOOKUP(J1656,読み替え表_低炭素物流!$C$4:$F$12,4,0))","v":"-"},{"$f":"IF(H1656=\"\",\"-\",VLOOKUP(L1656,読み替え表_低炭素物流!$C$15:$F$21,4,0))","v":"-"},"-",null,null,null,null,0,0,0,0,0,"*"]
[null,null,1649,null,null,null,null,null,null,null,null,null,null,null,null,null,null,null,null,null,null,null,null,null,null,{"$f":"IF(H1657=\"\",\"-\",VLOOKUP(J1657,読み替え表_低炭素物流!$C$4:$F$12,4,0))","v":"-"},{"$f":"IF(H1657=\"\",\"-\",VLOOKUP(L1657,読み替え表_低炭素物流!$C$15:$F$21,4,0))","v":"-"},"-",null,null,null,null,0,0,0,0,0,"*"]
[null,null,1650,null,null,null,null,null,null,null,null,null,null,null,null,null,null,null,null,null,null,null,null,null,null,{"$f":"IF(H1658=\"\",\"-\",VLOOKUP(J1658,読み替え表_低炭素物流!$C$4:$F$12,4,0))","v":"-"},{"$f":"IF(H1658=\"\",\"-\",VLOOKUP(L1658,読み替え表_低炭素物流!$C$15:$F$21,4,0))","v":"-"},"-",null,null,null,null,0,0,0,0,0,"*"]
[null,null,1651,null,null,null,null,null,null,null,null,null,null,null,null,null,null,null,null,null,null,null,null,null,null,{"$f":"IF(H1659=\"\",\"-\",VLOOKUP(J1659,読み替え表_低炭素物流!$C$4:$F$12,4,0))","v":"-"},{"$f":"IF(H1659=\"\",\"-\",VLOOKUP(L1659,読み替え表_低炭素物流!$C$15:$F$21,4,0))","v":"-"},"-",null,null,null,null,0,0,0,0,0,"*"]
[null,null,1652,null,null,null,null,null,null,null,null,null,null,null,null,null,null,null,null,null,null,null,null,null,null,{"$f":"IF(H1660=\"\",\"-\",VLOOKUP(J1660,読み替え表_低炭素物流!$C$4:$F$12,4,0))","v":"-"},{"$f":"IF(H1660=\"\",\"-\",VLOOKUP(L1660,読み替え表_低炭素物流!$C$15:$F$21,4,0))","v":"-"},"-",null,null,null,null,0,0,0,0,0,"*"]
[null,null,1653,null,null,null,null,null,null,null,null,null,null,null,null,null,null,null,null,null,null,null,null,null,null,{"$f":"IF(H1661=\"\",\"-\",VLOOKUP(J1661,読み替え表_低炭素物流!$C$4:$F$12,4,0))","v":"-"},{"$f":"IF(H1661=\"\",\"-\",VLOOKUP(L1661,読み替え表_低炭素物流!$C$15:$F$21,4,0))","v":"-"},"-",null,null,null,null,0,0,0,0,0,"*"]
[null,null,1654,null,null,null,null,null,null,null,null,null,null,null,null,null,null,null,null,null,null,null,null,null,null,{"$f":"IF(H1662=\"\",\"-\",VLOOKUP(J1662,読み替え表_低炭素物流!$C$4:$F$12,4,0))","v":"-"},{"$f":"IF(H1662=\"\",\"-\",VLOOKUP(L1662,読み替え表_低炭素物流!$C$15:$F$21,4,0))","v":"-"},"-",null,null,null,null,0,0,0,0,0,"*"]
[null,null,1655,null,null,null,null,null,null,null,null,null,null,null,null,null,null,null,null,null,null,null,null,null,null,{"$f":"IF(H1663=\"\",\"-\",VLOOKUP(J1663,読み替え表_低炭素物流!$C$4:$F$12,4,0))","v":"-"},{"$f":"IF(H1663=\"\",\"-\",VLOOKUP(L1663,読み替え表_低炭素物流!$C$15:$F$21,4,0))","v":"-"},"-",null,null,null,null,0,0,0,0,0,"*"]
[null,null,1656,null,null,null,null,null,null,null,null,null,null,null,null,null,null,null,null,null,null,null,null,null,null,{"$f":"IF(H1664=\"\",\"-\",VLOOKUP(J1664,読み替え表_低炭素物流!$C$4:$F$12,4,0))","v":"-"},{"$f":"IF(H1664=\"\",\"-\",VLOOKUP(L1664,読み替え表_低炭素物流!$C$15:$F$21,4,0))","v":"-"},"-",null,null,null,null,0,0,0,0,0,"*"]
[null,null,1657,null,null,null,null,null,null,null,null,null,null,null,null,null,null,null,null,null,null,null,null,null,null,{"$f":"IF(H1665=\"\",\"-\",VLOOKUP(J1665,読み替え表_低炭素物流!$C$4:$F$12,4,0))","v":"-"},{"$f":"IF(H1665=\"\",\"-\",VLOOKUP(L1665,読み替え表_低炭素物流!$C$15:$F$21,4,0))","v":"-"},"-",null,null,null,null,0,0,0,0,0,"*"]
[null,null,1658,null,null,null,null,null,null,null,null,null,null,null,null,null,null,null,null,null,null,null,null,null,null,{"$f":"IF(H1666=\"\",\"-\",VLOOKUP(J1666,読み替え表_低炭素物流!$C$4:$F$12,4,0))","v":"-"},{"$f":"IF(H1666=\"\",\"-\",VLOOKUP(L1666,読み替え表_低炭素物流!$C$15:$F$21,4,0))","v":"-"},"-",null,null,null,null,0,0,0,0,0,"*"]
[null,null,1659,null,null,null,null,null,null,null,null,null,null,null,null,null,null,null,null,null,null,null,null,null,null,{"$f":"IF(H1667=\"\",\"-\",VLOOKUP(J1667,読み替え表_低炭素物流!$C$4:$F$12,4,0))","v":"-"},{"$f":"IF(H1667=\"\",\"-\",VLOOKUP(L1667,読み替え表_低炭素物流!$C$15:$F$21,4,0))","v":"-"},"-",null,null,null,null,0,0,0,0,0,"*"]
[null,null,1660,null,null,null,null,null,null,null,null,null,null,null,null,null,null,null,null,null,null,null,null,null,null,{"$f":"IF(H1668=\"\",\"-\",VLOOKUP(J1668,読み替え表_低炭素物流!$C$4:$F$12,4,0))","v":"-"},{"$f":"IF(H1668=\"\",\"-\",VLOOKUP(L1668,読み替え表_低炭素物流!$C$15:$F$21,4,0))","v":"-"},"-",null,null,null,null,0,0,0,0,0,"*"]
[null,null,1661,null,null,null,null,null,null,null,null,null,null,null,null,null,null,null,null,null,null,null,null,null,null,{"$f":"IF(H1669=\"\",\"-\",VLOOKUP(J1669,読み替え表_低炭素物流!$C$4:$F$12,4,0))","v":"-"},{"$f":"IF(H1669=\"\",\"-\",VLOOKUP(L1669,読み替え表_低炭素物流!$C$15:$F$21,4,0))","v":"-"},"-",null,null,null,null,0,0,0,0,0,"*"]
[null,null,1662,null,null,null,null,null,null,null,null,null,null,null,null,null,null,null,null,null,null,null,null,null,null,{"$f":"IF(H1670=\"\",\"-\",VLOOKUP(J1670,読み替え表_低炭素物流!$C$4:$F$12,4,0))","v":"-"},{"$f":"IF(H1670=\"\",\"-\",VLOOKUP(L1670,読み替え表_低炭素物流!$C$15:$F$21,4,0))","v":"-"},"-",null,null,null,null,0,0,0,0,0,"*"]
[null,null,1663,null,null,null,null,null,null,null,null,null,null,null,null,null,null,null,null,null,null,null,null,null,null,{"$f":"IF(H1671=\"\",\"-\",VLOOKUP(J1671,読み替え表_低炭素物流!$C$4:$F$12,4,0))","v":"-"},{"$f":"IF(H1671=\"\",\"-\",VLOOKUP(L1671,読み替え表_低炭素物流!$C$15:$F$21,4,0))","v":"-"},"-",null,null,null,null,0,0,0,0,0,"*"]
[null,null,1664,null,null,null,null,null,null,null,null,null,null,null,null,null,null,null,null,null,null,null,null,null,null,{"$f":"IF(H1672=\"\",\"-\",VLOOKUP(J1672,読み替え表_低炭素物流!$C$4:$F$12,4,0))","v":"-"},{"$f":"IF(H1672=\"\",\"-\",VLOOKUP(L1672,読み替え表_低炭素物流!$C$15:$F$21,4,0))","v":"-"},"-",null,null,null,null,0,0,0,0,0,"*"]
[null,null,1665,null,null,null,null,null,null,null,null,null,null,null,null,null,null,null,null,null,null,null,null,null,null,{"$f":"IF(H1673=\"\",\"-\",VLOOKUP(J1673,読み替え表_低炭素物流!$C$4:$F$12,4,0))","v":"-"},{"$f":"IF(H1673=\"\",\"-\",VLOOKUP(L1673,読み替え表_低炭素物流!$C$15:$F$21,4,0))","v":"-"},"-",null,null,null,null,{"$f":"IF(N1673=1,IF(OR(L1673=4,L1673=5),0,1),0)","v":0},0,0,0,0,"*"]
[null,null,{"$f":"ROW()-8","v":1666},null,null,null,null,null,null,null,null,null,null,null,null,null,null,null,null,null,null,null,null,null,null,{"$f":"IF(H1674=\"\",\"-\",VLOOKUP(J1674,読み替え表_低炭素物流!$C$4:$F$12,4,0))","v":"-"},{"$f":"IF(H1674=\"\",\"-\",VLOOKUP(L1674,読み替え表_低炭素物流!$C$15:$F$21,4,0))","v":"-"},"-",null,null,null,null,0,0,0,0,{"$f":"AG1674","v":0},"*"]
[null,null,1667,null,null,null,null,null,null,null,null,null,null,null,null,null,null,null,null,null,null,null,null,null,null,{"$f":"IF(H1675=\"\",\"-\",VLOOKUP(J1675,読み替え表_低炭素物流!$C$4:$F$12,4,0))","v":"-"},{"$f":"IF(H1675=\"\",\"-\",VLOOKUP(L1675,読み替え表_低炭素物流!$C$15:$F$21,4,0))","v":"-"},"-",null,null,null,null,0,0,0,0,0,"*"]
[null,null,1668,null,null,null,null,null,null,null,null,null,null,null,null,null,null,null,null,null,null,null,null,null,null,{"$f":"IF(H1676=\"\",\"-\",VLOOKUP(J1676,読み替え表_低炭素物流!$C$4:$F$12,4,0))","v":"-"},{"$f":"IF(H1676=\"\",\"-\",VLOOKUP(L1676,読み替え表_低炭素物流!$C$15:$F$21,4,0))","v":"-"},"-",null,null,null,null,0,0,0,0,0,"*"]
[null,null,1669,null,null,null,null,null,null,null,null,null,null,null,null,null,null,null,null,null,null,null,null,null,null,{"$f":"IF(H1677=\"\",\"-\",VLOOKUP(J1677,読み替え表_低炭素物流!$C$4:$F$12,4,0))","v":"-"},{"$f":"IF(H1677=\"\",\"-\",VLOOKUP(L1677,読み替え表_低炭素物流!$C$15:$F$21,4,0))","v":"-"},"-",null,null,null,null,0,0,0,0,0,"*"]
[null,null,1670,null,null,null,null,null,null,null,null,null,null,null,null,null,null,null,null,null,null,null,null,null,null,{"$f":"IF(H1678=\"\",\"-\",VLOOKUP(J1678,読み替え表_低炭素物流!$C$4:$F$12,4,0))","v":"-"},{"$f":"IF(H1678=\"\",\"-\",VLOOKUP(L1678,読み替え表_低炭素物流!$C$15:$F$21,4,0))","v":"-"},"-",null,null,null,null,0,0,0,0,0,"*"]
[null,null,1671,null,null,null,null,null,null,null,null,null,null,null,null,null,null,null,null,null,null,null,null,null,null,{"$f":"IF(H1679=\"\",\"-\",VLOOKUP(J1679,読み替え表_低炭素物流!$C$4:$F$12,4,0))","v":"-"},{"$f":"IF(H1679=\"\",\"-\",VLOOKUP(L1679,読み替え表_低炭素物流!$C$15:$F$21,4,0))","v":"-"},"-",null,null,null,null,0,0,0,0,0,"*"]
[null,null,1672,null,null,null,null,null,null,null,null,null,null,null,null,null,null,null,null,null,null,null,null,null,null,{"$f":"IF(H1680=\"\",\"-\",VLOOKUP(J1680,読み替え表_低炭素物流!$C$4:$F$12,4,0))","v":"-"},{"$f":"IF(H1680=\"\",\"-\",VLOOKUP(L1680,読み替え表_低炭素物流!$C$15:$F$21,4,0))","v":"-"},"-",null,null,null,null,0,0,0,0,0,"*"]
[null,null,1673,null,null,null,null,null,null,null,null,null,null,null,null,null,null,null,null,null,null,null,null,null,null,{"$f":"IF(H1681=\"\",\"-\",VLOOKUP(J1681,読み替え表_低炭素物流!$C$4:$F$12,4,0))","v":"-"},{"$f":"IF(H1681=\"\",\"-\",VLOOKUP(L1681,読み替え表_低炭素物流!$C$15:$F$21,4,0))","v":"-"},"-",null,null,null,null,0,0,0,0,0,"*"]
[null,null,1674,null,null,null,null,null,null,null,null,null,null,null,null,null,null,null,null,null,null,null,null,null,null,{"$f":"IF(H1682=\"\",\"-\",VLOOKUP(J1682,読み替え表_低炭素物流!$C$4:$F$12,4,0))","v":"-"},{"$f":"IF(H1682=\"\",\"-\",VLOOKUP(L1682,読み替え表_低炭素物流!$C$15:$F$21,4,0))","v":"-"},"-",null,null,null,null,0,0,0,0,0,"*"]
[null,null,1675,null,null,null,null,null,null,null,null,null,null,null,null,null,null,null,null,null,null,null,null,null,null,{"$f":"IF(H1683=\"\",\"-\",VLOOKUP(J1683,読み替え表_低炭素物流!$C$4:$F$12,4,0))","v":"-"},{"$f":"IF(H1683=\"\",\"-\",VLOOKUP(L1683,読み替え表_低炭素物流!$C$15:$F$21,4,0))","v":"-"},"-",null,null,null,null,0,0,0,0,0,"*"]
[null,null,1676,null,null,null,null,null,null,null,null,null,null,null,null,null,null,null,null,null,null,null,null,null,null,{"$f":"IF(H1684=\"\",\"-\",VLOOKUP(J1684,読み替え表_低炭素物流!$C$4:$F$12,4,0))","v":"-"},{"$f":"IF(H1684=\"\",\"-\",VLOOKUP(L1684,読み替え表_低炭素物流!$C$15:$F$21,4,0))","v":"-"},"-",null,null,null,null,0,0,0,0,0,"*"]
[null,null,1677,null,null,null,null,null,null,null,null,null,null,null,null,null,null,null,null,null,null,null,null,null,null,{"$f":"IF(H1685=\"\",\"-\",VLOOKUP(J1685,読み替え表_低炭素物流!$C$4:$F$12,4,0))","v":"-"},{"$f":"IF(H1685=\"\",\"-\",VLOOKUP(L1685,読み替え表_低炭素物流!$C$15:$F$21,4,0))","v":"-"},"-",null,null,null,null,0,0,0,0,0,"*"]
[null,null,1678,null,null,null,null,null,null,null,null,null,null,null,null,null,null,null,null,null,null,null,null,null,null,{"$f":"IF(H1686=\"\",\"-\",VLOOKUP(J1686,読み替え表_低炭素物流!$C$4:$F$12,4,0))","v":"-"},{"$f":"IF(H1686=\"\",\"-\",VLOOKUP(L1686,読み替え表_低炭素物流!$C$15:$F$21,4,0))","v":"-"},"-",null,null,null,null,0,0,0,0,0,"*"]
[null,null,1679,null,null,null,null,null,null,null,null,null,null,null,null,null,null,null,null,null,null,null,null,null,null,{"$f":"IF(H1687=\"\",\"-\",VLOOKUP(J1687,読み替え表_低炭素物流!$C$4:$F$12,4,0))","v":"-"},{"$f":"IF(H1687=\"\",\"-\",VLOOKUP(L1687,読み替え表_低炭素物流!$C$15:$F$21,4,0))","v":"-"},"-",null,null,null,null,0,0,0,0,0,"*"]
[null,null,1680,null,null,null,null,null,null,null,null,null,null,null,null,null,null,null,null,null,null,null,null,null,null,{"$f":"IF(H1688=\"\",\"-\",VLOOKUP(J1688,読み替え表_低炭素物流!$C$4:$F$12,4,0))","v":"-"},{"$f":"IF(H1688=\"\",\"-\",VLOOKUP(L1688,読み替え表_低炭素物流!$C$15:$F$21,4,0))","v":"-"},"-",null,null,null,null,0,0,0,{"$f":"IF(OR(N1688=7,N1688=99),1,0)","v":0},0,"*"]
[null,null,1681,null,null,null,null,null,null,null,null,null,null,null,null,null,null,null,null,null,null,null,null,null,null,{"$f":"IF(H1689=\"\",\"-\",VLOOKUP(J1689,読み替え表_低炭素物流!$C$4:$F$12,4,0))","v":"-"},{"$f":"IF(H1689=\"\",\"-\",VLOOKUP(L1689,読み替え表_低炭素物流!$C$15:$F$21,4,0))","v":"-"},"-",null,null,null,null,0,0,0,0,0,"*"]
[null,null,1682,null,null,null,null,null,null,null,null,null,null,null,null,null,null,null,null,null,null,null,null,null,null,{"$f":"IF(H1690=\"\",\"-\",VLOOKUP(J1690,読み替え表_低炭素物流!$C$4:$F$12,4,0))","v":"-"},{"$f":"IF(H1690=\"\",\"-\",VLOOKUP(L1690,読み替え表_低炭素物流!$C$15:$F$21,4,0))","v":"-"},"-",null,null,null,null,0,0,0,0,0,"*"]
[null,null,1683,null,null,null,null,null,null,null,null,null,null,null,null,null,null,null,null,null,null,null,null,null,null,{"$f":"IF(H1691=\"\",\"-\",VLOOKUP(J1691,読み替え表_低炭素物流!$C$4:$F$12,4,0))","v":"-"},{"$f":"IF(H1691=\"\",\"-\",VLOOKUP(L1691,読み替え表_低炭素物流!$C$15:$F$21,4,0))","v":"-"},"-",null,null,null,null,0,0,0,0,0,"*"]
[null,null,1684,null,null,null,null,null,null,null,null,null,null,null,null,null,null,null,null,null,null,null,null,null,null,{"$f":"IF(H1692=\"\",\"-\",VLOOKUP(J1692,読み替え表_低炭素物流!$C$4:$F$12,4,0))","v":"-"},{"$f":"IF(H1692=\"\",\"-\",VLOOKUP(L1692,読み替え表_低炭素物流!$C$15:$F$21,4,0))","v":"-"},"-",null,null,null,null,0,0,0,0,0,"*"]
[null,null,1685,null,null,null,null,null,null,null,null,null,null,null,null,null,null,null,null,null,null,null,null,null,null,{"$f":"IF(H1693=\"\",\"-\",VLOOKUP(J1693,読み替え表_低炭素物流!$C$4:$F$12,4,0))","v":"-"},{"$f":"IF(H1693=\"\",\"-\",VLOOKUP(L1693,読み替え表_低炭素物流!$C$15:$F$21,4,0))","v":"-"},"-",null,null,null,null,0,0,0,0,0,"*"]
[null,null,1686,null,null,null,null,null,null,null,null,null,null,null,null,null,null,null,null,null,null,null,null,null,null,{"$f":"IF(H1694=\"\",\"-\",VLOOKUP(J1694,読み替え表_低炭素物流!$C$4:$F$12,4,0))","v":"-"},{"$f":"IF(H1694=\"\",\"-\",VLOOKUP(L1694,読み替え表_低炭素物流!$C$15:$F$21,4,0))","v":"-"},"-",null,null,null,null,0,0,0,0,0,"*"]
[null,null,1687,null,null,null,null,null,null,null,null,null,null,null,null,null,null,null,null,null,null,null,null,null,null,{"$f":"IF(H1695=\"\",\"-\",VLOOKUP(J1695,読み替え表_低炭素物流!$C$4:$F$12,4,0))","v":"-"},{"$f":"IF(H1695=\"\",\"-\",VLOOKUP(L1695,読み替え表_低炭素物流!$C$15:$F$21,4,0))","v":"-"},"-",null,null,null,null,0,0,0,0,0,"*"]
[null,null,1688,null,null,null,null,null,null,null,null,null,null,null,null,null,null,null,null,null,null,null,null,null,null,{"$f":"IF(H1696=\"\",\"-\",VLOOKUP(J1696,読み替え表_低炭素物流!$C$4:$F$12,4,0))","v":"-"},{"$f":"IF(H1696=\"\",\"-\",VLOOKUP(L1696,読み替え表_低炭素物流!$C$15:$F$21,4,0))","v":"-"},"-",null,null,null,null,0,0,0,0,0,"*"]
[null,null,1689,null,null,null,null,null,null,null,null,null,null,null,null,null,null,null,null,null,null,null,null,null,null,{"$f":"IF(H1697=\"\",\"-\",VLOOKUP(J1697,読み替え表_低炭素物流!$C$4:$F$12,4,0))","v":"-"},{"$f":"IF(H1697=\"\",\"-\",VLOOKUP(L1697,読み替え表_低炭素物流!$C$15:$F$21,4,0))","v":"-"},"-",null,null,null,null,0,0,0,0,0,"*"]
[null,null,1690,null,null,null,null,null,null,null,null,null,null,null,null,null,null,null,null,null,null,null,null,null,null,{"$f":"IF(H1698=\"\",\"-\",VLOOKUP(J1698,読み替え表_低炭素物流!$C$4:$F$12,4,0))","v":"-"},{"$f":"IF(H1698=\"\",\"-\",VLOOKUP(L1698,読み替え表_低炭素物流!$C$15:$F$21,4,0))","v":"-"},"-",null,null,null,null,0,0,0,0,0,"*"]
[null,null,1691,null,null,null,null,null,null,null,null,null,null,null,null,null,null,null,null,null,null,null,null,null,null,{"$f":"IF(H1699=\"\",\"-\",VLOOKUP(J1699,読み替え表_低炭素物流!$C$4:$F$12,4,0))","v":"-"},{"$f":"IF(H1699=\"\",\"-\",VLOOKUP(L1699,読み替え表_低炭素物流!$C$15:$F$21,4,0))","v":"-"},"-",null,null,null,null,0,0,0,0,0,"*"]
[null,null,1692,null,null,null,null,null,null,null,null,null,null,null,null,null,null,null,null,null,null,null,null,null,null,{"$f":"IF(H1700=\"\",\"-\",VLOOKUP(J1700,読み替え表_低炭素物流!$C$4:$F$12,4,0))","v":"-"},{"$f":"IF(H1700=\"\",\"-\",VLOOKUP(L1700,読み替え表_低炭素物流!$C$15:$F$21,4,0))","v":"-"},"-",null,null,null,null,0,0,0,0,0,"*"]
[null,null,1693,null,null,null,null,null,null,null,null,null,null,null,null,null,null,null,null,null,null,null,null,null,null,{"$f":"IF(H1701=\"\",\"-\",VLOOKUP(J1701,読み替え表_低炭素物流!$C$4:$F$12,4,0))","v":"-"},{"$f":"IF(H1701=\"\",\"-\",VLOOKUP(L1701,読み替え表_低炭素物流!$C$15:$F$21,4,0))","v":"-"},"-",null,null,null,null,0,0,0,0,0,"*"]
[null,null,1694,null,null,null,null,null,null,null,null,null,null,null,null,null,null,null,null,null,null,null,null,null,null,{"$f":"IF(H1702=\"\",\"-\",VLOOKUP(J1702,読み替え表_低炭素物流!$C$4:$F$12,4,0))","v":"-"},{"$f":"IF(H1702=\"\",\"-\",VLOOKUP(L1702,読み替え表_低炭素物流!$C$15:$F$21,4,0))","v":"-"},"-",null,null,null,null,0,0,0,0,0,"*"]
[null,null,1695,null,null,null,null,null,null,null,null,null,null,null,null,null,null,null,null,null,null,null,null,null,null,{"$f":"IF(H1703=\"\",\"-\",VLOOKUP(J1703,読み替え表_低炭素物流!$C$4:$F$12,4,0))","v":"-"},{"$f":"IF(H1703=\"\",\"-\",VLOOKUP(L1703,読み替え表_低炭素物流!$C$15:$F$21,4,0))","v":"-"},"-",null,null,null,null,0,0,0,0,0,"*"]
[null,null,1696,null,null,null,null,null,null,null,null,null,null,null,null,null,null,null,null,null,null,null,null,null,null,{"$f":"IF(H1704=\"\",\"-\",VLOOKUP(J1704,読み替え表_低炭素物流!$C$4:$F$12,4,0))","v":"-"},{"$f":"IF(H1704=\"\",\"-\",VLOOKUP(L1704,読み替え表_低炭素物流!$C$15:$F$21,4,0))","v":"-"},"-",null,null,null,null,0,0,0,0,0,"*"]
[null,null,1697,null,null,null,null,null,null,null,null,null,null,null,null,null,null,null,null,null,null,null,null,null,null,{"$f":"IF(H1705=\"\",\"-\",VLOOKUP(J1705,読み替え表_低炭素物流!$C$4:$F$12,4,0))","v":"-"},{"$f":"IF(H1705=\"\",\"-\",VLOOKUP(L1705,読み替え表_低炭素物流!$C$15:$F$21,4,0))","v":"-"},"-",null,null,null,null,0,0,0,0,0,"*"]
[null,null,1698,null,null,null,null,null,null,null,null,null,null,null,null,null,null,null,null,null,null,null,null,null,null,{"$f":"IF(H1706=\"\",\"-\",VLOOKUP(J1706,読み替え表_低炭素物流!$C$4:$F$12,4,0))","v":"-"},{"$f":"IF(H1706=\"\",\"-\",VLOOKUP(L1706,読み替え表_低炭素物流!$C$15:$F$21,4,0))","v":"-"},"-",null,null,null,null,0,0,0,0,0,"*"]
[null,null,1699,null,null,null,null,null,null,null,null,null,null,null,null,null,null,null,null,null,null,null,null,null,null,{"$f":"IF(H1707=\"\",\"-\",VLOOKUP(J1707,読み替え表_低炭素物流!$C$4:$F$12,4,0))","v":"-"},{"$f":"IF(H1707=\"\",\"-\",VLOOKUP(L1707,読み替え表_低炭素物流!$C$15:$F$21,4,0))","v":"-"},"-",null,null,null,null,0,0,0,0,0,"*"]
[null,null,1700,null,null,null,null,null,null,null,null,null,null,null,null,null,null,null,null,null,null,null,null,null,null,{"$f":"IF(H1708=\"\",\"-\",VLOOKUP(J1708,読み替え表_低炭素物流!$C$4:$F$12,4,0))","v":"-"},{"$f":"IF(H1708=\"\",\"-\",VLOOKUP(L1708,読み替え表_低炭素物流!$C$15:$F$21,4,0))","v":"-"},"-",null,null,null,null,0,0,0,0,0,"*"]
[null,null,1701,null,null,null,null,null,null,null,null,null,null,null,null,null,null,null,null,null,null,null,null,null,null,{"$f":"IF(H1709=\"\",\"-\",VLOOKUP(J1709,読み替え表_低炭素物流!$C$4:$F$12,4,0))","v":"-"},{"$f":"IF(H1709=\"\",\"-\",VLOOKUP(L1709,読み替え表_低炭素物流!$C$15:$F$21,4,0))","v":"-"},"-",null,null,null,null,0,0,0,0,0,"*"]
[null,null,1702,null,null,null,null,null,null,null,null,null,null,null,null,null,null,null,null,null,null,null,null,null,null,{"$f":"IF(H1710=\"\",\"-\",VLOOKUP(J1710,読み替え表_低炭素物流!$C$4:$F$12,4,0))","v":"-"},{"$f":"IF(H1710=\"\",\"-\",VLOOKUP(L1710,読み替え表_低炭素物流!$C$15:$F$21,4,0))","v":"-"},"-",null,null,null,null,0,0,0,0,0,"*"]
[null,null,1703,null,null,null,null,null,null,null,null,null,null,null,null,null,null,null,null,null,null,null,null,null,null,{"$f":"IF(H1711=\"\",\"-\",VLOOKUP(J1711,読み替え表_低炭素物流!$C$4:$F$12,4,0))","v":"-"},{"$f":"IF(H1711=\"\",\"-\",VLOOKUP(L1711,読み替え表_低炭素物流!$C$15:$F$21,4,0))","v":"-"},"-",null,null,null,null,0,0,0,0,0,"*"]
[null,null,1704,null,null,null,null,null,null,null,null,null,null,null,null,null,null,null,null,null,null,null,null,null,null,{"$f":"IF(H1712=\"\",\"-\",VLOOKUP(J1712,読み替え表_低炭素物流!$C$4:$F$12,4,0))","v":"-"},{"$f":"IF(H1712=\"\",\"-\",VLOOKUP(L1712,読み替え表_低炭素物流!$C$15:$F$21,4,0))","v":"-"},"-",null,null,null,null,0,0,0,0,0,"*"]
[null,null,1705,null,null,null,null,null,null,null,null,null,null,null,null,null,null,null,null,null,null,null,null,null,null,{"$f":"IF(H1713=\"\",\"-\",VLOOKUP(J1713,読み替え表_低炭素物流!$C$4:$F$12,4,0))","v":"-"},{"$f":"IF(H1713=\"\",\"-\",VLOOKUP(L1713,読み替え表_低炭素物流!$C$15:$F$21,4,0))","v":"-"},{"$f":"IF(H1713=\"\",\"-\",Z1713*AA1713)","v":"-"},null,null,null,null,0,{"$f":"IF(J1713=8,1,0)","v":0},{"$f":"IF(L1713=6,1,0)","v":0},0,0,"*"]
[null,null,1706,null,null,null,null,null,null,null,null,null,null,null,null,null,null,null,null,null,null,null,null,null,null,{"$f":"IF(H1714=\"\",\"-\",VLOOKUP(J1714,読み替え表_低炭素物流!$C$4:$F$12,4,0))","v":"-"},{"$f":"IF(H1714=\"\",\"-\",VLOOKUP(L1714,読み替え表_低炭素物流!$C$15:$F$21,4,0))","v":"-"},"-",null,null,null,null,0,0,0,0,0,"*"]
[null,null,1707,null,null,null,null,null,null,null,null,null,null,null,null,null,null,null,null,null,null,null,null,null,null,{"$f":"IF(H1715=\"\",\"-\",VLOOKUP(J1715,読み替え表_低炭素物流!$C$4:$F$12,4,0))","v":"-"},{"$f":"IF(H1715=\"\",\"-\",VLOOKUP(L1715,読み替え表_低炭素物流!$C$15:$F$21,4,0))","v":"-"},"-",null,null,null,null,0,0,0,0,0,"*"]
[null,null,1708,null,null,null,null,null,null,null,null,null,null,null,null,null,null,null,null,null,null,null,null,null,null,{"$f":"IF(H1716=\"\",\"-\",VLOOKUP(J1716,読み替え表_低炭素物流!$C$4:$F$12,4,0))","v":"-"},{"$f":"IF(H1716=\"\",\"-\",VLOOKUP(L1716,読み替え表_低炭素物流!$C$15:$F$21,4,0))","v":"-"},"-",null,null,null,null,0,0,0,0,0,"*"]
[null,null,1709,null,null,null,null,null,null,null,null,null,null,null,null,null,null,null,null,null,null,null,null,null,null,{"$f":"IF(H1717=\"\",\"-\",VLOOKUP(J1717,読み替え表_低炭素物流!$C$4:$F$12,4,0))","v":"-"},{"$f":"IF(H1717=\"\",\"-\",VLOOKUP(L1717,読み替え表_低炭素物流!$C$15:$F$21,4,0))","v":"-"},"-",null,null,null,null,0,0,0,0,0,"*"]
[null,null,1710,null,null,null,null,null,null,null,null,null,null,null,null,null,null,null,null,null,null,null,null,null,null,{"$f":"IF(H1718=\"\",\"-\",VLOOKUP(J1718,読み替え表_低炭素物流!$C$4:$F$12,4,0))","v":"-"},{"$f":"IF(H1718=\"\",\"-\",VLOOKUP(L1718,読み替え表_低炭素物流!$C$15:$F$21,4,0))","v":"-"},"-",null,null,null,null,0,0,0,0,0,"*"]
[null,null,1711,null,null,null,null,null,null,null,null,null,null,null,null,null,null,null,null,null,null,null,null,null,null,{"$f":"IF(H1719=\"\",\"-\",VLOOKUP(J1719,読み替え表_低炭素物流!$C$4:$F$12,4,0))","v":"-"},{"$f":"IF(H1719=\"\",\"-\",VLOOKUP(L1719,読み替え表_低炭素物流!$C$15:$F$21,4,0))","v":"-"},"-",null,null,null,null,0,0,0,0,0,"*"]
[null,null,1712,null,null,null,null,null,null,null,null,null,null,null,null,null,null,null,null,null,null,null,null,null,null,{"$f":"IF(H1720=\"\",\"-\",VLOOKUP(J1720,読み替え表_低炭素物流!$C$4:$F$12,4,0))","v":"-"},{"$f":"IF(H1720=\"\",\"-\",VLOOKUP(L1720,読み替え表_低炭素物流!$C$15:$F$21,4,0))","v":"-"},"-",null,null,null,null,0,0,0,0,0,"*"]
[null,null,1713,null,null,null,null,null,null,null,null,null,null,null,null,null,null,null,null,null,null,null,null,null,null,{"$f":"IF(H1721=\"\",\"-\",VLOOKUP(J1721,読み替え表_低炭素物流!$C$4:$F$12,4,0))","v":"-"},{"$f":"IF(H1721=\"\",\"-\",VLOOKUP(L1721,読み替え表_低炭素物流!$C$15:$F$21,4,0))","v":"-"},"-",null,null,null,null,0,0,0,0,0,"*"]
[null,null,1714,null,null,null,null,null,null,null,null,null,null,null,null,null,null,null,null,null,null,null,null,null,null,{"$f":"IF(H1722=\"\",\"-\",VLOOKUP(J1722,読み替え表_低炭素物流!$C$4:$F$12,4,0))","v":"-"},{"$f":"IF(H1722=\"\",\"-\",VLOOKUP(L1722,読み替え表_低炭素物流!$C$15:$F$21,4,0))","v":"-"},"-",null,null,null,null,0,0,0,0,0,"*"]
[null,null,1715,null,null,null,null,null,null,null,null,null,null,null,null,null,null,null,null,null,null,null,null,null,null,{"$f":"IF(H1723=\"\",\"-\",VLOOKUP(J1723,読み替え表_低炭素物流!$C$4:$F$12,4,0))","v":"-"},{"$f":"IF(H1723=\"\",\"-\",VLOOKUP(L1723,読み替え表_低炭素物流!$C$15:$F$21,4,0))","v":"-"},"-",null,null,null,null,0,0,0,0,0,"*"]
[null,null,1716,null,null,null,null,null,null,null,null,null,null,null,null,null,null,null,null,null,null,null,null,null,null,{"$f":"IF(H1724=\"\",\"-\",VLOOKUP(J1724,読み替え表_低炭素物流!$C$4:$F$12,4,0))","v":"-"},{"$f":"IF(H1724=\"\",\"-\",VLOOKUP(L1724,読み替え表_低炭素物流!$C$15:$F$21,4,0))","v":"-"},"-",null,null,null,null,0,0,0,0,0,"*"]
[null,null,1717,null,null,null,null,null,null,null,null,null,null,null,null,null,null,null,null,null,null,null,null,null,null,{"$f":"IF(H1725=\"\",\"-\",VLOOKUP(J1725,読み替え表_低炭素物流!$C$4:$F$12,4,0))","v":"-"},{"$f":"IF(H1725=\"\",\"-\",VLOOKUP(L1725,読み替え表_低炭素物流!$C$15:$F$21,4,0))","v":"-"},"-",null,null,null,null,0,0,0,0,0,"*"]
[null,null,1718,null,null,null,null,null,null,null,null,null,null,null,null,null,null,null,null,null,null,null,null,null,null,{"$f":"IF(H1726=\"\",\"-\",VLOOKUP(J1726,読み替え表_低炭素物流!$C$4:$F$12,4,0))","v":"-"},{"$f":"IF(H1726=\"\",\"-\",VLOOKUP(L1726,読み替え表_低炭素物流!$C$15:$F$21,4,0))","v":"-"},"-",null,null,null,null,0,0,0,0,0,"*"]
[null,null,1719,null,null,null,null,null,null,null,null,null,null,null,null,null,null,null,null,null,null,null,null,null,null,{"$f":"IF(H1727=\"\",\"-\",VLOOKUP(J1727,読み替え表_低炭素物流!$C$4:$F$12,4,0))","v":"-"},{"$f":"IF(H1727=\"\",\"-\",VLOOKUP(L1727,読み替え表_低炭素物流!$C$15:$F$21,4,0))","v":"-"},"-",null,null,null,null,0,0,0,0,0,"*"]
[null,null,1720,null,null,null,null,null,null,null,null,null,null,null,null,null,null,null,null,null,null,null,null,null,null,{"$f":"IF(H1728=\"\",\"-\",VLOOKUP(J1728,読み替え表_低炭素物流!$C$4:$F$12,4,0))","v":"-"},{"$f":"IF(H1728=\"\",\"-\",VLOOKUP(L1728,読み替え表_低炭素物流!$C$15:$F$21,4,0))","v":"-"},"-",null,null,null,null,0,0,0,0,0,"*"]
[null,null,1721,null,null,null,null,null,null,null,null,null,null,null,null,null,null,null,null,null,null,null,null,null,null,{"$f":"IF(H1729=\"\",\"-\",VLOOKUP(J1729,読み替え表_低炭素物流!$C$4:$F$12,4,0))","v":"-"},{"$f":"IF(H1729=\"\",\"-\",VLOOKUP(L1729,読み替え表_低炭素物流!$C$15:$F$21,4,0))","v":"-"},"-",null,null,null,null,0,0,0,0,0,"*"]
[null,null,1722,null,null,null,null,null,null,null,null,null,null,null,null,null,null,null,null,null,null,null,null,null,null,{"$f":"IF(H1730=\"\",\"-\",VLOOKUP(J1730,読み替え表_低炭素物流!$C$4:$F$12,4,0))","v":"-"},{"$f":"IF(H1730=\"\",\"-\",VLOOKUP(L1730,読み替え表_低炭素物流!$C$15:$F$21,4,0))","v":"-"},"-",null,null,null,null,0,0,0,0,0,"*"]
[null,null,1723,null,null,null,null,null,null,null,null,null,null,null,null,null,null,null,null,null,null,null,null,null,null,{"$f":"IF(H1731=\"\",\"-\",VLOOKUP(J1731,読み替え表_低炭素物流!$C$4:$F$12,4,0))","v":"-"},{"$f":"IF(H1731=\"\",\"-\",VLOOKUP(L1731,読み替え表_低炭素物流!$C$15:$F$21,4,0))","v":"-"},"-",null,null,null,null,0,0,0,0,0,"*"]
[null,null,1724,null,null,null,null,null,null,null,null,null,null,null,null,null,null,null,null,null,null,null,null,null,null,{"$f":"IF(H1732=\"\",\"-\",VLOOKUP(J1732,読み替え表_低炭素物流!$C$4:$F$12,4,0))","v":"-"},{"$f":"IF(H1732=\"\",\"-\",VLOOKUP(L1732,読み替え表_低炭素物流!$C$15:$F$21,4,0))","v":"-"},"-",null,null,null,null,0,0,0,0,0,"*"]
[null,null,1725,null,null,null,null,null,null,null,null,null,null,null,null,null,null,null,null,null,null,null,null,null,null,{"$f":"IF(H1733=\"\",\"-\",VLOOKUP(J1733,読み替え表_低炭素物流!$C$4:$F$12,4,0))","v":"-"},{"$f":"IF(H1733=\"\",\"-\",VLOOKUP(L1733,読み替え表_低炭素物流!$C$15:$F$21,4,0))","v":"-"},"-",null,null,null,null,0,0,0,0,0,"*"]
[null,null,1726,null,null,null,null,null,null,null,null,null,null,null,null,null,null,null,null,null,null,null,null,null,null,{"$f":"IF(H1734=\"\",\"-\",VLOOKUP(J1734,読み替え表_低炭素物流!$C$4:$F$12,4,0))","v":"-"},{"$f":"IF(H1734=\"\",\"-\",VLOOKUP(L1734,読み替え表_低炭素物流!$C$15:$F$21,4,0))","v":"-"},"-",null,null,null,null,0,0,0,0,0,"*"]
[null,null,1727,null,null,null,null,null,null,null,null,null,null,null,null,null,null,null,null,null,null,null,null,null,null,{"$f":"IF(H1735=\"\",\"-\",VLOOKUP(J1735,読み替え表_低炭素物流!$C$4:$F$12,4,0))","v":"-"},{"$f":"IF(H1735=\"\",\"-\",VLOOKUP(L1735,読み替え表_低炭素物流!$C$15:$F$21,4,0))","v":"-"},"-",null,null,null,null,0,0,0,0,0,"*"]
[null,null,1728,null,null,null,null,null,null,null,null,null,null,null,null,null,null,null,null,null,null,null,null,null,null,{"$f":"IF(H1736=\"\",\"-\",VLOOKUP(J1736,読み替え表_低炭素物流!$C$4:$F$12,4,0))","v":"-"},{"$f":"IF(H1736=\"\",\"-\",VLOOKUP(L1736,読み替え表_低炭素物流!$C$15:$F$21,4,0))","v":"-"},"-",null,null,null,null,0,0,0,0,0,"*"]
[null,null,1729,null,null,null,null,null,null,null,null,null,null,null,null,null,null,null,null,null,null,null,null,null,null,{"$f":"IF(H1737=\"\",\"-\",VLOOKUP(J1737,読み替え表_低炭素物流!$C$4:$F$12,4,0))","v":"-"},{"$f":"IF(H1737=\"\",\"-\",VLOOKUP(L1737,読み替え表_低炭素物流!$C$15:$F$21,4,0))","v":"-"},"-",null,null,null,null,{"$f":"IF(N1737=1,IF(OR(L1737=4,L1737=5),0,1),0)","v":0},0,0,0,0,"*"]
[null,null,{"$f":"ROW()-8","v":1730},null,null,null,null,null,null,null,null,null,null,null,null,null,null,null,null,null,null,null,null,null,null,{"$f":"IF(H1738=\"\",\"-\",VLOOKUP(J1738,読み替え表_低炭素物流!$C$4:$F$12,4,0))","v":"-"},{"$f":"IF(H1738=\"\",\"-\",VLOOKUP(L1738,読み替え表_低炭素物流!$C$15:$F$21,4,0))","v":"-"},"-",null,null,null,null,0,0,0,0,{"$f":"AG1738","v":0},"*"]
[null,null,1731,null,null,null,null,null,null,null,null,null,null,null,null,null,null,null,null,null,null,null,null,null,null,{"$f":"IF(H1739=\"\",\"-\",VLOOKUP(J1739,読み替え表_低炭素物流!$C$4:$F$12,4,0))","v":"-"},{"$f":"IF(H1739=\"\",\"-\",VLOOKUP(L1739,読み替え表_低炭素物流!$C$15:$F$21,4,0))","v":"-"},"-",null,null,null,null,0,0,0,0,0,"*"]
[null,null,1732,null,null,null,null,null,null,null,null,null,null,null,null,null,null,null,null,null,null,null,null,null,null,{"$f":"IF(H1740=\"\",\"-\",VLOOKUP(J1740,読み替え表_低炭素物流!$C$4:$F$12,4,0))","v":"-"},{"$f":"IF(H1740=\"\",\"-\",VLOOKUP(L1740,読み替え表_低炭素物流!$C$15:$F$21,4,0))","v":"-"},"-",null,null,null,null,0,0,0,0,0,"*"]
[null,null,1733,null,null,null,null,null,null,null,null,null,null,null,null,null,null,null,null,null,null,null,null,null,null,{"$f":"IF(H1741=\"\",\"-\",VLOOKUP(J1741,読み替え表_低炭素物流!$C$4:$F$12,4,0))","v":"-"},{"$f":"IF(H1741=\"\",\"-\",VLOOKUP(L1741,読み替え表_低炭素物流!$C$15:$F$21,4,0))","v":"-"},"-",null,null,null,null,0,0,0,0,0,"*"]
[null,null,1734,null,null,null,null,null,null,null,null,null,null,null,null,null,null,null,null,null,null,null,null,null,null,{"$f":"IF(H1742=\"\",\"-\",VLOOKUP(J1742,読み替え表_低炭素物流!$C$4:$F$12,4,0))","v":"-"},{"$f":"IF(H1742=\"\",\"-\",VLOOKUP(L1742,読み替え表_低炭素物流!$C$15:$F$21,4,0))","v":"-"},"-",null,null,null,null,0,0,0,0,0,"*"]
[null,null,1735,null,null,null,null,null,null,null,null,null,null,null,null,null,null,null,null,null,null,null,null,null,null,{"$f":"IF(H1743=\"\",\"-\",VLOOKUP(J1743,読み替え表_低炭素物流!$C$4:$F$12,4,0))","v":"-"},{"$f":"IF(H1743=\"\",\"-\",VLOOKUP(L1743,読み替え表_低炭素物流!$C$15:$F$21,4,0))","v":"-"},"-",null,null,null,null,0,0,0,0,0,"*"]
[null,null,1736,null,null,null,null,null,null,null,null,null,null,null,null,null,null,null,null,null,null,null,null,null,null,{"$f":"IF(H1744=\"\",\"-\",VLOOKUP(J1744,読み替え表_低炭素物流!$C$4:$F$12,4,0))","v":"-"},{"$f":"IF(H1744=\"\",\"-\",VLOOKUP(L1744,読み替え表_低炭素物流!$C$15:$F$21,4,0))","v":"-"},"-",null,null,null,null,0,0,0,0,0,"*"]
[null,null,1737,null,null,null,null,null,null,null,null,null,null,null,null,null,null,null,null,null,null,null,null,null,null,{"$f":"IF(H1745=\"\",\"-\",VLOOKUP(J1745,読み替え表_低炭素物流!$C$4:$F$12,4,0))","v":"-"},{"$f":"IF(H1745=\"\",\"-\",VLOOKUP(L1745,読み替え表_低炭素物流!$C$15:$F$21,4,0))","v":"-"},"-",null,null,null,null,0,0,0,0,0,"*"]
[null,null,1738,null,null,null,null,null,null,null,null,null,null,null,null,null,null,null,null,null,null,null,null,null,null,{"$f":"IF(H1746=\"\",\"-\",VLOOKUP(J1746,読み替え表_低炭素物流!$C$4:$F$12,4,0))","v":"-"},{"$f":"IF(H1746=\"\",\"-\",VLOOKUP(L1746,読み替え表_低炭素物流!$C$15:$F$21,4,0))","v":"-"},"-",null,null,null,null,0,0,0,0,0,"*"]
[null,null,1739,null,null,null,null,null,null,null,null,null,null,null,null,null,null,null,null,null,null,null,null,null,null,{"$f":"IF(H1747=\"\",\"-\",VLOOKUP(J1747,読み替え表_低炭素物流!$C$4:$F$12,4,0))","v":"-"},{"$f":"IF(H1747=\"\",\"-\",VLOOKUP(L1747,読み替え表_低炭素物流!$C$15:$F$21,4,0))","v":"-"},"-",null,null,null,null,0,0,0,0,0,"*"]
[null,null,1740,null,null,null,null,null,null,null,null,null,null,null,null,null,null,null,null,null,null,null,null,null,null,{"$f":"IF(H1748=\"\",\"-\",VLOOKUP(J1748,読み替え表_低炭素物流!$C$4:$F$12,4,0))","v":"-"},{"$f":"IF(H1748=\"\",\"-\",VLOOKUP(L1748,読み替え表_低炭素物流!$C$15:$F$21,4,0))","v":"-"},"-",null,null,null,null,0,0,0,0,0,"*"]
[null,null,1741,null,null,null,null,null,null,null,null,null,null,null,null,null,null,null,null,null,null,null,null,null,null,{"$f":"IF(H1749=\"\",\"-\",VLOOKUP(J1749,読み替え表_低炭素物流!$C$4:$F$12,4,0))","v":"-"},{"$f":"IF(H1749=\"\",\"-\",VLOOKUP(L1749,読み替え表_低炭素物流!$C$15:$F$21,4,0))","v":"-"},"-",null,null,null,null,0,0,0,0,0,"*"]
[null,null,1742,null,null,null,null,null,null,null,null,null,null,null,null,null,null,null,null,null,null,null,null,null,null,{"$f":"IF(H1750=\"\",\"-\",VLOOKUP(J1750,読み替え表_低炭素物流!$C$4:$F$12,4,0))","v":"-"},{"$f":"IF(H1750=\"\",\"-\",VLOOKUP(L1750,読み替え表_低炭素物流!$C$15:$F$21,4,0))","v":"-"},"-",null,null,null,null,0,0,0,0,0,"*"]
[null,null,1743,null,null,null,null,null,null,null,null,null,null,null,null,null,null,null,null,null,null,null,null,null,null,{"$f":"IF(H1751=\"\",\"-\",VLOOKUP(J1751,読み替え表_低炭素物流!$C$4:$F$12,4,0))","v":"-"},{"$f":"IF(H1751=\"\",\"-\",VLOOKUP(L1751,読み替え表_低炭素物流!$C$15:$F$21,4,0))","v":"-"},"-",null,null,null,null,0,0,0,0,0,"*"]
[null,null,1744,null,null,null,null,null,null,null,null,null,null,null,null,null,null,null,null,null,null,null,null,null,null,{"$f":"IF(H1752=\"\",\"-\",VLOOKUP(J1752,読み替え表_低炭素物流!$C$4:$F$12,4,0))","v":"-"},{"$f":"IF(H1752=\"\",\"-\",VLOOKUP(L1752,読み替え表_低炭素物流!$C$15:$F$21,4,0))","v":"-"},"-",null,null,null,null,0,0,0,{"$f":"IF(OR(N1752=7,N1752=99),1,0)","v":0},0,"*"]
[null,null,1745,null,null,null,null,null,null,null,null,null,null,null,null,null,null,null,null,null,null,null,null,null,null,{"$f":"IF(H1753=\"\",\"-\",VLOOKUP(J1753,読み替え表_低炭素物流!$C$4:$F$12,4,0))","v":"-"},{"$f":"IF(H1753=\"\",\"-\",VLOOKUP(L1753,読み替え表_低炭素物流!$C$15:$F$21,4,0))","v":"-"},"-",null,null,null,null,0,0,0,0,0,"*"]
[null,null,1746,null,null,null,null,null,null,null,null,null,null,null,null,null,null,null,null,null,null,null,null,null,null,{"$f":"IF(H1754=\"\",\"-\",VLOOKUP(J1754,読み替え表_低炭素物流!$C$4:$F$12,4,0))","v":"-"},{"$f":"IF(H1754=\"\",\"-\",VLOOKUP(L1754,読み替え表_低炭素物流!$C$15:$F$21,4,0))","v":"-"},"-",null,null,null,null,0,0,0,0,0,"*"]
[null,null,1747,null,null,null,null,null,null,null,null,null,null,null,null,null,null,null,null,null,null,null,null,null,null,{"$f":"IF(H1755=\"\",\"-\",VLOOKUP(J1755,読み替え表_低炭素物流!$C$4:$F$12,4,0))","v":"-"},{"$f":"IF(H1755=\"\",\"-\",VLOOKUP(L1755,読み替え表_低炭素物流!$C$15:$F$21,4,0))","v":"-"},"-",null,null,null,null,0,0,0,0,0,"*"]
[null,null,1748,null,null,null,null,null,null,null,null,null,null,null,null,null,null,null,null,null,null,null,null,null,null,{"$f":"IF(H1756=\"\",\"-\",VLOOKUP(J1756,読み替え表_低炭素物流!$C$4:$F$12,4,0))","v":"-"},{"$f":"IF(H1756=\"\",\"-\",VLOOKUP(L1756,読み替え表_低炭素物流!$C$15:$F$21,4,0))","v":"-"},"-",null,null,null,null,0,0,0,0,0,"*"]
[null,null,1749,null,null,null,null,null,null,null,null,null,null,null,null,null,null,null,null,null,null,null,null,null,null,{"$f":"IF(H1757=\"\",\"-\",VLOOKUP(J1757,読み替え表_低炭素物流!$C$4:$F$12,4,0))","v":"-"},{"$f":"IF(H1757=\"\",\"-\",VLOOKUP(L1757,読み替え表_低炭素物流!$C$15:$F$21,4,0))","v":"-"},"-",null,null,null,null,0,0,0,0,0,"*"]
[null,null,1750,null,null,null,null,null,null,null,null,null,null,null,null,null,null,null,null,null,null,null,null,null,null,{"$f":"IF(H1758=\"\",\"-\",VLOOKUP(J1758,読み替え表_低炭素物流!$C$4:$F$12,4,0))","v":"-"},{"$f":"IF(H1758=\"\",\"-\",VLOOKUP(L1758,読み替え表_低炭素物流!$C$15:$F$21,4,0))","v":"-"},"-",null,null,null,null,0,0,0,0,0,"*"]
[null,null,1751,null,null,null,null,null,null,null,null,null,null,null,null,null,null,null,null,null,null,null,null,null,null,{"$f":"IF(H1759=\"\",\"-\",VLOOKUP(J1759,読み替え表_低炭素物流!$C$4:$F$12,4,0))","v":"-"},{"$f":"IF(H1759=\"\",\"-\",VLOOKUP(L1759,読み替え表_低炭素物流!$C$15:$F$21,4,0))","v":"-"},"-",null,null,null,null,0,0,0,0,0,"*"]
[null,null,1752,null,null,null,null,null,null,null,null,null,null,null,null,null,null,null,null,null,null,null,null,null,null,{"$f":"IF(H1760=\"\",\"-\",VLOOKUP(J1760,読み替え表_低炭素物流!$C$4:$F$12,4,0))","v":"-"},{"$f":"IF(H1760=\"\",\"-\",VLOOKUP(L1760,読み替え表_低炭素物流!$C$15:$F$21,4,0))","v":"-"},"-",null,null,null,null,0,0,0,0,0,"*"]
[null,null,1753,null,null,null,null,null,null,null,null,null,null,null,null,null,null,null,null,null,null,null,null,null,null,{"$f":"IF(H1761=\"\",\"-\",VLOOKUP(J1761,読み替え表_低炭素物流!$C$4:$F$12,4,0))","v":"-"},{"$f":"IF(H1761=\"\",\"-\",VLOOKUP(L1761,読み替え表_低炭素物流!$C$15:$F$21,4,0))","v":"-"},"-",null,null,null,null,0,0,0,0,0,"*"]
[null,null,1754,null,null,null,null,null,null,null,null,null,null,null,null,null,null,null,null,null,null,null,null,null,null,{"$f":"IF(H1762=\"\",\"-\",VLOOKUP(J1762,読み替え表_低炭素物流!$C$4:$F$12,4,0))","v":"-"},{"$f":"IF(H1762=\"\",\"-\",VLOOKUP(L1762,読み替え表_低炭素物流!$C$15:$F$21,4,0))","v":"-"},"-",null,null,null,null,0,0,0,0,0,"*"]
[null,null,1755,null,null,null,null,null,null,null,null,null,null,null,null,null,null,null,null,null,null,null,null,null,null,{"$f":"IF(H1763=\"\",\"-\",VLOOKUP(J1763,読み替え表_低炭素物流!$C$4:$F$12,4,0))","v":"-"},{"$f":"IF(H1763=\"\",\"-\",VLOOKUP(L1763,読み替え表_低炭素物流!$C$15:$F$21,4,0))","v":"-"},"-",null,null,null,null,0,0,0,0,0,"*"]
[null,null,1756,null,null,null,null,null,null,null,null,null,null,null,null,null,null,null,null,null,null,null,null,null,null,{"$f":"IF(H1764=\"\",\"-\",VLOOKUP(J1764,読み替え表_低炭素物流!$C$4:$F$12,4,0))","v":"-"},{"$f":"IF(H1764=\"\",\"-\",VLOOKUP(L1764,読み替え表_低炭素物流!$C$15:$F$21,4,0))","v":"-"},"-",null,null,null,null,0,0,0,0,0,"*"]
[null,null,1757,null,null,null,null,null,null,null,null,null,null,null,null,null,null,null,null,null,null,null,null,null,null,{"$f":"IF(H1765=\"\",\"-\",VLOOKUP(J1765,読み替え表_低炭素物流!$C$4:$F$12,4,0))","v":"-"},{"$f":"IF(H1765=\"\",\"-\",VLOOKUP(L1765,読み替え表_低炭素物流!$C$15:$F$21,4,0))","v":"-"},"-",null,null,null,null,0,0,0,0,0,"*"]
[null,null,1758,null,null,null,null,null,null,null,null,null,null,null,null,null,null,null,null,null,null,null,null,null,null,{"$f":"IF(H1766=\"\",\"-\",VLOOKUP(J1766,読み替え表_低炭素物流!$C$4:$F$12,4,0))","v":"-"},{"$f":"IF(H1766=\"\",\"-\",VLOOKUP(L1766,読み替え表_低炭素物流!$C$15:$F$21,4,0))","v":"-"},"-",null,null,null,null,0,0,0,0,0,"*"]
[null,null,1759,null,null,null,null,null,null,null,null,null,null,null,null,null,null,null,null,null,null,null,null,null,null,{"$f":"IF(H1767=\"\",\"-\",VLOOKUP(J1767,読み替え表_低炭素物流!$C$4:$F$12,4,0))","v":"-"},{"$f":"IF(H1767=\"\",\"-\",VLOOKUP(L1767,読み替え表_低炭素物流!$C$15:$F$21,4,0))","v":"-"},"-",null,null,null,null,0,0,0,0,0,"*"]
[null,null,1760,null,null,null,null,null,null,null,null,null,null,null,null,null,null,null,null,null,null,null,null,null,null,{"$f":"IF(H1768=\"\",\"-\",VLOOKUP(J1768,読み替え表_低炭素物流!$C$4:$F$12,4,0))","v":"-"},{"$f":"IF(H1768=\"\",\"-\",VLOOKUP(L1768,読み替え表_低炭素物流!$C$15:$F$21,4,0))","v":"-"},"-",null,null,null,null,0,0,0,0,0,"*"]
[null,null,1761,null,null,null,null,null,null,null,null,null,null,null,null,null,null,null,null,null,null,null,null,null,null,{"$f":"IF(H1769=\"\",\"-\",VLOOKUP(J1769,読み替え表_低炭素物流!$C$4:$F$12,4,0))","v":"-"},{"$f":"IF(H1769=\"\",\"-\",VLOOKUP(L1769,読み替え表_低炭素物流!$C$15:$F$21,4,0))","v":"-"},"-",null,null,null,null,0,0,0,0,0,"*"]
[null,null,1762,null,null,null,null,null,null,null,null,null,null,null,null,null,null,null,null,null,null,null,null,null,null,{"$f":"IF(H1770=\"\",\"-\",VLOOKUP(J1770,読み替え表_低炭素物流!$C$4:$F$12,4,0))","v":"-"},{"$f":"IF(H1770=\"\",\"-\",VLOOKUP(L1770,読み替え表_低炭素物流!$C$15:$F$21,4,0))","v":"-"},"-",null,null,null,null,0,0,0,0,0,"*"]
[null,null,1763,null,null,null,null,null,null,null,null,null,null,null,null,null,null,null,null,null,null,null,null,null,null,{"$f":"IF(H1771=\"\",\"-\",VLOOKUP(J1771,読み替え表_低炭素物流!$C$4:$F$12,4,0))","v":"-"},{"$f":"IF(H1771=\"\",\"-\",VLOOKUP(L1771,読み替え表_低炭素物流!$C$15:$F$21,4,0))","v":"-"},"-",null,null,null,null,0,0,0,0,0,"*"]
[null,null,1764,null,null,null,null,null,null,null,null,null,null,null,null,null,null,null,null,null,null,null,null,null,null,{"$f":"IF(H1772=\"\",\"-\",VLOOKUP(J1772,読み替え表_低炭素物流!$C$4:$F$12,4,0))","v":"-"},{"$f":"IF(H1772=\"\",\"-\",VLOOKUP(L1772,読み替え表_低炭素物流!$C$15:$F$21,4,0))","v":"-"},"-",null,null,null,null,0,0,0,0,0,"*"]
[null,null,1765,null,null,null,null,null,null,null,null,null,null,null,null,null,null,null,null,null,null,null,null,null,null,{"$f":"IF(H1773=\"\",\"-\",VLOOKUP(J1773,読み替え表_低炭素物流!$C$4:$F$12,4,0))","v":"-"},{"$f":"IF(H1773=\"\",\"-\",VLOOKUP(L1773,読み替え表_低炭素物流!$C$15:$F$21,4,0))","v":"-"},"-",null,null,null,null,0,0,0,0,0,"*"]
[null,null,1766,null,null,null,null,null,null,null,null,null,null,null,null,null,null,null,null,null,null,null,null,null,null,{"$f":"IF(H1774=\"\",\"-\",VLOOKUP(J1774,読み替え表_低炭素物流!$C$4:$F$12,4,0))","v":"-"},{"$f":"IF(H1774=\"\",\"-\",VLOOKUP(L1774,読み替え表_低炭素物流!$C$15:$F$21,4,0))","v":"-"},"-",null,null,null,null,0,0,0,0,0,"*"]
[null,null,1767,null,null,null,null,null,null,null,null,null,null,null,null,null,null,null,null,null,null,null,null,null,null,{"$f":"IF(H1775=\"\",\"-\",VLOOKUP(J1775,読み替え表_低炭素物流!$C$4:$F$12,4,0))","v":"-"},{"$f":"IF(H1775=\"\",\"-\",VLOOKUP(L1775,読み替え表_低炭素物流!$C$15:$F$21,4,0))","v":"-"},"-",null,null,null,null,0,0,0,0,0,"*"]
[null,null,1768,null,null,null,null,null,null,null,null,null,null,null,null,null,null,null,null,null,null,null,null,null,null,{"$f":"IF(H1776=\"\",\"-\",VLOOKUP(J1776,読み替え表_低炭素物流!$C$4:$F$12,4,0))","v":"-"},{"$f":"IF(H1776=\"\",\"-\",VLOOKUP(L1776,読み替え表_低炭素物流!$C$15:$F$21,4,0))","v":"-"},"-",null,null,null,null,0,0,0,0,0,"*"]
[null,null,1769,null,null,null,null,null,null,null,null,null,null,null,null,null,null,null,null,null,null,null,null,null,null,{"$f":"IF(H1777=\"\",\"-\",VLOOKUP(J1777,読み替え表_低炭素物流!$C$4:$F$12,4,0))","v":"-"},{"$f":"IF(H1777=\"\",\"-\",VLOOKUP(L1777,読み替え表_低炭素物流!$C$15:$F$21,4,0))","v":"-"},{"$f":"IF(H1777=\"\",\"-\",Z1777*AA1777)","v":"-"},null,null,null,null,0,{"$f":"IF(J1777=8,1,0)","v":0},{"$f":"IF(L1777=6,1,0)","v":0},0,0,"*"]
[null,null,1770,null,null,null,null,null,null,null,null,null,null,null,null,null,null,null,null,null,null,null,null,null,null,{"$f":"IF(H1778=\"\",\"-\",VLOOKUP(J1778,読み替え表_低炭素物流!$C$4:$F$12,4,0))","v":"-"},{"$f":"IF(H1778=\"\",\"-\",VLOOKUP(L1778,読み替え表_低炭素物流!$C$15:$F$21,4,0))","v":"-"},"-",null,null,null,null,0,0,0,0,0,"*"]
[null,null,1771,null,null,null,null,null,null,null,null,null,null,null,null,null,null,null,null,null,null,null,null,null,null,{"$f":"IF(H1779=\"\",\"-\",VLOOKUP(J1779,読み替え表_低炭素物流!$C$4:$F$12,4,0))","v":"-"},{"$f":"IF(H1779=\"\",\"-\",VLOOKUP(L1779,読み替え表_低炭素物流!$C$15:$F$21,4,0))","v":"-"},"-",null,null,null,null,0,0,0,0,0,"*"]
[null,null,1772,null,null,null,null,null,null,null,null,null,null,null,null,null,null,null,null,null,null,null,null,null,null,{"$f":"IF(H1780=\"\",\"-\",VLOOKUP(J1780,読み替え表_低炭素物流!$C$4:$F$12,4,0))","v":"-"},{"$f":"IF(H1780=\"\",\"-\",VLOOKUP(L1780,読み替え表_低炭素物流!$C$15:$F$21,4,0))","v":"-"},"-",null,null,null,null,0,0,0,0,0,"*"]
[null,null,1773,null,null,null,null,null,null,null,null,null,null,null,null,null,null,null,null,null,null,null,null,null,null,{"$f":"IF(H1781=\"\",\"-\",VLOOKUP(J1781,読み替え表_低炭素物流!$C$4:$F$12,4,0))","v":"-"},{"$f":"IF(H1781=\"\",\"-\",VLOOKUP(L1781,読み替え表_低炭素物流!$C$15:$F$21,4,0))","v":"-"},"-",null,null,null,null,0,0,0,0,0,"*"]
[null,null,1774,null,null,null,null,null,null,null,null,null,null,null,null,null,null,null,null,null,null,null,null,null,null,{"$f":"IF(H1782=\"\",\"-\",VLOOKUP(J1782,読み替え表_低炭素物流!$C$4:$F$12,4,0))","v":"-"},{"$f":"IF(H1782=\"\",\"-\",VLOOKUP(L1782,読み替え表_低炭素物流!$C$15:$F$21,4,0))","v":"-"},"-",null,null,null,null,0,0,0,0,0,"*"]
[null,null,1775,null,null,null,null,null,null,null,null,null,null,null,null,null,null,null,null,null,null,null,null,null,null,{"$f":"IF(H1783=\"\",\"-\",VLOOKUP(J1783,読み替え表_低炭素物流!$C$4:$F$12,4,0))","v":"-"},{"$f":"IF(H1783=\"\",\"-\",VLOOKUP(L1783,読み替え表_低炭素物流!$C$15:$F$21,4,0))","v":"-"},"-",null,null,null,null,0,0,0,0,0,"*"]
[null,null,1776,null,null,null,null,null,null,null,null,null,null,null,null,null,null,null,null,null,null,null,null,null,null,{"$f":"IF(H1784=\"\",\"-\",VLOOKUP(J1784,読み替え表_低炭素物流!$C$4:$F$12,4,0))","v":"-"},{"$f":"IF(H1784=\"\",\"-\",VLOOKUP(L1784,読み替え表_低炭素物流!$C$15:$F$21,4,0))","v":"-"},"-",null,null,null,null,0,0,0,0,0,"*"]
[null,null,1777,null,null,null,null,null,null,null,null,null,null,null,null,null,null,null,null,null,null,null,null,null,null,{"$f":"IF(H1785=\"\",\"-\",VLOOKUP(J1785,読み替え表_低炭素物流!$C$4:$F$12,4,0))","v":"-"},{"$f":"IF(H1785=\"\",\"-\",VLOOKUP(L1785,読み替え表_低炭素物流!$C$15:$F$21,4,0))","v":"-"},"-",null,null,null,null,0,0,0,0,0,"*"]
[null,null,1778,null,null,null,null,null,null,null,null,null,null,null,null,null,null,null,null,null,null,null,null,null,null,{"$f":"IF(H1786=\"\",\"-\",VLOOKUP(J1786,読み替え表_低炭素物流!$C$4:$F$12,4,0))","v":"-"},{"$f":"IF(H1786=\"\",\"-\",VLOOKUP(L1786,読み替え表_低炭素物流!$C$15:$F$21,4,0))","v":"-"},"-",null,null,null,null,0,0,0,0,0,"*"]
[null,null,1779,null,null,null,null,null,null,null,null,null,null,null,null,null,null,null,null,null,null,null,null,null,null,{"$f":"IF(H1787=\"\",\"-\",VLOOKUP(J1787,読み替え表_低炭素物流!$C$4:$F$12,4,0))","v":"-"},{"$f":"IF(H1787=\"\",\"-\",VLOOKUP(L1787,読み替え表_低炭素物流!$C$15:$F$21,4,0))","v":"-"},"-",null,null,null,null,0,0,0,0,0,"*"]
[null,null,1780,null,null,null,null,null,null,null,null,null,null,null,null,null,null,null,null,null,null,null,null,null,null,{"$f":"IF(H1788=\"\",\"-\",VLOOKUP(J1788,読み替え表_低炭素物流!$C$4:$F$12,4,0))","v":"-"},{"$f":"IF(H1788=\"\",\"-\",VLOOKUP(L1788,読み替え表_低炭素物流!$C$15:$F$21,4,0))","v":"-"},"-",null,null,null,null,0,0,0,0,0,"*"]
[null,null,1781,null,null,null,null,null,null,null,null,null,null,null,null,null,null,null,null,null,null,null,null,null,null,{"$f":"IF(H1789=\"\",\"-\",VLOOKUP(J1789,読み替え表_低炭素物流!$C$4:$F$12,4,0))","v":"-"},{"$f":"IF(H1789=\"\",\"-\",VLOOKUP(L1789,読み替え表_低炭素物流!$C$15:$F$21,4,0))","v":"-"},"-",null,null,null,null,0,0,0,0,0,"*"]
[null,null,1782,null,null,null,null,null,null,null,null,null,null,null,null,null,null,null,null,null,null,null,null,null,null,{"$f":"IF(H1790=\"\",\"-\",VLOOKUP(J1790,読み替え表_低炭素物流!$C$4:$F$12,4,0))","v":"-"},{"$f":"IF(H1790=\"\",\"-\",VLOOKUP(L1790,読み替え表_低炭素物流!$C$15:$F$21,4,0))","v":"-"},"-",null,null,null,null,0,0,0,0,0,"*"]
[null,null,1783,null,null,null,null,null,null,null,null,null,null,null,null,null,null,null,null,null,null,null,null,null,null,{"$f":"IF(H1791=\"\",\"-\",VLOOKUP(J1791,読み替え表_低炭素物流!$C$4:$F$12,4,0))","v":"-"},{"$f":"IF(H1791=\"\",\"-\",VLOOKUP(L1791,読み替え表_低炭素物流!$C$15:$F$21,4,0))","v":"-"},"-",null,null,null,null,0,0,0,0,0,"*"]
[null,null,1784,null,null,null,null,null,null,null,null,null,null,null,null,null,null,null,null,null,null,null,null,null,null,{"$f":"IF(H1792=\"\",\"-\",VLOOKUP(J1792,読み替え表_低炭素物流!$C$4:$F$12,4,0))","v":"-"},{"$f":"IF(H1792=\"\",\"-\",VLOOKUP(L1792,読み替え表_低炭素物流!$C$15:$F$21,4,0))","v":"-"},"-",null,null,null,null,0,0,0,0,0,"*"]
[null,null,1785,null,null,null,null,null,null,null,null,null,null,null,null,null,null,null,null,null,null,null,null,null,null,{"$f":"IF(H1793=\"\",\"-\",VLOOKUP(J1793,読み替え表_低炭素物流!$C$4:$F$12,4,0))","v":"-"},{"$f":"IF(H1793=\"\",\"-\",VLOOKUP(L1793,読み替え表_低炭素物流!$C$15:$F$21,4,0))","v":"-"},"-",null,null,null,null,0,0,0,0,0,"*"]
[null,null,1786,null,null,null,null,null,null,null,null,null,null,null,null,null,null,null,null,null,null,null,null,null,null,{"$f":"IF(H1794=\"\",\"-\",VLOOKUP(J1794,読み替え表_低炭素物流!$C$4:$F$12,4,0))","v":"-"},{"$f":"IF(H1794=\"\",\"-\",VLOOKUP(L1794,読み替え表_低炭素物流!$C$15:$F$21,4,0))","v":"-"},"-",null,null,null,null,0,0,0,0,0,"*"]
[null,null,1787,null,null,null,null,null,null,null,null,null,null,null,null,null,null,null,null,null,null,null,null,null,null,{"$f":"IF(H1795=\"\",\"-\",VLOOKUP(J1795,読み替え表_低炭素物流!$C$4:$F$12,4,0))","v":"-"},{"$f":"IF(H1795=\"\",\"-\",VLOOKUP(L1795,読み替え表_低炭素物流!$C$15:$F$21,4,0))","v":"-"},"-",null,null,null,null,0,0,0,0,0,"*"]
[null,null,1788,null,null,null,null,null,null,null,null,null,null,null,null,null,null,null,null,null,null,null,null,null,null,{"$f":"IF(H1796=\"\",\"-\",VLOOKUP(J1796,読み替え表_低炭素物流!$C$4:$F$12,4,0))","v":"-"},{"$f":"IF(H1796=\"\",\"-\",VLOOKUP(L1796,読み替え表_低炭素物流!$C$15:$F$21,4,0))","v":"-"},"-",null,null,null,null,0,0,0,0,0,"*"]
[null,null,1789,null,null,null,null,null,null,null,null,null,null,null,null,null,null,null,null,null,null,null,null,null,null,{"$f":"IF(H1797=\"\",\"-\",VLOOKUP(J1797,読み替え表_低炭素物流!$C$4:$F$12,4,0))","v":"-"},{"$f":"IF(H1797=\"\",\"-\",VLOOKUP(L1797,読み替え表_低炭素物流!$C$15:$F$21,4,0))","v":"-"},"-",null,null,null,null,0,0,0,0,0,"*"]
[null,null,1790,null,null,null,null,null,null,null,null,null,null,null,null,null,null,null,null,null,null,null,null,null,null,{"$f":"IF(H1798=\"\",\"-\",VLOOKUP(J1798,読み替え表_低炭素物流!$C$4:$F$12,4,0))","v":"-"},{"$f":"IF(H1798=\"\",\"-\",VLOOKUP(L1798,読み替え表_低炭素物流!$C$15:$F$21,4,0))","v":"-"},"-",null,null,null,null,0,0,0,0,0,"*"]
[null,null,1791,null,null,null,null,null,null,null,null,null,null,null,null,null,null,null,null,null,null,null,null,null,null,{"$f":"IF(H1799=\"\",\"-\",VLOOKUP(J1799,読み替え表_低炭素物流!$C$4:$F$12,4,0))","v":"-"},{"$f":"IF(H1799=\"\",\"-\",VLOOKUP(L1799,読み替え表_低炭素物流!$C$15:$F$21,4,0))","v":"-"},"-",null,null,null,null,0,0,0,0,0,"*"]
[null,null,1792,null,null,null,null,null,null,null,null,null,null,null,null,null,null,null,null,null,null,null,null,null,null,{"$f":"IF(H1800=\"\",\"-\",VLOOKUP(J1800,読み替え表_低炭素物流!$C$4:$F$12,4,0))","v":"-"},{"$f":"IF(H1800=\"\",\"-\",VLOOKUP(L1800,読み替え表_低炭素物流!$C$15:$F$21,4,0))","v":"-"},"-",null,null,null,null,0,0,0,0,0,"*"]
[null,null,1793,null,null,null,null,null,null,null,null,null,null,null,null,null,null,null,null,null,null,null,null,null,null,{"$f":"IF(H1801=\"\",\"-\",VLOOKUP(J1801,読み替え表_低炭素物流!$C$4:$F$12,4,0))","v":"-"},{"$f":"IF(H1801=\"\",\"-\",VLOOKUP(L1801,読み替え表_低炭素物流!$C$15:$F$21,4,0))","v":"-"},"-",null,null,null,null,{"$f":"IF(N1801=1,IF(OR(L1801=4,L1801=5),0,1),0)","v":0},0,0,0,0,"*"]
[null,null,{"$f":"ROW()-8","v":1794},null,null,null,null,null,null,null,null,null,null,null,null,null,null,null,null,null,null,null,null,null,null,{"$f":"IF(H1802=\"\",\"-\",VLOOKUP(J1802,読み替え表_低炭素物流!$C$4:$F$12,4,0))","v":"-"},{"$f":"IF(H1802=\"\",\"-\",VLOOKUP(L1802,読み替え表_低炭素物流!$C$15:$F$21,4,0))","v":"-"},"-",null,null,null,null,0,0,0,0,{"$f":"AG1802","v":0},"*"]
[null,null,1795,null,null,null,null,null,null,null,null,null,null,null,null,null,null,null,null,null,null,null,null,null,null,{"$f":"IF(H1803=\"\",\"-\",VLOOKUP(J1803,読み替え表_低炭素物流!$C$4:$F$12,4,0))","v":"-"},{"$f":"IF(H1803=\"\",\"-\",VLOOKUP(L1803,読み替え表_低炭素物流!$C$15:$F$21,4,0))","v":"-"},"-",null,null,null,null,0,0,0,0,0,"*"]
[null,null,1796,null,null,null,null,null,null,null,null,null,null,null,null,null,null,null,null,null,null,null,null,null,null,{"$f":"IF(H1804=\"\",\"-\",VLOOKUP(J1804,読み替え表_低炭素物流!$C$4:$F$12,4,0))","v":"-"},{"$f":"IF(H1804=\"\",\"-\",VLOOKUP(L1804,読み替え表_低炭素物流!$C$15:$F$21,4,0))","v":"-"},"-",null,null,null,null,0,0,0,0,0,"*"]
[null,null,1797,null,null,null,null,null,null,null,null,null,null,null,null,null,null,null,null,null,null,null,null,null,null,{"$f":"IF(H1805=\"\",\"-\",VLOOKUP(J1805,読み替え表_低炭素物流!$C$4:$F$12,4,0))","v":"-"},{"$f":"IF(H1805=\"\",\"-\",VLOOKUP(L1805,読み替え表_低炭素物流!$C$15:$F$21,4,0))","v":"-"},"-",null,null,null,null,0,0,0,0,0,"*"]
[null,null,1798,null,null,null,null,null,null,null,null,null,null,null,null,null,null,null,null,null,null,null,null,null,null,{"$f":"IF(H1806=\"\",\"-\",VLOOKUP(J1806,読み替え表_低炭素物流!$C$4:$F$12,4,0))","v":"-"},{"$f":"IF(H1806=\"\",\"-\",VLOOKUP(L1806,読み替え表_低炭素物流!$C$15:$F$21,4,0))","v":"-"},"-",null,null,null,null,0,0,0,0,0,"*"]
[null,null,1799,null,null,null,null,null,null,null,null,null,null,null,null,null,null,null,null,null,null,null,null,null,null,{"$f":"IF(H1807=\"\",\"-\",VLOOKUP(J1807,読み替え表_低炭素物流!$C$4:$F$12,4,0))","v":"-"},{"$f":"IF(H1807=\"\",\"-\",VLOOKUP(L1807,読み替え表_低炭素物流!$C$15:$F$21,4,0))","v":"-"},"-",null,null,null,null,0,0,0,0,0,"*"]
[null,null,1800,null,null,null,null,null,null,null,null,null,null,null,null,null,null,null,null,null,null,null,null,null,null,{"$f":"IF(H1808=\"\",\"-\",VLOOKUP(J1808,読み替え表_低炭素物流!$C$4:$F$12,4,0))","v":"-"},{"$f":"IF(H1808=\"\",\"-\",VLOOKUP(L1808,読み替え表_低炭素物流!$C$15:$F$21,4,0))","v":"-"},"-",null,null,null,null,0,0,0,0,0,"*"]
[null,null,1801,null,null,null,null,null,null,null,null,null,null,null,null,null,null,null,null,null,null,null,null,null,null,{"$f":"IF(H1809=\"\",\"-\",VLOOKUP(J1809,読み替え表_低炭素物流!$C$4:$F$12,4,0))","v":"-"},{"$f":"IF(H1809=\"\",\"-\",VLOOKUP(L1809,読み替え表_低炭素物流!$C$15:$F$21,4,0))","v":"-"},"-",null,null,null,null,0,0,0,0,0,"*"]
[null,null,1802,null,null,null,null,null,null,null,null,null,null,null,null,null,null,null,null,null,null,null,null,null,null,{"$f":"IF(H1810=\"\",\"-\",VLOOKUP(J1810,読み替え表_低炭素物流!$C$4:$F$12,4,0))","v":"-"},{"$f":"IF(H1810=\"\",\"-\",VLOOKUP(L1810,読み替え表_低炭素物流!$C$15:$F$21,4,0))","v":"-"},"-",null,null,null,null,0,0,0,0,0,"*"]
[null,null,1803,null,null,null,null,null,null,null,null,null,null,null,null,null,null,null,null,null,null,null,null,null,null,{"$f":"IF(H1811=\"\",\"-\",VLOOKUP(J1811,読み替え表_低炭素物流!$C$4:$F$12,4,0))","v":"-"},{"$f":"IF(H1811=\"\",\"-\",VLOOKUP(L1811,読み替え表_低炭素物流!$C$15:$F$21,4,0))","v":"-"},"-",null,null,null,null,0,0,0,0,0,"*"]
[null,null,1804,null,null,null,null,null,null,null,null,null,null,null,null,null,null,null,null,null,null,null,null,null,null,{"$f":"IF(H1812=\"\",\"-\",VLOOKUP(J1812,読み替え表_低炭素物流!$C$4:$F$12,4,0))","v":"-"},{"$f":"IF(H1812=\"\",\"-\",VLOOKUP(L1812,読み替え表_低炭素物流!$C$15:$F$21,4,0))","v":"-"},"-",null,null,null,null,0,0,0,0,0,"*"]
[null,null,1805,null,null,null,null,null,null,null,null,null,null,null,null,null,null,null,null,null,null,null,null,null,null,{"$f":"IF(H1813=\"\",\"-\",VLOOKUP(J1813,読み替え表_低炭素物流!$C$4:$F$12,4,0))","v":"-"},{"$f":"IF(H1813=\"\",\"-\",VLOOKUP(L1813,読み替え表_低炭素物流!$C$15:$F$21,4,0))","v":"-"},"-",null,null,null,null,0,0,0,0,0,"*"]
[null,null,1806,null,null,null,null,null,null,null,null,null,null,null,null,null,null,null,null,null,null,null,null,null,null,{"$f":"IF(H1814=\"\",\"-\",VLOOKUP(J1814,読み替え表_低炭素物流!$C$4:$F$12,4,0))","v":"-"},{"$f":"IF(H1814=\"\",\"-\",VLOOKUP(L1814,読み替え表_低炭素物流!$C$15:$F$21,4,0))","v":"-"},"-",null,null,null,null,0,0,0,0,0,"*"]
[null,null,1807,null,null,null,null,null,null,null,null,null,null,null,null,null,null,null,null,null,null,null,null,null,null,{"$f":"IF(H1815=\"\",\"-\",VLOOKUP(J1815,読み替え表_低炭素物流!$C$4:$F$12,4,0))","v":"-"},{"$f":"IF(H1815=\"\",\"-\",VLOOKUP(L1815,読み替え表_低炭素物流!$C$15:$F$21,4,0))","v":"-"},"-",null,null,null,null,0,0,0,0,0,"*"]
[null,null,1808,null,null,null,null,null,null,null,null,null,null,null,null,null,null,null,null,null,null,null,null,null,null,{"$f":"IF(H1816=\"\",\"-\",VLOOKUP(J1816,読み替え表_低炭素物流!$C$4:$F$12,4,0))","v":"-"},{"$f":"IF(H1816=\"\",\"-\",VLOOKUP(L1816,読み替え表_低炭素物流!$C$15:$F$21,4,0))","v":"-"},"-",null,null,null,null,0,0,0,{"$f":"IF(OR(N1816=7,N1816=99),1,0)","v":0},0,"*"]
[null,null,1809,null,null,null,null,null,null,null,null,null,null,null,null,null,null,null,null,null,null,null,null,null,null,{"$f":"IF(H1817=\"\",\"-\",VLOOKUP(J1817,読み替え表_低炭素物流!$C$4:$F$12,4,0))","v":"-"},{"$f":"IF(H1817=\"\",\"-\",VLOOKUP(L1817,読み替え表_低炭素物流!$C$15:$F$21,4,0))","v":"-"},"-",null,null,null,null,0,0,0,0,0,"*"]
[null,null,1810,null,null,null,null,null,null,null,null,null,null,null,null,null,null,null,null,null,null,null,null,null,null,{"$f":"IF(H1818=\"\",\"-\",VLOOKUP(J1818,読み替え表_低炭素物流!$C$4:$F$12,4,0))","v":"-"},{"$f":"IF(H1818=\"\",\"-\",VLOOKUP(L1818,読み替え表_低炭素物流!$C$15:$F$21,4,0))","v":"-"},"-",null,null,null,null,0,0,0,0,0,"*"]
[null,null,1811,null,null,null,null,null,null,null,null,null,null,null,null,null,null,null,null,null,null,null,null,null,null,{"$f":"IF(H1819=\"\",\"-\",VLOOKUP(J1819,読み替え表_低炭素物流!$C$4:$F$12,4,0))","v":"-"},{"$f":"IF(H1819=\"\",\"-\",VLOOKUP(L1819,読み替え表_低炭素物流!$C$15:$F$21,4,0))","v":"-"},"-",null,null,null,null,0,0,0,0,0,"*"]
[null,null,1812,null,null,null,null,null,null,null,null,null,null,null,null,null,null,null,null,null,null,null,null,null,null,{"$f":"IF(H1820=\"\",\"-\",VLOOKUP(J1820,読み替え表_低炭素物流!$C$4:$F$12,4,0))","v":"-"},{"$f":"IF(H1820=\"\",\"-\",VLOOKUP(L1820,読み替え表_低炭素物流!$C$15:$F$21,4,0))","v":"-"},"-",null,null,null,null,0,0,0,0,0,"*"]
[null,null,1813,null,null,null,null,null,null,null,null,null,null,null,null,null,null,null,null,null,null,null,null,null,null,{"$f":"IF(H1821=\"\",\"-\",VLOOKUP(J1821,読み替え表_低炭素物流!$C$4:$F$12,4,0))","v":"-"},{"$f":"IF(H1821=\"\",\"-\",VLOOKUP(L1821,読み替え表_低炭素物流!$C$15:$F$21,4,0))","v":"-"},"-",null,null,null,null,0,0,0,0,0,"*"]
[null,null,1814,null,null,null,null,null,null,null,null,null,null,null,null,null,null,null,null,null,null,null,null,null,null,{"$f":"IF(H1822=\"\",\"-\",VLOOKUP(J1822,読み替え表_低炭素物流!$C$4:$F$12,4,0))","v":"-"},{"$f":"IF(H1822=\"\",\"-\",VLOOKUP(L1822,読み替え表_低炭素物流!$C$15:$F$21,4,0))","v":"-"},"-",null,null,null,null,0,0,0,0,0,"*"]
[null,null,1815,null,null,null,null,null,null,null,null,null,null,null,null,null,null,null,null,null,null,null,null,null,null,{"$f":"IF(H1823=\"\",\"-\",VLOOKUP(J1823,読み替え表_低炭素物流!$C$4:$F$12,4,0))","v":"-"},{"$f":"IF(H1823=\"\",\"-\",VLOOKUP(L1823,読み替え表_低炭素物流!$C$15:$F$21,4,0))","v":"-"},"-",null,null,null,null,0,0,0,0,0,"*"]
[null,null,1816,null,null,null,null,null,null,null,null,null,null,null,null,null,null,null,null,null,null,null,null,null,null,{"$f":"IF(H1824=\"\",\"-\",VLOOKUP(J1824,読み替え表_低炭素物流!$C$4:$F$12,4,0))","v":"-"},{"$f":"IF(H1824=\"\",\"-\",VLOOKUP(L1824,読み替え表_低炭素物流!$C$15:$F$21,4,0))","v":"-"},"-",null,null,null,null,0,0,0,0,0,"*"]
[null,null,1817,null,null,null,null,null,null,null,null,null,null,null,null,null,null,null,null,null,null,null,null,null,null,{"$f":"IF(H1825=\"\",\"-\",VLOOKUP(J1825,読み替え表_低炭素物流!$C$4:$F$12,4,0))","v":"-"},{"$f":"IF(H1825=\"\",\"-\",VLOOKUP(L1825,読み替え表_低炭素物流!$C$15:$F$21,4,0))","v":"-"},"-",null,null,null,null,0,0,0,0,0,"*"]
[null,null,1818,null,null,null,null,null,null,null,null,null,null,null,null,null,null,null,null,null,null,null,null,null,null,{"$f":"IF(H1826=\"\",\"-\",VLOOKUP(J1826,読み替え表_低炭素物流!$C$4:$F$12,4,0))","v":"-"},{"$f":"IF(H1826=\"\",\"-\",VLOOKUP(L1826,読み替え表_低炭素物流!$C$15:$F$21,4,0))","v":"-"},"-",null,null,null,null,0,0,0,0,0,"*"]
[null,null,1819,null,null,null,null,null,null,null,null,null,null,null,null,null,null,null,null,null,null,null,null,null,null,{"$f":"IF(H1827=\"\",\"-\",VLOOKUP(J1827,読み替え表_低炭素物流!$C$4:$F$12,4,0))","v":"-"},{"$f":"IF(H1827=\"\",\"-\",VLOOKUP(L1827,読み替え表_低炭素物流!$C$15:$F$21,4,0))","v":"-"},"-",null,null,null,null,0,0,0,0,0,"*"]
[null,null,1820,null,null,null,null,null,null,null,null,null,null,null,null,null,null,null,null,null,null,null,null,null,null,{"$f":"IF(H1828=\"\",\"-\",VLOOKUP(J1828,読み替え表_低炭素物流!$C$4:$F$12,4,0))","v":"-"},{"$f":"IF(H1828=\"\",\"-\",VLOOKUP(L1828,読み替え表_低炭素物流!$C$15:$F$21,4,0))","v":"-"},"-",null,null,null,null,0,0,0,0,0,"*"]
[null,null,1821,null,null,null,null,null,null,null,null,null,null,null,null,null,null,null,null,null,null,null,null,null,null,{"$f":"IF(H1829=\"\",\"-\",VLOOKUP(J1829,読み替え表_低炭素物流!$C$4:$F$12,4,0))","v":"-"},{"$f":"IF(H1829=\"\",\"-\",VLOOKUP(L1829,読み替え表_低炭素物流!$C$15:$F$21,4,0))","v":"-"},"-",null,null,null,null,0,0,0,0,0,"*"]
[null,null,1822,null,null,null,null,null,null,null,null,null,null,null,null,null,null,null,null,null,null,null,null,null,null,{"$f":"IF(H1830=\"\",\"-\",VLOOKUP(J1830,読み替え表_低炭素物流!$C$4:$F$12,4,0))","v":"-"},{"$f":"IF(H1830=\"\",\"-\",VLOOKUP(L1830,読み替え表_低炭素物流!$C$15:$F$21,4,0))","v":"-"},"-",null,null,null,null,0,0,0,0,0,"*"]
[null,null,1823,null,null,null,null,null,null,null,null,null,null,null,null,null,null,null,null,null,null,null,null,null,null,{"$f":"IF(H1831=\"\",\"-\",VLOOKUP(J1831,読み替え表_低炭素物流!$C$4:$F$12,4,0))","v":"-"},{"$f":"IF(H1831=\"\",\"-\",VLOOKUP(L1831,読み替え表_低炭素物流!$C$15:$F$21,4,0))","v":"-"},"-",null,null,null,null,0,0,0,0,0,"*"]
[null,null,1824,null,null,null,null,null,null,null,null,null,null,null,null,null,null,null,null,null,null,null,null,null,null,{"$f":"IF(H1832=\"\",\"-\",VLOOKUP(J1832,読み替え表_低炭素物流!$C$4:$F$12,4,0))","v":"-"},{"$f":"IF(H1832=\"\",\"-\",VLOOKUP(L1832,読み替え表_低炭素物流!$C$15:$F$21,4,0))","v":"-"},"-",null,null,null,null,0,0,0,0,0,"*"]
[null,null,1825,null,null,null,null,null,null,null,null,null,null,null,null,null,null,null,null,null,null,null,null,null,null,{"$f":"IF(H1833=\"\",\"-\",VLOOKUP(J1833,読み替え表_低炭素物流!$C$4:$F$12,4,0))","v":"-"},{"$f":"IF(H1833=\"\",\"-\",VLOOKUP(L1833,読み替え表_低炭素物流!$C$15:$F$21,4,0))","v":"-"},"-",null,null,null,null,0,0,0,0,0,"*"]
[null,null,1826,null,null,null,null,null,null,null,null,null,null,null,null,null,null,null,null,null,null,null,null,null,null,{"$f":"IF(H1834=\"\",\"-\",VLOOKUP(J1834,読み替え表_低炭素物流!$C$4:$F$12,4,0))","v":"-"},{"$f":"IF(H1834=\"\",\"-\",VLOOKUP(L1834,読み替え表_低炭素物流!$C$15:$F$21,4,0))","v":"-"},"-",null,null,null,null,0,0,0,0,0,"*"]
[null,null,1827,null,null,null,null,null,null,null,null,null,null,null,null,null,null,null,null,null,null,null,null,null,null,{"$f":"IF(H1835=\"\",\"-\",VLOOKUP(J1835,読み替え表_低炭素物流!$C$4:$F$12,4,0))","v":"-"},{"$f":"IF(H1835=\"\",\"-\",VLOOKUP(L1835,読み替え表_低炭素物流!$C$15:$F$21,4,0))","v":"-"},"-",null,null,null,null,0,0,0,0,0,"*"]
[null,null,1828,null,null,null,null,null,null,null,null,null,null,null,null,null,null,null,null,null,null,null,null,null,null,{"$f":"IF(H1836=\"\",\"-\",VLOOKUP(J1836,読み替え表_低炭素物流!$C$4:$F$12,4,0))","v":"-"},{"$f":"IF(H1836=\"\",\"-\",VLOOKUP(L1836,読み替え表_低炭素物流!$C$15:$F$21,4,0))","v":"-"},"-",null,null,null,null,0,0,0,0,0,"*"]
[null,null,1829,null,null,null,null,null,null,null,null,null,null,null,null,null,null,null,null,null,null,null,null,null,null,{"$f":"IF(H1837=\"\",\"-\",VLOOKUP(J1837,読み替え表_低炭素物流!$C$4:$F$12,4,0))","v":"-"},{"$f":"IF(H1837=\"\",\"-\",VLOOKUP(L1837,読み替え表_低炭素物流!$C$15:$F$21,4,0))","v":"-"},"-",null,null,null,null,0,0,0,0,0,"*"]
[null,null,1830,null,null,null,null,null,null,null,null,null,null,null,null,null,null,null,null,null,null,null,null,null,null,{"$f":"IF(H1838=\"\",\"-\",VLOOKUP(J1838,読み替え表_低炭素物流!$C$4:$F$12,4,0))","v":"-"},{"$f":"IF(H1838=\"\",\"-\",VLOOKUP(L1838,読み替え表_低炭素物流!$C$15:$F$21,4,0))","v":"-"},"-",null,null,null,null,0,0,0,0,0,"*"]
[null,null,1831,null,null,null,null,null,null,null,null,null,null,null,null,null,null,null,null,null,null,null,null,null,null,{"$f":"IF(H1839=\"\",\"-\",VLOOKUP(J1839,読み替え表_低炭素物流!$C$4:$F$12,4,0))","v":"-"},{"$f":"IF(H1839=\"\",\"-\",VLOOKUP(L1839,読み替え表_低炭素物流!$C$15:$F$21,4,0))","v":"-"},"-",null,null,null,null,0,0,0,0,0,"*"]
[null,null,1832,null,null,null,null,null,null,null,null,null,null,null,null,null,null,null,null,null,null,null,null,null,null,{"$f":"IF(H1840=\"\",\"-\",VLOOKUP(J1840,読み替え表_低炭素物流!$C$4:$F$12,4,0))","v":"-"},{"$f":"IF(H1840=\"\",\"-\",VLOOKUP(L1840,読み替え表_低炭素物流!$C$15:$F$21,4,0))","v":"-"},"-",null,null,null,null,0,0,0,0,0,"*"]
[null,null,1833,null,null,null,null,null,null,null,null,null,null,null,null,null,null,null,null,null,null,null,null,null,null,{"$f":"IF(H1841=\"\",\"-\",VLOOKUP(J1841,読み替え表_低炭素物流!$C$4:$F$12,4,0))","v":"-"},{"$f":"IF(H1841=\"\",\"-\",VLOOKUP(L1841,読み替え表_低炭素物流!$C$15:$F$21,4,0))","v":"-"},{"$f":"IF(H1841=\"\",\"-\",Z1841*AA1841)","v":"-"},null,null,null,null,0,{"$f":"IF(J1841=8,1,0)","v":0},{"$f":"IF(L1841=6,1,0)","v":0},0,0,"*"]
[null,null,1834,null,null,null,null,null,null,null,null,null,null,null,null,null,null,null,null,null,null,null,null,null,null,{"$f":"IF(H1842=\"\",\"-\",VLOOKUP(J1842,読み替え表_低炭素物流!$C$4:$F$12,4,0))","v":"-"},{"$f":"IF(H1842=\"\",\"-\",VLOOKUP(L1842,読み替え表_低炭素物流!$C$15:$F$21,4,0))","v":"-"},"-",null,null,null,null,0,0,0,0,0,"*"]
[null,null,1835,null,null,null,null,null,null,null,null,null,null,null,null,null,null,null,null,null,null,null,null,null,null,{"$f":"IF(H1843=\"\",\"-\",VLOOKUP(J1843,読み替え表_低炭素物流!$C$4:$F$12,4,0))","v":"-"},{"$f":"IF(H1843=\"\",\"-\",VLOOKUP(L1843,読み替え表_低炭素物流!$C$15:$F$21,4,0))","v":"-"},"-",null,null,null,null,0,0,0,0,0,"*"]
[null,null,1836,null,null,null,null,null,null,null,null,null,null,null,null,null,null,null,null,null,null,null,null,null,null,{"$f":"IF(H1844=\"\",\"-\",VLOOKUP(J1844,読み替え表_低炭素物流!$C$4:$F$12,4,0))","v":"-"},{"$f":"IF(H1844=\"\",\"-\",VLOOKUP(L1844,読み替え表_低炭素物流!$C$15:$F$21,4,0))","v":"-"},"-",null,null,null,null,0,0,0,0,0,"*"]
[null,null,1837,null,null,null,null,null,null,null,null,null,null,null,null,null,null,null,null,null,null,null,null,null,null,{"$f":"IF(H1845=\"\",\"-\",VLOOKUP(J1845,読み替え表_低炭素物流!$C$4:$F$12,4,0))","v":"-"},{"$f":"IF(H1845=\"\",\"-\",VLOOKUP(L1845,読み替え表_低炭素物流!$C$15:$F$21,4,0))","v":"-"},"-",null,null,null,null,0,0,0,0,0,"*"]
[null,null,1838,null,null,null,null,null,null,null,null,null,null,null,null,null,null,null,null,null,null,null,null,null,null,{"$f":"IF(H1846=\"\",\"-\",VLOOKUP(J1846,読み替え表_低炭素物流!$C$4:$F$12,4,0))","v":"-"},{"$f":"IF(H1846=\"\",\"-\",VLOOKUP(L1846,読み替え表_低炭素物流!$C$15:$F$21,4,0))","v":"-"},"-",null,null,null,null,0,0,0,0,0,"*"]
[null,null,1839,null,null,null,null,null,null,null,null,null,null,null,null,null,null,null,null,null,null,null,null,null,null,{"$f":"IF(H1847=\"\",\"-\",VLOOKUP(J1847,読み替え表_低炭素物流!$C$4:$F$12,4,0))","v":"-"},{"$f":"IF(H1847=\"\",\"-\",VLOOKUP(L1847,読み替え表_低炭素物流!$C$15:$F$21,4,0))","v":"-"},"-",null,null,null,null,0,0,0,0,0,"*"]
[null,null,1840,null,null,null,null,null,null,null,null,null,null,null,null,null,null,null,null,null,null,null,null,null,null,{"$f":"IF(H1848=\"\",\"-\",VLOOKUP(J1848,読み替え表_低炭素物流!$C$4:$F$12,4,0))","v":"-"},{"$f":"IF(H1848=\"\",\"-\",VLOOKUP(L1848,読み替え表_低炭素物流!$C$15:$F$21,4,0))","v":"-"},"-",null,null,null,null,0,0,0,0,0,"*"]
[null,null,1841,null,null,null,null,null,null,null,null,null,null,null,null,null,null,null,null,null,null,null,null,null,null,{"$f":"IF(H1849=\"\",\"-\",VLOOKUP(J1849,読み替え表_低炭素物流!$C$4:$F$12,4,0))","v":"-"},{"$f":"IF(H1849=\"\",\"-\",VLOOKUP(L1849,読み替え表_低炭素物流!$C$15:$F$21,4,0))","v":"-"},"-",null,null,null,null,0,0,0,0,0,"*"]
[null,null,1842,null,null,null,null,null,null,null,null,null,null,null,null,null,null,null,null,null,null,null,null,null,null,{"$f":"IF(H1850=\"\",\"-\",VLOOKUP(J1850,読み替え表_低炭素物流!$C$4:$F$12,4,0))","v":"-"},{"$f":"IF(H1850=\"\",\"-\",VLOOKUP(L1850,読み替え表_低炭素物流!$C$15:$F$21,4,0))","v":"-"},"-",null,null,null,null,0,0,0,0,0,"*"]
[null,null,1843,null,null,null,null,null,null,null,null,null,null,null,null,null,null,null,null,null,null,null,null,null,null,{"$f":"IF(H1851=\"\",\"-\",VLOOKUP(J1851,読み替え表_低炭素物流!$C$4:$F$12,4,0))","v":"-"},{"$f":"IF(H1851=\"\",\"-\",VLOOKUP(L1851,読み替え表_低炭素物流!$C$15:$F$21,4,0))","v":"-"},"-",null,null,null,null,0,0,0,0,0,"*"]
[null,null,1844,null,null,null,null,null,null,null,null,null,null,null,null,null,null,null,null,null,null,null,null,null,null,{"$f":"IF(H1852=\"\",\"-\",VLOOKUP(J1852,読み替え表_低炭素物流!$C$4:$F$12,4,0))","v":"-"},{"$f":"IF(H1852=\"\",\"-\",VLOOKUP(L1852,読み替え表_低炭素物流!$C$15:$F$21,4,0))","v":"-"},"-",null,null,null,null,0,0,0,0,0,"*"]
[null,null,1845,null,null,null,null,null,null,null,null,null,null,null,null,null,null,null,null,null,null,null,null,null,null,{"$f":"IF(H1853=\"\",\"-\",VLOOKUP(J1853,読み替え表_低炭素物流!$C$4:$F$12,4,0))","v":"-"},{"$f":"IF(H1853=\"\",\"-\",VLOOKUP(L1853,読み替え表_低炭素物流!$C$15:$F$21,4,0))","v":"-"},"-",null,null,null,null,0,0,0,0,0,"*"]
[null,null,1846,null,null,null,null,null,null,null,null,null,null,null,null,null,null,null,null,null,null,null,null,null,null,{"$f":"IF(H1854=\"\",\"-\",VLOOKUP(J1854,読み替え表_低炭素物流!$C$4:$F$12,4,0))","v":"-"},{"$f":"IF(H1854=\"\",\"-\",VLOOKUP(L1854,読み替え表_低炭素物流!$C$15:$F$21,4,0))","v":"-"},"-",null,null,null,null,0,0,0,0,0,"*"]
[null,null,1847,null,null,null,null,null,null,null,null,null,null,null,null,null,null,null,null,null,null,null,null,null,null,{"$f":"IF(H1855=\"\",\"-\",VLOOKUP(J1855,読み替え表_低炭素物流!$C$4:$F$12,4,0))","v":"-"},{"$f":"IF(H1855=\"\",\"-\",VLOOKUP(L1855,読み替え表_低炭素物流!$C$15:$F$21,4,0))","v":"-"},"-",null,null,null,null,0,0,0,0,0,"*"]
[null,null,1848,null,null,null,null,null,null,null,null,null,null,null,null,null,null,null,null,null,null,null,null,null,null,{"$f":"IF(H1856=\"\",\"-\",VLOOKUP(J1856,読み替え表_低炭素物流!$C$4:$F$12,4,0))","v":"-"},{"$f":"IF(H1856=\"\",\"-\",VLOOKUP(L1856,読み替え表_低炭素物流!$C$15:$F$21,4,0))","v":"-"},"-",null,null,null,null,0,0,0,0,0,"*"]
[null,null,1849,null,null,null,null,null,null,null,null,null,null,null,null,null,null,null,null,null,null,null,null,null,null,{"$f":"IF(H1857=\"\",\"-\",VLOOKUP(J1857,読み替え表_低炭素物流!$C$4:$F$12,4,0))","v":"-"},{"$f":"IF(H1857=\"\",\"-\",VLOOKUP(L1857,読み替え表_低炭素物流!$C$15:$F$21,4,0))","v":"-"},"-",null,null,null,null,0,0,0,0,0,"*"]
[null,null,1850,null,null,null,null,null,null,null,null,null,null,null,null,null,null,null,null,null,null,null,null,null,null,{"$f":"IF(H1858=\"\",\"-\",VLOOKUP(J1858,読み替え表_低炭素物流!$C$4:$F$12,4,0))","v":"-"},{"$f":"IF(H1858=\"\",\"-\",VLOOKUP(L1858,読み替え表_低炭素物流!$C$15:$F$21,4,0))","v":"-"},"-",null,null,null,null,0,0,0,0,0,"*"]
[null,null,1851,null,null,null,null,null,null,null,null,null,null,null,null,null,null,null,null,null,null,null,null,null,null,{"$f":"IF(H1859=\"\",\"-\",VLOOKUP(J1859,読み替え表_低炭素物流!$C$4:$F$12,4,0))","v":"-"},{"$f":"IF(H1859=\"\",\"-\",VLOOKUP(L1859,読み替え表_低炭素物流!$C$15:$F$21,4,0))","v":"-"},"-",null,null,null,null,0,0,0,0,0,"*"]
[null,null,1852,null,null,null,null,null,null,null,null,null,null,null,null,null,null,null,null,null,null,null,null,null,null,{"$f":"IF(H1860=\"\",\"-\",VLOOKUP(J1860,読み替え表_低炭素物流!$C$4:$F$12,4,0))","v":"-"},{"$f":"IF(H1860=\"\",\"-\",VLOOKUP(L1860,読み替え表_低炭素物流!$C$15:$F$21,4,0))","v":"-"},"-",null,null,null,null,0,0,0,0,0,"*"]
[null,null,1853,null,null,null,null,null,null,null,null,null,null,null,null,null,null,null,null,null,null,null,null,null,null,{"$f":"IF(H1861=\"\",\"-\",VLOOKUP(J1861,読み替え表_低炭素物流!$C$4:$F$12,4,0))","v":"-"},{"$f":"IF(H1861=\"\",\"-\",VLOOKUP(L1861,読み替え表_低炭素物流!$C$15:$F$21,4,0))","v":"-"},"-",null,null,null,null,0,0,0,0,0,"*"]
[null,null,1854,null,null,null,null,null,null,null,null,null,null,null,null,null,null,null,null,null,null,null,null,null,null,{"$f":"IF(H1862=\"\",\"-\",VLOOKUP(J1862,読み替え表_低炭素物流!$C$4:$F$12,4,0))","v":"-"},{"$f":"IF(H1862=\"\",\"-\",VLOOKUP(L1862,読み替え表_低炭素物流!$C$15:$F$21,4,0))","v":"-"},"-",null,null,null,null,0,0,0,0,0,"*"]
[null,null,1855,null,null,null,null,null,null,null,null,null,null,null,null,null,null,null,null,null,null,null,null,null,null,{"$f":"IF(H1863=\"\",\"-\",VLOOKUP(J1863,読み替え表_低炭素物流!$C$4:$F$12,4,0))","v":"-"},{"$f":"IF(H1863=\"\",\"-\",VLOOKUP(L1863,読み替え表_低炭素物流!$C$15:$F$21,4,0))","v":"-"},"-",null,null,null,null,0,0,0,0,0,"*"]
[null,null,1856,null,null,null,null,null,null,null,null,null,null,null,null,null,null,null,null,null,null,null,null,null,null,{"$f":"IF(H1864=\"\",\"-\",VLOOKUP(J1864,読み替え表_低炭素物流!$C$4:$F$12,4,0))","v":"-"},{"$f":"IF(H1864=\"\",\"-\",VLOOKUP(L1864,読み替え表_低炭素物流!$C$15:$F$21,4,0))","v":"-"},"-",null,null,null,null,0,0,0,0,0,"*"]
[null,null,1857,null,null,null,null,null,null,null,null,null,null,null,null,null,null,null,null,null,null,null,null,null,null,{"$f":"IF(H1865=\"\",\"-\",VLOOKUP(J1865,読み替え表_低炭素物流!$C$4:$F$12,4,0))","v":"-"},{"$f":"IF(H1865=\"\",\"-\",VLOOKUP(L1865,読み替え表_低炭素物流!$C$15:$F$21,4,0))","v":"-"},"-",null,null,null,null,{"$f":"IF(N1865=1,IF(OR(L1865=4,L1865=5),0,1),0)","v":0},0,0,0,0,"*"]
[null,null,{"$f":"ROW()-8","v":1858},null,null,null,null,null,null,null,null,null,null,null,null,null,null,null,null,null,null,null,null,null,null,{"$f":"IF(H1866=\"\",\"-\",VLOOKUP(J1866,読み替え表_低炭素物流!$C$4:$F$12,4,0))","v":"-"},{"$f":"IF(H1866=\"\",\"-\",VLOOKUP(L1866,読み替え表_低炭素物流!$C$15:$F$21,4,0))","v":"-"},"-",null,null,null,null,0,0,0,0,{"$f":"AG1866","v":0},"*"]
[null,null,1859,null,null,null,null,null,null,null,null,null,null,null,null,null,null,null,null,null,null,null,null,null,null,{"$f":"IF(H1867=\"\",\"-\",VLOOKUP(J1867,読み替え表_低炭素物流!$C$4:$F$12,4,0))","v":"-"},{"$f":"IF(H1867=\"\",\"-\",VLOOKUP(L1867,読み替え表_低炭素物流!$C$15:$F$21,4,0))","v":"-"},"-",null,null,null,null,0,0,0,0,0,"*"]
[null,null,1860,null,null,null,null,null,null,null,null,null,null,null,null,null,null,null,null,null,null,null,null,null,null,{"$f":"IF(H1868=\"\",\"-\",VLOOKUP(J1868,読み替え表_低炭素物流!$C$4:$F$12,4,0))","v":"-"},{"$f":"IF(H1868=\"\",\"-\",VLOOKUP(L1868,読み替え表_低炭素物流!$C$15:$F$21,4,0))","v":"-"},"-",null,null,null,null,0,0,0,0,0,"*"]
[null,null,1861,null,null,null,null,null,null,null,null,null,null,null,null,null,null,null,null,null,null,null,null,null,null,{"$f":"IF(H1869=\"\",\"-\",VLOOKUP(J1869,読み替え表_低炭素物流!$C$4:$F$12,4,0))","v":"-"},{"$f":"IF(H1869=\"\",\"-\",VLOOKUP(L1869,読み替え表_低炭素物流!$C$15:$F$21,4,0))","v":"-"},"-",null,null,null,null,0,0,0,0,0,"*"]
[null,null,1862,null,null,null,null,null,null,null,null,null,null,null,null,null,null,null,null,null,null,null,null,null,null,{"$f":"IF(H1870=\"\",\"-\",VLOOKUP(J1870,読み替え表_低炭素物流!$C$4:$F$12,4,0))","v":"-"},{"$f":"IF(H1870=\"\",\"-\",VLOOKUP(L1870,読み替え表_低炭素物流!$C$15:$F$21,4,0))","v":"-"},"-",null,null,null,null,0,0,0,0,0,"*"]
[null,null,1863,null,null,null,null,null,null,null,null,null,null,null,null,null,null,null,null,null,null,null,null,null,null,{"$f":"IF(H1871=\"\",\"-\",VLOOKUP(J1871,読み替え表_低炭素物流!$C$4:$F$12,4,0))","v":"-"},{"$f":"IF(H1871=\"\",\"-\",VLOOKUP(L1871,読み替え表_低炭素物流!$C$15:$F$21,4,0))","v":"-"},"-",null,null,null,null,0,0,0,0,0,"*"]
[null,null,1864,null,null,null,null,null,null,null,null,null,null,null,null,null,null,null,null,null,null,null,null,null,null,{"$f":"IF(H1872=\"\",\"-\",VLOOKUP(J1872,読み替え表_低炭素物流!$C$4:$F$12,4,0))","v":"-"},{"$f":"IF(H1872=\"\",\"-\",VLOOKUP(L1872,読み替え表_低炭素物流!$C$15:$F$21,4,0))","v":"-"},"-",null,null,null,null,0,0,0,0,0,"*"]
[null,null,1865,null,null,null,null,null,null,null,null,null,null,null,null,null,null,null,null,null,null,null,null,null,null,{"$f":"IF(H1873=\"\",\"-\",VLOOKUP(J1873,読み替え表_低炭素物流!$C$4:$F$12,4,0))","v":"-"},{"$f":"IF(H1873=\"\",\"-\",VLOOKUP(L1873,読み替え表_低炭素物流!$C$15:$F$21,4,0))","v":"-"},"-",null,null,null,null,0,0,0,0,0,"*"]
[null,null,1866,null,null,null,null,null,null,null,null,null,null,null,null,null,null,null,null,null,null,null,null,null,null,{"$f":"IF(H1874=\"\",\"-\",VLOOKUP(J1874,読み替え表_低炭素物流!$C$4:$F$12,4,0))","v":"-"},{"$f":"IF(H1874=\"\",\"-\",VLOOKUP(L1874,読み替え表_低炭素物流!$C$15:$F$21,4,0))","v":"-"},"-",null,null,null,null,0,0,0,0,0,"*"]
[null,null,1867,null,null,null,null,null,null,null,null,null,null,null,null,null,null,null,null,null,null,null,null,null,null,{"$f":"IF(H1875=\"\",\"-\",VLOOKUP(J1875,読み替え表_低炭素物流!$C$4:$F$12,4,0))","v":"-"},{"$f":"IF(H1875=\"\",\"-\",VLOOKUP(L1875,読み替え表_低炭素物流!$C$15:$F$21,4,0))","v":"-"},"-",null,null,null,null,0,0,0,0,0,"*"]
[null,null,1868,null,null,null,null,null,null,null,null,null,null,null,null,null,null,null,null,null,null,null,null,null,null,{"$f":"IF(H1876=\"\",\"-\",VLOOKUP(J1876,読み替え表_低炭素物流!$C$4:$F$12,4,0))","v":"-"},{"$f":"IF(H1876=\"\",\"-\",VLOOKUP(L1876,読み替え表_低炭素物流!$C$15:$F$21,4,0))","v":"-"},"-",null,null,null,null,0,0,0,0,0,"*"]
[null,null,1869,null,null,null,null,null,null,null,null,null,null,null,null,null,null,null,null,null,null,null,null,null,null,{"$f":"IF(H1877=\"\",\"-\",VLOOKUP(J1877,読み替え表_低炭素物流!$C$4:$F$12,4,0))","v":"-"},{"$f":"IF(H1877=\"\",\"-\",VLOOKUP(L1877,読み替え表_低炭素物流!$C$15:$F$21,4,0))","v":"-"},"-",null,null,null,null,0,0,0,0,0,"*"]
[null,null,1870,null,null,null,null,null,null,null,null,null,null,null,null,null,null,null,null,null,null,null,null,null,null,{"$f":"IF(H1878=\"\",\"-\",VLOOKUP(J1878,読み替え表_低炭素物流!$C$4:$F$12,4,0))","v":"-"},{"$f":"IF(H1878=\"\",\"-\",VLOOKUP(L1878,読み替え表_低炭素物流!$C$15:$F$21,4,0))","v":"-"},"-",null,null,null,null,0,0,0,0,0,"*"]
[null,null,1871,null,null,null,null,null,null,null,null,null,null,null,null,null,null,null,null,null,null,null,null,null,null,{"$f":"IF(H1879=\"\",\"-\",VLOOKUP(J1879,読み替え表_低炭素物流!$C$4:$F$12,4,0))","v":"-"},{"$f":"IF(H1879=\"\",\"-\",VLOOKUP(L1879,読み替え表_低炭素物流!$C$15:$F$21,4,0))","v":"-"},"-",null,null,null,null,0,0,0,0,0,"*"]
[null,null,1872,null,null,null,null,null,null,null,null,null,null,null,null,null,null,null,null,null,null,null,null,null,null,{"$f":"IF(H1880=\"\",\"-\",VLOOKUP(J1880,読み替え表_低炭素物流!$C$4:$F$12,4,0))","v":"-"},{"$f":"IF(H1880=\"\",\"-\",VLOOKUP(L1880,読み替え表_低炭素物流!$C$15:$F$21,4,0))","v":"-"},"-",null,null,null,null,0,0,0,{"$f":"IF(OR(N1880=7,N1880=99),1,0)","v":0},0,"*"]
[null,null,1873,null,null,null,null,null,null,null,null,null,null,null,null,null,null,null,null,null,null,null,null,null,null,{"$f":"IF(H1881=\"\",\"-\",VLOOKUP(J1881,読み替え表_低炭素物流!$C$4:$F$12,4,0))","v":"-"},{"$f":"IF(H1881=\"\",\"-\",VLOOKUP(L1881,読み替え表_低炭素物流!$C$15:$F$21,4,0))","v":"-"},"-",null,null,null,null,0,0,0,0,0,"*"]
[null,null,1874,null,null,null,null,null,null,null,null,null,null,null,null,null,null,null,null,null,null,null,null,null,null,{"$f":"IF(H1882=\"\",\"-\",VLOOKUP(J1882,読み替え表_低炭素物流!$C$4:$F$12,4,0))","v":"-"},{"$f":"IF(H1882=\"\",\"-\",VLOOKUP(L1882,読み替え表_低炭素物流!$C$15:$F$21,4,0))","v":"-"},"-",null,null,null,null,0,0,0,0,0,"*"]
[null,null,1875,null,null,null,null,null,null,null,null,null,null,null,null,null,null,null,null,null,null,null,null,null,null,{"$f":"IF(H1883=\"\",\"-\",VLOOKUP(J1883,読み替え表_低炭素物流!$C$4:$F$12,4,0))","v":"-"},{"$f":"IF(H1883=\"\",\"-\",VLOOKUP(L1883,読み替え表_低炭素物流!$C$15:$F$21,4,0))","v":"-"},"-",null,null,null,null,0,0,0,0,0,"*"]
[null,null,1876,null,null,null,null,null,null,null,null,null,null,null,null,null,null,null,null,null,null,null,null,null,null,{"$f":"IF(H1884=\"\",\"-\",VLOOKUP(J1884,読み替え表_低炭素物流!$C$4:$F$12,4,0))","v":"-"},{"$f":"IF(H1884=\"\",\"-\",VLOOKUP(L1884,読み替え表_低炭素物流!$C$15:$F$21,4,0))","v":"-"},"-",null,null,null,null,0,0,0,0,0,"*"]
[null,null,1877,null,null,null,null,null,null,null,null,null,null,null,null,null,null,null,null,null,null,null,null,null,null,{"$f":"IF(H1885=\"\",\"-\",VLOOKUP(J1885,読み替え表_低炭素物流!$C$4:$F$12,4,0))","v":"-"},{"$f":"IF(H1885=\"\",\"-\",VLOOKUP(L1885,読み替え表_低炭素物流!$C$15:$F$21,4,0))","v":"-"},"-",null,null,null,null,0,0,0,0,0,"*"]
[null,null,1878,null,null,null,null,null,null,null,null,null,null,null,null,null,null,null,null,null,null,null,null,null,null,{"$f":"IF(H1886=\"\",\"-\",VLOOKUP(J1886,読み替え表_低炭素物流!$C$4:$F$12,4,0))","v":"-"},{"$f":"IF(H1886=\"\",\"-\",VLOOKUP(L1886,読み替え表_低炭素物流!$C$15:$F$21,4,0))","v":"-"},"-",null,null,null,null,0,0,0,0,0,"*"]
[null,null,1879,null,null,null,null,null,null,null,null,null,null,null,null,null,null,null,null,null,null,null,null,null,null,{"$f":"IF(H1887=\"\",\"-\",VLOOKUP(J1887,読み替え表_低炭素物流!$C$4:$F$12,4,0))","v":"-"},{"$f":"IF(H1887=\"\",\"-\",VLOOKUP(L1887,読み替え表_低炭素物流!$C$15:$F$21,4,0))","v":"-"},"-",null,null,null,null,0,0,0,0,0,"*"]
[null,null,1880,null,null,null,null,null,null,null,null,null,null,null,null,null,null,null,null,null,null,null,null,null,null,{"$f":"IF(H1888=\"\",\"-\",VLOOKUP(J1888,読み替え表_低炭素物流!$C$4:$F$12,4,0))","v":"-"},{"$f":"IF(H1888=\"\",\"-\",VLOOKUP(L1888,読み替え表_低炭素物流!$C$15:$F$21,4,0))","v":"-"},"-",null,null,null,null,0,0,0,0,0,"*"]
[null,null,1881,null,null,null,null,null,null,null,null,null,null,null,null,null,null,null,null,null,null,null,null,null,null,{"$f":"IF(H1889=\"\",\"-\",VLOOKUP(J1889,読み替え表_低炭素物流!$C$4:$F$12,4,0))","v":"-"},{"$f":"IF(H1889=\"\",\"-\",VLOOKUP(L1889,読み替え表_低炭素物流!$C$15:$F$21,4,0))","v":"-"},"-",null,null,null,null,0,0,0,0,0,"*"]
[null,null,1882,null,null,null,null,null,null,null,null,null,null,null,null,null,null,null,null,null,null,null,null,null,null,{"$f":"IF(H1890=\"\",\"-\",VLOOKUP(J1890,読み替え表_低炭素物流!$C$4:$F$12,4,0))","v":"-"},{"$f":"IF(H1890=\"\",\"-\",VLOOKUP(L1890,読み替え表_低炭素物流!$C$15:$F$21,4,0))","v":"-"},"-",null,null,null,null,0,0,0,0,0,"*"]
[null,null,1883,null,null,null,null,null,null,null,null,null,null,null,null,null,null,null,null,null,null,null,null,null,null,{"$f":"IF(H1891=\"\",\"-\",VLOOKUP(J1891,読み替え表_低炭素物流!$C$4:$F$12,4,0))","v":"-"},{"$f":"IF(H1891=\"\",\"-\",VLOOKUP(L1891,読み替え表_低炭素物流!$C$15:$F$21,4,0))","v":"-"},"-",null,null,null,null,0,0,0,0,0,"*"]
[null,null,1884,null,null,null,null,null,null,null,null,null,null,null,null,null,null,null,null,null,null,null,null,null,null,{"$f":"IF(H1892=\"\",\"-\",VLOOKUP(J1892,読み替え表_低炭素物流!$C$4:$F$12,4,0))","v":"-"},{"$f":"IF(H1892=\"\",\"-\",VLOOKUP(L1892,読み替え表_低炭素物流!$C$15:$F$21,4,0))","v":"-"},"-",null,null,null,null,0,0,0,0,0,"*"]
[null,null,1885,null,null,null,null,null,null,null,null,null,null,null,null,null,null,null,null,null,null,null,null,null,null,{"$f":"IF(H1893=\"\",\"-\",VLOOKUP(J1893,読み替え表_低炭素物流!$C$4:$F$12,4,0))","v":"-"},{"$f":"IF(H1893=\"\",\"-\",VLOOKUP(L1893,読み替え表_低炭素物流!$C$15:$F$21,4,0))","v":"-"},"-",null,null,null,null,0,0,0,0,0,"*"]
[null,null,1886,null,null,null,null,null,null,null,null,null,null,null,null,null,null,null,null,null,null,null,null,null,null,{"$f":"IF(H1894=\"\",\"-\",VLOOKUP(J1894,読み替え表_低炭素物流!$C$4:$F$12,4,0))","v":"-"},{"$f":"IF(H1894=\"\",\"-\",VLOOKUP(L1894,読み替え表_低炭素物流!$C$15:$F$21,4,0))","v":"-"},"-",null,null,null,null,0,0,0,0,0,"*"]
[null,null,1887,null,null,null,null,null,null,null,null,null,null,null,null,null,null,null,null,null,null,null,null,null,null,{"$f":"IF(H1895=\"\",\"-\",VLOOKUP(J1895,読み替え表_低炭素物流!$C$4:$F$12,4,0))","v":"-"},{"$f":"IF(H1895=\"\",\"-\",VLOOKUP(L1895,読み替え表_低炭素物流!$C$15:$F$21,4,0))","v":"-"},"-",null,null,null,null,0,0,0,0,0,"*"]
[null,null,1888,null,null,null,null,null,null,null,null,null,null,null,null,null,null,null,null,null,null,null,null,null,null,{"$f":"IF(H1896=\"\",\"-\",VLOOKUP(J1896,読み替え表_低炭素物流!$C$4:$F$12,4,0))","v":"-"},{"$f":"IF(H1896=\"\",\"-\",VLOOKUP(L1896,読み替え表_低炭素物流!$C$15:$F$21,4,0))","v":"-"},"-",null,null,null,null,0,0,0,0,0,"*"]
[null,null,1889,null,null,null,null,null,null,null,null,null,null,null,null,null,null,null,null,null,null,null,null,null,null,{"$f":"IF(H1897=\"\",\"-\",VLOOKUP(J1897,読み替え表_低炭素物流!$C$4:$F$12,4,0))","v":"-"},{"$f":"IF(H1897=\"\",\"-\",VLOOKUP(L1897,読み替え表_低炭素物流!$C$15:$F$21,4,0))","v":"-"},"-",null,null,null,null,0,0,0,0,0,"*"]
[null,null,1890,null,null,null,null,null,null,null,null,null,null,null,null,null,null,null,null,null,null,null,null,null,null,{"$f":"IF(H1898=\"\",\"-\",VLOOKUP(J1898,読み替え表_低炭素物流!$C$4:$F$12,4,0))","v":"-"},{"$f":"IF(H1898=\"\",\"-\",VLOOKUP(L1898,読み替え表_低炭素物流!$C$15:$F$21,4,0))","v":"-"},"-",null,null,null,null,0,0,0,0,0,"*"]
[null,null,1891,null,null,null,null,null,null,null,null,null,null,null,null,null,null,null,null,null,null,null,null,null,null,{"$f":"IF(H1899=\"\",\"-\",VLOOKUP(J1899,読み替え表_低炭素物流!$C$4:$F$12,4,0))","v":"-"},{"$f":"IF(H1899=\"\",\"-\",VLOOKUP(L1899,読み替え表_低炭素物流!$C$15:$F$21,4,0))","v":"-"},"-",null,null,null,null,0,0,0,0,0,"*"]
[null,null,1892,null,null,null,null,null,null,null,null,null,null,null,null,null,null,null,null,null,null,null,null,null,null,{"$f":"IF(H1900=\"\",\"-\",VLOOKUP(J1900,読み替え表_低炭素物流!$C$4:$F$12,4,0))","v":"-"},{"$f":"IF(H1900=\"\",\"-\",VLOOKUP(L1900,読み替え表_低炭素物流!$C$15:$F$21,4,0))","v":"-"},"-",null,null,null,null,0,0,0,0,0,"*"]
[null,null,1893,null,null,null,null,null,null,null,null,null,null,null,null,null,null,null,null,null,null,null,null,null,null,{"$f":"IF(H1901=\"\",\"-\",VLOOKUP(J1901,読み替え表_低炭素物流!$C$4:$F$12,4,0))","v":"-"},{"$f":"IF(H1901=\"\",\"-\",VLOOKUP(L1901,読み替え表_低炭素物流!$C$15:$F$21,4,0))","v":"-"},"-",null,null,null,null,0,0,0,0,0,"*"]
[null,null,1894,null,null,null,null,null,null,null,null,null,null,null,null,null,null,null,null,null,null,null,null,null,null,{"$f":"IF(H1902=\"\",\"-\",VLOOKUP(J1902,読み替え表_低炭素物流!$C$4:$F$12,4,0))","v":"-"},{"$f":"IF(H1902=\"\",\"-\",VLOOKUP(L1902,読み替え表_低炭素物流!$C$15:$F$21,4,0))","v":"-"},"-",null,null,null,null,0,0,0,0,0,"*"]
[null,null,1895,null,null,null,null,null,null,null,null,null,null,null,null,null,null,null,null,null,null,null,null,null,null,{"$f":"IF(H1903=\"\",\"-\",VLOOKUP(J1903,読み替え表_低炭素物流!$C$4:$F$12,4,0))","v":"-"},{"$f":"IF(H1903=\"\",\"-\",VLOOKUP(L1903,読み替え表_低炭素物流!$C$15:$F$21,4,0))","v":"-"},"-",null,null,null,null,0,0,0,0,0,"*"]
[null,null,1896,null,null,null,null,null,null,null,null,null,null,null,null,null,null,null,null,null,null,null,null,null,null,{"$f":"IF(H1904=\"\",\"-\",VLOOKUP(J1904,読み替え表_低炭素物流!$C$4:$F$12,4,0))","v":"-"},{"$f":"IF(H1904=\"\",\"-\",VLOOKUP(L1904,読み替え表_低炭素物流!$C$15:$F$21,4,0))","v":"-"},"-",null,null,null,null,0,0,0,0,0,"*"]
[null,null,1897,null,null,null,null,null,null,null,null,null,null,null,null,null,null,null,null,null,null,null,null,null,null,{"$f":"IF(H1905=\"\",\"-\",VLOOKUP(J1905,読み替え表_低炭素物流!$C$4:$F$12,4,0))","v":"-"},{"$f":"IF(H1905=\"\",\"-\",VLOOKUP(L1905,読み替え表_低炭素物流!$C$15:$F$21,4,0))","v":"-"},{"$f":"IF(H1905=\"\",\"-\",Z1905*AA1905)","v":"-"},null,null,null,null,0,{"$f":"IF(J1905=8,1,0)","v":0},{"$f":"IF(L1905=6,1,0)","v":0},0,0,"*"]
[null,null,1898,null,null,null,null,null,null,null,null,null,null,null,null,null,null,null,null,null,null,null,null,null,null,{"$f":"IF(H1906=\"\",\"-\",VLOOKUP(J1906,読み替え表_低炭素物流!$C$4:$F$12,4,0))","v":"-"},{"$f":"IF(H1906=\"\",\"-\",VLOOKUP(L1906,読み替え表_低炭素物流!$C$15:$F$21,4,0))","v":"-"},"-",null,null,null,null,0,0,0,0,0,"*"]
[null,null,1899,null,null,null,null,null,null,null,null,null,null,null,null,null,null,null,null,null,null,null,null,null,null,{"$f":"IF(H1907=\"\",\"-\",VLOOKUP(J1907,読み替え表_低炭素物流!$C$4:$F$12,4,0))","v":"-"},{"$f":"IF(H1907=\"\",\"-\",VLOOKUP(L1907,読み替え表_低炭素物流!$C$15:$F$21,4,0))","v":"-"},"-",null,null,null,null,0,0,0,0,0,"*"]
[null,null,1900,null,null,null,null,null,null,null,null,null,null,null,null,null,null,null,null,null,null,null,null,null,null,{"$f":"IF(H1908=\"\",\"-\",VLOOKUP(J1908,読み替え表_低炭素物流!$C$4:$F$12,4,0))","v":"-"},{"$f":"IF(H1908=\"\",\"-\",VLOOKUP(L1908,読み替え表_低炭素物流!$C$15:$F$21,4,0))","v":"-"},"-",null,null,null,null,0,0,0,0,0,"*"]
[null,null,1901,null,null,null,null,null,null,null,null,null,null,null,null,null,null,null,null,null,null,null,null,null,null,{"$f":"IF(H1909=\"\",\"-\",VLOOKUP(J1909,読み替え表_低炭素物流!$C$4:$F$12,4,0))","v":"-"},{"$f":"IF(H1909=\"\",\"-\",VLOOKUP(L1909,読み替え表_低炭素物流!$C$15:$F$21,4,0))","v":"-"},"-",null,null,null,null,0,0,0,0,0,"*"]
[null,null,1902,null,null,null,null,null,null,null,null,null,null,null,null,null,null,null,null,null,null,null,null,null,null,{"$f":"IF(H1910=\"\",\"-\",VLOOKUP(J1910,読み替え表_低炭素物流!$C$4:$F$12,4,0))","v":"-"},{"$f":"IF(H1910=\"\",\"-\",VLOOKUP(L1910,読み替え表_低炭素物流!$C$15:$F$21,4,0))","v":"-"},"-",null,null,null,null,0,0,0,0,0,"*"]
[null,null,1903,null,null,null,null,null,null,null,null,null,null,null,null,null,null,null,null,null,null,null,null,null,null,{"$f":"IF(H1911=\"\",\"-\",VLOOKUP(J1911,読み替え表_低炭素物流!$C$4:$F$12,4,0))","v":"-"},{"$f":"IF(H1911=\"\",\"-\",VLOOKUP(L1911,読み替え表_低炭素物流!$C$15:$F$21,4,0))","v":"-"},"-",null,null,null,null,0,0,0,0,0,"*"]
[null,null,1904,null,null,null,null,null,null,null,null,null,null,null,null,null,null,null,null,null,null,null,null,null,null,{"$f":"IF(H1912=\"\",\"-\",VLOOKUP(J1912,読み替え表_低炭素物流!$C$4:$F$12,4,0))","v":"-"},{"$f":"IF(H1912=\"\",\"-\",VLOOKUP(L1912,読み替え表_低炭素物流!$C$15:$F$21,4,0))","v":"-"},"-",null,null,null,null,0,0,0,0,0,"*"]
[null,null,1905,null,null,null,null,null,null,null,null,null,null,null,null,null,null,null,null,null,null,null,null,null,null,{"$f":"IF(H1913=\"\",\"-\",VLOOKUP(J1913,読み替え表_低炭素物流!$C$4:$F$12,4,0))","v":"-"},{"$f":"IF(H1913=\"\",\"-\",VLOOKUP(L1913,読み替え表_低炭素物流!$C$15:$F$21,4,0))","v":"-"},"-",null,null,null,null,0,0,0,0,0,"*"]
[null,null,1906,null,null,null,null,null,null,null,null,null,null,null,null,null,null,null,null,null,null,null,null,null,null,{"$f":"IF(H1914=\"\",\"-\",VLOOKUP(J1914,読み替え表_低炭素物流!$C$4:$F$12,4,0))","v":"-"},{"$f":"IF(H1914=\"\",\"-\",VLOOKUP(L1914,読み替え表_低炭素物流!$C$15:$F$21,4,0))","v":"-"},"-",null,null,null,null,0,0,0,0,0,"*"]
[null,null,1907,null,null,null,null,null,null,null,null,null,null,null,null,null,null,null,null,null,null,null,null,null,null,{"$f":"IF(H1915=\"\",\"-\",VLOOKUP(J1915,読み替え表_低炭素物流!$C$4:$F$12,4,0))","v":"-"},{"$f":"IF(H1915=\"\",\"-\",VLOOKUP(L1915,読み替え表_低炭素物流!$C$15:$F$21,4,0))","v":"-"},"-",null,null,null,null,0,0,0,0,0,"*"]
[null,null,1908,null,null,null,null,null,null,null,null,null,null,null,null,null,null,null,null,null,null,null,null,null,null,{"$f":"IF(H1916=\"\",\"-\",VLOOKUP(J1916,読み替え表_低炭素物流!$C$4:$F$12,4,0))","v":"-"},{"$f":"IF(H1916=\"\",\"-\",VLOOKUP(L1916,読み替え表_低炭素物流!$C$15:$F$21,4,0))","v":"-"},"-",null,null,null,null,0,0,0,0,0,"*"]
[null,null,1909,null,null,null,null,null,null,null,null,null,null,null,null,null,null,null,null,null,null,null,null,null,null,{"$f":"IF(H1917=\"\",\"-\",VLOOKUP(J1917,読み替え表_低炭素物流!$C$4:$F$12,4,0))","v":"-"},{"$f":"IF(H1917=\"\",\"-\",VLOOKUP(L1917,読み替え表_低炭素物流!$C$15:$F$21,4,0))","v":"-"},"-",null,null,null,null,0,0,0,0,0,"*"]
[null,null,1910,null,null,null,null,null,null,null,null,null,null,null,null,null,null,null,null,null,null,null,null,null,null,{"$f":"IF(H1918=\"\",\"-\",VLOOKUP(J1918,読み替え表_低炭素物流!$C$4:$F$12,4,0))","v":"-"},{"$f":"IF(H1918=\"\",\"-\",VLOOKUP(L1918,読み替え表_低炭素物流!$C$15:$F$21,4,0))","v":"-"},"-",null,null,null,null,0,0,0,0,0,"*"]
[null,null,1911,null,null,null,null,null,null,null,null,null,null,null,null,null,null,null,null,null,null,null,null,null,null,{"$f":"IF(H1919=\"\",\"-\",VLOOKUP(J1919,読み替え表_低炭素物流!$C$4:$F$12,4,0))","v":"-"},{"$f":"IF(H1919=\"\",\"-\",VLOOKUP(L1919,読み替え表_低炭素物流!$C$15:$F$21,4,0))","v":"-"},"-",null,null,null,null,0,0,0,0,0,"*"]
[null,null,1912,null,null,null,null,null,null,null,null,null,null,null,null,null,null,null,null,null,null,null,null,null,null,{"$f":"IF(H1920=\"\",\"-\",VLOOKUP(J1920,読み替え表_低炭素物流!$C$4:$F$12,4,0))","v":"-"},{"$f":"IF(H1920=\"\",\"-\",VLOOKUP(L1920,読み替え表_低炭素物流!$C$15:$F$21,4,0))","v":"-"},"-",null,null,null,null,0,0,0,0,0,"*"]
[null,null,1913,null,null,null,null,null,null,null,null,null,null,null,null,null,null,null,null,null,null,null,null,null,null,{"$f":"IF(H1921=\"\",\"-\",VLOOKUP(J1921,読み替え表_低炭素物流!$C$4:$F$12,4,0))","v":"-"},{"$f":"IF(H1921=\"\",\"-\",VLOOKUP(L1921,読み替え表_低炭素物流!$C$15:$F$21,4,0))","v":"-"},"-",null,null,null,null,0,0,0,0,0,"*"]
[null,null,1914,null,null,null,null,null,null,null,null,null,null,null,null,null,null,null,null,null,null,null,null,null,null,{"$f":"IF(H1922=\"\",\"-\",VLOOKUP(J1922,読み替え表_低炭素物流!$C$4:$F$12,4,0))","v":"-"},{"$f":"IF(H1922=\"\",\"-\",VLOOKUP(L1922,読み替え表_低炭素物流!$C$15:$F$21,4,0))","v":"-"},"-",null,null,null,null,0,0,0,0,0,"*"]
[null,null,1915,null,null,null,null,null,null,null,null,null,null,null,null,null,null,null,null,null,null,null,null,null,null,{"$f":"IF(H1923=\"\",\"-\",VLOOKUP(J1923,読み替え表_低炭素物流!$C$4:$F$12,4,0))","v":"-"},{"$f":"IF(H1923=\"\",\"-\",VLOOKUP(L1923,読み替え表_低炭素物流!$C$15:$F$21,4,0))","v":"-"},"-",null,null,null,null,0,0,0,0,0,"*"]
[null,null,1916,null,null,null,null,null,null,null,null,null,null,null,null,null,null,null,null,null,null,null,null,null,null,{"$f":"IF(H1924=\"\",\"-\",VLOOKUP(J1924,読み替え表_低炭素物流!$C$4:$F$12,4,0))","v":"-"},{"$f":"IF(H1924=\"\",\"-\",VLOOKUP(L1924,読み替え表_低炭素物流!$C$15:$F$21,4,0))","v":"-"},"-",null,null,null,null,0,0,0,0,0,"*"]
[null,null,1917,null,null,null,null,null,null,null,null,null,null,null,null,null,null,null,null,null,null,null,null,null,null,{"$f":"IF(H1925=\"\",\"-\",VLOOKUP(J1925,読み替え表_低炭素物流!$C$4:$F$12,4,0))","v":"-"},{"$f":"IF(H1925=\"\",\"-\",VLOOKUP(L1925,読み替え表_低炭素物流!$C$15:$F$21,4,0))","v":"-"},"-",null,null,null,null,0,0,0,0,0,"*"]
[null,null,1918,null,null,null,null,null,null,null,null,null,null,null,null,null,null,null,null,null,null,null,null,null,null,{"$f":"IF(H1926=\"\",\"-\",VLOOKUP(J1926,読み替え表_低炭素物流!$C$4:$F$12,4,0))","v":"-"},{"$f":"IF(H1926=\"\",\"-\",VLOOKUP(L1926,読み替え表_低炭素物流!$C$15:$F$21,4,0))","v":"-"},"-",null,null,null,null,0,0,0,0,0,"*"]
[null,null,1919,null,null,null,null,null,null,null,null,null,null,null,null,null,null,null,null,null,null,null,null,null,null,{"$f":"IF(H1927=\"\",\"-\",VLOOKUP(J1927,読み替え表_低炭素物流!$C$4:$F$12,4,0))","v":"-"},{"$f":"IF(H1927=\"\",\"-\",VLOOKUP(L1927,読み替え表_低炭素物流!$C$15:$F$21,4,0))","v":"-"},"-",null,null,null,null,0,0,0,0,0,"*"]
[null,null,1920,null,null,null,null,null,null,null,null,null,null,null,null,null,null,null,null,null,null,null,null,null,null,{"$f":"IF(H1928=\"\",\"-\",VLOOKUP(J1928,読み替え表_低炭素物流!$C$4:$F$12,4,0))","v":"-"},{"$f":"IF(H1928=\"\",\"-\",VLOOKUP(L1928,読み替え表_低炭素物流!$C$15:$F$21,4,0))","v":"-"},"-",null,null,null,null,0,0,0,0,0,"*"]
[null,null,1921,null,null,null,null,null,null,null,null,null,null,null,null,null,null,null,null,null,null,null,null,null,null,{"$f":"IF(H1929=\"\",\"-\",VLOOKUP(J1929,読み替え表_低炭素物流!$C$4:$F$12,4,0))","v":"-"},{"$f":"IF(H1929=\"\",\"-\",VLOOKUP(L1929,読み替え表_低炭素物流!$C$15:$F$21,4,0))","v":"-"},"-",null,null,null,null,{"$f":"IF(N1929=1,IF(OR(L1929=4,L1929=5),0,1),0)","v":0},0,0,0,0,"*"]
[null,null,{"$f":"ROW()-8","v":1922},null,null,null,null,null,null,null,null,null,null,null,null,null,null,null,null,null,null,null,null,null,null,{"$f":"IF(H1930=\"\",\"-\",VLOOKUP(J1930,読み替え表_低炭素物流!$C$4:$F$12,4,0))","v":"-"},{"$f":"IF(H1930=\"\",\"-\",VLOOKUP(L1930,読み替え表_低炭素物流!$C$15:$F$21,4,0))","v":"-"},"-",null,null,null,null,0,0,0,0,{"$f":"AG1930","v":0},"*"]
[null,null,1923,null,null,null,null,null,null,null,null,null,null,null,null,null,null,null,null,null,null,null,null,null,null,{"$f":"IF(H1931=\"\",\"-\",VLOOKUP(J1931,読み替え表_低炭素物流!$C$4:$F$12,4,0))","v":"-"},{"$f":"IF(H1931=\"\",\"-\",VLOOKUP(L1931,読み替え表_低炭素物流!$C$15:$F$21,4,0))","v":"-"},"-",null,null,null,null,0,0,0,0,0,"*"]
[null,null,1924,null,null,null,null,null,null,null,null,null,null,null,null,null,null,null,null,null,null,null,null,null,null,{"$f":"IF(H1932=\"\",\"-\",VLOOKUP(J1932,読み替え表_低炭素物流!$C$4:$F$12,4,0))","v":"-"},{"$f":"IF(H1932=\"\",\"-\",VLOOKUP(L1932,読み替え表_低炭素物流!$C$15:$F$21,4,0))","v":"-"},"-",null,null,null,null,0,0,0,0,0,"*"]
[null,null,1925,null,null,null,null,null,null,null,null,null,null,null,null,null,null,null,null,null,null,null,null,null,null,{"$f":"IF(H1933=\"\",\"-\",VLOOKUP(J1933,読み替え表_低炭素物流!$C$4:$F$12,4,0))","v":"-"},{"$f":"IF(H1933=\"\",\"-\",VLOOKUP(L1933,読み替え表_低炭素物流!$C$15:$F$21,4,0))","v":"-"},"-",null,null,null,null,0,0,0,0,0,"*"]
[null,null,1926,null,null,null,null,null,null,null,null,null,null,null,null,null,null,null,null,null,null,null,null,null,null,{"$f":"IF(H1934=\"\",\"-\",VLOOKUP(J1934,読み替え表_低炭素物流!$C$4:$F$12,4,0))","v":"-"},{"$f":"IF(H1934=\"\",\"-\",VLOOKUP(L1934,読み替え表_低炭素物流!$C$15:$F$21,4,0))","v":"-"},"-",null,null,null,null,0,0,0,0,0,"*"]
[null,null,1927,null,null,null,null,null,null,null,null,null,null,null,null,null,null,null,null,null,null,null,null,null,null,{"$f":"IF(H1935=\"\",\"-\",VLOOKUP(J1935,読み替え表_低炭素物流!$C$4:$F$12,4,0))","v":"-"},{"$f":"IF(H1935=\"\",\"-\",VLOOKUP(L1935,読み替え表_低炭素物流!$C$15:$F$21,4,0))","v":"-"},"-",null,null,null,null,0,0,0,0,0,"*"]
[null,null,1928,null,null,null,null,null,null,null,null,null,null,null,null,null,null,null,null,null,null,null,null,null,null,{"$f":"IF(H1936=\"\",\"-\",VLOOKUP(J1936,読み替え表_低炭素物流!$C$4:$F$12,4,0))","v":"-"},{"$f":"IF(H1936=\"\",\"-\",VLOOKUP(L1936,読み替え表_低炭素物流!$C$15:$F$21,4,0))","v":"-"},"-",null,null,null,null,0,0,0,0,0,"*"]
[null,null,1929,null,null,null,null,null,null,null,null,null,null,null,null,null,null,null,null,null,null,null,null,null,null,{"$f":"IF(H1937=\"\",\"-\",VLOOKUP(J1937,読み替え表_低炭素物流!$C$4:$F$12,4,0))","v":"-"},{"$f":"IF(H1937=\"\",\"-\",VLOOKUP(L1937,読み替え表_低炭素物流!$C$15:$F$21,4,0))","v":"-"},"-",null,null,null,null,0,0,0,0,0,"*"]
[null,null,1930,null,null,null,null,null,null,null,null,null,null,null,null,null,null,null,null,null,null,null,null,null,null,{"$f":"IF(H1938=\"\",\"-\",VLOOKUP(J1938,読み替え表_低炭素物流!$C$4:$F$12,4,0))","v":"-"},{"$f":"IF(H1938=\"\",\"-\",VLOOKUP(L1938,読み替え表_低炭素物流!$C$15:$F$21,4,0))","v":"-"},"-",null,null,null,null,0,0,0,0,0,"*"]
[null,null,1931,null,null,null,null,null,null,null,null,null,null,null,null,null,null,null,null,null,null,null,null,null,null,{"$f":"IF(H1939=\"\",\"-\",VLOOKUP(J1939,読み替え表_低炭素物流!$C$4:$F$12,4,0))","v":"-"},{"$f":"IF(H1939=\"\",\"-\",VLOOKUP(L1939,読み替え表_低炭素物流!$C$15:$F$21,4,0))","v":"-"},"-",null,null,null,null,0,0,0,0,0,"*"]
[null,null,1932,null,null,null,null,null,null,null,null,null,null,null,null,null,null,null,null,null,null,null,null,null,null,{"$f":"IF(H1940=\"\",\"-\",VLOOKUP(J1940,読み替え表_低炭素物流!$C$4:$F$12,4,0))","v":"-"},{"$f":"IF(H1940=\"\",\"-\",VLOOKUP(L1940,読み替え表_低炭素物流!$C$15:$F$21,4,0))","v":"-"},"-",null,null,null,null,0,0,0,0,0,"*"]
[null,null,1933,null,null,null,null,null,null,null,null,null,null,null,null,null,null,null,null,null,null,null,null,null,null,{"$f":"IF(H1941=\"\",\"-\",VLOOKUP(J1941,読み替え表_低炭素物流!$C$4:$F$12,4,0))","v":"-"},{"$f":"IF(H1941=\"\",\"-\",VLOOKUP(L1941,読み替え表_低炭素物流!$C$15:$F$21,4,0))","v":"-"},"-",null,null,null,null,0,0,0,0,0,"*"]
[null,null,1934,null,null,null,null,null,null,null,null,null,null,null,null,null,null,null,null,null,null,null,null,null,null,{"$f":"IF(H1942=\"\",\"-\",VLOOKUP(J1942,読み替え表_低炭素物流!$C$4:$F$12,4,0))","v":"-"},{"$f":"IF(H1942=\"\",\"-\",VLOOKUP(L1942,読み替え表_低炭素物流!$C$15:$F$21,4,0))","v":"-"},"-",null,null,null,null,0,0,0,0,0,"*"]
[null,null,1935,null,null,null,null,null,null,null,null,null,null,null,null,null,null,null,null,null,null,null,null,null,null,{"$f":"IF(H1943=\"\",\"-\",VLOOKUP(J1943,読み替え表_低炭素物流!$C$4:$F$12,4,0))","v":"-"},{"$f":"IF(H1943=\"\",\"-\",VLOOKUP(L1943,読み替え表_低炭素物流!$C$15:$F$21,4,0))","v":"-"},"-",null,null,null,null,0,0,0,0,0,"*"]
[null,null,1936,null,null,null,null,null,null,null,null,null,null,null,null,null,null,null,null,null,null,null,null,null,null,{"$f":"IF(H1944=\"\",\"-\",VLOOKUP(J1944,読み替え表_低炭素物流!$C$4:$F$12,4,0))","v":"-"},{"$f":"IF(H1944=\"\",\"-\",VLOOKUP(L1944,読み替え表_低炭素物流!$C$15:$F$21,4,0))","v":"-"},"-",null,null,null,null,0,0,0,{"$f":"IF(OR(N1944=7,N1944=99),1,0)","v":0},0,"*"]
[null,null,1937,null,null,null,null,null,null,null,null,null,null,null,null,null,null,null,null,null,null,null,null,null,null,{"$f":"IF(H1945=\"\",\"-\",VLOOKUP(J1945,読み替え表_低炭素物流!$C$4:$F$12,4,0))","v":"-"},{"$f":"IF(H1945=\"\",\"-\",VLOOKUP(L1945,読み替え表_低炭素物流!$C$15:$F$21,4,0))","v":"-"},"-",null,null,null,null,0,0,0,0,0,"*"]
[null,null,1938,null,null,null,null,null,null,null,null,null,null,null,null,null,null,null,null,null,null,null,null,null,null,{"$f":"IF(H1946=\"\",\"-\",VLOOKUP(J1946,読み替え表_低炭素物流!$C$4:$F$12,4,0))","v":"-"},{"$f":"IF(H1946=\"\",\"-\",VLOOKUP(L1946,読み替え表_低炭素物流!$C$15:$F$21,4,0))","v":"-"},"-",null,null,null,null,0,0,0,0,0,"*"]
[null,null,1939,null,null,null,null,null,null,null,null,null,null,null,null,null,null,null,null,null,null,null,null,null,null,{"$f":"IF(H1947=\"\",\"-\",VLOOKUP(J1947,読み替え表_低炭素物流!$C$4:$F$12,4,0))","v":"-"},{"$f":"IF(H1947=\"\",\"-\",VLOOKUP(L1947,読み替え表_低炭素物流!$C$15:$F$21,4,0))","v":"-"},"-",null,null,null,null,0,0,0,0,0,"*"]
[null,null,1940,null,null,null,null,null,null,null,null,null,null,null,null,null,null,null,null,null,null,null,null,null,null,{"$f":"IF(H1948=\"\",\"-\",VLOOKUP(J1948,読み替え表_低炭素物流!$C$4:$F$12,4,0))","v":"-"},{"$f":"IF(H1948=\"\",\"-\",VLOOKUP(L1948,読み替え表_低炭素物流!$C$15:$F$21,4,0))","v":"-"},"-",null,null,null,null,0,0,0,0,0,"*"]
[null,null,1941,null,null,null,null,null,null,null,null,null,null,null,null,null,null,null,null,null,null,null,null,null,null,{"$f":"IF(H1949=\"\",\"-\",VLOOKUP(J1949,読み替え表_低炭素物流!$C$4:$F$12,4,0))","v":"-"},{"$f":"IF(H1949=\"\",\"-\",VLOOKUP(L1949,読み替え表_低炭素物流!$C$15:$F$21,4,0))","v":"-"},"-",null,null,null,null,0,0,0,0,0,"*"]
[null,null,1942,null,null,null,null,null,null,null,null,null,null,null,null,null,null,null,null,null,null,null,null,null,null,{"$f":"IF(H1950=\"\",\"-\",VLOOKUP(J1950,読み替え表_低炭素物流!$C$4:$F$12,4,0))","v":"-"},{"$f":"IF(H1950=\"\",\"-\",VLOOKUP(L1950,読み替え表_低炭素物流!$C$15:$F$21,4,0))","v":"-"},"-",null,null,null,null,0,0,0,0,0,"*"]
[null,null,1943,null,null,null,null,null,null,null,null,null,null,null,null,null,null,null,null,null,null,null,null,null,null,{"$f":"IF(H1951=\"\",\"-\",VLOOKUP(J1951,読み替え表_低炭素物流!$C$4:$F$12,4,0))","v":"-"},{"$f":"IF(H1951=\"\",\"-\",VLOOKUP(L1951,読み替え表_低炭素物流!$C$15:$F$21,4,0))","v":"-"},"-",null,null,null,null,0,0,0,0,0,"*"]
[null,null,1944,null,null,null,null,null,null,null,null,null,null,null,null,null,null,null,null,null,null,null,null,null,null,{"$f":"IF(H1952=\"\",\"-\",VLOOKUP(J1952,読み替え表_低炭素物流!$C$4:$F$12,4,0))","v":"-"},{"$f":"IF(H1952=\"\",\"-\",VLOOKUP(L1952,読み替え表_低炭素物流!$C$15:$F$21,4,0))","v":"-"},"-",null,null,null,null,0,0,0,0,0,"*"]
[null,null,1945,null,null,null,null,null,null,null,null,null,null,null,null,null,null,null,null,null,null,null,null,null,null,{"$f":"IF(H1953=\"\",\"-\",VLOOKUP(J1953,読み替え表_低炭素物流!$C$4:$F$12,4,0))","v":"-"},{"$f":"IF(H1953=\"\",\"-\",VLOOKUP(L1953,読み替え表_低炭素物流!$C$15:$F$21,4,0))","v":"-"},"-",null,null,null,null,0,0,0,0,0,"*"]
[null,null,1946,null,null,null,null,null,null,null,null,null,null,null,null,null,null,null,null,null,null,null,null,null,null,{"$f":"IF(H1954=\"\",\"-\",VLOOKUP(J1954,読み替え表_低炭素物流!$C$4:$F$12,4,0))","v":"-"},{"$f":"IF(H1954=\"\",\"-\",VLOOKUP(L1954,読み替え表_低炭素物流!$C$15:$F$21,4,0))","v":"-"},"-",null,null,null,null,0,0,0,0,0,"*"]
[null,null,1947,null,null,null,null,null,null,null,null,null,null,null,null,null,null,null,null,null,null,null,null,null,null,{"$f":"IF(H1955=\"\",\"-\",VLOOKUP(J1955,読み替え表_低炭素物流!$C$4:$F$12,4,0))","v":"-"},{"$f":"IF(H1955=\"\",\"-\",VLOOKUP(L1955,読み替え表_低炭素物流!$C$15:$F$21,4,0))","v":"-"},"-",null,null,null,null,0,0,0,0,0,"*"]
[null,null,1948,null,null,null,null,null,null,null,null,null,null,null,null,null,null,null,null,null,null,null,null,null,null,{"$f":"IF(H1956=\"\",\"-\",VLOOKUP(J1956,読み替え表_低炭素物流!$C$4:$F$12,4,0))","v":"-"},{"$f":"IF(H1956=\"\",\"-\",VLOOKUP(L1956,読み替え表_低炭素物流!$C$15:$F$21,4,0))","v":"-"},"-",null,null,null,null,0,0,0,0,0,"*"]
[null,null,1949,null,null,null,null,null,null,null,null,null,null,null,null,null,null,null,null,null,null,null,null,null,null,{"$f":"IF(H1957=\"\",\"-\",VLOOKUP(J1957,読み替え表_低炭素物流!$C$4:$F$12,4,0))","v":"-"},{"$f":"IF(H1957=\"\",\"-\",VLOOKUP(L1957,読み替え表_低炭素物流!$C$15:$F$21,4,0))","v":"-"},"-",null,null,null,null,0,0,0,0,0,"*"]
[null,null,1950,null,null,null,null,null,null,null,null,null,null,null,null,null,null,null,null,null,null,null,null,null,null,{"$f":"IF(H1958=\"\",\"-\",VLOOKUP(J1958,読み替え表_低炭素物流!$C$4:$F$12,4,0))","v":"-"},{"$f":"IF(H1958=\"\",\"-\",VLOOKUP(L1958,読み替え表_低炭素物流!$C$15:$F$21,4,0))","v":"-"},"-",null,null,null,null,0,0,0,0,0,"*"]
[null,null,1951,null,null,null,null,null,null,null,null,null,null,null,null,null,null,null,null,null,null,null,null,null,null,{"$f":"IF(H1959=\"\",\"-\",VLOOKUP(J1959,読み替え表_低炭素物流!$C$4:$F$12,4,0))","v":"-"},{"$f":"IF(H1959=\"\",\"-\",VLOOKUP(L1959,読み替え表_低炭素物流!$C$15:$F$21,4,0))","v":"-"},"-",null,null,null,null,0,0,0,0,0,"*"]
[null,null,1952,null,null,null,null,null,null,null,null,null,null,null,null,null,null,null,null,null,null,null,null,null,null,{"$f":"IF(H1960=\"\",\"-\",VLOOKUP(J1960,読み替え表_低炭素物流!$C$4:$F$12,4,0))","v":"-"},{"$f":"IF(H1960=\"\",\"-\",VLOOKUP(L1960,読み替え表_低炭素物流!$C$15:$F$21,4,0))","v":"-"},"-",null,null,null,null,0,0,0,0,0,"*"]
[null,null,1953,null,null,null,null,null,null,null,null,null,null,null,null,null,null,null,null,null,null,null,null,null,null,{"$f":"IF(H1961=\"\",\"-\",VLOOKUP(J1961,読み替え表_低炭素物流!$C$4:$F$12,4,0))","v":"-"},{"$f":"IF(H1961=\"\",\"-\",VLOOKUP(L1961,読み替え表_低炭素物流!$C$15:$F$21,4,0))","v":"-"},"-",null,null,null,null,0,0,0,0,0,"*"]
[null,null,1954,null,null,null,null,null,null,null,null,null,null,null,null,null,null,null,null,null,null,null,null,null,null,{"$f":"IF(H1962=\"\",\"-\",VLOOKUP(J1962,読み替え表_低炭素物流!$C$4:$F$12,4,0))","v":"-"},{"$f":"IF(H1962=\"\",\"-\",VLOOKUP(L1962,読み替え表_低炭素物流!$C$15:$F$21,4,0))","v":"-"},"-",null,null,null,null,0,0,0,0,0,"*"]
[null,null,1955,null,null,null,null,null,null,null,null,null,null,null,null,null,null,null,null,null,null,null,null,null,null,{"$f":"IF(H1963=\"\",\"-\",VLOOKUP(J1963,読み替え表_低炭素物流!$C$4:$F$12,4,0))","v":"-"},{"$f":"IF(H1963=\"\",\"-\",VLOOKUP(L1963,読み替え表_低炭素物流!$C$15:$F$21,4,0))","v":"-"},"-",null,null,null,null,0,0,0,0,0,"*"]
[null,null,1956,null,null,null,null,null,null,null,null,null,null,null,null,null,null,null,null,null,null,null,null,null,null,{"$f":"IF(H1964=\"\",\"-\",VLOOKUP(J1964,読み替え表_低炭素物流!$C$4:$F$12,4,0))","v":"-"},{"$f":"IF(H1964=\"\",\"-\",VLOOKUP(L1964,読み替え表_低炭素物流!$C$15:$F$21,4,0))","v":"-"},"-",null,null,null,null,0,0,0,0,0,"*"]
[null,null,1957,null,null,null,null,null,null,null,null,null,null,null,null,null,null,null,null,null,null,null,null,null,null,{"$f":"IF(H1965=\"\",\"-\",VLOOKUP(J1965,読み替え表_低炭素物流!$C$4:$F$12,4,0))","v":"-"},{"$f":"IF(H1965=\"\",\"-\",VLOOKUP(L1965,読み替え表_低炭素物流!$C$15:$F$21,4,0))","v":"-"},"-",null,null,null,null,0,0,0,0,0,"*"]
[null,null,1958,null,null,null,null,null,null,null,null,null,null,null,null,null,null,null,null,null,null,null,null,null,null,{"$f":"IF(H1966=\"\",\"-\",VLOOKUP(J1966,読み替え表_低炭素物流!$C$4:$F$12,4,0))","v":"-"},{"$f":"IF(H1966=\"\",\"-\",VLOOKUP(L1966,読み替え表_低炭素物流!$C$15:$F$21,4,0))","v":"-"},"-",null,null,null,null,0,0,0,0,0,"*"]
[null,null,1959,null,null,null,null,null,null,null,null,null,null,null,null,null,null,null,null,null,null,null,null,null,null,{"$f":"IF(H1967=\"\",\"-\",VLOOKUP(J1967,読み替え表_低炭素物流!$C$4:$F$12,4,0))","v":"-"},{"$f":"IF(H1967=\"\",\"-\",VLOOKUP(L1967,読み替え表_低炭素物流!$C$15:$F$21,4,0))","v":"-"},"-",null,null,null,null,0,0,0,0,0,"*"]
[null,null,1960,null,null,null,null,null,null,null,null,null,null,null,null,null,null,null,null,null,null,null,null,null,null,{"$f":"IF(H1968=\"\",\"-\",VLOOKUP(J1968,読み替え表_低炭素物流!$C$4:$F$12,4,0))","v":"-"},{"$f":"IF(H1968=\"\",\"-\",VLOOKUP(L1968,読み替え表_低炭素物流!$C$15:$F$21,4,0))","v":"-"},"-",null,null,null,null,0,0,0,0,0,"*"]
[null,null,1961,null,null,null,null,null,null,null,null,null,null,null,null,null,null,null,null,null,null,null,null,null,null,{"$f":"IF(H1969=\"\",\"-\",VLOOKUP(J1969,読み替え表_低炭素物流!$C$4:$F$12,4,0))","v":"-"},{"$f":"IF(H1969=\"\",\"-\",VLOOKUP(L1969,読み替え表_低炭素物流!$C$15:$F$21,4,0))","v":"-"},{"$f":"IF(H1969=\"\",\"-\",Z1969*AA1969)","v":"-"},null,null,null,null,0,{"$f":"IF(J1969=8,1,0)","v":0},{"$f":"IF(L1969=6,1,0)","v":0},0,0,"*"]
[null,null,1962,null,null,null,null,null,null,null,null,null,null,null,null,null,null,null,null,null,null,null,null,null,null,{"$f":"IF(H1970=\"\",\"-\",VLOOKUP(J1970,読み替え表_低炭素物流!$C$4:$F$12,4,0))","v":"-"},{"$f":"IF(H1970=\"\",\"-\",VLOOKUP(L1970,読み替え表_低炭素物流!$C$15:$F$21,4,0))","v":"-"},"-",null,null,null,null,0,0,0,0,0,"*"]
[null,null,1963,null,null,null,null,null,null,null,null,null,null,null,null,null,null,null,null,null,null,null,null,null,null,{"$f":"IF(H1971=\"\",\"-\",VLOOKUP(J1971,読み替え表_低炭素物流!$C$4:$F$12,4,0))","v":"-"},{"$f":"IF(H1971=\"\",\"-\",VLOOKUP(L1971,読み替え表_低炭素物流!$C$15:$F$21,4,0))","v":"-"},"-",null,null,null,null,0,0,0,0,0,"*"]
[null,null,1964,null,null,null,null,null,null,null,null,null,null,null,null,null,null,null,null,null,null,null,null,null,null,{"$f":"IF(H1972=\"\",\"-\",VLOOKUP(J1972,読み替え表_低炭素物流!$C$4:$F$12,4,0))","v":"-"},{"$f":"IF(H1972=\"\",\"-\",VLOOKUP(L1972,読み替え表_低炭素物流!$C$15:$F$21,4,0))","v":"-"},"-",null,null,null,null,0,0,0,0,0,"*"]
[null,null,1965,null,null,null,null,null,null,null,null,null,null,null,null,null,null,null,null,null,null,null,null,null,null,{"$f":"IF(H1973=\"\",\"-\",VLOOKUP(J1973,読み替え表_低炭素物流!$C$4:$F$12,4,0))","v":"-"},{"$f":"IF(H1973=\"\",\"-\",VLOOKUP(L1973,読み替え表_低炭素物流!$C$15:$F$21,4,0))","v":"-"},"-",null,null,null,null,0,0,0,0,0,"*"]
[null,null,1966,null,null,null,null,null,null,null,null,null,null,null,null,null,null,null,null,null,null,null,null,null,null,{"$f":"IF(H1974=\"\",\"-\",VLOOKUP(J1974,読み替え表_低炭素物流!$C$4:$F$12,4,0))","v":"-"},{"$f":"IF(H1974=\"\",\"-\",VLOOKUP(L1974,読み替え表_低炭素物流!$C$15:$F$21,4,0))","v":"-"},"-",null,null,null,null,0,0,0,0,0,"*"]
[null,null,1967,null,null,null,null,null,null,null,null,null,null,null,null,null,null,null,null,null,null,null,null,null,null,{"$f":"IF(H1975=\"\",\"-\",VLOOKUP(J1975,読み替え表_低炭素物流!$C$4:$F$12,4,0))","v":"-"},{"$f":"IF(H1975=\"\",\"-\",VLOOKUP(L1975,読み替え表_低炭素物流!$C$15:$F$21,4,0))","v":"-"},"-",null,null,null,null,0,0,0,0,0,"*"]
[null,null,1968,null,null,null,null,null,null,null,null,null,null,null,null,null,null,null,null,null,null,null,null,null,null,{"$f":"IF(H1976=\"\",\"-\",VLOOKUP(J1976,読み替え表_低炭素物流!$C$4:$F$12,4,0))","v":"-"},{"$f":"IF(H1976=\"\",\"-\",VLOOKUP(L1976,読み替え表_低炭素物流!$C$15:$F$21,4,0))","v":"-"},"-",null,null,null,null,0,0,0,0,0,"*"]
[null,null,1969,null,null,null,null,null,null,null,null,null,null,null,null,null,null,null,null,null,null,null,null,null,null,{"$f":"IF(H1977=\"\",\"-\",VLOOKUP(J1977,読み替え表_低炭素物流!$C$4:$F$12,4,0))","v":"-"},{"$f":"IF(H1977=\"\",\"-\",VLOOKUP(L1977,読み替え表_低炭素物流!$C$15:$F$21,4,0))","v":"-"},"-",null,null,null,null,0,0,0,0,0,"*"]
[null,null,1970,null,null,null,null,null,null,null,null,null,null,null,null,null,null,null,null,null,null,null,null,null,null,{"$f":"IF(H1978=\"\",\"-\",VLOOKUP(J1978,読み替え表_低炭素物流!$C$4:$F$12,4,0))","v":"-"},{"$f":"IF(H1978=\"\",\"-\",VLOOKUP(L1978,読み替え表_低炭素物流!$C$15:$F$21,4,0))","v":"-"},"-",null,null,null,null,0,0,0,0,0,"*"]
[null,null,1971,null,null,null,null,null,null,null,null,null,null,null,null,null,null,null,null,null,null,null,null,null,null,{"$f":"IF(H1979=\"\",\"-\",VLOOKUP(J1979,読み替え表_低炭素物流!$C$4:$F$12,4,0))","v":"-"},{"$f":"IF(H1979=\"\",\"-\",VLOOKUP(L1979,読み替え表_低炭素物流!$C$15:$F$21,4,0))","v":"-"},"-",null,null,null,null,0,0,0,0,0,"*"]
[null,null,1972,null,null,null,null,null,null,null,null,null,null,null,null,null,null,null,null,null,null,null,null,null,null,{"$f":"IF(H1980=\"\",\"-\",VLOOKUP(J1980,読み替え表_低炭素物流!$C$4:$F$12,4,0))","v":"-"},{"$f":"IF(H1980=\"\",\"-\",VLOOKUP(L1980,読み替え表_低炭素物流!$C$15:$F$21,4,0))","v":"-"},"-",null,null,null,null,0,0,0,0,0,"*"]
[null,null,1973,null,null,null,null,null,null,null,null,null,null,null,null,null,null,null,null,null,null,null,null,null,null,{"$f":"IF(H1981=\"\",\"-\",VLOOKUP(J1981,読み替え表_低炭素物流!$C$4:$F$12,4,0))","v":"-"},{"$f":"IF(H1981=\"\",\"-\",VLOOKUP(L1981,読み替え表_低炭素物流!$C$15:$F$21,4,0))","v":"-"},"-",null,null,null,null,0,0,0,0,0,"*"]
[null,null,1974,null,null,null,null,null,null,null,null,null,null,null,null,null,null,null,null,null,null,null,null,null,null,{"$f":"IF(H1982=\"\",\"-\",VLOOKUP(J1982,読み替え表_低炭素物流!$C$4:$F$12,4,0))","v":"-"},{"$f":"IF(H1982=\"\",\"-\",VLOOKUP(L1982,読み替え表_低炭素物流!$C$15:$F$21,4,0))","v":"-"},"-",null,null,null,null,0,0,0,0,0,"*"]
[null,null,1975,null,null,null,null,null,null,null,null,null,null,null,null,null,null,null,null,null,null,null,null,null,null,{"$f":"IF(H1983=\"\",\"-\",VLOOKUP(J1983,読み替え表_低炭素物流!$C$4:$F$12,4,0))","v":"-"},{"$f":"IF(H1983=\"\",\"-\",VLOOKUP(L1983,読み替え表_低炭素物流!$C$15:$F$21,4,0))","v":"-"},"-",null,null,null,null,0,0,0,0,0,"*"]
[null,null,1976,null,null,null,null,null,null,null,null,null,null,null,null,null,null,null,null,null,null,null,null,null,null,{"$f":"IF(H1984=\"\",\"-\",VLOOKUP(J1984,読み替え表_低炭素物流!$C$4:$F$12,4,0))","v":"-"},{"$f":"IF(H1984=\"\",\"-\",VLOOKUP(L1984,読み替え表_低炭素物流!$C$15:$F$21,4,0))","v":"-"},"-",null,null,null,null,0,0,0,0,0,"*"]
[null,null,1977,null,null,null,null,null,null,null,null,null,null,null,null,null,null,null,null,null,null,null,null,null,null,{"$f":"IF(H1985=\"\",\"-\",VLOOKUP(J1985,読み替え表_低炭素物流!$C$4:$F$12,4,0))","v":"-"},{"$f":"IF(H1985=\"\",\"-\",VLOOKUP(L1985,読み替え表_低炭素物流!$C$15:$F$21,4,0))","v":"-"},"-",null,null,null,null,0,0,0,0,0,"*"]
[null,null,1978,null,null,null,null,null,null,null,null,null,null,null,null,null,null,null,null,null,null,null,null,null,null,{"$f":"IF(H1986=\"\",\"-\",VLOOKUP(J1986,読み替え表_低炭素物流!$C$4:$F$12,4,0))","v":"-"},{"$f":"IF(H1986=\"\",\"-\",VLOOKUP(L1986,読み替え表_低炭素物流!$C$15:$F$21,4,0))","v":"-"},"-",null,null,null,null,0,0,0,0,0,"*"]
[null,null,1979,null,null,null,null,null,null,null,null,null,null,null,null,null,null,null,null,null,null,null,null,null,null,{"$f":"IF(H1987=\"\",\"-\",VLOOKUP(J1987,読み替え表_低炭素物流!$C$4:$F$12,4,0))","v":"-"},{"$f":"IF(H1987=\"\",\"-\",VLOOKUP(L1987,読み替え表_低炭素物流!$C$15:$F$21,4,0))","v":"-"},"-",null,null,null,null,0,0,0,0,0,"*"]
[null,null,1980,null,null,null,null,null,null,null,null,null,null,null,null,null,null,null,null,null,null,null,null,null,null,{"$f":"IF(H1988=\"\",\"-\",VLOOKUP(J1988,読み替え表_低炭素物流!$C$4:$F$12,4,0))","v":"-"},{"$f":"IF(H1988=\"\",\"-\",VLOOKUP(L1988,読み替え表_低炭素物流!$C$15:$F$21,4,0))","v":"-"},"-",null,null,null,null,0,0,0,0,0,"*"]
[null,null,1981,null,null,null,null,null,null,null,null,null,null,null,null,null,null,null,null,null,null,null,null,null,null,{"$f":"IF(H1989=\"\",\"-\",VLOOKUP(J1989,読み替え表_低炭素物流!$C$4:$F$12,4,0))","v":"-"},{"$f":"IF(H1989=\"\",\"-\",VLOOKUP(L1989,読み替え表_低炭素物流!$C$15:$F$21,4,0))","v":"-"},"-",null,null,null,null,0,0,0,0,0,"*"]
[null,null,1982,null,null,null,null,null,null,null,null,null,null,null,null,null,null,null,null,null,null,null,null,null,null,{"$f":"IF(H1990=\"\",\"-\",VLOOKUP(J1990,読み替え表_低炭素物流!$C$4:$F$12,4,0))","v":"-"},{"$f":"IF(H1990=\"\",\"-\",VLOOKUP(L1990,読み替え表_低炭素物流!$C$15:$F$21,4,0))","v":"-"},"-",null,null,null,null,0,0,0,0,0,"*"]
[null,null,1983,null,null,null,null,null,null,null,null,null,null,null,null,null,null,null,null,null,null,null,null,null,null,{"$f":"IF(H1991=\"\",\"-\",VLOOKUP(J1991,読み替え表_低炭素物流!$C$4:$F$12,4,0))","v":"-"},{"$f":"IF(H1991=\"\",\"-\",VLOOKUP(L1991,読み替え表_低炭素物流!$C$15:$F$21,4,0))","v":"-"},"-",null,null,null,null,0,0,0,0,0,"*"]
[null,null,1984,null,null,null,null,null,null,null,null,null,null,null,null,null,null,null,null,null,null,null,null,null,null,{"$f":"IF(H1992=\"\",\"-\",VLOOKUP(J1992,読み替え表_低炭素物流!$C$4:$F$12,4,0))","v":"-"},{"$f":"IF(H1992=\"\",\"-\",VLOOKUP(L1992,読み替え表_低炭素物流!$C$15:$F$21,4,0))","v":"-"},"-",null,null,null,null,0,0,0,0,0,"*"]
[null,null,1985,null,null,null,null,null,null,null,null,null,null,null,null,null,null,null,null,null,null,null,null,null,null,{"$f":"IF(H1993=\"\",\"-\",VLOOKUP(J1993,読み替え表_低炭素物流!$C$4:$F$12,4,0))","v":"-"},{"$f":"IF(H1993=\"\",\"-\",VLOOKUP(L1993,読み替え表_低炭素物流!$C$15:$F$21,4,0))","v":"-"},"-",null,null,null,null,{"$f":"IF(N1993=1,IF(OR(L1993=4,L1993=5),0,1),0)","v":0},0,0,0,0,"*"]
[null,null,{"$f":"ROW()-8","v":1986},null,null,null,null,null,null,null,null,null,null,null,null,null,null,null,null,null,null,null,null,null,null,{"$f":"IF(H1994=\"\",\"-\",VLOOKUP(J1994,読み替え表_低炭素物流!$C$4:$F$12,4,0))","v":"-"},{"$f":"IF(H1994=\"\",\"-\",VLOOKUP(L1994,読み替え表_低炭素物流!$C$15:$F$21,4,0))","v":"-"},"-",null,null,null,null,0,0,0,0,{"$f":"AG1994","v":0},"*"]
[null,null,1987,null,null,null,null,null,null,null,null,null,null,null,null,null,null,null,null,null,null,null,null,null,null,{"$f":"IF(H1995=\"\",\"-\",VLOOKUP(J1995,読み替え表_低炭素物流!$C$4:$F$12,4,0))","v":"-"},{"$f":"IF(H1995=\"\",\"-\",VLOOKUP(L1995,読み替え表_低炭素物流!$C$15:$F$21,4,0))","v":"-"},"-",null,null,null,null,0,0,0,0,0,"*"]
[null,null,1988,null,null,null,null,null,null,null,null,null,null,null,null,null,null,null,null,null,null,null,null,null,null,{"$f":"IF(H1996=\"\",\"-\",VLOOKUP(J1996,読み替え表_低炭素物流!$C$4:$F$12,4,0))","v":"-"},{"$f":"IF(H1996=\"\",\"-\",VLOOKUP(L1996,読み替え表_低炭素物流!$C$15:$F$21,4,0))","v":"-"},"-",null,null,null,null,0,0,0,0,0,"*"]
[null,null,1989,null,null,null,null,null,null,null,null,null,null,null,null,null,null,null,null,null,null,null,null,null,null,{"$f":"IF(H1997=\"\",\"-\",VLOOKUP(J1997,読み替え表_低炭素物流!$C$4:$F$12,4,0))","v":"-"},{"$f":"IF(H1997=\"\",\"-\",VLOOKUP(L1997,読み替え表_低炭素物流!$C$15:$F$21,4,0))","v":"-"},"-",null,null,null,null,0,0,0,0,0,"*"]
[null,null,1990,null,null,null,null,null,null,null,null,null,null,null,null,null,null,null,null,null,null,null,null,null,null,{"$f":"IF(H1998=\"\",\"-\",VLOOKUP(J1998,読み替え表_低炭素物流!$C$4:$F$12,4,0))","v":"-"},{"$f":"IF(H1998=\"\",\"-\",VLOOKUP(L1998,読み替え表_低炭素物流!$C$15:$F$21,4,0))","v":"-"},"-",null,null,null,null,0,0,0,0,0,"*"]
[null,null,1991,null,null,null,null,null,null,null,null,null,null,null,null,null,null,null,null,null,null,null,null,null,null,{"$f":"IF(H1999=\"\",\"-\",VLOOKUP(J1999,読み替え表_低炭素物流!$C$4:$F$12,4,0))","v":"-"},{"$f":"IF(H1999=\"\",\"-\",VLOOKUP(L1999,読み替え表_低炭素物流!$C$15:$F$21,4,0))","v":"-"},"-",null,null,null,null,0,0,0,0,0,"*"]
[null,null,1992,null,null,null,null,null,null,null,null,null,null,null,null,null,null,null,null,null,null,null,null,null,null,{"$f":"IF(H2000=\"\",\"-\",VLOOKUP(J2000,読み替え表_低炭素物流!$C$4:$F$12,4,0))","v":"-"},{"$f":"IF(H2000=\"\",\"-\",VLOOKUP(L2000,読み替え表_低炭素物流!$C$15:$F$21,4,0))","v":"-"},"-",null,null,null,null,0,0,0,0,0,"*"]
[null,null,1993,null,null,null,null,null,null,null,null,null,null,null,null,null,null,null,null,null,null,null,null,null,null,{"$f":"IF(H2001=\"\",\"-\",VLOOKUP(J2001,読み替え表_低炭素物流!$C$4:$F$12,4,0))","v":"-"},{"$f":"IF(H2001=\"\",\"-\",VLOOKUP(L2001,読み替え表_低炭素物流!$C$15:$F$21,4,0))","v":"-"},"-",null,null,null,null,0,0,0,0,0,"*"]
[null,null,1994,null,null,null,null,null,null,null,null,null,null,null,null,null,null,null,null,null,null,null,null,null,null,{"$f":"IF(H2002=\"\",\"-\",VLOOKUP(J2002,読み替え表_低炭素物流!$C$4:$F$12,4,0))","v":"-"},{"$f":"IF(H2002=\"\",\"-\",VLOOKUP(L2002,読み替え表_低炭素物流!$C$15:$F$21,4,0))","v":"-"},"-",null,null,null,null,0,0,0,0,0,"*"]
[null,null,1995,null,null,null,null,null,null,null,null,null,null,null,null,null,null,null,null,null,null,null,null,null,null,{"$f":"IF(H2003=\"\",\"-\",VLOOKUP(J2003,読み替え表_低炭素物流!$C$4:$F$12,4,0))","v":"-"},{"$f":"IF(H2003=\"\",\"-\",VLOOKUP(L2003,読み替え表_低炭素物流!$C$15:$F$21,4,0))","v":"-"},"-",null,null,null,null,0,0,0,0,0,"*"]
[null,null,1996,null,null,null,null,null,null,null,null,null,null,null,null,null,null,null,null,null,null,null,null,null,null,{"$f":"IF(H2004=\"\",\"-\",VLOOKUP(J2004,読み替え表_低炭素物流!$C$4:$F$12,4,0))","v":"-"},{"$f":"IF(H2004=\"\",\"-\",VLOOKUP(L2004,読み替え表_低炭素物流!$C$15:$F$21,4,0))","v":"-"},"-",null,null,null,null,0,0,0,0,0,"*"]
[null,null,1997,null,null,null,null,null,null,null,null,null,null,null,null,null,null,null,null,null,null,null,null,null,null,{"$f":"IF(H2005=\"\",\"-\",VLOOKUP(J2005,読み替え表_低炭素物流!$C$4:$F$12,4,0))","v":"-"},{"$f":"IF(H2005=\"\",\"-\",VLOOKUP(L2005,読み替え表_低炭素物流!$C$15:$F$21,4,0))","v":"-"},"-",null,null,null,null,0,0,0,0,0,"*"]
[null,null,1998,null,null,null,null,null,null,null,null,null,null,null,null,null,null,null,null,null,null,null,null,null,null,{"$f":"IF(H2006=\"\",\"-\",VLOOKUP(J2006,読み替え表_低炭素物流!$C$4:$F$12,4,0))","v":"-"},{"$f":"IF(H2006=\"\",\"-\",VLOOKUP(L2006,読み替え表_低炭素物流!$C$15:$F$21,4,0))","v":"-"},"-",null,null,null,null,0,0,0,0,0,"*"]
[null,null,1999,null,null,null,null,null,null,null,null,null,null,null,null,null,null,null,null,null,null,null,null,null,null,{"$f":"IF(H2007=\"\",\"-\",VLOOKUP(J2007,読み替え表_低炭素物流!$C$4:$F$12,4,0))","v":"-"},{"$f":"IF(H2007=\"\",\"-\",VLOOKUP(L2007,読み替え表_低炭素物流!$C$15:$F$21,4,0))","v":"-"},"-",null,null,null,null,0,0,0,0,0,"*"]
[null,null,2000,null,null,null,null,null,null,null,null,null,null,null,null,null,null,null,null,null,null,null,null,null,null,{"$f":"IF(H2008=\"\",\"-\",VLOOKUP(J2008,読み替え表_低炭素物流!$C$4:$F$12,4,0))","v":"-"},{"$f":"IF(H2008=\"\",\"-\",VLOOKUP(L2008,読み替え表_低炭素物流!$C$15:$F$21,4,0))","v":"-"},"-",null,null,null,null,0,0,0,{"$f":"IF(OR(N2008=7,N2008=99),1,0)","v":0},0,"*"]

{"sheet":"集計結果⇒","index":3,"n_rows":0,"n_cols":0,"rows_kept":0,"cut":false,"hidden":false,"merged":[]}

{"sheet":"②単純集計表 ","index":4,"n_rows":139,"n_cols":16,"rows_kept":139,"cut":false,"hidden":false,"merged":[[85,3,85,10],[86,3,86,10],[87,3,87,10],[88,3,88,10],[89,3,89,10],[6,1,6,2],[33,4,33,5],[34,4,34,5],[36,4,36,5],[90,3,90,10],[7,1,7,2],[13,1,16,1],[18,1,25,1],[28,4,28,5],[43,4,43,5],[30,4,30,5],[31,4,31,5],[37,4,37,5],[38,4,38,5],[32,4,32,5],[6,3,6,4],[1,1,1,2],[2,1,2,2],[3,1,3,2],[4,1,4,2],[5,1,5,2],[7,3,7,4],[127,1,137,1],[68,1,74,1],[85,1,92,1],[104,1,112,1],[40,4,40,5],[41,4,41,5],[42,4,42,5],[52,1,60,1],[27,1,44,1],[27,3,27,5],[35,3,35,5],[44,4,44,5],[39,4,39,5],[29,4,29,5],[91,3,91,10],[1,3,1,4],[2,3,2,4],[3,3,3,4],[4,3,4,4],[5,3,5,4]]}
[]
[null,"都道府県",null,{"$f":"①会場アンケート集計結果_低炭素物流!D9","v":0}]
[null,"事業者名",null,{"$f":"①会場アンケート集計結果_低炭素物流!E9","v":0}]
[null,"イベント名",null,{"$f":"①会場アンケート集計結果_低炭素物流!F9","v":0}]
[null,"回収日付",null,{"$f":"①会場アンケート集計結果_低炭素物流!G9","v":"00:00:00"}]
[null,"アンケート回収数",null,{"$f":"COUNTIFS(①会場アンケート集計結果_低炭素物流!$H$9:$H$2008,\"<>\"&\"\")","v":0}]
[null,"有効アンケート数",null,{"$f":"COUNTIFS(①会場アンケート集計結果_低炭素物流!$H$9:$H$2008,\"<>\"&\"\",①会場アンケート集計結果_低炭素物流!$AG$9:$AG$2008,0)","v":0}]
[null,"メールアドレス回収数",null,{"$f":"COUNTIFS(①会場アンケート集計結果_低炭素物流!$H$9:$H$2008,\"<>\"&\"\",①会場アンケート集計結果_低炭素物流!$AG$9:$AG$2008,0,①会場アンケート集計結果_低炭素物流!$AC$9:$AC$2008,1)","v":0}]
[]
[null,"【設問1】性別・年代"]
[null,"※来場者層の把握のため、「有効回答数」ではなく「アンケート回収数」で集計"]
[]
[null,null,null,null,null,null,"アンケート\n回収者","有効\n回答者","%","検算用"]
[null,"性別",1,"男性",null,null,{"$f":"COUNTIFS(①会場アンケート集計結果_低炭素物流!$H:$H,'②単純集計表 '!D14)","v":0},{"$f":"COUNTIFS(①会場アンケート集計結果_低炭素物流!$AG:$AG,0,①会場アンケート集計結果_低炭素物流!$H:$H,'②単純集計表 '!D14)","v":0},{"$f":"G14/$D$6","v":{"$error":"#DIV/0!"}}]
[null,null,2,"女性",null,null,{"$f":"COUNTIFS(①会場アンケート集計結果_低炭素物流!$H:$H,'②単純集計表 '!D15)","v":0},{"$f":"COUNTIFS(①会場アンケート集計結果_低炭素物流!$AG:$AG,0,①会場アンケート集計結果_低炭素物流!$H:$H,'②単純集計表 '!D15)","v":0},{"$f":"G15/$D$6","v":{"$error":"#DIV/0!"}}]
[null,null,3,"その他",null,null,{"$f":"COUNTIFS(①会場アンケート集計結果_低炭素物流!$H:$H,'②単純集計表 '!D16)","v":0},{"$f":"COUNTIFS(①会場アンケート集計結果_低炭素物流!$AG:$AG,0,①会場アンケート集計結果_低炭素物流!$H:$H,'②単純集計表 '!D16)","v":0},{"$f":"G16/$D$6","v":{"$error":"#DIV/0!"}}]
[null,null,99,"未回答",null,null,{"$f":"COUNTIFS(①会場アンケート集計結果_低炭素物流!$H:$H,'②単純集計表 '!D17)","v":0},{"$f":"COUNTIFS(①会場アンケート集計結果_低炭素物流!$AG:$AG,0,①会場アンケート集計結果_低炭素物流!$H:$H,'②単純集計表 '!D17)","v":0},{"$f":"G17/$D$6","v":{"$error":"#DIV/0!"}},{"$f":"SUM(G14:G17)","v":0}]
[]
[null,"年代",1,"10代",null,null,{"$f":"COUNTIFS(①会場アンケート集計結果_低炭素物流!$I:$I,'②単純集計表 '!D19)","v":0},{"$f":"COUNTIFS(①会場アンケート集計結果_低炭素物流!$AG:$AG,0,①会場アンケート集計結果_低炭素物流!$I:$I,'②単純集計表 '!D19)","v":0},{"$f":"G19/$D$6","v":{"$error":"#DIV/0!"}}]
[null,null,2,"20代",null,null,{"$f":"COUNTIFS(①会場アンケート集計結果_低炭素物流!$I:$I,'②単純集計表 '!D20)","v":0},{"$f":"COUNTIFS(①会場アンケート集計結果_低炭素物流!$AG:$AG,0,①会場アンケート集計結果_低炭素物流!$I:$I,'②単純集計表 '!D20)","v":0},{"$error":"#DIV/0!"}]
[null,null,3,"30代",null,null,{"$f":"COUNTIFS(①会場アンケート集計結果_低炭素物流!$I:$I,'②単純集計表 '!D21)","v":0},{"$f":"COUNTIFS(①会場アンケート集計結果_低炭素物流!$AG:$AG,0,①会場アンケート集計結果_低炭素物流!$I:$I,'②単純集計表 '!D21)","v":0},{"$error":"#DIV/0!"}]
[null,null,4,"40代",null,null,{"$f":"COUNTIFS(①会場アンケート集計結果_低炭素物流!$I:$I,'②単純集計表 '!D22)","v":0},{"$f":"COUNTIFS(①会場アンケート集計結果_低炭素物流!$AG:$AG,0,①会場アンケート集計結果_低炭素物流!$I:$I,'②単純集計表 '!D22)","v":0},{"$error":"#DIV/0!"}]
[null,null,5,"50代",null,null,{"$f":"COUNTIFS(①会場アンケート集計結果_低炭素物流!$I:$I,'②単純集計表 '!D23)","v":0},{"$f":"COUNTIFS(①会場アンケート集計結果_低炭素物流!$AG:$AG,0,①会場アンケート集計結果_低炭素物流!$I:$I,'②単純集計表 '!D23)","v":0},{"$error":"#DIV/0!"}]
[null,null,6,"60代",null,null,{"$f":"COUNTIFS(①会場アンケート集計結果_低炭素物流!$I:$I,'②単純集計表 '!D24)","v":0},{"$f":"COUNTIFS(①会場アンケート集計結果_低炭素物流!$AG:$AG,0,①会場アンケート集計結果_低炭素物流!$I:$I,'②単純集計表 '!D24)","v":0},{"$error":"#DIV/0!"}]
[null,null,7,"70代以上",null,null,{"$f":"COUNTIFS(①会場アンケート集計結果_低炭素物流!$I:$I,'②単純集計表 '!D25)","v":0},{"$f":"COUNTIFS(①会場アンケート集計結果_低炭素物流!$AG:$AG,0,①会場アンケート集計結果_低炭素物流!$I:$I,'②単純集計表 '!D25)","v":0},{"$error":"#DIV/0!"}]
[null,null,99,"未回答",null,null,{"$f":"COUNTIFS(①会場アンケート集計結果_低炭素物流!$I:$I,'②単純集計表 '!D26)","v":0},{"$f":"COUNTIFS(①会場アンケート集計結果_低炭素物流!$AG:$AG,0,①会場アンケート集計結果_低炭素物流!$I:$I,'②単純集計表 '!D26)","v":0},{"$error":"#DIV/0!"},{"$f":"SUM(G19:G26)","v":0}]
[]
[null,"性別・年代別",null,"男性",null,null,{"$f":"SUM(G29:G35)","v":0},{"$f":"SUM(H29:H35)","v":0},{"$f":"G28/$D$6","v":{"$error":"#DIV/0!"}}]
[null,null,null,"男性","10代",null,{"$f":"COUNTIFS(①会場アンケート集計結果_低炭素物流!$H:$H,'②単純集計表 '!D29,①会場アンケート集計結果_低炭素物流!$I:$I,'②単純集計表 '!E29)","v":0},{"$f":"COUNTIFS(①会場アンケート集計結果_低炭素物流!$AG:$AG,0,①会場アンケート集計結果_低炭素物流!$H:$H,'②単純集計表 '!D29,①会場アンケート集計結果_低炭素物流!$I:$I,'②単純集計表 '!E29)","v":0},{"$error":"#DIV/0!"}]
[null,null,null,"男性","20代",null,{"$f":"COUNTIFS(①会場アンケート集計結果_低炭素物流!$H:$H,'②単純集計表 '!D30,①会場アンケート集計結果_低炭素物流!$I:$I,'②単純集計表 '!E30)","v":0},{"$f":"COUNTIFS(①会場アンケート集計結果_低炭素物流!$AG:$AG,0,①会場アンケート集計結果_低炭素物流!$H:$H,'②単純集計表 '!D30,①会場アンケート集計結果_低炭素物流!$I:$I,'②単純集計表 '!E30)","v":0},{"$error":"#DIV/0!"}]
[null,null,null,"男性","30代",null,{"$f":"COUNTIFS(①会場アンケート集計結果_低炭素物流!$H:$H,'②単純集計表 '!D31,①会場アンケート集計結果_低炭素物流!$I:$I,'②単純集計表 '!E31)","v":0},{"$f":"COUNTIFS(①会場アンケート集計結果_低炭素物流!$AG:$AG,0,①会場アンケート集計結果_低炭素物流!$H:$H,'②単純集計表 '!D31,①会場アンケート集計結果_低炭素物流!$I:$I,'②単純集計表 '!E31)","v":0},{"$error":"#DIV/0!"}]
[null,null,null,"男性","40代",null,{"$f":"COUNTIFS(①会場アンケート集計結果_低炭素物流!$H:$H,'②単純集計表 '!D32,①会場アンケート集計結果_低炭素物流!$I:$I,'②単純集計表 '!E32)","v":0},{"$f":"COUNTIFS(①会場アンケート集計結果_低炭素物流!$AG:$AG,0,①会場アンケート集計結果_低炭素物流!$H:$H,'②単純集計表 '!D32,①会場アンケート集計結果_低炭素物流!$I:$I,'②単純集計表 '!E32)","v":0},{"$error":"#DIV/0!"}]
[null,null,null,"男性","50代",null,{"$f":"COUNTIFS(①会場アンケート集計結果_低炭素物流!$H:$H,'②単純集計表 '!D33,①会場アンケート集計結果_低炭素物流!$I:$I,'②単純集計表 '!E33)","v":0},{"$f":"COUNTIFS(①会場アンケート集計結果_低炭素物流!$AG:$AG,0,①会場アンケート集計結果_低炭素物流!$H:$H,'②単純集計表 '!D33,①会場アンケート集計結果_低炭素物流!$I:$I,'②単純集計表 '!E33)","v":0},{"$error":"#DIV/0!"}]
[null,null,null,"男性","60代",null,{"$f":"COUNTIFS(①会場アンケート集計結果_低炭素物流!$H:$H,'②単純集計表 '!D34,①会場アンケート集計結果_低炭素物流!$I:$I,'②単純集計表 '!E34)","v":0},{"$f":"COUNTIFS(①会場アンケート集計結果_低炭素物流!$AG:$AG,0,①会場アンケート集計結果_低炭素物流!$H:$H,'②単純集計表 '!D34,①会場アンケート集計結果_低炭素物流!$I:$I,'②単純集計表 '!E34)","v":0},{"$error":"#DIV/0!"}]
[null,null,null,"男性","70代以上",null,{"$f":"COUNTIFS(①会場アンケート集計結果_低炭素物流!$H:$H,'②単純集計表 '!D35,①会場アンケート集計結果_低炭素物流!$I:$I,'②単純集計表 '!E35)","v":0},{"$f":"COUNTIFS(①会場アンケート集計結果_低炭素物流!$AG:$AG,0,①会場アンケート集計結果_低炭素物流!$H:$H,'②単純集計表 '!D35,①会場アンケート集計結果_低炭素物流!$I:$I,'②単純集計表 '!E35)","v":0},{"$error":"#DIV/0!"}]
[null,null,null,"女性",null,null,{"$f":"SUM(G37:G43)","v":0},{"$f":"SUM(H37:H43)","v":0},{"$error":"#DIV/0!"}]
[null,null,null,"女性","10代",null,{"$f":"COUNTIFS(①会場アンケート集計結果_低炭素物流!$H:$H,'②単純集計表 '!D37,①会場アンケート集計結果_低炭素物流!$I:$I,'②単純集計表 '!E37)","v":0},{"$f":"COUNTIFS(①会場アンケート集計結果_低炭素物流!$AG:$AG,0,①会場アンケート集計結果_低炭素物流!$H:$H,'②単純集計表 '!D37,①会場アンケート集計結果_低炭素物流!$I:$I,'②単純集計表 '!E37)","v":0},{"$error":"#DIV/0!"}]
[null,null,null,"女性","20代",null,{"$f":"COUNTIFS(①会場アンケート集計結果_低炭素物流!$H:$H,'②単純集計表 '!D38,①会場アンケート集計結果_低炭素物流!$I:$I,'②単純集計表 '!E38)","v":0},{"$f":"COUNTIFS(①会場アンケート集計結果_低炭素物流!$AG:$AG,0,①会場アンケート集計結果_低炭素物流!$H:$H,'②単純集計表 '!D38,①会場アンケート集計結果_低炭素物流!$I:$I,'②単純集計表 '!E38)","v":0},{"$error":"#DIV/0!"}]
[null,null,null,"女性","30代",null,{"$f":"COUNTIFS(①会場アンケート集計結果_低炭素物流!$H:$H,'②単純集計表 '!D39,①会場アンケート集計結果_低炭素物流!$I:$I,'②単純集計表 '!E39)","v":0},{"$f":"COUNTIFS(①会場アンケート集計結果_低炭素物流!$AG:$AG,0,①会場アンケート集計結果_低炭素物流!$H:$H,'②単純集計表 '!D39,①会場アンケート集計結果_低炭素物流!$I:$I,'②単純集計表 '!E39)","v":0},{"$error":"#DIV/0!"}]
[null,null,null,"女性","40代",null,{"$f":"COUNTIFS(①会場アンケート集計結果_低炭素物流!$H:$H,'②単純集計表 '!D40,①会場アンケート集計結果_低炭素物流!$I:$I,'②単純集計表 '!E40)","v":0},{"$f":"COUNTIFS(①会場アンケート集計結果_低炭素物流!$AG:$AG,0,①会場アンケート集計結果_低炭素物流!$H:$H,'②単純集計表 '!D40,①会場アンケート集計結果_低炭素物流!$I:$I,'②単純集計表 '!E40)","v":0},{"$error":"#DIV/0!"}]
[null,null,null,"女性","50代",null,{"$f":"COUNTIFS(①会場アンケート集計結果_低炭素物流!$H:$H,'②単純集計表 '!D41,①会場アンケート集計結果_低炭素物流!$I:$I,'②単純集計表 '!E41)","v":0},{"$f":"COUNTIFS(①会場アンケート集計結果_低炭素物流!$AG:$AG,0,①会場アンケート集計結果_低炭素物流!$H:$H,'②単純集計表 '!D41,①会場アンケート集計結果_低炭素物流!$I:$I,'②単純集計表 '!E41)","v":0},{"$error":"#DIV/0!"}]
[null,null,null,"女性","60代",null,{"$f":"COUNTIFS(①会場アンケート集計結果_低炭素物流!$H:$H,'②単純集計表 '!D42,①会場アンケート集計結果_低炭素物流!$I:$I,'②単純集計表 '!E42)","v":0},{"$f":"COUNTIFS(①会場アンケート集計結果_低炭素物流!$AG:$AG,0,①会場アンケート集計結果_低炭素物流!$H:$H,'②単純集計表 '!D42,①会場アンケート集計結果_低炭素物流!$I:$I,'②単純集計表 '!E42)","v":0},{"$error":"#DIV/0!"}]
[null,null,null,"女性","70代以上",null,{"$f":"COUNTIFS(①会場アンケート集計結果_低炭素物流!$H:$H,'②単純集計表 '!D43,①会場アンケート集計結果_低炭素物流!$I:$I,'②単純集計表 '!E43)","v":0},{"$f":"COUNTIFS(①会場アンケート集計結果_低炭素物流!$AG:$AG,0,①会場アンケート集計結果_低炭素物流!$H:$H,'②単純集計表 '!D43,①会場アンケート集計結果_低炭素物流!$I:$I,'②単純集計表 '!E43)","v":0},{"$error":"#DIV/0!"}]
[null,null,null,"その他","その他",null,{"$f":"COUNTIFS(①会場アンケート集計結果_低炭素物流!$H:$H,'②単純集計表 '!D44,①会場アンケート集計結果_低炭素物流!$I:$I,\"<>\"&D45)","v":0},{"$f":"COUNTIFS(①会場アンケート集計結果_低炭素物流!$AG:$AG,0,①会場アンケート集計結果_低炭素物流!$H:$H,'②単純集計表 '!D44,①会場アンケート集計結果_低炭素物流!$I:$I,\"<>\"&D45)","v":0},{"$error":"#DIV/0!"}]
[null,null,null,"未回答","未回答",null,{"$f":"COUNTIFS(①会場アンケート集計結果_低炭素物流!$H:$H,'②単純集計表 '!D45,①会場アンケート集計結果_低炭素物流!$I:$I,\"<>\")+COUNTIFS(①会場アンケート集計結果_低炭素物流!$H:$H,\"<>\",①会場アンケート集計結果_低炭素物流!$I:$I,'②単純集計表 '!E45)-COUNTIFS(①会場アンケート集計結果_低炭素物流!$H:$H,D45,①会場アンケート集計結果_低炭素物流!$I:$I,'②単純集計表 '!E45)","v":0},{"$f":"COUNTIFS(①会場アンケート集計結果_低炭素物流!$AG:$AG,0,①会場アンケート集計結果_低炭素物流!$H:$H,'②単純集計表 '!D45,①会場アンケート集計結果_低炭素物流!$I:$I,\"<>\")+COUNTIFS(①会場アンケート集計結果_低炭素物流!$AG:$AG,0,①会場アンケート集計結果_低炭素物流!$H:$H,\"<>\",①会場アンケート集計結果_低炭素物流!$I:$I,'②単純集計表 '!E45)-COUNTIFS(①会場アンケート集計結果_低炭素物流!$AG:$AG,0,①会場アンケート集計結果_低炭素物流!$H:$H,D45,①会場アンケート集計結果_低炭素物流!$I:$I,'②単純集計表 '!E45)","v":0},{"$error":"#DIV/0!"},{"$f":"SUM(G37:G45,G29:G35)","v":0}]
[]
[]
[]
[null,"【設問2】あなたのご自宅で、宅配を受け取る頻度についてお答えください。（同居ご家族あての宅配も含む）"]
[]
[]
[null,null,null,null,null,null,"全回答者数","有効回答者数","%"]
[null,"自宅で宅配を\n受け取る頻度",1,"毎日1個受け取る",null,null,{"$f":"COUNTIFS(①会場アンケート集計結果_低炭素物流!$J:$J,'②単純集計表 '!C53)","v":0},{"$f":"COUNTIFS(①会場アンケート集計結果_低炭素物流!$AG:$AG,0,①会場アンケート集計結果_低炭素物流!$J:$J,'②単純集計表 '!C53)","v":0},{"$f":"H53/$D$7","v":{"$error":"#DIV/0!"}}]
[null,null,2,"週に4～6個程度",null,null,{"$f":"COUNTIFS(①会場アンケート集計結果_低炭素物流!$J:$J,'②単純集計表 '!C54)","v":0},{"$f":"COUNTIFS(①会場アンケート集計結果_低炭素物流!$AG:$AG,0,①会場アンケート集計結果_低炭素物流!$J:$J,'②単純集計表 '!C54)","v":0},{"$f":"H54/$D$7","v":{"$error":"#DIV/0!"}}]
[null,null,3,"週に1～3個程度",null,null,{"$f":"COUNTIFS(①会場アンケート集計結果_低炭素物流!$J:$J,'②単純集計表 '!C55)","v":0},{"$f":"COUNTIFS(①会場アンケート集計結果_低炭素物流!$AG:$AG,0,①会場アンケート集計結果_低炭素物流!$J:$J,'②単純集計表 '!C55)","v":0},{"$error":"#DIV/0!"}]
[null,null,4,"1か月に1～3個程度",null,null,{"$f":"COUNTIFS(①会場アンケート集計結果_低炭素物流!$J:$J,'②単純集計表 '!C56)","v":0},{"$f":"COUNTIFS(①会場アンケート集計結果_低炭素物流!$AG:$AG,0,①会場アンケート集計結果_低炭素物流!$J:$J,'②単純集計表 '!C56)","v":0},{"$error":"#DIV/0!"}]
[null,null,5,"2～3か月に1個程度",null,null,{"$f":"COUNTIFS(①会場アンケート集計結果_低炭素物流!$J:$J,'②単純集計表 '!C57)","v":0},{"$f":"COUNTIFS(①会場アンケート集計結果_低炭素物流!$AG:$AG,0,①会場アンケート集計結果_低炭素物流!$J:$J,'②単純集計表 '!C57)","v":0},{"$error":"#DIV/0!"}]
[null,null,6,"半年に1個程度",null,null,{"$f":"COUNTIFS(①会場アンケート集計結果_低炭素物流!$J:$J,'②単純集計表 '!C58)","v":0},{"$f":"COUNTIFS(①会場アンケート集計結果_低炭素物流!$AG:$AG,0,①会場アンケート集計結果_低炭素物流!$J:$J,'②単純集計表 '!C58)","v":0},{"$error":"#DIV/0!"}]
[null,null,7,"上記以下の頻度",null,null,{"$f":"COUNTIFS(①会場アンケート集計結果_低炭素物流!$J:$J,'②単純集計表 '!C59)","v":0},{"$f":"COUNTIFS(①会場アンケート集計結果_低炭素物流!$AG:$AG,0,①会場アンケート集計結果_低炭素物流!$J:$J,'②単純集計表 '!C59)","v":0},{"$error":"#DIV/0!"}]
[null,null,8,"ほとんど利用しない",null,null,{"$f":"COUNTIFS(①会場アンケート集計結果_低炭素物流!$J:$J,'②単純集計表 '!C60)","v":0},{"$f":"COUNTIFS(①会場アンケート集計結果_低炭素物流!$AG:$AG,0,①会場アンケート集計結果_低炭素物流!$J:$J,'②単純集計表 '!C60)","v":0},{"$error":"#DIV/0!"}]
[null,null,99,"未回答",null,null,{"$f":"COUNTIFS(①会場アンケート集計結果_低炭素物流!$J:$J,'②単純集計表 '!C61)","v":0},{"$f":"COUNTIFS(①会場アンケート集計結果_低炭素物流!$AG:$AG,0,①会場アンケート集計結果_低炭素物流!$J:$J,'②単純集計表 '!C61)","v":0},{"$error":"#DIV/0!"}]
[null,null,null,null,"検算用","回答者数",{"$f":"SUM(G53:G61)","v":0}]
[null,null,null,null,null,"有効回答数",null,{"$f":"SUM(H53:H61)","v":0}]
[]
[]
[null,"【設問3】あなたのご自宅で、荷物の受取の際に再配達となる割合をお答えください。（同居ご家族あての宅配も含む）"]
[null,"※設問2で「ほとんど利用しない」と回答した人を除外"]
[null,null,null,null,null,null,null,null,"全回答者数","有効回答者数","%"]
[null,"宅配便の\n再配達割合",1,"ほぼすべての荷物で再配達をお願いしていた（9割以上）",null,null,null,null,{"$f":"COUNTIFS(①会場アンケート集計結果_低炭素物流!$L:$L,'②単純集計表 '!C69)","v":0},{"$f":"COUNTIFS(①会場アンケート集計結果_低炭素物流!$AG:$AG,0,①会場アンケート集計結果_低炭素物流!$AH:$AH,0,①会場アンケート集計結果_低炭素物流!$L:$L,'②単純集計表 '!C69)","v":0},{"$f":"J69/$J$77","v":{"$error":"#DIV/0!"}}]
[null,null,2,"半分以上の荷物で再配達をお願いしていた（5割以上)",null,null,null,null,{"$f":"COUNTIFS(①会場アンケート集計結果_低炭素物流!$L:$L,'②単純集計表 '!C70)","v":0},{"$f":"COUNTIFS(①会場アンケート集計結果_低炭素物流!$AG:$AG,0,①会場アンケート集計結果_低炭素物流!$AH:$AH,0,①会場アンケート集計結果_低炭素物流!$L:$L,'②単純集計表 '!C70)","v":0},{"$f":"J70/$J$77","v":{"$error":"#DIV/0!"}}]
[null,null,3,"3割程度の荷物で再配達をお願いしていた（3割以上）",null,null,null,null,{"$f":"COUNTIFS(①会場アンケート集計結果_低炭素物流!$L:$L,'②単純集計表 '!C71)","v":0},{"$f":"COUNTIFS(①会場アンケート集計結果_低炭素物流!$AG:$AG,0,①会場アンケート集計結果_低炭素物流!$AH:$AH,0,①会場アンケート集計結果_低炭素物流!$L:$L,'②単純集計表 '!C71)","v":0},{"$error":"#DIV/0!"}]
[null,null,4,"ほとんど再配達をお願いしたことはない（1~2割）",null,null,null,null,{"$f":"COUNTIFS(①会場アンケート集計結果_低炭素物流!$L:$L,'②単純集計表 '!C72)","v":0},{"$f":"COUNTIFS(①会場アンケート集計結果_低炭素物流!$AG:$AG,0,①会場アンケート集計結果_低炭素物流!$AH:$AH,0,①会場アンケート集計結果_低炭素物流!$L:$L,'②単純集計表 '!C72)","v":0},{"$error":"#DIV/0!"}]
[null,null,5,"再配達をお願いしたことはない",null,null,null,null,{"$f":"COUNTIFS(①会場アンケート集計結果_低炭素物流!$L:$L,'②単純集計表 '!C73)","v":0},{"$f":"COUNTIFS(①会場アンケート集計結果_低炭素物流!$AG:$AG,0,①会場アンケート集計結果_低炭素物流!$AH:$AH,0,①会場アンケート集計結果_低炭素物流!$L:$L,'②単純集計表 '!C73)","v":0},{"$error":"#DIV/0!"}]
[null,null,6,"宅配便の荷物を受け取っていない",null,null,null,null,{"$f":"COUNTIFS(①会場アンケート集計結果_低炭素物流!$L:$L,'②単純集計表 '!C74)","v":0},{"$f":"COUNTIFS(①会場アンケート集計結果_低炭素物流!$AG:$AG,0,①会場アンケート集計結果_低炭素物流!$AH:$AH,0,①会場アンケート集計結果_低炭素物流!$L:$L,'②単純集計表 '!C74)","v":0},{"$error":"#DIV/0!"}]
[null,null,99,"未回答",null,null,null,null,{"$f":"COUNTIFS(①会場アンケート集計結果_低炭素物流!$L:$L,'②単純集計表 '!C75)","v":0},{"$f":"COUNTIFS(①会場アンケート集計結果_低炭素物流!$AG:$AG,0,①会場アンケート集計結果_低炭素物流!$AH:$AH,0,①会場アンケート集計結果_低炭素物流!$L:$L,'②単純集計表 '!C75)","v":0},{"$error":"#DIV/0!"}]
[null,null,null,null,null,null,"検算用","回答者数",{"$f":"SUM(I69:I75)","v":0}]
[null,null,null,null,null,null,null,"有効回答数",null,{"$f":"SUM(J69:J75)","v":0}]
[]
[]
[]
[]
[null,"【設問4】イベントへの参加によって、今後は宅配便を１回で受け取ろうと思いましたか。"]
[null,"※設問2で「ほとんど利用しない」と回答した人、設問3で「宅配便の荷物を受け取っていない」と回答した人を除外"]
[]
[null,null,null,null,null,null,null,null,null,null,null,"全回答者数","有効回答者数","%"]
[null,"イベント参加後の意識変容",1,"これまでもほとんど1回で受け取っている",null,null,null,null,null,null,null,{"$f":"COUNTIFS(①会場アンケート集計結果_低炭素物流!$N:$N,'②単純集計表 '!C86)","v":0},{"$f":"COUNTIFS(①会場アンケート集計結果_低炭素物流!$AG:$AG,0,①会場アンケート集計結果_低炭素物流!$AH:$AH,0,①会場アンケート集計結果_低炭素物流!$AI:$AI,0,①会場アンケート集計結果_低炭素物流!$N:$N,'②単純集計表 '!C86)","v":0},{"$f":"M86/$M$95","v":{"$error":"#DIV/0!"}},"⇒行動済"]
[null,null,2,"これまでもできるだけ1回で受け取りたいと思っており、今後はそのための対策も行おうと思う",null,null,null,null,null,null,null,{"$f":"COUNTIFS(①会場アンケート集計結果_低炭素物流!$N:$N,'②単純集計表 '!C87)","v":0},{"$f":"COUNTIFS(①会場アンケート集計結果_低炭素物流!$AG:$AG,0,①会場アンケート集計結果_低炭素物流!$AH:$AH,0,①会場アンケート集計結果_低炭素物流!$AI:$AI,0,①会場アンケート集計結果_低炭素物流!$N:$N,'②単純集計表 '!C87)","v":0},{"$f":"M87/$M$95","v":{"$error":"#DIV/0!"}},"⇒意識変容"]
[null,null,3,"これまでもできるだけ1回で受け取りたいと思っているが、特に対策は行わない",null,null,null,null,null,null,null,{"$f":"COUNTIFS(①会場アンケート集計結果_低炭素物流!$N:$N,'②単純集計表 '!C88)","v":0},{"$f":"COUNTIFS(①会場アンケート集計結果_低炭素物流!$AG:$AG,0,①会場アンケート集計結果_低炭素物流!$AH:$AH,0,①会場アンケート集計結果_低炭素物流!$AI:$AI,0,①会場アンケート集計結果_低炭素物流!$N:$N,'②単純集計表 '!C88)","v":0},{"$error":"#DIV/0!"},"⇒現状維持"]
[null,null,4,"1回で受け取りたいと思うようになったので、今後はそのための対策を行おうと思う",null,null,null,null,null,null,null,{"$f":"COUNTIFS(①会場アンケート集計結果_低炭素物流!$N:$N,'②単純集計表 '!C89)","v":0},{"$f":"COUNTIFS(①会場アンケート集計結果_低炭素物流!$AG:$AG,0,①会場アンケート集計結果_低炭素物流!$AH:$AH,0,①会場アンケート集計結果_低炭素物流!$AI:$AI,0,①会場アンケート集計結果_低炭素物流!$N:$N,'②単純集計表 '!C89)","v":0},{"$error":"#DIV/0!"},"⇒意識変容"]
[null,null,5,"1回で受け取りたいと思うようになったが、特に対策は行わない",null,null,null,null,null,null,null,{"$f":"COUNTIFS(①会場アンケート集計結果_低炭素物流!$N:$N,'②単純集計表 '!C90)","v":0},{"$f":"COUNTIFS(①会場アンケート集計結果_低炭素物流!$AG:$AG,0,①会場アンケート集計結果_低炭素物流!$AH:$AH,0,①会場アンケート集計結果_低炭素物流!$AI:$AI,0,①会場アンケート集計結果_低炭素物流!$N:$N,'②単純集計表 '!C90)","v":0},{"$error":"#DIV/0!"},"⇒意識変容（行動意向は伴わない）"]
[null,null,6,"1回で受け取りたいと思うようになったが、どうしたら受け取れるのかわからない",null,null,null,null,null,null,null,{"$f":"COUNTIFS(①会場アンケート集計結果_低炭素物流!$N:$N,'②単純集計表 '!C91)","v":0},{"$f":"COUNTIFS(①会場アンケート集計結果_低炭素物流!$AG:$AG,0,①会場アンケート集計結果_低炭素物流!$AH:$AH,0,①会場アンケート集計結果_低炭素物流!$AI:$AI,0,①会場アンケート集計結果_低炭素物流!$N:$N,'②単純集計表 '!C91)","v":0},{"$error":"#DIV/0!"},"⇒意識変容（行動意向は伴わない）"]
[null,null,7,"特に1回で受け取りたいと思わない",null,null,null,null,null,null,null,{"$f":"COUNTIFS(①会場アンケート集計結果_低炭素物流!$N:$N,'②単純集計表 '!C92)","v":0},{"$f":"COUNTIFS(①会場アンケート集計結果_低炭素物流!$AG:$AG,0,①会場アンケート集計結果_低炭素物流!$AH:$AH,0,①会場アンケート集計結果_低炭素物流!$AI:$AI,0,①会場アンケート集計結果_低炭素物流!$N:$N,'②単純集計表 '!C92)","v":0},{"$error":"#DIV/0!"},"⇒現状維持（否定的）"]
[null,null,99,"未回答",null,null,null,null,null,null,null,{"$f":"COUNTIFS(①会場アンケート集計結果_低炭素物流!$N:$N,'②単純集計表 '!C93)","v":0},{"$f":"COUNTIFS(①会場アンケート集計結果_低炭素物流!$AG:$AG,0,①会場アンケート集計結果_低炭素物流!$AH:$AH,0,①会場アンケート集計結果_低炭素物流!$AI:$AI,0,①会場アンケート集計結果_低炭素物流!$N:$N,'②単純集計表 '!C93)","v":0},{"$error":"#DIV/0!"}]
[null,null,null,null,null,null,null,null,null,"検算用","回答者数",{"$f":"SUM(L86:L93)","v":0}]
[null,null,null,null,null,null,null,null,null,null,"有効回答数",null,{"$f":"SUM(M86:M93)","v":0}]
[]
[]
[]
[]
[]
[null,"【設問5】なぜ宅配便を１回で受け取りたいと思いましたか。（いくつでも）"]
[null,"※設問2で「ほとんど利用しない」と回答した人、設問3で「宅配便の荷物を受け取っていない」と回答した人、設問4で「特に1回で受け取りたいと思わない」または未回答の人を除外"]
[]
[null,null,null,null,null,null,null,null,null,null,null,null,null,"有効回答者数","%"]
[null,"宅配便を１回で\n受け取りたい\n理由",1,"CO2削減に貢献するため",null,null,null,null,null,null,null,null,null,{"$f":"COUNTIFS(①会場アンケート集計結果_低炭素物流!$AG:$AG,0,①会場アンケート集計結果_低炭素物流!$AH:$AH,0,①会場アンケート集計結果_低炭素物流!$AI:$AI,0,①会場アンケート集計結果_低炭素物流!$AJ:$AJ,0,①会場アンケート集計結果_低炭素物流!$P:$P,1)","v":0},{"$f":"N105/$P$113","v":{"$error":"#DIV/0!"}}]
[null,null,2,"再配達を削減するための具体的な方法がわかったため（事前通知サービスの活用等）",null,null,null,null,null,null,null,null,null,{"$f":"COUNTIFS(①会場アンケート集計結果_低炭素物流!$AG:$AG,0,①会場アンケート集計結果_低炭素物流!$AH:$AH,0,①会場アンケート集計結果_低炭素物流!$AI:$AI,0,①会場アンケート集計結果_低炭素物流!$AJ:$AJ,0,①会場アンケート集計結果_低炭素物流!$Q:$Q,1)","v":0},{"$f":"N106/$P$113","v":{"$error":"#DIV/0!"}}]
[null,null,3,"宅配便の約２割が再配達になっていることを知ったため",null,null,null,null,null,null,null,null,null,{"$f":"COUNTIFS(①会場アンケート集計結果_低炭素物流!$AG:$AG,0,①会場アンケート集計結果_低炭素物流!$AH:$AH,0,①会場アンケート集計結果_低炭素物流!$AI:$AI,0,①会場アンケート集計結果_低炭素物流!$AJ:$AJ,0,①会場アンケート集計結果_低炭素物流!$R:$R,1)","v":0},{"$error":"#DIV/0!"}]
[null,null,4,"再配達の増加により、配達ドライバーの１０人のうち１人は一日中再配達を担当している計算になることを知ったため",null,null,null,null,null,null,null,null,null,{"$f":"COUNTIFS(①会場アンケート集計結果_低炭素物流!$AG:$AG,0,①会場アンケート集計結果_低炭素物流!$AH:$AH,0,①会場アンケート集計結果_低炭素物流!$AI:$AI,0,①会場アンケート集計結果_低炭素物流!$AJ:$AJ,0,①会場アンケート集計結果_低炭素物流!$S:$S,1)","v":0},{"$error":"#DIV/0!"}]
[null,null,5,"1回で受け取ることによりポイントがもらえるため",null,null,null,null,null,null,null,null,null,{"$f":"COUNTIFS(①会場アンケート集計結果_低炭素物流!$AG:$AG,0,①会場アンケート集計結果_低炭素物流!$AH:$AH,0,①会場アンケート集計結果_低炭素物流!$AI:$AI,0,①会場アンケート集計結果_低炭素物流!$AJ:$AJ,0,①会場アンケート集計結果_低炭素物流!$T:$T,1)","v":0},{"$error":"#DIV/0!"}]
[null,null,6,"送料が値上げされるなど自分の生活に影響があると嫌だと思うため",null,null,null,null,null,null,null,null,null,{"$f":"COUNTIFS(①会場アンケート集計結果_低炭素物流!$AG:$AG,0,①会場アンケート集計結果_低炭素物流!$AH:$AH,0,①会場アンケート集計結果_低炭素物流!$AI:$AI,0,①会場アンケート集計結果_低炭素物流!$AJ:$AJ,0,①会場アンケート集計結果_低炭素物流!$U:$U,1)","v":0},{"$error":"#DIV/0!"}]
[null,null,7,"多くの人が1回で受け取っており、自分もそうする必要があると思ったため",null,null,null,null,null,null,null,null,null,{"$f":"COUNTIFS(①会場アンケート集計結果_低炭素物流!$AG:$AG,0,①会場アンケート集計結果_低炭素物流!$AH:$AH,0,①会場アンケート集計結果_低炭素物流!$AI:$AI,0,①会場アンケート集計結果_低炭素物流!$AJ:$AJ,0,①会場アンケート集計結果_低炭素物流!$V:$V,1)","v":0},{"$error":"#DIV/0!"}]
[null,null,8,"その他",null,null,null,null,null,null,null,null,null,{"$f":"COUNTIFS(①会場アンケート集計結果_低炭素物流!$AG:$AG,0,①会場アンケート集計結果_低炭素物流!$AH:$AH,0,①会場アンケート集計結果_低炭素物流!$AI:$AI,0,①会場アンケート集計結果_低炭素物流!$AJ:$AJ,0,①会場アンケート集計結果_低炭素物流!$W:$W,1)","v":0},{"$error":"#DIV/0!"}]
[null,null,99,"未回答",null,null,null,null,null,null,null,null,null,{"$f":"COUNTIFS(①会場アンケート集計結果_低炭素物流!$AG:$AG,0,①会場アンケート集計結果_低炭素物流!$AH:$AH,0,①会場アンケート集計結果_低炭素物流!$AI:$AI,0,①会場アンケート集計結果_低炭素物流!$AJ:$AJ,0,①会場アンケート集計結果_低炭素物流!$Y:$Y,1)","v":0},{"$error":"#DIV/0!"},{"$f":"COUNTIFS(①会場アンケート集計結果_低炭素物流!$H:$H,\"<>\"&\"\",①会場アンケート集計結果_低炭素物流!$AG:$AG,0,①会場アンケート集計結果_低炭素物流!$AH:$AH,0,①会場アンケート集計結果_低炭素物流!$AI:$AI,0,①会場アンケート集計結果_低炭素物流!$AJ:$AJ,0)","v":0}]
[]
[]
[]
[]
[]
[]
[]
[]
[]
[]
[]
[null,"【設問2、3】1か月当たりの再配達個数"]
[]
[null,null,null,null,null,null,null,"回答者数","%","総再配達個数","%","累積比率"]
[null,"月当たり再配達個数",0,1,"1個未満",null,null,{"$f":"COUNTIFS(①会場アンケート集計結果_低炭素物流!$AG:$AG,0,①会場アンケート集計結果_低炭素物流!$AB:$AB,\">=\"&'②単純集計表 '!C128,①会場アンケート集計結果_低炭素物流!$AB:$AB,\"<\"&D128)","v":0},{"$f":"H128/$D$7","v":{"$error":"#DIV/0!"}},{"$f":"SUMIFS(①会場アンケート集計結果_低炭素物流!$AB$9:$AB$2008,①会場アンケート集計結果_低炭素物流!$AG$9:$AG$2008,0,①会場アンケート集計結果_低炭素物流!$AB$9:$AB$2008,\">=\"&'②単純集計表 '!C128,①会場アンケート集計結果_低炭素物流!$AB$9:$AB$2008,\"<\"&D128)","v":0},{"$f":"J128/SUM($J$128:$J$138)","v":{"$error":"#DIV/0!"}},{"$f":"SUM($K$128:K128)","v":{"$error":"#DIV/0!"}}]
[null,null,1,2,"1個以上2個未満",null,null,{"$f":"COUNTIFS(①会場アンケート集計結果_低炭素物流!$AG:$AG,0,①会場アンケート集計結果_低炭素物流!$AB:$AB,\">=\"&'②単純集計表 '!C129,①会場アンケート集計結果_低炭素物流!$AB:$AB,\"<\"&D129)","v":0},{"$error":"#DIV/0!"},{"$f":"SUMIFS(①会場アンケート集計結果_低炭素物流!$AB$9:$AB$2008,①会場アンケート集計結果_低炭素物流!$AG$9:$AG$2008,0,①会場アンケート集計結果_低炭素物流!$AB$9:$AB$2008,\">=\"&'②単純集計表 '!C129,①会場アンケート集計結果_低炭素物流!$AB$9:$AB$2008,\"<\"&D129)","v":0},{"$error":"#DIV/0!"},{"$f":"SUM($K$128:K129)","v":{"$error":"#DIV/0!"}}]
[null,null,2,3,"2個以上3個未満",null,null,{"$f":"COUNTIFS(①会場アンケート集計結果_低炭素物流!$AG:$AG,0,①会場アンケート集計結果_低炭素物流!$AB:$AB,\">=\"&'②単純集計表 '!C130,①会場アンケート集計結果_低炭素物流!$AB:$AB,\"<\"&D130)","v":0},{"$error":"#DIV/0!"},{"$f":"SUMIFS(①会場アンケート集計結果_低炭素物流!$AB$9:$AB$2008,①会場アンケート集計結果_低炭素物流!$AG$9:$AG$2008,0,①会場アンケート集計結果_低炭素物流!$AB$9:$AB$2008,\">=\"&'②単純集計表 '!C130,①会場アンケート集計結果_低炭素物流!$AB$9:$AB$2008,\"<\"&D130)","v":0},{"$error":"#DIV/0!"},{"$f":"SUM($K$128:K130)","v":{"$error":"#DIV/0!"}}]
[null,null,3,4,"3個以上4個未満",null,null,{"$f":"COUNTIFS(①会場アンケート集計結果_低炭素物流!$AG:$AG,0,①会場アンケート集計結果_低炭素物流!$AB:$AB,\">=\"&'②単純集計表 '!C131,①会場アンケート集計結果_低炭素物流!$AB:$AB,\"<\"&D131)","v":0},{"$error":"#DIV/0!"},{"$f":"SUMIFS(①会場アンケート集計結果_低炭素物流!$AB$9:$AB$2008,①会場アンケート集計結果_低炭素物流!$AG$9:$AG$2008,0,①会場アンケート集計結果_低炭素物流!$AB$9:$AB$2008,\">=\"&'②単純集計表 '!C131,①会場アンケート集計結果_低炭素物流!$AB$9:$AB$2008,\"<\"&D131)","v":0},{"$error":"#DIV/0!"},{"$f":"SUM($K$128:K131)","v":{"$error":"#DIV/0!"}}]
[null,null,4,5,"4個以上5個未満",null,null,{"$f":"COUNTIFS(①会場アンケート集計結果_低炭素物流!$AG:$AG,0,①会場アンケート集計結果_低炭素物流!$AB:$AB,\">=\"&'②単純集計表 '!C132,①会場アンケート集計結果_低炭素物流!$AB:$AB,\"<\"&D132)","v":0},{"$error":"#DIV/0!"},{"$f":"SUMIFS(①会場アンケート集計結果_低炭素物流!$AB$9:$AB$2008,①会場アンケート集計結果_低炭素物流!$AG$9:$AG$2008,0,①会場アンケート集計結果_低炭素物流!$AB$9:$AB$2008,\">=\"&'②単純集計表 '!C132,①会場アンケート集計結果_低炭素物流!$AB$9:$AB$2008,\"<\"&D132)","v":0},{"$error":"#DIV/0!"},{"$f":"SUM($K$128:K132)","v":{"$error":"#DIV/0!"}}]
[null,null,5,6,"5個以上6個未満",null,null,{"$f":"COUNTIFS(①会場アンケート集計結果_低炭素物流!$AG:$AG,0,①会場アンケート集計結果_低炭素物流!$AB:$AB,\">=\"&'②単純集計表 '!C133,①会場アンケート集計結果_低炭素物流!$AB:$AB,\"<\"&D133)","v":0},{"$error":"#DIV/0!"},{"$f":"SUMIFS(①会場アンケート集計結果_低炭素物流!$AB$9:$AB$2008,①会場アンケート集計結果_低炭素物流!$AG$9:$AG$2008,0,①会場アンケート集計結果_低炭素物流!$AB$9:$AB$2008,\">=\"&'②単純集計表 '!C133,①会場アンケート集計結果_低炭素物流!$AB$9:$AB$2008,\"<\"&D133)","v":0},{"$error":"#DIV/0!"},{"$f":"SUM($K$128:K133)","v":{"$error":"#DIV/0!"}}]
[null,null,6,7,"6個以上7個未満",null,null,{"$f":"COUNTIFS(①会場アンケート集計結果_低炭素物流!$AG:$AG,0,①会場アンケート集計結果_低炭素物流!$AB:$AB,\">=\"&'②単純集計表 '!C134,①会場アンケート集計結果_低炭素物流!$AB:$AB,\"<\"&D134)","v":0},{"$error":"#DIV/0!"},{"$f":"SUMIFS(①会場アンケート集計結果_低炭素物流!$AB$9:$AB$2008,①会場アンケート集計結果_低炭素物流!$AG$9:$AG$2008,0,①会場アンケート集計結果_低炭素物流!$AB$9:$AB$2008,\">=\"&'②単純集計表 '!C134,①会場アンケート集計結果_低炭素物流!$AB$9:$AB$2008,\"<\"&D134)","v":0},{"$error":"#DIV/0!"},{"$f":"SUM($K$128:K134)","v":{"$error":"#DIV/0!"}}]
[null,null,7,8,"7個以上8個未満",null,null,{"$f":"COUNTIFS(①会場アンケート集計結果_低炭素物流!$AG:$AG,0,①会場アンケート集計結果_低炭素物流!$AB:$AB,\">=\"&'②単純集計表 '!C135,①会場アンケート集計結果_低炭素物流!$AB:$AB,\"<\"&D135)","v":0},{"$error":"#DIV/0!"},{"$f":"SUMIFS(①会場アンケート集計結果_低炭素物流!$AB$9:$AB$2008,①会場アンケート集計結果_低炭素物流!$AG$9:$AG$2008,0,①会場アンケート集計結果_低炭素物流!$AB$9:$AB$2008,\">=\"&'②単純集計表 '!C135,①会場アンケート集計結果_低炭素物流!$AB$9:$AB$2008,\"<\"&D135)","v":0},{"$error":"#DIV/0!"},{"$f":"SUM($K$128:K135)","v":{"$error":"#DIV/0!"}}]
[null,null,8,9,"8個以上9個未満",null,null,{"$f":"COUNTIFS(①会場アンケート集計結果_低炭素物流!$AG:$AG,0,①会場アンケート集計結果_低炭素物流!$AB:$AB,\">=\"&'②単純集計表 '!C136,①会場アンケート集計結果_低炭素物流!$AB:$AB,\"<\"&D136)","v":0},{"$error":"#DIV/0!"},{"$f":"SUMIFS(①会場アンケート集計結果_低炭素物流!$AB$9:$AB$2008,①会場アンケート集計結果_低炭素物流!$AG$9:$AG$2008,0,①会場アンケート集計結果_低炭素物流!$AB$9:$AB$2008,\">=\"&'②単純集計表 '!C136,①会場アンケート集計結果_低炭素物流!$AB$9:$AB$2008,\"<\"&D136)","v":0},{"$error":"#DIV/0!"},{"$f":"SUM($K$128:K136)","v":{"$error":"#DIV/0!"}}]
[null,null,9,10,"9個以上10個未満",null,null,{"$f":"COUNTIFS(①会場アンケート集計結果_低炭素物流!$AG:$AG,0,①会場アンケート集計結果_低炭素物流!$AB:$AB,\">=\"&'②単純集計表 '!C137,①会場アンケート集計結果_低炭素物流!$AB:$AB,\"<\"&D137)","v":0},{"$error":"#DIV/0!"},{"$f":"SUMIFS(①会場アンケート集計結果_低炭素物流!$AB$9:$AB$2008,①会場アンケート集計結果_低炭素物流!$AG$9:$AG$2008,0,①会場アンケート集計結果_低炭素物流!$AB$9:$AB$2008,\">=\"&'②単純集計表 '!C137,①会場アンケート集計結果_低炭素物流!$AB$9:$AB$2008,\"<\"&D137)","v":0},{"$f":"J137/SUM($J$128:$J$138)","v":{"$error":"#DIV/0!"}},{"$f":"SUM($K$128:K137)","v":{"$error":"#DIV/0!"}}]
[null,null,10,30,"10個以上",null,null,{"$f":"COUNTIFS(①会場アンケート集計結果_低炭素物流!$AG:$AG,0,①会場アンケート集計結果_低炭素物流!$AB:$AB,\">=\"&'②単純集計表 '!C138,①会場アンケート集計結果_低炭素物流!$AB:$AB,\"<\"&D138)","v":0},{"$error":"#DIV/0!"},{"$f":"SUMIFS(①会場アンケート集計結果_低炭素物流!$AB$9:$AB$2008,①会場アンケート集計結果_低炭素物流!$AG$9:$AG$2008,0,①会場アンケート集計結果_低炭素物流!$AB$9:$AB$2008,\">=\"&'②単純集計表 '!C138,①会場アンケート集計結果_低炭素物流!$AB$9:$AB$2008,\"<\"&D138)","v":0},{"$error":"#DIV/0!"},{"$f":"SUM($K$128:K138)","v":{"$error":"#DIV/0!"}}]
[null,null,null,null,null,null,null,{"$f":"SUM(H128:H138)","v":0}]

{"sheet":"参照⇒","index":5,"n_rows":0,"n_cols":0,"rows_kept":0,"cut":false,"hidden":false,"merged":[]}

{"sheet":"読み替え表_低炭素物流","index":6,"n_rows":57,"n_cols":6,"rows_kept":57,"cut":false,"hidden":false,"merged":[]}
[]
[null,"・自宅で宅配を受け取る頻度"]
[null,null,null,null,null,"月当たり個数"]
[null,null,1,"毎日1個受け取る",null,30]
[null,null,2,"週に4~6個程度",null,20]
[null,null,3,"週に1~3個程度",null,8]
[null,null,4,"1か月に1~3個程度",null,2]
[null,null,5,"2~3か月に1個程度",null,0.5]
[null,null,6,"半年に1個程度",null,0.16666666666666666]
[null,null,7,"上記以下の頻度",null,8.3333333333333329E-2]
[null,null,8,"ほとんど利用しない",null,0]
[null,null,99,"未回答",null,0]
[]
[null,"・最近１年間の宅配便の再配達割合"]
[null,null,1,"ほぼすべての荷物で再配達をお願いしていた（9割以上）",null,0.9]
[null,null,2,"半分以上の荷物で再配達をお願いしていた（5割以上)",null,0.5]
[null,null,3,"3割程度の荷物で再配達をお願いしていた（3割以上）",null,0.3]
[null,null,4,"ほとんど再配達をお願いしたことはない（1~2割）",null,0.15]
[null,null,5,"再配達をお願いしたことはない",null,0]
[null,null,6,"宅配便の荷物を受け取っていない",null,0]
[null,null,99,"未回答",null,0]
[]
[null,"・イベント参加後の意識変容"]
[null,null,1,"これまでもほとんど1回で受け取っている"]
[null,null,2,"これまでもできるだけ1回で受け取りたいと思っており、今後はそのための対策も行おうと思う"]
[null,null,3,"これまでもできるだけ1回で受け取りたいと思っているが、特に対策は行わない"]
[null,null,4,"1回で受け取りたいと思うようになったので、今後はそのための対策を行おうと思う"]
[null,null,5,"1回で受け取りたいと思うようになったが、特に対策は行わない"]
[null,null,6,"1回で受け取りたいと思うようになったが、どうしたら受け取れるのかわからない"]
[null,null,7,"特に1回で受け取りたいと思わない"]
[null,null,99,"未回答"]
[]
[null,"・宅配便を１回で受け取りたい理由"]
[null,null,1,"CO2削減に貢献するため"]
[null,null,2,"再配達を削減するための具体的な方法がわかったため（事前通知サービスの活用等）"]
[null,null,3,"宅配便の約２割が再配達になっていることを知ったため"]
[null,null,4,"再配達の増加により、配達ドライバーの１０人のうち１人は一日中再配達を担当している計算になることを知ったため"]
[null,null,5,"1回で受け取ることによりポイントがもらえるため"]
[null,null,6,"送料が値上げされるなど自分の生活に影響があると嫌だと思うため"]
[null,null,7,"多くの人が1回で受け取っており、自分もそうする必要があると思ったため"]
[null,null,8,"その他"]
[null,null,99,"未回答"]
[]
[null,"・メールアドレス"]
[null,null,0,"メールアドレス記載無し"]
[null,null,1,"メールアドレス記載有り"]
[]
[null,"・無効回答の定義（アンケート分析対象外）"]
[null,null,null,"Q2=8（宅配をほとんど利用しない）"]
[null,null,null,"Q3=6（宅配便の荷物を受け取っていない）"]
[null,null,null,"Q4=99（未回答）"]
[]
[]
[null,"◆","アンケート配布状況オプション"]
[null,null,"普及啓発活動の実施前"]
[null,null,"普及啓発活動の実施直後"]
[null,null,"普及啓発活動実施の数日後"]