{"text_format":"1","workbook":"xlsx","n_sheets":7,"sheets":["入力手順","ローデータ⇒","①会場アンケート集計結果_スマートムーブ","集計結果⇒","②単純集計表 ","参照⇒","読み替え表_スマートムーブ"],"not_rendered":{"charts":7,"images":0,"macros":1,"external_links":0,"defined_names":2,"comments":0,"pivot_tables":0},"unopened":[],"bounds":{"document_bytes":16777216,"sheet_cells":100000,"rows_first":2000,"rows_last":500,"rows_between":2000,"halvings":0,"cell_chars":16384,"cell_head_chars":4096},"cells_cut":0,"cells_raw":0,"read":"whole","date_system":"1900"}

{"sheet":"入力手順","index":0,"n_rows":28,"n_cols":4,"rows_kept":28,"cut":false,"hidden":false,"merged":[[7,3,7,11],[23,1,23,12],[17,3,17,11],[18,3,18,11],[8,3,8,11],[9,3,9,11],[10,3,10,11],[11,3,11,11],[13,3,13,11],[15,3,15,11],[14,3,14,11],[16,3,16,11],[12,3,12,11]]}
[]
[null,"会場アンケート入力ツール　シート構成・入力手順--------------------------------------------"]
[null,"◆スマートムーブ"]
[]
[null,"①「会場アンケート集計結果_スマートムーブ」シート【要入力】"]
[null,"・講演会・イベント等で回収されたアンケート調査票を入力する（データ化する）ツール"]
[null,"＜手順＞"]
[null,null,"①","「会場アンケート情報」の黄色セル欄に事業者番号、PDCAシート記載の事業番号、実施日、実施場所、アンケート配布状況を記入する"]
[null,null,"②","「表示」をクリックし、入力フォームを表示させる"]
[null,null,"③","「入力行」にアンケート結果の入力を開始する行番号を入力する（添付エクセルの場合は10行目から開始）"]
[null,null,"④","都道府県名、事業者名、アンケートを実施したイベント名、アンケート回収日付をそれぞれの欄に記入する"]
[null,null,"⑤"," 性別・年齢は入力フォームにしたがって選択する"]
[null,null,"⑥","「普段使用している車種」は回答と一致するものを選択する"]
[null,null,"⑦","「２．普段の外出頻度について」は回答と一致するものを選択する"]
[null,null,"⑧","「３．外出に自家用車を利用する頻度について」は回答と一致するものを選択する"]
[null,null,"⑨","「４．今後のスマートムーブの実施意向について」は回答と一致するものを選択する"]
[null,null,"⑩","「５．スマートムーブの実施理由について」は回答と一致するものを選択する"]
[null,null,"⑪","「６．追跡アンケートへのご協力のお願い（メールアドレス）」では、アンケート下部を確認し、まずメールアドレスの有無を選択する。メールアドレスの記入があった場合は、メールアドレスを記入する"]
[null,null,"⑫","すべての入力が終わったら「【データ入力】」をクリック"]
[]
[]
[null,"②「単純集計表」シート"]
[null,"・「会場アンケート集計結果_スマートムーブ」シートに入力されたデータを簡易的に集計したものである"]
["\n","・来場者の性別・年代別構成比、使用している車種、外出頻度、外出における自家用車利用割合、イベント参加後のスマートムーブに対する意識及びスマートムーブの実施理由を把握可能"]
[]
[null,"③「読み替え表_スマートムーブ」シート"]
[null,"・本ファイルではアンケートの回答結果をデータ処理のため数字で代替している箇所がある"]
[null,"・その際のアンケート回答選択肢と数字の置換関係をまとめたシートである"]

{"sheet":"ローデータ⇒","index":1,"n_rows":0,"n_cols":0,"rows_kept":0,"cut":false,"hidden":false,"merged":[]}

{"sheet":"①会場アンケート集計結果_スマートムーブ","index":2,"n_rows":2010,"n_cols":49,"rows_kept":2010,"cut":false,"hidden":false,"merged":[[2,6,2,8],[6,19,6,20],[6,21,6,22],[6,23,6,24],[6,25,6,34],[6,7,6,18],[6,56,6,61],[6,62,6,70],[6,38,6,40],[6,35,6,37],[7,21,7,22],[7,23,7,24],[7,25,7,34],[7,8,8,8],[7,7,8,7],[7,9,7,18],[7,19,7,20],[6,50,6,55]]}
[null,null,{"$f":"COLUMN()","v":3},{"$f":"COLUMN()","v":4},{"$f":"COLUMN()","v":5},{"$f":"COLUMN()","v":6},{"$f":"COLUMN()","v":7},{"$f":"COLUMN()","v":8},{"$f":"COLUMN()","v":9},{"$f":"COLUMN()","v":10},{"$f":"COLUMN()","v":11},{"$f":"COLUMN()","v":12},{"$f":"COLUMN()","v":13},{"$f":"COLUMN()","v":14},{"$f":"COLUMN()","v":15},{"$f":"COLUMN()","v":16},{"$f":"COLUMN()","v":17},{"$f":"COLUMN()","v":18},{"$f":"COLUMN()","v":19},{"$f":"COLUMN()","v":20},{"$f":"COLUMN()","v":21},{"$f":"COLUMN()","v":22},{"$f":"COLUMN()","v":23},{"$f":"COLUMN()","v":24},{"$f":"COLUMN()","v":25},{"$f":"COLUMN()","v":26},{"$f":"COLUMN()","v":27},{"$f":"COLUMN()","v":28},{"$f":"COLUMN()","v":29},{"$f":"COLUMN()","v":30},{"$f":"COLUMN()","v":31},{"$f":"COLUMN()","v":32},{"$f":"COLUMN()","v":33},{"$f":"COLUMN()","v":34},{"$f":"COLUMN()","v":35},{"$f":"COLUMN()","v":36},{"$f":"COLUMN()","v":37},{"$f":"COLUMN()","v":38},{"$f":"COLUMN()","v":39},{"$f":"COLUMN()","v":40},{"$f":"COLUMN()","v":41},{"$f":"COLUMN()","v":42},{"$f":"COLUMN()","v":43},{"$f":"COLUMN()","v":44},{"$f":"COLUMN()","v":45},{"$f":"COLUMN()","v":46},{"$f":"COLUMN()","v":47},{"$f":"COLUMN()","v":48},"*"]
[null,null,null,"【会場アンケート情報】"]
[null,null,null,"事業者番号","PDCAシート記載の事業番号","イベント名\n（PDCAシート記載の名称）","講演会・イベント　実施日",null,null,"実施場所","アンケート配布状況\n（どのタイミングでアンケートを実施したか）","アンケート\n回収数","ﾒｰﾙｱﾄﾞﾚｽ\n回収数"]
[null,null,null,null,null,{"$f":"$F$10&\"\"","v":""},"2021/XX/XX","～","2022/XX/XX",null,null,{"$f":"COUNTA($F$10:$F$2009)","v":0},{"$f":"COUNTIF($AM$10:$AM$2009,1)","v":0}]
[null,null,null,null,null,null,null,null,null,null,"↑プルダウンメニューから選択してください"]
[null,null,null,null,null,null,null,null,null,null,null,null,null,null,null,null,null,null,null,null,null,null,null,null,null,null,null,null,null,null,null,null,null,null,null,null,null,"*"]
[null,null,null,"事業者情報",null,"イベント情報",null,"１．あなたご自身について",null,null,null,null,null,null,null,null,null,null,null,"２．普段の外出頻度について",null,"３．外出に自家用車を利用する頻度について",null,"４．今後のスマートムーブの実施意向について",null,"５．スマートムーブの実施理由について",null,null,null,null,null,null,null,null,null,"車での外出頻度",null,null,"６．追跡アンケートへのご協力のお願い（メールアドレス）",null,null,null,"（作業用）無効回答確認",null,null,null,null,null,"*"]
[null,null,null,null,null,null,null,"性別","年代","普段使用している車種",null,null,null,null,null,null,null,null,null,"あなたご自身で、外出する頻度についてお答えください。",null,"あなたご自身で、外出のうち自家用車を利用する割合をお答えください。",null," イベントに参加されて、今後はスマートムーブに取り組もうと思いましたか（1つ回答）。",null,"なぜ、スマートムーブに取り組もうと思いましたか（3つまで）。"]
[null,null,"#","都道府県","事業者名","イベント名\n（PDCAシート記載の名称）","回収日付",null,null,"ガソリン車","ハイブリッド車","電気自動車","ディーゼル車","燃料電池車","プラグインハイブリッド車","その他","その他（）","持っていない","未回答","#",null,"#",null,"#",null,"CO2削減","具体的な\n方法","時間短縮","経済的メリット","運動不足解消","学校・職場で奨励","必要性を\n感じた","その他","その他（）","未回答","外出頻度","自家用車利用頻度","月当たり車での外出頻度","記入\n有無","メールアドレス（＠より前）","ドメイン","特定ID","エラーフラグ","Q1=自家用車を持っていない","Q2=9（外出しない）","Q3=5（自家用車はほとんど利用していない）","Q5回答者フラグ","error","*"]
[null,null,{"$f":"ROW()-9","v":1},null,null,null,null,null,null,null,null,null,null,null,null,null,null,null,null,null,null,null,null,null,null,null,null,null,null,null,null,null,null,null,null,{"$f":"IF(H10=\"\",\"-\",VLOOKUP(T10,読み替え表_スマートムーブ!$C$4:$F$13,4,0))","v":"-"},{"$f":"IF(H10=\"\",\"-\",VLOOKUP(V10,読み替え表_スマートムーブ!$C$16:$F$21,4,0))","v":"-"},{"$f":"IF(H10=\"\",\"-\",AJ10*AK10)","v":"-"},null,null,null,null,{"$f":"IF(SUM($AR10:$AT10)>=1,1,0)","v":0},{"$f":"IF(R10=1,1,0)","v":0},{"$f":"IF(T10=9,1,0)","v":0},{"$f":"IF(V10=5,1,0)","v":0},{"$f":"IF(OR($X10=1,$X10=2,$X10=3),1,0)","v":0},{"$f":"AQ10","v":0},"*"]
[null,null,{"$f":"ROW()-9","v":2},null,null,null,null,null,null,null,null,null,null,null,null,null,null,null,null,null,null,null,null,null,null,null,null,null,null,null,null,null,null,null,null,{"$f":"IF(H11=\"\",\"-\",VLOOKUP(T11,読み替え表_スマートムーブ!$C$4:$F$13,4,0))","v":"-"},{"$f":"IF(H11=\"\",\"-\",VLOOKUP(V11,読み替え表_スマートムーブ!$C$16:$F$21,4,0))","v":"-"},{"$f":"IF(H11=\"\",\"-\",AJ11*AK11)","v":"-"},null,null,null,null,{"$f":"IF(SUM($AR11:$AT11)>=1,1,0)","v":0},{"$f":"IF(R11=1,1,0)","v":0},{"$f":"IF(T11=9,1,0)","v":0},{"$f":"IF(V11=5,1,0)","v":0},{"$f":"IF(OR($X11=1,$X11=2,$X11=3),1,0)","v":0},0,"*"]
[null,null,3,null,null,null,null,null,null,null,null,null,null,null,null,null,null,null,null,null,null,null,null,null,null,null,null,null,null,null,null,null,null,null,null,{"$f":"IF(H12=\"\",\"-\",VLOOKUP(T12,読み替え表_スマートムーブ!$C$4:$F$13,4,0))","v":"-"},{"$f":"IF(H12=\"\",\"-\",VLOOKUP(V12,読み替え表_スマートムーブ!$C$16:$F$21,4,0))","v":"-"},"-",null,null,null,null,0,0,0,0,0,0,"*"]
[null,null,4,null,null,null,null,null,null,null,null,null,null,null,null,null,null,null,null,null,null,null,null,null,null,null,null,null,null,null,null,null,null,null,null,{"$f":"IF(H13=\"\",\"-\",VLOOKUP(T13,読み替え表_スマートムーブ!$C$4:$F$13,4,0))","v":"-"},{"$f":"IF(H13=\"\",\"-\",VLOOKUP(V13,読み替え表_スマートムーブ!$C$16:$F$21,4,0))","v":"-"},"-",null,null,null,null,0,0,0,0,0,0,"*"]
[null,null,5,null,null,null,null,null,null,null,null,null,null,null,null,null,null,null,null,null,null,null,null,null,null,null,null,null,null,null,null,null,null,null,null,{"$f":"IF(H14=\"\",\"-\",VLOOKUP(T14,読み替え表_スマートムーブ!$C$4:$F$13,4,0))","v":"-"},{"$f":"IF(H14=\"\",\"-\",VLOOKUP(V14,読み替え表_スマートムーブ!$C$16:$F$21,4,0))","v":"-"},"-",null,null,null,null,0,0,0,0,0,0,"*"]
[null,null,6,null,null,null,null,null,null,null,null,null,null,null,null,null,null,null,null,null,null,null,null,null,null,null,null,null,null,null,null,null,null,null,null,{"$f":"IF(H15=\"\",\"-\",VLOOKUP(T15,読み替え表_スマートムーブ!$C$4:$F$13,4,0))","v":"-"},{"$f":"IF(H15=\"\",\"-\",VLOOKUP(V15,読み替え表_スマートムーブ!$C$16:$F$21,4,0))","v":"-"},{"$f":"IF(H15=\"\",\"-\",AJ15*AK15)","v":"-"},null,null,null,null,0,0,0,0,0,0,"*"]
[null,null,7,null,null,null,null,null,null,null,null,null,null,null,null,null,null,null,null,null,null,null,null,null,null,null,null,null,null,null,null,null,null,null,null,{"$f":"IF(H16=\"\",\"-\",VLOOKUP(T16,読み替え表_スマートムーブ!$C$4:$F$13,4,0))","v":"-"},{"$f":"IF(H16=\"\",\"-\",VLOOKUP(V16,読み替え表_スマートムーブ!$C$16:$F$21,4,0))","v":"-"},"-",null,null,null,null,0,0,0,0,0,0,"*"]
[null,null,8,null,null,null,null,null,null,null,null,null,null,null,null,null,null,null,null,null,null,null,null,null,null,null,null,null,null,null,null,null,null,null,null,{"$f":"IF(H17=\"\",\"-\",VLOOKUP(T17,読み替え表_スマートムーブ!$C$4:$F$13,4,0))","v":"-"},{"$f":"IF(H17=\"\",\"-\",VLOOKUP(V17,読み替え表_スマートムーブ!$C$16:$F$21,4,0))","v":"-"},"-",null,null,null,null,0,0,0,0,0,0,"*"]
[null,null,9,null,null,null,null,null,null,null,null,null,null,null,null,null,null,null,null,null,null,null,null,null,null,null,null,null,null,null,null,null,null,null,null,{"$f":"IF(H18=\"\",\"-\",VLOOKUP(T18,読み替え表_スマートムーブ!$C$4:$F$13,4,0))","v":"-"},{"$f":"IF(H18=\"\",\"-\",VLOOKUP(V18,読み替え表_スマートムーブ!$C$16:$F$21,4,0))","v":"-"},"-",null,null,null,null,0,0,0,0,0,0,"*"]
[null,null,10,null,null,null,null,null,null,null,null,null,null,null,null,null,null,null,null,null,null,null,null,null,null,null,null,null,null,null,null,null,null,null,null,{"$f":"IF(H19=\"\",\"-\",VLOOKUP(T19,読み替え表_スマートムーブ!$C$4:$F$13,4,0))","v":"-"},{"$f":"IF(H19=\"\",\"-\",VLOOKUP(V19,読み替え表_スマートムーブ!$C$16:$F$21,4,0))","v":"-"},"-",null,null,null,null,0,0,0,0,0,0,"*"]
[null,null,11,null,null,null,null,null,null,null,null,null,null,null,null,null,null,null,null,null,null,null,null,null,null,null,null,null,null,null,null,null,null,null,null,{"$f":"IF(H20=\"\",\"-\",VLOOKUP(T20,読み替え表_スマートムーブ!$C$4:$F$13,4,0))","v":"-"},{"$f":"IF(H20=\"\",\"-\",VLOOKUP(V20,読み替え表_スマートムーブ!$C$16:$F$21,4,0))","v":"-"},"-",null,null,null,null,0,0,0,0,0,0,"*"]
[null,null,12,null,null,null,null,null,null,null,null,null,null,null,null,null,null,null,null,null,null,null,null,null,null,null,null,null,null,null,null,null,null,null,null,{"$f":"IF(H21=\"\",\"-\",VLOOKUP(T21,読み替え表_スマートムーブ!$C$4:$F$13,4,0))","v":"-"},{"$f":"IF(H21=\"\",\"-\",VLOOKUP(V21,読み替え表_スマートムーブ!$C$16:$F$21,4,0))","v":"-"},"-",null,null,null,null,0,0,0,0,0,0,"*"]
[null,null,13,null,null,null,null,null,null,null,null,null,null,null,null,null,null,null,null,null,null,null,null,null,null,null,null,null,null,null,null,null,null,null,null,{"$f":"IF(H22=\"\",\"-\",VLOOKUP(T22,読み替え表_スマートムーブ!$C$4:$F$13,4,0))","v":"-"},{"$f":"IF(H22=\"\",\"-\",VLOOKUP(V22,読み替え表_スマートムーブ!$C$16:$F$21,4,0))","v":"-"},"-",null,null,null,null,0,0,0,0,0,0,"*"]
[null,null,14,null,null,null,null,null,null,null,null,null,null,null,null,null,null,null,null,null,null,null,null,null,null,null,null,null,null,null,null,null,null,null,null,{"$f":"IF(H23=\"\",\"-\",VLOOKUP(T23,読み替え表_スマートムーブ!$C$4:$F$13,4,0))","v":"-"},{"$f":"IF(H23=\"\",\"-\",VLOOKUP(V23,読み替え表_スマートムーブ!$C$16:$F$21,4,0))","v":"-"},"-",null,null,null,null,0,0,0,0,0,0,"*"]
[null,null,15,null,null,null,null,null,null,null,null,null,null,null,null,null,null,null,null,null,null,null,null,null,null,null,null,null,null,null,null,null,null,null,null,{"$f":"IF(H24=\"\",\"-\",VLOOKUP(T24,読み替え表_スマートムーブ!$C$4:$F$13,4,0))","v":"-"},{"$f":"IF(H24=\"\",\"-\",VLOOKUP(V24,読み替え表_スマートムーブ!$C$16:$F$21,4,0))","v":"-"},{"$f":"IF(H24=\"\",\"-\",AJ24*AK24)","v":"-"},null,null,null,null,0,0,0,0,0,0,"*"]
[null,null,16,null,null,null,null,null,null,null,null,null,null,null,null,null,null,null,null,null,null,null,null,null,null,null,null,null,null,null,null,null,null,null,null,{"$f":"IF(H25=\"\",\"-\",VLOOKUP(T25,読み替え表_スマートムーブ!$C$4:$F$13,4,0))","v":"-"},{"$f":"IF(H25=\"\",\"-\",VLOOKUP(V25,読み替え表_スマートムーブ!$C$16:$F$21,4,0))","v":"-"},"-",null,null,null,null,0,0,0,0,0,0,"*"]
[null,null,17,null,null,null,null,null,null,null,null,null,null,null,null,null,null,null,null,null,null,null,null,null,null,null,null,null,null,null,null,null,null,null,null,{"$f":"IF(H26=\"\",\"-\",VLOOKUP(T26,読み替え表_スマートムーブ!$C$4:$F$13,4,0))","v":"-"},{"$f":"IF(H26=\"\",\"-\",VLOOKUP(V26,読み替え表_スマートムーブ!$C$16:$F$21,4,0))","v":"-"},"-",null,null,null,null,0,0,0,0,0,0,"*"]
[null,null,18,null,null,null,null,null,null,null,null,null,null,null,null,null,null,null,null,null,null,null,null,null,null,null,null,null,null,null,null,null,null,null,null,{"$f":"IF(H27=\"\",\"-\",VLOOKUP(T27,読み替え表_スマートムーブ!$C$4:$F$13,4,0))","v":"-"},{"$f":"IF(H27=\"\",\"-\",VLOOKUP(V27,読み替え表_スマートムーブ!$C$16:$F$21,4,0))","v":"-"},"-",null,null,null,null,0,0,0,0,0,0,"*"]
[null,null,19,null,null,null,null,null,null,null,null,null,null,null,null,null,null,null,null,null,null,null,null,null,null,null,null,null,null,null,null,null,null,null,null,{"$f":"IF(H28=\"\",\"-\",VLOOKUP(T28,読み替え表_スマートムーブ!$C$4:$F$13,4,0))","v":"-"},{"$f":"IF(H28=\"\",\"-\",VLOOKUP(V28,読み替え表_スマートムーブ!$C$16:$F$21,4,0))","v":"-"},"-",null,null,null,null,0,0,0,0,0,0,"*"]
[null,null,20,null,null,null,null,null,null,null,null,null,null,null,null,null,null,null,null,null,null,null,null,null,null,null,null,null,null,null,null,null,null,null,null,{"$f":"IF(H29=\"\",\"-\",VLOOKUP(T29,読み替え表_スマートムーブ!$C$4:$F$13,4,0))","v":"-"},{"$f":"IF(H29=\"\",\"-\",VLOOKUP(V29,読み替え表_スマートムーブ!$C$16:$F$21,4,0))","v":"-"},"-",null,null,null,null,0,0,0,0,0,0,"*"]
[null,null,21,null,null,null,null,null,null,null,null,null,null,null,null,null,null,null,null,null,null,null,null,null,null,null,null,null,null,null,null,null,null,null,null,{"$f":"IF(H30=\"\",\"-\",VLOOKUP(T30,読み替え表_スマートムーブ!$C$4:$F$13,4,0))","v":"-"},{"$f":"IF(H30=\"\",\"-\",VLOOKUP(V30,読み替え表_スマートムーブ!$C$16:$F$21,4,0))","v":"-"},"-",null,null,null,null,0,0,0,0,0,0,"*"]
[null,null,22,null,null,null,null,null,null,null,null,null,null,null,null,null,null,null,null,null,null,null,null,null,null,null,null,null,null,null,null,null,null,null,null,{"$f":"IF(H31=\"\",\"-\",VLOOKUP(T31,読み替え表_スマートムーブ!$C$4:$F$13,4,0))","v":"-"},{"$f":"IF(H31=\"\",\"-\",VLOOKUP(V31,読み替え表_スマートムーブ!$C$16:$F$21,4,0))","v":"-"},"-",null,null,null,null,0,0,0,0,0,0,"*"]
[null,null,23,null,null,null,null,null,null,null,null,null,null,null,null,null,null,null,null,null,null,null,null,null,null,null,null,null,null,null,null,null,null,null,null,{"$f":"IF(H32=\"\",\"-\",VLOOKUP(T32,読み替え表_スマートムーブ!$C$4:$F$13,4,0))","v":"-"},{"$f":"IF(H32=\"\",\"-\",VLOOKUP(V32,読み替え表_スマートムーブ!$C$16:$F$21,4,0))","v":"-"},"-",null,null,null,null,0,0,0,0,0,0,"*"]
[null,null,24,null,null,null,null,null,null,null,null,null,null,null,null,null,null,null,null,null,null,null,null,null,null,null,null,null,null,null,null,null,null,null,null,{"$f":"IF(H33=\"\",\"-\",VLOOKUP(T33,読み替え表_スマートムーブ!$C$4:$F$13,4,0))","v":"-"},{"$f":"IF(H33=\"\",\"-\",VLOOKUP(V33,読み替え表_スマートムーブ!$C$16:$F$21,4,0))","v":"-"},"-",null,null,null,null,0,0,0,0,0,0,"*"]
[null,null,25,null,null,null,null,null,null,null,null,null,null,null,null,null,null,null,null,null,null,null,null,null,null,null,null,null,null,null,null,null,null,null,null,{"$f":"IF(H34=\"\",\"-\",VLOOKUP(T34,読み替え表_スマートムーブ!$C$4:$F$13,4,0))","v":"-"},{"$f":"IF(H34=\"\",\"-\",VLOOKUP(V34,読み替え表_スマートムーブ!$C$16:$F$21,4,0))","v":"-"},"-",null,null,null,null,0,0,0,0,0,0,"*"]
[null,null,26,null,null,null,null,null,null,null,null,null,null,null,null,null,null,null,null,null,null,null,null,null,null,null,null,null,null,null,null,null,null,null,null,{"$f":"IF(H35=\"\",\"-\",VLOOKUP(T35,読み替え表_スマートムーブ!$C$4:$F$13,4,0))","v":"-"},{"$f":"IF(H35=\"\",\"-\",VLOOKUP(V35,読み替え表_スマートムーブ!$C$16:$F$21,4,0))","v":"-"},"-",null,null,null,null,0,0,0,0,0,0,"*"]
[null,null,27,null,null,null,null,null,null,null,null,null,null,null,null,null,null,null,null,null,null,null,null,null,null,null,null,null,null,null,null,null,null,null,null,{"$f":"IF(H36=\"\",\"-\",VLOOKUP(T36,読み替え表_スマートムーブ!$C$4:$F$13,4,0))","v":"-"},{"$f":"IF(H36=\"\",\"-\",VLOOKUP(V36,読み替え表_スマートムーブ!$C$16:$F$21,4,0))","v":"-"},"-",null,null,null,null,0,0,0,0,0,0,"*"]
[null,null,28,null,null,null,null,null,null,null,null,null,null,null,null,null,null,null,null,null,null,null,null,null,null,null,null,null,null,null,null,null,null,null,null,{"$f":"IF(H37=\"\",\"-\",VLOOKUP(T37,読み替え表_スマートムーブ!$C$4:$F$13,4,0))","v":"-"},{"$f":"IF(H37=\"\",\"-\",VLOOKUP(V37,読み替え表_スマートムーブ!$C$16:$F$21,4,0))","v":"-"},"-",null,null,null,null,0,0,0,0,0,0,"*"]
[null,null,29,null,null,null,null,null,null,null,null,null,null,null,null,null,null,null,null,null,null,null,null,null,null,null,null,null,null,null,null,null,null,null,null,{"$f":"IF(H38=\"\",\"-\",VLOOKUP(T38,読み替え表_スマートムーブ!$C$4:$F$13,4,0))","v":"-"},{"$f":"IF(H38=\"\",\"-\",VLOOKUP(V38,読み替え表_スマートムーブ!$C$16:$F$21,4,0))","v":"-"},"-",null,null,null,null,0,0,0,0,0,0,"*"]
[null,null,30,null,null,null,null,null,null,null,null,null,null,null,null,null,null,null,null,null,null,null,null,null,null,null,null,null,null,null,null,null,null,null,null,{"$f":"IF(H39=\"\",\"-\",VLOOKUP(T39,読み替え表_スマートムーブ!$C$4:$F$13,4,0))","v":"-"},{"$f":"IF(H39=\"\",\"-\",VLOOKUP(V39,読み替え表_スマートムーブ!$C$16:$F$21,4,0))","v":"-"},"-",null,null,null,null,0,0,0,0,0,0,"*"]
[null,null,31,null,null,null,null,null,null,null,null,null,null,null,null,null,null,null,null,null,null,null,null,null,null,null,null,null,null,null,null,null,null,null,null,{"$f":"IF(H40=\"\",\"-\",VLOOKUP(T40,読み替え表_スマートムーブ!$C$4:$F$13,4,0))","v":"-"},{"$f":"IF(H40=\"\",\"-\",VLOOKUP(V40,読み替え表_スマートムーブ!$C$16:$F$21,4,0))","v":"-"},"-",null,null,null,null,0,0,0,0,0,0,"*"]
[null,null,32,null,null,null,null,null,null,null,null,null,null,null,null,null,null,null,null,null,null,null,null,null,null,null,null,null,null,null,null,null,null,null,null,{"$f":"IF(H41=\"\",\"-\",VLOOKUP(T41,読み替え表_スマートムーブ!$C$4:$F$13,4,0))","v":"-"},{"$f":"IF(H41=\"\",\"-\",VLOOKUP(V41,読み替え表_スマートムーブ!$C$16:$F$21,4,0))","v":"-"},"-",null,null,null,null,0,0,0,0,0,0,"*"]
[null,null,33,null,null,null,null,null,null,null,null,null,null,null,null,null,null,null,null,null,null,null,null,null,null,null,null,null,null,null,null,null,null,null,null,{"$f":"IF(H42=\"\",\"-\",VLOOKUP(T42,読み替え表_スマートムーブ!$C$4:$F$13,4,0))","v":"-"},{"$f":"IF(H42=\"\",\"-\",VLOOKUP(V42,読み替え表_スマートムーブ!$C$16:$F$21,4,0))","v":"-"},"-",null,null,null,null,0,0,0,0,0,0,"*"]
[null,null,34,null,null,null,null,null,null,null,null,null,null,null,null,null,null,null,null,null,null,null,null,null,null,null,null,null,null,null,null,null,null,null,null,{"$f":"IF(H43=\"\",\"-\",VLOOKUP(T43,読み替え表_スマートムーブ!$C$4:$F$13,4,0))","v":"-"},{"$f":"IF(H43=\"\",\"-\",VLOOKUP(V43,読み替え表_スマートムーブ!$C$16:$F$21,4,0))","v":"-"},"-",null,null,null,null,0,0,0,0,0,0,"*"]
[null,null,35,null,null,null,null,null,null,null,null,null,null,null,null,null,null,null,null,null,null,null,null,null,null,null,null,null,null,null,null,null,null,null,null,{"$f":"IF(H44=\"\",\"-\",VLOOKUP(T44,読み替え表_スマートムーブ!$C$4:$F$13,4,0))","v":"-"},{"$f":"IF(H44=\"\",\"-\",VLOOKUP(V44,読み替え表_スマートムーブ!$C$16:$F$21,4,0))","v":"-"},"-",null,null,null,null,0,0,0,0,0,0,"*"]
[null,null,36,null,null,null,null,null,null,null,null,null,null,null,null,null,null,null,null,null,null,null,null,null,null,null,null,null,null,null,null,null,null,null,null,{"$f":"IF(H45=\"\",\"-\",VLOOKUP(T45,読み替え表_スマートムーブ!$C$4:$F$13,4,0))","v":"-"},{"$f":"IF(H45=\"\",\"-\",VLOOKUP(V45,読み替え表_スマートムーブ!$C$16:$F$21,4,0))","v":"-"},"-",null,null,null,null,0,0,0,0,0,0,"*"]
[null,null,37,null,null,null,null,null,null,null,null,null,null,null,null,null,null,null,null,null,null,null,null,null,null,null,null,null,null,null,null,null,null,null,null,{"$f":"IF(H46=\"\",\"-\",VLOOKUP(T46,読み替え表_スマートムーブ!$C$4:$F$13,4,0))","v":"-"},{"$f":"IF(H46=\"\",\"-\",VLOOKUP(V46,読み替え表_スマートムーブ!$C$16:$F$21,4,0))","v":"-"},"-",null,null,null,null,0,0,0,0,0,0,"*"]
[null,null,38,null,null,null,null,null,null,null,null,null,null,null,null,null,null,null,null,null,null,null,null,null,null,null,null,null,null,null,null,null,null,null,null,{"$f":"IF(H47=\"\",\"-\",VLOOKUP(T47,読み替え表_スマートムーブ!$C$4:$F$13,4,0))","v":"-"},{"$f":"IF(H47=\"\",\"-\",VLOOKUP(V47,読み替え表_スマートムーブ!$C$16:$F$21,4,0))","v":"-"},"-",null,null,null,null,0,0,0,0,0,0,"*"]
[null,null,39,null,null,null,null,null,null,null,null,null,null,null,null,null,null,null,null,null,null,null,null,null,null,null,null,null,null,null,null,null,null,null,null,{"$f":"IF(H48=\"\",\"-\",VLOOKUP(T48,読み替え表_スマートムーブ!$C$4:$F$13,4,0))","v":"-"},{"$f":"IF(H48=\"\",\"-\",VLOOKUP(V48,読み替え表_スマートムーブ!$C$16:$F$21,4,0))","v":"-"},"-",null,null,null,null,0,0,0,0,0,0,"*"]
[null,null,40,null,null,null,null,null,null,null,null,null,null,null,null,null,null,null,null,null,null,null,null,null,null,null,null,null,null,null,null,null,null,null,null,{"$f":"IF(H49=\"\",\"-\",VLOOKUP(T49,読み替え表_スマートムーブ!$C$4:$F$13,4,0))","v":"-"},{"$f":"IF(H49=\"\",\"-\",VLOOKUP(V49,読み替え表_スマートムーブ!$C$16:$F$21,4,0))","v":"-"},"-",null,null,null,null,0,0,0,0,0,0,"*"]
[null,null,41,null,null,null,null,null,null,null,null,null,null,null,null,null,null,null,null,null,null,null,null,null,null,null,null,null,null,null,null,null,null,null,null,{"$f":"IF(H50=\"\",\"-\",VLOOKUP(T50,読み替え表_スマートムーブ!$C$4:$F$13,4,0))","v":"-"},{"$f":"IF(H50=\"\",\"-\",VLOOKUP(V50,読み替え表_スマートムーブ!$C$16:$F$21,4,0))","v":"-"},"-",null,null,null,null,0,0,0,0,0,0,"*"]
[null,null,42,null,null,null,null,null,null,null,null,null,null,null,null,null,null,null,null,null,null,null,null,null,null,null,null,null,null,null,null,null,null,null,null,{"$f":"IF(H51=\"\",\"-\",VLOOKUP(T51,読み替え表_スマートムーブ!$C$4:$F$13,4,0))","v":"-"},{"$f":"IF(H51=\"\",\"-\",VLOOKUP(V51,読み替え表_スマートムーブ!$C$16:$F$21,4,0))","v":"-"},"-",null,null,null,null,0,0,0,0,0,0,"*"]
[null,null,43,null,null,null,null,null,null,null,null,null,null,null,null,null,null,null,null,null,null,null,null,null,null,null,null,null,null,null,null,null,null,null,null,{"$f":"IF(H52=\"\",\"-\",VLOOKUP(T52,読み替え表_スマートムーブ!$C$4:$F$13,4,0))","v":"-"},{"$f":"IF(H52=\"\",\"-\",VLOOKUP(V52,読み替え表_スマートムーブ!$C$16:$F$21,4,0))","v":"-"},"-",null,null,null,null,0,0,0,0,0,0,"*"]
[null,null,44,null,null,null,null,null,null,null,null,null,null,null,null,null,null,null,null,null,null,null,null,null,null,null,null,null,null,null,null,null,null,null,null,{"$f":"IF(H53=\"\",\"-\",VLOOKUP(T53,読み替え表_スマートムーブ!$C$4:$F$13,4,0))","v":"-"},{"$f":"IF(H53=\"\",\"-\",VLOOKUP(V53,読み替え表_スマートムーブ!$C$16:$F$21,4,0))","v":"-"},"-",null,null,null,null,0,0,0,0,0,0,"*"]
[null,null,45,null,null,null,null,null,null,null,null,null,null,null,null,null,null,null,null,null,null,null,null,null,null,null,null,null,null,null,null,null,null,null,null,{"$f":"IF(H54=\"\",\"-\",VLOOKUP(T54,読み替え表_スマートムーブ!$C$4:$F$13,4,0))","v":"-"},{"$f":"IF(H54=\"\",\"-\",VLOOKUP(V54,読み替え表_スマートムーブ!$C$16:$F$21,4,0))","v":"-"},"-",null,null,null,null,0,0,0,0,0,0,"*"]
[null,null,46,null,null,null,null,null,null,null,null,null,null,null,null,null,null,null,null,null,null,null,null,null,null,null,null,null,null,null,null,null,null,null,null,{"$f":"IF(H55=\"\",\"-\",VLOOKUP(T55,読み替え表_スマートムーブ!$C$4:$F$13,4,0))","v":"-"},{"$f":"IF(H55=\"\",\"-\",VLOOKUP(V55,読み替え表_スマートムーブ!$C$16:$F$21,4,0))","v":"-"},"-",null,null,null,null,0,0,0,0,0,0,"*"]
[null,null,47,null,null,null,null,null,null,null,null,null,null,null,null,null,null,null,null,null,null,null,null,null,null,null,null,null,null,null,null,null,null,null,null,{"$f":"IF(H56=\"\",\"-\",VLOOKUP(T56,読み替え表_スマートムーブ!$C$4:$F$13,4,0))","v":"-"},{"$f":"IF(H56=\"\",\"-\",VLOOKUP(V56,読み替え表_スマートムーブ!$C$16:$F$21,4,0))","v":"-"},"-",null,null,null,null,0,0,0,0,0,0,"*"]
[null,null,48,null,null,null,null,null,null,null,null,null,null,null,null,null,null,null,null,null,null,null,null,null,null,null,null,null,null,null,null,null,null,null,null,{"$f":"IF(H57=\"\",\"-\",VLOOKUP(T57,読み替え表_スマートムーブ!$C$4:$F$13,4,0))","v":"-"},{"$f":"IF(H57=\"\",\"-\",VLOOKUP(V57,読み替え表_スマートムーブ!$C$16:$F$21,4,0))","v":"-"},"-",null,null,null,null,0,0,0,0,0,0,"*"]
[null,null,49,null,null,null,null,null,null,null,null,null,null,null,null,null,null,null,null,null,null,null,null,null,null,null,null,null,null,null,null,null,null,null,null,{"$f":"IF(H58=\"\",\"-\",VLOOKUP(T58,読み替え表_スマートムーブ!$C$4:$F$13,4,0))","v":"-"},{"$f":"IF(H58=\"\",\"-\",VLOOKUP(V58,読み替え表_スマートムーブ!$C$16:$F$21,4,0))","v":"-"},"-",null,null,null,null,0,0,0,0,0,0,"*"]
[null,null,50,null,null,null,null,null,null,null,null,null,null,null,null,null,null,null,null,null,null,null,null,null,null,null,null,null,null,null,null,null,null,null,null,{"$f":"IF(H59=\"\",\"-\",VLOOKUP(T59,読み替え表_スマートムーブ!$C$4:$F$13,4,0))","v":"-"},{"$f":"IF(H59=\"\",\"-\",VLOOKUP(V59,読み替え表_スマートムーブ!$C$16:$F$21,4,0))","v":"-"},"-",null,null,null,null,0,0,0,0,0,0,"*"]
[null,null,51,null,null,null,null,null,null,null,null,null,null,null,null,null,null,null,null,null,null,null,null,null,null,null,null,null,null,null,null,null,null,null,null,{"$f":"IF(H60=\"\",\"-\",VLOOKUP(T60,読み替え表_スマートムーブ!$C$4:$F$13,4,0))","v":"-"},{"$f":"IF(H60=\"\",\"-\",VLOOKUP(V60,読み替え表_スマートムーブ!$C$16:$F$21,4,0))","v":"-"},"-",null,null,null,null,0,0,0,0,0,0,"*"]
[null,null,52,null,null,null,null,null,null,null,null,null,null,null,null,null,null,null,null,null,null,null,null,null,null,null,null,null,null,null,null,null,null,null,null,{"$f":"IF(H61=\"\",\"-\",VLOOKUP(T61,読み替え表_スマートムーブ!$C$4:$F$13,4,0))","v":"-"},{"$f":"IF(H61=\"\",\"-\",VLOOKUP(V61,読み替え表_スマートムーブ!$C$16:$F$21,4,0))","v":"-"},"-",null,null,null,null,0,0,0,0,0,0,"*"]
[null,null,53,null,null,null,null,null,null,null,null,null,null,null,null,null,null,null,null,null,null,null,null,null,null,null,null,null,null,null,null,null,null,null,null,{"$f":"IF(H62=\"\",\"-\",VLOOKUP(T62,読み替え表_スマートムーブ!$C$4:$F$13,4,0))","v":"-"},{"$f":"IF(H62=\"\",\"-\",VLOOKUP(V62,読み替え表_スマートムーブ!$C$16:$F$21,4,0))","v":"-"},"-",null,null,null,null,0,0,0,0,0,0,"*"]
[null,null,54,null,null,null,null,null,null,null,null,null,null,null,null,null,null,null,null,null,null,null,null,null,null,null,null,null,null,null,null,null,null,null,null,{"$f":"IF(H63=\"\",\"-\",VLOOKUP(T63,読み替え表_スマートムーブ!$C$4:$F$13,4,0))","v":"-"},{"$f":"IF(H63=\"\",\"-\",VLOOKUP(V63,読み替え表_スマートムーブ!$C$16:$F$21,4,0))","v":"-"},"-",null,null,null,null,0,0,0,0,0,0,"*"]
[null,null,55,null,null,null,null,null,null,null,null,null,null,null,null,null,null,null,null,null,null,null,null,null,null,null,null,null,null,null,null,null,null,null,null,{"$f":"IF(H64=\"\",\"-\",VLOOKUP(T64,読み替え表_スマートムーブ!$C$4:$F$13,4,0))","v":"-"},{"$f":"IF(H64=\"\",\"-\",VLOOKUP(V64,読み替え表_スマートムーブ!$C$16:$F$21,4,0))","v":"-"},"-",null,null,null,null,0,0,0,0,0,0,"*"]
[null,null,56,null,null,null,null,null,null,null,null,null,null,null,null,null,null,null,null,null,null,null,null,null,null,null,null,null,null,null,null,null,null,null,null,{"$f":"IF(H65=\"\",\"-\",VLOOKUP(T65,読み替え表_スマートムーブ!$C$4:$F$13,4,0))","v":"-"},{"$f":"IF(H65=\"\",\"-\",VLOOKUP(V65,読み替え表_スマートムーブ!$C$16:$F$21,4,0))","v":"-"},"-",null,null,null,null,0,0,0,0,0,0,"*"]
[null,null,57,null,null,null,null,null,null,null,null,null,null,null,null,null,null,null,null,null,null,null,null,null,null,null,null,null,null,null,null,null,null,null,null,{"$f":"IF(H66=\"\",\"-\",VLOOKUP(T66,読み替え表_スマートムーブ!$C$4:$F$13,4,0))","v":"-"},{"$f":"IF(H66=\"\",\"-\",VLOOKUP(V66,読み替え表_スマートムーブ!$C$16:$F$21,4,0))","v":"-"},"-",null,null,null,null,0,0,0,0,0,0,"*"]
[null,null,58,null,null,null,null,null,null,null,null,null,null,null,null,null,null,null,null,null,null,null,null,null,null,null,null,null,null,null,null,null,null,null,null,{"$f":"IF(H67=\"\",\"-\",VLOOKUP(T67,読み替え表_スマートムーブ!$C$4:$F$13,4,0))","v":"-"},{"$f":"IF(H67=\"\",\"-\",VLOOKUP(V67,読み替え表_スマートムーブ!$C$16:$F$21,4,0))","v":"-"},"-",null,null,null,null,0,0,0,0,0,0,"*"]
[null,null,59,null,null,null,null,null,null,null,null,null,null,null,null,null,null,null,null,null,null,null,null,null,null,null,null,null,null,null,null,null,null,null,null,{"$f":"IF(H68=\"\",\"-\",VLOOKUP(T68,読み替え表_スマートムーブ!$C$4:$F$13,4,0))","v":"-"},{"$f":"IF(H68=\"\",\"-\",VLOOKUP(V68,読み替え表_スマートムーブ!$C$16:$F$21,4,0))","v":"-"},"-",null,null,null,null,0,0,0,0,0,0,"*"]
[null,null,60,null,null,null,null,null,null,null,null,null,null,null,null,null,null,null,null,null,null,null,null,null,null,null,null,null,null,null,null,null,null,null,null,{"$f":"IF(H69=\"\",\"-\",VLOOKUP(T69,読み替え表_スマートムーブ!$C$4:$F$13,4,0))","v":"-"},{"$f":"IF(H69=\"\",\"-\",VLOOKUP(V69,読み替え表_スマートムーブ!$C$16:$F$21,4,0))","v":"-"},"-",null,null,null,null,0,0,0,0,0,0,"*"]
[null,null,61,null,null,null,null,null,null,null,null,null,null,null,null,null,null,null,null,null,null,null,null,null,null,null,null,null,null,null,null,null,null,null,null,{"$f":"IF(H70=\"\",\"-\",VLOOKUP(T70,読み替え表_スマートムーブ!$C$4:$F$13,4,0))","v":"-"},{"$f":"IF(H70=\"\",\"-\",VLOOKUP(V70,読み替え表_スマートムーブ!$C$16:$F$21,4,0))","v":"-"},"-",null,null,null,null,0,0,0,0,0,0,"*"]
[null,null,62,null,null,null,null,null,null,null,null,null,null,null,null,null,null,null,null,null,null,null,null,null,null,null,null,null,null,null,null,null,null,null,null,{"$f":"IF(H71=\"\",\"-\",VLOOKUP(T71,読み替え表_スマートムーブ!$C$4:$F$13,4,0))","v":"-"},{"$f":"IF(H71=\"\",\"-\",VLOOKUP(V71,読み替え表_スマートムーブ!$C$16:$F$21,4,0))","v":"-"},"-",null,null,null,null,0,0,0,0,0,0,"*"]
[null,null,63,null,null,null,null,null,null,null,null,null,null,null,null,null,null,null,null,null,null,null,null,null,null,null,null,null,null,null,null,null,null,null,null,{"$f":"IF(H72=\"\",\"-\",VLOOKUP(T72,読み替え表_スマートムーブ!$C$4:$F$13,4,0))","v":"-"},{"$f":"IF(H72=\"\",\"-\",VLOOKUP(V72,読み替え表_スマートムーブ!$C$16:$F$21,4,0))","v":"-"},"-",null,null,null,null,0,0,0,0,0,0,"*"]
[null,null,64,null,null,null,null,null,null,null,null,null,null,null,null,null,null,null,null,null,null,null,null,null,null,null,null,null,null,null,null,null,null,null,null,{"$f":"IF(H73=\"\",\"-\",VLOOKUP(T73,読み替え表_スマートムーブ!$C$4:$F$13,4,0))","v":"-"},{"$f":"IF(H73=\"\",\"-\",VLOOKUP(V73,読み替え表_スマートムーブ!$C$16:$F$21,4,0))","v":"-"},"-",null,null,null,null,0,0,0,0,0,0,"*"]
[null,null,65,null,null,null,null,null,null,null,null,null,null,null,null,null,null,null,null,null,null,null,null,null,null,null,null,null,null,null,null,null,null,null,null,{"$f":"IF(H74=\"\",\"-\",VLOOKUP(T74,読み替え表_スマートムーブ!$C$4:$F$13,4,0))","v":"-"},{"$f":"IF(H74=\"\",\"-\",VLOOKUP(V74,読み替え表_スマートムーブ!$C$16:$F$21,4,0))","v":"-"},"-",null,null,null,null,0,0,0,0,0,{"$f":"AQ74","v":0},"*"]
[null,null,{"$f":"ROW()-9","v":66},null,null,null,null,null,null,null,null,null,null,null,null,null,null,null,null,null,null,null,null,null,null,null,null,null,null,null,null,null,null,null,null,{"$f":"IF(H75=\"\",\"-\",VLOOKUP(T75,読み替え表_スマートムーブ!$C$4:$F$13,4,0))","v":"-"},{"$f":"IF(H75=\"\",\"-\",VLOOKUP(V75,読み替え表_スマートムーブ!$C$16:$F$21,4,0))","v":"-"},{"$f":"IF(H75=\"\",\"-\",AJ75*AK75)","v":"-"},null,null,null,null,{"$f":"IF(SUM($AR75:$AT75)>=1,1,0)","v":0},{"$f":"IF(R75=1,1,0)","v":0},{"$f":"IF(T75=9,1,0)","v":0},{"$f":"IF(V75=5,1,0)","v":0},{"$f":"IF(OR($X75=1,$X75=2,$X75=3),1,0)","v":0},0,"*"]
[null,null,67,null,null,null,null,null,null,null,null,null,null,null,null,null,null,null,null,null,null,null,null,null,null,null,null,null,null,null,null,null,null,null,null,{"$f":"IF(H76=\"\",\"-\",VLOOKUP(T76,読み替え表_スマートムーブ!$C$4:$F$13,4,0))","v":"-"},{"$f":"IF(H76=\"\",\"-\",VLOOKUP(V76,読み替え表_スマートムーブ!$C$16:$F$21,4,0))","v":"-"},"-",null,null,null,null,0,0,0,0,0,0,"*"]
[null,null,68,null,null,null,null,null,null,null,null,null,null,null,null,null,null,null,null,null,null,null,null,null,null,null,null,null,null,null,null,null,null,null,null,{"$f":"IF(H77=\"\",\"-\",VLOOKUP(T77,読み替え表_スマートムーブ!$C$4:$F$13,4,0))","v":"-"},{"$f":"IF(H77=\"\",\"-\",VLOOKUP(V77,読み替え表_スマートムーブ!$C$16:$F$21,4,0))","v":"-"},"-",null,null,null,null,0,0,0,0,0,0,"*"]
[null,null,69,null,null,null,null,null,null,null,null,null,null,null,null,null,null,null,null,null,null,null,null,null,null,null,null,null,null,null,null,null,null,null,null,{"$f":"IF(H78=\"\",\"-\",VLOOKUP(T78,読み替え表_スマートムーブ!$C$4:$F$13,4,0))","v":"-"},{"$f":"IF(H78=\"\",\"-\",VLOOKUP(V78,読み替え表_スマートムーブ!$C$16:$F$21,4,0))","v":"-"},"-",null,null,null,null,0,0,0,0,0,0,"*"]
[null,null,70,null,null,null,null,null,null,null,null,null,null,null,null,null,null,null,null,null,null,null,null,null,null,null,null,null,null,null,null,null,null,null,null,{"$f":"IF(H79=\"\",\"-\",VLOOKUP(T79,読み替え表_スマートムーブ!$C$4:$F$13,4,0))","v":"-"},{"$f":"IF(H79=\"\",\"-\",VLOOKUP(V79,読み替え表_スマートムーブ!$C$16:$F$21,4,0))","v":"-"},"-",null,null,null,null,0,0,0,0,0,0,"*"]
[null,null,71,null,null,null,null,null,null,null,null,null,null,null,null,null,null,null,null,null,null,null,null,null,null,null,null,null,null,null,null,null,null,null,null,{"$f":"IF(H80=\"\",\"-\",VLOOKUP(T80,読み替え表_スマートムーブ!$C$4:$F$13,4,0))","v":"-"},{"$f":"IF(H80=\"\",\"-\",VLOOKUP(V80,読み替え表_スマートムーブ!$C$16:$F$21,4,0))","v":"-"},"-",null,null,null,null,0,0,0,0,0,0,"*"]
[null,null,72,null,null,null,null,null,null,null,null,null,null,null,null,null,null,null,null,null,null,null,null,null,null,null,null,null,null,null,null,null,null,null,null,{"$f":"IF(H81=\"\",\"-\",VLOOKUP(T81,読み替え表_スマートムーブ!$C$4:$F$13,4,0))","v":"-"},{"$f":"IF(H81=\"\",\"-\",VLOOKUP(V81,読み替え表_スマートムーブ!$C$16:$F$21,4,0))","v":"-"},"-",null,null,null,null,0,0,0,0,0,0,"*"]
[null,null,73,null,null,null,null,null,null,null,null,null,null,null,null,null,null,null,null,null,null,null,null,null,null,null,null,null,null,null,null,null,null,null,null,{"$f":"IF(H82=\"\",\"-\",VLOOKUP(T82,読み替え表_スマートムーブ!$C$4:$F$13,4,0))","v":"-"},{"$f":"IF(H82=\"\",\"-\",VLOOKUP(V82,読み替え表_スマートムーブ!$C$16:$F$21,4,0))","v":"-"},"-",null,null,null,null,0,0,0,0,0,0,"*"]
[null,null,74,null,null,null,null,null,null,null,null,null,null,null,null,null,null,null,null,null,null,null,null,null,null,null,null,null,null,null,null,null,null,null,null,{"$f":"IF(H83=\"\",\"-\",VLOOKUP(T83,読み替え表_スマートムーブ!$C$4:$F$13,4,0))","v":"-"},{"$f":"IF(H83=\"\",\"-\",VLOOKUP(V83,読み替え表_スマートムーブ!$C$16:$F$21,4,0))","v":"-"},"-",null,null,null,null,0,0,0,0,0,0,"*"]
[null,null,75,null,null,null,null,null,null,null,null,null,null,null,null,null,null,null,null,null,null,null,null,null,null,null,null,null,null,null,null,null,null,null,null,{"$f":"IF(H84=\"\",\"-\",VLOOKUP(T84,読み替え表_スマートムーブ!$C$4:$F$13,4,0))","v":"-"},{"$f":"IF(H84=\"\",\"-\",VLOOKUP(V84,読み替え表_スマートムーブ!$C$16:$F$21,4,0))","v":"-"},"-",null,null,null,null,0,0,0,0,0,0,"*"]
[null,null,76,null,null,null,null,null,null,null,null,null,null,null,null,null,null,null,null,null,null,null,null,null,null,null,null,null,null,null,null,null,null,null,null,{"$f":"IF(H85=\"\",\"-\",VLOOKUP(T85,読み替え表_スマートムーブ!$C$4:$F$13,4,0))","v":"-"},{"$f":"IF(H85=\"\",\"-\",VLOOKUP(V85,読み替え表_スマートムーブ!$C$16:$F$21,4,0))","v":"-"},"-",null,null,null,null,0,0,0,0,0,0,"*"]
[null,null,77,null,null,null,null,null,null,null,null,null,null,null,null,null,null,null,null,null,null,null,null,null,null,null,null,null,null,null,null,null,null,null,null,{"$f":"IF(H86=\"\",\"-\",VLOOKUP(T86,読み替え表_スマートムーブ!$C$4:$F$13,4,0))","v":"-"},{"$f":"IF(H86=\"\",\"-\",VLOOKUP(V86,読み替え表_スマートムーブ!$C$16:$F$21,4,0))","v":"-"},"-",null,null,null,null,0,0,0,0,0,0,"*"]
[null,null,78,null,null,null,null,null,null,null,null,null,null,null,null,null,null,null,null,null,null,null,null,null,null,null,null,null,null,null,null,null,null,null,null,{"$f":"IF(H87=\"\",\"-\",VLOOKUP(T87,読み替え表_スマートムーブ!$C$4:$F$13,4,0))","v":"-"},{"$f":"IF(H87=\"\",\"-\",VLOOKUP(V87,読み替え表_スマートムーブ!$C$16:$F$21,4,0))","v":"-"},"-",null,null,null,null,0,0,0,0,0,0,"*"]
[null,null,79,null,null,null,null,null,null,null,null,null,null,null,null,null,null,null,null,null,null,null,null,null,null,null,null,null,null,null,null,null,null,null,null,{"$f":"IF(H88=\"\",\"-\",VLOOKUP(T88,読み替え表_スマートムーブ!$C$4:$F$13,4,0))","v":"-"},{"$f":"IF(H88=\"\",\"-\",VLOOKUP(V88,読み替え表_スマートムーブ!$C$16:$F$21,4,0))","v":"-"},"-",null,null,null,null,0,0,0,0,0,0,"*"]
[null,null,80,null,null,null,null,null,null,null,null,null,null,null,null,null,null,null,null,null,null,null,null,null,null,null,null,null,null,null,null,null,null,null,null,{"$f":"IF(H89=\"\",\"-\",VLOOKUP(T89,読み替え表_スマートムーブ!$C$4:$F$13,4,0))","v":"-"},{"$f":"IF(H89=\"\",\"-\",VLOOKUP(V89,読み替え表_スマートムーブ!$C$16:$F$21,4,0))","v":"-"},"-",null,null,null,null,0,0,0,0,0,0,"*"]
[null,null,81,null,null,null,null,null,null,null,null,null,null,null,null,null,null,null,null,null,null,null,null,null,null,null,null,null,null,null,null,null,null,null,null,{"$f":"IF(H90=\"\",\"-\",VLOOKUP(T90,読み替え表_スマートムーブ!$C$4:$F$13,4,0))","v":"-"},{"$f":"IF(H90=\"\",\"-\",VLOOKUP(V90,読み替え表_スマートムーブ!$C$16:$F$21,4,0))","v":"-"},"-",null,null,null,null,0,0,0,0,0,0,"*"]
[null,null,82,null,null,null,null,null,null,null,null,null,null,null,null,null,null,null,null,null,null,null,null,null,null,null,null,null,null,null,null,null,null,null,null,{"$f":"IF(H91=\"\",\"-\",VLOOKUP(T91,読み替え表_スマートムーブ!$C$4:$F$13,4,0))","v":"-"},{"$f":"IF(H91=\"\",\"-\",VLOOKUP(V91,読み替え表_スマートムーブ!$C$16:$F$21,4,0))","v":"-"},"-",null,null,null,null,0,0,0,0,0,0,"*"]
[null,null,83,null,null,null,null,null,null,null,null,null,null,null,null,null,null,null,null,null,null,null,null,null,null,null,null,null,null,null,null,null,null,null,null,{"$f":"IF(H92=\"\",\"-\",VLOOKUP(T92,読み替え表_スマートムーブ!$C$4:$F$13,4,0))","v":"-"},{"$f":"IF(H92=\"\",\"-\",VLOOKUP(V92,読み替え表_スマートムーブ!$C$16:$F$21,4,0))","v":"-"},"-",null,null,null,null,0,0,0,0,0,0,"*"]
[null,null,84,null,null,null,null,null,null,null,null,null,null,null,null,null,null,null,null,null,null,null,null,null,null,null,null,null,null,null,null,null,null,null,null,{"$f":"IF(H93=\"\",\"-\",VLOOKUP(T93,読み替え表_スマートムーブ!$C$4:$F$13,4,0))","v":"-"},{"$f":"IF(H93=\"\",\"-\",VLOOKUP(V93,読み替え表_スマートムーブ!$C$16:$F$21,4,0))","v":"-"},"-",null,null,null,null,0,0,0,0,0,0,"*"]
[null,null,85,null,null,null,null,null,null,null,null,null,null,null,null,null,null,null,null,null,null,null,null,null,null,null,null,null,null,null,null,null,null,null,null,{"$f":"IF(H94=\"\",\"-\",VLOOKUP(T94,読み替え表_スマートムーブ!$C$4:$F$13,4,0))","v":"-"},{"$f":"IF(H94=\"\",\"-\",VLOOKUP(V94,読み替え表_スマートムーブ!$C$16:$F$21,4,0))","v":"-"},"-",null,null,null,null,0,0,0,0,0,0,"*"]
[null,null,86,null,null,null,null,null,null,null,null,null,null,null,null,null,null,null,null,null,null,null,null,null,null,null,null,null,null,null,null,null,null,null,null,{"$f":"IF(H95=\"\",\"-\",VLOOKUP(T95,読み替え表_スマートムーブ!$C$4:$F$13,4,0))","v":"-"},{"$f":"IF(H95=\"\",\"-\",VLOOKUP(V95,読み替え表_スマートムーブ!$C$16:$F$21,4,0))","v":"-"},"-",null,null,null,null,0,0,0,0,0,0,"*"]
[null,null,87,null,null,null,null,null,null,null,null,null,null,null,null,null,null,null,null,null,null,null,null,null,null,null,null,null,null,null,null,null,null,null,null,{"$f":"IF(H96=\"\",\"-\",VLOOKUP(T96,読み替え表_スマートムーブ!$C$4:$F$13,4,0))","v":"-"},{"$f":"IF(H96=\"\",\"-\",VLOOKUP(V96,読み替え表_スマートムーブ!$C$16:$F$21,4,0))","v":"-"},"-",null,null,null,null,0,0,0,0,0,0,"*"]
[null,null,88,null,null,null,null,null,null,null,null,null,null,null,null,null,null,null,null,null,null,null,null,null,null,null,null,null,null,null,null,null,null,null,null,{"$f":"IF(H97=\"\",\"-\",VLOOKUP(T97,読み替え表_スマートムーブ!$C$4:$F$13,4,0))","v":"-"},{"$f":"IF(H97=\"\",\"-\",VLOOKUP(V97,読み替え表_スマートムーブ!$C$16:$F$21,4,0))","v":"-"},"-",null,null,null,null,0,0,0,0,0,0,"*"]
[null,null,89,null,null,null,null,null,null,null,null,null,null,null,null,null,null,null,null,null,null,null,null,null,null,null,null,null,null,null,null,null,null,null,null,{"$f":"IF(H98=\"\",\"-\",VLOOKUP(T98,読み替え表_スマートムーブ!$C$4:$F$13,4,0))","v":"-"},{"$f":"IF(H98=\"\",\"-\",VLOOKUP(V98,読み替え表_スマートムーブ!$C$16:$F$21,4,0))","v":"-"},"-",null,null,null,null,0,0,0,0,0,0,"*"]
[null,null,90,null,null,null,null,null,null,null,null,null,null,null,null,null,null,null,null,null,null,null,null,null,null,null,null,null,null,null,null,null,null,null,null,{"$f":"IF(H99=\"\",\"-\",VLOOKUP(T99,読み替え表_スマートムーブ!$C$4:$F$13,4,0))","v":"-"},{"$f":"IF(H99=\"\",\"-\",VLOOKUP(V99,読み替え表_スマートムーブ!$C$16:$F$21,4,0))","v":"-"},"-",null,null,null,null,0,0,0,0,0,0,"*"]
[null,null,91,null,null,null,null,null,null,null,null,null,null,null,null,null,null,null,null,null,null,null,null,null,null,null,null,null,null,null,null,null,null,null,null,{"$f":"IF(H100=\"\",\"-\",VLOOKUP(T100,読み替え表_スマートムーブ!$C$4:$F$13,4,0))","v":"-"},{"$f":"IF(H100=\"\",\"-\",VLOOKUP(V100,読み替え表_スマートムーブ!$C$16:$F$21,4,0))","v":"-"},"-",null,null,null,null,0,0,0,0,0,0,"*"]
[null,null,92,null,null,null,null,null,null,null,null,null,null,null,null,null,null,null,null,null,null,null,null,null,null,null,null,null,null,null,null,null,null,null,null,{"$f":"IF(H101=\"\",\"-\",VLOOKUP(T101,読み替え表_スマートムーブ!$C$4:$F$13,4,0))","v":"-"},{"$f":"IF(H101=\"\",\"-\",VLOOKUP(V101,読み替え表_スマートムーブ!$C$16:$F$21,4,0))","v":"-"},"-",null,null,null,null,0,0,0,0,0,0,"*"]
[null,null,93,null,null,null,null,null,null,null,null,null,null,null,null,null,null,null,null,null,null,null,null,null,null,null,null,null,null,null,null,null,null,null,null,{"$f":"IF(H102=\"\",\"-\",VLOOKUP(T102,読み替え表_スマートムーブ!$C$4:$F$13,4,0))","v":"-"},{"$f":"IF(H102=\"\",\"-\",VLOOKUP(V102,読み替え表_スマートムーブ!$C$16:$F$21,4,0))","v":"-"},"-",null,null,null,null,0,0,0,0,0,0,"*"]
[null,null,94,null,null,null,null,null,null,null,null,null,null,null,null,null,null,null,null,null,null,null,null,null,null,null,null,null,null,null,null,null,null,null,null,{"$f":"IF(H103=\"\",\"-\",VLOOKUP(T103,読み替え表_スマートムーブ!$C$4:$F$13,4,0))","v":"-"},{"$f":"IF(H103=\"\",\"-\",VLOOKUP(V103,読み替え表_スマートムーブ!$C$16:$F$21,4,0))","v":"-"},"-",null,null,null,null,0,0,0,0,0,0,"*"]
[null,null,95,null,null,null,null,null,null,null,null,null,null,null,null,null,null,null,null,null,null,null,null,null,null,null,null,null,null,null,null,null,null,null,null,{"$f":"IF(H104=\"\",\"-\",VLOOKUP(T104,読み替え表_スマートムーブ!$C$4:$F$13,4,0))","v":"-"},{"$f":"IF(H104=\"\",\"-\",VLOOKUP(V104,読み替え表_スマートムーブ!$C$16:$F$21,4,0))","v":"-"},"-",null,null,null,null,0,0,0,0,0,0,"*"]
[null,null,96,null,null,null,null,null,null,null,null,null,null,null,null,null,null,null,null,null,null,null,null,null,null,null,null,null,null,null,null,null,null,null,null,{"$f":"IF(H105=\"\",\"-\",VLOOKUP(T105,読み替え表_スマートムーブ!$C$4:$F$13,4,0))","v":"-"},{"$f":"IF(H105=\"\",\"-\",VLOOKUP(V105,読み替え表_スマートムーブ!$C$16:$F$21,4,0))","v":"-"},"-",null,null,null,null,0,0,0,0,0,0,"*"]
[null,null,97,null,null,null,null,null,null,null,null,null,null,null,null,null,null,null,null,null,null,null,null,null,null,null,null,null,null,null,null,null,null,null,null,{"$f":"IF(H106=\"\",\"-\",VLOOKUP(T106,読み替え表_スマートムーブ!$C$4:$F$13,4,0))","v":"-"},{"$f":"IF(H106=\"\",\"-\",VLOOKUP(V106,読み替え表_スマートムーブ!$C$16:$F$21,4,0))","v":"-"},"-",null,null,null,null,0,0,0,0,0,0,"*"]
[null,null,98,null,null,null,null,null,null,null,null,null,null,null,null,null,null,null,null,null,null,null,null,null,null,null,null,null,null,null,null,null,null,null,null,{"$f":"IF(H107=\"\",\"-\",VLOOKUP(T107,読み替え表_スマートムーブ!$C$4:$F$13,4,0))","v":"-"},{"$f":"IF(H107=\"\",\"-\",VLOOKUP(V107,読み替え表_スマートムーブ!$C$16:$F$21,4,0))","v":"-"},"-",null,null,null,null,0,0,0,0,0,0,"*"]
[null,null,99,null,null,null,null,null,null,null,null,null,null,null,null,null,null,null,null,null,null,null,null,null,null,null,null,null,null,null,null,null,null,null,null,{"$f":"IF(H108=\"\",\"-\",VLOOKUP(T108,読み替え表_スマートムーブ!$C$4:$F$13,4,0))","v":"-"},{"$f":"IF(H108=\"\",\"-\",VLOOKUP(V108,読み替え表_スマートムーブ!$C$16:$F$21,4,0))","v":"-"},"-",null,null,null,null,0,0,0,0,0,0,"*"]
[null,null,100,null,null,null,null,null,null,null,null,null,null,null,null,null,null,null,null,null,null,null,null,null,null,null,null,null,null,null,null,null,null,null,null,{"$f":"IF(H109=\"\",\"-\",VLOOKUP(T109,読み替え表_スマートムーブ!$C$4:$F$13,4,0))","v":"-"},{"$f":"IF(H109=\"\",\"-\",VLOOKUP(V109,読み替え表_スマートムーブ!$C$16:$F$21,4,0))","v":"-"},"-",null,null,null,null,0,0,0,0,0,0,"*"]
[null,null,101,null,null,null,null,null,null,null,null,null,null,null,null,null,null,null,null,null,null,null,null,null,null,null,null,null,null,null,null,null,null,null,null,{"$f":"IF(H110=\"\",\"-\",VLOOKUP(T110,読み替え表_スマートムーブ!$C$4:$F$13,4,0))","v":"-"},{"$f":"IF(H110=\"\",\"-\",VLOOKUP(V110,読み替え表_スマートムーブ!$C$16:$F$21,4,0))","v":"-"},"-",null,null,null,null,0,0,0,0,0,0,"*"]
[null,null,102,null,null,null,null,null,null,null,null,null,null,null,null,null,null,null,null,null,null,null,null,null,null,null,null,null,null,null,null,null,null,null,null,{"$f":"IF(H111=\"\",\"-\",VLOOKUP(T111,読み替え表_スマートムーブ!$C$4:$F$13,4,0))","v":"-"},{"$f":"IF(H111=\"\",\"-\",VLOOKUP(V111,読み替え表_スマートムーブ!$C$16:$F$21,4,0))","v":"-"},"-",null,null,null,null,0,0,0,0,0,0,"*"]
[null,null,103,null,null,null,null,null,null,null,null,null,null,null,null,null,null,null,null,null,null,null,null,null,null,null,null,null,null,null,null,null,null,null,null,{"$f":"IF(H112=\"\",\"-\",VLOOKUP(T112,読み替え表_スマートムーブ!$C$4:$F$13,4,0))","v":"-"},{"$f":"IF(H112=\"\",\"-\",VLOOKUP(V112,読み替え表_スマートムーブ!$C$16:$F$21,4,0))","v":"-"},"-",null,null,null,null,0,0,0,0,0,0,"*"]
[null,null,104,null,null,null,null,null,null,null,null,null,null,null,null,null,null,null,null,null,null,null,null,null,null,null,null,null,null,null,null,null,null,null,null,{"$f":"IF(H113=\"\",\"-\",VLOOKUP(T113,読み替え表_スマートムーブ!$C$4:$F$13,4,0))","v":"-"},{"$f":"IF(H113=\"\",\"-\",VLOOKUP(V113,読み替え表_スマートムーブ!$C$16:$F$21,4,0))","v":"-"},"-",null,null,null,null,0,0,0,0,0,0,"*"]
[null,null,105,null,null,null,null,null,null,null,null,null,null,null,null,null,null,null,null,null,null,null,null,null,null,null,null,null,null,null,null,null,null,null,null,{"$f":"IF(H114=\"\",\"-\",VLOOKUP(T114,読み替え表_スマートムーブ!$C$4:$F$13,4,0))","v":"-"},{"$f":"IF(H114=\"\",\"-\",VLOOKUP(V114,読み替え表_スマートムーブ!$C$16:$F$21,4,0))","v":"-"},"-",null,null,null,null,0,0,0,0,0,0,"*"]
[null,null,106,null,null,null,null,null,null,null,null,null,null,null,null,null,null,null,null,null,null,null,null,null,null,null,null,null,null,null,null,null,null,null,null,{"$f":"IF(H115=\"\",\"-\",VLOOKUP(T115,読み替え表_スマートムーブ!$C$4:$F$13,4,0))","v":"-"},{"$f":"IF(H115=\"\",\"-\",VLOOKUP(V115,読み替え表_スマートムーブ!$C$16:$F$21,4,0))","v":"-"},"-",null,null,null,null,0,0,0,0,0,0,"*"]
[null,null,107,null,null,null,null,null,null,null,null,null,null,null,null,null,null,null,null,null,null,null,null,null,null,null,null,null,null,null,null,null,null,null,null,{"$f":"IF(H116=\"\",\"-\",VLOOKUP(T116,読み替え表_スマートムーブ!$C$4:$F$13,4,0))","v":"-"},{"$f":"IF(H116=\"\",\"-\",VLOOKUP(V116,読み替え表_スマートムーブ!$C$16:$F$21,4,0))","v":"-"},"-",null,null,null,null,0,0,0,0,0,0,"*"]
[null,null,108,null,null,null,null,null,null,null,null,null,null,null,null,null,null,null,null,null,null,null,null,null,null,null,null,null,null,null,null,null,null,null,null,{"$f":"IF(H117=\"\",\"-\",VLOOKUP(T117,読み替え表_スマートムーブ!$C$4:$F$13,4,0))","v":"-"},{"$f":"IF(H117=\"\",\"-\",VLOOKUP(V117,読み替え表_スマートムーブ!$C$16:$F$21,4,0))","v":"-"},"-",null,null,null,null,0,0,0,0,0,0,"*"]
[null,null,109,null,null,null,null,null,null,null,null,null,null,null,null,null,null,null,null,null,null,null,null,null,null,null,null,null,null,null,null,null,null,null,null,{"$f":"IF(H118=\"\",\"-\",VLOOKUP(T118,読み替え表_スマートムーブ!$C$4:$F$13,4,0))","v":"-"},{"$f":"IF(H118=\"\",\"-\",VLOOKUP(V118,読み替え表_スマートムーブ!$C$16:$F$21,4,0))","v":"-"},"-",null,null,null,null,0,0,0,0,0,0,"*"]
[null,null,110,null,null,null,null,null,null,null,null,null,null,null,null,null,null,null,null,null,null,null,null,null,null,null,null,null,null,null,null,null,null,null,null,{"$f":"IF(H119=\"\",\"-\",VLOOKUP(T119,読み替え表_スマートムーブ!$C$4:$F$13,4,0))","v":"-"},{"$f":"IF(H119=\"\",\"-\",VLOOKUP(V119,読み替え表_スマートムーブ!$C$16:$F$21,4,0))","v":"-"},"-",null,null,null,null,0,0,0,0,0,0,"*"]
[null,null,111,null,null,null,null,null,null,null,null,null,null,null,null,null,null,null,null,null,null,null,null,null,null,null,null,null,null,null,null,null,null,null,null,{"$f":"IF(H120=\"\",\"-\",VLOOKUP(T120,読み替え表_スマートムーブ!$C$4:$F$13,4,0))","v":"-"},{"$f":"IF(H120=\"\",\"-\",VLOOKUP(V120,読み替え表_スマートムーブ!$C$16:$F$21,4,0))","v":"-"},"-",null,null,null,null,0,0,0,0,0,0,"*"]
[null,null,112,null,null,null,null,null,null,null,null,null,null,null,null,null,null,null,null,null,null,null,null,null,null,null,null,null,null,null,null,null,null,null,null,{"$f":"IF(H121=\"\",\"-\",VLOOKUP(T121,読み替え表_スマートムーブ!$C$4:$F$13,4,0))","v":"-"},{"$f":"IF(H121=\"\",\"-\",VLOOKUP(V121,読み替え表_スマートムーブ!$C$16:$F$21,4,0))","v":"-"},"-",null,null,null,null,0,0,0,0,0,0,"*"]
[null,null,113,null,null,null,null,null,null,null,null,null,null,null,null,null,null,null,null,null,null,null,null,null,null,null,null,null,null,null,null,null,null,null,null,{"$f":"IF(H122=\"\",\"-\",VLOOKUP(T122,読み替え表_スマートムーブ!$C$4:$F$13,4,0))","v":"-"},{"$f":"IF(H122=\"\",\"-\",VLOOKUP(V122,読み替え表_スマートムーブ!$C$16:$F$21,4,0))","v":"-"},"-",null,null,null,null,0,0,0,0,0,0,"*"]
[null,null,114,null,null,null,null,null,null,null,null,null,null,null,null,null,null,null,null,null,null,null,null,null,null,null,null,null,null,null,null,null,null,null,null,{"$f":"IF(H123=\"\",\"-\",VLOOKUP(T123,読み替え表_スマートムーブ!$C$4:$F$13,4,0))","v":"-"},{"$f":"IF(H123=\"\",\"-\",VLOOKUP(V123,読み替え表_スマートムーブ!$C$16:$F$21,4,0))","v":"-"},"-",null,null,null,null,0,0,0,0,0,0,"*"]
[null,null,115,null,null,null,null,null,null,null,null,null,null,null,null,null,null,null,null,null,null,null,null,null,null,null,null,null,null,null,null,null,null,null,null,{"$f":"IF(H124=\"\",\"-\",VLOOKUP(T124,読み替え表_スマートムーブ!$C$4:$F$13,4,0))","v":"-"},{"$f":"IF(H124=\"\",\"-\",VLOOKUP(V124,読み替え表_スマートムーブ!$C$16:$F$21,4,0))","v":"-"},"-",null,null,null,null,0,0,0,0,0,0,"*"]
[null,null,116,null,null,null,null,null,null,null,null,null,null,null,null,null,null,null,null,null,null,null,null,null,null,null,null,null,null,null,null,null,null,null,null,{"$f":"IF(H125=\"\",\"-\",VLOOKUP(T125,読み替え表_スマートムーブ!$C$4:$F$13,4,0))","v":"-"},{"$f":"IF(H125=\"\",\"-\",VLOOKUP(V125,読み替え表_スマートムーブ!$C$16:$F$21,4,0))","v":"-"},"-",null,null,null,null,0,0,0,0,0,0,"*"]
[null,null,117,null,null,null,null,null,null,null,null,null,null,null,null,null,null,null,null,null,null,null,null,null,null,null,null,null,null,null,null,null,null,null,null,{"$f":"IF(H126=\"\",\"-\",VLOOKUP(T126,読み替え表_スマートムーブ!$C$4:$F$13,4,0))","v":"-"},{"$f":"IF(H126=\"\",\"-\",VLOOKUP(V126,読み替え表_スマートムーブ!$C$16:$F$21,4,0))","v":"-"},"-",null,null,null,null,0,0,0,0,0,0,"*"]
[null,null,118,null,null,null,null,null,null,null,null,null,null,null,null,null,null,null,null,null,null,null,null,null,null,null,null,null,null,null,null,null,null,null,null,{"$f":"IF(H127=\"\",\"-\",VLOOKUP(T127,読み替え表_スマートムーブ!$C$4:$F$13,4,0))","v":"-"},{"$f":"IF(H127=\"\",\"-\",VLOOKUP(V127,読み替え表_スマートムーブ!$C$16:$F$21,4,0))","v":"-"},"-",null,null,null,null,0,0,0,0,0,0,"*"]
[null,null,119,null,null,null,null,null,null,null,null,null,null,null,null,null,null,null,null,null,null,null,null,null,null,null,null,null,null,null,null,null,null,null,null,{"$f":"IF(H128=\"\",\"-\",VLOOKUP(T128,読み替え表_スマートムーブ!$C$4:$F$13,4,0))","v":"-"},{"$f":"IF(H128=\"\",\"-\",VLOOKUP(V128,読み替え表_スマートムーブ!$C$16:$F$21,4,0))","v":"-"},"-",null,null,null,null,0,0,0,0,0,0,"*"]
[null,null,120,null,null,null,null,null,null,null,null,null,null,null,null,null,null,null,null,null,null,null,null,null,null,null,null,null,null,null,null,null,null,null,null,{"$f":"IF(H129=\"\",\"-\",VLOOKUP(T129,読み替え表_スマートムーブ!$C$4:$F$13,4,0))","v":"-"},{"$f":"IF(H129=\"\",\"-\",VLOOKUP(V129,読み替え表_スマートムーブ!$C$16:$F$21,4,0))","v":"-"},"-",null,null,null,null,0,0,0,0,0,0,"*"]
[null,null,121,null,null,null,null,null,null,null,null,null,null,null,null,null,null,null,null,null,null,null,null,null,null,null,null,null,null,null,null,null,null,null,null,{"$f":"IF(H130=\"\",\"-\",VLOOKUP(T130,読み替え表_スマートムーブ!$C$4:$F$13,4,0))","v":"-"},{"$f":"IF(H130=\"\",\"-\",VLOOKUP(V130,読み替え表_スマートムーブ!$C$16:$F$21,4,0))","v":"-"},"-",null,null,null,null,0,0,0,0,0,0,"*"]
[null,null,122,null,null,null,null,null,null,null,null,null,null,null,null,null,null,null,null,null,null,null,null,null,null,null,null,null,null,null,null,null,null,null,null,{"$f":"IF(H131=\"\",\"-\",VLOOKUP(T131,読み替え表_スマートムーブ!$C$4:$F$13,4,0))","v":"-"},{"$f":"IF(H131=\"\",\"-\",VLOOKUP(V131,読み替え表_スマートムーブ!$C$16:$F$21,4,0))","v":"-"},"-",null,null,null,null,0,0,0,0,0,0,"*"]
[null,null,123,null,null,null,null,null,null,null,null,null,null,null,null,null,null,null,null,null,null,null,null,null,null,null,null,null,null,null,null,null,null,null,null,{"$f":"IF(H132=\"\",\"-\",VLOOKUP(T132,読み替え表_スマートムーブ!$C$4:$F$13,4,0))","v":"-"},{"$f":"IF(H132=\"\",\"-\",VLOOKUP(V132,読み替え表_スマートムーブ!$C$16:$F$21,4,0))","v":"-"},"-",null,null,null,null,0,0,0,0,0,0,"*"]
[null,null,124,null,null,null,null,null,null,null,null,null,null,null,null,null,null,null,null,null,null,null,null,null,null,null,null,null,null,null,null,null,null,null,null,{"$f":"IF(H133=\"\",\"-\",VLOOKUP(T133,読み替え表_スマートムーブ!$C$4:$F$13,4,0))","v":"-"},{"$f":"IF(H133=\"\",\"-\",VLOOKUP(V133,読み替え表_スマートムーブ!$C$16:$F$21,4,0))","v":"-"},"-",null,null,null,null,0,0,0,0,0,0,"*"]
[null,null,125,null,null,null,null,null,null,null,null,null,null,null,null,null,null,null,null,null,null,null,null,null,null,null,null,null,null,null,null,null,null,null,null,{"$f":"IF(H134=\"\",\"-\",VLOOKUP(T134,読み替え表_スマートムーブ!$C$4:$F$13,4,0))","v":"-"},{"$f":"IF(H134=\"\",\"-\",VLOOKUP(V134,読み替え表_スマートムーブ!$C$16:$F$21,4,0))","v":"-"},"-",null,null,null,null,0,0,0,0,0,0,"*"]
[null,null,126,null,null,null,null,null,null,null,null,null,null,null,null,null,null,null,null,null,null,null,null,null,null,null,null,null,null,null,null,null,null,null,null,{"$f":"IF(H135=\"\",\"-\",VLOOKUP(T135,読み替え表_スマートムーブ!$C$4:$F$13,4,0))","v":"-"},{"$f":"IF(H135=\"\",\"-\",VLOOKUP(V135,読み替え表_スマートムーブ!$C$16:$F$21,4,0))","v":"-"},"-",null,null,null,null,0,0,0,0,0,0,"*"]
[null,null,127,null,null,null,null,null,null,null,null,null,null,null,null,null,null,null,null,null,null,null,null,null,null,null,null,null,null,null,null,null,null,null,null,{"$f":"IF(H136=\"\",\"-\",VLOOKUP(T136,読み替え表_スマートムーブ!$C$4:$F$13,4,0))","v":"-"},{"$f":"IF(H136=\"\",\"-\",VLOOKUP(V136,読み替え表_スマートムーブ!$C$16:$F$21,4,0))","v":"-"},"-",null,null,null,null,0,0,0,0,0,0,"*"]
[null,null,128,null,null,null,null,null,null,null,null,null,null,null,null,null,null,null,null,null,null,null,null,null,null,null,null,null,null,null,null,null,null,null,null,{"$f":"IF(H137=\"\",\"-\",VLOOKUP(T137,読み替え表_スマートムーブ!$C$4:$F$13,4,0))","v":"-"},{"$f":"IF(H137=\"\",\"-\",VLOOKUP(V137,読み替え表_スマートムーブ!$C$16:$F$21,4,0))","v":"-"},"-",null,null,null,null,0,0,0,0,0,0,"*"]
[null,null,129,null,null,null,null,null,null,null,null,null,null,null,null,null,null,null,null,null,null,null,null,null,null,null,null,null,null,null,null,null,null,null,null,{"$f":"IF(H138=\"\",\"-\",VLOOKUP(T138,読み替え表_スマートムーブ!$C$4:$F$13,4,0))","v":"-"},{"$f":"IF(H138=\"\",\"-\",VLOOKUP(V138,読み替え表_スマートムーブ!$C$16:$F$21,4,0))","v":"-"},"-",null,null,null,null,0,0,0,0,0,{"$f":"AQ138","v":0},"*"]
[null,null,{"$f":"ROW()-9","v":130},null,null,null,null,null,null,null,null,null,null,null,null,null,null,null,null,null,null,null,null,null,null,null,null,null,null,null,null,null,null,null,null,{"$f":"IF(H139=\"\",\"-\",VLOOKUP(T139,読み替え表_スマートムーブ!$C$4:$F$13,4,0))","v":"-"},{"$f":"IF(H139=\"\",\"-\",VLOOKUP(V139,読み替え表_スマートムーブ!$C$16:$F$21,4,0))","v":"-"},{"$f":"IF(H139=\"\",\"-\",AJ139*AK139)","v":"-"},null,null,null,null,{"$f":"IF(SUM($AR139:$AT139)>=1,1,0)","v":0},{"$f":"IF(R139=1,1,0)","v":0},{"$f":"IF(T139=9,1,0)","v":0},{"$f":"IF(V139=5,1,0)","v":0},{"$f":"IF(OR($X139=1,$X139=2,$X139=3),1,0)","v":0},0,"*"]
[null,null,131,null,null,null,null,null,null,null,null,null,null,null,null,null,null,null,null,null,null,null,null,null,null,null,null,null,null,null,null,null,null,null,null,{"$f":"IF(H140=\"\",\"-\",VLOOKUP(T140,読み替え表_スマートムーブ!$C$4:$F$13,4,0))","v":"-"},{"$f":"IF(H140=\"\",\"-\",VLOOKUP(V140,読み替え表_スマートムーブ!$C$16:$F$21,4,0))","v":"-"},"-",null,null,null,null,0,0,0,0,0,0,"*"]
[null,null,132,null,null,null,null,null,null,null,null,null,null,null,null,null,null,null,null,null,null,null,null,null,null,null,null,null,null,null,null,null,null,null,null,{"$f":"IF(H141=\"\",\"-\",VLOOKUP(T141,読み替え表_スマートムーブ!$C$4:$F$13,4,0))","v":"-"},{"$f":"IF(H141=\"\",\"-\",VLOOKUP(V141,読み替え表_スマートムーブ!$C$16:$F$21,4,0))","v":"-"},"-",null,null,null,null,0,0,0,0,0,0,"*"]
[null,null,133,null,null,null,null,null,null,null,null,null,null,null,null,null,null,null,null,null,null,null,null,null,null,null,null,null,null,null,null,null,null,null,null,{"$f":"IF(H142=\"\",\"-\",VLOOKUP(T142,読み替え表_スマートムーブ!$C$4:$F$13,4,0))","v":"-"},{"$f":"IF(H142=\"\",\"-\",VLOOKUP(V142,読み替え表_スマートムーブ!$C$16:$F$21,4,0))","v":"-"},"-",null,null,null,null,0,0,0,0,0,0,"*"]
[null,null,134,null,null,null,null,null,null,null,null,null,null,null,null,null,null,null,null,null,null,null,null,null,null,null,null,null,null,null,null,null,null,null,null,{"$f":"IF(H143=\"\",\"-\",VLOOKUP(T143,読み替え表_スマートムーブ!$C$4:$F$13,4,0))","v":"-"},{"$f":"IF(H143=\"\",\"-\",VLOOKUP(V143,読み替え表_スマートムーブ!$C$16:$F$21,4,0))","v":"-"},"-",null,null,null,null,0,0,0,0,0,0,"*"]
[null,null,135,null,null,null,null,null,null,null,null,null,null,null,null,null,null,null,null,null,null,null,null,null,null,null,null,null,null,null,null,null,null,null,null,{"$f":"IF(H144=\"\",\"-\",VLOOKUP(T144,読み替え表_スマートムーブ!$C$4:$F$13,4,0))","v":"-"},{"$f":"IF(H144=\"\",\"-\",VLOOKUP(V144,読み替え表_スマートムーブ!$C$16:$F$21,4,0))","v":"-"},"-",null,null,null,null,0,0,0,0,0,0,"*"]
[null,null,136,null,null,null,null,null,null,null,null,null,null,null,null,null,null,null,null,null,null,null,null,null,null,null,null,null,null,null,null,null,null,null,null,{"$f":"IF(H145=\"\",\"-\",VLOOKUP(T145,読み替え表_スマートムーブ!$C$4:$F$13,4,0))","v":"-"},{"$f":"IF(H145=\"\",\"-\",VLOOKUP(V145,読み替え表_スマートムーブ!$C$16:$F$21,4,0))","v":"-"},"-",null,null,null,null,0,0,0,0,0,0,"*"]
[null,null,137,null,null,null,null,null,null,null,null,null,null,null,null,null,null,null,null,null,null,null,null,null,null,null,null,null,null,null,null,null,null,null,null,{"$f":"IF(H146=\"\",\"-\",VLOOKUP(T146,読み替え表_スマートムーブ!$C$4:$F$13,4,0))","v":"-"},{"$f":"IF(H146=\"\",\"-\",VLOOKUP(V146,読み替え表_スマートムーブ!$C$16:$F$21,4,0))","v":"-"},"-",null,null,null,null,0,0,0,0,0,0,"*"]
[null,null,138,null,null,null,null,null,null,null,null,null,null,null,null,null,null,null,null,null,null,null,null,null,null,null,null,null,null,null,null,null,null,null,null,{"$f":"IF(H147=\"\",\"-\",VLOOKUP(T147,読み替え表_スマートムーブ!$C$4:$F$13,4,0))","v":"-"},{"$f":"IF(H147=\"\",\"-\",VLOOKUP(V147,読み替え表_スマートムーブ!$C$16:$F$21,4,0))","v":"-"},"-",null,null,null,null,0,0,0,0,0,0,"*"]
[null,null,139,null,null,null,null,null,null,null,null,null,null,null,null,null,null,null,null,null,null,null,null,null,null,null,null,null,null,null,null,null,null,null,null,{"$f":"IF(H148=\"\",\"-\",VLOOKUP(T148,読み替え表_スマートムーブ!$C$4:$F$13,4,0))","v":"-"},{"$f":"IF(H148=\"\",\"-\",VLOOKUP(V148,読み替え表_スマートムーブ!$C$16:$F$21,4,0))","v":"-"},"-",null,null,null,null,0,0,0,0,0,0,"*"]
[null,null,140,null,null,null,null,null,null,null,null,null,null,null,null,null,null,null,null,null,null,null,null,null,null,null,null,null,null,null,null,null,null,null,null,{"$f":"IF(H149=\"\",\"-\",VLOOKUP(T149,読み替え表_スマートムーブ!$C$4:$F$13,4,0))","v":"-"},{"$f":"IF(H149=\"\",\"-\",VLOOKUP(V149,読み替え表_スマートムーブ!$C$16:$F$21,4,0))","v":"-"},"-",null,null,null,null,0,0,0,0,0,0,"*"]
[null,null,141,null,null,null,null,null,null,null,null,null,null,null,null,null,null,null,null,null,null,null,null,null,null,null,null,null,null,null,null,null,null,null,null,{"$f":"IF(H150=\"\",\"-\",VLOOKUP(T150,読み替え表_スマートムーブ!$C$4:$F$13,4,0))","v":"-"},{"$f":"IF(H150=\"\",\"-\",VLOOKUP(V150,読み替え表_スマートムーブ!$C$16:$F$21,4,0))","v":"-"},"-",null,null,null,null,0,0,0,0,0,0,"*"]
[null,null,142,null,null,null,null,null,null,null,null,null,null,null,null,null,null,null,null,null,null,null,null,null,null,null,null,null,null,null,null,null,null,null,null,{"$f":"IF(H151=\"\",\"-\",VLOOKUP(T151,読み替え表_スマートムーブ!$C$4:$F$13,4,0))","v":"-"},{"$f":"IF(H151=\"\",\"-\",VLOOKUP(V151,読み替え表_スマートムーブ!$C$16:$F$21,4,0))","v":"-"},"-",null,null,null,null,0,0,0,0,0,0,"*"]
[null,null,143,null,null,null,null,null,null,null,null,null,null,null,null,null,null,null,null,null,null,null,null,null,null,null,null,null,null,null,null,null,null,null,null,{"$f":"IF(H152=\"\",\"-\",VLOOKUP(T152,読み替え表_スマートムーブ!$C$4:$F$13,4,0))","v":"-"},{"$f":"IF(H152=\"\",\"-\",VLOOKUP(V152,読み替え表_スマートムーブ!$C$16:$F$21,4,0))","v":"-"},"-",null,null,null,null,0,0,0,0,0,0,"*"]
[null,null,144,null,null,null,null,null,null,null,null,null,null,null,null,null,null,null,null,null,null,null,null,null,null,null,null,null,null,null,null,null,null,null,null,{"$f":"IF(H153=\"\",\"-\",VLOOKUP(T153,読み替え表_スマートムーブ!$C$4:$F$13,4,0))","v":"-"},{"$f":"IF(H153=\"\",\"-\",VLOOKUP(V153,読み替え表_スマートムーブ!$C$16:$F$21,4,0))","v":"-"},"-",null,null,null,null,0,0,0,0,0,0,"*"]
[null,null,145,null,null,null,null,null,null,null,null,null,null,null,null,null,null,null,null,null,null,null,null,null,null,null,null,null,null,null,null,null,null,null,null,{"$f":"IF(H154=\"\",\"-\",VLOOKUP(T154,読み替え表_スマートムーブ!$C$4:$F$13,4,0))","v":"-"},{"$f":"IF(H154=\"\",\"-\",VLOOKUP(V154,読み替え表_スマートムーブ!$C$16:$F$21,4,0))","v":"-"},"-",null,null,null,null,0,0,0,0,0,0,"*"]
[null,null,146,null,null,null,null,null,null,null,null,null,null,null,null,null,null,null,null,null,null,null,null,null,null,null,null,null,null,null,null,null,null,null,null,{"$f":"IF(H155=\"\",\"-\",VLOOKUP(T155,読み替え表_スマートムーブ!$C$4:$F$13,4,0))","v":"-"},{"$f":"IF(H155=\"\",\"-\",VLOOKUP(V155,読み替え表_スマートムーブ!$C$16:$F$21,4,0))","v":"-"},"-",null,null,null,null,0,0,0,0,0,0,"*"]
[null,null,147,null,null,null,null,null,null,null,null,null,null,null,null,null,null,null,null,null,null,null,null,null,null,null,null,null,null,null,null,null,null,null,null,{"$f":"IF(H156=\"\",\"-\",VLOOKUP(T156,読み替え表_スマートムーブ!$C$4:$F$13,4,0))","v":"-"},{"$f":"IF(H156=\"\",\"-\",VLOOKUP(V156,読み替え表_スマートムーブ!$C$16:$F$21,4,0))","v":"-"},"-",null,null,null,null,0,0,0,0,0,0,"*"]
[null,null,148,null,null,null,null,null,null,null,null,null,null,null,null,null,null,null,null,null,null,null,null,null,null,null,null,null,null,null,null,null,null,null,null,{"$f":"IF(H157=\"\",\"-\",VLOOKUP(T157,読み替え表_スマートムーブ!$C$4:$F$13,4,0))","v":"-"},{"$f":"IF(H157=\"\",\"-\",VLOOKUP(V157,読み替え表_スマートムーブ!$C$16:$F$21,4,0))","v":"-"},"-",null,null,null,null,0,0,0,0,0,0,"*"]
[null,null,149,null,null,null,null,null,null,null,null,null,null,null,null,null,null,null,null,null,null,null,null,null,null,null,null,null,null,null,null,null,null,null,null,{"$f":"IF(H158=\"\",\"-\",VLOOKUP(T158,読み替え表_スマートムーブ!$C$4:$F$13,4,0))","v":"-"},{"$f":"IF(H158=\"\",\"-\",VLOOKUP(V158,読み替え表_スマートムーブ!$C$16:$F$21,4,0))","v":"-"},"-",null,null,null,null,0,0,0,0,0,0,"*"]
[null,null,150,null,null,null,null,null,null,null,null,null,null,null,null,null,null,null,null,null,null,null,null,null,null,null,null,null,null,null,null,null,null,null,null,{"$f":"IF(H159=\"\",\"-\",VLOOKUP(T159,読み替え表_スマートムーブ!$C$4:$F$13,4,0))","v":"-"},{"$f":"IF(H159=\"\",\"-\",VLOOKUP(V159,読み替え表_スマートムーブ!$C$16:$F$21,4,0))","v":"-"},"-",null,null,null,null,0,0,0,0,0,0,"*"]
[null,null,151,null,null,null,null,null,null,null,null,null,null,null,null,null,null,null,null,null,null,null,null,null,null,null,null,null,null,null,null,null,null,null,null,{"$f":"IF(H160=\"\",\"-\",VLOOKUP(T160,読み替え表_スマートムーブ!$C$4:$F$13,4,0))","v":"-"},{"$f":"IF(H160=\"\",\"-\",VLOOKUP(V160,読み替え表_スマートムーブ!$C$16:$F$21,4,0))","v":"-"},"-",null,null,null,null,0,0,0,0,0,0,"*"]
[null,null,152,null,null,null,null,null,null,null,null,null,null,null,null,null,null,null,null,null,null,null,null,null,null,null,null,null,null,null,null,null,null,null,null,{"$f":"IF(H161=\"\",\"-\",VLOOKUP(T161,読み替え表_スマートムーブ!$C$4:$F$13,4,0))","v":"-"},{"$f":"IF(H161=\"\",\"-\",VLOOKUP(V161,読み替え表_スマートムーブ!$C$16:$F$21,4,0))","v":"-"},"-",null,null,null,null,0,0,0,0,0,0,"*"]
[null,null,153,null,null,null,null,null,null,null,null,null,null,null,null,null,null,null,null,null,null,null,null,null,null,null,null,null,null,null,null,null,null,null,null,{"$f":"IF(H162=\"\",\"-\",VLOOKUP(T162,読み替え表_スマートムーブ!$C$4:$F$13,4,0))","v":"-"},{"$f":"IF(H162=\"\",\"-\",VLOOKUP(V162,読み替え表_スマートムーブ!$C$16:$F$21,4,0))","v":"-"},"-",null,null,null,null,0,0,0,0,0,0,"*"]
[null,null,154,null,null,null,null,null,null,null,null,null,null,null,null,null,null,null,null,null,null,null,null,null,null,null,null,null,null,null,null,null,null,null,null,{"$f":"IF(H163=\"\",\"-\",VLOOKUP(T163,読み替え表_スマートムーブ!$C$4:$F$13,4,0))","v":"-"},{"$f":"IF(H163=\"\",\"-\",VLOOKUP(V163,読み替え表_スマートムーブ!$C$16:$F$21,4,0))","v":"-"},"-",null,null,null,null,0,0,0,0,0,0,"*"]
[null,null,155,null,null,null,null,null,null,null,null,null,null,null,null,null,null,null,null,null,null,null,null,null,null,null,null,null,null,null,null,null,null,null,null,{"$f":"IF(H164=\"\",\"-\",VLOOKUP(T164,読み替え表_スマートムーブ!$C$4:$F$13,4,0))","v":"-"},{"$f":"IF(H164=\"\",\"-\",VLOOKUP(V164,読み替え表_スマートムーブ!$C$16:$F$21,4,0))","v":"-"},"-",null,null,null,null,0,0,0,0,0,0,"*"]
[null,null,156,null,null,null,null,null,null,null,null,null,null,null,null,null,null,null,null,null,null,null,null,null,null,null,null,null,null,null,null,null,null,null,null,{"$f":"IF(H165=\"\",\"-\",VLOOKUP(T165,読み替え表_スマートムーブ!$C$4:$F$13,4,0))","v":"-"},{"$f":"IF(H165=\"\",\"-\",VLOOKUP(V165,読み替え表_スマートムーブ!$C$16:$F$21,4,0))","v":"-"},"-",null,null,null,null,0,0,0,0,0,0,"*"]
[null,null,157,null,null,null,null,null,null,null,null,null,null,null,null,null,null,null,null,null,null,null,null,null,null,null,null,null,null,null,null,null,null,null,null,{"$f":"IF(H166=\"\",\"-\",VLOOKUP(T166,読み替え表_スマートムーブ!$C$4:$F$13,4,0))","v":"-"},{"$f":"IF(H166=\"\",\"-\",VLOOKUP(V166,読み替え表_スマートムーブ!$C$16:$F$21,4,0))","v":"-"},"-",null,null,null,null,0,0,0,0,0,0,"*"]
[null,null,158,null,null,null,null,null,null,null,null,null,null,null,null,null,null,null,null,null,null,null,null,null,null,null,null,null,null,null,null,null,null,null,null,{"$f":"IF(H167=\"\",\"-\",VLOOKUP(T167,読み替え表_スマートムーブ!$C$4:$F$13,4,0))","v":"-"},{"$f":"IF(H167=\"\",\"-\",VLOOKUP(V167,読み替え表_スマートムーブ!$C$16:$F$21,4,0))","v":"-"},"-",null,null,null,null,0,0,0,0,0,0,"*"]
[null,null,159,null,null,null,null,null,null,null,null,null,null,null,null,null,null,null,null,null,null,null,null,null,null,null,null,null,null,null,null,null,null,null,null,{"$f":"IF(H168=\"\",\"-\",VLOOKUP(T168,読み替え表_スマートムーブ!$C$4:$F$13,4,0))","v":"-"},{"$f":"IF(H168=\"\",\"-\",VLOOKUP(V168,読み替え表_スマートムーブ!$C$16:$F$21,4,0))","v":"-"},"-",null,null,null,null,0,0,0,0,0,0,"*"]
[null,null,160,null,null,null,null,null,null,null,null,null,null,null,null,null,null,null,null,null,null,null,null,null,null,null,null,null,null,null,null,null,null,null,null,{"$f":"IF(H169=\"\",\"-\",VLOOKUP(T169,読み替え表_スマートムーブ!$C$4:$F$13,4,0))","v":"-"},{"$f":"IF(H169=\"\",\"-\",VLOOKUP(V169,読み替え表_スマートムーブ!$C$16:$F$21,4,0))","v":"-"},"-",null,null,null,null,0,0,0,0,0,0,"*"]
[null,null,161,null,null,null,null,null,null,null,null,null,null,null,null,null,null,null,null,null,null,null,null,null,null,null,null,null,null,null,null,null,null,null,null,{"$f":"IF(H170=\"\",\"-\",VLOOKUP(T170,読み替え表_スマートムーブ!$C$4:$F$13,4,0))","v":"-"},{"$f":"IF(H170=\"\",\"-\",VLOOKUP(V170,読み替え表_スマートムーブ!$C$16:$F$21,4,0))","v":"-"},"-",null,null,null,null,0,0,0,0,0,0,"*"]
[null,null,162,null,null,null,null,null,null,null,null,null,null,null,null,null,null,null,null,null,null,null,null,null,null,null,null,null,null,null,null,null,null,null,null,{"$f":"IF(H171=\"\",\"-\",VLOOKUP(T171,読み替え表_スマートムーブ!$C$4:$F$13,4,0))","v":"-"},{"$f":"IF(H171=\"\",\"-\",VLOOKUP(V171,読み替え表_スマートムーブ!$C$16:$F$21,4,0))","v":"-"},"-",null,null,null,null,0,0,0,0,0,0,"*"]
[null,null,163,null,null,null,null,null,null,null,null,null,null,null,null,null,null,null,null,null,null,null,null,null,null,null,null,null,null,null,null,null,null,null,null,{"$f":"IF(H172=\"\",\"-\",VLOOKUP(T172,読み替え表_スマートムーブ!$C$4:$F$13,4,0))","v":"-"},{"$f":"IF(H172=\"\",\"-\",VLOOKUP(V172,読み替え表_スマートムーブ!$C$16:$F$21,4,0))","v":"-"},"-",null,null,null,null,0,0,0,0,0,0,"*"]
[null,null,164,null,null,null,null,null,null,null,null,null,null,null,null,null,null,null,null,null,null,null,null,null,null,null,null,null,null,null,null,null,null,null,null,{"$f":"IF(H173=\"\",\"-\",VLOOKUP(T173,読み替え表_スマートムーブ!$C$4:$F$13,4,0))","v":"-"},{"$f":"IF(H173=\"\",\"-\",VLOOKUP(V173,読み替え表_スマートムーブ!$C$16:$F$21,4,0))","v":"-"},"-",null,null,null,null,0,0,0,0,0,0,"*"]
[null,null,165,null,null,null,null,null,null,null,null,null,null,null,null,null,null,null,null,null,null,null,null,null,null,null,null,null,null,null,null,null,null,null,null,{"$f":"IF(H174=\"\",\"-\",VLOOKUP(T174,読み替え表_スマートムーブ!$C$4:$F$13,4,0))","v":"-"},{"$f":"IF(H174=\"\",\"-\",VLOOKUP(V174,読み替え表_スマートムーブ!$C$16:$F$21,4,0))","v":"-"},"-",null,null,null,null,0,0,0,0,0,0,"*"]
[null,null,166,null,null,null,null,null,null,null,null,null,null,null,null,null,null,null,null,null,null,null,null,null,null,null,null,null,null,null,null,null,null,null,null,{"$f":"IF(H175=\"\",\"-\",VLOOKUP(T175,読み替え表_スマートムーブ!$C$4:$F$13,4,0))","v":"-"},{"$f":"IF(H175=\"\",\"-\",VLOOKUP(V175,読み替え表_スマートムーブ!$C$16:$F$21,4,0))","v":"-"},"-",null,null,null,null,0,0,0,0,0,0,"*"]
[null,null,167,null,null,null,null,null,null,null,null,null,null,null,null,null,null,null,null,null,null,null,null,null,null,null,null,null,null,null,null,null,null,null,null,{"$f":"IF(H176=\"\",\"-\",VLOOKUP(T176,読み替え表_スマートムーブ!$C$4:$F$13,4,0))","v":"-"},{"$f":"IF(H176=\"\",\"-\",VLOOKUP(V176,読み替え表_スマートムーブ!$C$16:$F$21,4,0))","v":"-"},"-",null,null,null,null,0,0,0,0,0,0,"*"]
[null,null,168,null,null,null,null,null,null,null,null,null,null,null,null,null,null,null,null,null,null,null,null,null,null,null,null,null,null,null,null,null,null,null,null,{"$f":"IF(H177=\"\",\"-\",VLOOKUP(T177,読み替え表_スマートムーブ!$C$4:$F$13,4,0))","v":"-"},{"$f":"IF(H177=\"\",\"-\",VLOOKUP(V177,読み替え表_スマートムーブ!$C$16:$F$21,4,0))","v":"-"},"-",null,null,null,null,0,0,0,0,0,0,"*"]
[null,null,169,null,null,null,null,null,null,null,null,null,null,null,null,null,null,null,null,null,null,null,null,null,null,null,null,null,null,null,null,null,null,null,null,{"$f":"IF(H178=\"\",\"-\",VLOOKUP(T178,読み替え表_スマートムーブ!$C$4:$F$13,4,0))","v":"-"},{"$f":"IF(H178=\"\",\"-\",VLOOKUP(V178,読み替え表_スマートムーブ!$C$16:$F$21,4,0))","v":"-"},"-",null,null,null,null,0,0,0,0,0,0,"*"]
[null,null,170,null,null,null,null,null,null,null,null,null,null,null,null,null,null,null,null,null,null,null,null,null,null,null,null,null,null,null,null,null,null,null,null,{"$f":"IF(H179=\"\",\"-\",VLOOKUP(T179,読み替え表_スマートムーブ!$C$4:$F$13,4,0))","v":"-"},{"$f":"IF(H179=\"\",\"-\",VLOOKUP(V179,読み替え表_スマートムーブ!$C$16:$F$21,4,0))","v":"-"},"-",null,null,null,null,0,0,0,0,0,0,"*"]
[null,null,171,null,null,null,null,null,null,null,null,null,null,null,null,null,null,null,null,null,null,null,null,null,null,null,null,null,null,null,null,null,null,null,null,{"$f":"IF(H180=\"\",\"-\",VLOOKUP(T180,読み替え表_スマートムーブ!$C$4:$F$13,4,0))","v":"-"},{"$f":"IF(H180=\"\",\"-\",VLOOKUP(V180,読み替え表_スマートムーブ!$C$16:$F$21,4,0))","v":"-"},"-",null,null,null,null,0,0,0,0,0,0,"*"]
[null,null,172,null,null,null,null,null,null,null,null,null,null,null,null,null,null,null,null,null,null,null,null,null,null,null,null,null,null,null,null,null,null,null,null,{"$f":"IF(H181=\"\",\"-\",VLOOKUP(T181,読み替え表_スマートムーブ!$C$4:$F$13,4,0))","v":"-"},{"$f":"IF(H181=\"\",\"-\",VLOOKUP(V181,読み替え表_スマートムーブ!$C$16:$F$21,4,0))","v":"-"},"-",null,null,null,null,0,0,0,0,0,0,"*"]
[null,null,173,null,null,null,null,null,null,null,null,null,null,null,null,null,null,null,null,null,null,null,null,null,null,null,null,null,null,null,null,null,null,null,null,{"$f":"IF(H182=\"\",\"-\",VLOOKUP(T182,読み替え表_スマートムーブ!$C$4:$F$13,4,0))","v":"-"},{"$f":"IF(H182=\"\",\"-\",VLOOKUP(V182,読み替え表_スマートムーブ!$C$16:$F$21,4,0))","v":"-"},"-",null,null,null,null,0,0,0,0,0,0,"*"]
[null,null,174,null,null,null,null,null,null,null,null,null,null,null,null,null,null,null,null,null,null,null,null,null,null,null,null,null,null,null,null,null,null,null,null,{"$f":"IF(H183=\"\",\"-\",VLOOKUP(T183,読み替え表_スマートムーブ!$C$4:$F$13,4,0))","v":"-"},{"$f":"IF(H183=\"\",\"-\",VLOOKUP(V183,読み替え表_スマートムーブ!$C$16:$F$21,4,0))","v":"-"},"-",null,null,null,null,0,0,0,0,0,0,"*"]
[null,null,175,null,null,null,null,null,null,null,null,null,null,null,null,null,null,null,null,null,null,null,null,null,null,null,null,null,null,null,null,null,null,null,null,{"$f":"IF(H184=\"\",\"-\",VLOOKUP(T184,読み替え表_スマートムーブ!$C$4:$F$13,4,0))","v":"-"},{"$f":"IF(H184=\"\",\"-\",VLOOKUP(V184,読み替え表_スマートムーブ!$C$16:$F$21,4,0))","v":"-"},"-",null,null,null,null,0,0,0,0,0,0,"*"]
[null,null,176,null,null,null,null,null,null,null,null,null,null,null,null,null,null,null,null,null,null,null,null,null,null,null,null,null,null,null,null,null,null,null,null,{"$f":"IF(H185=\"\",\"-\",VLOOKUP(T185,読み替え表_スマートムーブ!$C$4:$F$13,4,0))","v":"-"},{"$f":"IF(H185=\"\",\"-\",VLOOKUP(V185,読み替え表_スマートムーブ!$C$16:$F$21,4,0))","v":"-"},"-",null,null,null,null,0,0,0,0,0,0,"*"]
[null,null,177,null,null,null,null,null,null,null,null,null,null,null,null,null,null,null,null,null,null,null,null,null,null,null,null,null,null,null,null,null,null,null,null,{"$f":"IF(H186=\"\",\"-\",VLOOKUP(T186,読み替え表_スマートムーブ!$C$4:$F$13,4,0))","v":"-"},{"$f":"IF(H186=\"\",\"-\",VLOOKUP(V186,読み替え表_スマートムーブ!$C$16:$F$21,4,0))","v":"-"},"-",null,null,null,null,0,0,0,0,0,0,"*"]
[null,null,178,null,null,null,null,null,null,null,null,null,null,null,null,null,null,null,null,null,null,null,null,null,null,null,null,null,null,null,null,null,null,null,null,{"$f":"IF(H187=\"\",\"-\",VLOOKUP(T187,読み替え表_スマートムーブ!$C$4:$F$13,4,0))","v":"-"},{"$f":"IF(H187=\"\",\"-\",VLOOKUP(V187,読み替え表_スマートムーブ!$C$16:$F$21,4,0))","v":"-"},"-",null,null,null,null,0,0,0,0,0,0,"*"]
[null,null,179,null,null,null,null,null,null,null,null,null,null,null,null,null,null,null,null,null,null,null,null,null,null,null,null,null,null,null,null,null,null,null,null,{"$f":"IF(H188=\"\",\"-\",VLOOKUP(T188,読み替え表_スマートムーブ!$C$4:$F$13,4,0))","v":"-"},{"$f":"IF(H188=\"\",\"-\",VLOOKUP(V188,読み替え表_スマートムーブ!$C$16:$F$21,4,0))","v":"-"},"-",null,null,null,null,0,0,0,0,0,0,"*"]
[null,null,180,null,null,null,null,null,null,null,null,null,null,null,null,null,null,null,null,null,null,null,null,null,null,null,null,null,null,null,null,null,null,null,null,{"$f":"IF(H189=\"\",\"-\",VLOOKUP(T189,読み替え表_スマートムーブ!$C$4:$F$13,4,0))","v":"-"},{"$f":"IF(H189=\"\",\"-\",VLOOKUP(V189,読み替え表_スマートムーブ!$C$16:$F$21,4,0))","v":"-"},"-",null,null,null,null,0,0,0,0,0,0,"*"]
[null,null,181,null,null,null,null,null,null,null,null,null,null,null,null,null,null,null,null,null,null,null,null,null,null,null,null,null,null,null,null,null,null,null,null,{"$f":"IF(H190=\"\",\"-\",VLOOKUP(T190,読み替え表_スマートムーブ!$C$4:$F$13,4,0))","v":"-"},{"$f":"IF(H190=\"\",\"-\",VLOOKUP(V190,読み替え表_スマートムーブ!$C$16:$F$21,4,0))","v":"-"},"-",null,null,null,null,0,0,0,0,0,0,"*"]
[null,null,182,null,null,null,null,null,null,null,null,null,null,null,null,null,null,null,null,null,null,null,null,null,null,null,null,null,null,null,null,null,null,null,null,{"$f":"IF(H191=\"\",\"-\",VLOOKUP(T191,読み替え表_スマートムーブ!$C$4:$F$13,4,0))","v":"-"},{"$f":"IF(H191=\"\",\"-\",VLOOKUP(V191,読み替え表_スマートムーブ!$C$16:$F$21,4,0))","v":"-"},"-",null,null,null,null,0,0,0,0,0,0,"*"]
[null,null,183,null,null,null,null,null,null,null,null,null,null,null,null,null,null,null,null,null,null,null,null,null,null,null,null,null,null,null,null,null,null,null,null,{"$f":"IF(H192=\"\",\"-\",VLOOKUP(T192,読み替え表_スマートムーブ!$C$4:$F$13,4,0))","v":"-"},{"$f":"IF(H192=\"\",\"-\",VLOOKUP(V192,読み替え表_スマートムーブ!$C$16:$F$21,4,0))","v":"-"},"-",null,null,null,null,0,0,0,0,0,0,"*"]
[null,null,184,null,null,null,null,null,null,null,null,null,null,null,null,null,null,null,null,null,null,null,null,null,null,null,null,null,null,null,null,null,null,null,null,{"$f":"IF(H193=\"\",\"-\",VLOOKUP(T193,読み替え表_スマートムーブ!$C$4:$F$13,4,0))","v":"-"},{"$f":"IF(H193=\"\",\"-\",VLOOKUP(V193,読み替え表_スマートムーブ!$C$16:$F$21,4,0))","v":"-"},"-",null,null,null,null,0,0,0,0,0,0,"*"]
[null,null,185,null,null,null,null,null,null,null,null,null,null,null,null,null,null,null,null,null,null,null,null,null,null,null,null,null,null,null,null,null,null,null,null,{"$f":"IF(H194=\"\",\"-\",VLOOKUP(T194,読み替え表_スマートムーブ!$C$4:$F$13,4,0))","v":"-"},{"$f":"IF(H194=\"\",\"-\",VLOOKUP(V194,読み替え表_スマートムーブ!$C$16:$F$21,4,0))","v":"-"},"-",null,null,null,null,0,0,0,0,0,0,"*"]
[null,null,186,null,null,null,null,null,null,null,null,null,null,null,null,null,null,null,null,null,null,null,null,null,null,null,null,null,null,null,null,null,null,null,null,{"$f":"IF(H195=\"\",\"-\",VLOOKUP(T195,読み替え表_スマートムーブ!$C$4:$F$13,4,0))","v":"-"},{"$f":"IF(H195=\"\",\"-\",VLOOKUP(V195,読み替え表_スマートムーブ!$C$16:$F$21,4,0))","v":"-"},"-",null,null,null,null,0,0,0,0,0,0,"*"]
[null,null,187,null,null,null,null,null,null,null,null,null,null,null,null,null,null,null,null,null,null,null,null,null,null,null,null,null,null,null,null,null,null,null,null,{"$f":"IF(H196=\"\",\"-\",VLOOKUP(T196,読み替え表_スマートムーブ!$C$4:$F$13,4,0))","v":"-"},{"$f":"IF(H196=\"\",\"-\",VLOOKUP(V196,読み替え表_スマートムーブ!$C$16:$F$21,4,0))","v":"-"},"-",null,null,null,null,0,0,0,0,0,0,"*"]
[null,null,188,null,null,null,null,null,null,null,null,null,null,null,null,null,null,null,null,null,null,null,null,null,null,null,null,null,null,null,null,null,null,null,null,{"$f":"IF(H197=\"\",\"-\",VLOOKUP(T197,読み替え表_スマートムーブ!$C$4:$F$13,4,0))","v":"-"},{"$f":"IF(H197=\"\",\"-\",VLOOKUP(V197,読み替え表_スマートムーブ!$C$16:$F$21,4,0))","v":"-"},"-",null,null,null,null,0,0,0,0,0,0,"*"]
[null,null,189,null,null,null,null,null,null,null,null,null,null,null,null,null,null,null,null,null,null,null,null,null,null,null,null,null,null,null,null,null,null,null,null,{"$f":"IF(H198=\"\",\"-\",VLOOKUP(T198,読み替え表_スマートムーブ!$C$4:$F$13,4,0))","v":"-"},{"$f":"IF(H198=\"\",\"-\",VLOOKUP(V198,読み替え表_スマートムーブ!$C$16:$F$21,4,0))","v":"-"},"-",null,null,null,null,0,0,0,0,0,0,"*"]
[null,null,190,null,null,null,null,null,null,null,null,null,null,null,null,null,null,null,null,null,null,null,null,null,null,null,null,null,null,null,null,null,null,null,null,{"$f":"IF(H199=\"\",\"-\",VLOOKUP(T199,読み替え表_スマートムーブ!$C$4:$F$13,4,0))","v":"-"},{"$f":"IF(H199=\"\",\"-\",VLOOKUP(V199,読み替え表_スマートムーブ!$C$16:$F$21,4,0))","v":"-"},"-",null,null,null,null,0,0,0,0,0,0,"*"]
[null,null,191,null,null,null,null,null,null,null,null,null,null,null,null,null,null,null,null,null,null,null,null,null,null,null,null,null,null,null,null,null,null,null,null,{"$f":"IF(H200=\"\",\"-\",VLOOKUP(T200,読み替え表_スマートムーブ!$C$4:$F$13,4,0))","v":"-"},{"$f":"IF(H200=\"\",\"-\",VLOOKUP(V200,読み替え表_スマートムーブ!$C$16:$F$21,4,0))","v":"-"},"-",null,null,null,null,0,0,0,0,0,0,"*"]
[null,null,192,null,null,null,null,null,null,null,null,null,null,null,null,null,null,null,null,null,null,null,null,null,null,null,null,null,null,null,null,null,null,null,null,{"$f":"IF(H201=\"\",\"-\",VLOOKUP(T201,読み替え表_スマートムーブ!$C$4:$F$13,4,0))","v":"-"},{"$f":"IF(H201=\"\",\"-\",VLOOKUP(V201,読み替え表_スマートムーブ!$C$16:$F$21,4,0))","v":"-"},"-",null,null,null,null,0,0,0,0,0,0,"*"]
[null,null,193,null,null,null,null,null,null,null,null,null,null,null,null,null,null,null,null,null,null,null,null,null,null,null,null,null,null,null,null,null,null,null,null,{"$f":"IF(H202=\"\",\"-\",VLOOKUP(T202,読み替え表_スマートムーブ!$C$4:$F$13,4,0))","v":"-"},{"$f":"IF(H202=\"\",\"-\",VLOOKUP(V202,読み替え表_スマートムーブ!$C$16:$F$21,4,0))","v":"-"},"-",null,null,null,null,0,0,0,0,0,{"$f":"AQ202","v":0},"*"]
[null,null,{"$f":"ROW()-9","v":194},null,null,null,null,null,null,null,null,null,null,null,null,null,null,null,null,null,null,null,null,null,null,null,null,null,null,null,null,null,null,null,null,{"$f":"IF(H203=\"\",\"-\",VLOOKUP(T203,読み替え表_スマートムーブ!$C$4:$F$13,4,0))","v":"-"},{"$f":"IF(H203=\"\",\"-\",VLOOKUP(V203,読み替え表_スマートムーブ!$C$16:$F$21,4,0))","v":"-"},{"$f":"IF(H203=\"\",\"-\",AJ203*AK203)","v":"-"},null,null,null,null,{"$f":"IF(SUM($AR203:$AT203)>=1,1,0)","v":0},{"$f":"IF(R203=1,1,0)","v":0},{"$f":"IF(T203=9,1,0)","v":0},{"$f":"IF(V203=5,1,0)","v":0},{"$f":"IF(OR($X203=1,$X203=2,$X203=3),1,0)","v":0},0,"*"]
[null,null,195,null,null,null,null,null,null,null,null,null,null,null,null,null,null,null,null,null,null,null,null,null,null,null,null,null,null,null,null,null,null,null,null,{"$f":"IF(H204=\"\",\"-\",VLOOKUP(T204,読み替え表_スマートムーブ!$C$4:$F$13,4,0))","v":"-"},{"$f":"IF(H204=\"\",\"-\",VLOOKUP(V204,読み替え表_スマートムーブ!$C$16:$F$21,4,0))","v":"-"},"-",null,null,null,null,0,0,0,0,0,0,"*"]
[null,null,196,null,null,null,null,null,null,null,null,null,null,null,null,null,null,null,null,null,null,null,null,null,null,null,null,null,null,null,null,null,null,null,null,{"$f":"IF(H205=\"\",\"-\",VLOOKUP(T205,読み替え表_スマートムーブ!$C$4:$F$13,4,0))","v":"-"},{"$f":"IF(H205=\"\",\"-\",VLOOKUP(V205,読み替え表_スマートムーブ!$C$16:$F$21,4,0))","v":"-"},"-",null,null,null,null,0,0,0,0,0,0,"*"]
[null,null,197,null,null,null,null,null,null,null,null,null,null,null,null,null,null,null,null,null,null,null,null,null,null,null,null,null,null,null,null,null,null,null,null,{"$f":"IF(H206=\"\",\"-\",VLOOKUP(T206,読み替え表_スマートムーブ!$C$4:$F$13,4,0))","v":"-"},{"$f":"IF(H206=\"\",\"-\",VLOOKUP(V206,読み替え表_スマートムーブ!$C$16:$F$21,4,0))","v":"-"},"-",null,null,null,null,0,0,0,0,0,0,"*"]
[null,null,198,null,null,null,null,null,null,null,null,null,null,null,null,null,null,null,null,null,null,null,null,null,null,null,null,null,null,null,null,null,null,null,null,{"$f":"IF(H207=\"\",\"-\",VLOOKUP(T207,読み替え表_スマートムーブ!$C$4:$F$13,4,0))","v":"-"},{"$f":"IF(H207=\"\",\"-\",VLOOKUP(V207,読み替え表_スマートムーブ!$C$16:$F$21,4,0))","v":"-"},"-",null,null,null,null,0,0,0,0,0,0,"*"]
[null,null,199,null,null,null,null,null,null,null,null,null,null,null,null,null,null,null,null,null,null,null,null,null,null,null,null,null,null,null,null,null,null,null,null,{"$f":"IF(H208=\"\",\"-\",VLOOKUP(T208,読み替え表_スマートムーブ!$C$4:$F$13,4,0))","v":"-"},{"$f":"IF(H208=\"\",\"-\",VLOOKUP(V208,読み替え表_スマートムーブ!$C$16:$F$21,4,0))","v":"-"},"-",null,null,null,null,0,0,0,0,0,0,"*"]
[null,null,200,null,null,null,null,null,null,null,null,null,null,null,null,null,null,null,null,null,null,null,null,null,null,null,null,null,null,null,null,null,null,null,null,{"$f":"IF(H209=\"\",\"-\",VLOOKUP(T209,読み替え表_スマートムーブ!$C$4:$F$13,4,0))","v":"-"},{"$f":"IF(H209=\"\",\"-\",VLOOKUP(V209,読み替え表_スマートムーブ!$C$16:$F$21,4,0))","v":"-"},"-",null,null,null,null,0,0,0,0,0,0,"*"]
[null,null,201,null,null,null,null,null,null,null,null,null,null,null,null,null,null,null,null,null,null,null,null,null,null,null,null,null,null,null,null,null,null,null,null,{"$f":"IF(H210=\"\",\"-\",VLOOKUP(T210,読み替え表_スマートムーブ!$C$4:$F$13,4,0))","v":"-"},{"$f":"IF(H210=\"\",\"-\",VLOOKUP(V210,読み替え表_スマートムーブ!$C$16:$F$21,4,0))","v":"-"},"-",null,null,null,null,0,0,0,0,0,0,"*"]
[null,null,202,null,null,null,null,null,null,null,null,null,null,null,null,null,null,null,null,null,null,null,null,null,null,null,null,null,null,null,null,null,null,null,null,{"$f":"IF(H211=\"\",\"-\",VLOOKUP(T211,読み替え表_スマートムーブ!$C$4:$F$13,4,0))","v":"-"},{"$f":"IF(H211=\"\",\"-\",VLOOKUP(V211,読み替え表_スマートムーブ!$C$16:$F$21,4,0))","v":"-"},"-",null,null,null,null,0,0,0,0,0,0,"*"]
[null,null,203,null,null,null,null,null,null,null,null,null,null,null,null,null,null,null,null,null,null,null,null,null,null,null,null,null,null,null,null,null,null,null,null,{"$f":"IF(H212=\"\",\"-\",VLOOKUP(T212,読み替え表_スマートムーブ!$C$4:$F$13,4,0))","v":"-"},{"$f":"IF(H212=\"\",\"-\",VLOOKUP(V212,読み替え表_スマートムーブ!$C$16:$F$21,4,0))","v":"-"},"-",null,null,null,null,0,0,0,0,0,0,"*"]
[null,null,204,null,null,null,null,null,null,null,null,null,null,null,null,null,null,null,null,null,null,null,null,null,null,null,null,null,null,null,null,null,null,null,null,{"$f":"IF(H213=\"\",\"-\",VLOOKUP(T213,読み替え表_スマートムーブ!$C$4:$F$13,4,0))","v":"-"},{"$f":"IF(H213=\"\",\"-\",VLOOKUP(V213,読み替え表_スマートムーブ!$C$16:$F$21,4,0))","v":"-"},"-",null,null,null,null,0,0,0,0,0,0,"*"]
[null,null,205,null,null,null,null,null,null,null,null,null,null,null,null,null,null,null,null,null,null,null,null,null,null,null,null,null,null,null,null,null,null,null,null,{"$f":"IF(H214=\"\",\"-\",VLOOKUP(T214,読み替え表_スマートムーブ!$C$4:$F$13,4,0))","v":"-"},{"$f":"IF(H214=\"\",\"-\",VLOOKUP(V214,読み替え表_スマートムーブ!$C$16:$F$21,4,0))","v":"-"},"-",null,null,null,null,0,0,0,0,0,0,"*"]
[null,null,206,null,null,null,null,null,null,null,null,null,null,null,null,null,null,null,null,null,null,null,null,null,null,null,null,null,null,null,null,null,null,null,null,{"$f":"IF(H215=\"\",\"-\",VLOOKUP(T215,読み替え表_スマートムーブ!$C$4:$F$13,4,0))","v":"-"},{"$f":"IF(H215=\"\",\"-\",VLOOKUP(V215,読み替え表_スマートムーブ!$C$16:$F$21,4,0))","v":"-"},"-",null,null,null,null,0,0,0,0,0,0,"*"]
[null,null,207,null,null,null,null,null,null,null,null,null,null,null,null,null,null,null,null,null,null,null,null,null,null,null,null,null,null,null,null,null,null,null,null,{"$f":"IF(H216=\"\",\"-\",VLOOKUP(T216,読み替え表_スマートムーブ!$C$4:$F$13,4,0))","v":"-"},{"$f":"IF(H216=\"\",\"-\",VLOOKUP(V216,読み替え表_スマートムーブ!$C$16:$F$21,4,0))","v":"-"},"-",null,null,null,null,0,0,0,0,0,0,"*"]
[null,null,208,null,null,null,null,null,null,null,null,null,null,null,null,null,null,null,null,null,null,null,null,null,null,null,null,null,null,null,null,null,null,null,null,{"$f":"IF(H217=\"\",\"-\",VLOOKUP(T217,読み替え表_スマートムーブ!$C$4:$F$13,4,0))","v":"-"},{"$f":"IF(H217=\"\",\"-\",VLOOKUP(V217,読み替え表_スマートムーブ!$C$16:$F$21,4,0))","v":"-"},"-",null,null,null,null,0,0,0,0,0,0,"*"]
[null,null,209,null,null,null,null,null,null,null,null,null,null,null,null,null,null,null,null,null,null,null,null,null,null,null,null,null,null,null,null,null,null,null,null,{"$f":"IF(H218=\"\",\"-\",VLOOKUP(T218,読み替え表_スマートムーブ!$C$4:$F$13,4,0))","v":"-"},{"$f":"IF(H218=\"\",\"-\",VLOOKUP(V218,読み替え表_スマートムーブ!$C$16:$F$21,4,0))","v":"-"},"-",null,null,null,null,0,0,0,0,0,0,"*"]
[null,null,210,null,null,null,null,null,null,null,null,null,null,null,null,null,null,null,null,null,null,null,null,null,null,null,null,null,null,null,null,null,null,null,null,{"$f":"IF(H219=\"\",\"-\",VLOOKUP(T219,読み替え表_スマートムーブ!$C$4:$F$13,4,0))","v":"-"},{"$f":"IF(H219=\"\",\"-\",VLOOKUP(V219,読み替え表_スマートムーブ!$C$16:$F$21,4,0))","v":"-"},"-",null,null,null,null,0,0,0,0,0,0,"*"]
[null,null,211,null,null,null,null,null,null,null,null,null,null,null,null,null,null,null,null,null,null,null,null,null,null,null,null,null,null,null,null,null,null,null,null,{"$f":"IF(H220=\"\",\"-\",VLOOKUP(T220,読み替え表_スマートムーブ!$C$4:$F$13,4,0))","v":"-"},{"$f":"IF(H220=\"\",\"-\",VLOOKUP(V220,読み替え表_スマートムーブ!$C$16:$F$21,4,0))","v":"-"},"-",null,null,null,null,0,0,0,0,0,0,"*"]
[null,null,212,null,null,null,null,null,null,null,null,null,null,null,null,null,null,null,null,null,null,null,null,null,null,null,null,null,null,null,null,null,null,null,null,{"$f":"IF(H221=\"\",\"-\",VLOOKUP(T221,読み替え表_スマートムーブ!$C$4:$F$13,4,0))","v":"-"},{"$f":"IF(H221=\"\",\"-\",VLOOKUP(V221,読み替え表_スマートムーブ!$C$16:$F$21,4,0))","v":"-"},"-",null,null,null,null,0,0,0,0,0,0,"*"]
[null,null,213,null,null,null,null,null,null,null,null,null,null,null,null,null,null,null,null,null,null,null,null,null,null,null,null,null,null,null,null,null,null,null,null,{"$f":"IF(H222=\"\",\"-\",VLOOKUP(T222,読み替え表_スマートムーブ!$C$4:$F$13,4,0))","v":"-"},{"$f":"IF(H222=\"\",\"-\",VLOOKUP(V222,読み替え表_スマートムーブ!$C$16:$F$21,4,0))","v":"-"},"-",null,null,null,null,0,0,0,0,0,0,"*"]
[null,null,214,null,null,null,null,null,null,null,null,null,null,null,null,null,null,null,null,null,null,null,null,null,null,null,null,null,null,null,null,null,null,null,null,{"$f":"IF(H223=\"\",\"-\",VLOOKUP(T223,読み替え表_スマートムーブ!$C$4:$F$13,4,0))","v":"-"},{"$f":"IF(H223=\"\",\"-\",VLOOKUP(V223,読み替え表_スマートムーブ!$C$16:$F$21,4,0))","v":"-"},"-",null,null,null,null,0,0,0,0,0,0,"*"]
[null,null,215,null,null,null,null,null,null,null,null,null,null,null,null,null,null,null,null,null,null,null,null,null,null,null,null,null,null,null,null,null,null,null,null,{"$f":"IF(H224=\"\",\"-\",VLOOKUP(T224,読み替え表_スマートムーブ!$C$4:$F$13,4,0))","v":"-"},{"$f":"IF(H224=\"\",\"-\",VLOOKUP(V224,読み替え表_スマートムーブ!$C$16:$F$21,4,0))","v":"-"},"-",null,null,null,null,0,0,0,0,0,0,"*"]
[null,null,216,null,null,null,null,null,null,null,null,null,null,null,null,null,null,null,null,null,null,null,null,null,null,null,null,null,null,null,null,null,null,null,null,{"$f":"IF(H225=\"\",\"-\",VLOOKUP(T225,読み替え表_スマートムーブ!$C$4:$F$13,4,0))","v":"-"},{"$f":"IF(H225=\"\",\"-\",VLOOKUP(V225,読み替え表_スマートムーブ!$C$16:$F$21,4,0))","v":"-"},"-",null,null,null,null,0,0,0,0,0,0,"*"]
[null,null,217,null,null,null,null,null,null,null,null,null,null,null,null,null,null,null,null,null,null,null,null,null,null,null,null,null,null,null,null,null,null,null,null,{"$f":"IF(H226=\"\",\"-\",VLOOKUP(T226,読み替え表_スマートムーブ!$C$4:$F$13,4,0))","v":"-"},{"$f":"IF(H226=\"\",\"-\",VLOOKUP(V226,読み替え表_スマートムーブ!$C$16:$F$21,4,0))","v":"-"},"-",null,null,null,null,0,0,0,0,0,0,"*"]
[null,null,218,null,null,null,null,null,null,null,null,null,null,null,null,null,null,null,null,null,null,null,null,null,null,null,null,null,null,null,null,null,null,null,null,{"$f":"IF(H227=\"\",\"-\",VLOOKUP(T227,読み替え表_スマートムーブ!$C$4:$F$13,4,0))","v":"-"},{"$f":"IF(H227=\"\",\"-\",VLOOKUP(V227,読み替え表_スマートムーブ!$C$16:$F$21,4,0))","v":"-"},"-",null,null,null,null,0,0,0,0,0,0,"*"]
[null,null,219,null,null,null,null,null,null,null,null,null,null,null,null,null,null,null,null,null,null,null,null,null,null,null,null,null,null,null,null,null,null,null,null,{"$f":"IF(H228=\"\",\"-\",VLOOKUP(T228,読み替え表_スマートムーブ!$C$4:$F$13,4,0))","v":"-"},{"$f":"IF(H228=\"\",\"-\",VLOOKUP(V228,読み替え表_スマートムーブ!$C$16:$F$21,4,0))","v":"-"},"-",null,null,null,null,0,0,0,0,0,0,"*"]
[null,null,220,null,null,null,null,null,null,null,null,null,null,null,null,null,null,null,null,null,null,null,null,null,null,null,null,null,null,null,null,null,null,null,null,{"$f":"IF(H229=\"\",\"-\",VLOOKUP(T229,読み替え表_スマートムーブ!$C$4:$F$13,4,0))","v":"-"},{"$f":"IF(H229=\"\",\"-\",VLOOKUP(V229,読み替え表_スマートムーブ!$C$16:$F$21,4,0))","v":"-"},"-",null,null,null,null,0,0,0,0,0,0,"*"]
[null,null,221,null,null,null,null,null,null,null,null,null,null,null,null,null,null,null,null,null,null,null,null,null,null,null,null,null,null,null,null,null,null,null,null,{"$f":"IF(H230=\"\",\"-\",VLOOKUP(T230,読み替え表_スマートムーブ!$C$4:$F$13,4,0))","v":"-"},{"$f":"IF(H230=\"\",\"-\",VLOOKUP(V230,読み替え表_スマートムーブ!$C$16:$F$21,4,0))","v":"-"},"-",null,null,null,null,0,0,0,0,0,0,"*"]
[null,null,222,null,null,null,null,null,null,null,null,null,null,null,null,null,null,null,null,null,null,null,null,null,null,null,null,null,null,null,null,null,null,null,null,{"$f":"IF(H231=\"\",\"-\",VLOOKUP(T231,読み替え表_スマートムーブ!$C$4:$F$13,4,0))","v":"-"},{"$f":"IF(H231=\"\",\"-\",VLOOKUP(V231,読み替え表_スマートムーブ!$C$16:$F$21,4,0))","v":"-"},"-",null,null,null,null,0,0,0,0,0,0,"*"]
[null,null,223,null,null,null,null,null,null,null,null,null,null,null,null,null,null,null,null,null,null,null,null,null,null,null,null,null,null,null,null,null,null,null,null,{"$f":"IF(H232=\"\",\"-\",VLOOKUP(T232,読み替え表_スマートムーブ!$C$4:$F$13,4,0))","v":"-"},{"$f":"IF(H232=\"\",\"-\",VLOOKUP(V232,読み替え表_スマートムーブ!$C$16:$F$21,4,0))","v":"-"},"-",null,null,null,null,0,0,0,0,0,0,"*"]
[null,null,224,null,null,null,null,null,null,null,null,null,null,null,null,null,null,null,null,null,null,null,null,null,null,null,null,null,null,null,null,null,null,null,null,{"$f":"IF(H233=\"\",\"-\",VLOOKUP(T233,読み替え表_スマートムーブ!$C$4:$F$13,4,0))","v":"-"},{"$f":"IF(H233=\"\",\"-\",VLOOKUP(V233,読み替え表_スマートムーブ!$C$16:$F$21,4,0))","v":"-"},"-",null,null,null,null,0,0,0,0,0,0,"*"]
[null,null,225,null,null,null,null,null,null,null,null,null,null,null,null,null,null,null,null,null,null,null,null,null,null,null,null,null,null,null,null,null,null,null,null,{"$f":"IF(H234=\"\",\"-\",VLOOKUP(T234,読み替え表_スマートムーブ!$C$4:$F$13,4,0))","v":"-"},{"$f":"IF(H234=\"\",\"-\",VLOOKUP(V234,読み替え表_スマートムーブ!$C$16:$F$21,4,0))","v":"-"},"-",null,null,null,null,0,0,0,0,0,0,"*"]
[null,null,226,null,null,null,null,null,null,null,null,null,null,null,null,null,null,null,null,null,null,null,null,null,null,null,null,null,null,null,null,null,null,null,null,{"$f":"IF(H235=\"\",\"-\",VLOOKUP(T235,読み替え表_スマートムーブ!$C$4:$F$13,4,0))","v":"-"},{"$f":"IF(H235=\"\",\"-\",VLOOKUP(V235,読み替え表_スマートムーブ!$C$16:$F$21,4,0))","v":"-"},"-",null,null,null,null,0,0,0,0,0,0,"*"]
[null,null,227,null,null,null,null,null,null,null,null,null,null,null,null,null,null,null,null,null,null,null,null,null,null,null,null,null,null,null,null,null,null,null,null,{"$f":"IF(H236=\"\",\"-\",VLOOKUP(T236,読み替え表_スマートムーブ!$C$4:$F$13,4,0))","v":"-"},{"$f":"IF(H236=\"\",\"-\",VLOOKUP(V236,読み替え表_スマートムーブ!$C$16:$F$21,4,0))","v":"-"},"-",null,null,null,null,0,0,0,0,0,0,"*"]
[null,null,228,null,null,null,null,null,null,null,null,null,null,null,null,null,null,null,null,null,null,null,null,null,null,null,null,null,null,null,null,null,null,null,null,{"$f":"IF(H237=\"\",\"-\",VLOOKUP(T237,読み替え表_スマートムーブ!$C$4:$F$13,4,0))","v":"-"},{"$f":"IF(H237=\"\",\"-\",VLOOKUP(V237,読み替え表_スマートムーブ!$C$16:$F$21,4,0))","v":"-"},"-",null,null,null,null,0,0,0,0,0,0,"*"]
[null,null,229,null,null,null,null,null,null,null,null,null,null,null,null,null,null,null,null,null,null,null,null,null,null,null,null,null,null,null,null,null,null,null,null,{"$f":"IF(H238=\"\",\"-\",VLOOKUP(T238,読み替え表_スマートムーブ!$C$4:$F$13,4,0))","v":"-"},{"$f":"IF(H238=\"\",\"-\",VLOOKUP(V238,読み替え表_スマートムーブ!$C$16:$F$21,4,0))","v":"-"},"-",null,null,null,null,0,0,0,0,0,0,"*"]
[null,null,230,null,null,null,null,null,null,null,null,null,null,null,null,null,null,null,null,null,null,null,null,null,null,null,null,null,null,null,null,null,null,null,null,{"$f":"IF(H239=\"\",\"-\",VLOOKUP(T239,読み替え表_スマートムーブ!$C$4:$F$13,4,0))","v":"-"},{"$f":"IF(H239=\"\",\"-\",VLOOKUP(V239,読み替え表_スマートムーブ!$C$16:$F$21,4,0))","v":"-"},"-",null,null,null,null,0,0,0,0,0,0,"*"]
[null,null,231,null,null,null,null,null,null,null,null,null,null,null,null,null,null,null,null,null,null,null,null,null,null,null,null,null,null,null,null,null,null,null,null,{"$f":"IF(H240=\"\",\"-\",VLOOKUP(T240,読み替え表_スマートムーブ!$C$4:$F$13,4,0))","v":"-"},{"$f":"IF(H240=\"\",\"-\",VLOOKUP(V240,読み替え表_スマートムーブ!$C$16:$F$21,4,0))","v":"-"},"-",null,null,null,null,0,0,0,0,0,0,"*"]
[null,null,232,null,null,null,null,null,null,null,null,null,null,null,null,null,null,null,null,null,null,null,null,null,null,null,null,null,null,null,null,null,null,null,null,{"$f":"IF(H241=\"\",\"-\",VLOOKUP(T241,読み替え表_スマートムーブ!$C$4:$F$13,4,0))","v":"-"},{"$f":"IF(H241=\"\",\"-\",VLOOKUP(V241,読み替え表_スマートムーブ!$C$16:$F$21,4,0))","v":"-"},"-",null,null,null,null,0,0,0,0,0,0,"*"]
[null,null,233,null,null,null,null,null,null,null,null,null,null,null,null,null,null,null,null,null,null,null,null,null,null,null,null,null,null,null,null,null,null,null,null,{"$f":"IF(H242=\"\",\"-\",VLOOKUP(T242,読み替え表_スマートムーブ!$C$4:$F$13,4,0))","v":"-"},{"$f":"IF(H242=\"\",\"-\",VLOOKUP(V242,読み替え表_スマートムーブ!$C$16:$F$21,4,0))","v":"-"},"-",null,null,null,null,0,0,0,0,0,0,"*"]
[null,null,234,null,null,null,null,null,null,null,null,null,null,null,null,null,null,null,null,null,null,null,null,null,null,null,null,null,null,null,null,null,null,null,null,{"$f":"IF(H243=\"\",\"-\",VLOOKUP(T243,読み替え表_スマートムーブ!$C$4:$F$13,4,0))","v":"-"},{"$f":"IF(H243=\"\",\"-\",VLOOKUP(V243,読み替え表_スマートムーブ!$C$16:$F$21,4,0))","v":"-"},"-",null,null,null,null,0,0,0,0,0,0,"*"]
[null,null,235,null,null,null,null,null,null,null,null,null,null,null,null,null,null,null,null,null,null,null,null,null,null,null,null,null,null,null,null,null,null,null,null,{"$f":"IF(H244=\"\",\"-\",VLOOKUP(T244,読み替え表_スマートムーブ!$C$4:$F$13,4,0))","v":"-"},{"$f":"IF(H244=\"\",\"-\",VLOOKUP(V244,読み替え表_スマートムーブ!$C$16:$F$21,4,0))","v":"-"},"-",null,null,null,null,0,0,0,0,0,0,"*"]
[null,null,236,null,null,null,null,null,null,null,null,null,null,null,null,null,null,null,null,null,null,null,null,null,null,null,null,null,null,null,null,null,null,null,null,{"$f":"IF(H245=\"\",\"-\",VLOOKUP(T245,読み替え表_スマートムーブ!$C$4:$F$13,4,0))","v":"-"},{"$f":"IF(H245=\"\",\"-\",VLOOKUP(V245,読み替え表_スマートムーブ!$C$16:$F$21,4,0))","v":"-"},"-",null,null,null,null,0,0,0,0,0,0,"*"]
[null,null,237,null,null,null,null,null,null,null,null,null,null,null,null,null,null,null,null,null,null,null,null,null,null,null,null,null,null,null,null,null,null,null,null,{"$f":"IF(H246=\"\",\"-\",VLOOKUP(T246,読み替え表_スマートムーブ!$C$4:$F$13,4,0))","v":"-"},{"$f":"IF(H246=\"\",\"-\",VLOOKUP(V246,読み替え表_スマートムーブ!$C$16:$F$21,4,0))","v":"-"},"-",null,null,null,null,0,0,0,0,0,0,"*"]
[null,null,238,null,null,null,null,null,null,null,null,null,null,null,null,null,null,null,null,null,null,null,null,null,null,null,null,null,null,null,null,null,null,null,null,{"$f":"IF(H247=\"\",\"-\",VLOOKUP(T247,読み替え表_スマートムーブ!$C$4:$F$13,4,0))","v":"-"},{"$f":"IF(H247=\"\",\"-\",VLOOKUP(V247,読み替え表_スマートムーブ!$C$16:$F$21,4,0))","v":"-"},"-",null,null,null,null,0,0,0,0,0,0,"*"]
[null,null,239,null,null,null,null,null,null,null,null,null,null,null,null,null,null,null,null,null,null,null,null,null,null,null,null,null,null,null,null,null,null,null,null,{"$f":"IF(H248=\"\",\"-\",VLOOKUP(T248,読み替え表_スマートムーブ!$C$4:$F$13,4,0))","v":"-"},{"$f":"IF(H248=\"\",\"-\",VLOOKUP(V248,読み替え表_スマートムーブ!$C$16:$F$21,4,0))","v":"-"},"-",null,null,null,null,0,0,0,0,0,0,"*"]
[null,null,240,null,null,null,null,null,null,null,null,null,null,null,null,null,null,null,null,null,null,null,null,null,null,null,null,null,null,null,null,null,null,null,null,{"$f":"IF(H249=\"\",\"-\",VLOOKUP(T249,読み替え表_スマートムーブ!$C$4:$F$13,4,0))","v":"-"},{"$f":"IF(H249=\"\",\"-\",VLOOKUP(V249,読み替え表_スマートムーブ!$C$16:$F$21,4,0))","v":"-"},"-",null,null,null,null,0,0,0,0,0,0,"*"]
[null,null,241,null,null,null,null,null,null,null,null,null,null,null,null,null,null,null,null,null,null,null,null,null,null,null,null,null,null,null,null,null,null,null,null,{"$f":"IF(H250=\"\",\"-\",VLOOKUP(T250,読み替え表_スマートムーブ!$C$4:$F$13,4,0))","v":"-"},{"$f":"IF(H250=\"\",\"-\",VLOOKUP(V250,読み替え表_スマートムーブ!$C$16:$F$21,4,0))","v":"-"},"-",null,null,null,null,0,0,0,0,0,0,"*"]
[null,null,242,null,null,null,null,null,null,null,null,null,null,null,null,null,null,null,null,null,null,null,null,null,null,null,null,null,null,null,null,null,null,null,null,{"$f":"IF(H251=\"\",\"-\",VLOOKUP(T251,読み替え表_スマートムーブ!$C$4:$F$13,4,0))","v":"-"},{"$f":"IF(H251=\"\",\"-\",VLOOKUP(V251,読み替え表_スマートムーブ!$C$16:$F$21,4,0))","v":"-"},"-",null,null,null,null,0,0,0,0,0,0,"*"]
[null,null,243,null,null,null,null,null,null,null,null,null,null,null,null,null,null,null,null,null,null,null,null,null,null,null,null,null,null,null,null,null,null,null,null,{"$f":"IF(H252=\"\",\"-\",VLOOKUP(T252,読み替え表_スマートムーブ!$C$4:$F$13,4,0))","v":"-"},{"$f":"IF(H252=\"\",\"-\",VLOOKUP(V252,読み替え表_スマートムーブ!$C$16:$F$21,4,0))","v":"-"},"-",null,null,null,null,0,0,0,0,0,0,"*"]
[null,null,244,null,null,null,null,null,null,null,null,null,null,null,null,null,null,null,null,null,null,null,null,null,null,null,null,null,null,null,null,null,null,null,null,{"$f":"IF(H253=\"\",\"-\",VLOOKUP(T253,読み替え表_スマートムーブ!$C$4:$F$13,4,0))","v":"-"},{"$f":"IF(H253=\"\",\"-\",VLOOKUP(V253,読み替え表_スマートムーブ!$C$16:$F$21,4,0))","v":"-"},"-",null,null,null,null,0,0,0,0,0,0,"*"]
[null,null,245,null,null,null,null,null,null,null,null,null,null,null,null,null,null,null,null,null,null,null,null,null,null,null,null,null,null,null,null,null,null,null,null,{"$f":"IF(H254=\"\",\"-\",VLOOKUP(T254,読み替え表_スマートムーブ!$C$4:$F$13,4,0))","v":"-"},{"$f":"IF(H254=\"\",\"-\",VLOOKUP(V254,読み替え表_スマートムーブ!$C$16:$F$21,4,0))","v":"-"},"-",null,null,null,null,0,0,0,0,0,0,"*"]
[null,null,246,null,null,null,null,null,null,null,null,null,null,null,null,null,null,null,null,null,null,null,null,null,null,null,null,null,null,null,null,null,null,null,null,{"$f":"IF(H255=\"\",\"-\",VLOOKUP(T255,読み替え表_スマートムーブ!$C$4:$F$13,4,0))","v":"-"},{"$f":"IF(H255=\"\",\"-\",VLOOKUP(V255,読み替え表_スマートムーブ!$C$16:$F$21,4,0))","v":"-"},"-",null,null,null,null,0,0,0,0,0,0,"*"]
[null,null,247,null,null,null,null,null,null,null,null,null,null,null,null,null,null,null,null,null,null,null,null,null,null,null,null,null,null,null,null,null,null,null,null,{"$f":"IF(H256=\"\",\"-\",VLOOKUP(T256,読み替え表_スマートムーブ!$C$4:$F$13,4,0))","v":"-"},{"$f":"IF(H256=\"\",\"-\",VLOOKUP(V256,読み替え表_スマートムーブ!$C$16:$F$21,4,0))","v":"-"},"-",null,null,null,null,0,0,0,0,0,0,"*"]
[null,null,248,null,null,null,null,null,null,null,null,null,null,null,null,null,null,null,null,null,null,null,null,null,null,null,null,null,null,null,null,null,null,null,null,{"$f":"IF(H257=\"\",\"-\",VLOOKUP(T257,読み替え表_スマートムーブ!$C$4:$F$13,4,0))","v":"-"},{"$f":"IF(H257=\"\",\"-\",VLOOKUP(V257,読み替え表_スマートムーブ!$C$16:$F$21,4,0))","v":"-"},"-",null,null,null,null,0,0,0,0,0,0,"*"]
[null,null,249,null,null,null,null,null,null,null,null,null,null,null,null,null,null,null,null,null,null,null,null,null,null,null,null,null,null,null,null,null,null,null,null,{"$f":"IF(H258=\"\",\"-\",VLOOKUP(T258,読み替え表_スマートムーブ!$C$4:$F$13,4,0))","v":"-"},{"$f":"IF(H258=\"\",\"-\",VLOOKUP(V258,読み替え表_スマートムーブ!$C$16:$F$21,4,0))","v":"-"},"-",null,null,null,null,0,0,0,0,0,0,"*"]
[null,null,250,null,null,null,null,null,null,null,null,null,null,null,null,null,null,null,null,null,null,null,null,null,null,null,null,null,null,null,null,null,null,null,null,{"$f":"IF(H259=\"\",\"-\",VLOOKUP(T259,読み替え表_スマートムーブ!$C$4:$F$13,4,0))","v":"-"},{"$f":"IF(H259=\"\",\"-\",VLOOKUP(V259,読み替え表_スマートムーブ!$C$16:$F$21,4,0))","v":"-"},"-",null,null,null,null,0,0,0,0,0,0,"*"]
[null,null,251,null,null,null,null,null,null,null,null,null,null,null,null,null,null,null,null,null,null,null,null,null,null,null,null,null,null,null,null,null,null,null,null,{"$f":"IF(H260=\"\",\"-\",VLOOKUP(T260,読み替え表_スマートムーブ!$C$4:$F$13,4,0))","v":"-"},{"$f":"IF(H260=\"\",\"-\",VLOOKUP(V260,読み替え表_スマートムーブ!$C$16:$F$21,4,0))","v":"-"},"-",null,null,null,null,0,0,0,0,0,0,"*"]
[null,null,252,null,null,null,null,null,null,null,null,null,null,null,null,null,null,null,null,null,null,null,null,null,null,null,null,null,null,null,null,null,null,null,null,{"$f":"IF(H261=\"\",\"-\",VLOOKUP(T261,読み替え表_スマートムーブ!$C$4:$F$13,4,0))","v":"-"},{"$f":"IF(H261=\"\",\"-\",VLOOKUP(V261,読み替え表_スマートムーブ!$C$16:$F$21,4,0))","v":"-"},"-",null,null,null,null,0,0,0,0,0,0,"*"]
[null,null,253,null,null,null,null,null,null,null,null,null,null,null,null,null,null,null,null,null,null,null,null,null,null,null,null,null,null,null,null,null,null,null,null,{"$f":"IF(H262=\"\",\"-\",VLOOKUP(T262,読み替え表_スマートムーブ!$C$4:$F$13,4,0))","v":"-"},{"$f":"IF(H262=\"\",\"-\",VLOOKUP(V262,読み替え表_スマートムーブ!$C$16:$F$21,4,0))","v":"-"},"-",null,null,null,null,0,0,0,0,0,0,"*"]
[null,null,254,null,null,null,null,null,null,null,null,null,null,null,null,null,null,null,null,null,null,null,null,null,null,null,null,null,null,null,null,null,null,null,null,{"$f":"IF(H263=\"\",\"-\",VLOOKUP(T263,読み替え表_スマートムーブ!$C$4:$F$13,4,0))","v":"-"},{"$f":"IF(H263=\"\",\"-\",VLOOKUP(V263,読み替え表_スマートムーブ!$C$16:$F$21,4,0))","v":"-"},"-",null,null,null,null,0,0,0,0,0,0,"*"]
[null,null,255,null,null,null,null,null,null,null,null,null,null,null,null,null,null,null,null,null,null,null,null,null,null,null,null,null,null,null,null,null,null,null,null,{"$f":"IF(H264=\"\",\"-\",VLOOKUP(T264,読み替え表_スマートムーブ!$C$4:$F$13,4,0))","v":"-"},{"$f":"IF(H264=\"\",\"-\",VLOOKUP(V264,読み替え表_スマートムーブ!$C$16:$F$21,4,0))","v":"-"},"-",null,null,null,null,0,0,0,0,0,0,"*"]
[null,null,256,null,null,null,null,null,null,null,null,null,null,null,null,null,null,null,null,null,null,null,null,null,null,null,null,null,null,null,null,null,null,null,null,{"$f":"IF(H265=\"\",\"-\",VLOOKUP(T265,読み替え表_スマートムーブ!$C$4:$F$13,4,0))","v":"-"},{"$f":"IF(H265=\"\",\"-\",VLOOKUP(V265,読み替え表_スマートムーブ!$C$16:$F$21,4,0))","v":"-"},"-",null,null,null,null,0,0,0,0,0,0,"*"]
[null,null,257,null,null,null,null,null,null,null,null,null,null,null,null,null,null,null,null,null,null,null,null,null,null,null,null,null,null,null,null,null,null,null,null,{"$f":"IF(H266=\"\",\"-\",VLOOKUP(T266,読み替え表_スマートムーブ!$C$4:$F$13,4,0))","v":"-"},{"$f":"IF(H266=\"\",\"-\",VLOOKUP(V266,読み替え表_スマートムーブ!$C$16:$F$21,4,0))","v":"-"},"-",null,null,null,null,0,0,0,0,0,{"$f":"AQ266","v":0},"*"]
[null,null,{"$f":"ROW()-9","v":258},null,null,null,null,null,null,null,null,null,null,null,null,null,null,null,null,null,null,null,null,null,null,null,null,null,null,null,null,null,null,null,null,{"$f":"IF(H267=\"\",\"-\",VLOOKUP(T267,読み替え表_スマートムーブ!$C$4:$F$13,4,0))","v":"-"},{"$f":"IF(H267=\"\",\"-\",VLOOKUP(V267,読み替え表_スマートムーブ!$C$16:$F$21,4,0))","v":"-"},{"$f":"IF(H267=\"\",\"-\",AJ267*AK267)","v":"-"},null,null,null,null,{"$f":"IF(SUM($AR267:$AT267)>=1,1,0)","v":0},{"$f":"IF(R267=1,1,0)","v":0},{"$f":"IF(T267=9,1,0)","v":0},{"$f":"IF(V267=5,1,0)","v":0},{"$f":"IF(OR($X267=1,$X267=2,$X267=3),1,0)","v":0},0,"*"]
[null,null,259,null,null,null,null,null,null,null,null,null,null,null,null,null,null,null,null,null,null,null,null,null,null,null,null,null,null,null,null,null,null,null,null,{"$f":"IF(H268=\"\",\"-\",VLOOKUP(T268,読み替え表_スマートムーブ!$C$4:$F$13,4,0))","v":"-"},{"$f":"IF(H268=\"\",\"-\",VLOOKUP(V268,読み替え表_スマートムーブ!$C$16:$F$21,4,0))","v":"-"},"-",null,null,null,null,0,0,0,0,0,0,"*"]
[null,null,260,null,null,null,null,null,null,null,null,null,null,null,null,null,null,null,null,null,null,null,null,null,null,null,null,null,null,null,null,null,null,null,null,{"$f":"IF(H269=\"\",\"-\",VLOOKUP(T269,読み替え表_スマートムーブ!$C$4:$F$13,4,0))","v":"-"},{"$f":"IF(H269=\"\",\"-\",VLOOKUP(V269,読み替え表_スマートムーブ!$C$16:$F$21,4,0))","v":"-"},"-",null,null,null,null,0,0,0,0,0,0,"*"]
[null,null,261,null,null,null,null,null,null,null,null,null,null,null,null,null,null,null,null,null,null,null,null,null,null,null,null,null,null,null,null,null,null,null,null,{"$f":"IF(H270=\"\",\"-\",VLOOKUP(T270,読み替え表_スマートムーブ!$C$4:$F$13,4,0))","v":"-"},{"$f":"IF(H270=\"\",\"-\",VLOOKUP(V270,読み替え表_スマートムーブ!$C$16:$F$21,4,0))","v":"-"},"-",null,null,null,null,0,0,0,0,0,0,"*"]
[null,null,262,null,null,null,null,null,null,null,null,null,null,null,null,null,null,null,null,null,null,null,null,null,null,null,null,null,null,null,null,null,null,null,null,{"$f":"IF(H271=\"\",\"-\",VLOOKUP(T271,読み替え表_スマートムーブ!$C$4:$F$13,4,0))","v":"-"},{"$f":"IF(H271=\"\",\"-\",VLOOKUP(V271,読み替え表_スマートムーブ!$C$16:$F$21,4,0))","v":"-"},"-",null,null,null,null,0,0,0,0,0,0,"*"]
[null,null,263,null,null,null,null,null,null,null,null,null,null,null,null,null,null,null,null,null,null,null,null,null,null,null,null,null,null,null,null,null,null,null,null,{"$f":"IF(H272=\"\",\"-\",VLOOKUP(T272,読み替え表_スマートムーブ!$C$4:$F$13,4,0))","v":"-"},{"$f":"IF(H272=\"\",\"-\",VLOOKUP(V272,読み替え表_スマートムーブ!$C$16:$F$21,4,0))","v":"-"},"-",null,null,null,null,0,0,0,0,0,0,"*"]
[null,null,264,null,null,null,null,null,null,null,null,null,null,null,null,null,null,null,null,null,null,null,null,null,null,null,null,null,null,null,null,null,null,null,null,{"$f":"IF(H273=\"\",\"-\",VLOOKUP(T273,読み替え表_スマートムーブ!$C$4:$F$13,4,0))","v":"-"},{"$f":"IF(H273=\"\",\"-\",VLOOKUP(V273,読み替え表_スマートムーブ!$C$16:$F$21,4,0))","v":"-"},"-",null,null,null,null,0,0,0,0,0,0,"*"]
[null,null,265,null,null,null,null,null,null,null,null,null,null,null,null,null,null,null,null,null,null,null,null,null,null,null,null,null,null,null,null,null,null,null,null,{"$f":"IF(H274=\"\",\"-\",VLOOKUP(T274,読み替え表_スマートムーブ!$C$4:$F$13,4,0))","v":"-"},{"$f":"IF(H274=\"\",\"-\",VLOOKUP(V274,読み替え表_スマートムーブ!$C$16:$F$21,4,0))","v":"-"},"-",null,null,null,null,0,0,0,0,0,0,"*"]
[null,null,266,null,null,null,null,null,null,null,null,null,null,null,null,null,null,null,null,null,null,null,null,null,null,null,null,null,null,null,null,null,null,null,null,{"$f":"IF(H275=\"\",\"-\",VLOOKUP(T275,読み替え表_スマートムーブ!$C$4:$F$13,4,0))","v":"-"},{"$f":"IF(H275=\"\",\"-\",VLOOKUP(V275,読み替え表_スマートムーブ!$C$16:$F$21,4,0))","v":"-"},"-",null,null,null,null,0,0,0,0,0,0,"*"]
[null,null,267,null,null,null,null,null,null,null,null,null,null,null,null,null,null,null,null,null,null,null,null,null,null,null,null,null,null,null,null,null,null,null,null,{"$f":"IF(H276=\"\",\"-\",VLOOKUP(T276,読み替え表_スマートムーブ!$C$4:$F$13,4,0))","v":"-"},{"$f":"IF(H276=\"\",\"-\",VLOOKUP(V276,読み替え表_スマートムーブ!$C$16:$F$21,4,0))","v":"-"},"-",null,null,null,null,0,0,0,0,0,0,"*"]
[null,null,268,null,null,null,null,null,null,null,null,null,null,null,null,null,null,null,null,null,null,null,null,null,null,null,null,null,null,null,null,null,null,null,null,{"$f":"IF(H277=\"\",\"-\",VLOOKUP(T277,読み替え表_スマートムーブ!$C$4:$F$13,4,0))","v":"-"},{"$f":"IF(H277=\"\",\"-\",VLOOKUP(V277,読み替え表_スマートムーブ!$C$16:$F$21,4,0))","v":"-"},"-",null,null,null,null,0,0,0,0,0,0,"*"]
[null,null,269,null,null,null,null,null,null,null,null,null,null,null,null,null,null,null,null,null,null,null,null,null,null,null,null,null,null,null,null,null,null,null,null,{"$f":"IF(H278=\"\",\"-\",VLOOKUP(T278,読み替え表_スマートムーブ!$C$4:$F$13,4,0))","v":"-"},{"$f":"IF(H278=\"\",\"-\",VLOOKUP(V278,読み替え表_スマートムーブ!$C$16:$F$21,4,0))","v":"-"},"-",null,null,null,null,0,0,0,0,0,0,"*"]
[null,null,270,null,null,null,null,null,null,null,null,null,null,null,null,null,null,null,null,null,null,null,null,null,null,null,null,null,null,null,null,null,null,null,null,{"$f":"IF(H279=\"\",\"-\",VLOOKUP(T279,読み替え表_スマートムーブ!$C$4:$F$13,4,0))","v":"-"},{"$f":"IF(H279=\"\",\"-\",VLOOKUP(V279,読み替え表_スマートムーブ!$C$16:$F$21,4,0))","v":"-"},"-",null,null,null,null,0,0,0,0,0,0,"*"]
[null,null,271,null,null,null,null,null,null,null,null,null,null,null,null,null,null,null,null,null,null,null,null,null,null,null,null,null,null,null,null,null,null,null,null,{"$f":"IF(H280=\"\",\"-\",VLOOKUP(T280,読み替え表_スマートムーブ!$C$4:$F$13,4,0))","v":"-"},{"$f":"IF(H280=\"\",\"-\",VLOOKUP(V280,読み替え表_スマートムーブ!$C$16:$F$21,4,0))","v":"-"},"-",null,null,null,null,0,0,0,0,0,0,"*"]
[null,null,272,null,null,null,null,null,null,null,null,null,null,null,null,null,null,null,null,null,null,null,null,null,null,null,null,null,null,null,null,null,null,null,null,{"$f":"IF(H281=\"\",\"-\",VLOOKUP(T281,読み替え表_スマートムーブ!$C$4:$F$13,4,0))","v":"-"},{"$f":"IF(H281=\"\",\"-\",VLOOKUP(V281,読み替え表_スマートムーブ!$C$16:$F$21,4,0))","v":"-"},"-",null,null,null,null,0,0,0,0,0,0,"*"]
[null,null,273,null,null,null,null,null,null,null,null,null,null,null,null,null,null,null,null,null,null,null,null,null,null,null,null,null,null,null,null,null,null,null,null,{"$f":"IF(H282=\"\",\"-\",VLOOKUP(T282,読み替え表_スマートムーブ!$C$4:$F$13,4,0))","v":"-"},{"$f":"IF(H282=\"\",\"-\",VLOOKUP(V282,読み替え表_スマートムーブ!$C$16:$F$21,4,0))","v":"-"},"-",null,null,null,null,0,0,0,0,0,0,"*"]
[null,null,274,null,null,null,null,null,null,null,null,null,null,null,null,null,null,null,null,null,null,null,null,null,null,null,null,null,null,null,null,null,null,null,null,{"$f":"IF(H283=\"\",\"-\",VLOOKUP(T283,読み替え表_スマートムーブ!$C$4:$F$13,4,0))","v":"-"},{"$f":"IF(H283=\"\",\"-\",VLOOKUP(V283,読み替え表_スマートムーブ!$C$16:$F$21,4,0))","v":"-"},"-",null,null,null,null,0,0,0,0,0,0,"*"]
[null,null,275,null,null,null,null,null,null,null,null,null,null,null,null,null,null,null,null,null,null,null,null,null,null,null,null,null,null,null,null,null,null,null,null,{"$f":"IF(H284=\"\",\"-\",VLOOKUP(T284,読み替え表_スマートムーブ!$C$4:$F$13,4,0))","v":"-"},{"$f":"IF(H284=\"\",\"-\",VLOOKUP(V284,読み替え表_スマートムーブ!$C$16:$F$21,4,0))","v":"-"},"-",null,null,null,null,0,0,0,0,0,0,"*"]
[null,null,276,null,null,null,null,null,null,null,null,null,null,null,null,null,null,null,null,null,null,null,null,null,null,null,null,null,null,null,null,null,null,null,null,{"$f":"IF(H285=\"\",\"-\",VLOOKUP(T285,読み替え表_スマートムーブ!$C$4:$F$13,4,0))","v":"-"},{"$f":"IF(H285=\"\",\"-\",VLOOKUP(V285,読み替え表_スマートムーブ!$C$16:$F$21,4,0))","v":"-"},"-",null,null,null,null,0,0,0,0,0,0,"*"]
[null,null,277,null,null,null,null,null,null,null,null,null,null,null,null,null,null,null,null,null,null,null,null,null,null,null,null,null,null,null,null,null,null,null,null,{"$f":"IF(H286=\"\",\"-\",VLOOKUP(T286,読み替え表_スマートムーブ!$C$4:$F$13,4,0))","v":"-"},{"$f":"IF(H286=\"\",\"-\",VLOOKUP(V286,読み替え表_スマートムーブ!$C$16:$F$21,4,0))","v":"-"},"-",null,null,null,null,0,0,0,0,0,0,"*"]
[null,null,278,null,null,null,null,null,null,null,null,null,null,null,null,null,null,null,null,null,null,null,null,null,null,null,null,null,null,null,null,null,null,null,null,{"$f":"IF(H287=\"\",\"-\",VLOOKUP(T287,読み替え表_スマートムーブ!$C$4:$F$13,4,0))","v":"-"},{"$f":"IF(H287=\"\",\"-\",VLOOKUP(V287,読み替え表_スマートムーブ!$C$16:$F$21,4,0))","v":"-"},"-",null,null,null,null,0,0,0,0,0,0,"*"]
[null,null,279,null,null,null,null,null,null,null,null,null,null,null,null,null,null,null,null,null,null,null,null,null,null,null,null,null,null,null,null,null,null,null,null,{"$f":"IF(H288=\"\",\"-\",VLOOKUP(T288,読み替え表_スマートムーブ!$C$4:$F$13,4,0))","v":"-"},{"$f":"IF(H288=\"\",\"-\",VLOOKUP(V288,読み替え表_スマートムーブ!$C$16:$F$21,4,0))","v":"-"},"-",null,null,null,null,0,0,0,0,0,0,"*"]
[null,null,280,null,null,null,null,null,null,null,null,null,null,null,null,null,null,null,null,null,null,null,null,null,null,null,null,null,null,null,null,null,null,null,null,{"$f":"IF(H289=\"\",\"-\",VLOOKUP(T289,読み替え表_スマートムーブ!$C$4:$F$13,4,0))","v":"-"},{"$f":"IF(H289=\"\",\"-\",VLOOKUP(V289,読み替え表_スマートムーブ!$C$16:$F$21,4,0))","v":"-"},"-",null,null,null,null,0,0,0,0,0,0,"*"]
[null,null,281,null,null,null,null,null,null,null,null,null,null,null,null,null,null,null,null,null,null,null,null,null,null,null,null,null,null,null,null,null,null,null,null,{"$f":"IF(H290=\"\",\"-\",VLOOKUP(T290,読み替え表_スマートムーブ!$C$4:$F$13,4,0))","v":"-"},{"$f":"IF(H290=\"\",\"-\",VLOOKUP(V290,読み替え表_スマートムーブ!$C$16:$F$21,4,0))","v":"-"},"-",null,null,null,null,0,0,0,0,0,0,"*"]
[null,null,282,null,null,null,null,null,null,null,null,null,null,null,null,null,null,null,null,null,null,null,null,null,null,null,null,null,null,null,null,null,null,null,null,{"$f":"IF(H291=\"\",\"-\",VLOOKUP(T291,読み替え表_スマートムーブ!$C$4:$F$13,4,0))","v":"-"},{"$f":"IF(H291=\"\",\"-\",VLOOKUP(V291,読み替え表_スマートムーブ!$C$16:$F$21,4,0))","v":"-"},"-",null,null,null,null,0,0,0,0,0,0,"*"]
[null,null,283,null,null,null,null,null,null,null,null,null,null,null,null,null,null,null,null,null,null,null,null,null,null,null,null,null,null,null,null,null,null,null,null,{"$f":"IF(H292=\"\",\"-\",VLOOKUP(T292,読み替え表_スマートムーブ!$C$4:$F$13,4,0))","v":"-"},{"$f":"IF(H292=\"\",\"-\",VLOOKUP(V292,読み替え表_スマートムーブ!$C$16:$F$21,4,0))","v":"-"},"-",null,null,null,null,0,0,0,0,0,0,"*"]
[null,null,284,null,null,null,null,null,null,null,null,null,null,null,null,null,null,null,null,null,null,null,null,null,null,null,null,null,null,null,null,null,null,null,null,{"$f":"IF(H293=\"\",\"-\",VLOOKUP(T293,読み替え表_スマートムーブ!$C$4:$F$13,4,0))","v":"-"},{"$f":"IF(H293=\"\",\"-\",VLOOKUP(V293,読み替え表_スマートムーブ!$C$16:$F$21,4,0))","v":"-"},"-",null,null,null,null,0,0,0,0,0,0,"*"]
[null,null,285,null,null,null,null,null,null,null,null,null,null,null,null,null,null,null,null,null,null,null,null,null,null,null,null,null,null,null,null,null,null,null,null,{"$f":"IF(H294=\"\",\"-\",VLOOKUP(T294,読み替え表_スマートムーブ!$C$4:$F$13,4,0))","v":"-"},{"$f":"IF(H294=\"\",\"-\",VLOOKUP(V294,読み替え表_スマートムーブ!$C$16:$F$21,4,0))","v":"-"},"-",null,null,null,null,0,0,0,0,0,0,"*"]
[null,null,286,null,null,null,null,null,null,null,null,null,null,null,null,null,null,null,null,null,null,null,null,null,null,null,null,null,null,null,null,null,null,null,null,{"$f":"IF(H295=\"\",\"-\",VLOOKUP(T295,読み替え表_スマートムーブ!$C$4:$F$13,4,0))","v":"-"},{"$f":"IF(H295=\"\",\"-\",VLOOKUP(V295,読み替え表_スマートムーブ!$C$16:$F$21,4,0))","v":"-"},"-",null,null,null,null,0,0,0,0,0,0,"*"]
[null,null,287,null,null,null,null,null,null,null,null,null,null,null,null,null,null,null,null,null,null,null,null,null,null,null,null,null,null,null,null,null,null,null,null,{"$f":"IF(H296=\"\",\"-\",VLOOKUP(T296,読み替え表_スマートムーブ!$C$4:$F$13,4,0))","v":"-"},{"$f":"IF(H296=\"\",\"-\",VLOOKUP(V296,読み替え表_スマートムーブ!$C$16:$F$21,4,0))","v":"-"},"-",null,null,null,null,0,0,0,0,0,0,"*"]
[null,null,288,null,null,null,null,null,null,null,null,null,null,null,null,null,null,null,null,null,null,null,null,null,null,null,null,null,null,null,null,null,null,null,null,{"$f":"IF(H297=\"\",\"-\",VLOOKUP(T297,読み替え表_スマートムーブ!$C$4:$F$13,4,0))","v":"-"},{"$f":"IF(H297=\"\",\"-\",VLOOKUP(V297,読み替え表_スマートムーブ!$C$16:$F$21,4,0))","v":"-"},"-",null,null,null,null,0,0,0,0,0,0,"*"]
[null,null,289,null,null,null,null,null,null,null,null,null,null,null,null,null,null,null,null,null,null,null,null,null,null,null,null,null,null,null,null,null,null,null,null,{"$f":"IF(H298=\"\",\"-\",VLOOKUP(T298,読み替え表_スマートムーブ!$C$4:$F$13,4,0))","v":"-"},{"$f":"IF(H298=\"\",\"-\",VLOOKUP(V298,読み替え表_スマートムーブ!$C$16:$F$21,4,0))","v":"-"},"-",null,null,null,null,0,0,0,0,0,0,"*"]
[null,null,290,null,null,null,null,null,null,null,null,null,null,null,null,null,null,null,null,null,null,null,null,null,null,null,null,null,null,null,null,null,null,null,null,{"$f":"IF(H299=\"\",\"-\",VLOOKUP(T299,読み替え表_スマートムーブ!$C$4:$F$13,4,0))","v":"-"},{"$f":"IF(H299=\"\",\"-\",VLOOKUP(V299,読み替え表_スマートムーブ!$C$16:$F$21,4,0))","v":"-"},"-",null,null,null,null,0,0,0,0,0,0,"*"]
[null,null,291,null,null,null,null,null,null,null,null,null,null,null,null,null,null,null,null,null,null,null,null,null,null,null,null,null,null,null,null,null,null,null,null,{"$f":"IF(H300=\"\",\"-\",VLOOKUP(T300,読み替え表_スマートムーブ!$C$4:$F$13,4,0))","v":"-"},{"$f":"IF(H300=\"\",\"-\",VLOOKUP(V300,読み替え表_スマートムーブ!$C$16:$F$21,4,0))","v":"-"},"-",null,null,null,null,0,0,0,0,0,0,"*"]
[null,null,292,null,null,null,null,null,null,null,null,null,null,null,null,null,null,null,null,null,null,null,null,null,null,null,null,null,null,null,null,null,null,null,null,{"$f":"IF(H301=\"\",\"-\",VLOOKUP(T301,読み替え表_スマートムーブ!$C$4:$F$13,4,0))","v":"-"},{"$f":"IF(H301=\"\",\"-\",VLOOKUP(V301,読み替え表_スマートムーブ!$C$16:$F$21,4,0))","v":"-"},"-",null,null,null,null,0,0,0,0,0,0,"*"]
[null,null,293,null,null,null,null,null,null,null,null,null,null,null,null,null,null,null,null,null,null,null,null,null,null,null,null,null,null,null,null,null,null,null,null,{"$f":"IF(H302=\"\",\"-\",VLOOKUP(T302,読み替え表_スマートムーブ!$C$4:$F$13,4,0))","v":"-"},{"$f":"IF(H302=\"\",\"-\",VLOOKUP(V302,読み替え表_スマートムーブ!$C$16:$F$21,4,0))","v":"-"},"-",null,null,null,null,0,0,0,0,0,0,"*"]
[null,null,294,null,null,null,null,null,null,null,null,null,null,null,null,null,null,null,null,null,null,null,null,null,null,null,null,null,null,null,null,null,null,null,null,{"$f":"IF(H303=\"\",\"-\",VLOOKUP(T303,読み替え表_スマートムーブ!$C$4:$F$13,4,0))","v":"-"},{"$f":"IF(H303=\"\",\"-\",VLOOKUP(V303,読み替え表_スマートムーブ!$C$16:$F$21,4,0))","v":"-"},"-",null,null,null,null,0,0,0,0,0,0,"*"]
[null,null,295,null,null,null,null,null,null,null,null,null,null,null,null,null,null,null,null,null,null,null,null,null,null,null,null,null,null,null,null,null,null,null,null,{"$f":"IF(H304=\"\",\"-\",VLOOKUP(T304,読み替え表_スマートムーブ!$C$4:$F$13,4,0))","v":"-"},{"$f":"IF(H304=\"\",\"-\",VLOOKUP(V304,読み替え表_スマートムーブ!$C$16:$F$21,4,0))","v":"-"},"-",null,null,null,null,0,0,0,0,0,0,"*"]
[null,null,296,null,null,null,null,null,null,null,null,null,null,null,null,null,null,null,null,null,null,null,null,null,null,null,null,null,null,null,null,null,null,null,null,{"$f":"IF(H305=\"\",\"-\",VLOOKUP(T305,読み替え表_スマートムーブ!$C$4:$F$13,4,0))","v":"-"},{"$f":"IF(H305=\"\",\"-\",VLOOKUP(V305,読み替え表_スマートムーブ!$C$16:$F$21,4,0))","v":"-"},"-",null,null,null,null,0,0,0,0,0,0,"*"]
[null,null,297,null,null,null,null,null,null,null,null,null,null,null,null,null,null,null,null,null,null,null,null,null,null,null,null,null,null,null,null,null,null,null,null,{"$f":"IF(H306=\"\",\"-\",VLOOKUP(T306,読み替え表_スマートムーブ!$C$4:$F$13,4,0))","v":"-"},{"$f":"IF(H306=\"\",\"-\",VLOOKUP(V306,読み替え表_スマートムーブ!$C$16:$F$21,4,0))","v":"-"},"-",null,null,null,null,0,0,0,0,0,0,"*"]
[null,null,298,null,null,null,null,null,null,null,null,null,null,null,null,null,null,null,null,null,null,null,null,null,null,null,null,null,null,null,null,null,null,null,null,{"$f":"IF(H307=\"\",\"-\",VLOOKUP(T307,読み替え表_スマートムーブ!$C$4:$F$13,4,0))","v":"-"},{"$f":"IF(H307=\"\",\"-\",VLOOKUP(V307,読み替え表_スマートムーブ!$C$16:$F$21,4,0))","v":"-"},"-",null,null,null,null,0,0,0,0,0,0,"*"]
[null,null,299,null,null,null,null,null,null,null,null,null,null,null,null,null,null,null,null,null,null,null,null,null,null,null,null,null,null,null,null,null,null,null,null,{"$f":"IF(H308=\"\",\"-\",VLOOKUP(T308,読み替え表_スマートムーブ!$C$4:$F$13,4,0))","v":"-"},{"$f":"IF(H308=\"\",\"-\",VLOOKUP(V308,読み替え表_スマートムーブ!$C$16:$F$21,4,0))","v":"-"},"-",null,null,null,null,0,0,0,0,0,0,"*"]
[null,null,300,null,null,null,null,null,null,null,null,null,null,null,null,null,null,null,null,null,null,null,null,null,null,null,null,null,null,null,null,null,null,null,null,{"$f":"IF(H309=\"\",\"-\",VLOOKUP(T309,読み替え表_スマートムーブ!$C$4:$F$13,4,0))","v":"-"},{"$f":"IF(H309=\"\",\"-\",VLOOKUP(V309,読み替え表_スマートムーブ!$C$16:$F$21,4,0))","v":"-"},"-",null,null,null,null,0,0,0,0,0,0,"*"]
[null,null,301,null,null,null,null,null,null,null,null,null,null,null,null,null,null,null,null,null,null,null,null,null,null,null,null,null,null,null,null,null,null,null,null,{"$f":"IF(H310=\"\",\"-\",VLOOKUP(T310,読み替え表_スマートムーブ!$C$4:$F$13,4,0))","v":"-"},{"$f":"IF(H310=\"\",\"-\",VLOOKUP(V310,読み替え表_スマートムーブ!$C$16:$F$21,4,0))","v":"-"},"-",null,null,null,null,0,0,0,0,0,0,"*"]
[null,null,302,null,null,null,null,null,null,null,null,null,null,null,null,null,null,null,null,null,null,null,null,null,null,null,null,null,null,null,null,null,null,null,null,{"$f":"IF(H311=\"\",\"-\",VLOOKUP(T311,読み替え表_スマートムーブ!$C$4:$F$13,4,0))","v":"-"},{"$f":"IF(H311=\"\",\"-\",VLOOKUP(V311,読み替え表_スマートムーブ!$C$16:$F$21,4,0))","v":"-"},"-",null,null,null,null,0,0,0,0,0,0,"*"]
[null,null,303,null,null,null,null,null,null,null,null,null,null,null,null,null,null,null,null,null,null,null,null,null,null,null,null,null,null,null,null,null,null,null,null,{"$f":"IF(H312=\"\",\"-\",VLOOKUP(T312,読み替え表_スマートムーブ!$C$4:$F$13,4,0))","v":"-"},{"$f":"IF(H312=\"\",\"-\",VLOOKUP(V312,読み替え表_スマートムーブ!$C$16:$F$21,4,0))","v":"-"},"-",null,null,null,null,0,0,0,0,0,0,"*"]
[null,null,304,null,null,null,null,null,null,null,null,null,null,null,null,null,null,null,null,null,null,null,null,null,null,null,null,null,null,null,null,null,null,null,null,{"$f":"IF(H313=\"\",\"-\",VLOOKUP(T313,読み替え表_スマートムーブ!$C$4:$F$13,4,0))","v":"-"},{"$f":"IF(H313=\"\",\"-\",VLOOKUP(V313,読み替え表_スマートムーブ!$C$16:$F$21,4,0))","v":"-"},"-",null,null,null,null,0,0,0,0,0,0,"*"]
[null,null,305,null,null,null,null,null,null,null,null,null,null,null,null,null,null,null,null,null,null,null,null,null,null,null,null,null,null,null,null,null,null,null,null,{"$f":"IF(H314=\"\",\"-\",VLOOKUP(T314,読み替え表_スマートムーブ!$C$4:$F$13,4,0))","v":"-"},{"$f":"IF(H314=\"\",\"-\",VLOOKUP(V314,読み替え表_スマートムーブ!$C$16:$F$21,4,0))","v":"-"},"-",null,null,null,null,0,0,0,0,0,0,"*"]
[null,null,306,null,null,null,null,null,null,null,null,null,null,null,null,null,null,null,null,null,null,null,null,null,null,null,null,null,null,null,null,null,null,null,null,{"$f":"IF(H315=\"\",\"-\",VLOOKUP(T315,読み替え表_スマートムーブ!$C$4:$F$13,4,0))","v":"-"},{"$f":"IF(H315=\"\",\"-\",VLOOKUP(V315,読み替え表_スマートムーブ!$C$16:$F$21,4,0))","v":"-"},"-",null,null,null,null,0,0,0,0,0,0,"*"]
[null,null,307,null,null,null,null,null,null,null,null,null,null,null,null,null,null,null,null,null,null,null,null,null,null,null,null,null,null,null,null,null,null,null,null,{"$f":"IF(H316=\"\",\"-\",VLOOKUP(T316,読み替え表_スマートムーブ!$C$4:$F$13,4,0))","v":"-"},{"$f":"IF(H316=\"\",\"-\",VLOOKUP(V316,読み替え表_スマートムーブ!$C$16:$F$21,4,0))","v":"-"},"-",null,null,null,null,0,0,0,0,0,0,"*"]
[null,null,308,null,null,null,null,null,null,null,null,null,null,null,null,null,null,null,null,null,null,null,null,null,null,null,null,null,null,null,null,null,null,null,null,{"$f":"IF(H317=\"\",\"-\",VLOOKUP(T317,読み替え表_スマートムーブ!$C$4:$F$13,4,0))","v":"-"},{"$f":"IF(H317=\"\",\"-\",VLOOKUP(V317,読み替え表_スマートムーブ!$C$16:$F$21,4,0))","v":"-"},"-",null,null,null,null,0,0,0,0,0,0,"*"]
[null,null,309,null,null,null,null,null,null,null,null,null,null,null,null,null,null,null,null,null,null,null,null,null,null,null,null,null,null,null,null,null,null,null,null,{"$f":"IF(H318=\"\",\"-\",VLOOKUP(T318,読み替え表_スマートムーブ!$C$4:$F$13,4,0))","v":"-"},{"$f":"IF(H318=\"\",\"-\",VLOOKUP(V318,読み替え表_スマートムーブ!$C$16:$F$21,4,0))","v":"-"},"-",null,null,null,null,0,0,0,0,0,0,"*"]
[null,null,310,null,null,null,null,null,null,null,null,null,null,null,null,null,null,null,null,null,null,null,null,null,null,null,null,null,null,null,null,null,null,null,null,{"$f":"IF(H319=\"\",\"-\",VLOOKUP(T319,読み替え表_スマートムーブ!$C$4:$F$13,4,0))","v":"-"},{"$f":"IF(H319=\"\",\"-\",VLOOKUP(V319,読み替え表_スマートムーブ!$C$16:$F$21,4,0))","v":"-"},"-",null,null,null,null,0,0,0,0,0,0,"*"]
[null,null,311,null,null,null,null,null,null,null,null,null,null,null,null,null,null,null,null,null,null,null,null,null,null,null,null,null,null,null,null,null,null,null,null,{"$f":"IF(H320=\"\",\"-\",VLOOKUP(T320,読み替え表_スマートムーブ!$C$4:$F$13,4,0))","v":"-"},{"$f":"IF(H320=\"\",\"-\",VLOOKUP(V320,読み替え表_スマートムーブ!$C$16:$F$21,4,0))","v":"-"},"-",null,null,null,null,0,0,0,0,0,0,"*"]
[null,null,312,null,null,null,null,null,null,null,null,null,null,null,null,null,null,null,null,null,null,null,null,null,null,null,null,null,null,null,null,null,null,null,null,{"$f":"IF(H321=\"\",\"-\",VLOOKUP(T321,読み替え表_スマートムーブ!$C$4:$F$13,4,0))","v":"-"},{"$f":"IF(H321=\"\",\"-\",VLOOKUP(V321,読み替え表_スマートムーブ!$C$16:$F$21,4,0))","v":"-"},"-",null,null,null,null,0,0,0,0,0,0,"*"]
[null,null,313,null,null,null,null,null,null,null,null,null,null,null,null,null,null,null,null,null,null,null,null,null,null,null,null,null,null,null,null,null,null,null,null,{"$f":"IF(H322=\"\",\"-\",VLOOKUP(T322,読み替え表_スマートムーブ!$C$4:$F$13,4,0))","v":"-"},{"$f":"IF(H322=\"\",\"-\",VLOOKUP(V322,読み替え表_スマートムーブ!$C$16:$F$21,4,0))","v":"-"},"-",null,null,null,null,0,0,0,0,0,0,"*"]
[null,null,314,null,null,null,null,null,null,null,null,null,null,null,null,null,null,null,null,null,null,null,null,null,null,null,null,null,null,null,null,null,null,null,null,{"$f":"IF(H323=\"\",\"-\",VLOOKUP(T323,読み替え表_スマートムーブ!$C$4:$F$13,4,0))","v":"-"},{"$f":"IF(H323=\"\",\"-\",VLOOKUP(V323,読み替え表_スマートムーブ!$C$16:$F$21,4,0))","v":"-"},"-",null,null,null,null,0,0,0,0,0,0,"*"]
[null,null,315,null,null,null,null,null,null,null,null,null,null,null,null,null,null,null,null,null,null,null,null,null,null,null,null,null,null,null,null,null,null,null,null,{"$f":"IF(H324=\"\",\"-\",VLOOKUP(T324,読み替え表_スマートムーブ!$C$4:$F$13,4,0))","v":"-"},{"$f":"IF(H324=\"\",\"-\",VLOOKUP(V324,読み替え表_スマートムーブ!$C$16:$F$21,4,0))","v":"-"},"-",null,null,null,null,0,0,0,0,0,0,"*"]
[null,null,316,null,null,null,null,null,null,null,null,null,null,null,null,null,null,null,null,null,null,null,null,null,null,null,null,null,null,null,null,null,null,null,null,{"$f":"IF(H325=\"\",\"-\",VLOOKUP(T325,読み替え表_スマートムーブ!$C$4:$F$13,4,0))","v":"-"},{"$f":"IF(H325=\"\",\"-\",VLOOKUP(V325,読み替え表_スマートムーブ!$C$16:$F$21,4,0))","v":"-"},"-",null,null,null,null,0,0,0,0,0,0,"*"]
[null,null,317,null,null,null,null,null,null,null,null,null,null,null,null,null,null,null,null,null,null,null,null,null,null,null,null,null,null,null,null,null,null,null,null,{"$f":"IF(H326=\"\",\"-\",VLOOKUP(T326,読み替え表_スマートムーブ!$C$4:$F$13,4,0))","v":"-"},{"$f":"IF(H326=\"\",\"-\",VLOOKUP(V326,読み替え表_スマートムーブ!$C$16:$F$21,4,0))","v":"-"},"-",null,null,null,null,0,0,0,0,0,0,"*"]
[null,null,318,null,null,null,null,null,null,null,null,null,null,null,null,null,null,null,null,null,null,null,null,null,null,null,null,null,null,null,null,null,null,null,null,{"$f":"IF(H327=\"\",\"-\",VLOOKUP(T327,読み替え表_スマートムーブ!$C$4:$F$13,4,0))","v":"-"},{"$f":"IF(H327=\"\",\"-\",VLOOKUP(V327,読み替え表_スマートムーブ!$C$16:$F$21,4,0))","v":"-"},"-",null,null,null,null,0,0,0,0,0,0,"*"]
[null,null,319,null,null,null,null,null,null,null,null,null,null,null,null,null,null,null,null,null,null,null,null,null,null,null,null,null,null,null,null,null,null,null,null,{"$f":"IF(H328=\"\",\"-\",VLOOKUP(T328,読み替え表_スマートムーブ!$C$4:$F$13,4,0))","v":"-"},{"$f":"IF(H328=\"\",\"-\",VLOOKUP(V328,読み替え表_スマートムーブ!$C$16:$F$21,4,0))","v":"-"},"-",null,null,null,null,0,0,0,0,0,0,"*"]
[null,null,320,null,null,null,null,null,null,null,null,null,null,null,null,null,null,null,null,null,null,null,null,null,null,null,null,null,null,null,null,null,null,null,null,{"$f":"IF(H329=\"\",\"-\",VLOOKUP(T329,読み替え表_スマートムーブ!$C$4:$F$13,4,0))","v":"-"},{"$f":"IF(H329=\"\",\"-\",VLOOKUP(V329,読み替え表_スマートムーブ!$C$16:$F$21,4,0))","v":"-"},"-",null,null,null,null,0,0,0,0,0,0,"*"]
[null,null,321,null,null,null,null,null,null,null,null,null,null,null,null,null,null,null,null,null,null,null,null,null,null,null,null,null,null,null,null,null,null,null,null,{"$f":"IF(H330=\"\",\"-\",VLOOKUP(T330,読み替え表_スマートムーブ!$C$4:$F$13,4,0))","v":"-"},{"$f":"IF(H330=\"\",\"-\",VLOOKUP(V330,読み替え表_スマートムーブ!$C$16:$F$21,4,0))","v":"-"},"-",null,null,null,null,0,0,0,0,0,{"$f":"AQ330","v":0},"*"]
[null,null,{"$f":"ROW()-9","v":322},null,null,null,null,null,null,null,null,null,null,null,null,null,null,null,null,null,null,null,null,null,null,null,null,null,null,null,null,null,null,null,null,{"$f":"IF(H331=\"\",\"-\",VLOOKUP(T331,読み替え表_スマートムーブ!$C$4:$F$13,4,0))","v":"-"},{"$f":"IF(H331=\"\",\"-\",VLOOKUP(V331,読み替え表_スマートムーブ!$C$16:$F$21,4,0))","v":"-"},{"$f":"IF(H331=\"\",\"-\",AJ331*AK331)","v":"-"},null,null,null,null,{"$f":"IF(SUM($AR331:$AT331)>=1,1,0)","v":0},{"$f":"IF(R331=1,1,0)","v":0},{"$f":"IF(T331=9,1,0)","v":0},{"$f":"IF(V331=5,1,0)","v":0},{"$f":"IF(OR($X331=1,$X331=2,$X331=3),1,0)","v":0},0,"*"]
[null,null,323,null,null,null,null,null,null,null,null,null,null,null,null,null,null,null,null,null,null,null,null,null,null,null,null,null,null,null,null,null,null,null,null,{"$f":"IF(H332=\"\",\"-\",VLOOKUP(T332,読み替え表_スマートムーブ!$C$4:$F$13,4,0))","v":"-"},{"$f":"IF(H332=\"\",\"-\",VLOOKUP(V332,読み替え表_スマートムーブ!$C$16:$F$21,4,0))","v":"-"},"-",null,null,null,null,0,0,0,0,0,0,"*"]
[null,null,324,null,null,null,null,null,null,null,null,null,null,null,null,null,null,null,null,null,null,null,null,null,null,null,null,null,null,null,null,null,null,null,null,{"$f":"IF(H333=\"\",\"-\",VLOOKUP(T333,読み替え表_スマートムーブ!$C$4:$F$13,4,0))","v":"-"},{"$f":"IF(H333=\"\",\"-\",VLOOKUP(V333,読み替え表_スマートムーブ!$C$16:$F$21,4,0))","v":"-"},"-",null,null,null,null,0,0,0,0,0,0,"*"]
[null,null,325,null,null,null,null,null,null,null,null,null,null,null,null,null,null,null,null,null,null,null,null,null,null,null,null,null,null,null,null,null,null,null,null,{"$f":"IF(H334=\"\",\"-\",VLOOKUP(T334,読み替え表_スマートムーブ!$C$4:$F$13,4,0))","v":"-"},{"$f":"IF(H334=\"\",\"-\",VLOOKUP(V334,読み替え表_スマートムーブ!$C$16:$F$21,4,0))","v":"-"},"-",null,null,null,null,0,0,0,0,0,0,"*"]
[null,null,326,null,null,null,null,null,null,null,null,null,null,null,null,null,null,null,null,null,null,null,null,null,null,null,null,null,null,null,null,null,null,null,null,{"$f":"IF(H335=\"\",\"-\",VLOOKUP(T335,読み替え表_スマートムーブ!$C$4:$F$13,4,0))","v":"-"},{"$f":"IF(H335=\"\",\"-\",VLOOKUP(V335,読み替え表_スマートムーブ!$C$16:$F$21,4,0))","v":"-"},"-",null,null,null,null,0,0,0,0,0,0,"*"]
[null,null,327,null,null,null,null,null,null,null,null,null,null,null,null,null,null,null,null,null,null,null,null,null,null,null,null,null,null,null,null,null,null,null,null,{"$f":"IF(H336=\"\",\"-\",VLOOKUP(T336,読み替え表_スマートムーブ!$C$4:$F$13,4,0))","v":"-"},{"$f":"IF(H336=\"\",\"-\",VLOOKUP(V336,読み替え表_スマートムーブ!$C$16:$F$21,4,0))","v":"-"},"-",null,null,null,null,0,0,0,0,0,0,"*"]
[null,null,328,null,null,null,null,null,null,null,null,null,null,null,null,null,null,null,null,null,null,null,null,null,null,null,null,null,null,null,null,null,null,null,null,{"$f":"IF(H337=\"\",\"-\",VLOOKUP(T337,読み替え表_スマートムーブ!$C$4:$F$13,4,0))","v":"-"},{"$f":"IF(H337=\"\",\"-\",VLOOKUP(V337,読み替え表_スマートムーブ!$C$16:$F$21,4,0))","v":"-"},"-",null,null,null,null,0,0,0,0,0,0,"*"]
[null,null,329,null,null,null,null,null,null,null,null,null,null,null,null,null,null,null,null,null,null,null,null,null,null,null,null,null,null,null,null,null,null,null,null,{"$f":"IF(H338=\"\",\"-\",VLOOKUP(T338,読み替え表_スマートムーブ!$C$4:$F$13,4,0))","v":"-"},{"$f":"IF(H338=\"\",\"-\",VLOOKUP(V338,読み替え表_スマートムーブ!$C$16:$F$21,4,0))","v":"-"},"-",null,null,null,null,0,0,0,0,0,0,"*"]
[null,null,330,null,null,null,null,null,null,null,null,null,null,null,null,null,null,null,null,null,null,null,null,null,null,null,null,null,null,null,null,null,null,null,null,{"$f":"IF(H339=\"\",\"-\",VLOOKUP(T339,読み替え表_スマートムーブ!$C$4:$F$13,4,0))","v":"-"},{"$f":"IF(H339=\"\",\"-\",VLOOKUP(V339,読み替え表_スマートムーブ!$C$16:$F$21,4,0))","v":"-"},"-",null,null,null,null,0,0,0,0,0,0,"*"]
[null,null,331,null,null,null,null,null,null,null,null,null,null,null,null,null,null,null,null,null,null,null,null,null,null,null,null,null,null,null,null,null,null,null,null,{"$f":"IF(H340=\"\",\"-\",VLOOKUP(T340,読み替え表_スマートムーブ!$C$4:$F$13,4,0))","v":"-"},{"$f":"IF(H340=\"\",\"-\",VLOOKUP(V340,読み替え表_スマートムーブ!$C$16:$F$21,4,0))","v":"-"},"-",null,null,null,null,0,0,0,0,0,0,"*"]
[null,null,332,null,null,null,null,null,null,null,null,null,null,null,null,null,null,null,null,null,null,null,null,null,null,null,null,null,null,null,null,null,null,null,null,{"$f":"IF(H341=\"\",\"-\",VLOOKUP(T341,読み替え表_スマートムーブ!$C$4:$F$13,4,0))","v":"-"},{"$f":"IF(H341=\"\",\"-\",VLOOKUP(V341,読み替え表_スマートムーブ!$C$16:$F$21,4,0))","v":"-"},"-",null,null,null,null,0,0,0,0,0,0,"*"]
[null,null,333,null,null,null,null,null,null,null,null,null,null,null,null,null,null,null,null,null,null,null,null,null,null,null,null,null,null,null,null,null,null,null,null,{"$f":"IF(H342=\"\",\"-\",VLOOKUP(T342,読み替え表_スマートムーブ!$C$4:$F$13,4,0))","v":"-"},{"$f":"IF(H342=\"\",\"-\",VLOOKUP(V342,読み替え表_スマートムーブ!$C$16:$F$21,4,0))","v":"-"},"-",null,null,null,null,0,0,0,0,0,0,"*"]
[null,null,334,null,null,null,null,null,null,null,null,null,null,null,null,null,null,null,null,null,null,null,null,null,null,null,null,null,null,null,null,null,null,null,null,{"$f":"IF(H343=\"\",\"-\",VLOOKUP(T343,読み替え表_スマートムーブ!$C$4:$F$13,4,0))","v":"-"},{"$f":"IF(H343=\"\",\"-\",VLOOKUP(V343,読み替え表_スマートムーブ!$C$16:$F$21,4,0))","v":"-"},"-",null,null,null,null,0,0,0,0,0,0,"*"]
[null,null,335,null,null,null,null,null,null,null,null,null,null,null,null,null,null,null,null,null,null,null,null,null,null,null,null,null,null,null,null,null,null,null,null,{"$f":"IF(H344=\"\",\"-\",VLOOKUP(T344,読み替え表_スマートムーブ!$C$4:$F$13,4,0))","v":"-"},{"$f":"IF(H344=\"\",\"-\",VLOOKUP(V344,読み替え表_スマートムーブ!$C$16:$F$21,4,0))","v":"-"},"-",null,null,null,null,0,0,0,0,0,0,"*"]
[null,null,336,null,null,null,null,null,null,null,null,null,null,null,null,null,null,null,null,null,null,null,null,null,null,null,null,null,null,null,null,null,null,null,null,{"$f":"IF(H345=\"\",\"-\",VLOOKUP(T345,読み替え表_スマートムーブ!$C$4:$F$13,4,0))","v":"-"},{"$f":"IF(H345=\"\",\"-\",VLOOKUP(V345,読み替え表_スマートムーブ!$C$16:$F$21,4,0))","v":"-"},"-",null,null,null,null,0,0,0,0,0,0,"*"]
[null,null,337,null,null,null,null,null,null,null,null,null,null,null,null,null,null,null,null,null,null,null,null,null,null,null,null,null,null,null,null,null,null,null,null,{"$f":"IF(H346=\"\",\"-\",VLOOKUP(T346,読み替え表_スマートムーブ!$C$4:$F$13,4,0))","v":"-"},{"$f":"IF(H346=\"\",\"-\",VLOOKUP(V346,読み替え表_スマートムーブ!$C$16:$F$21,4,0))","v":"-"},"-",null,null,null,null,0,0,0,0,0,0,"*"]
[null,null,338,null,null,null,null,null,null,null,null,null,null,null,null,null,null,null,null,null,null,null,null,null,null,null,null,null,null,null,null,null,null,null,null,{"$f":"IF(H347=\"\",\"-\",VLOOKUP(T347,読み替え表_スマートムーブ!$C$4:$F$13,4,0))","v":"-"},{"$f":"IF(H347=\"\",\"-\",VLOOKUP(V347,読み替え表_スマートムーブ!$C$16:$F$21,4,0))","v":"-"},"-",null,null,null,null,0,0,0,0,0,0,"*"]
[null,null,339,null,null,null,null,null,null,null,null,null,null,null,null,null,null,null,null,null,null,null,null,null,null,null,null,null,null,null,null,null,null,null,null,{"$f":"IF(H348=\"\",\"-\",VLOOKUP(T348,読み替え表_スマートムーブ!$C$4:$F$13,4,0))","v":"-"},{"$f":"IF(H348=\"\",\"-\",VLOOKUP(V348,読み替え表_スマートムーブ!$C$16:$F$21,4,0))","v":"-"},"-",null,null,null,null,0,0,0,0,0,0,"*"]
[null,null,340,null,null,null,null,null,null,null,null,null,null,null,null,null,null,null,null,null,null,null,null,null,null,null,null,null,null,null,null,null,null,null,null,{"$f":"IF(H349=\"\",\"-\",VLOOKUP(T349,読み替え表_スマートムーブ!$C$4:$F$13,4,0))","v":"-"},{"$f":"IF(H349=\"\",\"-\",VLOOKUP(V349,読み替え表_スマートムーブ!$C$16:$F$21,4,0))","v":"-"},"-",null,null,null,null,0,0,0,0,0,0,"*"]
[null,null,341,null,null,null,null,null,null,null,null,null,null,null,null,null,null,null,null,null,null,null,null,null,null,null,null,null,null,null,null,null,null,null,null,{"$f":"IF(H350=\"\",\"-\",VLOOKUP(T350,読み替え表_スマートムーブ!$C$4:$F$13,4,0))","v":"-"},{"$f":"IF(H350=\"\",\"-\",VLOOKUP(V350,読み替え表_スマートムーブ!$C$16:$F$21,4,0))","v":"-"},"-",null,null,null,null,0,0,0,0,0,0,"*"]
[null,null,342,null,null,null,null,null,null,null,null,null,null,null,null,null,null,null,null,null,null,null,null,null,null,null,null,null,null,null,null,null,null,null,null,{"$f":"IF(H351=\"\",\"-\",VLOOKUP(T351,読み替え表_スマートムーブ!$C$4:$F$13,4,0))","v":"-"},{"$f":"IF(H351=\"\",\"-\",VLOOKUP(V351,読み替え表_スマートムーブ!$C$16:$F$21,4,0))","v":"-"},"-",null,null,null,null,0,0,0,0,0,0,"*"]
[null,null,343,null,null,null,null,null,null,null,null,null,null,null,null,null,null,null,null,null,null,null,null,null,null,null,null,null,null,null,null,null,null,null,null,{"$f":"IF(H352=\"\",\"-\",VLOOKUP(T352,読み替え表_スマートムーブ!$C$4:$F$13,4,0))","v":"-"},{"$f":"IF(H352=\"\",\"-\",VLOOKUP(V352,読み替え表_スマートムーブ!$C$16:$F$21,4,0))","v":"-"},"-",null,null,null,null,0,0,0,0,0,0,"*"]
[null,null,344,null,null,null,null,null,null,null,null,null,null,null,null,null,null,null,null,null,null,null,null,null,null,null,null,null,null,null,null,null,null,null,null,{"$f":"IF(H353=\"\",\"-\",VLOOKUP(T353,読み替え表_スマートムーブ!$C$4:$F$13,4,0))","v":"-"},{"$f":"IF(H353=\"\",\"-\",VLOOKUP(V353,読み替え表_スマートムーブ!$C$16:$F$21,4,0))","v":"-"},"-",null,null,null,null,0,0,0,0,0,0,"*"]
[null,null,345,null,null,null,null,null,null,null,null,null,null,null,null,null,null,null,null,null,null,null,null,null,null,null,null,null,null,null,null,null,null,null,null,{"$f":"IF(H354=\"\",\"-\",VLOOKUP(T354,読み替え表_スマートムーブ!$C$4:$F$13,4,0))","v":"-"},{"$f":"IF(H354=\"\",\"-\",VLOOKUP(V354,読み替え表_スマートムーブ!$C$16:$F$21,4,0))","v":"-"},"-",null,null,null,null,0,0,0,0,0,0,"*"]
[null,null,346,null,null,null,null,null,null,null,null,null,null,null,null,null,null,null,null,null,null,null,null,null,null,null,null,null,null,null,null,null,null,null,null,{"$f":"IF(H355=\"\",\"-\",VLOOKUP(T355,読み替え表_スマートムーブ!$C$4:$F$13,4,0))","v":"-"},{"$f":"IF(H355=\"\",\"-\",VLOOKUP(V355,読み替え表_スマートムーブ!$C$16:$F$21,4,0))","v":"-"},"-",null,null,null,null,0,0,0,0,0,0,"*"]
[null,null,347,null,null,null,null,null,null,null,null,null,null,null,null,null,null,null,null,null,null,null,null,null,null,null,null,null,null,null,null,null,null,null,null,{"$f":"IF(H356=\"\",\"-\",VLOOKUP(T356,読み替え表_スマートムーブ!$C$4:$F$13,4,0))","v":"-"},{"$f":"IF(H356=\"\",\"-\",VLOOKUP(V356,読み替え表_スマートムーブ!$C$16:$F$21,4,0))","v":"-"},"-",null,null,null,null,0,0,0,0,0,0,"*"]
[null,null,348,null,null,null,null,null,null,null,null,null,null,null,null,null,null,null,null,null,null,null,null,null,null,null,null,null,null,null,null,null,null,null,null,{"$f":"IF(H357=\"\",\"-\",VLOOKUP(T357,読み替え表_スマートムーブ!$C$4:$F$13,4,0))","v":"-"},{"$f":"IF(H357=\"\",\"-\",VLOOKUP(V357,読み替え表_スマートムーブ!$C$16:$F$21,4,0))","v":"-"},"-",null,null,null,null,0,0,0,0,0,0,"*"]
[null,null,349,null,null,null,null,null,null,null,null,null,null,null,null,null,null,null,null,null,null,null,null,null,null,null,null,null,null,null,null,null,null,null,null,{"$f":"IF(H358=\"\",\"-\",VLOOKUP(T358,読み替え表_スマートムーブ!$C$4:$F$13,4,0))","v":"-"},{"$f":"IF(H358=\"\",\"-\",VLOOKUP(V358,読み替え表_スマートムーブ!$C$16:$F$21,4,0))","v":"-"},"-",null,null,null,null,0,0,0,0,0,0,"*"]
[null,null,350,null,null,null,null,null,null,null,null,null,null,null,null,null,null,null,null,null,null,null,null,null,null,null,null,null,null,null,null,null,null,null,null,{"$f":"IF(H359=\"\",\"-\",VLOOKUP(T359,読み替え表_スマートムーブ!$C$4:$F$13,4,0))","v":"-"},{"$f":"IF(H359=\"\",\"-\",VLOOKUP(V359,読み替え表_スマートムーブ!$C$16:$F$21,4,0))","v":"-"},"-",null,null,null,null,0,0,0,0,0,0,"*"]
[null,null,351,null,null,null,null,null,null,null,null,null,null,null,null,null,null,null,null,null,null,null,null,null,null,null,null,null,null,null,null,null,null,null,null,{"$f":"IF(H360=\"\",\"-\",VLOOKUP(T360,読み替え表_スマートムーブ!$C$4:$F$13,4,0))","v":"-"},{"$f":"IF(H360=\"\",\"-\",VLOOKUP(V360,読み替え表_スマートムーブ!$C$16:$F$21,4,0))","v":"-"},"-",null,null,null,null,0,0,0,0,0,0,"*"]
[null,null,352,null,null,null,null,null,null,null,null,null,null,null,null,null,null,null,null,null,null,null,null,null,null,null,null,null,null,null,null,null,null,null,null,{"$f":"IF(H361=\"\",\"-\",VLOOKUP(T361,読み替え表_スマートムーブ!$C$4:$F$13,4,0))","v":"-"},{"$f":"IF(H361=\"\",\"-\",VLOOKUP(V361,読み替え表_スマートムーブ!$C$16:$F$21,4,0))","v":"-"},"-",null,null,null,null,0,0,0,0,0,0,"*"]
[null,null,353,null,null,null,null,null,null,null,null,null,null,null,null,null,null,null,null,null,null,null,null,null,null,null,null,null,null,null,null,null,null,null,null,{"$f":"IF(H362=\"\",\"-\",VLOOKUP(T362,読み替え表_スマートムーブ!$C$4:$F$13,4,0))","v":"-"},{"$f":"IF(H362=\"\",\"-\",VLOOKUP(V362,読み替え表_スマートムーブ!$C$16:$F$21,4,0))","v":"-"},"-",null,null,null,null,0,0,0,0,0,0,"*"]
[null,null,354,null,null,null,null,null,null,null,null,null,null,null,null,null,null,null,null,null,null,null,null,null,null,null,null,null,null,null,null,null,null,null,null,{"$f":"IF(H363=\"\",\"-\",VLOOKUP(T363,読み替え表_スマートムーブ!$C$4:$F$13,4,0))","v":"-"},{"$f":"IF(H363=\"\",\"-\",VLOOKUP(V363,読み替え表_スマートムーブ!$C$16:$F$21,4,0))","v":"-"},"-",null,null,null,null,0,0,0,0,0,0,"*"]
[null,null,355,null,null,null,null,null,null,null,null,null,null,null,null,null,null,null,null,null,null,null,null,null,null,null,null,null,null,null,null,null,null,null,null,{"$f":"IF(H364=\"\",\"-\",VLOOKUP(T364,読み替え表_スマートムーブ!$C$4:$F$13,4,0))","v":"-"},{"$f":"IF(H364=\"\",\"-\",VLOOKUP(V364,読み替え表_スマートムーブ!$C$16:$F$21,4,0))","v":"-"},"-",null,null,null,null,0,0,0,0,0,0,"*"]
[null,null,356,null,null,null,null,null,null,null,null,null,null,null,null,null,null,null,null,null,null,null,null,null,null,null,null,null,null,null,null,null,null,null,null,{"$f":"IF(H365=\"\",\"-\",VLOOKUP(T365,読み替え表_スマートムーブ!$C$4:$F$13,4,0))","v":"-"},{"$f":"IF(H365=\"\",\"-\",VLOOKUP(V365,読み替え表_スマートムーブ!$C$16:$F$21,4,0))","v":"-"},"-",null,null,null,null,0,0,0,0,0,0,"*"]
[null,null,357,null,null,null,null,null,null,null,null,null,null,null,null,null,null,null,null,null,null,null,null,null,null,null,null,null,null,null,null,null,null,null,null,{"$f":"IF(H366=\"\",\"-\",VLOOKUP(T366,読み替え表_スマートムーブ!$C$4:$F$13,4,0))","v":"-"},{"$f":"IF(H366=\"\",\"-\",VLOOKUP(V366,読み替え表_スマートムーブ!$C$16:$F$21,4,0))","v":"-"},"-",null,null,null,null,0,0,0,0,0,0,"*"]
[null,null,358,null,null,null,null,null,null,null,null,null,null,null,null,null,null,null,null,null,null,null,null,null,null,null,null,null,null,null,null,null,null,null,null,{"$f":"IF(H367=\"\",\"-\",VLOOKUP(T367,読み替え表_スマートムーブ!$C$4:$F$13,4,0))","v":"-"},{"$f":"IF(H367=\"\",\"-\",VLOOKUP(V367,読み替え表_スマートムーブ!$C$16:$F$21,4,0))","v":"-"},"-",null,null,null,null,0,0,0,0,0,0,"*"]
[null,null,359,null,null,null,null,null,null,null,null,null,null,null,null,null,null,null,null,null,null,null,null,null,null,null,null,null,null,null,null,null,null,null,null,{"$f":"IF(H368=\"\",\"-\",VLOOKUP(T368,読み替え表_スマートムーブ!$C$4:$F$13,4,0))","v":"-"},{"$f":"IF(H368=\"\",\"-\",VLOOKUP(V368,読み替え表_スマートムーブ!$C$16:$F$21,4,0))","v":"-"},"-",null,null,null,null,0,0,0,0,0,0,"*"]
[null,null,360,null,null,null,null,null,null,null,null,null,null,null,null,null,null,null,null,null,null,null,null,null,null,null,null,null,null,null,null,null,null,null,null,{"$f":"IF(H369=\"\",\"-\",VLOOKUP(T369,読み替え表_スマートムーブ!$C$4:$F$13,4,0))","v":"-"},{"$f":"IF(H369=\"\",\"-\",VLOOKUP(V369,読み替え表_スマートムーブ!$C$16:$F$21,4,0))","v":"-"},"-",null,null,null,null,0,0,0,0,0,0,"*"]
[null,null,361,null,null,null,null,null,null,null,null,null,null,null,null,null,null,null,null,null,null,null,null,null,null,null,null,null,null,null,null,null,null,null,null,{"$f":"IF(H370=\"\",\"-\",VLOOKUP(T370,読み替え表_スマートムーブ!$C$4:$F$13,4,0))","v":"-"},{"$f":"IF(H370=\"\",\"-\",VLOOKUP(V370,読み替え表_スマートムーブ!$C$16:$F$21,4,0))","v":"-"},"-",null,null,null,null,0,0,0,0,0,0,"*"]
[null,null,362,null,null,null,null,null,null,null,null,null,null,null,null,null,null,null,null,null,null,null,null,null,null,null,null,null,null,null,null,null,null,null,null,{"$f":"IF(H371=\"\",\"-\",VLOOKUP(T371,読み替え表_スマートムーブ!$C$4:$F$13,4,0))","v":"-"},{"$f":"IF(H371=\"\",\"-\",VLOOKUP(V371,読み替え表_スマートムーブ!$C$16:$F$21,4,0))","v":"-"},"-",null,null,null,null,0,0,0,0,0,0,"*"]
[null,null,363,null,null,null,null,null,null,null,null,null,null,null,null,null,null,null,null,null,null,null,null,null,null,null,null,null,null,null,null,null,null,null,null,{"$f":"IF(H372=\"\",\"-\",VLOOKUP(T372,読み替え表_スマートムーブ!$C$4:$F$13,4,0))","v":"-"},{"$f":"IF(H372=\"\",\"-\",VLOOKUP(V372,読み替え表_スマートムーブ!$C$16:$F$21,4,0))","v":"-"},"-",null,null,null,null,0,0,0,0,0,0,"*"]
[null,null,364,null,null,null,null,null,null,null,null,null,null,null,null,null,null,null,null,null,null,null,null,null,null,null,null,null,null,null,null,null,null,null,null,{"$f":"IF(H373=\"\",\"-\",VLOOKUP(T373,読み替え表_スマートムーブ!$C$4:$F$13,4,0))","v":"-"},{"$f":"IF(H373=\"\",\"-\",VLOOKUP(V373,読み替え表_スマートムーブ!$C$16:$F$21,4,0))","v":"-"},"-",null,null,null,null,0,0,0,0,0,0,"*"]
[null,null,365,null,null,null,null,null,null,null,null,null,null,null,null,null,null,null,null,null,null,null,null,null,null,null,null,null,null,null,null,null,null,null,null,{"$f":"IF(H374=\"\",\"-\",VLOOKUP(T374,読み替え表_スマートムーブ!$C$4:$F$13,4,0))","v":"-"},{"$f":"IF(H374=\"\",\"-\",VLOOKUP(V374,読み替え表_スマートムーブ!$C$16:$F$21,4,0))","v":"-"},"-",null,null,null,null,0,0,0,0,0,0,"*"]
[null,null,366,null,null,null,null,null,null,null,null,null,null,null,null,null,null,null,null,null,null,null,null,null,null,null,null,null,null,null,null,null,null,null,null,{"$f":"IF(H375=\"\",\"-\",VLOOKUP(T375,読み替え表_スマートムーブ!$C$4:$F$13,4,0))","v":"-"},{"$f":"IF(H375=\"\",\"-\",VLOOKUP(V375,読み替え表_スマートムーブ!$C$16:$F$21,4,0))","v":"-"},"-",null,null,null,null,0,0,0,0,0,0,"*"]
[null,null,367,null,null,null,null,null,null,null,null,null,null,null,null,null,null,null,null,null,null,null,null,null,null,null,null,null,null,null,null,null,null,null,null,{"$f":"IF(H376=\"\",\"-\",VLOOKUP(T376,読み替え表_スマートムーブ!$C$4:$F$13,4,0))","v":"-"},{"$f":"IF(H376=\"\",\"-\",VLOOKUP(V376,読み替え表_スマートムーブ!$C$16:$F$21,4,0))","v":"-"},"-",null,null,null,null,0,0,0,0,0,0,"*"]
[null,null,368,null,null,null,null,null,null,null,null,null,null,null,null,null,null,null,null,null,null,null,null,null,null,null,null,null,null,null,null,null,null,null,null,{"$f":"IF(H377=\"\",\"-\",VLOOKUP(T377,読み替え表_スマートムーブ!$C$4:$F$13,4,0))","v":"-"},{"$f":"IF(H377=\"\",\"-\",VLOOKUP(V377,読み替え表_スマートムーブ!$C$16:$F$21,4,0))","v":"-"},"-",null,null,null,null,0,0,0,0,0,0,"*"]
[null,null,369,null,null,null,null,null,null,null,null,null,null,null,null,null,null,null,null,null,null,null,null,null,null,null,null,null,null,null,null,null,null,null,null,{"$f":"IF(H378=\"\",\"-\",VLOOKUP(T378,読み替え表_スマートムーブ!$C$4:$F$13,4,0))","v":"-"},{"$f":"IF(H378=\"\",\"-\",VLOOKUP(V378,読み替え表_スマートムーブ!$C$16:$F$21,4,0))","v":"-"},"-",null,null,null,null,0,0,0,0,0,0,"*"]
[null,null,370,null,null,null,null,null,null,null,null,null,null,null,null,null,null,null,null,null,null,null,null,null,null,null,null,null,null,null,null,null,null,null,null,{"$f":"IF(H379=\"\",\"-\",VLOOKUP(T379,読み替え表_スマートムーブ!$C$4:$F$13,4,0))","v":"-"},{"$f":"IF(H379=\"\",\"-\",VLOOKUP(V379,読み替え表_スマートムーブ!$C$16:$F$21,4,0))","v":"-"},"-",null,null,null,null,0,0,0,0,0,0,"*"]
[null,null,371,null,null,null,null,null,null,null,null,null,null,null,null,null,null,null,null,null,null,null,null,null,null,null,null,null,null,null,null,null,null,null,null,{"$f":"IF(H380=\"\",\"-\",VLOOKUP(T380,読み替え表_スマートムーブ!$C$4:$F$13,4,0))","v":"-"},{"$f":"IF(H380=\"\",\"-\",VLOOKUP(V380,読み替え表_スマートムーブ!$C$16:$F$21,4,0))","v":"-"},"-",null,null,null,null,0,0,0,0,0,0,"*"]
[null,null,372,null,null,null,null,null,null,null,null,null,null,null,null,null,null,null,null,null,null,null,null,null,null,null,null,null,null,null,null,null,null,null,null,{"$f":"IF(H381=\"\",\"-\",VLOOKUP(T381,読み替え表_スマートムーブ!$C$4:$F$13,4,0))","v":"-"},{"$f":"IF(H381=\"\",\"-\",VLOOKUP(V381,読み替え表_スマートムーブ!$C$16:$F$21,4,0))","v":"-"},"-",null,null,null,null,0,0,0,0,0,0,"*"]
[null,null,373,null,null,null,null,null,null,null,null,null,null,null,null,null,null,null,null,null,null,null,null,null,null,null,null,null,null,null,null,null,null,null,null,{"$f":"IF(H382=\"\",\"-\",VLOOKUP(T382,読み替え表_スマートムーブ!$C$4:$F$13,4,0))","v":"-"},{"$f":"IF(H382=\"\",\"-\",VLOOKUP(V382,読み替え表_スマートムーブ!$C$16:$F$21,4,0))","v":"-"},"-",null,null,null,null,0,0,0,0,0,0,"*"]
[null,null,374,null,null,null,null,null,null,null,null,null,null,null,null,null,null,null,null,null,null,null,null,null,null,null,null,null,null,null,null,null,null,null,null,{"$f":"IF(H383=\"\",\"-\",VLOOKUP(T383,読み替え表_スマートムーブ!$C$4:$F$13,4,0))","v":"-"},{"$f":"IF(H383=\"\",\"-\",VLOOKUP(V383,読み替え表_スマートムーブ!$C$16:$F$21,4,0))","v":"-"},"-",null,null,null,null,0,0,0,0,0,0,"*"]
[null,null,375,null,null,null,null,null,null,null,null,null,null,null,null,null,null,null,null,null,null,null,null,null,null,null,null,null,null,null,null,null,null,null,null,{"$f":"IF(H384=\"\",\"-\",VLOOKUP(T384,読み替え表_スマートムーブ!$C$4:$F$13,4,0))","v":"-"},{"$f":"IF(H384=\"\",\"-\",VLOOKUP(V384,読み替え表_スマートムーブ!$C$16:$F$21,4,0))","v":"-"},"-",null,null,null,null,0,0,0,0,0,0,"*"]
[null,null,376,null,null,null,null,null,null,null,null,null,null,null,null,null,null,null,null,null,null,null,null,null,null,null,null,null,null,null,null,null,null,null,null,{"$f":"IF(H385=\"\",\"-\",VLOOKUP(T385,読み替え表_スマートムーブ!$C$4:$F$13,4,0))","v":"-"},{"$f":"IF(H385=\"\",\"-\",VLOOKUP(V385,読み替え表_スマートムーブ!$C$16:$F$21,4,0))","v":"-"},"-",null,null,null,null,0,0,0,0,0,0,"*"]
[null,null,377,null,null,null,null,null,null,null,null,null,null,null,null,null,null,null,null,null,null,null,null,null,null,null,null,null,null,null,null,null,null,null,null,{"$f":"IF(H386=\"\",\"-\",VLOOKUP(T386,読み替え表_スマートムーブ!$C$4:$F$13,4,0))","v":"-"},{"$f":"IF(H386=\"\",\"-\",VLOOKUP(V386,読み替え表_スマートムーブ!$C$16:$F$21,4,0))","v":"-"},"-",null,null,null,null,0,0,0,0,0,0,"*"]
[null,null,378,null,null,null,null,null,null,null,null,null,null,null,null,null,null,null,null,null,null,null,null,null,null,null,null,null,null,null,null,null,null,null,null,{"$f":"IF(H387=\"\",\"-\",VLOOKUP(T387,読み替え表_スマートムーブ!$C$4:$F$13,4,0))","v":"-"},{"$f":"IF(H387=\"\",\"-\",VLOOKUP(V387,読み替え表_スマートムーブ!$C$16:$F$21,4,0))","v":"-"},"-",null,null,null,null,0,0,0,0,0,0,"*"]
[null,null,379,null,null,null,null,null,null,null,null,null,null,null,null,null,null,null,null,null,null,null,null,null,null,null,null,null,null,null,null,null,null,null,null,{"$f":"IF(H388=\"\",\"-\",VLOOKUP(T388,読み替え表_スマートムーブ!$C$4:$F$13,4,0))","v":"-"},{"$f":"IF(H388=\"\",\"-\",VLOOKUP(V388,読み替え表_スマートムーブ!$C$16:$F$21,4,0))","v":"-"},"-",null,null,null,null,0,0,0,0,0,0,"*"]
[null,null,380,null,null,null,null,null,null,null,null,null,null,null,null,null,null,null,null,null,null,null,null,null,null,null,null,null,null,null,null,null,null,null,null,{"$f":"IF(H389=\"\",\"-\",VLOOKUP(T389,読み替え表_スマートムーブ!$C$4:$F$13,4,0))","v":"-"},{"$f":"IF(H389=\"\",\"-\",VLOOKUP(V389,読み替え表_スマートムーブ!$C$16:$F$21,4,0))","v":"-"},"-",null,null,null,null,0,0,0,0,0,0,"*"]
[null,null,381,null,null,null,null,null,null,null,null,null,null,null,null,null,null,null,null,null,null,null,null,null,null,null,null,null,null,null,null,null,null,null,null,{"$f":"IF(H390=\"\",\"-\",VLOOKUP(T390,読み替え表_スマートムーブ!$C$4:$F$13,4,0))","v":"-"},{"$f":"IF(H390=\"\",\"-\",VLOOKUP(V390,読み替え表_スマートムーブ!$C$16:$F$21,4,0))","v":"-"},"-",null,null,null,null,0,0,0,0,0,0,"*"]
[null,null,382,null,null,null,null,null,null,null,null,null,null,null,null,null,null,null,null,null,null,null,null,null,null,null,null,null,null,null,null,null,null,null,null,{"$f":"IF(H391=\"\",\"-\",VLOOKUP(T391,読み替え表_スマートムーブ!$C$4:$F$13,4,0))","v":"-"},{"$f":"IF(H391=\"\",\"-\",VLOOKUP(V391,読み替え表_スマートムーブ!$C$16:$F$21,4,0))","v":"-"},"-",null,null,null,null,0,0,0,0,0,0,"*"]
[null,null,383,null,null,null,null,null,null,null,null,null,null,null,null,null,null,null,null,null,null,null,null,null,null,null,null,null,null,null,null,null,null,null,null,{"$f":"IF(H392=\"\",\"-\",VLOOKUP(T392,読み替え表_スマートムーブ!$C$4:$F$13,4,0))","v":"-"},{"$f":"IF(H392=\"\",\"-\",VLOOKUP(V392,読み替え表_スマートムーブ!$C$16:$F$21,4,0))","v":"-"},"-",null,null,null,null,0,0,0,0,0,0,"*"]
[null,null,384,null,null,null,null,null,null,null,null,null,null,null,null,null,null,null,null,null,null,null,null,null,null,null,null,null,null,null,null,null,null,null,null,{"$f":"IF(H393=\"\",\"-\",VLOOKUP(T393,読み替え表_スマートムーブ!$C$4:$F$13,4,0))","v":"-"},{"$f":"IF(H393=\"\",\"-\",VLOOKUP(V393,読み替え表_スマートムーブ!$C$16:$F$21,4,0))","v":"-"},"-",null,null,null,null,0,0,0,0,0,0,"*"]
[null,null,385,null,null,null,null,null,null,null,null,null,null,null,null,null,null,null,null,null,null,null,null,null,null,null,null,null,null,null,null,null,null,null,null,{"$f":"IF(H394=\"\",\"-\",VLOOKUP(T394,読み替え表_スマートムーブ!$C$4:$F$13,4,0))","v":"-"},{"$f":"IF(H394=\"\",\"-\",VLOOKUP(V394,読み替え表_スマートムーブ!$C$16:$F$21,4,0))","v":"-"},"-",null,null,null,null,0,0,0,0,0,{"$f":"AQ394","v":0},"*"]
[null,null,{"$f":"ROW()-9","v":386},null,null,null,null,null,null,null,null,null,null,null,null,null,null,null,null,null,null,null,null,null,null,null,null,null,null,null,null,null,null,null,null,{"$f":"IF(H395=\"\",\"-\",VLOOKUP(T395,読み替え表_スマートムーブ!$C$4:$F$13,4,0))","v":"-"},{"$f":"IF(H395=\"\",\"-\",VLOOKUP(V395,読み替え表_スマートムーブ!$C$16:$F$21,4,0))","v":"-"},{"$f":"IF(H395=\"\",\"-\",AJ395*AK395)","v":"-"},null,null,null,null,{"$f":"IF(SUM($AR395:$AT395)>=1,1,0)","v":0},{"$f":"IF(R395=1,1,0)","v":0},{"$f":"IF(T395=9,1,0)","v":0},{"$f":"IF(V395=5,1,0)","v":0},{"$f":"IF(OR($X395=1,$X395=2,$X395=3),1,0)","v":0},0,"*"]
[null,null,387,null,null,null,null,null,null,null,null,null,null,null,null,null,null,null,null,null,null,null,null,null,null,null,null,null,null,null,null,null,null,null,null,{"$f":"IF(H396=\"\",\"-\",VLOOKUP(T396,読み替え表_スマートムーブ!$C$4:$F$13,4,0))","v":"-"},{"$f":"IF(H396=\"\",\"-\",VLOOKUP(V396,読み替え表_スマートムーブ!$C$16:$F$21,4,0))","v":"-"},"-",null,null,null,null,0,0,0,0,0,0,"*"]
[null,null,388,null,null,null,null,null,null,null,null,null,null,null,null,null,null,null,null,null,null,null,null,null,null,null,null,null,null,null,null,null,null,null,null,{"$f":"IF(H397=\"\",\"-\",VLOOKUP(T397,読み替え表_スマートムーブ!$C$4:$F$13,4,0))","v":"-"},{"$f":"IF(H397=\"\",\"-\",VLOOKUP(V397,読み替え表_スマートムーブ!$C$16:$F$21,4,0))","v":"-"},"-",null,null,null,null,0,0,0,0,0,0,"*"]
[null,null,389,null,null,null,null,null,null,null,null,null,null,null,null,null,null,null,null,null,null,null,null,null,null,null,null,null,null,null,null,null,null,null,null,{"$f":"IF(H398=\"\",\"-\",VLOOKUP(T398,読み替え表_スマートムーブ!$C$4:$F$13,4,0))","v":"-"},{"$f":"IF(H398=\"\",\"-\",VLOOKUP(V398,読み替え表_スマートムーブ!$C$16:$F$21,4,0))","v":"-"},"-",null,null,null,null,0,0,0,0,0,0,"*"]
[null,null,390,null,null,null,null,null,null,null,null,null,null,null,null,null,null,null,null,null,null,null,null,null,null,null,null,null,null,null,null,null,null,null,null,{"$f":"IF(H399=\"\",\"-\",VLOOKUP(T399,読み替え表_スマートムーブ!$C$4:$F$13,4,0))","v":"-"},{"$f":"IF(H399=\"\",\"-\",VLOOKUP(V399,読み替え表_スマートムーブ!$C$16:$F$21,4,0))","v":"-"},"-",null,null,null,null,0,0,0,0,0,0,"*"]
[null,null,391,null,null,null,null,null,null,null,null,null,null,null,null,null,null,null,null,null,null,null,null,null,null,null,null,null,null,null,null,null,null,null,null,{"$f":"IF(H400=\"\",\"-\",VLOOKUP(T400,読み替え表_スマートムーブ!$C$4:$F$13,4,0))","v":"-"},{"$f":"IF(H400=\"\",\"-\",VLOOKUP(V400,読み替え表_スマートムーブ!$C$16:$F$21,4,0))","v":"-"},"-",null,null,null,null,0,0,0,0,0,0,"*"]
[null,null,392,null,null,null,null,null,null,null,null,null,null,null,null,null,null,null,null,null,null,null,null,null,null,null,null,null,null,null,null,null,null,null,null,{"$f":"IF(H401=\"\",\"-\",VLOOKUP(T401,読み替え表_スマートムーブ!$C$4:$F$13,4,0))","v":"-"},{"$f":"IF(H401=\"\",\"-\",VLOOKUP(V401,読み替え表_スマートムーブ!$C$16:$F$21,4,0))","v":"-"},"-",null,null,null,null,0,0,0,0,0,0,"*"]
[null,null,393,null,null,null,null,null,null,null,null,null,null,null,null,null,null,null,null,null,null,null,null,null,null,null,null,null,null,null,null,null,null,null,null,{"$f":"IF(H402=\"\",\"-\",VLOOKUP(T402,読み替え表_スマートムーブ!$C$4:$F$13,4,0))","v":"-"},{"$f":"IF(H402=\"\",\"-\",VLOOKUP(V402,読み替え表_スマートムーブ!$C$16:$F$21,4,0))","v":"-"},"-",null,null,null,null,0,0,0,0,0,0,"*"]
[null,null,394,null,null,null,null,null,null,null,null,null,null,null,null,null,null,null,null,null,null,null,null,null,null,null,null,null,null,null,null,null,null,null,null,{"$f":"IF(H403=\"\",\"-\",VLOOKUP(T403,読み替え表_スマートムーブ!$C$4:$F$13,4,0))","v":"-"},{"$f":"IF(H403=\"\",\"-\",VLOOKUP(V403,読み替え表_スマートムーブ!$C$16:$F$21,4,0))","v":"-"},"-",null,null,null,null,0,0,0,0,0,0,"*"]
[null,null,395,null,null,null,null,null,null,null,null,null,null,null,null,null,null,null,null,null,null,null,null,null,null,null,null,null,null,null,null,null,null,null,null,{"$f":"IF(H404=\"\",\"-\",VLOOKUP(T404,読み替え表_スマートムーブ!$C$4:$F$13,4,0))","v":"-"},{"$f":"IF(H404=\"\",\"-\",VLOOKUP(V404,読み替え表_スマートムーブ!$C$16:$F$21,4,0))","v":"-"},"-",null,null,null,null,0,0,0,0,0,0,"*"]
[null,null,396,null,null,null,null,null,null,null,null,null,null,null,null,null,null,null,null,null,null,null,null,null,null,null,null,null,null,null,null,null,null,null,null,{"$f":"IF(H405=\"\",\"-\",VLOOKUP(T405,読み替え表_スマートムーブ!$C$4:$F$13,4,0))","v":"-"},{"$f":"IF(H405=\"\",\"-\",VLOOKUP(V405,読み替え表_スマートムーブ!$C$16:$F$21,4,0))","v":"-"},"-",null,null,null,null,0,0,0,0,0,0,"*"]
[null,null,397,null,null,null,null,null,null,null,null,null,null,null,null,null,null,null,null,null,null,null,null,null,null,null,null,null,null,null,null,null,null,null,null,{"$f":"IF(H406=\"\",\"-\",VLOOKUP(T406,読み替え表_スマートムーブ!$C$4:$F$13,4,0))","v":"-"},{"$f":"IF(H406=\"\",\"-\",VLOOKUP(V406,読み替え表_スマートムーブ!$C$16:$F$21,4,0))","v":"-"},"-",null,null,null,null,0,0,0,0,0,0,"*"]
[null,null,398,null,null,null,null,null,null,null,null,null,null,null,null,null,null,null,null,null,null,null,null,null,null,null,null,null,null,null,null,null,null,null,null,{"$f":"IF(H407=\"\",\"-\",VLOOKUP(T407,読み替え表_スマートムーブ!$C$4:$F$13,4,0))","v":"-"},{"$f":"IF(H407=\"\",\"-\",VLOOKUP(V407,読み替え表_スマートムーブ!$C$16:$F$21,4,0))","v":"-"},"-",null,null,null,null,0,0,0,0,0,0,"*"]
[null,null,399,null,null,null,null,null,null,null,null,null,null,null,null,null,null,null,null,null,null,null,null,null,null,null,null,null,null,null,null,null,null,null,null,{"$f":"IF(H408=\"\",\"-\",VLOOKUP(T408,読み替え表_スマートムーブ!$C$4:$F$13,4,0))","v":"-"},{"$f":"IF(H408=\"\",\"-\",VLOOKUP(V408,読み替え表_スマートムーブ!$C$16:$F$21,4,0))","v":"-"},"-",null,null,null,null,0,0,0,0,0,0,"*"]
[null,null,400,null,null,null,null,null,null,null,null,null,null,null,null,null,null,null,null,null,null,null,null,null,null,null,null,null,null,null,null,null,null,null,null,{"$f":"IF(H409=\"\",\"-\",VLOOKUP(T409,読み替え表_スマートムーブ!$C$4:$F$13,4,0))","v":"-"},{"$f":"IF(H409=\"\",\"-\",VLOOKUP(V409,読み替え表_スマートムーブ!$C$16:$F$21,4,0))","v":"-"},"-",null,null,null,null,0,0,0,0,0,0,"*"]
[null,null,401,null,null,null,null,null,null,null,null,null,null,null,null,null,null,null,null,null,null,null,null,null,null,null,null,null,null,null,null,null,null,null,null,{"$f":"IF(H410=\"\",\"-\",VLOOKUP(T410,読み替え表_スマートムーブ!$C$4:$F$13,4,0))","v":"-"},{"$f":"IF(H410=\"\",\"-\",VLOOKUP(V410,読み替え表_スマートムーブ!$C$16:$F$21,4,0))","v":"-"},"-",null,null,null,null,0,0,0,0,0,0,"*"]
[null,null,402,null,null,null,null,null,null,null,null,null,null,null,null,null,null,null,null,null,null,null,null,null,null,null,null,null,null,null,null,null,null,null,null,{"$f":"IF(H411=\"\",\"-\",VLOOKUP(T411,読み替え表_スマートムーブ!$C$4:$F$13,4,0))","v":"-"},{"$f":"IF(H411=\"\",\"-\",VLOOKUP(V411,読み替え表_スマートムーブ!$C$16:$F$21,4,0))","v":"-"},"-",null,null,null,null,0,0,0,0,0,0,"*"]
[null,null,403,null,null,null,null,null,null,null,null,null,null,null,null,null,null,null,null,null,null,null,null,null,null,null,null,null,null,null,null,null,null,null,null,{"$f":"IF(H412=\"\",\"-\",VLOOKUP(T412,読み替え表_スマートムーブ!$C$4:$F$13,4,0))","v":"-"},{"$f":"IF(H412=\"\",\"-\",VLOOKUP(V412,読み替え表_スマートムーブ!$C$16:$F$21,4,0))","v":"-"},"-",null,null,null,null,0,0,0,0,0,0,"*"]
[null,null,404,null,null,null,null,null,null,null,null,null,null,null,null,null,null,null,null,null,null,null,null,null,null,null,null,null,null,null,null,null,null,null,null,{"$f":"IF(H413=\"\",\"-\",VLOOKUP(T413,読み替え表_スマートムーブ!$C$4:$F$13,4,0))","v":"-"},{"$f":"IF(H413=\"\",\"-\",VLOOKUP(V413,読み替え表_スマートムーブ!$C$16:$F$21,4,0))","v":"-"},"-",null,null,null,null,0,0,0,0,0,0,"*"]
[null,null,405,null,null,null,null,null,null,null,null,null,null,null,null,null,null,null,null,null,null,null,null,null,null,null,null,null,null,null,null,null,null,null,null,{"$f":"IF(H414=\"\",\"-\",VLOOKUP(T414,読み替え表_スマートムーブ!$C$4:$F$13,4,0))","v":"-"},{"$f":"IF(H414=\"\",\"-\",VLOOKUP(V414,読み替え表_スマートムーブ!$C$16:$F$21,4,0))","v":"-"},"-",null,null,null,null,0,0,0,0,0,0,"*"]
[null,null,406,null,null,null,null,null,null,null,null,null,null,null,null,null,null,null,null,null,null,null,null,null,null,null,null,null,null,null,null,null,null,null,null,{"$f":"IF(H415=\"\",\"-\",VLOOKUP(T415,読み替え表_スマートムーブ!$C$4:$F$13,4,0))","v":"-"},{"$f":"IF(H415=\"\",\"-\",VLOOKUP(V415,読み替え表_スマートムーブ!$C$16:$F$21,4,0))","v":"-"},"-",null,null,null,null,0,0,0,0,0,0,"*"]
[null,null,407,null,null,null,null,null,null,null,null,null,null,null,null,null,null,null,null,null,null,null,null,null,null,null,null,null,null,null,null,null,null,null,null,{"$f":"IF(H416=\"\",\"-\",VLOOKUP(T416,読み替え表_スマートムーブ!$C$4:$F$13,4,0))","v":"-"},{"$f":"IF(H416=\"\",\"-\",VLOOKUP(V416,読み替え表_スマートムーブ!$C$16:$F$21,4,0))","v":"-"},"-",null,null,null,null,0,0,0,0,0,0,"*"]
[null,null,408,null,null,null,null,null,null,null,null,null,null,null,null,null,null,null,null,null,null,null,null,null,null,null,null,null,null,null,null,null,null,null,null,{"$f":"IF(H417=\"\",\"-\",VLOOKUP(T417,読み替え表_スマートムーブ!$C$4:$F$13,4,0))","v":"-"},{"$f":"IF(H417=\"\",\"-\",VLOOKUP(V417,読み替え表_スマートムーブ!$C$16:$F$21,4,0))","v":"-"},"-",null,null,null,null,0,0,0,0,0,0,"*"]
[null,null,409,null,null,null,null,null,null,null,null,null,null,null,null,null,null,null,null,null,null,null,null,null,null,null,null,null,null,null,null,null,null,null,null,{"$f":"IF(H418=\"\",\"-\",VLOOKUP(T418,読み替え表_スマートムーブ!$C$4:$F$13,4,0))","v":"-"},{"$f":"IF(H418=\"\",\"-\",VLOOKUP(V418,読み替え表_スマートムーブ!$C$16:$F$21,4,0))","v":"-"},"-",null,null,null,null,0,0,0,0,0,0,"*"]
[null,null,410,null,null,null,null,null,null,null,null,null,null,null,null,null,null,null,null,null,null,null,null,null,null,null,null,null,null,null,null,null,null,null,null,{"$f":"IF(H419=\"\",\"-\",VLOOKUP(T419,読み替え表_スマートムーブ!$C$4:$F$13,4,0))","v":"-"},{"$f":"IF(H419=\"\",\"-\",VLOOKUP(V419,読み替え表_スマートムーブ!$C$16:$F$21,4,0))","v":"-"},"-",null,null,null,null,0,0,0,0,0,0,"*"]
[null,null,411,null,null,null,null,null,null,null,null,null,null,null,null,null,null,null,null,null,null,null,null,null,null,null,null,null,null,null,null,null,null,null,null,{"$f":"IF(H420=\"\",\"-\",VLOOKUP(T420,読み替え表_スマートムーブ!$C$4:$F$13,4,0))","v":"-"},{"$f":"IF(H420=\"\",\"-\",VLOOKUP(V420,読み替え表_スマートムーブ!$C$16:$F$21,4,0))","v":"-"},"-",null,null,null,null,0,0,0,0,0,0,"*"]
[null,null,412,null,null,null,null,null,null,null,null,null,null,null,null,null,null,null,null,null,null,null,null,null,null,null,null,null,null,null,null,null,null,null,null,{"$f":"IF(H421=\"\",\"-\",VLOOKUP(T421,読み替え表_スマートムーブ!$C$4:$F$13,4,0))","v":"-"},{"$f":"IF(H421=\"\",\"-\",VLOOKUP(V421,読み替え表_スマートムーブ!$C$16:$F$21,4,0))","v":"-"},"-",null,null,null,null,0,0,0,0,0,0,"*"]
[null,null,413,null,null,null,null,null,null,null,null,null,null,null,null,null,null,null,null,null,null,null,null,null,null,null,null,null,null,null,null,null,null,null,null,{"$f":"IF(H422=\"\",\"-\",VLOOKUP(T422,読み替え表_スマートムーブ!$C$4:$F$13,4,0))","v":"-"},{"$f":"IF(H422=\"\",\"-\",VLOOKUP(V422,読み替え表_スマートムーブ!$C$16:$F$21,4,0))","v":"-"},"-",null,null,null,null,0,0,0,0,0,0,"*"]
[null,null,414,null,null,null,null,null,null,null,null,null,null,null,null,null,null,null,null,null,null,null,null,null,null,null,null,null,null,null,null,null,null,null,null,{"$f":"IF(H423=\"\",\"-\",VLOOKUP(T423,読み替え表_スマートムーブ!$C$4:$F$13,4,0))","v":"-"},{"$f":"IF(H423=\"\",\"-\",VLOOKUP(V423,読み替え表_スマートムーブ!$C$16:$F$21,4,0))","v":"-"},"-",null,null,null,null,0,0,0,0,0,0,"*"]
[null,null,415,null,null,null,null,null,null,null,null,null,null,null,null,null,null,null,null,null,null,null,null,null,null,null,null,null,null,null,null,null,null,null,null,{"$f":"IF(H424=\"\",\"-\",VLOOKUP(T424,読み替え表_スマートムーブ!$C$4:$F$13,4,0))","v":"-"},{"$f":"IF(H424=\"\",\"-\",VLOOKUP(V424,読み替え表_スマートムーブ!$C$16:$F$21,4,0))","v":"-"},"-",null,null,null,null,0,0,0,0,0,0,"*"]
[null,null,416,null,null,null,null,null,null,null,null,null,null,null,null,null,null,null,null,null,null,null,null,null,null,null,null,null,null,null,null,null,null,null,null,{"$f":"IF(H425=\"\",\"-\",VLOOKUP(T425,読み替え表_スマートムーブ!$C$4:$F$13,4,0))","v":"-"},{"$f":"IF(H425=\"\",\"-\",VLOOKUP(V425,読み替え表_スマートムーブ!$C$16:$F$21,4,0))","v":"-"},"-",null,null,null,null,0,0,0,0,0,0,"*"]
[null,null,417,null,null,null,null,null,null,null,null,null,null,null,null,null,null,null,null,null,null,null,null,null,null,null,null,null,null,null,null,null,null,null,null,{"$f":"IF(H426=\"\",\"-\",VLOOKUP(T426,読み替え表_スマートムーブ!$C$4:$F$13,4,0))","v":"-"},{"$f":"IF(H426=\"\",\"-\",VLOOKUP(V426,読み替え表_スマートムーブ!$C$16:$F$21,4,0))","v":"-"},"-",null,null,null,null,0,0,0,0,0,0,"*"]
[null,null,418,null,null,null,null,null,null,null,null,null,null,null,null,null,null,null,null,null,null,null,null,null,null,null,null,null,null,null,null,null,null,null,null,{"$f":"IF(H427=\"\",\"-\",VLOOKUP(T427,読み替え表_スマートムーブ!$C$4:$F$13,4,0))","v":"-"},{"$f":"IF(H427=\"\",\"-\",VLOOKUP(V427,読み替え表_スマートムーブ!$C$16:$F$21,4,0))","v":"-"},"-",null,null,null,null,0,0,0,0,0,0,"*"]
[null,null,419,null,null,null,null,null,null,null,null,null,null,null,null,null,null,null,null,null,null,null,null,null,null,null,null,null,null,null,null,null,null,null,null,{"$f":"IF(H428=\"\",\"-\",VLOOKUP(T428,読み替え表_スマートムーブ!$C$4:$F$13,4,0))","v":"-"},{"$f":"IF(H428=\"\",\"-\",VLOOKUP(V428,読み替え表_スマートムーブ!$C$16:$F$21,4,0))","v":"-"},"-",null,null,null,null,0,0,0,0,0,0,"*"]
[null,null,420,null,null,null,null,null,null,null,null,null,null,null,null,null,null,null,null,null,null,null,null,null,null,null,null,null,null,null,null,null,null,null,null,{"$f":"IF(H429=\"\",\"-\",VLOOKUP(T429,読み替え表_スマートムーブ!$C$4:$F$13,4,0))","v":"-"},{"$f":"IF(H429=\"\",\"-\",VLOOKUP(V429,読み替え表_スマートムーブ!$C$16:$F$21,4,0))","v":"-"},"-",null,null,null,null,0,0,0,0,0,0,"*"]
[null,null,421,null,null,null,null,null,null,null,null,null,null,null,null,null,null,null,null,null,null,null,null,null,null,null,null,null,null,null,null,null,null,null,null,{"$f":"IF(H430=\"\",\"-\",VLOOKUP(T430,読み替え表_スマートムーブ!$C$4:$F$13,4,0))","v":"-"},{"$f":"IF(H430=\"\",\"-\",VLOOKUP(V430,読み替え表_スマートムーブ!$C$16:$F$21,4,0))","v":"-"},"-",null,null,null,null,0,0,0,0,0,0,"*"]
[null,null,422,null,null,null,null,null,null,null,null,null,null,null,null,null,null,null,null,null,null,null,null,null,null,null,null,null,null,null,null,null,null,null,null,{"$f":"IF(H431=\"\",\"-\",VLOOKUP(T431,読み替え表_スマートムーブ!$C$4:$F$13,4,0))","v":"-"},{"$f":"IF(H431=\"\",\"-\",VLOOKUP(V431,読み替え表_スマートムーブ!$C$16:$F$21,4,0))","v":"-"},"-",null,null,null,null,0,0,0,0,0,0,"*"]
[null,null,423,null,null,null,null,null,null,null,null,null,null,null,null,null,null,null,null,null,null,null,null,null,null,null,null,null,null,null,null,null,null,null,null,{"$f":"IF(H432=\"\",\"-\",VLOOKUP(T432,読み替え表_スマートムーブ!$C$4:$F$13,4,0))","v":"-"},{"$f":"IF(H432=\"\",\"-\",VLOOKUP(V432,読み替え表_スマートムーブ!$C$16:$F$21,4,0))","v":"-"},"-",null,null,null,null,0,0,0,0,0,0,"*"]
[null,null,424,null,null,null,null,null,null,null,null,null,null,null,null,null,null,null,null,null,null,null,null,null,null,null,null,null,null,null,null,null,null,null,null,{"$f":"IF(H433=\"\",\"-\",VLOOKUP(T433,読み替え表_スマートムーブ!$C$4:$F$13,4,0))","v":"-"},{"$f":"IF(H433=\"\",\"-\",VLOOKUP(V433,読み替え表_スマートムーブ!$C$16:$F$21,4,0))","v":"-"},"-",null,null,null,null,0,0,0,0,0,0,"*"]
[null,null,425,null,null,null,null,null,null,null,null,null,null,null,null,null,null,null,null,null,null,null,null,null,null,null,null,null,null,null,null,null,null,null,null,{"$f":"IF(H434=\"\",\"-\",VLOOKUP(T434,読み替え表_スマートムーブ!$C$4:$F$13,4,0))","v":"-"},{"$f":"IF(H434=\"\",\"-\",VLOOKUP(V434,読み替え表_スマートムーブ!$C$16:$F$21,4,0))","v":"-"},"-",null,null,null,null,0,0,0,0,0,0,"*"]
[null,null,426,null,null,null,null,null,null,null,null,null,null,null,null,null,null,null,null,null,null,null,null,null,null,null,null,null,null,null,null,null,null,null,null,{"$f":"IF(H435=\"\",\"-\",VLOOKUP(T435,読み替え表_スマートムーブ!$C$4:$F$13,4,0))","v":"-"},{"$f":"IF(H435=\"\",\"-\",VLOOKUP(V435,読み替え表_スマートムーブ!$C$16:$F$21,4,0))","v":"-"},"-",null,null,null,null,0,0,0,0,0,0,"*"]
[null,null,427,null,null,null,null,null,null,null,null,null,null,null,null,null,null,null,null,null,null,null,null,null,null,null,null,null,null,null,null,null,null,null,null,{"$f":"IF(H436=\"\",\"-\",VLOOKUP(T436,読み替え表_スマートムーブ!$C$4:$F$13,4,0))","v":"-"},{"$f":"IF(H436=\"\",\"-\",VLOOKUP(V436,読み替え表_スマートムーブ!$C$16:$F$21,4,0))","v":"-"},"-",null,null,null,null,0,0,0,0,0,0,"*"]
[null,null,428,null,null,null,null,null,null,null,null,null,null,null,null,null,null,null,null,null,null,null,null,null,null,null,null,null,null,null,null,null,null,null,null,{"$f":"IF(H437=\"\",\"-\",VLOOKUP(T437,読み替え表_スマートムーブ!$C$4:$F$13,4,0))","v":"-"},{"$f":"IF(H437=\"\",\"-\",VLOOKUP(V437,読み替え表_スマートムーブ!$C$16:$F$21,4,0))","v":"-"},"-",null,null,null,null,0,0,0,0,0,0,"*"]
[null,null,429,null,null,null,null,null,null,null,null,null,null,null,null,null,null,null,null,null,null,null,null,null,null,null,null,null,null,null,null,null,null,null,null,{"$f":"IF(H438=\"\",\"-\",VLOOKUP(T438,読み替え表_スマートムーブ!$C$4:$F$13,4,0))","v":"-"},{"$f":"IF(H438=\"\",\"-\",VLOOKUP(V438,読み替え表_スマートムーブ!$C$16:$F$21,4,0))","v":"-"},"-",null,null,null,null,0,0,0,0,0,0,"*"]
[null,null,430,null,null,null,null,null,null,null,null,null,null,null,null,null,null,null,null,null,null,null,null,null,null,null,null,null,null,null,null,null,null,null,null,{"$f":"IF(H439=\"\",\"-\",VLOOKUP(T439,読み替え表_スマートムーブ!$C$4:$F$13,4,0))","v":"-"},{"$f":"IF(H439=\"\",\"-\",VLOOKUP(V439,読み替え表_スマートムーブ!$C$16:$F$21,4,0))","v":"-"},"-",null,null,null,null,0,0,0,0,0,0,"*"]
[null,null,431,null,null,null,null,null,null,null,null,null,null,null,null,null,null,null,null,null,null,null,null,null,null,null,null,null,null,null,null,null,null,null,null,{"$f":"IF(H440=\"\",\"-\",VLOOKUP(T440,読み替え表_スマートムーブ!$C$4:$F$13,4,0))","v":"-"},{"$f":"IF(H440=\"\",\"-\",VLOOKUP(V440,読み替え表_スマートムーブ!$C$16:$F$21,4,0))","v":"-"},"-",null,null,null,null,0,0,0,0,0,0,"*"]
[null,null,432,null,null,null,null,null,null,null,null,null,null,null,null,null,null,null,null,null,null,null,null,null,null,null,null,null,null,null,null,null,null,null,null,{"$f":"IF(H441=\"\",\"-\",VLOOKUP(T441,読み替え表_スマートムーブ!$C$4:$F$13,4,0))","v":"-"},{"$f":"IF(H441=\"\",\"-\",VLOOKUP(V441,読み替え表_スマートムーブ!$C$16:$F$21,4,0))","v":"-"},"-",null,null,null,null,0,0,0,0,0,0,"*"]
[null,null,433,null,null,null,null,null,null,null,null,null,null,null,null,null,null,null,null,null,null,null,null,null,null,null,null,null,null,null,null,null,null,null,null,{"$f":"IF(H442=\"\",\"-\",VLOOKUP(T442,読み替え表_スマートムーブ!$C$4:$F$13,4,0))","v":"-"},{"$f":"IF(H442=\"\",\"-\",VLOOKUP(V442,読み替え表_スマートムーブ!$C$16:$F$21,4,0))","v":"-"},"-",null,null,null,null,0,0,0,0,0,0,"*"]
[null,null,434,null,null,null,null,null,null,null,null,null,null,null,null,null,null,null,null,null,null,null,null,null,null,null,null,null,null,null,null,null,null,null,null,{"$f":"IF(H443=\"\",\"-\",VLOOKUP(T443,読み替え表_スマートムーブ!$C$4:$F$13,4,0))","v":"-"},{"$f":"IF(H443=\"\",\"-\",VLOOKUP(V443,読み替え表_スマートムーブ!$C$16:$F$21,4,0))","v":"-"},"-",null,null,null,null,0,0,0,0,0,0,"*"]
[null,null,435,null,null,null,null,null,null,null,null,null,null,null,null,null,null,null,null,null,null,null,null,null,null,null,null,null,null,null,null,null,null,null,null,{"$f":"IF(H444=\"\",\"-\",VLOOKUP(T444,読み替え表_スマートムーブ!$C$4:$F$13,4,0))","v":"-"},{"$f":"IF(H444=\"\",\"-\",VLOOKUP(V444,読み替え表_スマートムーブ!$C$16:$F$21,4,0))","v":"-"},"-",null,null,null,null,0,0,0,0,0,0,"*"]
[null,null,436,null,null,null,null,null,null,null,null,null,null,null,null,null,null,null,null,null,null,null,null,null,null,null,null,null,null,null,null,null,null,null,null,{"$f":"IF(H445=\"\",\"-\",VLOOKUP(T445,読み替え表_スマートムーブ!$C$4:$F$13,4,0))","v":"-"},{"$f":"IF(H445=\"\",\"-\",VLOOKUP(V445,読み替え表_スマートムーブ!$C$16:$F$21,4,0))","v":"-"},"-",null,null,null,null,0,0,0,0,0,0,"*"]
[null,null,437,null,null,null,null,null,null,null,null,null,null,null,null,null,null,null,null,null,null,null,null,null,null,null,null,null,null,null,null,null,null,null,null,{"$f":"IF(H446=\"\",\"-\",VLOOKUP(T446,読み替え表_スマートムーブ!$C$4:$F$13,4,0))","v":"-"},{"$f":"IF(H446=\"\",\"-\",VLOOKUP(V446,読み替え表_スマートムーブ!$C$16:$F$21,4,0))","v":"-"},"-",null,null,null,null,0,0,0,0,0,0,"*"]
[null,null,438,null,null,null,null,null,null,null,null,null,null,null,null,null,null,null,null,null,null,null,null,null,null,null,null,null,null,null,null,null,null,null,null,{"$f":"IF(H447=\"\",\"-\",VLOOKUP(T447,読み替え表_スマートムーブ!$C$4:$F$13,4,0))","v":"-"},{"$f":"IF(H447=\"\",\"-\",VLOOKUP(V447,読み替え表_スマートムーブ!$C$16:$F$21,4,0))","v":"-"},"-",null,null,null,null,0,0,0,0,0,0,"*"]
[null,null,439,null,null,null,null,null,null,null,null,null,null,null,null,null,null,null,null,null,null,null,null,null,null,null,null,null,null,null,null,null,null,null,null,{"$f":"IF(H448=\"\",\"-\",VLOOKUP(T448,読み替え表_スマートムーブ!$C$4:$F$13,4,0))","v":"-"},{"$f":"IF(H448=\"\",\"-\",VLOOKUP(V448,読み替え表_スマートムーブ!$C$16:$F$21,4,0))","v":"-"},"-",null,null,null,null,0,0,0,0,0,0,"*"]
[null,null,440,null,null,null,null,null,null,null,null,null,null,null,null,null,null,null,null,null,null,null,null,null,null,null,null,null,null,null,null,null,null,null,null,{"$f":"IF(H449=\"\",\"-\",VLOOKUP(T449,読み替え表_スマートムーブ!$C$4:$F$13,4,0))","v":"-"},{"$f":"IF(H449=\"\",\"-\",VLOOKUP(V449,読み替え表_スマートムーブ!$C$16:$F$21,4,0))","v":"-"},"-",null,null,null,null,0,0,0,0,0,0,"*"]
[null,null,441,null,null,null,null,null,null,null,null,null,null,null,null,null,null,null,null,null,null,null,null,null,null,null,null,null,null,null,null,null,null,null,null,{"$f":"IF(H450=\"\",\"-\",VLOOKUP(T450,読み替え表_スマートムーブ!$C$4:$F$13,4,0))","v":"-"},{"$f":"IF(H450=\"\",\"-\",VLOOKUP(V450,読み替え表_スマートムーブ!$C$16:$F$21,4,0))","v":"-"},"-",null,null,null,null,0,0,0,0,0,0,"*"]
[null,null,442,null,null,null,null,null,null,null,null,null,null,null,null,null,null,null,null,null,null,null,null,null,null,null,null,null,null,null,null,null,null,null,null,{"$f":"IF(H451=\"\",\"-\",VLOOKUP(T451,読み替え表_スマートムーブ!$C$4:$F$13,4,0))","v":"-"},{"$f":"IF(H451=\"\",\"-\",VLOOKUP(V451,読み替え表_スマートムーブ!$C$16:$F$21,4,0))","v":"-"},"-",null,null,null,null,0,0,0,0,0,0,"*"]
[null,null,443,null,null,null,null,null,null,null,null,null,null,null,null,null,null,null,null,null,null,null,null,null,null,null,null,null,null,null,null,null,null,null,null,{"$f":"IF(H452=\"\",\"-\",VLOOKUP(T452,読み替え表_スマートムーブ!$C$4:$F$13,4,0))","v":"-"},{"$f":"IF(H452=\"\",\"-\",VLOOKUP(V452,読み替え表_スマートムーブ!$C$16:$F$21,4,0))","v":"-"},"-",null,null,null,null,0,0,0,0,0,0,"*"]
[null,null,444,null,null,null,null,null,null,null,null,null,null,null,null,null,null,null,null,null,null,null,null,null,null,null,null,null,null,null,null,null,null,null,null,{"$f":"IF(H453=\"\",\"-\",VLOOKUP(T453,読み替え表_スマートムーブ!$C$4:$F$13,4,0))","v":"-"},{"$f":"IF(H453=\"\",\"-\",VLOOKUP(V453,読み替え表_スマートムーブ!$C$16:$F$21,4,0))","v":"-"},"-",null,null,null,null,0,0,0,0,0,0,"*"]
[null,null,445,null,null,null,null,null,null,null,null,null,null,null,null,null,null,null,null,null,null,null,null,null,null,null,null,null,null,null,null,null,null,null,null,{"$f":"IF(H454=\"\",\"-\",VLOOKUP(T454,読み替え表_スマートムーブ!$C$4:$F$13,4,0))","v":"-"},{"$f":"IF(H454=\"\",\"-\",VLOOKUP(V454,読み替え表_スマートムーブ!$C$16:$F$21,4,0))","v":"-"},"-",null,null,null,null,0,0,0,0,0,0,"*"]
[null,null,446,null,null,null,null,null,null,null,null,null,null,null,null,null,null,null,null,null,null,null,null,null,null,null,null,null,null,null,null,null,null,null,null,{"$f":"IF(H455=\"\",\"-\",VLOOKUP(T455,読み替え表_スマートムーブ!$C$4:$F$13,4,0))","v":"-"},{"$f":"IF(H455=\"\",\"-\",VLOOKUP(V455,読み替え表_スマートムーブ!$C$16:$F$21,4,0))","v":"-"},"-",null,null,null,null,0,0,0,0,0,0,"*"]
[null,null,447,null,null,null,null,null,null,null,null,null,null,null,null,null,null,null,null,null,null,null,null,null,null,null,null,null,null,null,null,null,null,null,null,{"$f":"IF(H456=\"\",\"-\",VLOOKUP(T456,読み替え表_スマートムーブ!$C$4:$F$13,4,0))","v":"-"},{"$f":"IF(H456=\"\",\"-\",VLOOKUP(V456,読み替え表_スマートムーブ!$C$16:$F$21,4,0))","v":"-"},"-",null,null,null,null,0,0,0,0,0,0,"*"]
[null,null,448,null,null,null,null,null,null,null,null,null,null,null,null,null,null,null,null,null,null,null,null,null,null,null,null,null,null,null,null,null,null,null,null,{"$f":"IF(H457=\"\",\"-\",VLOOKUP(T457,読み替え表_スマートムーブ!$C$4:$F$13,4,0))","v":"-"},{"$f":"IF(H457=\"\",\"-\",VLOOKUP(V457,読み替え表_スマートムーブ!$C$16:$F$21,4,0))","v":"-"},"-",null,null,null,null,0,0,0,0,0,0,"*"]
[null,null,449,null,null,null,null,null,null,null,null,null,null,null,null,null,null,null,null,null,null,null,null,null,null,null,null,null,null,null,null,null,null,null,null,{"$f":"IF(H458=\"\",\"-\",VLOOKUP(T458,読み替え表_スマートムーブ!$C$4:$F$13,4,0))","v":"-"},{"$f":"IF(H458=\"\",\"-\",VLOOKUP(V458,読み替え表_スマートムーブ!$C$16:$F$21,4,0))","v":"-"},"-",null,null,null,null,0,0,0,0,0,{"$f":"AQ458","v":0},"*"]
[null,null,{"$f":"ROW()-9","v":450},null,null,null,null,null,null,null,null,null,null,null,null,null,null,null,null,null,null,null,null,null,null,null,null,null,null,null,null,null,null,null,null,{"$f":"IF(H459=\"\",\"-\",VLOOKUP(T459,読み替え表_スマートムーブ!$C$4:$F$13,4,0))","v":"-"},{"$f":"IF(H459=\"\",\"-\",VLOOKUP(V459,読み替え表_スマートムーブ!$C$16:$F$21,4,0))","v":"-"},{"$f":"IF(H459=\"\",\"-\",AJ459*AK459)","v":"-"},null,null,null,null,{"$f":"IF(SUM($AR459:$AT459)>=1,1,0)","v":0},{"$f":"IF(R459=1,1,0)","v":0},{"$f":"IF(T459=9,1,0)","v":0},{"$f":"IF(V459=5,1,0)","v":0},{"$f":"IF(OR($X459=1,$X459=2,$X459=3),1,0)","v":0},0,"*"]
[null,null,451,null,null,null,null,null,null,null,null,null,null,null,null,null,null,null,null,null,null,null,null,null,null,null,null,null,null,null,null,null,null,null,null,{"$f":"IF(H460=\"\",\"-\",VLOOKUP(T460,読み替え表_スマートムーブ!$C$4:$F$13,4,0))","v":"-"},{"$f":"IF(H460=\"\",\"-\",VLOOKUP(V460,読み替え表_スマートムーブ!$C$16:$F$21,4,0))","v":"-"},"-",null,null,null,null,0,0,0,0,0,0,"*"]
[null,null,452,null,null,null,null,null,null,null,null,null,null,null,null,null,null,null,null,null,null,null,null,null,null,null,null,null,null,null,null,null,null,null,null,{"$f":"IF(H461=\"\",\"-\",VLOOKUP(T461,読み替え表_スマートムーブ!$C$4:$F$13,4,0))","v":"-"},{"$f":"IF(H461=\"\",\"-\",VLOOKUP(V461,読み替え表_スマートムーブ!$C$16:$F$21,4,0))","v":"-"},"-",null,null,null,null,0,0,0,0,0,0,"*"]
[null,null,453,null,null,null,null,null,null,null,null,null,null,null,null,null,null,null,null,null,null,null,null,null,null,null,null,null,null,null,null,null,null,null,null,{"$f":"IF(H462=\"\",\"-\",VLOOKUP(T462,読み替え表_スマートムーブ!$C$4:$F$13,4,0))","v":"-"},{"$f":"IF(H462=\"\",\"-\",VLOOKUP(V462,読み替え表_スマートムーブ!$C$16:$F$21,4,0))","v":"-"},"-",null,null,null,null,0,0,0,0,0,0,"*"]
[null,null,454,null,null,null,null,null,null,null,null,null,null,null,null,null,null,null,null,null,null,null,null,null,null,null,null,null,null,null,null,null,null,null,null,{"$f":"IF(H463=\"\",\"-\",VLOOKUP(T463,読み替え表_スマートムーブ!$C$4:$F$13,4,0))","v":"-"},{"$f":"IF(H463=\"\",\"-\",VLOOKUP(V463,読み替え表_スマートムーブ!$C$16:$F$21,4,0))","v":"-"},"-",null,null,null,null,0,0,0,0,0,0,"*"]
[null,null,455,null,null,null,null,null,null,null,null,null,null,null,null,null,null,null,null,null,null,null,null,null,null,null,null,null,null,null,null,null,null,null,null,{"$f":"IF(H464=\"\",\"-\",VLOOKUP(T464,読み替え表_スマートムーブ!$C$4:$F$13,4,0))","v":"-"},{"$f":"IF(H464=\"\",\"-\",VLOOKUP(V464,読み替え表_スマートムーブ!$C$16:$F$21,4,0))","v":"-"},"-",null,null,null,null,0,0,0,0,0,0,"*"]
[null,null,456,null,null,null,null,null,null,null,null,null,null,null,null,null,null,null,null,null,null,null,null,null,null,null,null,null,null,null,null,null,null,null,null,{"$f":"IF(H465=\"\",\"-\",VLOOKUP(T465,読み替え表_スマートムーブ!$C$4:$F$13,4,0))","v":"-"},{"$f":"IF(H465=\"\",\"-\",VLOOKUP(V465,読み替え表_スマートムーブ!$C$16:$F$21,4,0))","v":"-"},"-",null,null,null,null,0,0,0,0,0,0,"*"]
[null,null,457,null,null,null,null,null,null,null,null,null,null,null,null,null,null,null,null,null,null,null,null,null,null,null,null,null,null,null,null,null,null,null,null,{"$f":"IF(H466=\"\",\"-\",VLOOKUP(T466,読み替え表_スマートムーブ!$C$4:$F$13,4,0))","v":"-"},{"$f":"IF(H466=\"\",\"-\",VLOOKUP(V466,読み替え表_スマートムーブ!$C$16:$F$21,4,0))","v":"-"},"-",null,null,null,null,0,0,0,0,0,0,"*"]
[null,null,458,null,null,null,null,null,null,null,null,null,null,null,null,null,null,null,null,null,null,null,null,null,null,null,null,null,null,null,null,null,null,null,null,{"$f":"IF(H467=\"\",\"-\",VLOOKUP(T467,読み替え表_スマートムーブ!$C$4:$F$13,4,0))","v":"-"},{"$f":"IF(H467=\"\",\"-\",VLOOKUP(V467,読み替え表_スマートムーブ!$C$16:$F$21,4,0))","v":"-"},"-",null,null,null,null,0,0,0,0,0,0,"*"]
[null,null,459,null,null,null,null,null,null,null,null,null,null,null,null,null,null,null,null,null,null,null,null,null,null,null,null,null,null,null,null,null,null,null,null,{"$f":"IF(H468=\"\",\"-\",VLOOKUP(T468,読み替え表_スマートムーブ!$C$4:$F$13,4,0))","v":"-"},{"$f":"IF(H468=\"\",\"-\",VLOOKUP(V468,読み替え表_スマートムーブ!$C$16:$F$21,4,0))","v":"-"},"-",null,null,null,null,0,0,0,0,0,0,"*"]
[null,null,460,null,null,null,null,null,null,null,null,null,null,null,null,null,null,null,null,null,null,null,null,null,null,null,null,null,null,null,null,null,null,null,null,{"$f":"IF(H469=\"\",\"-\",VLOOKUP(T469,読み替え表_スマートムーブ!$C$4:$F$13,4,0))","v":"-"},{"$f":"IF(H469=\"\",\"-\",VLOOKUP(V469,読み替え表_スマートムーブ!$C$16:$F$21,4,0))","v":"-"},"-",null,null,null,null,0,0,0,0,0,0,"*"]
[null,null,461,null,null,null,null,null,null,null,null,null,null,null,null,null,null,null,null,null,null,null,null,null,null,null,null,null,null,null,null,null,null,null,null,{"$f":"IF(H470=\"\",\"-\",VLOOKUP(T470,読み替え表_スマートムーブ!$C$4:$F$13,4,0))","v":"-"},{"$f":"IF(H470=\"\",\"-\",VLOOKUP(V470,読み替え表_スマートムーブ!$C$16:$F$21,4,0))","v":"-"},"-",null,null,null,null,0,0,0,0,0,0,"*"]
[null,null,462,null,null,null,null,null,null,null,null,null,null,null,null,null,null,null,null,null,null,null,null,null,null,null,null,null,null,null,null,null,null,null,null,{"$f":"IF(H471=\"\",\"-\",VLOOKUP(T471,読み替え表_スマートムーブ!$C$4:$F$13,4,0))","v":"-"},{"$f":"IF(H471=\"\",\"-\",VLOOKUP(V471,読み替え表_スマートムーブ!$C$16:$F$21,4,0))","v":"-"},"-",null,null,null,null,0,0,0,0,0,0,"*"]
[null,null,463,null,null,null,null,null,null,null,null,null,null,null,null,null,null,null,null,null,null,null,null,null,null,null,null,null,null,null,null,null,null,null,null,{"$f":"IF(H472=\"\",\"-\",VLOOKUP(T472,読み替え表_スマートムーブ!$C$4:$F$13,4,0))","v":"-"},{"$f":"IF(H472=\"\",\"-\",VLOOKUP(V472,読み替え表_スマートムーブ!$C$16:$F$21,4,0))","v":"-"},"-",null,null,null,null,0,0,0,0,0,0,"*"]
[null,null,464,null,null,null,null,null,null,null,null,null,null,null,null,null,null,null,null,null,null,null,null,null,null,null,null,null,null,null,null,null,null,null,null,{"$f":"IF(H473=\"\",\"-\",VLOOKUP(T473,読み替え表_スマートムーブ!$C$4:$F$13,4,0))","v":"-"},{"$f":"IF(H473=\"\",\"-\",VLOOKUP(V473,読み替え表_スマートムーブ!$C$16:$F$21,4,0))","v":"-"},"-",null,null,null,null,0,0,0,0,0,0,"*"]
[null,null,465,null,null,null,null,null,null,null,null,null,null,null,null,null,null,null,null,null,null,null,null,null,null,null,null,null,null,null,null,null,null,null,null,{"$f":"IF(H474=\"\",\"-\",VLOOKUP(T474,読み替え表_スマートムーブ!$C$4:$F$13,4,0))","v":"-"},{"$f":"IF(H474=\"\",\"-\",VLOOKUP(V474,読み替え表_スマートムーブ!$C$16:$F$21,4,0))","v":"-"},"-",null,null,null,null,0,0,0,0,0,0,"*"]
[null,null,466,null,null,null,null,null,null,null,null,null,null,null,null,null,null,null,null,null,null,null,null,null,null,null,null,null,null,null,null,null,null,null,null,{"$f":"IF(H475=\"\",\"-\",VLOOKUP(T475,読み替え表_スマートムーブ!$C$4:$F$13,4,0))","v":"-"},{"$f":"IF(H475=\"\",\"-\",VLOOKUP(V475,読み替え表_スマートムーブ!$C$16:$F$21,4,0))","v":"-"},"-",null,null,null,null,0,0,0,0,0,0,"*"]
[null,null,467,null,null,null,null,null,null,null,null,null,null,null,null,null,null,null,null,null,null,null,null,null,null,null,null,null,null,null,null,null,null,null,null,{"$f":"IF(H476=\"\",\"-\",VLOOKUP(T476,読み替え表_スマートムーブ!$C$4:$F$13,4,0))","v":"-"},{"$f":"IF(H476=\"\",\"-\",VLOOKUP(V476,読み替え表_スマートムーブ!$C$16:$F$21,4,0))","v":"-"},"-",null,null,null,null,0,0,0,0,0,0,"*"]
[null,null,468,null,null,null,null,null,null,null,null,null,null,null,null,null,null,null,null,null,null,null,null,null,null,null,null,null,null,null,null,null,null,null,null,{"$f":"IF(H477=\"\",\"-\",VLOOKUP(T477,読み替え表_スマートムーブ!$C$4:$F$13,4,0))","v":"-"},{"$f":"IF(H477=\"\",\"-\",VLOOKUP(V477,読み替え表_スマートムーブ!$C$16:$F$21,4,0))","v":"-"},"-",null,null,null,null,0,0,0,0,0,0,"*"]
[null,null,469,null,null,null,null,null,null,null,null,null,null,null,null,null,null,null,null,null,null,null,null,null,null,null,null,null,null,null,null,null,null,null,null,{"$f":"IF(H478=\"\",\"-\",VLOOKUP(T478,読み替え表_スマートムーブ!$C$4:$F$13,4,0))","v":"-"},{"$f":"IF(H478=\"\",\"-\",VLOOKUP(V478,読み替え表_スマートムーブ!$C$16:$F$21,4,0))","v":"-"},"-",null,null,null,null,0,0,0,0,0,0,"*"]
[null,null,470,null,null,null,null,null,null,null,null,null,null,null,null,null,null,null,null,null,null,null,null,null,null,null,null,null,null,null,null,null,null,null,null,{"$f":"IF(H479=\"\",\"-\",VLOOKUP(T479,読み替え表_スマートムーブ!$C$4:$F$13,4,0))","v":"-"},{"$f":"IF(H479=\"\",\"-\",VLOOKUP(V479,読み替え表_スマートムーブ!$C$16:$F$21,4,0))","v":"-"},"-",null,null,null,null,0,0,0,0,0,0,"*"]
[null,null,471,null,null,null,null,null,null,null,null,null,null,null,null,null,null,null,null,null,null,null,null,null,null,null,null,null,null,null,null,null,null,null,null,{"$f":"IF(H480=\"\",\"-\",VLOOKUP(T480,読み替え表_スマートムーブ!$C$4:$F$13,4,0))","v":"-"},{"$f":"IF(H480=\"\",\"-\",VLOOKUP(V480,読み替え表_スマートムーブ!$C$16:$F$21,4,0))","v":"-"},"-",null,null,null,null,0,0,0,0,0,0,"*"]
[null,null,472,null,null,null,null,null,null,null,null,null,null,null,null,null,null,null,null,null,null,null,null,null,null,null,null,null,null,null,null,null,null,null,null,{"$f":"IF(H481=\"\",\"-\",VLOOKUP(T481,読み替え表_スマートムーブ!$C$4:$F$13,4,0))","v":"-"},{"$f":"IF(H481=\"\",\"-\",VLOOKUP(V481,読み替え表_スマートムーブ!$C$16:$F$21,4,0))","v":"-"},"-",null,null,null,null,0,0,0,0,0,0,"*"]
[null,null,473,null,null,null,null,null,null,null,null,null,null,null,null,null,null,null,null,null,null,null,null,null,null,null,null,null,null,null,null,null,null,null,null,{"$f":"IF(H482=\"\",\"-\",VLOOKUP(T482,読み替え表_スマートムーブ!$C$4:$F$13,4,0))","v":"-"},{"$f":"IF(H482=\"\",\"-\",VLOOKUP(V482,読み替え表_スマートムーブ!$C$16:$F$21,4,0))","v":"-"},"-",null,null,null,null,0,0,0,0,0,0,"*"]
[null,null,474,null,null,null,null,null,null,null,null,null,null,null,null,null,null,null,null,null,null,null,null,null,null,null,null,null,null,null,null,null,null,null,null,{"$f":"IF(H483=\"\",\"-\",VLOOKUP(T483,読み替え表_スマートムーブ!$C$4:$F$13,4,0))","v":"-"},{"$f":"IF(H483=\"\",\"-\",VLOOKUP(V483,読み替え表_スマートムーブ!$C$16:$F$21,4,0))","v":"-"},"-",null,null,null,null,0,0,0,0,0,0,"*"]
[null,null,475,null,null,null,null,null,null,null,null,null,null,null,null,null,null,null,null,null,null,null,null,null,null,null,null,null,null,null,null,null,null,null,null,{"$f":"IF(H484=\"\",\"-\",VLOOKUP(T484,読み替え表_スマートムーブ!$C$4:$F$13,4,0))","v":"-"},{"$f":"IF(H484=\"\",\"-\",VLOOKUP(V484,読み替え表_スマートムーブ!$C$16:$F$21,4,0))","v":"-"},"-",null,null,null,null,0,0,0,0,0,0,"*"]
[null,null,476,null,null,null,null,null,null,null,null,null,null,null,null,null,null,null,null,null,null,null,null,null,null,null,null,null,null,null,null,null,null,null,null,{"$f":"IF(H485=\"\",\"-\",VLOOKUP(T485,読み替え表_スマートムーブ!$C$4:$F$13,4,0))","v":"-"},{"$f":"IF(H485=\"\",\"-\",VLOOKUP(V485,読み替え表_スマートムーブ!$C$16:$F$21,4,0))","v":"-"},"-",null,null,null,null,0,0,0,0,0,0,"*"]
[null,null,477,null,null,null,null,null,null,null,null,null,null,null,null,null,null,null,null,null,null,null,null,null,null,null,null,null,null,null,null,null,null,null,null,{"$f":"IF(H486=\"\",\"-\",VLOOKUP(T486,読み替え表_スマートムーブ!$C$4:$F$13,4,0))","v":"-"},{"$f":"IF(H486=\"\",\"-\",VLOOKUP(V486,読み替え表_スマートムーブ!$C$16:$F$21,4,0))","v":"-"},"-",null,null,null,null,0,0,0,0,0,0,"*"]
[null,null,478,null,null,null,null,null,null,null,null,null,null,null,null,null,null,null,null,null,null,null,null,null,null,null,null,null,null,null,null,null,null,null,null,{"$f":"IF(H487=\"\",\"-\",VLOOKUP(T487,読み替え表_スマートムーブ!$C$4:$F$13,4,0))","v":"-"},{"$f":"IF(H487=\"\",\"-\",VLOOKUP(V487,読み替え表_スマートムーブ!$C$16:$F$21,4,0))","v":"-"},"-",null,null,null,null,0,0,0,0,0,0,"*"]
[null,null,479,null,null,null,null,null,null,null,null,null,null,null,null,null,null,null,null,null,null,null,null,null,null,null,null,null,null,null,null,null,null,null,null,{"$f":"IF(H488=\"\",\"-\",VLOOKUP(T488,読み替え表_スマートムーブ!$C$4:$F$13,4,0))","v":"-"},{"$f":"IF(H488=\"\",\"-\",VLOOKUP(V488,読み替え表_スマートムーブ!$C$16:$F$21,4,0))","v":"-"},"-",null,null,null,null,0,0,0,0,0,0,"*"]
[null,null,480,null,null,null,null,null,null,null,null,null,null,null,null,null,null,null,null,null,null,null,null,null,null,null,null,null,null,null,null,null,null,null,null,{"$f":"IF(H489=\"\",\"-\",VLOOKUP(T489,読み替え表_スマートムーブ!$C$4:$F$13,4,0))","v":"-"},{"$f":"IF(H489=\"\",\"-\",VLOOKUP(V489,読み替え表_スマートムーブ!$C$16:$F$21,4,0))","v":"-"},"-",null,null,null,null,0,0,0,0,0,0,"*"]
[null,null,481,null,null,null,null,null,null,null,null,null,null,null,null,null,null,null,null,null,null,null,null,null,null,null,null,null,null,null,null,null,null,null,null,{"$f":"IF(H490=\"\",\"-\",VLOOKUP(T490,読み替え表_スマートムーブ!$C$4:$F$13,4,0))","v":"-"},{"$f":"IF(H490=\"\",\"-\",VLOOKUP(V490,読み替え表_スマートムーブ!$C$16:$F$21,4,0))","v":"-"},"-",null,null,null,null,0,0,0,0,0,0,"*"]
[null,null,482,null,null,null,null,null,null,null,null,null,null,null,null,null,null,null,null,null,null,null,null,null,null,null,null,null,null,null,null,null,null,null,null,{"$f":"IF(H491=\"\",\"-\",VLOOKUP(T491,読み替え表_スマートムーブ!$C$4:$F$13,4,0))","v":"-"},{"$f":"IF(H491=\"\",\"-\",VLOOKUP(V491,読み替え表_スマートムーブ!$C$16:$F$21,4,0))","v":"-"},"-",null,null,null,null,0,0,0,0,0,0,"*"]
[null,null,483,null,null,null,null,null,null,null,null,null,null,null,null,null,null,null,null,null,null,null,null,null,null,null,null,null,null,null,null,null,null,null,null,{"$f":"IF(H492=\"\",\"-\",VLOOKUP(T492,読み替え表_スマートムーブ!$C$4:$F$13,4,0))","v":"-"},{"$f":"IF(H492=\"\",\"-\",VLOOKUP(V492,読み替え表_スマートムーブ!$C$16:$F$21,4,0))","v":"-"},"-",null,null,null,null,0,0,0,0,0,0,"*"]
[null,null,484,null,null,null,null,null,null,null,null,null,null,null,null,null,null,null,null,null,null,null,null,null,null,null,null,null,null,null,null,null,null,null,null,{"$f":"IF(H493=\"\",\"-\",VLOOKUP(T493,読み替え表_スマートムーブ!$C$4:$F$13,4,0))","v":"-"},{"$f":"IF(H493=\"\",\"-\",VLOOKUP(V493,読み替え表_スマートムーブ!$C$16:$F$21,4,0))","v":"-"},"-",null,null,null,null,0,0,0,0,0,0,"*"]
[null,null,485,null,null,null,null,null,null,null,null,null,null,null,null,null,null,null,null,null,null,null,null,null,null,null,null,null,null,null,null,null,null,null,null,{"$f":"IF(H494=\"\",\"-\",VLOOKUP(T494,読み替え表_スマートムーブ!$C$4:$F$13,4,0))","v":"-"},{"$f":"IF(H494=\"\",\"-\",VLOOKUP(V494,読み替え表_スマートムーブ!$C$16:$F$21,4,0))","v":"-"},"-",null,null,null,null,0,0,0,0,0,0,"*"]
[null,null,486,null,null,null,null,null,null,null,null,null,null,null,null,null,null,null,null,null,null,null,null,null,null,null,null,null,null,null,null,null,null,null,null,{"$f":"IF(H495=\"\",\"-\",VLOOKUP(T495,読み替え表_スマートムーブ!$C$4:$F$13,4,0))","v":"-"},{"$f":"IF(H495=\"\",\"-\",VLOOKUP(V495,読み替え表_スマートムーブ!$C$16:$F$21,4,0))","v":"-"},"-",null,null,null,null,0,0,0,0,0,0,"*"]
[null,null,487,null,null,null,null,null,null,null,null,null,null,null,null,null,null,null,null,null,null,null,null,null,null,null,null,null,null,null,null,null,null,null,null,{"$f":"IF(H496=\"\",\"-\",VLOOKUP(T496,読み替え表_スマートムーブ!$C$4:$F$13,4,0))","v":"-"},{"$f":"IF(H496=\"\",\"-\",VLOOKUP(V496,読み替え表_スマートムーブ!$C$16:$F$21,4,0))","v":"-"},"-",null,null,null,null,0,0,0,0,0,0,"*"]
[null,null,488,null,null,null,null,null,null,null,null,null,null,null,null,null,null,null,null,null,null,null,null,null,null,null,null,null,null,null,null,null,null,null,null,{"$f":"IF(H497=\"\",\"-\",VLOOKUP(T497,読み替え表_スマートムーブ!$C$4:$F$13,4,0))","v":"-"},{"$f":"IF(H497=\"\",\"-\",VLOOKUP(V497,読み替え表_スマートムーブ!$C$16:$F$21,4,0))","v":"-"},"-",null,null,null,null,0,0,0,0,0,0,"*"]
[null,null,489,null,null,null,null,null,null,null,null,null,null,null,null,null,null,null,null,null,null,null,null,null,null,null,null,null,null,null,null,null,null,null,null,{"$f":"IF(H498=\"\",\"-\",VLOOKUP(T498,読み替え表_スマートムーブ!$C$4:$F$13,4,0))","v":"-"},{"$f":"IF(H498=\"\",\"-\",VLOOKUP(V498,読み替え表_スマートムーブ!$C$16:$F$21,4,0))","v":"-"},"-",null,null,null,null,0,0,0,0,0,0,"*"]
[null,null,490,null,null,null,null,null,null,null,null,null,null,null,null,null,null,null,null,null,null,null,null,null,null,null,null,null,null,null,null,null,null,null,null,{"$f":"IF(H499=\"\",\"-\",VLOOKUP(T499,読み替え表_スマートムーブ!$C$4:$F$13,4,0))","v":"-"},{"$f":"IF(H499=\"\",\"-\",VLOOKUP(V499,読み替え表_スマートムーブ!$C$16:$F$21,4,0))","v":"-"},"-",null,null,null,null,0,0,0,0,0,0,"*"]
[null,null,491,null,null,null,null,null,null,null,null,null,null,null,null,null,null,null,null,null,null,null,null,null,null,null,null,null,null,null,null,null,null,null,null,{"$f":"IF(H500=\"\",\"-\",VLOOKUP(T500,読み替え表_スマートムーブ!$C$4:$F$13,4,0))","v":"-"},{"$f":"IF(H500=\"\",\"-\",VLOOKUP(V500,読み替え表_スマートムーブ!$C$16:$F$21,4,0))","v":"-"},"-",null,null,null,null,0,0,0,0,0,0,"*"]
[null,null,492,null,null,null,null,null,null,null,null,null,null,null,null,null,null,null,null,null,null,null,null,null,null,null,null,null,null,null,null,null,null,null,null,{"$f":"IF(H501=\"\",\"-\",VLOOKUP(T501,読み替え表_スマートムーブ!$C$4:$F$13,4,0))","v":"-"},{"$f":"IF(H501=\"\",\"-\",VLOOKUP(V501,読み替え表_スマートムーブ!$C$16:$F$21,4,0))","v":"-"},"-",null,null,null,null,0,0,0,0,0,0,"*"]
[null,null,493,null,null,null,null,null,null,null,null,null,null,null,null,null,null,null,null,null,null,null,null,null,null,null,null,null,null,null,null,null,null,null,null,{"$f":"IF(H502=\"\",\"-\",VLOOKUP(T502,読み替え表_スマートムーブ!$C$4:$F$13,4,0))","v":"-"},{"$f":"IF(H502=\"\",\"-\",VLOOKUP(V502,読み替え表_スマートムーブ!$C$16:$F$21,4,0))","v":"-"},"-",null,null,null,null,0,0,0,0,0,0,"*"]
[null,null,494,null,null,null,null,null,null,null,null,null,null,null,null,null,null,null,null,null,null,null,null,null,null,null,null,null,null,null,null,null,null,null,null,{"$f":"IF(H503=\"\",\"-\",VLOOKUP(T503,読み替え表_スマートムーブ!$C$4:$F$13,4,0))","v":"-"},{"$f":"IF(H503=\"\",\"-\",VLOOKUP(V503,読み替え表_スマートムーブ!$C$16:$F$21,4,0))","v":"-"},"-",null,null,null,null,0,0,0,0,0,0,"*"]
[null,null,495,null,null,null,null,null,null,null,null,null,null,null,null,null,null,null,null,null,null,null,null,null,null,null,null,null,null,null,null,null,null,null,null,{"$f":"IF(H504=\"\",\"-\",VLOOKUP(T504,読み替え表_スマートムーブ!$C$4:$F$13,4,0))","v":"-"},{"$f":"IF(H504=\"\",\"-\",VLOOKUP(V504,読み替え表_スマートムーブ!$C$16:$F$21,4,0))","v":"-"},"-",null,null,null,null,0,0,0,0,0,0,"*"]
[null,null,496,null,null,null,null,null,null,null,null,null,null,null,null,null,null,null,null,null,null,null,null,null,null,null,null,null,null,null,null,null,null,null,null,{"$f":"IF(H505=\"\",\"-\",VLOOKUP(T505,読み替え表_スマートムーブ!$C$4:$F$13,4,0))","v":"-"},{"$f":"IF(H505=\"\",\"-\",VLOOKUP(V505,読み替え表_スマートムーブ!$C$16:$F$21,4,0))","v":"-"},"-",null,null,null,null,0,0,0,0,0,0,"*"]
[null,null,497,null,null,null,null,null,null,null,null,null,null,null,null,null,null,null,null,null,null,null,null,null,null,null,null,null,null,null,null,null,null,null,null,{"$f":"IF(H506=\"\",\"-\",VLOOKUP(T506,読み替え表_スマートムーブ!$C$4:$F$13,4,0))","v":"-"},{"$f":"IF(H506=\"\",\"-\",VLOOKUP(V506,読み替え表_スマートムーブ!$C$16:$F$21,4,0))","v":"-"},"-",null,null,null,null,0,0,0,0,0,0,"*"]
[null,null,498,null,null,null,null,null,null,null,null,null,null,null,null,null,null,null,null,null,null,null,null,null,null,null,null,null,null,null,null,null,null,null,null,{"$f":"IF(H507=\"\",\"-\",VLOOKUP(T507,読み替え表_スマートムーブ!$C$4:$F$13,4,0))","v":"-"},{"$f":"IF(H507=\"\",\"-\",VLOOKUP(V507,読み替え表_スマートムーブ!$C$16:$F$21,4,0))","v":"-"},"-",null,null,null,null,0,0,0,0,0,0,"*"]
[null,null,499,null,null,null,null,null,null,null,null,null,null,null,null,null,null,null,null,null,null,null,null,null,null,null,null,null,null,null,null,null,null,null,null,{"$f":"IF(H508=\"\",\"-\",VLOOKUP(T508,読み替え表_スマートムーブ!$C$4:$F$13,4,0))","v":"-"},{"$f":"IF(H508=\"\",\"-\",VLOOKUP(V508,読み替え表_スマートムーブ!$C$16:$F$21,4,0))","v":"-"},"-",null,null,null,null,0,0,0,0,0,0,"*"]
[null,null,500,null,null,null,null,null,null,null,null,null,null,null,null,null,null,null,null,null,null,null,null,null,null,null,null,null,null,null,null,null,null,null,null,{"$f":"IF(H509=\"\",\"-\",VLOOKUP(T509,読み替え表_スマートムーブ!$C$4:$F$13,4,0))","v":"-"},{"$f":"IF(H509=\"\",\"-\",VLOOKUP(V509,読み替え表_スマートムーブ!$C$16:$F$21,4,0))","v":"-"},"-",null,null,null,null,0,0,0,0,0,0,"*"]
[null,null,501,null,null,null,null,null,null,null,null,null,null,null,null,null,null,null,null,null,null,null,null,null,null,null,null,null,null,null,null,null,null,null,null,{"$f":"IF(H510=\"\",\"-\",VLOOKUP(T510,読み替え表_スマートムーブ!$C$4:$F$13,4,0))","v":"-"},{"$f":"IF(H510=\"\",\"-\",VLOOKUP(V510,読み替え表_スマートムーブ!$C$16:$F$21,4,0))","v":"-"},"-",null,null,null,null,0,0,0,0,0,0,"*"]
[null,null,502,null,null,null,null,null,null,null,null,null,null,null,null,null,null,null,null,null,null,null,null,null,null,null,null,null,null,null,null,null,null,null,null,{"$f":"IF(H511=\"\",\"-\",VLOOKUP(T511,読み替え表_スマートムーブ!$C$4:$F$13,4,0))","v":"-"},{"$f":"IF(H511=\"\",\"-\",VLOOKUP(V511,読み替え表_スマートムーブ!$C$16:$F$21,4,0))","v":"-"},"-",null,null,null,null,0,0,0,0,0,0,"*"]
[null,null,503,null,null,null,null,null,null,null,null,null,null,null,null,null,null,null,null,null,null,null,null,null,null,null,null,null,null,null,null,null,null,null,null,{"$f":"IF(H512=\"\",\"-\",VLOOKUP(T512,読み替え表_スマートムーブ!$C$4:$F$13,4,0))","v":"-"},{"$f":"IF(H512=\"\",\"-\",VLOOKUP(V512,読み替え表_スマートムーブ!$C$16:$F$21,4,0))","v":"-"},"-",null,null,null,null,0,0,0,0,0,0,"*"]
[null,null,504,null,null,null,null,null,null,null,null,null,null,null,null,null,null,null,null,null,null,null,null,null,null,null,null,null,null,null,null,null,null,null,null,{"$f":"IF(H513=\"\",\"-\",VLOOKUP(T513,読み替え表_スマートムーブ!$C$4:$F$13,4,0))","v":"-"},{"$f":"IF(H513=\"\",\"-\",VLOOKUP(V513,読み替え表_スマートムーブ!$C$16:$F$21,4,0))","v":"-"},"-",null,null,null,null,0,0,0,0,0,0,"*"]
[null,null,505,null,null,null,null,null,null,null,null,null,null,null,null,null,null,null,null,null,null,null,null,null,null,null,null,null,null,null,null,null,null,null,null,{"$f":"IF(H514=\"\",\"-\",VLOOKUP(T514,読み替え表_スマートムーブ!$C$4:$F$13,4,0))","v":"-"},{"$f":"IF(H514=\"\",\"-\",VLOOKUP(V514,読み替え表_スマートムーブ!$C$16:$F$21,4,0))","v":"-"},"-",null,null,null,null,0,0,0,0,0,0,"*"]
[null,null,506,null,null,null,null,null,null,null,null,null,null,null,null,null,null,null,null,null,null,null,null,null,null,null,null,null,null,null,null,null,null,null,null,{"$f":"IF(H515=\"\",\"-\",VLOOKUP(T515,読み替え表_スマートムーブ!$C$4:$F$13,4,0))","v":"-"},{"$f":"IF(H515=\"\",\"-\",VLOOKUP(V515,読み替え表_スマートムーブ!$C$16:$F$21,4,0))","v":"-"},"-",null,null,null,null,0,0,0,0,0,0,"*"]
[null,null,507,null,null,null,null,null,null,null,null,null,null,null,null,null,null,null,null,null,null,null,null,null,null,null,null,null,null,null,null,null,null,null,null,{"$f":"IF(H516=\"\",\"-\",VLOOKUP(T516,読み替え表_スマートムーブ!$C$4:$F$13,4,0))","v":"-"},{"$f":"IF(H516=\"\",\"-\",VLOOKUP(V516,読み替え表_スマートムーブ!$C$16:$F$21,4,0))","v":"-"},"-",null,null,null,null,0,0,0,0,0,0,"*"]
[null,null,508,null,null,null,null,null,null,null,null,null,null,null,null,null,null,null,null,null,null,null,null,null,null,null,null,null,null,null,null,null,null,null,null,{"$f":"IF(H517=\"\",\"-\",VLOOKUP(T517,読み替え表_スマートムーブ!$C$4:$F$13,4,0))","v":"-"},{"$f":"IF(H517=\"\",\"-\",VLOOKUP(V517,読み替え表_スマートムーブ!$C$16:$F$21,4,0))","v":"-"},"-",null,null,null,null,0,0,0,0,0,0,"*"]
[null,null,509,null,null,null,null,null,null,null,null,null,null,null,null,null,null,null,null,null,null,null,null,null,null,null,null,null,null,null,null,null,null,null,null,{"$f":"IF(H518=\"\",\"-\",VLOOKUP(T518,読み替え表_スマートムーブ!$C$4:$F$13,4,0))","v":"-"},{"$f":"IF(H518=\"\",\"-\",VLOOKUP(V518,読み替え表_スマートムーブ!$C$16:$F$21,4,0))","v":"-"},"-",null,null,null,null,0,0,0,0,0,0,"*"]
[null,null,510,null,null,null,null,null,null,null,null,null,null,null,null,null,null,null,null,null,null,null,null,null,null,null,null,null,null,null,null,null,null,null,null,{"$f":"IF(H519=\"\",\"-\",VLOOKUP(T519,読み替え表_スマートムーブ!$C$4:$F$13,4,0))","v":"-"},{"$f":"IF(H519=\"\",\"-\",VLOOKUP(V519,読み替え表_スマートムーブ!$C$16:$F$21,4,0))","v":"-"},"-",null,null,null,null,0,0,0,0,0,0,"*"]
[null,null,511,null,null,null,null,null,null,null,null,null,null,null,null,null,null,null,null,null,null,null,null,null,null,null,null,null,null,null,null,null,null,null,null,{"$f":"IF(H520=\"\",\"-\",VLOOKUP(T520,読み替え表_スマートムーブ!$C$4:$F$13,4,0))","v":"-"},{"$f":"IF(H520=\"\",\"-\",VLOOKUP(V520,読み替え表_スマートムーブ!$C$16:$F$21,4,0))","v":"-"},"-",null,null,null,null,0,0,0,0,0,0,"*"]
[null,null,512,null,null,null,null,null,null,null,null,null,null,null,null,null,null,null,null,null,null,null,null,null,null,null,null,null,null,null,null,null,null,null,null,{"$f":"IF(H521=\"\",\"-\",VLOOKUP(T521,読み替え表_スマートムーブ!$C$4:$F$13,4,0))","v":"-"},{"$f":"IF(H521=\"\",\"-\",VLOOKUP(V521,読み替え表_スマートムーブ!$C$16:$F$21,4,0))","v":"-"},"-",null,null,null,null,0,0,0,0,0,0,"*"]
[null,null,513,null,null,null,null,null,null,null,null,null,null,null,null,null,null,null,null,null,null,null,null,null,null,null,null,null,null,null,null,null,null,null,null,{"$f":"IF(H522=\"\",\"-\",VLOOKUP(T522,読み替え表_スマートムーブ!$C$4:$F$13,4,0))","v":"-"},{"$f":"IF(H522=\"\",\"-\",VLOOKUP(V522,読み替え表_スマートムーブ!$C$16:$F$21,4,0))","v":"-"},"-",null,null,null,null,0,0,0,0,0,{"$f":"AQ522","v":0},"*"]
[null,null,{"$f":"ROW()-9","v":514},null,null,null,null,null,null,null,null,null,null,null,null,null,null,null,null,null,null,null,null,null,null,null,null,null,null,null,null,null,null,null,null,{"$f":"IF(H523=\"\",\"-\",VLOOKUP(T523,読み替え表_スマートムーブ!$C$4:$F$13,4,0))","v":"-"},{"$f":"IF(H523=\"\",\"-\",VLOOKUP(V523,読み替え表_スマートムーブ!$C$16:$F$21,4,0))","v":"-"},{"$f":"IF(H523=\"\",\"-\",AJ523*AK523)","v":"-"},null,null,null,null,{"$f":"IF(SUM($AR523:$AT523)>=1,1,0)","v":0},{"$f":"IF(R523=1,1,0)","v":0},{"$f":"IF(T523=9,1,0)","v":0},{"$f":"IF(V523=5,1,0)","v":0},{"$f":"IF(OR($X523=1,$X523=2,$X523=3),1,0)","v":0},0,"*"]
[null,null,515,null,null,null,null,null,null,null,null,null,null,null,null,null,null,null,null,null,null,null,null,null,null,null,null,null,null,null,null,null,null,null,null,{"$f":"IF(H524=\"\",\"-\",VLOOKUP(T524,読み替え表_スマートムーブ!$C$4:$F$13,4,0))","v":"-"},{"$f":"IF(H524=\"\",\"-\",VLOOKUP(V524,読み替え表_スマートムーブ!$C$16:$F$21,4,0))","v":"-"},"-",null,null,null,null,0,0,0,0,0,0,"*"]
[null,null,516,null,null,null,null,null,null,null,null,null,null,null,null,null,null,null,null,null,null,null,null,null,null,null,null,null,null,null,null,null,null,null,null,{"$f":"IF(H525=\"\",\"-\",VLOOKUP(T525,読み替え表_スマートムーブ!$C$4:$F$13,4,0))","v":"-"},{"$f":"IF(H525=\"\",\"-\",VLOOKUP(V525,読み替え表_スマートムーブ!$C$16:$F$21,4,0))","v":"-"},"-",null,null,null,null,0,0,0,0,0,0,"*"]
[null,null,517,null,null,null,null,null,null,null,null,null,null,null,null,null,null,null,null,null,null,null,null,null,null,null,null,null,null,null,null,null,null,null,null,{"$f":"IF(H526=\"\",\"-\",VLOOKUP(T526,読み替え表_スマートムーブ!$C$4:$F$13,4,0))","v":"-"},{"$f":"IF(H526=\"\",\"-\",VLOOKUP(V526,読み替え表_スマートムーブ!$C$16:$F$21,4,0))","v":"-"},"-",null,null,null,null,0,0,0,0,0,0,"*"]
[null,null,518,null,null,null,null,null,null,null,null,null,null,null,null,null,null,null,null,null,null,null,null,null,null,null,null,null,null,null,null,null,null,null,null,{"$f":"IF(H527=\"\",\"-\",VLOOKUP(T527,読み替え表_スマートムーブ!$C$4:$F$13,4,0))","v":"-"},{"$f":"IF(H527=\"\",\"-\",VLOOKUP(V527,読み替え表_スマートムーブ!$C$16:$F$21,4,0))","v":"-"},"-",null,null,null,null,0,0,0,0,0,0,"*"]
[null,null,519,null,null,null,null,null,null,null,null,null,null,null,null,null,null,null,null,null,null,null,null,null,null,null,null,null,null,null,null,null,null,null,null,{"$f":"IF(H528=\"\",\"-\",VLOOKUP(T528,読み替え表_スマートムーブ!$C$4:$F$13,4,0))","v":"-"},{"$f":"IF(H528=\"\",\"-\",VLOOKUP(V528,読み替え表_スマートムーブ!$C$16:$F$21,4,0))","v":"-"},"-",null,null,null,null,0,0,0,0,0,0,"*"]
[null,null,520,null,null,null,null,null,null,null,null,null,null,null,null,null,null,null,null,null,null,null,null,null,null,null,null,null,null,null,null,null,null,null,null,{"$f":"IF(H529=\"\",\"-\",VLOOKUP(T529,読み替え表_スマートムーブ!$C$4:$F$13,4,0))","v":"-"},{"$f":"IF(H529=\"\",\"-\",VLOOKUP(V529,読み替え表_スマートムーブ!$C$16:$F$21,4,0))","v":"-"},"-",null,null,null,null,0,0,0,0,0,0,"*"]
[null,null,521,null,null,null,null,null,null,null,null,null,null,null,null,null,null,null,null,null,null,null,null,null,null,null,null,null,null,null,null,null,null,null,null,{"$f":"IF(H530=\"\",\"-\",VLOOKUP(T530,読み替え表_スマートムーブ!$C$4:$F$13,4,0))","v":"-"},{"$f":"IF(H530=\"\",\"-\",VLOOKUP(V530,読み替え表_スマートムーブ!$C$16:$F$21,4,0))","v":"-"},"-",null,null,null,null,0,0,0,0,0,0,"*"]
[null,null,522,null,null,null,null,null,null,null,null,null,null,null,null,null,null,null,null,null,null,null,null,null,null,null,null,null,null,null,null,null,null,null,null,{"$f":"IF(H531=\"\",\"-\",VLOOKUP(T531,読み替え表_スマートムーブ!$C$4:$F$13,4,0))","v":"-"},{"$f":"IF(H531=\"\",\"-\",VLOOKUP(V531,読み替え表_スマートムーブ!$C$16:$F$21,4,0))","v":"-"},"-",null,null,null,null,0,0,0,0,0,0,"*"]
[null,null,523,null,null,null,null,null,null,null,null,null,null,null,null,null,null,null,null,null,null,null,null,null,null,null,null,null,null,null,null,null,null,null,null,{"$f":"IF(H532=\"\",\"-\",VLOOKUP(T532,読み替え表_スマートムーブ!$C$4:$F$13,4,0))","v":"-"},{"$f":"IF(H532=\"\",\"-\",VLOOKUP(V532,読み替え表_スマートムーブ!$C$16:$F$21,4,0))","v":"-"},"-",null,null,null,null,0,0,0,0,0,0,"*"]
[null,null,524,null,null,null,null,null,null,null,null,null,null,null,null,null,null,null,null,null,null,null,null,null,null,null,null,null,null,null,null,null,null,null,null,{"$f":"IF(H533=\"\",\"-\",VLOOKUP(T533,読み替え表_スマートムーブ!$C$4:$F$13,4,0))","v":"-"},{"$f":"IF(H533=\"\",\"-\",VLOOKUP(V533,読み替え表_スマートムーブ!$C$16:$F$21,4,0))","v":"-"},"-",null,null,null,null,0,0,0,0,0,0,"*"]
[null,null,525,null,null,null,null,null,null,null,null,null,null,null,null,null,null,null,null,null,null,null,null,null,null,null,null,null,null,null,null,null,null,null,null,{"$f":"IF(H534=\"\",\"-\",VLOOKUP(T534,読み替え表_スマートムーブ!$C$4:$F$13,4,0))","v":"-"},{"$f":"IF(H534=\"\",\"-\",VLOOKUP(V534,読み替え表_スマートムーブ!$C$16:$F$21,4,0))","v":"-"},"-",null,null,null,null,0,0,0,0,0,0,"*"]
[null,null,526,null,null,null,null,null,null,null,null,null,null,null,null,null,null,null,null,null,null,null,null,null,null,null,null,null,null,null,null,null,null,null,null,{"$f":"IF(H535=\"\",\"-\",VLOOKUP(T535,読み替え表_スマートムーブ!$C$4:$F$13,4,0))","v":"-"},{"$f":"IF(H535=\"\",\"-\",VLOOKUP(V535,読み替え表_スマートムーブ!$C$16:$F$21,4,0))","v":"-"},"-",null,null,null,null,0,0,0,0,0,0,"*"]
[null,null,527,null,null,null,null,null,null,null,null,null,null,null,null,null,null,null,null,null,null,null,null,null,null,null,null,null,null,null,null,null,null,null,null,{"$f":"IF(H536=\"\",\"-\",VLOOKUP(T536,読み替え表_スマートムーブ!$C$4:$F$13,4,0))","v":"-"},{"$f":"IF(H536=\"\",\"-\",VLOOKUP(V536,読み替え表_スマートムーブ!$C$16:$F$21,4,0))","v":"-"},"-",null,null,null,null,0,0,0,0,0,0,"*"]
[null,null,528,null,null,null,null,null,null,null,null,null,null,null,null,null,null,null,null,null,null,null,null,null,null,null,null,null,null,null,null,null,null,null,null,{"$f":"IF(H537=\"\",\"-\",VLOOKUP(T537,読み替え表_スマートムーブ!$C$4:$F$13,4,0))","v":"-"},{"$f":"IF(H537=\"\",\"-\",VLOOKUP(V537,読み替え表_スマートムーブ!$C$16:$F$21,4,0))","v":"-"},"-",null,null,null,null,0,0,0,0,0,0,"*"]
[null,null,529,null,null,null,null,null,null,null,null,null,null,null,null,null,null,null,null,null,null,null,null,null,null,null,null,null,null,null,null,null,null,null,null,{"$f":"IF(H538=\"\",\"-\",VLOOKUP(T538,読み替え表_スマートムーブ!$C$4:$F$13,4,0))","v":"-"},{"$f":"IF(H538=\"\",\"-\",VLOOKUP(V538,読み替え表_スマートムーブ!$C$16:$F$21,4,0))","v":"-"},"-",null,null,null,null,0,0,0,0,0,0,"*"]
[null,null,530,null,null,null,null,null,null,null,null,null,null,null,null,null,null,null,null,null,null,null,null,null,null,null,null,null,null,null,null,null,null,null,null,{"$f":"IF(H539=\"\",\"-\",VLOOKUP(T539,読み替え表_スマートムーブ!$C$4:$F$13,4,0))","v":"-"},{"$f":"IF(H539=\"\",\"-\",VLOOKUP(V539,読み替え表_スマートムーブ!$C$16:$F$21,4,0))","v":"-"},"-",null,null,null,null,0,0,0,0,0,0,"*"]
[null,null,531,null,null,null,null,null,null,null,null,null,null,null,null,null,null,null,null,null,null,null,null,null,null,null,null,null,null,null,null,null,null,null,null,{"$f":"IF(H540=\"\",\"-\",VLOOKUP(T540,読み替え表_スマートムーブ!$C$4:$F$13,4,0))","v":"-"},{"$f":"IF(H540=\"\",\"-\",VLOOKUP(V540,読み替え表_スマートムーブ!$C$16:$F$21,4,0))","v":"-"},"-",null,null,null,null,0,0,0,0,0,0,"*"]
[null,null,532,null,null,null,null,null,null,null,null,null,null,null,null,null,null,null,null,null,null,null,null,null,null,null,null,null,null,null,null,null,null,null,null,{"$f":"IF(H541=\"\",\"-\",VLOOKUP(T541,読み替え表_スマートムーブ!$C$4:$F$13,4,0))","v":"-"},{"$f":"IF(H541=\"\",\"-\",VLOOKUP(V541,読み替え表_スマートムーブ!$C$16:$F$21,4,0))","v":"-"},"-",null,null,null,null,0,0,0,0,0,0,"*"]
[null,null,533,null,null,null,null,null,null,null,null,null,null,null,null,null,null,null,null,null,null,null,null,null,null,null,null,null,null,null,null,null,null,null,null,{"$f":"IF(H542=\"\",\"-\",VLOOKUP(T542,読み替え表_スマートムーブ!$C$4:$F$13,4,0))","v":"-"},{"$f":"IF(H542=\"\",\"-\",VLOOKUP(V542,読み替え表_スマートムーブ!$C$16:$F$21,4,0))","v":"-"},"-",null,null,null,null,0,0,0,0,0,0,"*"]
[null,null,534,null,null,null,null,null,null,null,null,null,null,null,null,null,null,null,null,null,null,null,null,null,null,null,null,null,null,null,null,null,null,null,null,{"$f":"IF(H543=\"\",\"-\",VLOOKUP(T543,読み替え表_スマートムーブ!$C$4:$F$13,4,0))","v":"-"},{"$f":"IF(H543=\"\",\"-\",VLOOKUP(V543,読み替え表_スマートムーブ!$C$16:$F$21,4,0))","v":"-"},"-",null,null,null,null,0,0,0,0,0,0,"*"]
[null,null,535,null,null,null,null,null,null,null,null,null,null,null,null,null,null,null,null,null,null,null,null,null,null,null,null,null,null,null,null,null,null,null,null,{"$f":"IF(H544=\"\",\"-\",VLOOKUP(T544,読み替え表_スマートムーブ!$C$4:$F$13,4,0))","v":"-"},{"$f":"IF(H544=\"\",\"-\",VLOOKUP(V544,読み替え表_スマートムーブ!$C$16:$F$21,4,0))","v":"-"},"-",null,null,null,null,0,0,0,0,0,0,"*"]
[null,null,536,null,null,null,null,null,null,null,null,null,null,null,null,null,null,null,null,null,null,null,null,null,null,null,null,null,null,null,null,null,null,null,null,{"$f":"IF(H545=\"\",\"-\",VLOOKUP(T545,読み替え表_スマートムーブ!$C$4:$F$13,4,0))","v":"-"},{"$f":"IF(H545=\"\",\"-\",VLOOKUP(V545,読み替え表_スマートムーブ!$C$16:$F$21,4,0))","v":"-"},"-",null,null,null,null,0,0,0,0,0,0,"*"]
[null,null,537,null,null,null,null,null,null,null,null,null,null,null,null,null,null,null,null,null,null,null,null,null,null,null,null,null,null,null,null,null,null,null,null,{"$f":"IF(H546=\"\",\"-\",VLOOKUP(T546,読み替え表_スマートムーブ!$C$4:$F$13,4,0))","v":"-"},{"$f":"IF(H546=\"\",\"-\",VLOOKUP(V546,読み替え表_スマートムーブ!$C$16:$F$21,4,0))","v":"-"},"-",null,null,null,null,0,0,0,0,0,0,"*"]
[null,null,538,null,null,null,null,null,null,null,null,null,null,null,null,null,null,null,null,null,null,null,null,null,null,null,null,null,null,null,null,null,null,null,null,{"$f":"IF(H547=\"\",\"-\",VLOOKUP(T547,読み替え表_スマートムーブ!$C$4:$F$13,4,0))","v":"-"},{"$f":"IF(H547=\"\",\"-\",VLOOKUP(V547,読み替え表_スマートムーブ!$C$16:$F$21,4,0))","v":"-"},"-",null,null,null,null,0,0,0,0,0,0,"*"]
[null,null,539,null,null,null,null,null,null,null,null,null,null,null,null,null,null,null,null,null,null,null,null,null,null,null,null,null,null,null,null,null,null,null,null,{"$f":"IF(H548=\"\",\"-\",VLOOKUP(T548,読み替え表_スマートムーブ!$C$4:$F$13,4,0))","v":"-"},{"$f":"IF(H548=\"\",\"-\",VLOOKUP(V548,読み替え表_スマートムーブ!$C$16:$F$21,4,0))","v":"-"},"-",null,null,null,null,0,0,0,0,0,0,"*"]
[null,null,540,null,null,null,null,null,null,null,null,null,null,null,null,null,null,null,null,null,null,null,null,null,null,null,null,null,null,null,null,null,null,null,null,{"$f":"IF(H549=\"\",\"-\",VLOOKUP(T549,読み替え表_スマートムーブ!$C$4:$F$13,4,0))","v":"-"},{"$f":"IF(H549=\"\",\"-\",VLOOKUP(V549,読み替え表_スマートムーブ!$C$16:$F$21,4,0))","v":"-"},"-",null,null,null,null,0,0,0,0,0,0,"*"]
[null,null,541,null,null,null,null,null,null,null,null,null,null,null,null,null,null,null,null,null,null,null,null,null,null,null,null,null,null,null,null,null,null,null,null,{"$f":"IF(H550=\"\",\"-\",VLOOKUP(T550,読み替え表_スマートムーブ!$C$4:$F$13,4,0))","v":"-"},{"$f":"IF(H550=\"\",\"-\",VLOOKUP(V550,読み替え表_スマートムーブ!$C$16:$F$21,4,0))","v":"-"},"-",null,null,null,null,0,0,0,0,0,0,"*"]
[null,null,542,null,null,null,null,null,null,null,null,null,null,null,null,null,null,null,null,null,null,null,null,null,null,null,null,null,null,null,null,null,null,null,null,{"$f":"IF(H551=\"\",\"-\",VLOOKUP(T551,読み替え表_スマートムーブ!$C$4:$F$13,4,0))","v":"-"},{"$f":"IF(H551=\"\",\"-\",VLOOKUP(V551,読み替え表_スマートムーブ!$C$16:$F$21,4,0))","v":"-"},"-",null,null,null,null,0,0,0,0,0,0,"*"]
[null,null,543,null,null,null,null,null,null,null,null,null,null,null,null,null,null,null,null,null,null,null,null,null,null,null,null,null,null,null,null,null,null,null,null,{"$f":"IF(H552=\"\",\"-\",VLOOKUP(T552,読み替え表_スマートムーブ!$C$4:$F$13,4,0))","v":"-"},{"$f":"IF(H552=\"\",\"-\",VLOOKUP(V552,読み替え表_スマートムーブ!$C$16:$F$21,4,0))","v":"-"},"-",null,null,null,null,0,0,0,0,0,0,"*"]
[null,null,544,null,null,null,null,null,null,null,null,null,null,null,null,null,null,null,null,null,null,null,null,null,null,null,null,null,null,null,null,null,null,null,null,{"$f":"IF(H553=\"\",\"-\",VLOOKUP(T553,読み替え表_スマートムーブ!$C$4:$F$13,4,0))","v":"-"},{"$f":"IF(H553=\"\",\"-\",VLOOKUP(V553,読み替え表_スマートムーブ!$C$16:$F$21,4,0))","v":"-"},"-",null,null,null,null,0,0,0,0,0,0,"*"]
[null,null,545,null,null,null,null,null,null,null,null,null,null,null,null,null,null,null,null,null,null,null,null,null,null,null,null,null,null,null,null,null,null,null,null,{"$f":"IF(H554=\"\",\"-\",VLOOKUP(T554,読み替え表_スマートムーブ!$C$4:$F$13,4,0))","v":"-"},{"$f":"IF(H554=\"\",\"-\",VLOOKUP(V554,読み替え表_スマートムーブ!$C$16:$F$21,4,0))","v":"-"},"-",null,null,null,null,0,0,0,0,0,0,"*"]
[null,null,546,null,null,null,null,null,null,null,null,null,null,null,null,null,null,null,null,null,null,null,null,null,null,null,null,null,null,null,null,null,null,null,null,{"$f":"IF(H555=\"\",\"-\",VLOOKUP(T555,読み替え表_スマートムーブ!$C$4:$F$13,4,0))","v":"-"},{"$f":"IF(H555=\"\",\"-\",VLOOKUP(V555,読み替え表_スマートムーブ!$C$16:$F$21,4,0))","v":"-"},"-",null,null,null,null,0,0,0,0,0,0,"*"]
[null,null,547,null,null,null,null,null,null,null,null,null,null,null,null,null,null,null,null,null,null,null,null,null,null,null,null,null,null,null,null,null,null,null,null,{"$f":"IF(H556=\"\",\"-\",VLOOKUP(T556,読み替え表_スマートムーブ!$C$4:$F$13,4,0))","v":"-"},{"$f":"IF(H556=\"\",\"-\",VLOOKUP(V556,読み替え表_スマートムーブ!$C$16:$F$21,4,0))","v":"-"},"-",null,null,null,null,0,0,0,0,0,0,"*"]
[null,null,548,null,null,null,null,null,null,null,null,null,null,null,null,null,null,null,null,null,null,null,null,null,null,null,null,null,null,null,null,null,null,null,null,{"$f":"IF(H557=\"\",\"-\",VLOOKUP(T557,読み替え表_スマートムーブ!$C$4:$F$13,4,0))","v":"-"},{"$f":"IF(H557=\"\",\"-\",VLOOKUP(V557,読み替え表_スマートムーブ!$C$16:$F$21,4,0))","v":"-"},"-",null,null,null,null,0,0,0,0,0,0,"*"]
[null,null,549,null,null,null,null,null,null,null,null,null,null,null,null,null,null,null,null,null,null,null,null,null,null,null,null,null,null,null,null,null,null,null,null,{"$f":"IF(H558=\"\",\"-\",VLOOKUP(T558,読み替え表_スマートムーブ!$C$4:$F$13,4,0))","v":"-"},{"$f":"IF(H558=\"\",\"-\",VLOOKUP(V558,読み替え表_スマートムーブ!$C$16:$F$21,4,0))","v":"-"},"-",null,null,null,null,0,0,0,0,0,0,"*"]
[null,null,550,null,null,null,null,null,null,null,null,null,null,null,null,null,null,null,null,null,null,null,null,null,null,null,null,null,null,null,null,null,null,null,null,{"$f":"IF(H559=\"\",\"-\",VLOOKUP(T559,読み替え表_スマートムーブ!$C$4:$F$13,4,0))","v":"-"},{"$f":"IF(H559=\"\",\"-\",VLOOKUP(V559,読み替え表_スマートムーブ!$C$16:$F$21,4,0))","v":"-"},"-",null,null,null,null,0,0,0,0,0,0,"*"]
[null,null,551,null,null,null,null,null,null,null,null,null,null,null,null,null,null,null,null,null,null,null,null,null,null,null,null,null,null,null,null,null,null,null,null,{"$f":"IF(H560=\"\",\"-\",VLOOKUP(T560,読み替え表_スマートムーブ!$C$4:$F$13,4,0))","v":"-"},{"$f":"IF(H560=\"\",\"-\",VLOOKUP(V560,読み替え表_スマートムーブ!$C$16:$F$21,4,0))","v":"-"},"-",null,null,null,null,0,0,0,0,0,0,"*"]
[null,null,552,null,null,null,null,null,null,null,null,null,null,null,null,null,null,null,null,null,null,null,null,null,null,null,null,null,null,null,null,null,null,null,null,{"$f":"IF(H561=\"\",\"-\",VLOOKUP(T561,読み替え表_スマートムーブ!$C$4:$F$13,4,0))","v":"-"},{"$f":"IF(H561=\"\",\"-\",VLOOKUP(V561,読み替え表_スマートムーブ!$C$16:$F$21,4,0))","v":"-"},"-",null,null,null,null,0,0,0,0,0,0,"*"]
[null,null,553,null,null,null,null,null,null,null,null,null,null,null,null,null,null,null,null,null,null,null,null,null,null,null,null,null,null,null,null,null,null,null,null,{"$f":"IF(H562=\"\",\"-\",VLOOKUP(T562,読み替え表_スマートムーブ!$C$4:$F$13,4,0))","v":"-"},{"$f":"IF(H562=\"\",\"-\",VLOOKUP(V562,読み替え表_スマートムーブ!$C$16:$F$21,4,0))","v":"-"},"-",null,null,null,null,0,0,0,0,0,0,"*"]
[null,null,554,null,null,null,null,null,null,null,null,null,null,null,null,null,null,null,null,null,null,null,null,null,null,null,null,null,null,null,null,null,null,null,null,{"$f":"IF(H563=\"\",\"-\",VLOOKUP(T563,読み替え表_スマートムーブ!$C$4:$F$13,4,0))","v":"-"},{"$f":"IF(H563=\"\",\"-\",VLOOKUP(V563,読み替え表_スマートムーブ!$C$16:$F$21,4,0))","v":"-"},"-",null,null,null,null,0,0,0,0,0,0,"*"]
[null,null,555,null,null,null,null,null,null,null,null,null,null,null,null,null,null,null,null,null,null,null,null,null,null,null,null,null,null,null,null,null,null,null,null,{"$f":"IF(H564=\"\",\"-\",VLOOKUP(T564,読み替え表_スマートムーブ!$C$4:$F$13,4,0))","v":"-"},{"$f":"IF(H564=\"\",\"-\",VLOOKUP(V564,読み替え表_スマートムーブ!$C$16:$F$21,4,0))","v":"-"},"-",null,null,null,null,0,0,0,0,0,0,"*"]
[null,null,556,null,null,null,null,null,null,null,null,null,null,null,null,null,null,null,null,null,null,null,null,null,null,null,null,null,null,null,null,null,null,null,null,{"$f":"IF(H565=\"\",\"-\",VLOOKUP(T565,読み替え表_スマートムーブ!$C$4:$F$13,4,0))","v":"-"},{"$f":"IF(H565=\"\",\"-\",VLOOKUP(V565,読み替え表_スマートムーブ!$C$16:$F$21,4,0))","v":"-"},"-",null,null,null,null,0,0,0,0,0,0,"*"]
[null,null,557,null,null,null,null,null,null,null,null,null,null,null,null,null,null,null,null,null,null,null,null,null,null,null,null,null,null,null,null,null,null,null,null,{"$f":"IF(H566=\"\",\"-\",VLOOKUP(T566,読み替え表_スマートムーブ!$C$4:$F$13,4,0))","v":"-"},{"$f":"IF(H566=\"\",\"-\",VLOOKUP(V566,読み替え表_スマートムーブ!$C$16:$F$21,4,0))","v":"-"},"-",null,null,null,null,0,0,0,0,0,0,"*"]
[null,null,558,null,null,null,null,null,null,null,null,null,null,null,null,null,null,null,null,null,null,null,null,null,null,null,null,null,null,null,null,null,null,null,null,{"$f":"IF(H567=\"\",\"-\",VLOOKUP(T567,読み替え表_スマートムーブ!$C$4:$F$13,4,0))","v":"-"},{"$f":"IF(H567=\"\",\"-\",VLOOKUP(V567,読み替え表_スマートムーブ!$C$16:$F$21,4,0))","v":"-"},"-",null,null,null,null,0,0,0,0,0,0,"*"]
[null,null,559,null,null,null,null,null,null,null,null,null,null,null,null,null,null,null,null,null,null,null,null,null,null,null,null,null,null,null,null,null,null,null,null,{"$f":"IF(H568=\"\",\"-\",VLOOKUP(T568,読み替え表_スマートムーブ!$C$4:$F$13,4,0))","v":"-"},{"$f":"IF(H568=\"\",\"-\",VLOOKUP(V568,読み替え表_スマートムーブ!$C$16:$F$21,4,0))","v":"-"},"-",null,null,null,null,0,0,0,0,0,0,"*"]
[null,null,560,null,null,null,null,null,null,null,null,null,null,null,null,null,null,null,null,null,null,null,null,null,null,null,null,null,null,null,null,null,null,null,null,{"$f":"IF(H569=\"\",\"-\",VLOOKUP(T569,読み替え表_スマートムーブ!$C$4:$F$13,4,0))","v":"-"},{"$f":"IF(H569=\"\",\"-\",VLOOKUP(V569,読み替え表_スマートムーブ!$C$16:$F$21,4,0))","v":"-"},"-",null,null,null,null,0,0,0,0,0,0,"*"]
[null,null,561,null,null,null,null,null,null,null,null,null,null,null,null,null,null,null,null,null,null,null,null,null,null,null,null,null,null,null,null,null,null,null,null,{"$f":"IF(H570=\"\",\"-\",VLOOKUP(T570,読み替え表_スマートムーブ!$C$4:$F$13,4,0))","v":"-"},{"$f":"IF(H570=\"\",\"-\",VLOOKUP(V570,読み替え表_スマートムーブ!$C$16:$F$21,4,0))","v":"-"},"-",null,null,null,null,0,0,0,0,0,0,"*"]
[null,null,562,null,null,null,null,null,null,null,null,null,null,null,null,null,null,null,null,null,null,null,null,null,null,null,null,null,null,null,null,null,null,null,null,{"$f":"IF(H571=\"\",\"-\",VLOOKUP(T571,読み替え表_スマートムーブ!$C$4:$F$13,4,0))","v":"-"},{"$f":"IF(H571=\"\",\"-\",VLOOKUP(V571,読み替え表_スマートムーブ!$C$16:$F$21,4,0))","v":"-"},"-",null,null,null,null,0,0,0,0,0,0,"*"]
[null,null,563,null,null,null,null,null,null,null,null,null,null,null,null,null,null,null,null,null,null,null,null,null,null,null,null,null,null,null,null,null,null,null,null,{"$f":"IF(H572=\"\",\"-\",VLOOKUP(T572,読み替え表_スマートムーブ!$C$4:$F$13,4,0))","v":"-"},{"$f":"IF(H572=\"\",\"-\",VLOOKUP(V572,読み替え表_スマートムーブ!$C$16:$F$21,4,0))","v":"-"},"-",null,null,null,null,0,0,0,0,0,0,"*"]
[null,null,564,null,null,null,null,null,null,null,null,null,null,null,null,null,null,null,null,null,null,null,null,null,null,null,null,null,null,null,null,null,null,null,null,{"$f":"IF(H573=\"\",\"-\",VLOOKUP(T573,読み替え表_スマートムーブ!$C$4:$F$13,4,0))","v":"-"},{"$f":"IF(H573=\"\",\"-\",VLOOKUP(V573,読み替え表_スマートムーブ!$C$16:$F$21,4,0))","v":"-"},"-",null,null,null,null,0,0,0,0,0,0,"*"]
[null,null,565,null,null,null,null,null,null,null,null,null,null,null,null,null,null,null,null,null,null,null,null,null,null,null,null,null,null,null,null,null,null,null,null,{"$f":"IF(H574=\"\",\"-\",VLOOKUP(T574,読み替え表_スマートムーブ!$C$4:$F$13,4,0))","v":"-"},{"$f":"IF(H574=\"\",\"-\",VLOOKUP(V574,読み替え表_スマートムーブ!$C$16:$F$21,4,0))","v":"-"},"-",null,null,null,null,0,0,0,0,0,0,"*"]
[null,null,566,null,null,null,null,null,null,null,null,null,null,null,null,null,null,null,null,null,null,null,null,null,null,null,null,null,null,null,null,null,null,null,null,{"$f":"IF(H575=\"\",\"-\",VLOOKUP(T575,読み替え表_スマートムーブ!$C$4:$F$13,4,0))","v":"-"},{"$f":"IF(H575=\"\",\"-\",VLOOKUP(V575,読み替え表_スマートムーブ!$C$16:$F$21,4,0))","v":"-"},"-",null,null,null,null,0,0,0,0,0,0,"*"]
[null,null,567,null,null,null,null,null,null,null,null,null,null,null,null,null,null,null,null,null,null,null,null,null,null,null,null,null,null,null,null,null,null,null,null,{"$f":"IF(H576=\"\",\"-\",VLOOKUP(T576,読み替え表_スマートムーブ!$C$4:$F$13,4,0))","v":"-"},{"$f":"IF(H576=\"\",\"-\",VLOOKUP(V576,読み替え表_スマートムーブ!$C$16:$F$21,4,0))","v":"-"},"-",null,null,null,null,0,0,0,0,0,0,"*"]
[null,null,568,null,null,null,null,null,null,null,null,null,null,null,null,null,null,null,null,null,null,null,null,null,null,null,null,null,null,null,null,null,null,null,null,{"$f":"IF(H577=\"\",\"-\",VLOOKUP(T577,読み替え表_スマートムーブ!$C$4:$F$13,4,0))","v":"-"},{"$f":"IF(H577=\"\",\"-\",VLOOKUP(V577,読み替え表_スマートムーブ!$C$16:$F$21,4,0))","v":"-"},"-",null,null,null,null,0,0,0,0,0,0,"*"]
[null,null,569,null,null,null,null,null,null,null,null,null,null,null,null,null,null,null,null,null,null,null,null,null,null,null,null,null,null,null,null,null,null,null,null,{"$f":"IF(H578=\"\",\"-\",VLOOKUP(T578,読み替え表_スマートムーブ!$C$4:$F$13,4,0))","v":"-"},{"$f":"IF(H578=\"\",\"-\",VLOOKUP(V578,読み替え表_スマートムーブ!$C$16:$F$21,4,0))","v":"-"},"-",null,null,null,null,0,0,0,0,0,0,"*"]
[null,null,570,null,null,null,null,null,null,null,null,null,null,null,null,null,null,null,null,null,null,null,null,null,null,null,null,null,null,null,null,null,null,null,null,{"$f":"IF(H579=\"\",\"-\",VLOOKUP(T579,読み替え表_スマートムーブ!$C$4:$F$13,4,0))","v":"-"},{"$f":"IF(H579=\"\",\"-\",VLOOKUP(V579,読み替え表_スマートムーブ!$C$16:$F$21,4,0))","v":"-"},"-",null,null,null,null,0,0,0,0,0,0,"*"]
[null,null,571,null,null,null,null,null,null,null,null,null,null,null,null,null,null,null,null,null,null,null,null,null,null,null,null,null,null,null,null,null,null,null,null,{"$f":"IF(H580=\"\",\"-\",VLOOKUP(T580,読み替え表_スマートムーブ!$C$4:$F$13,4,0))","v":"-"},{"$f":"IF(H580=\"\",\"-\",VLOOKUP(V580,読み替え表_スマートムーブ!$C$16:$F$21,4,0))","v":"-"},"-",null,null,null,null,0,0,0,0,0,0,"*"]
[null,null,572,null,null,null,null,null,null,null,null,null,null,null,null,null,null,null,null,null,null,null,null,null,null,null,null,null,null,null,null,null,null,null,null,{"$f":"IF(H581=\"\",\"-\",VLOOKUP(T581,読み替え表_スマートムーブ!$C$4:$F$13,4,0))","v":"-"},{"$f":"IF(H581=\"\",\"-\",VLOOKUP(V581,読み替え表_スマートムーブ!$C$16:$F$21,4,0))","v":"-"},"-",null,null,null,null,0,0,0,0,0,0,"*"]
[null,null,573,null,null,null,null,null,null,null,null,null,null,null,null,null,null,null,null,null,null,null,null,null,null,null,null,null,null,null,null,null,null,null,null,{"$f":"IF(H582=\"\",\"-\",VLOOKUP(T582,読み替え表_スマートムーブ!$C$4:$F$13,4,0))","v":"-"},{"$f":"IF(H582=\"\",\"-\",VLOOKUP(V582,読み替え表_スマートムーブ!$C$16:$F$21,4,0))","v":"-"},"-",null,null,null,null,0,0,0,0,0,0,"*"]
[null,null,574,null,null,null,null,null,null,null,null,null,null,null,null,null,null,null,null,null,null,null,null,null,null,null,null,null,null,null,null,null,null,null,null,{"$f":"IF(H583=\"\",\"-\",VLOOKUP(T583,読み替え表_スマートムーブ!$C$4:$F$13,4,0))","v":"-"},{"$f":"IF(H583=\"\",\"-\",VLOOKUP(V583,読み替え表_スマートムーブ!$C$16:$F$21,4,0))","v":"-"},"-",null,null,null,null,0,0,0,0,0,0,"*"]
[null,null,575,null,null,null,null,null,null,null,null,null,null,null,null,null,null,null,null,null,null,null,null,null,null,null,null,null,null,null,null,null,null,null,null,{"$f":"IF(H584=\"\",\"-\",VLOOKUP(T584,読み替え表_スマートムーブ!$C$4:$F$13,4,0))","v":"-"},{"$f":"IF(H584=\"\",\"-\",VLOOKUP(V584,読み替え表_スマートムーブ!$C$16:$F$21,4,0))","v":"-"},"-",null,null,null,null,0,0,0,0,0,0,"*"]
[null,null,576,null,null,null,null,null,null,null,null,null,null,null,null,null,null,null,null,null,null,null,null,null,null,null,null,null,null,null,null,null,null,null,null,{"$f":"IF(H585=\"\",\"-\",VLOOKUP(T585,読み替え表_スマートムーブ!$C$4:$F$13,4,0))","v":"-"},{"$f":"IF(H585=\"\",\"-\",VLOOKUP(V585,読み替え表_スマートムーブ!$C$16:$F$21,4,0))","v":"-"},"-",null,null,null,null,0,0,0,0,0,0,"*"]
[null,null,577,null,null,null,null,null,null,null,null,null,null,null,null,null,null,null,null,null,null,null,null,null,null,null,null,null,null,null,null,null,null,null,null,{"$f":"IF(H586=\"\",\"-\",VLOOKUP(T586,読み替え表_スマートムーブ!$C$4:$F$13,4,0))","v":"-"},{"$f":"IF(H586=\"\",\"-\",VLOOKUP(V586,読み替え表_スマートムーブ!$C$16:$F$21,4,0))","v":"-"},"-",null,null,null,null,0,0,0,0,0,{"$f":"AQ586","v":0},"*"]
[null,null,{"$f":"ROW()-9","v":578},null,null,null,null,null,null,null,null,null,null,null,null,null,null,null,null,null,null,null,null,null,null,null,null,null,null,null,null,null,null,null,null,{"$f":"IF(H587=\"\",\"-\",VLOOKUP(T587,読み替え表_スマートムーブ!$C$4:$F$13,4,0))","v":"-"},{"$f":"IF(H587=\"\",\"-\",VLOOKUP(V587,読み替え表_スマートムーブ!$C$16:$F$21,4,0))","v":"-"},{"$f":"IF(H587=\"\",\"-\",AJ587*AK587)","v":"-"},null,null,null,null,{"$f":"IF(SUM($AR587:$AT587)>=1,1,0)","v":0},{"$f":"IF(R587=1,1,0)","v":0},{"$f":"IF(T587=9,1,0)","v":0},{"$f":"IF(V587=5,1,0)","v":0},{"$f":"IF(OR($X587=1,$X587=2,$X587=3),1,0)","v":0},0,"*"]
[null,null,579,null,null,null,null,null,null,null,null,null,null,null,null,null,null,null,null,null,null,null,null,null,null,null,null,null,null,null,null,null,null,null,null,{"$f":"IF(H588=\"\",\"-\",VLOOKUP(T588,読み替え表_スマートムーブ!$C$4:$F$13,4,0))","v":"-"},{"$f":"IF(H588=\"\",\"-\",VLOOKUP(V588,読み替え表_スマートムーブ!$C$16:$F$21,4,0))","v":"-"},"-",null,null,null,null,0,0,0,0,0,0,"*"]
[null,null,580,null,null,null,null,null,null,null,null,null,null,null,null,null,null,null,null,null,null,null,null,null,null,null,null,null,null,null,null,null,null,null,null,{"$f":"IF(H589=\"\",\"-\",VLOOKUP(T589,読み替え表_スマートムーブ!$C$4:$F$13,4,0))","v":"-"},{"$f":"IF(H589=\"\",\"-\",VLOOKUP(V589,読み替え表_スマートムーブ!$C$16:$F$21,4,0))","v":"-"},"-",null,null,null,null,0,0,0,0,0,0,"*"]
[null,null,581,null,null,null,null,null,null,null,null,null,null,null,null,null,null,null,null,null,null,null,null,null,null,null,null,null,null,null,null,null,null,null,null,{"$f":"IF(H590=\"\",\"-\",VLOOKUP(T590,読み替え表_スマートムーブ!$C$4:$F$13,4,0))","v":"-"},{"$f":"IF(H590=\"\",\"-\",VLOOKUP(V590,読み替え表_スマートムーブ!$C$16:$F$21,4,0))","v":"-"},"-",null,null,null,null,0,0,0,0,0,0,"*"]
[null,null,582,null,null,null,null,null,null,null,null,null,null,null,null,null,null,null,null,null,null,null,null,null,null,null,null,null,null,null,null,null,null,null,null,{"$f":"IF(H591=\"\",\"-\",VLOOKUP(T591,読み替え表_スマートムーブ!$C$4:$F$13,4,0))","v":"-"},{"$f":"IF(H591=\"\",\"-\",VLOOKUP(V591,読み替え表_スマートムーブ!$C$16:$F$21,4,0))","v":"-"},"-",null,null,null,null,0,0,0,0,0,0,"*"]
[null,null,583,null,null,null,null,null,null,null,null,null,null,null,null,null,null,null,null,null,null,null,null,null,null,null,null,null,null,null,null,null,null,null,null,{"$f":"IF(H592=\"\",\"-\",VLOOKUP(T592,読み替え表_スマートムーブ!$C$4:$F$13,4,0))","v":"-"},{"$f":"IF(H592=\"\",\"-\",VLOOKUP(V592,読み替え表_スマートムーブ!$C$16:$F$21,4,0))","v":"-"},"-",null,null,null,null,0,0,0,0,0,0,"*"]
[null,null,584,null,null,null,null,null,null,null,null,null,null,null,null,null,null,null,null,null,null,null,null,null,null,null,null,null,null,null,null,null,null,null,null,{"$f":"IF(H593=\"\",\"-\",VLOOKUP(T593,読み替え表_スマートムーブ!$C$4:$F$13,4,0))","v":"-"},{"$f":"IF(H593=\"\",\"-\",VLOOKUP(V593,読み替え表_スマートムーブ!$C$16:$F$21,4,0))","v":"-"},"-",null,null,null,null,0,0,0,0,0,0,"*"]
[null,null,585,null,null,null,null,null,null,null,null,null,null,null,null,null,null,null,null,null,null,null,null,null,null,null,null,null,null,null,null,null,null,null,null,{"$f":"IF(H594=\"\",\"-\",VLOOKUP(T594,読み替え表_スマートムーブ!$C$4:$F$13,4,0))","v":"-"},{"$f":"IF(H594=\"\",\"-\",VLOOKUP(V594,読み替え表_スマートムーブ!$C$16:$F$21,4,0))","v":"-"},"-",null,null,null,null,0,0,0,0,0,0,"*"]
[null,null,586,null,null,null,null,null,null,null,null,null,null,null,null,null,null,null,null,null,null,null,null,null,null,null,null,null,null,null,null,null,null,null,null,{"$f":"IF(H595=\"\",\"-\",VLOOKUP(T595,読み替え表_スマートムーブ!$C$4:$F$13,4,0))","v":"-"},{"$f":"IF(H595=\"\",\"-\",VLOOKUP(V595,読み替え表_スマートムーブ!$C$16:$F$21,4,0))","v":"-"},"-",null,null,null,null,0,0,0,0,0,0,"*"]
[null,null,587,null,null,null,null,null,null,null,null,null,null,null,null,null,null,null,null,null,null,null,null,null,null,null,null,null,null,null,null,null,null,null,null,{"$f":"IF(H596=\"\",\"-\",VLOOKUP(T596,読み替え表_スマートムーブ!$C$4:$F$13,4,0))","v":"-"},{"$f":"IF(H596=\"\",\"-\",VLOOKUP(V596,読み替え表_スマートムーブ!$C$16:$F$21,4,0))","v":"-"},"-",null,null,null,null,0,0,0,0,0,0,"*"]
[null,null,588,null,null,null,null,null,null,null,null,null,null,null,null,null,null,null,null,null,null,null,null,null,null,null,null,null,null,null,null,null,null,null,null,{"$f":"IF(H597=\"\",\"-\",VLOOKUP(T597,読み替え表_スマートムーブ!$C$4:$F$13,4,0))","v":"-"},{"$f":"IF(H597=\"\",\"-\",VLOOKUP(V597,読み替え表_スマートムーブ!$C$16:$F$21,4,0))","v":"-"},"-",null,null,null,null,0,0,0,0,0,0,"*"]
[null,null,589,null,null,null,null,null,null,null,null,null,null,null,null,null,null,null,null,null,null,null,null,null,null,null,null,null,null,null,null,null,null,null,null,{"$f":"IF(H598=\"\",\"-\",VLOOKUP(T598,読み替え表_スマートムーブ!$C$4:$F$13,4,0))","v":"-"},{"$f":"IF(H598=\"\",\"-\",VLOOKUP(V598,読み替え表_スマートムーブ!$C$16:$F$21,4,0))","v":"-"},"-",null,null,null,null,0,0,0,0,0,0,"*"]
[null,null,590,null,null,null,null,null,null,null,null,null,null,null,null,null,null,null,null,null,null,null,null,null,null,null,null,null,null,null,null,null,null,null,null,{"$f":"IF(H599=\"\",\"-\",VLOOKUP(T599,読み替え表_スマートムーブ!$C$4:$F$13,4,0))","v":"-"},{"$f":"IF(H599=\"\",\"-\",VLOOKUP(V599,読み替え表_スマートムーブ!$C$16:$F$21,4,0))","v":"-"},"-",null,null,null,null,0,0,0,0,0,0,"*"]
[null,null,591,null,null,null,null,null,null,null,null,null,null,null,null,null,null,null,null,null,null,null,null,null,null,null,null,null,null,null,null,null,null,null,null,{"$f":"IF(H600=\"\",\"-\",VLOOKUP(T600,読み替え表_スマートムーブ!$C$4:$F$13,4,0))","v":"-"},{"$f":"IF(H600=\"\",\"-\",VLOOKUP(V600,読み替え表_スマートムーブ!$C$16:$F$21,4,0))","v":"-"},"-",null,null,null,null,0,0,0,0,0,0,"*"]
[null,null,592,null,null,null,null,null,null,null,null,null,null,null,null,null,null,null,null,null,null,null,null,null,null,null,null,null,null,null,null,null,null,null,null,{"$f":"IF(H601=\"\",\"-\",VLOOKUP(T601,読み替え表_スマートムーブ!$C$4:$F$13,4,0))","v":"-"},{"$f":"IF(H601=\"\",\"-\",VLOOKUP(V601,読み替え表_スマートムーブ!$C$16:$F$21,4,0))","v":"-"},"-",null,null,null,null,0,0,0,0,0,0,"*"]
[null,null,593,null,null,null,null,null,null,null,null,null,null,null,null,null,null,null,null,null,null,null,null,null,null,null,null,null,null,null,null,null,null,null,null,{"$f":"IF(H602=\"\",\"-\",VLOOKUP(T602,読み替え表_スマートムーブ!$C$4:$F$13,4,0))","v":"-"},{"$f":"IF(H602=\"\",\"-\",VLOOKUP(V602,読み替え表_スマートムーブ!$C$16:$F$21,4,0))","v":"-"},"-",null,null,null,null,0,0,0,0,0,0,"*"]
[null,null,594,null,null,null,null,null,null,null,null,null,null,null,null,null,null,null,null,null,null,null,null,null,null,null,null,null,null,null,null,null,null,null,null,{"$f":"IF(H603=\"\",\"-\",VLOOKUP(T603,読み替え表_スマートムーブ!$C$4:$F$13,4,0))","v":"-"},{"$f":"IF(H603=\"\",\"-\",VLOOKUP(V603,読み替え表_スマートムーブ!$C$16:$F$21,4,0))","v":"-"},"-",null,null,null,null,0,0,0,0,0,0,"*"]
[null,null,595,null,null,null,null,null,null,null,null,null,null,null,null,null,null,null,null,null,null,null,null,null,null,null,null,null,null,null,null,null,null,null,null,{"$f":"IF(H604=\"\",\"-\",VLOOKUP(T604,読み替え表_スマートムーブ!$C$4:$F$13,4,0))","v":"-"},{"$f":"IF(H604=\"\",\"-\",VLOOKUP(V604,読み替え表_スマートムーブ!$C$16:$F$21,4,0))","v":"-"},"-",null,null,null,null,0,0,0,0,0,0,"*"]
[null,null,596,null,null,null,null,null,null,null,null,null,null,null,null,null,null,null,null,null,null,null,null,null,null,null,null,null,null,null,null,null,null,null,null,{"$f":"IF(H605=\"\",\"-\",VLOOKUP(T605,読み替え表_スマートムーブ!$C$4:$F$13,4,0))","v":"-"},{"$f":"IF(H605=\"\",\"-\",VLOOKUP(V605,読み替え表_スマートムーブ!$C$16:$F$21,4,0))","v":"-"},"-",null,null,null,null,0,0,0,0,0,0,"*"]
[null,null,597,null,null,null,null,null,null,null,null,null,null,null,null,null,null,null,null,null,null,null,null,null,null,null,null,null,null,null,null,null,null,null,null,{"$f":"IF(H606=\"\",\"-\",VLOOKUP(T606,読み替え表_スマートムーブ!$C$4:$F$13,4,0))","v":"-"},{"$f":"IF(H606=\"\",\"-\",VLOOKUP(V606,読み替え表_スマートムーブ!$C$16:$F$21,4,0))","v":"-"},"-",null,null,null,null,0,0,0,0,0,0,"*"]
[null,null,598,null,null,null,null,null,null,null,null,null,null,null,null,null,null,null,null,null,null,null,null,null,null,null,null,null,null,null,null,null,null,null,null,{"$f":"IF(H607=\"\",\"-\",VLOOKUP(T607,読み替え表_スマートムーブ!$C$4:$F$13,4,0))","v":"-"},{"$f":"IF(H607=\"\",\"-\",VLOOKUP(V607,読み替え表_スマートムーブ!$C$16:$F$21,4,0))","v":"-"},"-",null,null,null,null,0,0,0,0,0,0,"*"]
[null,null,599,null,null,null,null,null,null,null,null,null,null,null,null,null,null,null,null,null,null,null,null,null,null,null,null,null,null,null,null,null,null,null,null,{"$f":"IF(H608=\"\",\"-\",VLOOKUP(T608,読み替え表_スマートムーブ!$C$4:$F$13,4,0))","v":"-"},{"$f":"IF(H608=\"\",\"-\",VLOOKUP(V608,読み替え表_スマートムーブ!$C$16:$F$21,4,0))","v":"-"},"-",null,null,null,null,0,0,0,0,0,0,"*"]
[null,null,600,null,null,null,null,null,null,null,null,null,null,null,null,null,null,null,null,null,null,null,null,null,null,null,null,null,null,null,null,null,null,null,null,{"$f":"IF(H609=\"\",\"-\",VLOOKUP(T609,読み替え表_スマートムーブ!$C$4:$F$13,4,0))","v":"-"},{"$f":"IF(H609=\"\",\"-\",VLOOKUP(V609,読み替え表_スマートムーブ!$C$16:$F$21,4,0))","v":"-"},"-",null,null,null,null,0,0,0,0,0,0,"*"]
[null,null,601,null,null,null,null,null,null,null,null,null,null,null,null,null,null,null,null,null,null,null,null,null,null,null,null,null,null,null,null,null,null,null,null,{"$f":"IF(H610=\"\",\"-\",VLOOKUP(T610,読み替え表_スマートムーブ!$C$4:$F$13,4,0))","v":"-"},{"$f":"IF(H610=\"\",\"-\",VLOOKUP(V610,読み替え表_スマートムーブ!$C$16:$F$21,4,0))","v":"-"},"-",null,null,null,null,0,0,0,0,0,0,"*"]
[null,null,602,null,null,null,null,null,null,null,null,null,null,null,null,null,null,null,null,null,null,null,null,null,null,null,null,null,null,null,null,null,null,null,null,{"$f":"IF(H611=\"\",\"-\",VLOOKUP(T611,読み替え表_スマートムーブ!$C$4:$F$13,4,0))","v":"-"},{"$f":"IF(H611=\"\",\"-\",VLOOKUP(V611,読み替え表_スマートムーブ!$C$16:$F$21,4,0))","v":"-"},"-",null,null,null,null,0,0,0,0,0,0,"*"]
[null,null,603,null,null,null,null,null,null,null,null,null,null,null,null,null,null,null,null,null,null,null,null,null,null,null,null,null,null,null,null,null,null,null,null,{"$f":"IF(H612=\"\",\"-\",VLOOKUP(T612,読み替え表_スマートムーブ!$C$4:$F$13,4,0))","v":"-"},{"$f":"IF(H612=\"\",\"-\",VLOOKUP(V612,読み替え表_スマートムーブ!$C$16:$F$21,4,0))","v":"-"},"-",null,null,null,null,0,0,0,0,0,0,"*"]
[null,null,604,null,null,null,null,null,null,null,null,null,null,null,null,null,null,null,null,null,null,null,null,null,null,null,null,null,null,null,null,null,null,null,null,{"$f":"IF(H613=\"\",\"-\",VLOOKUP(T613,読み替え表_スマートムーブ!$C$4:$F$13,4,0))","v":"-"},{"$f":"IF(H613=\"\",\"-\",VLOOKUP(V613,読み替え表_スマートムーブ!$C$16:$F$21,4,0))","v":"-"},"-",null,null,null,null,0,0,0,0,0,0,"*"]
[null,null,605,null,null,null,null,null,null,null,null,null,null,null,null,null,null,null,null,null,null,null,null,null,null,null,null,null,null,null,null,null,null,null,null,{"$f":"IF(H614=\"\",\"-\",VLOOKUP(T614,読み替え表_スマートムーブ!$C$4:$F$13,4,0))","v":"-"},{"$f":"IF(H614=\"\",\"-\",VLOOKUP(V614,読み替え表_スマートムーブ!$C$16:$F$21,4,0))","v":"-"},"-",null,null,null,null,0,0,0,0,0,0,"*"]
[null,null,606,null,null,null,null,null,null,null,null,null,null,null,null,null,null,null,null,null,null,null,null,null,null,null,null,null,null,null,null,null,null,null,null,{"$f":"IF(H615=\"\",\"-\",VLOOKUP(T615,読み替え表_スマートムーブ!$C$4:$F$13,4,0))","v":"-"},{"$f":"IF(H615=\"\",\"-\",VLOOKUP(V615,読み替え表_スマートムーブ!$C$16:$F$21,4,0))","v":"-"},"-",null,null,null,null,0,0,0,0,0,0,"*"]
[null,null,607,null,null,null,null,null,null,null,null,null,null,null,null,null,null,null,null,null,null,null,null,null,null,null,null,null,null,null,null,null,null,null,null,{"$f":"IF(H616=\"\",\"-\",VLOOKUP(T616,読み替え表_スマートムーブ!$C$4:$F$13,4,0))","v":"-"},{"$f":"IF(H616=\"\",\"-\",VLOOKUP(V616,読み替え表_スマートムーブ!$C$16:$F$21,4,0))","v":"-"},"-",null,null,null,null,0,0,0,0,0,0,"*"]
[null,null,608,null,null,null,null,null,null,null,null,null,null,null,null,null,null,null,null,null,null,null,null,null,null,null,null,null,null,null,null,null,null,null,null,{"$f":"IF(H617=\"\",\"-\",VLOOKUP(T617,読み替え表_スマートムーブ!$C$4:$F$13,4,0))","v":"-"},{"$f":"IF(H617=\"\",\"-\",VLOOKUP(V617,読み替え表_スマートムーブ!$C$16:$F$21,4,0))","v":"-"},"-",null,null,null,null,0,0,0,0,0,0,"*"]
[null,null,609,null,null,null,null,null,null,null,null,null,null,null,null,null,null,null,null,null,null,null,null,null,null,null,null,null,null,null,null,null,null,null,null,{"$f":"IF(H618=\"\",\"-\",VLOOKUP(T618,読み替え表_スマートムーブ!$C$4:$F$13,4,0))","v":"-"},{"$f":"IF(H618=\"\",\"-\",VLOOKUP(V618,読み替え表_スマートムーブ!$C$16:$F$21,4,0))","v":"-"},"-",null,null,null,null,0,0,0,0,0,0,"*"]
[null,null,610,null,null,null,null,null,null,null,null,null,null,null,null,null,null,null,null,null,null,null,null,null,null,null,null,null,null,null,null,null,null,null,null,{"$f":"IF(H619=\"\",\"-\",VLOOKUP(T619,読み替え表_スマートムーブ!$C$4:$F$13,4,0))","v":"-"},{"$f":"IF(H619=\"\",\"-\",VLOOKUP(V619,読み替え表_スマートムーブ!$C$16:$F$21,4,0))","v":"-"},"-",null,null,null,null,0,0,0,0,0,0,"*"]
[null,null,611,null,null,null,null,null,null,null,null,null,null,null,null,null,null,null,null,null,null,null,null,null,null,null,null,null,null,null,null,null,null,null,null,{"$f":"IF(H620=\"\",\"-\",VLOOKUP(T620,読み替え表_スマートムーブ!$C$4:$F$13,4,0))","v":"-"},{"$f":"IF(H620=\"\",\"-\",VLOOKUP(V620,読み替え表_スマートムーブ!$C$16:$F$21,4,0))","v":"-"},"-",null,null,null,null,0,0,0,0,0,0,"*"]
[null,null,612,null,null,null,null,null,null,null,null,null,null,null,null,null,null,null,null,null,null,null,null,null,null,null,null,null,null,null,null,null,null,null,null,{"$f":"IF(H621=\"\",\"-\",VLOOKUP(T621,読み替え表_スマートムーブ!$C$4:$F$13,4,0))","v":"-"},{"$f":"IF(H621=\"\",\"-\",VLOOKUP(V621,読み替え表_スマートムーブ!$C$16:$F$21,4,0))","v":"-"},"-",null,null,null,null,0,0,0,0,0,0,"*"]
[null,null,613,null,null,null,null,null,null,null,null,null,null,null,null,null,null,null,null,null,null,null,null,null,null,null,null,null,null,null,null,null,null,null,null,{"$f":"IF(H622=\"\",\"-\",VLOOKUP(T622,読み替え表_スマートムーブ!$C$4:$F$13,4,0))","v":"-"},{"$f":"IF(H622=\"\",\"-\",VLOOKUP(V622,読み替え表_スマートムーブ!$C$16:$F$21,4,0))","v":"-"},"-",null,null,null,null,0,0,0,0,0,0,"*"]
[null,null,614,null,null,null,null,null,null,null,null,null,null,null,null,null,null,null,null,null,null,null,null,null,null,null,null,null,null,null,null,null,null,null,null,{"$f":"IF(H623=\"\",\"-\",VLOOKUP(T623,読み替え表_スマートムーブ!$C$4:$F$13,4,0))","v":"-"},{"$f":"IF(H623=\"\",\"-\",VLOOKUP(V623,読み替え表_スマートムーブ!$C$16:$F$21,4,0))","v":"-"},"-",null,null,null,null,0,0,0,0,0,0,"*"]
[null,null,615,null,null,null,null,null,null,null,null,null,null,null,null,null,null,null,null,null,null,null,null,null,null,null,null,null,null,null,null,null,null,null,null,{"$f":"IF(H624=\"\",\"-\",VLOOKUP(T624,読み替え表_スマートムーブ!$C$4:$F$13,4,0))","v":"-"},{"$f":"IF(H624=\"\",\"-\",VLOOKUP(V624,読み替え表_スマートムーブ!$C$16:$F$21,4,0))","v":"-"},"-",null,null,null,null,0,0,0,0,0,0,"*"]
[null,null,616,null,null,null,null,null,null,null,null,null,null,null,null,null,null,null,null,null,null,null,null,null,null,null,null,null,null,null,null,null,null,null,null,{"$f":"IF(H625=\"\",\"-\",VLOOKUP(T625,読み替え表_スマートムーブ!$C$4:$F$13,4,0))","v":"-"},{"$f":"IF(H625=\"\",\"-\",VLOOKUP(V625,読み替え表_スマートムーブ!$C$16:$F$21,4,0))","v":"-"},"-",null,null,null,null,0,0,0,0,0,0,"*"]
[null,null,617,null,null,null,null,null,null,null,null,null,null,null,null,null,null,null,null,null,null,null,null,null,null,null,null,null,null,null,null,null,null,null,null,{"$f":"IF(H626=\"\",\"-\",VLOOKUP(T626,読み替え表_スマートムーブ!$C$4:$F$13,4,0))","v":"-"},{"$f":"IF(H626=\"\",\"-\",VLOOKUP(V626,読み替え表_スマートムーブ!$C$16:$F$21,4,0))","v":"-"},"-",null,null,null,null,0,0,0,0,0,0,"*"]
[null,null,618,null,null,null,null,null,null,null,null,null,null,null,null,null,null,null,null,null,null,null,null,null,null,null,null,null,null,null,null,null,null,null,null,{"$f":"IF(H627=\"\",\"-\",VLOOKUP(T627,読み替え表_スマートムーブ!$C$4:$F$13,4,0))","v":"-"},{"$f":"IF(H627=\"\",\"-\",VLOOKUP(V627,読み替え表_スマートムーブ!$C$16:$F$21,4,0))","v":"-"},"-",null,null,null,null,0,0,0,0,0,0,"*"]
[null,null,619,null,null,null,null,null,null,null,null,null,null,null,null,null,null,null,null,null,null,null,null,null,null,null,null,null,null,null,null,null,null,null,null,{"$f":"IF(H628=\"\",\"-\",VLOOKUP(T628,読み替え表_スマートムーブ!$C$4:$F$13,4,0))","v":"-"},{"$f":"IF(H628=\"\",\"-\",VLOOKUP(V628,読み替え表_スマートムーブ!$C$16:$F$21,4,0))","v":"-"},"-",null,null,null,null,0,0,0,0,0,0,"*"]
[null,null,620,null,null,null,null,null,null,null,null,null,null,null,null,null,null,null,null,null,null,null,null,null,null,null,null,null,null,null,null,null,null,null,null,{"$f":"IF(H629=\"\",\"-\",VLOOKUP(T629,読み替え表_スマートムーブ!$C$4:$F$13,4,0))","v":"-"},{"$f":"IF(H629=\"\",\"-\",VLOOKUP(V629,読み替え表_スマートムーブ!$C$16:$F$21,4,0))","v":"-"},"-",null,null,null,null,0,0,0,0,0,0,"*"]
[null,null,621,null,null,null,null,null,null,null,null,null,null,null,null,null,null,null,null,null,null,null,null,null,null,null,null,null,null,null,null,null,null,null,null,{"$f":"IF(H630=\"\",\"-\",VLOOKUP(T630,読み替え表_スマートムーブ!$C$4:$F$13,4,0))","v":"-"},{"$f":"IF(H630=\"\",\"-\",VLOOKUP(V630,読み替え表_スマートムーブ!$C$16:$F$21,4,0))","v":"-"},"-",null,null,null,null,0,0,0,0,0,0,"*"]
[null,null,622,null,null,null,null,null,null,null,null,null,null,null,null,null,null,null,null,null,null,null,null,null,null,null,null,null,null,null,null,null,null,null,null,{"$f":"IF(H631=\"\",\"-\",VLOOKUP(T631,読み替え表_スマートムーブ!$C$4:$F$13,4,0))","v":"-"},{"$f":"IF(H631=\"\",\"-\",VLOOKUP(V631,読み替え表_スマートムーブ!$C$16:$F$21,4,0))","v":"-"},"-",null,null,null,null,0,0,0,0,0,0,"*"]
[null,null,623,null,null,null,null,null,null,null,null,null,null,null,null,null,null,null,null,null,null,null,null,null,null,null,null,null,null,null,null,null,null,null,null,{"$f":"IF(H632=\"\",\"-\",VLOOKUP(T632,読み替え表_スマートムーブ!$C$4:$F$13,4,0))","v":"-"},{"$f":"IF(H632=\"\",\"-\",VLOOKUP(V632,読み替え表_スマートムーブ!$C$16:$F$21,4,0))","v":"-"},"-",null,null,null,null,0,0,0,0,0,0,"*"]
[null,null,624,null,null,null,null,null,null,null,null,null,null,null,null,null,null,null,null,null,null,null,null,null,null,null,null,null,null,null,null,null,null,null,null,{"$f":"IF(H633=\"\",\"-\",VLOOKUP(T633,読み替え表_スマートムーブ!$C$4:$F$13,4,0))","v":"-"},{"$f":"IF(H633=\"\",\"-\",VLOOKUP(V633,読み替え表_スマートムーブ!$C$16:$F$21,4,0))","v":"-"},"-",null,null,null,null,0,0,0,0,0,0,"*"]
[null,null,625,null,null,null,null,null,null,null,null,null,null,null,null,null,null,null,null,null,null,null,null,null,null,null,null,null,null,null,null,null,null,null,null,{"$f":"IF(H634=\"\",\"-\",VLOOKUP(T634,読み替え表_スマートムーブ!$C$4:$F$13,4,0))","v":"-"},{"$f":"IF(H634=\"\",\"-\",VLOOKUP(V634,読み替え表_スマートムーブ!$C$16:$F$21,4,0))","v":"-"},"-",null,null,null,null,0,0,0,0,0,0,"*"]
[null,null,626,null,null,null,null,null,null,null,null,null,null,null,null,null,null,null,null,null,null,null,null,null,null,null,null,null,null,null,null,null,null,null,null,{"$f":"IF(H635=\"\",\"-\",VLOOKUP(T635,読み替え表_スマートムーブ!$C$4:$F$13,4,0))","v":"-"},{"$f":"IF(H635=\"\",\"-\",VLOOKUP(V635,読み替え表_スマートムーブ!$C$16:$F$21,4,0))","v":"-"},"-",null,null,null,null,0,0,0,0,0,0,"*"]
[null,null,627,null,null,null,null,null,null,null,null,null,null,null,null,null,null,null,null,null,null,null,null,null,null,null,null,null,null,null,null,null,null,null,null,{"$f":"IF(H636=\"\",\"-\",VLOOKUP(T636,読み替え表_スマートムーブ!$C$4:$F$13,4,0))","v":"-"},{"$f":"IF(H636=\"\",\"-\",VLOOKUP(V636,読み替え表_スマートムーブ!$C$16:$F$21,4,0))","v":"-"},"-",null,null,null,null,0,0,0,0,0,0,"*"]
[null,null,628,null,null,null,null,null,null,null,null,null,null,null,null,null,null,null,null,null,null,null,null,null,null,null,null,null,null,null,null,null,null,null,null,{"$f":"IF(H637=\"\",\"-\",VLOOKUP(T637,読み替え表_スマートムーブ!$C$4:$F$13,4,0))","v":"-"},{"$f":"IF(H637=\"\",\"-\",VLOOKUP(V637,読み替え表_スマートムーブ!$C$16:$F$21,4,0))","v":"-"},"-",null,null,null,null,0,0,0,0,0,0,"*"]
[null,null,629,null,null,null,null,null,null,null,null,null,null,null,null,null,null,null,null,null,null,null,null,null,null,null,null,null,null,null,null,null,null,null,null,{"$f":"IF(H638=\"\",\"-\",VLOOKUP(T638,読み替え表_スマートムーブ!$C$4:$F$13,4,0))","v":"-"},{"$f":"IF(H638=\"\",\"-\",VLOOKUP(V638,読み替え表_スマートムーブ!$C$16:$F$21,4,0))","v":"-"},"-",null,null,null,null,0,0,0,0,0,0,"*"]
[null,null,630,null,null,null,null,null,null,null,null,null,null,null,null,null,null,null,null,null,null,null,null,null,null,null,null,null,null,null,null,null,null,null,null,{"$f":"IF(H639=\"\",\"-\",VLOOKUP(T639,読み替え表_スマートムーブ!$C$4:$F$13,4,0))","v":"-"},{"$f":"IF(H639=\"\",\"-\",VLOOKUP(V639,読み替え表_スマートムーブ!$C$16:$F$21,4,0))","v":"-"},"-",null,null,null,null,0,0,0,0,0,0,"*"]
[null,null,631,null,null,null,null,null,null,null,null,null,null,null,null,null,null,null,null,null,null,null,null,null,null,null,null,null,null,null,null,null,null,null,null,{"$f":"IF(H640=\"\",\"-\",VLOOKUP(T640,読み替え表_スマートムーブ!$C$4:$F$13,4,0))","v":"-"},{"$f":"IF(H640=\"\",\"-\",VLOOKUP(V640,読み替え表_スマートムーブ!$C$16:$F$21,4,0))","v":"-"},"-",null,null,null,null,0,0,0,0,0,0,"*"]
[null,null,632,null,null,null,null,null,null,null,null,null,null,null,null,null,null,null,null,null,null,null,null,null,null,null,null,null,null,null,null,null,null,null,null,{"$f":"IF(H641=\"\",\"-\",VLOOKUP(T641,読み替え表_スマートムーブ!$C$4:$F$13,4,0))","v":"-"},{"$f":"IF(H641=\"\",\"-\",VLOOKUP(V641,読み替え表_スマートムーブ!$C$16:$F$21,4,0))","v":"-"},"-",null,null,null,null,0,0,0,0,0,0,"*"]
[null,null,633,null,null,null,null,null,null,null,null,null,null,null,null,null,null,null,null,null,null,null,null,null,null,null,null,null,null,null,null,null,null,null,null,{"$f":"IF(H642=\"\",\"-\",VLOOKUP(T642,読み替え表_スマートムーブ!$C$4:$F$13,4,0))","v":"-"},{"$f":"IF(H642=\"\",\"-\",VLOOKUP(V642,読み替え表_スマートムーブ!$C$16:$F$21,4,0))","v":"-"},"-",null,null,null,null,0,0,0,0,0,0,"*"]
[null,null,634,null,null,null,null,null,null,null,null,null,null,null,null,null,null,null,null,null,null,null,null,null,null,null,null,null,null,null,null,null,null,null,null,{"$f":"IF(H643=\"\",\"-\",VLOOKUP(T643,読み替え表_スマートムーブ!$C$4:$F$13,4,0))","v":"-"},{"$f":"IF(H643=\"\",\"-\",VLOOKUP(V643,読み替え表_スマートムーブ!$C$16:$F$21,4,0))","v":"-"},"-",null,null,null,null,0,0,0,0,0,0,"*"]
[null,null,635,null,null,null,null,null,null,null,null,null,null,null,null,null,null,null,null,null,null,null,null,null,null,null,null,null,null,null,null,null,null,null,null,{"$f":"IF(H644=\"\",\"-\",VLOOKUP(T644,読み替え表_スマートムーブ!$C$4:$F$13,4,0))","v":"-"},{"$f":"IF(H644=\"\",\"-\",VLOOKUP(V644,読み替え表_スマートムーブ!$C$16:$F$21,4,0))","v":"-"},"-",null,null,null,null,0,0,0,0,0,0,"*"]
[null,null,636,null,null,null,null,null,null,null,null,null,null,null,null,null,null,null,null,null,null,null,null,null,null,null,null,null,null,null,null,null,null,null,null,{"$f":"IF(H645=\"\",\"-\",VLOOKUP(T645,読み替え表_スマートムーブ!$C$4:$F$13,4,0))","v":"-"},{"$f":"IF(H645=\"\",\"-\",VLOOKUP(V645,読み替え表_スマートムーブ!$C$16:$F$21,4,0))","v":"-"},"-",null,null,null,null,0,0,0,0,0,0,"*"]
[null,null,637,null,null,null,null,null,null,null,null,null,null,null,null,null,null,null,null,null,null,null,null,null,null,null,null,null,null,null,null,null,null,null,null,{"$f":"IF(H646=\"\",\"-\",VLOOKUP(T646,読み替え表_スマートムーブ!$C$4:$F$13,4,0))","v":"-"},{"$f":"IF(H646=\"\",\"-\",VLOOKUP(V646,読み替え表_スマートムーブ!$C$16:$F$21,4,0))","v":"-"},"-",null,null,null,null,0,0,0,0,0,0,"*"]
[null,null,638,null,null,null,null,null,null,null,null,null,null,null,null,null,null,null,null,null,null,null,null,null,null,null,null,null,null,null,null,null,null,null,null,{"$f":"IF(H647=\"\",\"-\",VLOOKUP(T647,読み替え表_スマートムーブ!$C$4:$F$13,4,0))","v":"-"},{"$f":"IF(H647=\"\",\"-\",VLOOKUP(V647,読み替え表_スマートムーブ!$C$16:$F$21,4,0))","v":"-"},"-",null,null,null,null,0,0,0,0,0,0,"*"]
[null,null,639,null,null,null,null,null,null,null,null,null,null,null,null,null,null,null,null,null,null,null,null,null,null,null,null,null,null,null,null,null,null,null,null,{"$f":"IF(H648=\"\",\"-\",VLOOKUP(T648,読み替え表_スマートムーブ!$C$4:$F$13,4,0))","v":"-"},{"$f":"IF(H648=\"\",\"-\",VLOOKUP(V648,読み替え表_スマートムーブ!$C$16:$F$21,4,0))","v":"-"},"-",null,null,null,null,0,0,0,0,0,0,"*"]
[null,null,640,null,null,null,null,null,null,null,null,null,null,null,null,null,null,null,null,null,null,null,null,null,null,null,null,null,null,null,null,null,null,null,null,{"$f":"IF(H649=\"\",\"-\",VLOOKUP(T649,読み替え表_スマートムーブ!$C$4:$F$13,4,0))","v":"-"},{"$f":"IF(H649=\"\",\"-\",VLOOKUP(V649,読み替え表_スマートムーブ!$C$16:$F$21,4,0))","v":"-"},"-",null,null,null,null,0,0,0,0,0,0,"*"]
[null,null,641,null,null,null,null,null,null,null,null,null,null,null,null,null,null,null,null,null,null,null,null,null,null,null,null,null,null,null,null,null,null,null,null,{"$f":"IF(H650=\"\",\"-\",VLOOKUP(T650,読み替え表_スマートムーブ!$C$4:$F$13,4,0))","v":"-"},{"$f":"IF(H650=\"\",\"-\",VLOOKUP(V650,読み替え表_スマートムーブ!$C$16:$F$21,4,0))","v":"-"},"-",null,null,null,null,0,0,0,0,0,{"$f":"AQ650","v":0},"*"]
[null,null,{"$f":"ROW()-9","v":642},null,null,null,null,null,null,null,null,null,null,null,null,null,null,null,null,null,null,null,null,null,null,null,null,null,null,null,null,null,null,null,null,{"$f":"IF(H651=\"\",\"-\",VLOOKUP(T651,読み替え表_スマートムーブ!$C$4:$F$13,4,0))","v":"-"},{"$f":"IF(H651=\"\",\"-\",VLOOKUP(V651,読み替え表_スマートムーブ!$C$16:$F$21,4,0))","v":"-"},{"$f":"IF(H651=\"\",\"-\",AJ651*AK651)","v":"-"},null,null,null,null,{"$f":"IF(SUM($AR651:$AT651)>=1,1,0)","v":0},{"$f":"IF(R651=1,1,0)","v":0},{"$f":"IF(T651=9,1,0)","v":0},{"$f":"IF(V651=5,1,0)","v":0},{"$f":"IF(OR($X651=1,$X651=2,$X651=3),1,0)","v":0},0,"*"]
[null,null,643,null,null,null,null,null,null,null,null,null,null,null,null,null,null,null,null,null,null,null,null,null,null,null,null,null,null,null,null,null,null,null,null,{"$f":"IF(H652=\"\",\"-\",VLOOKUP(T652,読み替え表_スマートムーブ!$C$4:$F$13,4,0))","v":"-"},{"$f":"IF(H652=\"\",\"-\",VLOOKUP(V652,読み替え表_スマートムーブ!$C$16:$F$21,4,0))","v":"-"},"-",null,null,null,null,0,0,0,0,0,0,"*"]
[null,null,644,null,null,null,null,null,null,null,null,null,null,null,null,null,null,null,null,null,null,null,null,null,null,null,null,null,null,null,null,null,null,null,null,{"$f":"IF(H653=\"\",\"-\",VLOOKUP(T653,読み替え表_スマートムーブ!$C$4:$F$13,4,0))","v":"-"},{"$f":"IF(H653=\"\",\"-\",VLOOKUP(V653,読み替え表_スマートムーブ!$C$16:$F$21,4,0))","v":"-"},"-",null,null,null,null,0,0,0,0,0,0,"*"]
[null,null,645,null,null,null,null,null,null,null,null,null,null,null,null,null,null,null,null,null,null,null,null,null,null,null,null,null,null,null,null,null,null,null,null,{"$f":"IF(H654=\"\",\"-\",VLOOKUP(T654,読み替え表_スマートムーブ!$C$4:$F$13,4,0))","v":"-"},{"$f":"IF(H654=\"\",\"-\",VLOOKUP(V654,読み替え表_スマートムーブ!$C$16:$F$21,4,0))","v":"-"},"-",null,null,null,null,0,0,0,0,0,0,"*"]
[null,null,646,null,null,null,null,null,null,null,null,null,null,null,null,null,null,null,null,null,null,null,null,null,null,null,null,null,null,null,null,null,null,null,null,{"$f":"IF(H655=\"\",\"-\",VLOOKUP(T655,読み替え表_スマートムーブ!$C$4:$F$13,4,0))","v":"-"},{"$f":"IF(H655=\"\",\"-\",VLOOKUP(V655,読み替え表_スマートムーブ!$C$16:$F$21,4,0))","v":"-"},"-",null,null,null,null,0,0,0,0,0,0,"*"]
[null,null,647,null,null,null,null,null,null,null,null,null,null,null,null,null,null,null,null,null,null,null,null,null,null,null,null,null,null,null,null,null,null,null,null,{"$f":"IF(H656=\"\",\"-\",VLOOKUP(T656,読み替え表_スマートムーブ!$C$4:$F$13,4,0))","v":"-"},{"$f":"IF(H656=\"\",\"-\",VLOOKUP(V656,読み替え表_スマートムーブ!$C$16:$F$21,4,0))","v":"-"},"-",null,null,null,null,0,0,0,0,0,0,"*"]
[null,null,648,null,null,null,null,null,null,null,null,null,null,null,null,null,null,null,null,null,null,null,null,null,null,null,null,null,null,null,null,null,null,null,null,{"$f":"IF(H657=\"\",\"-\",VLOOKUP(T657,読み替え表_スマートムーブ!$C$4:$F$13,4,0))","v":"-"},{"$f":"IF(H657=\"\",\"-\",VLOOKUP(V657,読み替え表_スマートムーブ!$C$16:$F$21,4,0))","v":"-"},"-",null,null,null,null,0,0,0,0,0,0,"*"]
[null,null,649,null,null,null,null,null,null,null,null,null,null,null,null,null,null,null,null,null,null,null,null,null,null,null,null,null,null,null,null,null,null,null,null,{"$f":"IF(H658=\"\",\"-\",VLOOKUP(T658,読み替え表_スマートムーブ!$C$4:$F$13,4,0))","v":"-"},{"$f":"IF(H658=\"\",\"-\",VLOOKUP(V658,読み替え表_スマートムーブ!$C$16:$F$21,4,0))","v":"-"},"-",null,null,null,null,0,0,0,0,0,0,"*"]
[null,null,650,null,null,null,null,null,null,null,null,null,null,null,null,null,null,null,null,null,null,null,null,null,null,null,null,null,null,null,null,null,null,null,null,{"$f":"IF(H659=\"\",\"-\",VLOOKUP(T659,読み替え表_スマートムーブ!$C$4:$F$13,4,0))","v":"-"},{"$f":"IF(H659=\"\",\"-\",VLOOKUP(V659,読み替え表_スマートムーブ!$C$16:$F$21,4,0))","v":"-"},"-",null,null,null,null,0,0,0,0,0,0,"*"]
[null,null,651,null,null,null,null,null,null,null,null,null,null,null,null,null,null,null,null,null,null,null,null,null,null,null,null,null,null,null,null,null,null,null,null,{"$f":"IF(H660=\"\",\"-\",VLOOKUP(T660,読み替え表_スマートムーブ!$C$4:$F$13,4,0))","v":"-"},{"$f":"IF(H660=\"\",\"-\",VLOOKUP(V660,読み替え表_スマートムーブ!$C$16:$F$21,4,0))","v":"-"},"-",null,null,null,null,0,0,0,0,0,0,"*"]
[null,null,652,null,null,null,null,null,null,null,null,null,null,null,null,null,null,null,null,null,null,null,null,null,null,null,null,null,null,null,null,null,null,null,null,{"$f":"IF(H661=\"\",\"-\",VLOOKUP(T661,読み替え表_スマートムーブ!$C$4:$F$13,4,0))","v":"-"},{"$f":"IF(H661=\"\",\"-\",VLOOKUP(V661,読み替え表_スマートムーブ!$C$16:$F$21,4,0))","v":"-"},"-",null,null,null,null,0,0,0,0,0,0,"*"]
[null,null,653,null,null,null,null,null,null,null,null,null,null,null,null,null,null,null,null,null,null,null,null,null,null,null,null,null,null,null,null,null,null,null,null,{"$f":"IF(H662=\"\",\"-\",VLOOKUP(T662,読み替え表_スマートムーブ!$C$4:$F$13,4,0))","v":"-"},{"$f":"IF(H662=\"\",\"-\",VLOOKUP(V662,読み替え表_スマートムーブ!$C$16:$F$21,4,0))","v":"-"},"-",null,null,null,null,0,0,0,0,0,0,"*"]
[null,null,654,null,null,null,null,null,null,null,null,null,null,null,null,null,null,null,null,null,null,null,null,null,null,null,null,null,null,null,null,null,null,null,null,{"$f":"IF(H663=\"\",\"-\",VLOOKUP(T663,読み替え表_スマートムーブ!$C$4:$F$13,4,0))","v":"-"},{"$f":"IF(H663=\"\",\"-\",VLOOKUP(V663,読み替え表_スマートムーブ!$C$16:$F$21,4,0))","v":"-"},"-",null,null,null,null,0,0,0,0,0,0,"*"]
[null,null,655,null,null,null,null,null,null,null,null,null,null,null,null,null,null,null,null,null,null,null,null,null,null,null,null,null,null,null,null,null,null,null,null,{"$f":"IF(H664=\"\",\"-\",VLOOKUP(T664,読み替え表_スマートムーブ!$C$4:$F$13,4,0))","v":"-"},{"$f":"IF(H664=\"\",\"-\",VLOOKUP(V664,読み替え表_スマートムーブ!$C$16:$F$21,4,0))","v":"-"},"-",null,null,null,null,0,0,0,0,0,0,"*"]
[null,null,656,null,null,null,null,null,null,null,null,null,null,null,null,null,null,null,null,null,null,null,null,null,null,null,null,null,null,null,null,null,null,null,null,{"$f":"IF(H665=\"\",\"-\",VLOOKUP(T665,読み替え表_スマートムーブ!$C$4:$F$13,4,0))","v":"-"},{"$f":"IF(H665=\"\",\"-\",VLOOKUP(V665,読み替え表_スマートムーブ!$C$16:$F$21,4,0))","v":"-"},"-",null,null,null,null,0,0,0,0,0,0,"*"]
[null,null,657,null,null,null,null,null,null,null,null,null,null,null,null,null,null,null,null,null,null,null,null,null,null,null,null,null,null,null,null,null,null,null,null,{"$f":"IF(H666=\"\",\"-\",VLOOKUP(T666,読み替え表_スマートムーブ!$C$4:$F$13,4,0))","v":"-"},{"$f":"IF(H666=\"\",\"-\",VLOOKUP(V666,読み替え表_スマートムーブ!$C$16:$F$21,4,0))","v":"-"},"-",null,null,null,null,0,0,0,0,0,0,"*"]
[null,null,658,null,null,null,null,null,null,null,null,null,null,null,null,null,null,null,null,null,null,null,null,null,null,null,null,null,null,null,null,null,null,null,null,{"$f":"IF(H667=\"\",\"-\",VLOOKUP(T667,読み替え表_スマートムーブ!$C$4:$F$13,4,0))","v":"-"},{"$f":"IF(H667=\"\",\"-\",VLOOKUP(V667,読み替え表_スマートムーブ!$C$16:$F$21,4,0))","v":"-"},"-",null,null,null,null,0,0,0,0,0,0,"*"]
[null,null,659,null,null,null,null,null,null,null,null,null,null,null,null,null,null,null,null,null,null,null,null,null,null,null,null,null,null,null,null,null,null,null,null,{"$f":"IF(H668=\"\",\"-\",VLOOKUP(T668,読み替え表_スマートムーブ!$C$4:$F$13,4,0))","v":"-"},{"$f":"IF(H668=\"\",\"-\",VLOOKUP(V668,読み替え表_スマートムーブ!$C$16:$F$21,4,0))","v":"-"},"-",null,null,null,null,0,0,0,0,0,0,"*"]
[null,null,660,null,null,null,null,null,null,null,null,null,null,null,null,null,null,null,null,null,null,null,null,null,null,null,null,null,null,null,null,null,null,null,null,{"$f":"IF(H669=\"\",\"-\",VLOOKUP(T669,読み替え表_スマートムーブ!$C$4:$F$13,4,0))","v":"-"},{"$f":"IF(H669=\"\",\"-\",VLOOKUP(V669,読み替え表_スマートムーブ!$C$16:$F$21,4,0))","v":"-"},"-",null,null,null,null,0,0,0,0,0,0,"*"]
[null,null,661,null,null,null,null,null,null,null,null,null,null,null,null,null,null,null,null,null,null,null,null,null,null,null,null,null,null,null,null,null,null,null,null,{"$f":"IF(H670=\"\",\"-\",VLOOKUP(T670,読み替え表_スマートムーブ!$C$4:$F$13,4,0))","v":"-"},{"$f":"IF(H670=\"\",\"-\",VLOOKUP(V670,読み替え表_スマートムーブ!$C$16:$F$21,4,0))","v":"-"},"-",null,null,null,null,0,0,0,0,0,0,"*"]
[null,null,662,null,null,null,null,null,null,null,null,null,null,null,null,null,null,null,null,null,null,null,null,null,null,null,null,null,null,null,null,null,null,null,null,{"$f":"IF(H671=\"\",\"-\",VLOOKUP(T671,読み替え表_スマートムーブ!$C$4:$F$13,4,0))","v":"-"},{"$f":"IF(H671=\"\",\"-\",VLOOKUP(V671,読み替え表_スマートムーブ!$C$16:$F$21,4,0))","v":"-"},"-",null,null,null,null,0,0,0,0,0,0,"*"]
[null,null,663,null,null,null,null,null,null,null,null,null,null,null,null,null,null,null,null,null,null,null,null,null,null,null,null,null,null,null,null,null,null,null,null,{"$f":"IF(H672=\"\",\"-\",VLOOKUP(T672,読み替え表_スマートムーブ!$C$4:$F$13,4,0))","v":"-"},{"$f":"IF(H672=\"\",\"-\",VLOOKUP(V672,読み替え表_スマートムーブ!$C$16:$F$21,4,0))","v":"-"},"-",null,null,null,null,0,0,0,0,0,0,"*"]
[null,null,664,null,null,null,null,null,null,null,null,null,null,null,null,null,null,null,null,null,null,null,null,null,null,null,null,null,null,null,null,null,null,null,null,{"$f":"IF(H673=\"\",\"-\",VLOOKUP(T673,読み替え表_スマートムーブ!$C$4:$F$13,4,0))","v":"-"},{"$f":"IF(H673=\"\",\"-\",VLOOKUP(V673,読み替え表_スマートムーブ!$C$16:$F$21,4,0))","v":"-"},"-",null,null,null,null,0,0,0,0,0,0,"*"]
[null,null,665,null,null,null,null,null,null,null,null,null,null,null,null,null,null,null,null,null,null,null,null,null,null,null,null,null,null,null,null,null,null,null,null,{"$f":"IF(H674=\"\",\"-\",VLOOKUP(T674,読み替え表_スマートムーブ!$C$4:$F$13,4,0))","v":"-"},{"$f":"IF(H674=\"\",\"-\",VLOOKUP(V674,読み替え表_スマートムーブ!$C$16:$F$21,4,0))","v":"-"},"-",null,null,null,null,0,0,0,0,0,0,"*"]
[null,null,666,null,null,null,null,null,null,null,null,null,null,null,null,null,null,null,null,null,null,null,null,null,null,null,null,null,null,null,null,null,null,null,null,{"$f":"IF(H675=\"\",\"-\",VLOOKUP(T675,読み替え表_スマートムーブ!$C$4:$F$13,4,0))","v":"-"},{"$f":"IF(H675=\"\",\"-\",VLOOKUP(V675,読み替え表_スマートムーブ!$C$16:$F$21,4,0))","v":"-"},"-",null,null,null,null,0,0,0,0,0,0,"*"]
[null,null,667,null,null,null,null,null,null,null,null,null,null,null,null,null,null,null,null,null,null,null,null,null,null,null,null,null,null,null,null,null,null,null,null,{"$f":"IF(H676=\"\",\"-\",VLOOKUP(T676,読み替え表_スマートムーブ!$C$4:$F$13,4,0))","v":"-"},{"$f":"IF(H676=\"\",\"-\",VLOOKUP(V676,読み替え表_スマートムーブ!$C$16:$F$21,4,0))","v":"-"},"-",null,null,null,null,0,0,0,0,0,0,"*"]
[null,null,668,null,null,null,null,null,null,null,null,null,null,null,null,null,null,null,null,null,null,null,null,null,null,null,null,null,null,null,null,null,null,null,null,{"$f":"IF(H677=\"\",\"-\",VLOOKUP(T677,読み替え表_スマートムーブ!$C$4:$F$13,4,0))","v":"-"},{"$f":"IF(H677=\"\",\"-\",VLOOKUP(V677,読み替え表_スマートムーブ!$C$16:$F$21,4,0))","v":"-"},"-",null,null,null,null,0,0,0,0,0,0,"*"]
[null,null,669,null,null,null,null,null,null,null,null,null,null,null,null,null,null,null,null,null,null,null,null,null,null,null,null,null,null,null,null,null,null,null,null,{"$f":"IF(H678=\"\",\"-\",VLOOKUP(T678,読み替え表_スマートムーブ!$C$4:$F$13,4,0))","v":"-"},{"$f":"IF(H678=\"\",\"-\",VLOOKUP(V678,読み替え表_スマートムーブ!$C$16:$F$21,4,0))","v":"-"},"-",null,null,null,null,0,0,0,0,0,0,"*"]
[null,null,670,null,null,null,null,null,null,null,null,null,null,null,null,null,null,null,null,null,null,null,null,null,null,null,null,null,null,null,null,null,null,null,null,{"$f":"IF(H679=\"\",\"-\",VLOOKUP(T679,読み替え表_スマートムーブ!$C$4:$F$13,4,0))","v":"-"},{"$f":"IF(H679=\"\",\"-\",VLOOKUP(V679,読み替え表_スマートムーブ!$C$16:$F$21,4,0))","v":"-"},"-",null,null,null,null,0,0,0,0,0,0,"*"]
[null,null,671,null,null,null,null,null,null,null,null,null,null,null,null,null,null,null,null,null,null,null,null,null,null,null,null,null,null,null,null,null,null,null,null,{"$f":"IF(H680=\"\",\"-\",VLOOKUP(T680,読み替え表_スマートムーブ!$C$4:$F$13,4,0))","v":"-"},{"$f":"IF(H680=\"\",\"-\",VLOOKUP(V680,読み替え表_スマートムーブ!$C$16:$F$21,4,0))","v":"-"},"-",null,null,null,null,0,0,0,0,0,0,"*"]
[null,null,672,null,null,null,null,null,null,null,null,null,null,null,null,null,null,null,null,null,null,null,null,null,null,null,null,null,null,null,null,null,null,null,null,{"$f":"IF(H681=\"\",\"-\",VLOOKUP(T681,読み替え表_スマートムーブ!$C$4:$F$13,4,0))","v":"-"},{"$f":"IF(H681=\"\",\"-\",VLOOKUP(V681,読み替え表_スマートムーブ!$C$16:$F$21,4,0))","v":"-"},"-",null,null,null,null,0,0,0,0,0,0,"*"]
[null,null,673,null,null,null,null,null,null,null,null,null,null,null,null,null,null,null,null,null,null,null,null,null,null,null,null,null,null,null,null,null,null,null,null,{"$f":"IF(H682=\"\",\"-\",VLOOKUP(T682,読み替え表_スマートムーブ!$C$4:$F$13,4,0))","v":"-"},{"$f":"IF(H682=\"\",\"-\",VLOOKUP(V682,読み替え表_スマートムーブ!$C$16:$F$21,4,0))","v":"-"},"-",null,null,null,null,0,0,0,0,0,0,"*"]
[null,null,674,null,null,null,null,null,null,null,null,null,null,null,null,null,null,null,null,null,null,null,null,null,null,null,null,null,null,null,null,null,null,null,null,{"$f":"IF(H683=\"\",\"-\",VLOOKUP(T683,読み替え表_スマートムーブ!$C$4:$F$13,4,0))","v":"-"},{"$f":"IF(H683=\"\",\"-\",VLOOKUP(V683,読み替え表_スマートムーブ!$C$16:$F$21,4,0))","v":"-"},"-",null,null,null,null,0,0,0,0,0,0,"*"]
[null,null,675,null,null,null,null,null,null,null,null,null,null,null,null,null,null,null,null,null,null,null,null,null,null,null,null,null,null,null,null,null,null,null,null,{"$f":"IF(H684=\"\",\"-\",VLOOKUP(T684,読み替え表_スマートムーブ!$C$4:$F$13,4,0))","v":"-"},{"$f":"IF(H684=\"\",\"-\",VLOOKUP(V684,読み替え表_スマートムーブ!$C$16:$F$21,4,0))","v":"-"},"-",null,null,null,null,0,0,0,0,0,0,"*"]
[null,null,676,null,null,null,null,null,null,null,null,null,null,null,null,null,null,null,null,null,null,null,null,null,null,null,null,null,null,null,null,null,null,null,null,{"$f":"IF(H685=\"\",\"-\",VLOOKUP(T685,読み替え表_スマートムーブ!$C$4:$F$13,4,0))","v":"-"},{"$f":"IF(H685=\"\",\"-\",VLOOKUP(V685,読み替え表_スマートムーブ!$C$16:$F$21,4,0))","v":"-"},"-",null,null,null,null,0,0,0,0,0,0,"*"]
[null,null,677,null,null,null,null,null,null,null,null,null,null,null,null,null,null,null,null,null,null,null,null,null,null,null,null,null,null,null,null,null,null,null,null,{"$f":"IF(H686=\"\",\"-\",VLOOKUP(T686,読み替え表_スマートムーブ!$C$4:$F$13,4,0))","v":"-"},{"$f":"IF(H686=\"\",\"-\",VLOOKUP(V686,読み替え表_スマートムーブ!$C$16:$F$21,4,0))","v":"-"},"-",null,null,null,null,0,0,0,0,0,0,"*"]
[null,null,678,null,null,null,null,null,null,null,null,null,null,null,null,null,null,null,null,null,null,null,null,null,null,null,null,null,null,null,null,null,null,null,null,{"$f":"IF(H687=\"\",\"-\",VLOOKUP(T687,読み替え表_スマートムーブ!$C$4:$F$13,4,0))","v":"-"},{"$f":"IF(H687=\"\",\"-\",VLOOKUP(V687,読み替え表_スマートムーブ!$C$16:$F$21,4,0))","v":"-"},"-",null,null,null,null,0,0,0,0,0,0,"*"]
[null,null,679,null,null,null,null,null,null,null,null,null,null,null,null,null,null,null,null,null,null,null,null,null,null,null,null,null,null,null,null,null,null,null,null,{"$f":"IF(H688=\"\",\"-\",VLOOKUP(T688,読み替え表_スマートムーブ!$C$4:$F$13,4,0))","v":"-"},{"$f":"IF(H688=\"\",\"-\",VLOOKUP(V688,読み替え表_スマートムーブ!$C$16:$F$21,4,0))","v":"-"},"-",null,null,null,null,0,0,0,0,0,0,"*"]
[null,null,680,null,null,null,null,null,null,null,null,null,null,null,null,null,null,null,null,null,null,null,null,null,null,null,null,null,null,null,null,null,null,null,null,{"$f":"IF(H689=\"\",\"-\",VLOOKUP(T689,読み替え表_スマートムーブ!$C$4:$F$13,4,0))","v":"-"},{"$f":"IF(H689=\"\",\"-\",VLOOKUP(V689,読み替え表_スマートムーブ!$C$16:$F$21,4,0))","v":"-"},"-",null,null,null,null,0,0,0,0,0,0,"*"]
[null,null,681,null,null,null,null,null,null,null,null,null,null,null,null,null,null,null,null,null,null,null,null,null,null,null,null,null,null,null,null,null,null,null,null,{"$f":"IF(H690=\"\",\"-\",VLOOKUP(T690,読み替え表_スマートムーブ!$C$4:$F$13,4,0))","v":"-"},{"$f":"IF(H690=\"\",\"-\",VLOOKUP(V690,読み替え表_スマートムーブ!$C$16:$F$21,4,0))","v":"-"},"-",null,null,null,null,0,0,0,0,0,0,"*"]
[null,null,682,null,null,null,null,null,null,null,null,null,null,null,null,null,null,null,null,null,null,null,null,null,null,null,null,null,null,null,null,null,null,null,null,{"$f":"IF(H691=\"\",\"-\",VLOOKUP(T691,読み替え表_スマートムーブ!$C$4:$F$13,4,0))","v":"-"},{"$f":"IF(H691=\"\",\"-\",VLOOKUP(V691,読み替え表_スマートムーブ!$C$16:$F$21,4,0))","v":"-"},"-",null,null,null,null,0,0,0,0,0,0,"*"]
[null,null,683,null,null,null,null,null,null,null,null,null,null,null,null,null,null,null,null,null,null,null,null,null,null,null,null,null,null,null,null,null,null,null,null,{"$f":"IF(H692=\"\",\"-\",VLOOKUP(T692,読み替え表_スマートムーブ!$C$4:$F$13,4,0))","v":"-"},{"$f":"IF(H692=\"\",\"-\",VLOOKUP(V692,読み替え表_スマートムーブ!$C$16:$F$21,4,0))","v":"-"},"-",null,null,null,null,0,0,0,0,0,0,"*"]
[null,null,684,null,null,null,null,null,null,null,null,null,null,null,null,null,null,null,null,null,null,null,null,null,null,null,null,null,null,null,null,null,null,null,null,{"$f":"IF(H693=\"\",\"-\",VLOOKUP(T693,読み替え表_スマートムーブ!$C$4:$F$13,4,0))","v":"-"},{"$f":"IF(H693=\"\",\"-\",VLOOKUP(V693,読み替え表_スマートムーブ!$C$16:$F$21,4,0))","v":"-"},"-",null,null,null,null,0,0,0,0,0,0,"*"]
[null,null,685,null,null,null,null,null,null,null,null,null,null,null,null,null,null,null,null,null,null,null,null,null,null,null,null,null,null,null,null,null,null,null,null,{"$f":"IF(H694=\"\",\"-\",VLOOKUP(T694,読み替え表_スマートムーブ!$C$4:$F$13,4,0))","v":"-"},{"$f":"IF(H694=\"\",\"-\",VLOOKUP(V694,読み替え表_スマートムーブ!$C$16:$F$21,4,0))","v":"-"},"-",null,null,null,null,0,0,0,0,0,0,"*"]
[null,null,686,null,null,null,null,null,null,null,null,null,null,null,null,null,null,null,null,null,null,null,null,null,null,null,null,null,null,null,null,null,null,null,null,{"$f":"IF(H695=\"\",\"-\",VLOOKUP(T695,読み替え表_スマートムーブ!$C$4:$F$13,4,0))","v":"-"},{"$f":"IF(H695=\"\",\"-\",VLOOKUP(V695,読み替え表_スマートムーブ!$C$16:$F$21,4,0))","v":"-"},"-",null,null,null,null,0,0,0,0,0,0,"*"]
[null,null,687,null,null,null,null,null,null,null,null,null,null,null,null,null,null,null,null,null,null,null,null,null,null,null,null,null,null,null,null,null,null,null,null,{"$f":"IF(H696=\"\",\"-\",VLOOKUP(T696,読み替え表_スマートムーブ!$C$4:$F$13,4,0))","v":"-"},{"$f":"IF(H696=\"\",\"-\",VLOOKUP(V696,読み替え表_スマートムーブ!$C$16:$F$21,4,0))","v":"-"},"-",null,null,null,null,0,0,0,0,0,0,"*"]
[null,null,688,null,null,null,null,null,null,null,null,null,null,null,null,null,null,null,null,null,null,null,null,null,null,null,null,null,null,null,null,null,null,null,null,{"$f":"IF(H697=\"\",\"-\",VLOOKUP(T697,読み替え表_スマートムーブ!$C$4:$F$13,4,0))","v":"-"},{"$f":"IF(H697=\"\",\"-\",VLOOKUP(V697,読み替え表_スマートムーブ!$C$16:$F$21,4,0))","v":"-"},"-",null,null,null,null,0,0,0,0,0,0,"*"]
[null,null,689,null,null,null,null,null,null,null,null,null,null,null,null,null,null,null,null,null,null,null,null,null,null,null,null,null,null,null,null,null,null,null,null,{"$f":"IF(H698=\"\",\"-\",VLOOKUP(T698,読み替え表_スマートムーブ!$C$4:$F$13,4,0))","v":"-"},{"$f":"IF(H698=\"\",\"-\",VLOOKUP(V698,読み替え表_スマートムーブ!$C$16:$F$21,4,0))","v":"-"},"-",null,null,null,null,0,0,0,0,0,0,"*"]
[null,null,690,null,null,null,null,null,null,null,null,null,null,null,null,null,null,null,null,null,null,null,null,null,null,null,null,null,null,null,null,null,null,null,null,{"$f":"IF(H699=\"\",\"-\",VLOOKUP(T699,読み替え表_スマートムーブ!$C$4:$F$13,4,0))","v":"-"},{"$f":"IF(H699=\"\",\"-\",VLOOKUP(V699,読み替え表_スマートムーブ!$C$16:$F$21,4,0))","v":"-"},"-",null,null,null,null,0,0,0,0,0,0,"*"]
[null,null,691,null,null,null,null,null,null,null,null,null,null,null,null,null,null,null,null,null,null,null,null,null,null,null,null,null,null,null,null,null,null,null,null,{"$f":"IF(H700=\"\",\"-\",VLOOKUP(T700,読み替え表_スマートムーブ!$C$4:$F$13,4,0))","v":"-"},{"$f":"IF(H700=\"\",\"-\",VLOOKUP(V700,読み替え表_スマートムーブ!$C$16:$F$21,4,0))","v":"-"},"-",null,null,null,null,0,0,0,0,0,0,"*"]
[null,null,692,null,null,null,null,null,null,null,null,null,null,null,null,null,null,null,null,null,null,null,null,null,null,null,null,null,null,null,null,null,null,null,null,{"$f":"IF(H701=\"\",\"-\",VLOOKUP(T701,読み替え表_スマートムーブ!$C$4:$F$13,4,0))","v":"-"},{"$f":"IF(H701=\"\",\"-\",VLOOKUP(V701,読み替え表_スマートムーブ!$C$16:$F$21,4,0))","v":"-"},"-",null,null,null,null,0,0,0,0,0,0,"*"]
[null,null,693,null,null,null,null,null,null,null,null,null,null,null,null,null,null,null,null,null,null,null,null,null,null,null,null,null,null,null,null,null,null,null,null,{"$f":"IF(H702=\"\",\"-\",VLOOKUP(T702,読み替え表_スマートムーブ!$C$4:$F$13,4,0))","v":"-"},{"$f":"IF(H702=\"\",\"-\",VLOOKUP(V702,読み替え表_スマートムーブ!$C$16:$F$21,4,0))","v":"-"},"-",null,null,null,null,0,0,0,0,0,0,"*"]
[null,null,694,null,null,null,null,null,null,null,null,null,null,null,null,null,null,null,null,null,null,null,null,null,null,null,null,null,null,null,null,null,null,null,null,{"$f":"IF(H703=\"\",\"-\",VLOOKUP(T703,読み替え表_スマートムーブ!$C$4:$F$13,4,0))","v":"-"},{"$f":"IF(H703=\"\",\"-\",VLOOKUP(V703,読み替え表_スマートムーブ!$C$16:$F$21,4,0))","v":"-"},"-",null,null,null,null,0,0,0,0,0,0,"*"]
[null,null,695,null,null,null,null,null,null,null,null,null,null,null,null,null,null,null,null,null,null,null,null,null,null,null,null,null,null,null,null,null,null,null,null,{"$f":"IF(H704=\"\",\"-\",VLOOKUP(T704,読み替え表_スマートムーブ!$C$4:$F$13,4,0))","v":"-"},{"$f":"IF(H704=\"\",\"-\",VLOOKUP(V704,読み替え表_スマートムーブ!$C$16:$F$21,4,0))","v":"-"},"-",null,null,null,null,0,0,0,0,0,0,"*"]
[null,null,696,null,null,null,null,null,null,null,null,null,null,null,null,null,null,null,null,null,null,null,null,null,null,null,null,null,null,null,null,null,null,null,null,{"$f":"IF(H705=\"\",\"-\",VLOOKUP(T705,読み替え表_スマートムーブ!$C$4:$F$13,4,0))","v":"-"},{"$f":"IF(H705=\"\",\"-\",VLOOKUP(V705,読み替え表_スマートムーブ!$C$16:$F$21,4,0))","v":"-"},"-",null,null,null,null,0,0,0,0,0,0,"*"]
[null,null,697,null,null,null,null,null,null,null,null,null,null,null,null,null,null,null,null,null,null,null,null,null,null,null,null,null,null,null,null,null,null,null,null,{"$f":"IF(H706=\"\",\"-\",VLOOKUP(T706,読み替え表_スマートムーブ!$C$4:$F$13,4,0))","v":"-"},{"$f":"IF(H706=\"\",\"-\",VLOOKUP(V706,読み替え表_スマートムーブ!$C$16:$F$21,4,0))","v":"-"},"-",null,null,null,null,0,0,0,0,0,0,"*"]
[null,null,698,null,null,null,null,null,null,null,null,null,null,null,null,null,null,null,null,null,null,null,null,null,null,null,null,null,null,null,null,null,null,null,null,{"$f":"IF(H707=\"\",\"-\",VLOOKUP(T707,読み替え表_スマートムーブ!$C$4:$F$13,4,0))","v":"-"},{"$f":"IF(H707=\"\",\"-\",VLOOKUP(V707,読み替え表_スマートムーブ!$C$16:$F$21,4,0))","v":"-"},"-",null,null,null,null,0,0,0,0,0,0,"*"]
[null,null,699,null,null,null,null,null,null,null,null,null,null,null,null,null,null,null,null,null,null,null,null,null,null,null,null,null,null,null,null,null,null,null,null,{"$f":"IF(H708=\"\",\"-\",VLOOKUP(T708,読み替え表_スマートムーブ!$C$4:$F$13,4,0))","v":"-"},{"$f":"IF(H708=\"\",\"-\",VLOOKUP(V708,読み替え表_スマートムーブ!$C$16:$F$21,4,0))","v":"-"},"-",null,null,null,null,0,0,0,0,0,0,"*"]
[null,null,700,null,null,null,null,null,null,null,null,null,null,null,null,null,null,null,null,null,null,null,null,null,null,null,null,null,null,null,null,null,null,null,null,{"$f":"IF(H709=\"\",\"-\",VLOOKUP(T709,読み替え表_スマートムーブ!$C$4:$F$13,4,0))","v":"-"},{"$f":"IF(H709=\"\",\"-\",VLOOKUP(V709,読み替え表_スマートムーブ!$C$16:$F$21,4,0))","v":"-"},"-",null,null,null,null,0,0,0,0,0,0,"*"]
[null,null,701,null,null,null,null,null,null,null,null,null,null,null,null,null,null,null,null,null,null,null,null,null,null,null,null,null,null,null,null,null,null,null,null,{"$f":"IF(H710=\"\",\"-\",VLOOKUP(T710,読み替え表_スマートムーブ!$C$4:$F$13,4,0))","v":"-"},{"$f":"IF(H710=\"\",\"-\",VLOOKUP(V710,読み替え表_スマートムーブ!$C$16:$F$21,4,0))","v":"-"},"-",null,null,null,null,0,0,0,0,0,0,"*"]
[null,null,702,null,null,null,null,null,null,null,null,null,null,null,null,null,null,null,null,null,null,null,null,null,null,null,null,null,null,null,null,null,null,null,null,{"$f":"IF(H711=\"\",\"-\",VLOOKUP(T711,読み替え表_スマートムーブ!$C$4:$F$13,4,0))","v":"-"},{"$f":"IF(H711=\"\",\"-\",VLOOKUP(V711,読み替え表_スマートムーブ!$C$16:$F$21,4,0))","v":"-"},"-",null,null,null,null,0,0,0,0,0,0,"*"]
[null,null,703,null,null,null,null,null,null,null,null,null,null,null,null,null,null,null,null,null,null,null,null,null,null,null,null,null,null,null,null,null,null,null,null,{"$f":"IF(H712=\"\",\"-\",VLOOKUP(T712,読み替え表_スマートムーブ!$C$4:$F$13,4,0))","v":"-"},{"$f":"IF(H712=\"\",\"-\",VLOOKUP(V712,読み替え表_スマートムーブ!$C$16:$F$21,4,0))","v":"-"},"-",null,null,null,null,0,0,0,0,0,0,"*"]
[null,null,704,null,null,null,null,null,null,null,null,null,null,null,null,null,null,null,null,null,null,null,null,null,null,null,null,null,null,null,null,null,null,null,null,{"$f":"IF(H713=\"\",\"-\",VLOOKUP(T713,読み替え表_スマートムーブ!$C$4:$F$13,4,0))","v":"-"},{"$f":"IF(H713=\"\",\"-\",VLOOKUP(V713,読み替え表_スマートムーブ!$C$16:$F$21,4,0))","v":"-"},"-",null,null,null,null,0,0,0,0,0,0,"*"]
[null,null,705,null,null,null,null,null,null,null,null,null,null,null,null,null,null,null,null,null,null,null,null,null,null,null,null,null,null,null,null,null,null,null,null,{"$f":"IF(H714=\"\",\"-\",VLOOKUP(T714,読み替え表_スマートムーブ!$C$4:$F$13,4,0))","v":"-"},{"$f":"IF(H714=\"\",\"-\",VLOOKUP(V714,読み替え表_スマートムーブ!$C$16:$F$21,4,0))","v":"-"},"-",null,null,null,null,0,0,0,0,0,{"$f":"AQ714","v":0},"*"]
[null,null,{"$f":"ROW()-9","v":706},null,null,null,null,null,null,null,null,null,null,null,null,null,null,null,null,null,null,null,null,null,null,null,null,null,null,null,null,null,null,null,null,{"$f":"IF(H715=\"\",\"-\",VLOOKUP(T715,読み替え表_スマートムーブ!$C$4:$F$13,4,0))","v":"-"},{"$f":"IF(H715=\"\",\"-\",VLOOKUP(V715,読み替え表_スマートムーブ!$C$16:$F$21,4,0))","v":"-"},{"$f":"IF(H715=\"\",\"-\",AJ715*AK715)","v":"-"},null,null,null,null,{"$f":"IF(SUM($AR715:$AT715)>=1,1,0)","v":0},{"$f":"IF(R715=1,1,0)","v":0},{"$f":"IF(T715=9,1,0)","v":0},{"$f":"IF(V715=5,1,0)","v":0},{"$f":"IF(OR($X715=1,$X715=2,$X715=3),1,0)","v":0},0,"*"]
[null,null,707,null,null,null,null,null,null,null,null,null,null,null,null,null,null,null,null,null,null,null,null,null,null,null,null,null,null,null,null,null,null,null,null,{"$f":"IF(H716=\"\",\"-\",VLOOKUP(T716,読み替え表_スマートムーブ!$C$4:$F$13,4,0))","v":"-"},{"$f":"IF(H716=\"\",\"-\",VLOOKUP(V716,読み替え表_スマートムーブ!$C$16:$F$21,4,0))","v":"-"},"-",null,null,null,null,0,0,0,0,0,0,"*"]
[null,null,708,null,null,null,null,null,null,null,null,null,null,null,null,null,null,null,null,null,null,null,null,null,null,null,null,null,null,null,null,null,null,null,null,{"$f":"IF(H717=\"\",\"-\",VLOOKUP(T717,読み替え表_スマートムーブ!$C$4:$F$13,4,0))","v":"-"},{"$f":"IF(H717=\"\",\"-\",VLOOKUP(V717,読み替え表_スマートムーブ!$C$16:$F$21,4,0))","v":"-"},"-",null,null,null,null,0,0,0,0,0,0,"*"]
[null,null,709,null,null,null,null,null,null,null,null,null,null,null,null,null,null,null,null,null,null,null,null,null,null,null,null,null,null,null,null,null,null,null,null,{"$f":"IF(H718=\"\",\"-\",VLOOKUP(T718,読み替え表_スマートムーブ!$C$4:$F$13,4,0))","v":"-"},{"$f":"IF(H718=\"\",\"-\",VLOOKUP(V718,読み替え表_スマートムーブ!$C$16:$F$21,4,0))","v":"-"},"-",null,null,null,null,0,0,0,0,0,0,"*"]
[null,null,710,null,null,null,null,null,null,null,null,null,null,null,null,null,null,null,null,null,null,null,null,null,null,null,null,null,null,null,null,null,null,null,null,{"$f":"IF(H719=\"\",\"-\",VLOOKUP(T719,読み替え表_スマートムーブ!$C$4:$F$13,4,0))","v":"-"},{"$f":"IF(H719=\"\",\"-\",VLOOKUP(V719,読み替え表_スマートムーブ!$C$16:$F$21,4,0))","v":"-"},"-",null,null,null,null,0,0,0,0,0,0,"*"]
[null,null,711,null,null,null,null,null,null,null,null,null,null,null,null,null,null,null,null,null,null,null,null,null,null,null,null,null,null,null,null,null,null,null,null,{"$f":"IF(H720=\"\",\"-\",VLOOKUP(T720,読み替え表_スマートムーブ!$C$4:$F$13,4,0))","v":"-"},{"$f":"IF(H720=\"\",\"-\",VLOOKUP(V720,読み替え表_スマートムーブ!$C$16:$F$21,4,0))","v":"-"},"-",null,null,null,null,0,0,0,0,0,0,"*"]
[null,null,712,null,null,null,null,null,null,null,null,null,null,null,null,null,null,null,null,null,null,null,null,null,null,null,null,null,null,null,null,null,null,null,null,{"$f":"IF(H721=\"\",\"-\",VLOOKUP(T721,読み替え表_スマートムーブ!$C$4:$F$13,4,0))","v":"-"},{"$f":"IF(H721=\"\",\"-\",VLOOKUP(V721,読み替え表_スマートムーブ!$C$16:$F$21,4,0))","v":"-"},"-",null,null,null,null,0,0,0,0,0,0,"*"]
[null,null,713,null,null,null,null,null,null,null,null,null,null,null,null,null,null,null,null,null,null,null,null,null,null,null,null,null,null,null,null,null,null,null,null,{"$f":"IF(H722=\"\",\"-\",VLOOKUP(T722,読み替え表_スマートムーブ!$C$4:$F$13,4,0))","v":"-"},{"$f":"IF(H722=\"\",\"-\",VLOOKUP(V722,読み替え表_スマートムーブ!$C$16:$F$21,4,0))","v":"-"},"-",null,null,null,null,0,0,0,0,0,0,"*"]
[null,null,714,null,null,null,null,null,null,null,null,null,null,null,null,null,null,null,null,null,null,null,null,null,null,null,null,null,null,null,null,null,null,null,null,{"$f":"IF(H723=\"\",\"-\",VLOOKUP(T723,読み替え表_スマートムーブ!$C$4:$F$13,4,0))","v":"-"},{"$f":"IF(H723=\"\",\"-\",VLOOKUP(V723,読み替え表_スマートムーブ!$C$16:$F$21,4,0))","v":"-"},"-",null,null,null,null,0,0,0,0,0,0,"*"]
[null,null,715,null,null,null,null,null,null,null,null,null,null,null,null,null,null,null,null,null,null,null,null,null,null,null,null,null,null,null,null,null,null,null,null,{"$f":"IF(H724=\"\",\"-\",VLOOKUP(T724,読み替え表_スマートムーブ!$C$4:$F$13,4,0))","v":"-"},{"$f":"IF(H724=\"\",\"-\",VLOOKUP(V724,読み替え表_スマートムーブ!$C$16:$F$21,4,0))","v":"-"},"-",null,null,null,null,0,0,0,0,0,0,"*"]
[null,null,716,null,null,null,null,null,null,null,null,null,null,null,null,null,null,null,null,null,null,null,null,null,null,null,null,null,null,null,null,null,null,null,null,{"$f":"IF(H725=\"\",\"-\",VLOOKUP(T725,読み替え表_スマートムーブ!$C$4:$F$13,4,0))","v":"-"},{"$f":"IF(H725=\"\",\"-\",VLOOKUP(V725,読み替え表_スマートムーブ!$C$16:$F$21,4,0))","v":"-"},"-",null,null,null,null,0,0,0,0,0,0,"*"]
[null,null,717,null,null,null,null,null,null,null,null,null,null,null,null,null,null,null,null,null,null,null,null,null,null,null,null,null,null,null,null,null,null,null,null,{"$f":"IF(H726=\"\",\"-\",VLOOKUP(T726,読み替え表_スマートムーブ!$C$4:$F$13,4,0))","v":"-"},{"$f":"IF(H726=\"\",\"-\",VLOOKUP(V726,読み替え表_スマートムーブ!$C$16:$F$21,4,0))","v":"-"},"-",null,null,null,null,0,0,0,0,0,0,"*"]
[null,null,718,null,null,null,null,null,null,null,null,null,null,null,null,null,null,null,null,null,null,null,null,null,null,null,null,null,null,null,null,null,null,null,null,{"$f":"IF(H727=\"\",\"-\",VLOOKUP(T727,読み替え表_スマートムーブ!$C$4:$F$13,4,0))","v":"-"},{"$f":"IF(H727=\"\",\"-\",VLOOKUP(V727,読み替え表_スマートムーブ!$C$16:$F$21,4,0))","v":"-"},"-",null,null,null,null,0,0,0,0,0,0,"*"]
[null,null,719,null,null,null,null,null,null,null,null,null,null,null,null,null,null,null,null,null,null,null,null,null,null,null,null,null,null,null,null,null,null,null,null,{"$f":"IF(H728=\"\",\"-\",VLOOKUP(T728,読み替え表_スマートムーブ!$C$4:$F$13,4,0))","v":"-"},{"$f":"IF(H728=\"\",\"-\",VLOOKUP(V728,読み替え表_スマートムーブ!$C$16:$F$21,4,0))","v":"-"},"-",null,null,null,null,0,0,0,0,0,0,"*"]
[null,null,720,null,null,null,null,null,null,null,null,null,null,null,null,null,null,null,null,null,null,null,null,null,null,null,null,null,null,null,null,null,null,null,null,{"$f":"IF(H729=\"\",\"-\",VLOOKUP(T729,読み替え表_スマートムーブ!$C$4:$F$13,4,0))","v":"-"},{"$f":"IF(H729=\"\",\"-\",VLOOKUP(V729,読み替え表_スマートムーブ!$C$16:$F$21,4,0))","v":"-"},"-",null,null,null,null,0,0,0,0,0,0,"*"]
[null,null,721,null,null,null,null,null,null,null,null,null,null,null,null,null,null,null,null,null,null,null,null,null,null,null,null,null,null,null,null,null,null,null,null,{"$f":"IF(H730=\"\",\"-\",VLOOKUP(T730,読み替え表_スマートムーブ!$C$4:$F$13,4,0))","v":"-"},{"$f":"IF(H730=\"\",\"-\",VLOOKUP(V730,読み替え表_スマートムーブ!$C$16:$F$21,4,0))","v":"-"},"-",null,null,null,null,0,0,0,0,0,0,"*"]
[null,null,722,null,null,null,null,null,null,null,null,null,null,null,null,null,null,null,null,null,null,null,null,null,null,null,null,null,null,null,null,null,null,null,null,{"$f":"IF(H731=\"\",\"-\",VLOOKUP(T731,読み替え表_スマートムーブ!$C$4:$F$13,4,0))","v":"-"},{"$f":"IF(H731=\"\",\"-\",VLOOKUP(V731,読み替え表_スマートムーブ!$C$16:$F$21,4,0))","v":"-"},"-",null,null,null,null,0,0,0,0,0,0,"*"]
[null,null,723,null,null,null,null,null,null,null,null,null,null,null,null,null,null,null,null,null,null,null,null,null,null,null,null,null,null,null,null,null,null,null,null,{"$f":"IF(H732=\"\",\"-\",VLOOKUP(T732,読み替え表_スマートムーブ!$C$4:$F$13,4,0))","v":"-"},{"$f":"IF(H732=\"\",\"-\",VLOOKUP(V732,読み替え表_スマートムーブ!$C$16:$F$21,4,0))","v":"-"},"-",null,null,null,null,0,0,0,0,0,0,"*"]
[null,null,724,null,null,null,null,null,null,null,null,null,null,null,null,null,null,null,null,null,null,null,null,null,null,null,null,null,null,null,null,null,null,null,null,{"$f":"IF(H733=\"\",\"-\",VLOOKUP(T733,読み替え表_スマートムーブ!$C$4:$F$13,4,0))","v":"-"},{"$f":"IF(H733=\"\",\"-\",VLOOKUP(V733,読み替え表_スマートムーブ!$C$16:$F$21,4,0))","v":"-"},"-",null,null,null,null,0,0,0,0,0,0,"*"]
[null,null,725,null,null,null,null,null,null,null,null,null,null,null,null,null,null,null,null,null,null,null,null,null,null,null,null,null,null,null,null,null,null,null,null,{"$f":"IF(H734=\"\",\"-\",VLOOKUP(T734,読み替え表_スマートムーブ!$C$4:$F$13,4,0))","v":"-"},{"$f":"IF(H734=\"\",\"-\",VLOOKUP(V734,読み替え表_スマートムーブ!$C$16:$F$21,4,0))","v":"-"},"-",null,null,null,null,0,0,0,0,0,0,"*"]
[null,null,726,null,null,null,null,null,null,null,null,null,null,null,null,null,null,null,null,null,null,null,null,null,null,null,null,null,null,null,null,null,null,null,null,{"$f":"IF(H735=\"\",\"-\",VLOOKUP(T735,読み替え表_スマートムーブ!$C$4:$F$13,4,0))","v":"-"},{"$f":"IF(H735=\"\",\"-\",VLOOKUP(V735,読み替え表_スマートムーブ!$C$16:$F$21,4,0))","v":"-"},"-",null,null,null,null,0,0,0,0,0,0,"*"]
[null,null,727,null,null,null,null,null,null,null,null,null,null,null,null,null,null,null,null,null,null,null,null,null,null,null,null,null,null,null,null,null,null,null,null,{"$f":"IF(H736=\"\",\"-\",VLOOKUP(T736,読み替え表_スマートムーブ!$C$4:$F$13,4,0))","v":"-"},{"$f":"IF(H736=\"\",\"-\",VLOOKUP(V736,読み替え表_スマートムーブ!$C$16:$F$21,4,0))","v":"-"},"-",null,null,null,null,0,0,0,0,0,0,"*"]
[null,null,728,null,null,null,null,null,null,null,null,null,null,null,null,null,null,null,null,null,null,null,null,null,null,null,null,null,null,null,null,null,null,null,null,{"$f":"IF(H737=\"\",\"-\",VLOOKUP(T737,読み替え表_スマートムーブ!$C$4:$F$13,4,0))","v":"-"},{"$f":"IF(H737=\"\",\"-\",VLOOKUP(V737,読み替え表_スマートムーブ!$C$16:$F$21,4,0))","v":"-"},"-",null,null,null,null,0,0,0,0,0,0,"*"]
[null,null,729,null,null,null,null,null,null,null,null,null,null,null,null,null,null,null,null,null,null,null,null,null,null,null,null,null,null,null,null,null,null,null,null,{"$f":"IF(H738=\"\",\"-\",VLOOKUP(T738,読み替え表_スマートムーブ!$C$4:$F$13,4,0))","v":"-"},{"$f":"IF(H738=\"\",\"-\",VLOOKUP(V738,読み替え表_スマートムーブ!$C$16:$F$21,4,0))","v":"-"},"-",null,null,null,null,0,0,0,0,0,0,"*"]
[null,null,730,null,null,null,null,null,null,null,null,null,null,null,null,null,null,null,null,null,null,null,null,null,null,null,null,null,null,null,null,null,null,null,null,{"$f":"IF(H739=\"\",\"-\",VLOOKUP(T739,読み替え表_スマートムーブ!$C$4:$F$13,4,0))","v":"-"},{"$f":"IF(H739=\"\",\"-\",VLOOKUP(V739,読み替え表_スマートムーブ!$C$16:$F$21,4,0))","v":"-"},"-",null,null,null,null,0,0,0,0,0,0,"*"]
[null,null,731,null,null,null,null,null,null,null,null,null,null,null,null,null,null,null,null,null,null,null,null,null,null,null,null,null,null,null,null,null,null,null,null,{"$f":"IF(H740=\"\",\"-\",VLOOKUP(T740,読み替え表_スマートムーブ!$C$4:$F$13,4,0))","v":"-"},{"$f":"IF(H740=\"\",\"-\",VLOOKUP(V740,読み替え表_スマートムーブ!$C$16:$F$21,4,0))","v":"-"},"-",null,null,null,null,0,0,0,0,0,0,"*"]
[null,null,732,null,null,null,null,null,null,null,null,null,null,null,null,null,null,null,null,null,null,null,null,null,null,null,null,null,null,null,null,null,null,null,null,{"$f":"IF(H741=\"\",\"-\",VLOOKUP(T741,読み替え表_スマートムーブ!$C$4:$F$13,4,0))","v":"-"},{"$f":"IF(H741=\"\",\"-\",VLOOKUP(V741,読み替え表_スマートムーブ!$C$16:$F$21,4,0))","v":"-"},"-",null,null,null,null,0,0,0,0,0,0,"*"]
[null,null,733,null,null,null,null,null,null,null,null,null,null,null,null,null,null,null,null,null,null,null,null,null,null,null,null,null,null,null,null,null,null,null,null,{"$f":"IF(H742=\"\",\"-\",VLOOKUP(T742,読み替え表_スマートムーブ!$C$4:$F$13,4,0))","v":"-"},{"$f":"IF(H742=\"\",\"-\",VLOOKUP(V742,読み替え表_スマートムーブ!$C$16:$F$21,4,0))","v":"-"},"-",null,null,null,null,0,0,0,0,0,0,"*"]
[null,null,734,null,null,null,null,null,null,null,null,null,null,null,null,null,null,null,null,null,null,null,null,null,null,null,null,null,null,null,null,null,null,null,null,{"$f":"IF(H743=\"\",\"-\",VLOOKUP(T743,読み替え表_スマートムーブ!$C$4:$F$13,4,0))","v":"-"},{"$f":"IF(H743=\"\",\"-\",VLOOKUP(V743,読み替え表_スマートムーブ!$C$16:$F$21,4,0))","v":"-"},"-",null,null,null,null,0,0,0,0,0,0,"*"]
[null,null,735,null,null,null,null,null,null,null,null,null,null,null,null,null,null,null,null,null,null,null,null,null,null,null,null,null,null,null,null,null,null,null,null,{"$f":"IF(H744=\"\",\"-\",VLOOKUP(T744,読み替え表_スマートムーブ!$C$4:$F$13,4,0))","v":"-"},{"$f":"IF(H744=\"\",\"-\",VLOOKUP(V744,読み替え表_スマートムーブ!$C$16:$F$21,4,0))","v":"-"},"-",null,null,null,null,0,0,0,0,0,0,"*"]
[null,null,736,null,null,null,null,null,null,null,null,null,null,null,null,null,null,null,null,null,null,null,null,null,null,null,null,null,null,null,null,null,null,null,null,{"$f":"IF(H745=\"\",\"-\",VLOOKUP(T745,読み替え表_スマートムーブ!$C$4:$F$13,4,0))","v":"-"},{"$f":"IF(H745=\"\",\"-\",VLOOKUP(V745,読み替え表_スマートムーブ!$C$16:$F$21,4,0))","v":"-"},"-",null,null,null,null,0,0,0,0,0,0,"*"]
[null,null,737,null,null,null,null,null,null,null,null,null,null,null,null,null,null,null,null,null,null,null,null,null,null,null,null,null,null,null,null,null,null,null,null,{"$f":"IF(H746=\"\",\"-\",VLOOKUP(T746,読み替え表_スマートムーブ!$C$4:$F$13,4,0))","v":"-"},{"$f":"IF(H746=\"\",\"-\",VLOOKUP(V746,読み替え表_スマートムーブ!$C$16:$F$21,4,0))","v":"-"},"-",null,null,null,null,0,0,0,0,0,0,"*"]
[null,null,738,null,null,null,null,null,null,null,null,null,null,null,null,null,null,null,null,null,null,null,null,null,null,null,null,null,null,null,null,null,null,null,null,{"$f":"IF(H747=\"\",\"-\",VLOOKUP(T747,読み替え表_スマートムーブ!$C$4:$F$13,4,0))","v":"-"},{"$f":"IF(H747=\"\",\"-\",VLOOKUP(V747,読み替え表_スマートムーブ!$C$16:$F$21,4,0))","v":"-"},"-",null,null,null,null,0,0,0,0,0,0,"*"]
[null,null,739,null,null,null,null,null,null,null,null,null,null,null,null,null,null,null,null,null,null,null,null,null,null,null,null,null,null,null,null,null,null,null,null,{"$f":"IF(H748=\"\",\"-\",VLOOKUP(T748,読み替え表_スマートムーブ!$C$4:$F$13,4,0))","v":"-"},{"$f":"IF(H748=\"\",\"-\",VLOOKUP(V748,読み替え表_スマートムーブ!$C$16:$F$21,4,0))","v":"-"},"-",null,null,null,null,0,0,0,0,0,0,"*"]
[null,null,740,null,null,null,null,null,null,null,null,null,null,null,null,null,null,null,null,null,null,null,null,null,null,null,null,null,null,null,null,null,null,null,null,{"$f":"IF(H749=\"\",\"-\",VLOOKUP(T749,読み替え表_スマートムーブ!$C$4:$F$13,4,0))","v":"-"},{"$f":"IF(H749=\"\",\"-\",VLOOKUP(V749,読み替え表_スマートムーブ!$C$16:$F$21,4,0))","v":"-"},"-",null,null,null,null,0,0,0,0,0,0,"*"]
[null,null,741,null,null,null,null,null,null,null,null,null,null,null,null,null,null,null,null,null,null,null,null,null,null,null,null,null,null,null,null,null,null,null,null,{"$f":"IF(H750=\"\",\"-\",VLOOKUP(T750,読み替え表_スマートムーブ!$C$4:$F$13,4,0))","v":"-"},{"$f":"IF(H750=\"\",\"-\",VLOOKUP(V750,読み替え表_スマートムーブ!$C$16:$F$21,4,0))","v":"-"},"-",null,null,null,null,0,0,0,0,0,0,"*"]
[null,null,742,null,null,null,null,null,null,null,null,null,null,null,null,null,null,null,null,null,null,null,null,null,null,null,null,null,null,null,null,null,null,null,null,{"$f":"IF(H751=\"\",\"-\",VLOOKUP(T751,読み替え表_スマートムーブ!$C$4:$F$13,4,0))","v":"-"},{"$f":"IF(H751=\"\",\"-\",VLOOKUP(V751,読み替え表_スマートムーブ!$C$16:$F$21,4,0))","v":"-"},"-",null,null,null,null,0,0,0,0,0,0,"*"]
[null,null,743,null,null,null,null,null,null,null,null,null,null,null,null,null,null,null,null,null,null,null,null,null,null,null,null,null,null,null,null,null,null,null,null,{"$f":"IF(H752=\"\",\"-\",VLOOKUP(T752,読み替え表_スマートムーブ!$C$4:$F$13,4,0))","v":"-"},{"$f":"IF(H752=\"\",\"-\",VLOOKUP(V752,読み替え表_スマートムーブ!$C$16:$F$21,4,0))","v":"-"},"-",null,null,null,null,0,0,0,0,0,0,"*"]
[null,null,744,null,null,null,null,null,null,null,null,null,null,null,null,null,null,null,null,null,null,null,null,null,null,null,null,null,null,null,null,null,null,null,null,{"$f":"IF(H753=\"\",\"-\",VLOOKUP(T753,読み替え表_スマートムーブ!$C$4:$F$13,4,0))","v":"-"},{"$f":"IF(H753=\"\",\"-\",VLOOKUP(V753,読み替え表_スマートムーブ!$C$16:$F$21,4,0))","v":"-"},"-",null,null,null,null,0,0,0,0,0,0,"*"]
[null,null,745,null,null,null,null,null,null,null,null,null,null,null,null,null,null,null,null,null,null,null,null,null,null,null,null,null,null,null,null,null,null,null,null,{"$f":"IF(H754=\"\",\"-\",VLOOKUP(T754,読み替え表_スマートムーブ!$C$4:$F$13,4,0))","v":"-"},{"$f":"IF(H754=\"\",\"-\",VLOOKUP(V754,読み替え表_スマートムーブ!$C$16:$F$21,4,0))","v":"-"},"-",null,null,null,null,0,0,0,0,0,0,"*"]
[null,null,746,null,null,null,null,null,null,null,null,null,null,null,null,null,null,null,null,null,null,null,null,null,null,null,null,null,null,null,null,null,null,null,null,{"$f":"IF(H755=\"\",\"-\",VLOOKUP(T755,読み替え表_スマートムーブ!$C$4:$F$13,4,0))","v":"-"},{"$f":"IF(H755=\"\",\"-\",VLOOKUP(V755,読み替え表_スマートムーブ!$C$16:$F$21,4,0))","v":"-"},"-",null,null,null,null,0,0,0,0,0,0,"*"]
[null,null,747,null,null,null,null,null,null,null,null,null,null,null,null,null,null,null,null,null,null,null,null,null,null,null,null,null,null,null,null,null,null,null,null,{"$f":"IF(H756=\"\",\"-\",VLOOKUP(T756,読み替え表_スマートムーブ!$C$4:$F$13,4,0))","v":"-"},{"$f":"IF(H756=\"\",\"-\",VLOOKUP(V756,読み替え表_スマートムーブ!$C$16:$F$21,4,0))","v":"-"},"-",null,null,null,null,0,0,0,0,0,0,"*"]
[null,null,748,null,null,null,null,null,null,null,null,null,null,null,null,null,null,null,null,null,null,null,null,null,null,null,null,null,null,null,null,null,null,null,null,{"$f":"IF(H757=\"\",\"-\",VLOOKUP(T757,読み替え表_スマートムーブ!$C$4:$F$13,4,0))","v":"-"},{"$f":"IF(H757=\"\",\"-\",VLOOKUP(V757,読み替え表_スマートムーブ!$C$16:$F$21,4,0))","v":"-"},"-",null,null,null,null,0,0,0,0,0,0,"*"]
[null,null,749,null,null,null,null,null,null,null,null,null,null,null,null,null,null,null,null,null,null,null,null,null,null,null,null,null,null,null,null,null,null,null,null,{"$f":"IF(H758=\"\",\"-\",VLOOKUP(T758,読み替え表_スマートムーブ!$C$4:$F$13,4,0))","v":"-"},{"$f":"IF(H758=\"\",\"-\",VLOOKUP(V758,読み替え表_スマートムーブ!$C$16:$F$21,4,0))","v":"-"},"-",null,null,null,null,0,0,0,0,0,0,"*"]
[null,null,750,null,null,null,null,null,null,null,null,null,null,null,null,null,null,null,null,null,null,null,null,null,null,null,null,null,null,null,null,null,null,null,null,{"$f":"IF(H759=\"\",\"-\",VLOOKUP(T759,読み替え表_スマートムーブ!$C$4:$F$13,4,0))","v":"-"},{"$f":"IF(H759=\"\",\"-\",VLOOKUP(V759,読み替え表_スマートムーブ!$C$16:$F$21,4,0))","v":"-"},"-",null,null,null,null,0,0,0,0,0,0,"*"]
[null,null,751,null,null,null,null,null,null,null,null,null,null,null,null,null,null,null,null,null,null,null,null,null,null,null,null,null,null,null,null,null,null,null,null,{"$f":"IF(H760=\"\",\"-\",VLOOKUP(T760,読み替え表_スマートムーブ!$C$4:$F$13,4,0))","v":"-"},{"$f":"IF(H760=\"\",\"-\",VLOOKUP(V760,読み替え表_スマートムーブ!$C$16:$F$21,4,0))","v":"-"},"-",null,null,null,null,0,0,0,0,0,0,"*"]
[null,null,752,null,null,null,null,null,null,null,null,null,null,null,null,null,null,null,null,null,null,null,null,null,null,null,null,null,null,null,null,null,null,null,null,{"$f":"IF(H761=\"\",\"-\",VLOOKUP(T761,読み替え表_スマートムーブ!$C$4:$F$13,4,0))","v":"-"},{"$f":"IF(H761=\"\",\"-\",VLOOKUP(V761,読み替え表_スマートムーブ!$C$16:$F$21,4,0))","v":"-"},"-",null,null,null,null,0,0,0,0,0,0,"*"]
[null,null,753,null,null,null,null,null,null,null,null,null,null,null,null,null,null,null,null,null,null,null,null,null,null,null,null,null,null,null,null,null,null,null,null,{"$f":"IF(H762=\"\",\"-\",VLOOKUP(T762,読み替え表_スマートムーブ!$C$4:$F$13,4,0))","v":"-"},{"$f":"IF(H762=\"\",\"-\",VLOOKUP(V762,読み替え表_スマートムーブ!$C$16:$F$21,4,0))","v":"-"},"-",null,null,null,null,0,0,0,0,0,0,"*"]
[null,null,754,null,null,null,null,null,null,null,null,null,null,null,null,null,null,null,null,null,null,null,null,null,null,null,null,null,null,null,null,null,null,null,null,{"$f":"IF(H763=\"\",\"-\",VLOOKUP(T763,読み替え表_スマートムーブ!$C$4:$F$13,4,0))","v":"-"},{"$f":"IF(H763=\"\",\"-\",VLOOKUP(V763,読み替え表_スマートムーブ!$C$16:$F$21,4,0))","v":"-"},"-",null,null,null,null,0,0,0,0,0,0,"*"]
[null,null,755,null,null,null,null,null,null,null,null,null,null,null,null,null,null,null,null,null,null,null,null,null,null,null,null,null,null,null,null,null,null,null,null,{"$f":"IF(H764=\"\",\"-\",VLOOKUP(T764,読み替え表_スマートムーブ!$C$4:$F$13,4,0))","v":"-"},{"$f":"IF(H764=\"\",\"-\",VLOOKUP(V764,読み替え表_スマートムーブ!$C$16:$F$21,4,0))","v":"-"},"-",null,null,null,null,0,0,0,0,0,0,"*"]
[null,null,756,null,null,null,null,null,null,null,null,null,null,null,null,null,null,null,null,null,null,null,null,null,null,null,null,null,null,null,null,null,null,null,null,{"$f":"IF(H765=\"\",\"-\",VLOOKUP(T765,読み替え表_スマートムーブ!$C$4:$F$13,4,0))","v":"-"},{"$f":"IF(H765=\"\",\"-\",VLOOKUP(V765,読み替え表_スマートムーブ!$C$16:$F$21,4,0))","v":"-"},"-",null,null,null,null,0,0,0,0,0,0,"*"]
[null,null,757,null,null,null,null,null,null,null,null,null,null,null,null,null,null,null,null,null,null,null,null,null,null,null,null,null,null,null,null,null,null,null,null,{"$f":"IF(H766=\"\",\"-\",VLOOKUP(T766,読み替え表_スマートムーブ!$C$4:$F$13,4,0))","v":"-"},{"$f":"IF(H766=\"\",\"-\",VLOOKUP(V766,読み替え表_スマートムーブ!$C$16:$F$21,4,0))","v":"-"},"-",null,null,null,null,0,0,0,0,0,0,"*"]
[null,null,758,null,null,null,null,null,null,null,null,null,null,null,null,null,null,null,null,null,null,null,null,null,null,null,null,null,null,null,null,null,null,null,null,{"$f":"IF(H767=\"\",\"-\",VLOOKUP(T767,読み替え表_スマートムーブ!$C$4:$F$13,4,0))","v":"-"},{"$f":"IF(H767=\"\",\"-\",VLOOKUP(V767,読み替え表_スマートムーブ!$C$16:$F$21,4,0))","v":"-"},"-",null,null,null,null,0,0,0,0,0,0,"*"]
[null,null,759,null,null,null,null,null,null,null,null,null,null,null,null,null,null,null,null,null,null,null,null,null,null,null,null,null,null,null,null,null,null,null,null,{"$f":"IF(H768=\"\",\"-\",VLOOKUP(T768,読み替え表_スマートムーブ!$C$4:$F$13,4,0))","v":"-"},{"$f":"IF(H768=\"\",\"-\",VLOOKUP(V768,読み替え表_スマートムーブ!$C$16:$F$21,4,0))","v":"-"},"-",null,null,null,null,0,0,0,0,0,0,"*"]
[null,null,760,null,null,null,null,null,null,null,null,null,null,null,null,null,null,null,null,null,null,null,null,null,null,null,null,null,null,null,null,null,null,null,null,{"$f":"IF(H769=\"\",\"-\",VLOOKUP(T769,読み替え表_スマートムーブ!$C$4:$F$13,4,0))","v":"-"},{"$f":"IF(H769=\"\",\"-\",VLOOKUP(V769,読み替え表_スマートムーブ!$C$16:$F$21,4,0))","v":"-"},"-",null,null,null,null,0,0,0,0,0,0,"*"]
[null,null,761,null,null,null,null,null,null,null,null,null,null,null,null,null,null,null,null,null,null,null,null,null,null,null,null,null,null,null,null,null,null,null,null,{"$f":"IF(H770=\"\",\"-\",VLOOKUP(T770,読み替え表_スマートムーブ!$C$4:$F$13,4,0))","v":"-"},{"$f":"IF(H770=\"\",\"-\",VLOOKUP(V770,読み替え表_スマートムーブ!$C$16:$F$21,4,0))","v":"-"},"-",null,null,null,null,0,0,0,0,0,0,"*"]
[null,null,762,null,null,null,null,null,null,null,null,null,null,null,null,null,null,null,null,null,null,null,null,null,null,null,null,null,null,null,null,null,null,null,null,{"$f":"IF(H771=\"\",\"-\",VLOOKUP(T771,読み替え表_スマートムーブ!$C$4:$F$13,4,0))","v":"-"},{"$f":"IF(H771=\"\",\"-\",VLOOKUP(V771,読み替え表_スマートムーブ!$C$16:$F$21,4,0))","v":"-"},"-",null,null,null,null,0,0,0,0,0,0,"*"]
[null,null,763,null,null,null,null,null,null,null,null,null,null,null,null,null,null,null,null,null,null,null,null,null,null,null,null,null,null,null,null,null,null,null,null,{"$f":"IF(H772=\"\",\"-\",VLOOKUP(T772,読み替え表_スマートムーブ!$C$4:$F$13,4,0))","v":"-"},{"$f":"IF(H772=\"\",\"-\",VLOOKUP(V772,読み替え表_スマートムーブ!$C$16:$F$21,4,0))","v":"-"},"-",null,null,null,null,0,0,0,0,0,0,"*"]
[null,null,764,null,null,null,null,null,null,null,null,null,null,null,null,null,null,null,null,null,null,null,null,null,null,null,null,null,null,null,null,null,null,null,null,{"$f":"IF(H773=\"\",\"-\",VLOOKUP(T773,読み替え表_スマートムーブ!$C$4:$F$13,4,0))","v":"-"},{"$f":"IF(H773=\"\",\"-\",VLOOKUP(V773,読み替え表_スマートムーブ!$C$16:$F$21,4,0))","v":"-"},"-",null,null,null,null,0,0,0,0,0,0,"*"]
[null,null,765,null,null,null,null,null,null,null,null,null,null,null,null,null,null,null,null,null,null,null,null,null,null,null,null,null,null,null,null,null,null,null,null,{"$f":"IF(H774=\"\",\"-\",VLOOKUP(T774,読み替え表_スマートムーブ!$C$4:$F$13,4,0))","v":"-"},{"$f":"IF(H774=\"\",\"-\",VLOOKUP(V774,読み替え表_スマートムーブ!$C$16:$F$21,4,0))","v":"-"},"-",null,null,null,null,0,0,0,0,0,0,"*"]
[null,null,766,null,null,null,null,null,null,null,null,null,null,null,null,null,null,null,null,null,null,null,null,null,null,null,null,null,null,null,null,null,null,null,null,{"$f":"IF(H775=\"\",\"-\",VLOOKUP(T775,読み替え表_スマートムーブ!$C$4:$F$13,4,0))","v":"-"},{"$f":"IF(H775=\"\",\"-\",VLOOKUP(V775,読み替え表_スマートムーブ!$C$16:$F$21,4,0))","v":"-"},"-",null,null,null,null,0,0,0,0,0,0,"*"]
[null,null,767,null,null,null,null,null,null,null,null,null,null,null,null,null,null,null,null,null,null,null,null,null,null,null,null,null,null,null,null,null,null,null,null,{"$f":"IF(H776=\"\",\"-\",VLOOKUP(T776,読み替え表_スマートムーブ!$C$4:$F$13,4,0))","v":"-"},{"$f":"IF(H776=\"\",\"-\",VLOOKUP(V776,読み替え表_スマートムーブ!$C$16:$F$21,4,0))","v":"-"},"-",null,null,null,null,0,0,0,0,0,0,"*"]
[null,null,768,null,null,null,null,null,null,null,null,null,null,null,null,null,null,null,null,null,null,null,null,null,null,null,null,null,null,null,null,null,null,null,null,{"$f":"IF(H777=\"\",\"-\",VLOOKUP(T777,読み替え表_スマートムーブ!$C$4:$F$13,4,0))","v":"-"},{"$f":"IF(H777=\"\",\"-\",VLOOKUP(V777,読み替え表_スマートムーブ!$C$16:$F$21,4,0))","v":"-"},"-",null,null,null,null,0,0,0,0,0,0,"*"]
[null,null,769,null,null,null,null,null,null,null,null,null,null,null,null,null,null,null,null,null,null,null,null,null,null,null,null,null,null,null,null,null,null,null,null,{"$f":"IF(H778=\"\",\"-\",VLOOKUP(T778,読み替え表_スマートムーブ!$C$4:$F$13,4,0))","v":"-"},{"$f":"IF(H778=\"\",\"-\",VLOOKUP(V778,読み替え表_スマートムーブ!$C$16:$F$21,4,0))","v":"-"},"-",null,null,null,null,0,0,0,0,0,{"$f":"AQ778","v":0},"*"]
[null,null,{"$f":"ROW()-9","v":770},null,null,null,null,null,null,null,null,null,null,null,null,null,null,null,null,null,null,null,null,null,null,null,null,null,null,null,null,null,null,null,null,{"$f":"IF(H779=\"\",\"-\",VLOOKUP(T779,読み替え表_スマートムーブ!$C$4:$F$13,4,0))","v":"-"},{"$f":"IF(H779=\"\",\"-\",VLOOKUP(V779,読み替え表_スマートムーブ!$C$16:$F$21,4,0))","v":"-"},{"$f":"IF(H779=\"\",\"-\",AJ779*AK779)","v":"-"},null,null,null,null,{"$f":"IF(SUM($AR779:$AT779)>=1,1,0)","v":0},{"$f":"IF(R779=1,1,0)","v":0},{"$f":"IF(T779=9,1,0)","v":0},{"$f":"IF(V779=5,1,0)","v":0},{"$f":"IF(OR($X779=1,$X779=2,$X779=3),1,0)","v":0},0,"*"]
[null,null,771,null,null,null,null,null,null,null,null,null,null,null,null,null,null,null,null,null,null,null,null,null,null,null,null,null,null,null,null,null,null,null,null,{"$f":"IF(H780=\"\",\"-\",VLOOKUP(T780,読み替え表_スマートムーブ!$C$4:$F$13,4,0))","v":"-"},{"$f":"IF(H780=\"\",\"-\",VLOOKUP(V780,読み替え表_スマートムーブ!$C$16:$F$21,4,0))","v":"-"},"-",null,null,null,null,0,0,0,0,0,0,"*"]
[null,null,772,null,null,null,null,null,null,null,null,null,null,null,null,null,null,null,null,null,null,null,null,null,null,null,null,null,null,null,null,null,null,null,null,{"$f":"IF(H781=\"\",\"-\",VLOOKUP(T781,読み替え表_スマートムーブ!$C$4:$F$13,4,0))","v":"-"},{"$f":"IF(H781=\"\",\"-\",VLOOKUP(V781,読み替え表_スマートムーブ!$C$16:$F$21,4,0))","v":"-"},"-",null,null,null,null,0,0,0,0,0,0,"*"]
[null,null,773,null,null,null,null,null,null,null,null,null,null,null,null,null,null,null,null,null,null,null,null,null,null,null,null,null,null,null,null,null,null,null,null,{"$f":"IF(H782=\"\",\"-\",VLOOKUP(T782,読み替え表_スマートムーブ!$C$4:$F$13,4,0))","v":"-"},{"$f":"IF(H782=\"\",\"-\",VLOOKUP(V782,読み替え表_スマートムーブ!$C$16:$F$21,4,0))","v":"-"},"-",null,null,null,null,0,0,0,0,0,0,"*"]
[null,null,774,null,null,null,null,null,null,null,null,null,null,null,null,null,null,null,null,null,null,null,null,null,null,null,null,null,null,null,null,null,null,null,null,{"$f":"IF(H783=\"\",\"-\",VLOOKUP(T783,読み替え表_スマートムーブ!$C$4:$F$13,4,0))","v":"-"},{"$f":"IF(H783=\"\",\"-\",VLOOKUP(V783,読み替え表_スマートムーブ!$C$16:$F$21,4,0))","v":"-"},"-",null,null,null,null,0,0,0,0,0,0,"*"]
[null,null,775,null,null,null,null,null,null,null,null,null,null,null,null,null,null,null,null,null,null,null,null,null,null,null,null,null,null,null,null,null,null,null,null,{"$f":"IF(H784=\"\",\"-\",VLOOKUP(T784,読み替え表_スマートムーブ!$C$4:$F$13,4,0))","v":"-"},{"$f":"IF(H784=\"\",\"-\",VLOOKUP(V784,読み替え表_スマートムーブ!$C$16:$F$21,4,0))","v":"-"},"-",null,null,null,null,0,0,0,0,0,0,"*"]
[null,null,776,null,null,null,null,null,null,null,null,null,null,null,null,null,null,null,null,null,null,null,null,null,null,null,null,null,null,null,null,null,null,null,null,{"$f":"IF(H785=\"\",\"-\",VLOOKUP(T785,読み替え表_スマートムーブ!$C$4:$F$13,4,0))","v":"-"},{"$f":"IF(H785=\"\",\"-\",VLOOKUP(V785,読み替え表_スマートムーブ!$C$16:$F$21,4,0))","v":"-"},"-",null,null,null,null,0,0,0,0,0,0,"*"]
[null,null,777,null,null,null,null,null,null,null,null,null,null,null,null,null,null,null,null,null,null,null,null,null,null,null,null,null,null,null,null,null,null,null,null,{"$f":"IF(H786=\"\",\"-\",VLOOKUP(T786,読み替え表_スマートムーブ!$C$4:$F$13,4,0))","v":"-"},{"$f":"IF(H786=\"\",\"-\",VLOOKUP(V786,読み替え表_スマートムーブ!$C$16:$F$21,4,0))","v":"-"},"-",null,null,null,null,0,0,0,0,0,0,"*"]
[null,null,778,null,null,null,null,null,null,null,null,null,null,null,null,null,null,null,null,null,null,null,null,null,null,null,null,null,null,null,null,null,null,null,null,{"$f":"IF(H787=\"\",\"-\",VLOOKUP(T787,読み替え表_スマートムーブ!$C$4:$F$13,4,0))","v":"-"},{"$f":"IF(H787=\"\",\"-\",VLOOKUP(V787,読み替え表_スマートムーブ!$C$16:$F$21,4,0))","v":"-"},"-",null,null,null,null,0,0,0,0,0,0,"*"]
[null,null,779,null,null,null,null,null,null,null,null,null,null,null,null,null,null,null,null,null,null,null,null,null,null,null,null,null,null,null,null,null,null,null,null,{"$f":"IF(H788=\"\",\"-\",VLOOKUP(T788,読み替え表_スマートムーブ!$C$4:$F$13,4,0))","v":"-"},{"$f":"IF(H788=\"\",\"-\",VLOOKUP(V788,読み替え表_スマートムーブ!$C$16:$F$21,4,0))","v":"-"},"-",null,null,null,null,0,0,0,0,0,0,"*"]
[null,null,780,null,null,null,null,null,null,null,null,null,null,null,null,null,null,null,null,null,null,null,null,null,null,null,null,null,null,null,null,null,null,null,null,{"$f":"IF(H789=\"\",\"-\",VLOOKUP(T789,読み替え表_スマートムーブ!$C$4:$F$13,4,0))","v":"-"},{"$f":"IF(H789=\"\",\"-\",VLOOKUP(V789,読み替え表_スマートムーブ!$C$16:$F$21,4,0))","v":"-"},"-",null,null,null,null,0,0,0,0,0,0,"*"]
[null,null,781,null,null,null,null,null,null,null,null,null,null,null,null,null,null,null,null,null,null,null,null,null,null,null,null,null,null,null,null,null,null,null,null,{"$f":"IF(H790=\"\",\"-\",VLOOKUP(T790,読み替え表_スマートムーブ!$C$4:$F$13,4,0))","v":"-"},{"$f":"IF(H790=\"\",\"-\",VLOOKUP(V790,読み替え表_スマートムーブ!$C$16:$F$21,4,0))","v":"-"},"-",null,null,null,null,0,0,0,0,0,0,"*"]
[null,null,782,null,null,null,null,null,null,null,null,null,null,null,null,null,null,null,null,null,null,null,null,null,null,null,null,null,null,null,null,null,null,null,null,{"$f":"IF(H791=\"\",\"-\",VLOOKUP(T791,読み替え表_スマートムーブ!$C$4:$F$13,4,0))","v":"-"},{"$f":"IF(H791=\"\",\"-\",VLOOKUP(V791,読み替え表_スマートムーブ!$C$16:$F$21,4,0))","v":"-"},"-",null,null,null,null,0,0,0,0,0,0,"*"]
[null,null,783,null,null,null,null,null,null,null,null,null,null,null,null,null,null,null,null,null,null,null,null,null,null,null,null,null,null,null,null,null,null,null,null,{"$f":"IF(H792=\"\",\"-\",VLOOKUP(T792,読み替え表_スマートムーブ!$C$4:$F$13,4,0))","v":"-"},{"$f":"IF(H792=\"\",\"-\",VLOOKUP(V792,読み替え表_スマートムーブ!$C$16:$F$21,4,0))","v":"-"},"-",null,null,null,null,0,0,0,0,0,0,"*"]
[null,null,784,null,null,null,null,null,null,null,null,null,null,null,null,null,null,null,null,null,null,null,null,null,null,null,null,null,null,null,null,null,null,null,null,{"$f":"IF(H793=\"\",\"-\",VLOOKUP(T793,読み替え表_スマートムーブ!$C$4:$F$13,4,0))","v":"-"},{"$f":"IF(H793=\"\",\"-\",VLOOKUP(V793,読み替え表_スマートムーブ!$C$16:$F$21,4,0))","v":"-"},"-",null,null,null,null,0,0,0,0,0,0,"*"]
[null,null,785,null,null,null,null,null,null,null,null,null,null,null,null,null,null,null,null,null,null,null,null,null,null,null,null,null,null,null,null,null,null,null,null,{"$f":"IF(H794=\"\",\"-\",VLOOKUP(T794,読み替え表_スマートムーブ!$C$4:$F$13,4,0))","v":"-"},{"$f":"IF(H794=\"\",\"-\",VLOOKUP(V794,読み替え表_スマートムーブ!$C$16:$F$21,4,0))","v":"-"},"-",null,null,null,null,0,0,0,0,0,0,"*"]
[null,null,786,null,null,null,null,null,null,null,null,null,null,null,null,null,null,null,null,null,null,null,null,null,null,null,null,null,null,null,null,null,null,null,null,{"$f":"IF(H795=\"\",\"-\",VLOOKUP(T795,読み替え表_スマートムーブ!$C$4:$F$13,4,0))","v":"-"},{"$f":"IF(H795=\"\",\"-\",VLOOKUP(V795,読み替え表_スマートムーブ!$C$16:$F$21,4,0))","v":"-"},"-",null,null,null,null,0,0,0,0,0,0,"*"]
[null,null,787,null,null,null,null,null,null,null,null,null,null,null,null,null,null,null,null,null,null,null,null,null,null,null,null,null,null,null,null,null,null,null,null,{"$f":"IF(H796=\"\",\"-\",VLOOKUP(T796,読み替え表_スマートムーブ!$C$4:$F$13,4,0))","v":"-"},{"$f":"IF(H796=\"\",\"-\",VLOOKUP(V796,読み替え表_スマートムーブ!$C$16:$F$21,4,0))","v":"-"},"-",null,null,null,null,0,0,0,0,0,0,"*"]
[null,null,788,null,null,null,null,null,null,null,null,null,null,null,null,null,null,null,null,null,null,null,null,null,null,null,null,null,null,null,null,null,null,null,null,{"$f":"IF(H797=\"\",\"-\",VLOOKUP(T797,読み替え表_スマートムーブ!$C$4:$F$13,4,0))","v":"-"},{"$f":"IF(H797=\"\",\"-\",VLOOKUP(V797,読み替え表_スマートムーブ!$C$16:$F$21,4,0))","v":"-"},"-",null,null,null,null,0,0,0,0,0,0,"*"]
[null,null,789,null,null,null,null,null,null,null,null,null,null,null,null,null,null,null,null,null,null,null,null,null,null,null,null,null,null,null,null,null,null,null,null,{"$f":"IF(H798=\"\",\"-\",VLOOKUP(T798,読み替え表_スマートムーブ!$C$4:$F$13,4,0))","v":"-"},{"$f":"IF(H798=\"\",\"-\",VLOOKUP(V798,読み替え表_スマートムーブ!$C$16:$F$21,4,0))","v":"-"},"-",null,null,null,null,0,0,0,0,0,0,"*"]
[null,null,790,null,null,null,null,null,null,null,null,null,null,null,null,null,null,null,null,null,null,null,null,null,null,null,null,null,null,null,null,null,null,null,null,{"$f":"IF(H799=\"\",\"-\",VLOOKUP(T799,読み替え表_スマートムーブ!$C$4:$F$13,4,0))","v":"-"},{"$f":"IF(H799=\"\",\"-\",VLOOKUP(V799,読み替え表_スマートムーブ!$C$16:$F$21,4,0))","v":"-"},"-",null,null,null,null,0,0,0,0,0,0,"*"]
[null,null,791,null,null,null,null,null,null,null,null,null,null,null,null,null,null,null,null,null,null,null,null,null,null,null,null,null,null,null,null,null,null,null,null,{"$f":"IF(H800=\"\",\"-\",VLOOKUP(T800,読み替え表_スマートムーブ!$C$4:$F$13,4,0))","v":"-"},{"$f":"IF(H800=\"\",\"-\",VLOOKUP(V800,読み替え表_スマートムーブ!$C$16:$F$21,4,0))","v":"-"},"-",null,null,null,null,0,0,0,0,0,0,"*"]
[null,null,792,null,null,null,null,null,null,null,null,null,null,null,null,null,null,null,null,null,null,null,null,null,null,null,null,null,null,null,null,null,null,null,null,{"$f":"IF(H801=\"\",\"-\",VLOOKUP(T801,読み替え表_スマートムーブ!$C$4:$F$13,4,0))","v":"-"},{"$f":"IF(H801=\"\",\"-\",VLOOKUP(V801,読み替え表_スマートムーブ!$C$16:$F$21,4,0))","v":"-"},"-",null,null,null,null,0,0,0,0,0,0,"*"]
[null,null,793,null,null,null,null,null,null,null,null,null,null,null,null,null,null,null,null,null,null,null,null,null,null,null,null,null,null,null,null,null,null,null,null,{"$f":"IF(H802=\"\",\"-\",VLOOKUP(T802,読み替え表_スマートムーブ!$C$4:$F$13,4,0))","v":"-"},{"$f":"IF(H802=\"\",\"-\",VLOOKUP(V802,読み替え表_スマートムーブ!$C$16:$F$21,4,0))","v":"-"},"-",null,null,null,null,0,0,0,0,0,0,"*"]
[null,null,794,null,null,null,null,null,null,null,null,null,null,null,null,null,null,null,null,null,null,null,null,null,null,null,null,null,null,null,null,null,null,null,null,{"$f":"IF(H803=\"\",\"-\",VLOOKUP(T803,読み替え表_スマートムーブ!$C$4:$F$13,4,0))","v":"-"},{"$f":"IF(H803=\"\",\"-\",VLOOKUP(V803,読み替え表_スマートムーブ!$C$16:$F$21,4,0))","v":"-"},"-",null,null,null,null,0,0,0,0,0,0,"*"]
[null,null,795,null,null,null,null,null,null,null,null,null,null,null,null,null,null,null,null,null,null,null,null,null,null,null,null,null,null,null,null,null,null,null,null,{"$f":"IF(H804=\"\",\"-\",VLOOKUP(T804,読み替え表_スマートムーブ!$C$4:$F$13,4,0))","v":"-"},{"$f":"IF(H804=\"\",\"-\",VLOOKUP(V804,読み替え表_スマートムーブ!$C$16:$F$21,4,0))","v":"-"},"-",null,null,null,null,0,0,0,0,0,0,"*"]
[null,null,796,null,null,null,null,null,null,null,null,null,null,null,null,null,null,null,null,null,null,null,null,null,null,null,null,null,null,null,null,null,null,null,null,{"$f":"IF(H805=\"\",\"-\",VLOOKUP(T805,読み替え表_スマートムーブ!$C$4:$F$13,4,0))","v":"-"},{"$f":"IF(H805=\"\",\"-\",VLOOKUP(V805,読み替え表_スマートムーブ!$C$16:$F$21,4,0))","v":"-"},"-",null,null,null,null,0,0,0,0,0,0,"*"]
[null,null,797,null,null,null,null,null,null,null,null,null,null,null,null,null,null,null,null,null,null,null,null,null,null,null,null,null,null,null,null,null,null,null,null,{"$f":"IF(H806=\"\",\"-\",VLOOKUP(T806,読み替え表_スマートムーブ!$C$4:$F$13,4,0))","v":"-"},{"$f":"IF(H806=\"\",\"-\",VLOOKUP(V806,読み替え表_スマートムーブ!$C$16:$F$21,4,0))","v":"-"},"-",null,null,null,null,0,0,0,0,0,0,"*"]
[null,null,798,null,null,null,null,null,null,null,null,null,null,null,null,null,null,null,null,null,null,null,null,null,null,null,null,null,null,null,null,null,null,null,null,{"$f":"IF(H807=\"\",\"-\",VLOOKUP(T807,読み替え表_スマートムーブ!$C$4:$F$13,4,0))","v":"-"},{"$f":"IF(H807=\"\",\"-\",VLOOKUP(V807,読み替え表_スマートムーブ!$C$16:$F$21,4,0))","v":"-"},"-",null,null,null,null,0,0,0,0,0,0,"*"]
[null,null,799,null,null,null,null,null,null,null,null,null,null,null,null,null,null,null,null,null,null,null,null,null,null,null,null,null,null,null,null,null,null,null,null,{"$f":"IF(H808=\"\",\"-\",VLOOKUP(T808,読み替え表_スマートムーブ!$C$4:$F$13,4,0))","v":"-"},{"$f":"IF(H808=\"\",\"-\",VLOOKUP(V808,読み替え表_スマートムーブ!$C$16:$F$21,4,0))","v":"-"},"-",null,null,null,null,0,0,0,0,0,0,"*"]
[null,null,800,null,null,null,null,null,null,null,null,null,null,null,null,null,null,null,null,null,null,null,null,null,null,null,null,null,null,null,null,null,null,null,null,{"$f":"IF(H809=\"\",\"-\",VLOOKUP(T809,読み替え表_スマートムーブ!$C$4:$F$13,4,0))","v":"-"},{"$f":"IF(H809=\"\",\"-\",VLOOKUP(V809,読み替え表_スマートムーブ!$C$16:$F$21,4,0))","v":"-"},"-",null,null,null,null,0,0,0,0,0,0,"*"]
[null,null,801,null,null,null,null,null,null,null,null,null,null,null,null,null,null,null,null,null,null,null,null,null,null,null,null,null,null,null,null,null,null,null,null,{"$f":"IF(H810=\"\",\"-\",VLOOKUP(T810,読み替え表_スマートムーブ!$C$4:$F$13,4,0))","v":"-"},{"$f":"IF(H810=\"\",\"-\",VLOOKUP(V810,読み替え表_スマートムーブ!$C$16:$F$21,4,0))","v":"-"},"-",null,null,null,null,0,0,0,0,0,0,"*"]
[null,null,802,null,null,null,null,null,null,null,null,null,null,null,null,null,null,null,null,null,null,null,null,null,null,null,null,null,null,null,null,null,null,null,null,{"$f":"IF(H811=\"\",\"-\",VLOOKUP(T811,読み替え表_スマートムーブ!$C$4:$F$13,4,0))","v":"-"},{"$f":"IF(H811=\"\",\"-\",VLOOKUP(V811,読み替え表_スマートムーブ!$C$16:$F$21,4,0))","v":"-"},"-",null,null,null,null,0,0,0,0,0,0,"*"]
[null,null,803,null,null,null,null,null,null,null,null,null,null,null,null,null,null,null,null,null,null,null,null,null,null,null,null,null,null,null,null,null,null,null,null,{"$f":"IF(H812=\"\",\"-\",VLOOKUP(T812,読み替え表_スマートムーブ!$C$4:$F$13,4,0))","v":"-"},{"$f":"IF(H812=\"\",\"-\",VLOOKUP(V812,読み替え表_スマートムーブ!$C$16:$F$21,4,0))","v":"-"},"-",null,null,null,null,0,0,0,0,0,0,"*"]
[null,null,804,null,null,null,null,null,null,null,null,null,null,null,null,null,null,null,null,null,null,null,null,null,null,null,null,null,null,null,null,null,null,null,null,{"$f":"IF(H813=\"\",\"-\",VLOOKUP(T813,読み替え表_スマートムーブ!$C$4:$F$13,4,0))","v":"-"},{"$f":"IF(H813=\"\",\"-\",VLOOKUP(V813,読み替え表_スマートムーブ!$C$16:$F$21,4,0))","v":"-"},"-",null,null,null,null,0,0,0,0,0,0,"*"]
[null,null,805,null,null,null,null,null,null,null,null,null,null,null,null,null,null,null,null,null,null,null,null,null,null,null,null,null,null,null,null,null,null,null,null,{"$f":"IF(H814=\"\",\"-\",VLOOKUP(T814,読み替え表_スマートムーブ!$C$4:$F$13,4,0))","v":"-"},{"$f":"IF(H814=\"\",\"-\",VLOOKUP(V814,読み替え表_スマートムーブ!$C$16:$F$21,4,0))","v":"-"},"-",null,null,null,null,0,0,0,0,0,0,"*"]
[null,null,806,null,null,null,null,null,null,null,null,null,null,null,null,null,null,null,null,null,null,null,null,null,null,null,null,null,null,null,null,null,null,null,null,{"$f":"IF(H815=\"\",\"-\",VLOOKUP(T815,読み替え表_スマートムーブ!$C$4:$F$13,4,0))","v":"-"},{"$f":"IF(H815=\"\",\"-\",VLOOKUP(V815,読み替え表_スマートムーブ!$C$16:$F$21,4,0))","v":"-"},"-",null,null,null,null,0,0,0,0,0,0,"*"]
[null,null,807,null,null,null,null,null,null,null,null,null,null,null,null,null,null,null,null,null,null,null,null,null,null,null,null,null,null,null,null,null,null,null,null,{"$f":"IF(H816=\"\",\"-\",VLOOKUP(T816,読み替え表_スマートムーブ!$C$4:$F$13,4,0))","v":"-"},{"$f":"IF(H816=\"\",\"-\",VLOOKUP(V816,読み替え表_スマートムーブ!$C$16:$F$21,4,0))","v":"-"},"-",null,null,null,null,0,0,0,0,0,0,"*"]
[null,null,808,null,null,null,null,null,null,null,null,null,null,null,null,null,null,null,null,null,null,null,null,null,null,null,null,null,null,null,null,null,null,null,null,{"$f":"IF(H817=\"\",\"-\",VLOOKUP(T817,読み替え表_スマートムーブ!$C$4:$F$13,4,0))","v":"-"},{"$f":"IF(H817=\"\",\"-\",VLOOKUP(V817,読み替え表_スマートムーブ!$C$16:$F$21,4,0))","v":"-"},"-",null,null,null,null,0,0,0,0,0,0,"*"]
[null,null,809,null,null,null,null,null,null,null,null,null,null,null,null,null,null,null,null,null,null,null,null,null,null,null,null,null,null,null,null,null,null,null,null,{"$f":"IF(H818=\"\",\"-\",VLOOKUP(T818,読み替え表_スマートムーブ!$C$4:$F$13,4,0))","v":"-"},{"$f":"IF(H818=\"\",\"-\",VLOOKUP(V818,読み替え表_スマートムーブ!$C$16:$F$21,4,0))","v":"-"},"-",null,null,null,null,0,0,0,0,0,0,"*"]
[null,null,810,null,null,null,null,null,null,null,null,null,null,null,null,null,null,null,null,null,null,null,null,null,null,null,null,null,null,null,null,null,null,null,null,{"$f":"IF(H819=\"\",\"-\",VLOOKUP(T819,読み替え表_スマートムーブ!$C$4:$F$13,4,0))","v":"-"},{"$f":"IF(H819=\"\",\"-\",VLOOKUP(V819,読み替え表_スマートムーブ!$C$16:$F$21,4,0))","v":"-"},"-",null,null,null,null,0,0,0,0,0,0,"*"]
[null,null,811,null,null,null,null,null,null,null,null,null,null,null,null,null,null,null,null,null,null,null,null,null,null,null,null,null,null,null,null,null,null,null,null,{"$f":"IF(H820=\"\",\"-\",VLOOKUP(T820,読み替え表_スマートムーブ!$C$4:$F$13,4,0))","v":"-"},{"$f":"IF(H820=\"\",\"-\",VLOOKUP(V820,読み替え表_スマートムーブ!$C$16:$F$21,4,0))","v":"-"},"-",null,null,null,null,0,0,0,0,0,0,"*"]
[null,null,812,null,null,null,null,null,null,null,null,null,null,null,null,null,null,null,null,null,null,null,null,null,null,null,null,null,null,null,null,null,null,null,null,{"$f":"IF(H821=\"\",\"-\",VLOOKUP(T821,読み替え表_スマートムーブ!$C$4:$F$13,4,0))","v":"-"},{"$f":"IF(H821=\"\",\"-\",VLOOKUP(V821,読み替え表_スマートムーブ!$C$16:$F$21,4,0))","v":"-"},"-",null,null,null,null,0,0,0,0,0,0,"*"]
[null,null,813,null,null,null,null,null,null,null,null,null,null,null,null,null,null,null,null,null,null,null,null,null,null,null,null,null,null,null,null,null,null,null,null,{"$f":"IF(H822=\"\",\"-\",VLOOKUP(T822,読み替え表_スマートムーブ!$C$4:$F$13,4,0))","v":"-"},{"$f":"IF(H822=\"\",\"-\",VLOOKUP(V822,読み替え表_スマートムーブ!$C$16:$F$21,4,0))","v":"-"},"-",null,null,null,null,0,0,0,0,0,0,"*"]
[null,null,814,null,null,null,null,null,null,null,null,null,null,null,null,null,null,null,null,null,null,null,null,null,null,null,null,null,null,null,null,null,null,null,null,{"$f":"IF(H823=\"\",\"-\",VLOOKUP(T823,読み替え表_スマートムーブ!$C$4:$F$13,4,0))","v":"-"},{"$f":"IF(H823=\"\",\"-\",VLOOKUP(V823,読み替え表_スマートムーブ!$C$16:$F$21,4,0))","v":"-"},"-",null,null,null,null,0,0,0,0,0,0,"*"]
[null,null,815,null,null,null,null,null,null,null,null,null,null,null,null,null,null,null,null,null,null,null,null,null,null,null,null,null,null,null,null,null,null,null,null,{"$f":"IF(H824=\"\",\"-\",VLOOKUP(T824,読み替え表_スマートムーブ!$C$4:$F$13,4,0))","v":"-"},{"$f":"IF(H824=\"\",\"-\",VLOOKUP(V824,読み替え表_スマートムーブ!$C$16:$F$21,4,0))","v":"-"},"-",null,null,null,null,0,0,0,0,0,0,"*"]
[null,null,816,null,null,null,null,null,null,null,null,null,null,null,null,null,null,null,null,null,null,null,null,null,null,null,null,null,null,null,null,null,null,null,null,{"$f":"IF(H825=\"\",\"-\",VLOOKUP(T825,読み替え表_スマートムーブ!$C$4:$F$13,4,0))","v":"-"},{"$f":"IF(H825=\"\",\"-\",VLOOKUP(V825,読み替え表_スマートムーブ!$C$16:$F$21,4,0))","v":"-"},"-",null,null,null,null,0,0,0,0,0,0,"*"]
[null,null,817,null,null,null,null,null,null,null,null,null,null,null,null,null,null,null,null,null,null,null,null,null,null,null,null,null,null,null,null,null,null,null,null,{"$f":"IF(H826=\"\",\"-\",VLOOKUP(T826,読み替え表_スマートムーブ!$C$4:$F$13,4,0))","v":"-"},{"$f":"IF(H826=\"\",\"-\",VLOOKUP(V826,読み替え表_スマートムーブ!$C$16:$F$21,4,0))","v":"-"},"-",null,null,null,null,0,0,0,0,0,0,"*"]
[null,null,818,null,null,null,null,null,null,null,null,null,null,null,null,null,null,null,null,null,null,null,null,null,null,null,null,null,null,null,null,null,null,null,null,{"$f":"IF(H827=\"\",\"-\",VLOOKUP(T827,読み替え表_スマートムーブ!$C$4:$F$13,4,0))","v":"-"},{"$f":"IF(H827=\"\",\"-\",VLOOKUP(V827,読み替え表_スマートムーブ!$C$16:$F$21,4,0))","v":"-"},"-",null,null,null,null,0,0,0,0,0,0,"*"]
[null,null,819,null,null,null,null,null,null,null,null,null,null,null,null,null,null,null,null,null,null,null,null,null,null,null,null,null,null,null,null,null,null,null,null,{"$f":"IF(H828=\"\",\"-\",VLOOKUP(T828,読み替え表_スマートムーブ!$C$4:$F$13,4,0))","v":"-"},{"$f":"IF(H828=\"\",\"-\",VLOOKUP(V828,読み替え表_スマートムーブ!$C$16:$F$21,4,0))","v":"-"},"-",null,null,null,null,0,0,0,0,0,0,"*"]
[null,null,820,null,null,null,null,null,null,null,null,null,null,null,null,null,null,null,null,null,null,null,null,null,null,null,null,null,null,null,null,null,null,null,null,{"$f":"IF(H829=\"\",\"-\",VLOOKUP(T829,読み替え表_スマートムーブ!$C$4:$F$13,4,0))","v":"-"},{"$f":"IF(H829=\"\",\"-\",VLOOKUP(V829,読み替え表_スマートムーブ!$C$16:$F$21,4,0))","v":"-"},"-",null,null,null,null,0,0,0,0,0,0,"*"]
[null,null,821,null,null,null,null,null,null,null,null,null,null,null,null,null,null,null,null,null,null,null,null,null,null,null,null,null,null,null,null,null,null,null,null,{"$f":"IF(H830=\"\",\"-\",VLOOKUP(T830,読み替え表_スマートムーブ!$C$4:$F$13,4,0))","v":"-"},{"$f":"IF(H830=\"\",\"-\",VLOOKUP(V830,読み替え表_スマートムーブ!$C$16:$F$21,4,0))","v":"-"},"-",null,null,null,null,0,0,0,0,0,0,"*"]
[null,null,822,null,null,null,null,null,null,null,null,null,null,null,null,null,null,null,null,null,null,null,null,null,null,null,null,null,null,null,null,null,null,null,null,{"$f":"IF(H831=\"\",\"-\",VLOOKUP(T831,読み替え表_スマートムーブ!$C$4:$F$13,4,0))","v":"-"},{"$f":"IF(H831=\"\",\"-\",VLOOKUP(V831,読み替え表_スマートムーブ!$C$16:$F$21,4,0))","v":"-"},"-",null,null,null,null,0,0,0,0,0,0,"*"]
[null,null,823,null,null,null,null,null,null,null,null,null,null,null,null,null,null,null,null,null,null,null,null,null,null,null,null,null,null,null,null,null,null,null,null,{"$f":"IF(H832=\"\",\"-\",VLOOKUP(T832,読み替え表_スマートムーブ!$C$4:$F$13,4,0))","v":"-"},{"$f":"IF(H832=\"\",\"-\",VLOOKUP(V832,読み替え表_スマートムーブ!$C$16:$F$21,4,0))","v":"-"},"-",null,null,null,null,0,0,0,0,0,0,"*"]
[null,null,824,null,null,null,null,null,null,null,null,null,null,null,null,null,null,null,null,null,null,null,null,null,null,null,null,null,null,null,null,null,null,null,null,{"$f":"IF(H833=\"\",\"-\",VLOOKUP(T833,読み替え表_スマートムーブ!$C$4:$F$13,4,0))","v":"-"},{"$f":"IF(H833=\"\",\"-\",VLOOKUP(V833,読み替え表_スマートムーブ!$C$16:$F$21,4,0))","v":"-"},"-",null,null,null,null,0,0,0,0,0,0,"*"]
[null,null,825,null,null,null,null,null,null,null,null,null,null,null,null,null,null,null,null,null,null,null,null,null,null,null,null,null,null,null,null,null,null,null,null,{"$f":"IF(H834=\"\",\"-\",VLOOKUP(T834,読み替え表_スマートムーブ!$C$4:$F$13,4,0))","v":"-"},{"$f":"IF(H834=\"\",\"-\",VLOOKUP(V834,読み替え表_スマートムーブ!$C$16:$F$21,4,0))","v":"-"},"-",null,null,null,null,0,0,0,0,0,0,"*"]
[null,null,826,null,null,null,null,null,null,null,null,null,null,null,null,null,null,null,null,null,null,null,null,null,null,null,null,null,null,null,null,null,null,null,null,{"$f":"IF(H835=\"\",\"-\",VLOOKUP(T835,読み替え表_スマートムーブ!$C$4:$F$13,4,0))","v":"-"},{"$f":"IF(H835=\"\",\"-\",VLOOKUP(V835,読み替え表_スマートムーブ!$C$16:$F$21,4,0))","v":"-"},"-",null,null,null,null,0,0,0,0,0,0,"*"]
[null,null,827,null,null,null,null,null,null,null,null,null,null,null,null,null,null,null,null,null,null,null,null,null,null,null,null,null,null,null,null,null,null,null,null,{"$f":"IF(H836=\"\",\"-\",VLOOKUP(T836,読み替え表_スマートムーブ!$C$4:$F$13,4,0))","v":"-"},{"$f":"IF(H836=\"\",\"-\",VLOOKUP(V836,読み替え表_スマートムーブ!$C$16:$F$21,4,0))","v":"-"},"-",null,null,null,null,0,0,0,0,0,0,"*"]
[null,null,828,null,null,null,null,null,null,null,null,null,null,null,null,null,null,null,null,null,null,null,null,null,null,null,null,null,null,null,null,null,null,null,null,{"$f":"IF(H837=\"\",\"-\",VLOOKUP(T837,読み替え表_スマートムーブ!$C$4:$F$13,4,0))","v":"-"},{"$f":"IF(H837=\"\",\"-\",VLOOKUP(V837,読み替え表_スマートムーブ!$C$16:$F$21,4,0))","v":"-"},"-",null,null,null,null,0,0,0,0,0,0,"*"]
[null,null,829,null,null,null,null,null,null,null,null,null,null,null,null,null,null,null,null,null,null,null,null,null,null,null,null,null,null,null,null,null,null,null,null,{"$f":"IF(H838=\"\",\"-\",VLOOKUP(T838,読み替え表_スマートムーブ!$C$4:$F$13,4,0))","v":"-"},{"$f":"IF(H838=\"\",\"-\",VLOOKUP(V838,読み替え表_スマートムーブ!$C$16:$F$21,4,0))","v":"-"},"-",null,null,null,null,0,0,0,0,0,0,"*"]
[null,null,830,null,null,null,null,null,null,null,null,null,null,null,null,null,null,null,null,null,null,null,null,null,null,null,null,null,null,null,null,null,null,null,null,{"$f":"IF(H839=\"\",\"-\",VLOOKUP(T839,読み替え表_スマートムーブ!$C$4:$F$13,4,0))","v":"-"},{"$f":"IF(H839=\"\",\"-\",VLOOKUP(V839,読み替え表_スマートムーブ!$C$16:$F$21,4,0))","v":"-"},"-",null,null,null,null,0,0,0,0,0,0,"*"]
[null,null,831,null,null,null,null,null,null,null,null,null,null,null,null,null,null,null,null,null,null,null,null,null,null,null,null,null,null,null,null,null,null,null,null,{"$f":"IF(H840=\"\",\"-\",VLOOKUP(T840,読み替え表_スマートムーブ!$C$4:$F$13,4,0))","v":"-"},{"$f":"IF(H840=\"\",\"-\",VLOOKUP(V840,読み替え表_スマートムーブ!$C$16:$F$21,4,0))","v":"-"},"-",null,null,null,null,0,0,0,0,0,0,"*"]
[null,null,832,null,null,null,null,null,null,null,null,null,null,null,null,null,null,null,null,null,null,null,null,null,null,null,null,null,null,null,null,null,null,null,null,{"$f":"IF(H841=\"\",\"-\",VLOOKUP(T841,読み替え表_スマートムーブ!$C$4:$F$13,4,0))","v":"-"},{"$f":"IF(H841=\"\",\"-\",VLOOKUP(V841,読み替え表_スマートムーブ!$C$16:$F$21,4,0))","v":"-"},"-",null,null,null,null,0,0,0,0,0,0,"*"]
[null,null,833,null,null,null,null,null,null,null,null,null,null,null,null,null,null,null,null,null,null,null,null,null,null,null,null,null,null,null,null,null,null,null,null,{"$f":"IF(H842=\"\",\"-\",VLOOKUP(T842,読み替え表_スマートムーブ!$C$4:$F$13,4,0))","v":"-"},{"$f":"IF(H842=\"\",\"-\",VLOOKUP(V842,読み替え表_スマートムーブ!$C$16:$F$21,4,0))","v":"-"},"-",null,null,null,null,0,0,0,0,0,{"$f":"AQ842","v":0},"*"]
[null,null,{"$f":"ROW()-9","v":834},null,null,null,null,null,null,null,null,null,null,null,null,null,null,null,null,null,null,null,null,null,null,null,null,null,null,null,null,null,null,null,null,{"$f":"IF(H843=\"\",\"-\",VLOOKUP(T843,読み替え表_スマートムーブ!$C$4:$F$13,4,0))","v":"-"},{"$f":"IF(H843=\"\",\"-\",VLOOKUP(V843,読み替え表_スマートムーブ!$C$16:$F$21,4,0))","v":"-"},{"$f":"IF(H843=\"\",\"-\",AJ843*AK843)","v":"-"},null,null,null,null,{"$f":"IF(SUM($AR843:$AT843)>=1,1,0)","v":0},{"$f":"IF(R843=1,1,0)","v":0},{"$f":"IF(T843=9,1,0)","v":0},{"$f":"IF(V843=5,1,0)","v":0},{"$f":"IF(OR($X843=1,$X843=2,$X843=3),1,0)","v":0},0,"*"]
[null,null,835,null,null,null,null,null,null,null,null,null,null,null,null,null,null,null,null,null,null,null,null,null,null,null,null,null,null,null,null,null,null,null,null,{"$f":"IF(H844=\"\",\"-\",VLOOKUP(T844,読み替え表_スマートムーブ!$C$4:$F$13,4,0))","v":"-"},{"$f":"IF(H844=\"\",\"-\",VLOOKUP(V844,読み替え表_スマートムーブ!$C$16:$F$21,4,0))","v":"-"},"-",null,null,null,null,0,0,0,0,0,0,"*"]
[null,null,836,null,null,null,null,null,null,null,null,null,null,null,null,null,null,null,null,null,null,null,null,null,null,null,null,null,null,null,null,null,null,null,null,{"$f":"IF(H845=\"\",\"-\",VLOOKUP(T845,読み替え表_スマートムーブ!$C$4:$F$13,4,0))","v":"-"},{"$f":"IF(H845=\"\",\"-\",VLOOKUP(V845,読み替え表_スマートムーブ!$C$16:$F$21,4,0))","v":"-"},"-",null,null,null,null,0,0,0,0,0,0,"*"]
[null,null,837,null,null,null,null,null,null,null,null,null,null,null,null,null,null,null,null,null,null,null,null,null,null,null,null,null,null,null,null,null,null,null,null,{"$f":"IF(H846=\"\",\"-\",VLOOKUP(T846,読み替え表_スマートムーブ!$C$4:$F$13,4,0))","v":"-"},{"$f":"IF(H846=\"\",\"-\",VLOOKUP(V846,読み替え表_スマートムーブ!$C$16:$F$21,4,0))","v":"-"},"-",null,null,null,null,0,0,0,0,0,0,"*"]
[null,null,838,null,null,null,null,null,null,null,null,null,null,null,null,null,null,null,null,null,null,null,null,null,null,null,null,null,null,null,null,null,null,null,null,{"$f":"IF(H847=\"\",\"-\",VLOOKUP(T847,読み替え表_スマートムーブ!$C$4:$F$13,4,0))","v":"-"},{"$f":"IF(H847=\"\",\"-\",VLOOKUP(V847,読み替え表_スマートムーブ!$C$16:$F$21,4,0))","v":"-"},"-",null,null,null,null,0,0,0,0,0,0,"*"]
[null,null,839,null,null,null,null,null,null,null,null,null,null,null,null,null,null,null,null,null,null,null,null,null,null,null,null,null,null,null,null,null,null,null,null,{"$f":"IF(H848=\"\",\"-\",VLOOKUP(T848,読み替え表_スマートムーブ!$C$4:$F$13,4,0))","v":"-"},{"$f":"IF(H848=\"\",\"-\",VLOOKUP(V848,読み替え表_スマートムーブ!$C$16:$F$21,4,0))","v":"-"},"-",null,null,null,null,0,0,0,0,0,0,"*"]
[null,null,840,null,null,null,null,null,null,null,null,null,null,null,null,null,null,null,null,null,null,null,null,null,null,null,null,null,null,null,null,null,null,null,null,{"$f":"IF(H849=\"\",\"-\",VLOOKUP(T849,読み替え表_スマートムーブ!$C$4:$F$13,4,0))","v":"-"},{"$f":"IF(H849=\"\",\"-\",VLOOKUP(V849,読み替え表_スマートムーブ!$C$16:$F$21,4,0))","v":"-"},"-",null,null,null,null,0,0,0,0,0,0,"*"]
[null,null,841,null,null,null,null,null,null,null,null,null,null,null,null,null,null,null,null,null,null,null,null,null,null,null,null,null,null,null,null,null,null,null,null,{"$f":"IF(H850=\"\",\"-\",VLOOKUP(T850,読み替え表_スマートムーブ!$C$4:$F$13,4,0))","v":"-"},{"$f":"IF(H850=\"\",\"-\",VLOOKUP(V850,読み替え表_スマートムーブ!$C$16:$F$21,4,0))","v":"-"},"-",null,null,null,null,0,0,0,0,0,0,"*"]
[null,null,842,null,null,null,null,null,null,null,null,null,null,null,null,null,null,null,null,null,null,null,null,null,null,null,null,null,null,null,null,null,null,null,null,{"$f":"IF(H851=\"\",\"-\",VLOOKUP(T851,読み替え表_スマートムーブ!$C$4:$F$13,4,0))","v":"-"},{"$f":"IF(H851=\"\",\"-\",VLOOKUP(V851,読み替え表_スマートムーブ!$C$16:$F$21,4,0))","v":"-"},"-",null,null,null,null,0,0,0,0,0,0,"*"]
[null,null,843,null,null,null,null,null,null,null,null,null,null,null,null,null,null,null,null,null,null,null,null,null,null,null,null,null,null,null,null,null,null,null,null,{"$f":"IF(H852=\"\",\"-\",VLOOKUP(T852,読み替え表_スマートムーブ!$C$4:$F$13,4,0))","v":"-"},{"$f":"IF(H852=\"\",\"-\",VLOOKUP(V852,読み替え表_スマートムーブ!$C$16:$F$21,4,0))","v":"-"},"-",null,null,null,null,0,0,0,0,0,0,"*"]
[null,null,844,null,null,null,null,null,null,null,null,null,null,null,null,null,null,null,null,null,null,null,null,null,null,null,null,null,null,null,null,null,null,null,null,{"$f":"IF(H853=\"\",\"-\",VLOOKUP(T853,読み替え表_スマートムーブ!$C$4:$F$13,4,0))","v":"-"},{"$f":"IF(H853=\"\",\"-\",VLOOKUP(V853,読み替え表_スマートムーブ!$C$16:$F$21,4,0))","v":"-"},"-",null,null,null,null,0,0,0,0,0,0,"*"]
[null,null,845,null,null,null,null,null,null,null,null,null,null,null,null,null,null,null,null,null,null,null,null,null,null,null,null,null,null,null,null,null,null,null,null,{"$f":"IF(H854=\"\",\"-\",VLOOKUP(T854,読み替え表_スマートムーブ!$C$4:$F$13,4,0))","v":"-"},{"$f":"IF(H854=\"\",\"-\",VLOOKUP(V854,読み替え表_スマートムーブ!$C$16:$F$21,4,0))","v":"-"},"-",null,null,null,null,0,0,0,0,0,0,"*"]
[null,null,846,null,null,null,null,null,null,null,null,null,null,null,null,null,null,null,null,null,null,null,null,null,null,null,null,null,null,null,null,null,null,null,null,{"$f":"IF(H855=\"\",\"-\",VLOOKUP(T855,読み替え表_スマートムーブ!$C$4:$F$13,4,0))","v":"-"},{"$f":"IF(H855=\"\",\"-\",VLOOKUP(V855,読み替え表_スマートムーブ!$C$16:$F$21,4,0))","v":"-"},"-",null,null,null,null,0,0,0,0,0,0,"*"]
[null,null,847,null,null,null,null,null,null,null,null,null,null,null,null,null,null,null,null,null,null,null,null,null,null,null,null,null,null,null,null,null,null,null,null,{"$f":"IF(H856=\"\",\"-\",VLOOKUP(T856,読み替え表_スマートムーブ!$C$4:$F$13,4,0))","v":"-"},{"$f":"IF(H856=\"\",\"-\",VLOOKUP(V856,読み替え表_スマートムーブ!$C$16:$F$21,4,0))","v":"-"},"-",null,null,null,null,0,0,0,0,0,0,"*"]
[null,null,848,null,null,null,null,null,null,null,null,null,null,null,null,null,null,null,null,null,null,null,null,null,null,null,null,null,null,null,null,null,null,null,null,{"$f":"IF(H857=\"\",\"-\",VLOOKUP(T857,読み替え表_スマートムーブ!$C$4:$F$13,4,0))","v":"-"},{"$f":"IF(H857=\"\",\"-\",VLOOKUP(V857,読み替え表_スマートムーブ!$C$16:$F$21,4,0))","v":"-"},"-",null,null,null,null,0,0,0,0,0,0,"*"]
[null,null,849,null,null,null,null,null,null,null,null,null,null,null,null,null,null,null,null,null,null,null,null,null,null,null,null,null,null,null,null,null,null,null,null,{"$f":"IF(H858=\"\",\"-\",VLOOKUP(T858,読み替え表_スマートムーブ!$C$4:$F$13,4,0))","v":"-"},{"$f":"IF(H858=\"\",\"-\",VLOOKUP(V858,読み替え表_スマートムーブ!$C$16:$F$21,4,0))","v":"-"},"-",null,null,null,null,0,0,0,0,0,0,"*"]
[null,null,850,null,null,null,null,null,null,null,null,null,null,null,null,null,null,null,null,null,null,null,null,null,null,null,null,null,null,null,null,null,null,null,null,{"$f":"IF(H859=\"\",\"-\",VLOOKUP(T859,読み替え表_スマートムーブ!$C$4:$F$13,4,0))","v":"-"},{"$f":"IF(H859=\"\",\"-\",VLOOKUP(V859,読み替え表_スマートムーブ!$C$16:$F$21,4,0))","v":"-"},"-",null,null,null,null,0,0,0,0,0,0,"*"]
[null,null,851,null,null,null,null,null,null,null,null,null,null,null,null,null,null,null,null,null,null,null,null,null,null,null,null,null,null,null,null,null,null,null,null,{"$f":"IF(H860=\"\",\"-\",VLOOKUP(T860,読み替え表_スマートムーブ!$C$4:$F$13,4,0))","v":"-"},{"$f":"IF(H860=\"\",\"-\",VLOOKUP(V860,読み替え表_スマートムーブ!$C$16:$F$21,4,0))","v":"-"},"-",null,null,null,null,0,0,0,0,0,0,"*"]
[null,null,852,null,null,null,null,null,null,null,null,null,null,null,null,null,null,null,null,null,null,null,null,null,null,null,null,null,null,null,null,null,null,null,null,{"$f":"IF(H861=\"\",\"-\",VLOOKUP(T861,読み替え表_スマートムーブ!$C$4:$F$13,4,0))","v":"-"},{"$f":"IF(H861=\"\",\"-\",VLOOKUP(V861,読み替え表_スマートムーブ!$C$16:$F$21,4,0))","v":"-"},"-",null,null,null,null,0,0,0,0,0,0,"*"]
[null,null,853,null,null,null,null,null,null,null,null,null,null,null,null,null,null,null,null,null,null,null,null,null,null,null,null,null,null,null,null,null,null,null,null,{"$f":"IF(H862=\"\",\"-\",VLOOKUP(T862,読み替え表_スマートムーブ!$C$4:$F$13,4,0))","v":"-"},{"$f":"IF(H862=\"\",\"-\",VLOOKUP(V862,読み替え表_スマートムーブ!$C$16:$F$21,4,0))","v":"-"},"-",null,null,null,null,0,0,0,0,0,0,"*"]
[null,null,854,null,null,null,null,null,null,null,null,null,null,null,null,null,null,null,null,null,null,null,null,null,null,null,null,null,null,null,null,null,null,null,null,{"$f":"IF(H863=\"\",\"-\",VLOOKUP(T863,読み替え表_スマートムーブ!$C$4:$F$13,4,0))","v":"-"},{"$f":"IF(H863=\"\",\"-\",VLOOKUP(V863,読み替え表_スマートムーブ!$C$16:$F$21,4,0))","v":"-"},"-",null,null,null,null,0,0,0,0,0,0,"*"]
[null,null,855,null,null,null,null,null,null,null,null,null,null,null,null,null,null,null,null,null,null,null,null,null,null,null,null,null,null,null,null,null,null,null,null,{"$f":"IF(H864=\"\",\"-\",VLOOKUP(T864,読み替え表_スマートムーブ!$C$4:$F$13,4,0))","v":"-"},{"$f":"IF(H864=\"\",\"-\",VLOOKUP(V864,読み替え表_スマートムーブ!$C$16:$F$21,4,0))","v":"-"},"-",null,null,null,null,0,0,0,0,0,0,"*"]
[null,null,856,null,null,null,null,null,null,null,null,null,null,null,null,null,null,null,null,null,null,null,null,null,null,null,null,null,null,null,null,null,null,null,null,{"$f":"IF(H865=\"\",\"-\",VLOOKUP(T865,読み替え表_スマートムーブ!$C$4:$F$13,4,0))","v":"-"},{"$f":"IF(H865=\"\",\"-\",VLOOKUP(V865,読み替え表_スマートムーブ!$C$16:$F$21,4,0))","v":"-"},"-",null,null,null,null,0,0,0,0,0,0,"*"]
[null,null,857,null,null,null,null,null,null,null,null,null,null,null,null,null,null,null,null,null,null,null,null,null,null,null,null,null,null,null,null,null,null,null,null,{"$f":"IF(H866=\"\",\"-\",VLOOKUP(T866,読み替え表_スマートムーブ!$C$4:$F$13,4,0))","v":"-"},{"$f":"IF(H866=\"\",\"-\",VLOOKUP(V866,読み替え表_スマートムーブ!$C$16:$F$21,4,0))","v":"-"},"-",null,null,null,null,0,0,0,0,0,0,"*"]
[null,null,858,null,null,null,null,null,null,null,null,null,null,null,null,null,null,null,null,null,null,null,null,null,null,null,null,null,null,null,null,null,null,null,null,{"$f":"IF(H867=\"\",\"-\",VLOOKUP(T867,読み替え表_スマートムーブ!$C$4:$F$13,4,0))","v":"-"},{"$f":"IF(H867=\"\",\"-\",VLOOKUP(V867,読み替え表_スマートムーブ!$C$16:$F$21,4,0))","v":"-"},"-",null,null,null,null,0,0,0,0,0,0,"*"]
[null,null,859,null,null,null,null,null,null,null,null,null,null,null,null,null,null,null,null,null,null,null,null,null,null,null,null,null,null,null,null,null,null,null,null,{"$f":"IF(H868=\"\",\"-\",VLOOKUP(T868,読み替え表_スマートムーブ!$C$4:$F$13,4,0))","v":"-"},{"$f":"IF(H868=\"\",\"-\",VLOOKUP(V868,読み替え表_スマートムーブ!$C$16:$F$21,4,0))","v":"-"},"-",null,null,null,null,0,0,0,0,0,0,"*"]
[null,null,860,null,null,null,null,null,null,null,null,null,null,null,null,null,null,null,null,null,null,null,null,null,null,null,null,null,null,null,null,null,null,null,null,{"$f":"IF(H869=\"\",\"-\",VLOOKUP(T869,読み替え表_スマートムーブ!$C$4:$F$13,4,0))","v":"-"},{"$f":"IF(H869=\"\",\"-\",VLOOKUP(V869,読み替え表_スマートムーブ!$C$16:$F$21,4,0))","v":"-"},"-",null,null,null,null,0,0,0,0,0,0,"*"]
[null,null,861,null,null,null,null,null,null,null,null,null,null,null,null,null,null,null,null,null,null,null,null,null,null,null,null,null,null,null,null,null,null,null,null,{"$f":"IF(H870=\"\",\"-\",VLOOKUP(T870,読み替え表_スマートムーブ!$C$4:$F$13,4,0))","v":"-"},{"$f":"IF(H870=\"\",\"-\",VLOOKUP(V870,読み替え表_スマートムーブ!$C$16:$F$21,4,0))","v":"-"},"-",null,null,null,null,0,0,0,0,0,0,"*"]
[null,null,862,null,null,null,null,null,null,null,null,null,null,null,null,null,null,null,null,null,null,null,null,null,null,null,null,null,null,null,null,null,null,null,null,{"$f":"IF(H871=\"\",\"-\",VLOOKUP(T871,読み替え表_スマートムーブ!$C$4:$F$13,4,0))","v":"-"},{"$f":"IF(H871=\"\",\"-\",VLOOKUP(V871,読み替え表_スマートムーブ!$C$16:$F$21,4,0))","v":"-"},"-",null,null,null,null,0,0,0,0,0,0,"*"]
[null,null,863,null,null,null,null,null,null,null,null,null,null,null,null,null,null,null,null,null,null,null,null,null,null,null,null,null,null,null,null,null,null,null,null,{"$f":"IF(H872=\"\",\"-\",VLOOKUP(T872,読み替え表_スマートムーブ!$C$4:$F$13,4,0))","v":"-"},{"$f":"IF(H872=\"\",\"-\",VLOOKUP(V872,読み替え表_スマートムーブ!$C$16:$F$21,4,0))","v":"-"},"-",null,null,null,null,0,0,0,0,0,0,"*"]
[null,null,864,null,null,null,null,null,null,null,null,null,null,null,null,null,null,null,null,null,null,null,null,null,null,null,null,null,null,null,null,null,null,null,null,{"$f":"IF(H873=\"\",\"-\",VLOOKUP(T873,読み替え表_スマートムーブ!$C$4:$F$13,4,0))","v":"-"},{"$f":"IF(H873=\"\",\"-\",VLOOKUP(V873,読み替え表_スマートムーブ!$C$16:$F$21,4,0))","v":"-"},"-",null,null,null,null,0,0,0,0,0,0,"*"]
[null,null,865,null,null,null,null,null,null,null,null,null,null,null,null,null,null,null,null,null,null,null,null,null,null,null,null,null,null,null,null,null,null,null,null,{"$f":"IF(H874=\"\",\"-\",VLOOKUP(T874,読み替え表_スマートムーブ!$C$4:$F$13,4,0))","v":"-"},{"$f":"IF(H874=\"\",\"-\",VLOOKUP(V874,読み替え表_スマートムーブ!$C$16:$F$21,4,0))","v":"-"},"-",null,null,null,null,0,0,0,0,0,0,"*"]
[null,null,866,null,null,null,null,null,null,null,null,null,null,null,null,null,null,null,null,null,null,null,null,null,null,null,null,null,null,null,null,null,null,null,null,{"$f":"IF(H875=\"\",\"-\",VLOOKUP(T875,読み替え表_スマートムーブ!$C$4:$F$13,4,0))","v":"-"},{"$f":"IF(H875=\"\",\"-\",VLOOKUP(V875,読み替え表_スマートムーブ!$C$16:$F$21,4,0))","v":"-"},"-",null,null,null,null,0,0,0,0,0,0,"*"]
[null,null,867,null,null,null,null,null,null,null,null,null,null,null,null,null,null,null,null,null,null,null,null,null,null,null,null,null,null,null,null,null,null,null,null,{"$f":"IF(H876=\"\",\"-\",VLOOKUP(T876,読み替え表_スマートムーブ!$C$4:$F$13,4,0))","v":"-"},{"$f":"IF(H876=\"\",\"-\",VLOOKUP(V876,読み替え表_スマートムーブ!$C$16:$F$21,4,0))","v":"-"},"-",null,null,null,null,0,0,0,0,0,0,"*"]
[null,null,868,null,null,null,null,null,null,null,null,null,null,null,null,null,null,null,null,null,null,null,null,null,null,null,null,null,null,null,null,null,null,null,null,{"$f":"IF(H877=\"\",\"-\",VLOOKUP(T877,読み替え表_スマートムーブ!$C$4:$F$13,4,0))","v":"-"},{"$f":"IF(H877=\"\",\"-\",VLOOKUP(V877,読み替え表_スマートムーブ!$C$16:$F$21,4,0))","v":"-"},"-",null,null,null,null,0,0,0,0,0,0,"*"]
[null,null,869,null,null,null,null,null,null,null,null,null,null,null,null,null,null,null,null,null,null,null,null,null,null,null,null,null,null,null,null,null,null,null,null,{"$f":"IF(H878=\"\",\"-\",VLOOKUP(T878,読み替え表_スマートムーブ!$C$4:$F$13,4,0))","v":"-"},{"$f":"IF(H878=\"\",\"-\",VLOOKUP(V878,読み替え表_スマートムーブ!$C$16:$F$21,4,0))","v":"-"},"-",null,null,null,null,0,0,0,0,0,0,"*"]
[null,null,870,null,null,null,null,null,null,null,null,null,null,null,null,null,null,null,null,null,null,null,null,null,null,null,null,null,null,null,null,null,null,null,null,{"$f":"IF(H879=\"\",\"-\",VLOOKUP(T879,読み替え表_スマートムーブ!$C$4:$F$13,4,0))","v":"-"},{"$f":"IF(H879=\"\",\"-\",VLOOKUP(V879,読み替え表_スマートムーブ!$C$16:$F$21,4,0))","v":"-"},"-",null,null,null,null,0,0,0,0,0,0,"*"]
[null,null,871,null,null,null,null,null,null,null,null,null,null,null,null,null,null,null,null,null,null,null,null,null,null,null,null,null,null,null,null,null,null,null,null,{"$f":"IF(H880=\"\",\"-\",VLOOKUP(T880,読み替え表_スマートムーブ!$C$4:$F$13,4,0))","v":"-"},{"$f":"IF(H880=\"\",\"-\",VLOOKUP(V880,読み替え表_スマートムーブ!$C$16:$F$21,4,0))","v":"-"},"-",null,null,null,null,0,0,0,0,0,0,"*"]
[null,null,872,null,null,null,null,null,null,null,null,null,null,null,null,null,null,null,null,null,null,null,null,null,null,null,null,null,null,null,null,null,null,null,null,{"$f":"IF(H881=\"\",\"-\",VLOOKUP(T881,読み替え表_スマートムーブ!$C$4:$F$13,4,0))","v":"-"},{"$f":"IF(H881=\"\",\"-\",VLOOKUP(V881,読み替え表_スマートムーブ!$C$16:$F$21,4,0))","v":"-"},"-",null,null,null,null,0,0,0,0,0,0,"*"]
[null,null,873,null,null,null,null,null,null,null,null,null,null,null,null,null,null,null,null,null,null,null,null,null,null,null,null,null,null,null,null,null,null,null,null,{"$f":"IF(H882=\"\",\"-\",VLOOKUP(T882,読み替え表_スマートムーブ!$C$4:$F$13,4,0))","v":"-"},{"$f":"IF(H882=\"\",\"-\",VLOOKUP(V882,読み替え表_スマートムーブ!$C$16:$F$21,4,0))","v":"-"},"-",null,null,null,null,0,0,0,0,0,0,"*"]
[null,null,874,null,null,null,null,null,null,null,null,null,null,null,null,null,null,null,null,null,null,null,null,null,null,null,null,null,null,null,null,null,null,null,null,{"$f":"IF(H883=\"\",\"-\",VLOOKUP(T883,読み替え表_スマートムーブ!$C$4:$F$13,4,0))","v":"-"},{"$f":"IF(H883=\"\",\"-\",VLOOKUP(V883,読み替え表_スマートムーブ!$C$16:$F$21,4,0))","v":"-"},"-",null,null,null,null,0,0,0,0,0,0,"*"]
[null,null,875,null,null,null,null,null,null,null,null,null,null,null,null,null,null,null,null,null,null,null,null,null,null,null,null,null,null,null,null,null,null,null,null,{"$f":"IF(H884=\"\",\"-\",VLOOKUP(T884,読み替え表_スマートムーブ!$C$4:$F$13,4,0))","v":"-"},{"$f":"IF(H884=\"\",\"-\",VLOOKUP(V884,読み替え表_スマートムーブ!$C$16:$F$21,4,0))","v":"-"},"-",null,null,null,null,0,0,0,0,0,0,"*"]
[null,null,876,null,null,null,null,null,null,null,null,null,null,null,null,null,null,null,null,null,null,null,null,null,null,null,null,null,null,null,null,null,null,null,null,{"$f":"IF(H885=\"\",\"-\",VLOOKUP(T885,読み替え表_スマートムーブ!$C$4:$F$13,4,0))","v":"-"},{"$f":"IF(H885=\"\",\"-\",VLOOKUP(V885,読み替え表_スマートムーブ!$C$16:$F$21,4,0))","v":"-"},"-",null,null,null,null,0,0,0,0,0,0,"*"]
[null,null,877,null,null,null,null,null,null,null,null,null,null,null,null,null,null,null,null,null,null,null,null,null,null,null,null,null,null,null,null,null,null,null,null,{"$f":"IF(H886=\"\",\"-\",VLOOKUP(T886,読み替え表_スマートムーブ!$C$4:$F$13,4,0))","v":"-"},{"$f":"IF(H886=\"\",\"-\",VLOOKUP(V886,読み替え表_スマートムーブ!$C$16:$F$21,4,0))","v":"-"},"-",null,null,null,null,0,0,0,0,0,0,"*"]
[null,null,878,null,null,null,null,null,null,null,null,null,null,null,null,null,null,null,null,null,null,null,null,null,null,null,null,null,null,null,null,null,null,null,null,{"$f":"IF(H887=\"\",\"-\",VLOOKUP(T887,読み替え表_スマートムーブ!$C$4:$F$13,4,0))","v":"-"},{"$f":"IF(H887=\"\",\"-\",VLOOKUP(V887,読み替え表_スマートムーブ!$C$16:$F$21,4,0))","v":"-"},"-",null,null,null,null,0,0,0,0,0,0,"*"]
[null,null,879,null,null,null,null,null,null,null,null,null,null,null,null,null,null,null,null,null,null,null,null,null,null,null,null,null,null,null,null,null,null,null,null,{"$f":"IF(H888=\"\",\"-\",VLOOKUP(T888,読み替え表_スマートムーブ!$C$4:$F$13,4,0))","v":"-"},{"$f":"IF(H888=\"\",\"-\",VLOOKUP(V888,読み替え表_スマートムーブ!$C$16:$F$21,4,0))","v":"-"},"-",null,null,null,null,0,0,0,0,0,0,"*"]
[null,null,880,null,null,null,null,null,null,null,null,null,null,null,null,null,null,null,null,null,null,null,null,null,null,null,null,null,null,null,null,null,null,null,null,{"$f":"IF(H889=\"\",\"-\",VLOOKUP(T889,読み替え表_スマートムーブ!$C$4:$F$13,4,0))","v":"-"},{"$f":"IF(H889=\"\",\"-\",VLOOKUP(V889,読み替え表_スマートムーブ!$C$16:$F$21,4,0))","v":"-"},"-",null,null,null,null,0,0,0,0,0,0,"*"]
[null,null,881,null,null,null,null,null,null,null,null,null,null,null,null,null,null,null,null,null,null,null,null,null,null,null,null,null,null,null,null,null,null,null,null,{"$f":"IF(H890=\"\",\"-\",VLOOKUP(T890,読み替え表_スマートムーブ!$C$4:$F$13,4,0))","v":"-"},{"$f":"IF(H890=\"\",\"-\",VLOOKUP(V890,読み替え表_スマートムーブ!$C$16:$F$21,4,0))","v":"-"},"-",null,null,null,null,0,0,0,0,0,0,"*"]
[null,null,882,null,null,null,null,null,null,null,null,null,null,null,null,null,null,null,null,null,null,null,null,null,null,null,null,null,null,null,null,null,null,null,null,{"$f":"IF(H891=\"\",\"-\",VLOOKUP(T891,読み替え表_スマートムーブ!$C$4:$F$13,4,0))","v":"-"},{"$f":"IF(H891=\"\",\"-\",VLOOKUP(V891,読み替え表_スマートムーブ!$C$16:$F$21,4,0))","v":"-"},"-",null,null,null,null,0,0,0,0,0,0,"*"]
[null,null,883,null,null,null,null,null,null,null,null,null,null,null,null,null,null,null,null,null,null,null,null,null,null,null,null,null,null,null,null,null,null,null,null,{"$f":"IF(H892=\"\",\"-\",VLOOKUP(T892,読み替え表_スマートムーブ!$C$4:$F$13,4,0))","v":"-"},{"$f":"IF(H892=\"\",\"-\",VLOOKUP(V892,読み替え表_スマートムーブ!$C$16:$F$21,4,0))","v":"-"},"-",null,null,null,null,0,0,0,0,0,0,"*"]
[null,null,884,null,null,null,null,null,null,null,null,null,null,null,null,null,null,null,null,null,null,null,null,null,null,null,null,null,null,null,null,null,null,null,null,{"$f":"IF(H893=\"\",\"-\",VLOOKUP(T893,読み替え表_スマートムーブ!$C$4:$F$13,4,0))","v":"-"},{"$f":"IF(H893=\"\",\"-\",VLOOKUP(V893,読み替え表_スマートムーブ!$C$16:$F$21,4,0))","v":"-"},"-",null,null,null,null,0,0,0,0,0,0,"*"]
[null,null,885,null,null,null,null,null,null,null,null,null,null,null,null,null,null,null,null,null,null,null,null,null,null,null,null,null,null,null,null,null,null,null,null,{"$f":"IF(H894=\"\",\"-\",VLOOKUP(T894,読み替え表_スマートムーブ!$C$4:$F$13,4,0))","v":"-"},{"$f":"IF(H894=\"\",\"-\",VLOOKUP(V894,読み替え表_スマートムーブ!$C$16:$F$21,4,0))","v":"-"},"-",null,null,null,null,0,0,0,0,0,0,"*"]
[null,null,886,null,null,null,null,null,null,null,null,null,null,null,null,null,null,null,null,null,null,null,null,null,null,null,null,null,null,null,null,null,null,null,null,{"$f":"IF(H895=\"\",\"-\",VLOOKUP(T895,読み替え表_スマートムーブ!$C$4:$F$13,4,0))","v":"-"},{"$f":"IF(H895=\"\",\"-\",VLOOKUP(V895,読み替え表_スマートムーブ!$C$16:$F$21,4,0))","v":"-"},"-",null,null,null,null,0,0,0,0,0,0,"*"]
[null,null,887,null,null,null,null,null,null,null,null,null,null,null,null,null,null,null,null,null,null,null,null,null,null,null,null,null,null,null,null,null,null,null,null,{"$f":"IF(H896=\"\",\"-\",VLOOKUP(T896,読み替え表_スマートムーブ!$C$4:$F$13,4,0))","v":"-"},{"$f":"IF(H896=\"\",\"-\",VLOOKUP(V896,読み替え表_スマートムーブ!$C$16:$F$21,4,0))","v":"-"},"-",null,null,null,null,0,0,0,0,0,0,"*"]
[null,null,888,null,null,null,null,null,null,null,null,null,null,null,null,null,null,null,null,null,null,null,null,null,null,null,null,null,null,null,null,null,null,null,null,{"$f":"IF(H897=\"\",\"-\",VLOOKUP(T897,読み替え表_スマートムーブ!$C$4:$F$13,4,0))","v":"-"},{"$f":"IF(H897=\"\",\"-\",VLOOKUP(V897,読み替え表_スマートムーブ!$C$16:$F$21,4,0))","v":"-"},"-",null,null,null,null,0,0,0,0,0,0,"*"]
[null,null,889,null,null,null,null,null,null,null,null,null,null,null,null,null,null,null,null,null,null,null,null,null,null,null,null,null,null,null,null,null,null,null,null,{"$f":"IF(H898=\"\",\"-\",VLOOKUP(T898,読み替え表_スマートムーブ!$C$4:$F$13,4,0))","v":"-"},{"$f":"IF(H898=\"\",\"-\",VLOOKUP(V898,読み替え表_スマートムーブ!$C$16:$F$21,4,0))","v":"-"},"-",null,null,null,null,0,0,0,0,0,0,"*"]
[null,null,890,null,null,null,null,null,null,null,null,null,null,null,null,null,null,null,null,null,null,null,null,null,null,null,null,null,null,null,null,null,null,null,null,{"$f":"IF(H899=\"\",\"-\",VLOOKUP(T899,読み替え表_スマートムーブ!$C$4:$F$13,4,0))","v":"-"},{"$f":"IF(H899=\"\",\"-\",VLOOKUP(V899,読み替え表_スマートムーブ!$C$16:$F$21,4,0))","v":"-"},"-",null,null,null,null,0,0,0,0,0,0,"*"]
[null,null,891,null,null,null,null,null,null,null,null,null,null,null,null,null,null,null,null,null,null,null,null,null,null,null,null,null,null,null,null,null,null,null,null,{"$f":"IF(H900=\"\",\"-\",VLOOKUP(T900,読み替え表_スマートムーブ!$C$4:$F$13,4,0))","v":"-"},{"$f":"IF(H900=\"\",\"-\",VLOOKUP(V900,読み替え表_スマートムーブ!$C$16:$F$21,4,0))","v":"-"},"-",null,null,null,null,0,0,0,0,0,0,"*"]
[null,null,892,null,null,null,null,null,null,null,null,null,null,null,null,null,null,null,null,null,null,null,null,null,null,null,null,null,null,null,null,null,null,null,null,{"$f":"IF(H901=\"\",\"-\",VLOOKUP(T901,読み替え表_スマートムーブ!$C$4:$F$13,4,0))","v":"-"},{"$f":"IF(H901=\"\",\"-\",VLOOKUP(V901,読み替え表_スマートムーブ!$C$16:$F$21,4,0))","v":"-"},"-",null,null,null,null,0,0,0,0,0,0,"*"]
[null,null,893,null,null,null,null,null,null,null,null,null,null,null,null,null,null,null,null,null,null,null,null,null,null,null,null,null,null,null,null,null,null,null,null,{"$f":"IF(H902=\"\",\"-\",VLOOKUP(T902,読み替え表_スマートムーブ!$C$4:$F$13,4,0))","v":"-"},{"$f":"IF(H902=\"\",\"-\",VLOOKUP(V902,読み替え表_スマートムーブ!$C$16:$F$21,4,0))","v":"-"},"-",null,null,null,null,0,0,0,0,0,0,"*"]
[null,null,894,null,null,null,null,null,null,null,null,null,null,null,null,null,null,null,null,null,null,null,null,null,null,null,null,null,null,null,null,null,null,null,null,{"$f":"IF(H903=\"\",\"-\",VLOOKUP(T903,読み替え表_スマートムーブ!$C$4:$F$13,4,0))","v":"-"},{"$f":"IF(H903=\"\",\"-\",VLOOKUP(V903,読み替え表_スマートムーブ!$C$16:$F$21,4,0))","v":"-"},"-",null,null,null,null,0,0,0,0,0,0,"*"]
[null,null,895,null,null,null,null,null,null,null,null,null,null,null,null,null,null,null,null,null,null,null,null,null,null,null,null,null,null,null,null,null,null,null,null,{"$f":"IF(H904=\"\",\"-\",VLOOKUP(T904,読み替え表_スマートムーブ!$C$4:$F$13,4,0))","v":"-"},{"$f":"IF(H904=\"\",\"-\",VLOOKUP(V904,読み替え表_スマートムーブ!$C$16:$F$21,4,0))","v":"-"},"-",null,null,null,null,0,0,0,0,0,0,"*"]
[null,null,896,null,null,null,null,null,null,null,null,null,null,null,null,null,null,null,null,null,null,null,null,null,null,null,null,null,null,null,null,null,null,null,null,{"$f":"IF(H905=\"\",\"-\",VLOOKUP(T905,読み替え表_スマートムーブ!$C$4:$F$13,4,0))","v":"-"},{"$f":"IF(H905=\"\",\"-\",VLOOKUP(V905,読み替え表_スマートムーブ!$C$16:$F$21,4,0))","v":"-"},"-",null,null,null,null,0,0,0,0,0,0,"*"]
[null,null,897,null,null,null,null,null,null,null,null,null,null,null,null,null,null,null,null,null,null,null,null,null,null,null,null,null,null,null,null,null,null,null,null,{"$f":"IF(H906=\"\",\"-\",VLOOKUP(T906,読み替え表_スマートムーブ!$C$4:$F$13,4,0))","v":"-"},{"$f":"IF(H906=\"\",\"-\",VLOOKUP(V906,読み替え表_スマートムーブ!$C$16:$F$21,4,0))","v":"-"},"-",null,null,null,null,0,0,0,0,0,{"$f":"AQ906","v":0},"*"]
[null,null,{"$f":"ROW()-9","v":898},null,null,null,null,null,null,null,null,null,null,null,null,null,null,null,null,null,null,null,null,null,null,null,null,null,null,null,null,null,null,null,null,{"$f":"IF(H907=\"\",\"-\",VLOOKUP(T907,読み替え表_スマートムーブ!$C$4:$F$13,4,0))","v":"-"},{"$f":"IF(H907=\"\",\"-\",VLOOKUP(V907,読み替え表_スマートムーブ!$C$16:$F$21,4,0))","v":"-"},{"$f":"IF(H907=\"\",\"-\",AJ907*AK907)","v":"-"},null,null,null,null,{"$f":"IF(SUM($AR907:$AT907)>=1,1,0)","v":0},{"$f":"IF(R907=1,1,0)","v":0},{"$f":"IF(T907=9,1,0)","v":0},{"$f":"IF(V907=5,1,0)","v":0},{"$f":"IF(OR($X907=1,$X907=2,$X907=3),1,0)","v":0},0,"*"]
[null,null,899,null,null,null,null,null,null,null,null,null,null,null,null,null,null,null,null,null,null,null,null,null,null,null,null,null,null,null,null,null,null,null,null,{"$f":"IF(H908=\"\",\"-\",VLOOKUP(T908,読み替え表_スマートムーブ!$C$4:$F$13,4,0))","v":"-"},{"$f":"IF(H908=\"\",\"-\",VLOOKUP(V908,読み替え表_スマートムーブ!$C$16:$F$21,4,0))","v":"-"},"-",null,null,null,null,0,0,0,0,0,0,"*"]
[null,null,900,null,null,null,null,null,null,null,null,null,null,null,null,null,null,null,null,null,null,null,null,null,null,null,null,null,null,null,null,null,null,null,null,{"$f":"IF(H909=\"\",\"-\",VLOOKUP(T909,読み替え表_スマートムーブ!$C$4:$F$13,4,0))","v":"-"},{"$f":"IF(H909=\"\",\"-\",VLOOKUP(V909,読み替え表_スマートムーブ!$C$16:$F$21,4,0))","v":"-"},"-",null,null,null,null,0,0,0,0,0,0,"*"]
[null,null,901,null,null,null,null,null,null,null,null,null,null,null,null,null,null,null,null,null,null,null,null,null,null,null,null,null,null,null,null,null,null,null,null,{"$f":"IF(H910=\"\",\"-\",VLOOKUP(T910,読み替え表_スマートムーブ!$C$4:$F$13,4,0))","v":"-"},{"$f":"IF(H910=\"\",\"-\",VLOOKUP(V910,読み替え表_スマートムーブ!$C$16:$F$21,4,0))","v":"-"},"-",null,null,null,null,0,0,0,0,0,0,"*"]
[null,null,902,null,null,null,null,null,null,null,null,null,null,null,null,null,null,null,null,null,null,null,null,null,null,null,null,null,null,null,null,null,null,null,null,{"$f":"IF(H911=\"\",\"-\",VLOOKUP(T911,読み替え表_スマートムーブ!$C$4:$F$13,4,0))","v":"-"},{"$f":"IF(H911=\"\",\"-\",VLOOKUP(V911,読み替え表_スマートムーブ!$C$16:$F$21,4,0))","v":"-"},"-",null,null,null,null,0,0,0,0,0,0,"*"]
[null,null,903,null,null,null,null,null,null,null,null,null,null,null,null,null,null,null,null,null,null,null,null,null,null,null,null,null,null,null,null,null,null,null,null,{"$f":"IF(H912=\"\",\"-\",VLOOKUP(T912,読み替え表_スマートムーブ!$C$4:$F$13,4,0))","v":"-"},{"$f":"IF(H912=\"\",\"-\",VLOOKUP(V912,読み替え表_スマートムーブ!$C$16:$F$21,4,0))","v":"-"},"-",null,null,null,null,0,0,0,0,0,0,"*"]
[null,null,904,null,null,null,null,null,null,null,null,null,null,null,null,null,null,null,null,null,null,null,null,null,null,null,null,null,null,null,null,null,null,null,null,{"$f":"IF(H913=\"\",\"-\",VLOOKUP(T913,読み替え表_スマートムーブ!$C$4:$F$13,4,0))","v":"-"},{"$f":"IF(H913=\"\",\"-\",VLOOKUP(V913,読み替え表_スマートムーブ!$C$16:$F$21,4,0))","v":"-"},"-",null,null,null,null,0,0,0,0,0,0,"*"]
[null,null,905,null,null,null,null,null,null,null,null,null,null,null,null,null,null,null,null,null,null,null,null,null,null,null,null,null,null,null,null,null,null,null,null,{"$f":"IF(H914=\"\",\"-\",VLOOKUP(T914,読み替え表_スマートムーブ!$C$4:$F$13,4,0))","v":"-"},{"$f":"IF(H914=\"\",\"-\",VLOOKUP(V914,読み替え表_スマートムーブ!$C$16:$F$21,4,0))","v":"-"},"-",null,null,null,null,0,0,0,0,0,0,"*"]
[null,null,906,null,null,null,null,null,null,null,null,null,null,null,null,null,null,null,null,null,null,null,null,null,null,null,null,null,null,null,null,null,null,null,null,{"$f":"IF(H915=\"\",\"-\",VLOOKUP(T915,読み替え表_スマートムーブ!$C$4:$F$13,4,0))","v":"-"},{"$f":"IF(H915=\"\",\"-\",VLOOKUP(V915,読み替え表_スマートムーブ!$C$16:$F$21,4,0))","v":"-"},"-",null,null,null,null,0,0,0,0,0,0,"*"]
[null,null,907,null,null,null,null,null,null,null,null,null,null,null,null,null,null,null,null,null,null,null,null,null,null,null,null,null,null,null,null,null,null,null,null,{"$f":"IF(H916=\"\",\"-\",VLOOKUP(T916,読み替え表_スマートムーブ!$C$4:$F$13,4,0))","v":"-"},{"$f":"IF(H916=\"\",\"-\",VLOOKUP(V916,読み替え表_スマートムーブ!$C$16:$F$21,4,0))","v":"-"},"-",null,null,null,null,0,0,0,0,0,0,"*"]
[null,null,908,null,null,null,null,null,null,null,null,null,null,null,null,null,null,null,null,null,null,null,null,null,null,null,null,null,null,null,null,null,null,null,null,{"$f":"IF(H917=\"\",\"-\",VLOOKUP(T917,読み替え表_スマートムーブ!$C$4:$F$13,4,0))","v":"-"},{"$f":"IF(H917=\"\",\"-\",VLOOKUP(V917,読み替え表_スマートムーブ!$C$16:$F$21,4,0))","v":"-"},"-",null,null,null,null,0,0,0,0,0,0,"*"]
[null,null,909,null,null,null,null,null,null,null,null,null,null,null,null,null,null,null,null,null,null,null,null,null,null,null,null,null,null,null,null,null,null,null,null,{"$f":"IF(H918=\"\",\"-\",VLOOKUP(T918,読み替え表_スマートムーブ!$C$4:$F$13,4,0))","v":"-"},{"$f":"IF(H918=\"\",\"-\",VLOOKUP(V918,読み替え表_スマートムーブ!$C$16:$F$21,4,0))","v":"-"},"-",null,null,null,null,0,0,0,0,0,0,"*"]
[null,null,910,null,null,null,null,null,null,null,null,null,null,null,null,null,null,null,null,null,null,null,null,null,null,null,null,null,null,null,null,null,null,null,null,{"$f":"IF(H919=\"\",\"-\",VLOOKUP(T919,読み替え表_スマートムーブ!$C$4:$F$13,4,0))","v":"-"},{"$f":"IF(H919=\"\",\"-\",VLOOKUP(V919,読み替え表_スマートムーブ!$C$16:$F$21,4,0))","v":"-"},"-",null,null,null,null,0,0,0,0,0,0,"*"]
[null,null,911,null,null,null,null,null,null,null,null,null,null,null,null,null,null,null,null,null,null,null,null,null,null,null,null,null,null,null,null,null,null,null,null,{"$f":"IF(H920=\"\",\"-\",VLOOKUP(T920,読み替え表_スマートムーブ!$C$4:$F$13,4,0))","v":"-"},{"$f":"IF(H920=\"\",\"-\",VLOOKUP(V920,読み替え表_スマートムーブ!$C$16:$F$21,4,0))","v":"-"},"-",null,null,null,null,0,0,0,0,0,0,"*"]
[null,null,912,null,null,null,null,null,null,null,null,null,null,null,null,null,null,null,null,null,null,null,null,null,null,null,null,null,null,null,null,null,null,null,null,{"$f":"IF(H921=\"\",\"-\",VLOOKUP(T921,読み替え表_スマートムーブ!$C$4:$F$13,4,0))","v":"-"},{"$f":"IF(H921=\"\",\"-\",VLOOKUP(V921,読み替え表_スマートムーブ!$C$16:$F$21,4,0))","v":"-"},"-",null,null,null,null,0,0,0,0,0,0,"*"]
[null,null,913,null,null,null,null,null,null,null,null,null,null,null,null,null,null,null,null,null,null,null,null,null,null,null,null,null,null,null,null,null,null,null,null,{"$f":"IF(H922=\"\",\"-\",VLOOKUP(T922,読み替え表_スマートムーブ!$C$4:$F$13,4,0))","v":"-"},{"$f":"IF(H922=\"\",\"-\",VLOOKUP(V922,読み替え表_スマートムーブ!$C$16:$F$21,4,0))","v":"-"},"-",null,null,null,null,0,0,0,0,0,0,"*"]
[null,null,914,null,null,null,null,null,null,null,null,null,null,null,null,null,null,null,null,null,null,null,null,null,null,null,null,null,null,null,null,null,null,null,null,{"$f":"IF(H923=\"\",\"-\",VLOOKUP(T923,読み替え表_スマートムーブ!$C$4:$F$13,4,0))","v":"-"},{"$f":"IF(H923=\"\",\"-\",VLOOKUP(V923,読み替え表_スマートムーブ!$C$16:$F$21,4,0))","v":"-"},"-",null,null,null,null,0,0,0,0,0,0,"*"]
[null,null,915,null,null,null,null,null,null,null,null,null,null,null,null,null,null,null,null,null,null,null,null,null,null,null,null,null,null,null,null,null,null,null,null,{"$f":"IF(H924=\"\",\"-\",VLOOKUP(T924,読み替え表_スマートムーブ!$C$4:$F$13,4,0))","v":"-"},{"$f":"IF(H924=\"\",\"-\",VLOOKUP(V924,読み替え表_スマートムーブ!$C$16:$F$21,4,0))","v":"-"},"-",null,null,null,null,0,0,0,0,0,0,"*"]
[null,null,916,null,null,null,null,null,null,null,null,null,null,null,null,null,null,null,null,null,null,null,null,null,null,null,null,null,null,null,null,null,null,null,null,{"$f":"IF(H925=\"\",\"-\",VLOOKUP(T925,読み替え表_スマートムーブ!$C$4:$F$13,4,0))","v":"-"},{"$f":"IF(H925=\"\",\"-\",VLOOKUP(V925,読み替え表_スマートムーブ!$C$16:$F$21,4,0))","v":"-"},"-",null,null,null,null,0,0,0,0,0,0,"*"]
[null,null,917,null,null,null,null,null,null,null,null,null,null,null,null,null,null,null,null,null,null,null,null,null,null,null,null,null,null,null,null,null,null,null,null,{"$f":"IF(H926=\"\",\"-\",VLOOKUP(T926,読み替え表_スマートムーブ!$C$4:$F$13,4,0))","v":"-"},{"$f":"IF(H926=\"\",\"-\",VLOOKUP(V926,読み替え表_スマートムーブ!$C$16:$F$21,4,0))","v":"-"},"-",null,null,null,null,0,0,0,0,0,0,"*"]
[null,null,918,null,null,null,null,null,null,null,null,null,null,null,null,null,null,null,null,null,null,null,null,null,null,null,null,null,null,null,null,null,null,null,null,{"$f":"IF(H927=\"\",\"-\",VLOOKUP(T927,読み替え表_スマートムーブ!$C$4:$F$13,4,0))","v":"-"},{"$f":"IF(H927=\"\",\"-\",VLOOKUP(V927,読み替え表_スマートムーブ!$C$16:$F$21,4,0))","v":"-"},"-",null,null,null,null,0,0,0,0,0,0,"*"]
[null,null,919,null,null,null,null,null,null,null,null,null,null,null,null,null,null,null,null,null,null,null,null,null,null,null,null,null,null,null,null,null,null,null,null,{"$f":"IF(H928=\"\",\"-\",VLOOKUP(T928,読み替え表_スマートムーブ!$C$4:$F$13,4,0))","v":"-"},{"$f":"IF(H928=\"\",\"-\",VLOOKUP(V928,読み替え表_スマートムーブ!$C$16:$F$21,4,0))","v":"-"},"-",null,null,null,null,0,0,0,0,0,0,"*"]
[null,null,920,null,null,null,null,null,null,null,null,null,null,null,null,null,null,null,null,null,null,null,null,null,null,null,null,null,null,null,null,null,null,null,null,{"$f":"IF(H929=\"\",\"-\",VLOOKUP(T929,読み替え表_スマートムーブ!$C$4:$F$13,4,0))","v":"-"},{"$f":"IF(H929=\"\",\"-\",VLOOKUP(V929,読み替え表_スマートムーブ!$C$16:$F$21,4,0))","v":"-"},"-",null,null,null,null,0,0,0,0,0,0,"*"]
[null,null,921,null,null,null,null,null,null,null,null,null,null,null,null,null,null,null,null,null,null,null,null,null,null,null,null,null,null,null,null,null,null,null,null,{"$f":"IF(H930=\"\",\"-\",VLOOKUP(T930,読み替え表_スマートムーブ!$C$4:$F$13,4,0))","v":"-"},{"$f":"IF(H930=\"\",\"-\",VLOOKUP(V930,読み替え表_スマートムーブ!$C$16:$F$21,4,0))","v":"-"},"-",null,null,null,null,0,0,0,0,0,0,"*"]
[null,null,922,null,null,null,null,null,null,null,null,null,null,null,null,null,null,null,null,null,null,null,null,null,null,null,null,null,null,null,null,null,null,null,null,{"$f":"IF(H931=\"\",\"-\",VLOOKUP(T931,読み替え表_スマートムーブ!$C$4:$F$13,4,0))","v":"-"},{"$f":"IF(H931=\"\",\"-\",VLOOKUP(V931,読み替え表_スマートムーブ!$C$16:$F$21,4,0))","v":"-"},"-",null,null,null,null,0,0,0,0,0,0,"*"]
[null,null,923,null,null,null,null,null,null,null,null,null,null,null,null,null,null,null,null,null,null,null,null,null,null,null,null,null,null,null,null,null,null,null,null,{"$f":"IF(H932=\"\",\"-\",VLOOKUP(T932,読み替え表_スマートムーブ!$C$4:$F$13,4,0))","v":"-"},{"$f":"IF(H932=\"\",\"-\",VLOOKUP(V932,読み替え表_スマートムーブ!$C$16:$F$21,4,0))","v":"-"},"-",null,null,null,null,0,0,0,0,0,0,"*"]
[null,null,924,null,null,null,null,null,null,null,null,null,null,null,null,null,null,null,null,null,null,null,null,null,null,null,null,null,null,null,null,null,null,null,null,{"$f":"IF(H933=\"\",\"-\",VLOOKUP(T933,読み替え表_スマートムーブ!$C$4:$F$13,4,0))","v":"-"},{"$f":"IF(H933=\"\",\"-\",VLOOKUP(V933,読み替え表_スマートムーブ!$C$16:$F$21,4,0))","v":"-"},"-",null,null,null,null,0,0,0,0,0,0,"*"]
[null,null,925,null,null,null,null,null,null,null,null,null,null,null,null,null,null,null,null,null,null,null,null,null,null,null,null,null,null,null,null,null,null,null,null,{"$f":"IF(H934=\"\",\"-\",VLOOKUP(T934,読み替え表_スマートムーブ!$C$4:$F$13,4,0))","v":"-"},{"$f":"IF(H934=\"\",\"-\",VLOOKUP(V934,読み替え表_スマートムーブ!$C$16:$F$21,4,0))","v":"-"},"-",null,null,null,null,0,0,0,0,0,0,"*"]
[null,null,926,null,null,null,null,null,null,null,null,null,null,null,null,null,null,null,null,null,null,null,null,null,null,null,null,null,null,null,null,null,null,null,null,{"$f":"IF(H935=\"\",\"-\",VLOOKUP(T935,読み替え表_スマートムーブ!$C$4:$F$13,4,0))","v":"-"},{"$f":"IF(H935=\"\",\"-\",VLOOKUP(V935,読み替え表_スマートムーブ!$C$16:$F$21,4,0))","v":"-"},"-",null,null,null,null,0,0,0,0,0,0,"*"]
[null,null,927,null,null,null,null,null,null,null,null,null,null,null,null,null,null,null,null,null,null,null,null,null,null,null,null,null,null,null,null,null,null,null,null,{"$f":"IF(H936=\"\",\"-\",VLOOKUP(T936,読み替え表_スマートムーブ!$C$4:$F$13,4,0))","v":"-"},{"$f":"IF(H936=\"\",\"-\",VLOOKUP(V936,読み替え表_スマートムーブ!$C$16:$F$21,4,0))","v":"-"},"-",null,null,null,null,0,0,0,0,0,0,"*"]
[null,null,928,null,null,null,null,null,null,null,null,null,null,null,null,null,null,null,null,null,null,null,null,null,null,null,null,null,null,null,null,null,null,null,null,{"$f":"IF(H937=\"\",\"-\",VLOOKUP(T937,読み替え表_スマートムーブ!$C$4:$F$13,4,0))","v":"-"},{"$f":"IF(H937=\"\",\"-\",VLOOKUP(V937,読み替え表_スマートムーブ!$C$16:$F$21,4,0))","v":"-"},"-",null,null,null,null,0,0,0,0,0,0,"*"]
[null,null,929,null,null,null,null,null,null,null,null,null,null,null,null,null,null,null,null,null,null,null,null,null,null,null,null,null,null,null,null,null,null,null,null,{"$f":"IF(H938=\"\",\"-\",VLOOKUP(T938,読み替え表_スマートムーブ!$C$4:$F$13,4,0))","v":"-"},{"$f":"IF(H938=\"\",\"-\",VLOOKUP(V938,読み替え表_スマートムーブ!$C$16:$F$21,4,0))","v":"-"},"-",null,null,null,null,0,0,0,0,0,0,"*"]
[null,null,930,null,null,null,null,null,null,null,null,null,null,null,null,null,null,null,null,null,null,null,null,null,null,null,null,null,null,null,null,null,null,null,null,{"$f":"IF(H939=\"\",\"-\",VLOOKUP(T939,読み替え表_スマートムーブ!$C$4:$F$13,4,0))","v":"-"},{"$f":"IF(H939=\"\",\"-\",VLOOKUP(V939,読み替え表_スマートムーブ!$C$16:$F$21,4,0))","v":"-"},"-",null,null,null,null,0,0,0,0,0,0,"*"]
[null,null,931,null,null,null,null,null,null,null,null,null,null,null,null,null,null,null,null,null,null,null,null,null,null,null,null,null,null,null,null,null,null,null,null,{"$f":"IF(H940=\"\",\"-\",VLOOKUP(T940,読み替え表_スマートムーブ!$C$4:$F$13,4,0))","v":"-"},{"$f":"IF(H940=\"\",\"-\",VLOOKUP(V940,読み替え表_スマートムーブ!$C$16:$F$21,4,0))","v":"-"},"-",null,null,null,null,0,0,0,0,0,0,"*"]
[null,null,932,null,null,null,null,null,null,null,null,null,null,null,null,null,null,null,null,null,null,null,null,null,null,null,null,null,null,null,null,null,null,null,null,{"$f":"IF(H941=\"\",\"-\",VLOOKUP(T941,読み替え表_スマートムーブ!$C$4:$F$13,4,0))","v":"-"},{"$f":"IF(H941=\"\",\"-\",VLOOKUP(V941,読み替え表_スマートムーブ!$C$16:$F$21,4,0))","v":"-"},"-",null,null,null,null,0,0,0,0,0,0,"*"]
[null,null,933,null,null,null,null,null,null,null,null,null,null,null,null,null,null,null,null,null,null,null,null,null,null,null,null,null,null,null,null,null,null,null,null,{"$f":"IF(H942=\"\",\"-\",VLOOKUP(T942,読み替え表_スマートムーブ!$C$4:$F$13,4,0))","v":"-"},{"$f":"IF(H942=\"\",\"-\",VLOOKUP(V942,読み替え表_スマートムーブ!$C$16:$F$21,4,0))","v":"-"},"-",null,null,null,null,0,0,0,0,0,0,"*"]
[null,null,934,null,null,null,null,null,null,null,null,null,null,null,null,null,null,null,null,null,null,null,null,null,null,null,null,null,null,null,null,null,null,null,null,{"$f":"IF(H943=\"\",\"-\",VLOOKUP(T943,読み替え表_スマートムーブ!$C$4:$F$13,4,0))","v":"-"},{"$f":"IF(H943=\"\",\"-\",VLOOKUP(V943,読み替え表_スマートムーブ!$C$16:$F$21,4,0))","v":"-"},"-",null,null,null,null,0,0,0,0,0,0,"*"]
[null,null,935,null,null,null,null,null,null,null,null,null,null,null,null,null,null,null,null,null,null,null,null,null,null,null,null,null,null,null,null,null,null,null,null,{"$f":"IF(H944=\"\",\"-\",VLOOKUP(T944,読み替え表_スマートムーブ!$C$4:$F$13,4,0))","v":"-"},{"$f":"IF(H944=\"\",\"-\",VLOOKUP(V944,読み替え表_スマートムーブ!$C$16:$F$21,4,0))","v":"-"},"-",null,null,null,null,0,0,0,0,0,0,"*"]
[null,null,936,null,null,null,null,null,null,null,null,null,null,null,null,null,null,null,null,null,null,null,null,null,null,null,null,null,null,null,null,null,null,null,null,{"$f":"IF(H945=\"\",\"-\",VLOOKUP(T945,読み替え表_スマートムーブ!$C$4:$F$13,4,0))","v":"-"},{"$f":"IF(H945=\"\",\"-\",VLOOKUP(V945,読み替え表_スマートムーブ!$C$16:$F$21,4,0))","v":"-"},"-",null,null,null,null,0,0,0,0,0,0,"*"]
[null,null,937,null,null,null,null,null,null,null,null,null,null,null,null,null,null,null,null,null,null,null,null,null,null,null,null,null,null,null,null,null,null,null,null,{"$f":"IF(H946=\"\",\"-\",VLOOKUP(T946,読み替え表_スマートムーブ!$C$4:$F$13,4,0))","v":"-"},{"$f":"IF(H946=\"\",\"-\",VLOOKUP(V946,読み替え表_スマートムーブ!$C$16:$F$21,4,0))","v":"-"},"-",null,null,null,null,0,0,0,0,0,0,"*"]
[null,null,938,null,null,null,null,null,null,null,null,null,null,null,null,null,null,null,null,null,null,null,null,null,null,null,null,null,null,null,null,null,null,null,null,{"$f":"IF(H947=\"\",\"-\",VLOOKUP(T947,読み替え表_スマートムーブ!$C$4:$F$13,4,0))","v":"-"},{"$f":"IF(H947=\"\",\"-\",VLOOKUP(V947,読み替え表_スマートムーブ!$C$16:$F$21,4,0))","v":"-"},"-",null,null,null,null,0,0,0,0,0,0,"*"]
[null,null,939,null,null,null,null,null,null,null,null,null,null,null,null,null,null,null,null,null,null,null,null,null,null,null,null,null,null,null,null,null,null,null,null,{"$f":"IF(H948=\"\",\"-\",VLOOKUP(T948,読み替え表_スマートムーブ!$C$4:$F$13,4,0))","v":"-"},{"$f":"IF(H948=\"\",\"-\",VLOOKUP(V948,読み替え表_スマートムーブ!$C$16:$F$21,4,0))","v":"-"},"-",null,null,null,null,0,0,0,0,0,0,"*"]
[null,null,940,null,null,null,null,null,null,null,null,null,null,null,null,null,null,null,null,null,null,null,null,null,null,null,null,null,null,null,null,null,null,null,null,{"$f":"IF(H949=\"\",\"-\",VLOOKUP(T949,読み替え表_スマートムーブ!$C$4:$F$13,4,0))","v":"-"},{"$f":"IF(H949=\"\",\"-\",VLOOKUP(V949,読み替え表_スマートムーブ!$C$16:$F$21,4,0))","v":"-"},"-",null,null,null,null,0,0,0,0,0,0,"*"]
[null,null,941,null,null,null,null,null,null,null,null,null,null,null,null,null,null,null,null,null,null,null,null,null,null,null,null,null,null,null,null,null,null,null,null,{"$f":"IF(H950=\"\",\"-\",VLOOKUP(T950,読み替え表_スマートムーブ!$C$4:$F$13,4,0))","v":"-"},{"$f":"IF(H950=\"\",\"-\",VLOOKUP(V950,読み替え表_スマートムーブ!$C$16:$F$21,4,0))","v":"-"},"-",null,null,null,null,0,0,0,0,0,0,"*"]
[null,null,942,null,null,null,null,null,null,null,null,null,null,null,null,null,null,null,null,null,null,null,null,null,null,null,null,null,null,null,null,null,null,null,null,{"$f":"IF(H951=\"\",\"-\",VLOOKUP(T951,読み替え表_スマートムーブ!$C$4:$F$13,4,0))","v":"-"},{"$f":"IF(H951=\"\",\"-\",VLOOKUP(V951,読み替え表_スマートムーブ!$C$16:$F$21,4,0))","v":"-"},"-",null,null,null,null,0,0,0,0,0,0,"*"]
[null,null,943,null,null,null,null,null,null,null,null,null,null,null,null,null,null,null,null,null,null,null,null,null,null,null,null,null,null,null,null,null,null,null,null,{"$f":"IF(H952=\"\",\"-\",VLOOKUP(T952,読み替え表_スマートムーブ!$C$4:$F$13,4,0))","v":"-"},{"$f":"IF(H952=\"\",\"-\",VLOOKUP(V952,読み替え表_スマートムーブ!$C$16:$F$21,4,0))","v":"-"},"-",null,null,null,null,0,0,0,0,0,0,"*"]
[null,null,944,null,null,null,null,null,null,null,null,null,null,null,null,null,null,null,null,null,null,null,null,null,null,null,null,null,null,null,null,null,null,null,null,{"$f":"IF(H953=\"\",\"-\",VLOOKUP(T953,読み替え表_スマートムーブ!$C$4:$F$13,4,0))","v":"-"},{"$f":"IF(H953=\"\",\"-\",VLOOKUP(V953,読み替え表_スマートムーブ!$C$16:$F$21,4,0))","v":"-"},"-",null,null,null,null,0,0,0,0,0,0,"*"]
[null,null,945,null,null,null,null,null,null,null,null,null,null,null,null,null,null,null,null,null,null,null,null,null,null,null,null,null,null,null,null,null,null,null,null,{"$f":"IF(H954=\"\",\"-\",VLOOKUP(T954,読み替え表_スマートムーブ!$C$4:$F$13,4,0))","v":"-"},{"$f":"IF(H954=\"\",\"-\",VLOOKUP(V954,読み替え表_スマートムーブ!$C$16:$F$21,4,0))","v":"-"},"-",null,null,null,null,0,0,0,0,0,0,"*"]
[null,null,946,null,null,null,null,null,null,null,null,null,null,null,null,null,null,null,null,null,null,null,null,null,null,null,null,null,null,null,null,null,null,null,null,{"$f":"IF(H955=\"\",\"-\",VLOOKUP(T955,読み替え表_スマートムーブ!$C$4:$F$13,4,0))","v":"-"},{"$f":"IF(H955=\"\",\"-\",VLOOKUP(V955,読み替え表_スマートムーブ!$C$16:$F$21,4,0))","v":"-"},"-",null,null,null,null,0,0,0,0,0,0,"*"]
[null,null,947,null,null,null,null,null,null,null,null,null,null,null,null,null,null,null,null,null,null,null,null,null,null,null,null,null,null,null,null,null,null,null,null,{"$f":"IF(H956=\"\",\"-\",VLOOKUP(T956,読み替え表_スマートムーブ!$C$4:$F$13,4,0))","v":"-"},{"$f":"IF(H956=\"\",\"-\",VLOOKUP(V956,読み替え表_スマートムーブ!$C$16:$F$21,4,0))","v":"-"},"-",null,null,null,null,0,0,0,0,0,0,"*"]
[null,null,948,null,null,null,null,null,null,null,null,null,null,null,null,null,null,null,null,null,null,null,null,null,null,null,null,null,null,null,null,null,null,null,null,{"$f":"IF(H957=\"\",\"-\",VLOOKUP(T957,読み替え表_スマートムーブ!$C$4:$F$13,4,0))","v":"-"},{"$f":"IF(H957=\"\",\"-\",VLOOKUP(V957,読み替え表_スマートムーブ!$C$16:$F$21,4,0))","v":"-"},"-",null,null,null,null,0,0,0,0,0,0,"*"]
[null,null,949,null,null,null,null,null,null,null,null,null,null,null,null,null,null,null,null,null,null,null,null,null,null,null,null,null,null,null,null,null,null,null,null,{"$f":"IF(H958=\"\",\"-\",VLOOKUP(T958,読み替え表_スマートムーブ!$C$4:$F$13,4,0))","v":"-"},{"$f":"IF(H958=\"\",\"-\",VLOOKUP(V958,読み替え表_スマートムーブ!$C$16:$F$21,4,0))","v":"-"},"-",null,null,null,null,0,0,0,0,0,0,"*"]
[null,null,950,null,null,null,null,null,null,null,null,null,null,null,null,null,null,null,null,null,null,null,null,null,null,null,null,null,null,null,null,null,null,null,null,{"$f":"IF(H959=\"\",\"-\",VLOOKUP(T959,読み替え表_スマートムーブ!$C$4:$F$13,4,0))","v":"-"},{"$f":"IF(H959=\"\",\"-\",VLOOKUP(V959,読み替え表_スマートムーブ!$C$16:$F$21,4,0))","v":"-"},"-",null,null,null,null,0,0,0,0,0,0,"*"]
[null,null,951,null,null,null,null,null,null,null,null,null,null,null,null,null,null,null,null,null,null,null,null,null,null,null,null,null,null,null,null,null,null,null,null,{"$f":"IF(H960=\"\",\"-\",VLOOKUP(T960,読み替え表_スマートムーブ!$C$4:$F$13,4,0))","v":"-"},{"$f":"IF(H960=\"\",\"-\",VLOOKUP(V960,読み替え表_スマートムーブ!$C$16:$F$21,4,0))","v":"-"},"-",null,null,null,null,0,0,0,0,0,0,"*"]
[null,null,952,null,null,null,null,null,null,null,null,null,null,null,null,null,null,null,null,null,null,null,null,null,null,null,null,null,null,null,null,null,null,null,null,{"$f":"IF(H961=\"\",\"-\",VLOOKUP(T961,読み替え表_スマートムーブ!$C$4:$F$13,4,0))","v":"-"},{"$f":"IF(H961=\"\",\"-\",VLOOKUP(V961,読み替え表_スマートムーブ!$C$16:$F$21,4,0))","v":"-"},"-",null,null,null,null,0,0,0,0,0,0,"*"]
[null,null,953,null,null,null,null,null,null,null,null,null,null,null,null,null,null,null,null,null,null,null,null,null,null,null,null,null,null,null,null,null,null,null,null,{"$f":"IF(H962=\"\",\"-\",VLOOKUP(T962,読み替え表_スマートムーブ!$C$4:$F$13,4,0))","v":"-"},{"$f":"IF(H962=\"\",\"-\",VLOOKUP(V962,読み替え表_スマートムーブ!$C$16:$F$21,4,0))","v":"-"},"-",null,null,null,null,0,0,0,0,0,0,"*"]
[null,null,954,null,null,null,null,null,null,null,null,null,null,null,null,null,null,null,null,null,null,null,null,null,null,null,null,null,null,null,null,null,null,null,null,{"$f":"IF(H963=\"\",\"-\",VLOOKUP(T963,読み替え表_スマートムーブ!$C$4:$F$13,4,0))","v":"-"},{"$f":"IF(H963=\"\",\"-\",VLOOKUP(V963,読み替え表_スマートムーブ!$C$16:$F$21,4,0))","v":"-"},"-",null,null,null,null,0,0,0,0,0,0,"*"]
[null,null,955,null,null,null,null,null,null,null,null,null,null,null,null,null,null,null,null,null,null,null,null,null,null,null,null,null,null,null,null,null,null,null,null,{"$f":"IF(H964=\"\",\"-\",VLOOKUP(T964,読み替え表_スマートムーブ!$C$4:$F$13,4,0))","v":"-"},{"$f":"IF(H964=\"\",\"-\",VLOOKUP(V964,読み替え表_スマートムーブ!$C$16:$F$21,4,0))","v":"-"},"-",null,null,null,null,0,0,0,0,0,0,"*"]
[null,null,956,null,null,null,null,null,null,null,null,null,null,null,null,null,null,null,null,null,null,null,null,null,null,null,null,null,null,null,null,null,null,null,null,{"$f":"IF(H965=\"\",\"-\",VLOOKUP(T965,読み替え表_スマートムーブ!$C$4:$F$13,4,0))","v":"-"},{"$f":"IF(H965=\"\",\"-\",VLOOKUP(V965,読み替え表_スマートムーブ!$C$16:$F$21,4,0))","v":"-"},"-",null,null,null,null,0,0,0,0,0,0,"*"]
[null,null,957,null,null,null,null,null,null,null,null,null,null,null,null,null,null,null,null,null,null,null,null,null,null,null,null,null,null,null,null,null,null,null,null,{"$f":"IF(H966=\"\",\"-\",VLOOKUP(T966,読み替え表_スマートムーブ!$C$4:$F$13,4,0))","v":"-"},{"$f":"IF(H966=\"\",\"-\",VLOOKUP(V966,読み替え表_スマートムーブ!$C$16:$F$21,4,0))","v":"-"},"-",null,null,null,null,0,0,0,0,0,0,"*"]
[null,null,958,null,null,null,null,null,null,null,null,null,null,null,null,null,null,null,null,null,null,null,null,null,null,null,null,null,null,null,null,null,null,null,null,{"$f":"IF(H967=\"\",\"-\",VLOOKUP(T967,読み替え表_スマートムーブ!$C$4:$F$13,4,0))","v":"-"},{"$f":"IF(H967=\"\",\"-\",VLOOKUP(V967,読み替え表_スマートムーブ!$C$16:$F$21,4,0))","v":"-"},"-",null,null,null,null,0,0,0,0,0,0,"*"]
[null,null,959,null,null,null,null,null,null,null,null,null,null,null,null,null,null,null,null,null,null,null,null,null,null,null,null,null,null,null,null,null,null,null,null,{"$f":"IF(H968=\"\",\"-\",VLOOKUP(T968,読み替え表_スマートムーブ!$C$4:$F$13,4,0))","v":"-"},{"$f":"IF(H968=\"\",\"-\",VLOOKUP(V968,読み替え表_スマートムーブ!$C$16:$F$21,4,0))","v":"-"},"-",null,null,null,null,0,0,0,0,0,0,"*"]
[null,null,960,null,null,null,null,null,null,null,null,null,null,null,null,null,null,null,null,null,null,null,null,null,null,null,null,null,null,null,null,null,null,null,null,{"$f":"IF(H969=\"\",\"-\",VLOOKUP(T969,読み替え表_スマートムーブ!$C$4:$F$13,4,0))","v":"-"},{"$f":"IF(H969=\"\",\"-\",VLOOKUP(V969,読み替え表_スマートムーブ!$C$16:$F$21,4,0))","v":"-"},"-",null,null,null,null,0,0,0,0,0,0,"*"]
[null,null,961,null,null,null,null,null,null,null,null,null,null,null,null,null,null,null,null,null,null,null,null,null,null,null,null,null,null,null,null,null,null,null,null,{"$f":"IF(H970=\"\",\"-\",VLOOKUP(T970,読み替え表_スマートムーブ!$C$4:$F$13,4,0))","v":"-"},{"$f":"IF(H970=\"\",\"-\",VLOOKUP(V970,読み替え表_スマートムーブ!$C$16:$F$21,4,0))","v":"-"},"-",null,null,null,null,0,0,0,0,0,{"$f":"AQ970","v":0},"*"]
[null,null,{"$f":"ROW()-9","v":962},null,null,null,null,null,null,null,null,null,null,null,null,null,null,null,null,null,null,null,null,null,null,null,null,null,null,null,null,null,null,null,null,{"$f":"IF(H971=\"\",\"-\",VLOOKUP(T971,読み替え表_スマートムーブ!$C$4:$F$13,4,0))","v":"-"},{"$f":"IF(H971=\"\",\"-\",VLOOKUP(V971,読み替え表_スマートムーブ!$C$16:$F$21,4,0))","v":"-"},{"$f":"IF(H971=\"\",\"-\",AJ971*AK971)","v":"-"},null,null,null,null,{"$f":"IF(SUM($AR971:$AT971)>=1,1,0)","v":0},{"$f":"IF(R971=1,1,0)","v":0},{"$f":"IF(T971=9,1,0)","v":0},{"$f":"IF(V971=5,1,0)","v":0},{"$f":"IF(OR($X971=1,$X971=2,$X971=3),1,0)","v":0},0,"*"]
[null,null,963,null,null,null,null,null,null,null,null,null,null,null,null,null,null,null,null,null,null,null,null,null,null,null,null,null,null,null,null,null,null,null,null,{"$f":"IF(H972=\"\",\"-\",VLOOKUP(T972,読み替え表_スマートムーブ!$C$4:$F$13,4,0))","v":"-"},{"$f":"IF(H972=\"\",\"-\",VLOOKUP(V972,読み替え表_スマートムーブ!$C$16:$F$21,4,0))","v":"-"},"-",null,null,null,null,0,0,0,0,0,0,"*"]
[null,null,964,null,null,null,null,null,null,null,null,null,null,null,null,null,null,null,null,null,null,null,null,null,null,null,null,null,null,null,null,null,null,null,null,{"$f":"IF(H973=\"\",\"-\",VLOOKUP(T973,読み替え表_スマートムーブ!$C$4:$F$13,4,0))","v":"-"},{"$f":"IF(H973=\"\",\"-\",VLOOKUP(V973,読み替え表_スマートムーブ!$C$16:$F$21,4,0))","v":"-"},"-",null,null,null,null,0,0,0,0,0,0,"*"]
[null,null,965,null,null,null,null,null,null,null,null,null,null,null,null,null,null,null,null,null,null,null,null,null,null,null,null,null,null,null,null,null,null,null,null,{"$f":"IF(H974=\"\",\"-\",VLOOKUP(T974,読み替え表_スマートムーブ!$C$4:$F$13,4,0))","v":"-"},{"$f":"IF(H974=\"\",\"-\",VLOOKUP(V974,読み替え表_スマートムーブ!$C$16:$F$21,4,0))","v":"-"},"-",null,null,null,null,0,0,0,0,0,0,"*"]
[null,null,966,null,null,null,null,null,null,null,null,null,null,null,null,null,null,null,null,null,null,null,null,null,null,null,null,null,null,null,null,null,null,null,null,{"$f":"IF(H975=\"\",\"-\",VLOOKUP(T975,読み替え表_スマートムーブ!$C$4:$F$13,4,0))","v":"-"},{"$f":"IF(H975=\"\",\"-\",VLOOKUP(V975,読み替え表_スマートムーブ!$C$16:$F$21,4,0))","v":"-"},"-",null,null,null,null,0,0,0,0,0,0,"*"]
[null,null,967,null,null,null,null,null,null,null,null,null,null,null,null,null,null,null,null,null,null,null,null,null,null,null,null,null,null,null,null,null,null,null,null,{"$f":"IF(H976=\"\",\"-\",VLOOKUP(T976,読み替え表_スマートムーブ!$C$4:$F$13,4,0))","v":"-"},{"$f":"IF(H976=\"\",\"-\",VLOOKUP(V976,読み替え表_スマートムーブ!$C$16:$F$21,4,0))","v":"-"},"-",null,null,null,null,0,0,0,0,0,0,"*"]
[null,null,968,null,null,null,null,null,null,null,null,null,null,null,null,null,null,null,null,null,null,null,null,null,null,null,null,null,null,null,null,null,null,null,null,{"$f":"IF(H977=\"\",\"-\",VLOOKUP(T977,読み替え表_スマートムーブ!$C$4:$F$13,4,0))","v":"-"},{"$f":"IF(H977=\"\",\"-\",VLOOKUP(V977,読み替え表_スマートムーブ!$C$16:$F$21,4,0))","v":"-"},"-",null,null,null,null,0,0,0,0,0,0,"*"]
[null,null,969,null,null,null,null,null,null,null,null,null,null,null,null,null,null,null,null,null,null,null,null,null,null,null,null,null,null,null,null,null,null,null,null,{"$f":"IF(H978=\"\",\"-\",VLOOKUP(T978,読み替え表_スマートムーブ!$C$4:$F$13,4,0))","v":"-"},{"$f":"IF(H978=\"\",\"-\",VLOOKUP(V978,読み替え表_スマートムーブ!$C$16:$F$21,4,0))","v":"-"},"-",null,null,null,null,0,0,0,0,0,0,"*"]
[null,null,970,null,null,null,null,null,null,null,null,null,null,null,null,null,null,null,null,null,null,null,null,null,null,null,null,null,null,null,null,null,null,null,null,{"$f":"IF(H979=\"\",\"-\",VLOOKUP(T979,読み替え表_スマートムーブ!$C$4:$F$13,4,0))","v":"-"},{"$f":"IF(H979=\"\",\"-\",VLOOKUP(V979,読み替え表_スマートムーブ!$C$16:$F$21,4,0))","v":"-"},"-",null,null,null,null,0,0,0,0,0,0,"*"]
[null,null,971,null,null,null,null,null,null,null,null,null,null,null,null,null,null,null,null,null,null,null,null,null,null,null,null,null,null,null,null,null,null,null,null,{"$f":"IF(H980=\"\",\"-\",VLOOKUP(T980,読み替え表_スマートムーブ!$C$4:$F$13,4,0))","v":"-"},{"$f":"IF(H980=\"\",\"-\",VLOOKUP(V980,読み替え表_スマートムーブ!$C$16:$F$21,4,0))","v":"-"},"-",null,null,null,null,0,0,0,0,0,0,"*"]
[null,null,972,null,null,null,null,null,null,null,null,null,null,null,null,null,null,null,null,null,null,null,null,null,null,null,null,null,null,null,null,null,null,null,null,{"$f":"IF(H981=\"\",\"-\",VLOOKUP(T981,読み替え表_スマートムーブ!$C$4:$F$13,4,0))","v":"-"},{"$f":"IF(H981=\"\",\"-\",VLOOKUP(V981,読み替え表_スマートムーブ!$C$16:$F$21,4,0))","v":"-"},"-",null,null,null,null,0,0,0,0,0,0,"*"]
[null,null,973,null,null,null,null,null,null,null,null,null,null,null,null,null,null,null,null,null,null,null,null,null,null,null,null,null,null,null,null,null,null,null,null,{"$f":"IF(H982=\"\",\"-\",VLOOKUP(T982,読み替え表_スマートムーブ!$C$4:$F$13,4,0))","v":"-"},{"$f":"IF(H982=\"\",\"-\",VLOOKUP(V982,読み替え表_スマートムーブ!$C$16:$F$21,4,0))","v":"-"},"-",null,null,null,null,0,0,0,0,0,0,"*"]
[null,null,974,null,null,null,null,null,null,null,null,null,null,null,null,null,null,null,null,null,null,null,null,null,null,null,null,null,null,null,null,null,null,null,null,{"$f":"IF(H983=\"\",\"-\",VLOOKUP(T983,読み替え表_スマートムーブ!$C$4:$F$13,4,0))","v":"-"},{"$f":"IF(H983=\"\",\"-\",VLOOKUP(V983,読み替え表_スマートムーブ!$C$16:$F$21,4,0))","v":"-"},"-",null,null,null,null,0,0,0,0,0,0,"*"]
[null,null,975,null,null,null,null,null,null,null,null,null,null,null,null,null,null,null,null,null,null,null,null,null,null,null,null,null,null,null,null,null,null,null,null,{"$f":"IF(H984=\"\",\"-\",VLOOKUP(T984,読み替え表_スマートムーブ!$C$4:$F$13,4,0))","v":"-"},{"$f":"IF(H984=\"\",\"-\",VLOOKUP(V984,読み替え表_スマートムーブ!$C$16:$F$21,4,0))","v":"-"},"-",null,null,null,null,0,0,0,0,0,0,"*"]
[null,null,976,null,null,null,null,null,null,null,null,null,null,null,null,null,null,null,null,null,null,null,null,null,null,null,null,null,null,null,null,null,null,null,null,{"$f":"IF(H985=\"\",\"-\",VLOOKUP(T985,読み替え表_スマートムーブ!$C$4:$F$13,4,0))","v":"-"},{"$f":"IF(H985=\"\",\"-\",VLOOKUP(V985,読み替え表_スマートムーブ!$C$16:$F$21,4,0))","v":"-"},"-",null,null,null,null,0,0,0,0,0,0,"*"]
[null,null,977,null,null,null,null,null,null,null,null,null,null,null,null,null,null,null,null,null,null,null,null,null,null,null,null,null,null,null,null,null,null,null,null,{"$f":"IF(H986=\"\",\"-\",VLOOKUP(T986,読み替え表_スマートムーブ!$C$4:$F$13,4,0))","v":"-"},{"$f":"IF(H986=\"\",\"-\",VLOOKUP(V986,読み替え表_スマートムーブ!$C$16:$F$21,4,0))","v":"-"},"-",null,null,null,null,0,0,0,0,0,0,"*"]
[null,null,978,null,null,null,null,null,null,null,null,null,null,null,null,null,null,null,null,null,null,null,null,null,null,null,null,null,null,null,null,null,null,null,null,{"$f":"IF(H987=\"\",\"-\",VLOOKUP(T987,読み替え表_スマートムーブ!$C$4:$F$13,4,0))","v":"-"},{"$f":"IF(H987=\"\",\"-\",VLOOKUP(V987,読み替え表_スマートムーブ!$C$16:$F$21,4,0))","v":"-"},"-",null,null,null,null,0,0,0,0,0,0,"*"]
[null,null,979,null,null,null,null,null,null,null,null,null,null,null,null,null,null,null,null,null,null,null,null,null,null,null,null,null,null,null,null,null,null,null,null,{"$f":"IF(H988=\"\",\"-\",VLOOKUP(T988,読み替え表_スマートムーブ!$C$4:$F$13,4,0))","v":"-"},{"$f":"IF(H988=\"\",\"-\",VLOOKUP(V988,読み替え表_スマートムーブ!$C$16:$F$21,4,0))","v":"-"},"-",null,null,null,null,0,0,0,0,0,0,"*"]
[null,null,980,null,null,null,null,null,null,null,null,null,null,null,null,null,null,null,null,null,null,null,null,null,null,null,null,null,null,null,null,null,null,null,null,{"$f":"IF(H989=\"\",\"-\",VLOOKUP(T989,読み替え表_スマートムーブ!$C$4:$F$13,4,0))","v":"-"},{"$f":"IF(H989=\"\",\"-\",VLOOKUP(V989,読み替え表_スマートムーブ!$C$16:$F$21,4,0))","v":"-"},"-",null,null,null,null,0,0,0,0,0,0,"*"]
[null,null,981,null,null,null,null,null,null,null,null,null,null,null,null,null,null,null,null,null,null,null,null,null,null,null,null,null,null,null,null,null,null,null,null,{"$f":"IF(H990=\"\",\"-\",VLOOKUP(T990,読み替え表_スマートムーブ!$C$4:$F$13,4,0))","v":"-"},{"$f":"IF(H990=\"\",\"-\",VLOOKUP(V990,読み替え表_スマートムーブ!$C$16:$F$21,4,0))","v":"-"},"-",null,null,null,null,0,0,0,0,0,0,"*"]
[null,null,982,null,null,null,null,null,null,null,null,null,null,null,null,null,null,null,null,null,null,null,null,null,null,null,null,null,null,null,null,null,null,null,null,{"$f":"IF(H991=\"\",\"-\",VLOOKUP(T991,読み替え表_スマートムーブ!$C$4:$F$13,4,0))","v":"-"},{"$f":"IF(H991=\"\",\"-\",VLOOKUP(V991,読み替え表_スマートムーブ!$C$16:$F$21,4,0))","v":"-"},"-",null,null,null,null,0,0,0,0,0,0,"*"]
[null,null,983,null,null,null,null,null,null,null,null,null,null,null,null,null,null,null,null,null,null,null,null,null,null,null,null,null,null,null,null,null,null,null,null,{"$f":"IF(H992=\"\",\"-\",VLOOKUP(T992,読み替え表_スマートムーブ!$C$4:$F$13,4,0))","v":"-"},{"$f":"IF(H992=\"\",\"-\",VLOOKUP(V992,読み替え表_スマートムーブ!$C$16:$F$21,4,0))","v":"-"},"-",null,null,null,null,0,0,0,0,0,0,"*"]
[null,null,984,null,null,null,null,null,null,null,null,null,null,null,null,null,null,null,null,null,null,null,null,null,null,null,null,null,null,null,null,null,null,null,null,{"$f":"IF(H993=\"\",\"-\",VLOOKUP(T993,読み替え表_スマートムーブ!$C$4:$F$13,4,0))","v":"-"},{"$f":"IF(H993=\"\",\"-\",VLOOKUP(V993,読み替え表_スマートムーブ!$C$16:$F$21,4,0))","v":"-"},"-",null,null,null,null,0,0,0,0,0,0,"*"]
[null,null,985,null,null,null,null,null,null,null,null,null,null,null,null,null,null,null,null,null,null,null,null,null,null,null,null,null,null,null,null,null,null,null,null,{"$f":"IF(H994=\"\",\"-\",VLOOKUP(T994,読み替え表_スマートムーブ!$C$4:$F$13,4,0))","v":"-"},{"$f":"IF(H994=\"\",\"-\",VLOOKUP(V994,読み替え表_スマートムーブ!$C$16:$F$21,4,0))","v":"-"},"-",null,null,null,null,0,0,0,0,0,0,"*"]
[null,null,986,null,null,null,null,null,null,null,null,null,null,null,null,null,null,null,null,null,null,null,null,null,null,null,null,null,null,null,null,null,null,null,null,{"$f":"IF(H995=\"\",\"-\",VLOOKUP(T995,読み替え表_スマートムーブ!$C$4:$F$13,4,0))","v":"-"},{"$f":"IF(H995=\"\",\"-\",VLOOKUP(V995,読み替え表_スマートムーブ!$C$16:$F$21,4,0))","v":"-"},"-",null,null,null,null,0,0,0,0,0,0,"*"]
[null,null,987,null,null,null,null,null,null,null,null,null,null,null,null,null,null,null,null,null,null,null,null,null,null,null,null,null,null,null,null,null,null,null,null,{"$f":"IF(H996=\"\",\"-\",VLOOKUP(T996,読み替え表_スマートムーブ!$C$4:$F$13,4,0))","v":"-"},{"$f":"IF(H996=\"\",\"-\",VLOOKUP(V996,読み替え表_スマートムーブ!$C$16:$F$21,4,0))","v":"-"},"-",null,null,null,null,0,0,0,0,0,0,"*"]
[null,null,988,null,null,null,null,null,null,null,null,null,null,null,null,null,null,null,null,null,null,null,null,null,null,null,null,null,null,null,null,null,null,null,null,{"$f":"IF(H997=\"\",\"-\",VLOOKUP(T997,読み替え表_スマートムーブ!$C$4:$F$13,4,0))","v":"-"},{"$f":"IF(H997=\"\",\"-\",VLOOKUP(V997,読み替え表_スマートムーブ!$C$16:$F$21,4,0))","v":"-"},"-",null,null,null,null,0,0,0,0,0,0,"*"]
[null,null,989,null,null,null,null,null,null,null,null,null,null,null,null,null,null,null,null,null,null,null,null,null,null,null,null,null,null,null,null,null,null,null,null,{"$f":"IF(H998=\"\",\"-\",VLOOKUP(T998,読み替え表_スマートムーブ!$C$4:$F$13,4,0))","v":"-"},{"$f":"IF(H998=\"\",\"-\",VLOOKUP(V998,読み替え表_スマートムーブ!$C$16:$F$21,4,0))","v":"-"},"-",null,null,null,null,0,0,0,0,0,0,"*"]
[null,null,990,null,null,null,null,null,null,null,null,null,null,null,null,null,null,null,null,null,null,null,null,null,null,null,null,null,null,null,null,null,null,null,null,{"$f":"IF(H999=\"\",\"-\",VLOOKUP(T999,読み替え表_スマートムーブ!$C$4:$F$13,4,0))","v":"-"},{"$f":"IF(H999=\"\",\"-\",VLOOKUP(V999,読み替え表_スマートムーブ!$C$16:$F$21,4,0))","v":"-"},"-",null,null,null,null,0,0,0,0,0,0,"*"]
[null,null,991,null,null,null,null,null,null,null,null,null,null,null,null,null,null,null,null,null,null,null,null,null,null,null,null,null,null,null,null,null,null,null,null,{"$f":"IF(H1000=\"\",\"-\",VLOOKUP(T1000,読み替え表_スマートムーブ!$C$4:$F$13,4,0))","v":"-"},{"$f":"IF(H1000=\"\",\"-\",VLOOKUP(V1000,読み替え表_スマートムーブ!$C$16:$F$21,4,0))","v":"-"},"-",null,null,null,null,0,0,0,0,0,0,"*"]
[null,null,992,null,null,null,null,null,null,null,null,null,null,null,null,null,null,null,null,null,null,null,null,null,null,null,null,null,null,null,null,null,null,null,null,{"$f":"IF(H1001=\"\",\"-\",VLOOKUP(T1001,読み替え表_スマートムーブ!$C$4:$F$13,4,0))","v":"-"},{"$f":"IF(H1001=\"\",\"-\",VLOOKUP(V1001,読み替え表_スマートムーブ!$C$16:$F$21,4,0))","v":"-"},"-",null,null,null,null,0,0,0,0,0,0,"*"]
[null,null,993,null,null,null,null,null,null,null,null,null,null,null,null,null,null,null,null,null,null,null,null,null,null,null,null,null,null,null,null,null,null,null,null,{"$f":"IF(H1002=\"\",\"-\",VLOOKUP(T1002,読み替え表_スマートムーブ!$C$4:$F$13,4,0))","v":"-"},{"$f":"IF(H1002=\"\",\"-\",VLOOKUP(V1002,読み替え表_スマートムーブ!$C$16:$F$21,4,0))","v":"-"},"-",null,null,null,null,0,0,0,0,0,0,"*"]
[null,null,994,null,null,null,null,null,null,null,null,null,null,null,null,null,null,null,null,null,null,null,null,null,null,null,null,null,null,null,null,null,null,null,null,{"$f":"IF(H1003=\"\",\"-\",VLOOKUP(T1003,読み替え表_スマートムーブ!$C$4:$F$13,4,0))","v":"-"},{"$f":"IF(H1003=\"\",\"-\",VLOOKUP(V1003,読み替え表_スマートムーブ!$C$16:$F$21,4,0))","v":"-"},"-",null,null,null,null,0,0,0,0,0,0,"*"]
[null,null,995,null,null,null,null,null,null,null,null,null,null,null,null,null,null,null,null,null,null,null,null,null,null,null,null,null,null,null,null,null,null,null,null,{"$f":"IF(H1004=\"\",\"-\",VLOOKUP(T1004,読み替え表_スマートムーブ!$C$4:$F$13,4,0))","v":"-"},{"$f":"IF(H1004=\"\",\"-\",VLOOKUP(V1004,読み替え表_スマートムーブ!$C$16:$F$21,4,0))","v":"-"},"-",null,null,null,null,0,0,0,0,0,0,"*"]
[null,null,996,null,null,null,null,null,null,null,null,null,null,null,null,null,null,null,null,null,null,null,null,null,null,null,null,null,null,null,null,null,null,null,null,{"$f":"IF(H1005=\"\",\"-\",VLOOKUP(T1005,読み替え表_スマートムーブ!$C$4:$F$13,4,0))","v":"-"},{"$f":"IF(H1005=\"\",\"-\",VLOOKUP(V1005,読み替え表_スマートムーブ!$C$16:$F$21,4,0))","v":"-"},"-",null,null,null,null,0,0,0,0,0,0,"*"]
[null,null,997,null,null,null,null,null,null,null,null,null,null,null,null,null,null,null,null,null,null,null,null,null,null,null,null,null,null,null,null,null,null,null,null,{"$f":"IF(H1006=\"\",\"-\",VLOOKUP(T1006,読み替え表_スマートムーブ!$C$4:$F$13,4,0))","v":"-"},{"$f":"IF(H1006=\"\",\"-\",VLOOKUP(V1006,読み替え表_スマートムーブ!$C$16:$F$21,4,0))","v":"-"},"-",null,null,null,null,0,0,0,0,0,0,"*"]
[null,null,998,null,null,null,null,null,null,null,null,null,null,null,null,null,null,null,null,null,null,null,null,null,null,null,null,null,null,null,null,null,null,null,null,{"$f":"IF(H1007=\"\",\"-\",VLOOKUP(T1007,読み替え表_スマートムーブ!$C$4:$F$13,4,0))","v":"-"},{"$f":"IF(H1007=\"\",\"-\",VLOOKUP(V1007,読み替え表_スマートムーブ!$C$16:$F$21,4,0))","v":"-"},"-",null,null,null,null,0,0,0,0,0,0,"*"]
[null,null,999,null,null,null,null,null,null,null,null,null,null,null,null,null,null,null,null,null,null,null,null,null,null,null,null,null,null,null,null,null,null,null,null,{"$f":"IF(H1008=\"\",\"-\",VLOOKUP(T1008,読み替え表_スマートムーブ!$C$4:$F$13,4,0))","v":"-"},{"$f":"IF(H1008=\"\",\"-\",VLOOKUP(V1008,読み替え表_スマートムーブ!$C$16:$F$21,4,0))","v":"-"},"-",null,null,null,null,0,0,0,0,0,0,"*"]
[null,null,1000,null,null,null,null,null,null,null,null,null,null,null,null,null,null,null,null,null,null,null,null,null,null,null,null,null,null,null,null,null,null,null,null,{"$f":"IF(H1009=\"\",\"-\",VLOOKUP(T1009,読み替え表_スマートムーブ!$C$4:$F$13,4,0))","v":"-"},{"$f":"IF(H1009=\"\",\"-\",VLOOKUP(V1009,読み替え表_スマートムーブ!$C$16:$F$21,4,0))","v":"-"},"-",null,null,null,null,0,0,0,0,0,0,"*"]
[null,null,1001,null,null,null,null,null,null,null,null,null,null,null,null,null,null,null,null,null,null,null,null,null,null,null,null,null,null,null,null,null,null,null,null,{"$f":"IF(H1010=\"\",\"-\",VLOOKUP(T1010,読み替え表_スマートムーブ!$C$4:$F$13,4,0))","v":"-"},{"$f":"IF(H1010=\"\",\"-\",VLOOKUP(V1010,読み替え表_スマートムーブ!$C$16:$F$21,4,0))","v":"-"},{"$f":"IF(H1010=\"\",\"-\",AJ1010*AK1010)","v":"-"},null,null,null,null,0,0,0,0,0,0,"*"]
[null,null,1002,null,null,null,null,null,null,null,null,null,null,null,null,null,null,null,null,null,null,null,null,null,null,null,null,null,null,null,null,null,null,null,null,{"$f":"IF(H1011=\"\",\"-\",VLOOKUP(T1011,読み替え表_スマートムーブ!$C$4:$F$13,4,0))","v":"-"},{"$f":"IF(H1011=\"\",\"-\",VLOOKUP(V1011,読み替え表_スマートムーブ!$C$16:$F$21,4,0))","v":"-"},"-",null,null,null,null,0,0,0,0,0,0,"*"]
[null,null,1003,null,null,null,null,null,null,null,null,null,null,null,null,null,null,null,null,null,null,null,null,null,null,null,null,null,null,null,null,null,null,null,null,{"$f":"IF(H1012=\"\",\"-\",VLOOKUP(T1012,読み替え表_スマートムーブ!$C$4:$F$13,4,0))","v":"-"},{"$f":"IF(H1012=\"\",\"-\",VLOOKUP(V1012,読み替え表_スマートムーブ!$C$16:$F$21,4,0))","v":"-"},"-",null,null,null,null,0,0,0,0,0,0,"*"]
[null,null,1004,null,null,null,null,null,null,null,null,null,null,null,null,null,null,null,null,null,null,null,null,null,null,null,null,null,null,null,null,null,null,null,null,{"$f":"IF(H1013=\"\",\"-\",VLOOKUP(T1013,読み替え表_スマートムーブ!$C$4:$F$13,4,0))","v":"-"},{"$f":"IF(H1013=\"\",\"-\",VLOOKUP(V1013,読み替え表_スマートムーブ!$C$16:$F$21,4,0))","v":"-"},"-",null,null,null,null,0,0,0,0,0,0,"*"]
[null,null,1005,null,null,null,null,null,null,null,null,null,null,null,null,null,null,null,null,null,null,null,null,null,null,null,null,null,null,null,null,null,null,null,null,{"$f":"IF(H1014=\"\",\"-\",VLOOKUP(T1014,読み替え表_スマートムーブ!$C$4:$F$13,4,0))","v":"-"},{"$f":"IF(H1014=\"\",\"-\",VLOOKUP(V1014,読み替え表_スマートムーブ!$C$16:$F$21,4,0))","v":"-"},"-",null,null,null,null,0,0,0,0,0,0,"*"]
[null,null,1006,null,null,null,null,null,null,null,null,null,null,null,null,null,null,null,null,null,null,null,null,null,null,null,null,null,null,null,null,null,null,null,null,{"$f":"IF(H1015=\"\",\"-\",VLOOKUP(T1015,読み替え表_スマートムーブ!$C$4:$F$13,4,0))","v":"-"},{"$f":"IF(H1015=\"\",\"-\",VLOOKUP(V1015,読み替え表_スマートムーブ!$C$16:$F$21,4,0))","v":"-"},"-",null,null,null,null,0,0,0,0,0,0,"*"]
[null,null,1007,null,null,null,null,null,null,null,null,null,null,null,null,null,null,null,null,null,null,null,null,null,null,null,null,null,null,null,null,null,null,null,null,{"$f":"IF(H1016=\"\",\"-\",VLOOKUP(T1016,読み替え表_スマートムーブ!$C$4:$F$13,4,0))","v":"-"},{"$f":"IF(H1016=\"\",\"-\",VLOOKUP(V1016,読み替え表_スマートムーブ!$C$16:$F$21,4,0))","v":"-"},"-",null,null,null,null,0,0,0,0,0,0,"*"]
[null,null,1008,null,null,null,null,null,null,null,null,null,null,null,null,null,null,null,null,null,null,null,null,null,null,null,null,null,null,null,null,null,null,null,null,{"$f":"IF(H1017=\"\",\"-\",VLOOKUP(T1017,読み替え表_スマートムーブ!$C$4:$F$13,4,0))","v":"-"},{"$f":"IF(H1017=\"\",\"-\",VLOOKUP(V1017,読み替え表_スマートムーブ!$C$16:$F$21,4,0))","v":"-"},"-",null,null,null,null,0,0,0,0,0,0,"*"]
[null,null,1009,null,null,null,null,null,null,null,null,null,null,null,null,null,null,null,null,null,null,null,null,null,null,null,null,null,null,null,null,null,null,null,null,{"$f":"IF(H1018=\"\",\"-\",VLOOKUP(T1018,読み替え表_スマートムーブ!$C$4:$F$13,4,0))","v":"-"},{"$f":"IF(H1018=\"\",\"-\",VLOOKUP(V1018,読み替え表_スマートムーブ!$C$16:$F$21,4,0))","v":"-"},"-",null,null,null,null,0,0,0,0,0,0,"*"]
[null,null,1010,null,null,null,null,null,null,null,null,null,null,null,null,null,null,null,null,null,null,null,null,null,null,null,null,null,null,null,null,null,null,null,null,{"$f":"IF(H1019=\"\",\"-\",VLOOKUP(T1019,読み替え表_スマートムーブ!$C$4:$F$13,4,0))","v":"-"},{"$f":"IF(H1019=\"\",\"-\",VLOOKUP(V1019,読み替え表_スマートムーブ!$C$16:$F$21,4,0))","v":"-"},"-",null,null,null,null,0,0,0,0,0,0,"*"]
[null,null,1011,null,null,null,null,null,null,null,null,null,null,null,null,null,null,null,null,null,null,null,null,null,null,null,null,null,null,null,null,null,null,null,null,{"$f":"IF(H1020=\"\",\"-\",VLOOKUP(T1020,読み替え表_スマートムーブ!$C$4:$F$13,4,0))","v":"-"},{"$f":"IF(H1020=\"\",\"-\",VLOOKUP(V1020,読み替え表_スマートムーブ!$C$16:$F$21,4,0))","v":"-"},"-",null,null,null,null,0,0,0,0,0,0,"*"]
[null,null,1012,null,null,null,null,null,null,null,null,null,null,null,null,null,null,null,null,null,null,null,null,null,null,null,null,null,null,null,null,null,null,null,null,{"$f":"IF(H1021=\"\",\"-\",VLOOKUP(T1021,読み替え表_スマートムーブ!$C$4:$F$13,4,0))","v":"-"},{"$f":"IF(H1021=\"\",\"-\",VLOOKUP(V1021,読み替え表_スマートムーブ!$C$16:$F$21,4,0))","v":"-"},"-",null,null,null,null,0,0,0,0,0,0,"*"]
[null,null,1013,null,null,null,null,null,null,null,null,null,null,null,null,null,null,null,null,null,null,null,null,null,null,null,null,null,null,null,null,null,null,null,null,{"$f":"IF(H1022=\"\",\"-\",VLOOKUP(T1022,読み替え表_スマートムーブ!$C$4:$F$13,4,0))","v":"-"},{"$f":"IF(H1022=\"\",\"-\",VLOOKUP(V1022,読み替え表_スマートムーブ!$C$16:$F$21,4,0))","v":"-"},"-",null,null,null,null,0,0,0,0,0,0,"*"]
[null,null,1014,null,null,null,null,null,null,null,null,null,null,null,null,null,null,null,null,null,null,null,null,null,null,null,null,null,null,null,null,null,null,null,null,{"$f":"IF(H1023=\"\",\"-\",VLOOKUP(T1023,読み替え表_スマートムーブ!$C$4:$F$13,4,0))","v":"-"},{"$f":"IF(H1023=\"\",\"-\",VLOOKUP(V1023,読み替え表_スマートムーブ!$C$16:$F$21,4,0))","v":"-"},"-",null,null,null,null,0,0,0,0,0,0,"*"]
[null,null,1015,null,null,null,null,null,null,null,null,null,null,null,null,null,null,null,null,null,null,null,null,null,null,null,null,null,null,null,null,null,null,null,null,{"$f":"IF(H1024=\"\",\"-\",VLOOKUP(T1024,読み替え表_スマートムーブ!$C$4:$F$13,4,0))","v":"-"},{"$f":"IF(H1024=\"\",\"-\",VLOOKUP(V1024,読み替え表_スマートムーブ!$C$16:$F$21,4,0))","v":"-"},"-",null,null,null,null,0,0,0,0,0,0,"*"]
[null,null,1016,null,null,null,null,null,null,null,null,null,null,null,null,null,null,null,null,null,null,null,null,null,null,null,null,null,null,null,null,null,null,null,null,{"$f":"IF(H1025=\"\",\"-\",VLOOKUP(T1025,読み替え表_スマートムーブ!$C$4:$F$13,4,0))","v":"-"},{"$f":"IF(H1025=\"\",\"-\",VLOOKUP(V1025,読み替え表_スマートムーブ!$C$16:$F$21,4,0))","v":"-"},"-",null,null,null,null,0,0,0,0,0,0,"*"]
[null,null,1017,null,null,null,null,null,null,null,null,null,null,null,null,null,null,null,null,null,null,null,null,null,null,null,null,null,null,null,null,null,null,null,null,{"$f":"IF(H1026=\"\",\"-\",VLOOKUP(T1026,読み替え表_スマートムーブ!$C$4:$F$13,4,0))","v":"-"},{"$f":"IF(H1026=\"\",\"-\",VLOOKUP(V1026,読み替え表_スマートムーブ!$C$16:$F$21,4,0))","v":"-"},"-",null,null,null,null,0,0,0,0,0,0,"*"]
[null,null,1018,null,null,null,null,null,null,null,null,null,null,null,null,null,null,null,null,null,null,null,null,null,null,null,null,null,null,null,null,null,null,null,null,{"$f":"IF(H1027=\"\",\"-\",VLOOKUP(T1027,読み替え表_スマートムーブ!$C$4:$F$13,4,0))","v":"-"},{"$f":"IF(H1027=\"\",\"-\",VLOOKUP(V1027,読み替え表_スマートムーブ!$C$16:$F$21,4,0))","v":"-"},"-",null,null,null,null,0,0,0,0,0,0,"*"]
[null,null,1019,null,null,null,null,null,null,null,null,null,null,null,null,null,null,null,null,null,null,null,null,null,null,null,null,null,null,null,null,null,null,null,null,{"$f":"IF(H1028=\"\",\"-\",VLOOKUP(T1028,読み替え表_スマートムーブ!$C$4:$F$13,4,0))","v":"-"},{"$f":"IF(H1028=\"\",\"-\",VLOOKUP(V1028,読み替え表_スマートムーブ!$C$16:$F$21,4,0))","v":"-"},"-",null,null,null,null,0,0,0,0,0,0,"*"]
[null,null,1020,null,null,null,null,null,null,null,null,null,null,null,null,null,null,null,null,null,null,null,null,null,null,null,null,null,null,null,null,null,null,null,null,{"$f":"IF(H1029=\"\",\"-\",VLOOKUP(T1029,読み替え表_スマートムーブ!$C$4:$F$13,4,0))","v":"-"},{"$f":"IF(H1029=\"\",\"-\",VLOOKUP(V1029,読み替え表_スマートムーブ!$C$16:$F$21,4,0))","v":"-"},"-",null,null,null,null,0,0,0,0,0,0,"*"]
[null,null,1021,null,null,null,null,null,null,null,null,null,null,null,null,null,null,null,null,null,null,null,null,null,null,null,null,null,null,null,null,null,null,null,null,{"$f":"IF(H1030=\"\",\"-\",VLOOKUP(T1030,読み替え表_スマートムーブ!$C$4:$F$13,4,0))","v":"-"},{"$f":"IF(H1030=\"\",\"-\",VLOOKUP(V1030,読み替え表_スマートムーブ!$C$16:$F$21,4,0))","v":"-"},"-",null,null,null,null,0,0,0,0,0,0,"*"]
[null,null,1022,null,null,null,null,null,null,null,null,null,null,null,null,null,null,null,null,null,null,null,null,null,null,null,null,null,null,null,null,null,null,null,null,{"$f":"IF(H1031=\"\",\"-\",VLOOKUP(T1031,読み替え表_スマートムーブ!$C$4:$F$13,4,0))","v":"-"},{"$f":"IF(H1031=\"\",\"-\",VLOOKUP(V1031,読み替え表_スマートムーブ!$C$16:$F$21,4,0))","v":"-"},"-",null,null,null,null,0,0,0,0,0,0,"*"]
[null,null,1023,null,null,null,null,null,null,null,null,null,null,null,null,null,null,null,null,null,null,null,null,null,null,null,null,null,null,null,null,null,null,null,null,{"$f":"IF(H1032=\"\",\"-\",VLOOKUP(T1032,読み替え表_スマートムーブ!$C$4:$F$13,4,0))","v":"-"},{"$f":"IF(H1032=\"\",\"-\",VLOOKUP(V1032,読み替え表_スマートムーブ!$C$16:$F$21,4,0))","v":"-"},"-",null,null,null,null,0,0,0,0,0,0,"*"]
[null,null,1024,null,null,null,null,null,null,null,null,null,null,null,null,null,null,null,null,null,null,null,null,null,null,null,null,null,null,null,null,null,null,null,null,{"$f":"IF(H1033=\"\",\"-\",VLOOKUP(T1033,読み替え表_スマートムーブ!$C$4:$F$13,4,0))","v":"-"},{"$f":"IF(H1033=\"\",\"-\",VLOOKUP(V1033,読み替え表_スマートムーブ!$C$16:$F$21,4,0))","v":"-"},"-",null,null,null,null,0,0,0,0,0,0,"*"]
[null,null,1025,null,null,null,null,null,null,null,null,null,null,null,null,null,null,null,null,null,null,null,null,null,null,null,null,null,null,null,null,null,null,null,null,{"$f":"IF(H1034=\"\",\"-\",VLOOKUP(T1034,読み替え表_スマートムーブ!$C$4:$F$13,4,0))","v":"-"},{"$f":"IF(H1034=\"\",\"-\",VLOOKUP(V1034,読み替え表_スマートムーブ!$C$16:$F$21,4,0))","v":"-"},"-",null,null,null,null,0,0,0,0,0,{"$f":"AQ1034","v":0},"*"]
[null,null,{"$f":"ROW()-9","v":1026},null,null,null,null,null,null,null,null,null,null,null,null,null,null,null,null,null,null,null,null,null,null,null,null,null,null,null,null,null,null,null,null,{"$f":"IF(H1035=\"\",\"-\",VLOOKUP(T1035,読み替え表_スマートムーブ!$C$4:$F$13,4,0))","v":"-"},{"$f":"IF(H1035=\"\",\"-\",VLOOKUP(V1035,読み替え表_スマートムーブ!$C$16:$F$21,4,0))","v":"-"},"-",null,null,null,null,{"$f":"IF(SUM($AR1035:$AT1035)>=1,1,0)","v":0},{"$f":"IF(R1035=1,1,0)","v":0},{"$f":"IF(T1035=9,1,0)","v":0},{"$f":"IF(V1035=5,1,0)","v":0},{"$f":"IF(OR($X1035=1,$X1035=2,$X1035=3),1,0)","v":0},0,"*"]
[null,null,1027,null,null,null,null,null,null,null,null,null,null,null,null,null,null,null,null,null,null,null,null,null,null,null,null,null,null,null,null,null,null,null,null,{"$f":"IF(H1036=\"\",\"-\",VLOOKUP(T1036,読み替え表_スマートムーブ!$C$4:$F$13,4,0))","v":"-"},{"$f":"IF(H1036=\"\",\"-\",VLOOKUP(V1036,読み替え表_スマートムーブ!$C$16:$F$21,4,0))","v":"-"},"-",null,null,null,null,0,0,0,0,0,0,"*"]
[null,null,1028,null,null,null,null,null,null,null,null,null,null,null,null,null,null,null,null,null,null,null,null,null,null,null,null,null,null,null,null,null,null,null,null,{"$f":"IF(H1037=\"\",\"-\",VLOOKUP(T1037,読み替え表_スマートムーブ!$C$4:$F$13,4,0))","v":"-"},{"$f":"IF(H1037=\"\",\"-\",VLOOKUP(V1037,読み替え表_スマートムーブ!$C$16:$F$21,4,0))","v":"-"},"-",null,null,null,null,0,0,0,0,0,0,"*"]
[null,null,1029,null,null,null,null,null,null,null,null,null,null,null,null,null,null,null,null,null,null,null,null,null,null,null,null,null,null,null,null,null,null,null,null,{"$f":"IF(H1038=\"\",\"-\",VLOOKUP(T1038,読み替え表_スマートムーブ!$C$4:$F$13,4,0))","v":"-"},{"$f":"IF(H1038=\"\",\"-\",VLOOKUP(V1038,読み替え表_スマートムーブ!$C$16:$F$21,4,0))","v":"-"},"-",null,null,null,null,0,0,0,0,0,0,"*"]
[null,null,1030,null,null,null,null,null,null,null,null,null,null,null,null,null,null,null,null,null,null,null,null,null,null,null,null,null,null,null,null,null,null,null,null,{"$f":"IF(H1039=\"\",\"-\",VLOOKUP(T1039,読み替え表_スマートムーブ!$C$4:$F$13,4,0))","v":"-"},{"$f":"IF(H1039=\"\",\"-\",VLOOKUP(V1039,読み替え表_スマートムーブ!$C$16:$F$21,4,0))","v":"-"},"-",null,null,null,null,0,0,0,0,0,0,"*"]
[null,null,1031,null,null,null,null,null,null,null,null,null,null,null,null,null,null,null,null,null,null,null,null,null,null,null,null,null,null,null,null,null,null,null,null,{"$f":"IF(H1040=\"\",\"-\",VLOOKUP(T1040,読み替え表_スマートムーブ!$C$4:$F$13,4,0))","v":"-"},{"$f":"IF(H1040=\"\",\"-\",VLOOKUP(V1040,読み替え表_スマートムーブ!$C$16:$F$21,4,0))","v":"-"},"-",null,null,null,null,0,0,0,0,0,0,"*"]
[null,null,1032,null,null,null,null,null,null,null,null,null,null,null,null,null,null,null,null,null,null,null,null,null,null,null,null,null,null,null,null,null,null,null,null,{"$f":"IF(H1041=\"\",\"-\",VLOOKUP(T1041,読み替え表_スマートムーブ!$C$4:$F$13,4,0))","v":"-"},{"$f":"IF(H1041=\"\",\"-\",VLOOKUP(V1041,読み替え表_スマートムーブ!$C$16:$F$21,4,0))","v":"-"},"-",null,null,null,null,0,0,0,0,0,0,"*"]
[null,null,1033,null,null,null,null,null,null,null,null,null,null,null,null,null,null,null,null,null,null,null,null,null,null,null,null,null,null,null,null,null,null,null,null,{"$f":"IF(H1042=\"\",\"-\",VLOOKUP(T1042,読み替え表_スマートムーブ!$C$4:$F$13,4,0))","v":"-"},{"$f":"IF(H1042=\"\",\"-\",VLOOKUP(V1042,読み替え表_スマートムーブ!$C$16:$F$21,4,0))","v":"-"},"-",null,null,null,null,0,0,0,0,0,0,"*"]
[null,null,1034,null,null,null,null,null,null,null,null,null,null,null,null,null,null,null,null,null,null,null,null,null,null,null,null,null,null,null,null,null,null,null,null,{"$f":"IF(H1043=\"\",\"-\",VLOOKUP(T1043,読み替え表_スマートムーブ!$C$4:$F$13,4,0))","v":"-"},{"$f":"IF(H1043=\"\",\"-\",VLOOKUP(V1043,読み替え表_スマートムーブ!$C$16:$F$21,4,0))","v":"-"},"-",null,null,null,null,0,0,0,0,0,0,"*"]
[null,null,1035,null,null,null,null,null,null,null,null,null,null,null,null,null,null,null,null,null,null,null,null,null,null,null,null,null,null,null,null,null,null,null,null,{"$f":"IF(H1044=\"\",\"-\",VLOOKUP(T1044,読み替え表_スマートムーブ!$C$4:$F$13,4,0))","v":"-"},{"$f":"IF(H1044=\"\",\"-\",VLOOKUP(V1044,読み替え表_スマートムーブ!$C$16:$F$21,4,0))","v":"-"},"-",null,null,null,null,0,0,0,0,0,0,"*"]
[null,null,1036,null,null,null,null,null,null,null,null,null,null,null,null,null,null,null,null,null,null,null,null,null,null,null,null,null,null,null,null,null,null,null,null,{"$f":"IF(H1045=\"\",\"-\",VLOOKUP(T1045,読み替え表_スマートムーブ!$C$4:$F$13,4,0))","v":"-"},{"$f":"IF(H1045=\"\",\"-\",VLOOKUP(V1045,読み替え表_スマートムーブ!$C$16:$F$21,4,0))","v":"-"},"-",null,null,null,null,0,0,0,0,0,0,"*"]
[null,null,1037,null,null,null,null,null,null,null,null,null,null,null,null,null,null,null,null,null,null,null,null,null,null,null,null,null,null,null,null,null,null,null,null,{"$f":"IF(H1046=\"\",\"-\",VLOOKUP(T1046,読み替え表_スマートムーブ!$C$4:$F$13,4,0))","v":"-"},{"$f":"IF(H1046=\"\",\"-\",VLOOKUP(V1046,読み替え表_スマートムーブ!$C$16:$F$21,4,0))","v":"-"},"-",null,null,null,null,0,0,0,0,0,0,"*"]
[null,null,1038,null,null,null,null,null,null,null,null,null,null,null,null,null,null,null,null,null,null,null,null,null,null,null,null,null,null,null,null,null,null,null,null,{"$f":"IF(H1047=\"\",\"-\",VLOOKUP(T1047,読み替え表_スマートムーブ!$C$4:$F$13,4,0))","v":"-"},{"$f":"IF(H1047=\"\",\"-\",VLOOKUP(V1047,読み替え表_スマートムーブ!$C$16:$F$21,4,0))","v":"-"},"-",null,null,null,null,0,0,0,0,0,0,"*"]
[null,null,1039,null,null,null,null,null,null,null,null,null,null,null,null,null,null,null,null,null,null,null,null,null,null,null,null,null,null,null,null,null,null,null,null,{"$f":"IF(H1048=\"\",\"-\",VLOOKUP(T1048,読み替え表_スマートムーブ!$C$4:$F$13,4,0))","v":"-"},{"$f":"IF(H1048=\"\",\"-\",VLOOKUP(V1048,読み替え表_スマートムーブ!$C$16:$F$21,4,0))","v":"-"},"-",null,null,null,null,0,0,0,0,0,0,"*"]
[null,null,1040,null,null,null,null,null,null,null,null,null,null,null,null,null,null,null,null,null,null,null,null,null,null,null,null,null,null,null,null,null,null,null,null,{"$f":"IF(H1049=\"\",\"-\",VLOOKUP(T1049,読み替え表_スマートムーブ!$C$4:$F$13,4,0))","v":"-"},{"$f":"IF(H1049=\"\",\"-\",VLOOKUP(V1049,読み替え表_スマートムーブ!$C$16:$F$21,4,0))","v":"-"},"-",null,null,null,null,0,0,0,0,0,0,"*"]
[null,null,1041,null,null,null,null,null,null,null,null,null,null,null,null,null,null,null,null,null,null,null,null,null,null,null,null,null,null,null,null,null,null,null,null,{"$f":"IF(H1050=\"\",\"-\",VLOOKUP(T1050,読み替え表_スマートムーブ!$C$4:$F$13,4,0))","v":"-"},{"$f":"IF(H1050=\"\",\"-\",VLOOKUP(V1050,読み替え表_スマートムーブ!$C$16:$F$21,4,0))","v":"-"},"-",null,null,null,null,0,0,0,0,0,0,"*"]
[null,null,1042,null,null,null,null,null,null,null,null,null,null,null,null,null,null,null,null,null,null,null,null,null,null,null,null,null,null,null,null,null,null,null,null,{"$f":"IF(H1051=\"\",\"-\",VLOOKUP(T1051,読み替え表_スマートムーブ!$C$4:$F$13,4,0))","v":"-"},{"$f":"IF(H1051=\"\",\"-\",VLOOKUP(V1051,読み替え表_スマートムーブ!$C$16:$F$21,4,0))","v":"-"},"-",null,null,null,null,0,0,0,0,0,0,"*"]
[null,null,1043,null,null,null,null,null,null,null,null,null,null,null,null,null,null,null,null,null,null,null,null,null,null,null,null,null,null,null,null,null,null,null,null,{"$f":"IF(H1052=\"\",\"-\",VLOOKUP(T1052,読み替え表_スマートムーブ!$C$4:$F$13,4,0))","v":"-"},{"$f":"IF(H1052=\"\",\"-\",VLOOKUP(V1052,読み替え表_スマートムーブ!$C$16:$F$21,4,0))","v":"-"},"-",null,null,null,null,0,0,0,0,0,0,"*"]
[null,null,1044,null,null,null,null,null,null,null,null,null,null,null,null,null,null,null,null,null,null,null,null,null,null,null,null,null,null,null,null,null,null,null,null,{"$f":"IF(H1053=\"\",\"-\",VLOOKUP(T1053,読み替え表_スマートムーブ!$C$4:$F$13,4,0))","v":"-"},{"$f":"IF(H1053=\"\",\"-\",VLOOKUP(V1053,読み替え表_スマートムーブ!$C$16:$F$21,4,0))","v":"-"},"-",null,null,null,null,0,0,0,0,0,0,"*"]
[null,null,1045,null,null,null,null,null,null,null,null,null,null,null,null,null,null,null,null,null,null,null,null,null,null,null,null,null,null,null,null,null,null,null,null,{"$f":"IF(H1054=\"\",\"-\",VLOOKUP(T1054,読み替え表_スマートムーブ!$C$4:$F$13,4,0))","v":"-"},{"$f":"IF(H1054=\"\",\"-\",VLOOKUP(V1054,読み替え表_スマートムーブ!$C$16:$F$21,4,0))","v":"-"},"-",null,null,null,null,0,0,0,0,0,0,"*"]
[null,null,1046,null,null,null,null,null,null,null,null,null,null,null,null,null,null,null,null,null,null,null,null,null,null,null,null,null,null,null,null,null,null,null,null,{"$f":"IF(H1055=\"\",\"-\",VLOOKUP(T1055,読み替え表_スマートムーブ!$C$4:$F$13,4,0))","v":"-"},{"$f":"IF(H1055=\"\",\"-\",VLOOKUP(V1055,読み替え表_スマートムーブ!$C$16:$F$21,4,0))","v":"-"},"-",null,null,null,null,0,0,0,0,0,0,"*"]
[null,null,1047,null,null,null,null,null,null,null,null,null,null,null,null,null,null,null,null,null,null,null,null,null,null,null,null,null,null,null,null,null,null,null,null,{"$f":"IF(H1056=\"\",\"-\",VLOOKUP(T1056,読み替え表_スマートムーブ!$C$4:$F$13,4,0))","v":"-"},{"$f":"IF(H1056=\"\",\"-\",VLOOKUP(V1056,読み替え表_スマートムーブ!$C$16:$F$21,4,0))","v":"-"},"-",null,null,null,null,0,0,0,0,0,0,"*"]
[null,null,1048,null,null,null,null,null,null,null,null,null,null,null,null,null,null,null,null,null,null,null,null,null,null,null,null,null,null,null,null,null,null,null,null,{"$f":"IF(H1057=\"\",\"-\",VLOOKUP(T1057,読み替え表_スマートムーブ!$C$4:$F$13,4,0))","v":"-"},{"$f":"IF(H1057=\"\",\"-\",VLOOKUP(V1057,読み替え表_スマートムーブ!$C$16:$F$21,4,0))","v":"-"},"-",null,null,null,null,0,0,0,0,0,0,"*"]
[null,null,1049,null,null,null,null,null,null,null,null,null,null,null,null,null,null,null,null,null,null,null,null,null,null,null,null,null,null,null,null,null,null,null,null,{"$f":"IF(H1058=\"\",\"-\",VLOOKUP(T1058,読み替え表_スマートムーブ!$C$4:$F$13,4,0))","v":"-"},{"$f":"IF(H1058=\"\",\"-\",VLOOKUP(V1058,読み替え表_スマートムーブ!$C$16:$F$21,4,0))","v":"-"},"-",null,null,null,null,0,0,0,0,0,0,"*"]
[null,null,1050,null,null,null,null,null,null,null,null,null,null,null,null,null,null,null,null,null,null,null,null,null,null,null,null,null,null,null,null,null,null,null,null,{"$f":"IF(H1059=\"\",\"-\",VLOOKUP(T1059,読み替え表_スマートムーブ!$C$4:$F$13,4,0))","v":"-"},{"$f":"IF(H1059=\"\",\"-\",VLOOKUP(V1059,読み替え表_スマートムーブ!$C$16:$F$21,4,0))","v":"-"},"-",null,null,null,null,0,0,0,0,0,0,"*"]
[null,null,1051,null,null,null,null,null,null,null,null,null,null,null,null,null,null,null,null,null,null,null,null,null,null,null,null,null,null,null,null,null,null,null,null,{"$f":"IF(H1060=\"\",\"-\",VLOOKUP(T1060,読み替え表_スマートムーブ!$C$4:$F$13,4,0))","v":"-"},{"$f":"IF(H1060=\"\",\"-\",VLOOKUP(V1060,読み替え表_スマートムーブ!$C$16:$F$21,4,0))","v":"-"},"-",null,null,null,null,0,0,0,0,0,0,"*"]
[null,null,1052,null,null,null,null,null,null,null,null,null,null,null,null,null,null,null,null,null,null,null,null,null,null,null,null,null,null,null,null,null,null,null,null,{"$f":"IF(H1061=\"\",\"-\",VLOOKUP(T1061,読み替え表_スマートムーブ!$C$4:$F$13,4,0))","v":"-"},{"$f":"IF(H1061=\"\",\"-\",VLOOKUP(V1061,読み替え表_スマートムーブ!$C$16:$F$21,4,0))","v":"-"},"-",null,null,null,null,0,0,0,0,0,0,"*"]
[null,null,1053,null,null,null,null,null,null,null,null,null,null,null,null,null,null,null,null,null,null,null,null,null,null,null,null,null,null,null,null,null,null,null,null,{"$f":"IF(H1062=\"\",\"-\",VLOOKUP(T1062,読み替え表_スマートムーブ!$C$4:$F$13,4,0))","v":"-"},{"$f":"IF(H1062=\"\",\"-\",VLOOKUP(V1062,読み替え表_スマートムーブ!$C$16:$F$21,4,0))","v":"-"},"-",null,null,null,null,0,0,0,0,0,0,"*"]
[null,null,1054,null,null,null,null,null,null,null,null,null,null,null,null,null,null,null,null,null,null,null,null,null,null,null,null,null,null,null,null,null,null,null,null,{"$f":"IF(H1063=\"\",\"-\",VLOOKUP(T1063,読み替え表_スマートムーブ!$C$4:$F$13,4,0))","v":"-"},{"$f":"IF(H1063=\"\",\"-\",VLOOKUP(V1063,読み替え表_スマートムーブ!$C$16:$F$21,4,0))","v":"-"},"-",null,null,null,null,0,0,0,0,0,0,"*"]
[null,null,1055,null,null,null,null,null,null,null,null,null,null,null,null,null,null,null,null,null,null,null,null,null,null,null,null,null,null,null,null,null,null,null,null,{"$f":"IF(H1064=\"\",\"-\",VLOOKUP(T1064,読み替え表_スマートムーブ!$C$4:$F$13,4,0))","v":"-"},{"$f":"IF(H1064=\"\",\"-\",VLOOKUP(V1064,読み替え表_スマートムーブ!$C$16:$F$21,4,0))","v":"-"},"-",null,null,null,null,0,0,0,0,0,0,"*"]
[null,null,1056,null,null,null,null,null,null,null,null,null,null,null,null,null,null,null,null,null,null,null,null,null,null,null,null,null,null,null,null,null,null,null,null,{"$f":"IF(H1065=\"\",\"-\",VLOOKUP(T1065,読み替え表_スマートムーブ!$C$4:$F$13,4,0))","v":"-"},{"$f":"IF(H1065=\"\",\"-\",VLOOKUP(V1065,読み替え表_スマートムーブ!$C$16:$F$21,4,0))","v":"-"},"-",null,null,null,null,0,0,0,0,0,0,"*"]
[null,null,1057,null,null,null,null,null,null,null,null,null,null,null,null,null,null,null,null,null,null,null,null,null,null,null,null,null,null,null,null,null,null,null,null,{"$f":"IF(H1066=\"\",\"-\",VLOOKUP(T1066,読み替え表_スマートムーブ!$C$4:$F$13,4,0))","v":"-"},{"$f":"IF(H1066=\"\",\"-\",VLOOKUP(V1066,読み替え表_スマートムーブ!$C$16:$F$21,4,0))","v":"-"},"-",null,null,null,null,0,0,0,0,0,0,"*"]
[null,null,1058,null,null,null,null,null,null,null,null,null,null,null,null,null,null,null,null,null,null,null,null,null,null,null,null,null,null,null,null,null,null,null,null,{"$f":"IF(H1067=\"\",\"-\",VLOOKUP(T1067,読み替え表_スマートムーブ!$C$4:$F$13,4,0))","v":"-"},{"$f":"IF(H1067=\"\",\"-\",VLOOKUP(V1067,読み替え表_スマートムーブ!$C$16:$F$21,4,0))","v":"-"},"-",null,null,null,null,0,0,0,0,0,0,"*"]
[null,null,1059,null,null,null,null,null,null,null,null,null,null,null,null,null,null,null,null,null,null,null,null,null,null,null,null,null,null,null,null,null,null,null,null,{"$f":"IF(H1068=\"\",\"-\",VLOOKUP(T1068,読み替え表_スマートムーブ!$C$4:$F$13,4,0))","v":"-"},{"$f":"IF(H1068=\"\",\"-\",VLOOKUP(V1068,読み替え表_スマートムーブ!$C$16:$F$21,4,0))","v":"-"},"-",null,null,null,null,0,0,0,0,0,0,"*"]
[null,null,1060,null,null,null,null,null,null,null,null,null,null,null,null,null,null,null,null,null,null,null,null,null,null,null,null,null,null,null,null,null,null,null,null,{"$f":"IF(H1069=\"\",\"-\",VLOOKUP(T1069,読み替え表_スマートムーブ!$C$4:$F$13,4,0))","v":"-"},{"$f":"IF(H1069=\"\",\"-\",VLOOKUP(V1069,読み替え表_スマートムーブ!$C$16:$F$21,4,0))","v":"-"},"-",null,null,null,null,0,0,0,0,0,0,"*"]
[null,null,1061,null,null,null,null,null,null,null,null,null,null,null,null,null,null,null,null,null,null,null,null,null,null,null,null,null,null,null,null,null,null,null,null,{"$f":"IF(H1070=\"\",\"-\",VLOOKUP(T1070,読み替え表_スマートムーブ!$C$4:$F$13,4,0))","v":"-"},{"$f":"IF(H1070=\"\",\"-\",VLOOKUP(V1070,読み替え表_スマートムーブ!$C$16:$F$21,4,0))","v":"-"},"-",null,null,null,null,0,0,0,0,0,0,"*"]
[null,null,1062,null,null,null,null,null,null,null,null,null,null,null,null,null,null,null,null,null,null,null,null,null,null,null,null,null,null,null,null,null,null,null,null,{"$f":"IF(H1071=\"\",\"-\",VLOOKUP(T1071,読み替え表_スマートムーブ!$C$4:$F$13,4,0))","v":"-"},{"$f":"IF(H1071=\"\",\"-\",VLOOKUP(V1071,読み替え表_スマートムーブ!$C$16:$F$21,4,0))","v":"-"},"-",null,null,null,null,0,0,0,0,0,0,"*"]
[null,null,1063,null,null,null,null,null,null,null,null,null,null,null,null,null,null,null,null,null,null,null,null,null,null,null,null,null,null,null,null,null,null,null,null,{"$f":"IF(H1072=\"\",\"-\",VLOOKUP(T1072,読み替え表_スマートムーブ!$C$4:$F$13,4,0))","v":"-"},{"$f":"IF(H1072=\"\",\"-\",VLOOKUP(V1072,読み替え表_スマートムーブ!$C$16:$F$21,4,0))","v":"-"},"-",null,null,null,null,0,0,0,0,0,0,"*"]
[null,null,1064,null,null,null,null,null,null,null,null,null,null,null,null,null,null,null,null,null,null,null,null,null,null,null,null,null,null,null,null,null,null,null,null,{"$f":"IF(H1073=\"\",\"-\",VLOOKUP(T1073,読み替え表_スマートムーブ!$C$4:$F$13,4,0))","v":"-"},{"$f":"IF(H1073=\"\",\"-\",VLOOKUP(V1073,読み替え表_スマートムーブ!$C$16:$F$21,4,0))","v":"-"},"-",null,null,null,null,0,0,0,0,0,0,"*"]
[null,null,1065,null,null,null,null,null,null,null,null,null,null,null,null,null,null,null,null,null,null,null,null,null,null,null,null,null,null,null,null,null,null,null,null,{"$f":"IF(H1074=\"\",\"-\",VLOOKUP(T1074,読み替え表_スマートムーブ!$C$4:$F$13,4,0))","v":"-"},{"$f":"IF(H1074=\"\",\"-\",VLOOKUP(V1074,読み替え表_スマートムーブ!$C$16:$F$21,4,0))","v":"-"},{"$f":"IF(H1074=\"\",\"-\",AJ1074*AK1074)","v":"-"},null,null,null,null,0,0,0,0,0,0,"*"]
[null,null,1066,null,null,null,null,null,null,null,null,null,null,null,null,null,null,null,null,null,null,null,null,null,null,null,null,null,null,null,null,null,null,null,null,{"$f":"IF(H1075=\"\",\"-\",VLOOKUP(T1075,読み替え表_スマートムーブ!$C$4:$F$13,4,0))","v":"-"},{"$f":"IF(H1075=\"\",\"-\",VLOOKUP(V1075,読み替え表_スマートムーブ!$C$16:$F$21,4,0))","v":"-"},"-",null,null,null,null,0,0,0,0,0,0,"*"]
[null,null,1067,null,null,null,null,null,null,null,null,null,null,null,null,null,null,null,null,null,null,null,null,null,null,null,null,null,null,null,null,null,null,null,null,{"$f":"IF(H1076=\"\",\"-\",VLOOKUP(T1076,読み替え表_スマートムーブ!$C$4:$F$13,4,0))","v":"-"},{"$f":"IF(H1076=\"\",\"-\",VLOOKUP(V1076,読み替え表_スマートムーブ!$C$16:$F$21,4,0))","v":"-"},"-",null,null,null,null,0,0,0,0,0,0,"*"]
[null,null,1068,null,null,null,null,null,null,null,null,null,null,null,null,null,null,null,null,null,null,null,null,null,null,null,null,null,null,null,null,null,null,null,null,{"$f":"IF(H1077=\"\",\"-\",VLOOKUP(T1077,読み替え表_スマートムーブ!$C$4:$F$13,4,0))","v":"-"},{"$f":"IF(H1077=\"\",\"-\",VLOOKUP(V1077,読み替え表_スマートムーブ!$C$16:$F$21,4,0))","v":"-"},"-",null,null,null,null,0,0,0,0,0,0,"*"]
[null,null,1069,null,null,null,null,null,null,null,null,null,null,null,null,null,null,null,null,null,null,null,null,null,null,null,null,null,null,null,null,null,null,null,null,{"$f":"IF(H1078=\"\",\"-\",VLOOKUP(T1078,読み替え表_スマートムーブ!$C$4:$F$13,4,0))","v":"-"},{"$f":"IF(H1078=\"\",\"-\",VLOOKUP(V1078,読み替え表_スマートムーブ!$C$16:$F$21,4,0))","v":"-"},"-",null,null,null,null,0,0,0,0,0,0,"*"]
[null,null,1070,null,null,null,null,null,null,null,null,null,null,null,null,null,null,null,null,null,null,null,null,null,null,null,null,null,null,null,null,null,null,null,null,{"$f":"IF(H1079=\"\",\"-\",VLOOKUP(T1079,読み替え表_スマートムーブ!$C$4:$F$13,4,0))","v":"-"},{"$f":"IF(H1079=\"\",\"-\",VLOOKUP(V1079,読み替え表_スマートムーブ!$C$16:$F$21,4,0))","v":"-"},"-",null,null,null,null,0,0,0,0,0,0,"*"]
[null,null,1071,null,null,null,null,null,null,null,null,null,null,null,null,null,null,null,null,null,null,null,null,null,null,null,null,null,null,null,null,null,null,null,null,{"$f":"IF(H1080=\"\",\"-\",VLOOKUP(T1080,読み替え表_スマートムーブ!$C$4:$F$13,4,0))","v":"-"},{"$f":"IF(H1080=\"\",\"-\",VLOOKUP(V1080,読み替え表_スマートムーブ!$C$16:$F$21,4,0))","v":"-"},"-",null,null,null,null,0,0,0,0,0,0,"*"]
[null,null,1072,null,null,null,null,null,null,null,null,null,null,null,null,null,null,null,null,null,null,null,null,null,null,null,null,null,null,null,null,null,null,null,null,{"$f":"IF(H1081=\"\",\"-\",VLOOKUP(T1081,読み替え表_スマートムーブ!$C$4:$F$13,4,0))","v":"-"},{"$f":"IF(H1081=\"\",\"-\",VLOOKUP(V1081,読み替え表_スマートムーブ!$C$16:$F$21,4,0))","v":"-"},"-",null,null,null,null,0,0,0,0,0,0,"*"]
[null,null,1073,null,null,null,null,null,null,null,null,null,null,null,null,null,null,null,null,null,null,null,null,null,null,null,null,null,null,null,null,null,null,null,null,{"$f":"IF(H1082=\"\",\"-\",VLOOKUP(T1082,読み替え表_スマートムーブ!$C$4:$F$13,4,0))","v":"-"},{"$f":"IF(H1082=\"\",\"-\",VLOOKUP(V1082,読み替え表_スマートムーブ!$C$16:$F$21,4,0))","v":"-"},"-",null,null,null,null,0,0,0,0,0,0,"*"]
[null,null,1074,null,null,null,null,null,null,null,null,null,null,null,null,null,null,null,null,null,null,null,null,null,null,null,null,null,null,null,null,null,null,null,null,{"$f":"IF(H1083=\"\",\"-\",VLOOKUP(T1083,読み替え表_スマートムーブ!$C$4:$F$13,4,0))","v":"-"},{"$f":"IF(H1083=\"\",\"-\",VLOOKUP(V1083,読み替え表_スマートムーブ!$C$16:$F$21,4,0))","v":"-"},"-",null,null,null,null,0,0,0,0,0,0,"*"]
[null,null,1075,null,null,null,null,null,null,null,null,null,null,null,null,null,null,null,null,null,null,null,null,null,null,null,null,null,null,null,null,null,null,null,null,{"$f":"IF(H1084=\"\",\"-\",VLOOKUP(T1084,読み替え表_スマートムーブ!$C$4:$F$13,4,0))","v":"-"},{"$f":"IF(H1084=\"\",\"-\",VLOOKUP(V1084,読み替え表_スマートムーブ!$C$16:$F$21,4,0))","v":"-"},"-",null,null,null,null,0,0,0,0,0,0,"*"]
[null,null,1076,null,null,null,null,null,null,null,null,null,null,null,null,null,null,null,null,null,null,null,null,null,null,null,null,null,null,null,null,null,null,null,null,{"$f":"IF(H1085=\"\",\"-\",VLOOKUP(T1085,読み替え表_スマートムーブ!$C$4:$F$13,4,0))","v":"-"},{"$f":"IF(H1085=\"\",\"-\",VLOOKUP(V1085,読み替え表_スマートムーブ!$C$16:$F$21,4,0))","v":"-"},"-",null,null,null,null,0,0,0,0,0,0,"*"]
[null,null,1077,null,null,null,null,null,null,null,null,null,null,null,null,null,null,null,null,null,null,null,null,null,null,null,null,null,null,null,null,null,null,null,null,{"$f":"IF(H1086=\"\",\"-\",VLOOKUP(T1086,読み替え表_スマートムーブ!$C$4:$F$13,4,0))","v":"-"},{"$f":"IF(H1086=\"\",\"-\",VLOOKUP(V1086,読み替え表_スマートムーブ!$C$16:$F$21,4,0))","v":"-"},"-",null,null,null,null,0,0,0,0,0,0,"*"]
[null,null,1078,null,null,null,null,null,null,null,null,null,null,null,null,null,null,null,null,null,null,null,null,null,null,null,null,null,null,null,null,null,null,null,null,{"$f":"IF(H1087=\"\",\"-\",VLOOKUP(T1087,読み替え表_スマートムーブ!$C$4:$F$13,4,0))","v":"-"},{"$f":"IF(H1087=\"\",\"-\",VLOOKUP(V1087,読み替え表_スマートムーブ!$C$16:$F$21,4,0))","v":"-"},"-",null,null,null,null,0,0,0,0,0,0,"*"]
[null,null,1079,null,null,null,null,null,null,null,null,null,null,null,null,null,null,null,null,null,null,null,null,null,null,null,null,null,null,null,null,null,null,null,null,{"$f":"IF(H1088=\"\",\"-\",VLOOKUP(T1088,読み替え表_スマートムーブ!$C$4:$F$13,4,0))","v":"-"},{"$f":"IF(H1088=\"\",\"-\",VLOOKUP(V1088,読み替え表_スマートムーブ!$C$16:$F$21,4,0))","v":"-"},"-",null,null,null,null,0,0,0,0,0,0,"*"]
[null,null,1080,null,null,null,null,null,null,null,null,null,null,null,null,null,null,null,null,null,null,null,null,null,null,null,null,null,null,null,null,null,null,null,null,{"$f":"IF(H1089=\"\",\"-\",VLOOKUP(T1089,読み替え表_スマートムーブ!$C$4:$F$13,4,0))","v":"-"},{"$f":"IF(H1089=\"\",\"-\",VLOOKUP(V1089,読み替え表_スマートムーブ!$C$16:$F$21,4,0))","v":"-"},"-",null,null,null,null,0,0,0,0,0,0,"*"]
[null,null,1081,null,null,null,null,null,null,null,null,null,null,null,null,null,null,null,null,null,null,null,null,null,null,null,null,null,null,null,null,null,null,null,null,{"$f":"IF(H1090=\"\",\"-\",VLOOKUP(T1090,読み替え表_スマートムーブ!$C$4:$F$13,4,0))","v":"-"},{"$f":"IF(H1090=\"\",\"-\",VLOOKUP(V1090,読み替え表_スマートムーブ!$C$16:$F$21,4,0))","v":"-"},"-",null,null,null,null,0,0,0,0,0,0,"*"]
[null,null,1082,null,null,null,null,null,null,null,null,null,null,null,null,null,null,null,null,null,null,null,null,null,null,null,null,null,null,null,null,null,null,null,null,{"$f":"IF(H1091=\"\",\"-\",VLOOKUP(T1091,読み替え表_スマートムーブ!$C$4:$F$13,4,0))","v":"-"},{"$f":"IF(H1091=\"\",\"-\",VLOOKUP(V1091,読み替え表_スマートムーブ!$C$16:$F$21,4,0))","v":"-"},"-",null,null,null,null,0,0,0,0,0,0,"*"]
[null,null,1083,null,null,null,null,null,null,null,null,null,null,null,null,null,null,null,null,null,null,null,null,null,null,null,null,null,null,null,null,null,null,null,null,{"$f":"IF(H1092=\"\",\"-\",VLOOKUP(T1092,読み替え表_スマートムーブ!$C$4:$F$13,4,0))","v":"-"},{"$f":"IF(H1092=\"\",\"-\",VLOOKUP(V1092,読み替え表_スマートムーブ!$C$16:$F$21,4,0))","v":"-"},"-",null,null,null,null,0,0,0,0,0,0,"*"]
[null,null,1084,null,null,null,null,null,null,null,null,null,null,null,null,null,null,null,null,null,null,null,null,null,null,null,null,null,null,null,null,null,null,null,null,{"$f":"IF(H1093=\"\",\"-\",VLOOKUP(T1093,読み替え表_スマートムーブ!$C$4:$F$13,4,0))","v":"-"},{"$f":"IF(H1093=\"\",\"-\",VLOOKUP(V1093,読み替え表_スマートムーブ!$C$16:$F$21,4,0))","v":"-"},"-",null,null,null,null,0,0,0,0,0,0,"*"]
[null,null,1085,null,null,null,null,null,null,null,null,null,null,null,null,null,null,null,null,null,null,null,null,null,null,null,null,null,null,null,null,null,null,null,null,{"$f":"IF(H1094=\"\",\"-\",VLOOKUP(T1094,読み替え表_スマートムーブ!$C$4:$F$13,4,0))","v":"-"},{"$f":"IF(H1094=\"\",\"-\",VLOOKUP(V1094,読み替え表_スマートムーブ!$C$16:$F$21,4,0))","v":"-"},"-",null,null,null,null,0,0,0,0,0,0,"*"]
[null,null,1086,null,null,null,null,null,null,null,null,null,null,null,null,null,null,null,null,null,null,null,null,null,null,null,null,null,null,null,null,null,null,null,null,{"$f":"IF(H1095=\"\",\"-\",VLOOKUP(T1095,読み替え表_スマートムーブ!$C$4:$F$13,4,0))","v":"-"},{"$f":"IF(H1095=\"\",\"-\",VLOOKUP(V1095,読み替え表_スマートムーブ!$C$16:$F$21,4,0))","v":"-"},"-",null,null,null,null,0,0,0,0,0,0,"*"]
[null,null,1087,null,null,null,null,null,null,null,null,null,null,null,null,null,null,null,null,null,null,null,null,null,null,null,null,null,null,null,null,null,null,null,null,{"$f":"IF(H1096=\"\",\"-\",VLOOKUP(T1096,読み替え表_スマートムーブ!$C$4:$F$13,4,0))","v":"-"},{"$f":"IF(H1096=\"\",\"-\",VLOOKUP(V1096,読み替え表_スマートムーブ!$C$16:$F$21,4,0))","v":"-"},"-",null,null,null,null,0,0,0,0,0,0,"*"]
[null,null,1088,null,null,null,null,null,null,null,null,null,null,null,null,null,null,null,null,null,null,null,null,null,null,null,null,null,null,null,null,null,null,null,null,{"$f":"IF(H1097=\"\",\"-\",VLOOKUP(T1097,読み替え表_スマートムーブ!$C$4:$F$13,4,0))","v":"-"},{"$f":"IF(H1097=\"\",\"-\",VLOOKUP(V1097,読み替え表_スマートムーブ!$C$16:$F$21,4,0))","v":"-"},"-",null,null,null,null,0,0,0,0,0,0,"*"]
[null,null,1089,null,null,null,null,null,null,null,null,null,null,null,null,null,null,null,null,null,null,null,null,null,null,null,null,null,null,null,null,null,null,null,null,{"$f":"IF(H1098=\"\",\"-\",VLOOKUP(T1098,読み替え表_スマートムーブ!$C$4:$F$13,4,0))","v":"-"},{"$f":"IF(H1098=\"\",\"-\",VLOOKUP(V1098,読み替え表_スマートムーブ!$C$16:$F$21,4,0))","v":"-"},"-",null,null,null,null,0,0,0,0,0,{"$f":"AQ1098","v":0},"*"]
[null,null,{"$f":"ROW()-9","v":1090},null,null,null,null,null,null,null,null,null,null,null,null,null,null,null,null,null,null,null,null,null,null,null,null,null,null,null,null,null,null,null,null,{"$f":"IF(H1099=\"\",\"-\",VLOOKUP(T1099,読み替え表_スマートムーブ!$C$4:$F$13,4,0))","v":"-"},{"$f":"IF(H1099=\"\",\"-\",VLOOKUP(V1099,読み替え表_スマートムーブ!$C$16:$F$21,4,0))","v":"-"},"-",null,null,null,null,{"$f":"IF(SUM($AR1099:$AT1099)>=1,1,0)","v":0},{"$f":"IF(R1099=1,1,0)","v":0},{"$f":"IF(T1099=9,1,0)","v":0},{"$f":"IF(V1099=5,1,0)","v":0},{"$f":"IF(OR($X1099=1,$X1099=2,$X1099=3),1,0)","v":0},0,"*"]
[null,null,1091,null,null,null,null,null,null,null,null,null,null,null,null,null,null,null,null,null,null,null,null,null,null,null,null,null,null,null,null,null,null,null,null,{"$f":"IF(H1100=\"\",\"-\",VLOOKUP(T1100,読み替え表_スマートムーブ!$C$4:$F$13,4,0))","v":"-"},{"$f":"IF(H1100=\"\",\"-\",VLOOKUP(V1100,読み替え表_スマートムーブ!$C$16:$F$21,4,0))","v":"-"},"-",null,null,null,null,0,0,0,0,0,0,"*"]
[null,null,1092,null,null,null,null,null,null,null,null,null,null,null,null,null,null,null,null,null,null,null,null,null,null,null,null,null,null,null,null,null,null,null,null,{"$f":"IF(H1101=\"\",\"-\",VLOOKUP(T1101,読み替え表_スマートムーブ!$C$4:$F$13,4,0))","v":"-"},{"$f":"IF(H1101=\"\",\"-\",VLOOKUP(V1101,読み替え表_スマートムーブ!$C$16:$F$21,4,0))","v":"-"},"-",null,null,null,null,0,0,0,0,0,0,"*"]
[null,null,1093,null,null,null,null,null,null,null,null,null,null,null,null,null,null,null,null,null,null,null,null,null,null,null,null,null,null,null,null,null,null,null,null,{"$f":"IF(H1102=\"\",\"-\",VLOOKUP(T1102,読み替え表_スマートムーブ!$C$4:$F$13,4,0))","v":"-"},{"$f":"IF(H1102=\"\",\"-\",VLOOKUP(V1102,読み替え表_スマートムーブ!$C$16:$F$21,4,0))","v":"-"},"-",null,null,null,null,0,0,0,0,0,0,"*"]
[null,null,1094,null,null,null,null,null,null,null,null,null,null,null,null,null,null,null,null,null,null,null,null,null,null,null,null,null,null,null,null,null,null,null,null,{"$f":"IF(H1103=\"\",\"-\",VLOOKUP(T1103,読み替え表_スマートムーブ!$C$4:$F$13,4,0))","v":"-"},{"$f":"IF(H1103=\"\",\"-\",VLOOKUP(V1103,読み替え表_スマートムーブ!$C$16:$F$21,4,0))","v":"-"},"-",null,null,null,null,0,0,0,0,0,0,"*"]
[null,null,1095,null,null,null,null,null,null,null,null,null,null,null,null,null,null,null,null,null,null,null,null,null,null,null,null,null,null,null,null,null,null,null,null,{"$f":"IF(H1104=\"\",\"-\",VLOOKUP(T1104,読み替え表_スマートムーブ!$C$4:$F$13,4,0))","v":"-"},{"$f":"IF(H1104=\"\",\"-\",VLOOKUP(V1104,読み替え表_スマートムーブ!$C$16:$F$21,4,0))","v":"-"},"-",null,null,null,null,0,0,0,0,0,0,"*"]
[null,null,1096,null,null,null,null,null,null,null,null,null,null,null,null,null,null,null,null,null,null,null,null,null,null,null,null,null,null,null,null,null,null,null,null,{"$f":"IF(H1105=\"\",\"-\",VLOOKUP(T1105,読み替え表_スマートムーブ!$C$4:$F$13,4,0))","v":"-"},{"$f":"IF(H1105=\"\",\"-\",VLOOKUP(V1105,読み替え表_スマートムーブ!$C$16:$F$21,4,0))","v":"-"},"-",null,null,null,null,0,0,0,0,0,0,"*"]
[null,null,1097,null,null,null,null,null,null,null,null,null,null,null,null,null,null,null,null,null,null,null,null,null,null,null,null,null,null,null,null,null,null,null,null,{"$f":"IF(H1106=\"\",\"-\",VLOOKUP(T1106,読み替え表_スマートムーブ!$C$4:$F$13,4,0))","v":"-"},{"$f":"IF(H1106=\"\",\"-\",VLOOKUP(V1106,読み替え表_スマートムーブ!$C$16:$F$21,4,0))","v":"-"},"-",null,null,null,null,0,0,0,0,0,0,"*"]
[null,null,1098,null,null,null,null,null,null,null,null,null,null,null,null,null,null,null,null,null,null,null,null,null,null,null,null,null,null,null,null,null,null,null,null,{"$f":"IF(H1107=\"\",\"-\",VLOOKUP(T1107,読み替え表_スマートムーブ!$C$4:$F$13,4,0))","v":"-"},{"$f":"IF(H1107=\"\",\"-\",VLOOKUP(V1107,読み替え表_スマートムーブ!$C$16:$F$21,4,0))","v":"-"},"-",null,null,null,null,0,0,0,0,0,0,"*"]
[null,null,1099,null,null,null,null,null,null,null,null,null,null,null,null,null,null,null,null,null,null,null,null,null,null,null,null,null,null,null,null,null,null,null,null,{"$f":"IF(H1108=\"\",\"-\",VLOOKUP(T1108,読み替え表_スマートムーブ!$C$4:$F$13,4,0))","v":"-"},{"$f":"IF(H1108=\"\",\"-\",VLOOKUP(V1108,読み替え表_スマートムーブ!$C$16:$F$21,4,0))","v":"-"},"-",null,null,null,null,0,0,0,0,0,0,"*"]
[null,null,1100,null,null,null,null,null,null,null,null,null,null,null,null,null,null,null,null,null,null,null,null,null,null,null,null,null,null,null,null,null,null,null,null,{"$f":"IF(H1109=\"\",\"-\",VLOOKUP(T1109,読み替え表_スマートムーブ!$C$4:$F$13,4,0))","v":"-"},{"$f":"IF(H1109=\"\",\"-\",VLOOKUP(V1109,読み替え表_スマートムーブ!$C$16:$F$21,4,0))","v":"-"},"-",null,null,null,null,0,0,0,0,0,0,"*"]
[null,null,1101,null,null,null,null,null,null,null,null,null,null,null,null,null,null,null,null,null,null,null,null,null,null,null,null,null,null,null,null,null,null,null,null,{"$f":"IF(H1110=\"\",\"-\",VLOOKUP(T1110,読み替え表_スマートムーブ!$C$4:$F$13,4,0))","v":"-"},{"$f":"IF(H1110=\"\",\"-\",VLOOKUP(V1110,読み替え表_スマートムーブ!$C$16:$F$21,4,0))","v":"-"},"-",null,null,null,null,0,0,0,0,0,0,"*"]
[null,null,1102,null,null,null,null,null,null,null,null,null,null,null,null,null,null,null,null,null,null,null,null,null,null,null,null,null,null,null,null,null,null,null,null,{"$f":"IF(H1111=\"\",\"-\",VLOOKUP(T1111,読み替え表_スマートムーブ!$C$4:$F$13,4,0))","v":"-"},{"$f":"IF(H1111=\"\",\"-\",VLOOKUP(V1111,読み替え表_スマートムーブ!$C$16:$F$21,4,0))","v":"-"},"-",null,null,null,null,0,0,0,0,0,0,"*"]
[null,null,1103,null,null,null,null,null,null,null,null,null,null,null,null,null,null,null,null,null,null,null,null,null,null,null,null,null,null,null,null,null,null,null,null,{"$f":"IF(H1112=\"\",\"-\",VLOOKUP(T1112,読み替え表_スマートムーブ!$C$4:$F$13,4,0))","v":"-"},{"$f":"IF(H1112=\"\",\"-\",VLOOKUP(V1112,読み替え表_スマートムーブ!$C$16:$F$21,4,0))","v":"-"},"-",null,null,null,null,0,0,0,0,0,0,"*"]
[null,null,1104,null,null,null,null,null,null,null,null,null,null,null,null,null,null,null,null,null,null,null,null,null,null,null,null,null,null,null,null,null,null,null,null,{"$f":"IF(H1113=\"\",\"-\",VLOOKUP(T1113,読み替え表_スマートムーブ!$C$4:$F$13,4,0))","v":"-"},{"$f":"IF(H1113=\"\",\"-\",VLOOKUP(V1113,読み替え表_スマートムーブ!$C$16:$F$21,4,0))","v":"-"},"-",null,null,null,null,0,0,0,0,0,0,"*"]
[null,null,1105,null,null,null,null,null,null,null,null,null,null,null,null,null,null,null,null,null,null,null,null,null,null,null,null,null,null,null,null,null,null,null,null,{"$f":"IF(H1114=\"\",\"-\",VLOOKUP(T1114,読み替え表_スマートムーブ!$C$4:$F$13,4,0))","v":"-"},{"$f":"IF(H1114=\"\",\"-\",VLOOKUP(V1114,読み替え表_スマートムーブ!$C$16:$F$21,4,0))","v":"-"},"-",null,null,null,null,0,0,0,0,0,0,"*"]
[null,null,1106,null,null,null,null,null,null,null,null,null,null,null,null,null,null,null,null,null,null,null,null,null,null,null,null,null,null,null,null,null,null,null,null,{"$f":"IF(H1115=\"\",\"-\",VLOOKUP(T1115,読み替え表_スマートムーブ!$C$4:$F$13,4,0))","v":"-"},{"$f":"IF(H1115=\"\",\"-\",VLOOKUP(V1115,読み替え表_スマートムーブ!$C$16:$F$21,4,0))","v":"-"},"-",null,null,null,null,0,0,0,0,0,0,"*"]
[null,null,1107,null,null,null,null,null,null,null,null,null,null,null,null,null,null,null,null,null,null,null,null,null,null,null,null,null,null,null,null,null,null,null,null,{"$f":"IF(H1116=\"\",\"-\",VLOOKUP(T1116,読み替え表_スマートムーブ!$C$4:$F$13,4,0))","v":"-"},{"$f":"IF(H1116=\"\",\"-\",VLOOKUP(V1116,読み替え表_スマートムーブ!$C$16:$F$21,4,0))","v":"-"},"-",null,null,null,null,0,0,0,0,0,0,"*"]
[null,null,1108,null,null,null,null,null,null,null,null,null,null,null,null,null,null,null,null,null,null,null,null,null,null,null,null,null,null,null,null,null,null,null,null,{"$f":"IF(H1117=\"\",\"-\",VLOOKUP(T1117,読み替え表_スマートムーブ!$C$4:$F$13,4,0))","v":"-"},{"$f":"IF(H1117=\"\",\"-\",VLOOKUP(V1117,読み替え表_スマートムーブ!$C$16:$F$21,4,0))","v":"-"},"-",null,null,null,null,0,0,0,0,0,0,"*"]
[null,null,1109,null,null,null,null,null,null,null,null,null,null,null,null,null,null,null,null,null,null,null,null,null,null,null,null,null,null,null,null,null,null,null,null,{"$f":"IF(H1118=\"\",\"-\",VLOOKUP(T1118,読み替え表_スマートムーブ!$C$4:$F$13,4,0))","v":"-"},{"$f":"IF(H1118=\"\",\"-\",VLOOKUP(V1118,読み替え表_スマートムーブ!$C$16:$F$21,4,0))","v":"-"},"-",null,null,null,null,0,0,0,0,0,0,"*"]
[null,null,1110,null,null,null,null,null,null,null,null,null,null,null,null,null,null,null,null,null,null,null,null,null,null,null,null,null,null,null,null,null,null,null,null,{"$f":"IF(H1119=\"\",\"-\",VLOOKUP(T1119,読み替え表_スマートムーブ!$C$4:$F$13,4,0))","v":"-"},{"$f":"IF(H1119=\"\",\"-\",VLOOKUP(V1119,読み替え表_スマートムーブ!$C$16:$F$21,4,0))","v":"-"},"-",null,null,null,null,0,0,0,0,0,0,"*"]
[null,null,1111,null,null,null,null,null,null,null,null,null,null,null,null,null,null,null,null,null,null,null,null,null,null,null,null,null,null,null,null,null,null,null,null,{"$f":"IF(H1120=\"\",\"-\",VLOOKUP(T1120,読み替え表_スマートムーブ!$C$4:$F$13,4,0))","v":"-"},{"$f":"IF(H1120=\"\",\"-\",VLOOKUP(V1120,読み替え表_スマートムーブ!$C$16:$F$21,4,0))","v":"-"},"-",null,null,null,null,0,0,0,0,0,0,"*"]
[null,null,1112,null,null,null,null,null,null,null,null,null,null,null,null,null,null,null,null,null,null,null,null,null,null,null,null,null,null,null,null,null,null,null,null,{"$f":"IF(H1121=\"\",\"-\",VLOOKUP(T1121,読み替え表_スマートムーブ!$C$4:$F$13,4,0))","v":"-"},{"$f":"IF(H1121=\"\",\"-\",VLOOKUP(V1121,読み替え表_スマートムーブ!$C$16:$F$21,4,0))","v":"-"},"-",null,null,null,null,0,0,0,0,0,0,"*"]
[null,null,1113,null,null,null,null,null,null,null,null,null,null,null,null,null,null,null,null,null,null,null,null,null,null,null,null,null,null,null,null,null,null,null,null,{"$f":"IF(H1122=\"\",\"-\",VLOOKUP(T1122,読み替え表_スマートムーブ!$C$4:$F$13,4,0))","v":"-"},{"$f":"IF(H1122=\"\",\"-\",VLOOKUP(V1122,読み替え表_スマートムーブ!$C$16:$F$21,4,0))","v":"-"},"-",null,null,null,null,0,0,0,0,0,0,"*"]
[null,null,1114,null,null,null,null,null,null,null,null,null,null,null,null,null,null,null,null,null,null,null,null,null,null,null,null,null,null,null,null,null,null,null,null,{"$f":"IF(H1123=\"\",\"-\",VLOOKUP(T1123,読み替え表_スマートムーブ!$C$4:$F$13,4,0))","v":"-"},{"$f":"IF(H1123=\"\",\"-\",VLOOKUP(V1123,読み替え表_スマートムーブ!$C$16:$F$21,4,0))","v":"-"},"-",null,null,null,null,0,0,0,0,0,0,"*"]
[null,null,1115,null,null,null,null,null,null,null,null,null,null,null,null,null,null,null,null,null,null,null,null,null,null,null,null,null,null,null,null,null,null,null,null,{"$f":"IF(H1124=\"\",\"-\",VLOOKUP(T1124,読み替え表_スマートムーブ!$C$4:$F$13,4,0))","v":"-"},{"$f":"IF(H1124=\"\",\"-\",VLOOKUP(V1124,読み替え表_スマートムーブ!$C$16:$F$21,4,0))","v":"-"},"-",null,null,null,null,0,0,0,0,0,0,"*"]
[null,null,1116,null,null,null,null,null,null,null,null,null,null,null,null,null,null,null,null,null,null,null,null,null,null,null,null,null,null,null,null,null,null,null,null,{"$f":"IF(H1125=\"\",\"-\",VLOOKUP(T1125,読み替え表_スマートムーブ!$C$4:$F$13,4,0))","v":"-"},{"$f":"IF(H1125=\"\",\"-\",VLOOKUP(V1125,読み替え表_スマートムーブ!$C$16:$F$21,4,0))","v":"-"},"-",null,null,null,null,0,0,0,0,0,0,"*"]
[null,null,1117,null,null,null,null,null,null,null,null,null,null,null,null,null,null,null,null,null,null,null,null,null,null,null,null,null,null,null,null,null,null,null,null,{"$f":"IF(H1126=\"\",\"-\",VLOOKUP(T1126,読み替え表_スマートムーブ!$C$4:$F$13,4,0))","v":"-"},{"$f":"IF(H1126=\"\",\"-\",VLOOKUP(V1126,読み替え表_スマートムーブ!$C$16:$F$21,4,0))","v":"-"},"-",null,null,null,null,0,0,0,0,0,0,"*"]
[null,null,1118,null,null,null,null,null,null,null,null,null,null,null,null,null,null,null,null,null,null,null,null,null,null,null,null,null,null,null,null,null,null,null,null,{"$f":"IF(H1127=\"\",\"-\",VLOOKUP(T1127,読み替え表_スマートムーブ!$C$4:$F$13,4,0))","v":"-"},{"$f":"IF(H1127=\"\",\"-\",VLOOKUP(V1127,読み替え表_スマートムーブ!$C$16:$F$21,4,0))","v":"-"},"-",null,null,null,null,0,0,0,0,0,0,"*"]
[null,null,1119,null,null,null,null,null,null,null,null,null,null,null,null,null,null,null,null,null,null,null,null,null,null,null,null,null,null,null,null,null,null,null,null,{"$f":"IF(H1128=\"\",\"-\",VLOOKUP(T1128,読み替え表_スマートムーブ!$C$4:$F$13,4,0))","v":"-"},{"$f":"IF(H1128=\"\",\"-\",VLOOKUP(V1128,読み替え表_スマートムーブ!$C$16:$F$21,4,0))","v":"-"},"-",null,null,null,null,0,0,0,0,0,0,"*"]
[null,null,1120,null,null,null,null,null,null,null,null,null,null,null,null,null,null,null,null,null,null,null,null,null,null,null,null,null,null,null,null,null,null,null,null,{"$f":"IF(H1129=\"\",\"-\",VLOOKUP(T1129,読み替え表_スマートムーブ!$C$4:$F$13,4,0))","v":"-"},{"$f":"IF(H1129=\"\",\"-\",VLOOKUP(V1129,読み替え表_スマートムーブ!$C$16:$F$21,4,0))","v":"-"},"-",null,null,null,null,0,0,0,0,0,0,"*"]
[null,null,1121,null,null,null,null,null,null,null,null,null,null,null,null,null,null,null,null,null,null,null,null,null,null,null,null,null,null,null,null,null,null,null,null,{"$f":"IF(H1130=\"\",\"-\",VLOOKUP(T1130,読み替え表_スマートムーブ!$C$4:$F$13,4,0))","v":"-"},{"$f":"IF(H1130=\"\",\"-\",VLOOKUP(V1130,読み替え表_スマートムーブ!$C$16:$F$21,4,0))","v":"-"},"-",null,null,null,null,0,0,0,0,0,0,"*"]
[null,null,1122,null,null,null,null,null,null,null,null,null,null,null,null,null,null,null,null,null,null,null,null,null,null,null,null,null,null,null,null,null,null,null,null,{"$f":"IF(H1131=\"\",\"-\",VLOOKUP(T1131,読み替え表_スマートムーブ!$C$4:$F$13,4,0))","v":"-"},{"$f":"IF(H1131=\"\",\"-\",VLOOKUP(V1131,読み替え表_スマートムーブ!$C$16:$F$21,4,0))","v":"-"},"-",null,null,null,null,0,0,0,0,0,0,"*"]
[null,null,1123,null,null,null,null,null,null,null,null,null,null,null,null,null,null,null,null,null,null,null,null,null,null,null,null,null,null,null,null,null,null,null,null,{"$f":"IF(H1132=\"\",\"-\",VLOOKUP(T1132,読み替え表_スマートムーブ!$C$4:$F$13,4,0))","v":"-"},{"$f":"IF(H1132=\"\",\"-\",VLOOKUP(V1132,読み替え表_スマートムーブ!$C$16:$F$21,4,0))","v":"-"},"-",null,null,null,null,0,0,0,0,0,0,"*"]
[null,null,1124,null,null,null,null,null,null,null,null,null,null,null,null,null,null,null,null,null,null,null,null,null,null,null,null,null,null,null,null,null,null,null,null,{"$f":"IF(H1133=\"\",\"-\",VLOOKUP(T1133,読み替え表_スマートムーブ!$C$4:$F$13,4,0))","v":"-"},{"$f":"IF(H1133=\"\",\"-\",VLOOKUP(V1133,読み替え表_スマートムーブ!$C$16:$F$21,4,0))","v":"-"},"-",null,null,null,null,0,0,0,0,0,0,"*"]
[null,null,1125,null,null,null,null,null,null,null,null,null,null,null,null,null,null,null,null,null,null,null,null,null,null,null,null,null,null,null,null,null,null,null,null,{"$f":"IF(H1134=\"\",\"-\",VLOOKUP(T1134,読み替え表_スマートムーブ!$C$4:$F$13,4,0))","v":"-"},{"$f":"IF(H1134=\"\",\"-\",VLOOKUP(V1134,読み替え表_スマートムーブ!$C$16:$F$21,4,0))","v":"-"},"-",null,null,null,null,0,0,0,0,0,0,"*"]
[null,null,1126,null,null,null,null,null,null,null,null,null,null,null,null,null,null,null,null,null,null,null,null,null,null,null,null,null,null,null,null,null,null,null,null,{"$f":"IF(H1135=\"\",\"-\",VLOOKUP(T1135,読み替え表_スマートムーブ!$C$4:$F$13,4,0))","v":"-"},{"$f":"IF(H1135=\"\",\"-\",VLOOKUP(V1135,読み替え表_スマートムーブ!$C$16:$F$21,4,0))","v":"-"},"-",null,null,null,null,0,0,0,0,0,0,"*"]
[null,null,1127,null,null,null,null,null,null,null,null,null,null,null,null,null,null,null,null,null,null,null,null,null,null,null,null,null,null,null,null,null,null,null,null,{"$f":"IF(H1136=\"\",\"-\",VLOOKUP(T1136,読み替え表_スマートムーブ!$C$4:$F$13,4,0))","v":"-"},{"$f":"IF(H1136=\"\",\"-\",VLOOKUP(V1136,読み替え表_スマートムーブ!$C$16:$F$21,4,0))","v":"-"},"-",null,null,null,null,0,0,0,0,0,0,"*"]
[null,null,1128,null,null,null,null,null,null,null,null,null,null,null,null,null,null,null,null,null,null,null,null,null,null,null,null,null,null,null,null,null,null,null,null,{"$f":"IF(H1137=\"\",\"-\",VLOOKUP(T1137,読み替え表_スマートムーブ!$C$4:$F$13,4,0))","v":"-"},{"$f":"IF(H1137=\"\",\"-\",VLOOKUP(V1137,読み替え表_スマートムーブ!$C$16:$F$21,4,0))","v":"-"},"-",null,null,null,null,0,0,0,0,0,0,"*"]
[null,null,1129,null,null,null,null,null,null,null,null,null,null,null,null,null,null,null,null,null,null,null,null,null,null,null,null,null,null,null,null,null,null,null,null,{"$f":"IF(H1138=\"\",\"-\",VLOOKUP(T1138,読み替え表_スマートムーブ!$C$4:$F$13,4,0))","v":"-"},{"$f":"IF(H1138=\"\",\"-\",VLOOKUP(V1138,読み替え表_スマートムーブ!$C$16:$F$21,4,0))","v":"-"},{"$f":"IF(H1138=\"\",\"-\",AJ1138*AK1138)","v":"-"},null,null,null,null,0,0,0,0,0,0,"*"]
[null,null,1130,null,null,null,null,null,null,null,null,null,null,null,null,null,null,null,null,null,null,null,null,null,null,null,null,null,null,null,null,null,null,null,null,{"$f":"IF(H1139=\"\",\"-\",VLOOKUP(T1139,読み替え表_スマートムーブ!$C$4:$F$13,4,0))","v":"-"},{"$f":"IF(H1139=\"\",\"-\",VLOOKUP(V1139,読み替え表_スマートムーブ!$C$16:$F$21,4,0))","v":"-"},"-",null,null,null,null,0,0,0,0,0,0,"*"]
[null,null,1131,null,null,null,null,null,null,null,null,null,null,null,null,null,null,null,null,null,null,null,null,null,null,null,null,null,null,null,null,null,null,null,null,{"$f":"IF(H1140=\"\",\"-\",VLOOKUP(T1140,読み替え表_スマートムーブ!$C$4:$F$13,4,0))","v":"-"},{"$f":"IF(H1140=\"\",\"-\",VLOOKUP(V1140,読み替え表_スマートムーブ!$C$16:$F$21,4,0))","v":"-"},"-",null,null,null,null,0,0,0,0,0,0,"*"]
[null,null,1132,null,null,null,null,null,null,null,null,null,null,null,null,null,null,null,null,null,null,null,null,null,null,null,null,null,null,null,null,null,null,null,null,{"$f":"IF(H1141=\"\",\"-\",VLOOKUP(T1141,読み替え表_スマートムーブ!$C$4:$F$13,4,0))","v":"-"},{"$f":"IF(H1141=\"\",\"-\",VLOOKUP(V1141,読み替え表_スマートムーブ!$C$16:$F$21,4,0))","v":"-"},"-",null,null,null,null,0,0,0,0,0,0,"*"]
[null,null,1133,null,null,null,null,null,null,null,null,null,null,null,null,null,null,null,null,null,null,null,null,null,null,null,null,null,null,null,null,null,null,null,null,{"$f":"IF(H1142=\"\",\"-\",VLOOKUP(T1142,読み替え表_スマートムーブ!$C$4:$F$13,4,0))","v":"-"},{"$f":"IF(H1142=\"\",\"-\",VLOOKUP(V1142,読み替え表_スマートムーブ!$C$16:$F$21,4,0))","v":"-"},"-",null,null,null,null,0,0,0,0,0,0,"*"]
[null,null,1134,null,null,null,null,null,null,null,null,null,null,null,null,null,null,null,null,null,null,null,null,null,null,null,null,null,null,null,null,null,null,null,null,{"$f":"IF(H1143=\"\",\"-\",VLOOKUP(T1143,読み替え表_スマートムーブ!$C$4:$F$13,4,0))","v":"-"},{"$f":"IF(H1143=\"\",\"-\",VLOOKUP(V1143,読み替え表_スマートムーブ!$C$16:$F$21,4,0))","v":"-"},"-",null,null,null,null,0,0,0,0,0,0,"*"]
[null,null,1135,null,null,null,null,null,null,null,null,null,null,null,null,null,null,null,null,null,null,null,null,null,null,null,null,null,null,null,null,null,null,null,null,{"$f":"IF(H1144=\"\",\"-\",VLOOKUP(T1144,読み替え表_スマートムーブ!$C$4:$F$13,4,0))","v":"-"},{"$f":"IF(H1144=\"\",\"-\",VLOOKUP(V1144,読み替え表_スマートムーブ!$C$16:$F$21,4,0))","v":"-"},"-",null,null,null,null,0,0,0,0,0,0,"*"]
[null,null,1136,null,null,null,null,null,null,null,null,null,null,null,null,null,null,null,null,null,null,null,null,null,null,null,null,null,null,null,null,null,null,null,null,{"$f":"IF(H1145=\"\",\"-\",VLOOKUP(T1145,読み替え表_スマートムーブ!$C$4:$F$13,4,0))","v":"-"},{"$f":"IF(H1145=\"\",\"-\",VLOOKUP(V1145,読み替え表_スマートムーブ!$C$16:$F$21,4,0))","v":"-"},"-",null,null,null,null,0,0,0,0,0,0,"*"]
[null,null,1137,null,null,null,null,null,null,null,null,null,null,null,null,null,null,null,null,null,null,null,null,null,null,null,null,null,null,null,null,null,null,null,null,{"$f":"IF(H1146=\"\",\"-\",VLOOKUP(T1146,読み替え表_スマートムーブ!$C$4:$F$13,4,0))","v":"-"},{"$f":"IF(H1146=\"\",\"-\",VLOOKUP(V1146,読み替え表_スマートムーブ!$C$16:$F$21,4,0))","v":"-"},"-",null,null,null,null,0,0,0,0,0,0,"*"]
[null,null,1138,null,null,null,null,null,null,null,null,null,null,null,null,null,null,null,null,null,null,null,null,null,null,null,null,null,null,null,null,null,null,null,null,{"$f":"IF(H1147=\"\",\"-\",VLOOKUP(T1147,読み替え表_スマートムーブ!$C$4:$F$13,4,0))","v":"-"},{"$f":"IF(H1147=\"\",\"-\",VLOOKUP(V1147,読み替え表_スマートムーブ!$C$16:$F$21,4,0))","v":"-"},"-",null,null,null,null,0,0,0,0,0,0,"*"]
[null,null,1139,null,null,null,null,null,null,null,null,null,null,null,null,null,null,null,null,null,null,null,null,null,null,null,null,null,null,null,null,null,null,null,null,{"$f":"IF(H1148=\"\",\"-\",VLOOKUP(T1148,読み替え表_スマートムーブ!$C$4:$F$13,4,0))","v":"-"},{"$f":"IF(H1148=\"\",\"-\",VLOOKUP(V1148,読み替え表_スマートムーブ!$C$16:$F$21,4,0))","v":"-"},"-",null,null,null,null,0,0,0,0,0,0,"*"]
[null,null,1140,null,null,null,null,null,null,null,null,null,null,null,null,null,null,null,null,null,null,null,null,null,null,null,null,null,null,null,null,null,null,null,null,{"$f":"IF(H1149=\"\",\"-\",VLOOKUP(T1149,読み替え表_スマートムーブ!$C$4:$F$13,4,0))","v":"-"},{"$f":"IF(H1149=\"\",\"-\",VLOOKUP(V1149,読み替え表_スマートムーブ!$C$16:$F$21,4,0))","v":"-"},"-",null,null,null,null,0,0,0,0,0,0,"*"]
[null,null,1141,null,null,null,null,null,null,null,null,null,null,null,null,null,null,null,null,null,null,null,null,null,null,null,null,null,null,null,null,null,null,null,null,{"$f":"IF(H1150=\"\",\"-\",VLOOKUP(T1150,読み替え表_スマートムーブ!$C$4:$F$13,4,0))","v":"-"},{"$f":"IF(H1150=\"\",\"-\",VLOOKUP(V1150,読み替え表_スマートムーブ!$C$16:$F$21,4,0))","v":"-"},"-",null,null,null,null,0,0,0,0,0,0,"*"]
[null,null,1142,null,null,null,null,null,null,null,null,null,null,null,null,null,null,null,null,null,null,null,null,null,null,null,null,null,null,null,null,null,null,null,null,{"$f":"IF(H1151=\"\",\"-\",VLOOKUP(T1151,読み替え表_スマートムーブ!$C$4:$F$13,4,0))","v":"-"},{"$f":"IF(H1151=\"\",\"-\",VLOOKUP(V1151,読み替え表_スマートムーブ!$C$16:$F$21,4,0))","v":"-"},"-",null,null,null,null,0,0,0,0,0,0,"*"]
[null,null,1143,null,null,null,null,null,null,null,null,null,null,null,null,null,null,null,null,null,null,null,null,null,null,null,null,null,null,null,null,null,null,null,null,{"$f":"IF(H1152=\"\",\"-\",VLOOKUP(T1152,読み替え表_スマートムーブ!$C$4:$F$13,4,0))","v":"-"},{"$f":"IF(H1152=\"\",\"-\",VLOOKUP(V1152,読み替え表_スマートムーブ!$C$16:$F$21,4,0))","v":"-"},"-",null,null,null,null,0,0,0,0,0,0,"*"]
[null,null,1144,null,null,null,null,null,null,null,null,null,null,null,null,null,null,null,null,null,null,null,null,null,null,null,null,null,null,null,null,null,null,null,null,{"$f":"IF(H1153=\"\",\"-\",VLOOKUP(T1153,読み替え表_スマートムーブ!$C$4:$F$13,4,0))","v":"-"},{"$f":"IF(H1153=\"\",\"-\",VLOOKUP(V1153,読み替え表_スマートムーブ!$C$16:$F$21,4,0))","v":"-"},"-",null,null,null,null,0,0,0,0,0,0,"*"]
[null,null,1145,null,null,null,null,null,null,null,null,null,null,null,null,null,null,null,null,null,null,null,null,null,null,null,null,null,null,null,null,null,null,null,null,{"$f":"IF(H1154=\"\",\"-\",VLOOKUP(T1154,読み替え表_スマートムーブ!$C$4:$F$13,4,0))","v":"-"},{"$f":"IF(H1154=\"\",\"-\",VLOOKUP(V1154,読み替え表_スマートムーブ!$C$16:$F$21,4,0))","v":"-"},"-",null,null,null,null,0,0,0,0,0,0,"*"]
[null,null,1146,null,null,null,null,null,null,null,null,null,null,null,null,null,null,null,null,null,null,null,null,null,null,null,null,null,null,null,null,null,null,null,null,{"$f":"IF(H1155=\"\",\"-\",VLOOKUP(T1155,読み替え表_スマートムーブ!$C$4:$F$13,4,0))","v":"-"},{"$f":"IF(H1155=\"\",\"-\",VLOOKUP(V1155,読み替え表_スマートムーブ!$C$16:$F$21,4,0))","v":"-"},"-",null,null,null,null,0,0,0,0,0,0,"*"]
[null,null,1147,null,null,null,null,null,null,null,null,null,null,null,null,null,null,null,null,null,null,null,null,null,null,null,null,null,null,null,null,null,null,null,null,{"$f":"IF(H1156=\"\",\"-\",VLOOKUP(T1156,読み替え表_スマートムーブ!$C$4:$F$13,4,0))","v":"-"},{"$f":"IF(H1156=\"\",\"-\",VLOOKUP(V1156,読み替え表_スマートムーブ!$C$16:$F$21,4,0))","v":"-"},"-",null,null,null,null,0,0,0,0,0,0,"*"]
[null,null,1148,null,null,null,null,null,null,null,null,null,null,null,null,null,null,null,null,null,null,null,null,null,null,null,null,null,null,null,null,null,null,null,null,{"$f":"IF(H1157=\"\",\"-\",VLOOKUP(T1157,読み替え表_スマートムーブ!$C$4:$F$13,4,0))","v":"-"},{"$f":"IF(H1157=\"\",\"-\",VLOOKUP(V1157,読み替え表_スマートムーブ!$C$16:$F$21,4,0))","v":"-"},"-",null,null,null,null,0,0,0,0,0,0,"*"]
[null,null,1149,null,null,null,null,null,null,null,null,null,null,null,null,null,null,null,null,null,null,null,null,null,null,null,null,null,null,null,null,null,null,null,null,{"$f":"IF(H1158=\"\",\"-\",VLOOKUP(T1158,読み替え表_スマートムーブ!$C$4:$F$13,4,0))","v":"-"},{"$f":"IF(H1158=\"\",\"-\",VLOOKUP(V1158,読み替え表_スマートムーブ!$C$16:$F$21,4,0))","v":"-"},"-",null,null,null,null,0,0,0,0,0,0,"*"]
[null,null,1150,null,null,null,null,null,null,null,null,null,null,null,null,null,null,null,null,null,null,null,null,null,null,null,null,null,null,null,null,null,null,null,null,{"$f":"IF(H1159=\"\",\"-\",VLOOKUP(T1159,読み替え表_スマートムーブ!$C$4:$F$13,4,0))","v":"-"},{"$f":"IF(H1159=\"\",\"-\",VLOOKUP(V1159,読み替え表_スマートムーブ!$C$16:$F$21,4,0))","v":"-"},"-",null,null,null,null,0,0,0,0,0,0,"*"]
[null,null,1151,null,null,null,null,null,null,null,null,null,null,null,null,null,null,null,null,null,null,null,null,null,null,null,null,null,null,null,null,null,null,null,null,{"$f":"IF(H1160=\"\",\"-\",VLOOKUP(T1160,読み替え表_スマートムーブ!$C$4:$F$13,4,0))","v":"-"},{"$f":"IF(H1160=\"\",\"-\",VLOOKUP(V1160,読み替え表_スマートムーブ!$C$16:$F$21,4,0))","v":"-"},"-",null,null,null,null,0,0,0,0,0,0,"*"]
[null,null,1152,null,null,null,null,null,null,null,null,null,null,null,null,null,null,null,null,null,null,null,null,null,null,null,null,null,null,null,null,null,null,null,null,{"$f":"IF(H1161=\"\",\"-\",VLOOKUP(T1161,読み替え表_スマートムーブ!$C$4:$F$13,4,0))","v":"-"},{"$f":"IF(H1161=\"\",\"-\",VLOOKUP(V1161,読み替え表_スマートムーブ!$C$16:$F$21,4,0))","v":"-"},"-",null,null,null,null,0,0,0,0,0,0,"*"]
[null,null,1153,null,null,null,null,null,null,null,null,null,null,null,null,null,null,null,null,null,null,null,null,null,null,null,null,null,null,null,null,null,null,null,null,{"$f":"IF(H1162=\"\",\"-\",VLOOKUP(T1162,読み替え表_スマートムーブ!$C$4:$F$13,4,0))","v":"-"},{"$f":"IF(H1162=\"\",\"-\",VLOOKUP(V1162,読み替え表_スマートムーブ!$C$16:$F$21,4,0))","v":"-"},"-",null,null,null,null,0,0,0,0,0,{"$f":"AQ1162","v":0},"*"]
[null,null,{"$f":"ROW()-9","v":1154},null,null,null,null,null,null,null,null,null,null,null,null,null,null,null,null,null,null,null,null,null,null,null,null,null,null,null,null,null,null,null,null,{"$f":"IF(H1163=\"\",\"-\",VLOOKUP(T1163,読み替え表_スマートムーブ!$C$4:$F$13,4,0))","v":"-"},{"$f":"IF(H1163=\"\",\"-\",VLOOKUP(V1163,読み替え表_スマートムーブ!$C$16:$F$21,4,0))","v":"-"},"-",null,null,null,null,{"$f":"IF(SUM($AR1163:$AT1163)>=1,1,0)","v":0},{"$f":"IF(R1163=1,1,0)","v":0},{"$f":"IF(T1163=9,1,0)","v":0},{"$f":"IF(V1163=5,1,0)","v":0},{"$f":"IF(OR($X1163=1,$X1163=2,$X1163=3),1,0)","v":0},0,"*"]
[null,null,1155,null,null,null,null,null,null,null,null,null,null,null,null,null,null,null,null,null,null,null,null,null,null,null,null,null,null,null,null,null,null,null,null,{"$f":"IF(H1164=\"\",\"-\",VLOOKUP(T1164,読み替え表_スマートムーブ!$C$4:$F$13,4,0))","v":"-"},{"$f":"IF(H1164=\"\",\"-\",VLOOKUP(V1164,読み替え表_スマートムーブ!$C$16:$F$21,4,0))","v":"-"},"-",null,null,null,null,0,0,0,0,0,0,"*"]
[null,null,1156,null,null,null,null,null,null,null,null,null,null,null,null,null,null,null,null,null,null,null,null,null,null,null,null,null,null,null,null,null,null,null,null,{"$f":"IF(H1165=\"\",\"-\",VLOOKUP(T1165,読み替え表_スマートムーブ!$C$4:$F$13,4,0))","v":"-"},{"$f":"IF(H1165=\"\",\"-\",VLOOKUP(V1165,読み替え表_スマートムーブ!$C$16:$F$21,4,0))","v":"-"},"-",null,null,null,null,0,0,0,0,0,0,"*"]
[null,null,1157,null,null,null,null,null,null,null,null,null,null,null,null,null,null,null,null,null,null,null,null,null,null,null,null,null,null,null,null,null,null,null,null,{"$f":"IF(H1166=\"\",\"-\",VLOOKUP(T1166,読み替え表_スマートムーブ!$C$4:$F$13,4,0))","v":"-"},{"$f":"IF(H1166=\"\",\"-\",VLOOKUP(V1166,読み替え表_スマートムーブ!$C$16:$F$21,4,0))","v":"-"},"-",null,null,null,null,0,0,0,0,0,0,"*"]
[null,null,1158,null,null,null,null,null,null,null,null,null,null,null,null,null,null,null,null,null,null,null,null,null,null,null,null,null,null,null,null,null,null,null,null,{"$f":"IF(H1167=\"\",\"-\",VLOOKUP(T1167,読み替え表_スマートムーブ!$C$4:$F$13,4,0))","v":"-"},{"$f":"IF(H1167=\"\",\"-\",VLOOKUP(V1167,読み替え表_スマートムーブ!$C$16:$F$21,4,0))","v":"-"},"-",null,null,null,null,0,0,0,0,0,0,"*"]
[null,null,1159,null,null,null,null,null,null,null,null,null,null,null,null,null,null,null,null,null,null,null,null,null,null,null,null,null,null,null,null,null,null,null,null,{"$f":"IF(H1168=\"\",\"-\",VLOOKUP(T1168,読み替え表_スマートムーブ!$C$4:$F$13,4,0))","v":"-"},{"$f":"IF(H1168=\"\",\"-\",VLOOKUP(V1168,読み替え表_スマートムーブ!$C$16:$F$21,4,0))","v":"-"},"-",null,null,null,null,0,0,0,0,0,0,"*"]
[null,null,1160,null,null,null,null,null,null,null,null,null,null,null,null,null,null,null,null,null,null,null,null,null,null,null,null,null,null,null,null,null,null,null,null,{"$f":"IF(H1169=\"\",\"-\",VLOOKUP(T1169,読み替え表_スマートムーブ!$C$4:$F$13,4,0))","v":"-"},{"$f":"IF(H1169=\"\",\"-\",VLOOKUP(V1169,読み替え表_スマートムーブ!$C$16:$F$21,4,0))","v":"-"},"-",null,null,null,null,0,0,0,0,0,0,"*"]
[null,null,1161,null,null,null,null,null,null,null,null,null,null,null,null,null,null,null,null,null,null,null,null,null,null,null,null,null,null,null,null,null,null,null,null,{"$f":"IF(H1170=\"\",\"-\",VLOOKUP(T1170,読み替え表_スマートムーブ!$C$4:$F$13,4,0))","v":"-"},{"$f":"IF(H1170=\"\",\"-\",VLOOKUP(V1170,読み替え表_スマートムーブ!$C$16:$F$21,4,0))","v":"-"},"-",null,null,null,null,0,0,0,0,0,0,"*"]
[null,null,1162,null,null,null,null,null,null,null,null,null,null,null,null,null,null,null,null,null,null,null,null,null,null,null,null,null,null,null,null,null,null,null,null,{"$f":"IF(H1171=\"\",\"-\",VLOOKUP(T1171,読み替え表_スマートムーブ!$C$4:$F$13,4,0))","v":"-"},{"$f":"IF(H1171=\"\",\"-\",VLOOKUP(V1171,読み替え表_スマートムーブ!$C$16:$F$21,4,0))","v":"-"},"-",null,null,null,null,0,0,0,0,0,0,"*"]
[null,null,1163,null,null,null,null,null,null,null,null,null,null,null,null,null,null,null,null,null,null,null,null,null,null,null,null,null,null,null,null,null,null,null,null,{"$f":"IF(H1172=\"\",\"-\",VLOOKUP(T1172,読み替え表_スマートムーブ!$C$4:$F$13,4,0))","v":"-"},{"$f":"IF(H1172=\"\",\"-\",VLOOKUP(V1172,読み替え表_スマートムーブ!$C$16:$F$21,4,0))","v":"-"},"-",null,null,null,null,0,0,0,0,0,0,"*"]
[null,null,1164,null,null,null,null,null,null,null,null,null,null,null,null,null,null,null,null,null,null,null,null,null,null,null,null,null,null,null,null,null,null,null,null,{"$f":"IF(H1173=\"\",\"-\",VLOOKUP(T1173,読み替え表_スマートムーブ!$C$4:$F$13,4,0))","v":"-"},{"$f":"IF(H1173=\"\",\"-\",VLOOKUP(V1173,読み替え表_スマートムーブ!$C$16:$F$21,4,0))","v":"-"},"-",null,null,null,null,0,0,0,0,0,0,"*"]
[null,null,1165,null,null,null,null,null,null,null,null,null,null,null,null,null,null,null,null,null,null,null,null,null,null,null,null,null,null,null,null,null,null,null,null,{"$f":"IF(H1174=\"\",\"-\",VLOOKUP(T1174,読み替え表_スマートムーブ!$C$4:$F$13,4,0))","v":"-"},{"$f":"IF(H1174=\"\",\"-\",VLOOKUP(V1174,読み替え表_スマートムーブ!$C$16:$F$21,4,0))","v":"-"},"-",null,null,null,null,0,0,0,0,0,0,"*"]
[null,null,1166,null,null,null,null,null,null,null,null,null,null,null,null,null,null,null,null,null,null,null,null,null,null,null,null,null,null,null,null,null,null,null,null,{"$f":"IF(H1175=\"\",\"-\",VLOOKUP(T1175,読み替え表_スマートムーブ!$C$4:$F$13,4,0))","v":"-"},{"$f":"IF(H1175=\"\",\"-\",VLOOKUP(V1175,読み替え表_スマートムーブ!$C$16:$F$21,4,0))","v":"-"},"-",null,null,null,null,0,0,0,0,0,0,"*"]
[null,null,1167,null,null,null,null,null,null,null,null,null,null,null,null,null,null,null,null,null,null,null,null,null,null,null,null,null,null,null,null,null,null,null,null,{"$f":"IF(H1176=\"\",\"-\",VLOOKUP(T1176,読み替え表_スマートムーブ!$C$4:$F$13,4,0))","v":"-"},{"$f":"IF(H1176=\"\",\"-\",VLOOKUP(V1176,読み替え表_スマートムーブ!$C$16:$F$21,4,0))","v":"-"},"-",null,null,null,null,0,0,0,0,0,0,"*"]
[null,null,1168,null,null,null,null,null,null,null,null,null,null,null,null,null,null,null,null,null,null,null,null,null,null,null,null,null,null,null,null,null,null,null,null,{"$f":"IF(H1177=\"\",\"-\",VLOOKUP(T1177,読み替え表_スマートムーブ!$C$4:$F$13,4,0))","v":"-"},{"$f":"IF(H1177=\"\",\"-\",VLOOKUP(V1177,読み替え表_スマートムーブ!$C$16:$F$21,4,0))","v":"-"},"-",null,null,null,null,0,0,0,0,0,0,"*"]
[null,null,1169,null,null,null,null,null,null,null,null,null,null,null,null,null,null,null,null,null,null,null,null,null,null,null,null,null,null,null,null,null,null,null,null,{"$f":"IF(H1178=\"\",\"-\",VLOOKUP(T1178,読み替え表_スマートムーブ!$C$4:$F$13,4,0))","v":"-"},{"$f":"IF(H1178=\"\",\"-\",VLOOKUP(V1178,読み替え表_スマートムーブ!$C$16:$F$21,4,0))","v":"-"},"-",null,null,null,null,0,0,0,0,0,0,"*"]
[null,null,1170,null,null,null,null,null,null,null,null,null,null,null,null,null,null,null,null,null,null,null,null,null,null,null,null,null,null,null,null,null,null,null,null,{"$f":"IF(H1179=\"\",\"-\",VLOOKUP(T1179,読み替え表_スマートムーブ!$C$4:$F$13,4,0))","v":"-"},{"$f":"IF(H1179=\"\",\"-\",VLOOKUP(V1179,読み替え表_スマートムーブ!$C$16:$F$21,4,0))","v":"-"},"-",null,null,null,null,0,0,0,0,0,0,"*"]
[null,null,1171,null,null,null,null,null,null,null,null,null,null,null,null,null,null,null,null,null,null,null,null,null,null,null,null,null,null,null,null,null,null,null,null,{"$f":"IF(H1180=\"\",\"-\",VLOOKUP(T1180,読み替え表_スマートムーブ!$C$4:$F$13,4,0))","v":"-"},{"$f":"IF(H1180=\"\",\"-\",VLOOKUP(V1180,読み替え表_スマートムーブ!$C$16:$F$21,4,0))","v":"-"},"-",null,null,null,null,0,0,0,0,0,0,"*"]
[null,null,1172,null,null,null,null,null,null,null,null,null,null,null,null,null,null,null,null,null,null,null,null,null,null,null,null,null,null,null,null,null,null,null,null,{"$f":"IF(H1181=\"\",\"-\",VLOOKUP(T1181,読み替え表_スマートムーブ!$C$4:$F$13,4,0))","v":"-"},{"$f":"IF(H1181=\"\",\"-\",VLOOKUP(V1181,読み替え表_スマートムーブ!$C$16:$F$21,4,0))","v":"-"},"-",null,null,null,null,0,0,0,0,0,0,"*"]
[null,null,1173,null,null,null,null,null,null,null,null,null,null,null,null,null,null,null,null,null,null,null,null,null,null,null,null,null,null,null,null,null,null,null,null,{"$f":"IF(H1182=\"\",\"-\",VLOOKUP(T1182,読み替え表_スマートムーブ!$C$4:$F$13,4,0))","v":"-"},{"$f":"IF(H1182=\"\",\"-\",VLOOKUP(V1182,読み替え表_スマートムーブ!$C$16:$F$21,4,0))","v":"-"},"-",null,null,null,null,0,0,0,0,0,0,"*"]
[null,null,1174,null,null,null,null,null,null,null,null,null,null,null,null,null,null,null,null,null,null,null,null,null,null,null,null,null,null,null,null,null,null,null,null,{"$f":"IF(H1183=\"\",\"-\",VLOOKUP(T1183,読み替え表_スマートムーブ!$C$4:$F$13,4,0))","v":"-"},{"$f":"IF(H1183=\"\",\"-\",VLOOKUP(V1183,読み替え表_スマートムーブ!$C$16:$F$21,4,0))","v":"-"},"-",null,null,null,null,0,0,0,0,0,0,"*"]
[null,null,1175,null,null,null,null,null,null,null,null,null,null,null,null,null,null,null,null,null,null,null,null,null,null,null,null,null,null,null,null,null,null,null,null,{"$f":"IF(H1184=\"\",\"-\",VLOOKUP(T1184,読み替え表_スマートムーブ!$C$4:$F$13,4,0))","v":"-"},{"$f":"IF(H1184=\"\",\"-\",VLOOKUP(V1184,読み替え表_スマートムーブ!$C$16:$F$21,4,0))","v":"-"},"-",null,null,null,null,0,0,0,0,0,0,"*"]
[null,null,1176,null,null,null,null,null,null,null,null,null,null,null,null,null,null,null,null,null,null,null,null,null,null,null,null,null,null,null,null,null,null,null,null,{"$f":"IF(H1185=\"\",\"-\",VLOOKUP(T1185,読み替え表_スマートムーブ!$C$4:$F$13,4,0))","v":"-"},{"$f":"IF(H1185=\"\",\"-\",VLOOKUP(V1185,読み替え表_スマートムーブ!$C$16:$F$21,4,0))","v":"-"},"-",null,null,null,null,0,0,0,0,0,0,"*"]
[null,null,1177,null,null,null,null,null,null,null,null,null,null,null,null,null,null,null,null,null,null,null,null,null,null,null,null,null,null,null,null,null,null,null,null,{"$f":"IF(H1186=\"\",\"-\",VLOOKUP(T1186,読み替え表_スマートムーブ!$C$4:$F$13,4,0))","v":"-"},{"$f":"IF(H1186=\"\",\"-\",VLOOKUP(V1186,読み替え表_スマートムーブ!$C$16:$F$21,4,0))","v":"-"},"-",null,null,null,null,0,0,0,0,0,0,"*"]
[null,null,1178,null,null,null,null,null,null,null,null,null,null,null,null,null,null,null,null,null,null,null,null,null,null,null,null,null,null,null,null,null,null,null,null,{"$f":"IF(H1187=\"\",\"-\",VLOOKUP(T1187,読み替え表_スマートムーブ!$C$4:$F$13,4,0))","v":"-"},{"$f":"IF(H1187=\"\",\"-\",VLOOKUP(V1187,読み替え表_スマートムーブ!$C$16:$F$21,4,0))","v":"-"},"-",null,null,null,null,0,0,0,0,0,0,"*"]
[null,null,1179,null,null,null,null,null,null,null,null,null,null,null,null,null,null,null,null,null,null,null,null,null,null,null,null,null,null,null,null,null,null,null,null,{"$f":"IF(H1188=\"\",\"-\",VLOOKUP(T1188,読み替え表_スマートムーブ!$C$4:$F$13,4,0))","v":"-"},{"$f":"IF(H1188=\"\",\"-\",VLOOKUP(V1188,読み替え表_スマートムーブ!$C$16:$F$21,4,0))","v":"-"},"-",null,null,null,null,0,0,0,0,0,0,"*"]
[null,null,1180,null,null,null,null,null,null,null,null,null,null,null,null,null,null,null,null,null,null,null,null,null,null,null,null,null,null,null,null,null,null,null,null,{"$f":"IF(H1189=\"\",\"-\",VLOOKUP(T1189,読み替え表_スマートムーブ!$C$4:$F$13,4,0))","v":"-"},{"$f":"IF(H1189=\"\",\"-\",VLOOKUP(V1189,読み替え表_スマートムーブ!$C$16:$F$21,4,0))","v":"-"},"-",null,null,null,null,0,0,0,0,0,0,"*"]
[null,null,1181,null,null,null,null,null,null,null,null,null,null,null,null,null,null,null,null,null,null,null,null,null,null,null,null,null,null,null,null,null,null,null,null,{"$f":"IF(H1190=\"\",\"-\",VLOOKUP(T1190,読み替え表_スマートムーブ!$C$4:$F$13,4,0))","v":"-"},{"$f":"IF(H1190=\"\",\"-\",VLOOKUP(V1190,読み替え表_スマートムーブ!$C$16:$F$21,4,0))","v":"-"},"-",null,null,null,null,0,0,0,0,0,0,"*"]
[null,null,1182,null,null,null,null,null,null,null,null,null,null,null,null,null,null,null,null,null,null,null,null,null,null,null,null,null,null,null,null,null,null,null,null,{"$f":"IF(H1191=\"\",\"-\",VLOOKUP(T1191,読み替え表_スマートムーブ!$C$4:$F$13,4,0))","v":"-"},{"$f":"IF(H1191=\"\",\"-\",VLOOKUP(V1191,読み替え表_スマートムーブ!$C$16:$F$21,4,0))","v":"-"},"-",null,null,null,null,0,0,0,0,0,0,"*"]
[null,null,1183,null,null,null,null,null,null,null,null,null,null,null,null,null,null,null,null,null,null,null,null,null,null,null,null,null,null,null,null,null,null,null,null,{"$f":"IF(H1192=\"\",\"-\",VLOOKUP(T1192,読み替え表_スマートムーブ!$C$4:$F$13,4,0))","v":"-"},{"$f":"IF(H1192=\"\",\"-\",VLOOKUP(V1192,読み替え表_スマートムーブ!$C$16:$F$21,4,0))","v":"-"},"-",null,null,null,null,0,0,0,0,0,0,"*"]
[null,null,1184,null,null,null,null,null,null,null,null,null,null,null,null,null,null,null,null,null,null,null,null,null,null,null,null,null,null,null,null,null,null,null,null,{"$f":"IF(H1193=\"\",\"-\",VLOOKUP(T1193,読み替え表_スマートムーブ!$C$4:$F$13,4,0))","v":"-"},{"$f":"IF(H1193=\"\",\"-\",VLOOKUP(V1193,読み替え表_スマートムーブ!$C$16:$F$21,4,0))","v":"-"},"-",null,null,null,null,0,0,0,0,0,0,"*"]
[null,null,1185,null,null,null,null,null,null,null,null,null,null,null,null,null,null,null,null,null,null,null,null,null,null,null,null,null,null,null,null,null,null,null,null,{"$f":"IF(H1194=\"\",\"-\",VLOOKUP(T1194,読み替え表_スマートムーブ!$C$4:$F$13,4,0))","v":"-"},{"$f":"IF(H1194=\"\",\"-\",VLOOKUP(V1194,読み替え表_スマートムーブ!$C$16:$F$21,4,0))","v":"-"},"-",null,null,null,null,0,0,0,0,0,0,"*"]
[null,null,1186,null,null,null,null,null,null,null,null,null,null,null,null,null,null,null,null,null,null,null,null,null,null,null,null,null,null,null,null,null,null,null,null,{"$f":"IF(H1195=\"\",\"-\",VLOOKUP(T1195,読み替え表_スマートムーブ!$C$4:$F$13,4,0))","v":"-"},{"$f":"IF(H1195=\"\",\"-\",VLOOKUP(V1195,読み替え表_スマートムーブ!$C$16:$F$21,4,0))","v":"-"},"-",null,null,null,null,0,0,0,0,0,0,"*"]
[null,null,1187,null,null,null,null,null,null,null,null,null,null,null,null,null,null,null,null,null,null,null,null,null,null,null,null,null,null,null,null,null,null,null,null,{"$f":"IF(H1196=\"\",\"-\",VLOOKUP(T1196,読み替え表_スマートムーブ!$C$4:$F$13,4,0))","v":"-"},{"$f":"IF(H1196=\"\",\"-\",VLOOKUP(V1196,読み替え表_スマートムーブ!$C$16:$F$21,4,0))","v":"-"},"-",null,null,null,null,0,0,0,0,0,0,"*"]
[null,null,1188,null,null,null,null,null,null,null,null,null,null,null,null,null,null,null,null,null,null,null,null,null,null,null,null,null,null,null,null,null,null,null,null,{"$f":"IF(H1197=\"\",\"-\",VLOOKUP(T1197,読み替え表_スマートムーブ!$C$4:$F$13,4,0))","v":"-"},{"$f":"IF(H1197=\"\",\"-\",VLOOKUP(V1197,読み替え表_スマートムーブ!$C$16:$F$21,4,0))","v":"-"},"-",null,null,null,null,0,0,0,0,0,0,"*"]
[null,null,1189,null,null,null,null,null,null,null,null,null,null,null,null,null,null,null,null,null,null,null,null,null,null,null,null,null,null,null,null,null,null,null,null,{"$f":"IF(H1198=\"\",\"-\",VLOOKUP(T1198,読み替え表_スマートムーブ!$C$4:$F$13,4,0))","v":"-"},{"$f":"IF(H1198=\"\",\"-\",VLOOKUP(V1198,読み替え表_スマートムーブ!$C$16:$F$21,4,0))","v":"-"},"-",null,null,null,null,0,0,0,0,0,0,"*"]
[null,null,1190,null,null,null,null,null,null,null,null,null,null,null,null,null,null,null,null,null,null,null,null,null,null,null,null,null,null,null,null,null,null,null,null,{"$f":"IF(H1199=\"\",\"-\",VLOOKUP(T1199,読み替え表_スマートムーブ!$C$4:$F$13,4,0))","v":"-"},{"$f":"IF(H1199=\"\",\"-\",VLOOKUP(V1199,読み替え表_スマートムーブ!$C$16:$F$21,4,0))","v":"-"},"-",null,null,null,null,0,0,0,0,0,0,"*"]
[null,null,1191,null,null,null,null,null,null,null,null,null,null,null,null,null,null,null,null,null,null,null,null,null,null,null,null,null,null,null,null,null,null,null,null,{"$f":"IF(H1200=\"\",\"-\",VLOOKUP(T1200,読み替え表_スマートムーブ!$C$4:$F$13,4,0))","v":"-"},{"$f":"IF(H1200=\"\",\"-\",VLOOKUP(V1200,読み替え表_スマートムーブ!$C$16:$F$21,4,0))","v":"-"},"-",null,null,null,null,0,0,0,0,0,0,"*"]
[null,null,1192,null,null,null,null,null,null,null,null,null,null,null,null,null,null,null,null,null,null,null,null,null,null,null,null,null,null,null,null,null,null,null,null,{"$f":"IF(H1201=\"\",\"-\",VLOOKUP(T1201,読み替え表_スマートムーブ!$C$4:$F$13,4,0))","v":"-"},{"$f":"IF(H1201=\"\",\"-\",VLOOKUP(V1201,読み替え表_スマートムーブ!$C$16:$F$21,4,0))","v":"-"},"-",null,null,null,null,0,0,0,0,0,0,"*"]
[null,null,1193,null,null,null,null,null,null,null,null,null,null,null,null,null,null,null,null,null,null,null,null,null,null,null,null,null,null,null,null,null,null,null,null,{"$f":"IF(H1202=\"\",\"-\",VLOOKUP(T1202,読み替え表_スマートムーブ!$C$4:$F$13,4,0))","v":"-"},{"$f":"IF(H1202=\"\",\"-\",VLOOKUP(V1202,読み替え表_スマートムーブ!$C$16:$F$21,4,0))","v":"-"},{"$f":"IF(H1202=\"\",\"-\",AJ1202*AK1202)","v":"-"},null,null,null,null,0,0,0,0,0,0,"*"]
[null,null,1194,null,null,null,null,null,null,null,null,null,null,null,null,null,null,null,null,null,null,null,null,null,null,null,null,null,null,null,null,null,null,null,null,{"$f":"IF(H1203=\"\",\"-\",VLOOKUP(T1203,読み替え表_スマートムーブ!$C$4:$F$13,4,0))","v":"-"},{"$f":"IF(H1203=\"\",\"-\",VLOOKUP(V1203,読み替え表_スマートムーブ!$C$16:$F$21,4,0))","v":"-"},"-",null,null,null,null,0,0,0,0,0,0,"*"]
[null,null,1195,null,null,null,null,null,null,null,null,null,null,null,null,null,null,null,null,null,null,null,null,null,null,null,null,null,null,null,null,null,null,null,null,{"$f":"IF(H1204=\"\",\"-\",VLOOKUP(T1204,読み替え表_スマートムーブ!$C$4:$F$13,4,0))","v":"-"},{"$f":"IF(H1204=\"\",\"-\",VLOOKUP(V1204,読み替え表_スマートムーブ!$C$16:$F$21,4,0))","v":"-"},"-",null,null,null,null,0,0,0,0,0,0,"*"]
[null,null,1196,null,null,null,null,null,null,null,null,null,null,null,null,null,null,null,null,null,null,null,null,null,null,null,null,null,null,null,null,null,null,null,null,{"$f":"IF(H1205=\"\",\"-\",VLOOKUP(T1205,読み替え表_スマートムーブ!$C$4:$F$13,4,0))","v":"-"},{"$f":"IF(H1205=\"\",\"-\",VLOOKUP(V1205,読み替え表_スマートムーブ!$C$16:$F$21,4,0))","v":"-"},"-",null,null,null,null,0,0,0,0,0,0,"*"]
[null,null,1197,null,null,null,null,null,null,null,null,null,null,null,null,null,null,null,null,null,null,null,null,null,null,null,null,null,null,null,null,null,null,null,null,{"$f":"IF(H1206=\"\",\"-\",VLOOKUP(T1206,読み替え表_スマートムーブ!$C$4:$F$13,4,0))","v":"-"},{"$f":"IF(H1206=\"\",\"-\",VLOOKUP(V1206,読み替え表_スマートムーブ!$C$16:$F$21,4,0))","v":"-"},"-",null,null,null,null,0,0,0,0,0,0,"*"]
[null,null,1198,null,null,null,null,null,null,null,null,null,null,null,null,null,null,null,null,null,null,null,null,null,null,null,null,null,null,null,null,null,null,null,null,{"$f":"IF(H1207=\"\",\"-\",VLOOKUP(T1207,読み替え表_スマートムーブ!$C$4:$F$13,4,0))","v":"-"},{"$f":"IF(H1207=\"\",\"-\",VLOOKUP(V1207,読み替え表_スマートムーブ!$C$16:$F$21,4,0))","v":"-"},"-",null,null,null,null,0,0,0,0,0,0,"*"]
[null,null,1199,null,null,null,null,null,null,null,null,null,null,null,null,null,null,null,null,null,null,null,null,null,null,null,null,null,null,null,null,null,null,null,null,{"$f":"IF(H1208=\"\",\"-\",VLOOKUP(T1208,読み替え表_スマートムーブ!$C$4:$F$13,4,0))","v":"-"},{"$f":"IF(H1208=\"\",\"-\",VLOOKUP(V1208,読み替え表_スマートムーブ!$C$16:$F$21,4,0))","v":"-"},"-",null,null,null,null,0,0,0,0,0,0,"*"]
[null,null,1200,null,null,null,null,null,null,null,null,null,null,null,null,null,null,null,null,null,null,null,null,null,null,null,null,null,null,null,null,null,null,null,null,{"$f":"IF(H1209=\"\",\"-\",VLOOKUP(T1209,読み替え表_スマートムーブ!$C$4:$F$13,4,0))","v":"-"},{"$f":"IF(H1209=\"\",\"-\",VLOOKUP(V1209,読み替え表_スマートムーブ!$C$16:$F$21,4,0))","v":"-"},"-",null,null,null,null,0,0,0,0,0,0,"*"]
[null,null,1201,null,null,null,null,null,null,null,null,null,null,null,null,null,null,null,null,null,null,null,null,null,null,null,null,null,null,null,null,null,null,null,null,{"$f":"IF(H1210=\"\",\"-\",VLOOKUP(T1210,読み替え表_スマートムーブ!$C$4:$F$13,4,0))","v":"-"},{"$f":"IF(H1210=\"\",\"-\",VLOOKUP(V1210,読み替え表_スマートムーブ!$C$16:$F$21,4,0))","v":"-"},"-",null,null,null,null,0,0,0,0,0,0,"*"]
[null,null,1202,null,null,null,null,null,null,null,null,null,null,null,null,null,null,null,null,null,null,null,null,null,null,null,null,null,null,null,null,null,null,null,null,{"$f":"IF(H1211=\"\",\"-\",VLOOKUP(T1211,読み替え表_スマートムーブ!$C$4:$F$13,4,0))","v":"-"},{"$f":"IF(H1211=\"\",\"-\",VLOOKUP(V1211,読み替え表_スマートムーブ!$C$16:$F$21,4,0))","v":"-"},"-",null,null,null,null,0,0,0,0,0,0,"*"]
[null,null,1203,null,null,null,null,null,null,null,null,null,null,null,null,null,null,null,null,null,null,null,null,null,null,null,null,null,null,null,null,null,null,null,null,{"$f":"IF(H1212=\"\",\"-\",VLOOKUP(T1212,読み替え表_スマートムーブ!$C$4:$F$13,4,0))","v":"-"},{"$f":"IF(H1212=\"\",\"-\",VLOOKUP(V1212,読み替え表_スマートムーブ!$C$16:$F$21,4,0))","v":"-"},"-",null,null,null,null,0,0,0,0,0,0,"*"]
[null,null,1204,null,null,null,null,null,null,null,null,null,null,null,null,null,null,null,null,null,null,null,null,null,null,null,null,null,null,null,null,null,null,null,null,{"$f":"IF(H1213=\"\",\"-\",VLOOKUP(T1213,読み替え表_スマートムーブ!$C$4:$F$13,4,0))","v":"-"},{"$f":"IF(H1213=\"\",\"-\",VLOOKUP(V1213,読み替え表_スマートムーブ!$C$16:$F$21,4,0))","v":"-"},"-",null,null,null,null,0,0,0,0,0,0,"*"]
[null,null,1205,null,null,null,null,null,null,null,null,null,null,null,null,null,null,null,null,null,null,null,null,null,null,null,null,null,null,null,null,null,null,null,null,{"$f":"IF(H1214=\"\",\"-\",VLOOKUP(T1214,読み替え表_スマートムーブ!$C$4:$F$13,4,0))","v":"-"},{"$f":"IF(H1214=\"\",\"-\",VLOOKUP(V1214,読み替え表_スマートムーブ!$C$16:$F$21,4,0))","v":"-"},"-",null,null,null,null,0,0,0,0,0,0,"*"]
[null,null,1206,null,null,null,null,null,null,null,null,null,null,null,null,null,null,null,null,null,null,null,null,null,null,null,null,null,null,null,null,null,null,null,null,{"$f":"IF(H1215=\"\",\"-\",VLOOKUP(T1215,読み替え表_スマートムーブ!$C$4:$F$13,4,0))","v":"-"},{"$f":"IF(H1215=\"\",\"-\",VLOOKUP(V1215,読み替え表_スマートムーブ!$C$16:$F$21,4,0))","v":"-"},"-",null,null,null,null,0,0,0,0,0,0,"*"]
[null,null,1207,null,null,null,null,null,null,null,null,null,null,null,null,null,null,null,null,null,null,null,null,null,null,null,null,null,null,null,null,null,null,null,null,{"$f":"IF(H1216=\"\",\"-\",VLOOKUP(T1216,読み替え表_スマートムーブ!$C$4:$F$13,4,0))","v":"-"},{"$f":"IF(H1216=\"\",\"-\",VLOOKUP(V1216,読み替え表_スマートムーブ!$C$16:$F$21,4,0))","v":"-"},"-",null,null,null,null,0,0,0,0,0,0,"*"]
[null,null,1208,null,null,null,null,null,null,null,null,null,null,null,null,null,null,null,null,null,null,null,null,null,null,null,null,null,null,null,null,null,null,null,null,{"$f":"IF(H1217=\"\",\"-\",VLOOKUP(T1217,読み替え表_スマートムーブ!$C$4:$F$13,4,0))","v":"-"},{"$f":"IF(H1217=\"\",\"-\",VLOOKUP(V1217,読み替え表_スマートムーブ!$C$16:$F$21,4,0))","v":"-"},"-",null,null,null,null,0,0,0,0,0,0,"*"]
[null,null,1209,null,null,null,null,null,null,null,null,null,null,null,null,null,null,null,null,null,null,null,null,null,null,null,null,null,null,null,null,null,null,null,null,{"$f":"IF(H1218=\"\",\"-\",VLOOKUP(T1218,読み替え表_スマートムーブ!$C$4:$F$13,4,0))","v":"-"},{"$f":"IF(H1218=\"\",\"-\",VLOOKUP(V1218,読み替え表_スマートムーブ!$C$16:$F$21,4,0))","v":"-"},"-",null,null,null,null,0,0,0,0,0,0,"*"]
[null,null,1210,null,null,null,null,null,null,null,null,null,null,null,null,null,null,null,null,null,null,null,null,null,null,null,null,null,null,null,null,null,null,null,null,{"$f":"IF(H1219=\"\",\"-\",VLOOKUP(T1219,読み替え表_スマートムーブ!$C$4:$F$13,4,0))","v":"-"},{"$f":"IF(H1219=\"\",\"-\",VLOOKUP(V1219,読み替え表_スマートムーブ!$C$16:$F$21,4,0))","v":"-"},"-",null,null,null,null,0,0,0,0,0,0,"*"]
[null,null,1211,null,null,null,null,null,null,null,null,null,null,null,null,null,null,null,null,null,null,null,null,null,null,null,null,null,null,null,null,null,null,null,null,{"$f":"IF(H1220=\"\",\"-\",VLOOKUP(T1220,読み替え表_スマートムーブ!$C$4:$F$13,4,0))","v":"-"},{"$f":"IF(H1220=\"\",\"-\",VLOOKUP(V1220,読み替え表_スマートムーブ!$C$16:$F$21,4,0))","v":"-"},"-",null,null,null,null,0,0,0,0,0,0,"*"]
[null,null,1212,null,null,null,null,null,null,null,null,null,null,null,null,null,null,null,null,null,null,null,null,null,null,null,null,null,null,null,null,null,null,null,null,{"$f":"IF(H1221=\"\",\"-\",VLOOKUP(T1221,読み替え表_スマートムーブ!$C$4:$F$13,4,0))","v":"-"},{"$f":"IF(H1221=\"\",\"-\",VLOOKUP(V1221,読み替え表_スマートムーブ!$C$16:$F$21,4,0))","v":"-"},"-",null,null,null,null,0,0,0,0,0,0,"*"]
[null,null,1213,null,null,null,null,null,null,null,null,null,null,null,null,null,null,null,null,null,null,null,null,null,null,null,null,null,null,null,null,null,null,null,null,{"$f":"IF(H1222=\"\",\"-\",VLOOKUP(T1222,読み替え表_スマートムーブ!$C$4:$F$13,4,0))","v":"-"},{"$f":"IF(H1222=\"\",\"-\",VLOOKUP(V1222,読み替え表_スマートムーブ!$C$16:$F$21,4,0))","v":"-"},"-",null,null,null,null,0,0,0,0,0,0,"*"]
[null,null,1214,null,null,null,null,null,null,null,null,null,null,null,null,null,null,null,null,null,null,null,null,null,null,null,null,null,null,null,null,null,null,null,null,{"$f":"IF(H1223=\"\",\"-\",VLOOKUP(T1223,読み替え表_スマートムーブ!$C$4:$F$13,4,0))","v":"-"},{"$f":"IF(H1223=\"\",\"-\",VLOOKUP(V1223,読み替え表_スマートムーブ!$C$16:$F$21,4,0))","v":"-"},"-",null,null,null,null,0,0,0,0,0,0,"*"]
[null,null,1215,null,null,null,null,null,null,null,null,null,null,null,null,null,null,null,null,null,null,null,null,null,null,null,null,null,null,null,null,null,null,null,null,{"$f":"IF(H1224=\"\",\"-\",VLOOKUP(T1224,読み替え表_スマートムーブ!$C$4:$F$13,4,0))","v":"-"},{"$f":"IF(H1224=\"\",\"-\",VLOOKUP(V1224,読み替え表_スマートムーブ!$C$16:$F$21,4,0))","v":"-"},"-",null,null,null,null,0,0,0,0,0,0,"*"]
[null,null,1216,null,null,null,null,null,null,null,null,null,null,null,null,null,null,null,null,null,null,null,null,null,null,null,null,null,null,null,null,null,null,null,null,{"$f":"IF(H1225=\"\",\"-\",VLOOKUP(T1225,読み替え表_スマートムーブ!$C$4:$F$13,4,0))","v":"-"},{"$f":"IF(H1225=\"\",\"-\",VLOOKUP(V1225,読み替え表_スマートムーブ!$C$16:$F$21,4,0))","v":"-"},"-",null,null,null,null,0,0,0,0,0,0,"*"]
[null,null,1217,null,null,null,null,null,null,null,null,null,null,null,null,null,null,null,null,null,null,null,null,null,null,null,null,null,null,null,null,null,null,null,null,{"$f":"IF(H1226=\"\",\"-\",VLOOKUP(T1226,読み替え表_スマートムーブ!$C$4:$F$13,4,0))","v":"-"},{"$f":"IF(H1226=\"\",\"-\",VLOOKUP(V1226,読み替え表_スマートムーブ!$C$16:$F$21,4,0))","v":"-"},"-",null,null,null,null,0,0,0,0,0,{"$f":"AQ1226","v":0},"*"]
[null,null,{"$f":"ROW()-9","v":1218},null,null,null,null,null,null,null,null,null,null,null,null,null,null,null,null,null,null,null,null,null,null,null,null,null,null,null,null,null,null,null,null,{"$f":"IF(H1227=\"\",\"-\",VLOOKUP(T1227,読み替え表_スマートムーブ!$C$4:$F$13,4,0))","v":"-"},{"$f":"IF(H1227=\"\",\"-\",VLOOKUP(V1227,読み替え表_スマートムーブ!$C$16:$F$21,4,0))","v":"-"},"-",null,null,null,null,{"$f":"IF(SUM($AR1227:$AT1227)>=1,1,0)","v":0},{"$f":"IF(R1227=1,1,0)","v":0},{"$f":"IF(T1227=9,1,0)","v":0},{"$f":"IF(V1227=5,1,0)","v":0},{"$f":"IF(OR($X1227=1,$X1227=2,$X1227=3),1,0)","v":0},0,"*"]
[null,null,1219,null,null,null,null,null,null,null,null,null,null,null,null,null,null,null,null,null,null,null,null,null,null,null,null,null,null,null,null,null,null,null,null,{"$f":"IF(H1228=\"\",\"-\",VLOOKUP(T1228,読み替え表_スマートムーブ!$C$4:$F$13,4,0))","v":"-"},{"$f":"IF(H1228=\"\",\"-\",VLOOKUP(V1228,読み替え表_スマートムーブ!$C$16:$F$21,4,0))","v":"-"},"-",null,null,null,null,0,0,0,0,0,0,"*"]
[null,null,1220,null,null,null,null,null,null,null,null,null,null,null,null,null,null,null,null,null,null,null,null,null,null,null,null,null,null,null,null,null,null,null,null,{"$f":"IF(H1229=\"\",\"-\",VLOOKUP(T1229,読み替え表_スマートムーブ!$C$4:$F$13,4,0))","v":"-"},{"$f":"IF(H1229=\"\",\"-\",VLOOKUP(V1229,読み替え表_スマートムーブ!$C$16:$F$21,4,0))","v":"-"},"-",null,null,null,null,0,0,0,0,0,0,"*"]
[null,null,1221,null,null,null,null,null,null,null,null,null,null,null,null,null,null,null,null,null,null,null,null,null,null,null,null,null,null,null,null,null,null,null,null,{"$f":"IF(H1230=\"\",\"-\",VLOOKUP(T1230,読み替え表_スマートムーブ!$C$4:$F$13,4,0))","v":"-"},{"$f":"IF(H1230=\"\",\"-\",VLOOKUP(V1230,読み替え表_スマートムーブ!$C$16:$F$21,4,0))","v":"-"},"-",null,null,null,null,0,0,0,0,0,0,"*"]
[null,null,1222,null,null,null,null,null,null,null,null,null,null,null,null,null,null,null,null,null,null,null,null,null,null,null,null,null,null,null,null,null,null,null,null,{"$f":"IF(H1231=\"\",\"-\",VLOOKUP(T1231,読み替え表_スマートムーブ!$C$4:$F$13,4,0))","v":"-"},{"$f":"IF(H1231=\"\",\"-\",VLOOKUP(V1231,読み替え表_スマートムーブ!$C$16:$F$21,4,0))","v":"-"},"-",null,null,null,null,0,0,0,0,0,0,"*"]
[null,null,1223,null,null,null,null,null,null,null,null,null,null,null,null,null,null,null,null,null,null,null,null,null,null,null,null,null,null,null,null,null,null,null,null,{"$f":"IF(H1232=\"\",\"-\",VLOOKUP(T1232,読み替え表_スマートムーブ!$C$4:$F$13,4,0))","v":"-"},{"$f":"IF(H1232=\"\",\"-\",VLOOKUP(V1232,読み替え表_スマートムーブ!$C$16:$F$21,4,0))","v":"-"},"-",null,null,null,null,0,0,0,0,0,0,"*"]
[null,null,1224,null,null,null,null,null,null,null,null,null,null,null,null,null,null,null,null,null,null,null,null,null,null,null,null,null,null,null,null,null,null,null,null,{"$f":"IF(H1233=\"\",\"-\",VLOOKUP(T1233,読み替え表_スマートムーブ!$C$4:$F$13,4,0))","v":"-"},{"$f":"IF(H1233=\"\",\"-\",VLOOKUP(V1233,読み替え表_スマートムーブ!$C$16:$F$21,4,0))","v":"-"},"-",null,null,null,null,0,0,0,0,0,0,"*"]
[null,null,1225,null,null,null,null,null,null,null,null,null,null,null,null,null,null,null,null,null,null,null,null,null,null,null,null,null,null,null,null,null,null,null,null,{"$f":"IF(H1234=\"\",\"-\",VLOOKUP(T1234,読み替え表_スマートムーブ!$C$4:$F$13,4,0))","v":"-"},{"$f":"IF(H1234=\"\",\"-\",VLOOKUP(V1234,読み替え表_スマートムーブ!$C$16:$F$21,4,0))","v":"-"},"-",null,null,null,null,0,0,0,0,0,0,"*"]
[null,null,1226,null,null,null,null,null,null,null,null,null,null,null,null,null,null,null,null,null,null,null,null,null,null,null,null,null,null,null,null,null,null,null,null,{"$f":"IF(H1235=\"\",\"-\",VLOOKUP(T1235,読み替え表_スマートムーブ!$C$4:$F$13,4,0))","v":"-"},{"$f":"IF(H1235=\"\",\"-\",VLOOKUP(V1235,読み替え表_スマートムーブ!$C$16:$F$21,4,0))","v":"-"},"-",null,null,null,null,0,0,0,0,0,0,"*"]
[null,null,1227,null,null,null,null,null,null,null,null,null,null,null,null,null,null,null,null,null,null,null,null,null,null,null,null,null,null,null,null,null,null,null,null,{"$f":"IF(H1236=\"\",\"-\",VLOOKUP(T1236,読み替え表_スマートムーブ!$C$4:$F$13,4,0))","v":"-"},{"$f":"IF(H1236=\"\",\"-\",VLOOKUP(V1236,読み替え表_スマートムーブ!$C$16:$F$21,4,0))","v":"-"},"-",null,null,null,null,0,0,0,0,0,0,"*"]
[null,null,1228,null,null,null,null,null,null,null,null,null,null,null,null,null,null,null,null,null,null,null,null,null,null,null,null,null,null,null,null,null,null,null,null,{"$f":"IF(H1237=\"\",\"-\",VLOOKUP(T1237,読み替え表_スマートムーブ!$C$4:$F$13,4,0))","v":"-"},{"$f":"IF(H1237=\"\",\"-\",VLOOKUP(V1237,読み替え表_スマートムーブ!$C$16:$F$21,4,0))","v":"-"},"-",null,null,null,null,0,0,0,0,0,0,"*"]
[null,null,1229,null,null,null,null,null,null,null,null,null,null,null,null,null,null,null,null,null,null,null,null,null,null,null,null,null,null,null,null,null,null,null,null,{"$f":"IF(H1238=\"\",\"-\",VLOOKUP(T1238,読み替え表_スマートムーブ!$C$4:$F$13,4,0))","v":"-"},{"$f":"IF(H1238=\"\",\"-\",VLOOKUP(V1238,読み替え表_スマートムーブ!$C$16:$F$21,4,0))","v":"-"},"-",null,null,null,null,0,0,0,0,0,0,"*"]
[null,null,1230,null,null,null,null,null,null,null,null,null,null,null,null,null,null,null,null,null,null,null,null,null,null,null,null,null,null,null,null,null,null,null,null,{"$f":"IF(H1239=\"\",\"-\",VLOOKUP(T1239,読み替え表_スマートムーブ!$C$4:$F$13,4,0))","v":"-"},{"$f":"IF(H1239=\"\",\"-\",VLOOKUP(V1239,読み替え表_スマートムーブ!$C$16:$F$21,4,0))","v":"-"},"-",null,null,null,null,0,0,0,0,0,0,"*"]
[null,null,1231,null,null,null,null,null,null,null,null,null,null,null,null,null,null,null,null,null,null,null,null,null,null,null,null,null,null,null,null,null,null,null,null,{"$f":"IF(H1240=\"\",\"-\",VLOOKUP(T1240,読み替え表_スマートムーブ!$C$4:$F$13,4,0))","v":"-"},{"$f":"IF(H1240=\"\",\"-\",VLOOKUP(V1240,読み替え表_スマートムーブ!$C$16:$F$21,4,0))","v":"-"},"-",null,null,null,null,0,0,0,0,0,0,"*"]
[null,null,1232,null,null,null,null,null,null,null,null,null,null,null,null,null,null,null,null,null,null,null,null,null,null,null,null,null,null,null,null,null,null,null,null,{"$f":"IF(H1241=\"\",\"-\",VLOOKUP(T1241,読み替え表_スマートムーブ!$C$4:$F$13,4,0))","v":"-"},{"$f":"IF(H1241=\"\",\"-\",VLOOKUP(V1241,読み替え表_スマートムーブ!$C$16:$F$21,4,0))","v":"-"},"-",null,null,null,null,0,0,0,0,0,0,"*"]
[null,null,1233,null,null,null,null,null,null,null,null,null,null,null,null,null,null,null,null,null,null,null,null,null,null,null,null,null,null,null,null,null,null,null,null,{"$f":"IF(H1242=\"\",\"-\",VLOOKUP(T1242,読み替え表_スマートムーブ!$C$4:$F$13,4,0))","v":"-"},{"$f":"IF(H1242=\"\",\"-\",VLOOKUP(V1242,読み替え表_スマートムーブ!$C$16:$F$21,4,0))","v":"-"},"-",null,null,null,null,0,0,0,0,0,0,"*"]
[null,null,1234,null,null,null,null,null,null,null,null,null,null,null,null,null,null,null,null,null,null,null,null,null,null,null,null,null,null,null,null,null,null,null,null,{"$f":"IF(H1243=\"\",\"-\",VLOOKUP(T1243,読み替え表_スマートムーブ!$C$4:$F$13,4,0))","v":"-"},{"$f":"IF(H1243=\"\",\"-\",VLOOKUP(V1243,読み替え表_スマートムーブ!$C$16:$F$21,4,0))","v":"-"},"-",null,null,null,null,0,0,0,0,0,0,"*"]
[null,null,1235,null,null,null,null,null,null,null,null,null,null,null,null,null,null,null,null,null,null,null,null,null,null,null,null,null,null,null,null,null,null,null,null,{"$f":"IF(H1244=\"\",\"-\",VLOOKUP(T1244,読み替え表_スマートムーブ!$C$4:$F$13,4,0))","v":"-"},{"$f":"IF(H1244=\"\",\"-\",VLOOKUP(V1244,読み替え表_スマートムーブ!$C$16:$F$21,4,0))","v":"-"},"-",null,null,null,null,0,0,0,0,0,0,"*"]
[null,null,1236,null,null,null,null,null,null,null,null,null,null,null,null,null,null,null,null,null,null,null,null,null,null,null,null,null,null,null,null,null,null,null,null,{"$f":"IF(H1245=\"\",\"-\",VLOOKUP(T1245,読み替え表_スマートムーブ!$C$4:$F$13,4,0))","v":"-"},{"$f":"IF(H1245=\"\",\"-\",VLOOKUP(V1245,読み替え表_スマートムーブ!$C$16:$F$21,4,0))","v":"-"},"-",null,null,null,null,0,0,0,0,0,0,"*"]
[null,null,1237,null,null,null,null,null,null,null,null,null,null,null,null,null,null,null,null,null,null,null,null,null,null,null,null,null,null,null,null,null,null,null,null,{"$f":"IF(H1246=\"\",\"-\",VLOOKUP(T1246,読み替え表_スマートムーブ!$C$4:$F$13,4,0))","v":"-"},{"$f":"IF(H1246=\"\",\"-\",VLOOKUP(V1246,読み替え表_スマートムーブ!$C$16:$F$21,4,0))","v":"-"},"-",null,null,null,null,0,0,0,0,0,0,"*"]
[null,null,1238,null,null,null,null,null,null,null,null,null,null,null,null,null,null,null,null,null,null,null,null,null,null,null,null,null,null,null,null,null,null,null,null,{"$f":"IF(H1247=\"\",\"-\",VLOOKUP(T1247,読み替え表_スマートムーブ!$C$4:$F$13,4,0))","v":"-"},{"$f":"IF(H1247=\"\",\"-\",VLOOKUP(V1247,読み替え表_スマートムーブ!$C$16:$F$21,4,0))","v":"-"},"-",null,null,null,null,0,0,0,0,0,0,"*"]
[null,null,1239,null,null,null,null,null,null,null,null,null,null,null,null,null,null,null,null,null,null,null,null,null,null,null,null,null,null,null,null,null,null,null,null,{"$f":"IF(H1248=\"\",\"-\",VLOOKUP(T1248,読み替え表_スマートムーブ!$C$4:$F$13,4,0))","v":"-"},{"$f":"IF(H1248=\"\",\"-\",VLOOKUP(V1248,読み替え表_スマートムーブ!$C$16:$F$21,4,0))","v":"-"},"-",null,null,null,null,0,0,0,0,0,0,"*"]
[null,null,1240,null,null,null,null,null,null,null,null,null,null,null,null,null,null,null,null,null,null,null,null,null,null,null,null,null,null,null,null,null,null,null,null,{"$f":"IF(H1249=\"\",\"-\",VLOOKUP(T1249,読み替え表_スマートムーブ!$C$4:$F$13,4,0))","v":"-"},{"$f":"IF(H1249=\"\",\"-\",VLOOKUP(V1249,読み替え表_スマートムーブ!$C$16:$F$21,4,0))","v":"-"},"-",null,null,null,null,0,0,0,0,0,0,"*"]
[null,null,1241,null,null,null,null,null,null,null,null,null,null,null,null,null,null,null,null,null,null,null,null,null,null,null,null,null,null,null,null,null,null,null,null,{"$f":"IF(H1250=\"\",\"-\",VLOOKUP(T1250,読み替え表_スマートムーブ!$C$4:$F$13,4,0))","v":"-"},{"$f":"IF(H1250=\"\",\"-\",VLOOKUP(V1250,読み替え表_スマートムーブ!$C$16:$F$21,4,0))","v":"-"},"-",null,null,null,null,0,0,0,0,0,0,"*"]
[null,null,1242,null,null,null,null,null,null,null,null,null,null,null,null,null,null,null,null,null,null,null,null,null,null,null,null,null,null,null,null,null,null,null,null,{"$f":"IF(H1251=\"\",\"-\",VLOOKUP(T1251,読み替え表_スマートムーブ!$C$4:$F$13,4,0))","v":"-"},{"$f":"IF(H1251=\"\",\"-\",VLOOKUP(V1251,読み替え表_スマートムーブ!$C$16:$F$21,4,0))","v":"-"},"-",null,null,null,null,0,0,0,0,0,0,"*"]
[null,null,1243,null,null,null,null,null,null,null,null,null,null,null,null,null,null,null,null,null,null,null,null,null,null,null,null,null,null,null,null,null,null,null,null,{"$f":"IF(H1252=\"\",\"-\",VLOOKUP(T1252,読み替え表_スマートムーブ!$C$4:$F$13,4,0))","v":"-"},{"$f":"IF(H1252=\"\",\"-\",VLOOKUP(V1252,読み替え表_スマートムーブ!$C$16:$F$21,4,0))","v":"-"},"-",null,null,null,null,0,0,0,0,0,0,"*"]
[null,null,1244,null,null,null,null,null,null,null,null,null,null,null,null,null,null,null,null,null,null,null,null,null,null,null,null,null,null,null,null,null,null,null,null,{"$f":"IF(H1253=\"\",\"-\",VLOOKUP(T1253,読み替え表_スマートムーブ!$C$4:$F$13,4,0))","v":"-"},{"$f":"IF(H1253=\"\",\"-\",VLOOKUP(V1253,読み替え表_スマートムーブ!$C$16:$F$21,4,0))","v":"-"},"-",null,null,null,null,0,0,0,0,0,0,"*"]
[null,null,1245,null,null,null,null,null,null,null,null,null,null,null,null,null,null,null,null,null,null,null,null,null,null,null,null,null,null,null,null,null,null,null,null,{"$f":"IF(H1254=\"\",\"-\",VLOOKUP(T1254,読み替え表_スマートムーブ!$C$4:$F$13,4,0))","v":"-"},{"$f":"IF(H1254=\"\",\"-\",VLOOKUP(V1254,読み替え表_スマートムーブ!$C$16:$F$21,4,0))","v":"-"},"-",null,null,null,null,0,0,0,0,0,0,"*"]
[null,null,1246,null,null,null,null,null,null,null,null,null,null,null,null,null,null,null,null,null,null,null,null,null,null,null,null,null,null,null,null,null,null,null,null,{"$f":"IF(H1255=\"\",\"-\",VLOOKUP(T1255,読み替え表_スマートムーブ!$C$4:$F$13,4,0))","v":"-"},{"$f":"IF(H1255=\"\",\"-\",VLOOKUP(V1255,読み替え表_スマートムーブ!$C$16:$F$21,4,0))","v":"-"},"-",null,null,null,null,0,0,0,0,0,0,"*"]
[null,null,1247,null,null,null,null,null,null,null,null,null,null,null,null,null,null,null,null,null,null,null,null,null,null,null,null,null,null,null,null,null,null,null,null,{"$f":"IF(H1256=\"\",\"-\",VLOOKUP(T1256,読み替え表_スマートムーブ!$C$4:$F$13,4,0))","v":"-"},{"$f":"IF(H1256=\"\",\"-\",VLOOKUP(V1256,読み替え表_スマートムーブ!$C$16:$F$21,4,0))","v":"-"},"-",null,null,null,null,0,0,0,0,0,0,"*"]
[null,null,1248,null,null,null,null,null,null,null,null,null,null,null,null,null,null,null,null,null,null,null,null,null,null,null,null,null,null,null,null,null,null,null,null,{"$f":"IF(H1257=\"\",\"-\",VLOOKUP(T1257,読み替え表_スマートムーブ!$C$4:$F$13,4,0))","v":"-"},{"$f":"IF(H1257=\"\",\"-\",VLOOKUP(V1257,読み替え表_スマートムーブ!$C$16:$F$21,4,0))","v":"-"},"-",null,null,null,null,0,0,0,0,0,0,"*"]
[null,null,1249,null,null,null,null,null,null,null,null,null,null,null,null,null,null,null,null,null,null,null,null,null,null,null,null,null,null,null,null,null,null,null,null,{"$f":"IF(H1258=\"\",\"-\",VLOOKUP(T1258,読み替え表_スマートムーブ!$C$4:$F$13,4,0))","v":"-"},{"$f":"IF(H1258=\"\",\"-\",VLOOKUP(V1258,読み替え表_スマートムーブ!$C$16:$F$21,4,0))","v":"-"},"-",null,null,null,null,0,0,0,0,0,0,"*"]
[null,null,1250,null,null,null,null,null,null,null,null,null,null,null,null,null,null,null,null,null,null,null,null,null,null,null,null,null,null,null,null,null,null,null,null,{"$f":"IF(H1259=\"\",\"-\",VLOOKUP(T1259,読み替え表_スマートムーブ!$C$4:$F$13,4,0))","v":"-"},{"$f":"IF(H1259=\"\",\"-\",VLOOKUP(V1259,読み替え表_スマートムーブ!$C$16:$F$21,4,0))","v":"-"},"-",null,null,null,null,0,0,0,0,0,0,"*"]
[null,null,1251,null,null,null,null,null,null,null,null,null,null,null,null,null,null,null,null,null,null,null,null,null,null,null,null,null,null,null,null,null,null,null,null,{"$f":"IF(H1260=\"\",\"-\",VLOOKUP(T1260,読み替え表_スマートムーブ!$C$4:$F$13,4,0))","v":"-"},{"$f":"IF(H1260=\"\",\"-\",VLOOKUP(V1260,読み替え表_スマートムーブ!$C$16:$F$21,4,0))","v":"-"},"-",null,null,null,null,0,0,0,0,0,0,"*"]
[null,null,1252,null,null,null,null,null,null,null,null,null,null,null,null,null,null,null,null,null,null,null,null,null,null,null,null,null,null,null,null,null,null,null,null,{"$f":"IF(H1261=\"\",\"-\",VLOOKUP(T1261,読み替え表_スマートムーブ!$C$4:$F$13,4,0))","v":"-"},{"$f":"IF(H1261=\"\",\"-\",VLOOKUP(V1261,読み替え表_スマートムーブ!$C$16:$F$21,4,0))","v":"-"},"-",null,null,null,null,0,0,0,0,0,0,"*"]
[null,null,1253,null,null,null,null,null,null,null,null,null,null,null,null,null,null,null,null,null,null,null,null,null,null,null,null,null,null,null,null,null,null,null,null,{"$f":"IF(H1262=\"\",\"-\",VLOOKUP(T1262,読み替え表_スマートムーブ!$C$4:$F$13,4,0))","v":"-"},{"$f":"IF(H1262=\"\",\"-\",VLOOKUP(V1262,読み替え表_スマートムーブ!$C$16:$F$21,4,0))","v":"-"},"-",null,null,null,null,0,0,0,0,0,0,"*"]
[null,null,1254,null,null,null,null,null,null,null,null,null,null,null,null,null,null,null,null,null,null,null,null,null,null,null,null,null,null,null,null,null,null,null,null,{"$f":"IF(H1263=\"\",\"-\",VLOOKUP(T1263,読み替え表_スマートムーブ!$C$4:$F$13,4,0))","v":"-"},{"$f":"IF(H1263=\"\",\"-\",VLOOKUP(V1263,読み替え表_スマートムーブ!$C$16:$F$21,4,0))","v":"-"},"-",null,null,null,null,0,0,0,0,0,0,"*"]
[null,null,1255,null,null,null,null,null,null,null,null,null,null,null,null,null,null,null,null,null,null,null,null,null,null,null,null,null,null,null,null,null,null,null,null,{"$f":"IF(H1264=\"\",\"-\",VLOOKUP(T1264,読み替え表_スマートムーブ!$C$4:$F$13,4,0))","v":"-"},{"$f":"IF(H1264=\"\",\"-\",VLOOKUP(V1264,読み替え表_スマートムーブ!$C$16:$F$21,4,0))","v":"-"},"-",null,null,null,null,0,0,0,0,0,0,"*"]
[null,null,1256,null,null,null,null,null,null,null,null,null,null,null,null,null,null,null,null,null,null,null,null,null,null,null,null,null,null,null,null,null,null,null,null,{"$f":"IF(H1265=\"\",\"-\",VLOOKUP(T1265,読み替え表_スマートムーブ!$C$4:$F$13,4,0))","v":"-"},{"$f":"IF(H1265=\"\",\"-\",VLOOKUP(V1265,読み替え表_スマートムーブ!$C$16:$F$21,4,0))","v":"-"},"-",null,null,null,null,0,0,0,0,0,0,"*"]
[null,null,1257,null,null,null,null,null,null,null,null,null,null,null,null,null,null,null,null,null,null,null,null,null,null,null,null,null,null,null,null,null,null,null,null,{"$f":"IF(H1266=\"\",\"-\",VLOOKUP(T1266,読み替え表_スマートムーブ!$C$4:$F$13,4,0))","v":"-"},{"$f":"IF(H1266=\"\",\"-\",VLOOKUP(V1266,読み替え表_スマートムーブ!$C$16:$F$21,4,0))","v":"-"},{"$f":"IF(H1266=\"\",\"-\",AJ1266*AK1266)","v":"-"},null,null,null,null,0,0,0,0,0,0,"*"]
[null,null,1258,null,null,null,null,null,null,null,null,null,null,null,null,null,null,null,null,null,null,null,null,null,null,null,null,null,null,null,null,null,null,null,null,{"$f":"IF(H1267=\"\",\"-\",VLOOKUP(T1267,読み替え表_スマートムーブ!$C$4:$F$13,4,0))","v":"-"},{"$f":"IF(H1267=\"\",\"-\",VLOOKUP(V1267,読み替え表_スマートムーブ!$C$16:$F$21,4,0))","v":"-"},"-",null,null,null,null,0,0,0,0,0,0,"*"]
[null,null,1259,null,null,null,null,null,null,null,null,null,null,null,null,null,null,null,null,null,null,null,null,null,null,null,null,null,null,null,null,null,null,null,null,{"$f":"IF(H1268=\"\",\"-\",VLOOKUP(T1268,読み替え表_スマートムーブ!$C$4:$F$13,4,0))","v":"-"},{"$f":"IF(H1268=\"\",\"-\",VLOOKUP(V1268,読み替え表_スマートムーブ!$C$16:$F$21,4,0))","v":"-"},"-",null,null,null,null,0,0,0,0,0,0,"*"]
[null,null,1260,null,null,null,null,null,null,null,null,null,null,null,null,null,null,null,null,null,null,null,null,null,null,null,null,null,null,null,null,null,null,null,null,{"$f":"IF(H1269=\"\",\"-\",VLOOKUP(T1269,読み替え表_スマートムーブ!$C$4:$F$13,4,0))","v":"-"},{"$f":"IF(H1269=\"\",\"-\",VLOOKUP(V1269,読み替え表_スマートムーブ!$C$16:$F$21,4,0))","v":"-"},"-",null,null,null,null,0,0,0,0,0,0,"*"]
[null,null,1261,null,null,null,null,null,null,null,null,null,null,null,null,null,null,null,null,null,null,null,null,null,null,null,null,null,null,null,null,null,null,null,null,{"$f":"IF(H1270=\"\",\"-\",VLOOKUP(T1270,読み替え表_スマートムーブ!$C$4:$F$13,4,0))","v":"-"},{"$f":"IF(H1270=\"\",\"-\",VLOOKUP(V1270,読み替え表_スマートムーブ!$C$16:$F$21,4,0))","v":"-"},"-",null,null,null,null,0,0,0,0,0,0,"*"]
[null,null,1262,null,null,null,null,null,null,null,null,null,null,null,null,null,null,null,null,null,null,null,null,null,null,null,null,null,null,null,null,null,null,null,null,{"$f":"IF(H1271=\"\",\"-\",VLOOKUP(T1271,読み替え表_スマートムーブ!$C$4:$F$13,4,0))","v":"-"},{"$f":"IF(H1271=\"\",\"-\",VLOOKUP(V1271,読み替え表_スマートムーブ!$C$16:$F$21,4,0))","v":"-"},"-",null,null,null,null,0,0,0,0,0,0,"*"]
[null,null,1263,null,null,null,null,null,null,null,null,null,null,null,null,null,null,null,null,null,null,null,null,null,null,null,null,null,null,null,null,null,null,null,null,{"$f":"IF(H1272=\"\",\"-\",VLOOKUP(T1272,読み替え表_スマートムーブ!$C$4:$F$13,4,0))","v":"-"},{"$f":"IF(H1272=\"\",\"-\",VLOOKUP(V1272,読み替え表_スマートムーブ!$C$16:$F$21,4,0))","v":"-"},"-",null,null,null,null,0,0,0,0,0,0,"*"]
[null,null,1264,null,null,null,null,null,null,null,null,null,null,null,null,null,null,null,null,null,null,null,null,null,null,null,null,null,null,null,null,null,null,null,null,{"$f":"IF(H1273=\"\",\"-\",VLOOKUP(T1273,読み替え表_スマートムーブ!$C$4:$F$13,4,0))","v":"-"},{"$f":"IF(H1273=\"\",\"-\",VLOOKUP(V1273,読み替え表_スマートムーブ!$C$16:$F$21,4,0))","v":"-"},"-",null,null,null,null,0,0,0,0,0,0,"*"]
[null,null,1265,null,null,null,null,null,null,null,null,null,null,null,null,null,null,null,null,null,null,null,null,null,null,null,null,null,null,null,null,null,null,null,null,{"$f":"IF(H1274=\"\",\"-\",VLOOKUP(T1274,読み替え表_スマートムーブ!$C$4:$F$13,4,0))","v":"-"},{"$f":"IF(H1274=\"\",\"-\",VLOOKUP(V1274,読み替え表_スマートムーブ!$C$16:$F$21,4,0))","v":"-"},"-",null,null,null,null,0,0,0,0,0,0,"*"]
[null,null,1266,null,null,null,null,null,null,null,null,null,null,null,null,null,null,null,null,null,null,null,null,null,null,null,null,null,null,null,null,null,null,null,null,{"$f":"IF(H1275=\"\",\"-\",VLOOKUP(T1275,読み替え表_スマートムーブ!$C$4:$F$13,4,0))","v":"-"},{"$f":"IF(H1275=\"\",\"-\",VLOOKUP(V1275,読み替え表_スマートムーブ!$C$16:$F$21,4,0))","v":"-"},"-",null,null,null,null,0,0,0,0,0,0,"*"]
[null,null,1267,null,null,null,null,null,null,null,null,null,null,null,null,null,null,null,null,null,null,null,null,null,null,null,null,null,null,null,null,null,null,null,null,{"$f":"IF(H1276=\"\",\"-\",VLOOKUP(T1276,読み替え表_スマートムーブ!$C$4:$F$13,4,0))","v":"-"},{"$f":"IF(H1276=\"\",\"-\",VLOOKUP(V1276,読み替え表_スマートムーブ!$C$16:$F$21,4,0))","v":"-"},"-",null,null,null,null,0,0,0,0,0,0,"*"]
[null,null,1268,null,null,null,null,null,null,null,null,null,null,null,null,null,null,null,null,null,null,null,null,null,null,null,null,null,null,null,null,null,null,null,null,{"$f":"IF(H1277=\"\",\"-\",VLOOKUP(T1277,読み替え表_スマートムーブ!$C$4:$F$13,4,0))","v":"-"},{"$f":"IF(H1277=\"\",\"-\",VLOOKUP(V1277,読み替え表_スマートムーブ!$C$16:$F$21,4,0))","v":"-"},"-",null,null,null,null,0,0,0,0,0,0,"*"]
[null,null,1269,null,null,null,null,null,null,null,null,null,null,null,null,null,null,null,null,null,null,null,null,null,null,null,null,null,null,null,null,null,null,null,null,{"$f":"IF(H1278=\"\",\"-\",VLOOKUP(T1278,読み替え表_スマートムーブ!$C$4:$F$13,4,0))","v":"-"},{"$f":"IF(H1278=\"\",\"-\",VLOOKUP(V1278,読み替え表_スマートムーブ!$C$16:$F$21,4,0))","v":"-"},"-",null,null,null,null,0,0,0,0,0,0,"*"]
[null,null,1270,null,null,null,null,null,null,null,null,null,null,null,null,null,null,null,null,null,null,null,null,null,null,null,null,null,null,null,null,null,null,null,null,{"$f":"IF(H1279=\"\",\"-\",VLOOKUP(T1279,読み替え表_スマートムーブ!$C$4:$F$13,4,0))","v":"-"},{"$f":"IF(H1279=\"\",\"-\",VLOOKUP(V1279,読み替え表_スマートムーブ!$C$16:$F$21,4,0))","v":"-"},"-",null,null,null,null,0,0,0,0,0,0,"*"]
[null,null,1271,null,null,null,null,null,null,null,null,null,null,null,null,null,null,null,null,null,null,null,null,null,null,null,null,null,null,null,null,null,null,null,null,{"$f":"IF(H1280=\"\",\"-\",VLOOKUP(T1280,読み替え表_スマートムーブ!$C$4:$F$13,4,0))","v":"-"},{"$f":"IF(H1280=\"\",\"-\",VLOOKUP(V1280,読み替え表_スマートムーブ!$C$16:$F$21,4,0))","v":"-"},"-",null,null,null,null,0,0,0,0,0,0,"*"]
[null,null,1272,null,null,null,null,null,null,null,null,null,null,null,null,null,null,null,null,null,null,null,null,null,null,null,null,null,null,null,null,null,null,null,null,{"$f":"IF(H1281=\"\",\"-\",VLOOKUP(T1281,読み替え表_スマートムーブ!$C$4:$F$13,4,0))","v":"-"},{"$f":"IF(H1281=\"\",\"-\",VLOOKUP(V1281,読み替え表_スマートムーブ!$C$16:$F$21,4,0))","v":"-"},"-",null,null,null,null,0,0,0,0,0,0,"*"]
[null,null,1273,null,null,null,null,null,null,null,null,null,null,null,null,null,null,null,null,null,null,null,null,null,null,null,null,null,null,null,null,null,null,null,null,{"$f":"IF(H1282=\"\",\"-\",VLOOKUP(T1282,読み替え表_スマートムーブ!$C$4:$F$13,4,0))","v":"-"},{"$f":"IF(H1282=\"\",\"-\",VLOOKUP(V1282,読み替え表_スマートムーブ!$C$16:$F$21,4,0))","v":"-"},"-",null,null,null,null,0,0,0,0,0,0,"*"]
[null,null,1274,null,null,null,null,null,null,null,null,null,null,null,null,null,null,null,null,null,null,null,null,null,null,null,null,null,null,null,null,null,null,null,null,{"$f":"IF(H1283=\"\",\"-\",VLOOKUP(T1283,読み替え表_スマートムーブ!$C$4:$F$13,4,0))","v":"-"},{"$f":"IF(H1283=\"\",\"-\",VLOOKUP(V1283,読み替え表_スマートムーブ!$C$16:$F$21,4,0))","v":"-"},"-",null,null,null,null,0,0,0,0,0,0,"*"]
[null,null,1275,null,null,null,null,null,null,null,null,null,null,null,null,null,null,null,null,null,null,null,null,null,null,null,null,null,null,null,null,null,null,null,null,{"$f":"IF(H1284=\"\",\"-\",VLOOKUP(T1284,読み替え表_スマートムーブ!$C$4:$F$13,4,0))","v":"-"},{"$f":"IF(H1284=\"\",\"-\",VLOOKUP(V1284,読み替え表_スマートムーブ!$C$16:$F$21,4,0))","v":"-"},"-",null,null,null,null,0,0,0,0,0,0,"*"]
[null,null,1276,null,null,null,null,null,null,null,null,null,null,null,null,null,null,null,null,null,null,null,null,null,null,null,null,null,null,null,null,null,null,null,null,{"$f":"IF(H1285=\"\",\"-\",VLOOKUP(T1285,読み替え表_スマートムーブ!$C$4:$F$13,4,0))","v":"-"},{"$f":"IF(H1285=\"\",\"-\",VLOOKUP(V1285,読み替え表_スマートムーブ!$C$16:$F$21,4,0))","v":"-"},"-",null,null,null,null,0,0,0,0,0,0,"*"]
[null,null,1277,null,null,null,null,null,null,null,null,null,null,null,null,null,null,null,null,null,null,null,null,null,null,null,null,null,null,null,null,null,null,null,null,{"$f":"IF(H1286=\"\",\"-\",VLOOKUP(T1286,読み替え表_スマートムーブ!$C$4:$F$13,4,0))","v":"-"},{"$f":"IF(H1286=\"\",\"-\",VLOOKUP(V1286,読み替え表_スマートムーブ!$C$16:$F$21,4,0))","v":"-"},"-",null,null,null,null,0,0,0,0,0,0,"*"]
[null,null,1278,null,null,null,null,null,null,null,null,null,null,null,null,null,null,null,null,null,null,null,null,null,null,null,null,null,null,null,null,null,null,null,null,{"$f":"IF(H1287=\"\",\"-\",VLOOKUP(T1287,読み替え表_スマートムーブ!$C$4:$F$13,4,0))","v":"-"},{"$f":"IF(H1287=\"\",\"-\",VLOOKUP(V1287,読み替え表_スマートムーブ!$C$16:$F$21,4,0))","v":"-"},"-",null,null,null,null,0,0,0,0,0,0,"*"]
[null,null,1279,null,null,null,null,null,null,null,null,null,null,null,null,null,null,null,null,null,null,null,null,null,null,null,null,null,null,null,null,null,null,null,null,{"$f":"IF(H1288=\"\",\"-\",VLOOKUP(T1288,読み替え表_スマートムーブ!$C$4:$F$13,4,0))","v":"-"},{"$f":"IF(H1288=\"\",\"-\",VLOOKUP(V1288,読み替え表_スマートムーブ!$C$16:$F$21,4,0))","v":"-"},"-",null,null,null,null,0,0,0,0,0,0,"*"]
[null,null,1280,null,null,null,null,null,null,null,null,null,null,null,null,null,null,null,null,null,null,null,null,null,null,null,null,null,null,null,null,null,null,null,null,{"$f":"IF(H1289=\"\",\"-\",VLOOKUP(T1289,読み替え表_スマートムーブ!$C$4:$F$13,4,0))","v":"-"},{"$f":"IF(H1289=\"\",\"-\",VLOOKUP(V1289,読み替え表_スマートムーブ!$C$16:$F$21,4,0))","v":"-"},"-",null,null,null,null,0,0,0,0,0,0,"*"]
[null,null,1281,null,null,null,null,null,null,null,null,null,null,null,null,null,null,null,null,null,null,null,null,null,null,null,null,null,null,null,null,null,null,null,null,{"$f":"IF(H1290=\"\",\"-\",VLOOKUP(T1290,読み替え表_スマートムーブ!$C$4:$F$13,4,0))","v":"-"},{"$f":"IF(H1290=\"\",\"-\",VLOOKUP(V1290,読み替え表_スマートムーブ!$C$16:$F$21,4,0))","v":"-"},"-",null,null,null,null,0,0,0,0,0,{"$f":"AQ1290","v":0},"*"]
[null,null,{"$f":"ROW()-9","v":1282},null,null,null,null,null,null,null,null,null,null,null,null,null,null,null,null,null,null,null,null,null,null,null,null,null,null,null,null,null,null,null,null,{"$f":"IF(H1291=\"\",\"-\",VLOOKUP(T1291,読み替え表_スマートムーブ!$C$4:$F$13,4,0))","v":"-"},{"$f":"IF(H1291=\"\",\"-\",VLOOKUP(V1291,読み替え表_スマートムーブ!$C$16:$F$21,4,0))","v":"-"},"-",null,null,null,null,{"$f":"IF(SUM($AR1291:$AT1291)>=1,1,0)","v":0},{"$f":"IF(R1291=1,1,0)","v":0},{"$f":"IF(T1291=9,1,0)","v":0},{"$f":"IF(V1291=5,1,0)","v":0},{"$f":"IF(OR($X1291=1,$X1291=2,$X1291=3),1,0)","v":0},0,"*"]
[null,null,1283,null,null,null,null,null,null,null,null,null,null,null,null,null,null,null,null,null,null,null,null,null,null,null,null,null,null,null,null,null,null,null,null,{"$f":"IF(H1292=\"\",\"-\",VLOOKUP(T1292,読み替え表_スマートムーブ!$C$4:$F$13,4,0))","v":"-"},{"$f":"IF(H1292=\"\",\"-\",VLOOKUP(V1292,読み替え表_スマートムーブ!$C$16:$F$21,4,0))","v":"-"},"-",null,null,null,null,0,0,0,0,0,0,"*"]
[null,null,1284,null,null,null,null,null,null,null,null,null,null,null,null,null,null,null,null,null,null,null,null,null,null,null,null,null,null,null,null,null,null,null,null,{"$f":"IF(H1293=\"\",\"-\",VLOOKUP(T1293,読み替え表_スマートムーブ!$C$4:$F$13,4,0))","v":"-"},{"$f":"IF(H1293=\"\",\"-\",VLOOKUP(V1293,読み替え表_スマートムーブ!$C$16:$F$21,4,0))","v":"-"},"-",null,null,null,null,0,0,0,0,0,0,"*"]
[null,null,1285,null,null,null,null,null,null,null,null,null,null,null,null,null,null,null,null,null,null,null,null,null,null,null,null,null,null,null,null,null,null,null,null,{"$f":"IF(H1294=\"\",\"-\",VLOOKUP(T1294,読み替え表_スマートムーブ!$C$4:$F$13,4,0))","v":"-"},{"$f":"IF(H1294=\"\",\"-\",VLOOKUP(V1294,読み替え表_スマートムーブ!$C$16:$F$21,4,0))","v":"-"},"-",null,null,null,null,0,0,0,0,0,0,"*"]
[null,null,1286,null,null,null,null,null,null,null,null,null,null,null,null,null,null,null,null,null,null,null,null,null,null,null,null,null,null,null,null,null,null,null,null,{"$f":"IF(H1295=\"\",\"-\",VLOOKUP(T1295,読み替え表_スマートムーブ!$C$4:$F$13,4,0))","v":"-"},{"$f":"IF(H1295=\"\",\"-\",VLOOKUP(V1295,読み替え表_スマートムーブ!$C$16:$F$21,4,0))","v":"-"},"-",null,null,null,null,0,0,0,0,0,0,"*"]
[null,null,1287,null,null,null,null,null,null,null,null,null,null,null,null,null,null,null,null,null,null,null,null,null,null,null,null,null,null,null,null,null,null,null,null,{"$f":"IF(H1296=\"\",\"-\",VLOOKUP(T1296,読み替え表_スマートムーブ!$C$4:$F$13,4,0))","v":"-"},{"$f":"IF(H1296=\"\",\"-\",VLOOKUP(V1296,読み替え表_スマートムーブ!$C$16:$F$21,4,0))","v":"-"},"-",null,null,null,null,0,0,0,0,0,0,"*"]
[null,null,1288,null,null,null,null,null,null,null,null,null,null,null,null,null,null,null,null,null,null,null,null,null,null,null,null,null,null,null,null,null,null,null,null,{"$f":"IF(H1297=\"\",\"-\",VLOOKUP(T1297,読み替え表_スマートムーブ!$C$4:$F$13,4,0))","v":"-"},{"$f":"IF(H1297=\"\",\"-\",VLOOKUP(V1297,読み替え表_スマートムーブ!$C$16:$F$21,4,0))","v":"-"},"-",null,null,null,null,0,0,0,0,0,0,"*"]
[null,null,1289,null,null,null,null,null,null,null,null,null,null,null,null,null,null,null,null,null,null,null,null,null,null,null,null,null,null,null,null,null,null,null,null,{"$f":"IF(H1298=\"\",\"-\",VLOOKUP(T1298,読み替え表_スマートムーブ!$C$4:$F$13,4,0))","v":"-"},{"$f":"IF(H1298=\"\",\"-\",VLOOKUP(V1298,読み替え表_スマートムーブ!$C$16:$F$21,4,0))","v":"-"},"-",null,null,null,null,0,0,0,0,0,0,"*"]
[null,null,1290,null,null,null,null,null,null,null,null,null,null,null,null,null,null,null,null,null,null,null,null,null,null,null,null,null,null,null,null,null,null,null,null,{"$f":"IF(H1299=\"\",\"-\",VLOOKUP(T1299,読み替え表_スマートムーブ!$C$4:$F$13,4,0))","v":"-"},{"$f":"IF(H1299=\"\",\"-\",VLOOKUP(V1299,読み替え表_スマートムーブ!$C$16:$F$21,4,0))","v":"-"},"-",null,null,null,null,0,0,0,0,0,0,"*"]
[null,null,1291,null,null,null,null,null,null,null,null,null,null,null,null,null,null,null,null,null,null,null,null,null,null,null,null,null,null,null,null,null,null,null,null,{"$f":"IF(H1300=\"\",\"-\",VLOOKUP(T1300,読み替え表_スマートムーブ!$C$4:$F$13,4,0))","v":"-"},{"$f":"IF(H1300=\"\",\"-\",VLOOKUP(V1300,読み替え表_スマートムーブ!$C$16:$F$21,4,0))","v":"-"},"-",null,null,null,null,0,0,0,0,0,0,"*"]
[null,null,1292,null,null,null,null,null,null,null,null,null,null,null,null,null,null,null,null,null,null,null,null,null,null,null,null,null,null,null,null,null,null,null,null,{"$f":"IF(H1301=\"\",\"-\",VLOOKUP(T1301,読み替え表_スマートムーブ!$C$4:$F$13,4,0))","v":"-"},{"$f":"IF(H1301=\"\",\"-\",VLOOKUP(V1301,読み替え表_スマートムーブ!$C$16:$F$21,4,0))","v":"-"},"-",null,null,null,null,0,0,0,0,0,0,"*"]
[null,null,1293,null,null,null,null,null,null,null,null,null,null,null,null,null,null,null,null,null,null,null,null,null,null,null,null,null,null,null,null,null,null,null,null,{"$f":"IF(H1302=\"\",\"-\",VLOOKUP(T1302,読み替え表_スマートムーブ!$C$4:$F$13,4,0))","v":"-"},{"$f":"IF(H1302=\"\",\"-\",VLOOKUP(V1302,読み替え表_スマートムーブ!$C$16:$F$21,4,0))","v":"-"},"-",null,null,null,null,0,0,0,0,0,0,"*"]
[null,null,1294,null,null,null,null,null,null,null,null,null,null,null,null,null,null,null,null,null,null,null,null,null,null,null,null,null,null,null,null,null,null,null,null,{"$f":"IF(H1303=\"\",\"-\",VLOOKUP(T1303,読み替え表_スマートムーブ!$C$4:$F$13,4,0))","v":"-"},{"$f":"IF(H1303=\"\",\"-\",VLOOKUP(V1303,読み替え表_スマートムーブ!$C$16:$F$21,4,0))","v":"-"},"-",null,null,null,null,0,0,0,0,0,0,"*"]
[null,null,1295,null,null,null,null,null,null,null,null,null,null,null,null,null,null,null,null,null,null,null,null,null,null,null,null,null,null,null,null,null,null,null,null,{"$f":"IF(H1304=\"\",\"-\",VLOOKUP(T1304,読み替え表_スマートムーブ!$C$4:$F$13,4,0))","v":"-"},{"$f":"IF(H1304=\"\",\"-\",VLOOKUP(V1304,読み替え表_スマートムーブ!$C$16:$F$21,4,0))","v":"-"},"-",null,null,null,null,0,0,0,0,0,0,"*"]
[null,null,1296,null,null,null,null,null,null,null,null,null,null,null,null,null,null,null,null,null,null,null,null,null,null,null,null,null,null,null,null,null,null,null,null,{"$f":"IF(H1305=\"\",\"-\",VLOOKUP(T1305,読み替え表_スマートムーブ!$C$4:$F$13,4,0))","v":"-"},{"$f":"IF(H1305=\"\",\"-\",VLOOKUP(V1305,読み替え表_スマートムーブ!$C$16:$F$21,4,0))","v":"-"},"-",null,null,null,null,0,0,0,0,0,0,"*"]
[null,null,1297,null,null,null,null,null,null,null,null,null,null,null,null,null,null,null,null,null,null,null,null,null,null,null,null,null,null,null,null,null,null,null,null,{"$f":"IF(H1306=\"\",\"-\",VLOOKUP(T1306,読み替え表_スマートムーブ!$C$4:$F$13,4,0))","v":"-"},{"$f":"IF(H1306=\"\",\"-\",VLOOKUP(V1306,読み替え表_スマートムーブ!$C$16:$F$21,4,0))","v":"-"},"-",null,null,null,null,0,0,0,0,0,0,"*"]
[null,null,1298,null,null,null,null,null,null,null,null,null,null,null,null,null,null,null,null,null,null,null,null,null,null,null,null,null,null,null,null,null,null,null,null,{"$f":"IF(H1307=\"\",\"-\",VLOOKUP(T1307,読み替え表_スマートムーブ!$C$4:$F$13,4,0))","v":"-"},{"$f":"IF(H1307=\"\",\"-\",VLOOKUP(V1307,読み替え表_スマートムーブ!$C$16:$F$21,4,0))","v":"-"},"-",null,null,null,null,0,0,0,0,0,0,"*"]
[null,null,1299,null,null,null,null,null,null,null,null,null,null,null,null,null,null,null,null,null,null,null,null,null,null,null,null,null,null,null,null,null,null,null,null,{"$f":"IF(H1308=\"\",\"-\",VLOOKUP(T1308,読み替え表_スマートムーブ!$C$4:$F$13,4,0))","v":"-"},{"$f":"IF(H1308=\"\",\"-\",VLOOKUP(V1308,読み替え表_スマートムーブ!$C$16:$F$21,4,0))","v":"-"},"-",null,null,null,null,0,0,0,0,0,0,"*"]
[null,null,1300,null,null,null,null,null,null,null,null,null,null,null,null,null,null,null,null,null,null,null,null,null,null,null,null,null,null,null,null,null,null,null,null,{"$f":"IF(H1309=\"\",\"-\",VLOOKUP(T1309,読み替え表_スマートムーブ!$C$4:$F$13,4,0))","v":"-"},{"$f":"IF(H1309=\"\",\"-\",VLOOKUP(V1309,読み替え表_スマートムーブ!$C$16:$F$21,4,0))","v":"-"},"-",null,null,null,null,0,0,0,0,0,0,"*"]
[null,null,1301,null,null,null,null,null,null,null,null,null,null,null,null,null,null,null,null,null,null,null,null,null,null,null,null,null,null,null,null,null,null,null,null,{"$f":"IF(H1310=\"\",\"-\",VLOOKUP(T1310,読み替え表_スマートムーブ!$C$4:$F$13,4,0))","v":"-"},{"$f":"IF(H1310=\"\",\"-\",VLOOKUP(V1310,読み替え表_スマートムーブ!$C$16:$F$21,4,0))","v":"-"},"-",null,null,null,null,0,0,0,0,0,0,"*"]
[null,null,1302,null,null,null,null,null,null,null,null,null,null,null,null,null,null,null,null,null,null,null,null,null,null,null,null,null,null,null,null,null,null,null,null,{"$f":"IF(H1311=\"\",\"-\",VLOOKUP(T1311,読み替え表_スマートムーブ!$C$4:$F$13,4,0))","v":"-"},{"$f":"IF(H1311=\"\",\"-\",VLOOKUP(V1311,読み替え表_スマートムーブ!$C$16:$F$21,4,0))","v":"-"},"-",null,null,null,null,0,0,0,0,0,0,"*"]
[null,null,1303,null,null,null,null,null,null,null,null,null,null,null,null,null,null,null,null,null,null,null,null,null,null,null,null,null,null,null,null,null,null,null,null,{"$f":"IF(H1312=\"\",\"-\",VLOOKUP(T1312,読み替え表_スマートムーブ!$C$4:$F$13,4,0))","v":"-"},{"$f":"IF(H1312=\"\",\"-\",VLOOKUP(V1312,読み替え表_スマートムーブ!$C$16:$F$21,4,0))","v":"-"},"-",null,null,null,null,0,0,0,0,0,0,"*"]
[null,null,1304,null,null,null,null,null,null,null,null,null,null,null,null,null,null,null,null,null,null,null,null,null,null,null,null,null,null,null,null,null,null,null,null,{"$f":"IF(H1313=\"\",\"-\",VLOOKUP(T1313,読み替え表_スマートムーブ!$C$4:$F$13,4,0))","v":"-"},{"$f":"IF(H1313=\"\",\"-\",VLOOKUP(V1313,読み替え表_スマートムーブ!$C$16:$F$21,4,0))","v":"-"},"-",null,null,null,null,0,0,0,0,0,0,"*"]
[null,null,1305,null,null,null,null,null,null,null,null,null,null,null,null,null,null,null,null,null,null,null,null,null,null,null,null,null,null,null,null,null,null,null,null,{"$f":"IF(H1314=\"\",\"-\",VLOOKUP(T1314,読み替え表_スマートムーブ!$C$4:$F$13,4,0))","v":"-"},{"$f":"IF(H1314=\"\",\"-\",VLOOKUP(V1314,読み替え表_スマートムーブ!$C$16:$F$21,4,0))","v":"-"},"-",null,null,null,null,0,0,0,0,0,0,"*"]
[null,null,1306,null,null,null,null,null,null,null,null,null,null,null,null,null,null,null,null,null,null,null,null,null,null,null,null,null,null,null,null,null,null,null,null,{"$f":"IF(H1315=\"\",\"-\",VLOOKUP(T1315,読み替え表_スマートムーブ!$C$4:$F$13,4,0))","v":"-"},{"$f":"IF(H1315=\"\",\"-\",VLOOKUP(V1315,読み替え表_スマートムーブ!$C$16:$F$21,4,0))","v":"-"},"-",null,null,null,null,0,0,0,0,0,0,"*"]
[null,null,1307,null,null,null,null,null,null,null,null,null,null,null,null,null,null,null,null,null,null,null,null,null,null,null,null,null,null,null,null,null,null,null,null,{"$f":"IF(H1316=\"\",\"-\",VLOOKUP(T1316,読み替え表_スマートムーブ!$C$4:$F$13,4,0))","v":"-"},{"$f":"IF(H1316=\"\",\"-\",VLOOKUP(V1316,読み替え表_スマートムーブ!$C$16:$F$21,4,0))","v":"-"},"-",null,null,null,null,0,0,0,0,0,0,"*"]
[null,null,1308,null,null,null,null,null,null,null,null,null,null,null,null,null,null,null,null,null,null,null,null,null,null,null,null,null,null,null,null,null,null,null,null,{"$f":"IF(H1317=\"\",\"-\",VLOOKUP(T1317,読み替え表_スマートムーブ!$C$4:$F$13,4,0))","v":"-"},{"$f":"IF(H1317=\"\",\"-\",VLOOKUP(V1317,読み替え表_スマートムーブ!$C$16:$F$21,4,0))","v":"-"},"-",null,null,null,null,0,0,0,0,0,0,"*"]
[null,null,1309,null,null,null,null,null,null,null,null,null,null,null,null,null,null,null,null,null,null,null,null,null,null,null,null,null,null,null,null,null,null,null,null,{"$f":"IF(H1318=\"\",\"-\",VLOOKUP(T1318,読み替え表_スマートムーブ!$C$4:$F$13,4,0))","v":"-"},{"$f":"IF(H1318=\"\",\"-\",VLOOKUP(V1318,読み替え表_スマートムーブ!$C$16:$F$21,4,0))","v":"-"},"-",null,null,null,null,0,0,0,0,0,0,"*"]
[null,null,1310,null,null,null,null,null,null,null,null,null,null,null,null,null,null,null,null,null,null,null,null,null,null,null,null,null,null,null,null,null,null,null,null,{"$f":"IF(H1319=\"\",\"-\",VLOOKUP(T1319,読み替え表_スマートムーブ!$C$4:$F$13,4,0))","v":"-"},{"$f":"IF(H1319=\"\",\"-\",VLOOKUP(V1319,読み替え表_スマートムーブ!$C$16:$F$21,4,0))","v":"-"},"-",null,null,null,null,0,0,0,0,0,0,"*"]
[null,null,1311,null,null,null,null,null,null,null,null,null,null,null,null,null,null,null,null,null,null,null,null,null,null,null,null,null,null,null,null,null,null,null,null,{"$f":"IF(H1320=\"\",\"-\",VLOOKUP(T1320,読み替え表_スマートムーブ!$C$4:$F$13,4,0))","v":"-"},{"$f":"IF(H1320=\"\",\"-\",VLOOKUP(V1320,読み替え表_スマートムーブ!$C$16:$F$21,4,0))","v":"-"},"-",null,null,null,null,0,0,0,0,0,0,"*"]
[null,null,1312,null,null,null,null,null,null,null,null,null,null,null,null,null,null,null,null,null,null,null,null,null,null,null,null,null,null,null,null,null,null,null,null,{"$f":"IF(H1321=\"\",\"-\",VLOOKUP(T1321,読み替え表_スマートムーブ!$C$4:$F$13,4,0))","v":"-"},{"$f":"IF(H1321=\"\",\"-\",VLOOKUP(V1321,読み替え表_スマートムーブ!$C$16:$F$21,4,0))","v":"-"},"-",null,null,null,null,0,0,0,0,0,0,"*"]
[null,null,1313,null,null,null,null,null,null,null,null,null,null,null,null,null,null,null,null,null,null,null,null,null,null,null,null,null,null,null,null,null,null,null,null,{"$f":"IF(H1322=\"\",\"-\",VLOOKUP(T1322,読み替え表_スマートムーブ!$C$4:$F$13,4,0))","v":"-"},{"$f":"IF(H1322=\"\",\"-\",VLOOKUP(V1322,読み替え表_スマートムーブ!$C$16:$F$21,4,0))","v":"-"},"-",null,null,null,null,0,0,0,0,0,0,"*"]
[null,null,1314,null,null,null,null,null,null,null,null,null,null,null,null,null,null,null,null,null,null,null,null,null,null,null,null,null,null,null,null,null,null,null,null,{"$f":"IF(H1323=\"\",\"-\",VLOOKUP(T1323,読み替え表_スマートムーブ!$C$4:$F$13,4,0))","v":"-"},{"$f":"IF(H1323=\"\",\"-\",VLOOKUP(V1323,読み替え表_スマートムーブ!$C$16:$F$21,4,0))","v":"-"},"-",null,null,null,null,0,0,0,0,0,0,"*"]
[null,null,1315,null,null,null,null,null,null,null,null,null,null,null,null,null,null,null,null,null,null,null,null,null,null,null,null,null,null,null,null,null,null,null,null,{"$f":"IF(H1324=\"\",\"-\",VLOOKUP(T1324,読み替え表_スマートムーブ!$C$4:$F$13,4,0))","v":"-"},{"$f":"IF(H1324=\"\",\"-\",VLOOKUP(V1324,読み替え表_スマートムーブ!$C$16:$F$21,4,0))","v":"-"},"-",null,null,null,null,0,0,0,0,0,0,"*"]
[null,null,1316,null,null,null,null,null,null,null,null,null,null,null,null,null,null,null,null,null,null,null,null,null,null,null,null,null,null,null,null,null,null,null,null,{"$f":"IF(H1325=\"\",\"-\",VLOOKUP(T1325,読み替え表_スマートムーブ!$C$4:$F$13,4,0))","v":"-"},{"$f":"IF(H1325=\"\",\"-\",VLOOKUP(V1325,読み替え表_スマートムーブ!$C$16:$F$21,4,0))","v":"-"},"-",null,null,null,null,0,0,0,0,0,0,"*"]
[null,null,1317,null,null,null,null,null,null,null,null,null,null,null,null,null,null,null,null,null,null,null,null,null,null,null,null,null,null,null,null,null,null,null,null,{"$f":"IF(H1326=\"\",\"-\",VLOOKUP(T1326,読み替え表_スマートムーブ!$C$4:$F$13,4,0))","v":"-"},{"$f":"IF(H1326=\"\",\"-\",VLOOKUP(V1326,読み替え表_スマートムーブ!$C$16:$F$21,4,0))","v":"-"},"-",null,null,null,null,0,0,0,0,0,0,"*"]
[null,null,1318,null,null,null,null,null,null,null,null,null,null,null,null,null,null,null,null,null,null,null,null,null,null,null,null,null,null,null,null,null,null,null,null,{"$f":"IF(H1327=\"\",\"-\",VLOOKUP(T1327,読み替え表_スマートムーブ!$C$4:$F$13,4,0))","v":"-"},{"$f":"IF(H1327=\"\",\"-\",VLOOKUP(V1327,読み替え表_スマートムーブ!$C$16:$F$21,4,0))","v":"-"},"-",null,null,null,null,0,0,0,0,0,0,"*"]
[null,null,1319,null,null,null,null,null,null,null,null,null,null,null,null,null,null,null,null,null,null,null,null,null,null,null,null,null,null,null,null,null,null,null,null,{"$f":"IF(H1328=\"\",\"-\",VLOOKUP(T1328,読み替え表_スマートムーブ!$C$4:$F$13,4,0))","v":"-"},{"$f":"IF(H1328=\"\",\"-\",VLOOKUP(V1328,読み替え表_スマートムーブ!$C$16:$F$21,4,0))","v":"-"},"-",null,null,null,null,0,0,0,0,0,0,"*"]
[null,null,1320,null,null,null,null,null,null,null,null,null,null,null,null,null,null,null,null,null,null,null,null,null,null,null,null,null,null,null,null,null,null,null,null,{"$f":"IF(H1329=\"\",\"-\",VLOOKUP(T1329,読み替え表_スマートムーブ!$C$4:$F$13,4,0))","v":"-"},{"$f":"IF(H1329=\"\",\"-\",VLOOKUP(V1329,読み替え表_スマートムーブ!$C$16:$F$21,4,0))","v":"-"},"-",null,null,null,null,0,0,0,0,0,0,"*"]
[null,null,1321,null,null,null,null,null,null,null,null,null,null,null,null,null,null,null,null,null,null,null,null,null,null,null,null,null,null,null,null,null,null,null,null,{"$f":"IF(H1330=\"\",\"-\",VLOOKUP(T1330,読み替え表_スマートムーブ!$C$4:$F$13,4,0))","v":"-"},{"$f":"IF(H1330=\"\",\"-\",VLOOKUP(V1330,読み替え表_スマートムーブ!$C$16:$F$21,4,0))","v":"-"},{"$f":"IF(H1330=\"\",\"-\",AJ1330*AK1330)","v":"-"},null,null,null,null,0,0,0,0,0,0,"*"]
[null,null,1322,null,null,null,null,null,null,null,null,null,null,null,null,null,null,null,null,null,null,null,null,null,null,null,null,null,null,null,null,null,null,null,null,{"$f":"IF(H1331=\"\",\"-\",VLOOKUP(T1331,読み替え表_スマートムーブ!$C$4:$F$13,4,0))","v":"-"},{"$f":"IF(H1331=\"\",\"-\",VLOOKUP(V1331,読み替え表_スマートムーブ!$C$16:$F$21,4,0))","v":"-"},"-",null,null,null,null,0,0,0,0,0,0,"*"]
[null,null,1323,null,null,null,null,null,null,null,null,null,null,null,null,null,null,null,null,null,null,null,null,null,null,null,null,null,null,null,null,null,null,null,null,{"$f":"IF(H1332=\"\",\"-\",VLOOKUP(T1332,読み替え表_スマートムーブ!$C$4:$F$13,4,0))","v":"-"},{"$f":"IF(H1332=\"\",\"-\",VLOOKUP(V1332,読み替え表_スマートムーブ!$C$16:$F$21,4,0))","v":"-"},"-",null,null,null,null,0,0,0,0,0,0,"*"]
[null,null,1324,null,null,null,null,null,null,null,null,null,null,null,null,null,null,null,null,null,null,null,null,null,null,null,null,null,null,null,null,null,null,null,null,{"$f":"IF(H1333=\"\",\"-\",VLOOKUP(T1333,読み替え表_スマートムーブ!$C$4:$F$13,4,0))","v":"-"},{"$f":"IF(H1333=\"\",\"-\",VLOOKUP(V1333,読み替え表_スマートムーブ!$C$16:$F$21,4,0))","v":"-"},"-",null,null,null,null,0,0,0,0,0,0,"*"]
[null,null,1325,null,null,null,null,null,null,null,null,null,null,null,null,null,null,null,null,null,null,null,null,null,null,null,null,null,null,null,null,null,null,null,null,{"$f":"IF(H1334=\"\",\"-\",VLOOKUP(T1334,読み替え表_スマートムーブ!$C$4:$F$13,4,0))","v":"-"},{"$f":"IF(H1334=\"\",\"-\",VLOOKUP(V1334,読み替え表_スマートムーブ!$C$16:$F$21,4,0))","v":"-"},"-",null,null,null,null,0,0,0,0,0,0,"*"]
[null,null,1326,null,null,null,null,null,null,null,null,null,null,null,null,null,null,null,null,null,null,null,null,null,null,null,null,null,null,null,null,null,null,null,null,{"$f":"IF(H1335=\"\",\"-\",VLOOKUP(T1335,読み替え表_スマートムーブ!$C$4:$F$13,4,0))","v":"-"},{"$f":"IF(H1335=\"\",\"-\",VLOOKUP(V1335,読み替え表_スマートムーブ!$C$16:$F$21,4,0))","v":"-"},"-",null,null,null,null,0,0,0,0,0,0,"*"]
[null,null,1327,null,null,null,null,null,null,null,null,null,null,null,null,null,null,null,null,null,null,null,null,null,null,null,null,null,null,null,null,null,null,null,null,{"$f":"IF(H1336=\"\",\"-\",VLOOKUP(T1336,読み替え表_スマートムーブ!$C$4:$F$13,4,0))","v":"-"},{"$f":"IF(H1336=\"\",\"-\",VLOOKUP(V1336,読み替え表_スマートムーブ!$C$16:$F$21,4,0))","v":"-"},"-",null,null,null,null,0,0,0,0,0,0,"*"]
[null,null,1328,null,null,null,null,null,null,null,null,null,null,null,null,null,null,null,null,null,null,null,null,null,null,null,null,null,null,null,null,null,null,null,null,{"$f":"IF(H1337=\"\",\"-\",VLOOKUP(T1337,読み替え表_スマートムーブ!$C$4:$F$13,4,0))","v":"-"},{"$f":"IF(H1337=\"\",\"-\",VLOOKUP(V1337,読み替え表_スマートムーブ!$C$16:$F$21,4,0))","v":"-"},"-",null,null,null,null,0,0,0,0,0,0,"*"]
[null,null,1329,null,null,null,null,null,null,null,null,null,null,null,null,null,null,null,null,null,null,null,null,null,null,null,null,null,null,null,null,null,null,null,null,{"$f":"IF(H1338=\"\",\"-\",VLOOKUP(T1338,読み替え表_スマートムーブ!$C$4:$F$13,4,0))","v":"-"},{"$f":"IF(H1338=\"\",\"-\",VLOOKUP(V1338,読み替え表_スマートムーブ!$C$16:$F$21,4,0))","v":"-"},"-",null,null,null,null,0,0,0,0,0,0,"*"]
[null,null,1330,null,null,null,null,null,null,null,null,null,null,null,null,null,null,null,null,null,null,null,null,null,null,null,null,null,null,null,null,null,null,null,null,{"$f":"IF(H1339=\"\",\"-\",VLOOKUP(T1339,読み替え表_スマートムーブ!$C$4:$F$13,4,0))","v":"-"},{"$f":"IF(H1339=\"\",\"-\",VLOOKUP(V1339,読み替え表_スマートムーブ!$C$16:$F$21,4,0))","v":"-"},"-",null,null,null,null,0,0,0,0,0,0,"*"]
[null,null,1331,null,null,null,null,null,null,null,null,null,null,null,null,null,null,null,null,null,null,null,null,null,null,null,null,null,null,null,null,null,null,null,null,{"$f":"IF(H1340=\"\",\"-\",VLOOKUP(T1340,読み替え表_スマートムーブ!$C$4:$F$13,4,0))","v":"-"},{"$f":"IF(H1340=\"\",\"-\",VLOOKUP(V1340,読み替え表_スマートムーブ!$C$16:$F$21,4,0))","v":"-"},"-",null,null,null,null,0,0,0,0,0,0,"*"]
[null,null,1332,null,null,null,null,null,null,null,null,null,null,null,null,null,null,null,null,null,null,null,null,null,null,null,null,null,null,null,null,null,null,null,null,{"$f":"IF(H1341=\"\",\"-\",VLOOKUP(T1341,読み替え表_スマートムーブ!$C$4:$F$13,4,0))","v":"-"},{"$f":"IF(H1341=\"\",\"-\",VLOOKUP(V1341,読み替え表_スマートムーブ!$C$16:$F$21,4,0))","v":"-"},"-",null,null,null,null,0,0,0,0,0,0,"*"]
[null,null,1333,null,null,null,null,null,null,null,null,null,null,null,null,null,null,null,null,null,null,null,null,null,null,null,null,null,null,null,null,null,null,null,null,{"$f":"IF(H1342=\"\",\"-\",VLOOKUP(T1342,読み替え表_スマートムーブ!$C$4:$F$13,4,0))","v":"-"},{"$f":"IF(H1342=\"\",\"-\",VLOOKUP(V1342,読み替え表_スマートムーブ!$C$16:$F$21,4,0))","v":"-"},"-",null,null,null,null,0,0,0,0,0,0,"*"]
[null,null,1334,null,null,null,null,null,null,null,null,null,null,null,null,null,null,null,null,null,null,null,null,null,null,null,null,null,null,null,null,null,null,null,null,{"$f":"IF(H1343=\"\",\"-\",VLOOKUP(T1343,読み替え表_スマートムーブ!$C$4:$F$13,4,0))","v":"-"},{"$f":"IF(H1343=\"\",\"-\",VLOOKUP(V1343,読み替え表_スマートムーブ!$C$16:$F$21,4,0))","v":"-"},"-",null,null,null,null,0,0,0,0,0,0,"*"]
[null,null,1335,null,null,null,null,null,null,null,null,null,null,null,null,null,null,null,null,null,null,null,null,null,null,null,null,null,null,null,null,null,null,null,null,{"$f":"IF(H1344=\"\",\"-\",VLOOKUP(T1344,読み替え表_スマートムーブ!$C$4:$F$13,4,0))","v":"-"},{"$f":"IF(H1344=\"\",\"-\",VLOOKUP(V1344,読み替え表_スマートムーブ!$C$16:$F$21,4,0))","v":"-"},"-",null,null,null,null,0,0,0,0,0,0,"*"]
[null,null,1336,null,null,null,null,null,null,null,null,null,null,null,null,null,null,null,null,null,null,null,null,null,null,null,null,null,null,null,null,null,null,null,null,{"$f":"IF(H1345=\"\",\"-\",VLOOKUP(T1345,読み替え表_スマートムーブ!$C$4:$F$13,4,0))","v":"-"},{"$f":"IF(H1345=\"\",\"-\",VLOOKUP(V1345,読み替え表_スマートムーブ!$C$16:$F$21,4,0))","v":"-"},"-",null,null,null,null,0,0,0,0,0,0,"*"]
[null,null,1337,null,null,null,null,null,null,null,null,null,null,null,null,null,null,null,null,null,null,null,null,null,null,null,null,null,null,null,null,null,null,null,null,{"$f":"IF(H1346=\"\",\"-\",VLOOKUP(T1346,読み替え表_スマートムーブ!$C$4:$F$13,4,0))","v":"-"},{"$f":"IF(H1346=\"\",\"-\",VLOOKUP(V1346,読み替え表_スマートムーブ!$C$16:$F$21,4,0))","v":"-"},"-",null,null,null,null,0,0,0,0,0,0,"*"]
[null,null,1338,null,null,null,null,null,null,null,null,null,null,null,null,null,null,null,null,null,null,null,null,null,null,null,null,null,null,null,null,null,null,null,null,{"$f":"IF(H1347=\"\",\"-\",VLOOKUP(T1347,読み替え表_スマートムーブ!$C$4:$F$13,4,0))","v":"-"},{"$f":"IF(H1347=\"\",\"-\",VLOOKUP(V1347,読み替え表_スマートムーブ!$C$16:$F$21,4,0))","v":"-"},"-",null,null,null,null,0,0,0,0,0,0,"*"]
[null,null,1339,null,null,null,null,null,null,null,null,null,null,null,null,null,null,null,null,null,null,null,null,null,null,null,null,null,null,null,null,null,null,null,null,{"$f":"IF(H1348=\"\",\"-\",VLOOKUP(T1348,読み替え表_スマートムーブ!$C$4:$F$13,4,0))","v":"-"},{"$f":"IF(H1348=\"\",\"-\",VLOOKUP(V1348,読み替え表_スマートムーブ!$C$16:$F$21,4,0))","v":"-"},"-",null,null,null,null,0,0,0,0,0,0,"*"]
[null,null,1340,null,null,null,null,null,null,null,null,null,null,null,null,null,null,null,null,null,null,null,null,null,null,null,null,null,null,null,null,null,null,null,null,{"$f":"IF(H1349=\"\",\"-\",VLOOKUP(T1349,読み替え表_スマートムーブ!$C$4:$F$13,4,0))","v":"-"},{"$f":"IF(H1349=\"\",\"-\",VLOOKUP(V1349,読み替え表_スマートムーブ!$C$16:$F$21,4,0))","v":"-"},"-",null,null,null,null,0,0,0,0,0,0,"*"]
[null,null,1341,null,null,null,null,null,null,null,null,null,null,null,null,null,null,null,null,null,null,null,null,null,null,null,null,null,null,null,null,null,null,null,null,{"$f":"IF(H1350=\"\",\"-\",VLOOKUP(T1350,読み替え表_スマートムーブ!$C$4:$F$13,4,0))","v":"-"},{"$f":"IF(H1350=\"\",\"-\",VLOOKUP(V1350,読み替え表_スマートムーブ!$C$16:$F$21,4,0))","v":"-"},"-",null,null,null,null,0,0,0,0,0,0,"*"]
[null,null,1342,null,null,null,null,null,null,null,null,null,null,null,null,null,null,null,null,null,null,null,null,null,null,null,null,null,null,null,null,null,null,null,null,{"$f":"IF(H1351=\"\",\"-\",VLOOKUP(T1351,読み替え表_スマートムーブ!$C$4:$F$13,4,0))","v":"-"},{"$f":"IF(H1351=\"\",\"-\",VLOOKUP(V1351,読み替え表_スマートムーブ!$C$16:$F$21,4,0))","v":"-"},"-",null,null,null,null,0,0,0,0,0,0,"*"]
[null,null,1343,null,null,null,null,null,null,null,null,null,null,null,null,null,null,null,null,null,null,null,null,null,null,null,null,null,null,null,null,null,null,null,null,{"$f":"IF(H1352=\"\",\"-\",VLOOKUP(T1352,読み替え表_スマートムーブ!$C$4:$F$13,4,0))","v":"-"},{"$f":"IF(H1352=\"\",\"-\",VLOOKUP(V1352,読み替え表_スマートムーブ!$C$16:$F$21,4,0))","v":"-"},"-",null,null,null,null,0,0,0,0,0,0,"*"]
[null,null,1344,null,null,null,null,null,null,null,null,null,null,null,null,null,null,null,null,null,null,null,null,null,null,null,null,null,null,null,null,null,null,null,null,{"$f":"IF(H1353=\"\",\"-\",VLOOKUP(T1353,読み替え表_スマートムーブ!$C$4:$F$13,4,0))","v":"-"},{"$f":"IF(H1353=\"\",\"-\",VLOOKUP(V1353,読み替え表_スマートムーブ!$C$16:$F$21,4,0))","v":"-"},"-",null,null,null,null,0,0,0,0,0,0,"*"]
[null,null,1345,null,null,null,null,null,null,null,null,null,null,null,null,null,null,null,null,null,null,null,null,null,null,null,null,null,null,null,null,null,null,null,null,{"$f":"IF(H1354=\"\",\"-\",VLOOKUP(T1354,読み替え表_スマートムーブ!$C$4:$F$13,4,0))","v":"-"},{"$f":"IF(H1354=\"\",\"-\",VLOOKUP(V1354,読み替え表_スマートムーブ!$C$16:$F$21,4,0))","v":"-"},"-",null,null,null,null,0,0,0,0,0,{"$f":"AQ1354","v":0},"*"]
[null,null,{"$f":"ROW()-9","v":1346},null,null,null,null,null,null,null,null,null,null,null,null,null,null,null,null,null,null,null,null,null,null,null,null,null,null,null,null,null,null,null,null,{"$f":"IF(H1355=\"\",\"-\",VLOOKUP(T1355,読み替え表_スマートムーブ!$C$4:$F$13,4,0))","v":"-"},{"$f":"IF(H1355=\"\",\"-\",VLOOKUP(V1355,読み替え表_スマートムーブ!$C$16:$F$21,4,0))","v":"-"},"-",null,null,null,null,{"$f":"IF(SUM($AR1355:$AT1355)>=1,1,0)","v":0},{"$f":"IF(R1355=1,1,0)","v":0},{"$f":"IF(T1355=9,1,0)","v":0},{"$f":"IF(V1355=5,1,0)","v":0},{"$f":"IF(OR($X1355=1,$X1355=2,$X1355=3),1,0)","v":0},0,"*"]
[null,null,1347,null,null,null,null,null,null,null,null,null,null,null,null,null,null,null,null,null,null,null,null,null,null,null,null,null,null,null,null,null,null,null,null,{"$f":"IF(H1356=\"\",\"-\",VLOOKUP(T1356,読み替え表_スマートムーブ!$C$4:$F$13,4,0))","v":"-"},{"$f":"IF(H1356=\"\",\"-\",VLOOKUP(V1356,読み替え表_スマートムーブ!$C$16:$F$21,4,0))","v":"-"},"-",null,null,null,null,0,0,0,0,0,0,"*"]
[null,null,1348,null,null,null,null,null,null,null,null,null,null,null,null,null,null,null,null,null,null,null,null,null,null,null,null,null,null,null,null,null,null,null,null,{"$f":"IF(H1357=\"\",\"-\",VLOOKUP(T1357,読み替え表_スマートムーブ!$C$4:$F$13,4,0))","v":"-"},{"$f":"IF(H1357=\"\",\"-\",VLOOKUP(V1357,読み替え表_スマートムーブ!$C$16:$F$21,4,0))","v":"-"},"-",null,null,null,null,0,0,0,0,0,0,"*"]
[null,null,1349,null,null,null,null,null,null,null,null,null,null,null,null,null,null,null,null,null,null,null,null,null,null,null,null,null,null,null,null,null,null,null,null,{"$f":"IF(H1358=\"\",\"-\",VLOOKUP(T1358,読み替え表_スマートムーブ!$C$4:$F$13,4,0))","v":"-"},{"$f":"IF(H1358=\"\",\"-\",VLOOKUP(V1358,読み替え表_スマートムーブ!$C$16:$F$21,4,0))","v":"-"},"-",null,null,null,null,0,0,0,0,0,0,"*"]
[null,null,1350,null,null,null,null,null,null,null,null,null,null,null,null,null,null,null,null,null,null,null,null,null,null,null,null,null,null,null,null,null,null,null,null,{"$f":"IF(H1359=\"\",\"-\",VLOOKUP(T1359,読み替え表_スマートムーブ!$C$4:$F$13,4,0))","v":"-"},{"$f":"IF(H1359=\"\",\"-\",VLOOKUP(V1359,読み替え表_スマートムーブ!$C$16:$F$21,4,0))","v":"-"},"-",null,null,null,null,0,0,0,0,0,0,"*"]
[null,null,1351,null,null,null,null,null,null,null,null,null,null,null,null,null,null,null,null,null,null,null,null,null,null,null,null,null,null,null,null,null,null,null,null,{"$f":"IF(H1360=\"\",\"-\",VLOOKUP(T1360,読み替え表_スマートムーブ!$C$4:$F$13,4,0))","v":"-"},{"$f":"IF(H1360=\"\",\"-\",VLOOKUP(V1360,読み替え表_スマートムーブ!$C$16:$F$21,4,0))","v":"-"},"-",null,null,null,null,0,0,0,0,0,0,"*"]
[null,null,1352,null,null,null,null,null,null,null,null,null,null,null,null,null,null,null,null,null,null,null,null,null,null,null,null,null,null,null,null,null,null,null,null,{"$f":"IF(H1361=\"\",\"-\",VLOOKUP(T1361,読み替え表_スマートムーブ!$C$4:$F$13,4,0))","v":"-"},{"$f":"IF(H1361=\"\",\"-\",VLOOKUP(V1361,読み替え表_スマートムーブ!$C$16:$F$21,4,0))","v":"-"},"-",null,null,null,null,0,0,0,0,0,0,"*"]
[null,null,1353,null,null,null,null,null,null,null,null,null,null,null,null,null,null,null,null,null,null,null,null,null,null,null,null,null,null,null,null,null,null,null,null,{"$f":"IF(H1362=\"\",\"-\",VLOOKUP(T1362,読み替え表_スマートムーブ!$C$4:$F$13,4,0))","v":"-"},{"$f":"IF(H1362=\"\",\"-\",VLOOKUP(V1362,読み替え表_スマートムーブ!$C$16:$F$21,4,0))","v":"-"},"-",null,null,null,null,0,0,0,0,0,0,"*"]
[null,null,1354,null,null,null,null,null,null,null,null,null,null,null,null,null,null,null,null,null,null,null,null,null,null,null,null,null,null,null,null,null,null,null,null,{"$f":"IF(H1363=\"\",\"-\",VLOOKUP(T1363,読み替え表_スマートムーブ!$C$4:$F$13,4,0))","v":"-"},{"$f":"IF(H1363=\"\",\"-\",VLOOKUP(V1363,読み替え表_スマートムーブ!$C$16:$F$21,4,0))","v":"-"},"-",null,null,null,null,0,0,0,0,0,0,"*"]
[null,null,1355,null,null,null,null,null,null,null,null,null,null,null,null,null,null,null,null,null,null,null,null,null,null,null,null,null,null,null,null,null,null,null,null,{"$f":"IF(H1364=\"\",\"-\",VLOOKUP(T1364,読み替え表_スマートムーブ!$C$4:$F$13,4,0))","v":"-"},{"$f":"IF(H1364=\"\",\"-\",VLOOKUP(V1364,読み替え表_スマートムーブ!$C$16:$F$21,4,0))","v":"-"},"-",null,null,null,null,0,0,0,0,0,0,"*"]
[null,null,1356,null,null,null,null,null,null,null,null,null,null,null,null,null,null,null,null,null,null,null,null,null,null,null,null,null,null,null,null,null,null,null,null,{"$f":"IF(H1365=\"\",\"-\",VLOOKUP(T1365,読み替え表_スマートムーブ!$C$4:$F$13,4,0))","v":"-"},{"$f":"IF(H1365=\"\",\"-\",VLOOKUP(V1365,読み替え表_スマートムーブ!$C$16:$F$21,4,0))","v":"-"},"-",null,null,null,null,0,0,0,0,0,0,"*"]
[null,null,1357,null,null,null,null,null,null,null,null,null,null,null,null,null,null,null,null,null,null,null,null,null,null,null,null,null,null,null,null,null,null,null,null,{"$f":"IF(H1366=\"\",\"-\",VLOOKUP(T1366,読み替え表_スマートムーブ!$C$4:$F$13,4,0))","v":"-"},{"$f":"IF(H1366=\"\",\"-\",VLOOKUP(V1366,読み替え表_スマートムーブ!$C$16:$F$21,4,0))","v":"-"},"-",null,null,null,null,0,0,0,0,0,0,"*"]
[null,null,1358,null,null,null,null,null,null,null,null,null,null,null,null,null,null,null,null,null,null,null,null,null,null,null,null,null,null,null,null,null,null,null,null,{"$f":"IF(H1367=\"\",\"-\",VLOOKUP(T1367,読み替え表_スマートムーブ!$C$4:$F$13,4,0))","v":"-"},{"$f":"IF(H1367=\"\",\"-\",VLOOKUP(V1367,読み替え表_スマートムーブ!$C$16:$F$21,4,0))","v":"-"},"-",null,null,null,null,0,0,0,0,0,0,"*"]
[null,null,1359,null,null,null,null,null,null,null,null,null,null,null,null,null,null,null,null,null,null,null,null,null,null,null,null,null,null,null,null,null,null,null,null,{"$f":"IF(H1368=\"\",\"-\",VLOOKUP(T1368,読み替え表_スマートムーブ!$C$4:$F$13,4,0))","v":"-"},{"$f":"IF(H1368=\"\",\"-\",VLOOKUP(V1368,読み替え表_スマートムーブ!$C$16:$F$21,4,0))","v":"-"},"-",null,null,null,null,0,0,0,0,0,0,"*"]
[null,null,1360,null,null,null,null,null,null,null,null,null,null,null,null,null,null,null,null,null,null,null,null,null,null,null,null,null,null,null,null,null,null,null,null,{"$f":"IF(H1369=\"\",\"-\",VLOOKUP(T1369,読み替え表_スマートムーブ!$C$4:$F$13,4,0))","v":"-"},{"$f":"IF(H1369=\"\",\"-\",VLOOKUP(V1369,読み替え表_スマートムーブ!$C$16:$F$21,4,0))","v":"-"},"-",null,null,null,null,0,0,0,0,0,0,"*"]
[null,null,1361,null,null,null,null,null,null,null,null,null,null,null,null,null,null,null,null,null,null,null,null,null,null,null,null,null,null,null,null,null,null,null,null,{"$f":"IF(H1370=\"\",\"-\",VLOOKUP(T1370,読み替え表_スマートムーブ!$C$4:$F$13,4,0))","v":"-"},{"$f":"IF(H1370=\"\",\"-\",VLOOKUP(V1370,読み替え表_スマートムーブ!$C$16:$F$21,4,0))","v":"-"},"-",null,null,null,null,0,0,0,0,0,0,"*"]
[null,null,1362,null,null,null,null,null,null,null,null,null,null,null,null,null,null,null,null,null,null,null,null,null,null,null,null,null,null,null,null,null,null,null,null,{"$f":"IF(H1371=\"\",\"-\",VLOOKUP(T1371,読み替え表_スマートムーブ!$C$4:$F$13,4,0))","v":"-"},{"$f":"IF(H1371=\"\",\"-\",VLOOKUP(V1371,読み替え表_スマートムーブ!$C$16:$F$21,4,0))","v":"-"},"-",null,null,null,null,0,0,0,0,0,0,"*"]
[null,null,1363,null,null,null,null,null,null,null,null,null,null,null,null,null,null,null,null,null,null,null,null,null,null,null,null,null,null,null,null,null,null,null,null,{"$f":"IF(H1372=\"\",\"-\",VLOOKUP(T1372,読み替え表_スマートムーブ!$C$4:$F$13,4,0))","v":"-"},{"$f":"IF(H1372=\"\",\"-\",VLOOKUP(V1372,読み替え表_スマートムーブ!$C$16:$F$21,4,0))","v":"-"},"-",null,null,null,null,0,0,0,0,0,0,"*"]
[null,null,1364,null,null,null,null,null,null,null,null,null,null,null,null,null,null,null,null,null,null,null,null,null,null,null,null,null,null,null,null,null,null,null,null,{"$f":"IF(H1373=\"\",\"-\",VLOOKUP(T1373,読み替え表_スマートムーブ!$C$4:$F$13,4,0))","v":"-"},{"$f":"IF(H1373=\"\",\"-\",VLOOKUP(V1373,読み替え表_スマートムーブ!$C$16:$F$21,4,0))","v":"-"},"-",null,null,null,null,0,0,0,0,0,0,"*"]
[null,null,1365,null,null,null,null,null,null,null,null,null,null,null,null,null,null,null,null,null,null,null,null,null,null,null,null,null,null,null,null,null,null,null,null,{"$f":"IF(H1374=\"\",\"-\",VLOOKUP(T1374,読み替え表_スマートムーブ!$C$4:$F$13,4,0))","v":"-"},{"$f":"IF(H1374=\"\",\"-\",VLOOKUP(V1374,読み替え表_スマートムーブ!$C$16:$F$21,4,0))","v":"-"},"-",null,null,null,null,0,0,0,0,0,0,"*"]
[null,null,1366,null,null,null,null,null,null,null,null,null,null,null,null,null,null,null,null,null,null,null,null,null,null,null,null,null,null,null,null,null,null,null,null,{"$f":"IF(H1375=\"\",\"-\",VLOOKUP(T1375,読み替え表_スマートムーブ!$C$4:$F$13,4,0))","v":"-"},{"$f":"IF(H1375=\"\",\"-\",VLOOKUP(V1375,読み替え表_スマートムーブ!$C$16:$F$21,4,0))","v":"-"},"-",null,null,null,null,0,0,0,0,0,0,"*"]
[null,null,1367,null,null,null,null,null,null,null,null,null,null,null,null,null,null,null,null,null,null,null,null,null,null,null,null,null,null,null,null,null,null,null,null,{"$f":"IF(H1376=\"\",\"-\",VLOOKUP(T1376,読み替え表_スマートムーブ!$C$4:$F$13,4,0))","v":"-"},{"$f":"IF(H1376=\"\",\"-\",VLOOKUP(V1376,読み替え表_スマートムーブ!$C$16:$F$21,4,0))","v":"-"},"-",null,null,null,null,0,0,0,0,0,0,"*"]
[null,null,1368,null,null,null,null,null,null,null,null,null,null,null,null,null,null,null,null,null,null,null,null,null,null,null,null,null,null,null,null,null,null,null,null,{"$f":"IF(H1377=\"\",\"-\",VLOOKUP(T1377,読み替え表_スマートムーブ!$C$4:$F$13,4,0))","v":"-"},{"$f":"IF(H1377=\"\",\"-\",VLOOKUP(V1377,読み替え表_スマートムーブ!$C$16:$F$21,4,0))","v":"-"},"-",null,null,null,null,0,0,0,0,0,0,"*"]
[null,null,1369,null,null,null,null,null,null,null,null,null,null,null,null,null,null,null,null,null,null,null,null,null,null,null,null,null,null,null,null,null,null,null,null,{"$f":"IF(H1378=\"\",\"-\",VLOOKUP(T1378,読み替え表_スマートムーブ!$C$4:$F$13,4,0))","v":"-"},{"$f":"IF(H1378=\"\",\"-\",VLOOKUP(V1378,読み替え表_スマートムーブ!$C$16:$F$21,4,0))","v":"-"},"-",null,null,null,null,0,0,0,0,0,0,"*"]
[null,null,1370,null,null,null,null,null,null,null,null,null,null,null,null,null,null,null,null,null,null,null,null,null,null,null,null,null,null,null,null,null,null,null,null,{"$f":"IF(H1379=\"\",\"-\",VLOOKUP(T1379,読み替え表_スマートムーブ!$C$4:$F$13,4,0))","v":"-"},{"$f":"IF(H1379=\"\",\"-\",VLOOKUP(V1379,読み替え表_スマートムーブ!$C$16:$F$21,4,0))","v":"-"},"-",null,null,null,null,0,0,0,0,0,0,"*"]
[null,null,1371,null,null,null,null,null,null,null,null,null,null,null,null,null,null,null,null,null,null,null,null,null,null,null,null,null,null,null,null,null,null,null,null,{"$f":"IF(H1380=\"\",\"-\",VLOOKUP(T1380,読み替え表_スマートムーブ!$C$4:$F$13,4,0))","v":"-"},{"$f":"IF(H1380=\"\",\"-\",VLOOKUP(V1380,読み替え表_スマートムーブ!$C$16:$F$21,4,0))","v":"-"},"-",null,null,null,null,0,0,0,0,0,0,"*"]
[null,null,1372,null,null,null,null,null,null,null,null,null,null,null,null,null,null,null,null,null,null,null,null,null,null,null,null,null,null,null,null,null,null,null,null,{"$f":"IF(H1381=\"\",\"-\",VLOOKUP(T1381,読み替え表_スマートムーブ!$C$4:$F$13,4,0))","v":"-"},{"$f":"IF(H1381=\"\",\"-\",VLOOKUP(V1381,読み替え表_スマートムーブ!$C$16:$F$21,4,0))","v":"-"},"-",null,null,null,null,0,0,0,0,0,0,"*"]
[null,null,1373,null,null,null,null,null,null,null,null,null,null,null,null,null,null,null,null,null,null,null,null,null,null,null,null,null,null,null,null,null,null,null,null,{"$f":"IF(H1382=\"\",\"-\",VLOOKUP(T1382,読み替え表_スマートムーブ!$C$4:$F$13,4,0))","v":"-"},{"$f":"IF(H1382=\"\",\"-\",VLOOKUP(V1382,読み替え表_スマートムーブ!$C$16:$F$21,4,0))","v":"-"},"-",null,null,null,null,0,0,0,0,0,0,"*"]
[null,null,1374,null,null,null,null,null,null,null,null,null,null,null,null,null,null,null,null,null,null,null,null,null,null,null,null,null,null,null,null,null,null,null,null,{"$f":"IF(H1383=\"\",\"-\",VLOOKUP(T1383,読み替え表_スマートムーブ!$C$4:$F$13,4,0))","v":"-"},{"$f":"IF(H1383=\"\",\"-\",VLOOKUP(V1383,読み替え表_スマートムーブ!$C$16:$F$21,4,0))","v":"-"},"-",null,null,null,null,0,0,0,0,0,0,"*"]
[null,null,1375,null,null,null,null,null,null,null,null,null,null,null,null,null,null,null,null,null,null,null,null,null,null,null,null,null,null,null,null,null,null,null,null,{"$f":"IF(H1384=\"\",\"-\",VLOOKUP(T1384,読み替え表_スマートムーブ!$C$4:$F$13,4,0))","v":"-"},{"$f":"IF(H1384=\"\",\"-\",VLOOKUP(V1384,読み替え表_スマートムーブ!$C$16:$F$21,4,0))","v":"-"},"-",null,null,null,null,0,0,0,0,0,0,"*"]
[null,null,1376,null,null,null,null,null,null,null,null,null,null,null,null,null,null,null,null,null,null,null,null,null,null,null,null,null,null,null,null,null,null,null,null,{"$f":"IF(H1385=\"\",\"-\",VLOOKUP(T1385,読み替え表_スマートムーブ!$C$4:$F$13,4,0))","v":"-"},{"$f":"IF(H1385=\"\",\"-\",VLOOKUP(V1385,読み替え表_スマートムーブ!$C$16:$F$21,4,0))","v":"-"},"-",null,null,null,null,0,0,0,0,0,0,"*"]
[null,null,1377,null,null,null,null,null,null,null,null,null,null,null,null,null,null,null,null,null,null,null,null,null,null,null,null,null,null,null,null,null,null,null,null,{"$f":"IF(H1386=\"\",\"-\",VLOOKUP(T1386,読み替え表_スマートムーブ!$C$4:$F$13,4,0))","v":"-"},{"$f":"IF(H1386=\"\",\"-\",VLOOKUP(V1386,読み替え表_スマートムーブ!$C$16:$F$21,4,0))","v":"-"},"-",null,null,null,null,0,0,0,0,0,0,"*"]
[null,null,1378,null,null,null,null,null,null,null,null,null,null,null,null,null,null,null,null,null,null,null,null,null,null,null,null,null,null,null,null,null,null,null,null,{"$f":"IF(H1387=\"\",\"-\",VLOOKUP(T1387,読み替え表_スマートムーブ!$C$4:$F$13,4,0))","v":"-"},{"$f":"IF(H1387=\"\",\"-\",VLOOKUP(V1387,読み替え表_スマートムーブ!$C$16:$F$21,4,0))","v":"-"},"-",null,null,null,null,0,0,0,0,0,0,"*"]
[null,null,1379,null,null,null,null,null,null,null,null,null,null,null,null,null,null,null,null,null,null,null,null,null,null,null,null,null,null,null,null,null,null,null,null,{"$f":"IF(H1388=\"\",\"-\",VLOOKUP(T1388,読み替え表_スマートムーブ!$C$4:$F$13,4,0))","v":"-"},{"$f":"IF(H1388=\"\",\"-\",VLOOKUP(V1388,読み替え表_スマートムーブ!$C$16:$F$21,4,0))","v":"-"},"-",null,null,null,null,0,0,0,0,0,0,"*"]
[null,null,1380,null,null,null,null,null,null,null,null,null,null,null,null,null,null,null,null,null,null,null,null,null,null,null,null,null,null,null,null,null,null,null,null,{"$f":"IF(H1389=\"\",\"-\",VLOOKUP(T1389,読み替え表_スマートムーブ!$C$4:$F$13,4,0))","v":"-"},{"$f":"IF(H1389=\"\",\"-\",VLOOKUP(V1389,読み替え表_スマートムーブ!$C$16:$F$21,4,0))","v":"-"},"-",null,null,null,null,0,0,0,0,0,0,"*"]
[null,null,1381,null,null,null,null,null,null,null,null,null,null,null,null,null,null,null,null,null,null,null,null,null,null,null,null,null,null,null,null,null,null,null,null,{"$f":"IF(H1390=\"\",\"-\",VLOOKUP(T1390,読み替え表_スマートムーブ!$C$4:$F$13,4,0))","v":"-"},{"$f":"IF(H1390=\"\",\"-\",VLOOKUP(V1390,読み替え表_スマートムーブ!$C$16:$F$21,4,0))","v":"-"},"-",null,null,null,null,0,0,0,0,0,0,"*"]
[null,null,1382,null,null,null,null,null,null,null,null,null,null,null,null,null,null,null,null,null,null,null,null,null,null,null,null,null,null,null,null,null,null,null,null,{"$f":"IF(H1391=\"\",\"-\",VLOOKUP(T1391,読み替え表_スマートムーブ!$C$4:$F$13,4,0))","v":"-"},{"$f":"IF(H1391=\"\",\"-\",VLOOKUP(V1391,読み替え表_スマートムーブ!$C$16:$F$21,4,0))","v":"-"},"-",null,null,null,null,0,0,0,0,0,0,"*"]
[null,null,1383,null,null,null,null,null,null,null,null,null,null,null,null,null,null,null,null,null,null,null,null,null,null,null,null,null,null,null,null,null,null,null,null,{"$f":"IF(H1392=\"\",\"-\",VLOOKUP(T1392,読み替え表_スマートムーブ!$C$4:$F$13,4,0))","v":"-"},{"$f":"IF(H1392=\"\",\"-\",VLOOKUP(V1392,読み替え表_スマートムーブ!$C$16:$F$21,4,0))","v":"-"},"-",null,null,null,null,0,0,0,0,0,0,"*"]
[null,null,1384,null,null,null,null,null,null,null,null,null,null,null,null,null,null,null,null,null,null,null,null,null,null,null,null,null,null,null,null,null,null,null,null,{"$f":"IF(H1393=\"\",\"-\",VLOOKUP(T1393,読み替え表_スマートムーブ!$C$4:$F$13,4,0))","v":"-"},{"$f":"IF(H1393=\"\",\"-\",VLOOKUP(V1393,読み替え表_スマートムーブ!$C$16:$F$21,4,0))","v":"-"},"-",null,null,null,null,0,0,0,0,0,0,"*"]
[null,null,1385,null,null,null,null,null,null,null,null,null,null,null,null,null,null,null,null,null,null,null,null,null,null,null,null,null,null,null,null,null,null,null,null,{"$f":"IF(H1394=\"\",\"-\",VLOOKUP(T1394,読み替え表_スマートムーブ!$C$4:$F$13,4,0))","v":"-"},{"$f":"IF(H1394=\"\",\"-\",VLOOKUP(V1394,読み替え表_スマートムーブ!$C$16:$F$21,4,0))","v":"-"},{"$f":"IF(H1394=\"\",\"-\",AJ1394*AK1394)","v":"-"},null,null,null,null,0,0,0,0,0,0,"*"]
[null,null,1386,null,null,null,null,null,null,null,null,null,null,null,null,null,null,null,null,null,null,null,null,null,null,null,null,null,null,null,null,null,null,null,null,{"$f":"IF(H1395=\"\",\"-\",VLOOKUP(T1395,読み替え表_スマートムーブ!$C$4:$F$13,4,0))","v":"-"},{"$f":"IF(H1395=\"\",\"-\",VLOOKUP(V1395,読み替え表_スマートムーブ!$C$16:$F$21,4,0))","v":"-"},"-",null,null,null,null,0,0,0,0,0,0,"*"]
[null,null,1387,null,null,null,null,null,null,null,null,null,null,null,null,null,null,null,null,null,null,null,null,null,null,null,null,null,null,null,null,null,null,null,null,{"$f":"IF(H1396=\"\",\"-\",VLOOKUP(T1396,読み替え表_スマートムーブ!$C$4:$F$13,4,0))","v":"-"},{"$f":"IF(H1396=\"\",\"-\",VLOOKUP(V1396,読み替え表_スマートムーブ!$C$16:$F$21,4,0))","v":"-"},"-",null,null,null,null,0,0,0,0,0,0,"*"]
[null,null,1388,null,null,null,null,null,null,null,null,null,null,null,null,null,null,null,null,null,null,null,null,null,null,null,null,null,null,null,null,null,null,null,null,{"$f":"IF(H1397=\"\",\"-\",VLOOKUP(T1397,読み替え表_スマートムーブ!$C$4:$F$13,4,0))","v":"-"},{"$f":"IF(H1397=\"\",\"-\",VLOOKUP(V1397,読み替え表_スマートムーブ!$C$16:$F$21,4,0))","v":"-"},"-",null,null,null,null,0,0,0,0,0,0,"*"]
[null,null,1389,null,null,null,null,null,null,null,null,null,null,null,null,null,null,null,null,null,null,null,null,null,null,null,null,null,null,null,null,null,null,null,null,{"$f":"IF(H1398=\"\",\"-\",VLOOKUP(T1398,読み替え表_スマートムーブ!$C$4:$F$13,4,0))","v":"-"},{"$f":"IF(H1398=\"\",\"-\",VLOOKUP(V1398,読み替え表_スマートムーブ!$C$16:$F$21,4,0))","v":"-"},"-",null,null,null,null,0,0,0,0,0,0,"*"]
[null,null,1390,null,null,null,null,null,null,null,null,null,null,null,null,null,null,null,null,null,null,null,null,null,null,null,null,null,null,null,null,null,null,null,null,{"$f":"IF(H1399=\"\",\"-\",VLOOKUP(T1399,読み替え表_スマートムーブ!$C$4:$F$13,4,0))","v":"-"},{"$f":"IF(H1399=\"\",\"-\",VLOOKUP(V1399,読み替え表_スマートムーブ!$C$16:$F$21,4,0))","v":"-"},"-",null,null,null,null,0,0,0,0,0,0,"*"]
[null,null,1391,null,null,null,null,null,null,null,null,null,null,null,null,null,null,null,null,null,null,null,null,null,null,null,null,null,null,null,null,null,null,null,null,{"$f":"IF(H1400=\"\",\"-\",VLOOKUP(T1400,読み替え表_スマートムーブ!$C$4:$F$13,4,0))","v":"-"},{"$f":"IF(H1400=\"\",\"-\",VLOOKUP(V1400,読み替え表_スマートムーブ!$C$16:$F$21,4,0))","v":"-"},"-",null,null,null,null,0,0,0,0,0,0,"*"]
[null,null,1392,null,null,null,null,null,null,null,null,null,null,null,null,null,null,null,null,null,null,null,null,null,null,null,null,null,null,null,null,null,null,null,null,{"$f":"IF(H1401=\"\",\"-\",VLOOKUP(T1401,読み替え表_スマートムーブ!$C$4:$F$13,4,0))","v":"-"},{"$f":"IF(H1401=\"\",\"-\",VLOOKUP(V1401,読み替え表_スマートムーブ!$C$16:$F$21,4,0))","v":"-"},"-",null,null,null,null,0,0,0,0,0,0,"*"]
[null,null,1393,null,null,null,null,null,null,null,null,null,null,null,null,null,null,null,null,null,null,null,null,null,null,null,null,null,null,null,null,null,null,null,null,{"$f":"IF(H1402=\"\",\"-\",VLOOKUP(T1402,読み替え表_スマートムーブ!$C$4:$F$13,4,0))","v":"-"},{"$f":"IF(H1402=\"\",\"-\",VLOOKUP(V1402,読み替え表_スマートムーブ!$C$16:$F$21,4,0))","v":"-"},"-",null,null,null,null,0,0,0,0,0,0,"*"]
[null,null,1394,null,null,null,null,null,null,null,null,null,null,null,null,null,null,null,null,null,null,null,null,null,null,null,null,null,null,null,null,null,null,null,null,{"$f":"IF(H1403=\"\",\"-\",VLOOKUP(T1403,読み替え表_スマートムーブ!$C$4:$F$13,4,0))","v":"-"},{"$f":"IF(H1403=\"\",\"-\",VLOOKUP(V1403,読み替え表_スマートムーブ!$C$16:$F$21,4,0))","v":"-"},"-",null,null,null,null,0,0,0,0,0,0,"*"]
[null,null,1395,null,null,null,null,null,null,null,null,null,null,null,null,null,null,null,null,null,null,null,null,null,null,null,null,null,null,null,null,null,null,null,null,{"$f":"IF(H1404=\"\",\"-\",VLOOKUP(T1404,読み替え表_スマートムーブ!$C$4:$F$13,4,0))","v":"-"},{"$f":"IF(H1404=\"\",\"-\",VLOOKUP(V1404,読み替え表_スマートムーブ!$C$16:$F$21,4,0))","v":"-"},"-",null,null,null,null,0,0,0,0,0,0,"*"]
[null,null,1396,null,null,null,null,null,null,null,null,null,null,null,null,null,null,null,null,null,null,null,null,null,null,null,null,null,null,null,null,null,null,null,null,{"$f":"IF(H1405=\"\",\"-\",VLOOKUP(T1405,読み替え表_スマートムーブ!$C$4:$F$13,4,0))","v":"-"},{"$f":"IF(H1405=\"\",\"-\",VLOOKUP(V1405,読み替え表_スマートムーブ!$C$16:$F$21,4,0))","v":"-"},"-",null,null,null,null,0,0,0,0,0,0,"*"]
[null,null,1397,null,null,null,null,null,null,null,null,null,null,null,null,null,null,null,null,null,null,null,null,null,null,null,null,null,null,null,null,null,null,null,null,{"$f":"IF(H1406=\"\",\"-\",VLOOKUP(T1406,読み替え表_スマートムーブ!$C$4:$F$13,4,0))","v":"-"},{"$f":"IF(H1406=\"\",\"-\",VLOOKUP(V1406,読み替え表_スマートムーブ!$C$16:$F$21,4,0))","v":"-"},"-",null,null,null,null,0,0,0,0,0,0,"*"]
[null,null,1398,null,null,null,null,null,null,null,null,null,null,null,null,null,null,null,null,null,null,null,null,null,null,null,null,null,null,null,null,null,null,null,null,{"$f":"IF(H1407=\"\",\"-\",VLOOKUP(T1407,読み替え表_スマートムーブ!$C$4:$F$13,4,0))","v":"-"},{"$f":"IF(H1407=\"\",\"-\",VLOOKUP(V1407,読み替え表_スマートムーブ!$C$16:$F$21,4,0))","v":"-"},"-",null,null,null,null,0,0,0,0,0,0,"*"]
[null,null,1399,null,null,null,null,null,null,null,null,null,null,null,null,null,null,null,null,null,null,null,null,null,null,null,null,null,null,null,null,null,null,null,null,{"$f":"IF(H1408=\"\",\"-\",VLOOKUP(T1408,読み替え表_スマートムーブ!$C$4:$F$13,4,0))","v":"-"},{"$f":"IF(H1408=\"\",\"-\",VLOOKUP(V1408,読み替え表_スマートムーブ!$C$16:$F$21,4,0))","v":"-"},"-",null,null,null,null,0,0,0,0,0,0,"*"]
[null,null,1400,null,null,null,null,null,null,null,null,null,null,null,null,null,null,null,null,null,null,null,null,null,null,null,null,null,null,null,null,null,null,null,null,{"$f":"IF(H1409=\"\",\"-\",VLOOKUP(T1409,読み替え表_スマートムーブ!$C$4:$F$13,4,0))","v":"-"},{"$f":"IF(H1409=\"\",\"-\",VLOOKUP(V1409,読み替え表_スマートムーブ!$C$16:$F$21,4,0))","v":"-"},"-",null,null,null,null,0,0,0,0,0,0,"*"]
[null,null,1401,null,null,null,null,null,null,null,null,null,null,null,null,null,null,null,null,null,null,null,null,null,null,null,null,null,null,null,null,null,null,null,null,{"$f":"IF(H1410=\"\",\"-\",VLOOKUP(T1410,読み替え表_スマートムーブ!$C$4:$F$13,4,0))","v":"-"},{"$f":"IF(H1410=\"\",\"-\",VLOOKUP(V1410,読み替え表_スマートムーブ!$C$16:$F$21,4,0))","v":"-"},"-",null,null,null,null,0,0,0,0,0,0,"*"]
[null,null,1402,null,null,null,null,null,null,null,null,null,null,null,null,null,null,null,null,null,null,null,null,null,null,null,null,null,null,null,null,null,null,null,null,{"$f":"IF(H1411=\"\",\"-\",VLOOKUP(T1411,読み替え表_スマートムーブ!$C$4:$F$13,4,0))","v":"-"},{"$f":"IF(H1411=\"\",\"-\",VLOOKUP(V1411,読み替え表_スマートムーブ!$C$16:$F$21,4,0))","v":"-"},"-",null,null,null,null,0,0,0,0,0,0,"*"]
[null,null,1403,null,null,null,null,null,null,null,null,null,null,null,null,null,null,null,null,null,null,null,null,null,null,null,null,null,null,null,null,null,null,null,null,{"$f":"IF(H1412=\"\",\"-\",VLOOKUP(T1412,読み替え表_スマートムーブ!$C$4:$F$13,4,0))","v":"-"},{"$f":"IF(H1412=\"\",\"-\",VLOOKUP(V1412,読み替え表_スマートムーブ!$C$16:$F$21,4,0))","v":"-"},"-",null,null,null,null,0,0,0,0,0,0,"*"]
[null,null,1404,null,null,null,null,null,null,null,null,null,null,null,null,null,null,null,null,null,null,null,null,null,null,null,null,null,null,null,null,null,null,null,null,{"$f":"IF(H1413=\"\",\"-\",VLOOKUP(T1413,読み替え表_スマートムーブ!$C$4:$F$13,4,0))","v":"-"},{"$f":"IF(H1413=\"\",\"-\",VLOOKUP(V1413,読み替え表_スマートムーブ!$C$16:$F$21,4,0))","v":"-"},"-",null,null,null,null,0,0,0,0,0,0,"*"]
[null,null,1405,null,null,null,null,null,null,null,null,null,null,null,null,null,null,null,null,null,null,null,null,null,null,null,null,null,null,null,null,null,null,null,null,{"$f":"IF(H1414=\"\",\"-\",VLOOKUP(T1414,読み替え表_スマートムーブ!$C$4:$F$13,4,0))","v":"-"},{"$f":"IF(H1414=\"\",\"-\",VLOOKUP(V1414,読み替え表_スマートムーブ!$C$16:$F$21,4,0))","v":"-"},"-",null,null,null,null,0,0,0,0,0,0,"*"]
[null,null,1406,null,null,null,null,null,null,null,null,null,null,null,null,null,null,null,null,null,null,null,null,null,null,null,null,null,null,null,null,null,null,null,null,{"$f":"IF(H1415=\"\",\"-\",VLOOKUP(T1415,読み替え表_スマートムーブ!$C$4:$F$13,4,0))","v":"-"},{"$f":"IF(H1415=\"\",\"-\",VLOOKUP(V1415,読み替え表_スマートムーブ!$C$16:$F$21,4,0))","v":"-"},"-",null,null,null,null,0,0,0,0,0,0,"*"]
[null,null,1407,null,null,null,null,null,null,null,null,null,null,null,null,null,null,null,null,null,null,null,null,null,null,null,null,null,null,null,null,null,null,null,null,{"$f":"IF(H1416=\"\",\"-\",VLOOKUP(T1416,読み替え表_スマートムーブ!$C$4:$F$13,4,0))","v":"-"},{"$f":"IF(H1416=\"\",\"-\",VLOOKUP(V1416,読み替え表_スマートムーブ!$C$16:$F$21,4,0))","v":"-"},"-",null,null,null,null,0,0,0,0,0,0,"*"]
[null,null,1408,null,null,null,null,null,null,null,null,null,null,null,null,null,null,null,null,null,null,null,null,null,null,null,null,null,null,null,null,null,null,null,null,{"$f":"IF(H1417=\"\",\"-\",VLOOKUP(T1417,読み替え表_スマートムーブ!$C$4:$F$13,4,0))","v":"-"},{"$f":"IF(H1417=\"\",\"-\",VLOOKUP(V1417,読み替え表_スマートムーブ!$C$16:$F$21,4,0))","v":"-"},"-",null,null,null,null,0,0,0,0,0,0,"*"]
[null,null,1409,null,null,null,null,null,null,null,null,null,null,null,null,null,null,null,null,null,null,null,null,null,null,null,null,null,null,null,null,null,null,null,null,{"$f":"IF(H1418=\"\",\"-\",VLOOKUP(T1418,読み替え表_スマートムーブ!$C$4:$F$13,4,0))","v":"-"},{"$f":"IF(H1418=\"\",\"-\",VLOOKUP(V1418,読み替え表_スマートムーブ!$C$16:$F$21,4,0))","v":"-"},"-",null,null,null,null,0,0,0,0,0,{"$f":"AQ1418","v":0},"*"]
[null,null,{"$f":"ROW()-9","v":1410},null,null,null,null,null,null,null,null,null,null,null,null,null,null,null,null,null,null,null,null,null,null,null,null,null,null,null,null,null,null,null,null,{"$f":"IF(H1419=\"\",\"-\",VLOOKUP(T1419,読み替え表_スマートムーブ!$C$4:$F$13,4,0))","v":"-"},{"$f":"IF(H1419=\"\",\"-\",VLOOKUP(V1419,読み替え表_スマートムーブ!$C$16:$F$21,4,0))","v":"-"},"-",null,null,null,null,{"$f":"IF(SUM($AR1419:$AT1419)>=1,1,0)","v":0},{"$f":"IF(R1419=1,1,0)","v":0},{"$f":"IF(T1419=9,1,0)","v":0},{"$f":"IF(V1419=5,1,0)","v":0},{"$f":"IF(OR($X1419=1,$X1419=2,$X1419=3),1,0)","v":0},0,"*"]
[null,null,1411,null,null,null,null,null,null,null,null,null,null,null,null,null,null,null,null,null,null,null,null,null,null,null,null,null,null,null,null,null,null,null,null,{"$f":"IF(H1420=\"\",\"-\",VLOOKUP(T1420,読み替え表_スマートムーブ!$C$4:$F$13,4,0))","v":"-"},{"$f":"IF(H1420=\"\",\"-\",VLOOKUP(V1420,読み替え表_スマートムーブ!$C$16:$F$21,4,0))","v":"-"},"-",null,null,null,null,0,0,0,0,0,0,"*"]
[null,null,1412,null,null,null,null,null,null,null,null,null,null,null,null,null,null,null,null,null,null,null,null,null,null,null,null,null,null,null,null,null,null,null,null,{"$f":"IF(H1421=\"\",\"-\",VLOOKUP(T1421,読み替え表_スマートムーブ!$C$4:$F$13,4,0))","v":"-"},{"$f":"IF(H1421=\"\",\"-\",VLOOKUP(V1421,読み替え表_スマートムーブ!$C$16:$F$21,4,0))","v":"-"},"-",null,null,null,null,0,0,0,0,0,0,"*"]
[null,null,1413,null,null,null,null,null,null,null,null,null,null,null,null,null,null,null,null,null,null,null,null,null,null,null,null,null,null,null,null,null,null,null,null,{"$f":"IF(H1422=\"\",\"-\",VLOOKUP(T1422,読み替え表_スマートムーブ!$C$4:$F$13,4,0))","v":"-"},{"$f":"IF(H1422=\"\",\"-\",VLOOKUP(V1422,読み替え表_スマートムーブ!$C$16:$F$21,4,0))","v":"-"},"-",null,null,null,null,0,0,0,0,0,0,"*"]
[null,null,1414,null,null,null,null,null,null,null,null,null,null,null,null,null,null,null,null,null,null,null,null,null,null,null,null,null,null,null,null,null,null,null,null,{"$f":"IF(H1423=\"\",\"-\",VLOOKUP(T1423,読み替え表_スマートムーブ!$C$4:$F$13,4,0))","v":"-"},{"$f":"IF(H1423=\"\",\"-\",VLOOKUP(V1423,読み替え表_スマートムーブ!$C$16:$F$21,4,0))","v":"-"},"-",null,null,null,null,0,0,0,0,0,0,"*"]
[null,null,1415,null,null,null,null,null,null,null,null,null,null,null,null,null,null,null,null,null,null,null,null,null,null,null,null,null,null,null,null,null,null,null,null,{"$f":"IF(H1424=\"\",\"-\",VLOOKUP(T1424,読み替え表_スマートムーブ!$C$4:$F$13,4,0))","v":"-"},{"$f":"IF(H1424=\"\",\"-\",VLOOKUP(V1424,読み替え表_スマートムーブ!$C$16:$F$21,4,0))","v":"-"},"-",null,null,null,null,0,0,0,0,0,0,"*"]
[null,null,1416,null,null,null,null,null,null,null,null,null,null,null,null,null,null,null,null,null,null,null,null,null,null,null,null,null,null,null,null,null,null,null,null,{"$f":"IF(H1425=\"\",\"-\",VLOOKUP(T1425,読み替え表_スマートムーブ!$C$4:$F$13,4,0))","v":"-"},{"$f":"IF(H1425=\"\",\"-\",VLOOKUP(V1425,読み替え表_スマートムーブ!$C$16:$F$21,4,0))","v":"-"},"-",null,null,null,null,0,0,0,0,0,0,"*"]
[null,null,1417,null,null,null,null,null,null,null,null,null,null,null,null,null,null,null,null,null,null,null,null,null,null,null,null,null,null,null,null,null,null,null,null,{"$f":"IF(H1426=\"\",\"-\",VLOOKUP(T1426,読み替え表_スマートムーブ!$C$4:$F$13,4,0))","v":"-"},{"$f":"IF(H1426=\"\",\"-\",VLOOKUP(V1426,読み替え表_スマートムーブ!$C$16:$F$21,4,0))","v":"-"},"-",null,null,null,null,0,0,0,0,0,0,"*"]
[null,null,1418,null,null,null,null,null,null,null,null,null,null,null,null,null,null,null,null,null,null,null,null,null,null,null,null,null,null,null,null,null,null,null,null,{"$f":"IF(H1427=\"\",\"-\",VLOOKUP(T1427,読み替え表_スマートムーブ!$C$4:$F$13,4,0))","v":"-"},{"$f":"IF(H1427=\"\",\"-\",VLOOKUP(V1427,読み替え表_スマートムーブ!$C$16:$F$21,4,0))","v":"-"},"-",null,null,null,null,0,0,0,0,0,0,"*"]
[null,null,1419,null,null,null,null,null,null,null,null,null,null,null,null,null,null,null,null,null,null,null,null,null,null,null,null,null,null,null,null,null,null,null,null,{"$f":"IF(H1428=\"\",\"-\",VLOOKUP(T1428,読み替え表_スマートムーブ!$C$4:$F$13,4,0))","v":"-"},{"$f":"IF(H1428=\"\",\"-\",VLOOKUP(V1428,読み替え表_スマートムーブ!$C$16:$F$21,4,0))","v":"-"},"-",null,null,null,null,0,0,0,0,0,0,"*"]
[null,null,1420,null,null,null,null,null,null,null,null,null,null,null,null,null,null,null,null,null,null,null,null,null,null,null,null,null,null,null,null,null,null,null,null,{"$f":"IF(H1429=\"\",\"-\",VLOOKUP(T1429,読み替え表_スマートムーブ!$C$4:$F$13,4,0))","v":"-"},{"$f":"IF(H1429=\"\",\"-\",VLOOKUP(V1429,読み替え表_スマートムーブ!$C$16:$F$21,4,0))","v":"-"},"-",null,null,null,null,0,0,0,0,0,0,"*"]
[null,null,1421,null,null,null,null,null,null,null,null,null,null,null,null,null,null,null,null,null,null,null,null,null,null,null,null,null,null,null,null,null,null,null,null,{"$f":"IF(H1430=\"\",\"-\",VLOOKUP(T1430,読み替え表_スマートムーブ!$C$4:$F$13,4,0))","v":"-"},{"$f":"IF(H1430=\"\",\"-\",VLOOKUP(V1430,読み替え表_スマートムーブ!$C$16:$F$21,4,0))","v":"-"},"-",null,null,null,null,0,0,0,0,0,0,"*"]
[null,null,1422,null,null,null,null,null,null,null,null,null,null,null,null,null,null,null,null,null,null,null,null,null,null,null,null,null,null,null,null,null,null,null,null,{"$f":"IF(H1431=\"\",\"-\",VLOOKUP(T1431,読み替え表_スマートムーブ!$C$4:$F$13,4,0))","v":"-"},{"$f":"IF(H1431=\"\",\"-\",VLOOKUP(V1431,読み替え表_スマートムーブ!$C$16:$F$21,4,0))","v":"-"},"-",null,null,null,null,0,0,0,0,0,0,"*"]
[null,null,1423,null,null,null,null,null,null,null,null,null,null,null,null,null,null,null,null,null,null,null,null,null,null,null,null,null,null,null,null,null,null,null,null,{"$f":"IF(H1432=\"\",\"-\",VLOOKUP(T1432,読み替え表_スマートムーブ!$C$4:$F$13,4,0))","v":"-"},{"$f":"IF(H1432=\"\",\"-\",VLOOKUP(V1432,読み替え表_スマートムーブ!$C$16:$F$21,4,0))","v":"-"},"-",null,null,null,null,0,0,0,0,0,0,"*"]
[null,null,1424,null,null,null,null,null,null,null,null,null,null,null,null,null,null,null,null,null,null,null,null,null,null,null,null,null,null,null,null,null,null,null,null,{"$f":"IF(H1433=\"\",\"-\",VLOOKUP(T1433,読み替え表_スマートムーブ!$C$4:$F$13,4,0))","v":"-"},{"$f":"IF(H1433=\"\",\"-\",VLOOKUP(V1433,読み替え表_スマートムーブ!$C$16:$F$21,4,0))","v":"-"},"-",null,null,null,null,0,0,0,0,0,0,"*"]
[null,null,1425,null,null,null,null,null,null,null,null,null,null,null,null,null,null,null,null,null,null,null,null,null,null,null,null,null,null,null,null,null,null,null,null,{"$f":"IF(H1434=\"\",\"-\",VLOOKUP(T1434,読み替え表_スマートムーブ!$C$4:$F$13,4,0))","v":"-"},{"$f":"IF(H1434=\"\",\"-\",VLOOKUP(V1434,読み替え表_スマートムーブ!$C$16:$F$21,4,0))","v":"-"},"-",null,null,null,null,0,0,0,0,0,0,"*"]
[null,null,1426,null,null,null,null,null,null,null,null,null,null,null,null,null,null,null,null,null,null,null,null,null,null,null,null,null,null,null,null,null,null,null,null,{"$f":"IF(H1435=\"\",\"-\",VLOOKUP(T1435,読み替え表_スマートムーブ!$C$4:$F$13,4,0))","v":"-"},{"$f":"IF(H1435=\"\",\"-\",VLOOKUP(V1435,読み替え表_スマートムーブ!$C$16:$F$21,4,0))","v":"-"},"-",null,null,null,null,0,0,0,0,0,0,"*"]
[null,null,1427,null,null,null,null,null,null,null,null,null,null,null,null,null,null,null,null,null,null,null,null,null,null,null,null,null,null,null,null,null,null,null,null,{"$f":"IF(H1436=\"\",\"-\",VLOOKUP(T1436,読み替え表_スマートムーブ!$C$4:$F$13,4,0))","v":"-"},{"$f":"IF(H1436=\"\",\"-\",VLOOKUP(V1436,読み替え表_スマートムーブ!$C$16:$F$21,4,0))","v":"-"},"-",null,null,null,null,0,0,0,0,0,0,"*"]
[null,null,1428,null,null,null,null,null,null,null,null,null,null,null,null,null,null,null,null,null,null,null,null,null,null,null,null,null,null,null,null,null,null,null,null,{"$f":"IF(H1437=\"\",\"-\",VLOOKUP(T1437,読み替え表_スマートムーブ!$C$4:$F$13,4,0))","v":"-"},{"$f":"IF(H1437=\"\",\"-\",VLOOKUP(V1437,読み替え表_スマートムーブ!$C$16:$F$21,4,0))","v":"-"},"-",null,null,null,null,0,0,0,0,0,0,"*"]
[null,null,1429,null,null,null,null,null,null,null,null,null,null,null,null,null,null,null,null,null,null,null,null,null,null,null,null,null,null,null,null,null,null,null,null,{"$f":"IF(H1438=\"\",\"-\",VLOOKUP(T1438,読み替え表_スマートムーブ!$C$4:$F$13,4,0))","v":"-"},{"$f":"IF(H1438=\"\",\"-\",VLOOKUP(V1438,読み替え表_スマートムーブ!$C$16:$F$21,4,0))","v":"-"},"-",null,null,null,null,0,0,0,0,0,0,"*"]
[null,null,1430,null,null,null,null,null,null,null,null,null,null,null,null,null,null,null,null,null,null,null,null,null,null,null,null,null,null,null,null,null,null,null,null,{"$f":"IF(H1439=\"\",\"-\",VLOOKUP(T1439,読み替え表_スマートムーブ!$C$4:$F$13,4,0))","v":"-"},{"$f":"IF(H1439=\"\",\"-\",VLOOKUP(V1439,読み替え表_スマートムーブ!$C$16:$F$21,4,0))","v":"-"},"-",null,null,null,null,0,0,0,0,0,0,"*"]
[null,null,1431,null,null,null,null,null,null,null,null,null,null,null,null,null,null,null,null,null,null,null,null,null,null,null,null,null,null,null,null,null,null,null,null,{"$f":"IF(H1440=\"\",\"-\",VLOOKUP(T1440,読み替え表_スマートムーブ!$C$4:$F$13,4,0))","v":"-"},{"$f":"IF(H1440=\"\",\"-\",VLOOKUP(V1440,読み替え表_スマートムーブ!$C$16:$F$21,4,0))","v":"-"},"-",null,null,null,null,0,0,0,0,0,0,"*"]
[null,null,1432,null,null,null,null,null,null,null,null,null,null,null,null,null,null,null,null,null,null,null,null,null,null,null,null,null,null,null,null,null,null,null,null,{"$f":"IF(H1441=\"\",\"-\",VLOOKUP(T1441,読み替え表_スマートムーブ!$C$4:$F$13,4,0))","v":"-"},{"$f":"IF(H1441=\"\",\"-\",VLOOKUP(V1441,読み替え表_スマートムーブ!$C$16:$F$21,4,0))","v":"-"},"-",null,null,null,null,0,0,0,0,0,0,"*"]
[null,null,1433,null,null,null,null,null,null,null,null,null,null,null,null,null,null,null,null,null,null,null,null,null,null,null,null,null,null,null,null,null,null,null,null,{"$f":"IF(H1442=\"\",\"-\",VLOOKUP(T1442,読み替え表_スマートムーブ!$C$4:$F$13,4,0))","v":"-"},{"$f":"IF(H1442=\"\",\"-\",VLOOKUP(V1442,読み替え表_スマートムーブ!$C$16:$F$21,4,0))","v":"-"},"-",null,null,null,null,0,0,0,0,0,0,"*"]
[null,null,1434,null,null,null,null,null,null,null,null,null,null,null,null,null,null,null,null,null,null,null,null,null,null,null,null,null,null,null,null,null,null,null,null,{"$f":"IF(H1443=\"\",\"-\",VLOOKUP(T1443,読み替え表_スマートムーブ!$C$4:$F$13,4,0))","v":"-"},{"$f":"IF(H1443=\"\",\"-\",VLOOKUP(V1443,読み替え表_スマートムーブ!$C$16:$F$21,4,0))","v":"-"},"-",null,null,null,null,0,0,0,0,0,0,"*"]
[null,null,1435,null,null,null,null,null,null,null,null,null,null,null,null,null,null,null,null,null,null,null,null,null,null,null,null,null,null,null,null,null,null,null,null,{"$f":"IF(H1444=\"\",\"-\",VLOOKUP(T1444,読み替え表_スマートムーブ!$C$4:$F$13,4,0))","v":"-"},{"$f":"IF(H1444=\"\",\"-\",VLOOKUP(V1444,読み替え表_スマートムーブ!$C$16:$F$21,4,0))","v":"-"},"-",null,null,null,null,0,0,0,0,0,0,"*"]
[null,null,1436,null,null,null,null,null,null,null,null,null,null,null,null,null,null,null,null,null,null,null,null,null,null,null,null,null,null,null,null,null,null,null,null,{"$f":"IF(H1445=\"\",\"-\",VLOOKUP(T1445,読み替え表_スマートムーブ!$C$4:$F$13,4,0))","v":"-"},{"$f":"IF(H1445=\"\",\"-\",VLOOKUP(V1445,読み替え表_スマートムーブ!$C$16:$F$21,4,0))","v":"-"},"-",null,null,null,null,0,0,0,0,0,0,"*"]
[null,null,1437,null,null,null,null,null,null,null,null,null,null,null,null,null,null,null,null,null,null,null,null,null,null,null,null,null,null,null,null,null,null,null,null,{"$f":"IF(H1446=\"\",\"-\",VLOOKUP(T1446,読み替え表_スマートムーブ!$C$4:$F$13,4,0))","v":"-"},{"$f":"IF(H1446=\"\",\"-\",VLOOKUP(V1446,読み替え表_スマートムーブ!$C$16:$F$21,4,0))","v":"-"},"-",null,null,null,null,0,0,0,0,0,0,"*"]
[null,null,1438,null,null,null,null,null,null,null,null,null,null,null,null,null,null,null,null,null,null,null,null,null,null,null,null,null,null,null,null,null,null,null,null,{"$f":"IF(H1447=\"\",\"-\",VLOOKUP(T1447,読み替え表_スマートムーブ!$C$4:$F$13,4,0))","v":"-"},{"$f":"IF(H1447=\"\",\"-\",VLOOKUP(V1447,読み替え表_スマートムーブ!$C$16:$F$21,4,0))","v":"-"},"-",null,null,null,null,0,0,0,0,0,0,"*"]
[null,null,1439,null,null,null,null,null,null,null,null,null,null,null,null,null,null,null,null,null,null,null,null,null,null,null,null,null,null,null,null,null,null,null,null,{"$f":"IF(H1448=\"\",\"-\",VLOOKUP(T1448,読み替え表_スマートムーブ!$C$4:$F$13,4,0))","v":"-"},{"$f":"IF(H1448=\"\",\"-\",VLOOKUP(V1448,読み替え表_スマートムーブ!$C$16:$F$21,4,0))","v":"-"},"-",null,null,null,null,0,0,0,0,0,0,"*"]
[null,null,1440,null,null,null,null,null,null,null,null,null,null,null,null,null,null,null,null,null,null,null,null,null,null,null,null,null,null,null,null,null,null,null,null,{"$f":"IF(H1449=\"\",\"-\",VLOOKUP(T1449,読み替え表_スマートムーブ!$C$4:$F$13,4,0))","v":"-"},{"$f":"IF(H1449=\"\",\"-\",VLOOKUP(V1449,読み替え表_スマートムーブ!$C$16:$F$21,4,0))","v":"-"},"-",null,null,null,null,0,0,0,0,0,0,"*"]
[null,null,1441,null,null,null,null,null,null,null,null,null,null,null,null,null,null,null,null,null,null,null,null,null,null,null,null,null,null,null,null,null,null,null,null,{"$f":"IF(H1450=\"\",\"-\",VLOOKUP(T1450,読み替え表_スマートムーブ!$C$4:$F$13,4,0))","v":"-"},{"$f":"IF(H1450=\"\",\"-\",VLOOKUP(V1450,読み替え表_スマートムーブ!$C$16:$F$21,4,0))","v":"-"},"-",null,null,null,null,0,0,0,0,0,0,"*"]
[null,null,1442,null,null,null,null,null,null,null,null,null,null,null,null,null,null,null,null,null,null,null,null,null,null,null,null,null,null,null,null,null,null,null,null,{"$f":"IF(H1451=\"\",\"-\",VLOOKUP(T1451,読み替え表_スマートムーブ!$C$4:$F$13,4,0))","v":"-"},{"$f":"IF(H1451=\"\",\"-\",VLOOKUP(V1451,読み替え表_スマートムーブ!$C$16:$F$21,4,0))","v":"-"},"-",null,null,null,null,0,0,0,0,0,0,"*"]
[null,null,1443,null,null,null,null,null,null,null,null,null,null,null,null,null,null,null,null,null,null,null,null,null,null,null,null,null,null,null,null,null,null,null,null,{"$f":"IF(H1452=\"\",\"-\",VLOOKUP(T1452,読み替え表_スマートムーブ!$C$4:$F$13,4,0))","v":"-"},{"$f":"IF(H1452=\"\",\"-\",VLOOKUP(V1452,読み替え表_スマートムーブ!$C$16:$F$21,4,0))","v":"-"},"-",null,null,null,null,0,0,0,0,0,0,"*"]
[null,null,1444,null,null,null,null,null,null,null,null,null,null,null,null,null,null,null,null,null,null,null,null,null,null,null,null,null,null,null,null,null,null,null,null,{"$f":"IF(H1453=\"\",\"-\",VLOOKUP(T1453,読み替え表_スマートムーブ!$C$4:$F$13,4,0))","v":"-"},{"$f":"IF(H1453=\"\",\"-\",VLOOKUP(V1453,読み替え表_スマートムーブ!$C$16:$F$21,4,0))","v":"-"},"-",null,null,null,null,0,0,0,0,0,0,"*"]
[null,null,1445,null,null,null,null,null,null,null,null,null,null,null,null,null,null,null,null,null,null,null,null,null,null,null,null,null,null,null,null,null,null,null,null,{"$f":"IF(H1454=\"\",\"-\",VLOOKUP(T1454,読み替え表_スマートムーブ!$C$4:$F$13,4,0))","v":"-"},{"$f":"IF(H1454=\"\",\"-\",VLOOKUP(V1454,読み替え表_スマートムーブ!$C$16:$F$21,4,0))","v":"-"},"-",null,null,null,null,0,0,0,0,0,0,"*"]
[null,null,1446,null,null,null,null,null,null,null,null,null,null,null,null,null,null,null,null,null,null,null,null,null,null,null,null,null,null,null,null,null,null,null,null,{"$f":"IF(H1455=\"\",\"-\",VLOOKUP(T1455,読み替え表_スマートムーブ!$C$4:$F$13,4,0))","v":"-"},{"$f":"IF(H1455=\"\",\"-\",VLOOKUP(V1455,読み替え表_スマートムーブ!$C$16:$F$21,4,0))","v":"-"},"-",null,null,null,null,0,0,0,0,0,0,"*"]
[null,null,1447,null,null,null,null,null,null,null,null,null,null,null,null,null,null,null,null,null,null,null,null,null,null,null,null,null,null,null,null,null,null,null,null,{"$f":"IF(H1456=\"\",\"-\",VLOOKUP(T1456,読み替え表_スマートムーブ!$C$4:$F$13,4,0))","v":"-"},{"$f":"IF(H1456=\"\",\"-\",VLOOKUP(V1456,読み替え表_スマートムーブ!$C$16:$F$21,4,0))","v":"-"},"-",null,null,null,null,0,0,0,0,0,0,"*"]
[null,null,1448,null,null,null,null,null,null,null,null,null,null,null,null,null,null,null,null,null,null,null,null,null,null,null,null,null,null,null,null,null,null,null,null,{"$f":"IF(H1457=\"\",\"-\",VLOOKUP(T1457,読み替え表_スマートムーブ!$C$4:$F$13,4,0))","v":"-"},{"$f":"IF(H1457=\"\",\"-\",VLOOKUP(V1457,読み替え表_スマートムーブ!$C$16:$F$21,4,0))","v":"-"},"-",null,null,null,null,0,0,0,0,0,0,"*"]
[null,null,1449,null,null,null,null,null,null,null,null,null,null,null,null,null,null,null,null,null,null,null,null,null,null,null,null,null,null,null,null,null,null,null,null,{"$f":"IF(H1458=\"\",\"-\",VLOOKUP(T1458,読み替え表_スマートムーブ!$C$4:$F$13,4,0))","v":"-"},{"$f":"IF(H1458=\"\",\"-\",VLOOKUP(V1458,読み替え表_スマートムーブ!$C$16:$F$21,4,0))","v":"-"},{"$f":"IF(H1458=\"\",\"-\",AJ1458*AK1458)","v":"-"},null,null,null,null,0,0,0,0,0,0,"*"]
[null,null,1450,null,null,null,null,null,null,null,null,null,null,null,null,null,null,null,null,null,null,null,null,null,null,null,null,null,null,null,null,null,null,null,null,{"$f":"IF(H1459=\"\",\"-\",VLOOKUP(T1459,読み替え表_スマートムーブ!$C$4:$F$13,4,0))","v":"-"},{"$f":"IF(H1459=\"\",\"-\",VLOOKUP(V1459,読み替え表_スマートムーブ!$C$16:$F$21,4,0))","v":"-"},"-",null,null,null,null,0,0,0,0,0,0,"*"]
[null,null,1451,null,null,null,null,null,null,null,null,null,null,null,null,null,null,null,null,null,null,null,null,null,null,null,null,null,null,null,null,null,null,null,null,{"$f":"IF(H1460=\"\",\"-\",VLOOKUP(T1460,読み替え表_スマートムーブ!$C$4:$F$13,4,0))","v":"-"},{"$f":"IF(H1460=\"\",\"-\",VLOOKUP(V1460,読み替え表_スマートムーブ!$C$16:$F$21,4,0))","v":"-"},"-",null,null,null,null,0,0,0,0,0,0,"*"]
[null,null,1452,null,null,null,null,null,null,null,null,null,null,null,null,null,null,null,null,null,null,null,null,null,null,null,null,null,null,null,null,null,null,null,null,{"$f":"IF(H1461=\"\",\"-\",VLOOKUP(T1461,読み替え表_スマートムーブ!$C$4:$F$13,4,0))","v":"-"},{"$f":"IF(H1461=\"\",\"-\",VLOOKUP(V1461,読み替え表_スマートムーブ!$C$16:$F$21,4,0))","v":"-"},"-",null,null,null,null,0,0,0,0,0,0,"*"]
[null,null,1453,null,null,null,null,null,null,null,null,null,null,null,null,null,null,null,null,null,null,null,null,null,null,null,null,null,null,null,null,null,null,null,null,{"$f":"IF(H1462=\"\",\"-\",VLOOKUP(T1462,読み替え表_スマートムーブ!$C$4:$F$13,4,0))","v":"-"},{"$f":"IF(H1462=\"\",\"-\",VLOOKUP(V1462,読み替え表_スマートムーブ!$C$16:$F$21,4,0))","v":"-"},"-",null,null,null,null,0,0,0,0,0,0,"*"]
[null,null,1454,null,null,null,null,null,null,null,null,null,null,null,null,null,null,null,null,null,null,null,null,null,null,null,null,null,null,null,null,null,null,null,null,{"$f":"IF(H1463=\"\",\"-\",VLOOKUP(T1463,読み替え表_スマートムーブ!$C$4:$F$13,4,0))","v":"-"},{"$f":"IF(H1463=\"\",\"-\",VLOOKUP(V1463,読み替え表_スマートムーブ!$C$16:$F$21,4,0))","v":"-"},"-",null,null,null,null,0,0,0,0,0,0,"*"]
[null,null,1455,null,null,null,null,null,null,null,null,null,null,null,null,null,null,null,null,null,null,null,null,null,null,null,null,null,null,null,null,null,null,null,null,{"$f":"IF(H1464=\"\",\"-\",VLOOKUP(T1464,読み替え表_スマートムーブ!$C$4:$F$13,4,0))","v":"-"},{"$f":"IF(H1464=\"\",\"-\",VLOOKUP(V1464,読み替え表_スマートムーブ!$C$16:$F$21,4,0))","v":"-"},"-",null,null,null,null,0,0,0,0,0,0,"*"]
[null,null,1456,null,null,null,null,null,null,null,null,null,null,null,null,null,null,null,null,null,null,null,null,null,null,null,null,null,null,null,null,null,null,null,null,{"$f":"IF(H1465=\"\",\"-\",VLOOKUP(T1465,読み替え表_スマートムーブ!$C$4:$F$13,4,0))","v":"-"},{"$f":"IF(H1465=\"\",\"-\",VLOOKUP(V1465,読み替え表_スマートムーブ!$C$16:$F$21,4,0))","v":"-"},"-",null,null,null,null,0,0,0,0,0,0,"*"]
[null,null,1457,null,null,null,null,null,null,null,null,null,null,null,null,null,null,null,null,null,null,null,null,null,null,null,null,null,null,null,null,null,null,null,null,{"$f":"IF(H1466=\"\",\"-\",VLOOKUP(T1466,読み替え表_スマートムーブ!$C$4:$F$13,4,0))","v":"-"},{"$f":"IF(H1466=\"\",\"-\",VLOOKUP(V1466,読み替え表_スマートムーブ!$C$16:$F$21,4,0))","v":"-"},"-",null,null,null,null,0,0,0,0,0,0,"*"]
[null,null,1458,null,null,null,null,null,null,null,null,null,null,null,null,null,null,null,null,null,null,null,null,null,null,null,null,null,null,null,null,null,null,null,null,{"$f":"IF(H1467=\"\",\"-\",VLOOKUP(T1467,読み替え表_スマートムーブ!$C$4:$F$13,4,0))","v":"-"},{"$f":"IF(H1467=\"\",\"-\",VLOOKUP(V1467,読み替え表_スマートムーブ!$C$16:$F$21,4,0))","v":"-"},"-",null,null,null,null,0,0,0,0,0,0,"*"]
[null,null,1459,null,null,null,null,null,null,null,null,null,null,null,null,null,null,null,null,null,null,null,null,null,null,null,null,null,null,null,null,null,null,null,null,{"$f":"IF(H1468=\"\",\"-\",VLOOKUP(T1468,読み替え表_スマートムーブ!$C$4:$F$13,4,0))","v":"-"},{"$f":"IF(H1468=\"\",\"-\",VLOOKUP(V1468,読み替え表_スマートムーブ!$C$16:$F$21,4,0))","v":"-"},"-",null,null,null,null,0,0,0,0,0,0,"*"]
[null,null,1460,null,null,null,null,null,null,null,null,null,null,null,null,null,null,null,null,null,null,null,null,null,null,null,null,null,null,null,null,null,null,null,null,{"$f":"IF(H1469=\"\",\"-\",VLOOKUP(T1469,読み替え表_スマートムーブ!$C$4:$F$13,4,0))","v":"-"},{"$f":"IF(H1469=\"\",\"-\",VLOOKUP(V1469,読み替え表_スマートムーブ!$C$16:$F$21,4,0))","v":"-"},"-",null,null,null,null,0,0,0,0,0,0,"*"]
[null,null,1461,null,null,null,null,null,null,null,null,null,null,null,null,null,null,null,null,null,null,null,null,null,null,null,null,null,null,null,null,null,null,null,null,{"$f":"IF(H1470=\"\",\"-\",VLOOKUP(T1470,読み替え表_スマートムーブ!$C$4:$F$13,4,0))","v":"-"},{"$f":"IF(H1470=\"\",\"-\",VLOOKUP(V1470,読み替え表_スマートムーブ!$C$16:$F$21,4,0))","v":"-"},"-",null,null,null,null,0,0,0,0,0,0,"*"]
[null,null,1462,null,null,null,null,null,null,null,null,null,null,null,null,null,null,null,null,null,null,null,null,null,null,null,null,null,null,null,null,null,null,null,null,{"$f":"IF(H1471=\"\",\"-\",VLOOKUP(T1471,読み替え表_スマートムーブ!$C$4:$F$13,4,0))","v":"-"},{"$f":"IF(H1471=\"\",\"-\",VLOOKUP(V1471,読み替え表_スマートムーブ!$C$16:$F$21,4,0))","v":"-"},"-",null,null,null,null,0,0,0,0,0,0,"*"]
[null,null,1463,null,null,null,null,null,null,null,null,null,null,null,null,null,null,null,null,null,null,null,null,null,null,null,null,null,null,null,null,null,null,null,null,{"$f":"IF(H1472=\"\",\"-\",VLOOKUP(T1472,読み替え表_スマートムーブ!$C$4:$F$13,4,0))","v":"-"},{"$f":"IF(H1472=\"\",\"-\",VLOOKUP(V1472,読み替え表_スマートムーブ!$C$16:$F$21,4,0))","v":"-"},"-",null,null,null,null,0,0,0,0,0,0,"*"]
[null,null,1464,null,null,null,null,null,null,null,null,null,null,null,null,null,null,null,null,null,null,null,null,null,null,null,null,null,null,null,null,null,null,null,null,{"$f":"IF(H1473=\"\",\"-\",VLOOKUP(T1473,読み替え表_スマートムーブ!$C$4:$F$13,4,0))","v":"-"},{"$f":"IF(H1473=\"\",\"-\",VLOOKUP(V1473,読み替え表_スマートムーブ!$C$16:$F$21,4,0))","v":"-"},"-",null,null,null,null,0,0,0,0,0,0,"*"]
[null,null,1465,null,null,null,null,null,null,null,null,null,null,null,null,null,null,null,null,null,null,null,null,null,null,null,null,null,null,null,null,null,null,null,null,{"$f":"IF(H1474=\"\",\"-\",VLOOKUP(T1474,読み替え表_スマートムーブ!$C$4:$F$13,4,0))","v":"-"},{"$f":"IF(H1474=\"\",\"-\",VLOOKUP(V1474,読み替え表_スマートムーブ!$C$16:$F$21,4,0))","v":"-"},"-",null,null,null,null,0,0,0,0,0,0,"*"]
[null,null,1466,null,null,null,null,null,null,null,null,null,null,null,null,null,null,null,null,null,null,null,null,null,null,null,null,null,null,null,null,null,null,null,null,{"$f":"IF(H1475=\"\",\"-\",VLOOKUP(T1475,読み替え表_スマートムーブ!$C$4:$F$13,4,0))","v":"-"},{"$f":"IF(H1475=\"\",\"-\",VLOOKUP(V1475,読み替え表_スマートムーブ!$C$16:$F$21,4,0))","v":"-"},"-",null,null,null,null,0,0,0,0,0,0,"*"]
[null,null,1467,null,null,null,null,null,null,null,null,null,null,null,null,null,null,null,null,null,null,null,null,null,null,null,null,null,null,null,null,null,null,null,null,{"$f":"IF(H1476=\"\",\"-\",VLOOKUP(T1476,読み替え表_スマートムーブ!$C$4:$F$13,4,0))","v":"-"},{"$f":"IF(H1476=\"\",\"-\",VLOOKUP(V1476,読み替え表_スマートムーブ!$C$16:$F$21,4,0))","v":"-"},"-",null,null,null,null,0,0,0,0,0,0,"*"]
[null,null,1468,null,null,null,null,null,null,null,null,null,null,null,null,null,null,null,null,null,null,null,null,null,null,null,null,null,null,null,null,null,null,null,null,{"$f":"IF(H1477=\"\",\"-\",VLOOKUP(T1477,読み替え表_スマートムーブ!$C$4:$F$13,4,0))","v":"-"},{"$f":"IF(H1477=\"\",\"-\",VLOOKUP(V1477,読み替え表_スマートムーブ!$C$16:$F$21,4,0))","v":"-"},"-",null,null,null,null,0,0,0,0,0,0,"*"]
[null,null,1469,null,null,null,null,null,null,null,null,null,null,null,null,null,null,null,null,null,null,null,null,null,null,null,null,null,null,null,null,null,null,null,null,{"$f":"IF(H1478=\"\",\"-\",VLOOKUP(T1478,読み替え表_スマートムーブ!$C$4:$F$13,4,0))","v":"-"},{"$f":"IF(H1478=\"\",\"-\",VLOOKUP(V1478,読み替え表_スマートムーブ!$C$16:$F$21,4,0))","v":"-"},"-",null,null,null,null,0,0,0,0,0,0,"*"]
[null,null,1470,null,null,null,null,null,null,null,null,null,null,null,null,null,null,null,null,null,null,null,null,null,null,null,null,null,null,null,null,null,null,null,null,{"$f":"IF(H1479=\"\",\"-\",VLOOKUP(T1479,読み替え表_スマートムーブ!$C$4:$F$13,4,0))","v":"-"},{"$f":"IF(H1479=\"\",\"-\",VLOOKUP(V1479,読み替え表_スマートムーブ!$C$16:$F$21,4,0))","v":"-"},"-",null,null,null,null,0,0,0,0,0,0,"*"]
[null,null,1471,null,null,null,null,null,null,null,null,null,null,null,null,null,null,null,null,null,null,null,null,null,null,null,null,null,null,null,null,null,null,null,null,{"$f":"IF(H1480=\"\",\"-\",VLOOKUP(T1480,読み替え表_スマートムーブ!$C$4:$F$13,4,0))","v":"-"},{"$f":"IF(H1480=\"\",\"-\",VLOOKUP(V1480,読み替え表_スマートムーブ!$C$16:$F$21,4,0))","v":"-"},"-",null,null,null,null,0,0,0,0,0,0,"*"]
[null,null,1472,null,null,null,null,null,null,null,null,null,null,null,null,null,null,null,null,null,null,null,null,null,null,null,null,null,null,null,null,null,null,null,null,{"$f":"IF(H1481=\"\",\"-\",VLOOKUP(T1481,読み替え表_スマートムーブ!$C$4:$F$13,4,0))","v":"-"},{"$f":"IF(H1481=\"\",\"-\",VLOOKUP(V1481,読み替え表_スマートムーブ!$C$16:$F$21,4,0))","v":"-"},"-",null,null,null,null,0,0,0,0,0,0,"*"]
[null,null,1473,null,null,null,null,null,null,null,null,null,null,null,null,null,null,null,null,null,null,null,null,null,null,null,null,null,null,null,null,null,null,null,null,{"$f":"IF(H1482=\"\",\"-\",VLOOKUP(T1482,読み替え表_スマートムーブ!$C$4:$F$13,4,0))","v":"-"},{"$f":"IF(H1482=\"\",\"-\",VLOOKUP(V1482,読み替え表_スマートムーブ!$C$16:$F$21,4,0))","v":"-"},"-",null,null,null,null,0,0,0,0,0,{"$f":"AQ1482","v":0},"*"]
[null,null,{"$f":"ROW()-9","v":1474},null,null,null,null,null,null,null,null,null,null,null,null,null,null,null,null,null,null,null,null,null,null,null,null,null,null,null,null,null,null,null,null,{"$f":"IF(H1483=\"\",\"-\",VLOOKUP(T1483,読み替え表_スマートムーブ!$C$4:$F$13,4,0))","v":"-"},{"$f":"IF(H1483=\"\",\"-\",VLOOKUP(V1483,読み替え表_スマートムーブ!$C$16:$F$21,4,0))","v":"-"},"-",null,null,null,null,{"$f":"IF(SUM($AR1483:$AT1483)>=1,1,0)","v":0},{"$f":"IF(R1483=1,1,0)","v":0},{"$f":"IF(T1483=9,1,0)","v":0},{"$f":"IF(V1483=5,1,0)","v":0},{"$f":"IF(OR($X1483=1,$X1483=2,$X1483=3),1,0)","v":0},0,"*"]
[null,null,1475,null,null,null,null,null,null,null,null,null,null,null,null,null,null,null,null,null,null,null,null,null,null,null,null,null,null,null,null,null,null,null,null,{"$f":"IF(H1484=\"\",\"-\",VLOOKUP(T1484,読み替え表_スマートムーブ!$C$4:$F$13,4,0))","v":"-"},{"$f":"IF(H1484=\"\",\"-\",VLOOKUP(V1484,読み替え表_スマートムーブ!$C$16:$F$21,4,0))","v":"-"},"-",null,null,null,null,0,0,0,0,0,0,"*"]
[null,null,1476,null,null,null,null,null,null,null,null,null,null,null,null,null,null,null,null,null,null,null,null,null,null,null,null,null,null,null,null,null,null,null,null,{"$f":"IF(H1485=\"\",\"-\",VLOOKUP(T1485,読み替え表_スマートムーブ!$C$4:$F$13,4,0))","v":"-"},{"$f":"IF(H1485=\"\",\"-\",VLOOKUP(V1485,読み替え表_スマートムーブ!$C$16:$F$21,4,0))","v":"-"},"-",null,null,null,null,0,0,0,0,0,0,"*"]
[null,null,1477,null,null,null,null,null,null,null,null,null,null,null,null,null,null,null,null,null,null,null,null,null,null,null,null,null,null,null,null,null,null,null,null,{"$f":"IF(H1486=\"\",\"-\",VLOOKUP(T1486,読み替え表_スマートムーブ!$C$4:$F$13,4,0))","v":"-"},{"$f":"IF(H1486=\"\",\"-\",VLOOKUP(V1486,読み替え表_スマートムーブ!$C$16:$F$21,4,0))","v":"-"},"-",null,null,null,null,0,0,0,0,0,0,"*"]
[null,null,1478,null,null,null,null,null,null,null,null,null,null,null,null,null,null,null,null,null,null,null,null,null,null,null,null,null,null,null,null,null,null,null,null,{"$f":"IF(H1487=\"\",\"-\",VLOOKUP(T1487,読み替え表_スマートムーブ!$C$4:$F$13,4,0))","v":"-"},{"$f":"IF(H1487=\"\",\"-\",VLOOKUP(V1487,読み替え表_スマートムーブ!$C$16:$F$21,4,0))","v":"-"},"-",null,null,null,null,0,0,0,0,0,0,"*"]
[null,null,1479,null,null,null,null,null,null,null,null,null,null,null,null,null,null,null,null,null,null,null,null,null,null,null,null,null,null,null,null,null,null,null,null,{"$f":"IF(H1488=\"\",\"-\",VLOOKUP(T1488,読み替え表_スマートムーブ!$C$4:$F$13,4,0))","v":"-"},{"$f":"IF(H1488=\"\",\"-\",VLOOKUP(V1488,読み替え表_スマートムーブ!$C$16:$F$21,4,0))","v":"-"},"-",null,null,null,null,0,0,0,0,0,0,"*"]
[null,null,1480,null,null,null,null,null,null,null,null,null,null,null,null,null,null,null,null,null,null,null,null,null,null,null,null,null,null,null,null,null,null,null,null,{"$f":"IF(H1489=\"\",\"-\",VLOOKUP(T1489,読み替え表_スマートムーブ!$C$4:$F$13,4,0))","v":"-"},{"$f":"IF(H1489=\"\",\"-\",VLOOKUP(V1489,読み替え表_スマートムーブ!$C$16:$F$21,4,0))","v":"-"},"-",null,null,null,null,0,0,0,0,0,0,"*"]
[null,null,1481,null,null,null,null,null,null,null,null,null,null,null,null,null,null,null,null,null,null,null,null,null,null,null,null,null,null,null,null,null,null,null,null,{"$f":"IF(H1490=\"\",\"-\",VLOOKUP(T1490,読み替え表_スマートムーブ!$C$4:$F$13,4,0))","v":"-"},{"$f":"IF(H1490=\"\",\"-\",VLOOKUP(V1490,読み替え表_スマートムーブ!$C$16:$F$21,4,0))","v":"-"},"-",null,null,null,null,0,0,0,0,0,0,"*"]
[null,null,1482,null,null,null,null,null,null,null,null,null,null,null,null,null,null,null,null,null,null,null,null,null,null,null,null,null,null,null,null,null,null,null,null,{"$f":"IF(H1491=\"\",\"-\",VLOOKUP(T1491,読み替え表_スマートムーブ!$C$4:$F$13,4,0))","v":"-"},{"$f":"IF(H1491=\"\",\"-\",VLOOKUP(V1491,読み替え表_スマートムーブ!$C$16:$F$21,4,0))","v":"-"},"-",null,null,null,null,0,0,0,0,0,0,"*"]
[null,null,1483,null,null,null,null,null,null,null,null,null,null,null,null,null,null,null,null,null,null,null,null,null,null,null,null,null,null,null,null,null,null,null,null,{"$f":"IF(H1492=\"\",\"-\",VLOOKUP(T1492,読み替え表_スマートムーブ!$C$4:$F$13,4,0))","v":"-"},{"$f":"IF(H1492=\"\",\"-\",VLOOKUP(V1492,読み替え表_スマートムーブ!$C$16:$F$21,4,0))","v":"-"},"-",null,null,null,null,0,0,0,0,0,0,"*"]
[null,null,1484,null,null,null,null,null,null,null,null,null,null,null,null,null,null,null,null,null,null,null,null,null,null,null,null,null,null,null,null,null,null,null,null,{"$f":"IF(H1493=\"\",\"-\",VLOOKUP(T1493,読み替え表_スマートムーブ!$C$4:$F$13,4,0))","v":"-"},{"$f":"IF(H1493=\"\",\"-\",VLOOKUP(V1493,読み替え表_スマートムーブ!$C$16:$F$21,4,0))","v":"-"},"-",null,null,null,null,0,0,0,0,0,0,"*"]
[null,null,1485,null,null,null,null,null,null,null,null,null,null,null,null,null,null,null,null,null,null,null,null,null,null,null,null,null,null,null,null,null,null,null,null,{"$f":"IF(H1494=\"\",\"-\",VLOOKUP(T1494,読み替え表_スマートムーブ!$C$4:$F$13,4,0))","v":"-"},{"$f":"IF(H1494=\"\",\"-\",VLOOKUP(V1494,読み替え表_スマートムーブ!$C$16:$F$21,4,0))","v":"-"},"-",null,null,null,null,0,0,0,0,0,0,"*"]
[null,null,1486,null,null,null,null,null,null,null,null,null,null,null,null,null,null,null,null,null,null,null,null,null,null,null,null,null,null,null,null,null,null,null,null,{"$f":"IF(H1495=\"\",\"-\",VLOOKUP(T1495,読み替え表_スマートムーブ!$C$4:$F$13,4,0))","v":"-"},{"$f":"IF(H1495=\"\",\"-\",VLOOKUP(V1495,読み替え表_スマートムーブ!$C$16:$F$21,4,0))","v":"-"},"-",null,null,null,null,0,0,0,0,0,0,"*"]
[null,null,1487,null,null,null,null,null,null,null,null,null,null,null,null,null,null,null,null,null,null,null,null,null,null,null,null,null,null,null,null,null,null,null,null,{"$f":"IF(H1496=\"\",\"-\",VLOOKUP(T1496,読み替え表_スマートムーブ!$C$4:$F$13,4,0))","v":"-"},{"$f":"IF(H1496=\"\",\"-\",VLOOKUP(V1496,読み替え表_スマートムーブ!$C$16:$F$21,4,0))","v":"-"},"-",null,null,null,null,0,0,0,0,0,0,"*"]
[null,null,1488,null,null,null,null,null,null,null,null,null,null,null,null,null,null,null,null,null,null,null,null,null,null,null,null,null,null,null,null,null,null,null,null,{"$f":"IF(H1497=\"\",\"-\",VLOOKUP(T1497,読み替え表_スマートムーブ!$C$4:$F$13,4,0))","v":"-"},{"$f":"IF(H1497=\"\",\"-\",VLOOKUP(V1497,読み替え表_スマートムーブ!$C$16:$F$21,4,0))","v":"-"},"-",null,null,null,null,0,0,0,0,0,0,"*"]
[null,null,1489,null,null,null,null,null,null,null,null,null,null,null,null,null,null,null,null,null,null,null,null,null,null,null,null,null,null,null,null,null,null,null,null,{"$f":"IF(H1498=\"\",\"-\",VLOOKUP(T1498,読み替え表_スマートムーブ!$C$4:$F$13,4,0))","v":"-"},{"$f":"IF(H1498=\"\",\"-\",VLOOKUP(V1498,読み替え表_スマートムーブ!$C$16:$F$21,4,0))","v":"-"},"-",null,null,null,null,0,0,0,0,0,0,"*"]
[null,null,1490,null,null,null,null,null,null,null,null,null,null,null,null,null,null,null,null,null,null,null,null,null,null,null,null,null,null,null,null,null,null,null,null,{"$f":"IF(H1499=\"\",\"-\",VLOOKUP(T1499,読み替え表_スマートムーブ!$C$4:$F$13,4,0))","v":"-"},{"$f":"IF(H1499=\"\",\"-\",VLOOKUP(V1499,読み替え表_スマートムーブ!$C$16:$F$21,4,0))","v":"-"},"-",null,null,null,null,0,0,0,0,0,0,"*"]
[null,null,1491,null,null,null,null,null,null,null,null,null,null,null,null,null,null,null,null,null,null,null,null,null,null,null,null,null,null,null,null,null,null,null,null,{"$f":"IF(H1500=\"\",\"-\",VLOOKUP(T1500,読み替え表_スマートムーブ!$C$4:$F$13,4,0))","v":"-"},{"$f":"IF(H1500=\"\",\"-\",VLOOKUP(V1500,読み替え表_スマートムーブ!$C$16:$F$21,4,0))","v":"-"},"-",null,null,null,null,0,0,0,0,0,0,"*"]
[null,null,1492,null,null,null,null,null,null,null,null,null,null,null,null,null,null,null,null,null,null,null,null,null,null,null,null,null,null,null,null,null,null,null,null,{"$f":"IF(H1501=\"\",\"-\",VLOOKUP(T1501,読み替え表_スマートムーブ!$C$4:$F$13,4,0))","v":"-"},{"$f":"IF(H1501=\"\",\"-\",VLOOKUP(V1501,読み替え表_スマートムーブ!$C$16:$F$21,4,0))","v":"-"},"-",null,null,null,null,0,0,0,0,0,0,"*"]
[null,null,1493,null,null,null,null,null,null,null,null,null,null,null,null,null,null,null,null,null,null,null,null,null,null,null,null,null,null,null,null,null,null,null,null,{"$f":"IF(H1502=\"\",\"-\",VLOOKUP(T1502,読み替え表_スマートムーブ!$C$4:$F$13,4,0))","v":"-"},{"$f":"IF(H1502=\"\",\"-\",VLOOKUP(V1502,読み替え表_スマートムーブ!$C$16:$F$21,4,0))","v":"-"},"-",null,null,null,null,0,0,0,0,0,0,"*"]
[null,null,1494,null,null,null,null,null,null,null,null,null,null,null,null,null,null,null,null,null,null,null,null,null,null,null,null,null,null,null,null,null,null,null,null,{"$f":"IF(H1503=\"\",\"-\",VLOOKUP(T1503,読み替え表_スマートムーブ!$C$4:$F$13,4,0))","v":"-"},{"$f":"IF(H1503=\"\",\"-\",VLOOKUP(V1503,読み替え表_スマートムーブ!$C$16:$F$21,4,0))","v":"-"},"-",null,null,null,null,0,0,0,0,0,0,"*"]
[null,null,1495,null,null,null,null,null,null,null,null,null,null,null,null,null,null,null,null,null,null,null,null,null,null,null,null,null,null,null,null,null,null,null,null,{"$f":"IF(H1504=\"\",\"-\",VLOOKUP(T1504,読み替え表_スマートムーブ!$C$4:$F$13,4,0))","v":"-"},{"$f":"IF(H1504=\"\",\"-\",VLOOKUP(V1504,読み替え表_スマートムーブ!$C$16:$F$21,4,0))","v":"-"},"-",null,null,null,null,0,0,0,0,0,0,"*"]
[null,null,1496,null,null,null,null,null,null,null,null,null,null,null,null,null,null,null,null,null,null,null,null,null,null,null,null,null,null,null,null,null,null,null,null,{"$f":"IF(H1505=\"\",\"-\",VLOOKUP(T1505,読み替え表_スマートムーブ!$C$4:$F$13,4,0))","v":"-"},{"$f":"IF(H1505=\"\",\"-\",VLOOKUP(V1505,読み替え表_スマートムーブ!$C$16:$F$21,4,0))","v":"-"},"-",null,null,null,null,0,0,0,0,0,0,"*"]
[null,null,1497,null,null,null,null,null,null,null,null,null,null,null,null,null,null,null,null,null,null,null,null,null,null,null,null,null,null,null,null,null,null,null,null,{"$f":"IF(H1506=\"\",\"-\",VLOOKUP(T1506,読み替え表_スマートムーブ!$C$4:$F$13,4,0))","v":"-"},{"$f":"IF(H1506=\"\",\"-\",VLOOKUP(V1506,読み替え表_スマートムーブ!$C$16:$F$21,4,0))","v":"-"},"-",null,null,null,null,0,0,0,0,0,0,"*"]
[null,null,1498,null,null,null,null,null,null,null,null,null,null,null,null,null,null,null,null,null,null,null,null,null,null,null,null,null,null,null,null,null,null,null,null,{"$f":"IF(H1507=\"\",\"-\",VLOOKUP(T1507,読み替え表_スマートムーブ!$C$4:$F$13,4,0))","v":"-"},{"$f":"IF(H1507=\"\",\"-\",VLOOKUP(V1507,読み替え表_スマートムーブ!$C$16:$F$21,4,0))","v":"-"},"-",null,null,null,null,0,0,0,0,0,0,"*"]
[null,null,1499,null,null,null,null,null,null,null,null,null,null,null,null,null,null,null,null,null,null,null,null,null,null,null,null,null,null,null,null,null,null,null,null,{"$f":"IF(H1508=\"\",\"-\",VLOOKUP(T1508,読み替え表_スマートムーブ!$C$4:$F$13,4,0))","v":"-"},{"$f":"IF(H1508=\"\",\"-\",VLOOKUP(V1508,読み替え表_スマートムーブ!$C$16:$F$21,4,0))","v":"-"},"-",null,null,null,null,0,0,0,0,0,0,"*"]
[null,null,1500,null,null,null,null,null,null,null,null,null,null,null,null,null,null,null,null,null,null,null,null,null,null,null,null,null,null,null,null,null,null,null,null,{"$f":"IF(H1509=\"\",\"-\",VLOOKUP(T1509,読み替え表_スマートムーブ!$C$4:$F$13,4,0))","v":"-"},{"$f":"IF(H1509=\"\",\"-\",VLOOKUP(V1509,読み替え表_スマートムーブ!$C$16:$F$21,4,0))","v":"-"},"-",null,null,null,null,0,0,0,0,0,0,"*"]
[null,null,1501,null,null,null,null,null,null,null,null,null,null,null,null,null,null,null,null,null,null,null,null,null,null,null,null,null,null,null,null,null,null,null,null,{"$f":"IF(H1510=\"\",\"-\",VLOOKUP(T1510,読み替え表_スマートムーブ!$C$4:$F$13,4,0))","v":"-"},{"$f":"IF(H1510=\"\",\"-\",VLOOKUP(V1510,読み替え表_スマートムーブ!$C$16:$F$21,4,0))","v":"-"},"-",null,null,null,null,0,0,0,0,0,0,"*"]
[null,null,1502,null,null,null,null,null,null,null,null,null,null,null,null,null,null,null,null,null,null,null,null,null,null,null,null,null,null,null,null,null,null,null,null,{"$f":"IF(H1511=\"\",\"-\",VLOOKUP(T1511,読み替え表_スマートムーブ!$C$4:$F$13,4,0))","v":"-"},{"$f":"IF(H1511=\"\",\"-\",VLOOKUP(V1511,読み替え表_スマートムーブ!$C$16:$F$21,4,0))","v":"-"},"-",null,null,null,null,0,0,0,0,0,0,"*"]
[null,null,1503,null,null,null,null,null,null,null,null,null,null,null,null,null,null,null,null,null,null,null,null,null,null,null,null,null,null,null,null,null,null,null,null,{"$f":"IF(H1512=\"\",\"-\",VLOOKUP(T1512,読み替え表_スマートムーブ!$C$4:$F$13,4,0))","v":"-"},{"$f":"IF(H1512=\"\",\"-\",VLOOKUP(V1512,読み替え表_スマートムーブ!$C$16:$F$21,4,0))","v":"-"},"-",null,null,null,null,0,0,0,0,0,0,"*"]
[null,null,1504,null,null,null,null,null,null,null,null,null,null,null,null,null,null,null,null,null,null,null,null,null,null,null,null,null,null,null,null,null,null,null,null,{"$f":"IF(H1513=\"\",\"-\",VLOOKUP(T1513,読み替え表_スマートムーブ!$C$4:$F$13,4,0))","v":"-"},{"$f":"IF(H1513=\"\",\"-\",VLOOKUP(V1513,読み替え表_スマートムーブ!$C$16:$F$21,4,0))","v":"-"},"-",null,null,null,null,0,0,0,0,0,0,"*"]
[null,null,1505,null,null,null,null,null,null,null,null,null,null,null,null,null,null,null,null,null,null,null,null,null,null,null,null,null,null,null,null,null,null,null,null,{"$f":"IF(H1514=\"\",\"-\",VLOOKUP(T1514,読み替え表_スマートムーブ!$C$4:$F$13,4,0))","v":"-"},{"$f":"IF(H1514=\"\",\"-\",VLOOKUP(V1514,読み替え表_スマートムーブ!$C$16:$F$21,4,0))","v":"-"},"-",null,null,null,null,0,0,0,0,0,0,"*"]
[null,null,1506,null,null,null,null,null,null,null,null,null,null,null,null,null,null,null,null,null,null,null,null,null,null,null,null,null,null,null,null,null,null,null,null,{"$f":"IF(H1515=\"\",\"-\",VLOOKUP(T1515,読み替え表_スマートムーブ!$C$4:$F$13,4,0))","v":"-"},{"$f":"IF(H1515=\"\",\"-\",VLOOKUP(V1515,読み替え表_スマートムーブ!$C$16:$F$21,4,0))","v":"-"},"-",null,null,null,null,0,0,0,0,0,0,"*"]
[null,null,1507,null,null,null,null,null,null,null,null,null,null,null,null,null,null,null,null,null,null,null,null,null,null,null,null,null,null,null,null,null,null,null,null,{"$f":"IF(H1516=\"\",\"-\",VLOOKUP(T1516,読み替え表_スマートムーブ!$C$4:$F$13,4,0))","v":"-"},{"$f":"IF(H1516=\"\",\"-\",VLOOKUP(V1516,読み替え表_スマートムーブ!$C$16:$F$21,4,0))","v":"-"},"-",null,null,null,null,0,0,0,0,0,0,"*"]
[null,null,1508,null,null,null,null,null,null,null,null,null,null,null,null,null,null,null,null,null,null,null,null,null,null,null,null,null,null,null,null,null,null,null,null,{"$f":"IF(H1517=\"\",\"-\",VLOOKUP(T1517,読み替え表_スマートムーブ!$C$4:$F$13,4,0))","v":"-"},{"$f":"IF(H1517=\"\",\"-\",VLOOKUP(V1517,読み替え表_スマートムーブ!$C$16:$F$21,4,0))","v":"-"},"-",null,null,null,null,0,0,0,0,0,0,"*"]
[null,null,1509,null,null,null,null,null,null,null,null,null,null,null,null,null,null,null,null,null,null,null,null,null,null,null,null,null,null,null,null,null,null,null,null,{"$f":"IF(H1518=\"\",\"-\",VLOOKUP(T1518,読み替え表_スマートムーブ!$C$4:$F$13,4,0))","v":"-"},{"$f":"IF(H1518=\"\",\"-\",VLOOKUP(V1518,読み替え表_スマートムーブ!$C$16:$F$21,4,0))","v":"-"},"-",null,null,null,null,0,0,0,0,0,0,"*"]
[null,null,1510,null,null,null,null,null,null,null,null,null,null,null,null,null,null,null,null,null,null,null,null,null,null,null,null,null,null,null,null,null,null,null,null,{"$f":"IF(H1519=\"\",\"-\",VLOOKUP(T1519,読み替え表_スマートムーブ!$C$4:$F$13,4,0))","v":"-"},{"$f":"IF(H1519=\"\",\"-\",VLOOKUP(V1519,読み替え表_スマートムーブ!$C$16:$F$21,4,0))","v":"-"},"-",null,null,null,null,0,0,0,0,0,0,"*"]
[null,null,1511,null,null,null,null,null,null,null,null,null,null,null,null,null,null,null,null,null,null,null,null,null,null,null,null,null,null,null,null,null,null,null,null,{"$f":"IF(H1520=\"\",\"-\",VLOOKUP(T1520,読み替え表_スマートムーブ!$C$4:$F$13,4,0))","v":"-"},{"$f":"IF(H1520=\"\",\"-\",VLOOKUP(V1520,読み替え表_スマートムーブ!$C$16:$F$21,4,0))","v":"-"},"-",null,null,null,null,0,0,0,0,0,0,"*"]
[null,null,1512,null,null,null,null,null,null,null,null,null,null,null,null,null,null,null,null,null,null,null,null,null,null,null,null,null,null,null,null,null,null,null,null,{"$f":"IF(H1521=\"\",\"-\",VLOOKUP(T1521,読み替え表_スマートムーブ!$C$4:$F$13,4,0))","v":"-"},{"$f":"IF(H1521=\"\",\"-\",VLOOKUP(V1521,読み替え表_スマートムーブ!$C$16:$F$21,4,0))","v":"-"},"-",null,null,null,null,0,0,0,0,0,0,"*"]
[null,null,1513,null,null,null,null,null,null,null,null,null,null,null,null,null,null,null,null,null,null,null,null,null,null,null,null,null,null,null,null,null,null,null,null,{"$f":"IF(H1522=\"\",\"-\",VLOOKUP(T1522,読み替え表_スマートムーブ!$C$4:$F$13,4,0))","v":"-"},{"$f":"IF(H1522=\"\",\"-\",VLOOKUP(V1522,読み替え表_スマートムーブ!$C$16:$F$21,4,0))","v":"-"},{"$f":"IF(H1522=\"\",\"-\",AJ1522*AK1522)","v":"-"},null,null,null,null,0,0,0,0,0,0,"*"]
[null,null,1514,null,null,null,null,null,null,null,null,null,null,null,null,null,null,null,null,null,null,null,null,null,null,null,null,null,null,null,null,null,null,null,null,{"$f":"IF(H1523=\"\",\"-\",VLOOKUP(T1523,読み替え表_スマートムーブ!$C$4:$F$13,4,0))","v":"-"},{"$f":"IF(H1523=\"\",\"-\",VLOOKUP(V1523,読み替え表_スマートムーブ!$C$16:$F$21,4,0))","v":"-"},"-",null,null,null,null,0,0,0,0,0,0,"*"]
[null,null,1515,null,null,null,null,null,null,null,null,null,null,null,null,null,null,null,null,null,null,null,null,null,null,null,null,null,null,null,null,null,null,null,null,{"$f":"IF(H1524=\"\",\"-\",VLOOKUP(T1524,読み替え表_スマートムーブ!$C$4:$F$13,4,0))","v":"-"},{"$f":"IF(H1524=\"\",\"-\",VLOOKUP(V1524,読み替え表_スマートムーブ!$C$16:$F$21,4,0))","v":"-"},"-",null,null,null,null,0,0,0,0,0,0,"*"]
[null,null,1516,null,null,null,null,null,null,null,null,null,null,null,null,null,null,null,null,null,null,null,null,null,null,null,null,null,null,null,null,null,null,null,null,{"$f":"IF(H1525=\"\",\"-\",VLOOKUP(T1525,読み替え表_スマートムーブ!$C$4:$F$13,4,0))","v":"-"},{"$f":"IF(H1525=\"\",\"-\",VLOOKUP(V1525,読み替え表_スマートムーブ!$C$16:$F$21,4,0))","v":"-"},"-",null,null,null,null,0,0,0,0,0,0,"*"]
[null,null,1517,null,null,null,null,null,null,null,null,null,null,null,null,null,null,null,null,null,null,null,null,null,null,null,null,null,null,null,null,null,null,null,null,{"$f":"IF(H1526=\"\",\"-\",VLOOKUP(T1526,読み替え表_スマートムーブ!$C$4:$F$13,4,0))","v":"-"},{"$f":"IF(H1526=\"\",\"-\",VLOOKUP(V1526,読み替え表_スマートムーブ!$C$16:$F$21,4,0))","v":"-"},"-",null,null,null,null,0,0,0,0,0,0,"*"]
[null,null,1518,null,null,null,null,null,null,null,null,null,null,null,null,null,null,null,null,null,null,null,null,null,null,null,null,null,null,null,null,null,null,null,null,{"$f":"IF(H1527=\"\",\"-\",VLOOKUP(T1527,読み替え表_スマートムーブ!$C$4:$F$13,4,0))","v":"-"},{"$f":"IF(H1527=\"\",\"-\",VLOOKUP(V1527,読み替え表_スマートムーブ!$C$16:$F$21,4,0))","v":"-"},"-",null,null,null,null,0,0,0,0,0,0,"*"]
[null,null,1519,null,null,null,null,null,null,null,null,null,null,null,null,null,null,null,null,null,null,null,null,null,null,null,null,null,null,null,null,null,null,null,null,{"$f":"IF(H1528=\"\",\"-\",VLOOKUP(T1528,読み替え表_スマートムーブ!$C$4:$F$13,4,0))","v":"-"},{"$f":"IF(H1528=\"\",\"-\",VLOOKUP(V1528,読み替え表_スマートムーブ!$C$16:$F$21,4,0))","v":"-"},"-",null,null,null,null,0,0,0,0,0,0,"*"]
[null,null,1520,null,null,null,null,null,null,null,null,null,null,null,null,null,null,null,null,null,null,null,null,null,null,null,null,null,null,null,null,null,null,null,null,{"$f":"IF(H1529=\"\",\"-\",VLOOKUP(T1529,読み替え表_スマートムーブ!$C$4:$F$13,4,0))","v":"-"},{"$f":"IF(H1529=\"\",\"-\",VLOOKUP(V1529,読み替え表_スマートムーブ!$C$16:$F$21,4,0))","v":"-"},"-",null,null,null,null,0,0,0,0,0,0,"*"]
[null,null,1521,null,null,null,null,null,null,null,null,null,null,null,null,null,null,null,null,null,null,null,null,null,null,null,null,null,null,null,null,null,null,null,null,{"$f":"IF(H1530=\"\",\"-\",VLOOKUP(T1530,読み替え表_スマートムーブ!$C$4:$F$13,4,0))","v":"-"},{"$f":"IF(H1530=\"\",\"-\",VLOOKUP(V1530,読み替え表_スマートムーブ!$C$16:$F$21,4,0))","v":"-"},"-",null,null,null,null,0,0,0,0,0,0,"*"]
[null,null,1522,null,null,null,null,null,null,null,null,null,null,null,null,null,null,null,null,null,null,null,null,null,null,null,null,null,null,null,null,null,null,null,null,{"$f":"IF(H1531=\"\",\"-\",VLOOKUP(T1531,読み替え表_スマートムーブ!$C$4:$F$13,4,0))","v":"-"},{"$f":"IF(H1531=\"\",\"-\",VLOOKUP(V1531,読み替え表_スマートムーブ!$C$16:$F$21,4,0))","v":"-"},"-",null,null,null,null,0,0,0,0,0,0,"*"]
[null,null,1523,null,null,null,null,null,null,null,null,null,null,null,null,null,null,null,null,null,null,null,null,null,null,null,null,null,null,null,null,null,null,null,null,{"$f":"IF(H1532=\"\",\"-\",VLOOKUP(T1532,読み替え表_スマートムーブ!$C$4:$F$13,4,0))","v":"-"},{"$f":"IF(H1532=\"\",\"-\",VLOOKUP(V1532,読み替え表_スマートムーブ!$C$16:$F$21,4,0))","v":"-"},"-",null,null,null,null,0,0,0,0,0,0,"*"]
[null,null,1524,null,null,null,null,null,null,null,null,null,null,null,null,null,null,null,null,null,null,null,null,null,null,null,null,null,null,null,null,null,null,null,null,{"$f":"IF(H1533=\"\",\"-\",VLOOKUP(T1533,読み替え表_スマートムーブ!$C$4:$F$13,4,0))","v":"-"},{"$f":"IF(H1533=\"\",\"-\",VLOOKUP(V1533,読み替え表_スマートムーブ!$C$16:$F$21,4,0))","v":"-"},"-",null,null,null,null,0,0,0,0,0,0,"*"]
[null,null,1525,null,null,null,null,null,null,null,null,null,null,null,null,null,null,null,null,null,null,null,null,null,null,null,null,null,null,null,null,null,null,null,null,{"$f":"IF(H1534=\"\",\"-\",VLOOKUP(T1534,読み替え表_スマートムーブ!$C$4:$F$13,4,0))","v":"-"},{"$f":"IF(H1534=\"\",\"-\",VLOOKUP(V1534,読み替え表_スマートムーブ!$C$16:$F$21,4,0))","v":"-"},"-",null,null,null,null,0,0,0,0,0,0,"*"]
[null,null,1526,null,null,null,null,null,null,null,null,null,null,null,null,null,null,null,null,null,null,null,null,null,null,null,null,null,null,null,null,null,null,null,null,{"$f":"IF(H1535=\"\",\"-\",VLOOKUP(T1535,読み替え表_スマートムーブ!$C$4:$F$13,4,0))","v":"-"},{"$f":"IF(H1535=\"\",\"-\",VLOOKUP(V1535,読み替え表_スマートムーブ!$C$16:$F$21,4,0))","v":"-"},"-",null,null,null,null,0,0,0,0,0,0,"*"]
[null,null,1527,null,null,null,null,null,null,null,null,null,null,null,null,null,null,null,null,null,null,null,null,null,null,null,null,null,null,null,null,null,null,null,null,{"$f":"IF(H1536=\"\",\"-\",VLOOKUP(T1536,読み替え表_スマートムーブ!$C$4:$F$13,4,0))","v":"-"},{"$f":"IF(H1536=\"\",\"-\",VLOOKUP(V1536,読み替え表_スマートムーブ!$C$16:$F$21,4,0))","v":"-"},"-",null,null,null,null,0,0,0,0,0,0,"*"]
[null,null,1528,null,null,null,null,null,null,null,null,null,null,null,null,null,null,null,null,null,null,null,null,null,null,null,null,null,null,null,null,null,null,null,null,{"$f":"IF(H1537=\"\",\"-\",VLOOKUP(T1537,読み替え表_スマートムーブ!$C$4:$F$13,4,0))","v":"-"},{"$f":"IF(H1537=\"\",\"-\",VLOOKUP(V1537,読み替え表_スマートムーブ!$C$16:$F$21,4,0))","v":"-"},"-",null,null,null,null,0,0,0,0,0,0,"*"]
[null,null,1529,null,null,null,null,null,null,null,null,null,null,null,null,null,null,null,null,null,null,null,null,null,null,null,null,null,null,null,null,null,null,null,null,{"$f":"IF(H1538=\"\",\"-\",VLOOKUP(T1538,読み替え表_スマートムーブ!$C$4:$F$13,4,0))","v":"-"},{"$f":"IF(H1538=\"\",\"-\",VLOOKUP(V1538,読み替え表_スマートムーブ!$C$16:$F$21,4,0))","v":"-"},"-",null,null,null,null,0,0,0,0,0,0,"*"]
[null,null,1530,null,null,null,null,null,null,null,null,null,null,null,null,null,null,null,null,null,null,null,null,null,null,null,null,null,null,null,null,null,null,null,null,{"$f":"IF(H1539=\"\",\"-\",VLOOKUP(T1539,読み替え表_スマートムーブ!$C$4:$F$13,4,0))","v":"-"},{"$f":"IF(H1539=\"\",\"-\",VLOOKUP(V1539,読み替え表_スマートムーブ!$C$16:$F$21,4,0))","v":"-"},"-",null,null,null,null,0,0,0,0,0,0,"*"]
[null,null,1531,null,null,null,null,null,null,null,null,null,null,null,null,null,null,null,null,null,null,null,null,null,null,null,null,null,null,null,null,null,null,null,null,{"$f":"IF(H1540=\"\",\"-\",VLOOKUP(T1540,読み替え表_スマートムーブ!$C$4:$F$13,4,0))","v":"-"},{"$f":"IF(H1540=\"\",\"-\",VLOOKUP(V1540,読み替え表_スマートムーブ!$C$16:$F$21,4,0))","v":"-"},"-",null,null,null,null,0,0,0,0,0,0,"*"]
[null,null,1532,null,null,null,null,null,null,null,null,null,null,null,null,null,null,null,null,null,null,null,null,null,null,null,null,null,null,null,null,null,null,null,null,{"$f":"IF(H1541=\"\",\"-\",VLOOKUP(T1541,読み替え表_スマートムーブ!$C$4:$F$13,4,0))","v":"-"},{"$f":"IF(H1541=\"\",\"-\",VLOOKUP(V1541,読み替え表_スマートムーブ!$C$16:$F$21,4,0))","v":"-"},"-",null,null,null,null,0,0,0,0,0,0,"*"]
[null,null,1533,null,null,null,null,null,null,null,null,null,null,null,null,null,null,null,null,null,null,null,null,null,null,null,null,null,null,null,null,null,null,null,null,{"$f":"IF(H1542=\"\",\"-\",VLOOKUP(T1542,読み替え表_スマートムーブ!$C$4:$F$13,4,0))","v":"-"},{"$f":"IF(H1542=\"\",\"-\",VLOOKUP(V1542,読み替え表_スマートムーブ!$C$16:$F$21,4,0))","v":"-"},"-",null,null,null,null,0,0,0,0,0,0,"*"]
[null,null,1534,null,null,null,null,null,null,null,null,null,null,null,null,null,null,null,null,null,null,null,null,null,null,null,null,null,null,null,null,null,null,null,null,{"$f":"IF(H1543=\"\",\"-\",VLOOKUP(T1543,読み替え表_スマートムーブ!$C$4:$F$13,4,0))","v":"-"},{"$f":"IF(H1543=\"\",\"-\",VLOOKUP(V1543,読み替え表_スマートムーブ!$C$16:$F$21,4,0))","v":"-"},"-",null,null,null,null,0,0,0,0,0,0,"*"]
[null,null,1535,null,null,null,null,null,null,null,null,null,null,null,null,null,null,null,null,null,null,null,null,null,null,null,null,null,null,null,null,null,null,null,null,{"$f":"IF(H1544=\"\",\"-\",VLOOKUP(T1544,読み替え表_スマートムーブ!$C$4:$F$13,4,0))","v":"-"},{"$f":"IF(H1544=\"\",\"-\",VLOOKUP(V1544,読み替え表_スマートムーブ!$C$16:$F$21,4,0))","v":"-"},"-",null,null,null,null,0,0,0,0,0,0,"*"]
[null,null,1536,null,null,null,null,null,null,null,null,null,null,null,null,null,null,null,null,null,null,null,null,null,null,null,null,null,null,null,null,null,null,null,null,{"$f":"IF(H1545=\"\",\"-\",VLOOKUP(T1545,読み替え表_スマートムーブ!$C$4:$F$13,4,0))","v":"-"},{"$f":"IF(H1545=\"\",\"-\",VLOOKUP(V1545,読み替え表_スマートムーブ!$C$16:$F$21,4,0))","v":"-"},"-",null,null,null,null,0,0,0,0,0,0,"*"]
[null,null,1537,null,null,null,null,null,null,null,null,null,null,null,null,null,null,null,null,null,null,null,null,null,null,null,null,null,null,null,null,null,null,null,null,{"$f":"IF(H1546=\"\",\"-\",VLOOKUP(T1546,読み替え表_スマートムーブ!$C$4:$F$13,4,0))","v":"-"},{"$f":"IF(H1546=\"\",\"-\",VLOOKUP(V1546,読み替え表_スマートムーブ!$C$16:$F$21,4,0))","v":"-"},"-",null,null,null,null,0,0,0,0,0,{"$f":"AQ1546","v":0},"*"]
[null,null,{"$f":"ROW()-9","v":1538},null,null,null,null,null,null,null,null,null,null,null,null,null,null,null,null,null,null,null,null,null,null,null,null,null,null,null,null,null,null,null,null,{"$f":"IF(H1547=\"\",\"-\",VLOOKUP(T1547,読み替え表_スマートムーブ!$C$4:$F$13,4,0))","v":"-"},{"$f":"IF(H1547=\"\",\"-\",VLOOKUP(V1547,読み替え表_スマートムーブ!$C$16:$F$21,4,0))","v":"-"},"-",null,null,null,null,{"$f":"IF(SUM($AR1547:$AT1547)>=1,1,0)","v":0},{"$f":"IF(R1547=1,1,0)","v":0},{"$f":"IF(T1547=9,1,0)","v":0},{"$f":"IF(V1547=5,1,0)","v":0},{"$f":"IF(OR($X1547=1,$X1547=2,$X1547=3),1,0)","v":0},0,"*"]
[null,null,1539,null,null,null,null,null,null,null,null,null,null,null,null,null,null,null,null,null,null,null,null,null,null,null,null,null,null,null,null,null,null,null,null,{"$f":"IF(H1548=\"\",\"-\",VLOOKUP(T1548,読み替え表_スマートムーブ!$C$4:$F$13,4,0))","v":"-"},{"$f":"IF(H1548=\"\",\"-\",VLOOKUP(V1548,読み替え表_スマートムーブ!$C$16:$F$21,4,0))","v":"-"},"-",null,null,null,null,0,0,0,0,0,0,"*"]
[null,null,1540,null,null,null,null,null,null,null,null,null,null,null,null,null,null,null,null,null,null,null,null,null,null,null,null,null,null,null,null,null,null,null,null,{"$f":"IF(H1549=\"\",\"-\",VLOOKUP(T1549,読み替え表_スマートムーブ!$C$4:$F$13,4,0))","v":"-"},{"$f":"IF(H1549=\"\",\"-\",VLOOKUP(V1549,読み替え表_スマートムーブ!$C$16:$F$21,4,0))","v":"-"},"-",null,null,null,null,0,0,0,0,0,0,"*"]
[null,null,1541,null,null,null,null,null,null,null,null,null,null,null,null,null,null,null,null,null,null,null,null,null,null,null,null,null,null,null,null,null,null,null,null,{"$f":"IF(H1550=\"\",\"-\",VLOOKUP(T1550,読み替え表_スマートムーブ!$C$4:$F$13,4,0))","v":"-"},{"$f":"IF(H1550=\"\",\"-\",VLOOKUP(V1550,読み替え表_スマートムーブ!$C$16:$F$21,4,0))","v":"-"},"-",null,null,null,null,0,0,0,0,0,0,"*"]
[null,null,1542,null,null,null,null,null,null,null,null,null,null,null,null,null,null,null,null,null,null,null,null,null,null,null,null,null,null,null,null,null,null,null,null,{"$f":"IF(H1551=\"\",\"-\",VLOOKUP(T1551,読み替え表_スマートムーブ!$C$4:$F$13,4,0))","v":"-"},{"$f":"IF(H1551=\"\",\"-\",VLOOKUP(V1551,読み替え表_スマートムーブ!$C$16:$F$21,4,0))","v":"-"},"-",null,null,null,null,0,0,0,0,0,0,"*"]
[null,null,1543,null,null,null,null,null,null,null,null,null,null,null,null,null,null,null,null,null,null,null,null,null,null,null,null,null,null,null,null,null,null,null,null,{"$f":"IF(H1552=\"\",\"-\",VLOOKUP(T1552,読み替え表_スマートムーブ!$C$4:$F$13,4,0))","v":"-"},{"$f":"IF(H1552=\"\",\"-\",VLOOKUP(V1552,読み替え表_スマートムーブ!$C$16:$F$21,4,0))","v":"-"},"-",null,null,null,null,0,0,0,0,0,0,"*"]
[null,null,1544,null,null,null,null,null,null,null,null,null,null,null,null,null,null,null,null,null,null,null,null,null,null,null,null,null,null,null,null,null,null,null,null,{"$f":"IF(H1553=\"\",\"-\",VLOOKUP(T1553,読み替え表_スマートムーブ!$C$4:$F$13,4,0))","v":"-"},{"$f":"IF(H1553=\"\",\"-\",VLOOKUP(V1553,読み替え表_スマートムーブ!$C$16:$F$21,4,0))","v":"-"},"-",null,null,null,null,0,0,0,0,0,0,"*"]
[null,null,1545,null,null,null,null,null,null,null,null,null,null,null,null,null,null,null,null,null,null,null,null,null,null,null,null,null,null,null,null,null,null,null,null,{"$f":"IF(H1554=\"\",\"-\",VLOOKUP(T1554,読み替え表_スマートムーブ!$C$4:$F$13,4,0))","v":"-"},{"$f":"IF(H1554=\"\",\"-\",VLOOKUP(V1554,読み替え表_スマートムーブ!$C$16:$F$21,4,0))","v":"-"},"-",null,null,null,null,0,0,0,0,0,0,"*"]
[null,null,1546,null,null,null,null,null,null,null,null,null,null,null,null,null,null,null,null,null,null,null,null,null,null,null,null,null,null,null,null,null,null,null,null,{"$f":"IF(H1555=\"\",\"-\",VLOOKUP(T1555,読み替え表_スマートムーブ!$C$4:$F$13,4,0))","v":"-"},{"$f":"IF(H1555=\"\",\"-\",VLOOKUP(V1555,読み替え表_スマートムーブ!$C$16:$F$21,4,0))","v":"-"},"-",null,null,null,null,0,0,0,0,0,0,"*"]
[null,null,1547,null,null,null,null,null,null,null,null,null,null,null,null,null,null,null,null,null,null,null,null,null,null,null,null,null,null,null,null,null,null,null,null,{"$f":"IF(H1556=\"\",\"-\",VLOOKUP(T1556,読み替え表_スマートムーブ!$C$4:$F$13,4,0))","v":"-"},{"$f":"IF(H1556=\"\",\"-\",VLOOKUP(V1556,読み替え表_スマートムーブ!$C$16:$F$21,4,0))","v":"-"},"-",null,null,null,null,0,0,0,0,0,0,"*"]
[null,null,1548,null,null,null,null,null,null,null,null,null,null,null,null,null,null,null,null,null,null,null,null,null,null,null,null,null,null,null,null,null,null,null,null,{"$f":"IF(H1557=\"\",\"-\",VLOOKUP(T1557,読み替え表_スマートムーブ!$C$4:$F$13,4,0))","v":"-"},{"$f":"IF(H1557=\"\",\"-\",VLOOKUP(V1557,読み替え表_スマートムーブ!$C$16:$F$21,4,0))","v":"-"},"-",null,null,null,null,0,0,0,0,0,0,"*"]
[null,null,1549,null,null,null,null,null,null,null,null,null,null,null,null,null,null,null,null,null,null,null,null,null,null,null,null,null,null,null,null,null,null,null,null,{"$f":"IF(H1558=\"\",\"-\",VLOOKUP(T1558,読み替え表_スマートムーブ!$C$4:$F$13,4,0))","v":"-"},{"$f":"IF(H1558=\"\",\"-\",VLOOKUP(V1558,読み替え表_スマートムーブ!$C$16:$F$21,4,0))","v":"-"},"-",null,null,null,null,0,0,0,0,0,0,"*"]
[null,null,1550,null,null,null,null,null,null,null,null,null,null,null,null,null,null,null,null,null,null,null,null,null,null,null,null,null,null,null,null,null,null,null,null,{"$f":"IF(H1559=\"\",\"-\",VLOOKUP(T1559,読み替え表_スマートムーブ!$C$4:$F$13,4,0))","v":"-"},{"$f":"IF(H1559=\"\",\"-\",VLOOKUP(V1559,読み替え表_スマートムーブ!$C$16:$F$21,4,0))","v":"-"},"-",null,null,null,null,0,0,0,0,0,0,"*"]
[null,null,1551,null,null,null,null,null,null,null,null,null,null,null,null,null,null,null,null,null,null,null,null,null,null,null,null,null,null,null,null,null,null,null,null,{"$f":"IF(H1560=\"\",\"-\",VLOOKUP(T1560,読み替え表_スマートムーブ!$C$4:$F$13,4,0))","v":"-"},{"$f":"IF(H1560=\"\",\"-\",VLOOKUP(V1560,読み替え表_スマートムーブ!$C$16:$F$21,4,0))","v":"-"},"-",null,null,null,null,0,0,0,0,0,0,"*"]
[null,null,1552,null,null,null,null,null,null,null,null,null,null,null,null,null,null,null,null,null,null,null,null,null,null,null,null,null,null,null,null,null,null,null,null,{"$f":"IF(H1561=\"\",\"-\",VLOOKUP(T1561,読み替え表_スマートムーブ!$C$4:$F$13,4,0))","v":"-"},{"$f":"IF(H1561=\"\",\"-\",VLOOKUP(V1561,読み替え表_スマートムーブ!$C$16:$F$21,4,0))","v":"-"},"-",null,null,null,null,0,0,0,0,0,0,"*"]
[null,null,1553,null,null,null,null,null,null,null,null,null,null,null,null,null,null,null,null,null,null,null,null,null,null,null,null,null,null,null,null,null,null,null,null,{"$f":"IF(H1562=\"\",\"-\",VLOOKUP(T1562,読み替え表_スマートムーブ!$C$4:$F$13,4,0))","v":"-"},{"$f":"IF(H1562=\"\",\"-\",VLOOKUP(V1562,読み替え表_スマートムーブ!$C$16:$F$21,4,0))","v":"-"},"-",null,null,null,null,0,0,0,0,0,0,"*"]
[null,null,1554,null,null,null,null,null,null,null,null,null,null,null,null,null,null,null,null,null,null,null,null,null,null,null,null,null,null,null,null,null,null,null,null,{"$f":"IF(H1563=\"\",\"-\",VLOOKUP(T1563,読み替え表_スマートムーブ!$C$4:$F$13,4,0))","v":"-"},{"$f":"IF(H1563=\"\",\"-\",VLOOKUP(V1563,読み替え表_スマートムーブ!$C$16:$F$21,4,0))","v":"-"},"-",null,null,null,null,0,0,0,0,0,0,"*"]
[null,null,1555,null,null,null,null,null,null,null,null,null,null,null,null,null,null,null,null,null,null,null,null,null,null,null,null,null,null,null,null,null,null,null,null,{"$f":"IF(H1564=\"\",\"-\",VLOOKUP(T1564,読み替え表_スマートムーブ!$C$4:$F$13,4,0))","v":"-"},{"$f":"IF(H1564=\"\",\"-\",VLOOKUP(V1564,読み替え表_スマートムーブ!$C$16:$F$21,4,0))","v":"-"},"-",null,null,null,null,0,0,0,0,0,0,"*"]
[null,null,1556,null,null,null,null,null,null,null,null,null,null,null,null,null,null,null,null,null,null,null,null,null,null,null,null,null,null,null,null,null,null,null,null,{"$f":"IF(H1565=\"\",\"-\",VLOOKUP(T1565,読み替え表_スマートムーブ!$C$4:$F$13,4,0))","v":"-"},{"$f":"IF(H1565=\"\",\"-\",VLOOKUP(V1565,読み替え表_スマートムーブ!$C$16:$F$21,4,0))","v":"-"},"-",null,null,null,null,0,0,0,0,0,0,"*"]
[null,null,1557,null,null,null,null,null,null,null,null,null,null,null,null,null,null,null,null,null,null,null,null,null,null,null,null,null,null,null,null,null,null,null,null,{"$f":"IF(H1566=\"\",\"-\",VLOOKUP(T1566,読み替え表_スマートムーブ!$C$4:$F$13,4,0))","v":"-"},{"$f":"IF(H1566=\"\",\"-\",VLOOKUP(V1566,読み替え表_スマートムーブ!$C$16:$F$21,4,0))","v":"-"},"-",null,null,null,null,0,0,0,0,0,0,"*"]
[null,null,1558,null,null,null,null,null,null,null,null,null,null,null,null,null,null,null,null,null,null,null,null,null,null,null,null,null,null,null,null,null,null,null,null,{"$f":"IF(H1567=\"\",\"-\",VLOOKUP(T1567,読み替え表_スマートムーブ!$C$4:$F$13,4,0))","v":"-"},{"$f":"IF(H1567=\"\",\"-\",VLOOKUP(V1567,読み替え表_スマートムーブ!$C$16:$F$21,4,0))","v":"-"},"-",null,null,null,null,0,0,0,0,0,0,"*"]
[null,null,1559,null,null,null,null,null,null,null,null,null,null,null,null,null,null,null,null,null,null,null,null,null,null,null,null,null,null,null,null,null,null,null,null,{"$f":"IF(H1568=\"\",\"-\",VLOOKUP(T1568,読み替え表_スマートムーブ!$C$4:$F$13,4,0))","v":"-"},{"$f":"IF(H1568=\"\",\"-\",VLOOKUP(V1568,読み替え表_スマートムーブ!$C$16:$F$21,4,0))","v":"-"},"-",null,null,null,null,0,0,0,0,0,0,"*"]
[null,null,1560,null,null,null,null,null,null,null,null,null,null,null,null,null,null,null,null,null,null,null,null,null,null,null,null,null,null,null,null,null,null,null,null,{"$f":"IF(H1569=\"\",\"-\",VLOOKUP(T1569,読み替え表_スマートムーブ!$C$4:$F$13,4,0))","v":"-"},{"$f":"IF(H1569=\"\",\"-\",VLOOKUP(V1569,読み替え表_スマートムーブ!$C$16:$F$21,4,0))","v":"-"},"-",null,null,null,null,0,0,0,0,0,0,"*"]
[null,null,1561,null,null,null,null,null,null,null,null,null,null,null,null,null,null,null,null,null,null,null,null,null,null,null,null,null,null,null,null,null,null,null,null,{"$f":"IF(H1570=\"\",\"-\",VLOOKUP(T1570,読み替え表_スマートムーブ!$C$4:$F$13,4,0))","v":"-"},{"$f":"IF(H1570=\"\",\"-\",VLOOKUP(V1570,読み替え表_スマートムーブ!$C$16:$F$21,4,0))","v":"-"},"-",null,null,null,null,0,0,0,0,0,0,"*"]
[null,null,1562,null,null,null,null,null,null,null,null,null,null,null,null,null,null,null,null,null,null,null,null,null,null,null,null,null,null,null,null,null,null,null,null,{"$f":"IF(H1571=\"\",\"-\",VLOOKUP(T1571,読み替え表_スマートムーブ!$C$4:$F$13,4,0))","v":"-"},{"$f":"IF(H1571=\"\",\"-\",VLOOKUP(V1571,読み替え表_スマートムーブ!$C$16:$F$21,4,0))","v":"-"},"-",null,null,null,null,0,0,0,0,0,0,"*"]
[null,null,1563,null,null,null,null,null,null,null,null,null,null,null,null,null,null,null,null,null,null,null,null,null,null,null,null,null,null,null,null,null,null,null,null,{"$f":"IF(H1572=\"\",\"-\",VLOOKUP(T1572,読み替え表_スマートムーブ!$C$4:$F$13,4,0))","v":"-"},{"$f":"IF(H1572=\"\",\"-\",VLOOKUP(V1572,読み替え表_スマートムーブ!$C$16:$F$21,4,0))","v":"-"},"-",null,null,null,null,0,0,0,0,0,0,"*"]
[null,null,1564,null,null,null,null,null,null,null,null,null,null,null,null,null,null,null,null,null,null,null,null,null,null,null,null,null,null,null,null,null,null,null,null,{"$f":"IF(H1573=\"\",\"-\",VLOOKUP(T1573,読み替え表_スマートムーブ!$C$4:$F$13,4,0))","v":"-"},{"$f":"IF(H1573=\"\",\"-\",VLOOKUP(V1573,読み替え表_スマートムーブ!$C$16:$F$21,4,0))","v":"-"},"-",null,null,null,null,0,0,0,0,0,0,"*"]
[null,null,1565,null,null,null,null,null,null,null,null,null,null,null,null,null,null,null,null,null,null,null,null,null,null,null,null,null,null,null,null,null,null,null,null,{"$f":"IF(H1574=\"\",\"-\",VLOOKUP(T1574,読み替え表_スマートムーブ!$C$4:$F$13,4,0))","v":"-"},{"$f":"IF(H1574=\"\",\"-\",VLOOKUP(V1574,読み替え表_スマートムーブ!$C$16:$F$21,4,0))","v":"-"},"-",null,null,null,null,0,0,0,0,0,0,"*"]
[null,null,1566,null,null,null,null,null,null,null,null,null,null,null,null,null,null,null,null,null,null,null,null,null,null,null,null,null,null,null,null,null,null,null,null,{"$f":"IF(H1575=\"\",\"-\",VLOOKUP(T1575,読み替え表_スマートムーブ!$C$4:$F$13,4,0))","v":"-"},{"$f":"IF(H1575=\"\",\"-\",VLOOKUP(V1575,読み替え表_スマートムーブ!$C$16:$F$21,4,0))","v":"-"},"-",null,null,null,null,0,0,0,0,0,0,"*"]
[null,null,1567,null,null,null,null,null,null,null,null,null,null,null,null,null,null,null,null,null,null,null,null,null,null,null,null,null,null,null,null,null,null,null,null,{"$f":"IF(H1576=\"\",\"-\",VLOOKUP(T1576,読み替え表_スマートムーブ!$C$4:$F$13,4,0))","v":"-"},{"$f":"IF(H1576=\"\",\"-\",VLOOKUP(V1576,読み替え表_スマートムーブ!$C$16:$F$21,4,0))","v":"-"},"-",null,null,null,null,0,0,0,0,0,0,"*"]
[null,null,1568,null,null,null,null,null,null,null,null,null,null,null,null,null,null,null,null,null,null,null,null,null,null,null,null,null,null,null,null,null,null,null,null,{"$f":"IF(H1577=\"\",\"-\",VLOOKUP(T1577,読み替え表_スマートムーブ!$C$4:$F$13,4,0))","v":"-"},{"$f":"IF(H1577=\"\",\"-\",VLOOKUP(V1577,読み替え表_スマートムーブ!$C$16:$F$21,4,0))","v":"-"},"-",null,null,null,null,0,0,0,0,0,0,"*"]
[null,null,1569,null,null,null,null,null,null,null,null,null,null,null,null,null,null,null,null,null,null,null,null,null,null,null,null,null,null,null,null,null,null,null,null,{"$f":"IF(H1578=\"\",\"-\",VLOOKUP(T1578,読み替え表_スマートムーブ!$C$4:$F$13,4,0))","v":"-"},{"$f":"IF(H1578=\"\",\"-\",VLOOKUP(V1578,読み替え表_スマートムーブ!$C$16:$F$21,4,0))","v":"-"},"-",null,null,null,null,0,0,0,0,0,0,"*"]
[null,null,1570,null,null,null,null,null,null,null,null,null,null,null,null,null,null,null,null,null,null,null,null,null,null,null,null,null,null,null,null,null,null,null,null,{"$f":"IF(H1579=\"\",\"-\",VLOOKUP(T1579,読み替え表_スマートムーブ!$C$4:$F$13,4,0))","v":"-"},{"$f":"IF(H1579=\"\",\"-\",VLOOKUP(V1579,読み替え表_スマートムーブ!$C$16:$F$21,4,0))","v":"-"},"-",null,null,null,null,0,0,0,0,0,0,"*"]
[null,null,1571,null,null,null,null,null,null,null,null,null,null,null,null,null,null,null,null,null,null,null,null,null,null,null,null,null,null,null,null,null,null,null,null,{"$f":"IF(H1580=\"\",\"-\",VLOOKUP(T1580,読み替え表_スマートムーブ!$C$4:$F$13,4,0))","v":"-"},{"$f":"IF(H1580=\"\",\"-\",VLOOKUP(V1580,読み替え表_スマートムーブ!$C$16:$F$21,4,0))","v":"-"},"-",null,null,null,null,0,0,0,0,0,0,"*"]
[null,null,1572,null,null,null,null,null,null,null,null,null,null,null,null,null,null,null,null,null,null,null,null,null,null,null,null,null,null,null,null,null,null,null,null,{"$f":"IF(H1581=\"\",\"-\",VLOOKUP(T1581,読み替え表_スマートムーブ!$C$4:$F$13,4,0))","v":"-"},{"$f":"IF(H1581=\"\",\"-\",VLOOKUP(V1581,読み替え表_スマートムーブ!$C$16:$F$21,4,0))","v":"-"},"-",null,null,null,null,0,0,0,0,0,0,"*"]
[null,null,1573,null,null,null,null,null,null,null,null,null,null,null,null,null,null,null,null,null,null,null,null,null,null,null,null,null,null,null,null,null,null,null,null,{"$f":"IF(H1582=\"\",\"-\",VLOOKUP(T1582,読み替え表_スマートムーブ!$C$4:$F$13,4,0))","v":"-"},{"$f":"IF(H1582=\"\",\"-\",VLOOKUP(V1582,読み替え表_スマートムーブ!$C$16:$F$21,4,0))","v":"-"},"-",null,null,null,null,0,0,0,0,0,0,"*"]
[null,null,1574,null,null,null,null,null,null,null,null,null,null,null,null,null,null,null,null,null,null,null,null,null,null,null,null,null,null,null,null,null,null,null,null,{"$f":"IF(H1583=\"\",\"-\",VLOOKUP(T1583,読み替え表_スマートムーブ!$C$4:$F$13,4,0))","v":"-"},{"$f":"IF(H1583=\"\",\"-\",VLOOKUP(V1583,読み替え表_スマートムーブ!$C$16:$F$21,4,0))","v":"-"},"-",null,null,null,null,0,0,0,0,0,0,"*"]
[null,null,1575,null,null,null,null,null,null,null,null,null,null,null,null,null,null,null,null,null,null,null,null,null,null,null,null,null,null,null,null,null,null,null,null,{"$f":"IF(H1584=\"\",\"-\",VLOOKUP(T1584,読み替え表_スマートムーブ!$C$4:$F$13,4,0))","v":"-"},{"$f":"IF(H1584=\"\",\"-\",VLOOKUP(V1584,読み替え表_スマートムーブ!$C$16:$F$21,4,0))","v":"-"},"-",null,null,null,null,0,0,0,0,0,0,"*"]
[null,null,1576,null,null,null,null,null,null,null,null,null,null,null,null,null,null,null,null,null,null,null,null,null,null,null,null,null,null,null,null,null,null,null,null,{"$f":"IF(H1585=\"\",\"-\",VLOOKUP(T1585,読み替え表_スマートムーブ!$C$4:$F$13,4,0))","v":"-"},{"$f":"IF(H1585=\"\",\"-\",VLOOKUP(V1585,読み替え表_スマートムーブ!$C$16:$F$21,4,0))","v":"-"},"-",null,null,null,null,0,0,0,0,0,0,"*"]
[null,null,1577,null,null,null,null,null,null,null,null,null,null,null,null,null,null,null,null,null,null,null,null,null,null,null,null,null,null,null,null,null,null,null,null,{"$f":"IF(H1586=\"\",\"-\",VLOOKUP(T1586,読み替え表_スマートムーブ!$C$4:$F$13,4,0))","v":"-"},{"$f":"IF(H1586=\"\",\"-\",VLOOKUP(V1586,読み替え表_スマートムーブ!$C$16:$F$21,4,0))","v":"-"},{"$f":"IF(H1586=\"\",\"-\",AJ1586*AK1586)","v":"-"},null,null,null,null,0,0,0,0,0,0,"*"]
[null,null,1578,null,null,null,null,null,null,null,null,null,null,null,null,null,null,null,null,null,null,null,null,null,null,null,null,null,null,null,null,null,null,null,null,{"$f":"IF(H1587=\"\",\"-\",VLOOKUP(T1587,読み替え表_スマートムーブ!$C$4:$F$13,4,0))","v":"-"},{"$f":"IF(H1587=\"\",\"-\",VLOOKUP(V1587,読み替え表_スマートムーブ!$C$16:$F$21,4,0))","v":"-"},"-",null,null,null,null,0,0,0,0,0,0,"*"]
[null,null,1579,null,null,null,null,null,null,null,null,null,null,null,null,null,null,null,null,null,null,null,null,null,null,null,null,null,null,null,null,null,null,null,null,{"$f":"IF(H1588=\"\",\"-\",VLOOKUP(T1588,読み替え表_スマートムーブ!$C$4:$F$13,4,0))","v":"-"},{"$f":"IF(H1588=\"\",\"-\",VLOOKUP(V1588,読み替え表_スマートムーブ!$C$16:$F$21,4,0))","v":"-"},"-",null,null,null,null,0,0,0,0,0,0,"*"]
[null,null,1580,null,null,null,null,null,null,null,null,null,null,null,null,null,null,null,null,null,null,null,null,null,null,null,null,null,null,null,null,null,null,null,null,{"$f":"IF(H1589=\"\",\"-\",VLOOKUP(T1589,読み替え表_スマートムーブ!$C$4:$F$13,4,0))","v":"-"},{"$f":"IF(H1589=\"\",\"-\",VLOOKUP(V1589,読み替え表_スマートムーブ!$C$16:$F$21,4,0))","v":"-"},"-",null,null,null,null,0,0,0,0,0,0,"*"]
[null,null,1581,null,null,null,null,null,null,null,null,null,null,null,null,null,null,null,null,null,null,null,null,null,null,null,null,null,null,null,null,null,null,null,null,{"$f":"IF(H1590=\"\",\"-\",VLOOKUP(T1590,読み替え表_スマートムーブ!$C$4:$F$13,4,0))","v":"-"},{"$f":"IF(H1590=\"\",\"-\",VLOOKUP(V1590,読み替え表_スマートムーブ!$C$16:$F$21,4,0))","v":"-"},"-",null,null,null,null,0,0,0,0,0,0,"*"]
[null,null,1582,null,null,null,null,null,null,null,null,null,null,null,null,null,null,null,null,null,null,null,null,null,null,null,null,null,null,null,null,null,null,null,null,{"$f":"IF(H1591=\"\",\"-\",VLOOKUP(T1591,読み替え表_スマートムーブ!$C$4:$F$13,4,0))","v":"-"},{"$f":"IF(H1591=\"\",\"-\",VLOOKUP(V1591,読み替え表_スマートムーブ!$C$16:$F$21,4,0))","v":"-"},"-",null,null,null,null,0,0,0,0,0,0,"*"]
[null,null,1583,null,null,null,null,null,null,null,null,null,null,null,null,null,null,null,null,null,null,null,null,null,null,null,null,null,null,null,null,null,null,null,null,{"$f":"IF(H1592=\"\",\"-\",VLOOKUP(T1592,読み替え表_スマートムーブ!$C$4:$F$13,4,0))","v":"-"},{"$f":"IF(H1592=\"\",\"-\",VLOOKUP(V1592,読み替え表_スマートムーブ!$C$16:$F$21,4,0))","v":"-"},"-",null,null,null,null,0,0,0,0,0,0,"*"]
[null,null,1584,null,null,null,null,null,null,null,null,null,null,null,null,null,null,null,null,null,null,null,null,null,null,null,null,null,null,null,null,null,null,null,null,{"$f":"IF(H1593=\"\",\"-\",VLOOKUP(T1593,読み替え表_スマートムーブ!$C$4:$F$13,4,0))","v":"-"},{"$f":"IF(H1593=\"\",\"-\",VLOOKUP(V1593,読み替え表_スマートムーブ!$C$16:$F$21,4,0))","v":"-"},"-",null,null,null,null,0,0,0,0,0,0,"*"]
[null,null,1585,null,null,null,null,null,null,null,null,null,null,null,null,null,null,null,null,null,null,null,null,null,null,null,null,null,null,null,null,null,null,null,null,{"$f":"IF(H1594=\"\",\"-\",VLOOKUP(T1594,読み替え表_スマートムーブ!$C$4:$F$13,4,0))","v":"-"},{"$f":"IF(H1594=\"\",\"-\",VLOOKUP(V1594,読み替え表_スマートムーブ!$C$16:$F$21,4,0))","v":"-"},"-",null,null,null,null,0,0,0,0,0,0,"*"]
[null,null,1586,null,null,null,null,null,null,null,null,null,null,null,null,null,null,null,null,null,null,null,null,null,null,null,null,null,null,null,null,null,null,null,null,{"$f":"IF(H1595=\"\",\"-\",VLOOKUP(T1595,読み替え表_スマートムーブ!$C$4:$F$13,4,0))","v":"-"},{"$f":"IF(H1595=\"\",\"-\",VLOOKUP(V1595,読み替え表_スマートムーブ!$C$16:$F$21,4,0))","v":"-"},"-",null,null,null,null,0,0,0,0,0,0,"*"]
[null,null,1587,null,null,null,null,null,null,null,null,null,null,null,null,null,null,null,null,null,null,null,null,null,null,null,null,null,null,null,null,null,null,null,null,{"$f":"IF(H1596=\"\",\"-\",VLOOKUP(T1596,読み替え表_スマートムーブ!$C$4:$F$13,4,0))","v":"-"},{"$f":"IF(H1596=\"\",\"-\",VLOOKUP(V1596,読み替え表_スマートムーブ!$C$16:$F$21,4,0))","v":"-"},"-",null,null,null,null,0,0,0,0,0,0,"*"]
[null,null,1588,null,null,null,null,null,null,null,null,null,null,null,null,null,null,null,null,null,null,null,null,null,null,null,null,null,null,null,null,null,null,null,null,{"$f":"IF(H1597=\"\",\"-\",VLOOKUP(T1597,読み替え表_スマートムーブ!$C$4:$F$13,4,0))","v":"-"},{"$f":"IF(H1597=\"\",\"-\",VLOOKUP(V1597,読み替え表_スマートムーブ!$C$16:$F$21,4,0))","v":"-"},"-",null,null,null,null,0,0,0,0,0,0,"*"]
[null,null,1589,null,null,null,null,null,null,null,null,null,null,null,null,null,null,null,null,null,null,null,null,null,null,null,null,null,null,null,null,null,null,null,null,{"$f":"IF(H1598=\"\",\"-\",VLOOKUP(T1598,読み替え表_スマートムーブ!$C$4:$F$13,4,0))","v":"-"},{"$f":"IF(H1598=\"\",\"-\",VLOOKUP(V1598,読み替え表_スマートムーブ!$C$16:$F$21,4,0))","v":"-"},"-",null,null,null,null,0,0,0,0,0,0,"*"]
[null,null,1590,null,null,null,null,null,null,null,null,null,null,null,null,null,null,null,null,null,null,null,null,null,null,null,null,null,null,null,null,null,null,null,null,{"$f":"IF(H1599=\"\",\"-\",VLOOKUP(T1599,読み替え表_スマートムーブ!$C$4:$F$13,4,0))","v":"-"},{"$f":"IF(H1599=\"\",\"-\",VLOOKUP(V1599,読み替え表_スマートムーブ!$C$16:$F$21,4,0))","v":"-"},"-",null,null,null,null,0,0,0,0,0,0,"*"]
[null,null,1591,null,null,null,null,null,null,null,null,null,null,null,null,null,null,null,null,null,null,null,null,null,null,null,null,null,null,null,null,null,null,null,null,{"$f":"IF(H1600=\"\",\"-\",VLOOKUP(T1600,読み替え表_スマートムーブ!$C$4:$F$13,4,0))","v":"-"},{"$f":"IF(H1600=\"\",\"-\",VLOOKUP(V1600,読み替え表_スマートムーブ!$C$16:$F$21,4,0))","v":"-"},"-",null,null,null,null,0,0,0,0,0,0,"*"]
[null,null,1592,null,null,null,null,null,null,null,null,null,null,null,null,null,null,null,null,null,null,null,null,null,null,null,null,null,null,null,null,null,null,null,null,{"$f":"IF(H1601=\"\",\"-\",VLOOKUP(T1601,読み替え表_スマートムーブ!$C$4:$F$13,4,0))","v":"-"},{"$f":"IF(H1601=\"\",\"-\",VLOOKUP(V1601,読み替え表_スマートムーブ!$C$16:$F$21,4,0))","v":"-"},"-",null,null,null,null,0,0,0,0,0,0,"*"]
[null,null,1593,null,null,null,null,null,null,null,null,null,null,null,null,null,null,null,null,null,null,null,null,null,null,null,null,null,null,null,null,null,null,null,null,{"$f":"IF(H1602=\"\",\"-\",VLOOKUP(T1602,読み替え表_スマートムーブ!$C$4:$F$13,4,0))","v":"-"},{"$f":"IF(H1602=\"\",\"-\",VLOOKUP(V1602,読み替え表_スマートムーブ!$C$16:$F$21,4,0))","v":"-"},"-",null,null,null,null,0,0,0,0,0,0,"*"]
[null,null,1594,null,null,null,null,null,null,null,null,null,null,null,null,null,null,null,null,null,null,null,null,null,null,null,null,null,null,null,null,null,null,null,null,{"$f":"IF(H1603=\"\",\"-\",VLOOKUP(T1603,読み替え表_スマートムーブ!$C$4:$F$13,4,0))","v":"-"},{"$f":"IF(H1603=\"\",\"-\",VLOOKUP(V1603,読み替え表_スマートムーブ!$C$16:$F$21,4,0))","v":"-"},"-",null,null,null,null,0,0,0,0,0,0,"*"]
[null,null,1595,null,null,null,null,null,null,null,null,null,null,null,null,null,null,null,null,null,null,null,null,null,null,null,null,null,null,null,null,null,null,null,null,{"$f":"IF(H1604=\"\",\"-\",VLOOKUP(T1604,読み替え表_スマートムーブ!$C$4:$F$13,4,0))","v":"-"},{"$f":"IF(H1604=\"\",\"-\",VLOOKUP(V1604,読み替え表_スマートムーブ!$C$16:$F$21,4,0))","v":"-"},"-",null,null,null,null,0,0,0,0,0,0,"*"]
[null,null,1596,null,null,null,null,null,null,null,null,null,null,null,null,null,null,null,null,null,null,null,null,null,null,null,null,null,null,null,null,null,null,null,null,{"$f":"IF(H1605=\"\",\"-\",VLOOKUP(T1605,読み替え表_スマートムーブ!$C$4:$F$13,4,0))","v":"-"},{"$f":"IF(H1605=\"\",\"-\",VLOOKUP(V1605,読み替え表_スマートムーブ!$C$16:$F$21,4,0))","v":"-"},"-",null,null,null,null,0,0,0,0,0,0,"*"]
[null,null,1597,null,null,null,null,null,null,null,null,null,null,null,null,null,null,null,null,null,null,null,null,null,null,null,null,null,null,null,null,null,null,null,null,{"$f":"IF(H1606=\"\",\"-\",VLOOKUP(T1606,読み替え表_スマートムーブ!$C$4:$F$13,4,0))","v":"-"},{"$f":"IF(H1606=\"\",\"-\",VLOOKUP(V1606,読み替え表_スマートムーブ!$C$16:$F$21,4,0))","v":"-"},"-",null,null,null,null,0,0,0,0,0,0,"*"]
[null,null,1598,null,null,null,null,null,null,null,null,null,null,null,null,null,null,null,null,null,null,null,null,null,null,null,null,null,null,null,null,null,null,null,null,{"$f":"IF(H1607=\"\",\"-\",VLOOKUP(T1607,読み替え表_スマートムーブ!$C$4:$F$13,4,0))","v":"-"},{"$f":"IF(H1607=\"\",\"-\",VLOOKUP(V1607,読み替え表_スマートムーブ!$C$16:$F$21,4,0))","v":"-"},"-",null,null,null,null,0,0,0,0,0,0,"*"]
[null,null,1599,null,null,null,null,null,null,null,null,null,null,null,null,null,null,null,null,null,null,null,null,null,null,null,null,null,null,null,null,null,null,null,null,{"$f":"IF(H1608=\"\",\"-\",VLOOKUP(T1608,読み替え表_スマートムーブ!$C$4:$F$13,4,0))","v":"-"},{"$f":"IF(H1608=\"\",\"-\",VLOOKUP(V1608,読み替え表_スマートムーブ!$C$16:$F$21,4,0))","v":"-"},"-",null,null,null,null,0,0,0,0,0,0,"*"]
[null,null,1600,null,null,null,null,null,null,null,null,null,null,null,null,null,null,null,null,null,null,null,null,null,null,null,null,null,null,null,null,null,null,null,null,{"$f":"IF(H1609=\"\",\"-\",VLOOKUP(T1609,読み替え表_スマートムーブ!$C$4:$F$13,4,0))","v":"-"},{"$f":"IF(H1609=\"\",\"-\",VLOOKUP(V1609,読み替え表_スマートムーブ!$C$16:$F$21,4,0))","v":"-"},"-",null,null,null,null,0,0,0,0,0,0,"*"]
[null,null,1601,null,null,null,null,null,null,null,null,null,null,null,null,null,null,null,null,null,null,null,null,null,null,null,null,null,null,null,null,null,null,null,null,{"$f":"IF(H1610=\"\",\"-\",VLOOKUP(T1610,読み替え表_スマートムーブ!$C$4:$F$13,4,0))","v":"-"},{"$f":"IF(H1610=\"\",\"-\",VLOOKUP(V1610,読み替え表_スマートムーブ!$C$16:$F$21,4,0))","v":"-"},"-",null,null,null,null,0,0,0,0,0,{"$f":"AQ1610","v":0},"*"]
[null,null,{"$f":"ROW()-9","v":1602},null,null,null,null,null,null,null,null,null,null,null,null,null,null,null,null,null,null,null,null,null,null,null,null,null,null,null,null,null,null,null,null,{"$f":"IF(H1611=\"\",\"-\",VLOOKUP(T1611,読み替え表_スマートムーブ!$C$4:$F$13,4,0))","v":"-"},{"$f":"IF(H1611=\"\",\"-\",VLOOKUP(V1611,読み替え表_スマートムーブ!$C$16:$F$21,4,0))","v":"-"},"-",null,null,null,null,{"$f":"IF(SUM($AR1611:$AT1611)>=1,1,0)","v":0},{"$f":"IF(R1611=1,1,0)","v":0},{"$f":"IF(T1611=9,1,0)","v":0},{"$f":"IF(V1611=5,1,0)","v":0},{"$f":"IF(OR($X1611=1,$X1611=2,$X1611=3),1,0)","v":0},0,"*"]
[null,null,1603,null,null,null,null,null,null,null,null,null,null,null,null,null,null,null,null,null,null,null,null,null,null,null,null,null,null,null,null,null,null,null,null,{"$f":"IF(H1612=\"\",\"-\",VLOOKUP(T1612,読み替え表_スマートムーブ!$C$4:$F$13,4,0))","v":"-"},{"$f":"IF(H1612=\"\",\"-\",VLOOKUP(V1612,読み替え表_スマートムーブ!$C$16:$F$21,4,0))","v":"-"},"-",null,null,null,null,0,0,0,0,0,0,"*"]
[null,null,1604,null,null,null,null,null,null,null,null,null,null,null,null,null,null,null,null,null,null,null,null,null,null,null,null,null,null,null,null,null,null,null,null,{"$f":"IF(H1613=\"\",\"-\",VLOOKUP(T1613,読み替え表_スマートムーブ!$C$4:$F$13,4,0))","v":"-"},{"$f":"IF(H1613=\"\",\"-\",VLOOKUP(V1613,読み替え表_スマートムーブ!$C$16:$F$21,4,0))","v":"-"},"-",null,null,null,null,0,0,0,0,0,0,"*"]
[null,null,1605,null,null,null,null,null,null,null,null,null,null,null,null,null,null,null,null,null,null,null,null,null,null,null,null,null,null,null,null,null,null,null,null,{"$f":"IF(H1614=\"\",\"-\",VLOOKUP(T1614,読み替え表_スマートムーブ!$C$4:$F$13,4,0))","v":"-"},{"$f":"IF(H1614=\"\",\"-\",VLOOKUP(V1614,読み替え表_スマートムーブ!$C$16:$F$21,4,0))","v":"-"},"-",null,null,null,null,0,0,0,0,0,0,"*"]
[null,null,1606,null,null,null,null,null,null,null,null,null,null,null,null,null,null,null,null,null,null,null,null,null,null,null,null,null,null,null,null,null,null,null,null,{"$f":"IF(H1615=\"\",\"-\",VLOOKUP(T1615,読み替え表_スマートムーブ!$C$4:$F$13,4,0))","v":"-"},{"$f":"IF(H1615=\"\",\"-\",VLOOKUP(V1615,読み替え表_スマートムーブ!$C$16:$F$21,4,0))","v":"-"},"-",null,null,null,null,0,0,0,0,0,0,"*"]
[null,null,1607,null,null,null,null,null,null,null,null,null,null,null,null,null,null,null,null,null,null,null,null,null,null,null,null,null,null,null,null,null,null,null,null,{"$f":"IF(H1616=\"\",\"-\",VLOOKUP(T1616,読み替え表_スマートムーブ!$C$4:$F$13,4,0))","v":"-"},{"$f":"IF(H1616=\"\",\"-\",VLOOKUP(V1616,読み替え表_スマートムーブ!$C$16:$F$21,4,0))","v":"-"},"-",null,null,null,null,0,0,0,0,0,0,"*"]
[null,null,1608,null,null,null,null,null,null,null,null,null,null,null,null,null,null,null,null,null,null,null,null,null,null,null,null,null,null,null,null,null,null,null,null,{"$f":"IF(H1617=\"\",\"-\",VLOOKUP(T1617,読み替え表_スマートムーブ!$C$4:$F$13,4,0))","v":"-"},{"$f":"IF(H1617=\"\",\"-\",VLOOKUP(V1617,読み替え表_スマートムーブ!$C$16:$F$21,4,0))","v":"-"},"-",null,null,null,null,0,0,0,0,0,0,"*"]
[null,null,1609,null,null,null,null,null,null,null,null,null,null,null,null,null,null,null,null,null,null,null,null,null,null,null,null,null,null,null,null,null,null,null,null,{"$f":"IF(H1618=\"\",\"-\",VLOOKUP(T1618,読み替え表_スマートムーブ!$C$4:$F$13,4,0))","v":"-"},{"$f":"IF(H1618=\"\",\"-\",VLOOKUP(V1618,読み替え表_スマートムーブ!$C$16:$F$21,4,0))","v":"-"},"-",null,null,null,null,0,0,0,0,0,0,"*"]
[null,null,1610,null,null,null,null,null,null,null,null,null,null,null,null,null,null,null,null,null,null,null,null,null,null,null,null,null,null,null,null,null,null,null,null,{"$f":"IF(H1619=\"\",\"-\",VLOOKUP(T1619,読み替え表_スマートムーブ!$C$4:$F$13,4,0))","v":"-"},{"$f":"IF(H1619=\"\",\"-\",VLOOKUP(V1619,読み替え表_スマートムーブ!$C$16:$F$21,4,0))","v":"-"},"-",null,null,null,null,0,0,0,0,0,0,"*"]
[null,null,1611,null,null,null,null,null,null,null,null,null,null,null,null,null,null,null,null,null,null,null,null,null,null,null,null,null,null,null,null,null,null,null,null,{"$f":"IF(H1620=\"\",\"-\",VLOOKUP(T1620,読み替え表_スマートムーブ!$C$4:$F$13,4,0))","v":"-"},{"$f":"IF(H1620=\"\",\"-\",VLOOKUP(V1620,読み替え表_スマートムーブ!$C$16:$F$21,4,0))","v":"-"},"-",null,null,null,null,0,0,0,0,0,0,"*"]
[null,null,1612,null,null,null,null,null,null,null,null,null,null,null,null,null,null,null,null,null,null,null,null,null,null,null,null,null,null,null,null,null,null,null,null,{"$f":"IF(H1621=\"\",\"-\",VLOOKUP(T1621,読み替え表_スマートムーブ!$C$4:$F$13,4,0))","v":"-"},{"$f":"IF(H1621=\"\",\"-\",VLOOKUP(V1621,読み替え表_スマートムーブ!$C$16:$F$21,4,0))","v":"-"},"-",null,null,null,null,0,0,0,0,0,0,"*"]
[null,null,1613,null,null,null,null,null,null,null,null,null,null,null,null,null,null,null,null,null,null,null,null,null,null,null,null,null,null,null,null,null,null,null,null,{"$f":"IF(H1622=\"\",\"-\",VLOOKUP(T1622,読み替え表_スマートムーブ!$C$4:$F$13,4,0))","v":"-"},{"$f":"IF(H1622=\"\",\"-\",VLOOKUP(V1622,読み替え表_スマートムーブ!$C$16:$F$21,4,0))","v":"-"},"-",null,null,null,null,0,0,0,0,0,0,"*"]
[null,null,1614,null,null,null,null,null,null,null,null,null,null,null,null,null,null,null,null,null,null,null,null,null,null,null,null,null,null,null,null,null,null,null,null,{"$f":"IF(H1623=\"\",\"-\",VLOOKUP(T1623,読み替え表_スマートムーブ!$C$4:$F$13,4,0))","v":"-"},{"$f":"IF(H1623=\"\",\"-\",VLOOKUP(V1623,読み替え表_スマートムーブ!$C$16:$F$21,4,0))","v":"-"},"-",null,null,null,null,0,0,0,0,0,0,"*"]
[null,null,1615,null,null,null,null,null,null,null,null,null,null,null,null,null,null,null,null,null,null,null,null,null,null,null,null,null,null,null,null,null,null,null,null,{"$f":"IF(H1624=\"\",\"-\",VLOOKUP(T1624,読み替え表_スマートムーブ!$C$4:$F$13,4,0))","v":"-"},{"$f":"IF(H1624=\"\",\"-\",VLOOKUP(V1624,読み替え表_スマートムーブ!$C$16:$F$21,4,0))","v":"-"},"-",null,null,null,null,0,0,0,0,0,0,"*"]
[null,null,1616,null,null,null,null,null,null,null,null,null,null,null,null,null,null,null,null,null,null,null,null,null,null,null,null,null,null,null,null,null,null,null,null,{"$f":"IF(H1625=\"\",\"-\",VLOOKUP(T1625,読み替え表_スマートムーブ!$C$4:$F$13,4,0))","v":"-"},{"$f":"IF(H1625=\"\",\"-\",VLOOKUP(V1625,読み替え表_スマートムーブ!$C$16:$F$21,4,0))","v":"-"},"-",null,null,null,null,0,0,0,0,0,0,"*"]
[null,null,1617,null,null,null,null,null,null,null,null,null,null,null,null,null,null,null,null,null,null,null,null,null,null,null,null,null,null,null,null,null,null,null,null,{"$f":"IF(H1626=\"\",\"-\",VLOOKUP(T1626,読み替え表_スマートムーブ!$C$4:$F$13,4,0))","v":"-"},{"$f":"IF(H1626=\"\",\"-\",VLOOKUP(V1626,読み替え表_スマートムーブ!$C$16:$F$21,4,0))","v":"-"},"-",null,null,null,null,0,0,0,0,0,0,"*"]
[null,null,1618,null,null,null,null,null,null,null,null,null,null,null,null,null,null,null,null,null,null,null,null,null,null,null,null,null,null,null,null,null,null,null,null,{"$f":"IF(H1627=\"\",\"-\",VLOOKUP(T1627,読み替え表_スマートムーブ!$C$4:$F$13,4,0))","v":"-"},{"$f":"IF(H1627=\"\",\"-\",VLOOKUP(V1627,読み替え表_スマートムーブ!$C$16:$F$21,4,0))","v":"-"},"-",null,null,null,null,0,0,0,0,0,0,"*"]
[null,null,1619,null,null,null,null,null,null,null,null,null,null,null,null,null,null,null,null,null,null,null,null,null,null,null,null,null,null,null,null,null,null,null,null,{"$f":"IF(H1628=\"\",\"-\",VLOOKUP(T1628,読み替え表_スマートムーブ!$C$4:$F$13,4,0))","v":"-"},{"$f":"IF(H1628=\"\",\"-\",VLOOKUP(V1628,読み替え表_スマートムーブ!$C$16:$F$21,4,0))","v":"-"},"-",null,null,null,null,0,0,0,0,0,0,"*"]
[null,null,1620,null,null,null,null,null,null,null,null,null,null,null,null,null,null,null,null,null,null,null,null,null,null,null,null,null,null,null,null,null,null,null,null,{"$f":"IF(H1629=\"\",\"-\",VLOOKUP(T1629,読み替え表_スマートムーブ!$C$4:$F$13,4,0))","v":"-"},{"$f":"IF(H1629=\"\",\"-\",VLOOKUP(V1629,読み替え表_スマートムーブ!$C$16:$F$21,4,0))","v":"-"},"-",null,null,null,null,0,0,0,0,0,0,"*"]
[null,null,1621,null,null,null,null,null,null,null,null,null,null,null,null,null,null,null,null,null,null,null,null,null,null,null,null,null,null,null,null,null,null,null,null,{"$f":"IF(H1630=\"\",\"-\",VLOOKUP(T1630,読み替え表_スマートムーブ!$C$4:$F$13,4,0))","v":"-"},{"$f":"IF(H1630=\"\",\"-\",VLOOKUP(V1630,読み替え表_スマートムーブ!$C$16:$F$21,4,0))","v":"-"},"-",null,null,null,null,0,0,0,0,0,0,"*"]
[null,null,1622,null,null,null,null,null,null,null,null,null,null,null,null,null,null,null,null,null,null,null,null,null,null,null,null,null,null,null,null,null,null,null,null,{"$f":"IF(H1631=\"\",\"-\",VLOOKUP(T1631,読み替え表_スマートムーブ!$C$4:$F$13,4,0))","v":"-"},{"$f":"IF(H1631=\"\",\"-\",VLOOKUP(V1631,読み替え表_スマートムーブ!$C$16:$F$21,4,0))","v":"-"},"-",null,null,null,null,0,0,0,0,0,0,"*"]
[null,null,1623,null,null,null,null,null,null,null,null,null,null,null,null,null,null,null,null,null,null,null,null,null,null,null,null,null,null,null,null,null,null,null,null,{"$f":"IF(H1632=\"\",\"-\",VLOOKUP(T1632,読み替え表_スマートムーブ!$C$4:$F$13,4,0))","v":"-"},{"$f":"IF(H1632=\"\",\"-\",VLOOKUP(V1632,読み替え表_スマートムーブ!$C$16:$F$21,4,0))","v":"-"},"-",null,null,null,null,0,0,0,0,0,0,"*"]
[null,null,1624,null,null,null,null,null,null,null,null,null,null,null,null,null,null,null,null,null,null,null,null,null,null,null,null,null,null,null,null,null,null,null,null,{"$f":"IF(H1633=\"\",\"-\",VLOOKUP(T1633,読み替え表_スマートムーブ!$C$4:$F$13,4,0))","v":"-"},{"$f":"IF(H1633=\"\",\"-\",VLOOKUP(V1633,読み替え表_スマートムーブ!$C$16:$F$21,4,0))","v":"-"},"-",null,null,null,null,0,0,0,0,0,0,"*"]
[null,null,1625,null,null,null,null,null,null,null,null,null,null,null,null,null,null,null,null,null,null,null,null,null,null,null,null,null,null,null,null,null,null,null,null,{"$f":"IF(H1634=\"\",\"-\",VLOOKUP(T1634,読み替え表_スマートムーブ!$C$4:$F$13,4,0))","v":"-"},{"$f":"IF(H1634=\"\",\"-\",VLOOKUP(V1634,読み替え表_スマートムーブ!$C$16:$F$21,4,0))","v":"-"},"-",null,null,null,null,0,0,0,0,0,0,"*"]
[null,null,1626,null,null,null,null,null,null,null,null,null,null,null,null,null,null,null,null,null,null,null,null,null,null,null,null,null,null,null,null,null,null,null,null,{"$f":"IF(H1635=\"\",\"-\",VLOOKUP(T1635,読み替え表_スマートムーブ!$C$4:$F$13,4,0))","v":"-"},{"$f":"IF(H1635=\"\",\"-\",VLOOKUP(V1635,読み替え表_スマートムーブ!$C$16:$F$21,4,0))","v":"-"},"-",null,null,null,null,0,0,0,0,0,0,"*"]
[null,null,1627,null,null,null,null,null,null,null,null,null,null,null,null,null,null,null,null,null,null,null,null,null,null,null,null,null,null,null,null,null,null,null,null,{"$f":"IF(H1636=\"\",\"-\",VLOOKUP(T1636,読み替え表_スマートムーブ!$C$4:$F$13,4,0))","v":"-"},{"$f":"IF(H1636=\"\",\"-\",VLOOKUP(V1636,読み替え表_スマートムーブ!$C$16:$F$21,4,0))","v":"-"},"-",null,null,null,null,0,0,0,0,0,0,"*"]
[null,null,1628,null,null,null,null,null,null,null,null,null,null,null,null,null,null,null,null,null,null,null,null,null,null,null,null,null,null,null,null,null,null,null,null,{"$f":"IF(H1637=\"\",\"-\",VLOOKUP(T1637,読み替え表_スマートムーブ!$C$4:$F$13,4,0))","v":"-"},{"$f":"IF(H1637=\"\",\"-\",VLOOKUP(V1637,読み替え表_スマートムーブ!$C$16:$F$21,4,0))","v":"-"},"-",null,null,null,null,0,0,0,0,0,0,"*"]
[null,null,1629,null,null,null,null,null,null,null,null,null,null,null,null,null,null,null,null,null,null,null,null,null,null,null,null,null,null,null,null,null,null,null,null,{"$f":"IF(H1638=\"\",\"-\",VLOOKUP(T1638,読み替え表_スマートムーブ!$C$4:$F$13,4,0))","v":"-"},{"$f":"IF(H1638=\"\",\"-\",VLOOKUP(V1638,読み替え表_スマートムーブ!$C$16:$F$21,4,0))","v":"-"},"-",null,null,null,null,0,0,0,0,0,0,"*"]
[null,null,1630,null,null,null,null,null,null,null,null,null,null,null,null,null,null,null,null,null,null,null,null,null,null,null,null,null,null,null,null,null,null,null,null,{"$f":"IF(H1639=\"\",\"-\",VLOOKUP(T1639,読み替え表_スマートムーブ!$C$4:$F$13,4,0))","v":"-"},{"$f":"IF(H1639=\"\",\"-\",VLOOKUP(V1639,読み替え表_スマートムーブ!$C$16:$F$21,4,0))","v":"-"},"-",null,null,null,null,0,0,0,0,0,0,"*"]
[null,null,1631,null,null,null,null,null,null,null,null,null,null,null,null,null,null,null,null,null,null,null,null,null,null,null,null,null,null,null,null,null,null,null,null,{"$f":"IF(H1640=\"\",\"-\",VLOOKUP(T1640,読み替え表_スマートムーブ!$C$4:$F$13,4,0))","v":"-"},{"$f":"IF(H1640=\"\",\"-\",VLOOKUP(V1640,読み替え表_スマートムーブ!$C$16:$F$21,4,0))","v":"-"},"-",null,null,null,null,0,0,0,0,0,0,"*"]
[null,null,1632,null,null,null,null,null,null,null,null,null,null,null,null,null,null,null,null,null,null,null,null,null,null,null,null,null,null,null,null,null,null,null,null,{"$f":"IF(H1641=\"\",\"-\",VLOOKUP(T1641,読み替え表_スマートムーブ!$C$4:$F$13,4,0))","v":"-"},{"$f":"IF(H1641=\"\",\"-\",VLOOKUP(V1641,読み替え表_スマートムーブ!$C$16:$F$21,4,0))","v":"-"},"-",null,null,null,null,0,0,0,0,0,0,"*"]
[null,null,1633,null,null,null,null,null,null,null,null,null,null,null,null,null,null,null,null,null,null,null,null,null,null,null,null,null,null,null,null,null,null,null,null,{"$f":"IF(H1642=\"\",\"-\",VLOOKUP(T1642,読み替え表_スマートムーブ!$C$4:$F$13,4,0))","v":"-"},{"$f":"IF(H1642=\"\",\"-\",VLOOKUP(V1642,読み替え表_スマートムーブ!$C$16:$F$21,4,0))","v":"-"},"-",null,null,null,null,0,0,0,0,0,0,"*"]
[null,null,1634,null,null,null,null,null,null,null,null,null,null,null,null,null,null,null,null,null,null,null,null,null,null,null,null,null,null,null,null,null,null,null,null,{"$f":"IF(H1643=\"\",\"-\",VLOOKUP(T1643,読み替え表_スマートムーブ!$C$4:$F$13,4,0))","v":"-"},{"$f":"IF(H1643=\"\",\"-\",VLOOKUP(V1643,読み替え表_スマートムーブ!$C$16:$F$21,4,0))","v":"-"},"-",null,null,null,null,0,0,0,0,0,0,"*"]
[null,null,1635,null,null,null,null,null,null,null,null,null,null,null,null,null,null,null,null,null,null,null,null,null,null,null,null,null,null,null,null,null,null,null,null,{"$f":"IF(H1644=\"\",\"-\",VLOOKUP(T1644,読み替え表_スマートムーブ!$C$4:$F$13,4,0))","v":"-"},{"$f":"IF(H1644=\"\",\"-\",VLOOKUP(V1644,読み替え表_スマートムーブ!$C$16:$F$21,4,0))","v":"-"},"-",null,null,null,null,0,0,0,0,0,0,"*"]
[null,null,1636,null,null,null,null,null,null,null,null,null,null,null,null,null,null,null,null,null,null,null,null,null,null,null,null,null,null,null,null,null,null,null,null,{"$f":"IF(H1645=\"\",\"-\",VLOOKUP(T1645,読み替え表_スマートムーブ!$C$4:$F$13,4,0))","v":"-"},{"$f":"IF(H1645=\"\",\"-\",VLOOKUP(V1645,読み替え表_スマートムーブ!$C$16:$F$21,4,0))","v":"-"},"-",null,null,null,null,0,0,0,0,0,0,"*"]
[null,null,1637,null,null,null,null,null,null,null,null,null,null,null,null,null,null,null,null,null,null,null,null,null,null,null,null,null,null,null,null,null,null,null,null,{"$f":"IF(H1646=\"\",\"-\",VLOOKUP(T1646,読み替え表_スマートムーブ!$C$4:$F$13,4,0))","v":"-"},{"$f":"IF(H1646=\"\",\"-\",VLOOKUP(V1646,読み替え表_スマートムーブ!$C$16:$F$21,4,0))","v":"-"},"-",null,null,null,null,0,0,0,0,0,0,"*"]
[null,null,1638,null,null,null,null,null,null,null,null,null,null,null,null,null,null,null,null,null,null,null,null,null,null,null,null,null,null,null,null,null,null,null,null,{"$f":"IF(H1647=\"\",\"-\",VLOOKUP(T1647,読み替え表_スマートムーブ!$C$4:$F$13,4,0))","v":"-"},{"$f":"IF(H1647=\"\",\"-\",VLOOKUP(V1647,読み替え表_スマートムーブ!$C$16:$F$21,4,0))","v":"-"},"-",null,null,null,null,0,0,0,0,0,0,"*"]
[null,null,1639,null,null,null,null,null,null,null,null,null,null,null,null,null,null,null,null,null,null,null,null,null,null,null,null,null,null,null,null,null,null,null,null,{"$f":"IF(H1648=\"\",\"-\",VLOOKUP(T1648,読み替え表_スマートムーブ!$C$4:$F$13,4,0))","v":"-"},{"$f":"IF(H1648=\"\",\"-\",VLOOKUP(V1648,読み替え表_スマートムーブ!$C$16:$F$21,4,0))","v":"-"},"-",null,null,null,null,0,0,0,0,0,0,"*"]
[null,null,1640,null,null,null,null,null,null,null,null,null,null,null,null,null,null,null,null,null,null,null,null,null,null,null,null,null,null,null,null,null,null,null,null,{"$f":"IF(H1649=\"\",\"-\",VLOOKUP(T1649,読み替え表_スマートムーブ!$C$4:$F$13,4,0))","v":"-"},{"$f":"IF(H1649=\"\",\"-\",VLOOKUP(V1649,読み替え表_スマートムーブ!$C$16:$F$21,4,0))","v":"-"},"-",null,null,null,null,0,0,0,0,0,0,"*"]
[null,null,1641,null,null,null,null,null,null,null,null,null,null,null,null,null,null,null,null,null,null,null,null,null,null,null,null,null,null,null,null,null,null,null,null,{"$f":"IF(H1650=\"\",\"-\",VLOOKUP(T1650,読み替え表_スマートムーブ!$C$4:$F$13,4,0))","v":"-"},{"$f":"IF(H1650=\"\",\"-\",VLOOKUP(V1650,読み替え表_スマートムーブ!$C$16:$F$21,4,0))","v":"-"},{"$f":"IF(H1650=\"\",\"-\",AJ1650*AK1650)","v":"-"},null,null,null,null,0,0,0,0,0,0,"*"]
[null,null,1642,null,null,null,null,null,null,null,null,null,null,null,null,null,null,null,null,null,null,null,null,null,null,null,null,null,null,null,null,null,null,null,null,{"$f":"IF(H1651=\"\",\"-\",VLOOKUP(T1651,読み替え表_スマートムーブ!$C$4:$F$13,4,0))","v":"-"},{"$f":"IF(H1651=\"\",\"-\",VLOOKUP(V1651,読み替え表_スマートムーブ!$C$16:$F$21,4,0))","v":"-"},"-",null,null,null,null,0,0,0,0,0,0,"*"]
[null,null,1643,null,null,null,null,null,null,null,null,null,null,null,null,null,null,null,null,null,null,null,null,null,null,null,null,null,null,null,null,null,null,null,null,{"$f":"IF(H1652=\"\",\"-\",VLOOKUP(T1652,読み替え表_スマートムーブ!$C$4:$F$13,4,0))","v":"-"},{"$f":"IF(H1652=\"\",\"-\",VLOOKUP(V1652,読み替え表_スマートムーブ!$C$16:$F$21,4,0))","v":"-"},"-",null,null,null,null,0,0,0,0,0,0,"*"]
[null,null,1644,null,null,null,null,null,null,null,null,null,null,null,null,null,null,null,null,null,null,null,null,null,null,null,null,null,null,null,null,null,null,null,null,{"$f":"IF(H1653=\"\",\"-\",VLOOKUP(T1653,読み替え表_スマートムーブ!$C$4:$F$13,4,0))","v":"-"},{"$f":"IF(H1653=\"\",\"-\",VLOOKUP(V1653,読み替え表_スマートムーブ!$C$16:$F$21,4,0))","v":"-"},"-",null,null,null,null,0,0,0,0,0,0,"*"]
[null,null,1645,null,null,null,null,null,null,null,null,null,null,null,null,null,null,null,null,null,null,null,null,null,null,null,null,null,null,null,null,null,null,null,null,{"$f":"IF(H1654=\"\",\"-\",VLOOKUP(T1654,読み替え表_スマートムーブ!$C$4:$F$13,4,0))","v":"-"},{"$f":"IF(H1654=\"\",\"-\",VLOOKUP(V1654,読み替え表_スマートムーブ!$C$16:$F$21,4,0))","v":"-"},"-",null,null,null,null,0,0,0,0,0,0,"*"]
[null,null,1646,null,null,null,null,null,null,null,null,null,null,null,null,null,null,null,null,null,null,null,null,null,null,null,null,null,null,null,null,null,null,null,null,{"$f":"IF(H1655=\"\",\"-\",VLOOKUP(T1655,読み替え表_スマートムーブ!$C$4:$F$13,4,0))","v":"-"},{"$f":"IF(H1655=\"\",\"-\",VLOOKUP(V1655,読み替え表_スマートムーブ!$C$16:$F$21,4,0))","v":"-"},"-",null,null,null,null,0,0,0,0,0,0,"*"]
[null,null,1647,null,null,null,null,null,null,null,null,null,null,null,null,null,null,null,null,null,null,null,null,null,null,null,null,null,null,null,null,null,null,null,null,{"$f":"IF(H1656=\"\",\"-\",VLOOKUP(T1656,読み替え表_スマートムーブ!$C$4:$F$13,4,0))","v":"-"},{"$f":"IF(H1656=\"\",\"-\",VLOOKUP(V1656,読み替え表_スマートムーブ!$C$16:$F$21,4,0))","v":"-"},"-",null,null,null,null,0,0,0,0,0,0,"*"]
[null,null,1648,null,null,null,null,null,null,null,null,null,null,null,null,null,null,null,null,null,null,null,null,null,null,null,null,null,null,null,null,null,null,null,null,{"$f":"IF(H1657=\"\",\"-\",VLOOKUP(T1657,読み替え表_スマートムーブ!$C$4:$F$13,4,0))","v":"-"},{"$f":"IF(H1657=\"\",\"-\",VLOOKUP(V1657,読み替え表_スマートムーブ!$C$16:$F$21,4,0))","v":"-"},"-",null,null,null,null,0,0,0,0,0,0,"*"]
[null,null,1649,null,null,null,null,null,null,null,null,null,null,null,null,null,null,null,null,null,null,null,null,null,null,null,null,null,null,null,null,null,null,null,null,{"$f":"IF(H1658=\"\",\"-\",VLOOKUP(T1658,読み替え表_スマートムーブ!$C$4:$F$13,4,0))","v":"-"},{"$f":"IF(H1658=\"\",\"-\",VLOOKUP(V1658,読み替え表_スマートムーブ!$C$16:$F$21,4,0))","v":"-"},"-",null,null,null,null,0,0,0,0,0,0,"*"]
[null,null,1650,null,null,null,null,null,null,null,null,null,null,null,null,null,null,null,null,null,null,null,null,null,null,null,null,null,null,null,null,null,null,null,null,{"$f":"IF(H1659=\"\",\"-\",VLOOKUP(T1659,読み替え表_スマートムーブ!$C$4:$F$13,4,0))","v":"-"},{"$f":"IF(H1659=\"\",\"-\",VLOOKUP(V1659,読み替え表_スマートムーブ!$C$16:$F$21,4,0))","v":"-"},"-",null,null,null,null,0,0,0,0,0,0,"*"]
[null,null,1651,null,null,null,null,null,null,null,null,null,null,null,null,null,null,null,null,null,null,null,null,null,null,null,null,null,null,null,null,null,null,null,null,{"$f":"IF(H1660=\"\",\"-\",VLOOKUP(T1660,読み替え表_スマートムーブ!$C$4:$F$13,4,0))","v":"-"},{"$f":"IF(H1660=\"\",\"-\",VLOOKUP(V1660,読み替え表_スマートムーブ!$C$16:$F$21,4,0))","v":"-"},"-",null,null,null,null,0,0,0,0,0,0,"*"]
[null,null,1652,null,null,null,null,null,null,null,null,null,null,null,null,null,null,null,null,null,null,null,null,null,null,null,null,null,null,null,null,null,null,null,null,{"$f":"IF(H1661=\"\",\"-\",VLOOKUP(T1661,読み替え表_スマートムーブ!$C$4:$F$13,4,0))","v":"-"},{"$f":"IF(H1661=\"\",\"-\",VLOOKUP(V1661,読み替え表_スマートムーブ!$C$16:$F$21,4,0))","v":"-"},"-",null,null,null,null,0,0,0,0,0,0,"*"]
[null,null,1653,null,null,null,null,null,null,null,null,null,null,null,null,null,null,null,null,null,null,null,null,null,null,null,null,null,null,null,null,null,null,null,null,{"$f":"IF(H1662=\"\",\"-\",VLOOKUP(T1662,読み替え表_スマートムーブ!$C$4:$F$13,4,0))","v":"-"},{"$f":"IF(H1662=\"\",\"-\",VLOOKUP(V1662,読み替え表_スマートムーブ!$C$16:$F$21,4,0))","v":"-"},"-",null,null,null,null,0,0,0,0,0,0,"*"]
[null,null,1654,null,null,null,null,null,null,null,null,null,null,null,null,null,null,null,null,null,null,null,null,null,null,null,null,null,null,null,null,null,null,null,null,{"$f":"IF(H1663=\"\",\"-\",VLOOKUP(T1663,読み替え表_スマートムーブ!$C$4:$F$13,4,0))","v":"-"},{"$f":"IF(H1663=\"\",\"-\",VLOOKUP(V1663,読み替え表_スマートムーブ!$C$16:$F$21,4,0))","v":"-"},"-",null,null,null,null,0,0,0,0,0,0,"*"]
[null,null,1655,null,null,null,null,null,null,null,null,null,null,null,null,null,null,null,null,null,null,null,null,null,null,null,null,null,null,null,null,null,null,null,null,{"$f":"IF(H1664=\"\",\"-\",VLOOKUP(T1664,読み替え表_スマートムーブ!$C$4:$F$13,4,0))","v":"-"},{"$f":"IF(H1664=\"\",\"-\",VLOOKUP(V1664,読み替え表_スマートムーブ!$C$16:$F$21,4,0))","v":"-"},"-",null,null,null,null,0,0,0,0,0,0,"*"]
[null,null,1656,null,null,null,null,null,null,null,null,null,null,null,null,null,null,null,null,null,null,null,null,null,null,null,null,null,null,null,null,null,null,null,null,{"$f":"IF(H1665=\"\",\"-\",VLOOKUP(T1665,読み替え表_スマートムーブ!$C$4:$F$13,4,0))","v":"-"},{"$f":"IF(H1665=\"\",\"-\",VLOOKUP(V1665,読み替え表_スマートムーブ!$C$16:$F$21,4,0))","v":"-"},"-",null,null,null,null,0,0,0,0,0,0,"*"]
[null,null,1657,null,null,null,null,null,null,null,null,null,null,null,null,null,null,null,null,null,null,null,null,null,null,null,null,null,null,null,null,null,null,null,null,{"$f":"IF(H1666=\"\",\"-\",VLOOKUP(T1666,読み替え表_スマートムーブ!$C$4:$F$13,4,0))","v":"-"},{"$f":"IF(H1666=\"\",\"-\",VLOOKUP(V1666,読み替え表_スマートムーブ!$C$16:$F$21,4,0))","v":"-"},"-",null,null,null,null,0,0,0,0,0,0,"*"]
[null,null,1658,null,null,null,null,null,null,null,null,null,null,null,null,null,null,null,null,null,null,null,null,null,null,null,null,null,null,null,null,null,null,null,null,{"$f":"IF(H1667=\"\",\"-\",VLOOKUP(T1667,読み替え表_スマートムーブ!$C$4:$F$13,4,0))","v":"-"},{"$f":"IF(H1667=\"\",\"-\",VLOOKUP(V1667,読み替え表_スマートムーブ!$C$16:$F$21,4,0))","v":"-"},"-",null,null,null,null,0,0,0,0,0,0,"*"]
[null,null,1659,null,null,null,null,null,null,null,null,null,null,null,null,null,null,null,null,null,null,null,null,null,null,null,null,null,null,null,null,null,null,null,null,{"$f":"IF(H1668=\"\",\"-\",VLOOKUP(T1668,読み替え表_スマートムーブ!$C$4:$F$13,4,0))","v":"-"},{"$f":"IF(H1668=\"\",\"-\",VLOOKUP(V1668,読み替え表_スマートムーブ!$C$16:$F$21,4,0))","v":"-"},"-",null,null,null,null,0,0,0,0,0,0,"*"]
[null,null,1660,null,null,null,null,null,null,null,null,null,null,null,null,null,null,null,null,null,null,null,null,null,null,null,null,null,null,null,null,null,null,null,null,{"$f":"IF(H1669=\"\",\"-\",VLOOKUP(T1669,読み替え表_スマートムーブ!$C$4:$F$13,4,0))","v":"-"},{"$f":"IF(H1669=\"\",\"-\",VLOOKUP(V1669,読み替え表_スマートムーブ!$C$16:$F$21,4,0))","v":"-"},"-",null,null,null,null,0,0,0,0,0,0,"*"]
[null,null,1661,null,null,null,null,null,null,null,null,null,null,null,null,null,null,null,null,null,null,null,null,null,null,null,null,null,null,null,null,null,null,null,null,{"$f":"IF(H1670=\"\",\"-\",VLOOKUP(T1670,読み替え表_スマートムーブ!$C$4:$F$13,4,0))","v":"-"},{"$f":"IF(H1670=\"\",\"-\",VLOOKUP(V1670,読み替え表_スマートムーブ!$C$16:$F$21,4,0))","v":"-"},"-",null,null,null,null,0,0,0,0,0,0,"*"]
[null,null,1662,null,null,null,null,null,null,null,null,null,null,null,null,null,null,null,null,null,null,null,null,null,null,null,null,null,null,null,null,null,null,null,null,{"$f":"IF(H1671=\"\",\"-\",VLOOKUP(T1671,読み替え表_スマートムーブ!$C$4:$F$13,4,0))","v":"-"},{"$f":"IF(H1671=\"\",\"-\",VLOOKUP(V1671,読み替え表_スマートムーブ!$C$16:$F$21,4,0))","v":"-"},"-",null,null,null,null,0,0,0,0,0,0,"*"]
[null,null,1663,null,null,null,null,null,null,null,null,null,null,null,null,null,null,null,null,null,null,null,null,null,null,null,null,null,null,null,null,null,null,null,null,{"$f":"IF(H1672=\"\",\"-\",VLOOKUP(T1672,読み替え表_スマートムーブ!$C$4:$F$13,4,0))","v":"-"},{"$f":"IF(H1672=\"\",\"-\",VLOOKUP(V1672,読み替え表_スマートムーブ!$C$16:$F$21,4,0))","v":"-"},"-",null,null,null,null,0,0,0,0,0,0,"*"]
[null,null,1664,null,null,null,null,null,null,null,null,null,null,null,null,null,null,null,null,null,null,null,null,null,null,null,null,null,null,null,null,null,null,null,null,{"$f":"IF(H1673=\"\",\"-\",VLOOKUP(T1673,読み替え表_スマートムーブ!$C$4:$F$13,4,0))","v":"-"},{"$f":"IF(H1673=\"\",\"-\",VLOOKUP(V1673,読み替え表_スマートムーブ!$C$16:$F$21,4,0))","v":"-"},"-",null,null,null,null,0,0,0,0,0,0,"*"]
[null,null,1665,null,null,null,null,null,null,null,null,null,null,null,null,null,null,null,null,null,null,null,null,null,null,null,null,null,null,null,null,null,null,null,null,{"$f":"IF(H1674=\"\",\"-\",VLOOKUP(T1674,読み替え表_スマートムーブ!$C$4:$F$13,4,0))","v":"-"},{"$f":"IF(H1674=\"\",\"-\",VLOOKUP(V1674,読み替え表_スマートムーブ!$C$16:$F$21,4,0))","v":"-"},"-",null,null,null,null,0,0,0,0,0,{"$f":"AQ1674","v":0},"*"]
[null,null,{"$f":"ROW()-9","v":1666},null,null,null,null,null,null,null,null,null,null,null,null,null,null,null,null,null,null,null,null,null,null,null,null,null,null,null,null,null,null,null,null,{"$f":"IF(H1675=\"\",\"-\",VLOOKUP(T1675,読み替え表_スマートムーブ!$C$4:$F$13,4,0))","v":"-"},{"$f":"IF(H1675=\"\",\"-\",VLOOKUP(V1675,読み替え表_スマートムーブ!$C$16:$F$21,4,0))","v":"-"},"-",null,null,null,null,{"$f":"IF(SUM($AR1675:$AT1675)>=1,1,0)","v":0},{"$f":"IF(R1675=1,1,0)","v":0},{"$f":"IF(T1675=9,1,0)","v":0},{"$f":"IF(V1675=5,1,0)","v":0},{"$f":"IF(OR($X1675=1,$X1675=2,$X1675=3),1,0)","v":0},0,"*"]
[null,null,1667,null,null,null,null,null,null,null,null,null,null,null,null,null,null,null,null,null,null,null,null,null,null,null,null,null,null,null,null,null,null,null,null,{"$f":"IF(H1676=\"\",\"-\",VLOOKUP(T1676,読み替え表_スマートムーブ!$C$4:$F$13,4,0))","v":"-"},{"$f":"IF(H1676=\"\",\"-\",VLOOKUP(V1676,読み替え表_スマートムーブ!$C$16:$F$21,4,0))","v":"-"},"-",null,null,null,null,0,0,0,0,0,0,"*"]
[null,null,1668,null,null,null,null,null,null,null,null,null,null,null,null,null,null,null,null,null,null,null,null,null,null,null,null,null,null,null,null,null,null,null,null,{"$f":"IF(H1677=\"\",\"-\",VLOOKUP(T1677,読み替え表_スマートムーブ!$C$4:$F$13,4,0))","v":"-"},{"$f":"IF(H1677=\"\",\"-\",VLOOKUP(V1677,読み替え表_スマートムーブ!$C$16:$F$21,4,0))","v":"-"},"-",null,null,null,null,0,0,0,0,0,0,"*"]
[null,null,1669,null,null,null,null,null,null,null,null,null,null,null,null,null,null,null,null,null,null,null,null,null,null,null,null,null,null,null,null,null,null,null,null,{"$f":"IF(H1678=\"\",\"-\",VLOOKUP(T1678,読み替え表_スマートムーブ!$C$4:$F$13,4,0))","v":"-"},{"$f":"IF(H1678=\"\",\"-\",VLOOKUP(V1678,読み替え表_スマートムーブ!$C$16:$F$21,4,0))","v":"-"},"-",null,null,null,null,0,0,0,0,0,0,"*"]
[null,null,1670,null,null,null,null,null,null,null,null,null,null,null,null,null,null,null,null,null,null,null,null,null,null,null,null,null,null,null,null,null,null,null,null,{"$f":"IF(H1679=\"\",\"-\",VLOOKUP(T1679,読み替え表_スマートムーブ!$C$4:$F$13,4,0))","v":"-"},{"$f":"IF(H1679=\"\",\"-\",VLOOKUP(V1679,読み替え表_スマートムーブ!$C$16:$F$21,4,0))","v":"-"},"-",null,null,null,null,0,0,0,0,0,0,"*"]
[null,null,1671,null,null,null,null,null,null,null,null,null,null,null,null,null,null,null,null,null,null,null,null,null,null,null,null,null,null,null,null,null,null,null,null,{"$f":"IF(H1680=\"\",\"-\",VLOOKUP(T1680,読み替え表_スマートムーブ!$C$4:$F$13,4,0))","v":"-"},{"$f":"IF(H1680=\"\",\"-\",VLOOKUP(V1680,読み替え表_スマートムーブ!$C$16:$F$21,4,0))","v":"-"},"-",null,null,null,null,0,0,0,0,0,0,"*"]
[null,null,1672,null,null,null,null,null,null,null,null,null,null,null,null,null,null,null,null,null,null,null,null,null,null,null,null,null,null,null,null,null,null,null,null,{"$f":"IF(H1681=\"\",\"-\",VLOOKUP(T1681,読み替え表_スマートムーブ!$C$4:$F$13,4,0))","v":"-"},{"$f":"IF(H1681=\"\",\"-\",VLOOKUP(V1681,読み替え表_スマートムーブ!$C$16:$F$21,4,0))","v":"-"},"-",null,null,null,null,0,0,0,0,0,0,"*"]
[null,null,1673,null,null,null,null,null,null,null,null,null,null,null,null,null,null,null,null,null,null,null,null,null,null,null,null,null,null,null,null,null,null,null,null,{"$f":"IF(H1682=\"\",\"-\",VLOOKUP(T1682,読み替え表_スマートムーブ!$C$4:$F$13,4,0))","v":"-"},{"$f":"IF(H1682=\"\",\"-\",VLOOKUP(V1682,読み替え表_スマートムーブ!$C$16:$F$21,4,0))","v":"-"},"-",null,null,null,null,0,0,0,0,0,0,"*"]
[null,null,1674,null,null,null,null,null,null,null,null,null,null,null,null,null,null,null,null,null,null,null,null,null,null,null,null,null,null,null,null,null,null,null,null,{"$f":"IF(H1683=\"\",\"-\",VLOOKUP(T1683,読み替え表_スマートムーブ!$C$4:$F$13,4,0))","v":"-"},{"$f":"IF(H1683=\"\",\"-\",VLOOKUP(V1683,読み替え表_スマートムーブ!$C$16:$F$21,4,0))","v":"-"},"-",null,null,null,null,0,0,0,0,0,0,"*"]
[null,null,1675,null,null,null,null,null,null,null,null,null,null,null,null,null,null,null,null,null,null,null,null,null,null,null,null,null,null,null,null,null,null,null,null,{"$f":"IF(H1684=\"\",\"-\",VLOOKUP(T1684,読み替え表_スマートムーブ!$C$4:$F$13,4,0))","v":"-"},{"$f":"IF(H1684=\"\",\"-\",VLOOKUP(V1684,読み替え表_スマートムーブ!$C$16:$F$21,4,0))","v":"-"},"-",null,null,null,null,0,0,0,0,0,0,"*"]
[null,null,1676,null,null,null,null,null,null,null,null,null,null,null,null,null,null,null,null,null,null,null,null,null,null,null,null,null,null,null,null,null,null,null,null,{"$f":"IF(H1685=\"\",\"-\",VLOOKUP(T1685,読み替え表_スマートムーブ!$C$4:$F$13,4,0))","v":"-"},{"$f":"IF(H1685=\"\",\"-\",VLOOKUP(V1685,読み替え表_スマートムーブ!$C$16:$F$21,4,0))","v":"-"},"-",null,null,null,null,0,0,0,0,0,0,"*"]
[null,null,1677,null,null,null,null,null,null,null,null,null,null,null,null,null,null,null,null,null,null,null,null,null,null,null,null,null,null,null,null,null,null,null,null,{"$f":"IF(H1686=\"\",\"-\",VLOOKUP(T1686,読み替え表_スマートムーブ!$C$4:$F$13,4,0))","v":"-"},{"$f":"IF(H1686=\"\",\"-\",VLOOKUP(V1686,読み替え表_スマートムーブ!$C$16:$F$21,4,0))","v":"-"},"-",null,null,null,null,0,0,0,0,0,0,"*"]
[null,null,1678,null,null,null,null,null,null,null,null,null,null,null,null,null,null,null,null,null,null,null,null,null,null,null,null,null,null,null,null,null,null,null,null,{"$f":"IF(H1687=\"\",\"-\",VLOOKUP(T1687,読み替え表_スマートムーブ!$C$4:$F$13,4,0))","v":"-"},{"$f":"IF(H1687=\"\",\"-\",VLOOKUP(V1687,読み替え表_スマートムーブ!$C$16:$F$21,4,0))","v":"-"},"-",null,null,null,null,0,0,0,0,0,0,"*"]
[null,null,1679,null,null,null,null,null,null,null,null,null,null,null,null,null,null,null,null,null,null,null,null,null,null,null,null,null,null,null,null,null,null,null,null,{"$f":"IF(H1688=\"\",\"-\",VLOOKUP(T1688,読み替え表_スマートムーブ!$C$4:$F$13,4,0))","v":"-"},{"$f":"IF(H1688=\"\",\"-\",VLOOKUP(V1688,読み替え表_スマートムーブ!$C$16:$F$21,4,0))","v":"-"},"-",null,null,null,null,0,0,0,0,0,0,"*"]
[null,null,1680,null,null,null,null,null,null,null,null,null,null,null,null,null,null,null,null,null,null,null,null,null,null,null,null,null,null,null,null,null,null,null,null,{"$f":"IF(H1689=\"\",\"-\",VLOOKUP(T1689,読み替え表_スマートムーブ!$C$4:$F$13,4,0))","v":"-"},{"$f":"IF(H1689=\"\",\"-\",VLOOKUP(V1689,読み替え表_スマートムーブ!$C$16:$F$21,4,0))","v":"-"},"-",null,null,null,null,0,0,0,0,0,0,"*"]
[null,null,1681,null,null,null,null,null,null,null,null,null,null,null,null,null,null,null,null,null,null,null,null,null,null,null,null,null,null,null,null,null,null,null,null,{"$f":"IF(H1690=\"\",\"-\",VLOOKUP(T1690,読み替え表_スマートムーブ!$C$4:$F$13,4,0))","v":"-"},{"$f":"IF(H1690=\"\",\"-\",VLOOKUP(V1690,読み替え表_スマートムーブ!$C$16:$F$21,4,0))","v":"-"},"-",null,null,null,null,0,0,0,0,0,0,"*"]
[null,null,1682,null,null,null,null,null,null,null,null,null,null,null,null,null,null,null,null,null,null,null,null,null,null,null,null,null,null,null,null,null,null,null,null,{"$f":"IF(H1691=\"\",\"-\",VLOOKUP(T1691,読み替え表_スマートムーブ!$C$4:$F$13,4,0))","v":"-"},{"$f":"IF(H1691=\"\",\"-\",VLOOKUP(V1691,読み替え表_スマートムーブ!$C$16:$F$21,4,0))","v":"-"},"-",null,null,null,null,0,0,0,0,0,0,"*"]
[null,null,1683,null,null,null,null,null,null,null,null,null,null,null,null,null,null,null,null,null,null,null,null,null,null,null,null,null,null,null,null,null,null,null,null,{"$f":"IF(H1692=\"\",\"-\",VLOOKUP(T1692,読み替え表_スマートムーブ!$C$4:$F$13,4,0))","v":"-"},{"$f":"IF(H1692=\"\",\"-\",VLOOKUP(V1692,読み替え表_スマートムーブ!$C$16:$F$21,4,0))","v":"-"},"-",null,null,null,null,0,0,0,0,0,0,"*"]
[null,null,1684,null,null,null,null,null,null,null,null,null,null,null,null,null,null,null,null,null,null,null,null,null,null,null,null,null,null,null,null,null,null,null,null,{"$f":"IF(H1693=\"\",\"-\",VLOOKUP(T1693,読み替え表_スマートムーブ!$C$4:$F$13,4,0))","v":"-"},{"$f":"IF(H1693=\"\",\"-\",VLOOKUP(V1693,読み替え表_スマートムーブ!$C$16:$F$21,4,0))","v":"-"},"-",null,null,null,null,0,0,0,0,0,0,"*"]
[null,null,1685,null,null,null,null,null,null,null,null,null,null,null,null,null,null,null,null,null,null,null,null,null,null,null,null,null,null,null,null,null,null,null,null,{"$f":"IF(H1694=\"\",\"-\",VLOOKUP(T1694,読み替え表_スマートムーブ!$C$4:$F$13,4,0))","v":"-"},{"$f":"IF(H1694=\"\",\"-\",VLOOKUP(V1694,読み替え表_スマートムーブ!$C$16:$F$21,4,0))","v":"-"},"-",null,null,null,null,0,0,0,0,0,0,"*"]
[null,null,1686,null,null,null,null,null,null,null,null,null,null,null,null,null,null,null,null,null,null,null,null,null,null,null,null,null,null,null,null,null,null,null,null,{"$f":"IF(H1695=\"\",\"-\",VLOOKUP(T1695,読み替え表_スマートムーブ!$C$4:$F$13,4,0))","v":"-"},{"$f":"IF(H1695=\"\",\"-\",VLOOKUP(V1695,読み替え表_スマートムーブ!$C$16:$F$21,4,0))","v":"-"},"-",null,null,null,null,0,0,0,0,0,0,"*"]
[null,null,1687,null,null,null,null,null,null,null,null,null,null,null,null,null,null,null,null,null,null,null,null,null,null,null,null,null,null,null,null,null,null,null,null,{"$f":"IF(H1696=\"\",\"-\",VLOOKUP(T1696,読み替え表_スマートムーブ!$C$4:$F$13,4,0))","v":"-"},{"$f":"IF(H1696=\"\",\"-\",VLOOKUP(V1696,読み替え表_スマートムーブ!$C$16:$F$21,4,0))","v":"-"},"-",null,null,null,null,0,0,0,0,0,0,"*"]
[null,null,1688,null,null,null,null,null,null,null,null,null,null,null,null,null,null,null,null,null,null,null,null,null,null,null,null,null,null,null,null,null,null,null,null,{"$f":"IF(H1697=\"\",\"-\",VLOOKUP(T1697,読み替え表_スマートムーブ!$C$4:$F$13,4,0))","v":"-"},{"$f":"IF(H1697=\"\",\"-\",VLOOKUP(V1697,読み替え表_スマートムーブ!$C$16:$F$21,4,0))","v":"-"},"-",null,null,null,null,0,0,0,0,0,0,"*"]
[null,null,1689,null,null,null,null,null,null,null,null,null,null,null,null,null,null,null,null,null,null,null,null,null,null,null,null,null,null,null,null,null,null,null,null,{"$f":"IF(H1698=\"\",\"-\",VLOOKUP(T1698,読み替え表_スマートムーブ!$C$4:$F$13,4,0))","v":"-"},{"$f":"IF(H1698=\"\",\"-\",VLOOKUP(V1698,読み替え表_スマートムーブ!$C$16:$F$21,4,0))","v":"-"},"-",null,null,null,null,0,0,0,0,0,0,"*"]
[null,null,1690,null,null,null,null,null,null,null,null,null,null,null,null,null,null,null,null,null,null,null,null,null,null,null,null,null,null,null,null,null,null,null,null,{"$f":"IF(H1699=\"\",\"-\",VLOOKUP(T1699,読み替え表_スマートムーブ!$C$4:$F$13,4,0))","v":"-"},{"$f":"IF(H1699=\"\",\"-\",VLOOKUP(V1699,読み替え表_スマートムーブ!$C$16:$F$21,4,0))","v":"-"},"-",null,null,null,null,0,0,0,0,0,0,"*"]
[null,null,1691,null,null,null,null,null,null,null,null,null,null,null,null,null,null,null,null,null,null,null,null,null,null,null,null,null,null,null,null,null,null,null,null,{"$f":"IF(H1700=\"\",\"-\",VLOOKUP(T1700,読み替え表_スマートムーブ!$C$4:$F$13,4,0))","v":"-"},{"$f":"IF(H1700=\"\",\"-\",VLOOKUP(V1700,読み替え表_スマートムーブ!$C$16:$F$21,4,0))","v":"-"},"-",null,null,null,null,0,0,0,0,0,0,"*"]
[null,null,1692,null,null,null,null,null,null,null,null,null,null,null,null,null,null,null,null,null,null,null,null,null,null,null,null,null,null,null,null,null,null,null,null,{"$f":"IF(H1701=\"\",\"-\",VLOOKUP(T1701,読み替え表_スマートムーブ!$C$4:$F$13,4,0))","v":"-"},{"$f":"IF(H1701=\"\",\"-\",VLOOKUP(V1701,読み替え表_スマートムーブ!$C$16:$F$21,4,0))","v":"-"},"-",null,null,null,null,0,0,0,0,0,0,"*"]
[null,null,1693,null,null,null,null,null,null,null,null,null,null,null,null,null,null,null,null,null,null,null,null,null,null,null,null,null,null,null,null,null,null,null,null,{"$f":"IF(H1702=\"\",\"-\",VLOOKUP(T1702,読み替え表_スマートムーブ!$C$4:$F$13,4,0))","v":"-"},{"$f":"IF(H1702=\"\",\"-\",VLOOKUP(V1702,読み替え表_スマートムーブ!$C$16:$F$21,4,0))","v":"-"},"-",null,null,null,null,0,0,0,0,0,0,"*"]
[null,null,1694,null,null,null,null,null,null,null,null,null,null,null,null,null,null,null,null,null,null,null,null,null,null,null,null,null,null,null,null,null,null,null,null,{"$f":"IF(H1703=\"\",\"-\",VLOOKUP(T1703,読み替え表_スマートムーブ!$C$4:$F$13,4,0))","v":"-"},{"$f":"IF(H1703=\"\",\"-\",VLOOKUP(V1703,読み替え表_スマートムーブ!$C$16:$F$21,4,0))","v":"-"},"-",null,null,null,null,0,0,0,0,0,0,"*"]
[null,null,1695,null,null,null,null,null,null,null,null,null,null,null,null,null,null,null,null,null,null,null,null,null,null,null,null,null,null,null,null,null,null,null,null,{"$f":"IF(H1704=\"\",\"-\",VLOOKUP(T1704,読み替え表_スマートムーブ!$C$4:$F$13,4,0))","v":"-"},{"$f":"IF(H1704=\"\",\"-\",VLOOKUP(V1704,読み替え表_スマートムーブ!$C$16:$F$21,4,0))","v":"-"},"-",null,null,null,null,0,0,0,0,0,0,"*"]
[null,null,1696,null,null,null,null,null,null,null,null,null,null,null,null,null,null,null,null,null,null,null,null,null,null,null,null,null,null,null,null,null,null,null,null,{"$f":"IF(H1705=\"\",\"-\",VLOOKUP(T1705,読み替え表_スマートムーブ!$C$4:$F$13,4,0))","v":"-"},{"$f":"IF(H1705=\"\",\"-\",VLOOKUP(V1705,読み替え表_スマートムーブ!$C$16:$F$21,4,0))","v":"-"},"-",null,null,null,null,0,0,0,0,0,0,"*"]
[null,null,1697,null,null,null,null,null,null,null,null,null,null,null,null,null,null,null,null,null,null,null,null,null,null,null,null,null,null,null,null,null,null,null,null,{"$f":"IF(H1706=\"\",\"-\",VLOOKUP(T1706,読み替え表_スマートムーブ!$C$4:$F$13,4,0))","v":"-"},{"$f":"IF(H1706=\"\",\"-\",VLOOKUP(V1706,読み替え表_スマートムーブ!$C$16:$F$21,4,0))","v":"-"},"-",null,null,null,null,0,0,0,0,0,0,"*"]
[null,null,1698,null,null,null,null,null,null,null,null,null,null,null,null,null,null,null,null,null,null,null,null,null,null,null,null,null,null,null,null,null,null,null,null,{"$f":"IF(H1707=\"\",\"-\",VLOOKUP(T1707,読み替え表_スマートムーブ!$C$4:$F$13,4,0))","v":"-"},{"$f":"IF(H1707=\"\",\"-\",VLOOKUP(V1707,読み替え表_スマートムーブ!$C$16:$F$21,4,0))","v":"-"},"-",null,null,null,null,0,0,0,0,0,0,"*"]
[null,null,1699,null,null,null,null,null,null,null,null,null,null,null,null,null,null,null,null,null,null,null,null,null,null,null,null,null,null,null,null,null,null,null,null,{"$f":"IF(H1708=\"\",\"-\",VLOOKUP(T1708,読み替え表_スマートムーブ!$C$4:$F$13,4,0))","v":"-"},{"$f":"IF(H1708=\"\",\"-\",VLOOKUP(V1708,読み替え表_スマートムーブ!$C$16:$F$21,4,0))","v":"-"},"-",null,null,null,null,0,0,0,0,0,0,"*"]
[null,null,1700,null,null,null,null,null,null,null,null,null,null,null,null,null,null,null,null,null,null,null,null,null,null,null,null,null,null,null,null,null,null,null,null,{"$f":"IF(H1709=\"\",\"-\",VLOOKUP(T1709,読み替え表_スマートムーブ!$C$4:$F$13,4,0))","v":"-"},{"$f":"IF(H1709=\"\",\"-\",VLOOKUP(V1709,読み替え表_スマートムーブ!$C$16:$F$21,4,0))","v":"-"},"-",null,null,null,null,0,0,0,0,0,0,"*"]
[null,null,1701,null,null,null,null,null,null,null,null,null,null,null,null,null,null,null,null,null,null,null,null,null,null,null,null,null,null,null,null,null,null,null,null,{"$f":"IF(H1710=\"\",\"-\",VLOOKUP(T1710,読み替え表_スマートムーブ!$C$4:$F$13,4,0))","v":"-"},{"$f":"IF(H1710=\"\",\"-\",VLOOKUP(V1710,読み替え表_スマートムーブ!$C$16:$F$21,4,0))","v":"-"},"-",null,null,null,null,0,0,0,0,0,0,"*"]
[null,null,1702,null,null,null,null,null,null,null,null,null,null,null,null,null,null,null,null,null,null,null,null,null,null,null,null,null,null,null,null,null,null,null,null,{"$f":"IF(H1711=\"\",\"-\",VLOOKUP(T1711,読み替え表_スマートムーブ!$C$4:$F$13,4,0))","v":"-"},{"$f":"IF(H1711=\"\",\"-\",VLOOKUP(V1711,読み替え表_スマートムーブ!$C$16:$F$21,4,0))","v":"-"},"-",null,null,null,null,0,0,0,0,0,0,"*"]
[null,null,1703,null,null,null,null,null,null,null,null,null,null,null,null,null,null,null,null,null,null,null,null,null,null,null,null,null,null,null,null,null,null,null,null,{"$f":"IF(H1712=\"\",\"-\",VLOOKUP(T1712,読み替え表_スマートムーブ!$C$4:$F$13,4,0))","v":"-"},{"$f":"IF(H1712=\"\",\"-\",VLOOKUP(V1712,読み替え表_スマートムーブ!$C$16:$F$21,4,0))","v":"-"},"-",null,null,null,null,0,0,0,0,0,0,"*"]
[null,null,1704,null,null,null,null,null,null,null,null,null,null,null,null,null,null,null,null,null,null,null,null,null,null,null,null,null,null,null,null,null,null,null,null,{"$f":"IF(H1713=\"\",\"-\",VLOOKUP(T1713,読み替え表_スマートムーブ!$C$4:$F$13,4,0))","v":"-"},{"$f":"IF(H1713=\"\",\"-\",VLOOKUP(V1713,読み替え表_スマートムーブ!$C$16:$F$21,4,0))","v":"-"},"-",null,null,null,null,0,0,0,0,0,0,"*"]
[null,null,1705,null,null,null,null,null,null,null,null,null,null,null,null,null,null,null,null,null,null,null,null,null,null,null,null,null,null,null,null,null,null,null,null,{"$f":"IF(H1714=\"\",\"-\",VLOOKUP(T1714,読み替え表_スマートムーブ!$C$4:$F$13,4,0))","v":"-"},{"$f":"IF(H1714=\"\",\"-\",VLOOKUP(V1714,読み替え表_スマートムーブ!$C$16:$F$21,4,0))","v":"-"},{"$f":"IF(H1714=\"\",\"-\",AJ1714*AK1714)","v":"-"},null,null,null,null,0,0,0,0,0,0,"*"]
[null,null,1706,null,null,null,null,null,null,null,null,null,null,null,null,null,null,null,null,null,null,null,null,null,null,null,null,null,null,null,null,null,null,null,null,{"$f":"IF(H1715=\"\",\"-\",VLOOKUP(T1715,読み替え表_スマートムーブ!$C$4:$F$13,4,0))","v":"-"},{"$f":"IF(H1715=\"\",\"-\",VLOOKUP(V1715,読み替え表_スマートムーブ!$C$16:$F$21,4,0))","v":"-"},"-",null,null,null,null,0,0,0,0,0,0,"*"]
[null,null,1707,null,null,null,null,null,null,null,null,null,null,null,null,null,null,null,null,null,null,null,null,null,null,null,null,null,null,null,null,null,null,null,null,{"$f":"IF(H1716=\"\",\"-\",VLOOKUP(T1716,読み替え表_スマートムーブ!$C$4:$F$13,4,0))","v":"-"},{"$f":"IF(H1716=\"\",\"-\",VLOOKUP(V1716,読み替え表_スマートムーブ!$C$16:$F$21,4,0))","v":"-"},"-",null,null,null,null,0,0,0,0,0,0,"*"]
[null,null,1708,null,null,null,null,null,null,null,null,null,null,null,null,null,null,null,null,null,null,null,null,null,null,null,null,null,null,null,null,null,null,null,null,{"$f":"IF(H1717=\"\",\"-\",VLOOKUP(T1717,読み替え表_スマートムーブ!$C$4:$F$13,4,0))","v":"-"},{"$f":"IF(H1717=\"\",\"-\",VLOOKUP(V1717,読み替え表_スマートムーブ!$C$16:$F$21,4,0))","v":"-"},"-",null,null,null,null,0,0,0,0,0,0,"*"]
[null,null,1709,null,null,null,null,null,null,null,null,null,null,null,null,null,null,null,null,null,null,null,null,null,null,null,null,null,null,null,null,null,null,null,null,{"$f":"IF(H1718=\"\",\"-\",VLOOKUP(T1718,読み替え表_スマートムーブ!$C$4:$F$13,4,0))","v":"-"},{"$f":"IF(H1718=\"\",\"-\",VLOOKUP(V1718,読み替え表_スマートムーブ!$C$16:$F$21,4,0))","v":"-"},"-",null,null,null,null,0,0,0,0,0,0,"*"]
[null,null,1710,null,null,null,null,null,null,null,null,null,null,null,null,null,null,null,null,null,null,null,null,null,null,null,null,null,null,null,null,null,null,null,null,{"$f":"IF(H1719=\"\",\"-\",VLOOKUP(T1719,読み替え表_スマートムーブ!$C$4:$F$13,4,0))","v":"-"},{"$f":"IF(H1719=\"\",\"-\",VLOOKUP(V1719,読み替え表_スマートムーブ!$C$16:$F$21,4,0))","v":"-"},"-",null,null,null,null,0,0,0,0,0,0,"*"]
[null,null,1711,null,null,null,null,null,null,null,null,null,null,null,null,null,null,null,null,null,null,null,null,null,null,null,null,null,null,null,null,null,null,null,null,{"$f":"IF(H1720=\"\",\"-\",VLOOKUP(T1720,読み替え表_スマートムーブ!$C$4:$F$13,4,0))","v":"-"},{"$f":"IF(H1720=\"\",\"-\",VLOOKUP(V1720,読み替え表_スマートムーブ!$C$16:$F$21,4,0))","v":"-"},"-",null,null,null,null,0,0,0,0,0,0,"*"]
[null,null,1712,null,null,null,null,null,null,null,null,null,null,null,null,null,null,null,null,null,null,null,null,null,null,null,null,null,null,null,null,null,null,null,null,{"$f":"IF(H1721=\"\",\"-\",VLOOKUP(T1721,読み替え表_スマートムーブ!$C$4:$F$13,4,0))","v":"-"},{"$f":"IF(H1721=\"\",\"-\",VLOOKUP(V1721,読み替え表_スマートムーブ!$C$16:$F$21,4,0))","v":"-"},"-",null,null,null,null,0,0,0,0,0,0,"*"]
[null,null,1713,null,null,null,null,null,null,null,null,null,null,null,null,null,null,null,null,null,null,null,null,null,null,null,null,null,null,null,null,null,null,null,null,{"$f":"IF(H1722=\"\",\"-\",VLOOKUP(T1722,読み替え表_スマートムーブ!$C$4:$F$13,4,0))","v":"-"},{"$f":"IF(H1722=\"\",\"-\",VLOOKUP(V1722,読み替え表_スマートムーブ!$C$16:$F$21,4,0))","v":"-"},"-",null,null,null,null,0,0,0,0,0,0,"*"]
[null,null,1714,null,null,null,null,null,null,null,null,null,null,null,null,null,null,null,null,null,null,null,null,null,null,null,null,null,null,null,null,null,null,null,null,{"$f":"IF(H1723=\"\",\"-\",VLOOKUP(T1723,読み替え表_スマートムーブ!$C$4:$F$13,4,0))","v":"-"},{"$f":"IF(H1723=\"\",\"-\",VLOOKUP(V1723,読み替え表_スマートムーブ!$C$16:$F$21,4,0))","v":"-"},"-",null,null,null,null,0,0,0,0,0,0,"*"]
[null,null,1715,null,null,null,null,null,null,null,null,null,null,null,null,null,null,null,null,null,null,null,null,null,null,null,null,null,null,null,null,null,null,null,null,{"$f":"IF(H1724=\"\",\"-\",VLOOKUP(T1724,読み替え表_スマートムーブ!$C$4:$F$13,4,0))","v":"-"},{"$f":"IF(H1724=\"\",\"-\",VLOOKUP(V1724,読み替え表_スマートムーブ!$C$16:$F$21,4,0))","v":"-"},"-",null,null,null,null,0,0,0,0,0,0,"*"]
[null,null,1716,null,null,null,null,null,null,null,null,null,null,null,null,null,null,null,null,null,null,null,null,null,null,null,null,null,null,null,null,null,null,null,null,{"$f":"IF(H1725=\"\",\"-\",VLOOKUP(T1725,読み替え表_スマートムーブ!$C$4:$F$13,4,0))","v":"-"},{"$f":"IF(H1725=\"\",\"-\",VLOOKUP(V1725,読み替え表_スマートムーブ!$C$16:$F$21,4,0))","v":"-"},"-",null,null,null,null,0,0,0,0,0,0,"*"]
[null,null,1717,null,null,null,null,null,null,null,null,null,null,null,null,null,null,null,null,null,null,null,null,null,null,null,null,null,null,null,null,null,null,null,null,{"$f":"IF(H1726=\"\",\"-\",VLOOKUP(T1726,読み替え表_スマートムーブ!$C$4:$F$13,4,0))","v":"-"},{"$f":"IF(H1726=\"\",\"-\",VLOOKUP(V1726,読み替え表_スマートムーブ!$C$16:$F$21,4,0))","v":"-"},"-",null,null,null,null,0,0,0,0,0,0,"*"]
[null,null,1718,null,null,null,null,null,null,null,null,null,null,null,null,null,null,null,null,null,null,null,null,null,null,null,null,null,null,null,null,null,null,null,null,{"$f":"IF(H1727=\"\",\"-\",VLOOKUP(T1727,読み替え表_スマートムーブ!$C$4:$F$13,4,0))","v":"-"},{"$f":"IF(H1727=\"\",\"-\",VLOOKUP(V1727,読み替え表_スマートムーブ!$C$16:$F$21,4,0))","v":"-"},"-",null,null,null,null,0,0,0,0,0,0,"*"]
[null,null,1719,null,null,null,null,null,null,null,null,null,null,null,null,null,null,null,null,null,null,null,null,null,null,null,null,null,null,null,null,null,null,null,null,{"$f":"IF(H1728=\"\",\"-\",VLOOKUP(T1728,読み替え表_スマートムーブ!$C$4:$F$13,4,0))","v":"-"},{"$f":"IF(H1728=\"\",\"-\",VLOOKUP(V1728,読み替え表_スマートムーブ!$C$16:$F$21,4,0))","v":"-"},"-",null,null,null,null,0,0,0,0,0,0,"*"]
[null,null,1720,null,null,null,null,null,null,null,null,null,null,null,null,null,null,null,null,null,null,null,null,null,null,null,null,null,null,null,null,null,null,null,null,{"$f":"IF(H1729=\"\",\"-\",VLOOKUP(T1729,読み替え表_スマートムーブ!$C$4:$F$13,4,0))","v":"-"},{"$f":"IF(H1729=\"\",\"-\",VLOOKUP(V1729,読み替え表_スマートムーブ!$C$16:$F$21,4,0))","v":"-"},"-",null,null,null,null,0,0,0,0,0,0,"*"]
[null,null,1721,null,null,null,null,null,null,null,null,null,null,null,null,null,null,null,null,null,null,null,null,null,null,null,null,null,null,null,null,null,null,null,null,{"$f":"IF(H1730=\"\",\"-\",VLOOKUP(T1730,読み替え表_スマートムーブ!$C$4:$F$13,4,0))","v":"-"},{"$f":"IF(H1730=\"\",\"-\",VLOOKUP(V1730,読み替え表_スマートムーブ!$C$16:$F$21,4,0))","v":"-"},"-",null,null,null,null,0,0,0,0,0,0,"*"]
[null,null,1722,null,null,null,null,null,null,null,null,null,null,null,null,null,null,null,null,null,null,null,null,null,null,null,null,null,null,null,null,null,null,null,null,{"$f":"IF(H1731=\"\",\"-\",VLOOKUP(T1731,読み替え表_スマートムーブ!$C$4:$F$13,4,0))","v":"-"},{"$f":"IF(H1731=\"\",\"-\",VLOOKUP(V1731,読み替え表_スマートムーブ!$C$16:$F$21,4,0))","v":"-"},"-",null,null,null,null,0,0,0,0,0,0,"*"]
[null,null,1723,null,null,null,null,null,null,null,null,null,null,null,null,null,null,null,null,null,null,null,null,null,null,null,null,null,null,null,null,null,null,null,null,{"$f":"IF(H1732=\"\",\"-\",VLOOKUP(T1732,読み替え表_スマートムーブ!$C$4:$F$13,4,0))","v":"-"},{"$f":"IF(H1732=\"\",\"-\",VLOOKUP(V1732,読み替え表_スマートムーブ!$C$16:$F$21,4,0))","v":"-"},"-",null,null,null,null,0,0,0,0,0,0,"*"]
[null,null,1724,null,null,null,null,null,null,null,null,null,null,null,null,null,null,null,null,null,null,null,null,null,null,null,null,null,null,null,null,null,null,null,null,{"$f":"IF(H1733=\"\",\"-\",VLOOKUP(T1733,読み替え表_スマートムーブ!$C$4:$F$13,4,0))","v":"-"},{"$f":"IF(H1733=\"\",\"-\",VLOOKUP(V1733,読み替え表_スマートムーブ!$C$16:$F$21,4,0))","v":"-"},"-",null,null,null,null,0,0,0,0,0,0,"*"]
[null,null,1725,null,null,null,null,null,null,null,null,null,null,null,null,null,null,null,null,null,null,null,null,null,null,null,null,null,null,null,null,null,null,null,null,{"$f":"IF(H1734=\"\",\"-\",VLOOKUP(T1734,読み替え表_スマートムーブ!$C$4:$F$13,4,0))","v":"-"},{"$f":"IF(H1734=\"\",\"-\",VLOOKUP(V1734,読み替え表_スマートムーブ!$C$16:$F$21,4,0))","v":"-"},"-",null,null,null,null,0,0,0,0,0,0,"*"]
[null,null,1726,null,null,null,null,null,null,null,null,null,null,null,null,null,null,null,null,null,null,null,null,null,null,null,null,null,null,null,null,null,null,null,null,{"$f":"IF(H1735=\"\",\"-\",VLOOKUP(T1735,読み替え表_スマートムーブ!$C$4:$F$13,4,0))","v":"-"},{"$f":"IF(H1735=\"\",\"-\",VLOOKUP(V1735,読み替え表_スマートムーブ!$C$16:$F$21,4,0))","v":"-"},"-",null,null,null,null,0,0,0,0,0,0,"*"]
[null,null,1727,null,null,null,null,null,null,null,null,null,null,null,null,null,null,null,null,null,null,null,null,null,null,null,null,null,null,null,null,null,null,null,null,{"$f":"IF(H1736=\"\",\"-\",VLOOKUP(T1736,読み替え表_スマートムーブ!$C$4:$F$13,4,0))","v":"-"},{"$f":"IF(H1736=\"\",\"-\",VLOOKUP(V1736,読み替え表_スマートムーブ!$C$16:$F$21,4,0))","v":"-"},"-",null,null,null,null,0,0,0,0,0,0,"*"]
[null,null,1728,null,null,null,null,null,null,null,null,null,null,null,null,null,null,null,null,null,null,null,null,null,null,null,null,null,null,null,null,null,null,null,null,{"$f":"IF(H1737=\"\",\"-\",VLOOKUP(T1737,読み替え表_スマートムーブ!$C$4:$F$13,4,0))","v":"-"},{"$f":"IF(H1737=\"\",\"-\",VLOOKUP(V1737,読み替え表_スマートムーブ!$C$16:$F$21,4,0))","v":"-"},"-",null,null,null,null,0,0,0,0,0,0,"*"]
[null,null,1729,null,null,null,null,null,null,null,null,null,null,null,null,null,null,null,null,null,null,null,null,null,null,null,null,null,null,null,null,null,null,null,null,{"$f":"IF(H1738=\"\",\"-\",VLOOKUP(T1738,読み替え表_スマートムーブ!$C$4:$F$13,4,0))","v":"-"},{"$f":"IF(H1738=\"\",\"-\",VLOOKUP(V1738,読み替え表_スマートムーブ!$C$16:$F$21,4,0))","v":"-"},"-",null,null,null,null,0,0,0,0,0,{"$f":"AQ1738","v":0},"*"]
[null,null,{"$f":"ROW()-9","v":1730},null,null,null,null,null,null,null,null,null,null,null,null,null,null,null,null,null,null,null,null,null,null,null,null,null,null,null,null,null,null,null,null,{"$f":"IF(H1739=\"\",\"-\",VLOOKUP(T1739,読み替え表_スマートムーブ!$C$4:$F$13,4,0))","v":"-"},{"$f":"IF(H1739=\"\",\"-\",VLOOKUP(V1739,読み替え表_スマートムーブ!$C$16:$F$21,4,0))","v":"-"},"-",null,null,null,null,{"$f":"IF(SUM($AR1739:$AT1739)>=1,1,0)","v":0},{"$f":"IF(R1739=1,1,0)","v":0},{"$f":"IF(T1739=9,1,0)","v":0},{"$f":"IF(V1739=5,1,0)","v":0},{"$f":"IF(OR($X1739=1,$X1739=2,$X1739=3),1,0)","v":0},0,"*"]
[null,null,1731,null,null,null,null,null,null,null,null,null,null,null,null,null,null,null,null,null,null,null,null,null,null,null,null,null,null,null,null,null,null,null,null,{"$f":"IF(H1740=\"\",\"-\",VLOOKUP(T1740,読み替え表_スマートムーブ!$C$4:$F$13,4,0))","v":"-"},{"$f":"IF(H1740=\"\",\"-\",VLOOKUP(V1740,読み替え表_スマートムーブ!$C$16:$F$21,4,0))","v":"-"},"-",null,null,null,null,0,0,0,0,0,0,"*"]
[null,null,1732,null,null,null,null,null,null,null,null,null,null,null,null,null,null,null,null,null,null,null,null,null,null,null,null,null,null,null,null,null,null,null,null,{"$f":"IF(H1741=\"\",\"-\",VLOOKUP(T1741,読み替え表_スマートムーブ!$C$4:$F$13,4,0))","v":"-"},{"$f":"IF(H1741=\"\",\"-\",VLOOKUP(V1741,読み替え表_スマートムーブ!$C$16:$F$21,4,0))","v":"-"},"-",null,null,null,null,0,0,0,0,0,0,"*"]
[null,null,1733,null,null,null,null,null,null,null,null,null,null,null,null,null,null,null,null,null,null,null,null,null,null,null,null,null,null,null,null,null,null,null,null,{"$f":"IF(H1742=\"\",\"-\",VLOOKUP(T1742,読み替え表_スマートムーブ!$C$4:$F$13,4,0))","v":"-"},{"$f":"IF(H1742=\"\",\"-\",VLOOKUP(V1742,読み替え表_スマートムーブ!$C$16:$F$21,4,0))","v":"-"},"-",null,null,null,null,0,0,0,0,0,0,"*"]
[null,null,1734,null,null,null,null,null,null,null,null,null,null,null,null,null,null,null,null,null,null,null,null,null,null,null,null,null,null,null,null,null,null,null,null,{"$f":"IF(H1743=\"\",\"-\",VLOOKUP(T1743,読み替え表_スマートムーブ!$C$4:$F$13,4,0))","v":"-"},{"$f":"IF(H1743=\"\",\"-\",VLOOKUP(V1743,読み替え表_スマートムーブ!$C$16:$F$21,4,0))","v":"-"},"-",null,null,null,null,0,0,0,0,0,0,"*"]
[null,null,1735,null,null,null,null,null,null,null,null,null,null,null,null,null,null,null,null,null,null,null,null,null,null,null,null,null,null,null,null,null,null,null,null,{"$f":"IF(H1744=\"\",\"-\",VLOOKUP(T1744,読み替え表_スマートムーブ!$C$4:$F$13,4,0))","v":"-"},{"$f":"IF(H1744=\"\",\"-\",VLOOKUP(V1744,読み替え表_スマートムーブ!$C$16:$F$21,4,0))","v":"-"},"-",null,null,null,null,0,0,0,0,0,0,"*"]
[null,null,1736,null,null,null,null,null,null,null,null,null,null,null,null,null,null,null,null,null,null,null,null,null,null,null,null,null,null,null,null,null,null,null,null,{"$f":"IF(H1745=\"\",\"-\",VLOOKUP(T1745,読み替え表_スマートムーブ!$C$4:$F$13,4,0))","v":"-"},{"$f":"IF(H1745=\"\",\"-\",VLOOKUP(V1745,読み替え表_スマートムーブ!$C$16:$F$21,4,0))","v":"-"},"-",null,null,null,null,0,0,0,0,0,0,"*"]
[null,null,1737,null,null,null,null,null,null,null,null,null,null,null,null,null,null,null,null,null,null,null,null,null,null,null,null,null,null,null,null,null,null,null,null,{"$f":"IF(H1746=\"\",\"-\",VLOOKUP(T1746,読み替え表_スマートムーブ!$C$4:$F$13,4,0))","v":"-"},{"$f":"IF(H1746=\"\",\"-\",VLOOKUP(V1746,読み替え表_スマートムーブ!$C$16:$F$21,4,0))","v":"-"},"-",null,null,null,null,0,0,0,0,0,0,"*"]
[null,null,1738,null,null,null,null,null,null,null,null,null,null,null,null,null,null,null,null,null,null,null,null,null,null,null,null,null,null,null,null,null,null,null,null,{"$f":"IF(H1747=\"\",\"-\",VLOOKUP(T1747,読み替え表_スマートムーブ!$C$4:$F$13,4,0))","v":"-"},{"$f":"IF(H1747=\"\",\"-\",VLOOKUP(V1747,読み替え表_スマートムーブ!$C$16:$F$21,4,0))","v":"-"},"-",null,null,null,null,0,0,0,0,0,0,"*"]
[null,null,1739,null,null,null,null,null,null,null,null,null,null,null,null,null,null,null,null,null,null,null,null,null,null,null,null,null,null,null,null,null,null,null,null,{"$f":"IF(H1748=\"\",\"-\",VLOOKUP(T1748,読み替え表_スマートムーブ!$C$4:$F$13,4,0))","v":"-"},{"$f":"IF(H1748=\"\",\"-\",VLOOKUP(V1748,読み替え表_スマートムーブ!$C$16:$F$21,4,0))","v":"-"},"-",null,null,null,null,0,0,0,0,0,0,"*"]
[null,null,1740,null,null,null,null,null,null,null,null,null,null,null,null,null,null,null,null,null,null,null,null,null,null,null,null,null,null,null,null,null,null,null,null,{"$f":"IF(H1749=\"\",\"-\",VLOOKUP(T1749,読み替え表_スマートムーブ!$C$4:$F$13,4,0))","v":"-"},{"$f":"IF(H1749=\"\",\"-\",VLOOKUP(V1749,読み替え表_スマートムーブ!$C$16:$F$21,4,0))","v":"-"},"-",null,null,null,null,0,0,0,0,0,0,"*"]
[null,null,1741,null,null,null,null,null,null,null,null,null,null,null,null,null,null,null,null,null,null,null,null,null,null,null,null,null,null,null,null,null,null,null,null,{"$f":"IF(H1750=\"\",\"-\",VLOOKUP(T1750,読み替え表_スマートムーブ!$C$4:$F$13,4,0))","v":"-"},{"$f":"IF(H1750=\"\",\"-\",VLOOKUP(V1750,読み替え表_スマートムーブ!$C$16:$F$21,4,0))","v":"-"},"-",null,null,null,null,0,0,0,0,0,0,"*"]
[null,null,1742,null,null,null,null,null,null,null,null,null,null,null,null,null,null,null,null,null,null,null,null,null,null,null,null,null,null,null,null,null,null,null,null,{"$f":"IF(H1751=\"\",\"-\",VLOOKUP(T1751,読み替え表_スマートムーブ!$C$4:$F$13,4,0))","v":"-"},{"$f":"IF(H1751=\"\",\"-\",VLOOKUP(V1751,読み替え表_スマートムーブ!$C$16:$F$21,4,0))","v":"-"},"-",null,null,null,null,0,0,0,0,0,0,"*"]
[null,null,1743,null,null,null,null,null,null,null,null,null,null,null,null,null,null,null,null,null,null,null,null,null,null,null,null,null,null,null,null,null,null,null,null,{"$f":"IF(H1752=\"\",\"-\",VLOOKUP(T1752,読み替え表_スマートムーブ!$C$4:$F$13,4,0))","v":"-"},{"$f":"IF(H1752=\"\",\"-\",VLOOKUP(V1752,読み替え表_スマートムーブ!$C$16:$F$21,4,0))","v":"-"},"-",null,null,null,null,0,0,0,0,0,0,"*"]
[null,null,1744,null,null,null,null,null,null,null,null,null,null,null,null,null,null,null,null,null,null,null,null,null,null,null,null,null,null,null,null,null,null,null,null,{"$f":"IF(H1753=\"\",\"-\",VLOOKUP(T1753,読み替え表_スマートムーブ!$C$4:$F$13,4,0))","v":"-"},{"$f":"IF(H1753=\"\",\"-\",VLOOKUP(V1753,読み替え表_スマートムーブ!$C$16:$F$21,4,0))","v":"-"},"-",null,null,null,null,0,0,0,0,0,0,"*"]
[null,null,1745,null,null,null,null,null,null,null,null,null,null,null,null,null,null,null,null,null,null,null,null,null,null,null,null,null,null,null,null,null,null,null,null,{"$f":"IF(H1754=\"\",\"-\",VLOOKUP(T1754,読み替え表_スマートムーブ!$C$4:$F$13,4,0))","v":"-"},{"$f":"IF(H1754=\"\",\"-\",VLOOKUP(V1754,読み替え表_スマートムーブ!$C$16:$F$21,4,0))","v":"-"},"-",null,null,null,null,0,0,0,0,0,0,"*"]
[null,null,1746,null,null,null,null,null,null,null,null,null,null,null,null,null,null,null,null,null,null,null,null,null,null,null,null,null,null,null,null,null,null,null,null,{"$f":"IF(H1755=\"\",\"-\",VLOOKUP(T1755,読み替え表_スマートムーブ!$C$4:$F$13,4,0))","v":"-"},{"$f":"IF(H1755=\"\",\"-\",VLOOKUP(V1755,読み替え表_スマートムーブ!$C$16:$F$21,4,0))","v":"-"},"-",null,null,null,null,0,0,0,0,0,0,"*"]
[null,null,1747,null,null,null,null,null,null,null,null,null,null,null,null,null,null,null,null,null,null,null,null,null,null,null,null,null,null,null,null,null,null,null,null,{"$f":"IF(H1756=\"\",\"-\",VLOOKUP(T1756,読み替え表_スマートムーブ!$C$4:$F$13,4,0))","v":"-"},{"$f":"IF(H1756=\"\",\"-\",VLOOKUP(V1756,読み替え表_スマートムーブ!$C$16:$F$21,4,0))","v":"-"},"-",null,null,null,null,0,0,0,0,0,0,"*"]
[null,null,1748,null,null,null,null,null,null,null,null,null,null,null,null,null,null,null,null,null,null,null,null,null,null,null,null,null,null,null,null,null,null,null,null,{"$f":"IF(H1757=\"\",\"-\",VLOOKUP(T1757,読み替え表_スマートムーブ!$C$4:$F$13,4,0))","v":"-"},{"$f":"IF(H1757=\"\",\"-\",VLOOKUP(V1757,読み替え表_スマートムーブ!$C$16:$F$21,4,0))","v":"-"},"-",null,null,null,null,0,0,0,0,0,0,"*"]
[null,null,1749,null,null,null,null,null,null,null,null,null,null,null,null,null,null,null,null,null,null,null,null,null,null,null,null,null,null,null,null,null,null,null,null,{"$f":"IF(H1758=\"\",\"-\",VLOOKUP(T1758,読み替え表_スマートムーブ!$C$4:$F$13,4,0))","v":"-"},{"$f":"IF(H1758=\"\",\"-\",VLOOKUP(V1758,読み替え表_スマートムーブ!$C$16:$F$21,4,0))","v":"-"},"-",null,null,null,null,0,0,0,0,0,0,"*"]
[null,null,1750,null,null,null,null,null,null,null,null,null,null,null,null,null,null,null,null,null,null,null,null,null,null,null,null,null,null,null,null,null,null,null,null,{"$f":"IF(H1759=\"\",\"-\",VLOOKUP(T1759,読み替え表_スマートムーブ!$C$4:$F$13,4,0))","v":"-"},{"$f":"IF(H1759=\"\",\"-\",VLOOKUP(V1759,読み替え表_スマートムーブ!$C$16:$F$21,4,0))","v":"-"},"-",null,null,null,null,0,0,0,0,0,0,"*"]
[null,null,1751,null,null,null,null,null,null,null,null,null,null,null,null,null,null,null,null,null,null,null,null,null,null,null,null,null,null,null,null,null,null,null,null,{"$f":"IF(H1760=\"\",\"-\",VLOOKUP(T1760,読み替え表_スマートムーブ!$C$4:$F$13,4,0))","v":"-"},{"$f":"IF(H1760=\"\",\"-\",VLOOKUP(V1760,読み替え表_スマートムーブ!$C$16:$F$21,4,0))","v":"-"},"-",null,null,null,null,0,0,0,0,0,0,"*"]
[null,null,1752,null,null,null,null,null,null,null,null,null,null,null,null,null,null,null,null,null,null,null,null,null,null,null,null,null,null,null,null,null,null,null,null,{"$f":"IF(H1761=\"\",\"-\",VLOOKUP(T1761,読み替え表_スマートムーブ!$C$4:$F$13,4,0))","v":"-"},{"$f":"IF(H1761=\"\",\"-\",VLOOKUP(V1761,読み替え表_スマートムーブ!$C$16:$F$21,4,0))","v":"-"},"-",null,null,null,null,0,0,0,0,0,0,"*"]
[null,null,1753,null,null,null,null,null,null,null,null,null,null,null,null,null,null,null,null,null,null,null,null,null,null,null,null,null,null,null,null,null,null,null,null,{"$f":"IF(H1762=\"\",\"-\",VLOOKUP(T1762,読み替え表_スマートムーブ!$C$4:$F$13,4,0))","v":"-"},{"$f":"IF(H1762=\"\",\"-\",VLOOKUP(V1762,読み替え表_スマートムーブ!$C$16:$F$21,4,0))","v":"-"},"-",null,null,null,null,0,0,0,0,0,0,"*"]
[null,null,1754,null,null,null,null,null,null,null,null,null,null,null,null,null,null,null,null,null,null,null,null,null,null,null,null,null,null,null,null,null,null,null,null,{"$f":"IF(H1763=\"\",\"-\",VLOOKUP(T1763,読み替え表_スマートムーブ!$C$4:$F$13,4,0))","v":"-"},{"$f":"IF(H1763=\"\",\"-\",VLOOKUP(V1763,読み替え表_スマートムーブ!$C$16:$F$21,4,0))","v":"-"},"-",null,null,null,null,0,0,0,0,0,0,"*"]
[null,null,1755,null,null,null,null,null,null,null,null,null,null,null,null,null,null,null,null,null,null,null,null,null,null,null,null,null,null,null,null,null,null,null,null,{"$f":"IF(H1764=\"\",\"-\",VLOOKUP(T1764,読み替え表_スマートムーブ!$C$4:$F$13,4,0))","v":"-"},{"$f":"IF(H1764=\"\",\"-\",VLOOKUP(V1764,読み替え表_スマートムーブ!$C$16:$F$21,4,0))","v":"-"},"-",null,null,null,null,0,0,0,0,0,0,"*"]
[null,null,1756,null,null,null,null,null,null,null,null,null,null,null,null,null,null,null,null,null,null,null,null,null,null,null,null,null,null,null,null,null,null,null,null,{"$f":"IF(H1765=\"\",\"-\",VLOOKUP(T1765,読み替え表_スマートムーブ!$C$4:$F$13,4,0))","v":"-"},{"$f":"IF(H1765=\"\",\"-\",VLOOKUP(V1765,読み替え表_スマートムーブ!$C$16:$F$21,4,0))","v":"-"},"-",null,null,null,null,0,0,0,0,0,0,"*"]
[null,null,1757,null,null,null,null,null,null,null,null,null,null,null,null,null,null,null,null,null,null,null,null,null,null,null,null,null,null,null,null,null,null,null,null,{"$f":"IF(H1766=\"\",\"-\",VLOOKUP(T1766,読み替え表_スマートムーブ!$C$4:$F$13,4,0))","v":"-"},{"$f":"IF(H1766=\"\",\"-\",VLOOKUP(V1766,読み替え表_スマートムーブ!$C$16:$F$21,4,0))","v":"-"},"-",null,null,null,null,0,0,0,0,0,0,"*"]
[null,null,1758,null,null,null,null,null,null,null,null,null,null,null,null,null,null,null,null,null,null,null,null,null,null,null,null,null,null,null,null,null,null,null,null,{"$f":"IF(H1767=\"\",\"-\",VLOOKUP(T1767,読み替え表_スマートムーブ!$C$4:$F$13,4,0))","v":"-"},{"$f":"IF(H1767=\"\",\"-\",VLOOKUP(V1767,読み替え表_スマートムーブ!$C$16:$F$21,4,0))","v":"-"},"-",null,null,null,null,0,0,0,0,0,0,"*"]
[null,null,1759,null,null,null,null,null,null,null,null,null,null,null,null,null,null,null,null,null,null,null,null,null,null,null,null,null,null,null,null,null,null,null,null,{"$f":"IF(H1768=\"\",\"-\",VLOOKUP(T1768,読み替え表_スマートムーブ!$C$4:$F$13,4,0))","v":"-"},{"$f":"IF(H1768=\"\",\"-\",VLOOKUP(V1768,読み替え表_スマートムーブ!$C$16:$F$21,4,0))","v":"-"},"-",null,null,null,null,0,0,0,0,0,0,"*"]
[null,null,1760,null,null,null,null,null,null,null,null,null,null,null,null,null,null,null,null,null,null,null,null,null,null,null,null,null,null,null,null,null,null,null,null,{"$f":"IF(H1769=\"\",\"-\",VLOOKUP(T1769,読み替え表_スマートムーブ!$C$4:$F$13,4,0))","v":"-"},{"$f":"IF(H1769=\"\",\"-\",VLOOKUP(V1769,読み替え表_スマートムーブ!$C$16:$F$21,4,0))","v":"-"},"-",null,null,null,null,0,0,0,0,0,0,"*"]
[null,null,1761,null,null,null,null,null,null,null,null,null,null,null,null,null,null,null,null,null,null,null,null,null,null,null,null,null,null,null,null,null,null,null,null,{"$f":"IF(H1770=\"\",\"-\",VLOOKUP(T1770,読み替え表_スマートムーブ!$C$4:$F$13,4,0))","v":"-"},{"$f":"IF(H1770=\"\",\"-\",VLOOKUP(V1770,読み替え表_スマートムーブ!$C$16:$F$21,4,0))","v":"-"},"-",null,null,null,null,0,0,0,0,0,0,"*"]
[null,null,1762,null,null,null,null,null,null,null,null,null,null,null,null,null,null,null,null,null,null,null,null,null,null,null,null,null,null,null,null,null,null,null,null,{"$f":"IF(H1771=\"\",\"-\",VLOOKUP(T1771,読み替え表_スマートムーブ!$C$4:$F$13,4,0))","v":"-"},{"$f":"IF(H1771=\"\",\"-\",VLOOKUP(V1771,読み替え表_スマートムーブ!$C$16:$F$21,4,0))","v":"-"},"-",null,null,null,null,0,0,0,0,0,0,"*"]
[null,null,1763,null,null,null,null,null,null,null,null,null,null,null,null,null,null,null,null,null,null,null,null,null,null,null,null,null,null,null,null,null,null,null,null,{"$f":"IF(H1772=\"\",\"-\",VLOOKUP(T1772,読み替え表_スマートムーブ!$C$4:$F$13,4,0))","v":"-"},{"$f":"IF(H1772=\"\",\"-\",VLOOKUP(V1772,読み替え表_スマートムーブ!$C$16:$F$21,4,0))","v":"-"},"-",null,null,null,null,0,0,0,0,0,0,"*"]
[null,null,1764,null,null,null,null,null,null,null,null,null,null,null,null,null,null,null,null,null,null,null,null,null,null,null,null,null,null,null,null,null,null,null,null,{"$f":"IF(H1773=\"\",\"-\",VLOOKUP(T1773,読み替え表_スマートムーブ!$C$4:$F$13,4,0))","v":"-"},{"$f":"IF(H1773=\"\",\"-\",VLOOKUP(V1773,読み替え表_スマートムーブ!$C$16:$F$21,4,0))","v":"-"},"-",null,null,null,null,0,0,0,0,0,0,"*"]
[null,null,1765,null,null,null,null,null,null,null,null,null,null,null,null,null,null,null,null,null,null,null,null,null,null,null,null,null,null,null,null,null,null,null,null,{"$f":"IF(H1774=\"\",\"-\",VLOOKUP(T1774,読み替え表_スマートムーブ!$C$4:$F$13,4,0))","v":"-"},{"$f":"IF(H1774=\"\",\"-\",VLOOKUP(V1774,読み替え表_スマートムーブ!$C$16:$F$21,4,0))","v":"-"},"-",null,null,null,null,0,0,0,0,0,0,"*"]
[null,null,1766,null,null,null,null,null,null,null,null,null,null,null,null,null,null,null,null,null,null,null,null,null,null,null,null,null,null,null,null,null,null,null,null,{"$f":"IF(H1775=\"\",\"-\",VLOOKUP(T1775,読み替え表_スマートムーブ!$C$4:$F$13,4,0))","v":"-"},{"$f":"IF(H1775=\"\",\"-\",VLOOKUP(V1775,読み替え表_スマートムーブ!$C$16:$F$21,4,0))","v":"-"},"-",null,null,null,null,0,0,0,0,0,0,"*"]
[null,null,1767,null,null,null,null,null,null,null,null,null,null,null,null,null,null,null,null,null,null,null,null,null,null,null,null,null,null,null,null,null,null,null,null,{"$f":"IF(H1776=\"\",\"-\",VLOOKUP(T1776,読み替え表_スマートムーブ!$C$4:$F$13,4,0))","v":"-"},{"$f":"IF(H1776=\"\",\"-\",VLOOKUP(V1776,読み替え表_スマートムーブ!$C$16:$F$21,4,0))","v":"-"},"-",null,null,null,null,0,0,0,0,0,0,"*"]
[null,null,1768,null,null,null,null,null,null,null,null,null,null,null,null,null,null,null,null,null,null,null,null,null,null,null,null,null,null,null,null,null,null,null,null,{"$f":"IF(H1777=\"\",\"-\",VLOOKUP(T1777,読み替え表_スマートムーブ!$C$4:$F$13,4,0))","v":"-"},{"$f":"IF(H1777=\"\",\"-\",VLOOKUP(V1777,読み替え表_スマートムーブ!$C$16:$F$21,4,0))","v":"-"},"-",null,null,null,null,0,0,0,0,0,0,"*"]
[null,null,1769,null,null,null,null,null,null,null,null,null,null,null,null,null,null,null,null,null,null,null,null,null,null,null,null,null,null,null,null,null,null,null,null,{"$f":"IF(H1778=\"\",\"-\",VLOOKUP(T1778,読み替え表_スマートムーブ!$C$4:$F$13,4,0))","v":"-"},{"$f":"IF(H1778=\"\",\"-\",VLOOKUP(V1778,読み替え表_スマートムーブ!$C$16:$F$21,4,0))","v":"-"},{"$f":"IF(H1778=\"\",\"-\",AJ1778*AK1778)","v":"-"},null,null,null,null,0,0,0,0,0,0,"*"]
[null,null,1770,null,null,null,null,null,null,null,null,null,null,null,null,null,null,null,null,null,null,null,null,null,null,null,null,null,null,null,null,null,null,null,null,{"$f":"IF(H1779=\"\",\"-\",VLOOKUP(T1779,読み替え表_スマートムーブ!$C$4:$F$13,4,0))","v":"-"},{"$f":"IF(H1779=\"\",\"-\",VLOOKUP(V1779,読み替え表_スマートムーブ!$C$16:$F$21,4,0))","v":"-"},"-",null,null,null,null,0,0,0,0,0,0,"*"]
[null,null,1771,null,null,null,null,null,null,null,null,null,null,null,null,null,null,null,null,null,null,null,null,null,null,null,null,null,null,null,null,null,null,null,null,{"$f":"IF(H1780=\"\",\"-\",VLOOKUP(T1780,読み替え表_スマートムーブ!$C$4:$F$13,4,0))","v":"-"},{"$f":"IF(H1780=\"\",\"-\",VLOOKUP(V1780,読み替え表_スマートムーブ!$C$16:$F$21,4,0))","v":"-"},"-",null,null,null,null,0,0,0,0,0,0,"*"]
[null,null,1772,null,null,null,null,null,null,null,null,null,null,null,null,null,null,null,null,null,null,null,null,null,null,null,null,null,null,null,null,null,null,null,null,{"$f":"IF(H1781=\"\",\"-\",VLOOKUP(T1781,読み替え表_スマートムーブ!$C$4:$F$13,4,0))","v":"-"},{"$f":"IF(H1781=\"\",\"-\",VLOOKUP(V1781,読み替え表_スマートムーブ!$C$16:$F$21,4,0))","v":"-"},"-",null,null,null,null,0,0,0,0,0,0,"*"]
[null,null,1773,null,null,null,null,null,null,null,null,null,null,null,null,null,null,null,null,null,null,null,null,null,null,null,null,null,null,null,null,null,null,null,null,{"$f":"IF(H1782=\"\",\"-\",VLOOKUP(T1782,読み替え表_スマートムーブ!$C$4:$F$13,4,0))","v":"-"},{"$f":"IF(H1782=\"\",\"-\",VLOOKUP(V1782,読み替え表_スマートムーブ!$C$16:$F$21,4,0))","v":"-"},"-",null,null,null,null,0,0,0,0,0,0,"*"]
[null,null,1774,null,null,null,null,null,null,null,null,null,null,null,null,null,null,null,null,null,null,null,null,null,null,null,null,null,null,null,null,null,null,null,null,{"$f":"IF(H1783=\"\",\"-\",VLOOKUP(T1783,読み替え表_スマートムーブ!$C$4:$F$13,4,0))","v":"-"},{"$f":"IF(H1783=\"\",\"-\",VLOOKUP(V1783,読み替え表_スマートムーブ!$C$16:$F$21,4,0))","v":"-"},"-",null,null,null,null,0,0,0,0,0,0,"*"]
[null,null,1775,null,null,null,null,null,null,null,null,null,null,null,null,null,null,null,null,null,null,null,null,null,null,null,null,null,null,null,null,null,null,null,null,{"$f":"IF(H1784=\"\",\"-\",VLOOKUP(T1784,読み替え表_スマートムーブ!$C$4:$F$13,4,0))","v":"-"},{"$f":"IF(H1784=\"\",\"-\",VLOOKUP(V1784,読み替え表_スマートムーブ!$C$16:$F$21,4,0))","v":"-"},"-",null,null,null,null,0,0,0,0,0,0,"*"]
[null,null,1776,null,null,null,null,null,null,null,null,null,null,null,null,null,null,null,null,null,null,null,null,null,null,null,null,null,null,null,null,null,null,null,null,{"$f":"IF(H1785=\"\",\"-\",VLOOKUP(T1785,読み替え表_スマートムーブ!$C$4:$F$13,4,0))","v":"-"},{"$f":"IF(H1785=\"\",\"-\",VLOOKUP(V1785,読み替え表_スマートムーブ!$C$16:$F$21,4,0))","v":"-"},"-",null,null,null,null,0,0,0,0,0,0,"*"]
[null,null,1777,null,null,null,null,null,null,null,null,null,null,null,null,null,null,null,null,null,null,null,null,null,null,null,null,null,null,null,null,null,null,null,null,{"$f":"IF(H1786=\"\",\"-\",VLOOKUP(T1786,読み替え表_スマートムーブ!$C$4:$F$13,4,0))","v":"-"},{"$f":"IF(H1786=\"\",\"-\",VLOOKUP(V1786,読み替え表_スマートムーブ!$C$16:$F$21,4,0))","v":"-"},"-",null,null,null,null,0,0,0,0,0,0,"*"]
[null,null,1778,null,null,null,null,null,null,null,null,null,null,null,null,null,null,null,null,null,null,null,null,null,null,null,null,null,null,null,null,null,null,null,null,{"$f":"IF(H1787=\"\",\"-\",VLOOKUP(T1787,読み替え表_スマートムーブ!$C$4:$F$13,4,0))","v":"-"},{"$f":"IF(H1787=\"\",\"-\",VLOOKUP(V1787,読み替え表_スマートムーブ!$C$16:$F$21,4,0))","v":"-"},"-",null,null,null,null,0,0,0,0,0,0,"*"]
[null,null,1779,null,null,null,null,null,null,null,null,null,null,null,null,null,null,null,null,null,null,null,null,null,null,null,null,null,null,null,null,null,null,null,null,{"$f":"IF(H1788=\"\",\"-\",VLOOKUP(T1788,読み替え表_スマートムーブ!$C$4:$F$13,4,0))","v":"-"},{"$f":"IF(H1788=\"\",\"-\",VLOOKUP(V1788,読み替え表_スマートムーブ!$C$16:$F$21,4,0))","v":"-"},"-",null,null,null,null,0,0,0,0,0,0,"*"]
[null,null,1780,null,null,null,null,null,null,null,null,null,null,null,null,null,null,null,null,null,null,null,null,null,null,null,null,null,null,null,null,null,null,null,null,{"$f":"IF(H1789=\"\",\"-\",VLOOKUP(T1789,読み替え表_スマートムーブ!$C$4:$F$13,4,0))","v":"-"},{"$f":"IF(H1789=\"\",\"-\",VLOOKUP(V1789,読み替え表_スマートムーブ!$C$16:$F$21,4,0))","v":"-"},"-",null,null,null,null,0,0,0,0,0,0,"*"]
[null,null,1781,null,null,null,null,null,null,null,null,null,null,null,null,null,null,null,null,null,null,null,null,null,null,null,null,null,null,null,null,null,null,null,null,{"$f":"IF(H1790=\"\",\"-\",VLOOKUP(T1790,読み替え表_スマートムーブ!$C$4:$F$13,4,0))","v":"-"},{"$f":"IF(H1790=\"\",\"-\",VLOOKUP(V1790,読み替え表_スマートムーブ!$C$16:$F$21,4,0))","v":"-"},"-",null,null,null,null,0,0,0,0,0,0,"*"]
[null,null,1782,null,null,null,null,null,null,null,null,null,null,null,null,null,null,null,null,null,null,null,null,null,null,null,null,null,null,null,null,null,null,null,null,{"$f":"IF(H1791=\"\",\"-\",VLOOKUP(T1791,読み替え表_スマートムーブ!$C$4:$F$13,4,0))","v":"-"},{"$f":"IF(H1791=\"\",\"-\",VLOOKUP(V1791,読み替え表_スマートムーブ!$C$16:$F$21,4,0))","v":"-"},"-",null,null,null,null,0,0,0,0,0,0,"*"]
[null,null,1783,null,null,null,null,null,null,null,null,null,null,null,null,null,null,null,null,null,null,null,null,null,null,null,null,null,null,null,null,null,null,null,null,{"$f":"IF(H1792=\"\",\"-\",VLOOKUP(T1792,読み替え表_スマートムーブ!$C$4:$F$13,4,0))","v":"-"},{"$f":"IF(H1792=\"\",\"-\",VLOOKUP(V1792,読み替え表_スマートムーブ!$C$16:$F$21,4,0))","v":"-"},"-",null,null,null,null,0,0,0,0,0,0,"*"]
[null,null,1784,null,null,null,null,null,null,null,null,null,null,null,null,null,null,null,null,null,null,null,null,null,null,null,null,null,null,null,null,null,null,null,null,{"$f":"IF(H1793=\"\",\"-\",VLOOKUP(T1793,読み替え表_スマートムーブ!$C$4:$F$13,4,0))","v":"-"},{"$f":"IF(H1793=\"\",\"-\",VLOOKUP(V1793,読み替え表_スマートムーブ!$C$16:$F$21,4,0))","v":"-"},"-",null,null,null,null,0,0,0,0,0,0,"*"]
[null,null,1785,null,null,null,null,null,null,null,null,null,null,null,null,null,null,null,null,null,null,null,null,null,null,null,null,null,null,null,null,null,null,null,null,{"$f":"IF(H1794=\"\",\"-\",VLOOKUP(T1794,読み替え表_スマートムーブ!$C$4:$F$13,4,0))","v":"-"},{"$f":"IF(H1794=\"\",\"-\",VLOOKUP(V1794,読み替え表_スマートムーブ!$C$16:$F$21,4,0))","v":"-"},"-",null,null,null,null,0,0,0,0,0,0,"*"]
[null,null,1786,null,null,null,null,null,null,null,null,null,null,null,null,null,null,null,null,null,null,null,null,null,null,null,null,null,null,null,null,null,null,null,null,{"$f":"IF(H1795=\"\",\"-\",VLOOKUP(T1795,読み替え表_スマートムーブ!$C$4:$F$13,4,0))","v":"-"},{"$f":"IF(H1795=\"\",\"-\",VLOOKUP(V1795,読み替え表_スマートムーブ!$C$16:$F$21,4,0))","v":"-"},"-",null,null,null,null,0,0,0,0,0,0,"*"]
[null,null,1787,null,null,null,null,null,null,null,null,null,null,null,null,null,null,null,null,null,null,null,null,null,null,null,null,null,null,null,null,null,null,null,null,{"$f":"IF(H1796=\"\",\"-\",VLOOKUP(T1796,読み替え表_スマートムーブ!$C$4:$F$13,4,0))","v":"-"},{"$f":"IF(H1796=\"\",\"-\",VLOOKUP(V1796,読み替え表_スマートムーブ!$C$16:$F$21,4,0))","v":"-"},"-",null,null,null,null,0,0,0,0,0,0,"*"]
[null,null,1788,null,null,null,null,null,null,null,null,null,null,null,null,null,null,null,null,null,null,null,null,null,null,null,null,null,null,null,null,null,null,null,null,{"$f":"IF(H1797=\"\",\"-\",VLOOKUP(T1797,読み替え表_スマートムーブ!$C$4:$F$13,4,0))","v":"-"},{"$f":"IF(H1797=\"\",\"-\",VLOOKUP(V1797,読み替え表_スマートムーブ!$C$16:$F$21,4,0))","v":"-"},"-",null,null,null,null,0,0,0,0,0,0,"*"]
[null,null,1789,null,null,null,null,null,null,null,null,null,null,null,null,null,null,null,null,null,null,null,null,null,null,null,null,null,null,null,null,null,null,null,null,{"$f":"IF(H1798=\"\",\"-\",VLOOKUP(T1798,読み替え表_スマートムーブ!$C$4:$F$13,4,0))","v":"-"},{"$f":"IF(H1798=\"\",\"-\",VLOOKUP(V1798,読み替え表_スマートムーブ!$C$16:$F$21,4,0))","v":"-"},"-",null,null,null,null,0,0,0,0,0,0,"*"]
[null,null,1790,null,null,null,null,null,null,null,null,null,null,null,null,null,null,null,null,null,null,null,null,null,null,null,null,null,null,null,null,null,null,null,null,{"$f":"IF(H1799=\"\",\"-\",VLOOKUP(T1799,読み替え表_スマートムーブ!$C$4:$F$13,4,0))","v":"-"},{"$f":"IF(H1799=\"\",\"-\",VLOOKUP(V1799,読み替え表_スマートムーブ!$C$16:$F$21,4,0))","v":"-"},"-",null,null,null,null,0,0,0,0,0,0,"*"]
[null,null,1791,null,null,null,null,null,null,null,null,null,null,null,null,null,null,null,null,null,null,null,null,null,null,null,null,null,null,null,null,null,null,null,null,{"$f":"IF(H1800=\"\",\"-\",VLOOKUP(T1800,読み替え表_スマートムーブ!$C$4:$F$13,4,0))","v":"-"},{"$f":"IF(H1800=\"\",\"-\",VLOOKUP(V1800,読み替え表_スマートムーブ!$C$16:$F$21,4,0))","v":"-"},"-",null,null,null,null,0,0,0,0,0,0,"*"]
[null,null,1792,null,null,null,null,null,null,null,null,null,null,null,null,null,null,null,null,null,null,null,null,null,null,null,null,null,null,null,null,null,null,null,null,{"$f":"IF(H1801=\"\",\"-\",VLOOKUP(T1801,読み替え表_スマートムーブ!$C$4:$F$13,4,0))","v":"-"},{"$f":"IF(H1801=\"\",\"-\",VLOOKUP(V1801,読み替え表_スマートムーブ!$C$16:$F$21,4,0))","v":"-"},"-",null,null,null,null,0,0,0,0,0,0,"*"]
[null,null,1793,null,null,null,null,null,null,null,null,null,null,null,null,null,null,null,null,null,null,null,null,null,null,null,null,null,null,null,null,null,null,null,null,{"$f":"IF(H1802=\"\",\"-\",VLOOKUP(T1802,読み替え表_スマートムーブ!$C$4:$F$13,4,0))","v":"-"},{"$f":"IF(H1802=\"\",\"-\",VLOOKUP(V1802,読み替え表_スマートムーブ!$C$16:$F$21,4,0))","v":"-"},"-",null,null,null,null,0,0,0,0,0,{"$f":"AQ1802","v":0},"*"]
[null,null,{"$f":"ROW()-9","v":1794},null,null,null,null,null,null,null,null,null,null,null,null,null,null,null,null,null,null,null,null,null,null,null,null,null,null,null,null,null,null,null,null,{"$f":"IF(H1803=\"\",\"-\",VLOOKUP(T1803,読み替え表_スマートムーブ!$C$4:$F$13,4,0))","v":"-"},{"$f":"IF(H1803=\"\",\"-\",VLOOKUP(V1803,読み替え表_スマートムーブ!$C$16:$F$21,4,0))","v":"-"},"-",null,null,null,null,{"$f":"IF(SUM($AR1803:$AT1803)>=1,1,0)","v":0},{"$f":"IF(R1803=1,1,0)","v":0},{"$f":"IF(T1803=9,1,0)","v":0},{"$f":"IF(V1803=5,1,0)","v":0},{"$f":"IF(OR($X1803=1,$X1803=2,$X1803=3),1,0)","v":0},0,"*"]
[null,null,1795,null,null,null,null,null,null,null,null,null,null,null,null,null,null,null,null,null,null,null,null,null,null,null,null,null,null,null,null,null,null,null,null,{"$f":"IF(H1804=\"\",\"-\",VLOOKUP(T1804,読み替え表_スマートムーブ!$C$4:$F$13,4,0))","v":"-"},{"$f":"IF(H1804=\"\",\"-\",VLOOKUP(V1804,読み替え表_スマートムーブ!$C$16:$F$21,4,0))","v":"-"},"-",null,null,null,null,0,0,0,0,0,0,"*"]
[null,null,1796,null,null,null,null,null,null,null,null,null,null,null,null,null,null,null,null,null,null,null,null,null,null,null,null,null,null,null,null,null,null,null,null,{"$f":"IF(H1805=\"\",\"-\",VLOOKUP(T1805,読み替え表_スマートムーブ!$C$4:$F$13,4,0))","v":"-"},{"$f":"IF(H1805=\"\",\"-\",VLOOKUP(V1805,読み替え表_スマートムーブ!$C$16:$F$21,4,0))","v":"-"},"-",null,null,null,null,0,0,0,0,0,0,"*"]
[null,null,1797,null,null,null,null,null,null,null,null,null,null,null,null,null,null,null,null,null,null,null,null,null,null,null,null,null,null,null,null,null,null,null,null,{"$f":"IF(H1806=\"\",\"-\",VLOOKUP(T1806,読み替え表_スマートムーブ!$C$4:$F$13,4,0))","v":"-"},{"$f":"IF(H1806=\"\",\"-\",VLOOKUP(V1806,読み替え表_スマートムーブ!$C$16:$F$21,4,0))","v":"-"},"-",null,null,null,null,0,0,0,0,0,0,"*"]
[null,null,1798,null,null,null,null,null,null,null,null,null,null,null,null,null,null,null,null,null,null,null,null,null,null,null,null,null,null,null,null,null,null,null,null,{"$f":"IF(H1807=\"\",\"-\",VLOOKUP(T1807,読み替え表_スマートムーブ!$C$4:$F$13,4,0))","v":"-"},{"$f":"IF(H1807=\"\",\"-\",VLOOKUP(V1807,読み替え表_スマートムーブ!$C$16:$F$21,4,0))","v":"-"},"-",null,null,null,null,0,0,0,0,0,0,"*"]
[null,null,1799,null,null,null,null,null,null,null,null,null,null,null,null,null,null,null,null,null,null,null,null,null,null,null,null,null,null,null,null,null,null,null,null,{"$f":"IF(H1808=\"\",\"-\",VLOOKUP(T1808,読み替え表_スマートムーブ!$C$4:$F$13,4,0))","v":"-"},{"$f":"IF(H1808=\"\",\"-\",VLOOKUP(V1808,読み替え表_スマートムーブ!$C$16:$F$21,4,0))","v":"-"},"-",null,null,null,null,0,0,0,0,0,0,"*"]
[null,null,1800,null,null,null,null,null,null,null,null,null,null,null,null,null,null,null,null,null,null,null,null,null,null,null,null,null,null,null,null,null,null,null,null,{"$f":"IF(H1809=\"\",\"-\",VLOOKUP(T1809,読み替え表_スマートムーブ!$C$4:$F$13,4,0))","v":"-"},{"$f":"IF(H1809=\"\",\"-\",VLOOKUP(V1809,読み替え表_スマートムーブ!$C$16:$F$21,4,0))","v":"-"},"-",null,null,null,null,0,0,0,0,0,0,"*"]
[null,null,1801,null,null,null,null,null,null,null,null,null,null,null,null,null,null,null,null,null,null,null,null,null,null,null,null,null,null,null,null,null,null,null,null,{"$f":"IF(H1810=\"\",\"-\",VLOOKUP(T1810,読み替え表_スマートムーブ!$C$4:$F$13,4,0))","v":"-"},{"$f":"IF(H1810=\"\",\"-\",VLOOKUP(V1810,読み替え表_スマートムーブ!$C$16:$F$21,4,0))","v":"-"},"-",null,null,null,null,0,0,0,0,0,0,"*"]
[null,null,1802,null,null,null,null,null,null,null,null,null,null,null,null,null,null,null,null,null,null,null,null,null,null,null,null,null,null,null,null,null,null,null,null,{"$f":"IF(H1811=\"\",\"-\",VLOOKUP(T1811,読み替え表_スマートムーブ!$C$4:$F$13,4,0))","v":"-"},{"$f":"IF(H1811=\"\",\"-\",VLOOKUP(V1811,読み替え表_スマートムーブ!$C$16:$F$21,4,0))","v":"-"},"-",null,null,null,null,0,0,0,0,0,0,"*"]
[null,null,1803,null,null,null,null,null,null,null,null,null,null,null,null,null,null,null,null,null,null,null,null,null,null,null,null,null,null,null,null,null,null,null,null,{"$f":"IF(H1812=\"\",\"-\",VLOOKUP(T1812,読み替え表_スマートムーブ!$C$4:$F$13,4,0))","v":"-"},{"$f":"IF(H1812=\"\",\"-\",VLOOKUP(V1812,読み替え表_スマートムーブ!$C$16:$F$21,4,0))","v":"-"},"-",null,null,null,null,0,0,0,0,0,0,"*"]
[null,null,1804,null,null,null,null,null,null,null,null,null,null,null,null,null,null,null,null,null,null,null,null,null,null,null,null,null,null,null,null,null,null,null,null,{"$f":"IF(H1813=\"\",\"-\",VLOOKUP(T1813,読み替え表_スマートムーブ!$C$4:$F$13,4,0))","v":"-"},{"$f":"IF(H1813=\"\",\"-\",VLOOKUP(V1813,読み替え表_スマートムーブ!$C$16:$F$21,4,0))","v":"-"},"-",null,null,null,null,0,0,0,0,0,0,"*"]
[null,null,1805,null,null,null,null,null,null,null,null,null,null,null,null,null,null,null,null,null,null,null,null,null,null,null,null,null,null,null,null,null,null,null,null,{"$f":"IF(H1814=\"\",\"-\",VLOOKUP(T1814,読み替え表_スマートムーブ!$C$4:$F$13,4,0))","v":"-"},{"$f":"IF(H1814=\"\",\"-\",VLOOKUP(V1814,読み替え表_スマートムーブ!$C$16:$F$21,4,0))","v":"-"},"-",null,null,null,null,0,0,0,0,0,0,"*"]
[null,null,1806,null,null,null,null,null,null,null,null,null,null,null,null,null,null,null,null,null,null,null,null,null,null,null,null,null,null,null,null,null,null,null,null,{"$f":"IF(H1815=\"\",\"-\",VLOOKUP(T1815,読み替え表_スマートムーブ!$C$4:$F$13,4,0))","v":"-"},{"$f":"IF(H1815=\"\",\"-\",VLOOKUP(V1815,読み替え表_スマートムーブ!$C$16:$F$21,4,0))","v":"-"},"-",null,null,null,null,0,0,0,0,0,0,"*"]
[null,null,1807,null,null,null,null,null,null,null,null,null,null,null,null,null,null,null,null,null,null,null,null,null,null,null,null,null,null,null,null,null,null,null,null,{"$f":"IF(H1816=\"\",\"-\",VLOOKUP(T1816,読み替え表_スマートムーブ!$C$4:$F$13,4,0))","v":"-"},{"$f":"IF(H1816=\"\",\"-\",VLOOKUP(V1816,読み替え表_スマートムーブ!$C$16:$F$21,4,0))","v":"-"},"-",null,null,null,null,0,0,0,0,0,0,"*"]
[null,null,1808,null,null,null,null,null,null,null,null,null,null,null,null,null,null,null,null,null,null,null,null,null,null,null,null,null,null,null,null,null,null,null,null,{"$f":"IF(H1817=\"\",\"-\",VLOOKUP(T1817,読み替え表_スマートムーブ!$C$4:$F$13,4,0))","v":"-"},{"$f":"IF(H1817=\"\",\"-\",VLOOKUP(V1817,読み替え表_スマートムーブ!$C$16:$F$21,4,0))","v":"-"},"-",null,null,null,null,0,0,0,0,0,0,"*"]
[null,null,1809,null,null,null,null,null,null,null,null,null,null,null,null,null,null,null,null,null,null,null,null,null,null,null,null,null,null,null,null,null,null,null,null,{"$f":"IF(H1818=\"\",\"-\",VLOOKUP(T1818,読み替え表_スマートムーブ!$C$4:$F$13,4,0))","v":"-"},{"$f":"IF(H1818=\"\",\"-\",VLOOKUP(V1818,読み替え表_スマートムーブ!$C$16:$F$21,4,0))","v":"-"},"-",null,null,null,null,0,0,0,0,0,0,"*"]
[null,null,1810,null,null,null,null,null,null,null,null,null,null,null,null,null,null,null,null,null,null,null,null,null,null,null,null,null,null,null,null,null,null,null,null,{"$f":"IF(H1819=\"\",\"-\",VLOOKUP(T1819,読み替え表_スマートムーブ!$C$4:$F$13,4,0))","v":"-"},{"$f":"IF(H1819=\"\",\"-\",VLOOKUP(V1819,読み替え表_スマートムーブ!$C$16:$F$21,4,0))","v":"-"},"-",null,null,null,null,0,0,0,0,0,0,"*"]
[null,null,1811,null,null,null,null,null,null,null,null,null,null,null,null,null,null,null,null,null,null,null,null,null,null,null,null,null,null,null,null,null,null,null,null,{"$f":"IF(H1820=\"\",\"-\",VLOOKUP(T1820,読み替え表_スマートムーブ!$C$4:$F$13,4,0))","v":"-"},{"$f":"IF(H1820=\"\",\"-\",VLOOKUP(V1820,読み替え表_スマートムーブ!$C$16:$F$21,4,0))","v":"-"},"-",null,null,null,null,0,0,0,0,0,0,"*"]
[null,null,1812,null,null,null,null,null,null,null,null,null,null,null,null,null,null,null,null,null,null,null,null,null,null,null,null,null,null,null,null,null,null,null,null,{"$f":"IF(H1821=\"\",\"-\",VLOOKUP(T1821,読み替え表_スマートムーブ!$C$4:$F$13,4,0))","v":"-"},{"$f":"IF(H1821=\"\",\"-\",VLOOKUP(V1821,読み替え表_スマートムーブ!$C$16:$F$21,4,0))","v":"-"},"-",null,null,null,null,0,0,0,0,0,0,"*"]
[null,null,1813,null,null,null,null,null,null,null,null,null,null,null,null,null,null,null,null,null,null,null,null,null,null,null,null,null,null,null,null,null,null,null,null,{"$f":"IF(H1822=\"\",\"-\",VLOOKUP(T1822,読み替え表_スマートムーブ!$C$4:$F$13,4,0))","v":"-"},{"$f":"IF(H1822=\"\",\"-\",VLOOKUP(V1822,読み替え表_スマートムーブ!$C$16:$F$21,4,0))","v":"-"},"-",null,null,null,null,0,0,0,0,0,0,"*"]
[null,null,1814,null,null,null,null,null,null,null,null,null,null,null,null,null,null,null,null,null,null,null,null,null,null,null,null,null,null,null,null,null,null,null,null,{"$f":"IF(H1823=\"\",\"-\",VLOOKUP(T1823,読み替え表_スマートムーブ!$C$4:$F$13,4,0))","v":"-"},{"$f":"IF(H1823=\"\",\"-\",VLOOKUP(V1823,読み替え表_スマートムーブ!$C$16:$F$21,4,0))","v":"-"},"-",null,null,null,null,0,0,0,0,0,0,"*"]
[null,null,1815,null,null,null,null,null,null,null,null,null,null,null,null,null,null,null,null,null,null,null,null,null,null,null,null,null,null,null,null,null,null,null,null,{"$f":"IF(H1824=\"\",\"-\",VLOOKUP(T1824,読み替え表_スマートムーブ!$C$4:$F$13,4,0))","v":"-"},{"$f":"IF(H1824=\"\",\"-\",VLOOKUP(V1824,読み替え表_スマートムーブ!$C$16:$F$21,4,0))","v":"-"},"-",null,null,null,null,0,0,0,0,0,0,"*"]
[null,null,1816,null,null,null,null,null,null,null,null,null,null,null,null,null,null,null,null,null,null,null,null,null,null,null,null,null,null,null,null,null,null,null,null,{"$f":"IF(H1825=\"\",\"-\",VLOOKUP(T1825,読み替え表_スマートムーブ!$C$4:$F$13,4,0))","v":"-"},{"$f":"IF(H1825=\"\",\"-\",VLOOKUP(V1825,読み替え表_スマートムーブ!$C$16:$F$21,4,0))","v":"-"},"-",null,null,null,null,0,0,0,0,0,0,"*"]
[null,null,1817,null,null,null,null,null,null,null,null,null,null,null,null,null,null,null,null,null,null,null,null,null,null,null,null,null,null,null,null,null,null,null,null,{"$f":"IF(H1826=\"\",\"-\",VLOOKUP(T1826,読み替え表_スマートムーブ!$C$4:$F$13,4,0))","v":"-"},{"$f":"IF(H1826=\"\",\"-\",VLOOKUP(V1826,読み替え表_スマートムーブ!$C$16:$F$21,4,0))","v":"-"},"-",null,null,null,null,0,0,0,0,0,0,"*"]
[null,null,1818,null,null,null,null,null,null,null,null,null,null,null,null,null,null,null,null,null,null,null,null,null,null,null,null,null,null,null,null,null,null,null,null,{"$f":"IF(H1827=\"\",\"-\",VLOOKUP(T1827,読み替え表_スマートムーブ!$C$4:$F$13,4,0))","v":"-"},{"$f":"IF(H1827=\"\",\"-\",VLOOKUP(V1827,読み替え表_スマートムーブ!$C$16:$F$21,4,0))","v":"-"},"-",null,null,null,null,0,0,0,0,0,0,"*"]
[null,null,1819,null,null,null,null,null,null,null,null,null,null,null,null,null,null,null,null,null,null,null,null,null,null,null,null,null,null,null,null,null,null,null,null,{"$f":"IF(H1828=\"\",\"-\",VLOOKUP(T1828,読み替え表_スマートムーブ!$C$4:$F$13,4,0))","v":"-"},{"$f":"IF(H1828=\"\",\"-\",VLOOKUP(V1828,読み替え表_スマートムーブ!$C$16:$F$21,4,0))","v":"-"},"-",null,null,null,null,0,0,0,0,0,0,"*"]
[null,null,1820,null,null,null,null,null,null,null,null,null,null,null,null,null,null,null,null,null,null,null,null,null,null,null,null,null,null,null,null,null,null,null,null,{"$f":"IF(H1829=\"\",\"-\",VLOOKUP(T1829,読み替え表_スマートムーブ!$C$4:$F$13,4,0))","v":"-"},{"$f":"IF(H1829=\"\",\"-\",VLOOKUP(V1829,読み替え表_スマートムーブ!$C$16:$F$21,4,0))","v":"-"},"-",null,null,null,null,0,0,0,0,0,0,"*"]
[null,null,1821,null,null,null,null,null,null,null,null,null,null,null,null,null,null,null,null,null,null,null,null,null,null,null,null,null,null,null,null,null,null,null,null,{"$f":"IF(H1830=\"\",\"-\",VLOOKUP(T1830,読み替え表_スマートムーブ!$C$4:$F$13,4,0))","v":"-"},{"$f":"IF(H1830=\"\",\"-\",VLOOKUP(V1830,読み替え表_スマートムーブ!$C$16:$F$21,4,0))","v":"-"},"-",null,null,null,null,0,0,0,0,0,0,"*"]
[null,null,1822,null,null,null,null,null,null,null,null,null,null,null,null,null,null,null,null,null,null,null,null,null,null,null,null,null,null,null,null,null,null,null,null,{"$f":"IF(H1831=\"\",\"-\",VLOOKUP(T1831,読み替え表_スマートムーブ!$C$4:$F$13,4,0))","v":"-"},{"$f":"IF(H1831=\"\",\"-\",VLOOKUP(V1831,読み替え表_スマートムーブ!$C$16:$F$21,4,0))","v":"-"},"-",null,null,null,null,0,0,0,0,0,0,"*"]
[null,null,1823,null,null,null,null,null,null,null,null,null,null,null,null,null,null,null,null,null,null,null,null,null,null,null,null,null,null,null,null,null,null,null,null,{"$f":"IF(H1832=\"\",\"-\",VLOOKUP(T1832,読み替え表_スマートムーブ!$C$4:$F$13,4,0))","v":"-"},{"$f":"IF(H1832=\"\",\"-\",VLOOKUP(V1832,読み替え表_スマートムーブ!$C$16:$F$21,4,0))","v":"-"},"-",null,null,null,null,0,0,0,0,0,0,"*"]
[null,null,1824,null,null,null,null,null,null,null,null,null,null,null,null,null,null,null,null,null,null,null,null,null,null,null,null,null,null,null,null,null,null,null,null,{"$f":"IF(H1833=\"\",\"-\",VLOOKUP(T1833,読み替え表_スマートムーブ!$C$4:$F$13,4,0))","v":"-"},{"$f":"IF(H1833=\"\",\"-\",VLOOKUP(V1833,読み替え表_スマートムーブ!$C$16:$F$21,4,0))","v":"-"},"-",null,null,null,null,0,0,0,0,0,0,"*"]
[null,null,1825,null,null,null,null,null,null,null,null,null,null,null,null,null,null,null,null,null,null,null,null,null,null,null,null,null,null,null,null,null,null,null,null,{"$f":"IF(H1834=\"\",\"-\",VLOOKUP(T1834,読み替え表_スマートムーブ!$C$4:$F$13,4,0))","v":"-"},{"$f":"IF(H1834=\"\",\"-\",VLOOKUP(V1834,読み替え表_スマートムーブ!$C$16:$F$21,4,0))","v":"-"},"-",null,null,null,null,0,0,0,0,0,0,"*"]
[null,null,1826,null,null,null,null,null,null,null,null,null,null,null,null,null,null,null,null,null,null,null,null,null,null,null,null,null,null,null,null,null,null,null,null,{"$f":"IF(H1835=\"\",\"-\",VLOOKUP(T1835,読み替え表_スマートムーブ!$C$4:$F$13,4,0))","v":"-"},{"$f":"IF(H1835=\"\",\"-\",VLOOKUP(V1835,読み替え表_スマートムーブ!$C$16:$F$21,4,0))","v":"-"},"-",null,null,null,null,0,0,0,0,0,0,"*"]
[null,null,1827,null,null,null,null,null,null,null,null,null,null,null,null,null,null,null,null,null,null,null,null,null,null,null,null,null,null,null,null,null,null,null,null,{"$f":"IF(H1836=\"\",\"-\",VLOOKUP(T1836,読み替え表_スマートムーブ!$C$4:$F$13,4,0))","v":"-"},{"$f":"IF(H1836=\"\",\"-\",VLOOKUP(V1836,読み替え表_スマートムーブ!$C$16:$F$21,4,0))","v":"-"},"-",null,null,null,null,0,0,0,0,0,0,"*"]
[null,null,1828,null,null,null,null,null,null,null,null,null,null,null,null,null,null,null,null,null,null,null,null,null,null,null,null,null,null,null,null,null,null,null,null,{"$f":"IF(H1837=\"\",\"-\",VLOOKUP(T1837,読み替え表_スマートムーブ!$C$4:$F$13,4,0))","v":"-"},{"$f":"IF(H1837=\"\",\"-\",VLOOKUP(V1837,読み替え表_スマートムーブ!$C$16:$F$21,4,0))","v":"-"},"-",null,null,null,null,0,0,0,0,0,0,"*"]
[null,null,1829,null,null,null,null,null,null,null,null,null,null,null,null,null,null,null,null,null,null,null,null,null,null,null,null,null,null,null,null,null,null,null,null,{"$f":"IF(H1838=\"\",\"-\",VLOOKUP(T1838,読み替え表_スマートムーブ!$C$4:$F$13,4,0))","v":"-"},{"$f":"IF(H1838=\"\",\"-\",VLOOKUP(V1838,読み替え表_スマートムーブ!$C$16:$F$21,4,0))","v":"-"},"-",null,null,null,null,0,0,0,0,0,0,"*"]
[null,null,1830,null,null,null,null,null,null,null,null,null,null,null,null,null,null,null,null,null,null,null,null,null,null,null,null,null,null,null,null,null,null,null,null,{"$f":"IF(H1839=\"\",\"-\",VLOOKUP(T1839,読み替え表_スマートムーブ!$C$4:$F$13,4,0))","v":"-"},{"$f":"IF(H1839=\"\",\"-\",VLOOKUP(V1839,読み替え表_スマートムーブ!$C$16:$F$21,4,0))","v":"-"},"-",null,null,null,null,0,0,0,0,0,0,"*"]
[null,null,1831,null,null,null,null,null,null,null,null,null,null,null,null,null,null,null,null,null,null,null,null,null,null,null,null,null,null,null,null,null,null,null,null,{"$f":"IF(H1840=\"\",\"-\",VLOOKUP(T1840,読み替え表_スマートムーブ!$C$4:$F$13,4,0))","v":"-"},{"$f":"IF(H1840=\"\",\"-\",VLOOKUP(V1840,読み替え表_スマートムーブ!$C$16:$F$21,4,0))","v":"-"},"-",null,null,null,null,0,0,0,0,0,0,"*"]
[null,null,1832,null,null,null,null,null,null,null,null,null,null,null,null,null,null,null,null,null,null,null,null,null,null,null,null,null,null,null,null,null,null,null,null,{"$f":"IF(H1841=\"\",\"-\",VLOOKUP(T1841,読み替え表_スマートムーブ!$C$4:$F$13,4,0))","v":"-"},{"$f":"IF(H1841=\"\",\"-\",VLOOKUP(V1841,読み替え表_スマートムーブ!$C$16:$F$21,4,0))","v":"-"},"-",null,null,null,null,0,0,0,0,0,0,"*"]
[null,null,1833,null,null,null,null,null,null,null,null,null,null,null,null,null,null,null,null,null,null,null,null,null,null,null,null,null,null,null,null,null,null,null,null,{"$f":"IF(H1842=\"\",\"-\",VLOOKUP(T1842,読み替え表_スマートムーブ!$C$4:$F$13,4,0))","v":"-"},{"$f":"IF(H1842=\"\",\"-\",VLOOKUP(V1842,読み替え表_スマートムーブ!$C$16:$F$21,4,0))","v":"-"},{"$f":"IF(H1842=\"\",\"-\",AJ1842*AK1842)","v":"-"},null,null,null,null,0,0,0,0,0,0,"*"]
[null,null,1834,null,null,null,null,null,null,null,null,null,null,null,null,null,null,null,null,null,null,null,null,null,null,null,null,null,null,null,null,null,null,null,null,{"$f":"IF(H1843=\"\",\"-\",VLOOKUP(T1843,読み替え表_スマートムーブ!$C$4:$F$13,4,0))","v":"-"},{"$f":"IF(H1843=\"\",\"-\",VLOOKUP(V1843,読み替え表_スマートムーブ!$C$16:$F$21,4,0))","v":"-"},"-",null,null,null,null,0,0,0,0,0,0,"*"]
[null,null,1835,null,null,null,null,null,null,null,null,null,null,null,null,null,null,null,null,null,null,null,null,null,null,null,null,null,null,null,null,null,null,null,null,{"$f":"IF(H1844=\"\",\"-\",VLOOKUP(T1844,読み替え表_スマートムーブ!$C$4:$F$13,4,0))","v":"-"},{"$f":"IF(H1844=\"\",\"-\",VLOOKUP(V1844,読み替え表_スマートムーブ!$C$16:$F$21,4,0))","v":"-"},"-",null,null,null,null,0,0,0,0,0,0,"*"]
[null,null,1836,null,null,null,null,null,null,null,null,null,null,null,null,null,null,null,null,null,null,null,null,null,null,null,null,null,null,null,null,null,null,null,null,{"$f":"IF(H1845=\"\",\"-\",VLOOKUP(T1845,読み替え表_スマートムーブ!$C$4:$F$13,4,0))","v":"-"},{"$f":"IF(H1845=\"\",\"-\",VLOOKUP(V1845,読み替え表_スマートムーブ!$C$16:$F$21,4,0))","v":"-"},"-",null,null,null,null,0,0,0,0,0,0,"*"]
[null,null,1837,null,null,null,null,null,null,null,null,null,null,null,null,null,null,null,null,null,null,null,null,null,null,null,null,null,null,null,null,null,null,null,null,{"$f":"IF(H1846=\"\",\"-\",VLOOKUP(T1846,読み替え表_スマートムーブ!$C$4:$F$13,4,0))","v":"-"},{"$f":"IF(H1846=\"\",\"-\",VLOOKUP(V1846,読み替え表_スマートムーブ!$C$16:$F$21,4,0))","v":"-"},"-",null,null,null,null,0,0,0,0,0,0,"*"]
[null,null,1838,null,null,null,null,null,null,null,null,null,null,null,null,null,null,null,null,null,null,null,null,null,null,null,null,null,null,null,null,null,null,null,null,{"$f":"IF(H1847=\"\",\"-\",VLOOKUP(T1847,読み替え表_スマートムーブ!$C$4:$F$13,4,0))","v":"-"},{"$f":"IF(H1847=\"\",\"-\",VLOOKUP(V1847,読み替え表_スマートムーブ!$C$16:$F$21,4,0))","v":"-"},"-",null,null,null,null,0,0,0,0,0,0,"*"]
[null,null,1839,null,null,null,null,null,null,null,null,null,null,null,null,null,null,null,null,null,null,null,null,null,null,null,null,null,null,null,null,null,null,null,null,{"$f":"IF(H1848=\"\",\"-\",VLOOKUP(T1848,読み替え表_スマートムーブ!$C$4:$F$13,4,0))","v":"-"},{"$f":"IF(H1848=\"\",\"-\",VLOOKUP(V1848,読み替え表_スマートムーブ!$C$16:$F$21,4,0))","v":"-"},"-",null,null,null,null,0,0,0,0,0,0,"*"]
[null,null,1840,null,null,null,null,null,null,null,null,null,null,null,null,null,null,null,null,null,null,null,null,null,null,null,null,null,null,null,null,null,null,null,null,{"$f":"IF(H1849=\"\",\"-\",VLOOKUP(T1849,読み替え表_スマートムーブ!$C$4:$F$13,4,0))","v":"-"},{"$f":"IF(H1849=\"\",\"-\",VLOOKUP(V1849,読み替え表_スマートムーブ!$C$16:$F$21,4,0))","v":"-"},"-",null,null,null,null,0,0,0,0,0,0,"*"]
[null,null,1841,null,null,null,null,null,null,null,null,null,null,null,null,null,null,null,null,null,null,null,null,null,null,null,null,null,null,null,null,null,null,null,null,{"$f":"IF(H1850=\"\",\"-\",VLOOKUP(T1850,読み替え表_スマートムーブ!$C$4:$F$13,4,0))","v":"-"},{"$f":"IF(H1850=\"\",\"-\",VLOOKUP(V1850,読み替え表_スマートムーブ!$C$16:$F$21,4,0))","v":"-"},"-",null,null,null,null,0,0,0,0,0,0,"*"]
[null,null,1842,null,null,null,null,null,null,null,null,null,null,null,null,null,null,null,null,null,null,null,null,null,null,null,null,null,null,null,null,null,null,null,null,{"$f":"IF(H1851=\"\",\"-\",VLOOKUP(T1851,読み替え表_スマートムーブ!$C$4:$F$13,4,0))","v":"-"},{"$f":"IF(H1851=\"\",\"-\",VLOOKUP(V1851,読み替え表_スマートムーブ!$C$16:$F$21,4,0))","v":"-"},"-",null,null,null,null,0,0,0,0,0,0,"*"]
[null,null,1843,null,null,null,null,null,null,null,null,null,null,null,null,null,null,null,null,null,null,null,null,null,null,null,null,null,null,null,null,null,null,null,null,{"$f":"IF(H1852=\"\",\"-\",VLOOKUP(T1852,読み替え表_スマートムーブ!$C$4:$F$13,4,0))","v":"-"},{"$f":"IF(H1852=\"\",\"-\",VLOOKUP(V1852,読み替え表_スマートムーブ!$C$16:$F$21,4,0))","v":"-"},"-",null,null,null,null,0,0,0,0,0,0,"*"]
[null,null,1844,null,null,null,null,null,null,null,null,null,null,null,null,null,null,null,null,null,null,null,null,null,null,null,null,null,null,null,null,null,null,null,null,{"$f":"IF(H1853=\"\",\"-\",VLOOKUP(T1853,読み替え表_スマートムーブ!$C$4:$F$13,4,0))","v":"-"},{"$f":"IF(H1853=\"\",\"-\",VLOOKUP(V1853,読み替え表_スマートムーブ!$C$16:$F$21,4,0))","v":"-"},"-",null,null,null,null,0,0,0,0,0,0,"*"]
[null,null,1845,null,null,null,null,null,null,null,null,null,null,null,null,null,null,null,null,null,null,null,null,null,null,null,null,null,null,null,null,null,null,null,null,{"$f":"IF(H1854=\"\",\"-\",VLOOKUP(T1854,読み替え表_スマートムーブ!$C$4:$F$13,4,0))","v":"-"},{"$f":"IF(H1854=\"\",\"-\",VLOOKUP(V1854,読み替え表_スマートムーブ!$C$16:$F$21,4,0))","v":"-"},"-",null,null,null,null,0,0,0,0,0,0,"*"]
[null,null,1846,null,null,null,null,null,null,null,null,null,null,null,null,null,null,null,null,null,null,null,null,null,null,null,null,null,null,null,null,null,null,null,null,{"$f":"IF(H1855=\"\",\"-\",VLOOKUP(T1855,読み替え表_スマートムーブ!$C$4:$F$13,4,0))","v":"-"},{"$f":"IF(H1855=\"\",\"-\",VLOOKUP(V1855,読み替え表_スマートムーブ!$C$16:$F$21,4,0))","v":"-"},"-",null,null,null,null,0,0,0,0,0,0,"*"]
[null,null,1847,null,null,null,null,null,null,null,null,null,null,null,null,null,null,null,null,null,null,null,null,null,null,null,null,null,null,null,null,null,null,null,null,{"$f":"IF(H1856=\"\",\"-\",VLOOKUP(T1856,読み替え表_スマートムーブ!$C$4:$F$13,4,0))","v":"-"},{"$f":"IF(H1856=\"\",\"-\",VLOOKUP(V1856,読み替え表_スマートムーブ!$C$16:$F$21,4,0))","v":"-"},"-",null,null,null,null,0,0,0,0,0,0,"*"]
[null,null,1848,null,null,null,null,null,null,null,null,null,null,null,null,null,null,null,null,null,null,null,null,null,null,null,null,null,null,null,null,null,null,null,null,{"$f":"IF(H1857=\"\",\"-\",VLOOKUP(T1857,読み替え表_スマートムーブ!$C$4:$F$13,4,0))","v":"-"},{"$f":"IF(H1857=\"\",\"-\",VLOOKUP(V1857,読み替え表_スマートムーブ!$C$16:$F$21,4,0))","v":"-"},"-",null,null,null,null,0,0,0,0,0,0,"*"]
[null,null,1849,null,null,null,null,null,null,null,null,null,null,null,null,null,null,null,null,null,null,null,null,null,null,null,null,null,null,null,null,null,null,null,null,{"$f":"IF(H1858=\"\",\"-\",VLOOKUP(T1858,読み替え表_スマートムーブ!$C$4:$F$13,4,0))","v":"-"},{"$f":"IF(H1858=\"\",\"-\",VLOOKUP(V1858,読み替え表_スマートムーブ!$C$16:$F$21,4,0))","v":"-"},"-",null,null,null,null,0,0,0,0,0,0,"*"]
[null,null,1850,null,null,null,null,null,null,null,null,null,null,null,null,null,null,null,null,null,null,null,null,null,null,null,null,null,null,null,null,null,null,null,null,{"$f":"IF(H1859=\"\",\"-\",VLOOKUP(T1859,読み替え表_スマートムーブ!$C$4:$F$13,4,0))","v":"-"},{"$f":"IF(H1859=\"\",\"-\",VLOOKUP(V1859,読み替え表_スマートムーブ!$C$16:$F$21,4,0))","v":"-"},"-",null,null,null,null,0,0,0,0,0,0,"*"]
[null,null,1851,null,null,null,null,null,null,null,null,null,null,null,null,null,null,null,null,null,null,null,null,null,null,null,null,null,null,null,null,null,null,null,null,{"$f":"IF(H1860=\"\",\"-\",VLOOKUP(T1860,読み替え表_スマートムーブ!$C$4:$F$13,4,0))","v":"-"},{"$f":"IF(H1860=\"\",\"-\",VLOOKUP(V1860,読み替え表_スマートムーブ!$C$16:$F$21,4,0))","v":"-"},"-",null,null,null,null,0,0,0,0,0,0,"*"]
[null,null,1852,null,null,null,null,null,null,null,null,null,null,null,null,null,null,null,null,null,null,null,null,null,null,null,null,null,null,null,null,null,null,null,null,{"$f":"IF(H1861=\"\",\"-\",VLOOKUP(T1861,読み替え表_スマートムーブ!$C$4:$F$13,4,0))","v":"-"},{"$f":"IF(H1861=\"\",\"-\",VLOOKUP(V1861,読み替え表_スマートムーブ!$C$16:$F$21,4,0))","v":"-"},"-",null,null,null,null,0,0,0,0,0,0,"*"]
[null,null,1853,null,null,null,null,null,null,null,null,null,null,null,null,null,null,null,null,null,null,null,null,null,null,null,null,null,null,null,null,null,null,null,null,{"$f":"IF(H1862=\"\",\"-\",VLOOKUP(T1862,読み替え表_スマートムーブ!$C$4:$F$13,4,0))","v":"-"},{"$f":"IF(H1862=\"\",\"-\",VLOOKUP(V1862,読み替え表_スマートムーブ!$C$16:$F$21,4,0))","v":"-"},"-",null,null,null,null,0,0,0,0,0,0,"*"]
[null,null,1854,null,null,null,null,null,null,null,null,null,null,null,null,null,null,null,null,null,null,null,null,null,null,null,null,null,null,null,null,null,null,null,null,{"$f":"IF(H1863=\"\",\"-\",VLOOKUP(T1863,読み替え表_スマートムーブ!$C$4:$F$13,4,0))","v":"-"},{"$f":"IF(H1863=\"\",\"-\",VLOOKUP(V1863,読み替え表_スマートムーブ!$C$16:$F$21,4,0))","v":"-"},"-",null,null,null,null,0,0,0,0,0,0,"*"]
[null,null,1855,null,null,null,null,null,null,null,null,null,null,null,null,null,null,null,null,null,null,null,null,null,null,null,null,null,null,null,null,null,null,null,null,{"$f":"IF(H1864=\"\",\"-\",VLOOKUP(T1864,読み替え表_スマートムーブ!$C$4:$F$13,4,0))","v":"-"},{"$f":"IF(H1864=\"\",\"-\",VLOOKUP(V1864,読み替え表_スマートムーブ!$C$16:$F$21,4,0))","v":"-"},"-",null,null,null,null,0,0,0,0,0,0,"*"]
[null,null,1856,null,null,null,null,null,null,null,null,null,null,null,null,null,null,null,null,null,null,null,null,null,null,null,null,null,null,null,null,null,null,null,null,{"$f":"IF(H1865=\"\",\"-\",VLOOKUP(T1865,読み替え表_スマートムーブ!$C$4:$F$13,4,0))","v":"-"},{"$f":"IF(H1865=\"\",\"-\",VLOOKUP(V1865,読み替え表_スマートムーブ!$C$16:$F$21,4,0))","v":"-"},"-",null,null,null,null,0,0,0,0,0,0,"*"]
[null,null,1857,null,null,null,null,null,null,null,null,null,null,null,null,null,null,null,null,null,null,null,null,null,null,null,null,null,null,null,null,null,null,null,null,{"$f":"IF(H1866=\"\",\"-\",VLOOKUP(T1866,読み替え表_スマートムーブ!$C$4:$F$13,4,0))","v":"-"},{"$f":"IF(H1866=\"\",\"-\",VLOOKUP(V1866,読み替え表_スマートムーブ!$C$16:$F$21,4,0))","v":"-"},"-",null,null,null,null,0,0,0,0,0,{"$f":"AQ1866","v":0},"*"]
[null,null,{"$f":"ROW()-9","v":1858},null,null,null,null,null,null,null,null,null,null,null,null,null,null,null,null,null,null,null,null,null,null,null,null,null,null,null,null,null,null,null,null,{"$f":"IF(H1867=\"\",\"-\",VLOOKUP(T1867,読み替え表_スマートムーブ!$C$4:$F$13,4,0))","v":"-"},{"$f":"IF(H1867=\"\",\"-\",VLOOKUP(V1867,読み替え表_スマートムーブ!$C$16:$F$21,4,0))","v":"-"},"-",null,null,null,null,{"$f":"IF(SUM($AR1867:$AT1867)>=1,1,0)","v":0},{"$f":"IF(R1867=1,1,0)","v":0},{"$f":"IF(T1867=9,1,0)","v":0},{"$f":"IF(V1867=5,1,0)","v":0},{"$f":"IF(OR($X1867=1,$X1867=2,$X1867=3),1,0)","v":0},0,"*"]
[null,null,1859,null,null,null,null,null,null,null,null,null,null,null,null,null,null,null,null,null,null,null,null,null,null,null,null,null,null,null,null,null,null,null,null,{"$f":"IF(H1868=\"\",\"-\",VLOOKUP(T1868,読み替え表_スマートムーブ!$C$4:$F$13,4,0))","v":"-"},{"$f":"IF(H1868=\"\",\"-\",VLOOKUP(V1868,読み替え表_スマートムーブ!$C$16:$F$21,4,0))","v":"-"},"-",null,null,null,null,0,0,0,0,0,0,"*"]
[null,null,1860,null,null,null,null,null,null,null,null,null,null,null,null,null,null,null,null,null,null,null,null,null,null,null,null,null,null,null,null,null,null,null,null,{"$f":"IF(H1869=\"\",\"-\",VLOOKUP(T1869,読み替え表_スマートムーブ!$C$4:$F$13,4,0))","v":"-"},{"$f":"IF(H1869=\"\",\"-\",VLOOKUP(V1869,読み替え表_スマートムーブ!$C$16:$F$21,4,0))","v":"-"},"-",null,null,null,null,0,0,0,0,0,0,"*"]
[null,null,1861,null,null,null,null,null,null,null,null,null,null,null,null,null,null,null,null,null,null,null,null,null,null,null,null,null,null,null,null,null,null,null,null,{"$f":"IF(H1870=\"\",\"-\",VLOOKUP(T1870,読み替え表_スマートムーブ!$C$4:$F$13,4,0))","v":"-"},{"$f":"IF(H1870=\"\",\"-\",VLOOKUP(V1870,読み替え表_スマートムーブ!$C$16:$F$21,4,0))","v":"-"},"-",null,null,null,null,0,0,0,0,0,0,"*"]
[null,null,1862,null,null,null,null,null,null,null,null,null,null,null,null,null,null,null,null,null,null,null,null,null,null,null,null,null,null,null,null,null,null,null,null,{"$f":"IF(H1871=\"\",\"-\",VLOOKUP(T1871,読み替え表_スマートムーブ!$C$4:$F$13,4,0))","v":"-"},{"$f":"IF(H1871=\"\",\"-\",VLOOKUP(V1871,読み替え表_スマートムーブ!$C$16:$F$21,4,0))","v":"-"},"-",null,null,null,null,0,0,0,0,0,0,"*"]
[null,null,1863,null,null,null,null,null,null,null,null,null,null,null,null,null,null,null,null,null,null,null,null,null,null,null,null,null,null,null,null,null,null,null,null,{"$f":"IF(H1872=\"\",\"-\",VLOOKUP(T1872,読み替え表_スマートムーブ!$C$4:$F$13,4,0))","v":"-"},{"$f":"IF(H1872=\"\",\"-\",VLOOKUP(V1872,読み替え表_スマートムーブ!$C$16:$F$21,4,0))","v":"-"},"-",null,null,null,null,0,0,0,0,0,0,"*"]
[null,null,1864,null,null,null,null,null,null,null,null,null,null,null,null,null,null,null,null,null,null,null,null,null,null,null,null,null,null,null,null,null,null,null,null,{"$f":"IF(H1873=\"\",\"-\",VLOOKUP(T1873,読み替え表_スマートムーブ!$C$4:$F$13,4,0))","v":"-"},{"$f":"IF(H1873=\"\",\"-\",VLOOKUP(V1873,読み替え表_スマートムーブ!$C$16:$F$21,4,0))","v":"-"},"-",null,null,null,null,0,0,0,0,0,0,"*"]
[null,null,1865,null,null,null,null,null,null,null,null,null,null,null,null,null,null,null,null,null,null,null,null,null,null,null,null,null,null,null,null,null,null,null,null,{"$f":"IF(H1874=\"\",\"-\",VLOOKUP(T1874,読み替え表_スマートムーブ!$C$4:$F$13,4,0))","v":"-"},{"$f":"IF(H1874=\"\",\"-\",VLOOKUP(V1874,読み替え表_スマートムーブ!$C$16:$F$21,4,0))","v":"-"},"-",null,null,null,null,0,0,0,0,0,0,"*"]
[null,null,1866,null,null,null,null,null,null,null,null,null,null,null,null,null,null,null,null,null,null,null,null,null,null,null,null,null,null,null,null,null,null,null,null,{"$f":"IF(H1875=\"\",\"-\",VLOOKUP(T1875,読み替え表_スマートムーブ!$C$4:$F$13,4,0))","v":"-"},{"$f":"IF(H1875=\"\",\"-\",VLOOKUP(V1875,読み替え表_スマートムーブ!$C$16:$F$21,4,0))","v":"-"},"-",null,null,null,null,0,0,0,0,0,0,"*"]
[null,null,1867,null,null,null,null,null,null,null,null,null,null,null,null,null,null,null,null,null,null,null,null,null,null,null,null,null,null,null,null,null,null,null,null,{"$f":"IF(H1876=\"\",\"-\",VLOOKUP(T1876,読み替え表_スマートムーブ!$C$4:$F$13,4,0))","v":"-"},{"$f":"IF(H1876=\"\",\"-\",VLOOKUP(V1876,読み替え表_スマートムーブ!$C$16:$F$21,4,0))","v":"-"},"-",null,null,null,null,0,0,0,0,0,0,"*"]
[null,null,1868,null,null,null,null,null,null,null,null,null,null,null,null,null,null,null,null,null,null,null,null,null,null,null,null,null,null,null,null,null,null,null,null,{"$f":"IF(H1877=\"\",\"-\",VLOOKUP(T1877,読み替え表_スマートムーブ!$C$4:$F$13,4,0))","v":"-"},{"$f":"IF(H1877=\"\",\"-\",VLOOKUP(V1877,読み替え表_スマートムーブ!$C$16:$F$21,4,0))","v":"-"},"-",null,null,null,null,0,0,0,0,0,0,"*"]
[null,null,1869,null,null,null,null,null,null,null,null,null,null,null,null,null,null,null,null,null,null,null,null,null,null,null,null,null,null,null,null,null,null,null,null,{"$f":"IF(H1878=\"\",\"-\",VLOOKUP(T1878,読み替え表_スマートムーブ!$C$4:$F$13,4,0))","v":"-"},{"$f":"IF(H1878=\"\",\"-\",VLOOKUP(V1878,読み替え表_スマートムーブ!$C$16:$F$21,4,0))","v":"-"},"-",null,null,null,null,0,0,0,0,0,0,"*"]
[null,null,1870,null,null,null,null,null,null,null,null,null,null,null,null,null,null,null,null,null,null,null,null,null,null,null,null,null,null,null,null,null,null,null,null,{"$f":"IF(H1879=\"\",\"-\",VLOOKUP(T1879,読み替え表_スマートムーブ!$C$4:$F$13,4,0))","v":"-"},{"$f":"IF(H1879=\"\",\"-\",VLOOKUP(V1879,読み替え表_スマートムーブ!$C$16:$F$21,4,0))","v":"-"},"-",null,null,null,null,0,0,0,0,0,0,"*"]
[null,null,1871,null,null,null,null,null,null,null,null,null,null,null,null,null,null,null,null,null,null,null,null,null,null,null,null,null,null,null,null,null,null,null,null,{"$f":"IF(H1880=\"\",\"-\",VLOOKUP(T1880,読み替え表_スマートムーブ!$C$4:$F$13,4,0))","v":"-"},{"$f":"IF(H1880=\"\",\"-\",VLOOKUP(V1880,読み替え表_スマートムーブ!$C$16:$F$21,4,0))","v":"-"},"-",null,null,null,null,0,0,0,0,0,0,"*"]
[null,null,1872,null,null,null,null,null,null,null,null,null,null,null,null,null,null,null,null,null,null,null,null,null,null,null,null,null,null,null,null,null,null,null,null,{"$f":"IF(H1881=\"\",\"-\",VLOOKUP(T1881,読み替え表_スマートムーブ!$C$4:$F$13,4,0))","v":"-"},{"$f":"IF(H1881=\"\",\"-\",VLOOKUP(V1881,読み替え表_スマートムーブ!$C$16:$F$21,4,0))","v":"-"},"-",null,null,null,null,0,0,0,0,0,0,"*"]
[null,null,1873,null,null,null,null,null,null,null,null,null,null,null,null,null,null,null,null,null,null,null,null,null,null,null,null,null,null,null,null,null,null,null,null,{"$f":"IF(H1882=\"\",\"-\",VLOOKUP(T1882,読み替え表_スマートムーブ!$C$4:$F$13,4,0))","v":"-"},{"$f":"IF(H1882=\"\",\"-\",VLOOKUP(V1882,読み替え表_スマートムーブ!$C$16:$F$21,4,0))","v":"-"},"-",null,null,null,null,0,0,0,0,0,0,"*"]
[null,null,1874,null,null,null,null,null,null,null,null,null,null,null,null,null,null,null,null,null,null,null,null,null,null,null,null,null,null,null,null,null,null,null,null,{"$f":"IF(H1883=\"\",\"-\",VLOOKUP(T1883,読み替え表_スマートムーブ!$C$4:$F$13,4,0))","v":"-"},{"$f":"IF(H1883=\"\",\"-\",VLOOKUP(V1883,読み替え表_スマートムーブ!$C$16:$F$21,4,0))","v":"-"},"-",null,null,null,null,0,0,0,0,0,0,"*"]
[null,null,1875,null,null,null,null,null,null,null,null,null,null,null,null,null,null,null,null,null,null,null,null,null,null,null,null,null,null,null,null,null,null,null,null,{"$f":"IF(H1884=\"\",\"-\",VLOOKUP(T1884,読み替え表_スマートムーブ!$C$4:$F$13,4,0))","v":"-"},{"$f":"IF(H1884=\"\",\"-\",VLOOKUP(V1884,読み替え表_スマートムーブ!$C$16:$F$21,4,0))","v":"-"},"-",null,null,null,null,0,0,0,0,0,0,"*"]
[null,null,1876,null,null,null,null,null,null,null,null,null,null,null,null,null,null,null,null,null,null,null,null,null,null,null,null,null,null,null,null,null,null,null,null,{"$f":"IF(H1885=\"\",\"-\",VLOOKUP(T1885,読み替え表_スマートムーブ!$C$4:$F$13,4,0))","v":"-"},{"$f":"IF(H1885=\"\",\"-\",VLOOKUP(V1885,読み替え表_スマートムーブ!$C$16:$F$21,4,0))","v":"-"},"-",null,null,null,null,0,0,0,0,0,0,"*"]
[null,null,1877,null,null,null,null,null,null,null,null,null,null,null,null,null,null,null,null,null,null,null,null,null,null,null,null,null,null,null,null,null,null,null,null,{"$f":"IF(H1886=\"\",\"-\",VLOOKUP(T1886,読み替え表_スマートムーブ!$C$4:$F$13,4,0))","v":"-"},{"$f":"IF(H1886=\"\",\"-\",VLOOKUP(V1886,読み替え表_スマートムーブ!$C$16:$F$21,4,0))","v":"-"},"-",null,null,null,null,0,0,0,0,0,0,"*"]
[null,null,1878,null,null,null,null,null,null,null,null,null,null,null,null,null,null,null,null,null,null,null,null,null,null,null,null,null,null,null,null,null,null,null,null,{"$f":"IF(H1887=\"\",\"-\",VLOOKUP(T1887,読み替え表_スマートムーブ!$C$4:$F$13,4,0))","v":"-"},{"$f":"IF(H1887=\"\",\"-\",VLOOKUP(V1887,読み替え表_スマートムーブ!$C$16:$F$21,4,0))","v":"-"},"-",null,null,null,null,0,0,0,0,0,0,"*"]
[null,null,1879,null,null,null,null,null,null,null,null,null,null,null,null,null,null,null,null,null,null,null,null,null,null,null,null,null,null,null,null,null,null,null,null,{"$f":"IF(H1888=\"\",\"-\",VLOOKUP(T1888,読み替え表_スマートムーブ!$C$4:$F$13,4,0))","v":"-"},{"$f":"IF(H1888=\"\",\"-\",VLOOKUP(V1888,読み替え表_スマートムーブ!$C$16:$F$21,4,0))","v":"-"},"-",null,null,null,null,0,0,0,0,0,0,"*"]
[null,null,1880,null,null,null,null,null,null,null,null,null,null,null,null,null,null,null,null,null,null,null,null,null,null,null,null,null,null,null,null,null,null,null,null,{"$f":"IF(H1889=\"\",\"-\",VLOOKUP(T1889,読み替え表_スマートムーブ!$C$4:$F$13,4,0))","v":"-"},{"$f":"IF(H1889=\"\",\"-\",VLOOKUP(V1889,読み替え表_スマートムーブ!$C$16:$F$21,4,0))","v":"-"},"-",null,null,null,null,0,0,0,0,0,0,"*"]
[null,null,1881,null,null,null,null,null,null,null,null,null,null,null,null,null,null,null,null,null,null,null,null,null,null,null,null,null,null,null,null,null,null,null,null,{"$f":"IF(H1890=\"\",\"-\",VLOOKUP(T1890,読み替え表_スマートムーブ!$C$4:$F$13,4,0))","v":"-"},{"$f":"IF(H1890=\"\",\"-\",VLOOKUP(V1890,読み替え表_スマートムーブ!$C$16:$F$21,4,0))","v":"-"},"-",null,null,null,null,0,0,0,0,0,0,"*"]
[null,null,1882,null,null,null,null,null,null,null,null,null,null,null,null,null,null,null,null,null,null,null,null,null,null,null,null,null,null,null,null,null,null,null,null,{"$f":"IF(H1891=\"\",\"-\",VLOOKUP(T1891,読み替え表_スマートムーブ!$C$4:$F$13,4,0))","v":"-"},{"$f":"IF(H1891=\"\",\"-\",VLOOKUP(V1891,読み替え表_スマートムーブ!$C$16:$F$21,4,0))","v":"-"},"-",null,null,null,null,0,0,0,0,0,0,"*"]
[null,null,1883,null,null,null,null,null,null,null,null,null,null,null,null,null,null,null,null,null,null,null,null,null,null,null,null,null,null,null,null,null,null,null,null,{"$f":"IF(H1892=\"\",\"-\",VLOOKUP(T1892,読み替え表_スマートムーブ!$C$4:$F$13,4,0))","v":"-"},{"$f":"IF(H1892=\"\",\"-\",VLOOKUP(V1892,読み替え表_スマートムーブ!$C$16:$F$21,4,0))","v":"-"},"-",null,null,null,null,0,0,0,0,0,0,"*"]
[null,null,1884,null,null,null,null,null,null,null,null,null,null,null,null,null,null,null,null,null,null,null,null,null,null,null,null,null,null,null,null,null,null,null,null,{"$f":"IF(H1893=\"\",\"-\",VLOOKUP(T1893,読み替え表_スマートムーブ!$C$4:$F$13,4,0))","v":"-"},{"$f":"IF(H1893=\"\",\"-\",VLOOKUP(V1893,読み替え表_スマートムーブ!$C$16:$F$21,4,0))","v":"-"},"-",null,null,null,null,0,0,0,0,0,0,"*"]
[null,null,1885,null,null,null,null,null,null,null,null,null,null,null,null,null,null,null,null,null,null,null,null,null,null,null,null,null,null,null,null,null,null,null,null,{"$f":"IF(H1894=\"\",\"-\",VLOOKUP(T1894,読み替え表_スマートムーブ!$C$4:$F$13,4,0))","v":"-"},{"$f":"IF(H1894=\"\",\"-\",VLOOKUP(V1894,読み替え表_スマートムーブ!$C$16:$F$21,4,0))","v":"-"},"-",null,null,null,null,0,0,0,0,0,0,"*"]
[null,null,1886,null,null,null,null,null,null,null,null,null,null,null,null,null,null,null,null,null,null,null,null,null,null,null,null,null,null,null,null,null,null,null,null,{"$f":"IF(H1895=\"\",\"-\",VLOOKUP(T1895,読み替え表_スマートムーブ!$C$4:$F$13,4,0))","v":"-"},{"$f":"IF(H1895=\"\",\"-\",VLOOKUP(V1895,読み替え表_スマートムーブ!$C$16:$F$21,4,0))","v":"-"},"-",null,null,null,null,0,0,0,0,0,0,"*"]
[null,null,1887,null,null,null,null,null,null,null,null,null,null,null,null,null,null,null,null,null,null,null,null,null,null,null,null,null,null,null,null,null,null,null,null,{"$f":"IF(H1896=\"\",\"-\",VLOOKUP(T1896,読み替え表_スマートムーブ!$C$4:$F$13,4,0))","v":"-"},{"$f":"IF(H1896=\"\",\"-\",VLOOKUP(V1896,読み替え表_スマートムーブ!$C$16:$F$21,4,0))","v":"-"},"-",null,null,null,null,0,0,0,0,0,0,"*"]
[null,null,1888,null,null,null,null,null,null,null,null,null,null,null,null,null,null,null,null,null,null,null,null,null,null,null,null,null,null,null,null,null,null,null,null,{"$f":"IF(H1897=\"\",\"-\",VLOOKUP(T1897,読み替え表_スマートムーブ!$C$4:$F$13,4,0))","v":"-"},{"$f":"IF(H1897=\"\",\"-\",VLOOKUP(V1897,読み替え表_スマートムーブ!$C$16:$F$21,4,0))","v":"-"},"-",null,null,null,null,0,0,0,0,0,0,"*"]
[null,null,1889,null,null,null,null,null,null,null,null,null,null,null,null,null,null,null,null,null,null,null,null,null,null,null,null,null,null,null,null,null,null,null,null,{"$f":"IF(H1898=\"\",\"-\",VLOOKUP(T1898,読み替え表_スマートムーブ!$C$4:$F$13,4,0))","v":"-"},{"$f":"IF(H1898=\"\",\"-\",VLOOKUP(V1898,読み替え表_スマートムーブ!$C$16:$F$21,4,0))","v":"-"},"-",null,null,null,null,0,0,0,0,0,0,"*"]
[null,null,1890,null,null,null,null,null,null,null,null,null,null,null,null,null,null,null,null,null,null,null,null,null,null,null,null,null,null,null,null,null,null,null,null,{"$f":"IF(H1899=\"\",\"-\",VLOOKUP(T1899,読み替え表_スマートムーブ!$C$4:$F$13,4,0))","v":"-"},{"$f":"IF(H1899=\"\",\"-\",VLOOKUP(V1899,読み替え表_スマートムーブ!$C$16:$F$21,4,0))","v":"-"},"-",null,null,null,null,0,0,0,0,0,0,"*"]
[null,null,1891,null,null,null,null,null,null,null,null,null,null,null,null,null,null,null,null,null,null,null,null,null,null,null,null,null,null,null,null,null,null,null,null,{"$f":"IF(H1900=\"\",\"-\",VLOOKUP(T1900,読み替え表_スマートムーブ!$C$4:$F$13,4,0))","v":"-"},{"$f":"IF(H1900=\"\",\"-\",VLOOKUP(V1900,読み替え表_スマートムーブ!$C$16:$F$21,4,0))","v":"-"},"-",null,null,null,null,0,0,0,0,0,0,"*"]
[null,null,1892,null,null,null,null,null,null,null,null,null,null,null,null,null,null,null,null,null,null,null,null,null,null,null,null,null,null,null,null,null,null,null,null,{"$f":"IF(H1901=\"\",\"-\",VLOOKUP(T1901,読み替え表_スマートムーブ!$C$4:$F$13,4,0))","v":"-"},{"$f":"IF(H1901=\"\",\"-\",VLOOKUP(V1901,読み替え表_スマートムーブ!$C$16:$F$21,4,0))","v":"-"},"-",null,null,null,null,0,0,0,0,0,0,"*"]
[null,null,1893,null,null,null,null,null,null,null,null,null,null,null,null,null,null,null,null,null,null,null,null,null,null,null,null,null,null,null,null,null,null,null,null,{"$f":"IF(H1902=\"\",\"-\",VLOOKUP(T1902,読み替え表_スマートムーブ!$C$4:$F$13,4,0))","v":"-"},{"$f":"IF(H1902=\"\",\"-\",VLOOKUP(V1902,読み替え表_スマートムーブ!$C$16:$F$21,4,0))","v":"-"},"-",null,null,null,null,0,0,0,0,0,0,"*"]
[null,null,1894,null,null,null,null,null,null,null,null,null,null,null,null,null,null,null,null,null,null,null,null,null,null,null,null,null,null,null,null,null,null,null,null,{"$f":"IF(H1903=\"\",\"-\",VLOOKUP(T1903,読み替え表_スマートムーブ!$C$4:$F$13,4,0))","v":"-"},{"$f":"IF(H1903=\"\",\"-\",VLOOKUP(V1903,読み替え表_スマートムーブ!$C$16:$F$21,4,0))","v":"-"},"-",null,null,null,null,0,0,0,0,0,0,"*"]
[null,null,1895,null,null,null,null,null,null,null,null,null,null,null,null,null,null,null,null,null,null,null,null,null,null,null,null,null,null,null,null,null,null,null,null,{"$f":"IF(H1904=\"\",\"-\",VLOOKUP(T1904,読み替え表_スマートムーブ!$C$4:$F$13,4,0))","v":"-"},{"$f":"IF(H1904=\"\",\"-\",VLOOKUP(V1904,読み替え表_スマートムーブ!$C$16:$F$21,4,0))","v":"-"},"-",null,null,null,null,0,0,0,0,0,0,"*"]
[null,null,1896,null,null,null,null,null,null,null,null,null,null,null,null,null,null,null,null,null,null,null,null,null,null,null,null,null,null,null,null,null,null,null,null,{"$f":"IF(H1905=\"\",\"-\",VLOOKUP(T1905,読み替え表_スマートムーブ!$C$4:$F$13,4,0))","v":"-"},{"$f":"IF(H1905=\"\",\"-\",VLOOKUP(V1905,読み替え表_スマートムーブ!$C$16:$F$21,4,0))","v":"-"},"-",null,null,null,null,0,0,0,0,0,0,"*"]
[null,null,1897,null,null,null,null,null,null,null,null,null,null,null,null,null,null,null,null,null,null,null,null,null,null,null,null,null,null,null,null,null,null,null,null,{"$f":"IF(H1906=\"\",\"-\",VLOOKUP(T1906,読み替え表_スマートムーブ!$C$4:$F$13,4,0))","v":"-"},{"$f":"IF(H1906=\"\",\"-\",VLOOKUP(V1906,読み替え表_スマートムーブ!$C$16:$F$21,4,0))","v":"-"},{"$f":"IF(H1906=\"\",\"-\",AJ1906*AK1906)","v":"-"},null,null,null,null,0,0,0,0,0,0,"*"]
[null,null,1898,null,null,null,null,null,null,null,null,null,null,null,null,null,null,null,null,null,null,null,null,null,null,null,null,null,null,null,null,null,null,null,null,{"$f":"IF(H1907=\"\",\"-\",VLOOKUP(T1907,読み替え表_スマートムーブ!$C$4:$F$13,4,0))","v":"-"},{"$f":"IF(H1907=\"\",\"-\",VLOOKUP(V1907,読み替え表_スマートムーブ!$C$16:$F$21,4,0))","v":"-"},"-",null,null,null,null,0,0,0,0,0,0,"*"]
[null,null,1899,null,null,null,null,null,null,null,null,null,null,null,null,null,null,null,null,null,null,null,null,null,null,null,null,null,null,null,null,null,null,null,null,{"$f":"IF(H1908=\"\",\"-\",VLOOKUP(T1908,読み替え表_スマートムーブ!$C$4:$F$13,4,0))","v":"-"},{"$f":"IF(H1908=\"\",\"-\",VLOOKUP(V1908,読み替え表_スマートムーブ!$C$16:$F$21,4,0))","v":"-"},"-",null,null,null,null,0,0,0,0,0,0,"*"]
[null,null,1900,null,null,null,null,null,null,null,null,null,null,null,null,null,null,null,null,null,null,null,null,null,null,null,null,null,null,null,null,null,null,null,null,{"$f":"IF(H1909=\"\",\"-\",VLOOKUP(T1909,読み替え表_スマートムーブ!$C$4:$F$13,4,0))","v":"-"},{"$f":"IF(H1909=\"\",\"-\",VLOOKUP(V1909,読み替え表_スマートムーブ!$C$16:$F$21,4,0))","v":"-"},"-",null,null,null,null,0,0,0,0,0,0,"*"]
[null,null,1901,null,null,null,null,null,null,null,null,null,null,null,null,null,null,null,null,null,null,null,null,null,null,null,null,null,null,null,null,null,null,null,null,{"$f":"IF(H1910=\"\",\"-\",VLOOKUP(T1910,読み替え表_スマートムーブ!$C$4:$F$13,4,0))","v":"-"},{"$f":"IF(H1910=\"\",\"-\",VLOOKUP(V1910,読み替え表_スマートムーブ!$C$16:$F$21,4,0))","v":"-"},"-",null,null,null,null,0,0,0,0,0,0,"*"]
[null,null,1902,null,null,null,null,null,null,null,null,null,null,null,null,null,null,null,null,null,null,null,null,null,null,null,null,null,null,null,null,null,null,null,null,{"$f":"IF(H1911=\"\",\"-\",VLOOKUP(T1911,読み替え表_スマートムーブ!$C$4:$F$13,4,0))","v":"-"},{"$f":"IF(H1911=\"\",\"-\",VLOOKUP(V1911,読み替え表_スマートムーブ!$C$16:$F$21,4,0))","v":"-"},"-",null,null,null,null,0,0,0,0,0,0,"*"]
[null,null,1903,null,null,null,null,null,null,null,null,null,null,null,null,null,null,null,null,null,null,null,null,null,null,null,null,null,null,null,null,null,null,null,null,{"$f":"IF(H1912=\"\",\"-\",VLOOKUP(T1912,読み替え表_スマートムーブ!$C$4:$F$13,4,0))","v":"-"},{"$f":"IF(H1912=\"\",\"-\",VLOOKUP(V1912,読み替え表_スマートムーブ!$C$16:$F$21,4,0))","v":"-"},"-",null,null,null,null,0,0,0,0,0,0,"*"]
[null,null,1904,null,null,null,null,null,null,null,null,null,null,null,null,null,null,null,null,null,null,null,null,null,null,null,null,null,null,null,null,null,null,null,null,{"$f":"IF(H1913=\"\",\"-\",VLOOKUP(T1913,読み替え表_スマートムーブ!$C$4:$F$13,4,0))","v":"-"},{"$f":"IF(H1913=\"\",\"-\",VLOOKUP(V1913,読み替え表_スマートムーブ!$C$16:$F$21,4,0))","v":"-"},"-",null,null,null,null,0,0,0,0,0,0,"*"]
[null,null,1905,null,null,null,null,null,null,null,null,null,null,null,null,null,null,null,null,null,null,null,null,null,null,null,null,null,null,null,null,null,null,null,null,{"$f":"IF(H1914=\"\",\"-\",VLOOKUP(T1914,読み替え表_スマートムーブ!$C$4:$F$13,4,0))","v":"-"},{"$f":"IF(H1914=\"\",\"-\",VLOOKUP(V1914,読み替え表_スマートムーブ!$C$16:$F$21,4,0))","v":"-"},"-",null,null,null,null,0,0,0,0,0,0,"*"]
[null,null,1906,null,null,null,null,null,null,null,null,null,null,null,null,null,null,null,null,null,null,null,null,null,null,null,null,null,null,null,null,null,null,null,null,{"$f":"IF(H1915=\"\",\"-\",VLOOKUP(T1915,読み替え表_スマートムーブ!$C$4:$F$13,4,0))","v":"-"},{"$f":"IF(H1915=\"\",\"-\",VLOOKUP(V1915,読み替え表_スマートムーブ!$C$16:$F$21,4,0))","v":"-"},"-",null,null,null,null,0,0,0,0,0,0,"*"]
[null,null,1907,null,null,null,null,null,null,null,null,null,null,null,null,null,null,null,null,null,null,null,null,null,null,null,null,null,null,null,null,null,null,null,null,{"$f":"IF(H1916=\"\",\"-\",VLOOKUP(T1916,読み替え表_スマートムーブ!$C$4:$F$13,4,0))","v":"-"},{"$f":"IF(H1916=\"\",\"-\",VLOOKUP(V1916,読み替え表_スマートムーブ!$C$16:$F$21,4,0))","v":"-"},"-",null,null,null,null,0,0,0,0,0,0,"*"]
[null,null,1908,null,null,null,null,null,null,null,null,null,null,null,null,null,null,null,null,null,null,null,null,null,null,null,null,null,null,null,null,null,null,null,null,{"$f":"IF(H1917=\"\",\"-\",VLOOKUP(T1917,読み替え表_スマートムーブ!$C$4:$F$13,4,0))","v":"-"},{"$f":"IF(H1917=\"\",\"-\",VLOOKUP(V1917,読み替え表_スマートムーブ!$C$16:$F$21,4,0))","v":"-"},"-",null,null,null,null,0,0,0,0,0,0,"*"]
[null,null,1909,null,null,null,null,null,null,null,null,null,null,null,null,null,null,null,null,null,null,null,null,null,null,null,null,null,null,null,null,null,null,null,null,{"$f":"IF(H1918=\"\",\"-\",VLOOKUP(T1918,読み替え表_スマートムーブ!$C$4:$F$13,4,0))","v":"-"},{"$f":"IF(H1918=\"\",\"-\",VLOOKUP(V1918,読み替え表_スマートムーブ!$C$16:$F$21,4,0))","v":"-"},"-",null,null,null,null,0,0,0,0,0,0,"*"]
[null,null,1910,null,null,null,null,null,null,null,null,null,null,null,null,null,null,null,null,null,null,null,null,null,null,null,null,null,null,null,null,null,null,null,null,{"$f":"IF(H1919=\"\",\"-\",VLOOKUP(T1919,読み替え表_スマートムーブ!$C$4:$F$13,4,0))","v":"-"},{"$f":"IF(H1919=\"\",\"-\",VLOOKUP(V1919,読み替え表_スマートムーブ!$C$16:$F$21,4,0))","v":"-"},"-",null,null,null,null,0,0,0,0,0,0,"*"]
[null,null,1911,null,null,null,null,null,null,null,null,null,null,null,null,null,null,null,null,null,null,null,null,null,null,null,null,null,null,null,null,null,null,null,null,{"$f":"IF(H1920=\"\",\"-\",VLOOKUP(T1920,読み替え表_スマートムーブ!$C$4:$F$13,4,0))","v":"-"},{"$f":"IF(H1920=\"\",\"-\",VLOOKUP(V1920,読み替え表_スマートムーブ!$C$16:$F$21,4,0))","v":"-"},"-",null,null,null,null,0,0,0,0,0,0,"*"]
[null,null,1912,null,null,null,null,null,null,null,null,null,null,null,null,null,null,null,null,null,null,null,null,null,null,null,null,null,null,null,null,null,null,null,null,{"$f":"IF(H1921=\"\",\"-\",VLOOKUP(T1921,読み替え表_スマートムーブ!$C$4:$F$13,4,0))","v":"-"},{"$f":"IF(H1921=\"\",\"-\",VLOOKUP(V1921,読み替え表_スマートムーブ!$C$16:$F$21,4,0))","v":"-"},"-",null,null,null,null,0,0,0,0,0,0,"*"]
[null,null,1913,null,null,null,null,null,null,null,null,null,null,null,null,null,null,null,null,null,null,null,null,null,null,null,null,null,null,null,null,null,null,null,null,{"$f":"IF(H1922=\"\",\"-\",VLOOKUP(T1922,読み替え表_スマートムーブ!$C$4:$F$13,4,0))","v":"-"},{"$f":"IF(H1922=\"\",\"-\",VLOOKUP(V1922,読み替え表_スマートムーブ!$C$16:$F$21,4,0))","v":"-"},"-",null,null,null,null,0,0,0,0,0,0,"*"]
[null,null,1914,null,null,null,null,null,null,null,null,null,null,null,null,null,null,null,null,null,null,null,null,null,null,null,null,null,null,null,null,null,null,null,null,{"$f":"IF(H1923=\"\",\"-\",VLOOKUP(T1923,読み替え表_スマートムーブ!$C$4:$F$13,4,0))","v":"-"},{"$f":"IF(H1923=\"\",\"-\",VLOOKUP(V1923,読み替え表_スマートムーブ!$C$16:$F$21,4,0))","v":"-"},"-",null,null,null,null,0,0,0,0,0,0,"*"]
[null,null,1915,null,null,null,null,null,null,null,null,null,null,null,null,null,null,null,null,null,null,null,null,null,null,null,null,null,null,null,null,null,null,null,null,{"$f":"IF(H1924=\"\",\"-\",VLOOKUP(T1924,読み替え表_スマートムーブ!$C$4:$F$13,4,0))","v":"-"},{"$f":"IF(H1924=\"\",\"-\",VLOOKUP(V1924,読み替え表_スマートムーブ!$C$16:$F$21,4,0))","v":"-"},"-",null,null,null,null,0,0,0,0,0,0,"*"]
[null,null,1916,null,null,null,null,null,null,null,null,null,null,null,null,null,null,null,null,null,null,null,null,null,null,null,null,null,null,null,null,null,null,null,null,{"$f":"IF(H1925=\"\",\"-\",VLOOKUP(T1925,読み替え表_スマートムーブ!$C$4:$F$13,4,0))","v":"-"},{"$f":"IF(H1925=\"\",\"-\",VLOOKUP(V1925,読み替え表_スマートムーブ!$C$16:$F$21,4,0))","v":"-"},"-",null,null,null,null,0,0,0,0,0,0,"*"]
[null,null,1917,null,null,null,null,null,null,null,null,null,null,null,null,null,null,null,null,null,null,null,null,null,null,null,null,null,null,null,null,null,null,null,null,{"$f":"IF(H1926=\"\",\"-\",VLOOKUP(T1926,読み替え表_スマートムーブ!$C$4:$F$13,4,0))","v":"-"},{"$f":"IF(H1926=\"\",\"-\",VLOOKUP(V1926,読み替え表_スマートムーブ!$C$16:$F$21,4,0))","v":"-"},"-",null,null,null,null,0,0,0,0,0,0,"*"]
[null,null,1918,null,null,null,null,null,null,null,null,null,null,null,null,null,null,null,null,null,null,null,null,null,null,null,null,null,null,null,null,null,null,null,null,{"$f":"IF(H1927=\"\",\"-\",VLOOKUP(T1927,読み替え表_スマートムーブ!$C$4:$F$13,4,0))","v":"-"},{"$f":"IF(H1927=\"\",\"-\",VLOOKUP(V1927,読み替え表_スマートムーブ!$C$16:$F$21,4,0))","v":"-"},"-",null,null,null,null,0,0,0,0,0,0,"*"]
[null,null,1919,null,null,null,null,null,null,null,null,null,null,null,null,null,null,null,null,null,null,null,null,null,null,null,null,null,null,null,null,null,null,null,null,{"$f":"IF(H1928=\"\",\"-\",VLOOKUP(T1928,読み替え表_スマートムーブ!$C$4:$F$13,4,0))","v":"-"},{"$f":"IF(H1928=\"\",\"-\",VLOOKUP(V1928,読み替え表_スマートムーブ!$C$16:$F$21,4,0))","v":"-"},"-",null,null,null,null,0,0,0,0,0,0,"*"]
[null,null,1920,null,null,null,null,null,null,null,null,null,null,null,null,null,null,null,null,null,null,null,null,null,null,null,null,null,null,null,null,null,null,null,null,{"$f":"IF(H1929=\"\",\"-\",VLOOKUP(T1929,読み替え表_スマートムーブ!$C$4:$F$13,4,0))","v":"-"},{"$f":"IF(H1929=\"\",\"-\",VLOOKUP(V1929,読み替え表_スマートムーブ!$C$16:$F$21,4,0))","v":"-"},"-",null,null,null,null,0,0,0,0,0,0,"*"]
[null,null,1921,null,null,null,null,null,null,null,null,null,null,null,null,null,null,null,null,null,null,null,null,null,null,null,null,null,null,null,null,null,null,null,null,{"$f":"IF(H1930=\"\",\"-\",VLOOKUP(T1930,読み替え表_スマートムーブ!$C$4:$F$13,4,0))","v":"-"},{"$f":"IF(H1930=\"\",\"-\",VLOOKUP(V1930,読み替え表_スマートムーブ!$C$16:$F$21,4,0))","v":"-"},"-",null,null,null,null,0,0,0,0,0,{"$f":"AQ1930","v":0},"*"]
[null,null,{"$f":"ROW()-9","v":1922},null,null,null,null,null,null,null,null,null,null,null,null,null,null,null,null,null,null,null,null,null,null,null,null,null,null,null,null,null,null,null,null,{"$f":"IF(H1931=\"\",\"-\",VLOOKUP(T1931,読み替え表_スマートムーブ!$C$4:$F$13,4,0))","v":"-"},{"$f":"IF(H1931=\"\",\"-\",VLOOKUP(V1931,読み替え表_スマートムーブ!$C$16:$F$21,4,0))","v":"-"},"-",null,null,null,null,{"$f":"IF(SUM($AR1931:$AT1931)>=1,1,0)","v":0},{"$f":"IF(R1931=1,1,0)","v":0},{"$f":"IF(T1931=9,1,0)","v":0},{"$f":"IF(V1931=5,1,0)","v":0},{"$f":"IF(OR($X1931=1,$X1931=2,$X1931=3),1,0)","v":0},0,"*"]
[null,null,1923,null,null,null,null,null,null,null,null,null,null,null,null,null,null,null,null,null,null,null,null,null,null,null,null,null,null,null,null,null,null,null,null,{"$f":"IF(H1932=\"\",\"-\",VLOOKUP(T1932,読み替え表_スマートムーブ!$C$4:$F$13,4,0))","v":"-"},{"$f":"IF(H1932=\"\",\"-\",VLOOKUP(V1932,読み替え表_スマートムーブ!$C$16:$F$21,4,0))","v":"-"},"-",null,null,null,null,0,0,0,0,0,0,"*"]
[null,null,1924,null,null,null,null,null,null,null,null,null,null,null,null,null,null,null,null,null,null,null,null,null,null,null,null,null,null,null,null,null,null,null,null,{"$f":"IF(H1933=\"\",\"-\",VLOOKUP(T1933,読み替え表_スマートムーブ!$C$4:$F$13,4,0))","v":"-"},{"$f":"IF(H1933=\"\",\"-\",VLOOKUP(V1933,読み替え表_スマートムーブ!$C$16:$F$21,4,0))","v":"-"},"-",null,null,null,null,0,0,0,0,0,0,"*"]
[null,null,1925,null,null,null,null,null,null,null,null,null,null,null,null,null,null,null,null,null,null,null,null,null,null,null,null,null,null,null,null,null,null,null,null,{"$f":"IF(H1934=\"\",\"-\",VLOOKUP(T1934,読み替え表_スマートムーブ!$C$4:$F$13,4,0))","v":"-"},{"$f":"IF(H1934=\"\",\"-\",VLOOKUP(V1934,読み替え表_スマートムーブ!$C$16:$F$21,4,0))","v":"-"},"-",null,null,null,null,0,0,0,0,0,0,"*"]
[null,null,1926,null,null,null,null,null,null,null,null,null,null,null,null,null,null,null,null,null,null,null,null,null,null,null,null,null,null,null,null,null,null,null,null,{"$f":"IF(H1935=\"\",\"-\",VLOOKUP(T1935,読み替え表_スマートムーブ!$C$4:$F$13,4,0))","v":"-"},{"$f":"IF(H1935=\"\",\"-\",VLOOKUP(V1935,読み替え表_スマートムーブ!$C$16:$F$21,4,0))","v":"-"},"-",null,null,null,null,0,0,0,0,0,0,"*"]
[null,null,1927,null,null,null,null,null,null,null,null,null,null,null,null,null,null,null,null,null,null,null,null,null,null,null,null,null,null,null,null,null,null,null,null,{"$f":"IF(H1936=\"\",\"-\",VLOOKUP(T1936,読み替え表_スマートムーブ!$C$4:$F$13,4,0))","v":"-"},{"$f":"IF(H1936=\"\",\"-\",VLOOKUP(V1936,読み替え表_スマートムーブ!$C$16:$F$21,4,0))","v":"-"},"-",null,null,null,null,0,0,0,0,0,0,"*"]
[null,null,1928,null,null,null,null,null,null,null,null,null,null,null,null,null,null,null,null,null,null,null,null,null,null,null,null,null,null,null,null,null,null,null,null,{"$f":"IF(H1937=\"\",\"-\",VLOOKUP(T1937,読み替え表_スマートムーブ!$C$4:$F$13,4,0))","v":"-"},{"$f":"IF(H1937=\"\",\"-\",VLOOKUP(V1937,読み替え表_スマートムーブ!$C$16:$F$21,4,0))","v":"-"},"-",null,null,null,null,0,0,0,0,0,0,"*"]
[null,null,1929,null,null,null,null,null,null,null,null,null,null,null,null,null,null,null,null,null,null,null,null,null,null,null,null,null,null,null,null,null,null,null,null,{"$f":"IF(H1938=\"\",\"-\",VLOOKUP(T1938,読み替え表_スマートムーブ!$C$4:$F$13,4,0))","v":"-"},{"$f":"IF(H1938=\"\",\"-\",VLOOKUP(V1938,読み替え表_スマートムーブ!$C$16:$F$21,4,0))","v":"-"},"-",null,null,null,null,0,0,0,0,0,0,"*"]
[null,null,1930,null,null,null,null,null,null,null,null,null,null,null,null,null,null,null,null,null,null,null,null,null,null,null,null,null,null,null,null,null,null,null,null,{"$f":"IF(H1939=\"\",\"-\",VLOOKUP(T1939,読み替え表_スマートムーブ!$C$4:$F$13,4,0))","v":"-"},{"$f":"IF(H1939=\"\",\"-\",VLOOKUP(V1939,読み替え表_スマートムーブ!$C$16:$F$21,4,0))","v":"-"},"-",null,null,null,null,0,0,0,0,0,0,"*"]
[null,null,1931,null,null,null,null,null,null,null,null,null,null,null,null,null,null,null,null,null,null,null,null,null,null,null,null,null,null,null,null,null,null,null,null,{"$f":"IF(H1940=\"\",\"-\",VLOOKUP(T1940,読み替え表_スマートムーブ!$C$4:$F$13,4,0))","v":"-"},{"$f":"IF(H1940=\"\",\"-\",VLOOKUP(V1940,読み替え表_スマートムーブ!$C$16:$F$21,4,0))","v":"-"},"-",null,null,null,null,0,0,0,0,0,0,"*"]
[null,null,1932,null,null,null,null,null,null,null,null,null,null,null,null,null,null,null,null,null,null,null,null,null,null,null,null,null,null,null,null,null,null,null,null,{"$f":"IF(H1941=\"\",\"-\",VLOOKUP(T1941,読み替え表_スマートムーブ!$C$4:$F$13,4,0))","v":"-"},{"$f":"IF(H1941=\"\",\"-\",VLOOKUP(V1941,読み替え表_スマートムーブ!$C$16:$F$21,4,0))","v":"-"},"-",null,null,null,null,0,0,0,0,0,0,"*"]
[null,null,1933,null,null,null,null,null,null,null,null,null,null,null,null,null,null,null,null,null,null,null,null,null,null,null,null,null,null,null,null,null,null,null,null,{"$f":"IF(H1942=\"\",\"-\",VLOOKUP(T1942,読み替え表_スマートムーブ!$C$4:$F$13,4,0))","v":"-"},{"$f":"IF(H1942=\"\",\"-\",VLOOKUP(V1942,読み替え表_スマートムーブ!$C$16:$F$21,4,0))","v":"-"},"-",null,null,null,null,0,0,0,0,0,0,"*"]
[null,null,1934,null,null,null,null,null,null,null,null,null,null,null,null,null,null,null,null,null,null,null,null,null,null,null,null,null,null,null,null,null,null,null,null,{"$f":"IF(H1943=\"\",\"-\",VLOOKUP(T1943,読み替え表_スマートムーブ!$C$4:$F$13,4,0))","v":"-"},{"$f":"IF(H1943=\"\",\"-\",VLOOKUP(V1943,読み替え表_スマートムーブ!$C$16:$F$21,4,0))","v":"-"},"-",null,null,null,null,0,0,0,0,0,0,"*"]
[null,null,1935,null,null,null,null,null,null,null,null,null,null,null,null,null,null,null,null,null,null,null,null,null,null,null,null,null,null,null,null,null,null,null,null,{"$f":"IF(H1944=\"\",\"-\",VLOOKUP(T1944,読み替え表_スマートムーブ!$C$4:$F$13,4,0))","v":"-"},{"$f":"IF(H1944=\"\",\"-\",VLOOKUP(V1944,読み替え表_スマートムーブ!$C$16:$F$21,4,0))","v":"-"},"-",null,null,null,null,0,0,0,0,0,0,"*"]
[null,null,1936,null,null,null,null,null,null,null,null,null,null,null,null,null,null,null,null,null,null,null,null,null,null,null,null,null,null,null,null,null,null,null,null,{"$f":"IF(H1945=\"\",\"-\",VLOOKUP(T1945,読み替え表_スマートムーブ!$C$4:$F$13,4,0))","v":"-"},{"$f":"IF(H1945=\"\",\"-\",VLOOKUP(V1945,読み替え表_スマートムーブ!$C$16:$F$21,4,0))","v":"-"},"-",null,null,null,null,0,0,0,0,0,0,"*"]
[null,null,1937,null,null,null,null,null,null,null,null,null,null,null,null,null,null,null,null,null,null,null,null,null,null,null,null,null,null,null,null,null,null,null,null,{"$f":"IF(H1946=\"\",\"-\",VLOOKUP(T1946,読み替え表_スマートムーブ!$C$4:$F$13,4,0))","v":"-"},{"$f":"IF(H1946=\"\",\"-\",VLOOKUP(V1946,読み替え表_スマートムーブ!$C$16:$F$21,4,0))","v":"-"},"-",null,null,null,null,0,0,0,0,0,0,"*"]
[null,null,1938,null,null,null,null,null,null,null,null,null,null,null,null,null,null,null,null,null,null,null,null,null,null,null,null,null,null,null,null,null,null,null,null,{"$f":"IF(H1947=\"\",\"-\",VLOOKUP(T1947,読み替え表_スマートムーブ!$C$4:$F$13,4,0))","v":"-"},{"$f":"IF(H1947=\"\",\"-\",VLOOKUP(V1947,読み替え表_スマートムーブ!$C$16:$F$21,4,0))","v":"-"},"-",null,null,null,null,0,0,0,0,0,0,"*"]
[null,null,1939,null,null,null,null,null,null,null,null,null,null,null,null,null,null,null,null,null,null,null,null,null,null,null,null,null,null,null,null,null,null,null,null,{"$f":"IF(H1948=\"\",\"-\",VLOOKUP(T1948,読み替え表_スマートムーブ!$C$4:$F$13,4,0))","v":"-"},{"$f":"IF(H1948=\"\",\"-\",VLOOKUP(V1948,読み替え表_スマートムーブ!$C$16:$F$21,4,0))","v":"-"},"-",null,null,null,null,0,0,0,0,0,0,"*"]
[null,null,1940,null,null,null,null,null,null,null,null,null,null,null,null,null,null,null,null,null,null,null,null,null,null,null,null,null,null,null,null,null,null,null,null,{"$f":"IF(H1949=\"\",\"-\",VLOOKUP(T1949,読み替え表_スマートムーブ!$C$4:$F$13,4,0))","v":"-"},{"$f":"IF(H1949=\"\",\"-\",VLOOKUP(V1949,読み替え表_スマートムーブ!$C$16:$F$21,4,0))","v":"-"},"-",null,null,null,null,0,0,0,0,0,0,"*"]
[null,null,1941,null,null,null,null,null,null,null,null,null,null,null,null,null,null,null,null,null,null,null,null,null,null,null,null,null,null,null,null,null,null,null,null,{"$f":"IF(H1950=\"\",\"-\",VLOOKUP(T1950,読み替え表_スマートムーブ!$C$4:$F$13,4,0))","v":"-"},{"$f":"IF(H1950=\"\",\"-\",VLOOKUP(V1950,読み替え表_スマートムーブ!$C$16:$F$21,4,0))","v":"-"},"-",null,null,null,null,0,0,0,0,0,0,"*"]
[null,null,1942,null,null,null,null,null,null,null,null,null,null,null,null,null,null,null,null,null,null,null,null,null,null,null,null,null,null,null,null,null,null,null,null,{"$f":"IF(H1951=\"\",\"-\",VLOOKUP(T1951,読み替え表_スマートムーブ!$C$4:$F$13,4,0))","v":"-"},{"$f":"IF(H1951=\"\",\"-\",VLOOKUP(V1951,読み替え表_スマートムーブ!$C$16:$F$21,4,0))","v":"-"},"-",null,null,null,null,0,0,0,0,0,0,"*"]
[null,null,1943,null,null,null,null,null,null,null,null,null,null,null,null,null,null,null,null,null,null,null,null,null,null,null,null,null,null,null,null,null,null,null,null,{"$f":"IF(H1952=\"\",\"-\",VLOOKUP(T1952,読み替え表_スマートムーブ!$C$4:$F$13,4,0))","v":"-"},{"$f":"IF(H1952=\"\",\"-\",VLOOKUP(V1952,読み替え表_スマートムーブ!$C$16:$F$21,4,0))","v":"-"},"-",null,null,null,null,0,0,0,0,0,0,"*"]
[null,null,1944,null,null,null,null,null,null,null,null,null,null,null,null,null,null,null,null,null,null,null,null,null,null,null,null,null,null,null,null,null,null,null,null,{"$f":"IF(H1953=\"\",\"-\",VLOOKUP(T1953,読み替え表_スマートムーブ!$C$4:$F$13,4,0))","v":"-"},{"$f":"IF(H1953=\"\",\"-\",VLOOKUP(V1953,読み替え表_スマートムーブ!$C$16:$F$21,4,0))","v":"-"},"-",null,null,null,null,0,0,0,0,0,0,"*"]
[null,null,1945,null,null,null,null,null,null,null,null,null,null,null,null,null,null,null,null,null,null,null,null,null,null,null,null,null,null,null,null,null,null,null,null,{"$f":"IF(H1954=\"\",\"-\",VLOOKUP(T1954,読み替え表_スマートムーブ!$C$4:$F$13,4,0))","v":"-"},{"$f":"IF(H1954=\"\",\"-\",VLOOKUP(V1954,読み替え表_スマートムーブ!$C$16:$F$21,4,0))","v":"-"},"-",null,null,null,null,0,0,0,0,0,0,"*"]
[null,null,1946,null,null,null,null,null,null,null,null,null,null,null,null,null,null,null,null,null,null,null,null,null,null,null,null,null,null,null,null,null,null,null,null,{"$f":"IF(H1955=\"\",\"-\",VLOOKUP(T1955,読み替え表_スマートムーブ!$C$4:$F$13,4,0))","v":"-"},{"$f":"IF(H1955=\"\",\"-\",VLOOKUP(V1955,読み替え表_スマートムーブ!$C$16:$F$21,4,0))","v":"-"},"-",null,null,null,null,0,0,0,0,0,0,"*"]
[null,null,1947,null,null,null,null,null,null,null,null,null,null,null,null,null,null,null,null,null,null,null,null,null,null,null,null,null,null,null,null,null,null,null,null,{"$f":"IF(H1956=\"\",\"-\",VLOOKUP(T1956,読み替え表_スマートムーブ!$C$4:$F$13,4,0))","v":"-"},{"$f":"IF(H1956=\"\",\"-\",VLOOKUP(V1956,読み替え表_スマートムーブ!$C$16:$F$21,4,0))","v":"-"},"-",null,null,null,null,0,0,0,0,0,0,"*"]
[null,null,1948,null,null,null,null,null,null,null,null,null,null,null,null,null,null,null,null,null,null,null,null,null,null,null,null,null,null,null,null,null,null,null,null,{"$f":"IF(H1957=\"\",\"-\",VLOOKUP(T1957,読み替え表_スマートムーブ!$C$4:$F$13,4,0))","v":"-"},{"$f":"IF(H1957=\"\",\"-\",VLOOKUP(V1957,読み替え表_スマートムーブ!$C$16:$F$21,4,0))","v":"-"},"-",null,null,null,null,0,0,0,0,0,0,"*"]
[null,null,1949,null,null,null,null,null,null,null,null,null,null,null,null,null,null,null,null,null,null,null,null,null,null,null,null,null,null,null,null,null,null,null,null,{"$f":"IF(H1958=\"\",\"-\",VLOOKUP(T1958,読み替え表_スマートムーブ!$C$4:$F$13,4,0))","v":"-"},{"$f":"IF(H1958=\"\",\"-\",VLOOKUP(V1958,読み替え表_スマートムーブ!$C$16:$F$21,4,0))","v":"-"},"-",null,null,null,null,0,0,0,0,0,0,"*"]
[null,null,1950,null,null,null,null,null,null,null,null,null,null,null,null,null,null,null,null,null,null,null,null,null,null,null,null,null,null,null,null,null,null,null,null,{"$f":"IF(H1959=\"\",\"-\",VLOOKUP(T1959,読み替え表_スマートムーブ!$C$4:$F$13,4,0))","v":"-"},{"$f":"IF(H1959=\"\",\"-\",VLOOKUP(V1959,読み替え表_スマートムーブ!$C$16:$F$21,4,0))","v":"-"},"-",null,null,null,null,0,0,0,0,0,0,"*"]
[null,null,1951,null,null,null,null,null,null,null,null,null,null,null,null,null,null,null,null,null,null,null,null,null,null,null,null,null,null,null,null,null,null,null,null,{"$f":"IF(H1960=\"\",\"-\",VLOOKUP(T1960,読み替え表_スマートムーブ!$C$4:$F$13,4,0))","v":"-"},{"$f":"IF(H1960=\"\",\"-\",VLOOKUP(V1960,読み替え表_スマートムーブ!$C$16:$F$21,4,0))","v":"-"},"-",null,null,null,null,0,0,0,0,0,0,"*"]
[null,null,1952,null,null,null,null,null,null,null,null,null,null,null,null,null,null,null,null,null,null,null,null,null,null,null,null,null,null,null,null,null,null,null,null,{"$f":"IF(H1961=\"\",\"-\",VLOOKUP(T1961,読み替え表_スマートムーブ!$C$4:$F$13,4,0))","v":"-"},{"$f":"IF(H1961=\"\",\"-\",VLOOKUP(V1961,読み替え表_スマートムーブ!$C$16:$F$21,4,0))","v":"-"},"-",null,null,null,null,0,0,0,0,0,0,"*"]
[null,null,1953,null,null,null,null,null,null,null,null,null,null,null,null,null,null,null,null,null,null,null,null,null,null,null,null,null,null,null,null,null,null,null,null,{"$f":"IF(H1962=\"\",\"-\",VLOOKUP(T1962,読み替え表_スマートムーブ!$C$4:$F$13,4,0))","v":"-"},{"$f":"IF(H1962=\"\",\"-\",VLOOKUP(V1962,読み替え表_スマートムーブ!$C$16:$F$21,4,0))","v":"-"},"-",null,null,null,null,0,0,0,0,0,0,"*"]
[null,null,1954,null,null,null,null,null,null,null,null,null,null,null,null,null,null,null,null,null,null,null,null,null,null,null,null,null,null,null,null,null,null,null,null,{"$f":"IF(H1963=\"\",\"-\",VLOOKUP(T1963,読み替え表_スマートムーブ!$C$4:$F$13,4,0))","v":"-"},{"$f":"IF(H1963=\"\",\"-\",VLOOKUP(V1963,読み替え表_スマートムーブ!$C$16:$F$21,4,0))","v":"-"},"-",null,null,null,null,0,0,0,0,0,0,"*"]
[null,null,1955,null,null,null,null,null,null,null,null,null,null,null,null,null,null,null,null,null,null,null,null,null,null,null,null,null,null,null,null,null,null,null,null,{"$f":"IF(H1964=\"\",\"-\",VLOOKUP(T1964,読み替え表_スマートムーブ!$C$4:$F$13,4,0))","v":"-"},{"$f":"IF(H1964=\"\",\"-\",VLOOKUP(V1964,読み替え表_スマートムーブ!$C$16:$F$21,4,0))","v":"-"},"-",null,null,null,null,0,0,0,0,0,0,"*"]
[null,null,1956,null,null,null,null,null,null,null,null,null,null,null,null,null,null,null,null,null,null,null,null,null,null,null,null,null,null,null,null,null,null,null,null,{"$f":"IF(H1965=\"\",\"-\",VLOOKUP(T1965,読み替え表_スマートムーブ!$C$4:$F$13,4,0))","v":"-"},{"$f":"IF(H1965=\"\",\"-\",VLOOKUP(V1965,読み替え表_スマートムーブ!$C$16:$F$21,4,0))","v":"-"},"-",null,null,null,null,0,0,0,0,0,0,"*"]
[null,null,1957,null,null,null,null,null,null,null,null,null,null,null,null,null,null,null,null,null,null,null,null,null,null,null,null,null,null,null,null,null,null,null,null,{"$f":"IF(H1966=\"\",\"-\",VLOOKUP(T1966,読み替え表_スマートムーブ!$C$4:$F$13,4,0))","v":"-"},{"$f":"IF(H1966=\"\",\"-\",VLOOKUP(V1966,読み替え表_スマートムーブ!$C$16:$F$21,4,0))","v":"-"},"-",null,null,null,null,0,0,0,0,0,0,"*"]
[null,null,1958,null,null,null,null,null,null,null,null,null,null,null,null,null,null,null,null,null,null,null,null,null,null,null,null,null,null,null,null,null,null,null,null,{"$f":"IF(H1967=\"\",\"-\",VLOOKUP(T1967,読み替え表_スマートムーブ!$C$4:$F$13,4,0))","v":"-"},{"$f":"IF(H1967=\"\",\"-\",VLOOKUP(V1967,読み替え表_スマートムーブ!$C$16:$F$21,4,0))","v":"-"},"-",null,null,null,null,0,0,0,0,0,0,"*"]
[null,null,1959,null,null,null,null,null,null,null,null,null,null,null,null,null,null,null,null,null,null,null,null,null,null,null,null,null,null,null,null,null,null,null,null,{"$f":"IF(H1968=\"\",\"-\",VLOOKUP(T1968,読み替え表_スマートムーブ!$C$4:$F$13,4,0))","v":"-"},{"$f":"IF(H1968=\"\",\"-\",VLOOKUP(V1968,読み替え表_スマートムーブ!$C$16:$F$21,4,0))","v":"-"},"-",null,null,null,null,0,0,0,0,0,0,"*"]
[null,null,1960,null,null,null,null,null,null,null,null,null,null,null,null,null,null,null,null,null,null,null,null,null,null,null,null,null,null,null,null,null,null,null,null,{"$f":"IF(H1969=\"\",\"-\",VLOOKUP(T1969,読み替え表_スマートムーブ!$C$4:$F$13,4,0))","v":"-"},{"$f":"IF(H1969=\"\",\"-\",VLOOKUP(V1969,読み替え表_スマートムーブ!$C$16:$F$21,4,0))","v":"-"},"-",null,null,null,null,0,0,0,0,0,0,"*"]
[null,null,1961,null,null,null,null,null,null,null,null,null,null,null,null,null,null,null,null,null,null,null,null,null,null,null,null,null,null,null,null,null,null,null,null,{"$f":"IF(H1970=\"\",\"-\",VLOOKUP(T1970,読み替え表_スマートムーブ!$C$4:$F$13,4,0))","v":"-"},{"$f":"IF(H1970=\"\",\"-\",VLOOKUP(V1970,読み替え表_スマートムーブ!$C$16:$F$21,4,0))","v":"-"},{"$f":"IF(H1970=\"\",\"-\",AJ1970*AK1970)","v":"-"},null,null,null,null,0,0,0,0,0,0,"*"]
[null,null,1962,null,null,null,null,null,null,null,null,null,null,null,null,null,null,null,null,null,null,null,null,null,null,null,null,null,null,null,null,null,null,null,null,{"$f":"IF(H1971=\"\",\"-\",VLOOKUP(T1971,読み替え表_スマートムーブ!$C$4:$F$13,4,0))","v":"-"},{"$f":"IF(H1971=\"\",\"-\",VLOOKUP(V1971,読み替え表_スマートムーブ!$C$16:$F$21,4,0))","v":"-"},"-",null,null,null,null,0,0,0,0,0,0,"*"]
[null,null,1963,null,null,null,null,null,null,null,null,null,null,null,null,null,null,null,null,null,null,null,null,null,null,null,null,null,null,null,null,null,null,null,null,{"$f":"IF(H1972=\"\",\"-\",VLOOKUP(T1972,読み替え表_スマートムーブ!$C$4:$F$13,4,0))","v":"-"},{"$f":"IF(H1972=\"\",\"-\",VLOOKUP(V1972,読み替え表_スマートムーブ!$C$16:$F$21,4,0))","v":"-"},"-",null,null,null,null,0,0,0,0,0,0,"*"]
[null,null,1964,null,null,null,null,null,null,null,null,null,null,null,null,null,null,null,null,null,null,null,null,null,null,null,null,null,null,null,null,null,null,null,null,{"$f":"IF(H1973=\"\",\"-\",VLOOKUP(T1973,読み替え表_スマートムーブ!$C$4:$F$13,4,0))","v":"-"},{"$f":"IF(H1973=\"\",\"-\",VLOOKUP(V1973,読み替え表_スマートムーブ!$C$16:$F$21,4,0))","v":"-"},"-",null,null,null,null,0,0,0,0,0,0,"*"]
[null,null,1965,null,null,null,null,null,null,null,null,null,null,null,null,null,null,null,null,null,null,null,null,null,null,null,null,null,null,null,null,null,null,null,null,{"$f":"IF(H1974=\"\",\"-\",VLOOKUP(T1974,読み替え表_スマートムーブ!$C$4:$F$13,4,0))","v":"-"},{"$f":"IF(H1974=\"\",\"-\",VLOOKUP(V1974,読み替え表_スマートムーブ!$C$16:$F$21,4,0))","v":"-"},"-",null,null,null,null,0,0,0,0,0,0,"*"]
[null,null,1966,null,null,null,null,null,null,null,null,null,null,null,null,null,null,null,null,null,null,null,null,null,null,null,null,null,null,null,null,null,null,null,null,{"$f":"IF(H1975=\"\",\"-\",VLOOKUP(T1975,読み替え表_スマートムーブ!$C$4:$F$13,4,0))","v":"-"},{"$f":"IF(H1975=\"\",\"-\",VLOOKUP(V1975,読み替え表_スマートムーブ!$C$16:$F$21,4,0))","v":"-"},"-",null,null,null,null,0,0,0,0,0,0,"*"]
[null,null,1967,null,null,null,null,null,null,null,null,null,null,null,null,null,null,null,null,null,null,null,null,null,null,null,null,null,null,null,null,null,null,null,null,{"$f":"IF(H1976=\"\",\"-\",VLOOKUP(T1976,読み替え表_スマートムーブ!$C$4:$F$13,4,0))","v":"-"},{"$f":"IF(H1976=\"\",\"-\",VLOOKUP(V1976,読み替え表_スマートムーブ!$C$16:$F$21,4,0))","v":"-"},"-",null,null,null,null,0,0,0,0,0,0,"*"]
[null,null,1968,null,null,null,null,null,null,null,null,null,null,null,null,null,null,null,null,null,null,null,null,null,null,null,null,null,null,null,null,null,null,null,null,{"$f":"IF(H1977=\"\",\"-\",VLOOKUP(T1977,読み替え表_スマートムーブ!$C$4:$F$13,4,0))","v":"-"},{"$f":"IF(H1977=\"\",\"-\",VLOOKUP(V1977,読み替え表_スマートムーブ!$C$16:$F$21,4,0))","v":"-"},"-",null,null,null,null,0,0,0,0,0,0,"*"]
[null,null,1969,null,null,null,null,null,null,null,null,null,null,null,null,null,null,null,null,null,null,null,null,null,null,null,null,null,null,null,null,null,null,null,null,{"$f":"IF(H1978=\"\",\"-\",VLOOKUP(T1978,読み替え表_スマートムーブ!$C$4:$F$13,4,0))","v":"-"},{"$f":"IF(H1978=\"\",\"-\",VLOOKUP(V1978,読み替え表_スマートムーブ!$C$16:$F$21,4,0))","v":"-"},"-",null,null,null,null,0,0,0,0,0,0,"*"]
[null,null,1970,null,null,null,null,null,null,null,null,null,null,null,null,null,null,null,null,null,null,null,null,null,null,null,null,null,null,null,null,null,null,null,null,{"$f":"IF(H1979=\"\",\"-\",VLOOKUP(T1979,読み替え表_スマートムーブ!$C$4:$F$13,4,0))","v":"-"},{"$f":"IF(H1979=\"\",\"-\",VLOOKUP(V1979,読み替え表_スマートムーブ!$C$16:$F$21,4,0))","v":"-"},"-",null,null,null,null,0,0,0,0,0,0,"*"]
[null,null,1971,null,null,null,null,null,null,null,null,null,null,null,null,null,null,null,null,null,null,null,null,null,null,null,null,null,null,null,null,null,null,null,null,{"$f":"IF(H1980=\"\",\"-\",VLOOKUP(T1980,読み替え表_スマートムーブ!$C$4:$F$13,4,0))","v":"-"},{"$f":"IF(H1980=\"\",\"-\",VLOOKUP(V1980,読み替え表_スマートムーブ!$C$16:$F$21,4,0))","v":"-"},"-",null,null,null,null,0,0,0,0,0,0,"*"]
[null,null,1972,null,null,null,null,null,null,null,null,null,null,null,null,null,null,null,null,null,null,null,null,null,null,null,null,null,null,null,null,null,null,null,null,{"$f":"IF(H1981=\"\",\"-\",VLOOKUP(T1981,読み替え表_スマートムーブ!$C$4:$F$13,4,0))","v":"-"},{"$f":"IF(H1981=\"\",\"-\",VLOOKUP(V1981,読み替え表_スマートムーブ!$C$16:$F$21,4,0))","v":"-"},"-",null,null,null,null,0,0,0,0,0,0,"*"]
[null,null,1973,null,null,null,null,null,null,null,null,null,null,null,null,null,null,null,null,null,null,null,null,null,null,null,null,null,null,null,null,null,null,null,null,{"$f":"IF(H1982=\"\",\"-\",VLOOKUP(T1982,読み替え表_スマートムーブ!$C$4:$F$13,4,0))","v":"-"},{"$f":"IF(H1982=\"\",\"-\",VLOOKUP(V1982,読み替え表_スマートムーブ!$C$16:$F$21,4,0))","v":"-"},"-",null,null,null,null,0,0,0,0,0,0,"*"]
[null,null,1974,null,null,null,null,null,null,null,null,null,null,null,null,null,null,null,null,null,null,null,null,null,null,null,null,null,null,null,null,null,null,null,null,{"$f":"IF(H1983=\"\",\"-\",VLOOKUP(T1983,読み替え表_スマートムーブ!$C$4:$F$13,4,0))","v":"-"},{"$f":"IF(H1983=\"\",\"-\",VLOOKUP(V1983,読み替え表_スマートムーブ!$C$16:$F$21,4,0))","v":"-"},"-",null,null,null,null,0,0,0,0,0,0,"*"]
[null,null,1975,null,null,null,null,null,null,null,null,null,null,null,null,null,null,null,null,null,null,null,null,null,null,null,null,null,null,null,null,null,null,null,null,{"$f":"IF(H1984=\"\",\"-\",VLOOKUP(T1984,読み替え表_スマートムーブ!$C$4:$F$13,4,0))","v":"-"},{"$f":"IF(H1984=\"\",\"-\",VLOOKUP(V1984,読み替え表_スマートムーブ!$C$16:$F$21,4,0))","v":"-"},"-",null,null,null,null,0,0,0,0,0,0,"*"]
[null,null,1976,null,null,null,null,null,null,null,null,null,null,null,null,null,null,null,null,null,null,null,null,null,null,null,null,null,null,null,null,null,null,null,null,{"$f":"IF(H1985=\"\",\"-\",VLOOKUP(T1985,読み替え表_スマートムーブ!$C$4:$F$13,4,0))","v":"-"},{"$f":"IF(H1985=\"\",\"-\",VLOOKUP(V1985,読み替え表_スマートムーブ!$C$16:$F$21,4,0))","v":"-"},"-",null,null,null,null,0,0,0,0,0,0,"*"]
[null,null,1977,null,null,null,null,null,null,null,null,null,null,null,null,null,null,null,null,null,null,null,null,null,null,null,null,null,null,null,null,null,null,null,null,{"$f":"IF(H1986=\"\",\"-\",VLOOKUP(T1986,読み替え表_スマートムーブ!$C$4:$F$13,4,0))","v":"-"},{"$f":"IF(H1986=\"\",\"-\",VLOOKUP(V1986,読み替え表_スマートムーブ!$C$16:$F$21,4,0))","v":"-"},"-",null,null,null,null,0,0,0,0,0,0,"*"]
[null,null,1978,null,null,null,null,null,null,null,null,null,null,null,null,null,null,null,null,null,null,null,null,null,null,null,null,null,null,null,null,null,null,null,null,{"$f":"IF(H1987=\"\",\"-\",VLOOKUP(T1987,読み替え表_スマートムーブ!$C$4:$F$13,4,0))","v":"-"},{"$f":"IF(H1987=\"\",\"-\",VLOOKUP(V1987,読み替え表_スマートムーブ!$C$16:$F$21,4,0))","v":"-"},"-",null,null,null,null,0,0,0,0,0,0,"*"]
[null,null,1979,null,null,null,null,null,null,null,null,null,null,null,null,null,null,null,null,null,null,null,null,null,null,null,null,null,null,null,null,null,null,null,null,{"$f":"IF(H1988=\"\",\"-\",VLOOKUP(T1988,読み替え表_スマートムーブ!$C$4:$F$13,4,0))","v":"-"},{"$f":"IF(H1988=\"\",\"-\",VLOOKUP(V1988,読み替え表_スマートムーブ!$C$16:$F$21,4,0))","v":"-"},"-",null,null,null,null,0,0,0,0,0,0,"*"]
[null,null,1980,null,null,null,null,null,null,null,null,null,null,null,null,null,null,null,null,null,null,null,null,null,null,null,null,null,null,null,null,null,null,null,null,{"$f":"IF(H1989=\"\",\"-\",VLOOKUP(T1989,読み替え表_スマートムーブ!$C$4:$F$13,4,0))","v":"-"},{"$f":"IF(H1989=\"\",\"-\",VLOOKUP(V1989,読み替え表_スマートムーブ!$C$16:$F$21,4,0))","v":"-"},"-",null,null,null,null,0,0,0,0,0,0,"*"]
[null,null,1981,null,null,null,null,null,null,null,null,null,null,null,null,null,null,null,null,null,null,null,null,null,null,null,null,null,null,null,null,null,null,null,null,{"$f":"IF(H1990=\"\",\"-\",VLOOKUP(T1990,読み替え表_スマートムーブ!$C$4:$F$13,4,0))","v":"-"},{"$f":"IF(H1990=\"\",\"-\",VLOOKUP(V1990,読み替え表_スマートムーブ!$C$16:$F$21,4,0))","v":"-"},"-",null,null,null,null,0,0,0,0,0,0,"*"]
[null,null,1982,null,null,null,null,null,null,null,null,null,null,null,null,null,null,null,null,null,null,null,null,null,null,null,null,null,null,null,null,null,null,null,null,{"$f":"IF(H1991=\"\",\"-\",VLOOKUP(T1991,読み替え表_スマートムーブ!$C$4:$F$13,4,0))","v":"-"},{"$f":"IF(H1991=\"\",\"-\",VLOOKUP(V1991,読み替え表_スマートムーブ!$C$16:$F$21,4,0))","v":"-"},"-",null,null,null,null,0,0,0,0,0,0,"*"]
[null,null,1983,null,null,null,null,null,null,null,null,null,null,null,null,null,null,null,null,null,null,null,null,null,null,null,null,null,null,null,null,null,null,null,null,{"$f":"IF(H1992=\"\",\"-\",VLOOKUP(T1992,読み替え表_スマートムーブ!$C$4:$F$13,4,0))","v":"-"},{"$f":"IF(H1992=\"\",\"-\",VLOOKUP(V1992,読み替え表_スマートムーブ!$C$16:$F$21,4,0))","v":"-"},"-",null,null,null,null,0,0,0,0,0,0,"*"]
[null,null,1984,null,null,null,null,null,null,null,null,null,null,null,null,null,null,null,null,null,null,null,null,null,null,null,null,null,null,null,null,null,null,null,null,{"$f":"IF(H1993=\"\",\"-\",VLOOKUP(T1993,読み替え表_スマートムーブ!$C$4:$F$13,4,0))","v":"-"},{"$f":"IF(H1993=\"\",\"-\",VLOOKUP(V1993,読み替え表_スマートムーブ!$C$16:$F$21,4,0))","v":"-"},"-",null,null,null,null,0,0,0,0,0,0,"*"]
[null,null,1985,null,null,null,null,null,null,null,null,null,null,null,null,null,null,null,null,null,null,null,null,null,null,null,null,null,null,null,null,null,null,null,null,{"$f":"IF(H1994=\"\",\"-\",VLOOKUP(T1994,読み替え表_スマートムーブ!$C$4:$F$13,4,0))","v":"-"},{"$f":"IF(H1994=\"\",\"-\",VLOOKUP(V1994,読み替え表_スマートムーブ!$C$16:$F$21,4,0))","v":"-"},"-",null,null,null,null,0,0,0,0,0,{"$f":"AQ1994","v":0},"*"]
[null,null,{"$f":"ROW()-9","v":1986},null,null,null,null,null,null,null,null,null,null,null,null,null,null,null,null,null,null,null,null,null,null,null,null,null,null,null,null,null,null,null,null,{"$f":"IF(H1995=\"\",\"-\",VLOOKUP(T1995,読み替え表_スマートムーブ!$C$4:$F$13,4,0))","v":"-"},{"$f":"IF(H1995=\"\",\"-\",VLOOKUP(V1995,読み替え表_スマートムーブ!$C$16:$F$21,4,0))","v":"-"},"-",null,null,null,null,{"$f":"IF(SUM($AR1995:$AT1995)>=1,1,0)","v":0},{"$f":"IF(R1995=1,1,0)","v":0},{"$f":"IF(T1995=9,1,0)","v":0},{"$f":"IF(V1995=5,1,0)","v":0},{"$f":"IF(OR($X1995=1,$X1995=2,$X1995=3),1,0)","v":0},0,"*"]
[null,null,1987,null,null,null,null,null,null,null,null,null,null,null,null,null,null,null,null,null,null,null,null,null,null,null,null,null,null,null,null,null,null,null,null,{"$f":"IF(H1996=\"\",\"-\",VLOOKUP(T1996,読み替え表_スマートムーブ!$C$4:$F$13,4,0))","v":"-"},{"$f":"IF(H1996=\"\",\"-\",VLOOKUP(V1996,読み替え表_スマートムーブ!$C$16:$F$21,4,0))","v":"-"},"-",null,null,null,null,0,0,0,0,0,0,"*"]
[null,null,1988,null,null,null,null,null,null,null,null,null,null,null,null,null,null,null,null,null,null,null,null,null,null,null,null,null,null,null,null,null,null,null,null,{"$f":"IF(H1997=\"\",\"-\",VLOOKUP(T1997,読み替え表_スマートムーブ!$C$4:$F$13,4,0))","v":"-"},{"$f":"IF(H1997=\"\",\"-\",VLOOKUP(V1997,読み替え表_スマートムーブ!$C$16:$F$21,4,0))","v":"-"},"-",null,null,null,null,0,0,0,0,0,0,"*"]
[null,null,1989,null,null,null,null,null,null,null,null,null,null,null,null,null,null,null,null,null,null,null,null,null,null,null,null,null,null,null,null,null,null,null,null,{"$f":"IF(H1998=\"\",\"-\",VLOOKUP(T1998,読み替え表_スマートムーブ!$C$4:$F$13,4,0))","v":"-"},{"$f":"IF(H1998=\"\",\"-\",VLOOKUP(V1998,読み替え表_スマートムーブ!$C$16:$F$21,4,0))","v":"-"},"-",null,null,null,null,0,0,0,0,0,0,"*"]
[null,null,1990,null,null,null,null,null,null,null,null,null,null,null,null,null,null,null,null,null,null,null,null,null,null,null,null,null,null,null,null,null,null,null,null,{"$f":"IF(H1999=\"\",\"-\",VLOOKUP(T1999,読み替え表_スマートムーブ!$C$4:$F$13,4,0))","v":"-"},{"$f":"IF(H1999=\"\",\"-\",VLOOKUP(V1999,読み替え表_スマートムーブ!$C$16:$F$21,4,0))","v":"-"},"-",null,null,null,null,0,0,0,0,0,0,"*"]
[null,null,1991,null,null,null,null,null,null,null,null,null,null,null,null,null,null,null,null,null,null,null,null,null,null,null,null,null,null,null,null,null,null,null,null,{"$f":"IF(H2000=\"\",\"-\",VLOOKUP(T2000,読み替え表_スマートムーブ!$C$4:$F$13,4,0))","v":"-"},{"$f":"IF(H2000=\"\",\"-\",VLOOKUP(V2000,読み替え表_スマートムーブ!$C$16:$F$21,4,0))","v":"-"},"-",null,null,null,null,0,0,0,0,0,0,"*"]
[null,null,1992,null,null,null,null,null,null,null,null,null,null,null,null,null,null,null,null,null,null,null,null,null,null,null,null,null,null,null,null,null,null,null,null,{"$f":"IF(H2001=\"\",\"-\",VLOOKUP(T2001,読み替え表_スマートムーブ!$C$4:$F$13,4,0))","v":"-"},{"$f":"IF(H2001=\"\",\"-\",VLOOKUP(V2001,読み替え表_スマートムーブ!$C$16:$F$21,4,0))","v":"-"},"-",null,null,null,null,0,0,0,0,0,0,"*"]
[null,null,1993,null,null,null,null,null,null,null,null,null,null,null,null,null,null,null,null,null,null,null,null,null,null,null,null,null,null,null,null,null,null,null,null,{"$f":"IF(H2002=\"\",\"-\",VLOOKUP(T2002,読み替え表_スマートムーブ!$C$4:$F$13,4,0))","v":"-"},{"$f":"IF(H2002=\"\",\"-\",VLOOKUP(V2002,読み替え表_スマートムーブ!$C$16:$F$21,4,0))","v":"-"},"-",null,null,null,null,0,0,0,0,0,0,"*"]
[null,null,1994,null,null,null,null,null,null,null,null,null,null,null,null,null,null,null,null,null,null,null,null,null,null,null,null,null,null,null,null,null,null,null,null,{"$f":"IF(H2003=\"\",\"-\",VLOOKUP(T2003,読み替え表_スマートムーブ!$C$4:$F$13,4,0))","v":"-"},{"$f":"IF(H2003=\"\",\"-\",VLOOKUP(V2003,読み替え表_スマートムーブ!$C$16:$F$21,4,0))","v":"-"},"-",null,null,null,null,0,0,0,0,0,0,"*"]
[null,null,1995,null,null,null,null,null,null,null,null,null,null,null,null,null,null,null,null,null,null,null,null,null,null,null,null,null,null,null,null,null,null,null,null,{"$f":"IF(H2004=\"\",\"-\",VLOOKUP(T2004,読み替え表_スマートムーブ!$C$4:$F$13,4,0))","v":"-"},{"$f":"IF(H2004=\"\",\"-\",VLOOKUP(V2004,読み替え表_スマートムーブ!$C$16:$F$21,4,0))","v":"-"},"-",null,null,null,null,0,0,0,0,0,0,"*"]
[null,null,1996,null,null,null,null,null,null,null,null,null,null,null,null,null,null,null,null,null,null,null,null,null,null,null,null,null,null,null,null,null,null,null,null,{"$f":"IF(H2005=\"\",\"-\",VLOOKUP(T2005,読み替え表_スマートムーブ!$C$4:$F$13,4,0))","v":"-"},{"$f":"IF(H2005=\"\",\"-\",VLOOKUP(V2005,読み替え表_スマートムーブ!$C$16:$F$21,4,0))","v":"-"},"-",null,null,null,null,0,0,0,0,0,0,"*"]
[null,null,1997,null,null,null,null,null,null,null,null,null,null,null,null,null,null,null,null,null,null,null,null,null,null,null,null,null,null,null,null,null,null,null,null,{"$f":"IF(H2006=\"\",\"-\",VLOOKUP(T2006,読み替え表_スマートムーブ!$C$4:$F$13,4,0))","v":"-"},{"$f":"IF(H2006=\"\",\"-\",VLOOKUP(V2006,読み替え表_スマートムーブ!$C$16:$F$21,4,0))","v":"-"},"-",null,null,null,null,0,0,0,0,0,0,"*"]
[null,null,1998,null,null,null,null,null,null,null,null,null,null,null,null,null,null,null,null,null,null,null,null,null,null,null,null,null,null,null,null,null,null,null,null,{"$f":"IF(H2007=\"\",\"-\",VLOOKUP(T2007,読み替え表_スマートムーブ!$C$4:$F$13,4,0))","v":"-"},{"$f":"IF(H2007=\"\",\"-\",VLOOKUP(V2007,読み替え表_スマートムーブ!$C$16:$F$21,4,0))","v":"-"},"-",null,null,null,null,0,0,0,0,0,0,"*"]
[null,null,1999,null,null,null,null,null,null,null,null,null,null,null,null,null,null,null,null,null,null,null,null,null,null,null,null,null,null,null,null,null,null,null,null,{"$f":"IF(H2008=\"\",\"-\",VLOOKUP(T2008,読み替え表_スマートムーブ!$C$4:$F$13,4,0))","v":"-"},{"$f":"IF(H2008=\"\",\"-\",VLOOKUP(V2008,読み替え表_スマートムーブ!$C$16:$F$21,4,0))","v":"-"},"-",null,null,null,null,0,0,0,0,0,0,"*"]
[null,null,2000,null,null,null,null,null,null,null,null,null,null,null,null,null,null,null,null,null,null,null,null,null,null,null,null,null,null,null,null,null,null,null,null,{"$f":"IF(H2009=\"\",\"-\",VLOOKUP(T2009,読み替え表_スマートムーブ!$C$4:$F$13,4,0))","v":"-"},{"$f":"IF(H2009=\"\",\"-\",VLOOKUP(V2009,読み替え表_スマートムーブ!$C$16:$F$21,4,0))","v":"-"},"-",null,null,null,null,0,0,0,0,0,0,"*"]
[null,null,"*","*","*","*","*","*","*","*","*","*","*","*","*","*","*","*","*","*","*","*","*","*","*","*","*","*","*","*","*","*","*","*","*","*","*","*","*","*","*","*","*","*","*","*","*","*","*"]

{"sheet":"集計結果⇒","index":3,"n_rows":0,"n_cols":0,"rows_kept":0,"cut":false,"hidden":false,"merged":[]}

{"sheet":"②単純集計表 ","index":4,"n_rows":156,"n_cols":16,"rows_kept":156,"cut":false,"hidden":false,"merged":[[6,3,6,4],[18,1,25,1],[28,4,28,5],[43,4,43,5],[30,4,30,5],[31,4,31,5],[37,4,37,5],[38,4,38,5],[32,4,32,5],[144,1,154,1],[88,1,93,1],[104,1,109,1],[121,1,129,1],[40,4,40,5],[41,4,41,5],[42,4,42,5],[71,1,80,1],[27,1,44,1],[27,3,27,5],[35,3,35,5],[44,4,44,5],[39,4,39,5],[29,4,29,5],[33,4,33,5],[34,4,34,5],[51,1,59,1],[1,3,1,4],[2,3,2,4],[3,3,3,4],[4,3,4,4],[5,3,5,4],[7,3,7,4],[1,1,1,2],[2,1,2,2],[3,1,3,2],[4,1,4,2],[5,1,5,2],[6,1,6,2],[36,4,36,5],[7,1,7,2],[13,1,16,1]]}
[]
[null,"都道府県",null,{"$f":"①会場アンケート集計結果_スマートムーブ!D10","v":0}]
[null,"事業者名",null,{"$f":"①会場アンケート集計結果_スマートムーブ!E10","v":0}]
[null,"イベント名",null,{"$f":"①会場アンケート集計結果_スマートムーブ!F10","v":0}]
[null,"回収日付",null,{"$f":"①会場アンケート集計結果_スマートムーブ!G10","v":"00:00:00"}]
[null,"アンケート回収数",null,{"$f":"COUNTIFS(①会場アンケート集計結果_スマートムーブ!$H$10:$H$2009,\"<>\"&\"\")","v":0}]
[null,"有効アンケート数",null,{"$f":"COUNTIFS(①会場アンケート集計結果_スマートムーブ!$H$10:$H$2009,\"<>\"&\"\",①会場アンケート集計結果_スマートムーブ!$AV$10:$AV$2009,0)","v":0}]
[null,"メールアドレス回収数",null,{"$f":"COUNTIFS(①会場アンケート集計結果_スマートムーブ!$H$10:$H$2009,\"<>\"&\"\",①会場アンケート集計結果_スマートムーブ!$AQ$10:$AQ$2009,0,①会場アンケート集計結果_スマートムーブ!$AM$10:$AM$2009,1)","v":0}]
[]
[null,"【設問1】性別・年代"]
[null,"※来場者層の把握のため、「有効回答数」ではなく「アンケート回収数」で集計"]
[]
[null,null,null,null,null,null,"アンケート\n回収者","有効\n回答者","%","検算用"]
[null,"性別",1,"男性",null,null,{"$f":"COUNTIFS(①会場アンケート集計結果_スマートムーブ!$H:$H,'②単純集計表 '!D14)","v":0},{"$f":"COUNTIFS(①会場アンケート集計結果_スマートムーブ!$AV:$AV,0,①会場アンケート集計結果_スマートムーブ!$H:$H,'②単純集計表 '!D14)","v":0},{"$f":"G14/$D$6","v":{"$error":"#DIV/0!"}}]
[null,null,2,"女性",null,null,{"$f":"COUNTIFS(①会場アンケート集計結果_スマートムーブ!$H:$H,'②単純集計表 '!D15)","v":0},{"$f":"COUNTIFS(①会場アンケート集計結果_スマートムーブ!$AV:$AV,0,①会場アンケート集計結果_スマートムーブ!$H:$H,'②単純集計表 '!D15)","v":0},{"$f":"G15/$D$6","v":{"$error":"#DIV/0!"}}]
[null,null,3,"その他",null,null,{"$f":"COUNTIFS(①会場アンケート集計結果_スマートムーブ!$H:$H,'②単純集計表 '!D16)","v":0},{"$f":"COUNTIFS(①会場アンケート集計結果_スマートムーブ!$AV:$AV,0,①会場アンケート集計結果_スマートムーブ!$H:$H,'②単純集計表 '!D16)","v":0},{"$f":"G16/$D$6","v":{"$error":"#DIV/0!"}}]
[null,null,99,"未回答",null,null,{"$f":"COUNTIFS(①会場アンケート集計結果_スマートムーブ!$H:$H,'②単純集計表 '!D17)","v":0},{"$f":"COUNTIFS(①会場アンケート集計結果_スマートムーブ!$AV:$AV,0,①会場アンケート集計結果_スマートムーブ!$H:$H,'②単純集計表 '!D17)","v":0},{"$f":"G17/$D$6","v":{"$error":"#DIV/0!"}},{"$f":"SUM(G14:G17)","v":0}]
[]
[null,"年代",1,"10代",null,null,{"$f":"COUNTIFS(①会場アンケート集計結果_スマートムーブ!$I:$I,'②単純集計表 '!D19)","v":0},{"$f":"COUNTIFS(①会場アンケート集計結果_スマートムーブ!$AV:$AV,0,①会場アンケート集計結果_スマートムーブ!$I:$I,'②単純集計表 '!D19)","v":0},{"$f":"G19/$D$6","v":{"$error":"#DIV/0!"}}]
[null,null,2,"20代",null,null,{"$f":"COUNTIFS(①会場アンケート集計結果_スマートムーブ!$I:$I,'②単純集計表 '!D20)","v":0},{"$f":"COUNTIFS(①会場アンケート集計結果_スマートムーブ!$AV:$AV,0,①会場アンケート集計結果_スマートムーブ!$I:$I,'②単純集計表 '!D20)","v":0},{"$error":"#DIV/0!"}]
[null,null,3,"30代",null,null,{"$f":"COUNTIFS(①会場アンケート集計結果_スマートムーブ!$I:$I,'②単純集計表 '!D21)","v":0},{"$f":"COUNTIFS(①会場アンケート集計結果_スマートムーブ!$AV:$AV,0,①会場アンケート集計結果_スマートムーブ!$I:$I,'②単純集計表 '!D21)","v":0},{"$error":"#DIV/0!"}]
[null,null,4,"40代",null,null,{"$f":"COUNTIFS(①会場アンケート集計結果_スマートムーブ!$I:$I,'②単純集計表 '!D22)","v":0},{"$f":"COUNTIFS(①会場アンケート集計結果_スマートムーブ!$AV:$AV,0,①会場アンケート集計結果_スマートムーブ!$I:$I,'②単純集計表 '!D22)","v":0},{"$error":"#DIV/0!"}]
[null,null,5,"50代",null,null,{"$f":"COUNTIFS(①会場アンケート集計結果_スマートムーブ!$I:$I,'②単純集計表 '!D23)","v":0},{"$f":"COUNTIFS(①会場アンケート集計結果_スマートムーブ!$AV:$AV,0,①会場アンケート集計結果_スマートムーブ!$I:$I,'②単純集計表 '!D23)","v":0},{"$error":"#DIV/0!"}]
[null,null,6,"60代",null,null,{"$f":"COUNTIFS(①会場アンケート集計結果_スマートムーブ!$I:$I,'②単純集計表 '!D24)","v":0},{"$f":"COUNTIFS(①会場アンケート集計結果_スマートムーブ!$AV:$AV,0,①会場アンケート集計結果_スマートムーブ!$I:$I,'②単純集計表 '!D24)","v":0},{"$error":"#DIV/0!"}]
[null,null,7,"70代以上",null,null,{"$f":"COUNTIFS(①会場アンケート集計結果_スマートムーブ!$I:$I,'②単純集計表 '!D25)","v":0},{"$f":"COUNTIFS(①会場アンケート集計結果_スマートムーブ!$AV:$AV,0,①会場アンケート集計結果_スマートムーブ!$I:$I,'②単純集計表 '!D25)","v":0},{"$error":"#DIV/0!"}]
[null,null,99,"未回答",null,null,{"$f":"COUNTIFS(①会場アンケート集計結果_スマートムーブ!$I:$I,'②単純集計表 '!D26)","v":0},{"$f":"COUNTIFS(①会場アンケート集計結果_スマートムーブ!$AV:$AV,0,①会場アンケート集計結果_スマートムーブ!$I:$I,'②単純集計表 '!D26)","v":0},{"$error":"#DIV/0!"},{"$f":"SUM(G19:G26)","v":0}]
[]
[null,"性別・年代別",null,"男性",null,null,{"$f":"SUM(G29:G35)","v":0},{"$f":"SUM(H29:H35)","v":0},{"$f":"G28/$D$6","v":{"$error":"#DIV/0!"}}]
[null,null,null,"男性","10代",null,{"$f":"COUNTIFS(①会場アンケート集計結果_スマートムーブ!$H:$H,'②単純集計表 '!D29,①会場アンケート集計結果_スマートムーブ!$I:$I,'②単純集計表 '!E29)","v":0},{"$f":"COUNTIFS(①会場アンケート集計結果_スマートムーブ!$AV:$AV,0,①会場アンケート集計結果_スマートムーブ!$H:$H,'②単純集計表 '!D29,①会場アンケート集計結果_スマートムーブ!$I:$I,'②単純集計表 '!E29)","v":0},{"$error":"#DIV/0!"}]
[null,null,null,"男性","20代",null,{"$f":"COUNTIFS(①会場アンケート集計結果_スマートムーブ!$H:$H,'②単純集計表 '!D30,①会場アンケート集計結果_スマートムーブ!$I:$I,'②単純集計表 '!E30)","v":0},{"$f":"COUNTIFS(①会場アンケート集計結果_スマートムーブ!$AV:$AV,0,①会場アンケート集計結果_スマートムーブ!$H:$H,'②単純集計表 '!D30,①会場アンケート集計結果_スマートムーブ!$I:$I,'②単純集計表 '!E30)","v":0},{"$error":"#DIV/0!"}]
[null,null,null,"男性","30代",null,{"$f":"COUNTIFS(①会場アンケート集計結果_スマートムーブ!$H:$H,'②単純集計表 '!D31,①会場アンケート集計結果_スマートムーブ!$I:$I,'②単純集計表 '!E31)","v":0},{"$f":"COUNTIFS(①会場アンケート集計結果_スマートムーブ!$AV:$AV,0,①会場アンケート集計結果_スマートムーブ!$H:$H,'②単純集計表 '!D31,①会場アンケート集計結果_スマートムーブ!$I:$I,'②単純集計表 '!E31)","v":0},{"$error":"#DIV/0!"}]
[null,null,null,"男性","40代",null,{"$f":"COUNTIFS(①会場アンケート集計結果_スマートムーブ!$H:$H,'②単純集計表 '!D32,①会場アンケート集計結果_スマートムーブ!$I:$I,'②単純集計表 '!E32)","v":0},{"$f":"COUNTIFS(①会場アンケート集計結果_スマートムーブ!$AV:$AV,0,①会場アンケート集計結果_スマートムーブ!$H:$H,'②単純集計表 '!D32,①会場アンケート集計結果_スマートムーブ!$I:$I,'②単純集計表 '!E32)","v":0},{"$error":"#DIV/0!"}]
[null,null,null,"男性","50代",null,{"$f":"COUNTIFS(①会場アンケート集計結果_スマートムーブ!$H:$H,'②単純集計表 '!D33,①会場アンケート集計結果_スマートムーブ!$I:$I,'②単純集計表 '!E33)","v":0},{"$f":"COUNTIFS(①会場アンケート集計結果_スマートムーブ!$AV:$AV,0,①会場アンケート集計結果_スマートムーブ!$H:$H,'②単純集計表 '!D33,①会場アンケート集計結果_スマートムーブ!$I:$I,'②単純集計表 '!E33)","v":0},{"$error":"#DIV/0!"}]
[null,null,null,"男性","60代",null,{"$f":"COUNTIFS(①会場アンケート集計結果_スマートムーブ!$H:$H,'②単純集計表 '!D34,①会場アンケート集計結果_スマートムーブ!$I:$I,'②単純集計表 '!E34)","v":0},{"$f":"COUNTIFS(①会場アンケート集計結果_スマートムーブ!$AV:$AV,0,①会場アンケート集計結果_スマートムーブ!$H:$H,'②単純集計表 '!D34,①会場アンケート集計結果_スマートムーブ!$I:$I,'②単純集計表 '!E34)","v":0},{"$error":"#DIV/0!"}]
[null,null,null,"男性","70代以上",null,{"$f":"COUNTIFS(①会場アンケート集計結果_スマートムーブ!$H:$H,'②単純集計表 '!D35,①会場アンケート集計結果_スマートムーブ!$I:$I,'②単純集計表 '!E35)","v":0},{"$f":"COUNTIFS(①会場アンケート集計結果_スマートムーブ!$AV:$AV,0,①会場アンケート集計結果_スマートムーブ!$H:$H,'②単純集計表 '!D35,①会場アンケート集計結果_スマートムーブ!$I:$I,'②単純集計表 '!E35)","v":0},{"$error":"#DIV/0!"}]
[null,null,null,"女性",null,null,{"$f":"SUM(G37:G43)","v":0},{"$f":"SUM(H37:H43)","v":0},{"$error":"#DIV/0!"}]
[null,null,null,"女性","10代",null,{"$f":"COUNTIFS(①会場アンケート集計結果_スマートムーブ!$H:$H,'②単純集計表 '!D37,①会場アンケート集計結果_スマートムーブ!$I:$I,'②単純集計表 '!E37)","v":0},{"$f":"COUNTIFS(①会場アンケート集計結果_スマートムーブ!$AV:$AV,0,①会場アンケート集計結果_スマートムーブ!$H:$H,'②単純集計表 '!D37,①会場アンケート集計結果_スマートムーブ!$I:$I,'②単純集計表 '!E37)","v":0},{"$error":"#DIV/0!"}]
[null,null,null,"女性","20代",null,{"$f":"COUNTIFS(①会場アンケート集計結果_スマートムーブ!$H:$H,'②単純集計表 '!D38,①会場アンケート集計結果_スマートムーブ!$I:$I,'②単純集計表 '!E38)","v":0},{"$f":"COUNTIFS(①会場アンケート集計結果_スマートムーブ!$AV:$AV,0,①会場アンケート集計結果_スマートムーブ!$H:$H,'②単純集計表 '!D38,①会場アンケート集計結果_スマートムーブ!$I:$I,'②単純集計表 '!E38)","v":0},{"$error":"#DIV/0!"}]
[null,null,null,"女性","30代",null,{"$f":"COUNTIFS(①会場アンケート集計結果_スマートムーブ!$H:$H,'②単純集計表 '!D39,①会場アンケート集計結果_スマートムーブ!$I:$I,'②単純集計表 '!E39)","v":0},{"$f":"COUNTIFS(①会場アンケート集計結果_スマートムーブ!$AV:$AV,0,①会場アンケート集計結果_スマートムーブ!$H:$H,'②単純集計表 '!D39,①会場アンケート集計結果_スマートムーブ!$I:$I,'②単純集計表 '!E39)","v":0},{"$error":"#DIV/0!"}]
[null,null,null,"女性","40代",null,{"$f":"COUNTIFS(①会場アンケート集計結果_スマートムーブ!$H:$H,'②単純集計表 '!D40,①会場アンケート集計結果_スマートムーブ!$I:$I,'②単純集計表 '!E40)","v":0},{"$f":"COUNTIFS(①会場アンケート集計結果_スマートムーブ!$AV:$AV,0,①会場アンケート集計結果_スマートムーブ!$H:$H,'②単純集計表 '!D40,①会場アンケート集計結果_スマートムーブ!$I:$I,'②単純集計表 '!E40)","v":0},{"$error":"#DIV/0!"}]
[null,null,null,"女性","50代",null,{"$f":"COUNTIFS(①会場アンケート集計結果_スマートムーブ!$H:$H,'②単純集計表 '!D41,①会場アンケート集計結果_スマートムーブ!$I:$I,'②単純集計表 '!E41)","v":0},{"$f":"COUNTIFS(①会場アンケート集計結果_スマートムーブ!$AV:$AV,0,①会場アンケート集計結果_スマートムーブ!$H:$H,'②単純集計表 '!D41,①会場アンケート集計結果_スマートムーブ!$I:$I,'②単純集計表 '!E41)","v":0},{"$error":"#DIV/0!"}]
[null,null,null,"女性","60代",null,{"$f":"COUNTIFS(①会場アンケート集計結果_スマートムーブ!$H:$H,'②単純集計表 '!D42,①会場アンケート集計結果_スマートムーブ!$I:$I,'②単純集計表 '!E42)","v":0},{"$f":"COUNTIFS(①会場アンケート集計結果_スマートムーブ!$AV:$AV,0,①会場アンケート集計結果_スマートムーブ!$H:$H,'②単純集計表 '!D42,①会場アンケート集計結果_スマートムーブ!$I:$I,'②単純集計表 '!E42)","v":0},{"$error":"#DIV/0!"}]
[null,null,null,"女性","70代以上",null,{"$f":"COUNTIFS(①会場アンケート集計結果_スマートムーブ!$H:$H,'②単純集計表 '!D43,①会場アンケート集計結果_スマートムーブ!$I:$I,'②単純集計表 '!E43)","v":0},{"$f":"COUNTIFS(①会場アンケート集計結果_スマートムーブ!$AV:$AV,0,①会場アンケート集計結果_スマートムーブ!$H:$H,'②単純集計表 '!D43,①会場アンケート集計結果_スマートムーブ!$I:$I,'②単純集計表 '!E43)","v":0},{"$error":"#DIV/0!"}]
[null,null,null,"その他","その他",null,{"$f":"COUNTIFS(①会場アンケート集計結果_スマートムーブ!$H:$H,'②単純集計表 '!D44,①会場アンケート集計結果_スマートムーブ!$I:$I,\"<>\"&D45)","v":0},{"$f":"COUNTIFS(①会場アンケート集計結果_スマートムーブ!$AV:$AV,0,①会場アンケート集計結果_スマートムーブ!$H:$H,'②単純集計表 '!D44,①会場アンケート集計結果_スマートムーブ!$I:$I,\"<>\"&D45)","v":0},{"$error":"#DIV/0!"}]
[null,null,null,"未回答","未回答",null,{"$f":"COUNTIFS(①会場アンケート集計結果_スマートムーブ!$H:$H,'②単純集計表 '!D45,①会場アンケート集計結果_スマートムーブ!$I:$I,\"<>\")+COUNTIFS(①会場アンケート集計結果_スマートムーブ!$H:$H,\"<>\",①会場アンケート集計結果_スマートムーブ!$I:$I,'②単純集計表 '!E45)-COUNTIFS(①会場アンケート集計結果_スマートムーブ!$H:$H,D45,①会場アンケート集計結果_スマートムーブ!$I:$I,'②単純集計表 '!E45)","v":0},{"$f":"COUNTIFS(①会場アンケート集計結果_スマートムーブ!$AV:$AV,0,①会場アンケート集計結果_スマートムーブ!$H:$H,'②単純集計表 '!D45,①会場アンケート集計結果_スマートムーブ!$I:$I,\"<>\")+COUNTIFS(①会場アンケート集計結果_スマートムーブ!$AV:$AV,0,①会場アンケート集計結果_スマートムーブ!$H:$H,\"<>\",①会場アンケート集計結果_スマートムーブ!$I:$I,'②単純集計表 '!E45)-COUNTIFS(①会場アンケート集計結果_スマートムーブ!$AV:$AV,0,①会場アンケート集計結果_スマートムーブ!$H:$H,D45,①会場アンケート集計結果_スマートムーブ!$I:$I,'②単純集計表 '!E45)","v":0},{"$error":"#DIV/0!"},{"$f":"SUM(G37:G45,G29:G35)","v":0}]
[]
[]
[null,"【設問1】普段使用している車種"]
[]
[]
[null,null,null,null,null,null,"回答者数","%"]
[null,"車の所有状況",1,"ガソリン車",null,null,{"$f":"COUNTIFS(①会場アンケート集計結果_スマートムーブ!$H$10:$H$2009,\"<>\",①会場アンケート集計結果_スマートムーブ!$J$10:$J$2009,1,①会場アンケート集計結果_スマートムーブ!$AV$10:$AV$2009,0)","v":0},{"$f":"G52/$D$7","v":{"$error":"#DIV/0!"}}]
[null,null,2,"ハイブリッド車",null,null,{"$f":"COUNTIFS(①会場アンケート集計結果_スマートムーブ!$H$10:$H$2009,\"<>\",①会場アンケート集計結果_スマートムーブ!$K$10:$K$2009,1,①会場アンケート集計結果_スマートムーブ!$AV$10:$AV$2009,0)","v":0},{"$f":"G53/$D$7","v":{"$error":"#DIV/0!"}}]
[null,null,3,"電気自動車",null,null,{"$f":"COUNTIFS(①会場アンケート集計結果_スマートムーブ!$H$10:$H$2009,\"<>\",①会場アンケート集計結果_スマートムーブ!$L$10:$L$2009,1,①会場アンケート集計結果_スマートムーブ!$AV$10:$AV$2009,0)","v":0},{"$error":"#DIV/0!"}]
[null,null,4,"ディーゼル車",null,null,{"$f":"COUNTIFS(①会場アンケート集計結果_スマートムーブ!$H$10:$H$2009,\"<>\",①会場アンケート集計結果_スマートムーブ!$M$10:$M$2009,1,①会場アンケート集計結果_スマートムーブ!$AV$10:$AV$2009,0)","v":0},{"$error":"#DIV/0!"}]
[null,null,5,"燃料電池車",null,null,{"$f":"COUNTIFS(①会場アンケート集計結果_スマートムーブ!$H$10:$H$2009,\"<>\",①会場アンケート集計結果_スマートムーブ!$N$10:$N$2009,1,①会場アンケート集計結果_スマートムーブ!$AV$10:$AV$2009,0)","v":0},{"$error":"#DIV/0!"}]
[null,null,6,"プラグインハイブリッド車",null,null,{"$f":"COUNTIFS(①会場アンケート集計結果_スマートムーブ!$H$10:$H$2009,\"<>\",①会場アンケート集計結果_スマートムーブ!$O$10:$O$2009,1,①会場アンケート集計結果_スマートムーブ!$AV$10:$AV$2009,0)","v":0},{"$error":"#DIV/0!"}]
[null,null,7,"その他",null,null,{"$f":"COUNTIFS(①会場アンケート集計結果_スマートムーブ!$H$10:$H$2009,\"<>\",①会場アンケート集計結果_スマートムーブ!$P$10:$P$2009,1,①会場アンケート集計結果_スマートムーブ!$AV$10:$AV$2009,0)","v":0},{"$error":"#DIV/0!"}]
[null,null,8,"持っていない",null,null,{"$f":"COUNTIFS(①会場アンケート集計結果_スマートムーブ!$H$10:$H$2009,\"<>\",①会場アンケート集計結果_スマートムーブ!$R$10:$R$2009,1,①会場アンケート集計結果_スマートムーブ!$AV$10:$AV$2009,0)","v":0},{"$error":"#DIV/0!"}]
[null,null,99,"未回答",null,null,{"$f":"COUNTIFS(①会場アンケート集計結果_スマートムーブ!$H$10:$H$2009,\"<>\",①会場アンケート集計結果_スマートムーブ!$S$10:$S$2009,1,①会場アンケート集計結果_スマートムーブ!$AV$10:$AV$2009,0)","v":0},{"$error":"#DIV/0!"}]
[]
[]
[]
[]
[]
[]
[]
[null,"【設問2】あなたご自身で、外出する頻度についてお答えください。"]
[]
[]
[null,null,null,null,null,null,"全回答者数","有効回答者数","%"]
[null,"外出頻度",1,"毎日外出する",null,null,{"$f":"COUNTIFS(①会場アンケート集計結果_スマートムーブ!$T:$T,'②単純集計表 '!C72)","v":0},{"$f":"COUNTIFS(①会場アンケート集計結果_スマートムーブ!$AV:$AV,0,①会場アンケート集計結果_スマートムーブ!$T:$T,'②単純集計表 '!C72)","v":0},{"$f":"H72/$D$7","v":{"$error":"#DIV/0!"}}]
[null,null,2,"週に６回程度外出する",null,null,{"$f":"COUNTIFS(①会場アンケート集計結果_スマートムーブ!$T:$T,'②単純集計表 '!C73)","v":0},{"$f":"COUNTIFS(①会場アンケート集計結果_スマートムーブ!$AV:$AV,0,①会場アンケート集計結果_スマートムーブ!$T:$T,'②単純集計表 '!C73)","v":0},{"$f":"H73/$D$7","v":{"$error":"#DIV/0!"}}]
[null,null,3,"週に５回程度外出する",null,null,{"$f":"COUNTIFS(①会場アンケート集計結果_スマートムーブ!$T:$T,'②単純集計表 '!C74)","v":0},{"$f":"COUNTIFS(①会場アンケート集計結果_スマートムーブ!$AV:$AV,0,①会場アンケート集計結果_スマートムーブ!$T:$T,'②単純集計表 '!C74)","v":0},{"$error":"#DIV/0!"}]
[null,null,4,"週に４回程度外出する",null,null,{"$f":"COUNTIFS(①会場アンケート集計結果_スマートムーブ!$T:$T,'②単純集計表 '!C75)","v":0},{"$f":"COUNTIFS(①会場アンケート集計結果_スマートムーブ!$AV:$AV,0,①会場アンケート集計結果_スマートムーブ!$T:$T,'②単純集計表 '!C75)","v":0},{"$error":"#DIV/0!"}]
[null,null,5,"週に３回程度外出する",null,null,{"$f":"COUNTIFS(①会場アンケート集計結果_スマートムーブ!$T:$T,'②単純集計表 '!C76)","v":0},{"$f":"COUNTIFS(①会場アンケート集計結果_スマートムーブ!$AV:$AV,0,①会場アンケート集計結果_スマートムーブ!$T:$T,'②単純集計表 '!C76)","v":0},{"$error":"#DIV/0!"}]
[null,null,6,"週に２回程度外出する",null,null,{"$f":"COUNTIFS(①会場アンケート集計結果_スマートムーブ!$T:$T,'②単純集計表 '!C77)","v":0},{"$f":"COUNTIFS(①会場アンケート集計結果_スマートムーブ!$AV:$AV,0,①会場アンケート集計結果_スマートムーブ!$T:$T,'②単純集計表 '!C77)","v":0},{"$error":"#DIV/0!"}]
[null,null,7,"週に１回程度外出する",null,null,{"$f":"COUNTIFS(①会場アンケート集計結果_スマートムーブ!$T:$T,'②単純集計表 '!C78)","v":0},{"$f":"COUNTIFS(①会場アンケート集計結果_スマートムーブ!$AV:$AV,0,①会場アンケート集計結果_スマートムーブ!$T:$T,'②単純集計表 '!C78)","v":0},{"$error":"#DIV/0!"}]
[null,null,8,"上記以下の頻度で外出する",null,null,{"$f":"COUNTIFS(①会場アンケート集計結果_スマートムーブ!$T:$T,'②単純集計表 '!C79)","v":0},{"$f":"COUNTIFS(①会場アンケート集計結果_スマートムーブ!$AV:$AV,0,①会場アンケート集計結果_スマートムーブ!$T:$T,'②単純集計表 '!C79)","v":0},{"$error":"#DIV/0!"}]
[null,null,9,"外出しない",null,null,{"$f":"COUNTIFS(①会場アンケート集計結果_スマートムーブ!$T:$T,'②単純集計表 '!C80)","v":0},{"$f":"COUNTIFS(①会場アンケート集計結果_スマートムーブ!$AV:$AV,0,①会場アンケート集計結果_スマートムーブ!$T:$T,'②単純集計表 '!C80)","v":0},{"$f":"H80/$D$7","v":{"$error":"#DIV/0!"}}]
[null,null,99,"未回答",null,null,{"$f":"COUNTIFS(①会場アンケート集計結果_スマートムーブ!$T:$T,'②単純集計表 '!C81)","v":0},{"$f":"COUNTIFS(①会場アンケート集計結果_スマートムーブ!$AV:$AV,0,①会場アンケート集計結果_スマートムーブ!$T:$T,'②単純集計表 '!C81)","v":0},{"$error":"#DIV/0!"}]
[null,null,null,null,"検算用","回答者数",{"$f":"SUM(G72:G81)","v":0}]
[null,null,null,null,null,"有効回答数",null,{"$f":"SUM(H72:H81)","v":0}]
[]
[]
[null,"【設問3】あなたご自身で、外出のうち自家用車を利用する割合をお答えください。"]
[null,"※設問2で「外出しない」と回答した人を除外"]
[null,null,null,null,null,null,null,null,"全回答者数","有効回答者数","%"]
[null,"自家用車の使用割合",1,"ほぼすべての外出で自家用車を利用している（９割以上）",null,null,null,null,{"$f":"COUNTIFS(①会場アンケート集計結果_スマートムーブ!$V:$V,'②単純集計表 '!C89)","v":0},{"$f":"COUNTIFS(①会場アンケート集計結果_スマートムーブ!$AV:$AV,0,①会場アンケート集計結果_スマートムーブ!$AR:$AR,0,①会場アンケート集計結果_スマートムーブ!$V:$V,'②単純集計表 '!C89)","v":0},{"$f":"J89/$J$96","v":{"$error":"#DIV/0!"}}]
[null,null,2,"半分以上の外出で自家用車を利用している（５割以上）",null,null,null,null,{"$f":"COUNTIFS(①会場アンケート集計結果_スマートムーブ!$V:$V,'②単純集計表 '!C90)","v":0},{"$f":"COUNTIFS(①会場アンケート集計結果_スマートムーブ!$AV:$AV,0,①会場アンケート集計結果_スマートムーブ!$AR:$AR,0,①会場アンケート集計結果_スマートムーブ!$V:$V,'②単純集計表 '!C90)","v":0},{"$error":"#DIV/0!"}]
[null,null,3,"３割程度の外出で自家用車を利用している（３割以上）",null,null,null,null,{"$f":"COUNTIFS(①会場アンケート集計結果_スマートムーブ!$V:$V,'②単純集計表 '!C91)","v":0},{"$f":"COUNTIFS(①会場アンケート集計結果_スマートムーブ!$AV:$AV,0,①会場アンケート集計結果_スマートムーブ!$AR:$AR,0,①会場アンケート集計結果_スマートムーブ!$V:$V,'②単純集計表 '!C91)","v":0},{"$error":"#DIV/0!"}]
[null,null,4,"あまり自家用車を利用していない（１～２割）",null,null,null,null,{"$f":"COUNTIFS(①会場アンケート集計結果_スマートムーブ!$V:$V,'②単純集計表 '!C92)","v":0},{"$f":"COUNTIFS(①会場アンケート集計結果_スマートムーブ!$AV:$AV,0,①会場アンケート集計結果_スマートムーブ!$AR:$AR,0,①会場アンケート集計結果_スマートムーブ!$V:$V,'②単純集計表 '!C92)","v":0},{"$error":"#DIV/0!"}]
[null,null,5,"自家用車はほとんど利用していない",null,null,null,null,{"$f":"COUNTIFS(①会場アンケート集計結果_スマートムーブ!$V:$V,'②単純集計表 '!C93)","v":0},{"$f":"COUNTIFS(①会場アンケート集計結果_スマートムーブ!$AV:$AV,0,①会場アンケート集計結果_スマートムーブ!$AR:$AR,0,①会場アンケート集計結果_スマートムーブ!$V:$V,'②単純集計表 '!C93)","v":0},{"$error":"#DIV/0!"}]
[null,null,99,"未回答",null,null,null,null,{"$f":"COUNTIFS(①会場アンケート集計結果_スマートムーブ!$V:$V,'②単純集計表 '!C94)","v":0},{"$f":"COUNTIFS(①会場アンケート集計結果_スマートムーブ!$AV:$AV,0,①会場アンケート集計結果_スマートムーブ!$AR:$AR,0,①会場アンケート集計結果_スマートムーブ!$V:$V,'②単純集計表 '!C94)","v":0},{"$error":"#DIV/0!"}]
[null,null,null,null,null,null,"検算用","回答者数",{"$f":"SUM(I89:I94)","v":0}]
[null,null,null,null,null,null,null,"有効回答数",null,{"$f":"SUM(J89:J94)","v":0}]
[]
[]
[]
[]
[null,"【設問4】イベントに参加されて、今後はスマートムーブに取り組もうと思いましたか（1つ回答）。"]
[null,"※設問2で「外出しない」と回答した人、設問3で「自家用車はほとんど利用していない」と回答した人を除外"]
[]
[null,null,null,null,null,null,null,null,null,null,null,"全回答者数","有効回答者数","%"]
[null,"イベント参加後の意識変容",1,"これまでもできる限りスマートムーブに取り組んでいる（公共交通機関や自転車を利用している）",null,null,null,null,null,null,null,{"$f":"COUNTIFS(①会場アンケート集計結果_スマートムーブ!$X:$X,'②単純集計表 '!C105)","v":0},{"$f":"COUNTIFS(①会場アンケート集計結果_スマートムーブ!$AV:$AV,0,①会場アンケート集計結果_スマートムーブ!$X:$X,'②単純集計表 '!C105)","v":0},{"$f":"M105/$M$112","v":{"$error":"#DIV/0!"}},"⇒行動済"]
[null,null,2,"これまでもスマートムーブに取り組みたいと思っていたが、今後は実際に取り組もうと思う／頻度を増やそうと思う",null,null,null,null,null,null,null,{"$f":"COUNTIFS(①会場アンケート集計結果_スマートムーブ!$X:$X,'②単純集計表 '!C106)","v":0},{"$f":"COUNTIFS(①会場アンケート集計結果_スマートムーブ!$AV:$AV,0,①会場アンケート集計結果_スマートムーブ!$X:$X,'②単純集計表 '!C106)","v":0},{"$f":"M106/$M$112","v":{"$error":"#DIV/0!"}},"⇒意識変容"]
[null,null,3,"今後はスマートムーブに取り組みたいと思うようになった",null,null,null,null,null,null,null,{"$f":"COUNTIFS(①会場アンケート集計結果_スマートムーブ!$X:$X,'②単純集計表 '!C107)","v":0},{"$f":"COUNTIFS(①会場アンケート集計結果_スマートムーブ!$AV:$AV,0,①会場アンケート集計結果_スマートムーブ!$X:$X,'②単純集計表 '!C107)","v":0},{"$f":"M107/$M$112","v":{"$error":"#DIV/0!"}},"⇒意識変容"]
[null,null,4,"今後もスマートムーブに取り組みたいとは思わない",null,null,null,null,null,null,null,{"$f":"COUNTIFS(①会場アンケート集計結果_スマートムーブ!$X:$X,'②単純集計表 '!C108)","v":0},{"$f":"COUNTIFS(①会場アンケート集計結果_スマートムーブ!$AV:$AV,0,①会場アンケート集計結果_スマートムーブ!$X:$X,'②単純集計表 '!C108)","v":0},{"$error":"#DIV/0!"},"⇒現状維持"]
[null,null,5,"スマートムーブに取り組むことができない（公共交通機関の利用が困難等）",null,null,null,null,null,null,null,{"$f":"COUNTIFS(①会場アンケート集計結果_スマートムーブ!$X:$X,'②単純集計表 '!C109)","v":0},{"$f":"COUNTIFS(①会場アンケート集計結果_スマートムーブ!$AV:$AV,0,①会場アンケート集計結果_スマートムーブ!$X:$X,'②単純集計表 '!C109)","v":0},{"$error":"#DIV/0!"},"⇒変容なし"]
[null,null,99,"未回答",null,null,null,null,null,null,null,{"$f":"COUNTIFS(①会場アンケート集計結果_スマートムーブ!$X:$X,'②単純集計表 '!C110)","v":0},{"$f":"COUNTIFS(①会場アンケート集計結果_スマートムーブ!$AV:$AV,0,①会場アンケート集計結果_スマートムーブ!$X:$X,'②単純集計表 '!C110)","v":0},{"$error":"#DIV/0!"}]
[null,null,null,null,null,null,null,null,null,"検算用","回答者数",{"$f":"SUM(L105:L110)","v":0}]
[null,null,null,null,null,null,null,null,null,null,"有効回答数",null,{"$f":"SUM(M105:M110)","v":0}]
[]
[null,null,null,null,null,null,null,null,null,null,null,null,null,{"$f":"SUM(N106:N107)","v":{"$error":"#DIV/0!"}},"：意識変容合計"]
[]
[]
[]
[null,"【設問5】なぜ、スマートムーブに取り組もうと思いましたか（3つまで）。"]
[null,"※設問24で「これまでもできる限りスマートムーブに取組んでいる」、「これまでもスマートムーブに取り組みたいと思っていたが、今後は実際に取り組もうと思う／頻度を増やそうと思う」、「今後はスマートムーブに取り組みたいと思うようになった」と回答した人対象"]
[]
[null,null,null,null,null,null,null,null,null,null,null,null,null,"有効回答者数","%"]
[null,"取組意向の理由",1,"CO２の削減に貢献するため",null,null,null,null,null,null,null,null,null,{"$f":"COUNTIFS(①会場アンケート集計結果_スマートムーブ!$AV:$AV,0,①会場アンケート集計結果_スマートムーブ!$AU:$AU,1,①会場アンケート集計結果_スマートムーブ!$Z:$Z,1)","v":0},{"$f":"N122/$P$130","v":{"$error":"#DIV/0!"}}]
[null,null,2,"スマートムーブを実施するための具体的な方法がわかったため（サイクルシェアリングサービス等）",null,null,null,null,null,null,null,null,null,{"$f":"COUNTIFS(①会場アンケート集計結果_スマートムーブ!$AV:$AV,0,①会場アンケート集計結果_スマートムーブ!$AU:$AU,1,①会場アンケート集計結果_スマートムーブ!$AA:$AA,1)","v":0},{"$f":"N123/$P$130","v":{"$error":"#DIV/0!"}}]
[null,null,3,"移動時間が短縮されるため",null,null,null,null,null,null,null,null,null,{"$f":"COUNTIFS(①会場アンケート集計結果_スマートムーブ!$AV:$AV,0,①会場アンケート集計結果_スマートムーブ!$AU:$AU,1,①会場アンケート集計結果_スマートムーブ!$AB:$AB,1)","v":0},{"$error":"#DIV/0!"}]
[null,null,4,"経済的なメリットが期待できるため",null,null,null,null,null,null,null,null,null,{"$f":"COUNTIFS(①会場アンケート集計結果_スマートムーブ!$AV:$AV,0,①会場アンケート集計結果_スマートムーブ!$AU:$AU,1,①会場アンケート集計結果_スマートムーブ!$AC:$AC,1)","v":0},{"$error":"#DIV/0!"}]
[null,null,5,"運動不足が解消されるため",null,null,null,null,null,null,null,null,null,{"$f":"COUNTIFS(①会場アンケート集計結果_スマートムーブ!$AV:$AV,0,①会場アンケート集計結果_スマートムーブ!$AU:$AU,1,①会場アンケート集計結果_スマートムーブ!$AD:$AD,1)","v":0},{"$error":"#DIV/0!"}]
[null,null,6,"通学先・勤務先で奨励されているため",null,null,null,null,null,null,null,null,null,{"$f":"COUNTIFS(①会場アンケート集計結果_スマートムーブ!$AV:$AV,0,①会場アンケート集計結果_スマートムーブ!$AU:$AU,1,①会場アンケート集計結果_スマートムーブ!$AE:$AE,1)","v":0},{"$error":"#DIV/0!"}]
[null,null,7,"多くの人がスマートムーブを実施しており、自分もそうする必要があると思ったため",null,null,null,null,null,null,null,null,null,{"$f":"COUNTIFS(①会場アンケート集計結果_スマートムーブ!$AV:$AV,0,①会場アンケート集計結果_スマートムーブ!$AU:$AU,1,①会場アンケート集計結果_スマートムーブ!$AF:$AF,1)","v":0},{"$error":"#DIV/0!"}]
[null,null,8,"その他",null,null,null,null,null,null,null,null,null,{"$f":"COUNTIFS(①会場アンケート集計結果_スマートムーブ!$AV:$AV,0,①会場アンケート集計結果_スマートムーブ!$AU:$AU,1,①会場アンケート集計結果_スマートムーブ!$AG:$AG,1)","v":0},{"$error":"#DIV/0!"}]
[null,null,99,"未回答",null,null,null,null,null,null,null,null,null,{"$f":"COUNTIFS(①会場アンケート集計結果_スマートムーブ!$AV:$AV,0,①会場アンケート集計結果_スマートムーブ!$AU:$AU,1,①会場アンケート集計結果_スマートムーブ!$AI:$AI,1)","v":0},{"$error":"#DIV/0!"},{"$f":"COUNTIFS(①会場アンケート集計結果_スマートムーブ!$H:$H,\"<>\"&\"\",①会場アンケート集計結果_スマートムーブ!$AQ:$AQ,0,①会場アンケート集計結果_スマートムーブ!$AR:$AR,0,①会場アンケート集計結果_スマートムーブ!$AS:$AS,0,①会場アンケート集計結果_スマートムーブ!$AT:$AT,0)","v":0}]
[]
[]
[]
[]
[]
[]
[]
[]
[]
[]
[]
[null,"【設問2、3】車での外出頻度"]
[]
[null,null,null,null,null,null,null,"回答者数","%","外出回数","%","累積比率"]
[null,"月当たり車での外出回数",0,1,"1回未満",null,null,{"$f":"COUNTIFS(①会場アンケート集計結果_スマートムーブ!$AV:$AV,0,①会場アンケート集計結果_スマートムーブ!$AL:$AL,\">=\"&'②単純集計表 '!C145,①会場アンケート集計結果_スマートムーブ!$AL:$AL,\"<\"&D145)","v":0},{"$f":"H145/$D$7","v":{"$error":"#DIV/0!"}},{"$f":"SUMIFS(①会場アンケート集計結果_スマートムーブ!$AL$10:$AL$2009,①会場アンケート集計結果_スマートムーブ!$AV$10:$AV$2009,0,①会場アンケート集計結果_スマートムーブ!$AL$10:$AL$2009,\">=\"&'②単純集計表 '!C145,①会場アンケート集計結果_スマートムーブ!$AL$10:$AL$2009,\"<\"&D145)","v":0},{"$f":"J145/SUM($J$145:$J$155)","v":{"$error":"#DIV/0!"}},{"$f":"SUM($K$145:K145)","v":{"$error":"#DIV/0!"}}]
[null,null,1,2,"1回以上2回未満",null,null,{"$f":"COUNTIFS(①会場アンケート集計結果_スマートムーブ!$AV:$AV,0,①会場アンケート集計結果_スマートムーブ!$AL:$AL,\">=\"&'②単純集計表 '!C146,①会場アンケート集計結果_スマートムーブ!$AL:$AL,\"<\"&D146)","v":0},{"$error":"#DIV/0!"},{"$f":"SUMIFS(①会場アンケート集計結果_スマートムーブ!$AL$10:$AL$2009,①会場アンケート集計結果_スマートムーブ!$AV$10:$AV$2009,0,①会場アンケート集計結果_スマートムーブ!$AL$10:$AL$2009,\">=\"&'②単純集計表 '!C146,①会場アンケート集計結果_スマートムーブ!$AL$10:$AL$2009,\"<\"&D146)","v":0},{"$f":"J146/SUM($J$145:$J$155)","v":{"$error":"#DIV/0!"}},{"$f":"SUM($K$145:K146)","v":{"$error":"#DIV/0!"}}]
[null,null,2,3,"2回以上3回未満",null,null,{"$f":"COUNTIFS(①会場アンケート集計結果_スマートムーブ!$AV:$AV,0,①会場アンケート集計結果_スマートムーブ!$AL:$AL,\">=\"&'②単純集計表 '!C147,①会場アンケート集計結果_スマートムーブ!$AL:$AL,\"<\"&D147)","v":0},{"$error":"#DIV/0!"},{"$f":"SUMIFS(①会場アンケート集計結果_スマートムーブ!$AL$10:$AL$2009,①会場アンケート集計結果_スマートムーブ!$AV$10:$AV$2009,0,①会場アンケート集計結果_スマートムーブ!$AL$10:$AL$2009,\">=\"&'②単純集計表 '!C147,①会場アンケート集計結果_スマートムーブ!$AL$10:$AL$2009,\"<\"&D147)","v":0},{"$error":"#DIV/0!"},{"$f":"SUM($K$145:K147)","v":{"$error":"#DIV/0!"}}]
[null,null,3,4,"3回以上4回未満",null,null,{"$f":"COUNTIFS(①会場アンケート集計結果_スマートムーブ!$AV:$AV,0,①会場アンケート集計結果_スマートムーブ!$AL:$AL,\">=\"&'②単純集計表 '!C148,①会場アンケート集計結果_スマートムーブ!$AL:$AL,\"<\"&D148)","v":0},{"$error":"#DIV/0!"},{"$f":"SUMIFS(①会場アンケート集計結果_スマートムーブ!$AL$10:$AL$2009,①会場アンケート集計結果_スマートムーブ!$AV$10:$AV$2009,0,①会場アンケート集計結果_スマートムーブ!$AL$10:$AL$2009,\">=\"&'②単純集計表 '!C148,①会場アンケート集計結果_スマートムーブ!$AL$10:$AL$2009,\"<\"&D148)","v":0},{"$error":"#DIV/0!"},{"$f":"SUM($K$145:K148)","v":{"$error":"#DIV/0!"}}]
[null,null,4,5,"4回以上5回未満",null,null,{"$f":"COUNTIFS(①会場アンケート集計結果_スマートムーブ!$AV:$AV,0,①会場アンケート集計結果_スマートムーブ!$AL:$AL,\">=\"&'②単純集計表 '!C149,①会場アンケート集計結果_スマートムーブ!$AL:$AL,\"<\"&D149)","v":0},{"$error":"#DIV/0!"},{"$f":"SUMIFS(①会場アンケート集計結果_スマートムーブ!$AL$10:$AL$2009,①会場アンケート集計結果_スマートムーブ!$AV$10:$AV$2009,0,①会場アンケート集計結果_スマートムーブ!$AL$10:$AL$2009,\">=\"&'②単純集計表 '!C149,①会場アンケート集計結果_スマートムーブ!$AL$10:$AL$2009,\"<\"&D149)","v":0},{"$error":"#DIV/0!"},{"$f":"SUM($K$145:K149)","v":{"$error":"#DIV/0!"}}]
[null,null,5,6,"5回以上6回未満",null,null,{"$f":"COUNTIFS(①会場アンケート集計結果_スマートムーブ!$AV:$AV,0,①会場アンケート集計結果_スマートムーブ!$AL:$AL,\">=\"&'②単純集計表 '!C150,①会場アンケート集計結果_スマートムーブ!$AL:$AL,\"<\"&D150)","v":0},{"$error":"#DIV/0!"},{"$f":"SUMIFS(①会場アンケート集計結果_スマートムーブ!$AL$10:$AL$2009,①会場アンケート集計結果_スマートムーブ!$AV$10:$AV$2009,0,①会場アンケート集計結果_スマートムーブ!$AL$10:$AL$2009,\">=\"&'②単純集計表 '!C150,①会場アンケート集計結果_スマートムーブ!$AL$10:$AL$2009,\"<\"&D150)","v":0},{"$error":"#DIV/0!"},{"$f":"SUM($K$145:K150)","v":{"$error":"#DIV/0!"}}]
[null,null,6,7,"6回以上7回未満",null,null,{"$f":"COUNTIFS(①会場アンケート集計結果_スマートムーブ!$AV:$AV,0,①会場アンケート集計結果_スマートムーブ!$AL:$AL,\">=\"&'②単純集計表 '!C151,①会場アンケート集計結果_スマートムーブ!$AL:$AL,\"<\"&D151)","v":0},{"$error":"#DIV/0!"},{"$f":"SUMIFS(①会場アンケート集計結果_スマートムーブ!$AL$10:$AL$2009,①会場アンケート集計結果_スマートムーブ!$AV$10:$AV$2009,0,①会場アンケート集計結果_スマートムーブ!$AL$10:$AL$2009,\">=\"&'②単純集計表 '!C151,①会場アンケート集計結果_スマートムーブ!$AL$10:$AL$2009,\"<\"&D151)","v":0},{"$error":"#DIV/0!"},{"$f":"SUM($K$145:K151)","v":{"$error":"#DIV/0!"}}]
[null,null,7,8,"7回以上8回未満",null,null,{"$f":"COUNTIFS(①会場アンケート集計結果_スマートムーブ!$AV:$AV,0,①会場アンケート集計結果_スマートムーブ!$AL:$AL,\">=\"&'②単純集計表 '!C152,①会場アンケート集計結果_スマートムーブ!$AL:$AL,\"<\"&D152)","v":0},{"$error":"#DIV/0!"},{"$f":"SUMIFS(①会場アンケート集計結果_スマートムーブ!$AL$10:$AL$2009,①会場アンケート集計結果_スマートムーブ!$AV$10:$AV$2009,0,①会場アンケート集計結果_スマートムーブ!$AL$10:$AL$2009,\">=\"&'②単純集計表 '!C152,①会場アンケート集計結果_スマートムーブ!$AL$10:$AL$2009,\"<\"&D152)","v":0},{"$error":"#DIV/0!"},{"$f":"SUM($K$145:K152)","v":{"$error":"#DIV/0!"}}]
[null,null,8,9,"8回以上9回未満",null,null,{"$f":"COUNTIFS(①会場アンケート集計結果_スマートムーブ!$AV:$AV,0,①会場アンケート集計結果_スマートムーブ!$AL:$AL,\">=\"&'②単純集計表 '!C153,①会場アンケート集計結果_スマートムーブ!$AL:$AL,\"<\"&D153)","v":0},{"$error":"#DIV/0!"},{"$f":"SUMIFS(①会場アンケート集計結果_スマートムーブ!$AL$10:$AL$2009,①会場アンケート集計結果_スマートムーブ!$AV$10:$AV$2009,0,①会場アンケート集計結果_スマートムーブ!$AL$10:$AL$2009,\">=\"&'②単純集計表 '!C153,①会場アンケート集計結果_スマートムーブ!$AL$10:$AL$2009,\"<\"&D153)","v":0},{"$error":"#DIV/0!"},{"$f":"SUM($K$145:K153)","v":{"$error":"#DIV/0!"}}]
[null,null,9,10,"9回以上10回未満",null,null,{"$f":"COUNTIFS(①会場アンケート集計結果_スマートムーブ!$AV:$AV,0,①会場アンケート集計結果_スマートムーブ!$AL:$AL,\">=\"&'②単純集計表 '!C154,①会場アンケート集計結果_スマートムーブ!$AL:$AL,\"<\"&D154)","v":0},{"$error":"#DIV/0!"},{"$f":"SUMIFS(①会場アンケート集計結果_スマートムーブ!$AL$10:$AL$2009,①会場アンケート集計結果_スマートムーブ!$AV$10:$AV$2009,0,①会場アンケート集計結果_スマートムーブ!$AL$10:$AL$2009,\">=\"&'②単純集計表 '!C154,①会場アンケート集計結果_スマートムーブ!$AL$10:$AL$2009,\"<\"&D154)","v":0},{"$f":"J154/SUM($J$145:$J$155)","v":{"$error":"#DIV/0!"}},{"$f":"SUM($K$145:K154)","v":{"$error":"#DIV/0!"}}]
[null,null,10,30,"10回以上",null,null,{"$f":"COUNTIFS(①会場アンケート集計結果_スマートムーブ!$AV:$AV,0,①会場アンケート集計結果_スマートムーブ!$AL:$AL,\">=\"&'②単純集計表 '!C155,①会場アンケート集計結果_スマートムーブ!$AL:$AL,\"<\"&D155)","v":0},{"$error":"#DIV/0!"},{"$f":"SUMIFS(①会場アンケート集計結果_スマートムーブ!$AL$10:$AL$2009,①会場アンケート集計結果_スマートムーブ!$AV$10:$AV$2009,0,①会場アンケート集計結果_スマートムーブ!$AL$10:$AL$2009,\">=\"&'②単純集計表 '!C155,①会場アンケート集計結果_スマートムーブ!$AL$10:$AL$2009,\"<\"&D155)","v":0},{"$error":"#DIV/0!"},{"$f":"SUM($K$145:K155)","v":{"$error":"#DIV/0!"}}]
[null,null,null,null,null,null,null,{"$f":"SUM(H145:H155)","v":0}]

{"sheet":"参照⇒","index":5,"n_rows":0,"n_cols":0,"rows_kept":0,"cut":false,"hidden":false,"merged":[]}

{"sheet":"読み替え表_スマートムーブ","index":6,"n_rows":56,"n_cols":6,"rows_kept":56,"cut":false,"hidden":false,"merged":[]}
[]
[null,"・普段の外出頻度"]
[null,null,null,null,null,"月当たり外出頻度"]
[null,null,1,"毎日外出する",null,30]
[null,null,2,"週に６回程度外出する",null,24]
[null,null,3,"週に５回程度外出する",null,20]
[null,null,4,"週に４回程度外出する",null,16]
[null,null,5,"週に３回程度外出する",null,12]
[null,null,6,"週に２回程度外出する",null,8]
[null,null,7,"週に１回程度外出する",null,4]
[null,null,8,"上記以下の頻度で外出する",null,0]
[null,null,9,"外出しない",null,0]
[null,null,99,"未回答"]
[]
[null,"・外出に自家用車を利用する頻度"]
[null,null,1,"ほぼすべての外出で自家用車を利用している（９割以上）",null,0.9]
[null,null,2,"半分以上の外出で自家用車を利用している（５割以上）",null,0.5]
[null,null,3,"３割程度の外出で自家用車を利用している（３割以上）",null,0.3]
[null,null,4,"あまり自家用車を利用していない（１～２割）",null,0.15]
[null,null,5,"自家用車はほとんど利用していない",null,0]
[null,null,99,"未回答",null,0]
[]
[null,"・イベント参加後のスマートムーブの実施意向"]
[null,null,1,"これまでもできる限りスマートムーブに取り組んでいる（公共交通機関や自転車を利用している）"]
[null,null,2,"これまでもスマートムーブに取り組みたいと思っていたが、今後は実際に取り組もうと思う／頻度を増やそうと思う"]
[null,null,3,"今後はスマートムーブに取り組みたいと思うようになった"]
[null,null,4,"今後もスマートムーブに取り組みたいとは思わない"]
[null,null,5,"スマートムーブに取り組むことができない（公共交通機関の利用が困難等）"]
[null,null,99,"未回答"]
[]
[null,"・スマートムーブ実施理由"]
[null,null,1,"CO２の削減に貢献するため"]
[null,null,2,"スマートムーブを実施するための具体的な方法がわかったため（サイクルシェアリングサービス等）"]
[null,null,3,"移動時間が短縮されるため"]
[null,null,4,"経済的なメリットが期待できるため"]
[null,null,5,"運動不足が解消されるため"]
[null,null,6,"通学先・勤務先で奨励されているため"]
[null,null,7,"多くの人がスマートムーブを実施しており、自分もそうする必要があると思ったため"]
[null,null,8,"その他"]
[null,null,99,"未回答"]
[]
[null,"・メールアドレス"]
[null,null,0,"メールアドレス記載無し"]
[null,null,1,"メールアドレス記載有り"]
[]
[null,"・無効回答の定義（アンケート分析対象外）"]
[null,null,null,"Q1=自家用車を持っていない"]
[null,null,null,"Q2=9（外出しない）"]
[null,null,null,"Q3=5（自家用車はほとんど利用していない）"]
[]
[]
[]
[null,"◆","アンケート配布状況オプション"]
[null,null,"普及啓発活動の実施前"]
[null,null,"普及啓発活動の実施直後"]
[null,null,"普及啓発活動実施の数日後"]