{"text_format":"1","workbook":"xlsx","n_sheets":7,"sheets":["入力手順","ローデータ⇒","①会場アンケート集計結果_カーシェア","集計結果⇒","②単純集計表 ","参照⇒","読み替え表_カーシェア"],"not_rendered":{"charts":6,"images":0,"macros":1,"external_links":0,"defined_names":2,"comments":1,"pivot_tables":0},"unopened":[],"bounds":{"document_bytes":16777216,"sheet_cells":100000,"rows_first":2000,"rows_last":500,"rows_between":2000,"halvings":0,"cell_chars":16384,"cell_head_chars":4096},"cells_cut":0,"cells_raw":0,"read":"whole","date_system":"1900"}

{"sheet":"入力手順","index":0,"n_rows":27,"n_cols":4,"rows_kept":27,"cut":false,"hidden":false,"merged":[[7,3,7,11],[16,3,16,11],[17,3,17,11],[8,3,8,11],[9,3,9,11],[10,3,10,11],[11,3,11,11],[14,3,14,11],[15,3,15,11],[13,3,13,11],[12,3,12,11]]}
[]
[null,"会場アンケート入力ツール　シート構成・入力手順--------------------------------------------"]
[null,"◆カーシェア"]
[]
[null,"①「会場アンケート集計結果_カーシェア」シート【要入力】"]
[null,"・講演会・イベント等で回収されたアンケート調査票を入力する（データ化する）ツール"]
[null,"＜手順＞"]
[null,null,"①","「会場アンケート情報」の黄色セル欄に事業者番号、PDCAシート記載の事業番号、実施日、実施場所、アンケート配布状況を記入する"]
[null,null,"②","「表示」をクリックし、入力フォームを表示させる"]
[null,null,"③","「入力行」にアンケート結果の入力を開始する行番号を入力する（添付エクセルの場合は11行目から開始）"]
[null,null,"④","都道府県名、事業者名、アンケートを実施したイベント名、アンケート回収日付をそれぞれの欄に記入する"]
[null,null,"⑤"," 性別・年齢は入力フォームにしたがって選択する"]
[null,null,"⑥","「２．これまでのカーシェア利用状況について」は回答と一致するものを選択する"]
[null,null,"⑦","「３．車の保有台数について」は台数を回答する"]
[null,null,"⑧","「４．今後のカーシェア利用意向について」は回答と一致するものを選択する"]
[null,null,"⑨","「５．利用意向の理由について」は回答と一致するものを選択する"]
[null,null,"⑩","「６．追跡アンケートへのご協力のお願い（メールアドレス）」では、アンケート下部を確認し、まずメールアドレスの有無を選択する。メールアドレスの記入があった場合は、メールアドレスを記入する"]
[null,null,"⑪","すべての入力が終わったら「【データ入力】」をクリック"]
[]
[]
[null,"②「単純集計表」シート"]
[null,"・「会場アンケート集計結果_カーシェア」シートに入力されたデータを簡易的に集計したものである"]
[null,"・来場者の性別・年代別構成比、現在のカーシェア実施状況、自家用車の保有台数、実施意向及び理由を把握可能"]
[]
[null,"③「読み替え表_カーシェア」シート"]
[null,"・本ファイルではアンケートの回答結果をデータ処理のため数字で代替している箇所がある"]
[null,"・その際のアンケート回答選択肢と数字の置換関係をまとめたシートである"]

{"sheet":"ローデータ⇒","index":1,"n_rows":0,"n_cols":0,"rows_kept":0,"cut":false,"hidden":false,"merged":[]}

{"sheet":"①会場アンケート集計結果_カーシェア","index":2,"n_rows":2011,"n_cols":43,"rows_kept":2011,"cut":false,"hidden":false,"merged":[[6,29,6,30],[6,25,6,27],[7,25,7,27],[7,7,7,8],[6,7,6,8],[6,9,6,10],[7,9,7,10],[6,13,6,14],[7,13,7,14],[2,6,2,8],[7,11,7,12],[6,11,6,12],[6,15,6,24],[7,15,7,24]]}
[null,null,{"$f":"COLUMN()","v":3},{"$f":"COLUMN()","v":4},{"$f":"COLUMN()","v":5},{"$f":"COLUMN()","v":6},{"$f":"COLUMN()","v":7},{"$f":"COLUMN()","v":8},{"$f":"COLUMN()","v":9},{"$f":"COLUMN()","v":10},{"$f":"COLUMN()","v":11},{"$f":"COLUMN()","v":12},{"$f":"COLUMN()","v":13},{"$f":"COLUMN()","v":14},{"$f":"COLUMN()","v":15},{"$f":"COLUMN()","v":16},{"$f":"COLUMN()","v":17},{"$f":"COLUMN()","v":18},{"$f":"COLUMN()","v":19},{"$f":"COLUMN()","v":20},{"$f":"COLUMN()","v":21},{"$f":"COLUMN()","v":22},{"$f":"COLUMN()","v":23},{"$f":"COLUMN()","v":24},{"$f":"COLUMN()","v":25},{"$f":"COLUMN()","v":26},{"$f":"COLUMN()","v":27},{"$f":"COLUMN()","v":28},{"$f":"COLUMN()","v":29},{"$f":"COLUMN()","v":30},null,{"$f":"COLUMN()","v":32},{"$f":"COLUMN()","v":33},{"$f":"COLUMN()","v":34},{"$f":"COLUMN()","v":35},{"$f":"COLUMN()","v":36},{"$f":"COLUMN()","v":37},{"$f":"COLUMN()","v":38},{"$f":"COLUMN()","v":39},{"$f":"COLUMN()","v":40},null,{"$f":"COLUMN()","v":42},"*"]
[null,95,null,"【会場アンケート情報】"]
[null,null,null,"事業者番号","PDCAシート記載の事業番号","イベント名\n（PDCAシート記載の名称）","講演会・イベント　実施日",null,null,"実施場所","アンケート配布状況\n（どのタイミングでアンケートを実施したか）","アンケート\n回収数","ﾒｰﾙｱﾄﾞﾚｽ\n回収数"]
[null,null,null,null,null,{"$f":"$F$11&\"\"","v":""},"2021/XX/XX","～","2022/XX/XX",null,null,{"$f":"COUNTA($F$11:$F$2010)","v":0},{"$f":"COUNTIF($Z$11:$Z$2010,1)","v":0}]
[null,null,null,null,null,null,null,null,null,null,"↑プルダウンメニューから選択してください"]
[null,null,null,null,null,null,null,null,null,null,null,null,null,null,null,null,null,null,null,null,null,null,null,null,null,null,null,null,null,null,null,null,null,null,null,null,null,null,null,null,null,null,"*"]
[null,null,null,null,null,null,null,"１．あなたご自身について",null,"2．これまでのカーシェア実施状況について",null,"３．車の保有台数について",null,"４．今後のカーシェア利用意向について",null,"５．実施意向の理由について",null,null,null,null,null,null,null,null,null,"６．追跡アンケートへのご協力のお願い（メールアドレス）",null,null,null,"作業用",null,null,"*"]
[null,null,null,"事業者情報",null,"イベント情報",null,"性別・年代",null,"現在のカーシェアの実施状況についてお聞かせください。",null,"現在の車の保有台数についてお聞かせください。また、Q2でカーシェアを「利用している」を選択した方は、カーシェア実施前の車の保有台数についてもお聞かせください（数字を記入）",null,"イベントに参加されて、カーシェアを利用したいと思いましたか",null,"なぜ、カーシェアを実施していますか／実施したいと思いましたか（3つまで）",null,null,null,null,null,null,null,null,null,"メールアドレス",null,null,null,null,null,null,"*"]
[null,null,"#","都道府県","事業者名","イベント名\n（PDCAシート記載の名称）","回収日付","性別","年代","#","回答","現在の保有台数","利用前の保有台数","#","回答","CO2の削減に貢献する","維持費が節約できる","様々な車に乗れる","車の利用頻度が低い","これまでの台数では足りない","みんながカーシェアを行っている","その他","その他（）","特に理由はない・なんとなく","未回答","記入\n有無","メールアドレス（@より前）","ドメイン","特定ID","Q5対象者","Q3増減フラグ","error"]
[null,null,null,null,null,null,null,null,null,null,null,null,null,null,null,1,2,3,4,5,6,7,8,9,99,null,null,null,null,null,null,null,"*"]
[null,null,{"$f":"ROW()-10","v":1},null,null,null,null,null,null,null,null,null,null,null,null,null,null,null,null,null,null,null,null,null,null,null,null,null,null,{"$f":"IF(OR($N11=1,$N11=2,$N11=3),1,0)","v":0},{"$f":"IF(AND($J11=1,$L11>$M11),1,IF(AND($J11=1,$L11<$M11),2,IF(AND($J11=1,$L11=$M11),3,0)))","v":0},{"$f":"IFERROR(IF(J11=5,1,IF(MATCH(J11&\"/\"&N11,読み替え表_カーシェア!$P$32:$P$52,0),1,0)),0)","v":0},"*"]
[null,null,{"$f":"ROW()-10","v":2},null,null,null,null,null,null,null,null,null,null,null,null,null,null,null,null,null,null,null,null,null,null,null,null,null,null,{"$f":"IF(OR($N12=1,$N12=2,$N12=3),1,0)","v":0},{"$f":"IF(AND($J12=1,$L12>$M12),1,IF(AND($J12=1,$L12<$M12),2,IF(AND($J12=1,$L12=$M12),3,0)))","v":0},{"$f":"IFERROR(IF(J12=5,1,IF(MATCH(J12&\"/\"&N12,読み替え表_カーシェア!$P$32:$P$52,0),1,0)),0)","v":0},"*"]
[null,null,{"$f":"ROW()-10","v":3},null,null,null,null,null,null,null,null,null,null,null,null,null,null,null,null,null,null,null,null,null,null,null,null,null,null,0,0,{"$f":"IFERROR(IF(J13=5,1,IF(MATCH(J13&\"/\"&N13,読み替え表_カーシェア!$P$32:$P$52,0),1,0)),0)","v":0},"*"]
[null,null,4,null,null,null,null,null,null,null,null,null,null,null,null,null,null,null,null,null,null,null,null,null,null,null,null,null,null,0,0,{"$f":"IFERROR(IF(J14=5,1,IF(MATCH(J14&\"/\"&N14,読み替え表_カーシェア!$P$32:$P$52,0),1,0)),0)","v":0},"*"]
[null,null,5,null,null,null,null,null,null,null,null,null,null,null,null,null,null,null,null,null,null,null,null,null,null,null,null,null,null,0,0,{"$f":"IFERROR(IF(J15=5,1,IF(MATCH(J15&\"/\"&N15,読み替え表_カーシェア!$P$32:$P$52,0),1,0)),0)","v":0},"*"]
[null,null,6,null,null,null,null,null,null,null,null,null,null,null,null,null,null,null,null,null,null,null,null,null,null,null,null,null,null,0,0,{"$f":"IFERROR(IF(J16=5,1,IF(MATCH(J16&\"/\"&N16,読み替え表_カーシェア!$P$32:$P$52,0),1,0)),0)","v":0},"*"]
[null,null,7,null,null,null,null,null,null,null,null,null,null,null,null,null,null,null,null,null,null,null,null,null,null,null,null,null,null,0,0,{"$f":"IFERROR(IF(J17=5,1,IF(MATCH(J17&\"/\"&N17,読み替え表_カーシェア!$P$32:$P$52,0),1,0)),0)","v":0},"*"]
[null,null,8,null,null,null,null,null,null,null,null,null,null,null,null,null,null,null,null,null,null,null,null,null,null,null,null,null,null,0,0,{"$f":"IFERROR(IF(J18=5,1,IF(MATCH(J18&\"/\"&N18,読み替え表_カーシェア!$P$32:$P$52,0),1,0)),0)","v":0},"*"]
[null,null,9,null,null,null,null,null,null,null,null,null,null,null,null,null,null,null,null,null,null,null,null,null,null,null,null,null,null,0,0,{"$f":"IFERROR(IF(J19=5,1,IF(MATCH(J19&\"/\"&N19,読み替え表_カーシェア!$P$32:$P$52,0),1,0)),0)","v":0},"*"]
[null,null,10,null,null,null,null,null,null,null,null,null,null,null,null,null,null,null,null,null,null,null,null,null,null,null,null,null,null,0,0,{"$f":"IFERROR(IF(J20=5,1,IF(MATCH(J20&\"/\"&N20,読み替え表_カーシェア!$P$32:$P$52,0),1,0)),0)","v":0},"*"]
[null,null,11,null,null,null,null,null,null,null,null,null,null,null,null,null,null,null,null,null,null,null,null,null,null,null,null,null,null,0,0,{"$f":"IFERROR(IF(J21=5,1,IF(MATCH(J21&\"/\"&N21,読み替え表_カーシェア!$P$32:$P$52,0),1,0)),0)","v":0},"*"]
[null,null,12,null,null,null,null,null,null,null,null,null,null,null,null,null,null,null,null,null,null,null,null,null,null,null,null,null,null,0,0,{"$f":"IFERROR(IF(J22=5,1,IF(MATCH(J22&\"/\"&N22,読み替え表_カーシェア!$P$32:$P$52,0),1,0)),0)","v":0},"*"]
[null,null,13,null,null,null,null,null,null,null,null,null,null,null,null,null,null,null,null,null,null,null,null,null,null,null,null,null,null,0,0,{"$f":"IFERROR(IF(J23=5,1,IF(MATCH(J23&\"/\"&N23,読み替え表_カーシェア!$P$32:$P$52,0),1,0)),0)","v":0},"*"]
[null,null,14,null,null,null,null,null,null,null,null,null,null,null,null,null,null,null,null,null,null,null,null,null,null,null,null,null,null,0,0,{"$f":"IFERROR(IF(J24=5,1,IF(MATCH(J24&\"/\"&N24,読み替え表_カーシェア!$P$32:$P$52,0),1,0)),0)","v":0},"*"]
[null,null,15,null,null,null,null,null,null,null,null,null,null,null,null,null,null,null,null,null,null,null,null,null,null,null,null,null,null,0,0,{"$f":"IFERROR(IF(J25=5,1,IF(MATCH(J25&\"/\"&N25,読み替え表_カーシェア!$P$32:$P$52,0),1,0)),0)","v":0},"*"]
[null,null,16,null,null,null,null,null,null,null,null,null,null,null,null,null,null,null,null,null,null,null,null,null,null,null,null,null,null,0,0,{"$f":"IFERROR(IF(J26=5,1,IF(MATCH(J26&\"/\"&N26,読み替え表_カーシェア!$P$32:$P$52,0),1,0)),0)","v":0},"*"]
[null,null,17,null,null,null,null,null,null,null,null,null,null,null,null,null,null,null,null,null,null,null,null,null,null,null,null,null,null,0,0,{"$f":"IFERROR(IF(J27=5,1,IF(MATCH(J27&\"/\"&N27,読み替え表_カーシェア!$P$32:$P$52,0),1,0)),0)","v":0},"*"]
[null,null,18,null,null,null,null,null,null,null,null,null,null,null,null,null,null,null,null,null,null,null,null,null,null,null,null,null,null,0,0,{"$f":"IFERROR(IF(J28=5,1,IF(MATCH(J28&\"/\"&N28,読み替え表_カーシェア!$P$32:$P$52,0),1,0)),0)","v":0},"*"]
[null,null,19,null,null,null,null,null,null,null,null,null,null,null,null,null,null,null,null,null,null,null,null,null,null,null,null,null,null,0,0,{"$f":"IFERROR(IF(J29=5,1,IF(MATCH(J29&\"/\"&N29,読み替え表_カーシェア!$P$32:$P$52,0),1,0)),0)","v":0},"*"]
[null,null,20,null,null,null,null,null,null,null,null,null,null,null,null,null,null,null,null,null,null,null,null,null,null,null,null,null,null,0,0,{"$f":"IFERROR(IF(J30=5,1,IF(MATCH(J30&\"/\"&N30,読み替え表_カーシェア!$P$32:$P$52,0),1,0)),0)","v":0},"*"]
[null,null,21,null,null,null,null,null,null,null,null,null,null,null,null,null,null,null,null,null,null,null,null,null,null,null,null,null,null,0,0,{"$f":"IFERROR(IF(J31=5,1,IF(MATCH(J31&\"/\"&N31,読み替え表_カーシェア!$P$32:$P$52,0),1,0)),0)","v":0},"*"]
[null,null,22,null,null,null,null,null,null,null,null,null,null,null,null,null,null,null,null,null,null,null,null,null,null,null,null,null,null,0,0,{"$f":"IFERROR(IF(J32=5,1,IF(MATCH(J32&\"/\"&N32,読み替え表_カーシェア!$P$32:$P$52,0),1,0)),0)","v":0},"*"]
[null,null,23,null,null,null,null,null,null,null,null,null,null,null,null,null,null,null,null,null,null,null,null,null,null,null,null,null,null,0,0,{"$f":"IFERROR(IF(J33=5,1,IF(MATCH(J33&\"/\"&N33,読み替え表_カーシェア!$P$32:$P$52,0),1,0)),0)","v":0},"*"]
[null,null,24,null,null,null,null,null,null,null,null,null,null,null,null,null,null,null,null,null,null,null,null,null,null,null,null,null,null,0,0,{"$f":"IFERROR(IF(J34=5,1,IF(MATCH(J34&\"/\"&N34,読み替え表_カーシェア!$P$32:$P$52,0),1,0)),0)","v":0},"*"]
[null,null,25,null,null,null,null,null,null,null,null,null,null,null,null,null,null,null,null,null,null,null,null,null,null,null,null,null,null,0,0,{"$f":"IFERROR(IF(J35=5,1,IF(MATCH(J35&\"/\"&N35,読み替え表_カーシェア!$P$32:$P$52,0),1,0)),0)","v":0},"*"]
[null,null,26,null,null,null,null,null,null,null,null,null,null,null,null,null,null,null,null,null,null,null,null,null,null,null,null,null,null,0,0,{"$f":"IFERROR(IF(J36=5,1,IF(MATCH(J36&\"/\"&N36,読み替え表_カーシェア!$P$32:$P$52,0),1,0)),0)","v":0},"*"]
[null,null,27,null,null,null,null,null,null,null,null,null,null,null,null,null,null,null,null,null,null,null,null,null,null,null,null,null,null,0,0,{"$f":"IFERROR(IF(J37=5,1,IF(MATCH(J37&\"/\"&N37,読み替え表_カーシェア!$P$32:$P$52,0),1,0)),0)","v":0},"*"]
[null,null,28,null,null,null,null,null,null,null,null,null,null,null,null,null,null,null,null,null,null,null,null,null,null,null,null,null,null,0,0,{"$f":"IFERROR(IF(J38=5,1,IF(MATCH(J38&\"/\"&N38,読み替え表_カーシェア!$P$32:$P$52,0),1,0)),0)","v":0},"*"]
[null,null,29,null,null,null,null,null,null,null,null,null,null,null,null,null,null,null,null,null,null,null,null,null,null,null,null,null,null,0,0,{"$f":"IFERROR(IF(J39=5,1,IF(MATCH(J39&\"/\"&N39,読み替え表_カーシェア!$P$32:$P$52,0),1,0)),0)","v":0},"*"]
[null,null,30,null,null,null,null,null,null,null,null,null,null,null,null,null,null,null,null,null,null,null,null,null,null,null,null,null,null,0,0,{"$f":"IFERROR(IF(J40=5,1,IF(MATCH(J40&\"/\"&N40,読み替え表_カーシェア!$P$32:$P$52,0),1,0)),0)","v":0},"*"]
[null,null,31,null,null,null,null,null,null,null,null,null,null,null,null,null,null,null,null,null,null,null,null,null,null,null,null,null,null,0,0,{"$f":"IFERROR(IF(J41=5,1,IF(MATCH(J41&\"/\"&N41,読み替え表_カーシェア!$P$32:$P$52,0),1,0)),0)","v":0},"*"]
[null,null,32,null,null,null,null,null,null,null,null,null,null,null,null,null,null,null,null,null,null,null,null,null,null,null,null,null,null,0,0,{"$f":"IFERROR(IF(J42=5,1,IF(MATCH(J42&\"/\"&N42,読み替え表_カーシェア!$P$32:$P$52,0),1,0)),0)","v":0},"*"]
[null,null,33,null,null,null,null,null,null,null,null,null,null,null,null,null,null,null,null,null,null,null,null,null,null,null,null,null,null,0,0,{"$f":"IFERROR(IF(J43=5,1,IF(MATCH(J43&\"/\"&N43,読み替え表_カーシェア!$P$32:$P$52,0),1,0)),0)","v":0},"*"]
[null,null,34,null,null,null,null,null,null,null,null,null,null,null,null,null,null,null,null,null,null,null,null,null,null,null,null,null,null,0,0,{"$f":"IFERROR(IF(J44=5,1,IF(MATCH(J44&\"/\"&N44,読み替え表_カーシェア!$P$32:$P$52,0),1,0)),0)","v":0},"*"]
[null,null,35,null,null,null,null,null,null,null,null,null,null,null,null,null,null,null,null,null,null,null,null,null,null,null,null,null,null,0,0,{"$f":"IFERROR(IF(J45=5,1,IF(MATCH(J45&\"/\"&N45,読み替え表_カーシェア!$P$32:$P$52,0),1,0)),0)","v":0},"*"]
[null,null,36,null,null,null,null,null,null,null,null,null,null,null,null,null,null,null,null,null,null,null,null,null,null,null,null,null,null,0,0,{"$f":"IFERROR(IF(J46=5,1,IF(MATCH(J46&\"/\"&N46,読み替え表_カーシェア!$P$32:$P$52,0),1,0)),0)","v":0},"*"]
[null,null,37,null,null,null,null,null,null,null,null,null,null,null,null,null,null,null,null,null,null,null,null,null,null,null,null,null,null,0,0,{"$f":"IFERROR(IF(J47=5,1,IF(MATCH(J47&\"/\"&N47,読み替え表_カーシェア!$P$32:$P$52,0),1,0)),0)","v":0},"*"]
[null,null,38,null,null,null,null,null,null,null,null,null,null,null,null,null,null,null,null,null,null,null,null,null,null,null,null,null,null,0,0,{"$f":"IFERROR(IF(J48=5,1,IF(MATCH(J48&\"/\"&N48,読み替え表_カーシェア!$P$32:$P$52,0),1,0)),0)","v":0},"*"]
[null,null,39,null,null,null,null,null,null,null,null,null,null,null,null,null,null,null,null,null,null,null,null,null,null,null,null,null,null,0,0,{"$f":"IFERROR(IF(J49=5,1,IF(MATCH(J49&\"/\"&N49,読み替え表_カーシェア!$P$32:$P$52,0),1,0)),0)","v":0},"*"]
[null,null,40,null,null,null,null,null,null,null,null,null,null,null,null,null,null,null,null,null,null,null,null,null,null,null,null,null,null,0,0,{"$f":"IFERROR(IF(J50=5,1,IF(MATCH(J50&\"/\"&N50,読み替え表_カーシェア!$P$32:$P$52,0),1,0)),0)","v":0},"*"]
[null,null,41,null,null,null,null,null,null,null,null,null,null,null,null,null,null,null,null,null,null,null,null,null,null,null,null,null,null,0,0,{"$f":"IFERROR(IF(J51=5,1,IF(MATCH(J51&\"/\"&N51,読み替え表_カーシェア!$P$32:$P$52,0),1,0)),0)","v":0},"*"]
[null,null,42,null,null,null,null,null,null,null,null,null,null,null,null,null,null,null,null,null,null,null,null,null,null,null,null,null,null,0,0,{"$f":"IFERROR(IF(J52=5,1,IF(MATCH(J52&\"/\"&N52,読み替え表_カーシェア!$P$32:$P$52,0),1,0)),0)","v":0},"*"]
[null,null,43,null,null,null,null,null,null,null,null,null,null,null,null,null,null,null,null,null,null,null,null,null,null,null,null,null,null,0,0,{"$f":"IFERROR(IF(J53=5,1,IF(MATCH(J53&\"/\"&N53,読み替え表_カーシェア!$P$32:$P$52,0),1,0)),0)","v":0},"*"]
[null,null,44,null,null,null,null,null,null,null,null,null,null,null,null,null,null,null,null,null,null,null,null,null,null,null,null,null,null,0,0,{"$f":"IFERROR(IF(J54=5,1,IF(MATCH(J54&\"/\"&N54,読み替え表_カーシェア!$P$32:$P$52,0),1,0)),0)","v":0},"*"]
[null,null,45,null,null,null,null,null,null,null,null,null,null,null,null,null,null,null,null,null,null,null,null,null,null,null,null,null,null,0,0,{"$f":"IFERROR(IF(J55=5,1,IF(MATCH(J55&\"/\"&N55,読み替え表_カーシェア!$P$32:$P$52,0),1,0)),0)","v":0},"*"]
[null,null,46,null,null,null,null,null,null,null,null,null,null,null,null,null,null,null,null,null,null,null,null,null,null,null,null,null,null,0,0,{"$f":"IFERROR(IF(J56=5,1,IF(MATCH(J56&\"/\"&N56,読み替え表_カーシェア!$P$32:$P$52,0),1,0)),0)","v":0},"*"]
[null,null,47,null,null,null,null,null,null,null,null,null,null,null,null,null,null,null,null,null,null,null,null,null,null,null,null,null,null,0,0,{"$f":"IFERROR(IF(J57=5,1,IF(MATCH(J57&\"/\"&N57,読み替え表_カーシェア!$P$32:$P$52,0),1,0)),0)","v":0},"*"]
[null,null,48,null,null,null,null,null,null,null,null,null,null,null,null,null,null,null,null,null,null,null,null,null,null,null,null,null,null,0,0,{"$f":"IFERROR(IF(J58=5,1,IF(MATCH(J58&\"/\"&N58,読み替え表_カーシェア!$P$32:$P$52,0),1,0)),0)","v":0},"*"]
[null,null,49,null,null,null,null,null,null,null,null,null,null,null,null,null,null,null,null,null,null,null,null,null,null,null,null,null,null,0,0,{"$f":"IFERROR(IF(J59=5,1,IF(MATCH(J59&\"/\"&N59,読み替え表_カーシェア!$P$32:$P$52,0),1,0)),0)","v":0},"*"]
[null,null,50,null,null,null,null,null,null,null,null,null,null,null,null,null,null,null,null,null,null,null,null,null,null,null,null,null,null,0,0,{"$f":"IFERROR(IF(J60=5,1,IF(MATCH(J60&\"/\"&N60,読み替え表_カーシェア!$P$32:$P$52,0),1,0)),0)","v":0},"*"]
[null,null,51,null,null,null,null,null,null,null,null,null,null,null,null,null,null,null,null,null,null,null,null,null,null,null,null,null,null,0,0,{"$f":"IFERROR(IF(J61=5,1,IF(MATCH(J61&\"/\"&N61,読み替え表_カーシェア!$P$32:$P$52,0),1,0)),0)","v":0},"*"]
[null,null,52,null,null,null,null,null,null,null,null,null,null,null,null,null,null,null,null,null,null,null,null,null,null,null,null,null,null,0,0,{"$f":"IFERROR(IF(J62=5,1,IF(MATCH(J62&\"/\"&N62,読み替え表_カーシェア!$P$32:$P$52,0),1,0)),0)","v":0},"*"]
[null,null,53,null,null,null,null,null,null,null,null,null,null,null,null,null,null,null,null,null,null,null,null,null,null,null,null,null,null,0,0,{"$f":"IFERROR(IF(J63=5,1,IF(MATCH(J63&\"/\"&N63,読み替え表_カーシェア!$P$32:$P$52,0),1,0)),0)","v":0},"*"]
[null,null,54,null,null,null,null,null,null,null,null,null,null,null,null,null,null,null,null,null,null,null,null,null,null,null,null,null,null,0,0,{"$f":"IFERROR(IF(J64=5,1,IF(MATCH(J64&\"/\"&N64,読み替え表_カーシェア!$P$32:$P$52,0),1,0)),0)","v":0},"*"]
[null,null,55,null,null,null,null,null,null,null,null,null,null,null,null,null,null,null,null,null,null,null,null,null,null,null,null,null,null,0,0,{"$f":"IFERROR(IF(J65=5,1,IF(MATCH(J65&\"/\"&N65,読み替え表_カーシェア!$P$32:$P$52,0),1,0)),0)","v":0},"*"]
[null,null,56,null,null,null,null,null,null,null,null,null,null,null,null,null,null,null,null,null,null,null,null,null,null,null,null,null,null,0,0,{"$f":"IFERROR(IF(J66=5,1,IF(MATCH(J66&\"/\"&N66,読み替え表_カーシェア!$P$32:$P$52,0),1,0)),0)","v":0},"*"]
[null,null,57,null,null,null,null,null,null,null,null,null,null,null,null,null,null,null,null,null,null,null,null,null,null,null,null,null,null,0,0,{"$f":"IFERROR(IF(J67=5,1,IF(MATCH(J67&\"/\"&N67,読み替え表_カーシェア!$P$32:$P$52,0),1,0)),0)","v":0},"*"]
[null,null,58,null,null,null,null,null,null,null,null,null,null,null,null,null,null,null,null,null,null,null,null,null,null,null,null,null,null,0,0,{"$f":"IFERROR(IF(J68=5,1,IF(MATCH(J68&\"/\"&N68,読み替え表_カーシェア!$P$32:$P$52,0),1,0)),0)","v":0},"*"]
[null,null,59,null,null,null,null,null,null,null,null,null,null,null,null,null,null,null,null,null,null,null,null,null,null,null,null,null,null,0,0,{"$f":"IFERROR(IF(J69=5,1,IF(MATCH(J69&\"/\"&N69,読み替え表_カーシェア!$P$32:$P$52,0),1,0)),0)","v":0},"*"]
[null,null,60,null,null,null,null,null,null,null,null,null,null,null,null,null,null,null,null,null,null,null,null,null,null,null,null,null,null,0,0,{"$f":"IFERROR(IF(J70=5,1,IF(MATCH(J70&\"/\"&N70,読み替え表_カーシェア!$P$32:$P$52,0),1,0)),0)","v":0},"*"]
[null,null,61,null,null,null,null,null,null,null,null,null,null,null,null,null,null,null,null,null,null,null,null,null,null,null,null,null,null,0,0,{"$f":"IFERROR(IF(J71=5,1,IF(MATCH(J71&\"/\"&N71,読み替え表_カーシェア!$P$32:$P$52,0),1,0)),0)","v":0},"*"]
[null,null,62,null,null,null,null,null,null,null,null,null,null,null,null,null,null,null,null,null,null,null,null,null,null,null,null,null,null,0,0,{"$f":"IFERROR(IF(J72=5,1,IF(MATCH(J72&\"/\"&N72,読み替え表_カーシェア!$P$32:$P$52,0),1,0)),0)","v":0},"*"]
[null,null,63,null,null,null,null,null,null,null,null,null,null,null,null,null,null,null,null,null,null,null,null,null,null,null,null,null,null,0,0,{"$f":"IFERROR(IF(J73=5,1,IF(MATCH(J73&\"/\"&N73,読み替え表_カーシェア!$P$32:$P$52,0),1,0)),0)","v":0},"*"]
[null,null,64,null,null,null,null,null,null,null,null,null,null,null,null,null,null,null,null,null,null,null,null,null,null,null,null,null,null,0,0,{"$f":"IFERROR(IF(J74=5,1,IF(MATCH(J74&\"/\"&N74,読み替え表_カーシェア!$P$32:$P$52,0),1,0)),0)","v":0},"*"]
[null,null,65,null,null,null,null,null,null,null,null,null,null,null,null,null,null,null,null,null,null,null,null,null,null,null,null,null,null,0,0,{"$f":"IFERROR(IF(J75=5,1,IF(MATCH(J75&\"/\"&N75,読み替え表_カーシェア!$P$32:$P$52,0),1,0)),0)","v":0},"*"]
[null,null,{"$f":"ROW()-10","v":66},null,null,null,null,null,null,null,null,null,null,null,null,null,null,null,null,null,null,null,null,null,null,null,null,null,null,{"$f":"IF(OR($N76=1,$N76=2,$N76=3),1,0)","v":0},{"$f":"IF(AND($J76=1,$L76>$M76),1,IF(AND($J76=1,$L76<$M76),2,IF(AND($J76=1,$L76=$M76),3,0)))","v":0},{"$f":"IFERROR(IF(J76=5,1,IF(MATCH(J76&\"/\"&N76,読み替え表_カーシェア!$P$32:$P$52,0),1,0)),0)","v":0},"*"]
[null,null,67,null,null,null,null,null,null,null,null,null,null,null,null,null,null,null,null,null,null,null,null,null,null,null,null,null,null,0,0,{"$f":"IFERROR(IF(J77=5,1,IF(MATCH(J77&\"/\"&N77,読み替え表_カーシェア!$P$32:$P$52,0),1,0)),0)","v":0},"*"]
[null,null,68,null,null,null,null,null,null,null,null,null,null,null,null,null,null,null,null,null,null,null,null,null,null,null,null,null,null,0,0,{"$f":"IFERROR(IF(J78=5,1,IF(MATCH(J78&\"/\"&N78,読み替え表_カーシェア!$P$32:$P$52,0),1,0)),0)","v":0},"*"]
[null,null,69,null,null,null,null,null,null,null,null,null,null,null,null,null,null,null,null,null,null,null,null,null,null,null,null,null,null,0,0,{"$f":"IFERROR(IF(J79=5,1,IF(MATCH(J79&\"/\"&N79,読み替え表_カーシェア!$P$32:$P$52,0),1,0)),0)","v":0},"*"]
[null,null,70,null,null,null,null,null,null,null,null,null,null,null,null,null,null,null,null,null,null,null,null,null,null,null,null,null,null,0,0,{"$f":"IFERROR(IF(J80=5,1,IF(MATCH(J80&\"/\"&N80,読み替え表_カーシェア!$P$32:$P$52,0),1,0)),0)","v":0},"*"]
[null,null,71,null,null,null,null,null,null,null,null,null,null,null,null,null,null,null,null,null,null,null,null,null,null,null,null,null,null,0,0,{"$f":"IFERROR(IF(J81=5,1,IF(MATCH(J81&\"/\"&N81,読み替え表_カーシェア!$P$32:$P$52,0),1,0)),0)","v":0},"*"]
[null,null,72,null,null,null,null,null,null,null,null,null,null,null,null,null,null,null,null,null,null,null,null,null,null,null,null,null,null,0,0,{"$f":"IFERROR(IF(J82=5,1,IF(MATCH(J82&\"/\"&N82,読み替え表_カーシェア!$P$32:$P$52,0),1,0)),0)","v":0},"*"]
[null,null,73,null,null,null,null,null,null,null,null,null,null,null,null,null,null,null,null,null,null,null,null,null,null,null,null,null,null,0,0,{"$f":"IFERROR(IF(J83=5,1,IF(MATCH(J83&\"/\"&N83,読み替え表_カーシェア!$P$32:$P$52,0),1,0)),0)","v":0},"*"]
[null,null,74,null,null,null,null,null,null,null,null,null,null,null,null,null,null,null,null,null,null,null,null,null,null,null,null,null,null,0,0,{"$f":"IFERROR(IF(J84=5,1,IF(MATCH(J84&\"/\"&N84,読み替え表_カーシェア!$P$32:$P$52,0),1,0)),0)","v":0},"*"]
[null,null,75,null,null,null,null,null,null,null,null,null,null,null,null,null,null,null,null,null,null,null,null,null,null,null,null,null,null,0,0,{"$f":"IFERROR(IF(J85=5,1,IF(MATCH(J85&\"/\"&N85,読み替え表_カーシェア!$P$32:$P$52,0),1,0)),0)","v":0},"*"]
[null,null,76,null,null,null,null,null,null,null,null,null,null,null,null,null,null,null,null,null,null,null,null,null,null,null,null,null,null,0,0,{"$f":"IFERROR(IF(J86=5,1,IF(MATCH(J86&\"/\"&N86,読み替え表_カーシェア!$P$32:$P$52,0),1,0)),0)","v":0},"*"]
[null,null,77,null,null,null,null,null,null,null,null,null,null,null,null,null,null,null,null,null,null,null,null,null,null,null,null,null,null,0,0,{"$f":"IFERROR(IF(J87=5,1,IF(MATCH(J87&\"/\"&N87,読み替え表_カーシェア!$P$32:$P$52,0),1,0)),0)","v":0},"*"]
[null,null,78,null,null,null,null,null,null,null,null,null,null,null,null,null,null,null,null,null,null,null,null,null,null,null,null,null,null,0,0,{"$f":"IFERROR(IF(J88=5,1,IF(MATCH(J88&\"/\"&N88,読み替え表_カーシェア!$P$32:$P$52,0),1,0)),0)","v":0},"*"]
[null,null,79,null,null,null,null,null,null,null,null,null,null,null,null,null,null,null,null,null,null,null,null,null,null,null,null,null,null,0,0,{"$f":"IFERROR(IF(J89=5,1,IF(MATCH(J89&\"/\"&N89,読み替え表_カーシェア!$P$32:$P$52,0),1,0)),0)","v":0},"*"]
[null,null,80,null,null,null,null,null,null,null,null,null,null,null,null,null,null,null,null,null,null,null,null,null,null,null,null,null,null,0,0,{"$f":"IFERROR(IF(J90=5,1,IF(MATCH(J90&\"/\"&N90,読み替え表_カーシェア!$P$32:$P$52,0),1,0)),0)","v":0},"*"]
[null,null,81,null,null,null,null,null,null,null,null,null,null,null,null,null,null,null,null,null,null,null,null,null,null,null,null,null,null,0,0,{"$f":"IFERROR(IF(J91=5,1,IF(MATCH(J91&\"/\"&N91,読み替え表_カーシェア!$P$32:$P$52,0),1,0)),0)","v":0},"*"]
[null,null,82,null,null,null,null,null,null,null,null,null,null,null,null,null,null,null,null,null,null,null,null,null,null,null,null,null,null,0,0,{"$f":"IFERROR(IF(J92=5,1,IF(MATCH(J92&\"/\"&N92,読み替え表_カーシェア!$P$32:$P$52,0),1,0)),0)","v":0},"*"]
[null,null,83,null,null,null,null,null,null,null,null,null,null,null,null,null,null,null,null,null,null,null,null,null,null,null,null,null,null,0,0,{"$f":"IFERROR(IF(J93=5,1,IF(MATCH(J93&\"/\"&N93,読み替え表_カーシェア!$P$32:$P$52,0),1,0)),0)","v":0},"*"]
[null,null,84,null,null,null,null,null,null,null,null,null,null,null,null,null,null,null,null,null,null,null,null,null,null,null,null,null,null,0,0,{"$f":"IFERROR(IF(J94=5,1,IF(MATCH(J94&\"/\"&N94,読み替え表_カーシェア!$P$32:$P$52,0),1,0)),0)","v":0},"*"]
[null,null,85,null,null,null,null,null,null,null,null,null,null,null,null,null,null,null,null,null,null,null,null,null,null,null,null,null,null,0,0,{"$f":"IFERROR(IF(J95=5,1,IF(MATCH(J95&\"/\"&N95,読み替え表_カーシェア!$P$32:$P$52,0),1,0)),0)","v":0},"*"]
[null,null,86,null,null,null,null,null,null,null,null,null,null,null,null,null,null,null,null,null,null,null,null,null,null,null,null,null,null,0,0,{"$f":"IFERROR(IF(J96=5,1,IF(MATCH(J96&\"/\"&N96,読み替え表_カーシェア!$P$32:$P$52,0),1,0)),0)","v":0},"*"]
[null,null,87,null,null,null,null,null,null,null,null,null,null,null,null,null,null,null,null,null,null,null,null,null,null,null,null,null,null,0,0,{"$f":"IFERROR(IF(J97=5,1,IF(MATCH(J97&\"/\"&N97,読み替え表_カーシェア!$P$32:$P$52,0),1,0)),0)","v":0},"*"]
[null,null,88,null,null,null,null,null,null,null,null,null,null,null,null,null,null,null,null,null,null,null,null,null,null,null,null,null,null,0,0,{"$f":"IFERROR(IF(J98=5,1,IF(MATCH(J98&\"/\"&N98,読み替え表_カーシェア!$P$32:$P$52,0),1,0)),0)","v":0},"*"]
[null,null,89,null,null,null,null,null,null,null,null,null,null,null,null,null,null,null,null,null,null,null,null,null,null,null,null,null,null,0,0,{"$f":"IFERROR(IF(J99=5,1,IF(MATCH(J99&\"/\"&N99,読み替え表_カーシェア!$P$32:$P$52,0),1,0)),0)","v":0},"*"]
[null,null,90,null,null,null,null,null,null,null,null,null,null,null,null,null,null,null,null,null,null,null,null,null,null,null,null,null,null,0,0,{"$f":"IFERROR(IF(J100=5,1,IF(MATCH(J100&\"/\"&N100,読み替え表_カーシェア!$P$32:$P$52,0),1,0)),0)","v":0},"*"]
[null,null,91,null,null,null,null,null,null,null,null,null,null,null,null,null,null,null,null,null,null,null,null,null,null,null,null,null,null,0,0,{"$f":"IFERROR(IF(J101=5,1,IF(MATCH(J101&\"/\"&N101,読み替え表_カーシェア!$P$32:$P$52,0),1,0)),0)","v":0},"*"]
[null,null,92,null,null,null,null,null,null,null,null,null,null,null,null,null,null,null,null,null,null,null,null,null,null,null,null,null,null,0,0,{"$f":"IFERROR(IF(J102=5,1,IF(MATCH(J102&\"/\"&N102,読み替え表_カーシェア!$P$32:$P$52,0),1,0)),0)","v":0},"*"]
[null,null,93,null,null,null,null,null,null,null,null,null,null,null,null,null,null,null,null,null,null,null,null,null,null,null,null,null,null,0,0,{"$f":"IFERROR(IF(J103=5,1,IF(MATCH(J103&\"/\"&N103,読み替え表_カーシェア!$P$32:$P$52,0),1,0)),0)","v":0},"*"]
[null,null,94,null,null,null,null,null,null,null,null,null,null,null,null,null,null,null,null,null,null,null,null,null,null,null,null,null,null,0,0,{"$f":"IFERROR(IF(J104=5,1,IF(MATCH(J104&\"/\"&N104,読み替え表_カーシェア!$P$32:$P$52,0),1,0)),0)","v":0},"*"]
[null,null,95,null,null,null,null,null,null,null,null,null,null,null,null,null,null,null,null,null,null,null,null,null,null,null,null,null,null,0,0,{"$f":"IFERROR(IF(J105=5,1,IF(MATCH(J105&\"/\"&N105,読み替え表_カーシェア!$P$32:$P$52,0),1,0)),0)","v":0},"*"]
[null,null,96,null,null,null,null,null,null,null,null,null,null,null,null,null,null,null,null,null,null,null,null,null,null,null,null,null,null,0,0,{"$f":"IFERROR(IF(J106=5,1,IF(MATCH(J106&\"/\"&N106,読み替え表_カーシェア!$P$32:$P$52,0),1,0)),0)","v":0},"*"]
[null,null,97,null,null,null,null,null,null,null,null,null,null,null,null,null,null,null,null,null,null,null,null,null,null,null,null,null,null,0,0,{"$f":"IFERROR(IF(J107=5,1,IF(MATCH(J107&\"/\"&N107,読み替え表_カーシェア!$P$32:$P$52,0),1,0)),0)","v":0},"*"]
[null,null,98,null,null,null,null,null,null,null,null,null,null,null,null,null,null,null,null,null,null,null,null,null,null,null,null,null,null,0,0,{"$f":"IFERROR(IF(J108=5,1,IF(MATCH(J108&\"/\"&N108,読み替え表_カーシェア!$P$32:$P$52,0),1,0)),0)","v":0},"*"]
[null,null,99,null,null,null,null,null,null,null,null,null,null,null,null,null,null,null,null,null,null,null,null,null,null,null,null,null,null,0,0,{"$f":"IFERROR(IF(J109=5,1,IF(MATCH(J109&\"/\"&N109,読み替え表_カーシェア!$P$32:$P$52,0),1,0)),0)","v":0},"*"]
[null,null,100,null,null,null,null,null,null,null,null,null,null,null,null,null,null,null,null,null,null,null,null,null,null,null,null,null,null,0,0,{"$f":"IFERROR(IF(J110=5,1,IF(MATCH(J110&\"/\"&N110,読み替え表_カーシェア!$P$32:$P$52,0),1,0)),0)","v":0},"*"]
[null,null,101,null,null,null,null,null,null,null,null,null,null,null,null,null,null,null,null,null,null,null,null,null,null,null,null,null,null,0,0,{"$f":"IFERROR(IF(J111=5,1,IF(MATCH(J111&\"/\"&N111,読み替え表_カーシェア!$P$32:$P$52,0),1,0)),0)","v":0},"*"]
[null,null,102,null,null,null,null,null,null,null,null,null,null,null,null,null,null,null,null,null,null,null,null,null,null,null,null,null,null,0,0,{"$f":"IFERROR(IF(J112=5,1,IF(MATCH(J112&\"/\"&N112,読み替え表_カーシェア!$P$32:$P$52,0),1,0)),0)","v":0},"*"]
[null,null,103,null,null,null,null,null,null,null,null,null,null,null,null,null,null,null,null,null,null,null,null,null,null,null,null,null,null,0,0,{"$f":"IFERROR(IF(J113=5,1,IF(MATCH(J113&\"/\"&N113,読み替え表_カーシェア!$P$32:$P$52,0),1,0)),0)","v":0},"*"]
[null,null,104,null,null,null,null,null,null,null,null,null,null,null,null,null,null,null,null,null,null,null,null,null,null,null,null,null,null,0,0,{"$f":"IFERROR(IF(J114=5,1,IF(MATCH(J114&\"/\"&N114,読み替え表_カーシェア!$P$32:$P$52,0),1,0)),0)","v":0},"*"]
[null,null,105,null,null,null,null,null,null,null,null,null,null,null,null,null,null,null,null,null,null,null,null,null,null,null,null,null,null,0,0,{"$f":"IFERROR(IF(J115=5,1,IF(MATCH(J115&\"/\"&N115,読み替え表_カーシェア!$P$32:$P$52,0),1,0)),0)","v":0},"*"]
[null,null,106,null,null,null,null,null,null,null,null,null,null,null,null,null,null,null,null,null,null,null,null,null,null,null,null,null,null,0,0,{"$f":"IFERROR(IF(J116=5,1,IF(MATCH(J116&\"/\"&N116,読み替え表_カーシェア!$P$32:$P$52,0),1,0)),0)","v":0},"*"]
[null,null,107,null,null,null,null,null,null,null,null,null,null,null,null,null,null,null,null,null,null,null,null,null,null,null,null,null,null,0,0,{"$f":"IFERROR(IF(J117=5,1,IF(MATCH(J117&\"/\"&N117,読み替え表_カーシェア!$P$32:$P$52,0),1,0)),0)","v":0},"*"]
[null,null,108,null,null,null,null,null,null,null,null,null,null,null,null,null,null,null,null,null,null,null,null,null,null,null,null,null,null,0,0,{"$f":"IFERROR(IF(J118=5,1,IF(MATCH(J118&\"/\"&N118,読み替え表_カーシェア!$P$32:$P$52,0),1,0)),0)","v":0},"*"]
[null,null,109,null,null,null,null,null,null,null,null,null,null,null,null,null,null,null,null,null,null,null,null,null,null,null,null,null,null,0,0,{"$f":"IFERROR(IF(J119=5,1,IF(MATCH(J119&\"/\"&N119,読み替え表_カーシェア!$P$32:$P$52,0),1,0)),0)","v":0},"*"]
[null,null,110,null,null,null,null,null,null,null,null,null,null,null,null,null,null,null,null,null,null,null,null,null,null,null,null,null,null,0,0,{"$f":"IFERROR(IF(J120=5,1,IF(MATCH(J120&\"/\"&N120,読み替え表_カーシェア!$P$32:$P$52,0),1,0)),0)","v":0},"*"]
[null,null,111,null,null,null,null,null,null,null,null,null,null,null,null,null,null,null,null,null,null,null,null,null,null,null,null,null,null,0,0,{"$f":"IFERROR(IF(J121=5,1,IF(MATCH(J121&\"/\"&N121,読み替え表_カーシェア!$P$32:$P$52,0),1,0)),0)","v":0},"*"]
[null,null,112,null,null,null,null,null,null,null,null,null,null,null,null,null,null,null,null,null,null,null,null,null,null,null,null,null,null,0,0,{"$f":"IFERROR(IF(J122=5,1,IF(MATCH(J122&\"/\"&N122,読み替え表_カーシェア!$P$32:$P$52,0),1,0)),0)","v":0},"*"]
[null,null,113,null,null,null,null,null,null,null,null,null,null,null,null,null,null,null,null,null,null,null,null,null,null,null,null,null,null,0,0,{"$f":"IFERROR(IF(J123=5,1,IF(MATCH(J123&\"/\"&N123,読み替え表_カーシェア!$P$32:$P$52,0),1,0)),0)","v":0},"*"]
[null,null,114,null,null,null,null,null,null,null,null,null,null,null,null,null,null,null,null,null,null,null,null,null,null,null,null,null,null,0,0,{"$f":"IFERROR(IF(J124=5,1,IF(MATCH(J124&\"/\"&N124,読み替え表_カーシェア!$P$32:$P$52,0),1,0)),0)","v":0},"*"]
[null,null,115,null,null,null,null,null,null,null,null,null,null,null,null,null,null,null,null,null,null,null,null,null,null,null,null,null,null,0,0,{"$f":"IFERROR(IF(J125=5,1,IF(MATCH(J125&\"/\"&N125,読み替え表_カーシェア!$P$32:$P$52,0),1,0)),0)","v":0},"*"]
[null,null,116,null,null,null,null,null,null,null,null,null,null,null,null,null,null,null,null,null,null,null,null,null,null,null,null,null,null,0,0,{"$f":"IFERROR(IF(J126=5,1,IF(MATCH(J126&\"/\"&N126,読み替え表_カーシェア!$P$32:$P$52,0),1,0)),0)","v":0},"*"]
[null,null,117,null,null,null,null,null,null,null,null,null,null,null,null,null,null,null,null,null,null,null,null,null,null,null,null,null,null,0,0,{"$f":"IFERROR(IF(J127=5,1,IF(MATCH(J127&\"/\"&N127,読み替え表_カーシェア!$P$32:$P$52,0),1,0)),0)","v":0},"*"]
[null,null,118,null,null,null,null,null,null,null,null,null,null,null,null,null,null,null,null,null,null,null,null,null,null,null,null,null,null,0,0,{"$f":"IFERROR(IF(J128=5,1,IF(MATCH(J128&\"/\"&N128,読み替え表_カーシェア!$P$32:$P$52,0),1,0)),0)","v":0},"*"]
[null,null,119,null,null,null,null,null,null,null,null,null,null,null,null,null,null,null,null,null,null,null,null,null,null,null,null,null,null,0,0,{"$f":"IFERROR(IF(J129=5,1,IF(MATCH(J129&\"/\"&N129,読み替え表_カーシェア!$P$32:$P$52,0),1,0)),0)","v":0},"*"]
[null,null,120,null,null,null,null,null,null,null,null,null,null,null,null,null,null,null,null,null,null,null,null,null,null,null,null,null,null,0,0,{"$f":"IFERROR(IF(J130=5,1,IF(MATCH(J130&\"/\"&N130,読み替え表_カーシェア!$P$32:$P$52,0),1,0)),0)","v":0},"*"]
[null,null,121,null,null,null,null,null,null,null,null,null,null,null,null,null,null,null,null,null,null,null,null,null,null,null,null,null,null,0,0,{"$f":"IFERROR(IF(J131=5,1,IF(MATCH(J131&\"/\"&N131,読み替え表_カーシェア!$P$32:$P$52,0),1,0)),0)","v":0},"*"]
[null,null,122,null,null,null,null,null,null,null,null,null,null,null,null,null,null,null,null,null,null,null,null,null,null,null,null,null,null,0,0,{"$f":"IFERROR(IF(J132=5,1,IF(MATCH(J132&\"/\"&N132,読み替え表_カーシェア!$P$32:$P$52,0),1,0)),0)","v":0},"*"]
[null,null,123,null,null,null,null,null,null,null,null,null,null,null,null,null,null,null,null,null,null,null,null,null,null,null,null,null,null,0,0,{"$f":"IFERROR(IF(J133=5,1,IF(MATCH(J133&\"/\"&N133,読み替え表_カーシェア!$P$32:$P$52,0),1,0)),0)","v":0},"*"]
[null,null,124,null,null,null,null,null,null,null,null,null,null,null,null,null,null,null,null,null,null,null,null,null,null,null,null,null,null,0,0,{"$f":"IFERROR(IF(J134=5,1,IF(MATCH(J134&\"/\"&N134,読み替え表_カーシェア!$P$32:$P$52,0),1,0)),0)","v":0},"*"]
[null,null,125,null,null,null,null,null,null,null,null,null,null,null,null,null,null,null,null,null,null,null,null,null,null,null,null,null,null,0,0,{"$f":"IFERROR(IF(J135=5,1,IF(MATCH(J135&\"/\"&N135,読み替え表_カーシェア!$P$32:$P$52,0),1,0)),0)","v":0},"*"]
[null,null,126,null,null,null,null,null,null,null,null,null,null,null,null,null,null,null,null,null,null,null,null,null,null,null,null,null,null,0,0,{"$f":"IFERROR(IF(J136=5,1,IF(MATCH(J136&\"/\"&N136,読み替え表_カーシェア!$P$32:$P$52,0),1,0)),0)","v":0},"*"]
[null,null,127,null,null,null,null,null,null,null,null,null,null,null,null,null,null,null,null,null,null,null,null,null,null,null,null,null,null,0,0,{"$f":"IFERROR(IF(J137=5,1,IF(MATCH(J137&\"/\"&N137,読み替え表_カーシェア!$P$32:$P$52,0),1,0)),0)","v":0},"*"]
[null,null,128,null,null,null,null,null,null,null,null,null,null,null,null,null,null,null,null,null,null,null,null,null,null,null,null,null,null,0,0,{"$f":"IFERROR(IF(J138=5,1,IF(MATCH(J138&\"/\"&N138,読み替え表_カーシェア!$P$32:$P$52,0),1,0)),0)","v":0},"*"]
[null,null,129,null,null,null,null,null,null,null,null,null,null,null,null,null,null,null,null,null,null,null,null,null,null,null,null,null,null,0,0,{"$f":"IFERROR(IF(J139=5,1,IF(MATCH(J139&\"/\"&N139,読み替え表_カーシェア!$P$32:$P$52,0),1,0)),0)","v":0},"*"]
[null,null,{"$f":"ROW()-10","v":130},null,null,null,null,null,null,null,null,null,null,null,null,null,null,null,null,null,null,null,null,null,null,null,null,null,null,{"$f":"IF(OR($N140=1,$N140=2,$N140=3),1,0)","v":0},{"$f":"IF(AND($J140=1,$L140>$M140),1,IF(AND($J140=1,$L140<$M140),2,IF(AND($J140=1,$L140=$M140),3,0)))","v":0},{"$f":"IFERROR(IF(J140=5,1,IF(MATCH(J140&\"/\"&N140,読み替え表_カーシェア!$P$32:$P$52,0),1,0)),0)","v":0},"*"]
[null,null,131,null,null,null,null,null,null,null,null,null,null,null,null,null,null,null,null,null,null,null,null,null,null,null,null,null,null,0,0,{"$f":"IFERROR(IF(J141=5,1,IF(MATCH(J141&\"/\"&N141,読み替え表_カーシェア!$P$32:$P$52,0),1,0)),0)","v":0},"*"]
[null,null,132,null,null,null,null,null,null,null,null,null,null,null,null,null,null,null,null,null,null,null,null,null,null,null,null,null,null,0,0,{"$f":"IFERROR(IF(J142=5,1,IF(MATCH(J142&\"/\"&N142,読み替え表_カーシェア!$P$32:$P$52,0),1,0)),0)","v":0},"*"]
[null,null,133,null,null,null,null,null,null,null,null,null,null,null,null,null,null,null,null,null,null,null,null,null,null,null,null,null,null,0,0,{"$f":"IFERROR(IF(J143=5,1,IF(MATCH(J143&\"/\"&N143,読み替え表_カーシェア!$P$32:$P$52,0),1,0)),0)","v":0},"*"]
[null,null,134,null,null,null,null,null,null,null,null,null,null,null,null,null,null,null,null,null,null,null,null,null,null,null,null,null,null,0,0,{"$f":"IFERROR(IF(J144=5,1,IF(MATCH(J144&\"/\"&N144,読み替え表_カーシェア!$P$32:$P$52,0),1,0)),0)","v":0},"*"]
[null,null,135,null,null,null,null,null,null,null,null,null,null,null,null,null,null,null,null,null,null,null,null,null,null,null,null,null,null,0,0,{"$f":"IFERROR(IF(J145=5,1,IF(MATCH(J145&\"/\"&N145,読み替え表_カーシェア!$P$32:$P$52,0),1,0)),0)","v":0},"*"]
[null,null,136,null,null,null,null,null,null,null,null,null,null,null,null,null,null,null,null,null,null,null,null,null,null,null,null,null,null,0,0,{"$f":"IFERROR(IF(J146=5,1,IF(MATCH(J146&\"/\"&N146,読み替え表_カーシェア!$P$32:$P$52,0),1,0)),0)","v":0},"*"]
[null,null,137,null,null,null,null,null,null,null,null,null,null,null,null,null,null,null,null,null,null,null,null,null,null,null,null,null,null,0,0,{"$f":"IFERROR(IF(J147=5,1,IF(MATCH(J147&\"/\"&N147,読み替え表_カーシェア!$P$32:$P$52,0),1,0)),0)","v":0},"*"]
[null,null,138,null,null,null,null,null,null,null,null,null,null,null,null,null,null,null,null,null,null,null,null,null,null,null,null,null,null,0,0,{"$f":"IFERROR(IF(J148=5,1,IF(MATCH(J148&\"/\"&N148,読み替え表_カーシェア!$P$32:$P$52,0),1,0)),0)","v":0},"*"]
[null,null,139,null,null,null,null,null,null,null,null,null,null,null,null,null,null,null,null,null,null,null,null,null,null,null,null,null,null,0,0,{"$f":"IFERROR(IF(J149=5,1,IF(MATCH(J149&\"/\"&N149,読み替え表_カーシェア!$P$32:$P$52,0),1,0)),0)","v":0},"*"]
[null,null,140,null,null,null,null,null,null,null,null,null,null,null,null,null,null,null,null,null,null,null,null,null,null,null,null,null,null,0,0,{"$f":"IFERROR(IF(J150=5,1,IF(MATCH(J150&\"/\"&N150,読み替え表_カーシェア!$P$32:$P$52,0),1,0)),0)","v":0},"*"]
[null,null,141,null,null,null,null,null,null,null,null,null,null,null,null,null,null,null,null,null,null,null,null,null,null,null,null,null,null,0,0,{"$f":"IFERROR(IF(J151=5,1,IF(MATCH(J151&\"/\"&N151,読み替え表_カーシェア!$P$32:$P$52,0),1,0)),0)","v":0},"*"]
[null,null,142,null,null,null,null,null,null,null,null,null,null,null,null,null,null,null,null,null,null,null,null,null,null,null,null,null,null,0,0,{"$f":"IFERROR(IF(J152=5,1,IF(MATCH(J152&\"/\"&N152,読み替え表_カーシェア!$P$32:$P$52,0),1,0)),0)","v":0},"*"]
[null,null,143,null,null,null,null,null,null,null,null,null,null,null,null,null,null,null,null,null,null,null,null,null,null,null,null,null,null,0,0,{"$f":"IFERROR(IF(J153=5,1,IF(MATCH(J153&\"/\"&N153,読み替え表_カーシェア!$P$32:$P$52,0),1,0)),0)","v":0},"*"]
[null,null,144,null,null,null,null,null,null,null,null,null,null,null,null,null,null,null,null,null,null,null,null,null,null,null,null,null,null,0,0,{"$f":"IFERROR(IF(J154=5,1,IF(MATCH(J154&\"/\"&N154,読み替え表_カーシェア!$P$32:$P$52,0),1,0)),0)","v":0},"*"]
[null,null,145,null,null,null,null,null,null,null,null,null,null,null,null,null,null,null,null,null,null,null,null,null,null,null,null,null,null,0,0,{"$f":"IFERROR(IF(J155=5,1,IF(MATCH(J155&\"/\"&N155,読み替え表_カーシェア!$P$32:$P$52,0),1,0)),0)","v":0},"*"]
[null,null,146,null,null,null,null,null,null,null,null,null,null,null,null,null,null,null,null,null,null,null,null,null,null,null,null,null,null,0,0,{"$f":"IFERROR(IF(J156=5,1,IF(MATCH(J156&\"/\"&N156,読み替え表_カーシェア!$P$32:$P$52,0),1,0)),0)","v":0},"*"]
[null,null,147,null,null,null,null,null,null,null,null,null,null,null,null,null,null,null,null,null,null,null,null,null,null,null,null,null,null,0,0,{"$f":"IFERROR(IF(J157=5,1,IF(MATCH(J157&\"/\"&N157,読み替え表_カーシェア!$P$32:$P$52,0),1,0)),0)","v":0},"*"]
[null,null,148,null,null,null,null,null,null,null,null,null,null,null,null,null,null,null,null,null,null,null,null,null,null,null,null,null,null,0,0,{"$f":"IFERROR(IF(J158=5,1,IF(MATCH(J158&\"/\"&N158,読み替え表_カーシェア!$P$32:$P$52,0),1,0)),0)","v":0},"*"]
[null,null,149,null,null,null,null,null,null,null,null,null,null,null,null,null,null,null,null,null,null,null,null,null,null,null,null,null,null,0,0,{"$f":"IFERROR(IF(J159=5,1,IF(MATCH(J159&\"/\"&N159,読み替え表_カーシェア!$P$32:$P$52,0),1,0)),0)","v":0},"*"]
[null,null,150,null,null,null,null,null,null,null,null,null,null,null,null,null,null,null,null,null,null,null,null,null,null,null,null,null,null,0,0,{"$f":"IFERROR(IF(J160=5,1,IF(MATCH(J160&\"/\"&N160,読み替え表_カーシェア!$P$32:$P$52,0),1,0)),0)","v":0},"*"]
[null,null,151,null,null,null,null,null,null,null,null,null,null,null,null,null,null,null,null,null,null,null,null,null,null,null,null,null,null,0,0,{"$f":"IFERROR(IF(J161=5,1,IF(MATCH(J161&\"/\"&N161,読み替え表_カーシェア!$P$32:$P$52,0),1,0)),0)","v":0},"*"]
[null,null,152,null,null,null,null,null,null,null,null,null,null,null,null,null,null,null,null,null,null,null,null,null,null,null,null,null,null,0,0,{"$f":"IFERROR(IF(J162=5,1,IF(MATCH(J162&\"/\"&N162,読み替え表_カーシェア!$P$32:$P$52,0),1,0)),0)","v":0},"*"]
[null,null,153,null,null,null,null,null,null,null,null,null,null,null,null,null,null,null,null,null,null,null,null,null,null,null,null,null,null,0,0,{"$f":"IFERROR(IF(J163=5,1,IF(MATCH(J163&\"/\"&N163,読み替え表_カーシェア!$P$32:$P$52,0),1,0)),0)","v":0},"*"]
[null,null,154,null,null,null,null,null,null,null,null,null,null,null,null,null,null,null,null,null,null,null,null,null,null,null,null,null,null,0,0,{"$f":"IFERROR(IF(J164=5,1,IF(MATCH(J164&\"/\"&N164,読み替え表_カーシェア!$P$32:$P$52,0),1,0)),0)","v":0},"*"]
[null,null,155,null,null,null,null,null,null,null,null,null,null,null,null,null,null,null,null,null,null,null,null,null,null,null,null,null,null,0,0,{"$f":"IFERROR(IF(J165=5,1,IF(MATCH(J165&\"/\"&N165,読み替え表_カーシェア!$P$32:$P$52,0),1,0)),0)","v":0},"*"]
[null,null,156,null,null,null,null,null,null,null,null,null,null,null,null,null,null,null,null,null,null,null,null,null,null,null,null,null,null,0,0,{"$f":"IFERROR(IF(J166=5,1,IF(MATCH(J166&\"/\"&N166,読み替え表_カーシェア!$P$32:$P$52,0),1,0)),0)","v":0},"*"]
[null,null,157,null,null,null,null,null,null,null,null,null,null,null,null,null,null,null,null,null,null,null,null,null,null,null,null,null,null,0,0,{"$f":"IFERROR(IF(J167=5,1,IF(MATCH(J167&\"/\"&N167,読み替え表_カーシェア!$P$32:$P$52,0),1,0)),0)","v":0},"*"]
[null,null,158,null,null,null,null,null,null,null,null,null,null,null,null,null,null,null,null,null,null,null,null,null,null,null,null,null,null,0,0,{"$f":"IFERROR(IF(J168=5,1,IF(MATCH(J168&\"/\"&N168,読み替え表_カーシェア!$P$32:$P$52,0),1,0)),0)","v":0},"*"]
[null,null,159,null,null,null,null,null,null,null,null,null,null,null,null,null,null,null,null,null,null,null,null,null,null,null,null,null,null,0,0,{"$f":"IFERROR(IF(J169=5,1,IF(MATCH(J169&\"/\"&N169,読み替え表_カーシェア!$P$32:$P$52,0),1,0)),0)","v":0},"*"]
[null,null,160,null,null,null,null,null,null,null,null,null,null,null,null,null,null,null,null,null,null,null,null,null,null,null,null,null,null,0,0,{"$f":"IFERROR(IF(J170=5,1,IF(MATCH(J170&\"/\"&N170,読み替え表_カーシェア!$P$32:$P$52,0),1,0)),0)","v":0},"*"]
[null,null,161,null,null,null,null,null,null,null,null,null,null,null,null,null,null,null,null,null,null,null,null,null,null,null,null,null,null,0,0,{"$f":"IFERROR(IF(J171=5,1,IF(MATCH(J171&\"/\"&N171,読み替え表_カーシェア!$P$32:$P$52,0),1,0)),0)","v":0},"*"]
[null,null,162,null,null,null,null,null,null,null,null,null,null,null,null,null,null,null,null,null,null,null,null,null,null,null,null,null,null,0,0,{"$f":"IFERROR(IF(J172=5,1,IF(MATCH(J172&\"/\"&N172,読み替え表_カーシェア!$P$32:$P$52,0),1,0)),0)","v":0},"*"]
[null,null,163,null,null,null,null,null,null,null,null,null,null,null,null,null,null,null,null,null,null,null,null,null,null,null,null,null,null,0,0,{"$f":"IFERROR(IF(J173=5,1,IF(MATCH(J173&\"/\"&N173,読み替え表_カーシェア!$P$32:$P$52,0),1,0)),0)","v":0},"*"]
[null,null,164,null,null,null,null,null,null,null,null,null,null,null,null,null,null,null,null,null,null,null,null,null,null,null,null,null,null,0,0,{"$f":"IFERROR(IF(J174=5,1,IF(MATCH(J174&\"/\"&N174,読み替え表_カーシェア!$P$32:$P$52,0),1,0)),0)","v":0},"*"]
[null,null,165,null,null,null,null,null,null,null,null,null,null,null,null,null,null,null,null,null,null,null,null,null,null,null,null,null,null,0,0,{"$f":"IFERROR(IF(J175=5,1,IF(MATCH(J175&\"/\"&N175,読み替え表_カーシェア!$P$32:$P$52,0),1,0)),0)","v":0},"*"]
[null,null,166,null,null,null,null,null,null,null,null,null,null,null,null,null,null,null,null,null,null,null,null,null,null,null,null,null,null,0,0,{"$f":"IFERROR(IF(J176=5,1,IF(MATCH(J176&\"/\"&N176,読み替え表_カーシェア!$P$32:$P$52,0),1,0)),0)","v":0},"*"]
[null,null,167,null,null,null,null,null,null,null,null,null,null,null,null,null,null,null,null,null,null,null,null,null,null,null,null,null,null,0,0,{"$f":"IFERROR(IF(J177=5,1,IF(MATCH(J177&\"/\"&N177,読み替え表_カーシェア!$P$32:$P$52,0),1,0)),0)","v":0},"*"]
[null,null,168,null,null,null,null,null,null,null,null,null,null,null,null,null,null,null,null,null,null,null,null,null,null,null,null,null,null,0,0,{"$f":"IFERROR(IF(J178=5,1,IF(MATCH(J178&\"/\"&N178,読み替え表_カーシェア!$P$32:$P$52,0),1,0)),0)","v":0},"*"]
[null,null,169,null,null,null,null,null,null,null,null,null,null,null,null,null,null,null,null,null,null,null,null,null,null,null,null,null,null,0,0,{"$f":"IFERROR(IF(J179=5,1,IF(MATCH(J179&\"/\"&N179,読み替え表_カーシェア!$P$32:$P$52,0),1,0)),0)","v":0},"*"]
[null,null,170,null,null,null,null,null,null,null,null,null,null,null,null,null,null,null,null,null,null,null,null,null,null,null,null,null,null,0,0,{"$f":"IFERROR(IF(J180=5,1,IF(MATCH(J180&\"/\"&N180,読み替え表_カーシェア!$P$32:$P$52,0),1,0)),0)","v":0},"*"]
[null,null,171,null,null,null,null,null,null,null,null,null,null,null,null,null,null,null,null,null,null,null,null,null,null,null,null,null,null,0,0,{"$f":"IFERROR(IF(J181=5,1,IF(MATCH(J181&\"/\"&N181,読み替え表_カーシェア!$P$32:$P$52,0),1,0)),0)","v":0},"*"]
[null,null,172,null,null,null,null,null,null,null,null,null,null,null,null,null,null,null,null,null,null,null,null,null,null,null,null,null,null,0,0,{"$f":"IFERROR(IF(J182=5,1,IF(MATCH(J182&\"/\"&N182,読み替え表_カーシェア!$P$32:$P$52,0),1,0)),0)","v":0},"*"]
[null,null,173,null,null,null,null,null,null,null,null,null,null,null,null,null,null,null,null,null,null,null,null,null,null,null,null,null,null,0,0,{"$f":"IFERROR(IF(J183=5,1,IF(MATCH(J183&\"/\"&N183,読み替え表_カーシェア!$P$32:$P$52,0),1,0)),0)","v":0},"*"]
[null,null,174,null,null,null,null,null,null,null,null,null,null,null,null,null,null,null,null,null,null,null,null,null,null,null,null,null,null,0,0,{"$f":"IFERROR(IF(J184=5,1,IF(MATCH(J184&\"/\"&N184,読み替え表_カーシェア!$P$32:$P$52,0),1,0)),0)","v":0},"*"]
[null,null,175,null,null,null,null,null,null,null,null,null,null,null,null,null,null,null,null,null,null,null,null,null,null,null,null,null,null,0,0,{"$f":"IFERROR(IF(J185=5,1,IF(MATCH(J185&\"/\"&N185,読み替え表_カーシェア!$P$32:$P$52,0),1,0)),0)","v":0},"*"]
[null,null,176,null,null,null,null,null,null,null,null,null,null,null,null,null,null,null,null,null,null,null,null,null,null,null,null,null,null,0,0,{"$f":"IFERROR(IF(J186=5,1,IF(MATCH(J186&\"/\"&N186,読み替え表_カーシェア!$P$32:$P$52,0),1,0)),0)","v":0},"*"]
[null,null,177,null,null,null,null,null,null,null,null,null,null,null,null,null,null,null,null,null,null,null,null,null,null,null,null,null,null,0,0,{"$f":"IFERROR(IF(J187=5,1,IF(MATCH(J187&\"/\"&N187,読み替え表_カーシェア!$P$32:$P$52,0),1,0)),0)","v":0},"*"]
[null,null,178,null,null,null,null,null,null,null,null,null,null,null,null,null,null,null,null,null,null,null,null,null,null,null,null,null,null,0,0,{"$f":"IFERROR(IF(J188=5,1,IF(MATCH(J188&\"/\"&N188,読み替え表_カーシェア!$P$32:$P$52,0),1,0)),0)","v":0},"*"]
[null,null,179,null,null,null,null,null,null,null,null,null,null,null,null,null,null,null,null,null,null,null,null,null,null,null,null,null,null,0,0,{"$f":"IFERROR(IF(J189=5,1,IF(MATCH(J189&\"/\"&N189,読み替え表_カーシェア!$P$32:$P$52,0),1,0)),0)","v":0},"*"]
[null,null,180,null,null,null,null,null,null,null,null,null,null,null,null,null,null,null,null,null,null,null,null,null,null,null,null,null,null,0,0,{"$f":"IFERROR(IF(J190=5,1,IF(MATCH(J190&\"/\"&N190,読み替え表_カーシェア!$P$32:$P$52,0),1,0)),0)","v":0},"*"]
[null,null,181,null,null,null,null,null,null,null,null,null,null,null,null,null,null,null,null,null,null,null,null,null,null,null,null,null,null,0,0,{"$f":"IFERROR(IF(J191=5,1,IF(MATCH(J191&\"/\"&N191,読み替え表_カーシェア!$P$32:$P$52,0),1,0)),0)","v":0},"*"]
[null,null,182,null,null,null,null,null,null,null,null,null,null,null,null,null,null,null,null,null,null,null,null,null,null,null,null,null,null,0,0,{"$f":"IFERROR(IF(J192=5,1,IF(MATCH(J192&\"/\"&N192,読み替え表_カーシェア!$P$32:$P$52,0),1,0)),0)","v":0},"*"]
[null,null,183,null,null,null,null,null,null,null,null,null,null,null,null,null,null,null,null,null,null,null,null,null,null,null,null,null,null,0,0,{"$f":"IFERROR(IF(J193=5,1,IF(MATCH(J193&\"/\"&N193,読み替え表_カーシェア!$P$32:$P$52,0),1,0)),0)","v":0},"*"]
[null,null,184,null,null,null,null,null,null,null,null,null,null,null,null,null,null,null,null,null,null,null,null,null,null,null,null,null,null,0,0,{"$f":"IFERROR(IF(J194=5,1,IF(MATCH(J194&\"/\"&N194,読み替え表_カーシェア!$P$32:$P$52,0),1,0)),0)","v":0},"*"]
[null,null,185,null,null,null,null,null,null,null,null,null,null,null,null,null,null,null,null,null,null,null,null,null,null,null,null,null,null,0,0,{"$f":"IFERROR(IF(J195=5,1,IF(MATCH(J195&\"/\"&N195,読み替え表_カーシェア!$P$32:$P$52,0),1,0)),0)","v":0},"*"]
[null,null,186,null,null,null,null,null,null,null,null,null,null,null,null,null,null,null,null,null,null,null,null,null,null,null,null,null,null,0,0,{"$f":"IFERROR(IF(J196=5,1,IF(MATCH(J196&\"/\"&N196,読み替え表_カーシェア!$P$32:$P$52,0),1,0)),0)","v":0},"*"]
[null,null,187,null,null,null,null,null,null,null,null,null,null,null,null,null,null,null,null,null,null,null,null,null,null,null,null,null,null,0,0,{"$f":"IFERROR(IF(J197=5,1,IF(MATCH(J197&\"/\"&N197,読み替え表_カーシェア!$P$32:$P$52,0),1,0)),0)","v":0},"*"]
[null,null,188,null,null,null,null,null,null,null,null,null,null,null,null,null,null,null,null,null,null,null,null,null,null,null,null,null,null,0,0,{"$f":"IFERROR(IF(J198=5,1,IF(MATCH(J198&\"/\"&N198,読み替え表_カーシェア!$P$32:$P$52,0),1,0)),0)","v":0},"*"]
[null,null,189,null,null,null,null,null,null,null,null,null,null,null,null,null,null,null,null,null,null,null,null,null,null,null,null,null,null,0,0,{"$f":"IFERROR(IF(J199=5,1,IF(MATCH(J199&\"/\"&N199,読み替え表_カーシェア!$P$32:$P$52,0),1,0)),0)","v":0},"*"]
[null,null,190,null,null,null,null,null,null,null,null,null,null,null,null,null,null,null,null,null,null,null,null,null,null,null,null,null,null,0,0,{"$f":"IFERROR(IF(J200=5,1,IF(MATCH(J200&\"/\"&N200,読み替え表_カーシェア!$P$32:$P$52,0),1,0)),0)","v":0},"*"]
[null,null,191,null,null,null,null,null,null,null,null,null,null,null,null,null,null,null,null,null,null,null,null,null,null,null,null,null,null,0,0,{"$f":"IFERROR(IF(J201=5,1,IF(MATCH(J201&\"/\"&N201,読み替え表_カーシェア!$P$32:$P$52,0),1,0)),0)","v":0},"*"]
[null,null,192,null,null,null,null,null,null,null,null,null,null,null,null,null,null,null,null,null,null,null,null,null,null,null,null,null,null,0,0,{"$f":"IFERROR(IF(J202=5,1,IF(MATCH(J202&\"/\"&N202,読み替え表_カーシェア!$P$32:$P$52,0),1,0)),0)","v":0},"*"]
[null,null,193,null,null,null,null,null,null,null,null,null,null,null,null,null,null,null,null,null,null,null,null,null,null,null,null,null,null,0,0,{"$f":"IFERROR(IF(J203=5,1,IF(MATCH(J203&\"/\"&N203,読み替え表_カーシェア!$P$32:$P$52,0),1,0)),0)","v":0},"*"]
[null,null,{"$f":"ROW()-10","v":194},null,null,null,null,null,null,null,null,null,null,null,null,null,null,null,null,null,null,null,null,null,null,null,null,null,null,{"$f":"IF(OR($N204=1,$N204=2,$N204=3),1,0)","v":0},{"$f":"IF(AND($J204=1,$L204>$M204),1,IF(AND($J204=1,$L204<$M204),2,IF(AND($J204=1,$L204=$M204),3,0)))","v":0},{"$f":"IFERROR(IF(J204=5,1,IF(MATCH(J204&\"/\"&N204,読み替え表_カーシェア!$P$32:$P$52,0),1,0)),0)","v":0},"*"]
[null,null,195,null,null,null,null,null,null,null,null,null,null,null,null,null,null,null,null,null,null,null,null,null,null,null,null,null,null,0,0,{"$f":"IFERROR(IF(J205=5,1,IF(MATCH(J205&\"/\"&N205,読み替え表_カーシェア!$P$32:$P$52,0),1,0)),0)","v":0},"*"]
[null,null,196,null,null,null,null,null,null,null,null,null,null,null,null,null,null,null,null,null,null,null,null,null,null,null,null,null,null,0,0,{"$f":"IFERROR(IF(J206=5,1,IF(MATCH(J206&\"/\"&N206,読み替え表_カーシェア!$P$32:$P$52,0),1,0)),0)","v":0},"*"]
[null,null,197,null,null,null,null,null,null,null,null,null,null,null,null,null,null,null,null,null,null,null,null,null,null,null,null,null,null,0,0,{"$f":"IFERROR(IF(J207=5,1,IF(MATCH(J207&\"/\"&N207,読み替え表_カーシェア!$P$32:$P$52,0),1,0)),0)","v":0},"*"]
[null,null,198,null,null,null,null,null,null,null,null,null,null,null,null,null,null,null,null,null,null,null,null,null,null,null,null,null,null,0,0,{"$f":"IFERROR(IF(J208=5,1,IF(MATCH(J208&\"/\"&N208,読み替え表_カーシェア!$P$32:$P$52,0),1,0)),0)","v":0},"*"]
[null,null,199,null,null,null,null,null,null,null,null,null,null,null,null,null,null,null,null,null,null,null,null,null,null,null,null,null,null,0,0,{"$f":"IFERROR(IF(J209=5,1,IF(MATCH(J209&\"/\"&N209,読み替え表_カーシェア!$P$32:$P$52,0),1,0)),0)","v":0},"*"]
[null,null,200,null,null,null,null,null,null,null,null,null,null,null,null,null,null,null,null,null,null,null,null,null,null,null,null,null,null,0,0,{"$f":"IFERROR(IF(J210=5,1,IF(MATCH(J210&\"/\"&N210,読み替え表_カーシェア!$P$32:$P$52,0),1,0)),0)","v":0},"*"]
[null,null,201,null,null,null,null,null,null,null,null,null,null,null,null,null,null,null,null,null,null,null,null,null,null,null,null,null,null,0,0,{"$f":"IFERROR(IF(J211=5,1,IF(MATCH(J211&\"/\"&N211,読み替え表_カーシェア!$P$32:$P$52,0),1,0)),0)","v":0},"*"]
[null,null,202,null,null,null,null,null,null,null,null,null,null,null,null,null,null,null,null,null,null,null,null,null,null,null,null,null,null,0,0,{"$f":"IFERROR(IF(J212=5,1,IF(MATCH(J212&\"/\"&N212,読み替え表_カーシェア!$P$32:$P$52,0),1,0)),0)","v":0},"*"]
[null,null,203,null,null,null,null,null,null,null,null,null,null,null,null,null,null,null,null,null,null,null,null,null,null,null,null,null,null,0,0,{"$f":"IFERROR(IF(J213=5,1,IF(MATCH(J213&\"/\"&N213,読み替え表_カーシェア!$P$32:$P$52,0),1,0)),0)","v":0},"*"]
[null,null,204,null,null,null,null,null,null,null,null,null,null,null,null,null,null,null,null,null,null,null,null,null,null,null,null,null,null,0,0,{"$f":"IFERROR(IF(J214=5,1,IF(MATCH(J214&\"/\"&N214,読み替え表_カーシェア!$P$32:$P$52,0),1,0)),0)","v":0},"*"]
[null,null,205,null,null,null,null,null,null,null,null,null,null,null,null,null,null,null,null,null,null,null,null,null,null,null,null,null,null,0,0,{"$f":"IFERROR(IF(J215=5,1,IF(MATCH(J215&\"/\"&N215,読み替え表_カーシェア!$P$32:$P$52,0),1,0)),0)","v":0},"*"]
[null,null,206,null,null,null,null,null,null,null,null,null,null,null,null,null,null,null,null,null,null,null,null,null,null,null,null,null,null,0,0,{"$f":"IFERROR(IF(J216=5,1,IF(MATCH(J216&\"/\"&N216,読み替え表_カーシェア!$P$32:$P$52,0),1,0)),0)","v":0},"*"]
[null,null,207,null,null,null,null,null,null,null,null,null,null,null,null,null,null,null,null,null,null,null,null,null,null,null,null,null,null,0,0,{"$f":"IFERROR(IF(J217=5,1,IF(MATCH(J217&\"/\"&N217,読み替え表_カーシェア!$P$32:$P$52,0),1,0)),0)","v":0},"*"]
[null,null,208,null,null,null,null,null,null,null,null,null,null,null,null,null,null,null,null,null,null,null,null,null,null,null,null,null,null,0,0,{"$f":"IFERROR(IF(J218=5,1,IF(MATCH(J218&\"/\"&N218,読み替え表_カーシェア!$P$32:$P$52,0),1,0)),0)","v":0},"*"]
[null,null,209,null,null,null,null,null,null,null,null,null,null,null,null,null,null,null,null,null,null,null,null,null,null,null,null,null,null,0,0,{"$f":"IFERROR(IF(J219=5,1,IF(MATCH(J219&\"/\"&N219,読み替え表_カーシェア!$P$32:$P$52,0),1,0)),0)","v":0},"*"]
[null,null,210,null,null,null,null,null,null,null,null,null,null,null,null,null,null,null,null,null,null,null,null,null,null,null,null,null,null,0,0,{"$f":"IFERROR(IF(J220=5,1,IF(MATCH(J220&\"/\"&N220,読み替え表_カーシェア!$P$32:$P$52,0),1,0)),0)","v":0},"*"]
[null,null,211,null,null,null,null,null,null,null,null,null,null,null,null,null,null,null,null,null,null,null,null,null,null,null,null,null,null,0,0,{"$f":"IFERROR(IF(J221=5,1,IF(MATCH(J221&\"/\"&N221,読み替え表_カーシェア!$P$32:$P$52,0),1,0)),0)","v":0},"*"]
[null,null,212,null,null,null,null,null,null,null,null,null,null,null,null,null,null,null,null,null,null,null,null,null,null,null,null,null,null,0,0,{"$f":"IFERROR(IF(J222=5,1,IF(MATCH(J222&\"/\"&N222,読み替え表_カーシェア!$P$32:$P$52,0),1,0)),0)","v":0},"*"]
[null,null,213,null,null,null,null,null,null,null,null,null,null,null,null,null,null,null,null,null,null,null,null,null,null,null,null,null,null,0,0,{"$f":"IFERROR(IF(J223=5,1,IF(MATCH(J223&\"/\"&N223,読み替え表_カーシェア!$P$32:$P$52,0),1,0)),0)","v":0},"*"]
[null,null,214,null,null,null,null,null,null,null,null,null,null,null,null,null,null,null,null,null,null,null,null,null,null,null,null,null,null,0,0,{"$f":"IFERROR(IF(J224=5,1,IF(MATCH(J224&\"/\"&N224,読み替え表_カーシェア!$P$32:$P$52,0),1,0)),0)","v":0},"*"]
[null,null,215,null,null,null,null,null,null,null,null,null,null,null,null,null,null,null,null,null,null,null,null,null,null,null,null,null,null,0,0,{"$f":"IFERROR(IF(J225=5,1,IF(MATCH(J225&\"/\"&N225,読み替え表_カーシェア!$P$32:$P$52,0),1,0)),0)","v":0},"*"]
[null,null,216,null,null,null,null,null,null,null,null,null,null,null,null,null,null,null,null,null,null,null,null,null,null,null,null,null,null,0,0,{"$f":"IFERROR(IF(J226=5,1,IF(MATCH(J226&\"/\"&N226,読み替え表_カーシェア!$P$32:$P$52,0),1,0)),0)","v":0},"*"]
[null,null,217,null,null,null,null,null,null,null,null,null,null,null,null,null,null,null,null,null,null,null,null,null,null,null,null,null,null,0,0,{"$f":"IFERROR(IF(J227=5,1,IF(MATCH(J227&\"/\"&N227,読み替え表_カーシェア!$P$32:$P$52,0),1,0)),0)","v":0},"*"]
[null,null,218,null,null,null,null,null,null,null,null,null,null,null,null,null,null,null,null,null,null,null,null,null,null,null,null,null,null,0,0,{"$f":"IFERROR(IF(J228=5,1,IF(MATCH(J228&\"/\"&N228,読み替え表_カーシェア!$P$32:$P$52,0),1,0)),0)","v":0},"*"]
[null,null,219,null,null,null,null,null,null,null,null,null,null,null,null,null,null,null,null,null,null,null,null,null,null,null,null,null,null,0,0,{"$f":"IFERROR(IF(J229=5,1,IF(MATCH(J229&\"/\"&N229,読み替え表_カーシェア!$P$32:$P$52,0),1,0)),0)","v":0},"*"]
[null,null,220,null,null,null,null,null,null,null,null,null,null,null,null,null,null,null,null,null,null,null,null,null,null,null,null,null,null,0,0,{"$f":"IFERROR(IF(J230=5,1,IF(MATCH(J230&\"/\"&N230,読み替え表_カーシェア!$P$32:$P$52,0),1,0)),0)","v":0},"*"]
[null,null,221,null,null,null,null,null,null,null,null,null,null,null,null,null,null,null,null,null,null,null,null,null,null,null,null,null,null,0,0,{"$f":"IFERROR(IF(J231=5,1,IF(MATCH(J231&\"/\"&N231,読み替え表_カーシェア!$P$32:$P$52,0),1,0)),0)","v":0},"*"]
[null,null,222,null,null,null,null,null,null,null,null,null,null,null,null,null,null,null,null,null,null,null,null,null,null,null,null,null,null,0,0,{"$f":"IFERROR(IF(J232=5,1,IF(MATCH(J232&\"/\"&N232,読み替え表_カーシェア!$P$32:$P$52,0),1,0)),0)","v":0},"*"]
[null,null,223,null,null,null,null,null,null,null,null,null,null,null,null,null,null,null,null,null,null,null,null,null,null,null,null,null,null,0,0,{"$f":"IFERROR(IF(J233=5,1,IF(MATCH(J233&\"/\"&N233,読み替え表_カーシェア!$P$32:$P$52,0),1,0)),0)","v":0},"*"]
[null,null,224,null,null,null,null,null,null,null,null,null,null,null,null,null,null,null,null,null,null,null,null,null,null,null,null,null,null,0,0,{"$f":"IFERROR(IF(J234=5,1,IF(MATCH(J234&\"/\"&N234,読み替え表_カーシェア!$P$32:$P$52,0),1,0)),0)","v":0},"*"]
[null,null,225,null,null,null,null,null,null,null,null,null,null,null,null,null,null,null,null,null,null,null,null,null,null,null,null,null,null,0,0,{"$f":"IFERROR(IF(J235=5,1,IF(MATCH(J235&\"/\"&N235,読み替え表_カーシェア!$P$32:$P$52,0),1,0)),0)","v":0},"*"]
[null,null,226,null,null,null,null,null,null,null,null,null,null,null,null,null,null,null,null,null,null,null,null,null,null,null,null,null,null,0,0,{"$f":"IFERROR(IF(J236=5,1,IF(MATCH(J236&\"/\"&N236,読み替え表_カーシェア!$P$32:$P$52,0),1,0)),0)","v":0},"*"]
[null,null,227,null,null,null,null,null,null,null,null,null,null,null,null,null,null,null,null,null,null,null,null,null,null,null,null,null,null,0,0,{"$f":"IFERROR(IF(J237=5,1,IF(MATCH(J237&\"/\"&N237,読み替え表_カーシェア!$P$32:$P$52,0),1,0)),0)","v":0},"*"]
[null,null,228,null,null,null,null,null,null,null,null,null,null,null,null,null,null,null,null,null,null,null,null,null,null,null,null,null,null,0,0,{"$f":"IFERROR(IF(J238=5,1,IF(MATCH(J238&\"/\"&N238,読み替え表_カーシェア!$P$32:$P$52,0),1,0)),0)","v":0},"*"]
[null,null,229,null,null,null,null,null,null,null,null,null,null,null,null,null,null,null,null,null,null,null,null,null,null,null,null,null,null,0,0,{"$f":"IFERROR(IF(J239=5,1,IF(MATCH(J239&\"/\"&N239,読み替え表_カーシェア!$P$32:$P$52,0),1,0)),0)","v":0},"*"]
[null,null,230,null,null,null,null,null,null,null,null,null,null,null,null,null,null,null,null,null,null,null,null,null,null,null,null,null,null,0,0,{"$f":"IFERROR(IF(J240=5,1,IF(MATCH(J240&\"/\"&N240,読み替え表_カーシェア!$P$32:$P$52,0),1,0)),0)","v":0},"*"]
[null,null,231,null,null,null,null,null,null,null,null,null,null,null,null,null,null,null,null,null,null,null,null,null,null,null,null,null,null,0,0,{"$f":"IFERROR(IF(J241=5,1,IF(MATCH(J241&\"/\"&N241,読み替え表_カーシェア!$P$32:$P$52,0),1,0)),0)","v":0},"*"]
[null,null,232,null,null,null,null,null,null,null,null,null,null,null,null,null,null,null,null,null,null,null,null,null,null,null,null,null,null,0,0,{"$f":"IFERROR(IF(J242=5,1,IF(MATCH(J242&\"/\"&N242,読み替え表_カーシェア!$P$32:$P$52,0),1,0)),0)","v":0},"*"]
[null,null,233,null,null,null,null,null,null,null,null,null,null,null,null,null,null,null,null,null,null,null,null,null,null,null,null,null,null,0,0,{"$f":"IFERROR(IF(J243=5,1,IF(MATCH(J243&\"/\"&N243,読み替え表_カーシェア!$P$32:$P$52,0),1,0)),0)","v":0},"*"]
[null,null,234,null,null,null,null,null,null,null,null,null,null,null,null,null,null,null,null,null,null,null,null,null,null,null,null,null,null,0,0,{"$f":"IFERROR(IF(J244=5,1,IF(MATCH(J244&\"/\"&N244,読み替え表_カーシェア!$P$32:$P$52,0),1,0)),0)","v":0},"*"]
[null,null,235,null,null,null,null,null,null,null,null,null,null,null,null,null,null,null,null,null,null,null,null,null,null,null,null,null,null,0,0,{"$f":"IFERROR(IF(J245=5,1,IF(MATCH(J245&\"/\"&N245,読み替え表_カーシェア!$P$32:$P$52,0),1,0)),0)","v":0},"*"]
[null,null,236,null,null,null,null,null,null,null,null,null,null,null,null,null,null,null,null,null,null,null,null,null,null,null,null,null,null,0,0,{"$f":"IFERROR(IF(J246=5,1,IF(MATCH(J246&\"/\"&N246,読み替え表_カーシェア!$P$32:$P$52,0),1,0)),0)","v":0},"*"]
[null,null,237,null,null,null,null,null,null,null,null,null,null,null,null,null,null,null,null,null,null,null,null,null,null,null,null,null,null,0,0,{"$f":"IFERROR(IF(J247=5,1,IF(MATCH(J247&\"/\"&N247,読み替え表_カーシェア!$P$32:$P$52,0),1,0)),0)","v":0},"*"]
[null,null,238,null,null,null,null,null,null,null,null,null,null,null,null,null,null,null,null,null,null,null,null,null,null,null,null,null,null,0,0,{"$f":"IFERROR(IF(J248=5,1,IF(MATCH(J248&\"/\"&N248,読み替え表_カーシェア!$P$32:$P$52,0),1,0)),0)","v":0},"*"]
[null,null,239,null,null,null,null,null,null,null,null,null,null,null,null,null,null,null,null,null,null,null,null,null,null,null,null,null,null,0,0,{"$f":"IFERROR(IF(J249=5,1,IF(MATCH(J249&\"/\"&N249,読み替え表_カーシェア!$P$32:$P$52,0),1,0)),0)","v":0},"*"]
[null,null,240,null,null,null,null,null,null,null,null,null,null,null,null,null,null,null,null,null,null,null,null,null,null,null,null,null,null,0,0,{"$f":"IFERROR(IF(J250=5,1,IF(MATCH(J250&\"/\"&N250,読み替え表_カーシェア!$P$32:$P$52,0),1,0)),0)","v":0},"*"]
[null,null,241,null,null,null,null,null,null,null,null,null,null,null,null,null,null,null,null,null,null,null,null,null,null,null,null,null,null,0,0,{"$f":"IFERROR(IF(J251=5,1,IF(MATCH(J251&\"/\"&N251,読み替え表_カーシェア!$P$32:$P$52,0),1,0)),0)","v":0},"*"]
[null,null,242,null,null,null,null,null,null,null,null,null,null,null,null,null,null,null,null,null,null,null,null,null,null,null,null,null,null,0,0,{"$f":"IFERROR(IF(J252=5,1,IF(MATCH(J252&\"/\"&N252,読み替え表_カーシェア!$P$32:$P$52,0),1,0)),0)","v":0},"*"]
[null,null,243,null,null,null,null,null,null,null,null,null,null,null,null,null,null,null,null,null,null,null,null,null,null,null,null,null,null,0,0,{"$f":"IFERROR(IF(J253=5,1,IF(MATCH(J253&\"/\"&N253,読み替え表_カーシェア!$P$32:$P$52,0),1,0)),0)","v":0},"*"]
[null,null,244,null,null,null,null,null,null,null,null,null,null,null,null,null,null,null,null,null,null,null,null,null,null,null,null,null,null,0,0,{"$f":"IFERROR(IF(J254=5,1,IF(MATCH(J254&\"/\"&N254,読み替え表_カーシェア!$P$32:$P$52,0),1,0)),0)","v":0},"*"]
[null,null,245,null,null,null,null,null,null,null,null,null,null,null,null,null,null,null,null,null,null,null,null,null,null,null,null,null,null,0,0,{"$f":"IFERROR(IF(J255=5,1,IF(MATCH(J255&\"/\"&N255,読み替え表_カーシェア!$P$32:$P$52,0),1,0)),0)","v":0},"*"]
[null,null,246,null,null,null,null,null,null,null,null,null,null,null,null,null,null,null,null,null,null,null,null,null,null,null,null,null,null,0,0,{"$f":"IFERROR(IF(J256=5,1,IF(MATCH(J256&\"/\"&N256,読み替え表_カーシェア!$P$32:$P$52,0),1,0)),0)","v":0},"*"]
[null,null,247,null,null,null,null,null,null,null,null,null,null,null,null,null,null,null,null,null,null,null,null,null,null,null,null,null,null,0,0,{"$f":"IFERROR(IF(J257=5,1,IF(MATCH(J257&\"/\"&N257,読み替え表_カーシェア!$P$32:$P$52,0),1,0)),0)","v":0},"*"]
[null,null,248,null,null,null,null,null,null,null,null,null,null,null,null,null,null,null,null,null,null,null,null,null,null,null,null,null,null,0,0,{"$f":"IFERROR(IF(J258=5,1,IF(MATCH(J258&\"/\"&N258,読み替え表_カーシェア!$P$32:$P$52,0),1,0)),0)","v":0},"*"]
[null,null,249,null,null,null,null,null,null,null,null,null,null,null,null,null,null,null,null,null,null,null,null,null,null,null,null,null,null,0,0,{"$f":"IFERROR(IF(J259=5,1,IF(MATCH(J259&\"/\"&N259,読み替え表_カーシェア!$P$32:$P$52,0),1,0)),0)","v":0},"*"]
[null,null,250,null,null,null,null,null,null,null,null,null,null,null,null,null,null,null,null,null,null,null,null,null,null,null,null,null,null,0,0,{"$f":"IFERROR(IF(J260=5,1,IF(MATCH(J260&\"/\"&N260,読み替え表_カーシェア!$P$32:$P$52,0),1,0)),0)","v":0},"*"]
[null,null,251,null,null,null,null,null,null,null,null,null,null,null,null,null,null,null,null,null,null,null,null,null,null,null,null,null,null,0,0,{"$f":"IFERROR(IF(J261=5,1,IF(MATCH(J261&\"/\"&N261,読み替え表_カーシェア!$P$32:$P$52,0),1,0)),0)","v":0},"*"]
[null,null,252,null,null,null,null,null,null,null,null,null,null,null,null,null,null,null,null,null,null,null,null,null,null,null,null,null,null,0,0,{"$f":"IFERROR(IF(J262=5,1,IF(MATCH(J262&\"/\"&N262,読み替え表_カーシェア!$P$32:$P$52,0),1,0)),0)","v":0},"*"]
[null,null,253,null,null,null,null,null,null,null,null,null,null,null,null,null,null,null,null,null,null,null,null,null,null,null,null,null,null,0,0,{"$f":"IFERROR(IF(J263=5,1,IF(MATCH(J263&\"/\"&N263,読み替え表_カーシェア!$P$32:$P$52,0),1,0)),0)","v":0},"*"]
[null,null,254,null,null,null,null,null,null,null,null,null,null,null,null,null,null,null,null,null,null,null,null,null,null,null,null,null,null,0,0,{"$f":"IFERROR(IF(J264=5,1,IF(MATCH(J264&\"/\"&N264,読み替え表_カーシェア!$P$32:$P$52,0),1,0)),0)","v":0},"*"]
[null,null,255,null,null,null,null,null,null,null,null,null,null,null,null,null,null,null,null,null,null,null,null,null,null,null,null,null,null,0,0,{"$f":"IFERROR(IF(J265=5,1,IF(MATCH(J265&\"/\"&N265,読み替え表_カーシェア!$P$32:$P$52,0),1,0)),0)","v":0},"*"]
[null,null,256,null,null,null,null,null,null,null,null,null,null,null,null,null,null,null,null,null,null,null,null,null,null,null,null,null,null,0,0,{"$f":"IFERROR(IF(J266=5,1,IF(MATCH(J266&\"/\"&N266,読み替え表_カーシェア!$P$32:$P$52,0),1,0)),0)","v":0},"*"]
[null,null,257,null,null,null,null,null,null,null,null,null,null,null,null,null,null,null,null,null,null,null,null,null,null,null,null,null,null,0,0,{"$f":"IFERROR(IF(J267=5,1,IF(MATCH(J267&\"/\"&N267,読み替え表_カーシェア!$P$32:$P$52,0),1,0)),0)","v":0},"*"]
[null,null,{"$f":"ROW()-10","v":258},null,null,null,null,null,null,null,null,null,null,null,null,null,null,null,null,null,null,null,null,null,null,null,null,null,null,{"$f":"IF(OR($N268=1,$N268=2,$N268=3),1,0)","v":0},{"$f":"IF(AND($J268=1,$L268>$M268),1,IF(AND($J268=1,$L268<$M268),2,IF(AND($J268=1,$L268=$M268),3,0)))","v":0},{"$f":"IFERROR(IF(J268=5,1,IF(MATCH(J268&\"/\"&N268,読み替え表_カーシェア!$P$32:$P$52,0),1,0)),0)","v":0},"*"]
[null,null,259,null,null,null,null,null,null,null,null,null,null,null,null,null,null,null,null,null,null,null,null,null,null,null,null,null,null,0,0,{"$f":"IFERROR(IF(J269=5,1,IF(MATCH(J269&\"/\"&N269,読み替え表_カーシェア!$P$32:$P$52,0),1,0)),0)","v":0},"*"]
[null,null,260,null,null,null,null,null,null,null,null,null,null,null,null,null,null,null,null,null,null,null,null,null,null,null,null,null,null,0,0,{"$f":"IFERROR(IF(J270=5,1,IF(MATCH(J270&\"/\"&N270,読み替え表_カーシェア!$P$32:$P$52,0),1,0)),0)","v":0},"*"]
[null,null,261,null,null,null,null,null,null,null,null,null,null,null,null,null,null,null,null,null,null,null,null,null,null,null,null,null,null,0,0,{"$f":"IFERROR(IF(J271=5,1,IF(MATCH(J271&\"/\"&N271,読み替え表_カーシェア!$P$32:$P$52,0),1,0)),0)","v":0},"*"]
[null,null,262,null,null,null,null,null,null,null,null,null,null,null,null,null,null,null,null,null,null,null,null,null,null,null,null,null,null,0,0,{"$f":"IFERROR(IF(J272=5,1,IF(MATCH(J272&\"/\"&N272,読み替え表_カーシェア!$P$32:$P$52,0),1,0)),0)","v":0},"*"]
[null,null,263,null,null,null,null,null,null,null,null,null,null,null,null,null,null,null,null,null,null,null,null,null,null,null,null,null,null,0,0,{"$f":"IFERROR(IF(J273=5,1,IF(MATCH(J273&\"/\"&N273,読み替え表_カーシェア!$P$32:$P$52,0),1,0)),0)","v":0},"*"]
[null,null,264,null,null,null,null,null,null,null,null,null,null,null,null,null,null,null,null,null,null,null,null,null,null,null,null,null,null,0,0,{"$f":"IFERROR(IF(J274=5,1,IF(MATCH(J274&\"/\"&N274,読み替え表_カーシェア!$P$32:$P$52,0),1,0)),0)","v":0},"*"]
[null,null,265,null,null,null,null,null,null,null,null,null,null,null,null,null,null,null,null,null,null,null,null,null,null,null,null,null,null,0,0,{"$f":"IFERROR(IF(J275=5,1,IF(MATCH(J275&\"/\"&N275,読み替え表_カーシェア!$P$32:$P$52,0),1,0)),0)","v":0},"*"]
[null,null,266,null,null,null,null,null,null,null,null,null,null,null,null,null,null,null,null,null,null,null,null,null,null,null,null,null,null,0,0,{"$f":"IFERROR(IF(J276=5,1,IF(MATCH(J276&\"/\"&N276,読み替え表_カーシェア!$P$32:$P$52,0),1,0)),0)","v":0},"*"]
[null,null,267,null,null,null,null,null,null,null,null,null,null,null,null,null,null,null,null,null,null,null,null,null,null,null,null,null,null,0,0,{"$f":"IFERROR(IF(J277=5,1,IF(MATCH(J277&\"/\"&N277,読み替え表_カーシェア!$P$32:$P$52,0),1,0)),0)","v":0},"*"]
[null,null,268,null,null,null,null,null,null,null,null,null,null,null,null,null,null,null,null,null,null,null,null,null,null,null,null,null,null,0,0,{"$f":"IFERROR(IF(J278=5,1,IF(MATCH(J278&\"/\"&N278,読み替え表_カーシェア!$P$32:$P$52,0),1,0)),0)","v":0},"*"]
[null,null,269,null,null,null,null,null,null,null,null,null,null,null,null,null,null,null,null,null,null,null,null,null,null,null,null,null,null,0,0,{"$f":"IFERROR(IF(J279=5,1,IF(MATCH(J279&\"/\"&N279,読み替え表_カーシェア!$P$32:$P$52,0),1,0)),0)","v":0},"*"]
[null,null,270,null,null,null,null,null,null,null,null,null,null,null,null,null,null,null,null,null,null,null,null,null,null,null,null,null,null,0,0,{"$f":"IFERROR(IF(J280=5,1,IF(MATCH(J280&\"/\"&N280,読み替え表_カーシェア!$P$32:$P$52,0),1,0)),0)","v":0},"*"]
[null,null,271,null,null,null,null,null,null,null,null,null,null,null,null,null,null,null,null,null,null,null,null,null,null,null,null,null,null,0,0,{"$f":"IFERROR(IF(J281=5,1,IF(MATCH(J281&\"/\"&N281,読み替え表_カーシェア!$P$32:$P$52,0),1,0)),0)","v":0},"*"]
[null,null,272,null,null,null,null,null,null,null,null,null,null,null,null,null,null,null,null,null,null,null,null,null,null,null,null,null,null,0,0,{"$f":"IFERROR(IF(J282=5,1,IF(MATCH(J282&\"/\"&N282,読み替え表_カーシェア!$P$32:$P$52,0),1,0)),0)","v":0},"*"]
[null,null,273,null,null,null,null,null,null,null,null,null,null,null,null,null,null,null,null,null,null,null,null,null,null,null,null,null,null,0,0,{"$f":"IFERROR(IF(J283=5,1,IF(MATCH(J283&\"/\"&N283,読み替え表_カーシェア!$P$32:$P$52,0),1,0)),0)","v":0},"*"]
[null,null,274,null,null,null,null,null,null,null,null,null,null,null,null,null,null,null,null,null,null,null,null,null,null,null,null,null,null,0,0,{"$f":"IFERROR(IF(J284=5,1,IF(MATCH(J284&\"/\"&N284,読み替え表_カーシェア!$P$32:$P$52,0),1,0)),0)","v":0},"*"]
[null,null,275,null,null,null,null,null,null,null,null,null,null,null,null,null,null,null,null,null,null,null,null,null,null,null,null,null,null,0,0,{"$f":"IFERROR(IF(J285=5,1,IF(MATCH(J285&\"/\"&N285,読み替え表_カーシェア!$P$32:$P$52,0),1,0)),0)","v":0},"*"]
[null,null,276,null,null,null,null,null,null,null,null,null,null,null,null,null,null,null,null,null,null,null,null,null,null,null,null,null,null,0,0,{"$f":"IFERROR(IF(J286=5,1,IF(MATCH(J286&\"/\"&N286,読み替え表_カーシェア!$P$32:$P$52,0),1,0)),0)","v":0},"*"]
[null,null,277,null,null,null,null,null,null,null,null,null,null,null,null,null,null,null,null,null,null,null,null,null,null,null,null,null,null,0,0,{"$f":"IFERROR(IF(J287=5,1,IF(MATCH(J287&\"/\"&N287,読み替え表_カーシェア!$P$32:$P$52,0),1,0)),0)","v":0},"*"]
[null,null,278,null,null,null,null,null,null,null,null,null,null,null,null,null,null,null,null,null,null,null,null,null,null,null,null,null,null,0,0,{"$f":"IFERROR(IF(J288=5,1,IF(MATCH(J288&\"/\"&N288,読み替え表_カーシェア!$P$32:$P$52,0),1,0)),0)","v":0},"*"]
[null,null,279,null,null,null,null,null,null,null,null,null,null,null,null,null,null,null,null,null,null,null,null,null,null,null,null,null,null,0,0,{"$f":"IFERROR(IF(J289=5,1,IF(MATCH(J289&\"/\"&N289,読み替え表_カーシェア!$P$32:$P$52,0),1,0)),0)","v":0},"*"]
[null,null,280,null,null,null,null,null,null,null,null,null,null,null,null,null,null,null,null,null,null,null,null,null,null,null,null,null,null,0,0,{"$f":"IFERROR(IF(J290=5,1,IF(MATCH(J290&\"/\"&N290,読み替え表_カーシェア!$P$32:$P$52,0),1,0)),0)","v":0},"*"]
[null,null,281,null,null,null,null,null,null,null,null,null,null,null,null,null,null,null,null,null,null,null,null,null,null,null,null,null,null,0,0,{"$f":"IFERROR(IF(J291=5,1,IF(MATCH(J291&\"/\"&N291,読み替え表_カーシェア!$P$32:$P$52,0),1,0)),0)","v":0},"*"]
[null,null,282,null,null,null,null,null,null,null,null,null,null,null,null,null,null,null,null,null,null,null,null,null,null,null,null,null,null,0,0,{"$f":"IFERROR(IF(J292=5,1,IF(MATCH(J292&\"/\"&N292,読み替え表_カーシェア!$P$32:$P$52,0),1,0)),0)","v":0},"*"]
[null,null,283,null,null,null,null,null,null,null,null,null,null,null,null,null,null,null,null,null,null,null,null,null,null,null,null,null,null,0,0,{"$f":"IFERROR(IF(J293=5,1,IF(MATCH(J293&\"/\"&N293,読み替え表_カーシェア!$P$32:$P$52,0),1,0)),0)","v":0},"*"]
[null,null,284,null,null,null,null,null,null,null,null,null,null,null,null,null,null,null,null,null,null,null,null,null,null,null,null,null,null,0,0,{"$f":"IFERROR(IF(J294=5,1,IF(MATCH(J294&\"/\"&N294,読み替え表_カーシェア!$P$32:$P$52,0),1,0)),0)","v":0},"*"]
[null,null,285,null,null,null,null,null,null,null,null,null,null,null,null,null,null,null,null,null,null,null,null,null,null,null,null,null,null,0,0,{"$f":"IFERROR(IF(J295=5,1,IF(MATCH(J295&\"/\"&N295,読み替え表_カーシェア!$P$32:$P$52,0),1,0)),0)","v":0},"*"]
[null,null,286,null,null,null,null,null,null,null,null,null,null,null,null,null,null,null,null,null,null,null,null,null,null,null,null,null,null,0,0,{"$f":"IFERROR(IF(J296=5,1,IF(MATCH(J296&\"/\"&N296,読み替え表_カーシェア!$P$32:$P$52,0),1,0)),0)","v":0},"*"]
[null,null,287,null,null,null,null,null,null,null,null,null,null,null,null,null,null,null,null,null,null,null,null,null,null,null,null,null,null,0,0,{"$f":"IFERROR(IF(J297=5,1,IF(MATCH(J297&\"/\"&N297,読み替え表_カーシェア!$P$32:$P$52,0),1,0)),0)","v":0},"*"]
[null,null,288,null,null,null,null,null,null,null,null,null,null,null,null,null,null,null,null,null,null,null,null,null,null,null,null,null,null,0,0,{"$f":"IFERROR(IF(J298=5,1,IF(MATCH(J298&\"/\"&N298,読み替え表_カーシェア!$P$32:$P$52,0),1,0)),0)","v":0},"*"]
[null,null,289,null,null,null,null,null,null,null,null,null,null,null,null,null,null,null,null,null,null,null,null,null,null,null,null,null,null,0,0,{"$f":"IFERROR(IF(J299=5,1,IF(MATCH(J299&\"/\"&N299,読み替え表_カーシェア!$P$32:$P$52,0),1,0)),0)","v":0},"*"]
[null,null,290,null,null,null,null,null,null,null,null,null,null,null,null,null,null,null,null,null,null,null,null,null,null,null,null,null,null,0,0,{"$f":"IFERROR(IF(J300=5,1,IF(MATCH(J300&\"/\"&N300,読み替え表_カーシェア!$P$32:$P$52,0),1,0)),0)","v":0},"*"]
[null,null,291,null,null,null,null,null,null,null,null,null,null,null,null,null,null,null,null,null,null,null,null,null,null,null,null,null,null,0,0,{"$f":"IFERROR(IF(J301=5,1,IF(MATCH(J301&\"/\"&N301,読み替え表_カーシェア!$P$32:$P$52,0),1,0)),0)","v":0},"*"]
[null,null,292,null,null,null,null,null,null,null,null,null,null,null,null,null,null,null,null,null,null,null,null,null,null,null,null,null,null,0,0,{"$f":"IFERROR(IF(J302=5,1,IF(MATCH(J302&\"/\"&N302,読み替え表_カーシェア!$P$32:$P$52,0),1,0)),0)","v":0},"*"]
[null,null,293,null,null,null,null,null,null,null,null,null,null,null,null,null,null,null,null,null,null,null,null,null,null,null,null,null,null,0,0,{"$f":"IFERROR(IF(J303=5,1,IF(MATCH(J303&\"/\"&N303,読み替え表_カーシェア!$P$32:$P$52,0),1,0)),0)","v":0},"*"]
[null,null,294,null,null,null,null,null,null,null,null,null,null,null,null,null,null,null,null,null,null,null,null,null,null,null,null,null,null,0,0,{"$f":"IFERROR(IF(J304=5,1,IF(MATCH(J304&\"/\"&N304,読み替え表_カーシェア!$P$32:$P$52,0),1,0)),0)","v":0},"*"]
[null,null,295,null,null,null,null,null,null,null,null,null,null,null,null,null,null,null,null,null,null,null,null,null,null,null,null,null,null,0,0,{"$f":"IFERROR(IF(J305=5,1,IF(MATCH(J305&\"/\"&N305,読み替え表_カーシェア!$P$32:$P$52,0),1,0)),0)","v":0},"*"]
[null,null,296,null,null,null,null,null,null,null,null,null,null,null,null,null,null,null,null,null,null,null,null,null,null,null,null,null,null,0,0,{"$f":"IFERROR(IF(J306=5,1,IF(MATCH(J306&\"/\"&N306,読み替え表_カーシェア!$P$32:$P$52,0),1,0)),0)","v":0},"*"]
[null,null,297,null,null,null,null,null,null,null,null,null,null,null,null,null,null,null,null,null,null,null,null,null,null,null,null,null,null,0,0,{"$f":"IFERROR(IF(J307=5,1,IF(MATCH(J307&\"/\"&N307,読み替え表_カーシェア!$P$32:$P$52,0),1,0)),0)","v":0},"*"]
[null,null,298,null,null,null,null,null,null,null,null,null,null,null,null,null,null,null,null,null,null,null,null,null,null,null,null,null,null,0,0,{"$f":"IFERROR(IF(J308=5,1,IF(MATCH(J308&\"/\"&N308,読み替え表_カーシェア!$P$32:$P$52,0),1,0)),0)","v":0},"*"]
[null,null,299,null,null,null,null,null,null,null,null,null,null,null,null,null,null,null,null,null,null,null,null,null,null,null,null,null,null,0,0,{"$f":"IFERROR(IF(J309=5,1,IF(MATCH(J309&\"/\"&N309,読み替え表_カーシェア!$P$32:$P$52,0),1,0)),0)","v":0},"*"]
[null,null,300,null,null,null,null,null,null,null,null,null,null,null,null,null,null,null,null,null,null,null,null,null,null,null,null,null,null,0,0,{"$f":"IFERROR(IF(J310=5,1,IF(MATCH(J310&\"/\"&N310,読み替え表_カーシェア!$P$32:$P$52,0),1,0)),0)","v":0},"*"]
[null,null,301,null,null,null,null,null,null,null,null,null,null,null,null,null,null,null,null,null,null,null,null,null,null,null,null,null,null,0,0,{"$f":"IFERROR(IF(J311=5,1,IF(MATCH(J311&\"/\"&N311,読み替え表_カーシェア!$P$32:$P$52,0),1,0)),0)","v":0},"*"]
[null,null,302,null,null,null,null,null,null,null,null,null,null,null,null,null,null,null,null,null,null,null,null,null,null,null,null,null,null,0,0,{"$f":"IFERROR(IF(J312=5,1,IF(MATCH(J312&\"/\"&N312,読み替え表_カーシェア!$P$32:$P$52,0),1,0)),0)","v":0},"*"]
[null,null,303,null,null,null,null,null,null,null,null,null,null,null,null,null,null,null,null,null,null,null,null,null,null,null,null,null,null,0,0,{"$f":"IFERROR(IF(J313=5,1,IF(MATCH(J313&\"/\"&N313,読み替え表_カーシェア!$P$32:$P$52,0),1,0)),0)","v":0},"*"]
[null,null,304,null,null,null,null,null,null,null,null,null,null,null,null,null,null,null,null,null,null,null,null,null,null,null,null,null,null,0,0,{"$f":"IFERROR(IF(J314=5,1,IF(MATCH(J314&\"/\"&N314,読み替え表_カーシェア!$P$32:$P$52,0),1,0)),0)","v":0},"*"]
[null,null,305,null,null,null,null,null,null,null,null,null,null,null,null,null,null,null,null,null,null,null,null,null,null,null,null,null,null,0,0,{"$f":"IFERROR(IF(J315=5,1,IF(MATCH(J315&\"/\"&N315,読み替え表_カーシェア!$P$32:$P$52,0),1,0)),0)","v":0},"*"]
[null,null,306,null,null,null,null,null,null,null,null,null,null,null,null,null,null,null,null,null,null,null,null,null,null,null,null,null,null,0,0,{"$f":"IFERROR(IF(J316=5,1,IF(MATCH(J316&\"/\"&N316,読み替え表_カーシェア!$P$32:$P$52,0),1,0)),0)","v":0},"*"]
[null,null,307,null,null,null,null,null,null,null,null,null,null,null,null,null,null,null,null,null,null,null,null,null,null,null,null,null,null,0,0,{"$f":"IFERROR(IF(J317=5,1,IF(MATCH(J317&\"/\"&N317,読み替え表_カーシェア!$P$32:$P$52,0),1,0)),0)","v":0},"*"]
[null,null,308,null,null,null,null,null,null,null,null,null,null,null,null,null,null,null,null,null,null,null,null,null,null,null,null,null,null,0,0,{"$f":"IFERROR(IF(J318=5,1,IF(MATCH(J318&\"/\"&N318,読み替え表_カーシェア!$P$32:$P$52,0),1,0)),0)","v":0},"*"]
[null,null,309,null,null,null,null,null,null,null,null,null,null,null,null,null,null,null,null,null,null,null,null,null,null,null,null,null,null,0,0,{"$f":"IFERROR(IF(J319=5,1,IF(MATCH(J319&\"/\"&N319,読み替え表_カーシェア!$P$32:$P$52,0),1,0)),0)","v":0},"*"]
[null,null,310,null,null,null,null,null,null,null,null,null,null,null,null,null,null,null,null,null,null,null,null,null,null,null,null,null,null,0,0,{"$f":"IFERROR(IF(J320=5,1,IF(MATCH(J320&\"/\"&N320,読み替え表_カーシェア!$P$32:$P$52,0),1,0)),0)","v":0},"*"]
[null,null,311,null,null,null,null,null,null,null,null,null,null,null,null,null,null,null,null,null,null,null,null,null,null,null,null,null,null,0,0,{"$f":"IFERROR(IF(J321=5,1,IF(MATCH(J321&\"/\"&N321,読み替え表_カーシェア!$P$32:$P$52,0),1,0)),0)","v":0},"*"]
[null,null,312,null,null,null,null,null,null,null,null,null,null,null,null,null,null,null,null,null,null,null,null,null,null,null,null,null,null,0,0,{"$f":"IFERROR(IF(J322=5,1,IF(MATCH(J322&\"/\"&N322,読み替え表_カーシェア!$P$32:$P$52,0),1,0)),0)","v":0},"*"]
[null,null,313,null,null,null,null,null,null,null,null,null,null,null,null,null,null,null,null,null,null,null,null,null,null,null,null,null,null,0,0,{"$f":"IFERROR(IF(J323=5,1,IF(MATCH(J323&\"/\"&N323,読み替え表_カーシェア!$P$32:$P$52,0),1,0)),0)","v":0},"*"]
[null,null,314,null,null,null,null,null,null,null,null,null,null,null,null,null,null,null,null,null,null,null,null,null,null,null,null,null,null,0,0,{"$f":"IFERROR(IF(J324=5,1,IF(MATCH(J324&\"/\"&N324,読み替え表_カーシェア!$P$32:$P$52,0),1,0)),0)","v":0},"*"]
[null,null,315,null,null,null,null,null,null,null,null,null,null,null,null,null,null,null,null,null,null,null,null,null,null,null,null,null,null,0,0,{"$f":"IFERROR(IF(J325=5,1,IF(MATCH(J325&\"/\"&N325,読み替え表_カーシェア!$P$32:$P$52,0),1,0)),0)","v":0},"*"]
[null,null,316,null,null,null,null,null,null,null,null,null,null,null,null,null,null,null,null,null,null,null,null,null,null,null,null,null,null,0,0,{"$f":"IFERROR(IF(J326=5,1,IF(MATCH(J326&\"/\"&N326,読み替え表_カーシェア!$P$32:$P$52,0),1,0)),0)","v":0},"*"]
[null,null,317,null,null,null,null,null,null,null,null,null,null,null,null,null,null,null,null,null,null,null,null,null,null,null,null,null,null,0,0,{"$f":"IFERROR(IF(J327=5,1,IF(MATCH(J327&\"/\"&N327,読み替え表_カーシェア!$P$32:$P$52,0),1,0)),0)","v":0},"*"]
[null,null,318,null,null,null,null,null,null,null,null,null,null,null,null,null,null,null,null,null,null,null,null,null,null,null,null,null,null,0,0,{"$f":"IFERROR(IF(J328=5,1,IF(MATCH(J328&\"/\"&N328,読み替え表_カーシェア!$P$32:$P$52,0),1,0)),0)","v":0},"*"]
[null,null,319,null,null,null,null,null,null,null,null,null,null,null,null,null,null,null,null,null,null,null,null,null,null,null,null,null,null,0,0,{"$f":"IFERROR(IF(J329=5,1,IF(MATCH(J329&\"/\"&N329,読み替え表_カーシェア!$P$32:$P$52,0),1,0)),0)","v":0},"*"]
[null,null,320,null,null,null,null,null,null,null,null,null,null,null,null,null,null,null,null,null,null,null,null,null,null,null,null,null,null,0,0,{"$f":"IFERROR(IF(J330=5,1,IF(MATCH(J330&\"/\"&N330,読み替え表_カーシェア!$P$32:$P$52,0),1,0)),0)","v":0},"*"]
[null,null,321,null,null,null,null,null,null,null,null,null,null,null,null,null,null,null,null,null,null,null,null,null,null,null,null,null,null,0,0,{"$f":"IFERROR(IF(J331=5,1,IF(MATCH(J331&\"/\"&N331,読み替え表_カーシェア!$P$32:$P$52,0),1,0)),0)","v":0},"*"]
[null,null,{"$f":"ROW()-10","v":322},null,null,null,null,null,null,null,null,null,null,null,null,null,null,null,null,null,null,null,null,null,null,null,null,null,null,{"$f":"IF(OR($N332=1,$N332=2,$N332=3),1,0)","v":0},{"$f":"IF(AND($J332=1,$L332>$M332),1,IF(AND($J332=1,$L332<$M332),2,IF(AND($J332=1,$L332=$M332),3,0)))","v":0},{"$f":"IFERROR(IF(J332=5,1,IF(MATCH(J332&\"/\"&N332,読み替え表_カーシェア!$P$32:$P$52,0),1,0)),0)","v":0},"*"]
[null,null,323,null,null,null,null,null,null,null,null,null,null,null,null,null,null,null,null,null,null,null,null,null,null,null,null,null,null,0,0,{"$f":"IFERROR(IF(J333=5,1,IF(MATCH(J333&\"/\"&N333,読み替え表_カーシェア!$P$32:$P$52,0),1,0)),0)","v":0},"*"]
[null,null,324,null,null,null,null,null,null,null,null,null,null,null,null,null,null,null,null,null,null,null,null,null,null,null,null,null,null,0,0,{"$f":"IFERROR(IF(J334=5,1,IF(MATCH(J334&\"/\"&N334,読み替え表_カーシェア!$P$32:$P$52,0),1,0)),0)","v":0},"*"]
[null,null,325,null,null,null,null,null,null,null,null,null,null,null,null,null,null,null,null,null,null,null,null,null,null,null,null,null,null,0,0,{"$f":"IFERROR(IF(J335=5,1,IF(MATCH(J335&\"/\"&N335,読み替え表_カーシェア!$P$32:$P$52,0),1,0)),0)","v":0},"*"]
[null,null,326,null,null,null,null,null,null,null,null,null,null,null,null,null,null,null,null,null,null,null,null,null,null,null,null,null,null,0,0,{"$f":"IFERROR(IF(J336=5,1,IF(MATCH(J336&\"/\"&N336,読み替え表_カーシェア!$P$32:$P$52,0),1,0)),0)","v":0},"*"]
[null,null,327,null,null,null,null,null,null,null,null,null,null,null,null,null,null,null,null,null,null,null,null,null,null,null,null,null,null,0,0,{"$f":"IFERROR(IF(J337=5,1,IF(MATCH(J337&\"/\"&N337,読み替え表_カーシェア!$P$32:$P$52,0),1,0)),0)","v":0},"*"]
[null,null,328,null,null,null,null,null,null,null,null,null,null,null,null,null,null,null,null,null,null,null,null,null,null,null,null,null,null,0,0,{"$f":"IFERROR(IF(J338=5,1,IF(MATCH(J338&\"/\"&N338,読み替え表_カーシェア!$P$32:$P$52,0),1,0)),0)","v":0},"*"]
[null,null,329,null,null,null,null,null,null,null,null,null,null,null,null,null,null,null,null,null,null,null,null,null,null,null,null,null,null,0,0,{"$f":"IFERROR(IF(J339=5,1,IF(MATCH(J339&\"/\"&N339,読み替え表_カーシェア!$P$32:$P$52,0),1,0)),0)","v":0},"*"]
[null,null,330,null,null,null,null,null,null,null,null,null,null,null,null,null,null,null,null,null,null,null,null,null,null,null,null,null,null,0,0,{"$f":"IFERROR(IF(J340=5,1,IF(MATCH(J340&\"/\"&N340,読み替え表_カーシェア!$P$32:$P$52,0),1,0)),0)","v":0},"*"]
[null,null,331,null,null,null,null,null,null,null,null,null,null,null,null,null,null,null,null,null,null,null,null,null,null,null,null,null,null,0,0,{"$f":"IFERROR(IF(J341=5,1,IF(MATCH(J341&\"/\"&N341,読み替え表_カーシェア!$P$32:$P$52,0),1,0)),0)","v":0},"*"]
[null,null,332,null,null,null,null,null,null,null,null,null,null,null,null,null,null,null,null,null,null,null,null,null,null,null,null,null,null,0,0,{"$f":"IFERROR(IF(J342=5,1,IF(MATCH(J342&\"/\"&N342,読み替え表_カーシェア!$P$32:$P$52,0),1,0)),0)","v":0},"*"]
[null,null,333,null,null,null,null,null,null,null,null,null,null,null,null,null,null,null,null,null,null,null,null,null,null,null,null,null,null,0,0,{"$f":"IFERROR(IF(J343=5,1,IF(MATCH(J343&\"/\"&N343,読み替え表_カーシェア!$P$32:$P$52,0),1,0)),0)","v":0},"*"]
[null,null,334,null,null,null,null,null,null,null,null,null,null,null,null,null,null,null,null,null,null,null,null,null,null,null,null,null,null,0,0,{"$f":"IFERROR(IF(J344=5,1,IF(MATCH(J344&\"/\"&N344,読み替え表_カーシェア!$P$32:$P$52,0),1,0)),0)","v":0},"*"]
[null,null,335,null,null,null,null,null,null,null,null,null,null,null,null,null,null,null,null,null,null,null,null,null,null,null,null,null,null,0,0,{"$f":"IFERROR(IF(J345=5,1,IF(MATCH(J345&\"/\"&N345,読み替え表_カーシェア!$P$32:$P$52,0),1,0)),0)","v":0},"*"]
[null,null,336,null,null,null,null,null,null,null,null,null,null,null,null,null,null,null,null,null,null,null,null,null,null,null,null,null,null,0,0,{"$f":"IFERROR(IF(J346=5,1,IF(MATCH(J346&\"/\"&N346,読み替え表_カーシェア!$P$32:$P$52,0),1,0)),0)","v":0},"*"]
[null,null,337,null,null,null,null,null,null,null,null,null,null,null,null,null,null,null,null,null,null,null,null,null,null,null,null,null,null,0,0,{"$f":"IFERROR(IF(J347=5,1,IF(MATCH(J347&\"/\"&N347,読み替え表_カーシェア!$P$32:$P$52,0),1,0)),0)","v":0},"*"]
[null,null,338,null,null,null,null,null,null,null,null,null,null,null,null,null,null,null,null,null,null,null,null,null,null,null,null,null,null,0,0,{"$f":"IFERROR(IF(J348=5,1,IF(MATCH(J348&\"/\"&N348,読み替え表_カーシェア!$P$32:$P$52,0),1,0)),0)","v":0},"*"]
[null,null,339,null,null,null,null,null,null,null,null,null,null,null,null,null,null,null,null,null,null,null,null,null,null,null,null,null,null,0,0,{"$f":"IFERROR(IF(J349=5,1,IF(MATCH(J349&\"/\"&N349,読み替え表_カーシェア!$P$32:$P$52,0),1,0)),0)","v":0},"*"]
[null,null,340,null,null,null,null,null,null,null,null,null,null,null,null,null,null,null,null,null,null,null,null,null,null,null,null,null,null,0,0,{"$f":"IFERROR(IF(J350=5,1,IF(MATCH(J350&\"/\"&N350,読み替え表_カーシェア!$P$32:$P$52,0),1,0)),0)","v":0},"*"]
[null,null,341,null,null,null,null,null,null,null,null,null,null,null,null,null,null,null,null,null,null,null,null,null,null,null,null,null,null,0,0,{"$f":"IFERROR(IF(J351=5,1,IF(MATCH(J351&\"/\"&N351,読み替え表_カーシェア!$P$32:$P$52,0),1,0)),0)","v":0},"*"]
[null,null,342,null,null,null,null,null,null,null,null,null,null,null,null,null,null,null,null,null,null,null,null,null,null,null,null,null,null,0,0,{"$f":"IFERROR(IF(J352=5,1,IF(MATCH(J352&\"/\"&N352,読み替え表_カーシェア!$P$32:$P$52,0),1,0)),0)","v":0},"*"]
[null,null,343,null,null,null,null,null,null,null,null,null,null,null,null,null,null,null,null,null,null,null,null,null,null,null,null,null,null,0,0,{"$f":"IFERROR(IF(J353=5,1,IF(MATCH(J353&\"/\"&N353,読み替え表_カーシェア!$P$32:$P$52,0),1,0)),0)","v":0},"*"]
[null,null,344,null,null,null,null,null,null,null,null,null,null,null,null,null,null,null,null,null,null,null,null,null,null,null,null,null,null,0,0,{"$f":"IFERROR(IF(J354=5,1,IF(MATCH(J354&\"/\"&N354,読み替え表_カーシェア!$P$32:$P$52,0),1,0)),0)","v":0},"*"]
[null,null,345,null,null,null,null,null,null,null,null,null,null,null,null,null,null,null,null,null,null,null,null,null,null,null,null,null,null,0,0,{"$f":"IFERROR(IF(J355=5,1,IF(MATCH(J355&\"/\"&N355,読み替え表_カーシェア!$P$32:$P$52,0),1,0)),0)","v":0},"*"]
[null,null,346,null,null,null,null,null,null,null,null,null,null,null,null,null,null,null,null,null,null,null,null,null,null,null,null,null,null,0,0,{"$f":"IFERROR(IF(J356=5,1,IF(MATCH(J356&\"/\"&N356,読み替え表_カーシェア!$P$32:$P$52,0),1,0)),0)","v":0},"*"]
[null,null,347,null,null,null,null,null,null,null,null,null,null,null,null,null,null,null,null,null,null,null,null,null,null,null,null,null,null,0,0,{"$f":"IFERROR(IF(J357=5,1,IF(MATCH(J357&\"/\"&N357,読み替え表_カーシェア!$P$32:$P$52,0),1,0)),0)","v":0},"*"]
[null,null,348,null,null,null,null,null,null,null,null,null,null,null,null,null,null,null,null,null,null,null,null,null,null,null,null,null,null,0,0,{"$f":"IFERROR(IF(J358=5,1,IF(MATCH(J358&\"/\"&N358,読み替え表_カーシェア!$P$32:$P$52,0),1,0)),0)","v":0},"*"]
[null,null,349,null,null,null,null,null,null,null,null,null,null,null,null,null,null,null,null,null,null,null,null,null,null,null,null,null,null,0,0,{"$f":"IFERROR(IF(J359=5,1,IF(MATCH(J359&\"/\"&N359,読み替え表_カーシェア!$P$32:$P$52,0),1,0)),0)","v":0},"*"]
[null,null,350,null,null,null,null,null,null,null,null,null,null,null,null,null,null,null,null,null,null,null,null,null,null,null,null,null,null,0,0,{"$f":"IFERROR(IF(J360=5,1,IF(MATCH(J360&\"/\"&N360,読み替え表_カーシェア!$P$32:$P$52,0),1,0)),0)","v":0},"*"]
[null,null,351,null,null,null,null,null,null,null,null,null,null,null,null,null,null,null,null,null,null,null,null,null,null,null,null,null,null,0,0,{"$f":"IFERROR(IF(J361=5,1,IF(MATCH(J361&\"/\"&N361,読み替え表_カーシェア!$P$32:$P$52,0),1,0)),0)","v":0},"*"]
[null,null,352,null,null,null,null,null,null,null,null,null,null,null,null,null,null,null,null,null,null,null,null,null,null,null,null,null,null,0,0,{"$f":"IFERROR(IF(J362=5,1,IF(MATCH(J362&\"/\"&N362,読み替え表_カーシェア!$P$32:$P$52,0),1,0)),0)","v":0},"*"]
[null,null,353,null,null,null,null,null,null,null,null,null,null,null,null,null,null,null,null,null,null,null,null,null,null,null,null,null,null,0,0,{"$f":"IFERROR(IF(J363=5,1,IF(MATCH(J363&\"/\"&N363,読み替え表_カーシェア!$P$32:$P$52,0),1,0)),0)","v":0},"*"]
[null,null,354,null,null,null,null,null,null,null,null,null,null,null,null,null,null,null,null,null,null,null,null,null,null,null,null,null,null,0,0,{"$f":"IFERROR(IF(J364=5,1,IF(MATCH(J364&\"/\"&N364,読み替え表_カーシェア!$P$32:$P$52,0),1,0)),0)","v":0},"*"]
[null,null,355,null,null,null,null,null,null,null,null,null,null,null,null,null,null,null,null,null,null,null,null,null,null,null,null,null,null,0,0,{"$f":"IFERROR(IF(J365=5,1,IF(MATCH(J365&\"/\"&N365,読み替え表_カーシェア!$P$32:$P$52,0),1,0)),0)","v":0},"*"]
[null,null,356,null,null,null,null,null,null,null,null,null,null,null,null,null,null,null,null,null,null,null,null,null,null,null,null,null,null,0,0,{"$f":"IFERROR(IF(J366=5,1,IF(MATCH(J366&\"/\"&N366,読み替え表_カーシェア!$P$32:$P$52,0),1,0)),0)","v":0},"*"]
[null,null,357,null,null,null,null,null,null,null,null,null,null,null,null,null,null,null,null,null,null,null,null,null,null,null,null,null,null,0,0,{"$f":"IFERROR(IF(J367=5,1,IF(MATCH(J367&\"/\"&N367,読み替え表_カーシェア!$P$32:$P$52,0),1,0)),0)","v":0},"*"]
[null,null,358,null,null,null,null,null,null,null,null,null,null,null,null,null,null,null,null,null,null,null,null,null,null,null,null,null,null,0,0,{"$f":"IFERROR(IF(J368=5,1,IF(MATCH(J368&\"/\"&N368,読み替え表_カーシェア!$P$32:$P$52,0),1,0)),0)","v":0},"*"]
[null,null,359,null,null,null,null,null,null,null,null,null,null,null,null,null,null,null,null,null,null,null,null,null,null,null,null,null,null,0,0,{"$f":"IFERROR(IF(J369=5,1,IF(MATCH(J369&\"/\"&N369,読み替え表_カーシェア!$P$32:$P$52,0),1,0)),0)","v":0},"*"]
[null,null,360,null,null,null,null,null,null,null,null,null,null,null,null,null,null,null,null,null,null,null,null,null,null,null,null,null,null,0,0,{"$f":"IFERROR(IF(J370=5,1,IF(MATCH(J370&\"/\"&N370,読み替え表_カーシェア!$P$32:$P$52,0),1,0)),0)","v":0},"*"]
[null,null,361,null,null,null,null,null,null,null,null,null,null,null,null,null,null,null,null,null,null,null,null,null,null,null,null,null,null,0,0,{"$f":"IFERROR(IF(J371=5,1,IF(MATCH(J371&\"/\"&N371,読み替え表_カーシェア!$P$32:$P$52,0),1,0)),0)","v":0},"*"]
[null,null,362,null,null,null,null,null,null,null,null,null,null,null,null,null,null,null,null,null,null,null,null,null,null,null,null,null,null,0,0,{"$f":"IFERROR(IF(J372=5,1,IF(MATCH(J372&\"/\"&N372,読み替え表_カーシェア!$P$32:$P$52,0),1,0)),0)","v":0},"*"]
[null,null,363,null,null,null,null,null,null,null,null,null,null,null,null,null,null,null,null,null,null,null,null,null,null,null,null,null,null,0,0,{"$f":"IFERROR(IF(J373=5,1,IF(MATCH(J373&\"/\"&N373,読み替え表_カーシェア!$P$32:$P$52,0),1,0)),0)","v":0},"*"]
[null,null,364,null,null,null,null,null,null,null,null,null,null,null,null,null,null,null,null,null,null,null,null,null,null,null,null,null,null,0,0,{"$f":"IFERROR(IF(J374=5,1,IF(MATCH(J374&\"/\"&N374,読み替え表_カーシェア!$P$32:$P$52,0),1,0)),0)","v":0},"*"]
[null,null,365,null,null,null,null,null,null,null,null,null,null,null,null,null,null,null,null,null,null,null,null,null,null,null,null,null,null,0,0,{"$f":"IFERROR(IF(J375=5,1,IF(MATCH(J375&\"/\"&N375,読み替え表_カーシェア!$P$32:$P$52,0),1,0)),0)","v":0},"*"]
[null,null,366,null,null,null,null,null,null,null,null,null,null,null,null,null,null,null,null,null,null,null,null,null,null,null,null,null,null,0,0,{"$f":"IFERROR(IF(J376=5,1,IF(MATCH(J376&\"/\"&N376,読み替え表_カーシェア!$P$32:$P$52,0),1,0)),0)","v":0},"*"]
[null,null,367,null,null,null,null,null,null,null,null,null,null,null,null,null,null,null,null,null,null,null,null,null,null,null,null,null,null,0,0,{"$f":"IFERROR(IF(J377=5,1,IF(MATCH(J377&\"/\"&N377,読み替え表_カーシェア!$P$32:$P$52,0),1,0)),0)","v":0},"*"]
[null,null,368,null,null,null,null,null,null,null,null,null,null,null,null,null,null,null,null,null,null,null,null,null,null,null,null,null,null,0,0,{"$f":"IFERROR(IF(J378=5,1,IF(MATCH(J378&\"/\"&N378,読み替え表_カーシェア!$P$32:$P$52,0),1,0)),0)","v":0},"*"]
[null,null,369,null,null,null,null,null,null,null,null,null,null,null,null,null,null,null,null,null,null,null,null,null,null,null,null,null,null,0,0,{"$f":"IFERROR(IF(J379=5,1,IF(MATCH(J379&\"/\"&N379,読み替え表_カーシェア!$P$32:$P$52,0),1,0)),0)","v":0},"*"]
[null,null,370,null,null,null,null,null,null,null,null,null,null,null,null,null,null,null,null,null,null,null,null,null,null,null,null,null,null,0,0,{"$f":"IFERROR(IF(J380=5,1,IF(MATCH(J380&\"/\"&N380,読み替え表_カーシェア!$P$32:$P$52,0),1,0)),0)","v":0},"*"]
[null,null,371,null,null,null,null,null,null,null,null,null,null,null,null,null,null,null,null,null,null,null,null,null,null,null,null,null,null,0,0,{"$f":"IFERROR(IF(J381=5,1,IF(MATCH(J381&\"/\"&N381,読み替え表_カーシェア!$P$32:$P$52,0),1,0)),0)","v":0},"*"]
[null,null,372,null,null,null,null,null,null,null,null,null,null,null,null,null,null,null,null,null,null,null,null,null,null,null,null,null,null,0,0,{"$f":"IFERROR(IF(J382=5,1,IF(MATCH(J382&\"/\"&N382,読み替え表_カーシェア!$P$32:$P$52,0),1,0)),0)","v":0},"*"]
[null,null,373,null,null,null,null,null,null,null,null,null,null,null,null,null,null,null,null,null,null,null,null,null,null,null,null,null,null,0,0,{"$f":"IFERROR(IF(J383=5,1,IF(MATCH(J383&\"/\"&N383,読み替え表_カーシェア!$P$32:$P$52,0),1,0)),0)","v":0},"*"]
[null,null,374,null,null,null,null,null,null,null,null,null,null,null,null,null,null,null,null,null,null,null,null,null,null,null,null,null,null,0,0,{"$f":"IFERROR(IF(J384=5,1,IF(MATCH(J384&\"/\"&N384,読み替え表_カーシェア!$P$32:$P$52,0),1,0)),0)","v":0},"*"]
[null,null,375,null,null,null,null,null,null,null,null,null,null,null,null,null,null,null,null,null,null,null,null,null,null,null,null,null,null,0,0,{"$f":"IFERROR(IF(J385=5,1,IF(MATCH(J385&\"/\"&N385,読み替え表_カーシェア!$P$32:$P$52,0),1,0)),0)","v":0},"*"]
[null,null,376,null,null,null,null,null,null,null,null,null,null,null,null,null,null,null,null,null,null,null,null,null,null,null,null,null,null,0,0,{"$f":"IFERROR(IF(J386=5,1,IF(MATCH(J386&\"/\"&N386,読み替え表_カーシェア!$P$32:$P$52,0),1,0)),0)","v":0},"*"]
[null,null,377,null,null,null,null,null,null,null,null,null,null,null,null,null,null,null,null,null,null,null,null,null,null,null,null,null,null,0,0,{"$f":"IFERROR(IF(J387=5,1,IF(MATCH(J387&\"/\"&N387,読み替え表_カーシェア!$P$32:$P$52,0),1,0)),0)","v":0},"*"]
[null,null,378,null,null,null,null,null,null,null,null,null,null,null,null,null,null,null,null,null,null,null,null,null,null,null,null,null,null,0,0,{"$f":"IFERROR(IF(J388=5,1,IF(MATCH(J388&\"/\"&N388,読み替え表_カーシェア!$P$32:$P$52,0),1,0)),0)","v":0},"*"]
[null,null,379,null,null,null,null,null,null,null,null,null,null,null,null,null,null,null,null,null,null,null,null,null,null,null,null,null,null,0,0,{"$f":"IFERROR(IF(J389=5,1,IF(MATCH(J389&\"/\"&N389,読み替え表_カーシェア!$P$32:$P$52,0),1,0)),0)","v":0},"*"]
[null,null,380,null,null,null,null,null,null,null,null,null,null,null,null,null,null,null,null,null,null,null,null,null,null,null,null,null,null,0,0,{"$f":"IFERROR(IF(J390=5,1,IF(MATCH(J390&\"/\"&N390,読み替え表_カーシェア!$P$32:$P$52,0),1,0)),0)","v":0},"*"]
[null,null,381,null,null,null,null,null,null,null,null,null,null,null,null,null,null,null,null,null,null,null,null,null,null,null,null,null,null,0,0,{"$f":"IFERROR(IF(J391=5,1,IF(MATCH(J391&\"/\"&N391,読み替え表_カーシェア!$P$32:$P$52,0),1,0)),0)","v":0},"*"]
[null,null,382,null,null,null,null,null,null,null,null,null,null,null,null,null,null,null,null,null,null,null,null,null,null,null,null,null,null,0,0,{"$f":"IFERROR(IF(J392=5,1,IF(MATCH(J392&\"/\"&N392,読み替え表_カーシェア!$P$32:$P$52,0),1,0)),0)","v":0},"*"]
[null,null,383,null,null,null,null,null,null,null,null,null,null,null,null,null,null,null,null,null,null,null,null,null,null,null,null,null,null,0,0,{"$f":"IFERROR(IF(J393=5,1,IF(MATCH(J393&\"/\"&N393,読み替え表_カーシェア!$P$32:$P$52,0),1,0)),0)","v":0},"*"]
[null,null,384,null,null,null,null,null,null,null,null,null,null,null,null,null,null,null,null,null,null,null,null,null,null,null,null,null,null,0,0,{"$f":"IFERROR(IF(J394=5,1,IF(MATCH(J394&\"/\"&N394,読み替え表_カーシェア!$P$32:$P$52,0),1,0)),0)","v":0},"*"]
[null,null,385,null,null,null,null,null,null,null,null,null,null,null,null,null,null,null,null,null,null,null,null,null,null,null,null,null,null,0,0,{"$f":"IFERROR(IF(J395=5,1,IF(MATCH(J395&\"/\"&N395,読み替え表_カーシェア!$P$32:$P$52,0),1,0)),0)","v":0},"*"]
[null,null,{"$f":"ROW()-10","v":386},null,null,null,null,null,null,null,null,null,null,null,null,null,null,null,null,null,null,null,null,null,null,null,null,null,null,{"$f":"IF(OR($N396=1,$N396=2,$N396=3),1,0)","v":0},{"$f":"IF(AND($J396=1,$L396>$M396),1,IF(AND($J396=1,$L396<$M396),2,IF(AND($J396=1,$L396=$M396),3,0)))","v":0},{"$f":"IFERROR(IF(J396=5,1,IF(MATCH(J396&\"/\"&N396,読み替え表_カーシェア!$P$32:$P$52,0),1,0)),0)","v":0},"*"]
[null,null,387,null,null,null,null,null,null,null,null,null,null,null,null,null,null,null,null,null,null,null,null,null,null,null,null,null,null,0,0,{"$f":"IFERROR(IF(J397=5,1,IF(MATCH(J397&\"/\"&N397,読み替え表_カーシェア!$P$32:$P$52,0),1,0)),0)","v":0},"*"]
[null,null,388,null,null,null,null,null,null,null,null,null,null,null,null,null,null,null,null,null,null,null,null,null,null,null,null,null,null,0,0,{"$f":"IFERROR(IF(J398=5,1,IF(MATCH(J398&\"/\"&N398,読み替え表_カーシェア!$P$32:$P$52,0),1,0)),0)","v":0},"*"]
[null,null,389,null,null,null,null,null,null,null,null,null,null,null,null,null,null,null,null,null,null,null,null,null,null,null,null,null,null,0,0,{"$f":"IFERROR(IF(J399=5,1,IF(MATCH(J399&\"/\"&N399,読み替え表_カーシェア!$P$32:$P$52,0),1,0)),0)","v":0},"*"]
[null,null,390,null,null,null,null,null,null,null,null,null,null,null,null,null,null,null,null,null,null,null,null,null,null,null,null,null,null,0,0,{"$f":"IFERROR(IF(J400=5,1,IF(MATCH(J400&\"/\"&N400,読み替え表_カーシェア!$P$32:$P$52,0),1,0)),0)","v":0},"*"]
[null,null,391,null,null,null,null,null,null,null,null,null,null,null,null,null,null,null,null,null,null,null,null,null,null,null,null,null,null,0,0,{"$f":"IFERROR(IF(J401=5,1,IF(MATCH(J401&\"/\"&N401,読み替え表_カーシェア!$P$32:$P$52,0),1,0)),0)","v":0},"*"]
[null,null,392,null,null,null,null,null,null,null,null,null,null,null,null,null,null,null,null,null,null,null,null,null,null,null,null,null,null,0,0,{"$f":"IFERROR(IF(J402=5,1,IF(MATCH(J402&\"/\"&N402,読み替え表_カーシェア!$P$32:$P$52,0),1,0)),0)","v":0},"*"]
[null,null,393,null,null,null,null,null,null,null,null,null,null,null,null,null,null,null,null,null,null,null,null,null,null,null,null,null,null,0,0,{"$f":"IFERROR(IF(J403=5,1,IF(MATCH(J403&\"/\"&N403,読み替え表_カーシェア!$P$32:$P$52,0),1,0)),0)","v":0},"*"]
[null,null,394,null,null,null,null,null,null,null,null,null,null,null,null,null,null,null,null,null,null,null,null,null,null,null,null,null,null,0,0,{"$f":"IFERROR(IF(J404=5,1,IF(MATCH(J404&\"/\"&N404,読み替え表_カーシェア!$P$32:$P$52,0),1,0)),0)","v":0},"*"]
[null,null,395,null,null,null,null,null,null,null,null,null,null,null,null,null,null,null,null,null,null,null,null,null,null,null,null,null,null,0,0,{"$f":"IFERROR(IF(J405=5,1,IF(MATCH(J405&\"/\"&N405,読み替え表_カーシェア!$P$32:$P$52,0),1,0)),0)","v":0},"*"]
[null,null,396,null,null,null,null,null,null,null,null,null,null,null,null,null,null,null,null,null,null,null,null,null,null,null,null,null,null,0,0,{"$f":"IFERROR(IF(J406=5,1,IF(MATCH(J406&\"/\"&N406,読み替え表_カーシェア!$P$32:$P$52,0),1,0)),0)","v":0},"*"]
[null,null,397,null,null,null,null,null,null,null,null,null,null,null,null,null,null,null,null,null,null,null,null,null,null,null,null,null,null,0,0,{"$f":"IFERROR(IF(J407=5,1,IF(MATCH(J407&\"/\"&N407,読み替え表_カーシェア!$P$32:$P$52,0),1,0)),0)","v":0},"*"]
[null,null,398,null,null,null,null,null,null,null,null,null,null,null,null,null,null,null,null,null,null,null,null,null,null,null,null,null,null,0,0,{"$f":"IFERROR(IF(J408=5,1,IF(MATCH(J408&\"/\"&N408,読み替え表_カーシェア!$P$32:$P$52,0),1,0)),0)","v":0},"*"]
[null,null,399,null,null,null,null,null,null,null,null,null,null,null,null,null,null,null,null,null,null,null,null,null,null,null,null,null,null,0,0,{"$f":"IFERROR(IF(J409=5,1,IF(MATCH(J409&\"/\"&N409,読み替え表_カーシェア!$P$32:$P$52,0),1,0)),0)","v":0},"*"]
[null,null,400,null,null,null,null,null,null,null,null,null,null,null,null,null,null,null,null,null,null,null,null,null,null,null,null,null,null,0,0,{"$f":"IFERROR(IF(J410=5,1,IF(MATCH(J410&\"/\"&N410,読み替え表_カーシェア!$P$32:$P$52,0),1,0)),0)","v":0},"*"]
[null,null,401,null,null,null,null,null,null,null,null,null,null,null,null,null,null,null,null,null,null,null,null,null,null,null,null,null,null,0,0,{"$f":"IFERROR(IF(J411=5,1,IF(MATCH(J411&\"/\"&N411,読み替え表_カーシェア!$P$32:$P$52,0),1,0)),0)","v":0},"*"]
[null,null,402,null,null,null,null,null,null,null,null,null,null,null,null,null,null,null,null,null,null,null,null,null,null,null,null,null,null,0,0,{"$f":"IFERROR(IF(J412=5,1,IF(MATCH(J412&\"/\"&N412,読み替え表_カーシェア!$P$32:$P$52,0),1,0)),0)","v":0},"*"]
[null,null,403,null,null,null,null,null,null,null,null,null,null,null,null,null,null,null,null,null,null,null,null,null,null,null,null,null,null,0,0,{"$f":"IFERROR(IF(J413=5,1,IF(MATCH(J413&\"/\"&N413,読み替え表_カーシェア!$P$32:$P$52,0),1,0)),0)","v":0},"*"]
[null,null,404,null,null,null,null,null,null,null,null,null,null,null,null,null,null,null,null,null,null,null,null,null,null,null,null,null,null,0,0,{"$f":"IFERROR(IF(J414=5,1,IF(MATCH(J414&\"/\"&N414,読み替え表_カーシェア!$P$32:$P$52,0),1,0)),0)","v":0},"*"]
[null,null,405,null,null,null,null,null,null,null,null,null,null,null,null,null,null,null,null,null,null,null,null,null,null,null,null,null,null,0,0,{"$f":"IFERROR(IF(J415=5,1,IF(MATCH(J415&\"/\"&N415,読み替え表_カーシェア!$P$32:$P$52,0),1,0)),0)","v":0},"*"]
[null,null,406,null,null,null,null,null,null,null,null,null,null,null,null,null,null,null,null,null,null,null,null,null,null,null,null,null,null,0,0,{"$f":"IFERROR(IF(J416=5,1,IF(MATCH(J416&\"/\"&N416,読み替え表_カーシェア!$P$32:$P$52,0),1,0)),0)","v":0},"*"]
[null,null,407,null,null,null,null,null,null,null,null,null,null,null,null,null,null,null,null,null,null,null,null,null,null,null,null,null,null,0,0,{"$f":"IFERROR(IF(J417=5,1,IF(MATCH(J417&\"/\"&N417,読み替え表_カーシェア!$P$32:$P$52,0),1,0)),0)","v":0},"*"]
[null,null,408,null,null,null,null,null,null,null,null,null,null,null,null,null,null,null,null,null,null,null,null,null,null,null,null,null,null,0,0,{"$f":"IFERROR(IF(J418=5,1,IF(MATCH(J418&\"/\"&N418,読み替え表_カーシェア!$P$32:$P$52,0),1,0)),0)","v":0},"*"]
[null,null,409,null,null,null,null,null,null,null,null,null,null,null,null,null,null,null,null,null,null,null,null,null,null,null,null,null,null,0,0,{"$f":"IFERROR(IF(J419=5,1,IF(MATCH(J419&\"/\"&N419,読み替え表_カーシェア!$P$32:$P$52,0),1,0)),0)","v":0},"*"]
[null,null,410,null,null,null,null,null,null,null,null,null,null,null,null,null,null,null,null,null,null,null,null,null,null,null,null,null,null,0,0,{"$f":"IFERROR(IF(J420=5,1,IF(MATCH(J420&\"/\"&N420,読み替え表_カーシェア!$P$32:$P$52,0),1,0)),0)","v":0},"*"]
[null,null,411,null,null,null,null,null,null,null,null,null,null,null,null,null,null,null,null,null,null,null,null,null,null,null,null,null,null,0,0,{"$f":"IFERROR(IF(J421=5,1,IF(MATCH(J421&\"/\"&N421,読み替え表_カーシェア!$P$32:$P$52,0),1,0)),0)","v":0},"*"]
[null,null,412,null,null,null,null,null,null,null,null,null,null,null,null,null,null,null,null,null,null,null,null,null,null,null,null,null,null,0,0,{"$f":"IFERROR(IF(J422=5,1,IF(MATCH(J422&\"/\"&N422,読み替え表_カーシェア!$P$32:$P$52,0),1,0)),0)","v":0},"*"]
[null,null,413,null,null,null,null,null,null,null,null,null,null,null,null,null,null,null,null,null,null,null,null,null,null,null,null,null,null,0,0,{"$f":"IFERROR(IF(J423=5,1,IF(MATCH(J423&\"/\"&N423,読み替え表_カーシェア!$P$32:$P$52,0),1,0)),0)","v":0},"*"]
[null,null,414,null,null,null,null,null,null,null,null,null,null,null,null,null,null,null,null,null,null,null,null,null,null,null,null,null,null,0,0,{"$f":"IFERROR(IF(J424=5,1,IF(MATCH(J424&\"/\"&N424,読み替え表_カーシェア!$P$32:$P$52,0),1,0)),0)","v":0},"*"]
[null,null,415,null,null,null,null,null,null,null,null,null,null,null,null,null,null,null,null,null,null,null,null,null,null,null,null,null,null,0,0,{"$f":"IFERROR(IF(J425=5,1,IF(MATCH(J425&\"/\"&N425,読み替え表_カーシェア!$P$32:$P$52,0),1,0)),0)","v":0},"*"]
[null,null,416,null,null,null,null,null,null,null,null,null,null,null,null,null,null,null,null,null,null,null,null,null,null,null,null,null,null,0,0,{"$f":"IFERROR(IF(J426=5,1,IF(MATCH(J426&\"/\"&N426,読み替え表_カーシェア!$P$32:$P$52,0),1,0)),0)","v":0},"*"]
[null,null,417,null,null,null,null,null,null,null,null,null,null,null,null,null,null,null,null,null,null,null,null,null,null,null,null,null,null,0,0,{"$f":"IFERROR(IF(J427=5,1,IF(MATCH(J427&\"/\"&N427,読み替え表_カーシェア!$P$32:$P$52,0),1,0)),0)","v":0},"*"]
[null,null,418,null,null,null,null,null,null,null,null,null,null,null,null,null,null,null,null,null,null,null,null,null,null,null,null,null,null,0,0,{"$f":"IFERROR(IF(J428=5,1,IF(MATCH(J428&\"/\"&N428,読み替え表_カーシェア!$P$32:$P$52,0),1,0)),0)","v":0},"*"]
[null,null,419,null,null,null,null,null,null,null,null,null,null,null,null,null,null,null,null,null,null,null,null,null,null,null,null,null,null,0,0,{"$f":"IFERROR(IF(J429=5,1,IF(MATCH(J429&\"/\"&N429,読み替え表_カーシェア!$P$32:$P$52,0),1,0)),0)","v":0},"*"]
[null,null,420,null,null,null,null,null,null,null,null,null,null,null,null,null,null,null,null,null,null,null,null,null,null,null,null,null,null,0,0,{"$f":"IFERROR(IF(J430=5,1,IF(MATCH(J430&\"/\"&N430,読み替え表_カーシェア!$P$32:$P$52,0),1,0)),0)","v":0},"*"]
[null,null,421,null,null,null,null,null,null,null,null,null,null,null,null,null,null,null,null,null,null,null,null,null,null,null,null,null,null,0,0,{"$f":"IFERROR(IF(J431=5,1,IF(MATCH(J431&\"/\"&N431,読み替え表_カーシェア!$P$32:$P$52,0),1,0)),0)","v":0},"*"]
[null,null,422,null,null,null,null,null,null,null,null,null,null,null,null,null,null,null,null,null,null,null,null,null,null,null,null,null,null,0,0,{"$f":"IFERROR(IF(J432=5,1,IF(MATCH(J432&\"/\"&N432,読み替え表_カーシェア!$P$32:$P$52,0),1,0)),0)","v":0},"*"]
[null,null,423,null,null,null,null,null,null,null,null,null,null,null,null,null,null,null,null,null,null,null,null,null,null,null,null,null,null,0,0,{"$f":"IFERROR(IF(J433=5,1,IF(MATCH(J433&\"/\"&N433,読み替え表_カーシェア!$P$32:$P$52,0),1,0)),0)","v":0},"*"]
[null,null,424,null,null,null,null,null,null,null,null,null,null,null,null,null,null,null,null,null,null,null,null,null,null,null,null,null,null,0,0,{"$f":"IFERROR(IF(J434=5,1,IF(MATCH(J434&\"/\"&N434,読み替え表_カーシェア!$P$32:$P$52,0),1,0)),0)","v":0},"*"]
[null,null,425,null,null,null,null,null,null,null,null,null,null,null,null,null,null,null,null,null,null,null,null,null,null,null,null,null,null,0,0,{"$f":"IFERROR(IF(J435=5,1,IF(MATCH(J435&\"/\"&N435,読み替え表_カーシェア!$P$32:$P$52,0),1,0)),0)","v":0},"*"]
[null,null,426,null,null,null,null,null,null,null,null,null,null,null,null,null,null,null,null,null,null,null,null,null,null,null,null,null,null,0,0,{"$f":"IFERROR(IF(J436=5,1,IF(MATCH(J436&\"/\"&N436,読み替え表_カーシェア!$P$32:$P$52,0),1,0)),0)","v":0},"*"]
[null,null,427,null,null,null,null,null,null,null,null,null,null,null,null,null,null,null,null,null,null,null,null,null,null,null,null,null,null,0,0,{"$f":"IFERROR(IF(J437=5,1,IF(MATCH(J437&\"/\"&N437,読み替え表_カーシェア!$P$32:$P$52,0),1,0)),0)","v":0},"*"]
[null,null,428,null,null,null,null,null,null,null,null,null,null,null,null,null,null,null,null,null,null,null,null,null,null,null,null,null,null,0,0,{"$f":"IFERROR(IF(J438=5,1,IF(MATCH(J438&\"/\"&N438,読み替え表_カーシェア!$P$32:$P$52,0),1,0)),0)","v":0},"*"]
[null,null,429,null,null,null,null,null,null,null,null,null,null,null,null,null,null,null,null,null,null,null,null,null,null,null,null,null,null,0,0,{"$f":"IFERROR(IF(J439=5,1,IF(MATCH(J439&\"/\"&N439,読み替え表_カーシェア!$P$32:$P$52,0),1,0)),0)","v":0},"*"]
[null,null,430,null,null,null,null,null,null,null,null,null,null,null,null,null,null,null,null,null,null,null,null,null,null,null,null,null,null,0,0,{"$f":"IFERROR(IF(J440=5,1,IF(MATCH(J440&\"/\"&N440,読み替え表_カーシェア!$P$32:$P$52,0),1,0)),0)","v":0},"*"]
[null,null,431,null,null,null,null,null,null,null,null,null,null,null,null,null,null,null,null,null,null,null,null,null,null,null,null,null,null,0,0,{"$f":"IFERROR(IF(J441=5,1,IF(MATCH(J441&\"/\"&N441,読み替え表_カーシェア!$P$32:$P$52,0),1,0)),0)","v":0},"*"]
[null,null,432,null,null,null,null,null,null,null,null,null,null,null,null,null,null,null,null,null,null,null,null,null,null,null,null,null,null,0,0,{"$f":"IFERROR(IF(J442=5,1,IF(MATCH(J442&\"/\"&N442,読み替え表_カーシェア!$P$32:$P$52,0),1,0)),0)","v":0},"*"]
[null,null,433,null,null,null,null,null,null,null,null,null,null,null,null,null,null,null,null,null,null,null,null,null,null,null,null,null,null,0,0,{"$f":"IFERROR(IF(J443=5,1,IF(MATCH(J443&\"/\"&N443,読み替え表_カーシェア!$P$32:$P$52,0),1,0)),0)","v":0},"*"]
[null,null,434,null,null,null,null,null,null,null,null,null,null,null,null,null,null,null,null,null,null,null,null,null,null,null,null,null,null,0,0,{"$f":"IFERROR(IF(J444=5,1,IF(MATCH(J444&\"/\"&N444,読み替え表_カーシェア!$P$32:$P$52,0),1,0)),0)","v":0},"*"]
[null,null,435,null,null,null,null,null,null,null,null,null,null,null,null,null,null,null,null,null,null,null,null,null,null,null,null,null,null,0,0,{"$f":"IFERROR(IF(J445=5,1,IF(MATCH(J445&\"/\"&N445,読み替え表_カーシェア!$P$32:$P$52,0),1,0)),0)","v":0},"*"]
[null,null,436,null,null,null,null,null,null,null,null,null,null,null,null,null,null,null,null,null,null,null,null,null,null,null,null,null,null,0,0,{"$f":"IFERROR(IF(J446=5,1,IF(MATCH(J446&\"/\"&N446,読み替え表_カーシェア!$P$32:$P$52,0),1,0)),0)","v":0},"*"]
[null,null,437,null,null,null,null,null,null,null,null,null,null,null,null,null,null,null,null,null,null,null,null,null,null,null,null,null,null,0,0,{"$f":"IFERROR(IF(J447=5,1,IF(MATCH(J447&\"/\"&N447,読み替え表_カーシェア!$P$32:$P$52,0),1,0)),0)","v":0},"*"]
[null,null,438,null,null,null,null,null,null,null,null,null,null,null,null,null,null,null,null,null,null,null,null,null,null,null,null,null,null,0,0,{"$f":"IFERROR(IF(J448=5,1,IF(MATCH(J448&\"/\"&N448,読み替え表_カーシェア!$P$32:$P$52,0),1,0)),0)","v":0},"*"]
[null,null,439,null,null,null,null,null,null,null,null,null,null,null,null,null,null,null,null,null,null,null,null,null,null,null,null,null,null,0,0,{"$f":"IFERROR(IF(J449=5,1,IF(MATCH(J449&\"/\"&N449,読み替え表_カーシェア!$P$32:$P$52,0),1,0)),0)","v":0},"*"]
[null,null,440,null,null,null,null,null,null,null,null,null,null,null,null,null,null,null,null,null,null,null,null,null,null,null,null,null,null,0,0,{"$f":"IFERROR(IF(J450=5,1,IF(MATCH(J450&\"/\"&N450,読み替え表_カーシェア!$P$32:$P$52,0),1,0)),0)","v":0},"*"]
[null,null,441,null,null,null,null,null,null,null,null,null,null,null,null,null,null,null,null,null,null,null,null,null,null,null,null,null,null,0,0,{"$f":"IFERROR(IF(J451=5,1,IF(MATCH(J451&\"/\"&N451,読み替え表_カーシェア!$P$32:$P$52,0),1,0)),0)","v":0},"*"]
[null,null,442,null,null,null,null,null,null,null,null,null,null,null,null,null,null,null,null,null,null,null,null,null,null,null,null,null,null,0,0,{"$f":"IFERROR(IF(J452=5,1,IF(MATCH(J452&\"/\"&N452,読み替え表_カーシェア!$P$32:$P$52,0),1,0)),0)","v":0},"*"]
[null,null,443,null,null,null,null,null,null,null,null,null,null,null,null,null,null,null,null,null,null,null,null,null,null,null,null,null,null,0,0,{"$f":"IFERROR(IF(J453=5,1,IF(MATCH(J453&\"/\"&N453,読み替え表_カーシェア!$P$32:$P$52,0),1,0)),0)","v":0},"*"]
[null,null,444,null,null,null,null,null,null,null,null,null,null,null,null,null,null,null,null,null,null,null,null,null,null,null,null,null,null,0,0,{"$f":"IFERROR(IF(J454=5,1,IF(MATCH(J454&\"/\"&N454,読み替え表_カーシェア!$P$32:$P$52,0),1,0)),0)","v":0},"*"]
[null,null,445,null,null,null,null,null,null,null,null,null,null,null,null,null,null,null,null,null,null,null,null,null,null,null,null,null,null,0,0,{"$f":"IFERROR(IF(J455=5,1,IF(MATCH(J455&\"/\"&N455,読み替え表_カーシェア!$P$32:$P$52,0),1,0)),0)","v":0},"*"]
[null,null,446,null,null,null,null,null,null,null,null,null,null,null,null,null,null,null,null,null,null,null,null,null,null,null,null,null,null,0,0,{"$f":"IFERROR(IF(J456=5,1,IF(MATCH(J456&\"/\"&N456,読み替え表_カーシェア!$P$32:$P$52,0),1,0)),0)","v":0},"*"]
[null,null,447,null,null,null,null,null,null,null,null,null,null,null,null,null,null,null,null,null,null,null,null,null,null,null,null,null,null,0,0,{"$f":"IFERROR(IF(J457=5,1,IF(MATCH(J457&\"/\"&N457,読み替え表_カーシェア!$P$32:$P$52,0),1,0)),0)","v":0},"*"]
[null,null,448,null,null,null,null,null,null,null,null,null,null,null,null,null,null,null,null,null,null,null,null,null,null,null,null,null,null,0,0,{"$f":"IFERROR(IF(J458=5,1,IF(MATCH(J458&\"/\"&N458,読み替え表_カーシェア!$P$32:$P$52,0),1,0)),0)","v":0},"*"]
[null,null,449,null,null,null,null,null,null,null,null,null,null,null,null,null,null,null,null,null,null,null,null,null,null,null,null,null,null,0,0,{"$f":"IFERROR(IF(J459=5,1,IF(MATCH(J459&\"/\"&N459,読み替え表_カーシェア!$P$32:$P$52,0),1,0)),0)","v":0},"*"]
[null,null,{"$f":"ROW()-10","v":450},null,null,null,null,null,null,null,null,null,null,null,null,null,null,null,null,null,null,null,null,null,null,null,null,null,null,{"$f":"IF(OR($N460=1,$N460=2,$N460=3),1,0)","v":0},{"$f":"IF(AND($J460=1,$L460>$M460),1,IF(AND($J460=1,$L460<$M460),2,IF(AND($J460=1,$L460=$M460),3,0)))","v":0},{"$f":"IFERROR(IF(J460=5,1,IF(MATCH(J460&\"/\"&N460,読み替え表_カーシェア!$P$32:$P$52,0),1,0)),0)","v":0},"*"]
[null,null,451,null,null,null,null,null,null,null,null,null,null,null,null,null,null,null,null,null,null,null,null,null,null,null,null,null,null,0,0,{"$f":"IFERROR(IF(J461=5,1,IF(MATCH(J461&\"/\"&N461,読み替え表_カーシェア!$P$32:$P$52,0),1,0)),0)","v":0},"*"]
[null,null,452,null,null,null,null,null,null,null,null,null,null,null,null,null,null,null,null,null,null,null,null,null,null,null,null,null,null,0,0,{"$f":"IFERROR(IF(J462=5,1,IF(MATCH(J462&\"/\"&N462,読み替え表_カーシェア!$P$32:$P$52,0),1,0)),0)","v":0},"*"]
[null,null,453,null,null,null,null,null,null,null,null,null,null,null,null,null,null,null,null,null,null,null,null,null,null,null,null,null,null,0,0,{"$f":"IFERROR(IF(J463=5,1,IF(MATCH(J463&\"/\"&N463,読み替え表_カーシェア!$P$32:$P$52,0),1,0)),0)","v":0},"*"]
[null,null,454,null,null,null,null,null,null,null,null,null,null,null,null,null,null,null,null,null,null,null,null,null,null,null,null,null,null,0,0,{"$f":"IFERROR(IF(J464=5,1,IF(MATCH(J464&\"/\"&N464,読み替え表_カーシェア!$P$32:$P$52,0),1,0)),0)","v":0},"*"]
[null,null,455,null,null,null,null,null,null,null,null,null,null,null,null,null,null,null,null,null,null,null,null,null,null,null,null,null,null,0,0,{"$f":"IFERROR(IF(J465=5,1,IF(MATCH(J465&\"/\"&N465,読み替え表_カーシェア!$P$32:$P$52,0),1,0)),0)","v":0},"*"]
[null,null,456,null,null,null,null,null,null,null,null,null,null,null,null,null,null,null,null,null,null,null,null,null,null,null,null,null,null,0,0,{"$f":"IFERROR(IF(J466=5,1,IF(MATCH(J466&\"/\"&N466,読み替え表_カーシェア!$P$32:$P$52,0),1,0)),0)","v":0},"*"]
[null,null,457,null,null,null,null,null,null,null,null,null,null,null,null,null,null,null,null,null,null,null,null,null,null,null,null,null,null,0,0,{"$f":"IFERROR(IF(J467=5,1,IF(MATCH(J467&\"/\"&N467,読み替え表_カーシェア!$P$32:$P$52,0),1,0)),0)","v":0},"*"]
[null,null,458,null,null,null,null,null,null,null,null,null,null,null,null,null,null,null,null,null,null,null,null,null,null,null,null,null,null,0,0,{"$f":"IFERROR(IF(J468=5,1,IF(MATCH(J468&\"/\"&N468,読み替え表_カーシェア!$P$32:$P$52,0),1,0)),0)","v":0},"*"]
[null,null,459,null,null,null,null,null,null,null,null,null,null,null,null,null,null,null,null,null,null,null,null,null,null,null,null,null,null,0,0,{"$f":"IFERROR(IF(J469=5,1,IF(MATCH(J469&\"/\"&N469,読み替え表_カーシェア!$P$32:$P$52,0),1,0)),0)","v":0},"*"]
[null,null,460,null,null,null,null,null,null,null,null,null,null,null,null,null,null,null,null,null,null,null,null,null,null,null,null,null,null,0,0,{"$f":"IFERROR(IF(J470=5,1,IF(MATCH(J470&\"/\"&N470,読み替え表_カーシェア!$P$32:$P$52,0),1,0)),0)","v":0},"*"]
[null,null,461,null,null,null,null,null,null,null,null,null,null,null,null,null,null,null,null,null,null,null,null,null,null,null,null,null,null,0,0,{"$f":"IFERROR(IF(J471=5,1,IF(MATCH(J471&\"/\"&N471,読み替え表_カーシェア!$P$32:$P$52,0),1,0)),0)","v":0},"*"]
[null,null,462,null,null,null,null,null,null,null,null,null,null,null,null,null,null,null,null,null,null,null,null,null,null,null,null,null,null,0,0,{"$f":"IFERROR(IF(J472=5,1,IF(MATCH(J472&\"/\"&N472,読み替え表_カーシェア!$P$32:$P$52,0),1,0)),0)","v":0},"*"]
[null,null,463,null,null,null,null,null,null,null,null,null,null,null,null,null,null,null,null,null,null,null,null,null,null,null,null,null,null,0,0,{"$f":"IFERROR(IF(J473=5,1,IF(MATCH(J473&\"/\"&N473,読み替え表_カーシェア!$P$32:$P$52,0),1,0)),0)","v":0},"*"]
[null,null,464,null,null,null,null,null,null,null,null,null,null,null,null,null,null,null,null,null,null,null,null,null,null,null,null,null,null,0,0,{"$f":"IFERROR(IF(J474=5,1,IF(MATCH(J474&\"/\"&N474,読み替え表_カーシェア!$P$32:$P$52,0),1,0)),0)","v":0},"*"]
[null,null,465,null,null,null,null,null,null,null,null,null,null,null,null,null,null,null,null,null,null,null,null,null,null,null,null,null,null,0,0,{"$f":"IFERROR(IF(J475=5,1,IF(MATCH(J475&\"/\"&N475,読み替え表_カーシェア!$P$32:$P$52,0),1,0)),0)","v":0},"*"]
[null,null,466,null,null,null,null,null,null,null,null,null,null,null,null,null,null,null,null,null,null,null,null,null,null,null,null,null,null,0,0,{"$f":"IFERROR(IF(J476=5,1,IF(MATCH(J476&\"/\"&N476,読み替え表_カーシェア!$P$32:$P$52,0),1,0)),0)","v":0},"*"]
[null,null,467,null,null,null,null,null,null,null,null,null,null,null,null,null,null,null,null,null,null,null,null,null,null,null,null,null,null,0,0,{"$f":"IFERROR(IF(J477=5,1,IF(MATCH(J477&\"/\"&N477,読み替え表_カーシェア!$P$32:$P$52,0),1,0)),0)","v":0},"*"]
[null,null,468,null,null,null,null,null,null,null,null,null,null,null,null,null,null,null,null,null,null,null,null,null,null,null,null,null,null,0,0,{"$f":"IFERROR(IF(J478=5,1,IF(MATCH(J478&\"/\"&N478,読み替え表_カーシェア!$P$32:$P$52,0),1,0)),0)","v":0},"*"]
[null,null,469,null,null,null,null,null,null,null,null,null,null,null,null,null,null,null,null,null,null,null,null,null,null,null,null,null,null,0,0,{"$f":"IFERROR(IF(J479=5,1,IF(MATCH(J479&\"/\"&N479,読み替え表_カーシェア!$P$32:$P$52,0),1,0)),0)","v":0},"*"]
[null,null,470,null,null,null,null,null,null,null,null,null,null,null,null,null,null,null,null,null,null,null,null,null,null,null,null,null,null,0,0,{"$f":"IFERROR(IF(J480=5,1,IF(MATCH(J480&\"/\"&N480,読み替え表_カーシェア!$P$32:$P$52,0),1,0)),0)","v":0},"*"]
[null,null,471,null,null,null,null,null,null,null,null,null,null,null,null,null,null,null,null,null,null,null,null,null,null,null,null,null,null,0,0,{"$f":"IFERROR(IF(J481=5,1,IF(MATCH(J481&\"/\"&N481,読み替え表_カーシェア!$P$32:$P$52,0),1,0)),0)","v":0},"*"]
[null,null,472,null,null,null,null,null,null,null,null,null,null,null,null,null,null,null,null,null,null,null,null,null,null,null,null,null,null,0,0,{"$f":"IFERROR(IF(J482=5,1,IF(MATCH(J482&\"/\"&N482,読み替え表_カーシェア!$P$32:$P$52,0),1,0)),0)","v":0},"*"]
[null,null,473,null,null,null,null,null,null,null,null,null,null,null,null,null,null,null,null,null,null,null,null,null,null,null,null,null,null,0,0,{"$f":"IFERROR(IF(J483=5,1,IF(MATCH(J483&\"/\"&N483,読み替え表_カーシェア!$P$32:$P$52,0),1,0)),0)","v":0},"*"]
[null,null,474,null,null,null,null,null,null,null,null,null,null,null,null,null,null,null,null,null,null,null,null,null,null,null,null,null,null,0,0,{"$f":"IFERROR(IF(J484=5,1,IF(MATCH(J484&\"/\"&N484,読み替え表_カーシェア!$P$32:$P$52,0),1,0)),0)","v":0},"*"]
[null,null,475,null,null,null,null,null,null,null,null,null,null,null,null,null,null,null,null,null,null,null,null,null,null,null,null,null,null,0,0,{"$f":"IFERROR(IF(J485=5,1,IF(MATCH(J485&\"/\"&N485,読み替え表_カーシェア!$P$32:$P$52,0),1,0)),0)","v":0},"*"]
[null,null,476,null,null,null,null,null,null,null,null,null,null,null,null,null,null,null,null,null,null,null,null,null,null,null,null,null,null,0,0,{"$f":"IFERROR(IF(J486=5,1,IF(MATCH(J486&\"/\"&N486,読み替え表_カーシェア!$P$32:$P$52,0),1,0)),0)","v":0},"*"]
[null,null,477,null,null,null,null,null,null,null,null,null,null,null,null,null,null,null,null,null,null,null,null,null,null,null,null,null,null,0,0,{"$f":"IFERROR(IF(J487=5,1,IF(MATCH(J487&\"/\"&N487,読み替え表_カーシェア!$P$32:$P$52,0),1,0)),0)","v":0},"*"]
[null,null,478,null,null,null,null,null,null,null,null,null,null,null,null,null,null,null,null,null,null,null,null,null,null,null,null,null,null,0,0,{"$f":"IFERROR(IF(J488=5,1,IF(MATCH(J488&\"/\"&N488,読み替え表_カーシェア!$P$32:$P$52,0),1,0)),0)","v":0},"*"]
[null,null,479,null,null,null,null,null,null,null,null,null,null,null,null,null,null,null,null,null,null,null,null,null,null,null,null,null,null,0,0,{"$f":"IFERROR(IF(J489=5,1,IF(MATCH(J489&\"/\"&N489,読み替え表_カーシェア!$P$32:$P$52,0),1,0)),0)","v":0},"*"]
[null,null,480,null,null,null,null,null,null,null,null,null,null,null,null,null,null,null,null,null,null,null,null,null,null,null,null,null,null,0,0,{"$f":"IFERROR(IF(J490=5,1,IF(MATCH(J490&\"/\"&N490,読み替え表_カーシェア!$P$32:$P$52,0),1,0)),0)","v":0},"*"]
[null,null,481,null,null,null,null,null,null,null,null,null,null,null,null,null,null,null,null,null,null,null,null,null,null,null,null,null,null,0,0,{"$f":"IFERROR(IF(J491=5,1,IF(MATCH(J491&\"/\"&N491,読み替え表_カーシェア!$P$32:$P$52,0),1,0)),0)","v":0},"*"]
[null,null,482,null,null,null,null,null,null,null,null,null,null,null,null,null,null,null,null,null,null,null,null,null,null,null,null,null,null,0,0,{"$f":"IFERROR(IF(J492=5,1,IF(MATCH(J492&\"/\"&N492,読み替え表_カーシェア!$P$32:$P$52,0),1,0)),0)","v":0},"*"]
[null,null,483,null,null,null,null,null,null,null,null,null,null,null,null,null,null,null,null,null,null,null,null,null,null,null,null,null,null,0,0,{"$f":"IFERROR(IF(J493=5,1,IF(MATCH(J493&\"/\"&N493,読み替え表_カーシェア!$P$32:$P$52,0),1,0)),0)","v":0},"*"]
[null,null,484,null,null,null,null,null,null,null,null,null,null,null,null,null,null,null,null,null,null,null,null,null,null,null,null,null,null,0,0,{"$f":"IFERROR(IF(J494=5,1,IF(MATCH(J494&\"/\"&N494,読み替え表_カーシェア!$P$32:$P$52,0),1,0)),0)","v":0},"*"]
[null,null,485,null,null,null,null,null,null,null,null,null,null,null,null,null,null,null,null,null,null,null,null,null,null,null,null,null,null,0,0,{"$f":"IFERROR(IF(J495=5,1,IF(MATCH(J495&\"/\"&N495,読み替え表_カーシェア!$P$32:$P$52,0),1,0)),0)","v":0},"*"]
[null,null,486,null,null,null,null,null,null,null,null,null,null,null,null,null,null,null,null,null,null,null,null,null,null,null,null,null,null,0,0,{"$f":"IFERROR(IF(J496=5,1,IF(MATCH(J496&\"/\"&N496,読み替え表_カーシェア!$P$32:$P$52,0),1,0)),0)","v":0},"*"]
[null,null,487,null,null,null,null,null,null,null,null,null,null,null,null,null,null,null,null,null,null,null,null,null,null,null,null,null,null,0,0,{"$f":"IFERROR(IF(J497=5,1,IF(MATCH(J497&\"/\"&N497,読み替え表_カーシェア!$P$32:$P$52,0),1,0)),0)","v":0},"*"]
[null,null,488,null,null,null,null,null,null,null,null,null,null,null,null,null,null,null,null,null,null,null,null,null,null,null,null,null,null,0,0,{"$f":"IFERROR(IF(J498=5,1,IF(MATCH(J498&\"/\"&N498,読み替え表_カーシェア!$P$32:$P$52,0),1,0)),0)","v":0},"*"]
[null,null,489,null,null,null,null,null,null,null,null,null,null,null,null,null,null,null,null,null,null,null,null,null,null,null,null,null,null,0,0,{"$f":"IFERROR(IF(J499=5,1,IF(MATCH(J499&\"/\"&N499,読み替え表_カーシェア!$P$32:$P$52,0),1,0)),0)","v":0},"*"]
[null,null,490,null,null,null,null,null,null,null,null,null,null,null,null,null,null,null,null,null,null,null,null,null,null,null,null,null,null,0,0,{"$f":"IFERROR(IF(J500=5,1,IF(MATCH(J500&\"/\"&N500,読み替え表_カーシェア!$P$32:$P$52,0),1,0)),0)","v":0},"*"]
[null,null,491,null,null,null,null,null,null,null,null,null,null,null,null,null,null,null,null,null,null,null,null,null,null,null,null,null,null,0,0,{"$f":"IFERROR(IF(J501=5,1,IF(MATCH(J501&\"/\"&N501,読み替え表_カーシェア!$P$32:$P$52,0),1,0)),0)","v":0},"*"]
[null,null,492,null,null,null,null,null,null,null,null,null,null,null,null,null,null,null,null,null,null,null,null,null,null,null,null,null,null,0,0,{"$f":"IFERROR(IF(J502=5,1,IF(MATCH(J502&\"/\"&N502,読み替え表_カーシェア!$P$32:$P$52,0),1,0)),0)","v":0},"*"]
[null,null,493,null,null,null,null,null,null,null,null,null,null,null,null,null,null,null,null,null,null,null,null,null,null,null,null,null,null,0,0,{"$f":"IFERROR(IF(J503=5,1,IF(MATCH(J503&\"/\"&N503,読み替え表_カーシェア!$P$32:$P$52,0),1,0)),0)","v":0},"*"]
[null,null,494,null,null,null,null,null,null,null,null,null,null,null,null,null,null,null,null,null,null,null,null,null,null,null,null,null,null,0,0,{"$f":"IFERROR(IF(J504=5,1,IF(MATCH(J504&\"/\"&N504,読み替え表_カーシェア!$P$32:$P$52,0),1,0)),0)","v":0},"*"]
[null,null,495,null,null,null,null,null,null,null,null,null,null,null,null,null,null,null,null,null,null,null,null,null,null,null,null,null,null,0,0,{"$f":"IFERROR(IF(J505=5,1,IF(MATCH(J505&\"/\"&N505,読み替え表_カーシェア!$P$32:$P$52,0),1,0)),0)","v":0},"*"]
[null,null,496,null,null,null,null,null,null,null,null,null,null,null,null,null,null,null,null,null,null,null,null,null,null,null,null,null,null,0,0,{"$f":"IFERROR(IF(J506=5,1,IF(MATCH(J506&\"/\"&N506,読み替え表_カーシェア!$P$32:$P$52,0),1,0)),0)","v":0},"*"]
[null,null,497,null,null,null,null,null,null,null,null,null,null,null,null,null,null,null,null,null,null,null,null,null,null,null,null,null,null,0,0,{"$f":"IFERROR(IF(J507=5,1,IF(MATCH(J507&\"/\"&N507,読み替え表_カーシェア!$P$32:$P$52,0),1,0)),0)","v":0},"*"]
[null,null,498,null,null,null,null,null,null,null,null,null,null,null,null,null,null,null,null,null,null,null,null,null,null,null,null,null,null,0,0,{"$f":"IFERROR(IF(J508=5,1,IF(MATCH(J508&\"/\"&N508,読み替え表_カーシェア!$P$32:$P$52,0),1,0)),0)","v":0},"*"]
[null,null,499,null,null,null,null,null,null,null,null,null,null,null,null,null,null,null,null,null,null,null,null,null,null,null,null,null,null,0,0,{"$f":"IFERROR(IF(J509=5,1,IF(MATCH(J509&\"/\"&N509,読み替え表_カーシェア!$P$32:$P$52,0),1,0)),0)","v":0},"*"]
[null,null,500,null,null,null,null,null,null,null,null,null,null,null,null,null,null,null,null,null,null,null,null,null,null,null,null,null,null,0,0,{"$f":"IFERROR(IF(J510=5,1,IF(MATCH(J510&\"/\"&N510,読み替え表_カーシェア!$P$32:$P$52,0),1,0)),0)","v":0},"*"]
[null,null,501,null,null,null,null,null,null,null,null,null,null,null,null,null,null,null,null,null,null,null,null,null,null,null,null,null,null,0,0,{"$f":"IFERROR(IF(J511=5,1,IF(MATCH(J511&\"/\"&N511,読み替え表_カーシェア!$P$32:$P$52,0),1,0)),0)","v":0},"*"]
[null,null,502,null,null,null,null,null,null,null,null,null,null,null,null,null,null,null,null,null,null,null,null,null,null,null,null,null,null,0,0,{"$f":"IFERROR(IF(J512=5,1,IF(MATCH(J512&\"/\"&N512,読み替え表_カーシェア!$P$32:$P$52,0),1,0)),0)","v":0},"*"]
[null,null,503,null,null,null,null,null,null,null,null,null,null,null,null,null,null,null,null,null,null,null,null,null,null,null,null,null,null,0,0,{"$f":"IFERROR(IF(J513=5,1,IF(MATCH(J513&\"/\"&N513,読み替え表_カーシェア!$P$32:$P$52,0),1,0)),0)","v":0},"*"]
[null,null,504,null,null,null,null,null,null,null,null,null,null,null,null,null,null,null,null,null,null,null,null,null,null,null,null,null,null,0,0,{"$f":"IFERROR(IF(J514=5,1,IF(MATCH(J514&\"/\"&N514,読み替え表_カーシェア!$P$32:$P$52,0),1,0)),0)","v":0},"*"]
[null,null,505,null,null,null,null,null,null,null,null,null,null,null,null,null,null,null,null,null,null,null,null,null,null,null,null,null,null,0,0,{"$f":"IFERROR(IF(J515=5,1,IF(MATCH(J515&\"/\"&N515,読み替え表_カーシェア!$P$32:$P$52,0),1,0)),0)","v":0},"*"]
[null,null,506,null,null,null,null,null,null,null,null,null,null,null,null,null,null,null,null,null,null,null,null,null,null,null,null,null,null,0,0,{"$f":"IFERROR(IF(J516=5,1,IF(MATCH(J516&\"/\"&N516,読み替え表_カーシェア!$P$32:$P$52,0),1,0)),0)","v":0},"*"]
[null,null,507,null,null,null,null,null,null,null,null,null,null,null,null,null,null,null,null,null,null,null,null,null,null,null,null,null,null,0,0,{"$f":"IFERROR(IF(J517=5,1,IF(MATCH(J517&\"/\"&N517,読み替え表_カーシェア!$P$32:$P$52,0),1,0)),0)","v":0},"*"]
[null,null,508,null,null,null,null,null,null,null,null,null,null,null,null,null,null,null,null,null,null,null,null,null,null,null,null,null,null,0,0,{"$f":"IFERROR(IF(J518=5,1,IF(MATCH(J518&\"/\"&N518,読み替え表_カーシェア!$P$32:$P$52,0),1,0)),0)","v":0},"*"]
[null,null,509,null,null,null,null,null,null,null,null,null,null,null,null,null,null,null,null,null,null,null,null,null,null,null,null,null,null,0,0,{"$f":"IFERROR(IF(J519=5,1,IF(MATCH(J519&\"/\"&N519,読み替え表_カーシェア!$P$32:$P$52,0),1,0)),0)","v":0},"*"]
[null,null,510,null,null,null,null,null,null,null,null,null,null,null,null,null,null,null,null,null,null,null,null,null,null,null,null,null,null,0,0,{"$f":"IFERROR(IF(J520=5,1,IF(MATCH(J520&\"/\"&N520,読み替え表_カーシェア!$P$32:$P$52,0),1,0)),0)","v":0},"*"]
[null,null,511,null,null,null,null,null,null,null,null,null,null,null,null,null,null,null,null,null,null,null,null,null,null,null,null,null,null,0,0,{"$f":"IFERROR(IF(J521=5,1,IF(MATCH(J521&\"/\"&N521,読み替え表_カーシェア!$P$32:$P$52,0),1,0)),0)","v":0},"*"]
[null,null,512,null,null,null,null,null,null,null,null,null,null,null,null,null,null,null,null,null,null,null,null,null,null,null,null,null,null,0,0,{"$f":"IFERROR(IF(J522=5,1,IF(MATCH(J522&\"/\"&N522,読み替え表_カーシェア!$P$32:$P$52,0),1,0)),0)","v":0},"*"]
[null,null,513,null,null,null,null,null,null,null,null,null,null,null,null,null,null,null,null,null,null,null,null,null,null,null,null,null,null,0,0,{"$f":"IFERROR(IF(J523=5,1,IF(MATCH(J523&\"/\"&N523,読み替え表_カーシェア!$P$32:$P$52,0),1,0)),0)","v":0},"*"]
[null,null,{"$f":"ROW()-10","v":514},null,null,null,null,null,null,null,null,null,null,null,null,null,null,null,null,null,null,null,null,null,null,null,null,null,null,{"$f":"IF(OR($N524=1,$N524=2,$N524=3),1,0)","v":0},{"$f":"IF(AND($J524=1,$L524>$M524),1,IF(AND($J524=1,$L524<$M524),2,IF(AND($J524=1,$L524=$M524),3,0)))","v":0},{"$f":"IFERROR(IF(J524=5,1,IF(MATCH(J524&\"/\"&N524,読み替え表_カーシェア!$P$32:$P$52,0),1,0)),0)","v":0},"*"]
[null,null,515,null,null,null,null,null,null,null,null,null,null,null,null,null,null,null,null,null,null,null,null,null,null,null,null,null,null,0,0,{"$f":"IFERROR(IF(J525=5,1,IF(MATCH(J525&\"/\"&N525,読み替え表_カーシェア!$P$32:$P$52,0),1,0)),0)","v":0},"*"]
[null,null,516,null,null,null,null,null,null,null,null,null,null,null,null,null,null,null,null,null,null,null,null,null,null,null,null,null,null,0,0,{"$f":"IFERROR(IF(J526=5,1,IF(MATCH(J526&\"/\"&N526,読み替え表_カーシェア!$P$32:$P$52,0),1,0)),0)","v":0},"*"]
[null,null,517,null,null,null,null,null,null,null,null,null,null,null,null,null,null,null,null,null,null,null,null,null,null,null,null,null,null,0,0,{"$f":"IFERROR(IF(J527=5,1,IF(MATCH(J527&\"/\"&N527,読み替え表_カーシェア!$P$32:$P$52,0),1,0)),0)","v":0},"*"]
[null,null,518,null,null,null,null,null,null,null,null,null,null,null,null,null,null,null,null,null,null,null,null,null,null,null,null,null,null,0,0,{"$f":"IFERROR(IF(J528=5,1,IF(MATCH(J528&\"/\"&N528,読み替え表_カーシェア!$P$32:$P$52,0),1,0)),0)","v":0},"*"]
[null,null,519,null,null,null,null,null,null,null,null,null,null,null,null,null,null,null,null,null,null,null,null,null,null,null,null,null,null,0,0,{"$f":"IFERROR(IF(J529=5,1,IF(MATCH(J529&\"/\"&N529,読み替え表_カーシェア!$P$32:$P$52,0),1,0)),0)","v":0},"*"]
[null,null,520,null,null,null,null,null,null,null,null,null,null,null,null,null,null,null,null,null,null,null,null,null,null,null,null,null,null,0,0,{"$f":"IFERROR(IF(J530=5,1,IF(MATCH(J530&\"/\"&N530,読み替え表_カーシェア!$P$32:$P$52,0),1,0)),0)","v":0},"*"]
[null,null,521,null,null,null,null,null,null,null,null,null,null,null,null,null,null,null,null,null,null,null,null,null,null,null,null,null,null,0,0,{"$f":"IFERROR(IF(J531=5,1,IF(MATCH(J531&\"/\"&N531,読み替え表_カーシェア!$P$32:$P$52,0),1,0)),0)","v":0},"*"]
[null,null,522,null,null,null,null,null,null,null,null,null,null,null,null,null,null,null,null,null,null,null,null,null,null,null,null,null,null,0,0,{"$f":"IFERROR(IF(J532=5,1,IF(MATCH(J532&\"/\"&N532,読み替え表_カーシェア!$P$32:$P$52,0),1,0)),0)","v":0},"*"]
[null,null,523,null,null,null,null,null,null,null,null,null,null,null,null,null,null,null,null,null,null,null,null,null,null,null,null,null,null,0,0,{"$f":"IFERROR(IF(J533=5,1,IF(MATCH(J533&\"/\"&N533,読み替え表_カーシェア!$P$32:$P$52,0),1,0)),0)","v":0},"*"]
[null,null,524,null,null,null,null,null,null,null,null,null,null,null,null,null,null,null,null,null,null,null,null,null,null,null,null,null,null,0,0,{"$f":"IFERROR(IF(J534=5,1,IF(MATCH(J534&\"/\"&N534,読み替え表_カーシェア!$P$32:$P$52,0),1,0)),0)","v":0},"*"]
[null,null,525,null,null,null,null,null,null,null,null,null,null,null,null,null,null,null,null,null,null,null,null,null,null,null,null,null,null,0,0,{"$f":"IFERROR(IF(J535=5,1,IF(MATCH(J535&\"/\"&N535,読み替え表_カーシェア!$P$32:$P$52,0),1,0)),0)","v":0},"*"]
[null,null,526,null,null,null,null,null,null,null,null,null,null,null,null,null,null,null,null,null,null,null,null,null,null,null,null,null,null,0,0,{"$f":"IFERROR(IF(J536=5,1,IF(MATCH(J536&\"/\"&N536,読み替え表_カーシェア!$P$32:$P$52,0),1,0)),0)","v":0},"*"]
[null,null,527,null,null,null,null,null,null,null,null,null,null,null,null,null,null,null,null,null,null,null,null,null,null,null,null,null,null,0,0,{"$f":"IFERROR(IF(J537=5,1,IF(MATCH(J537&\"/\"&N537,読み替え表_カーシェア!$P$32:$P$52,0),1,0)),0)","v":0},"*"]
[null,null,528,null,null,null,null,null,null,null,null,null,null,null,null,null,null,null,null,null,null,null,null,null,null,null,null,null,null,0,0,{"$f":"IFERROR(IF(J538=5,1,IF(MATCH(J538&\"/\"&N538,読み替え表_カーシェア!$P$32:$P$52,0),1,0)),0)","v":0},"*"]
[null,null,529,null,null,null,null,null,null,null,null,null,null,null,null,null,null,null,null,null,null,null,null,null,null,null,null,null,null,0,0,{"$f":"IFERROR(IF(J539=5,1,IF(MATCH(J539&\"/\"&N539,読み替え表_カーシェア!$P$32:$P$52,0),1,0)),0)","v":0},"*"]
[null,null,530,null,null,null,null,null,null,null,null,null,null,null,null,null,null,null,null,null,null,null,null,null,null,null,null,null,null,0,0,{"$f":"IFERROR(IF(J540=5,1,IF(MATCH(J540&\"/\"&N540,読み替え表_カーシェア!$P$32:$P$52,0),1,0)),0)","v":0},"*"]
[null,null,531,null,null,null,null,null,null,null,null,null,null,null,null,null,null,null,null,null,null,null,null,null,null,null,null,null,null,0,0,{"$f":"IFERROR(IF(J541=5,1,IF(MATCH(J541&\"/\"&N541,読み替え表_カーシェア!$P$32:$P$52,0),1,0)),0)","v":0},"*"]
[null,null,532,null,null,null,null,null,null,null,null,null,null,null,null,null,null,null,null,null,null,null,null,null,null,null,null,null,null,0,0,{"$f":"IFERROR(IF(J542=5,1,IF(MATCH(J542&\"/\"&N542,読み替え表_カーシェア!$P$32:$P$52,0),1,0)),0)","v":0},"*"]
[null,null,533,null,null,null,null,null,null,null,null,null,null,null,null,null,null,null,null,null,null,null,null,null,null,null,null,null,null,0,0,{"$f":"IFERROR(IF(J543=5,1,IF(MATCH(J543&\"/\"&N543,読み替え表_カーシェア!$P$32:$P$52,0),1,0)),0)","v":0},"*"]
[null,null,534,null,null,null,null,null,null,null,null,null,null,null,null,null,null,null,null,null,null,null,null,null,null,null,null,null,null,0,0,{"$f":"IFERROR(IF(J544=5,1,IF(MATCH(J544&\"/\"&N544,読み替え表_カーシェア!$P$32:$P$52,0),1,0)),0)","v":0},"*"]
[null,null,535,null,null,null,null,null,null,null,null,null,null,null,null,null,null,null,null,null,null,null,null,null,null,null,null,null,null,0,0,{"$f":"IFERROR(IF(J545=5,1,IF(MATCH(J545&\"/\"&N545,読み替え表_カーシェア!$P$32:$P$52,0),1,0)),0)","v":0},"*"]
[null,null,536,null,null,null,null,null,null,null,null,null,null,null,null,null,null,null,null,null,null,null,null,null,null,null,null,null,null,0,0,{"$f":"IFERROR(IF(J546=5,1,IF(MATCH(J546&\"/\"&N546,読み替え表_カーシェア!$P$32:$P$52,0),1,0)),0)","v":0},"*"]
[null,null,537,null,null,null,null,null,null,null,null,null,null,null,null,null,null,null,null,null,null,null,null,null,null,null,null,null,null,0,0,{"$f":"IFERROR(IF(J547=5,1,IF(MATCH(J547&\"/\"&N547,読み替え表_カーシェア!$P$32:$P$52,0),1,0)),0)","v":0},"*"]
[null,null,538,null,null,null,null,null,null,null,null,null,null,null,null,null,null,null,null,null,null,null,null,null,null,null,null,null,null,0,0,{"$f":"IFERROR(IF(J548=5,1,IF(MATCH(J548&\"/\"&N548,読み替え表_カーシェア!$P$32:$P$52,0),1,0)),0)","v":0},"*"]
[null,null,539,null,null,null,null,null,null,null,null,null,null,null,null,null,null,null,null,null,null,null,null,null,null,null,null,null,null,0,0,{"$f":"IFERROR(IF(J549=5,1,IF(MATCH(J549&\"/\"&N549,読み替え表_カーシェア!$P$32:$P$52,0),1,0)),0)","v":0},"*"]
[null,null,540,null,null,null,null,null,null,null,null,null,null,null,null,null,null,null,null,null,null,null,null,null,null,null,null,null,null,0,0,{"$f":"IFERROR(IF(J550=5,1,IF(MATCH(J550&\"/\"&N550,読み替え表_カーシェア!$P$32:$P$52,0),1,0)),0)","v":0},"*"]
[null,null,541,null,null,null,null,null,null,null,null,null,null,null,null,null,null,null,null,null,null,null,null,null,null,null,null,null,null,0,0,{"$f":"IFERROR(IF(J551=5,1,IF(MATCH(J551&\"/\"&N551,読み替え表_カーシェア!$P$32:$P$52,0),1,0)),0)","v":0},"*"]
[null,null,542,null,null,null,null,null,null,null,null,null,null,null,null,null,null,null,null,null,null,null,null,null,null,null,null,null,null,0,0,{"$f":"IFERROR(IF(J552=5,1,IF(MATCH(J552&\"/\"&N552,読み替え表_カーシェア!$P$32:$P$52,0),1,0)),0)","v":0},"*"]
[null,null,543,null,null,null,null,null,null,null,null,null,null,null,null,null,null,null,null,null,null,null,null,null,null,null,null,null,null,0,0,{"$f":"IFERROR(IF(J553=5,1,IF(MATCH(J553&\"/\"&N553,読み替え表_カーシェア!$P$32:$P$52,0),1,0)),0)","v":0},"*"]
[null,null,544,null,null,null,null,null,null,null,null,null,null,null,null,null,null,null,null,null,null,null,null,null,null,null,null,null,null,0,0,{"$f":"IFERROR(IF(J554=5,1,IF(MATCH(J554&\"/\"&N554,読み替え表_カーシェア!$P$32:$P$52,0),1,0)),0)","v":0},"*"]
[null,null,545,null,null,null,null,null,null,null,null,null,null,null,null,null,null,null,null,null,null,null,null,null,null,null,null,null,null,0,0,{"$f":"IFERROR(IF(J555=5,1,IF(MATCH(J555&\"/\"&N555,読み替え表_カーシェア!$P$32:$P$52,0),1,0)),0)","v":0},"*"]
[null,null,546,null,null,null,null,null,null,null,null,null,null,null,null,null,null,null,null,null,null,null,null,null,null,null,null,null,null,0,0,{"$f":"IFERROR(IF(J556=5,1,IF(MATCH(J556&\"/\"&N556,読み替え表_カーシェア!$P$32:$P$52,0),1,0)),0)","v":0},"*"]
[null,null,547,null,null,null,null,null,null,null,null,null,null,null,null,null,null,null,null,null,null,null,null,null,null,null,null,null,null,0,0,{"$f":"IFERROR(IF(J557=5,1,IF(MATCH(J557&\"/\"&N557,読み替え表_カーシェア!$P$32:$P$52,0),1,0)),0)","v":0},"*"]
[null,null,548,null,null,null,null,null,null,null,null,null,null,null,null,null,null,null,null,null,null,null,null,null,null,null,null,null,null,0,0,{"$f":"IFERROR(IF(J558=5,1,IF(MATCH(J558&\"/\"&N558,読み替え表_カーシェア!$P$32:$P$52,0),1,0)),0)","v":0},"*"]
[null,null,549,null,null,null,null,null,null,null,null,null,null,null,null,null,null,null,null,null,null,null,null,null,null,null,null,null,null,0,0,{"$f":"IFERROR(IF(J559=5,1,IF(MATCH(J559&\"/\"&N559,読み替え表_カーシェア!$P$32:$P$52,0),1,0)),0)","v":0},"*"]
[null,null,550,null,null,null,null,null,null,null,null,null,null,null,null,null,null,null,null,null,null,null,null,null,null,null,null,null,null,0,0,{"$f":"IFERROR(IF(J560=5,1,IF(MATCH(J560&\"/\"&N560,読み替え表_カーシェア!$P$32:$P$52,0),1,0)),0)","v":0},"*"]
[null,null,551,null,null,null,null,null,null,null,null,null,null,null,null,null,null,null,null,null,null,null,null,null,null,null,null,null,null,0,0,{"$f":"IFERROR(IF(J561=5,1,IF(MATCH(J561&\"/\"&N561,読み替え表_カーシェア!$P$32:$P$52,0),1,0)),0)","v":0},"*"]
[null,null,552,null,null,null,null,null,null,null,null,null,null,null,null,null,null,null,null,null,null,null,null,null,null,null,null,null,null,0,0,{"$f":"IFERROR(IF(J562=5,1,IF(MATCH(J562&\"/\"&N562,読み替え表_カーシェア!$P$32:$P$52,0),1,0)),0)","v":0},"*"]
[null,null,553,null,null,null,null,null,null,null,null,null,null,null,null,null,null,null,null,null,null,null,null,null,null,null,null,null,null,0,0,{"$f":"IFERROR(IF(J563=5,1,IF(MATCH(J563&\"/\"&N563,読み替え表_カーシェア!$P$32:$P$52,0),1,0)),0)","v":0},"*"]
[null,null,554,null,null,null,null,null,null,null,null,null,null,null,null,null,null,null,null,null,null,null,null,null,null,null,null,null,null,0,0,{"$f":"IFERROR(IF(J564=5,1,IF(MATCH(J564&\"/\"&N564,読み替え表_カーシェア!$P$32:$P$52,0),1,0)),0)","v":0},"*"]
[null,null,555,null,null,null,null,null,null,null,null,null,null,null,null,null,null,null,null,null,null,null,null,null,null,null,null,null,null,0,0,{"$f":"IFERROR(IF(J565=5,1,IF(MATCH(J565&\"/\"&N565,読み替え表_カーシェア!$P$32:$P$52,0),1,0)),0)","v":0},"*"]
[null,null,556,null,null,null,null,null,null,null,null,null,null,null,null,null,null,null,null,null,null,null,null,null,null,null,null,null,null,0,0,{"$f":"IFERROR(IF(J566=5,1,IF(MATCH(J566&\"/\"&N566,読み替え表_カーシェア!$P$32:$P$52,0),1,0)),0)","v":0},"*"]
[null,null,557,null,null,null,null,null,null,null,null,null,null,null,null,null,null,null,null,null,null,null,null,null,null,null,null,null,null,0,0,{"$f":"IFERROR(IF(J567=5,1,IF(MATCH(J567&\"/\"&N567,読み替え表_カーシェア!$P$32:$P$52,0),1,0)),0)","v":0},"*"]
[null,null,558,null,null,null,null,null,null,null,null,null,null,null,null,null,null,null,null,null,null,null,null,null,null,null,null,null,null,0,0,{"$f":"IFERROR(IF(J568=5,1,IF(MATCH(J568&\"/\"&N568,読み替え表_カーシェア!$P$32:$P$52,0),1,0)),0)","v":0},"*"]
[null,null,559,null,null,null,null,null,null,null,null,null,null,null,null,null,null,null,null,null,null,null,null,null,null,null,null,null,null,0,0,{"$f":"IFERROR(IF(J569=5,1,IF(MATCH(J569&\"/\"&N569,読み替え表_カーシェア!$P$32:$P$52,0),1,0)),0)","v":0},"*"]
[null,null,560,null,null,null,null,null,null,null,null,null,null,null,null,null,null,null,null,null,null,null,null,null,null,null,null,null,null,0,0,{"$f":"IFERROR(IF(J570=5,1,IF(MATCH(J570&\"/\"&N570,読み替え表_カーシェア!$P$32:$P$52,0),1,0)),0)","v":0},"*"]
[null,null,561,null,null,null,null,null,null,null,null,null,null,null,null,null,null,null,null,null,null,null,null,null,null,null,null,null,null,0,0,{"$f":"IFERROR(IF(J571=5,1,IF(MATCH(J571&\"/\"&N571,読み替え表_カーシェア!$P$32:$P$52,0),1,0)),0)","v":0},"*"]
[null,null,562,null,null,null,null,null,null,null,null,null,null,null,null,null,null,null,null,null,null,null,null,null,null,null,null,null,null,0,0,{"$f":"IFERROR(IF(J572=5,1,IF(MATCH(J572&\"/\"&N572,読み替え表_カーシェア!$P$32:$P$52,0),1,0)),0)","v":0},"*"]
[null,null,563,null,null,null,null,null,null,null,null,null,null,null,null,null,null,null,null,null,null,null,null,null,null,null,null,null,null,0,0,{"$f":"IFERROR(IF(J573=5,1,IF(MATCH(J573&\"/\"&N573,読み替え表_カーシェア!$P$32:$P$52,0),1,0)),0)","v":0},"*"]
[null,null,564,null,null,null,null,null,null,null,null,null,null,null,null,null,null,null,null,null,null,null,null,null,null,null,null,null,null,0,0,{"$f":"IFERROR(IF(J574=5,1,IF(MATCH(J574&\"/\"&N574,読み替え表_カーシェア!$P$32:$P$52,0),1,0)),0)","v":0},"*"]
[null,null,565,null,null,null,null,null,null,null,null,null,null,null,null,null,null,null,null,null,null,null,null,null,null,null,null,null,null,0,0,{"$f":"IFERROR(IF(J575=5,1,IF(MATCH(J575&\"/\"&N575,読み替え表_カーシェア!$P$32:$P$52,0),1,0)),0)","v":0},"*"]
[null,null,566,null,null,null,null,null,null,null,null,null,null,null,null,null,null,null,null,null,null,null,null,null,null,null,null,null,null,0,0,{"$f":"IFERROR(IF(J576=5,1,IF(MATCH(J576&\"/\"&N576,読み替え表_カーシェア!$P$32:$P$52,0),1,0)),0)","v":0},"*"]
[null,null,567,null,null,null,null,null,null,null,null,null,null,null,null,null,null,null,null,null,null,null,null,null,null,null,null,null,null,0,0,{"$f":"IFERROR(IF(J577=5,1,IF(MATCH(J577&\"/\"&N577,読み替え表_カーシェア!$P$32:$P$52,0),1,0)),0)","v":0},"*"]
[null,null,568,null,null,null,null,null,null,null,null,null,null,null,null,null,null,null,null,null,null,null,null,null,null,null,null,null,null,0,0,{"$f":"IFERROR(IF(J578=5,1,IF(MATCH(J578&\"/\"&N578,読み替え表_カーシェア!$P$32:$P$52,0),1,0)),0)","v":0},"*"]
[null,null,569,null,null,null,null,null,null,null,null,null,null,null,null,null,null,null,null,null,null,null,null,null,null,null,null,null,null,0,0,{"$f":"IFERROR(IF(J579=5,1,IF(MATCH(J579&\"/\"&N579,読み替え表_カーシェア!$P$32:$P$52,0),1,0)),0)","v":0},"*"]
[null,null,570,null,null,null,null,null,null,null,null,null,null,null,null,null,null,null,null,null,null,null,null,null,null,null,null,null,null,0,0,{"$f":"IFERROR(IF(J580=5,1,IF(MATCH(J580&\"/\"&N580,読み替え表_カーシェア!$P$32:$P$52,0),1,0)),0)","v":0},"*"]
[null,null,571,null,null,null,null,null,null,null,null,null,null,null,null,null,null,null,null,null,null,null,null,null,null,null,null,null,null,0,0,{"$f":"IFERROR(IF(J581=5,1,IF(MATCH(J581&\"/\"&N581,読み替え表_カーシェア!$P$32:$P$52,0),1,0)),0)","v":0},"*"]
[null,null,572,null,null,null,null,null,null,null,null,null,null,null,null,null,null,null,null,null,null,null,null,null,null,null,null,null,null,0,0,{"$f":"IFERROR(IF(J582=5,1,IF(MATCH(J582&\"/\"&N582,読み替え表_カーシェア!$P$32:$P$52,0),1,0)),0)","v":0},"*"]
[null,null,573,null,null,null,null,null,null,null,null,null,null,null,null,null,null,null,null,null,null,null,null,null,null,null,null,null,null,0,0,{"$f":"IFERROR(IF(J583=5,1,IF(MATCH(J583&\"/\"&N583,読み替え表_カーシェア!$P$32:$P$52,0),1,0)),0)","v":0},"*"]
[null,null,574,null,null,null,null,null,null,null,null,null,null,null,null,null,null,null,null,null,null,null,null,null,null,null,null,null,null,0,0,{"$f":"IFERROR(IF(J584=5,1,IF(MATCH(J584&\"/\"&N584,読み替え表_カーシェア!$P$32:$P$52,0),1,0)),0)","v":0},"*"]
[null,null,575,null,null,null,null,null,null,null,null,null,null,null,null,null,null,null,null,null,null,null,null,null,null,null,null,null,null,0,0,{"$f":"IFERROR(IF(J585=5,1,IF(MATCH(J585&\"/\"&N585,読み替え表_カーシェア!$P$32:$P$52,0),1,0)),0)","v":0},"*"]
[null,null,576,null,null,null,null,null,null,null,null,null,null,null,null,null,null,null,null,null,null,null,null,null,null,null,null,null,null,0,0,{"$f":"IFERROR(IF(J586=5,1,IF(MATCH(J586&\"/\"&N586,読み替え表_カーシェア!$P$32:$P$52,0),1,0)),0)","v":0},"*"]
[null,null,577,null,null,null,null,null,null,null,null,null,null,null,null,null,null,null,null,null,null,null,null,null,null,null,null,null,null,0,0,{"$f":"IFERROR(IF(J587=5,1,IF(MATCH(J587&\"/\"&N587,読み替え表_カーシェア!$P$32:$P$52,0),1,0)),0)","v":0},"*"]
[null,null,{"$f":"ROW()-10","v":578},null,null,null,null,null,null,null,null,null,null,null,null,null,null,null,null,null,null,null,null,null,null,null,null,null,null,{"$f":"IF(OR($N588=1,$N588=2,$N588=3),1,0)","v":0},{"$f":"IF(AND($J588=1,$L588>$M588),1,IF(AND($J588=1,$L588<$M588),2,IF(AND($J588=1,$L588=$M588),3,0)))","v":0},{"$f":"IFERROR(IF(J588=5,1,IF(MATCH(J588&\"/\"&N588,読み替え表_カーシェア!$P$32:$P$52,0),1,0)),0)","v":0},"*"]
[null,null,579,null,null,null,null,null,null,null,null,null,null,null,null,null,null,null,null,null,null,null,null,null,null,null,null,null,null,0,0,{"$f":"IFERROR(IF(J589=5,1,IF(MATCH(J589&\"/\"&N589,読み替え表_カーシェア!$P$32:$P$52,0),1,0)),0)","v":0},"*"]
[null,null,580,null,null,null,null,null,null,null,null,null,null,null,null,null,null,null,null,null,null,null,null,null,null,null,null,null,null,0,0,{"$f":"IFERROR(IF(J590=5,1,IF(MATCH(J590&\"/\"&N590,読み替え表_カーシェア!$P$32:$P$52,0),1,0)),0)","v":0},"*"]
[null,null,581,null,null,null,null,null,null,null,null,null,null,null,null,null,null,null,null,null,null,null,null,null,null,null,null,null,null,0,0,{"$f":"IFERROR(IF(J591=5,1,IF(MATCH(J591&\"/\"&N591,読み替え表_カーシェア!$P$32:$P$52,0),1,0)),0)","v":0},"*"]
[null,null,582,null,null,null,null,null,null,null,null,null,null,null,null,null,null,null,null,null,null,null,null,null,null,null,null,null,null,0,0,{"$f":"IFERROR(IF(J592=5,1,IF(MATCH(J592&\"/\"&N592,読み替え表_カーシェア!$P$32:$P$52,0),1,0)),0)","v":0},"*"]
[null,null,583,null,null,null,null,null,null,null,null,null,null,null,null,null,null,null,null,null,null,null,null,null,null,null,null,null,null,0,0,{"$f":"IFERROR(IF(J593=5,1,IF(MATCH(J593&\"/\"&N593,読み替え表_カーシェア!$P$32:$P$52,0),1,0)),0)","v":0},"*"]
[null,null,584,null,null,null,null,null,null,null,null,null,null,null,null,null,null,null,null,null,null,null,null,null,null,null,null,null,null,0,0,{"$f":"IFERROR(IF(J594=5,1,IF(MATCH(J594&\"/\"&N594,読み替え表_カーシェア!$P$32:$P$52,0),1,0)),0)","v":0},"*"]
[null,null,585,null,null,null,null,null,null,null,null,null,null,null,null,null,null,null,null,null,null,null,null,null,null,null,null,null,null,0,0,{"$f":"IFERROR(IF(J595=5,1,IF(MATCH(J595&\"/\"&N595,読み替え表_カーシェア!$P$32:$P$52,0),1,0)),0)","v":0},"*"]
[null,null,586,null,null,null,null,null,null,null,null,null,null,null,null,null,null,null,null,null,null,null,null,null,null,null,null,null,null,0,0,{"$f":"IFERROR(IF(J596=5,1,IF(MATCH(J596&\"/\"&N596,読み替え表_カーシェア!$P$32:$P$52,0),1,0)),0)","v":0},"*"]
[null,null,587,null,null,null,null,null,null,null,null,null,null,null,null,null,null,null,null,null,null,null,null,null,null,null,null,null,null,0,0,{"$f":"IFERROR(IF(J597=5,1,IF(MATCH(J597&\"/\"&N597,読み替え表_カーシェア!$P$32:$P$52,0),1,0)),0)","v":0},"*"]
[null,null,588,null,null,null,null,null,null,null,null,null,null,null,null,null,null,null,null,null,null,null,null,null,null,null,null,null,null,0,0,{"$f":"IFERROR(IF(J598=5,1,IF(MATCH(J598&\"/\"&N598,読み替え表_カーシェア!$P$32:$P$52,0),1,0)),0)","v":0},"*"]
[null,null,589,null,null,null,null,null,null,null,null,null,null,null,null,null,null,null,null,null,null,null,null,null,null,null,null,null,null,0,0,{"$f":"IFERROR(IF(J599=5,1,IF(MATCH(J599&\"/\"&N599,読み替え表_カーシェア!$P$32:$P$52,0),1,0)),0)","v":0},"*"]
[null,null,590,null,null,null,null,null,null,null,null,null,null,null,null,null,null,null,null,null,null,null,null,null,null,null,null,null,null,0,0,{"$f":"IFERROR(IF(J600=5,1,IF(MATCH(J600&\"/\"&N600,読み替え表_カーシェア!$P$32:$P$52,0),1,0)),0)","v":0},"*"]
[null,null,591,null,null,null,null,null,null,null,null,null,null,null,null,null,null,null,null,null,null,null,null,null,null,null,null,null,null,0,0,{"$f":"IFERROR(IF(J601=5,1,IF(MATCH(J601&\"/\"&N601,読み替え表_カーシェア!$P$32:$P$52,0),1,0)),0)","v":0},"*"]
[null,null,592,null,null,null,null,null,null,null,null,null,null,null,null,null,null,null,null,null,null,null,null,null,null,null,null,null,null,0,0,{"$f":"IFERROR(IF(J602=5,1,IF(MATCH(J602&\"/\"&N602,読み替え表_カーシェア!$P$32:$P$52,0),1,0)),0)","v":0},"*"]
[null,null,593,null,null,null,null,null,null,null,null,null,null,null,null,null,null,null,null,null,null,null,null,null,null,null,null,null,null,0,0,{"$f":"IFERROR(IF(J603=5,1,IF(MATCH(J603&\"/\"&N603,読み替え表_カーシェア!$P$32:$P$52,0),1,0)),0)","v":0},"*"]
[null,null,594,null,null,null,null,null,null,null,null,null,null,null,null,null,null,null,null,null,null,null,null,null,null,null,null,null,null,0,0,{"$f":"IFERROR(IF(J604=5,1,IF(MATCH(J604&\"/\"&N604,読み替え表_カーシェア!$P$32:$P$52,0),1,0)),0)","v":0},"*"]
[null,null,595,null,null,null,null,null,null,null,null,null,null,null,null,null,null,null,null,null,null,null,null,null,null,null,null,null,null,0,0,{"$f":"IFERROR(IF(J605=5,1,IF(MATCH(J605&\"/\"&N605,読み替え表_カーシェア!$P$32:$P$52,0),1,0)),0)","v":0},"*"]
[null,null,596,null,null,null,null,null,null,null,null,null,null,null,null,null,null,null,null,null,null,null,null,null,null,null,null,null,null,0,0,{"$f":"IFERROR(IF(J606=5,1,IF(MATCH(J606&\"/\"&N606,読み替え表_カーシェア!$P$32:$P$52,0),1,0)),0)","v":0},"*"]
[null,null,597,null,null,null,null,null,null,null,null,null,null,null,null,null,null,null,null,null,null,null,null,null,null,null,null,null,null,0,0,{"$f":"IFERROR(IF(J607=5,1,IF(MATCH(J607&\"/\"&N607,読み替え表_カーシェア!$P$32:$P$52,0),1,0)),0)","v":0},"*"]
[null,null,598,null,null,null,null,null,null,null,null,null,null,null,null,null,null,null,null,null,null,null,null,null,null,null,null,null,null,0,0,{"$f":"IFERROR(IF(J608=5,1,IF(MATCH(J608&\"/\"&N608,読み替え表_カーシェア!$P$32:$P$52,0),1,0)),0)","v":0},"*"]
[null,null,599,null,null,null,null,null,null,null,null,null,null,null,null,null,null,null,null,null,null,null,null,null,null,null,null,null,null,0,0,{"$f":"IFERROR(IF(J609=5,1,IF(MATCH(J609&\"/\"&N609,読み替え表_カーシェア!$P$32:$P$52,0),1,0)),0)","v":0},"*"]
[null,null,600,null,null,null,null,null,null,null,null,null,null,null,null,null,null,null,null,null,null,null,null,null,null,null,null,null,null,0,0,{"$f":"IFERROR(IF(J610=5,1,IF(MATCH(J610&\"/\"&N610,読み替え表_カーシェア!$P$32:$P$52,0),1,0)),0)","v":0},"*"]
[null,null,601,null,null,null,null,null,null,null,null,null,null,null,null,null,null,null,null,null,null,null,null,null,null,null,null,null,null,0,0,{"$f":"IFERROR(IF(J611=5,1,IF(MATCH(J611&\"/\"&N611,読み替え表_カーシェア!$P$32:$P$52,0),1,0)),0)","v":0},"*"]
[null,null,602,null,null,null,null,null,null,null,null,null,null,null,null,null,null,null,null,null,null,null,null,null,null,null,null,null,null,0,0,{"$f":"IFERROR(IF(J612=5,1,IF(MATCH(J612&\"/\"&N612,読み替え表_カーシェア!$P$32:$P$52,0),1,0)),0)","v":0},"*"]
[null,null,603,null,null,null,null,null,null,null,null,null,null,null,null,null,null,null,null,null,null,null,null,null,null,null,null,null,null,0,0,{"$f":"IFERROR(IF(J613=5,1,IF(MATCH(J613&\"/\"&N613,読み替え表_カーシェア!$P$32:$P$52,0),1,0)),0)","v":0},"*"]
[null,null,604,null,null,null,null,null,null,null,null,null,null,null,null,null,null,null,null,null,null,null,null,null,null,null,null,null,null,0,0,{"$f":"IFERROR(IF(J614=5,1,IF(MATCH(J614&\"/\"&N614,読み替え表_カーシェア!$P$32:$P$52,0),1,0)),0)","v":0},"*"]
[null,null,605,null,null,null,null,null,null,null,null,null,null,null,null,null,null,null,null,null,null,null,null,null,null,null,null,null,null,0,0,{"$f":"IFERROR(IF(J615=5,1,IF(MATCH(J615&\"/\"&N615,読み替え表_カーシェア!$P$32:$P$52,0),1,0)),0)","v":0},"*"]
[null,null,606,null,null,null,null,null,null,null,null,null,null,null,null,null,null,null,null,null,null,null,null,null,null,null,null,null,null,0,0,{"$f":"IFERROR(IF(J616=5,1,IF(MATCH(J616&\"/\"&N616,読み替え表_カーシェア!$P$32:$P$52,0),1,0)),0)","v":0},"*"]
[null,null,607,null,null,null,null,null,null,null,null,null,null,null,null,null,null,null,null,null,null,null,null,null,null,null,null,null,null,0,0,{"$f":"IFERROR(IF(J617=5,1,IF(MATCH(J617&\"/\"&N617,読み替え表_カーシェア!$P$32:$P$52,0),1,0)),0)","v":0},"*"]
[null,null,608,null,null,null,null,null,null,null,null,null,null,null,null,null,null,null,null,null,null,null,null,null,null,null,null,null,null,0,0,{"$f":"IFERROR(IF(J618=5,1,IF(MATCH(J618&\"/\"&N618,読み替え表_カーシェア!$P$32:$P$52,0),1,0)),0)","v":0},"*"]
[null,null,609,null,null,null,null,null,null,null,null,null,null,null,null,null,null,null,null,null,null,null,null,null,null,null,null,null,null,0,0,{"$f":"IFERROR(IF(J619=5,1,IF(MATCH(J619&\"/\"&N619,読み替え表_カーシェア!$P$32:$P$52,0),1,0)),0)","v":0},"*"]
[null,null,610,null,null,null,null,null,null,null,null,null,null,null,null,null,null,null,null,null,null,null,null,null,null,null,null,null,null,0,0,{"$f":"IFERROR(IF(J620=5,1,IF(MATCH(J620&\"/\"&N620,読み替え表_カーシェア!$P$32:$P$52,0),1,0)),0)","v":0},"*"]
[null,null,611,null,null,null,null,null,null,null,null,null,null,null,null,null,null,null,null,null,null,null,null,null,null,null,null,null,null,0,0,{"$f":"IFERROR(IF(J621=5,1,IF(MATCH(J621&\"/\"&N621,読み替え表_カーシェア!$P$32:$P$52,0),1,0)),0)","v":0},"*"]
[null,null,612,null,null,null,null,null,null,null,null,null,null,null,null,null,null,null,null,null,null,null,null,null,null,null,null,null,null,0,0,{"$f":"IFERROR(IF(J622=5,1,IF(MATCH(J622&\"/\"&N622,読み替え表_カーシェア!$P$32:$P$52,0),1,0)),0)","v":0},"*"]
[null,null,613,null,null,null,null,null,null,null,null,null,null,null,null,null,null,null,null,null,null,null,null,null,null,null,null,null,null,0,0,{"$f":"IFERROR(IF(J623=5,1,IF(MATCH(J623&\"/\"&N623,読み替え表_カーシェア!$P$32:$P$52,0),1,0)),0)","v":0},"*"]
[null,null,614,null,null,null,null,null,null,null,null,null,null,null,null,null,null,null,null,null,null,null,null,null,null,null,null,null,null,0,0,{"$f":"IFERROR(IF(J624=5,1,IF(MATCH(J624&\"/\"&N624,読み替え表_カーシェア!$P$32:$P$52,0),1,0)),0)","v":0},"*"]
[null,null,615,null,null,null,null,null,null,null,null,null,null,null,null,null,null,null,null,null,null,null,null,null,null,null,null,null,null,0,0,{"$f":"IFERROR(IF(J625=5,1,IF(MATCH(J625&\"/\"&N625,読み替え表_カーシェア!$P$32:$P$52,0),1,0)),0)","v":0},"*"]
[null,null,616,null,null,null,null,null,null,null,null,null,null,null,null,null,null,null,null,null,null,null,null,null,null,null,null,null,null,0,0,{"$f":"IFERROR(IF(J626=5,1,IF(MATCH(J626&\"/\"&N626,読み替え表_カーシェア!$P$32:$P$52,0),1,0)),0)","v":0},"*"]
[null,null,617,null,null,null,null,null,null,null,null,null,null,null,null,null,null,null,null,null,null,null,null,null,null,null,null,null,null,0,0,{"$f":"IFERROR(IF(J627=5,1,IF(MATCH(J627&\"/\"&N627,読み替え表_カーシェア!$P$32:$P$52,0),1,0)),0)","v":0},"*"]
[null,null,618,null,null,null,null,null,null,null,null,null,null,null,null,null,null,null,null,null,null,null,null,null,null,null,null,null,null,0,0,{"$f":"IFERROR(IF(J628=5,1,IF(MATCH(J628&\"/\"&N628,読み替え表_カーシェア!$P$32:$P$52,0),1,0)),0)","v":0},"*"]
[null,null,619,null,null,null,null,null,null,null,null,null,null,null,null,null,null,null,null,null,null,null,null,null,null,null,null,null,null,0,0,{"$f":"IFERROR(IF(J629=5,1,IF(MATCH(J629&\"/\"&N629,読み替え表_カーシェア!$P$32:$P$52,0),1,0)),0)","v":0},"*"]
[null,null,620,null,null,null,null,null,null,null,null,null,null,null,null,null,null,null,null,null,null,null,null,null,null,null,null,null,null,0,0,{"$f":"IFERROR(IF(J630=5,1,IF(MATCH(J630&\"/\"&N630,読み替え表_カーシェア!$P$32:$P$52,0),1,0)),0)","v":0},"*"]
[null,null,621,null,null,null,null,null,null,null,null,null,null,null,null,null,null,null,null,null,null,null,null,null,null,null,null,null,null,0,0,{"$f":"IFERROR(IF(J631=5,1,IF(MATCH(J631&\"/\"&N631,読み替え表_カーシェア!$P$32:$P$52,0),1,0)),0)","v":0},"*"]
[null,null,622,null,null,null,null,null,null,null,null,null,null,null,null,null,null,null,null,null,null,null,null,null,null,null,null,null,null,0,0,{"$f":"IFERROR(IF(J632=5,1,IF(MATCH(J632&\"/\"&N632,読み替え表_カーシェア!$P$32:$P$52,0),1,0)),0)","v":0},"*"]
[null,null,623,null,null,null,null,null,null,null,null,null,null,null,null,null,null,null,null,null,null,null,null,null,null,null,null,null,null,0,0,{"$f":"IFERROR(IF(J633=5,1,IF(MATCH(J633&\"/\"&N633,読み替え表_カーシェア!$P$32:$P$52,0),1,0)),0)","v":0},"*"]
[null,null,624,null,null,null,null,null,null,null,null,null,null,null,null,null,null,null,null,null,null,null,null,null,null,null,null,null,null,0,0,{"$f":"IFERROR(IF(J634=5,1,IF(MATCH(J634&\"/\"&N634,読み替え表_カーシェア!$P$32:$P$52,0),1,0)),0)","v":0},"*"]
[null,null,625,null,null,null,null,null,null,null,null,null,null,null,null,null,null,null,null,null,null,null,null,null,null,null,null,null,null,0,0,{"$f":"IFERROR(IF(J635=5,1,IF(MATCH(J635&\"/\"&N635,読み替え表_カーシェア!$P$32:$P$52,0),1,0)),0)","v":0},"*"]
[null,null,626,null,null,null,null,null,null,null,null,null,null,null,null,null,null,null,null,null,null,null,null,null,null,null,null,null,null,0,0,{"$f":"IFERROR(IF(J636=5,1,IF(MATCH(J636&\"/\"&N636,読み替え表_カーシェア!$P$32:$P$52,0),1,0)),0)","v":0},"*"]
[null,null,627,null,null,null,null,null,null,null,null,null,null,null,null,null,null,null,null,null,null,null,null,null,null,null,null,null,null,0,0,{"$f":"IFERROR(IF(J637=5,1,IF(MATCH(J637&\"/\"&N637,読み替え表_カーシェア!$P$32:$P$52,0),1,0)),0)","v":0},"*"]
[null,null,628,null,null,null,null,null,null,null,null,null,null,null,null,null,null,null,null,null,null,null,null,null,null,null,null,null,null,0,0,{"$f":"IFERROR(IF(J638=5,1,IF(MATCH(J638&\"/\"&N638,読み替え表_カーシェア!$P$32:$P$52,0),1,0)),0)","v":0},"*"]
[null,null,629,null,null,null,null,null,null,null,null,null,null,null,null,null,null,null,null,null,null,null,null,null,null,null,null,null,null,0,0,{"$f":"IFERROR(IF(J639=5,1,IF(MATCH(J639&\"/\"&N639,読み替え表_カーシェア!$P$32:$P$52,0),1,0)),0)","v":0},"*"]
[null,null,630,null,null,null,null,null,null,null,null,null,null,null,null,null,null,null,null,null,null,null,null,null,null,null,null,null,null,0,0,{"$f":"IFERROR(IF(J640=5,1,IF(MATCH(J640&\"/\"&N640,読み替え表_カーシェア!$P$32:$P$52,0),1,0)),0)","v":0},"*"]
[null,null,631,null,null,null,null,null,null,null,null,null,null,null,null,null,null,null,null,null,null,null,null,null,null,null,null,null,null,0,0,{"$f":"IFERROR(IF(J641=5,1,IF(MATCH(J641&\"/\"&N641,読み替え表_カーシェア!$P$32:$P$52,0),1,0)),0)","v":0},"*"]
[null,null,632,null,null,null,null,null,null,null,null,null,null,null,null,null,null,null,null,null,null,null,null,null,null,null,null,null,null,0,0,{"$f":"IFERROR(IF(J642=5,1,IF(MATCH(J642&\"/\"&N642,読み替え表_カーシェア!$P$32:$P$52,0),1,0)),0)","v":0},"*"]
[null,null,633,null,null,null,null,null,null,null,null,null,null,null,null,null,null,null,null,null,null,null,null,null,null,null,null,null,null,0,0,{"$f":"IFERROR(IF(J643=5,1,IF(MATCH(J643&\"/\"&N643,読み替え表_カーシェア!$P$32:$P$52,0),1,0)),0)","v":0},"*"]
[null,null,634,null,null,null,null,null,null,null,null,null,null,null,null,null,null,null,null,null,null,null,null,null,null,null,null,null,null,0,0,{"$f":"IFERROR(IF(J644=5,1,IF(MATCH(J644&\"/\"&N644,読み替え表_カーシェア!$P$32:$P$52,0),1,0)),0)","v":0},"*"]
[null,null,635,null,null,null,null,null,null,null,null,null,null,null,null,null,null,null,null,null,null,null,null,null,null,null,null,null,null,0,0,{"$f":"IFERROR(IF(J645=5,1,IF(MATCH(J645&\"/\"&N645,読み替え表_カーシェア!$P$32:$P$52,0),1,0)),0)","v":0},"*"]
[null,null,636,null,null,null,null,null,null,null,null,null,null,null,null,null,null,null,null,null,null,null,null,null,null,null,null,null,null,0,0,{"$f":"IFERROR(IF(J646=5,1,IF(MATCH(J646&\"/\"&N646,読み替え表_カーシェア!$P$32:$P$52,0),1,0)),0)","v":0},"*"]
[null,null,637,null,null,null,null,null,null,null,null,null,null,null,null,null,null,null,null,null,null,null,null,null,null,null,null,null,null,0,0,{"$f":"IFERROR(IF(J647=5,1,IF(MATCH(J647&\"/\"&N647,読み替え表_カーシェア!$P$32:$P$52,0),1,0)),0)","v":0},"*"]
[null,null,638,null,null,null,null,null,null,null,null,null,null,null,null,null,null,null,null,null,null,null,null,null,null,null,null,null,null,0,0,{"$f":"IFERROR(IF(J648=5,1,IF(MATCH(J648&\"/\"&N648,読み替え表_カーシェア!$P$32:$P$52,0),1,0)),0)","v":0},"*"]
[null,null,639,null,null,null,null,null,null,null,null,null,null,null,null,null,null,null,null,null,null,null,null,null,null,null,null,null,null,0,0,{"$f":"IFERROR(IF(J649=5,1,IF(MATCH(J649&\"/\"&N649,読み替え表_カーシェア!$P$32:$P$52,0),1,0)),0)","v":0},"*"]
[null,null,640,null,null,null,null,null,null,null,null,null,null,null,null,null,null,null,null,null,null,null,null,null,null,null,null,null,null,0,0,{"$f":"IFERROR(IF(J650=5,1,IF(MATCH(J650&\"/\"&N650,読み替え表_カーシェア!$P$32:$P$52,0),1,0)),0)","v":0},"*"]
[null,null,641,null,null,null,null,null,null,null,null,null,null,null,null,null,null,null,null,null,null,null,null,null,null,null,null,null,null,0,0,{"$f":"IFERROR(IF(J651=5,1,IF(MATCH(J651&\"/\"&N651,読み替え表_カーシェア!$P$32:$P$52,0),1,0)),0)","v":0},"*"]
[null,null,{"$f":"ROW()-10","v":642},null,null,null,null,null,null,null,null,null,null,null,null,null,null,null,null,null,null,null,null,null,null,null,null,null,null,{"$f":"IF(OR($N652=1,$N652=2,$N652=3),1,0)","v":0},{"$f":"IF(AND($J652=1,$L652>$M652),1,IF(AND($J652=1,$L652<$M652),2,IF(AND($J652=1,$L652=$M652),3,0)))","v":0},{"$f":"IFERROR(IF(J652=5,1,IF(MATCH(J652&\"/\"&N652,読み替え表_カーシェア!$P$32:$P$52,0),1,0)),0)","v":0},"*"]
[null,null,643,null,null,null,null,null,null,null,null,null,null,null,null,null,null,null,null,null,null,null,null,null,null,null,null,null,null,0,0,{"$f":"IFERROR(IF(J653=5,1,IF(MATCH(J653&\"/\"&N653,読み替え表_カーシェア!$P$32:$P$52,0),1,0)),0)","v":0},"*"]
[null,null,644,null,null,null,null,null,null,null,null,null,null,null,null,null,null,null,null,null,null,null,null,null,null,null,null,null,null,0,0,{"$f":"IFERROR(IF(J654=5,1,IF(MATCH(J654&\"/\"&N654,読み替え表_カーシェア!$P$32:$P$52,0),1,0)),0)","v":0},"*"]
[null,null,645,null,null,null,null,null,null,null,null,null,null,null,null,null,null,null,null,null,null,null,null,null,null,null,null,null,null,0,0,{"$f":"IFERROR(IF(J655=5,1,IF(MATCH(J655&\"/\"&N655,読み替え表_カーシェア!$P$32:$P$52,0),1,0)),0)","v":0},"*"]
[null,null,646,null,null,null,null,null,null,null,null,null,null,null,null,null,null,null,null,null,null,null,null,null,null,null,null,null,null,0,0,{"$f":"IFERROR(IF(J656=5,1,IF(MATCH(J656&\"/\"&N656,読み替え表_カーシェア!$P$32:$P$52,0),1,0)),0)","v":0},"*"]
[null,null,647,null,null,null,null,null,null,null,null,null,null,null,null,null,null,null,null,null,null,null,null,null,null,null,null,null,null,0,0,{"$f":"IFERROR(IF(J657=5,1,IF(MATCH(J657&\"/\"&N657,読み替え表_カーシェア!$P$32:$P$52,0),1,0)),0)","v":0},"*"]
[null,null,648,null,null,null,null,null,null,null,null,null,null,null,null,null,null,null,null,null,null,null,null,null,null,null,null,null,null,0,0,{"$f":"IFERROR(IF(J658=5,1,IF(MATCH(J658&\"/\"&N658,読み替え表_カーシェア!$P$32:$P$52,0),1,0)),0)","v":0},"*"]
[null,null,649,null,null,null,null,null,null,null,null,null,null,null,null,null,null,null,null,null,null,null,null,null,null,null,null,null,null,0,0,{"$f":"IFERROR(IF(J659=5,1,IF(MATCH(J659&\"/\"&N659,読み替え表_カーシェア!$P$32:$P$52,0),1,0)),0)","v":0},"*"]
[null,null,650,null,null,null,null,null,null,null,null,null,null,null,null,null,null,null,null,null,null,null,null,null,null,null,null,null,null,0,0,{"$f":"IFERROR(IF(J660=5,1,IF(MATCH(J660&\"/\"&N660,読み替え表_カーシェア!$P$32:$P$52,0),1,0)),0)","v":0},"*"]
[null,null,651,null,null,null,null,null,null,null,null,null,null,null,null,null,null,null,null,null,null,null,null,null,null,null,null,null,null,0,0,{"$f":"IFERROR(IF(J661=5,1,IF(MATCH(J661&\"/\"&N661,読み替え表_カーシェア!$P$32:$P$52,0),1,0)),0)","v":0},"*"]
[null,null,652,null,null,null,null,null,null,null,null,null,null,null,null,null,null,null,null,null,null,null,null,null,null,null,null,null,null,0,0,{"$f":"IFERROR(IF(J662=5,1,IF(MATCH(J662&\"/\"&N662,読み替え表_カーシェア!$P$32:$P$52,0),1,0)),0)","v":0},"*"]
[null,null,653,null,null,null,null,null,null,null,null,null,null,null,null,null,null,null,null,null,null,null,null,null,null,null,null,null,null,0,0,{"$f":"IFERROR(IF(J663=5,1,IF(MATCH(J663&\"/\"&N663,読み替え表_カーシェア!$P$32:$P$52,0),1,0)),0)","v":0},"*"]
[null,null,654,null,null,null,null,null,null,null,null,null,null,null,null,null,null,null,null,null,null,null,null,null,null,null,null,null,null,0,0,{"$f":"IFERROR(IF(J664=5,1,IF(MATCH(J664&\"/\"&N664,読み替え表_カーシェア!$P$32:$P$52,0),1,0)),0)","v":0},"*"]
[null,null,655,null,null,null,null,null,null,null,null,null,null,null,null,null,null,null,null,null,null,null,null,null,null,null,null,null,null,0,0,{"$f":"IFERROR(IF(J665=5,1,IF(MATCH(J665&\"/\"&N665,読み替え表_カーシェア!$P$32:$P$52,0),1,0)),0)","v":0},"*"]
[null,null,656,null,null,null,null,null,null,null,null,null,null,null,null,null,null,null,null,null,null,null,null,null,null,null,null,null,null,0,0,{"$f":"IFERROR(IF(J666=5,1,IF(MATCH(J666&\"/\"&N666,読み替え表_カーシェア!$P$32:$P$52,0),1,0)),0)","v":0},"*"]
[null,null,657,null,null,null,null,null,null,null,null,null,null,null,null,null,null,null,null,null,null,null,null,null,null,null,null,null,null,0,0,{"$f":"IFERROR(IF(J667=5,1,IF(MATCH(J667&\"/\"&N667,読み替え表_カーシェア!$P$32:$P$52,0),1,0)),0)","v":0},"*"]
[null,null,658,null,null,null,null,null,null,null,null,null,null,null,null,null,null,null,null,null,null,null,null,null,null,null,null,null,null,0,0,{"$f":"IFERROR(IF(J668=5,1,IF(MATCH(J668&\"/\"&N668,読み替え表_カーシェア!$P$32:$P$52,0),1,0)),0)","v":0},"*"]
[null,null,659,null,null,null,null,null,null,null,null,null,null,null,null,null,null,null,null,null,null,null,null,null,null,null,null,null,null,0,0,{"$f":"IFERROR(IF(J669=5,1,IF(MATCH(J669&\"/\"&N669,読み替え表_カーシェア!$P$32:$P$52,0),1,0)),0)","v":0},"*"]
[null,null,660,null,null,null,null,null,null,null,null,null,null,null,null,null,null,null,null,null,null,null,null,null,null,null,null,null,null,0,0,{"$f":"IFERROR(IF(J670=5,1,IF(MATCH(J670&\"/\"&N670,読み替え表_カーシェア!$P$32:$P$52,0),1,0)),0)","v":0},"*"]
[null,null,661,null,null,null,null,null,null,null,null,null,null,null,null,null,null,null,null,null,null,null,null,null,null,null,null,null,null,0,0,{"$f":"IFERROR(IF(J671=5,1,IF(MATCH(J671&\"/\"&N671,読み替え表_カーシェア!$P$32:$P$52,0),1,0)),0)","v":0},"*"]
[null,null,662,null,null,null,null,null,null,null,null,null,null,null,null,null,null,null,null,null,null,null,null,null,null,null,null,null,null,0,0,{"$f":"IFERROR(IF(J672=5,1,IF(MATCH(J672&\"/\"&N672,読み替え表_カーシェア!$P$32:$P$52,0),1,0)),0)","v":0},"*"]
[null,null,663,null,null,null,null,null,null,null,null,null,null,null,null,null,null,null,null,null,null,null,null,null,null,null,null,null,null,0,0,{"$f":"IFERROR(IF(J673=5,1,IF(MATCH(J673&\"/\"&N673,読み替え表_カーシェア!$P$32:$P$52,0),1,0)),0)","v":0},"*"]
[null,null,664,null,null,null,null,null,null,null,null,null,null,null,null,null,null,null,null,null,null,null,null,null,null,null,null,null,null,0,0,{"$f":"IFERROR(IF(J674=5,1,IF(MATCH(J674&\"/\"&N674,読み替え表_カーシェア!$P$32:$P$52,0),1,0)),0)","v":0},"*"]
[null,null,665,null,null,null,null,null,null,null,null,null,null,null,null,null,null,null,null,null,null,null,null,null,null,null,null,null,null,0,0,{"$f":"IFERROR(IF(J675=5,1,IF(MATCH(J675&\"/\"&N675,読み替え表_カーシェア!$P$32:$P$52,0),1,0)),0)","v":0},"*"]
[null,null,666,null,null,null,null,null,null,null,null,null,null,null,null,null,null,null,null,null,null,null,null,null,null,null,null,null,null,0,0,{"$f":"IFERROR(IF(J676=5,1,IF(MATCH(J676&\"/\"&N676,読み替え表_カーシェア!$P$32:$P$52,0),1,0)),0)","v":0},"*"]
[null,null,667,null,null,null,null,null,null,null,null,null,null,null,null,null,null,null,null,null,null,null,null,null,null,null,null,null,null,0,0,{"$f":"IFERROR(IF(J677=5,1,IF(MATCH(J677&\"/\"&N677,読み替え表_カーシェア!$P$32:$P$52,0),1,0)),0)","v":0},"*"]
[null,null,668,null,null,null,null,null,null,null,null,null,null,null,null,null,null,null,null,null,null,null,null,null,null,null,null,null,null,0,0,{"$f":"IFERROR(IF(J678=5,1,IF(MATCH(J678&\"/\"&N678,読み替え表_カーシェア!$P$32:$P$52,0),1,0)),0)","v":0},"*"]
[null,null,669,null,null,null,null,null,null,null,null,null,null,null,null,null,null,null,null,null,null,null,null,null,null,null,null,null,null,0,0,{"$f":"IFERROR(IF(J679=5,1,IF(MATCH(J679&\"/\"&N679,読み替え表_カーシェア!$P$32:$P$52,0),1,0)),0)","v":0},"*"]
[null,null,670,null,null,null,null,null,null,null,null,null,null,null,null,null,null,null,null,null,null,null,null,null,null,null,null,null,null,0,0,{"$f":"IFERROR(IF(J680=5,1,IF(MATCH(J680&\"/\"&N680,読み替え表_カーシェア!$P$32:$P$52,0),1,0)),0)","v":0},"*"]
[null,null,671,null,null,null,null,null,null,null,null,null,null,null,null,null,null,null,null,null,null,null,null,null,null,null,null,null,null,0,0,{"$f":"IFERROR(IF(J681=5,1,IF(MATCH(J681&\"/\"&N681,読み替え表_カーシェア!$P$32:$P$52,0),1,0)),0)","v":0},"*"]
[null,null,672,null,null,null,null,null,null,null,null,null,null,null,null,null,null,null,null,null,null,null,null,null,null,null,null,null,null,0,0,{"$f":"IFERROR(IF(J682=5,1,IF(MATCH(J682&\"/\"&N682,読み替え表_カーシェア!$P$32:$P$52,0),1,0)),0)","v":0},"*"]
[null,null,673,null,null,null,null,null,null,null,null,null,null,null,null,null,null,null,null,null,null,null,null,null,null,null,null,null,null,0,0,{"$f":"IFERROR(IF(J683=5,1,IF(MATCH(J683&\"/\"&N683,読み替え表_カーシェア!$P$32:$P$52,0),1,0)),0)","v":0},"*"]
[null,null,674,null,null,null,null,null,null,null,null,null,null,null,null,null,null,null,null,null,null,null,null,null,null,null,null,null,null,0,0,{"$f":"IFERROR(IF(J684=5,1,IF(MATCH(J684&\"/\"&N684,読み替え表_カーシェア!$P$32:$P$52,0),1,0)),0)","v":0},"*"]
[null,null,675,null,null,null,null,null,null,null,null,null,null,null,null,null,null,null,null,null,null,null,null,null,null,null,null,null,null,0,0,{"$f":"IFERROR(IF(J685=5,1,IF(MATCH(J685&\"/\"&N685,読み替え表_カーシェア!$P$32:$P$52,0),1,0)),0)","v":0},"*"]
[null,null,676,null,null,null,null,null,null,null,null,null,null,null,null,null,null,null,null,null,null,null,null,null,null,null,null,null,null,0,0,{"$f":"IFERROR(IF(J686=5,1,IF(MATCH(J686&\"/\"&N686,読み替え表_カーシェア!$P$32:$P$52,0),1,0)),0)","v":0},"*"]
[null,null,677,null,null,null,null,null,null,null,null,null,null,null,null,null,null,null,null,null,null,null,null,null,null,null,null,null,null,0,0,{"$f":"IFERROR(IF(J687=5,1,IF(MATCH(J687&\"/\"&N687,読み替え表_カーシェア!$P$32:$P$52,0),1,0)),0)","v":0},"*"]
[null,null,678,null,null,null,null,null,null,null,null,null,null,null,null,null,null,null,null,null,null,null,null,null,null,null,null,null,null,0,0,{"$f":"IFERROR(IF(J688=5,1,IF(MATCH(J688&\"/\"&N688,読み替え表_カーシェア!$P$32:$P$52,0),1,0)),0)","v":0},"*"]
[null,null,679,null,null,null,null,null,null,null,null,null,null,null,null,null,null,null,null,null,null,null,null,null,null,null,null,null,null,0,0,{"$f":"IFERROR(IF(J689=5,1,IF(MATCH(J689&\"/\"&N689,読み替え表_カーシェア!$P$32:$P$52,0),1,0)),0)","v":0},"*"]
[null,null,680,null,null,null,null,null,null,null,null,null,null,null,null,null,null,null,null,null,null,null,null,null,null,null,null,null,null,0,0,{"$f":"IFERROR(IF(J690=5,1,IF(MATCH(J690&\"/\"&N690,読み替え表_カーシェア!$P$32:$P$52,0),1,0)),0)","v":0},"*"]
[null,null,681,null,null,null,null,null,null,null,null,null,null,null,null,null,null,null,null,null,null,null,null,null,null,null,null,null,null,0,0,{"$f":"IFERROR(IF(J691=5,1,IF(MATCH(J691&\"/\"&N691,読み替え表_カーシェア!$P$32:$P$52,0),1,0)),0)","v":0},"*"]
[null,null,682,null,null,null,null,null,null,null,null,null,null,null,null,null,null,null,null,null,null,null,null,null,null,null,null,null,null,0,0,{"$f":"IFERROR(IF(J692=5,1,IF(MATCH(J692&\"/\"&N692,読み替え表_カーシェア!$P$32:$P$52,0),1,0)),0)","v":0},"*"]
[null,null,683,null,null,null,null,null,null,null,null,null,null,null,null,null,null,null,null,null,null,null,null,null,null,null,null,null,null,0,0,{"$f":"IFERROR(IF(J693=5,1,IF(MATCH(J693&\"/\"&N693,読み替え表_カーシェア!$P$32:$P$52,0),1,0)),0)","v":0},"*"]
[null,null,684,null,null,null,null,null,null,null,null,null,null,null,null,null,null,null,null,null,null,null,null,null,null,null,null,null,null,0,0,{"$f":"IFERROR(IF(J694=5,1,IF(MATCH(J694&\"/\"&N694,読み替え表_カーシェア!$P$32:$P$52,0),1,0)),0)","v":0},"*"]
[null,null,685,null,null,null,null,null,null,null,null,null,null,null,null,null,null,null,null,null,null,null,null,null,null,null,null,null,null,0,0,{"$f":"IFERROR(IF(J695=5,1,IF(MATCH(J695&\"/\"&N695,読み替え表_カーシェア!$P$32:$P$52,0),1,0)),0)","v":0},"*"]
[null,null,686,null,null,null,null,null,null,null,null,null,null,null,null,null,null,null,null,null,null,null,null,null,null,null,null,null,null,0,0,{"$f":"IFERROR(IF(J696=5,1,IF(MATCH(J696&\"/\"&N696,読み替え表_カーシェア!$P$32:$P$52,0),1,0)),0)","v":0},"*"]
[null,null,687,null,null,null,null,null,null,null,null,null,null,null,null,null,null,null,null,null,null,null,null,null,null,null,null,null,null,0,0,{"$f":"IFERROR(IF(J697=5,1,IF(MATCH(J697&\"/\"&N697,読み替え表_カーシェア!$P$32:$P$52,0),1,0)),0)","v":0},"*"]
[null,null,688,null,null,null,null,null,null,null,null,null,null,null,null,null,null,null,null,null,null,null,null,null,null,null,null,null,null,0,0,{"$f":"IFERROR(IF(J698=5,1,IF(MATCH(J698&\"/\"&N698,読み替え表_カーシェア!$P$32:$P$52,0),1,0)),0)","v":0},"*"]
[null,null,689,null,null,null,null,null,null,null,null,null,null,null,null,null,null,null,null,null,null,null,null,null,null,null,null,null,null,0,0,{"$f":"IFERROR(IF(J699=5,1,IF(MATCH(J699&\"/\"&N699,読み替え表_カーシェア!$P$32:$P$52,0),1,0)),0)","v":0},"*"]
[null,null,690,null,null,null,null,null,null,null,null,null,null,null,null,null,null,null,null,null,null,null,null,null,null,null,null,null,null,0,0,{"$f":"IFERROR(IF(J700=5,1,IF(MATCH(J700&\"/\"&N700,読み替え表_カーシェア!$P$32:$P$52,0),1,0)),0)","v":0},"*"]
[null,null,691,null,null,null,null,null,null,null,null,null,null,null,null,null,null,null,null,null,null,null,null,null,null,null,null,null,null,0,0,{"$f":"IFERROR(IF(J701=5,1,IF(MATCH(J701&\"/\"&N701,読み替え表_カーシェア!$P$32:$P$52,0),1,0)),0)","v":0},"*"]
[null,null,692,null,null,null,null,null,null,null,null,null,null,null,null,null,null,null,null,null,null,null,null,null,null,null,null,null,null,0,0,{"$f":"IFERROR(IF(J702=5,1,IF(MATCH(J702&\"/\"&N702,読み替え表_カーシェア!$P$32:$P$52,0),1,0)),0)","v":0},"*"]
[null,null,693,null,null,null,null,null,null,null,null,null,null,null,null,null,null,null,null,null,null,null,null,null,null,null,null,null,null,0,0,{"$f":"IFERROR(IF(J703=5,1,IF(MATCH(J703&\"/\"&N703,読み替え表_カーシェア!$P$32:$P$52,0),1,0)),0)","v":0},"*"]
[null,null,694,null,null,null,null,null,null,null,null,null,null,null,null,null,null,null,null,null,null,null,null,null,null,null,null,null,null,0,0,{"$f":"IFERROR(IF(J704=5,1,IF(MATCH(J704&\"/\"&N704,読み替え表_カーシェア!$P$32:$P$52,0),1,0)),0)","v":0},"*"]
[null,null,695,null,null,null,null,null,null,null,null,null,null,null,null,null,null,null,null,null,null,null,null,null,null,null,null,null,null,0,0,{"$f":"IFERROR(IF(J705=5,1,IF(MATCH(J705&\"/\"&N705,読み替え表_カーシェア!$P$32:$P$52,0),1,0)),0)","v":0},"*"]
[null,null,696,null,null,null,null,null,null,null,null,null,null,null,null,null,null,null,null,null,null,null,null,null,null,null,null,null,null,0,0,{"$f":"IFERROR(IF(J706=5,1,IF(MATCH(J706&\"/\"&N706,読み替え表_カーシェア!$P$32:$P$52,0),1,0)),0)","v":0},"*"]
[null,null,697,null,null,null,null,null,null,null,null,null,null,null,null,null,null,null,null,null,null,null,null,null,null,null,null,null,null,0,0,{"$f":"IFERROR(IF(J707=5,1,IF(MATCH(J707&\"/\"&N707,読み替え表_カーシェア!$P$32:$P$52,0),1,0)),0)","v":0},"*"]
[null,null,698,null,null,null,null,null,null,null,null,null,null,null,null,null,null,null,null,null,null,null,null,null,null,null,null,null,null,0,0,{"$f":"IFERROR(IF(J708=5,1,IF(MATCH(J708&\"/\"&N708,読み替え表_カーシェア!$P$32:$P$52,0),1,0)),0)","v":0},"*"]
[null,null,699,null,null,null,null,null,null,null,null,null,null,null,null,null,null,null,null,null,null,null,null,null,null,null,null,null,null,0,0,{"$f":"IFERROR(IF(J709=5,1,IF(MATCH(J709&\"/\"&N709,読み替え表_カーシェア!$P$32:$P$52,0),1,0)),0)","v":0},"*"]
[null,null,700,null,null,null,null,null,null,null,null,null,null,null,null,null,null,null,null,null,null,null,null,null,null,null,null,null,null,0,0,{"$f":"IFERROR(IF(J710=5,1,IF(MATCH(J710&\"/\"&N710,読み替え表_カーシェア!$P$32:$P$52,0),1,0)),0)","v":0},"*"]
[null,null,701,null,null,null,null,null,null,null,null,null,null,null,null,null,null,null,null,null,null,null,null,null,null,null,null,null,null,0,0,{"$f":"IFERROR(IF(J711=5,1,IF(MATCH(J711&\"/\"&N711,読み替え表_カーシェア!$P$32:$P$52,0),1,0)),0)","v":0},"*"]
[null,null,702,null,null,null,null,null,null,null,null,null,null,null,null,null,null,null,null,null,null,null,null,null,null,null,null,null,null,0,0,{"$f":"IFERROR(IF(J712=5,1,IF(MATCH(J712&\"/\"&N712,読み替え表_カーシェア!$P$32:$P$52,0),1,0)),0)","v":0},"*"]
[null,null,703,null,null,null,null,null,null,null,null,null,null,null,null,null,null,null,null,null,null,null,null,null,null,null,null,null,null,0,0,{"$f":"IFERROR(IF(J713=5,1,IF(MATCH(J713&\"/\"&N713,読み替え表_カーシェア!$P$32:$P$52,0),1,0)),0)","v":0},"*"]
[null,null,704,null,null,null,null,null,null,null,null,null,null,null,null,null,null,null,null,null,null,null,null,null,null,null,null,null,null,0,0,{"$f":"IFERROR(IF(J714=5,1,IF(MATCH(J714&\"/\"&N714,読み替え表_カーシェア!$P$32:$P$52,0),1,0)),0)","v":0},"*"]
[null,null,705,null,null,null,null,null,null,null,null,null,null,null,null,null,null,null,null,null,null,null,null,null,null,null,null,null,null,0,0,{"$f":"IFERROR(IF(J715=5,1,IF(MATCH(J715&\"/\"&N715,読み替え表_カーシェア!$P$32:$P$52,0),1,0)),0)","v":0},"*"]
[null,null,{"$f":"ROW()-10","v":706},null,null,null,null,null,null,null,null,null,null,null,null,null,null,null,null,null,null,null,null,null,null,null,null,null,null,{"$f":"IF(OR($N716=1,$N716=2,$N716=3),1,0)","v":0},{"$f":"IF(AND($J716=1,$L716>$M716),1,IF(AND($J716=1,$L716<$M716),2,IF(AND($J716=1,$L716=$M716),3,0)))","v":0},{"$f":"IFERROR(IF(J716=5,1,IF(MATCH(J716&\"/\"&N716,読み替え表_カーシェア!$P$32:$P$52,0),1,0)),0)","v":0},"*"]
[null,null,707,null,null,null,null,null,null,null,null,null,null,null,null,null,null,null,null,null,null,null,null,null,null,null,null,null,null,0,0,{"$f":"IFERROR(IF(J717=5,1,IF(MATCH(J717&\"/\"&N717,読み替え表_カーシェア!$P$32:$P$52,0),1,0)),0)","v":0},"*"]
[null,null,708,null,null,null,null,null,null,null,null,null,null,null,null,null,null,null,null,null,null,null,null,null,null,null,null,null,null,0,0,{"$f":"IFERROR(IF(J718=5,1,IF(MATCH(J718&\"/\"&N718,読み替え表_カーシェア!$P$32:$P$52,0),1,0)),0)","v":0},"*"]
[null,null,709,null,null,null,null,null,null,null,null,null,null,null,null,null,null,null,null,null,null,null,null,null,null,null,null,null,null,0,0,{"$f":"IFERROR(IF(J719=5,1,IF(MATCH(J719&\"/\"&N719,読み替え表_カーシェア!$P$32:$P$52,0),1,0)),0)","v":0},"*"]
[null,null,710,null,null,null,null,null,null,null,null,null,null,null,null,null,null,null,null,null,null,null,null,null,null,null,null,null,null,0,0,{"$f":"IFERROR(IF(J720=5,1,IF(MATCH(J720&\"/\"&N720,読み替え表_カーシェア!$P$32:$P$52,0),1,0)),0)","v":0},"*"]
[null,null,711,null,null,null,null,null,null,null,null,null,null,null,null,null,null,null,null,null,null,null,null,null,null,null,null,null,null,0,0,{"$f":"IFERROR(IF(J721=5,1,IF(MATCH(J721&\"/\"&N721,読み替え表_カーシェア!$P$32:$P$52,0),1,0)),0)","v":0},"*"]
[null,null,712,null,null,null,null,null,null,null,null,null,null,null,null,null,null,null,null,null,null,null,null,null,null,null,null,null,null,0,0,{"$f":"IFERROR(IF(J722=5,1,IF(MATCH(J722&\"/\"&N722,読み替え表_カーシェア!$P$32:$P$52,0),1,0)),0)","v":0},"*"]
[null,null,713,null,null,null,null,null,null,null,null,null,null,null,null,null,null,null,null,null,null,null,null,null,null,null,null,null,null,0,0,{"$f":"IFERROR(IF(J723=5,1,IF(MATCH(J723&\"/\"&N723,読み替え表_カーシェア!$P$32:$P$52,0),1,0)),0)","v":0},"*"]
[null,null,714,null,null,null,null,null,null,null,null,null,null,null,null,null,null,null,null,null,null,null,null,null,null,null,null,null,null,0,0,{"$f":"IFERROR(IF(J724=5,1,IF(MATCH(J724&\"/\"&N724,読み替え表_カーシェア!$P$32:$P$52,0),1,0)),0)","v":0},"*"]
[null,null,715,null,null,null,null,null,null,null,null,null,null,null,null,null,null,null,null,null,null,null,null,null,null,null,null,null,null,0,0,{"$f":"IFERROR(IF(J725=5,1,IF(MATCH(J725&\"/\"&N725,読み替え表_カーシェア!$P$32:$P$52,0),1,0)),0)","v":0},"*"]
[null,null,716,null,null,null,null,null,null,null,null,null,null,null,null,null,null,null,null,null,null,null,null,null,null,null,null,null,null,0,0,{"$f":"IFERROR(IF(J726=5,1,IF(MATCH(J726&\"/\"&N726,読み替え表_カーシェア!$P$32:$P$52,0),1,0)),0)","v":0},"*"]
[null,null,717,null,null,null,null,null,null,null,null,null,null,null,null,null,null,null,null,null,null,null,null,null,null,null,null,null,null,0,0,{"$f":"IFERROR(IF(J727=5,1,IF(MATCH(J727&\"/\"&N727,読み替え表_カーシェア!$P$32:$P$52,0),1,0)),0)","v":0},"*"]
[null,null,718,null,null,null,null,null,null,null,null,null,null,null,null,null,null,null,null,null,null,null,null,null,null,null,null,null,null,0,0,{"$f":"IFERROR(IF(J728=5,1,IF(MATCH(J728&\"/\"&N728,読み替え表_カーシェア!$P$32:$P$52,0),1,0)),0)","v":0},"*"]
[null,null,719,null,null,null,null,null,null,null,null,null,null,null,null,null,null,null,null,null,null,null,null,null,null,null,null,null,null,0,0,{"$f":"IFERROR(IF(J729=5,1,IF(MATCH(J729&\"/\"&N729,読み替え表_カーシェア!$P$32:$P$52,0),1,0)),0)","v":0},"*"]
[null,null,720,null,null,null,null,null,null,null,null,null,null,null,null,null,null,null,null,null,null,null,null,null,null,null,null,null,null,0,0,{"$f":"IFERROR(IF(J730=5,1,IF(MATCH(J730&\"/\"&N730,読み替え表_カーシェア!$P$32:$P$52,0),1,0)),0)","v":0},"*"]
[null,null,721,null,null,null,null,null,null,null,null,null,null,null,null,null,null,null,null,null,null,null,null,null,null,null,null,null,null,0,0,{"$f":"IFERROR(IF(J731=5,1,IF(MATCH(J731&\"/\"&N731,読み替え表_カーシェア!$P$32:$P$52,0),1,0)),0)","v":0},"*"]
[null,null,722,null,null,null,null,null,null,null,null,null,null,null,null,null,null,null,null,null,null,null,null,null,null,null,null,null,null,0,0,{"$f":"IFERROR(IF(J732=5,1,IF(MATCH(J732&\"/\"&N732,読み替え表_カーシェア!$P$32:$P$52,0),1,0)),0)","v":0},"*"]
[null,null,723,null,null,null,null,null,null,null,null,null,null,null,null,null,null,null,null,null,null,null,null,null,null,null,null,null,null,0,0,{"$f":"IFERROR(IF(J733=5,1,IF(MATCH(J733&\"/\"&N733,読み替え表_カーシェア!$P$32:$P$52,0),1,0)),0)","v":0},"*"]
[null,null,724,null,null,null,null,null,null,null,null,null,null,null,null,null,null,null,null,null,null,null,null,null,null,null,null,null,null,0,0,{"$f":"IFERROR(IF(J734=5,1,IF(MATCH(J734&\"/\"&N734,読み替え表_カーシェア!$P$32:$P$52,0),1,0)),0)","v":0},"*"]
[null,null,725,null,null,null,null,null,null,null,null,null,null,null,null,null,null,null,null,null,null,null,null,null,null,null,null,null,null,0,0,{"$f":"IFERROR(IF(J735=5,1,IF(MATCH(J735&\"/\"&N735,読み替え表_カーシェア!$P$32:$P$52,0),1,0)),0)","v":0},"*"]
[null,null,726,null,null,null,null,null,null,null,null,null,null,null,null,null,null,null,null,null,null,null,null,null,null,null,null,null,null,0,0,{"$f":"IFERROR(IF(J736=5,1,IF(MATCH(J736&\"/\"&N736,読み替え表_カーシェア!$P$32:$P$52,0),1,0)),0)","v":0},"*"]
[null,null,727,null,null,null,null,null,null,null,null,null,null,null,null,null,null,null,null,null,null,null,null,null,null,null,null,null,null,0,0,{"$f":"IFERROR(IF(J737=5,1,IF(MATCH(J737&\"/\"&N737,読み替え表_カーシェア!$P$32:$P$52,0),1,0)),0)","v":0},"*"]
[null,null,728,null,null,null,null,null,null,null,null,null,null,null,null,null,null,null,null,null,null,null,null,null,null,null,null,null,null,0,0,{"$f":"IFERROR(IF(J738=5,1,IF(MATCH(J738&\"/\"&N738,読み替え表_カーシェア!$P$32:$P$52,0),1,0)),0)","v":0},"*"]
[null,null,729,null,null,null,null,null,null,null,null,null,null,null,null,null,null,null,null,null,null,null,null,null,null,null,null,null,null,0,0,{"$f":"IFERROR(IF(J739=5,1,IF(MATCH(J739&\"/\"&N739,読み替え表_カーシェア!$P$32:$P$52,0),1,0)),0)","v":0},"*"]
[null,null,730,null,null,null,null,null,null,null,null,null,null,null,null,null,null,null,null,null,null,null,null,null,null,null,null,null,null,0,0,{"$f":"IFERROR(IF(J740=5,1,IF(MATCH(J740&\"/\"&N740,読み替え表_カーシェア!$P$32:$P$52,0),1,0)),0)","v":0},"*"]
[null,null,731,null,null,null,null,null,null,null,null,null,null,null,null,null,null,null,null,null,null,null,null,null,null,null,null,null,null,0,0,{"$f":"IFERROR(IF(J741=5,1,IF(MATCH(J741&\"/\"&N741,読み替え表_カーシェア!$P$32:$P$52,0),1,0)),0)","v":0},"*"]
[null,null,732,null,null,null,null,null,null,null,null,null,null,null,null,null,null,null,null,null,null,null,null,null,null,null,null,null,null,0,0,{"$f":"IFERROR(IF(J742=5,1,IF(MATCH(J742&\"/\"&N742,読み替え表_カーシェア!$P$32:$P$52,0),1,0)),0)","v":0},"*"]
[null,null,733,null,null,null,null,null,null,null,null,null,null,null,null,null,null,null,null,null,null,null,null,null,null,null,null,null,null,0,0,{"$f":"IFERROR(IF(J743=5,1,IF(MATCH(J743&\"/\"&N743,読み替え表_カーシェア!$P$32:$P$52,0),1,0)),0)","v":0},"*"]
[null,null,734,null,null,null,null,null,null,null,null,null,null,null,null,null,null,null,null,null,null,null,null,null,null,null,null,null,null,0,0,{"$f":"IFERROR(IF(J744=5,1,IF(MATCH(J744&\"/\"&N744,読み替え表_カーシェア!$P$32:$P$52,0),1,0)),0)","v":0},"*"]
[null,null,735,null,null,null,null,null,null,null,null,null,null,null,null,null,null,null,null,null,null,null,null,null,null,null,null,null,null,0,0,{"$f":"IFERROR(IF(J745=5,1,IF(MATCH(J745&\"/\"&N745,読み替え表_カーシェア!$P$32:$P$52,0),1,0)),0)","v":0},"*"]
[null,null,736,null,null,null,null,null,null,null,null,null,null,null,null,null,null,null,null,null,null,null,null,null,null,null,null,null,null,0,0,{"$f":"IFERROR(IF(J746=5,1,IF(MATCH(J746&\"/\"&N746,読み替え表_カーシェア!$P$32:$P$52,0),1,0)),0)","v":0},"*"]
[null,null,737,null,null,null,null,null,null,null,null,null,null,null,null,null,null,null,null,null,null,null,null,null,null,null,null,null,null,0,0,{"$f":"IFERROR(IF(J747=5,1,IF(MATCH(J747&\"/\"&N747,読み替え表_カーシェア!$P$32:$P$52,0),1,0)),0)","v":0},"*"]
[null,null,738,null,null,null,null,null,null,null,null,null,null,null,null,null,null,null,null,null,null,null,null,null,null,null,null,null,null,0,0,{"$f":"IFERROR(IF(J748=5,1,IF(MATCH(J748&\"/\"&N748,読み替え表_カーシェア!$P$32:$P$52,0),1,0)),0)","v":0},"*"]
[null,null,739,null,null,null,null,null,null,null,null,null,null,null,null,null,null,null,null,null,null,null,null,null,null,null,null,null,null,0,0,{"$f":"IFERROR(IF(J749=5,1,IF(MATCH(J749&\"/\"&N749,読み替え表_カーシェア!$P$32:$P$52,0),1,0)),0)","v":0},"*"]
[null,null,740,null,null,null,null,null,null,null,null,null,null,null,null,null,null,null,null,null,null,null,null,null,null,null,null,null,null,0,0,{"$f":"IFERROR(IF(J750=5,1,IF(MATCH(J750&\"/\"&N750,読み替え表_カーシェア!$P$32:$P$52,0),1,0)),0)","v":0},"*"]
[null,null,741,null,null,null,null,null,null,null,null,null,null,null,null,null,null,null,null,null,null,null,null,null,null,null,null,null,null,0,0,{"$f":"IFERROR(IF(J751=5,1,IF(MATCH(J751&\"/\"&N751,読み替え表_カーシェア!$P$32:$P$52,0),1,0)),0)","v":0},"*"]
[null,null,742,null,null,null,null,null,null,null,null,null,null,null,null,null,null,null,null,null,null,null,null,null,null,null,null,null,null,0,0,{"$f":"IFERROR(IF(J752=5,1,IF(MATCH(J752&\"/\"&N752,読み替え表_カーシェア!$P$32:$P$52,0),1,0)),0)","v":0},"*"]
[null,null,743,null,null,null,null,null,null,null,null,null,null,null,null,null,null,null,null,null,null,null,null,null,null,null,null,null,null,0,0,{"$f":"IFERROR(IF(J753=5,1,IF(MATCH(J753&\"/\"&N753,読み替え表_カーシェア!$P$32:$P$52,0),1,0)),0)","v":0},"*"]
[null,null,744,null,null,null,null,null,null,null,null,null,null,null,null,null,null,null,null,null,null,null,null,null,null,null,null,null,null,0,0,{"$f":"IFERROR(IF(J754=5,1,IF(MATCH(J754&\"/\"&N754,読み替え表_カーシェア!$P$32:$P$52,0),1,0)),0)","v":0},"*"]
[null,null,745,null,null,null,null,null,null,null,null,null,null,null,null,null,null,null,null,null,null,null,null,null,null,null,null,null,null,0,0,{"$f":"IFERROR(IF(J755=5,1,IF(MATCH(J755&\"/\"&N755,読み替え表_カーシェア!$P$32:$P$52,0),1,0)),0)","v":0},"*"]
[null,null,746,null,null,null,null,null,null,null,null,null,null,null,null,null,null,null,null,null,null,null,null,null,null,null,null,null,null,0,0,{"$f":"IFERROR(IF(J756=5,1,IF(MATCH(J756&\"/\"&N756,読み替え表_カーシェア!$P$32:$P$52,0),1,0)),0)","v":0},"*"]
[null,null,747,null,null,null,null,null,null,null,null,null,null,null,null,null,null,null,null,null,null,null,null,null,null,null,null,null,null,0,0,{"$f":"IFERROR(IF(J757=5,1,IF(MATCH(J757&\"/\"&N757,読み替え表_カーシェア!$P$32:$P$52,0),1,0)),0)","v":0},"*"]
[null,null,748,null,null,null,null,null,null,null,null,null,null,null,null,null,null,null,null,null,null,null,null,null,null,null,null,null,null,0,0,{"$f":"IFERROR(IF(J758=5,1,IF(MATCH(J758&\"/\"&N758,読み替え表_カーシェア!$P$32:$P$52,0),1,0)),0)","v":0},"*"]
[null,null,749,null,null,null,null,null,null,null,null,null,null,null,null,null,null,null,null,null,null,null,null,null,null,null,null,null,null,0,0,{"$f":"IFERROR(IF(J759=5,1,IF(MATCH(J759&\"/\"&N759,読み替え表_カーシェア!$P$32:$P$52,0),1,0)),0)","v":0},"*"]
[null,null,750,null,null,null,null,null,null,null,null,null,null,null,null,null,null,null,null,null,null,null,null,null,null,null,null,null,null,0,0,{"$f":"IFERROR(IF(J760=5,1,IF(MATCH(J760&\"/\"&N760,読み替え表_カーシェア!$P$32:$P$52,0),1,0)),0)","v":0},"*"]
[null,null,751,null,null,null,null,null,null,null,null,null,null,null,null,null,null,null,null,null,null,null,null,null,null,null,null,null,null,0,0,{"$f":"IFERROR(IF(J761=5,1,IF(MATCH(J761&\"/\"&N761,読み替え表_カーシェア!$P$32:$P$52,0),1,0)),0)","v":0},"*"]
[null,null,752,null,null,null,null,null,null,null,null,null,null,null,null,null,null,null,null,null,null,null,null,null,null,null,null,null,null,0,0,{"$f":"IFERROR(IF(J762=5,1,IF(MATCH(J762&\"/\"&N762,読み替え表_カーシェア!$P$32:$P$52,0),1,0)),0)","v":0},"*"]
[null,null,753,null,null,null,null,null,null,null,null,null,null,null,null,null,null,null,null,null,null,null,null,null,null,null,null,null,null,0,0,{"$f":"IFERROR(IF(J763=5,1,IF(MATCH(J763&\"/\"&N763,読み替え表_カーシェア!$P$32:$P$52,0),1,0)),0)","v":0},"*"]
[null,null,754,null,null,null,null,null,null,null,null,null,null,null,null,null,null,null,null,null,null,null,null,null,null,null,null,null,null,0,0,{"$f":"IFERROR(IF(J764=5,1,IF(MATCH(J764&\"/\"&N764,読み替え表_カーシェア!$P$32:$P$52,0),1,0)),0)","v":0},"*"]
[null,null,755,null,null,null,null,null,null,null,null,null,null,null,null,null,null,null,null,null,null,null,null,null,null,null,null,null,null,0,0,{"$f":"IFERROR(IF(J765=5,1,IF(MATCH(J765&\"/\"&N765,読み替え表_カーシェア!$P$32:$P$52,0),1,0)),0)","v":0},"*"]
[null,null,756,null,null,null,null,null,null,null,null,null,null,null,null,null,null,null,null,null,null,null,null,null,null,null,null,null,null,0,0,{"$f":"IFERROR(IF(J766=5,1,IF(MATCH(J766&\"/\"&N766,読み替え表_カーシェア!$P$32:$P$52,0),1,0)),0)","v":0},"*"]
[null,null,757,null,null,null,null,null,null,null,null,null,null,null,null,null,null,null,null,null,null,null,null,null,null,null,null,null,null,0,0,{"$f":"IFERROR(IF(J767=5,1,IF(MATCH(J767&\"/\"&N767,読み替え表_カーシェア!$P$32:$P$52,0),1,0)),0)","v":0},"*"]
[null,null,758,null,null,null,null,null,null,null,null,null,null,null,null,null,null,null,null,null,null,null,null,null,null,null,null,null,null,0,0,{"$f":"IFERROR(IF(J768=5,1,IF(MATCH(J768&\"/\"&N768,読み替え表_カーシェア!$P$32:$P$52,0),1,0)),0)","v":0},"*"]
[null,null,759,null,null,null,null,null,null,null,null,null,null,null,null,null,null,null,null,null,null,null,null,null,null,null,null,null,null,0,0,{"$f":"IFERROR(IF(J769=5,1,IF(MATCH(J769&\"/\"&N769,読み替え表_カーシェア!$P$32:$P$52,0),1,0)),0)","v":0},"*"]
[null,null,760,null,null,null,null,null,null,null,null,null,null,null,null,null,null,null,null,null,null,null,null,null,null,null,null,null,null,0,0,{"$f":"IFERROR(IF(J770=5,1,IF(MATCH(J770&\"/\"&N770,読み替え表_カーシェア!$P$32:$P$52,0),1,0)),0)","v":0},"*"]
[null,null,761,null,null,null,null,null,null,null,null,null,null,null,null,null,null,null,null,null,null,null,null,null,null,null,null,null,null,0,0,{"$f":"IFERROR(IF(J771=5,1,IF(MATCH(J771&\"/\"&N771,読み替え表_カーシェア!$P$32:$P$52,0),1,0)),0)","v":0},"*"]
[null,null,762,null,null,null,null,null,null,null,null,null,null,null,null,null,null,null,null,null,null,null,null,null,null,null,null,null,null,0,0,{"$f":"IFERROR(IF(J772=5,1,IF(MATCH(J772&\"/\"&N772,読み替え表_カーシェア!$P$32:$P$52,0),1,0)),0)","v":0},"*"]
[null,null,763,null,null,null,null,null,null,null,null,null,null,null,null,null,null,null,null,null,null,null,null,null,null,null,null,null,null,0,0,{"$f":"IFERROR(IF(J773=5,1,IF(MATCH(J773&\"/\"&N773,読み替え表_カーシェア!$P$32:$P$52,0),1,0)),0)","v":0},"*"]
[null,null,764,null,null,null,null,null,null,null,null,null,null,null,null,null,null,null,null,null,null,null,null,null,null,null,null,null,null,0,0,{"$f":"IFERROR(IF(J774=5,1,IF(MATCH(J774&\"/\"&N774,読み替え表_カーシェア!$P$32:$P$52,0),1,0)),0)","v":0},"*"]
[null,null,765,null,null,null,null,null,null,null,null,null,null,null,null,null,null,null,null,null,null,null,null,null,null,null,null,null,null,0,0,{"$f":"IFERROR(IF(J775=5,1,IF(MATCH(J775&\"/\"&N775,読み替え表_カーシェア!$P$32:$P$52,0),1,0)),0)","v":0},"*"]
[null,null,766,null,null,null,null,null,null,null,null,null,null,null,null,null,null,null,null,null,null,null,null,null,null,null,null,null,null,0,0,{"$f":"IFERROR(IF(J776=5,1,IF(MATCH(J776&\"/\"&N776,読み替え表_カーシェア!$P$32:$P$52,0),1,0)),0)","v":0},"*"]
[null,null,767,null,null,null,null,null,null,null,null,null,null,null,null,null,null,null,null,null,null,null,null,null,null,null,null,null,null,0,0,{"$f":"IFERROR(IF(J777=5,1,IF(MATCH(J777&\"/\"&N777,読み替え表_カーシェア!$P$32:$P$52,0),1,0)),0)","v":0},"*"]
[null,null,768,null,null,null,null,null,null,null,null,null,null,null,null,null,null,null,null,null,null,null,null,null,null,null,null,null,null,0,0,{"$f":"IFERROR(IF(J778=5,1,IF(MATCH(J778&\"/\"&N778,読み替え表_カーシェア!$P$32:$P$52,0),1,0)),0)","v":0},"*"]
[null,null,769,null,null,null,null,null,null,null,null,null,null,null,null,null,null,null,null,null,null,null,null,null,null,null,null,null,null,0,0,{"$f":"IFERROR(IF(J779=5,1,IF(MATCH(J779&\"/\"&N779,読み替え表_カーシェア!$P$32:$P$52,0),1,0)),0)","v":0},"*"]
[null,null,{"$f":"ROW()-10","v":770},null,null,null,null,null,null,null,null,null,null,null,null,null,null,null,null,null,null,null,null,null,null,null,null,null,null,{"$f":"IF(OR($N780=1,$N780=2,$N780=3),1,0)","v":0},{"$f":"IF(AND($J780=1,$L780>$M780),1,IF(AND($J780=1,$L780<$M780),2,IF(AND($J780=1,$L780=$M780),3,0)))","v":0},{"$f":"IFERROR(IF(J780=5,1,IF(MATCH(J780&\"/\"&N780,読み替え表_カーシェア!$P$32:$P$52,0),1,0)),0)","v":0},"*"]
[null,null,771,null,null,null,null,null,null,null,null,null,null,null,null,null,null,null,null,null,null,null,null,null,null,null,null,null,null,0,0,{"$f":"IFERROR(IF(J781=5,1,IF(MATCH(J781&\"/\"&N781,読み替え表_カーシェア!$P$32:$P$52,0),1,0)),0)","v":0},"*"]
[null,null,772,null,null,null,null,null,null,null,null,null,null,null,null,null,null,null,null,null,null,null,null,null,null,null,null,null,null,0,0,{"$f":"IFERROR(IF(J782=5,1,IF(MATCH(J782&\"/\"&N782,読み替え表_カーシェア!$P$32:$P$52,0),1,0)),0)","v":0},"*"]
[null,null,773,null,null,null,null,null,null,null,null,null,null,null,null,null,null,null,null,null,null,null,null,null,null,null,null,null,null,0,0,{"$f":"IFERROR(IF(J783=5,1,IF(MATCH(J783&\"/\"&N783,読み替え表_カーシェア!$P$32:$P$52,0),1,0)),0)","v":0},"*"]
[null,null,774,null,null,null,null,null,null,null,null,null,null,null,null,null,null,null,null,null,null,null,null,null,null,null,null,null,null,0,0,{"$f":"IFERROR(IF(J784=5,1,IF(MATCH(J784&\"/\"&N784,読み替え表_カーシェア!$P$32:$P$52,0),1,0)),0)","v":0},"*"]
[null,null,775,null,null,null,null,null,null,null,null,null,null,null,null,null,null,null,null,null,null,null,null,null,null,null,null,null,null,0,0,{"$f":"IFERROR(IF(J785=5,1,IF(MATCH(J785&\"/\"&N785,読み替え表_カーシェア!$P$32:$P$52,0),1,0)),0)","v":0},"*"]
[null,null,776,null,null,null,null,null,null,null,null,null,null,null,null,null,null,null,null,null,null,null,null,null,null,null,null,null,null,0,0,{"$f":"IFERROR(IF(J786=5,1,IF(MATCH(J786&\"/\"&N786,読み替え表_カーシェア!$P$32:$P$52,0),1,0)),0)","v":0},"*"]
[null,null,777,null,null,null,null,null,null,null,null,null,null,null,null,null,null,null,null,null,null,null,null,null,null,null,null,null,null,0,0,{"$f":"IFERROR(IF(J787=5,1,IF(MATCH(J787&\"/\"&N787,読み替え表_カーシェア!$P$32:$P$52,0),1,0)),0)","v":0},"*"]
[null,null,778,null,null,null,null,null,null,null,null,null,null,null,null,null,null,null,null,null,null,null,null,null,null,null,null,null,null,0,0,{"$f":"IFERROR(IF(J788=5,1,IF(MATCH(J788&\"/\"&N788,読み替え表_カーシェア!$P$32:$P$52,0),1,0)),0)","v":0},"*"]
[null,null,779,null,null,null,null,null,null,null,null,null,null,null,null,null,null,null,null,null,null,null,null,null,null,null,null,null,null,0,0,{"$f":"IFERROR(IF(J789=5,1,IF(MATCH(J789&\"/\"&N789,読み替え表_カーシェア!$P$32:$P$52,0),1,0)),0)","v":0},"*"]
[null,null,780,null,null,null,null,null,null,null,null,null,null,null,null,null,null,null,null,null,null,null,null,null,null,null,null,null,null,0,0,{"$f":"IFERROR(IF(J790=5,1,IF(MATCH(J790&\"/\"&N790,読み替え表_カーシェア!$P$32:$P$52,0),1,0)),0)","v":0},"*"]
[null,null,781,null,null,null,null,null,null,null,null,null,null,null,null,null,null,null,null,null,null,null,null,null,null,null,null,null,null,0,0,{"$f":"IFERROR(IF(J791=5,1,IF(MATCH(J791&\"/\"&N791,読み替え表_カーシェア!$P$32:$P$52,0),1,0)),0)","v":0},"*"]
[null,null,782,null,null,null,null,null,null,null,null,null,null,null,null,null,null,null,null,null,null,null,null,null,null,null,null,null,null,0,0,{"$f":"IFERROR(IF(J792=5,1,IF(MATCH(J792&\"/\"&N792,読み替え表_カーシェア!$P$32:$P$52,0),1,0)),0)","v":0},"*"]
[null,null,783,null,null,null,null,null,null,null,null,null,null,null,null,null,null,null,null,null,null,null,null,null,null,null,null,null,null,0,0,{"$f":"IFERROR(IF(J793=5,1,IF(MATCH(J793&\"/\"&N793,読み替え表_カーシェア!$P$32:$P$52,0),1,0)),0)","v":0},"*"]
[null,null,784,null,null,null,null,null,null,null,null,null,null,null,null,null,null,null,null,null,null,null,null,null,null,null,null,null,null,0,0,{"$f":"IFERROR(IF(J794=5,1,IF(MATCH(J794&\"/\"&N794,読み替え表_カーシェア!$P$32:$P$52,0),1,0)),0)","v":0},"*"]
[null,null,785,null,null,null,null,null,null,null,null,null,null,null,null,null,null,null,null,null,null,null,null,null,null,null,null,null,null,0,0,{"$f":"IFERROR(IF(J795=5,1,IF(MATCH(J795&\"/\"&N795,読み替え表_カーシェア!$P$32:$P$52,0),1,0)),0)","v":0},"*"]
[null,null,786,null,null,null,null,null,null,null,null,null,null,null,null,null,null,null,null,null,null,null,null,null,null,null,null,null,null,0,0,{"$f":"IFERROR(IF(J796=5,1,IF(MATCH(J796&\"/\"&N796,読み替え表_カーシェア!$P$32:$P$52,0),1,0)),0)","v":0},"*"]
[null,null,787,null,null,null,null,null,null,null,null,null,null,null,null,null,null,null,null,null,null,null,null,null,null,null,null,null,null,0,0,{"$f":"IFERROR(IF(J797=5,1,IF(MATCH(J797&\"/\"&N797,読み替え表_カーシェア!$P$32:$P$52,0),1,0)),0)","v":0},"*"]
[null,null,788,null,null,null,null,null,null,null,null,null,null,null,null,null,null,null,null,null,null,null,null,null,null,null,null,null,null,0,0,{"$f":"IFERROR(IF(J798=5,1,IF(MATCH(J798&\"/\"&N798,読み替え表_カーシェア!$P$32:$P$52,0),1,0)),0)","v":0},"*"]
[null,null,789,null,null,null,null,null,null,null,null,null,null,null,null,null,null,null,null,null,null,null,null,null,null,null,null,null,null,0,0,{"$f":"IFERROR(IF(J799=5,1,IF(MATCH(J799&\"/\"&N799,読み替え表_カーシェア!$P$32:$P$52,0),1,0)),0)","v":0},"*"]
[null,null,790,null,null,null,null,null,null,null,null,null,null,null,null,null,null,null,null,null,null,null,null,null,null,null,null,null,null,0,0,{"$f":"IFERROR(IF(J800=5,1,IF(MATCH(J800&\"/\"&N800,読み替え表_カーシェア!$P$32:$P$52,0),1,0)),0)","v":0},"*"]
[null,null,791,null,null,null,null,null,null,null,null,null,null,null,null,null,null,null,null,null,null,null,null,null,null,null,null,null,null,0,0,{"$f":"IFERROR(IF(J801=5,1,IF(MATCH(J801&\"/\"&N801,読み替え表_カーシェア!$P$32:$P$52,0),1,0)),0)","v":0},"*"]
[null,null,792,null,null,null,null,null,null,null,null,null,null,null,null,null,null,null,null,null,null,null,null,null,null,null,null,null,null,0,0,{"$f":"IFERROR(IF(J802=5,1,IF(MATCH(J802&\"/\"&N802,読み替え表_カーシェア!$P$32:$P$52,0),1,0)),0)","v":0},"*"]
[null,null,793,null,null,null,null,null,null,null,null,null,null,null,null,null,null,null,null,null,null,null,null,null,null,null,null,null,null,0,0,{"$f":"IFERROR(IF(J803=5,1,IF(MATCH(J803&\"/\"&N803,読み替え表_カーシェア!$P$32:$P$52,0),1,0)),0)","v":0},"*"]
[null,null,794,null,null,null,null,null,null,null,null,null,null,null,null,null,null,null,null,null,null,null,null,null,null,null,null,null,null,0,0,{"$f":"IFERROR(IF(J804=5,1,IF(MATCH(J804&\"/\"&N804,読み替え表_カーシェア!$P$32:$P$52,0),1,0)),0)","v":0},"*"]
[null,null,795,null,null,null,null,null,null,null,null,null,null,null,null,null,null,null,null,null,null,null,null,null,null,null,null,null,null,0,0,{"$f":"IFERROR(IF(J805=5,1,IF(MATCH(J805&\"/\"&N805,読み替え表_カーシェア!$P$32:$P$52,0),1,0)),0)","v":0},"*"]
[null,null,796,null,null,null,null,null,null,null,null,null,null,null,null,null,null,null,null,null,null,null,null,null,null,null,null,null,null,0,0,{"$f":"IFERROR(IF(J806=5,1,IF(MATCH(J806&\"/\"&N806,読み替え表_カーシェア!$P$32:$P$52,0),1,0)),0)","v":0},"*"]
[null,null,797,null,null,null,null,null,null,null,null,null,null,null,null,null,null,null,null,null,null,null,null,null,null,null,null,null,null,0,0,{"$f":"IFERROR(IF(J807=5,1,IF(MATCH(J807&\"/\"&N807,読み替え表_カーシェア!$P$32:$P$52,0),1,0)),0)","v":0},"*"]
[null,null,798,null,null,null,null,null,null,null,null,null,null,null,null,null,null,null,null,null,null,null,null,null,null,null,null,null,null,0,0,{"$f":"IFERROR(IF(J808=5,1,IF(MATCH(J808&\"/\"&N808,読み替え表_カーシェア!$P$32:$P$52,0),1,0)),0)","v":0},"*"]
[null,null,799,null,null,null,null,null,null,null,null,null,null,null,null,null,null,null,null,null,null,null,null,null,null,null,null,null,null,0,0,{"$f":"IFERROR(IF(J809=5,1,IF(MATCH(J809&\"/\"&N809,読み替え表_カーシェア!$P$32:$P$52,0),1,0)),0)","v":0},"*"]
[null,null,800,null,null,null,null,null,null,null,null,null,null,null,null,null,null,null,null,null,null,null,null,null,null,null,null,null,null,0,0,{"$f":"IFERROR(IF(J810=5,1,IF(MATCH(J810&\"/\"&N810,読み替え表_カーシェア!$P$32:$P$52,0),1,0)),0)","v":0},"*"]
[null,null,801,null,null,null,null,null,null,null,null,null,null,null,null,null,null,null,null,null,null,null,null,null,null,null,null,null,null,0,0,{"$f":"IFERROR(IF(J811=5,1,IF(MATCH(J811&\"/\"&N811,読み替え表_カーシェア!$P$32:$P$52,0),1,0)),0)","v":0},"*"]
[null,null,802,null,null,null,null,null,null,null,null,null,null,null,null,null,null,null,null,null,null,null,null,null,null,null,null,null,null,0,0,{"$f":"IFERROR(IF(J812=5,1,IF(MATCH(J812&\"/\"&N812,読み替え表_カーシェア!$P$32:$P$52,0),1,0)),0)","v":0},"*"]
[null,null,803,null,null,null,null,null,null,null,null,null,null,null,null,null,null,null,null,null,null,null,null,null,null,null,null,null,null,0,0,{"$f":"IFERROR(IF(J813=5,1,IF(MATCH(J813&\"/\"&N813,読み替え表_カーシェア!$P$32:$P$52,0),1,0)),0)","v":0},"*"]
[null,null,804,null,null,null,null,null,null,null,null,null,null,null,null,null,null,null,null,null,null,null,null,null,null,null,null,null,null,0,0,{"$f":"IFERROR(IF(J814=5,1,IF(MATCH(J814&\"/\"&N814,読み替え表_カーシェア!$P$32:$P$52,0),1,0)),0)","v":0},"*"]
[null,null,805,null,null,null,null,null,null,null,null,null,null,null,null,null,null,null,null,null,null,null,null,null,null,null,null,null,null,0,0,{"$f":"IFERROR(IF(J815=5,1,IF(MATCH(J815&\"/\"&N815,読み替え表_カーシェア!$P$32:$P$52,0),1,0)),0)","v":0},"*"]
[null,null,806,null,null,null,null,null,null,null,null,null,null,null,null,null,null,null,null,null,null,null,null,null,null,null,null,null,null,0,0,{"$f":"IFERROR(IF(J816=5,1,IF(MATCH(J816&\"/\"&N816,読み替え表_カーシェア!$P$32:$P$52,0),1,0)),0)","v":0},"*"]
[null,null,807,null,null,null,null,null,null,null,null,null,null,null,null,null,null,null,null,null,null,null,null,null,null,null,null,null,null,0,0,{"$f":"IFERROR(IF(J817=5,1,IF(MATCH(J817&\"/\"&N817,読み替え表_カーシェア!$P$32:$P$52,0),1,0)),0)","v":0},"*"]
[null,null,808,null,null,null,null,null,null,null,null,null,null,null,null,null,null,null,null,null,null,null,null,null,null,null,null,null,null,0,0,{"$f":"IFERROR(IF(J818=5,1,IF(MATCH(J818&\"/\"&N818,読み替え表_カーシェア!$P$32:$P$52,0),1,0)),0)","v":0},"*"]
[null,null,809,null,null,null,null,null,null,null,null,null,null,null,null,null,null,null,null,null,null,null,null,null,null,null,null,null,null,0,0,{"$f":"IFERROR(IF(J819=5,1,IF(MATCH(J819&\"/\"&N819,読み替え表_カーシェア!$P$32:$P$52,0),1,0)),0)","v":0},"*"]
[null,null,810,null,null,null,null,null,null,null,null,null,null,null,null,null,null,null,null,null,null,null,null,null,null,null,null,null,null,0,0,{"$f":"IFERROR(IF(J820=5,1,IF(MATCH(J820&\"/\"&N820,読み替え表_カーシェア!$P$32:$P$52,0),1,0)),0)","v":0},"*"]
[null,null,811,null,null,null,null,null,null,null,null,null,null,null,null,null,null,null,null,null,null,null,null,null,null,null,null,null,null,0,0,{"$f":"IFERROR(IF(J821=5,1,IF(MATCH(J821&\"/\"&N821,読み替え表_カーシェア!$P$32:$P$52,0),1,0)),0)","v":0},"*"]
[null,null,812,null,null,null,null,null,null,null,null,null,null,null,null,null,null,null,null,null,null,null,null,null,null,null,null,null,null,0,0,{"$f":"IFERROR(IF(J822=5,1,IF(MATCH(J822&\"/\"&N822,読み替え表_カーシェア!$P$32:$P$52,0),1,0)),0)","v":0},"*"]
[null,null,813,null,null,null,null,null,null,null,null,null,null,null,null,null,null,null,null,null,null,null,null,null,null,null,null,null,null,0,0,{"$f":"IFERROR(IF(J823=5,1,IF(MATCH(J823&\"/\"&N823,読み替え表_カーシェア!$P$32:$P$52,0),1,0)),0)","v":0},"*"]
[null,null,814,null,null,null,null,null,null,null,null,null,null,null,null,null,null,null,null,null,null,null,null,null,null,null,null,null,null,0,0,{"$f":"IFERROR(IF(J824=5,1,IF(MATCH(J824&\"/\"&N824,読み替え表_カーシェア!$P$32:$P$52,0),1,0)),0)","v":0},"*"]
[null,null,815,null,null,null,null,null,null,null,null,null,null,null,null,null,null,null,null,null,null,null,null,null,null,null,null,null,null,0,0,{"$f":"IFERROR(IF(J825=5,1,IF(MATCH(J825&\"/\"&N825,読み替え表_カーシェア!$P$32:$P$52,0),1,0)),0)","v":0},"*"]
[null,null,816,null,null,null,null,null,null,null,null,null,null,null,null,null,null,null,null,null,null,null,null,null,null,null,null,null,null,0,0,{"$f":"IFERROR(IF(J826=5,1,IF(MATCH(J826&\"/\"&N826,読み替え表_カーシェア!$P$32:$P$52,0),1,0)),0)","v":0},"*"]
[null,null,817,null,null,null,null,null,null,null,null,null,null,null,null,null,null,null,null,null,null,null,null,null,null,null,null,null,null,0,0,{"$f":"IFERROR(IF(J827=5,1,IF(MATCH(J827&\"/\"&N827,読み替え表_カーシェア!$P$32:$P$52,0),1,0)),0)","v":0},"*"]
[null,null,818,null,null,null,null,null,null,null,null,null,null,null,null,null,null,null,null,null,null,null,null,null,null,null,null,null,null,0,0,{"$f":"IFERROR(IF(J828=5,1,IF(MATCH(J828&\"/\"&N828,読み替え表_カーシェア!$P$32:$P$52,0),1,0)),0)","v":0},"*"]
[null,null,819,null,null,null,null,null,null,null,null,null,null,null,null,null,null,null,null,null,null,null,null,null,null,null,null,null,null,0,0,{"$f":"IFERROR(IF(J829=5,1,IF(MATCH(J829&\"/\"&N829,読み替え表_カーシェア!$P$32:$P$52,0),1,0)),0)","v":0},"*"]
[null,null,820,null,null,null,null,null,null,null,null,null,null,null,null,null,null,null,null,null,null,null,null,null,null,null,null,null,null,0,0,{"$f":"IFERROR(IF(J830=5,1,IF(MATCH(J830&\"/\"&N830,読み替え表_カーシェア!$P$32:$P$52,0),1,0)),0)","v":0},"*"]
[null,null,821,null,null,null,null,null,null,null,null,null,null,null,null,null,null,null,null,null,null,null,null,null,null,null,null,null,null,0,0,{"$f":"IFERROR(IF(J831=5,1,IF(MATCH(J831&\"/\"&N831,読み替え表_カーシェア!$P$32:$P$52,0),1,0)),0)","v":0},"*"]
[null,null,822,null,null,null,null,null,null,null,null,null,null,null,null,null,null,null,null,null,null,null,null,null,null,null,null,null,null,0,0,{"$f":"IFERROR(IF(J832=5,1,IF(MATCH(J832&\"/\"&N832,読み替え表_カーシェア!$P$32:$P$52,0),1,0)),0)","v":0},"*"]
[null,null,823,null,null,null,null,null,null,null,null,null,null,null,null,null,null,null,null,null,null,null,null,null,null,null,null,null,null,0,0,{"$f":"IFERROR(IF(J833=5,1,IF(MATCH(J833&\"/\"&N833,読み替え表_カーシェア!$P$32:$P$52,0),1,0)),0)","v":0},"*"]
[null,null,824,null,null,null,null,null,null,null,null,null,null,null,null,null,null,null,null,null,null,null,null,null,null,null,null,null,null,0,0,{"$f":"IFERROR(IF(J834=5,1,IF(MATCH(J834&\"/\"&N834,読み替え表_カーシェア!$P$32:$P$52,0),1,0)),0)","v":0},"*"]
[null,null,825,null,null,null,null,null,null,null,null,null,null,null,null,null,null,null,null,null,null,null,null,null,null,null,null,null,null,0,0,{"$f":"IFERROR(IF(J835=5,1,IF(MATCH(J835&\"/\"&N835,読み替え表_カーシェア!$P$32:$P$52,0),1,0)),0)","v":0},"*"]
[null,null,826,null,null,null,null,null,null,null,null,null,null,null,null,null,null,null,null,null,null,null,null,null,null,null,null,null,null,0,0,{"$f":"IFERROR(IF(J836=5,1,IF(MATCH(J836&\"/\"&N836,読み替え表_カーシェア!$P$32:$P$52,0),1,0)),0)","v":0},"*"]
[null,null,827,null,null,null,null,null,null,null,null,null,null,null,null,null,null,null,null,null,null,null,null,null,null,null,null,null,null,0,0,{"$f":"IFERROR(IF(J837=5,1,IF(MATCH(J837&\"/\"&N837,読み替え表_カーシェア!$P$32:$P$52,0),1,0)),0)","v":0},"*"]
[null,null,828,null,null,null,null,null,null,null,null,null,null,null,null,null,null,null,null,null,null,null,null,null,null,null,null,null,null,0,0,{"$f":"IFERROR(IF(J838=5,1,IF(MATCH(J838&\"/\"&N838,読み替え表_カーシェア!$P$32:$P$52,0),1,0)),0)","v":0},"*"]
[null,null,829,null,null,null,null,null,null,null,null,null,null,null,null,null,null,null,null,null,null,null,null,null,null,null,null,null,null,0,0,{"$f":"IFERROR(IF(J839=5,1,IF(MATCH(J839&\"/\"&N839,読み替え表_カーシェア!$P$32:$P$52,0),1,0)),0)","v":0},"*"]
[null,null,830,null,null,null,null,null,null,null,null,null,null,null,null,null,null,null,null,null,null,null,null,null,null,null,null,null,null,0,0,{"$f":"IFERROR(IF(J840=5,1,IF(MATCH(J840&\"/\"&N840,読み替え表_カーシェア!$P$32:$P$52,0),1,0)),0)","v":0},"*"]
[null,null,831,null,null,null,null,null,null,null,null,null,null,null,null,null,null,null,null,null,null,null,null,null,null,null,null,null,null,0,0,{"$f":"IFERROR(IF(J841=5,1,IF(MATCH(J841&\"/\"&N841,読み替え表_カーシェア!$P$32:$P$52,0),1,0)),0)","v":0},"*"]
[null,null,832,null,null,null,null,null,null,null,null,null,null,null,null,null,null,null,null,null,null,null,null,null,null,null,null,null,null,0,0,{"$f":"IFERROR(IF(J842=5,1,IF(MATCH(J842&\"/\"&N842,読み替え表_カーシェア!$P$32:$P$52,0),1,0)),0)","v":0},"*"]
[null,null,833,null,null,null,null,null,null,null,null,null,null,null,null,null,null,null,null,null,null,null,null,null,null,null,null,null,null,0,0,{"$f":"IFERROR(IF(J843=5,1,IF(MATCH(J843&\"/\"&N843,読み替え表_カーシェア!$P$32:$P$52,0),1,0)),0)","v":0},"*"]
[null,null,{"$f":"ROW()-10","v":834},null,null,null,null,null,null,null,null,null,null,null,null,null,null,null,null,null,null,null,null,null,null,null,null,null,null,{"$f":"IF(OR($N844=1,$N844=2,$N844=3),1,0)","v":0},{"$f":"IF(AND($J844=1,$L844>$M844),1,IF(AND($J844=1,$L844<$M844),2,IF(AND($J844=1,$L844=$M844),3,0)))","v":0},{"$f":"IFERROR(IF(J844=5,1,IF(MATCH(J844&\"/\"&N844,読み替え表_カーシェア!$P$32:$P$52,0),1,0)),0)","v":0},"*"]
[null,null,835,null,null,null,null,null,null,null,null,null,null,null,null,null,null,null,null,null,null,null,null,null,null,null,null,null,null,0,0,{"$f":"IFERROR(IF(J845=5,1,IF(MATCH(J845&\"/\"&N845,読み替え表_カーシェア!$P$32:$P$52,0),1,0)),0)","v":0},"*"]
[null,null,836,null,null,null,null,null,null,null,null,null,null,null,null,null,null,null,null,null,null,null,null,null,null,null,null,null,null,0,0,{"$f":"IFERROR(IF(J846=5,1,IF(MATCH(J846&\"/\"&N846,読み替え表_カーシェア!$P$32:$P$52,0),1,0)),0)","v":0},"*"]
[null,null,837,null,null,null,null,null,null,null,null,null,null,null,null,null,null,null,null,null,null,null,null,null,null,null,null,null,null,0,0,{"$f":"IFERROR(IF(J847=5,1,IF(MATCH(J847&\"/\"&N847,読み替え表_カーシェア!$P$32:$P$52,0),1,0)),0)","v":0},"*"]
[null,null,838,null,null,null,null,null,null,null,null,null,null,null,null,null,null,null,null,null,null,null,null,null,null,null,null,null,null,0,0,{"$f":"IFERROR(IF(J848=5,1,IF(MATCH(J848&\"/\"&N848,読み替え表_カーシェア!$P$32:$P$52,0),1,0)),0)","v":0},"*"]
[null,null,839,null,null,null,null,null,null,null,null,null,null,null,null,null,null,null,null,null,null,null,null,null,null,null,null,null,null,0,0,{"$f":"IFERROR(IF(J849=5,1,IF(MATCH(J849&\"/\"&N849,読み替え表_カーシェア!$P$32:$P$52,0),1,0)),0)","v":0},"*"]
[null,null,840,null,null,null,null,null,null,null,null,null,null,null,null,null,null,null,null,null,null,null,null,null,null,null,null,null,null,0,0,{"$f":"IFERROR(IF(J850=5,1,IF(MATCH(J850&\"/\"&N850,読み替え表_カーシェア!$P$32:$P$52,0),1,0)),0)","v":0},"*"]
[null,null,841,null,null,null,null,null,null,null,null,null,null,null,null,null,null,null,null,null,null,null,null,null,null,null,null,null,null,0,0,{"$f":"IFERROR(IF(J851=5,1,IF(MATCH(J851&\"/\"&N851,読み替え表_カーシェア!$P$32:$P$52,0),1,0)),0)","v":0},"*"]
[null,null,842,null,null,null,null,null,null,null,null,null,null,null,null,null,null,null,null,null,null,null,null,null,null,null,null,null,null,0,0,{"$f":"IFERROR(IF(J852=5,1,IF(MATCH(J852&\"/\"&N852,読み替え表_カーシェア!$P$32:$P$52,0),1,0)),0)","v":0},"*"]
[null,null,843,null,null,null,null,null,null,null,null,null,null,null,null,null,null,null,null,null,null,null,null,null,null,null,null,null,null,0,0,{"$f":"IFERROR(IF(J853=5,1,IF(MATCH(J853&\"/\"&N853,読み替え表_カーシェア!$P$32:$P$52,0),1,0)),0)","v":0},"*"]
[null,null,844,null,null,null,null,null,null,null,null,null,null,null,null,null,null,null,null,null,null,null,null,null,null,null,null,null,null,0,0,{"$f":"IFERROR(IF(J854=5,1,IF(MATCH(J854&\"/\"&N854,読み替え表_カーシェア!$P$32:$P$52,0),1,0)),0)","v":0},"*"]
[null,null,845,null,null,null,null,null,null,null,null,null,null,null,null,null,null,null,null,null,null,null,null,null,null,null,null,null,null,0,0,{"$f":"IFERROR(IF(J855=5,1,IF(MATCH(J855&\"/\"&N855,読み替え表_カーシェア!$P$32:$P$52,0),1,0)),0)","v":0},"*"]
[null,null,846,null,null,null,null,null,null,null,null,null,null,null,null,null,null,null,null,null,null,null,null,null,null,null,null,null,null,0,0,{"$f":"IFERROR(IF(J856=5,1,IF(MATCH(J856&\"/\"&N856,読み替え表_カーシェア!$P$32:$P$52,0),1,0)),0)","v":0},"*"]
[null,null,847,null,null,null,null,null,null,null,null,null,null,null,null,null,null,null,null,null,null,null,null,null,null,null,null,null,null,0,0,{"$f":"IFERROR(IF(J857=5,1,IF(MATCH(J857&\"/\"&N857,読み替え表_カーシェア!$P$32:$P$52,0),1,0)),0)","v":0},"*"]
[null,null,848,null,null,null,null,null,null,null,null,null,null,null,null,null,null,null,null,null,null,null,null,null,null,null,null,null,null,0,0,{"$f":"IFERROR(IF(J858=5,1,IF(MATCH(J858&\"/\"&N858,読み替え表_カーシェア!$P$32:$P$52,0),1,0)),0)","v":0},"*"]
[null,null,849,null,null,null,null,null,null,null,null,null,null,null,null,null,null,null,null,null,null,null,null,null,null,null,null,null,null,0,0,{"$f":"IFERROR(IF(J859=5,1,IF(MATCH(J859&\"/\"&N859,読み替え表_カーシェア!$P$32:$P$52,0),1,0)),0)","v":0},"*"]
[null,null,850,null,null,null,null,null,null,null,null,null,null,null,null,null,null,null,null,null,null,null,null,null,null,null,null,null,null,0,0,{"$f":"IFERROR(IF(J860=5,1,IF(MATCH(J860&\"/\"&N860,読み替え表_カーシェア!$P$32:$P$52,0),1,0)),0)","v":0},"*"]
[null,null,851,null,null,null,null,null,null,null,null,null,null,null,null,null,null,null,null,null,null,null,null,null,null,null,null,null,null,0,0,{"$f":"IFERROR(IF(J861=5,1,IF(MATCH(J861&\"/\"&N861,読み替え表_カーシェア!$P$32:$P$52,0),1,0)),0)","v":0},"*"]
[null,null,852,null,null,null,null,null,null,null,null,null,null,null,null,null,null,null,null,null,null,null,null,null,null,null,null,null,null,0,0,{"$f":"IFERROR(IF(J862=5,1,IF(MATCH(J862&\"/\"&N862,読み替え表_カーシェア!$P$32:$P$52,0),1,0)),0)","v":0},"*"]
[null,null,853,null,null,null,null,null,null,null,null,null,null,null,null,null,null,null,null,null,null,null,null,null,null,null,null,null,null,0,0,{"$f":"IFERROR(IF(J863=5,1,IF(MATCH(J863&\"/\"&N863,読み替え表_カーシェア!$P$32:$P$52,0),1,0)),0)","v":0},"*"]
[null,null,854,null,null,null,null,null,null,null,null,null,null,null,null,null,null,null,null,null,null,null,null,null,null,null,null,null,null,0,0,{"$f":"IFERROR(IF(J864=5,1,IF(MATCH(J864&\"/\"&N864,読み替え表_カーシェア!$P$32:$P$52,0),1,0)),0)","v":0},"*"]
[null,null,855,null,null,null,null,null,null,null,null,null,null,null,null,null,null,null,null,null,null,null,null,null,null,null,null,null,null,0,0,{"$f":"IFERROR(IF(J865=5,1,IF(MATCH(J865&\"/\"&N865,読み替え表_カーシェア!$P$32:$P$52,0),1,0)),0)","v":0},"*"]
[null,null,856,null,null,null,null,null,null,null,null,null,null,null,null,null,null,null,null,null,null,null,null,null,null,null,null,null,null,0,0,{"$f":"IFERROR(IF(J866=5,1,IF(MATCH(J866&\"/\"&N866,読み替え表_カーシェア!$P$32:$P$52,0),1,0)),0)","v":0},"*"]
[null,null,857,null,null,null,null,null,null,null,null,null,null,null,null,null,null,null,null,null,null,null,null,null,null,null,null,null,null,0,0,{"$f":"IFERROR(IF(J867=5,1,IF(MATCH(J867&\"/\"&N867,読み替え表_カーシェア!$P$32:$P$52,0),1,0)),0)","v":0},"*"]
[null,null,858,null,null,null,null,null,null,null,null,null,null,null,null,null,null,null,null,null,null,null,null,null,null,null,null,null,null,0,0,{"$f":"IFERROR(IF(J868=5,1,IF(MATCH(J868&\"/\"&N868,読み替え表_カーシェア!$P$32:$P$52,0),1,0)),0)","v":0},"*"]
[null,null,859,null,null,null,null,null,null,null,null,null,null,null,null,null,null,null,null,null,null,null,null,null,null,null,null,null,null,0,0,{"$f":"IFERROR(IF(J869=5,1,IF(MATCH(J869&\"/\"&N869,読み替え表_カーシェア!$P$32:$P$52,0),1,0)),0)","v":0},"*"]
[null,null,860,null,null,null,null,null,null,null,null,null,null,null,null,null,null,null,null,null,null,null,null,null,null,null,null,null,null,0,0,{"$f":"IFERROR(IF(J870=5,1,IF(MATCH(J870&\"/\"&N870,読み替え表_カーシェア!$P$32:$P$52,0),1,0)),0)","v":0},"*"]
[null,null,861,null,null,null,null,null,null,null,null,null,null,null,null,null,null,null,null,null,null,null,null,null,null,null,null,null,null,0,0,{"$f":"IFERROR(IF(J871=5,1,IF(MATCH(J871&\"/\"&N871,読み替え表_カーシェア!$P$32:$P$52,0),1,0)),0)","v":0},"*"]
[null,null,862,null,null,null,null,null,null,null,null,null,null,null,null,null,null,null,null,null,null,null,null,null,null,null,null,null,null,0,0,{"$f":"IFERROR(IF(J872=5,1,IF(MATCH(J872&\"/\"&N872,読み替え表_カーシェア!$P$32:$P$52,0),1,0)),0)","v":0},"*"]
[null,null,863,null,null,null,null,null,null,null,null,null,null,null,null,null,null,null,null,null,null,null,null,null,null,null,null,null,null,0,0,{"$f":"IFERROR(IF(J873=5,1,IF(MATCH(J873&\"/\"&N873,読み替え表_カーシェア!$P$32:$P$52,0),1,0)),0)","v":0},"*"]
[null,null,864,null,null,null,null,null,null,null,null,null,null,null,null,null,null,null,null,null,null,null,null,null,null,null,null,null,null,0,0,{"$f":"IFERROR(IF(J874=5,1,IF(MATCH(J874&\"/\"&N874,読み替え表_カーシェア!$P$32:$P$52,0),1,0)),0)","v":0},"*"]
[null,null,865,null,null,null,null,null,null,null,null,null,null,null,null,null,null,null,null,null,null,null,null,null,null,null,null,null,null,0,0,{"$f":"IFERROR(IF(J875=5,1,IF(MATCH(J875&\"/\"&N875,読み替え表_カーシェア!$P$32:$P$52,0),1,0)),0)","v":0},"*"]
[null,null,866,null,null,null,null,null,null,null,null,null,null,null,null,null,null,null,null,null,null,null,null,null,null,null,null,null,null,0,0,{"$f":"IFERROR(IF(J876=5,1,IF(MATCH(J876&\"/\"&N876,読み替え表_カーシェア!$P$32:$P$52,0),1,0)),0)","v":0},"*"]
[null,null,867,null,null,null,null,null,null,null,null,null,null,null,null,null,null,null,null,null,null,null,null,null,null,null,null,null,null,0,0,{"$f":"IFERROR(IF(J877=5,1,IF(MATCH(J877&\"/\"&N877,読み替え表_カーシェア!$P$32:$P$52,0),1,0)),0)","v":0},"*"]
[null,null,868,null,null,null,null,null,null,null,null,null,null,null,null,null,null,null,null,null,null,null,null,null,null,null,null,null,null,0,0,{"$f":"IFERROR(IF(J878=5,1,IF(MATCH(J878&\"/\"&N878,読み替え表_カーシェア!$P$32:$P$52,0),1,0)),0)","v":0},"*"]
[null,null,869,null,null,null,null,null,null,null,null,null,null,null,null,null,null,null,null,null,null,null,null,null,null,null,null,null,null,0,0,{"$f":"IFERROR(IF(J879=5,1,IF(MATCH(J879&\"/\"&N879,読み替え表_カーシェア!$P$32:$P$52,0),1,0)),0)","v":0},"*"]
[null,null,870,null,null,null,null,null,null,null,null,null,null,null,null,null,null,null,null,null,null,null,null,null,null,null,null,null,null,0,0,{"$f":"IFERROR(IF(J880=5,1,IF(MATCH(J880&\"/\"&N880,読み替え表_カーシェア!$P$32:$P$52,0),1,0)),0)","v":0},"*"]
[null,null,871,null,null,null,null,null,null,null,null,null,null,null,null,null,null,null,null,null,null,null,null,null,null,null,null,null,null,0,0,{"$f":"IFERROR(IF(J881=5,1,IF(MATCH(J881&\"/\"&N881,読み替え表_カーシェア!$P$32:$P$52,0),1,0)),0)","v":0},"*"]
[null,null,872,null,null,null,null,null,null,null,null,null,null,null,null,null,null,null,null,null,null,null,null,null,null,null,null,null,null,0,0,{"$f":"IFERROR(IF(J882=5,1,IF(MATCH(J882&\"/\"&N882,読み替え表_カーシェア!$P$32:$P$52,0),1,0)),0)","v":0},"*"]
[null,null,873,null,null,null,null,null,null,null,null,null,null,null,null,null,null,null,null,null,null,null,null,null,null,null,null,null,null,0,0,{"$f":"IFERROR(IF(J883=5,1,IF(MATCH(J883&\"/\"&N883,読み替え表_カーシェア!$P$32:$P$52,0),1,0)),0)","v":0},"*"]
[null,null,874,null,null,null,null,null,null,null,null,null,null,null,null,null,null,null,null,null,null,null,null,null,null,null,null,null,null,0,0,{"$f":"IFERROR(IF(J884=5,1,IF(MATCH(J884&\"/\"&N884,読み替え表_カーシェア!$P$32:$P$52,0),1,0)),0)","v":0},"*"]
[null,null,875,null,null,null,null,null,null,null,null,null,null,null,null,null,null,null,null,null,null,null,null,null,null,null,null,null,null,0,0,{"$f":"IFERROR(IF(J885=5,1,IF(MATCH(J885&\"/\"&N885,読み替え表_カーシェア!$P$32:$P$52,0),1,0)),0)","v":0},"*"]
[null,null,876,null,null,null,null,null,null,null,null,null,null,null,null,null,null,null,null,null,null,null,null,null,null,null,null,null,null,0,0,{"$f":"IFERROR(IF(J886=5,1,IF(MATCH(J886&\"/\"&N886,読み替え表_カーシェア!$P$32:$P$52,0),1,0)),0)","v":0},"*"]
[null,null,877,null,null,null,null,null,null,null,null,null,null,null,null,null,null,null,null,null,null,null,null,null,null,null,null,null,null,0,0,{"$f":"IFERROR(IF(J887=5,1,IF(MATCH(J887&\"/\"&N887,読み替え表_カーシェア!$P$32:$P$52,0),1,0)),0)","v":0},"*"]
[null,null,878,null,null,null,null,null,null,null,null,null,null,null,null,null,null,null,null,null,null,null,null,null,null,null,null,null,null,0,0,{"$f":"IFERROR(IF(J888=5,1,IF(MATCH(J888&\"/\"&N888,読み替え表_カーシェア!$P$32:$P$52,0),1,0)),0)","v":0},"*"]
[null,null,879,null,null,null,null,null,null,null,null,null,null,null,null,null,null,null,null,null,null,null,null,null,null,null,null,null,null,0,0,{"$f":"IFERROR(IF(J889=5,1,IF(MATCH(J889&\"/\"&N889,読み替え表_カーシェア!$P$32:$P$52,0),1,0)),0)","v":0},"*"]
[null,null,880,null,null,null,null,null,null,null,null,null,null,null,null,null,null,null,null,null,null,null,null,null,null,null,null,null,null,0,0,{"$f":"IFERROR(IF(J890=5,1,IF(MATCH(J890&\"/\"&N890,読み替え表_カーシェア!$P$32:$P$52,0),1,0)),0)","v":0},"*"]
[null,null,881,null,null,null,null,null,null,null,null,null,null,null,null,null,null,null,null,null,null,null,null,null,null,null,null,null,null,0,0,{"$f":"IFERROR(IF(J891=5,1,IF(MATCH(J891&\"/\"&N891,読み替え表_カーシェア!$P$32:$P$52,0),1,0)),0)","v":0},"*"]
[null,null,882,null,null,null,null,null,null,null,null,null,null,null,null,null,null,null,null,null,null,null,null,null,null,null,null,null,null,0,0,{"$f":"IFERROR(IF(J892=5,1,IF(MATCH(J892&\"/\"&N892,読み替え表_カーシェア!$P$32:$P$52,0),1,0)),0)","v":0},"*"]
[null,null,883,null,null,null,null,null,null,null,null,null,null,null,null,null,null,null,null,null,null,null,null,null,null,null,null,null,null,0,0,{"$f":"IFERROR(IF(J893=5,1,IF(MATCH(J893&\"/\"&N893,読み替え表_カーシェア!$P$32:$P$52,0),1,0)),0)","v":0},"*"]
[null,null,884,null,null,null,null,null,null,null,null,null,null,null,null,null,null,null,null,null,null,null,null,null,null,null,null,null,null,0,0,{"$f":"IFERROR(IF(J894=5,1,IF(MATCH(J894&\"/\"&N894,読み替え表_カーシェア!$P$32:$P$52,0),1,0)),0)","v":0},"*"]
[null,null,885,null,null,null,null,null,null,null,null,null,null,null,null,null,null,null,null,null,null,null,null,null,null,null,null,null,null,0,0,{"$f":"IFERROR(IF(J895=5,1,IF(MATCH(J895&\"/\"&N895,読み替え表_カーシェア!$P$32:$P$52,0),1,0)),0)","v":0},"*"]
[null,null,886,null,null,null,null,null,null,null,null,null,null,null,null,null,null,null,null,null,null,null,null,null,null,null,null,null,null,0,0,{"$f":"IFERROR(IF(J896=5,1,IF(MATCH(J896&\"/\"&N896,読み替え表_カーシェア!$P$32:$P$52,0),1,0)),0)","v":0},"*"]
[null,null,887,null,null,null,null,null,null,null,null,null,null,null,null,null,null,null,null,null,null,null,null,null,null,null,null,null,null,0,0,{"$f":"IFERROR(IF(J897=5,1,IF(MATCH(J897&\"/\"&N897,読み替え表_カーシェア!$P$32:$P$52,0),1,0)),0)","v":0},"*"]
[null,null,888,null,null,null,null,null,null,null,null,null,null,null,null,null,null,null,null,null,null,null,null,null,null,null,null,null,null,0,0,{"$f":"IFERROR(IF(J898=5,1,IF(MATCH(J898&\"/\"&N898,読み替え表_カーシェア!$P$32:$P$52,0),1,0)),0)","v":0},"*"]
[null,null,889,null,null,null,null,null,null,null,null,null,null,null,null,null,null,null,null,null,null,null,null,null,null,null,null,null,null,0,0,{"$f":"IFERROR(IF(J899=5,1,IF(MATCH(J899&\"/\"&N899,読み替え表_カーシェア!$P$32:$P$52,0),1,0)),0)","v":0},"*"]
[null,null,890,null,null,null,null,null,null,null,null,null,null,null,null,null,null,null,null,null,null,null,null,null,null,null,null,null,null,0,0,{"$f":"IFERROR(IF(J900=5,1,IF(MATCH(J900&\"/\"&N900,読み替え表_カーシェア!$P$32:$P$52,0),1,0)),0)","v":0},"*"]
[null,null,891,null,null,null,null,null,null,null,null,null,null,null,null,null,null,null,null,null,null,null,null,null,null,null,null,null,null,0,0,{"$f":"IFERROR(IF(J901=5,1,IF(MATCH(J901&\"/\"&N901,読み替え表_カーシェア!$P$32:$P$52,0),1,0)),0)","v":0},"*"]
[null,null,892,null,null,null,null,null,null,null,null,null,null,null,null,null,null,null,null,null,null,null,null,null,null,null,null,null,null,0,0,{"$f":"IFERROR(IF(J902=5,1,IF(MATCH(J902&\"/\"&N902,読み替え表_カーシェア!$P$32:$P$52,0),1,0)),0)","v":0},"*"]
[null,null,893,null,null,null,null,null,null,null,null,null,null,null,null,null,null,null,null,null,null,null,null,null,null,null,null,null,null,0,0,{"$f":"IFERROR(IF(J903=5,1,IF(MATCH(J903&\"/\"&N903,読み替え表_カーシェア!$P$32:$P$52,0),1,0)),0)","v":0},"*"]
[null,null,894,null,null,null,null,null,null,null,null,null,null,null,null,null,null,null,null,null,null,null,null,null,null,null,null,null,null,0,0,{"$f":"IFERROR(IF(J904=5,1,IF(MATCH(J904&\"/\"&N904,読み替え表_カーシェア!$P$32:$P$52,0),1,0)),0)","v":0},"*"]
[null,null,895,null,null,null,null,null,null,null,null,null,null,null,null,null,null,null,null,null,null,null,null,null,null,null,null,null,null,0,0,{"$f":"IFERROR(IF(J905=5,1,IF(MATCH(J905&\"/\"&N905,読み替え表_カーシェア!$P$32:$P$52,0),1,0)),0)","v":0},"*"]
[null,null,896,null,null,null,null,null,null,null,null,null,null,null,null,null,null,null,null,null,null,null,null,null,null,null,null,null,null,0,0,{"$f":"IFERROR(IF(J906=5,1,IF(MATCH(J906&\"/\"&N906,読み替え表_カーシェア!$P$32:$P$52,0),1,0)),0)","v":0},"*"]
[null,null,897,null,null,null,null,null,null,null,null,null,null,null,null,null,null,null,null,null,null,null,null,null,null,null,null,null,null,0,0,{"$f":"IFERROR(IF(J907=5,1,IF(MATCH(J907&\"/\"&N907,読み替え表_カーシェア!$P$32:$P$52,0),1,0)),0)","v":0},"*"]
[null,null,{"$f":"ROW()-10","v":898},null,null,null,null,null,null,null,null,null,null,null,null,null,null,null,null,null,null,null,null,null,null,null,null,null,null,{"$f":"IF(OR($N908=1,$N908=2,$N908=3),1,0)","v":0},{"$f":"IF(AND($J908=1,$L908>$M908),1,IF(AND($J908=1,$L908<$M908),2,IF(AND($J908=1,$L908=$M908),3,0)))","v":0},{"$f":"IFERROR(IF(J908=5,1,IF(MATCH(J908&\"/\"&N908,読み替え表_カーシェア!$P$32:$P$52,0),1,0)),0)","v":0},"*"]
[null,null,899,null,null,null,null,null,null,null,null,null,null,null,null,null,null,null,null,null,null,null,null,null,null,null,null,null,null,0,0,{"$f":"IFERROR(IF(J909=5,1,IF(MATCH(J909&\"/\"&N909,読み替え表_カーシェア!$P$32:$P$52,0),1,0)),0)","v":0},"*"]
[null,null,900,null,null,null,null,null,null,null,null,null,null,null,null,null,null,null,null,null,null,null,null,null,null,null,null,null,null,0,0,{"$f":"IFERROR(IF(J910=5,1,IF(MATCH(J910&\"/\"&N910,読み替え表_カーシェア!$P$32:$P$52,0),1,0)),0)","v":0},"*"]
[null,null,901,null,null,null,null,null,null,null,null,null,null,null,null,null,null,null,null,null,null,null,null,null,null,null,null,null,null,0,0,{"$f":"IFERROR(IF(J911=5,1,IF(MATCH(J911&\"/\"&N911,読み替え表_カーシェア!$P$32:$P$52,0),1,0)),0)","v":0},"*"]
[null,null,902,null,null,null,null,null,null,null,null,null,null,null,null,null,null,null,null,null,null,null,null,null,null,null,null,null,null,0,0,{"$f":"IFERROR(IF(J912=5,1,IF(MATCH(J912&\"/\"&N912,読み替え表_カーシェア!$P$32:$P$52,0),1,0)),0)","v":0},"*"]
[null,null,903,null,null,null,null,null,null,null,null,null,null,null,null,null,null,null,null,null,null,null,null,null,null,null,null,null,null,0,0,{"$f":"IFERROR(IF(J913=5,1,IF(MATCH(J913&\"/\"&N913,読み替え表_カーシェア!$P$32:$P$52,0),1,0)),0)","v":0},"*"]
[null,null,904,null,null,null,null,null,null,null,null,null,null,null,null,null,null,null,null,null,null,null,null,null,null,null,null,null,null,0,0,{"$f":"IFERROR(IF(J914=5,1,IF(MATCH(J914&\"/\"&N914,読み替え表_カーシェア!$P$32:$P$52,0),1,0)),0)","v":0},"*"]
[null,null,905,null,null,null,null,null,null,null,null,null,null,null,null,null,null,null,null,null,null,null,null,null,null,null,null,null,null,0,0,{"$f":"IFERROR(IF(J915=5,1,IF(MATCH(J915&\"/\"&N915,読み替え表_カーシェア!$P$32:$P$52,0),1,0)),0)","v":0},"*"]
[null,null,906,null,null,null,null,null,null,null,null,null,null,null,null,null,null,null,null,null,null,null,null,null,null,null,null,null,null,0,0,{"$f":"IFERROR(IF(J916=5,1,IF(MATCH(J916&\"/\"&N916,読み替え表_カーシェア!$P$32:$P$52,0),1,0)),0)","v":0},"*"]
[null,null,907,null,null,null,null,null,null,null,null,null,null,null,null,null,null,null,null,null,null,null,null,null,null,null,null,null,null,0,0,{"$f":"IFERROR(IF(J917=5,1,IF(MATCH(J917&\"/\"&N917,読み替え表_カーシェア!$P$32:$P$52,0),1,0)),0)","v":0},"*"]
[null,null,908,null,null,null,null,null,null,null,null,null,null,null,null,null,null,null,null,null,null,null,null,null,null,null,null,null,null,0,0,{"$f":"IFERROR(IF(J918=5,1,IF(MATCH(J918&\"/\"&N918,読み替え表_カーシェア!$P$32:$P$52,0),1,0)),0)","v":0},"*"]
[null,null,909,null,null,null,null,null,null,null,null,null,null,null,null,null,null,null,null,null,null,null,null,null,null,null,null,null,null,0,0,{"$f":"IFERROR(IF(J919=5,1,IF(MATCH(J919&\"/\"&N919,読み替え表_カーシェア!$P$32:$P$52,0),1,0)),0)","v":0},"*"]
[null,null,910,null,null,null,null,null,null,null,null,null,null,null,null,null,null,null,null,null,null,null,null,null,null,null,null,null,null,0,0,{"$f":"IFERROR(IF(J920=5,1,IF(MATCH(J920&\"/\"&N920,読み替え表_カーシェア!$P$32:$P$52,0),1,0)),0)","v":0},"*"]
[null,null,911,null,null,null,null,null,null,null,null,null,null,null,null,null,null,null,null,null,null,null,null,null,null,null,null,null,null,0,0,{"$f":"IFERROR(IF(J921=5,1,IF(MATCH(J921&\"/\"&N921,読み替え表_カーシェア!$P$32:$P$52,0),1,0)),0)","v":0},"*"]
[null,null,912,null,null,null,null,null,null,null,null,null,null,null,null,null,null,null,null,null,null,null,null,null,null,null,null,null,null,0,0,{"$f":"IFERROR(IF(J922=5,1,IF(MATCH(J922&\"/\"&N922,読み替え表_カーシェア!$P$32:$P$52,0),1,0)),0)","v":0},"*"]
[null,null,913,null,null,null,null,null,null,null,null,null,null,null,null,null,null,null,null,null,null,null,null,null,null,null,null,null,null,0,0,{"$f":"IFERROR(IF(J923=5,1,IF(MATCH(J923&\"/\"&N923,読み替え表_カーシェア!$P$32:$P$52,0),1,0)),0)","v":0},"*"]
[null,null,914,null,null,null,null,null,null,null,null,null,null,null,null,null,null,null,null,null,null,null,null,null,null,null,null,null,null,0,0,{"$f":"IFERROR(IF(J924=5,1,IF(MATCH(J924&\"/\"&N924,読み替え表_カーシェア!$P$32:$P$52,0),1,0)),0)","v":0},"*"]
[null,null,915,null,null,null,null,null,null,null,null,null,null,null,null,null,null,null,null,null,null,null,null,null,null,null,null,null,null,0,0,{"$f":"IFERROR(IF(J925=5,1,IF(MATCH(J925&\"/\"&N925,読み替え表_カーシェア!$P$32:$P$52,0),1,0)),0)","v":0},"*"]
[null,null,916,null,null,null,null,null,null,null,null,null,null,null,null,null,null,null,null,null,null,null,null,null,null,null,null,null,null,0,0,{"$f":"IFERROR(IF(J926=5,1,IF(MATCH(J926&\"/\"&N926,読み替え表_カーシェア!$P$32:$P$52,0),1,0)),0)","v":0},"*"]
[null,null,917,null,null,null,null,null,null,null,null,null,null,null,null,null,null,null,null,null,null,null,null,null,null,null,null,null,null,0,0,{"$f":"IFERROR(IF(J927=5,1,IF(MATCH(J927&\"/\"&N927,読み替え表_カーシェア!$P$32:$P$52,0),1,0)),0)","v":0},"*"]
[null,null,918,null,null,null,null,null,null,null,null,null,null,null,null,null,null,null,null,null,null,null,null,null,null,null,null,null,null,0,0,{"$f":"IFERROR(IF(J928=5,1,IF(MATCH(J928&\"/\"&N928,読み替え表_カーシェア!$P$32:$P$52,0),1,0)),0)","v":0},"*"]
[null,null,919,null,null,null,null,null,null,null,null,null,null,null,null,null,null,null,null,null,null,null,null,null,null,null,null,null,null,0,0,{"$f":"IFERROR(IF(J929=5,1,IF(MATCH(J929&\"/\"&N929,読み替え表_カーシェア!$P$32:$P$52,0),1,0)),0)","v":0},"*"]
[null,null,920,null,null,null,null,null,null,null,null,null,null,null,null,null,null,null,null,null,null,null,null,null,null,null,null,null,null,0,0,{"$f":"IFERROR(IF(J930=5,1,IF(MATCH(J930&\"/\"&N930,読み替え表_カーシェア!$P$32:$P$52,0),1,0)),0)","v":0},"*"]
[null,null,921,null,null,null,null,null,null,null,null,null,null,null,null,null,null,null,null,null,null,null,null,null,null,null,null,null,null,0,0,{"$f":"IFERROR(IF(J931=5,1,IF(MATCH(J931&\"/\"&N931,読み替え表_カーシェア!$P$32:$P$52,0),1,0)),0)","v":0},"*"]
[null,null,922,null,null,null,null,null,null,null,null,null,null,null,null,null,null,null,null,null,null,null,null,null,null,null,null,null,null,0,0,{"$f":"IFERROR(IF(J932=5,1,IF(MATCH(J932&\"/\"&N932,読み替え表_カーシェア!$P$32:$P$52,0),1,0)),0)","v":0},"*"]
[null,null,923,null,null,null,null,null,null,null,null,null,null,null,null,null,null,null,null,null,null,null,null,null,null,null,null,null,null,0,0,{"$f":"IFERROR(IF(J933=5,1,IF(MATCH(J933&\"/\"&N933,読み替え表_カーシェア!$P$32:$P$52,0),1,0)),0)","v":0},"*"]
[null,null,924,null,null,null,null,null,null,null,null,null,null,null,null,null,null,null,null,null,null,null,null,null,null,null,null,null,null,0,0,{"$f":"IFERROR(IF(J934=5,1,IF(MATCH(J934&\"/\"&N934,読み替え表_カーシェア!$P$32:$P$52,0),1,0)),0)","v":0},"*"]
[null,null,925,null,null,null,null,null,null,null,null,null,null,null,null,null,null,null,null,null,null,null,null,null,null,null,null,null,null,0,0,{"$f":"IFERROR(IF(J935=5,1,IF(MATCH(J935&\"/\"&N935,読み替え表_カーシェア!$P$32:$P$52,0),1,0)),0)","v":0},"*"]
[null,null,926,null,null,null,null,null,null,null,null,null,null,null,null,null,null,null,null,null,null,null,null,null,null,null,null,null,null,0,0,{"$f":"IFERROR(IF(J936=5,1,IF(MATCH(J936&\"/\"&N936,読み替え表_カーシェア!$P$32:$P$52,0),1,0)),0)","v":0},"*"]
[null,null,927,null,null,null,null,null,null,null,null,null,null,null,null,null,null,null,null,null,null,null,null,null,null,null,null,null,null,0,0,{"$f":"IFERROR(IF(J937=5,1,IF(MATCH(J937&\"/\"&N937,読み替え表_カーシェア!$P$32:$P$52,0),1,0)),0)","v":0},"*"]
[null,null,928,null,null,null,null,null,null,null,null,null,null,null,null,null,null,null,null,null,null,null,null,null,null,null,null,null,null,0,0,{"$f":"IFERROR(IF(J938=5,1,IF(MATCH(J938&\"/\"&N938,読み替え表_カーシェア!$P$32:$P$52,0),1,0)),0)","v":0},"*"]
[null,null,929,null,null,null,null,null,null,null,null,null,null,null,null,null,null,null,null,null,null,null,null,null,null,null,null,null,null,0,0,{"$f":"IFERROR(IF(J939=5,1,IF(MATCH(J939&\"/\"&N939,読み替え表_カーシェア!$P$32:$P$52,0),1,0)),0)","v":0},"*"]
[null,null,930,null,null,null,null,null,null,null,null,null,null,null,null,null,null,null,null,null,null,null,null,null,null,null,null,null,null,0,0,{"$f":"IFERROR(IF(J940=5,1,IF(MATCH(J940&\"/\"&N940,読み替え表_カーシェア!$P$32:$P$52,0),1,0)),0)","v":0},"*"]
[null,null,931,null,null,null,null,null,null,null,null,null,null,null,null,null,null,null,null,null,null,null,null,null,null,null,null,null,null,0,0,{"$f":"IFERROR(IF(J941=5,1,IF(MATCH(J941&\"/\"&N941,読み替え表_カーシェア!$P$32:$P$52,0),1,0)),0)","v":0},"*"]
[null,null,932,null,null,null,null,null,null,null,null,null,null,null,null,null,null,null,null,null,null,null,null,null,null,null,null,null,null,0,0,{"$f":"IFERROR(IF(J942=5,1,IF(MATCH(J942&\"/\"&N942,読み替え表_カーシェア!$P$32:$P$52,0),1,0)),0)","v":0},"*"]
[null,null,933,null,null,null,null,null,null,null,null,null,null,null,null,null,null,null,null,null,null,null,null,null,null,null,null,null,null,0,0,{"$f":"IFERROR(IF(J943=5,1,IF(MATCH(J943&\"/\"&N943,読み替え表_カーシェア!$P$32:$P$52,0),1,0)),0)","v":0},"*"]
[null,null,934,null,null,null,null,null,null,null,null,null,null,null,null,null,null,null,null,null,null,null,null,null,null,null,null,null,null,0,0,{"$f":"IFERROR(IF(J944=5,1,IF(MATCH(J944&\"/\"&N944,読み替え表_カーシェア!$P$32:$P$52,0),1,0)),0)","v":0},"*"]
[null,null,935,null,null,null,null,null,null,null,null,null,null,null,null,null,null,null,null,null,null,null,null,null,null,null,null,null,null,0,0,{"$f":"IFERROR(IF(J945=5,1,IF(MATCH(J945&\"/\"&N945,読み替え表_カーシェア!$P$32:$P$52,0),1,0)),0)","v":0},"*"]
[null,null,936,null,null,null,null,null,null,null,null,null,null,null,null,null,null,null,null,null,null,null,null,null,null,null,null,null,null,0,0,{"$f":"IFERROR(IF(J946=5,1,IF(MATCH(J946&\"/\"&N946,読み替え表_カーシェア!$P$32:$P$52,0),1,0)),0)","v":0},"*"]
[null,null,937,null,null,null,null,null,null,null,null,null,null,null,null,null,null,null,null,null,null,null,null,null,null,null,null,null,null,0,0,{"$f":"IFERROR(IF(J947=5,1,IF(MATCH(J947&\"/\"&N947,読み替え表_カーシェア!$P$32:$P$52,0),1,0)),0)","v":0},"*"]
[null,null,938,null,null,null,null,null,null,null,null,null,null,null,null,null,null,null,null,null,null,null,null,null,null,null,null,null,null,0,0,{"$f":"IFERROR(IF(J948=5,1,IF(MATCH(J948&\"/\"&N948,読み替え表_カーシェア!$P$32:$P$52,0),1,0)),0)","v":0},"*"]
[null,null,939,null,null,null,null,null,null,null,null,null,null,null,null,null,null,null,null,null,null,null,null,null,null,null,null,null,null,0,0,{"$f":"IFERROR(IF(J949=5,1,IF(MATCH(J949&\"/\"&N949,読み替え表_カーシェア!$P$32:$P$52,0),1,0)),0)","v":0},"*"]
[null,null,940,null,null,null,null,null,null,null,null,null,null,null,null,null,null,null,null,null,null,null,null,null,null,null,null,null,null,0,0,{"$f":"IFERROR(IF(J950=5,1,IF(MATCH(J950&\"/\"&N950,読み替え表_カーシェア!$P$32:$P$52,0),1,0)),0)","v":0},"*"]
[null,null,941,null,null,null,null,null,null,null,null,null,null,null,null,null,null,null,null,null,null,null,null,null,null,null,null,null,null,0,0,{"$f":"IFERROR(IF(J951=5,1,IF(MATCH(J951&\"/\"&N951,読み替え表_カーシェア!$P$32:$P$52,0),1,0)),0)","v":0},"*"]
[null,null,942,null,null,null,null,null,null,null,null,null,null,null,null,null,null,null,null,null,null,null,null,null,null,null,null,null,null,0,0,{"$f":"IFERROR(IF(J952=5,1,IF(MATCH(J952&\"/\"&N952,読み替え表_カーシェア!$P$32:$P$52,0),1,0)),0)","v":0},"*"]
[null,null,943,null,null,null,null,null,null,null,null,null,null,null,null,null,null,null,null,null,null,null,null,null,null,null,null,null,null,0,0,{"$f":"IFERROR(IF(J953=5,1,IF(MATCH(J953&\"/\"&N953,読み替え表_カーシェア!$P$32:$P$52,0),1,0)),0)","v":0},"*"]
[null,null,944,null,null,null,null,null,null,null,null,null,null,null,null,null,null,null,null,null,null,null,null,null,null,null,null,null,null,0,0,{"$f":"IFERROR(IF(J954=5,1,IF(MATCH(J954&\"/\"&N954,読み替え表_カーシェア!$P$32:$P$52,0),1,0)),0)","v":0},"*"]
[null,null,945,null,null,null,null,null,null,null,null,null,null,null,null,null,null,null,null,null,null,null,null,null,null,null,null,null,null,0,0,{"$f":"IFERROR(IF(J955=5,1,IF(MATCH(J955&\"/\"&N955,読み替え表_カーシェア!$P$32:$P$52,0),1,0)),0)","v":0},"*"]
[null,null,946,null,null,null,null,null,null,null,null,null,null,null,null,null,null,null,null,null,null,null,null,null,null,null,null,null,null,0,0,{"$f":"IFERROR(IF(J956=5,1,IF(MATCH(J956&\"/\"&N956,読み替え表_カーシェア!$P$32:$P$52,0),1,0)),0)","v":0},"*"]
[null,null,947,null,null,null,null,null,null,null,null,null,null,null,null,null,null,null,null,null,null,null,null,null,null,null,null,null,null,0,0,{"$f":"IFERROR(IF(J957=5,1,IF(MATCH(J957&\"/\"&N957,読み替え表_カーシェア!$P$32:$P$52,0),1,0)),0)","v":0},"*"]
[null,null,948,null,null,null,null,null,null,null,null,null,null,null,null,null,null,null,null,null,null,null,null,null,null,null,null,null,null,0,0,{"$f":"IFERROR(IF(J958=5,1,IF(MATCH(J958&\"/\"&N958,読み替え表_カーシェア!$P$32:$P$52,0),1,0)),0)","v":0},"*"]
[null,null,949,null,null,null,null,null,null,null,null,null,null,null,null,null,null,null,null,null,null,null,null,null,null,null,null,null,null,0,0,{"$f":"IFERROR(IF(J959=5,1,IF(MATCH(J959&\"/\"&N959,読み替え表_カーシェア!$P$32:$P$52,0),1,0)),0)","v":0},"*"]
[null,null,950,null,null,null,null,null,null,null,null,null,null,null,null,null,null,null,null,null,null,null,null,null,null,null,null,null,null,0,0,{"$f":"IFERROR(IF(J960=5,1,IF(MATCH(J960&\"/\"&N960,読み替え表_カーシェア!$P$32:$P$52,0),1,0)),0)","v":0},"*"]
[null,null,951,null,null,null,null,null,null,null,null,null,null,null,null,null,null,null,null,null,null,null,null,null,null,null,null,null,null,0,0,{"$f":"IFERROR(IF(J961=5,1,IF(MATCH(J961&\"/\"&N961,読み替え表_カーシェア!$P$32:$P$52,0),1,0)),0)","v":0},"*"]
[null,null,952,null,null,null,null,null,null,null,null,null,null,null,null,null,null,null,null,null,null,null,null,null,null,null,null,null,null,0,0,{"$f":"IFERROR(IF(J962=5,1,IF(MATCH(J962&\"/\"&N962,読み替え表_カーシェア!$P$32:$P$52,0),1,0)),0)","v":0},"*"]
[null,null,953,null,null,null,null,null,null,null,null,null,null,null,null,null,null,null,null,null,null,null,null,null,null,null,null,null,null,0,0,{"$f":"IFERROR(IF(J963=5,1,IF(MATCH(J963&\"/\"&N963,読み替え表_カーシェア!$P$32:$P$52,0),1,0)),0)","v":0},"*"]
[null,null,954,null,null,null,null,null,null,null,null,null,null,null,null,null,null,null,null,null,null,null,null,null,null,null,null,null,null,0,0,{"$f":"IFERROR(IF(J964=5,1,IF(MATCH(J964&\"/\"&N964,読み替え表_カーシェア!$P$32:$P$52,0),1,0)),0)","v":0},"*"]
[null,null,955,null,null,null,null,null,null,null,null,null,null,null,null,null,null,null,null,null,null,null,null,null,null,null,null,null,null,0,0,{"$f":"IFERROR(IF(J965=5,1,IF(MATCH(J965&\"/\"&N965,読み替え表_カーシェア!$P$32:$P$52,0),1,0)),0)","v":0},"*"]
[null,null,956,null,null,null,null,null,null,null,null,null,null,null,null,null,null,null,null,null,null,null,null,null,null,null,null,null,null,0,0,{"$f":"IFERROR(IF(J966=5,1,IF(MATCH(J966&\"/\"&N966,読み替え表_カーシェア!$P$32:$P$52,0),1,0)),0)","v":0},"*"]
[null,null,957,null,null,null,null,null,null,null,null,null,null,null,null,null,null,null,null,null,null,null,null,null,null,null,null,null,null,0,0,{"$f":"IFERROR(IF(J967=5,1,IF(MATCH(J967&\"/\"&N967,読み替え表_カーシェア!$P$32:$P$52,0),1,0)),0)","v":0},"*"]
[null,null,958,null,null,null,null,null,null,null,null,null,null,null,null,null,null,null,null,null,null,null,null,null,null,null,null,null,null,0,0,{"$f":"IFERROR(IF(J968=5,1,IF(MATCH(J968&\"/\"&N968,読み替え表_カーシェア!$P$32:$P$52,0),1,0)),0)","v":0},"*"]
[null,null,959,null,null,null,null,null,null,null,null,null,null,null,null,null,null,null,null,null,null,null,null,null,null,null,null,null,null,0,0,{"$f":"IFERROR(IF(J969=5,1,IF(MATCH(J969&\"/\"&N969,読み替え表_カーシェア!$P$32:$P$52,0),1,0)),0)","v":0},"*"]
[null,null,960,null,null,null,null,null,null,null,null,null,null,null,null,null,null,null,null,null,null,null,null,null,null,null,null,null,null,0,0,{"$f":"IFERROR(IF(J970=5,1,IF(MATCH(J970&\"/\"&N970,読み替え表_カーシェア!$P$32:$P$52,0),1,0)),0)","v":0},"*"]
[null,null,961,null,null,null,null,null,null,null,null,null,null,null,null,null,null,null,null,null,null,null,null,null,null,null,null,null,null,0,0,{"$f":"IFERROR(IF(J971=5,1,IF(MATCH(J971&\"/\"&N971,読み替え表_カーシェア!$P$32:$P$52,0),1,0)),0)","v":0},"*"]
[null,null,{"$f":"ROW()-10","v":962},null,null,null,null,null,null,null,null,null,null,null,null,null,null,null,null,null,null,null,null,null,null,null,null,null,null,{"$f":"IF(OR($N972=1,$N972=2,$N972=3),1,0)","v":0},{"$f":"IF(AND($J972=1,$L972>$M972),1,IF(AND($J972=1,$L972<$M972),2,IF(AND($J972=1,$L972=$M972),3,0)))","v":0},{"$f":"IFERROR(IF(J972=5,1,IF(MATCH(J972&\"/\"&N972,読み替え表_カーシェア!$P$32:$P$52,0),1,0)),0)","v":0},"*"]
[null,null,963,null,null,null,null,null,null,null,null,null,null,null,null,null,null,null,null,null,null,null,null,null,null,null,null,null,null,0,0,{"$f":"IFERROR(IF(J973=5,1,IF(MATCH(J973&\"/\"&N973,読み替え表_カーシェア!$P$32:$P$52,0),1,0)),0)","v":0},"*"]
[null,null,964,null,null,null,null,null,null,null,null,null,null,null,null,null,null,null,null,null,null,null,null,null,null,null,null,null,null,0,0,{"$f":"IFERROR(IF(J974=5,1,IF(MATCH(J974&\"/\"&N974,読み替え表_カーシェア!$P$32:$P$52,0),1,0)),0)","v":0},"*"]
[null,null,965,null,null,null,null,null,null,null,null,null,null,null,null,null,null,null,null,null,null,null,null,null,null,null,null,null,null,0,0,{"$f":"IFERROR(IF(J975=5,1,IF(MATCH(J975&\"/\"&N975,読み替え表_カーシェア!$P$32:$P$52,0),1,0)),0)","v":0},"*"]
[null,null,966,null,null,null,null,null,null,null,null,null,null,null,null,null,null,null,null,null,null,null,null,null,null,null,null,null,null,0,0,{"$f":"IFERROR(IF(J976=5,1,IF(MATCH(J976&\"/\"&N976,読み替え表_カーシェア!$P$32:$P$52,0),1,0)),0)","v":0},"*"]
[null,null,967,null,null,null,null,null,null,null,null,null,null,null,null,null,null,null,null,null,null,null,null,null,null,null,null,null,null,0,0,{"$f":"IFERROR(IF(J977=5,1,IF(MATCH(J977&\"/\"&N977,読み替え表_カーシェア!$P$32:$P$52,0),1,0)),0)","v":0},"*"]
[null,null,968,null,null,null,null,null,null,null,null,null,null,null,null,null,null,null,null,null,null,null,null,null,null,null,null,null,null,0,0,{"$f":"IFERROR(IF(J978=5,1,IF(MATCH(J978&\"/\"&N978,読み替え表_カーシェア!$P$32:$P$52,0),1,0)),0)","v":0},"*"]
[null,null,969,null,null,null,null,null,null,null,null,null,null,null,null,null,null,null,null,null,null,null,null,null,null,null,null,null,null,0,0,{"$f":"IFERROR(IF(J979=5,1,IF(MATCH(J979&\"/\"&N979,読み替え表_カーシェア!$P$32:$P$52,0),1,0)),0)","v":0},"*"]
[null,null,970,null,null,null,null,null,null,null,null,null,null,null,null,null,null,null,null,null,null,null,null,null,null,null,null,null,null,0,0,{"$f":"IFERROR(IF(J980=5,1,IF(MATCH(J980&\"/\"&N980,読み替え表_カーシェア!$P$32:$P$52,0),1,0)),0)","v":0},"*"]
[null,null,971,null,null,null,null,null,null,null,null,null,null,null,null,null,null,null,null,null,null,null,null,null,null,null,null,null,null,0,0,{"$f":"IFERROR(IF(J981=5,1,IF(MATCH(J981&\"/\"&N981,読み替え表_カーシェア!$P$32:$P$52,0),1,0)),0)","v":0},"*"]
[null,null,972,null,null,null,null,null,null,null,null,null,null,null,null,null,null,null,null,null,null,null,null,null,null,null,null,null,null,0,0,{"$f":"IFERROR(IF(J982=5,1,IF(MATCH(J982&\"/\"&N982,読み替え表_カーシェア!$P$32:$P$52,0),1,0)),0)","v":0},"*"]
[null,null,973,null,null,null,null,null,null,null,null,null,null,null,null,null,null,null,null,null,null,null,null,null,null,null,null,null,null,0,0,{"$f":"IFERROR(IF(J983=5,1,IF(MATCH(J983&\"/\"&N983,読み替え表_カーシェア!$P$32:$P$52,0),1,0)),0)","v":0},"*"]
[null,null,974,null,null,null,null,null,null,null,null,null,null,null,null,null,null,null,null,null,null,null,null,null,null,null,null,null,null,0,0,{"$f":"IFERROR(IF(J984=5,1,IF(MATCH(J984&\"/\"&N984,読み替え表_カーシェア!$P$32:$P$52,0),1,0)),0)","v":0},"*"]
[null,null,975,null,null,null,null,null,null,null,null,null,null,null,null,null,null,null,null,null,null,null,null,null,null,null,null,null,null,0,0,{"$f":"IFERROR(IF(J985=5,1,IF(MATCH(J985&\"/\"&N985,読み替え表_カーシェア!$P$32:$P$52,0),1,0)),0)","v":0},"*"]
[null,null,976,null,null,null,null,null,null,null,null,null,null,null,null,null,null,null,null,null,null,null,null,null,null,null,null,null,null,0,0,{"$f":"IFERROR(IF(J986=5,1,IF(MATCH(J986&\"/\"&N986,読み替え表_カーシェア!$P$32:$P$52,0),1,0)),0)","v":0},"*"]
[null,null,977,null,null,null,null,null,null,null,null,null,null,null,null,null,null,null,null,null,null,null,null,null,null,null,null,null,null,0,0,{"$f":"IFERROR(IF(J987=5,1,IF(MATCH(J987&\"/\"&N987,読み替え表_カーシェア!$P$32:$P$52,0),1,0)),0)","v":0},"*"]
[null,null,978,null,null,null,null,null,null,null,null,null,null,null,null,null,null,null,null,null,null,null,null,null,null,null,null,null,null,0,0,{"$f":"IFERROR(IF(J988=5,1,IF(MATCH(J988&\"/\"&N988,読み替え表_カーシェア!$P$32:$P$52,0),1,0)),0)","v":0},"*"]
[null,null,979,null,null,null,null,null,null,null,null,null,null,null,null,null,null,null,null,null,null,null,null,null,null,null,null,null,null,0,0,{"$f":"IFERROR(IF(J989=5,1,IF(MATCH(J989&\"/\"&N989,読み替え表_カーシェア!$P$32:$P$52,0),1,0)),0)","v":0},"*"]
[null,null,980,null,null,null,null,null,null,null,null,null,null,null,null,null,null,null,null,null,null,null,null,null,null,null,null,null,null,0,0,{"$f":"IFERROR(IF(J990=5,1,IF(MATCH(J990&\"/\"&N990,読み替え表_カーシェア!$P$32:$P$52,0),1,0)),0)","v":0},"*"]
[null,null,981,null,null,null,null,null,null,null,null,null,null,null,null,null,null,null,null,null,null,null,null,null,null,null,null,null,null,0,0,{"$f":"IFERROR(IF(J991=5,1,IF(MATCH(J991&\"/\"&N991,読み替え表_カーシェア!$P$32:$P$52,0),1,0)),0)","v":0},"*"]
[null,null,982,null,null,null,null,null,null,null,null,null,null,null,null,null,null,null,null,null,null,null,null,null,null,null,null,null,null,0,0,{"$f":"IFERROR(IF(J992=5,1,IF(MATCH(J992&\"/\"&N992,読み替え表_カーシェア!$P$32:$P$52,0),1,0)),0)","v":0},"*"]
[null,null,983,null,null,null,null,null,null,null,null,null,null,null,null,null,null,null,null,null,null,null,null,null,null,null,null,null,null,0,0,{"$f":"IFERROR(IF(J993=5,1,IF(MATCH(J993&\"/\"&N993,読み替え表_カーシェア!$P$32:$P$52,0),1,0)),0)","v":0},"*"]
[null,null,984,null,null,null,null,null,null,null,null,null,null,null,null,null,null,null,null,null,null,null,null,null,null,null,null,null,null,0,0,{"$f":"IFERROR(IF(J994=5,1,IF(MATCH(J994&\"/\"&N994,読み替え表_カーシェア!$P$32:$P$52,0),1,0)),0)","v":0},"*"]
[null,null,985,null,null,null,null,null,null,null,null,null,null,null,null,null,null,null,null,null,null,null,null,null,null,null,null,null,null,0,0,{"$f":"IFERROR(IF(J995=5,1,IF(MATCH(J995&\"/\"&N995,読み替え表_カーシェア!$P$32:$P$52,0),1,0)),0)","v":0},"*"]
[null,null,986,null,null,null,null,null,null,null,null,null,null,null,null,null,null,null,null,null,null,null,null,null,null,null,null,null,null,0,0,{"$f":"IFERROR(IF(J996=5,1,IF(MATCH(J996&\"/\"&N996,読み替え表_カーシェア!$P$32:$P$52,0),1,0)),0)","v":0},"*"]
[null,null,987,null,null,null,null,null,null,null,null,null,null,null,null,null,null,null,null,null,null,null,null,null,null,null,null,null,null,0,0,{"$f":"IFERROR(IF(J997=5,1,IF(MATCH(J997&\"/\"&N997,読み替え表_カーシェア!$P$32:$P$52,0),1,0)),0)","v":0},"*"]
[null,null,988,null,null,null,null,null,null,null,null,null,null,null,null,null,null,null,null,null,null,null,null,null,null,null,null,null,null,0,0,{"$f":"IFERROR(IF(J998=5,1,IF(MATCH(J998&\"/\"&N998,読み替え表_カーシェア!$P$32:$P$52,0),1,0)),0)","v":0},"*"]
[null,null,989,null,null,null,null,null,null,null,null,null,null,null,null,null,null,null,null,null,null,null,null,null,null,null,null,null,null,0,0,{"$f":"IFERROR(IF(J999=5,1,IF(MATCH(J999&\"/\"&N999,読み替え表_カーシェア!$P$32:$P$52,0),1,0)),0)","v":0},"*"]
[null,null,990,null,null,null,null,null,null,null,null,null,null,null,null,null,null,null,null,null,null,null,null,null,null,null,null,null,null,0,0,{"$f":"IFERROR(IF(J1000=5,1,IF(MATCH(J1000&\"/\"&N1000,読み替え表_カーシェア!$P$32:$P$52,0),1,0)),0)","v":0},"*"]
[null,null,991,null,null,null,null,null,null,null,null,null,null,null,null,null,null,null,null,null,null,null,null,null,null,null,null,null,null,0,0,{"$f":"IFERROR(IF(J1001=5,1,IF(MATCH(J1001&\"/\"&N1001,読み替え表_カーシェア!$P$32:$P$52,0),1,0)),0)","v":0},"*"]
[null,null,992,null,null,null,null,null,null,null,null,null,null,null,null,null,null,null,null,null,null,null,null,null,null,null,null,null,null,0,0,{"$f":"IFERROR(IF(J1002=5,1,IF(MATCH(J1002&\"/\"&N1002,読み替え表_カーシェア!$P$32:$P$52,0),1,0)),0)","v":0},"*"]
[null,null,993,null,null,null,null,null,null,null,null,null,null,null,null,null,null,null,null,null,null,null,null,null,null,null,null,null,null,0,0,{"$f":"IFERROR(IF(J1003=5,1,IF(MATCH(J1003&\"/\"&N1003,読み替え表_カーシェア!$P$32:$P$52,0),1,0)),0)","v":0},"*"]
[null,null,994,null,null,null,null,null,null,null,null,null,null,null,null,null,null,null,null,null,null,null,null,null,null,null,null,null,null,0,0,{"$f":"IFERROR(IF(J1004=5,1,IF(MATCH(J1004&\"/\"&N1004,読み替え表_カーシェア!$P$32:$P$52,0),1,0)),0)","v":0},"*"]
[null,null,995,null,null,null,null,null,null,null,null,null,null,null,null,null,null,null,null,null,null,null,null,null,null,null,null,null,null,0,0,{"$f":"IFERROR(IF(J1005=5,1,IF(MATCH(J1005&\"/\"&N1005,読み替え表_カーシェア!$P$32:$P$52,0),1,0)),0)","v":0},"*"]
[null,null,996,null,null,null,null,null,null,null,null,null,null,null,null,null,null,null,null,null,null,null,null,null,null,null,null,null,null,0,0,{"$f":"IFERROR(IF(J1006=5,1,IF(MATCH(J1006&\"/\"&N1006,読み替え表_カーシェア!$P$32:$P$52,0),1,0)),0)","v":0},"*"]
[null,null,997,null,null,null,null,null,null,null,null,null,null,null,null,null,null,null,null,null,null,null,null,null,null,null,null,null,null,0,0,{"$f":"IFERROR(IF(J1007=5,1,IF(MATCH(J1007&\"/\"&N1007,読み替え表_カーシェア!$P$32:$P$52,0),1,0)),0)","v":0},"*"]
[null,null,998,null,null,null,null,null,null,null,null,null,null,null,null,null,null,null,null,null,null,null,null,null,null,null,null,null,null,0,0,{"$f":"IFERROR(IF(J1008=5,1,IF(MATCH(J1008&\"/\"&N1008,読み替え表_カーシェア!$P$32:$P$52,0),1,0)),0)","v":0},"*"]
[null,null,999,null,null,null,null,null,null,null,null,null,null,null,null,null,null,null,null,null,null,null,null,null,null,null,null,null,null,0,0,{"$f":"IFERROR(IF(J1009=5,1,IF(MATCH(J1009&\"/\"&N1009,読み替え表_カーシェア!$P$32:$P$52,0),1,0)),0)","v":0},"*"]
[null,null,1000,null,null,null,null,null,null,null,null,null,null,null,null,null,null,null,null,null,null,null,null,null,null,null,null,null,null,0,0,{"$f":"IFERROR(IF(J1010=5,1,IF(MATCH(J1010&\"/\"&N1010,読み替え表_カーシェア!$P$32:$P$52,0),1,0)),0)","v":0},"*"]
[null,null,1001,null,null,null,null,null,null,null,null,null,null,null,null,null,null,null,null,null,null,null,null,null,null,null,null,null,null,0,0,{"$f":"IFERROR(IF(J1011=5,1,IF(MATCH(J1011&\"/\"&N1011,読み替え表_カーシェア!$P$32:$P$52,0),1,0)),0)","v":0},"*"]
[null,null,1002,null,null,null,null,null,null,null,null,null,null,null,null,null,null,null,null,null,null,null,null,null,null,null,null,null,null,0,0,{"$f":"IFERROR(IF(J1012=5,1,IF(MATCH(J1012&\"/\"&N1012,読み替え表_カーシェア!$P$32:$P$52,0),1,0)),0)","v":0},"*"]
[null,null,1003,null,null,null,null,null,null,null,null,null,null,null,null,null,null,null,null,null,null,null,null,null,null,null,null,null,null,0,0,{"$f":"IFERROR(IF(J1013=5,1,IF(MATCH(J1013&\"/\"&N1013,読み替え表_カーシェア!$P$32:$P$52,0),1,0)),0)","v":0},"*"]
[null,null,1004,null,null,null,null,null,null,null,null,null,null,null,null,null,null,null,null,null,null,null,null,null,null,null,null,null,null,0,0,{"$f":"IFERROR(IF(J1014=5,1,IF(MATCH(J1014&\"/\"&N1014,読み替え表_カーシェア!$P$32:$P$52,0),1,0)),0)","v":0},"*"]
[null,null,1005,null,null,null,null,null,null,null,null,null,null,null,null,null,null,null,null,null,null,null,null,null,null,null,null,null,null,0,0,{"$f":"IFERROR(IF(J1015=5,1,IF(MATCH(J1015&\"/\"&N1015,読み替え表_カーシェア!$P$32:$P$52,0),1,0)),0)","v":0},"*"]
[null,null,1006,null,null,null,null,null,null,null,null,null,null,null,null,null,null,null,null,null,null,null,null,null,null,null,null,null,null,0,0,{"$f":"IFERROR(IF(J1016=5,1,IF(MATCH(J1016&\"/\"&N1016,読み替え表_カーシェア!$P$32:$P$52,0),1,0)),0)","v":0},"*"]
[null,null,1007,null,null,null,null,null,null,null,null,null,null,null,null,null,null,null,null,null,null,null,null,null,null,null,null,null,null,0,0,{"$f":"IFERROR(IF(J1017=5,1,IF(MATCH(J1017&\"/\"&N1017,読み替え表_カーシェア!$P$32:$P$52,0),1,0)),0)","v":0},"*"]
[null,null,1008,null,null,null,null,null,null,null,null,null,null,null,null,null,null,null,null,null,null,null,null,null,null,null,null,null,null,0,0,{"$f":"IFERROR(IF(J1018=5,1,IF(MATCH(J1018&\"/\"&N1018,読み替え表_カーシェア!$P$32:$P$52,0),1,0)),0)","v":0},"*"]
[null,null,1009,null,null,null,null,null,null,null,null,null,null,null,null,null,null,null,null,null,null,null,null,null,null,null,null,null,null,0,0,{"$f":"IFERROR(IF(J1019=5,1,IF(MATCH(J1019&\"/\"&N1019,読み替え表_カーシェア!$P$32:$P$52,0),1,0)),0)","v":0},"*"]
[null,null,1010,null,null,null,null,null,null,null,null,null,null,null,null,null,null,null,null,null,null,null,null,null,null,null,null,null,null,0,0,{"$f":"IFERROR(IF(J1020=5,1,IF(MATCH(J1020&\"/\"&N1020,読み替え表_カーシェア!$P$32:$P$52,0),1,0)),0)","v":0},"*"]
[null,null,1011,null,null,null,null,null,null,null,null,null,null,null,null,null,null,null,null,null,null,null,null,null,null,null,null,null,null,0,0,{"$f":"IFERROR(IF(J1021=5,1,IF(MATCH(J1021&\"/\"&N1021,読み替え表_カーシェア!$P$32:$P$52,0),1,0)),0)","v":0},"*"]
[null,null,1012,null,null,null,null,null,null,null,null,null,null,null,null,null,null,null,null,null,null,null,null,null,null,null,null,null,null,0,0,{"$f":"IFERROR(IF(J1022=5,1,IF(MATCH(J1022&\"/\"&N1022,読み替え表_カーシェア!$P$32:$P$52,0),1,0)),0)","v":0},"*"]
[null,null,1013,null,null,null,null,null,null,null,null,null,null,null,null,null,null,null,null,null,null,null,null,null,null,null,null,null,null,0,0,{"$f":"IFERROR(IF(J1023=5,1,IF(MATCH(J1023&\"/\"&N1023,読み替え表_カーシェア!$P$32:$P$52,0),1,0)),0)","v":0},"*"]
[null,null,1014,null,null,null,null,null,null,null,null,null,null,null,null,null,null,null,null,null,null,null,null,null,null,null,null,null,null,0,0,{"$f":"IFERROR(IF(J1024=5,1,IF(MATCH(J1024&\"/\"&N1024,読み替え表_カーシェア!$P$32:$P$52,0),1,0)),0)","v":0},"*"]
[null,null,1015,null,null,null,null,null,null,null,null,null,null,null,null,null,null,null,null,null,null,null,null,null,null,null,null,null,null,0,0,{"$f":"IFERROR(IF(J1025=5,1,IF(MATCH(J1025&\"/\"&N1025,読み替え表_カーシェア!$P$32:$P$52,0),1,0)),0)","v":0},"*"]
[null,null,1016,null,null,null,null,null,null,null,null,null,null,null,null,null,null,null,null,null,null,null,null,null,null,null,null,null,null,0,0,{"$f":"IFERROR(IF(J1026=5,1,IF(MATCH(J1026&\"/\"&N1026,読み替え表_カーシェア!$P$32:$P$52,0),1,0)),0)","v":0},"*"]
[null,null,1017,null,null,null,null,null,null,null,null,null,null,null,null,null,null,null,null,null,null,null,null,null,null,null,null,null,null,0,0,{"$f":"IFERROR(IF(J1027=5,1,IF(MATCH(J1027&\"/\"&N1027,読み替え表_カーシェア!$P$32:$P$52,0),1,0)),0)","v":0},"*"]
[null,null,1018,null,null,null,null,null,null,null,null,null,null,null,null,null,null,null,null,null,null,null,null,null,null,null,null,null,null,0,0,{"$f":"IFERROR(IF(J1028=5,1,IF(MATCH(J1028&\"/\"&N1028,読み替え表_カーシェア!$P$32:$P$52,0),1,0)),0)","v":0},"*"]
[null,null,1019,null,null,null,null,null,null,null,null,null,null,null,null,null,null,null,null,null,null,null,null,null,null,null,null,null,null,0,0,{"$f":"IFERROR(IF(J1029=5,1,IF(MATCH(J1029&\"/\"&N1029,読み替え表_カーシェア!$P$32:$P$52,0),1,0)),0)","v":0},"*"]
[null,null,1020,null,null,null,null,null,null,null,null,null,null,null,null,null,null,null,null,null,null,null,null,null,null,null,null,null,null,0,0,{"$f":"IFERROR(IF(J1030=5,1,IF(MATCH(J1030&\"/\"&N1030,読み替え表_カーシェア!$P$32:$P$52,0),1,0)),0)","v":0},"*"]
[null,null,1021,null,null,null,null,null,null,null,null,null,null,null,null,null,null,null,null,null,null,null,null,null,null,null,null,null,null,0,0,{"$f":"IFERROR(IF(J1031=5,1,IF(MATCH(J1031&\"/\"&N1031,読み替え表_カーシェア!$P$32:$P$52,0),1,0)),0)","v":0},"*"]
[null,null,1022,null,null,null,null,null,null,null,null,null,null,null,null,null,null,null,null,null,null,null,null,null,null,null,null,null,null,0,0,{"$f":"IFERROR(IF(J1032=5,1,IF(MATCH(J1032&\"/\"&N1032,読み替え表_カーシェア!$P$32:$P$52,0),1,0)),0)","v":0},"*"]
[null,null,1023,null,null,null,null,null,null,null,null,null,null,null,null,null,null,null,null,null,null,null,null,null,null,null,null,null,null,0,0,{"$f":"IFERROR(IF(J1033=5,1,IF(MATCH(J1033&\"/\"&N1033,読み替え表_カーシェア!$P$32:$P$52,0),1,0)),0)","v":0},"*"]
[null,null,1024,null,null,null,null,null,null,null,null,null,null,null,null,null,null,null,null,null,null,null,null,null,null,null,null,null,null,0,0,{"$f":"IFERROR(IF(J1034=5,1,IF(MATCH(J1034&\"/\"&N1034,読み替え表_カーシェア!$P$32:$P$52,0),1,0)),0)","v":0},"*"]
[null,null,1025,null,null,null,null,null,null,null,null,null,null,null,null,null,null,null,null,null,null,null,null,null,null,null,null,null,null,0,0,{"$f":"IFERROR(IF(J1035=5,1,IF(MATCH(J1035&\"/\"&N1035,読み替え表_カーシェア!$P$32:$P$52,0),1,0)),0)","v":0},"*"]
[null,null,{"$f":"ROW()-10","v":1026},null,null,null,null,null,null,null,null,null,null,null,null,null,null,null,null,null,null,null,null,null,null,null,null,null,null,{"$f":"IF(OR($N1036=1,$N1036=2,$N1036=3),1,0)","v":0},{"$f":"IF(AND($J1036=1,$L1036>$M1036),1,IF(AND($J1036=1,$L1036<$M1036),2,IF(AND($J1036=1,$L1036=$M1036),3,0)))","v":0},{"$f":"IFERROR(IF(J1036=5,1,IF(MATCH(J1036&\"/\"&N1036,読み替え表_カーシェア!$P$32:$P$52,0),1,0)),0)","v":0},"*"]
[null,null,1027,null,null,null,null,null,null,null,null,null,null,null,null,null,null,null,null,null,null,null,null,null,null,null,null,null,null,0,0,{"$f":"IFERROR(IF(J1037=5,1,IF(MATCH(J1037&\"/\"&N1037,読み替え表_カーシェア!$P$32:$P$52,0),1,0)),0)","v":0},"*"]
[null,null,1028,null,null,null,null,null,null,null,null,null,null,null,null,null,null,null,null,null,null,null,null,null,null,null,null,null,null,0,0,{"$f":"IFERROR(IF(J1038=5,1,IF(MATCH(J1038&\"/\"&N1038,読み替え表_カーシェア!$P$32:$P$52,0),1,0)),0)","v":0},"*"]
[null,null,1029,null,null,null,null,null,null,null,null,null,null,null,null,null,null,null,null,null,null,null,null,null,null,null,null,null,null,0,0,{"$f":"IFERROR(IF(J1039=5,1,IF(MATCH(J1039&\"/\"&N1039,読み替え表_カーシェア!$P$32:$P$52,0),1,0)),0)","v":0},"*"]
[null,null,1030,null,null,null,null,null,null,null,null,null,null,null,null,null,null,null,null,null,null,null,null,null,null,null,null,null,null,0,0,{"$f":"IFERROR(IF(J1040=5,1,IF(MATCH(J1040&\"/\"&N1040,読み替え表_カーシェア!$P$32:$P$52,0),1,0)),0)","v":0},"*"]
[null,null,1031,null,null,null,null,null,null,null,null,null,null,null,null,null,null,null,null,null,null,null,null,null,null,null,null,null,null,0,0,{"$f":"IFERROR(IF(J1041=5,1,IF(MATCH(J1041&\"/\"&N1041,読み替え表_カーシェア!$P$32:$P$52,0),1,0)),0)","v":0},"*"]
[null,null,1032,null,null,null,null,null,null,null,null,null,null,null,null,null,null,null,null,null,null,null,null,null,null,null,null,null,null,0,0,{"$f":"IFERROR(IF(J1042=5,1,IF(MATCH(J1042&\"/\"&N1042,読み替え表_カーシェア!$P$32:$P$52,0),1,0)),0)","v":0},"*"]
[null,null,1033,null,null,null,null,null,null,null,null,null,null,null,null,null,null,null,null,null,null,null,null,null,null,null,null,null,null,0,0,{"$f":"IFERROR(IF(J1043=5,1,IF(MATCH(J1043&\"/\"&N1043,読み替え表_カーシェア!$P$32:$P$52,0),1,0)),0)","v":0},"*"]
[null,null,1034,null,null,null,null,null,null,null,null,null,null,null,null,null,null,null,null,null,null,null,null,null,null,null,null,null,null,0,0,{"$f":"IFERROR(IF(J1044=5,1,IF(MATCH(J1044&\"/\"&N1044,読み替え表_カーシェア!$P$32:$P$52,0),1,0)),0)","v":0},"*"]
[null,null,1035,null,null,null,null,null,null,null,null,null,null,null,null,null,null,null,null,null,null,null,null,null,null,null,null,null,null,0,0,{"$f":"IFERROR(IF(J1045=5,1,IF(MATCH(J1045&\"/\"&N1045,読み替え表_カーシェア!$P$32:$P$52,0),1,0)),0)","v":0},"*"]
[null,null,1036,null,null,null,null,null,null,null,null,null,null,null,null,null,null,null,null,null,null,null,null,null,null,null,null,null,null,0,0,{"$f":"IFERROR(IF(J1046=5,1,IF(MATCH(J1046&\"/\"&N1046,読み替え表_カーシェア!$P$32:$P$52,0),1,0)),0)","v":0},"*"]
[null,null,1037,null,null,null,null,null,null,null,null,null,null,null,null,null,null,null,null,null,null,null,null,null,null,null,null,null,null,0,0,{"$f":"IFERROR(IF(J1047=5,1,IF(MATCH(J1047&\"/\"&N1047,読み替え表_カーシェア!$P$32:$P$52,0),1,0)),0)","v":0},"*"]
[null,null,1038,null,null,null,null,null,null,null,null,null,null,null,null,null,null,null,null,null,null,null,null,null,null,null,null,null,null,0,0,{"$f":"IFERROR(IF(J1048=5,1,IF(MATCH(J1048&\"/\"&N1048,読み替え表_カーシェア!$P$32:$P$52,0),1,0)),0)","v":0},"*"]
[null,null,1039,null,null,null,null,null,null,null,null,null,null,null,null,null,null,null,null,null,null,null,null,null,null,null,null,null,null,0,0,{"$f":"IFERROR(IF(J1049=5,1,IF(MATCH(J1049&\"/\"&N1049,読み替え表_カーシェア!$P$32:$P$52,0),1,0)),0)","v":0},"*"]
[null,null,1040,null,null,null,null,null,null,null,null,null,null,null,null,null,null,null,null,null,null,null,null,null,null,null,null,null,null,0,0,{"$f":"IFERROR(IF(J1050=5,1,IF(MATCH(J1050&\"/\"&N1050,読み替え表_カーシェア!$P$32:$P$52,0),1,0)),0)","v":0},"*"]
[null,null,1041,null,null,null,null,null,null,null,null,null,null,null,null,null,null,null,null,null,null,null,null,null,null,null,null,null,null,0,0,{"$f":"IFERROR(IF(J1051=5,1,IF(MATCH(J1051&\"/\"&N1051,読み替え表_カーシェア!$P$32:$P$52,0),1,0)),0)","v":0},"*"]
[null,null,1042,null,null,null,null,null,null,null,null,null,null,null,null,null,null,null,null,null,null,null,null,null,null,null,null,null,null,0,0,{"$f":"IFERROR(IF(J1052=5,1,IF(MATCH(J1052&\"/\"&N1052,読み替え表_カーシェア!$P$32:$P$52,0),1,0)),0)","v":0},"*"]
[null,null,1043,null,null,null,null,null,null,null,null,null,null,null,null,null,null,null,null,null,null,null,null,null,null,null,null,null,null,0,0,{"$f":"IFERROR(IF(J1053=5,1,IF(MATCH(J1053&\"/\"&N1053,読み替え表_カーシェア!$P$32:$P$52,0),1,0)),0)","v":0},"*"]
[null,null,1044,null,null,null,null,null,null,null,null,null,null,null,null,null,null,null,null,null,null,null,null,null,null,null,null,null,null,0,0,{"$f":"IFERROR(IF(J1054=5,1,IF(MATCH(J1054&\"/\"&N1054,読み替え表_カーシェア!$P$32:$P$52,0),1,0)),0)","v":0},"*"]
[null,null,1045,null,null,null,null,null,null,null,null,null,null,null,null,null,null,null,null,null,null,null,null,null,null,null,null,null,null,0,0,{"$f":"IFERROR(IF(J1055=5,1,IF(MATCH(J1055&\"/\"&N1055,読み替え表_カーシェア!$P$32:$P$52,0),1,0)),0)","v":0},"*"]
[null,null,1046,null,null,null,null,null,null,null,null,null,null,null,null,null,null,null,null,null,null,null,null,null,null,null,null,null,null,0,0,{"$f":"IFERROR(IF(J1056=5,1,IF(MATCH(J1056&\"/\"&N1056,読み替え表_カーシェア!$P$32:$P$52,0),1,0)),0)","v":0},"*"]
[null,null,1047,null,null,null,null,null,null,null,null,null,null,null,null,null,null,null,null,null,null,null,null,null,null,null,null,null,null,0,0,{"$f":"IFERROR(IF(J1057=5,1,IF(MATCH(J1057&\"/\"&N1057,読み替え表_カーシェア!$P$32:$P$52,0),1,0)),0)","v":0},"*"]
[null,null,1048,null,null,null,null,null,null,null,null,null,null,null,null,null,null,null,null,null,null,null,null,null,null,null,null,null,null,0,0,{"$f":"IFERROR(IF(J1058=5,1,IF(MATCH(J1058&\"/\"&N1058,読み替え表_カーシェア!$P$32:$P$52,0),1,0)),0)","v":0},"*"]
[null,null,1049,null,null,null,null,null,null,null,null,null,null,null,null,null,null,null,null,null,null,null,null,null,null,null,null,null,null,0,0,{"$f":"IFERROR(IF(J1059=5,1,IF(MATCH(J1059&\"/\"&N1059,読み替え表_カーシェア!$P$32:$P$52,0),1,0)),0)","v":0},"*"]
[null,null,1050,null,null,null,null,null,null,null,null,null,null,null,null,null,null,null,null,null,null,null,null,null,null,null,null,null,null,0,0,{"$f":"IFERROR(IF(J1060=5,1,IF(MATCH(J1060&\"/\"&N1060,読み替え表_カーシェア!$P$32:$P$52,0),1,0)),0)","v":0},"*"]
[null,null,1051,null,null,null,null,null,null,null,null,null,null,null,null,null,null,null,null,null,null,null,null,null,null,null,null,null,null,0,0,{"$f":"IFERROR(IF(J1061=5,1,IF(MATCH(J1061&\"/\"&N1061,読み替え表_カーシェア!$P$32:$P$52,0),1,0)),0)","v":0},"*"]
[null,null,1052,null,null,null,null,null,null,null,null,null,null,null,null,null,null,null,null,null,null,null,null,null,null,null,null,null,null,0,0,{"$f":"IFERROR(IF(J1062=5,1,IF(MATCH(J1062&\"/\"&N1062,読み替え表_カーシェア!$P$32:$P$52,0),1,0)),0)","v":0},"*"]
[null,null,1053,null,null,null,null,null,null,null,null,null,null,null,null,null,null,null,null,null,null,null,null,null,null,null,null,null,null,0,0,{"$f":"IFERROR(IF(J1063=5,1,IF(MATCH(J1063&\"/\"&N1063,読み替え表_カーシェア!$P$32:$P$52,0),1,0)),0)","v":0},"*"]
[null,null,1054,null,null,null,null,null,null,null,null,null,null,null,null,null,null,null,null,null,null,null,null,null,null,null,null,null,null,0,0,{"$f":"IFERROR(IF(J1064=5,1,IF(MATCH(J1064&\"/\"&N1064,読み替え表_カーシェア!$P$32:$P$52,0),1,0)),0)","v":0},"*"]
[null,null,1055,null,null,null,null,null,null,null,null,null,null,null,null,null,null,null,null,null,null,null,null,null,null,null,null,null,null,0,0,{"$f":"IFERROR(IF(J1065=5,1,IF(MATCH(J1065&\"/\"&N1065,読み替え表_カーシェア!$P$32:$P$52,0),1,0)),0)","v":0},"*"]
[null,null,1056,null,null,null,null,null,null,null,null,null,null,null,null,null,null,null,null,null,null,null,null,null,null,null,null,null,null,0,0,{"$f":"IFERROR(IF(J1066=5,1,IF(MATCH(J1066&\"/\"&N1066,読み替え表_カーシェア!$P$32:$P$52,0),1,0)),0)","v":0},"*"]
[null,null,1057,null,null,null,null,null,null,null,null,null,null,null,null,null,null,null,null,null,null,null,null,null,null,null,null,null,null,0,0,{"$f":"IFERROR(IF(J1067=5,1,IF(MATCH(J1067&\"/\"&N1067,読み替え表_カーシェア!$P$32:$P$52,0),1,0)),0)","v":0},"*"]
[null,null,1058,null,null,null,null,null,null,null,null,null,null,null,null,null,null,null,null,null,null,null,null,null,null,null,null,null,null,0,0,{"$f":"IFERROR(IF(J1068=5,1,IF(MATCH(J1068&\"/\"&N1068,読み替え表_カーシェア!$P$32:$P$52,0),1,0)),0)","v":0},"*"]
[null,null,1059,null,null,null,null,null,null,null,null,null,null,null,null,null,null,null,null,null,null,null,null,null,null,null,null,null,null,0,0,{"$f":"IFERROR(IF(J1069=5,1,IF(MATCH(J1069&\"/\"&N1069,読み替え表_カーシェア!$P$32:$P$52,0),1,0)),0)","v":0},"*"]
[null,null,1060,null,null,null,null,null,null,null,null,null,null,null,null,null,null,null,null,null,null,null,null,null,null,null,null,null,null,0,0,{"$f":"IFERROR(IF(J1070=5,1,IF(MATCH(J1070&\"/\"&N1070,読み替え表_カーシェア!$P$32:$P$52,0),1,0)),0)","v":0},"*"]
[null,null,1061,null,null,null,null,null,null,null,null,null,null,null,null,null,null,null,null,null,null,null,null,null,null,null,null,null,null,0,0,{"$f":"IFERROR(IF(J1071=5,1,IF(MATCH(J1071&\"/\"&N1071,読み替え表_カーシェア!$P$32:$P$52,0),1,0)),0)","v":0},"*"]
[null,null,1062,null,null,null,null,null,null,null,null,null,null,null,null,null,null,null,null,null,null,null,null,null,null,null,null,null,null,0,0,{"$f":"IFERROR(IF(J1072=5,1,IF(MATCH(J1072&\"/\"&N1072,読み替え表_カーシェア!$P$32:$P$52,0),1,0)),0)","v":0},"*"]
[null,null,1063,null,null,null,null,null,null,null,null,null,null,null,null,null,null,null,null,null,null,null,null,null,null,null,null,null,null,0,0,{"$f":"IFERROR(IF(J1073=5,1,IF(MATCH(J1073&\"/\"&N1073,読み替え表_カーシェア!$P$32:$P$52,0),1,0)),0)","v":0},"*"]
[null,null,1064,null,null,null,null,null,null,null,null,null,null,null,null,null,null,null,null,null,null,null,null,null,null,null,null,null,null,0,0,{"$f":"IFERROR(IF(J1074=5,1,IF(MATCH(J1074&\"/\"&N1074,読み替え表_カーシェア!$P$32:$P$52,0),1,0)),0)","v":0},"*"]
[null,null,1065,null,null,null,null,null,null,null,null,null,null,null,null,null,null,null,null,null,null,null,null,null,null,null,null,null,null,0,0,{"$f":"IFERROR(IF(J1075=5,1,IF(MATCH(J1075&\"/\"&N1075,読み替え表_カーシェア!$P$32:$P$52,0),1,0)),0)","v":0},"*"]
[null,null,1066,null,null,null,null,null,null,null,null,null,null,null,null,null,null,null,null,null,null,null,null,null,null,null,null,null,null,0,0,{"$f":"IFERROR(IF(J1076=5,1,IF(MATCH(J1076&\"/\"&N1076,読み替え表_カーシェア!$P$32:$P$52,0),1,0)),0)","v":0},"*"]
[null,null,1067,null,null,null,null,null,null,null,null,null,null,null,null,null,null,null,null,null,null,null,null,null,null,null,null,null,null,0,0,{"$f":"IFERROR(IF(J1077=5,1,IF(MATCH(J1077&\"/\"&N1077,読み替え表_カーシェア!$P$32:$P$52,0),1,0)),0)","v":0},"*"]
[null,null,1068,null,null,null,null,null,null,null,null,null,null,null,null,null,null,null,null,null,null,null,null,null,null,null,null,null,null,0,0,{"$f":"IFERROR(IF(J1078=5,1,IF(MATCH(J1078&\"/\"&N1078,読み替え表_カーシェア!$P$32:$P$52,0),1,0)),0)","v":0},"*"]
[null,null,1069,null,null,null,null,null,null,null,null,null,null,null,null,null,null,null,null,null,null,null,null,null,null,null,null,null,null,0,0,{"$f":"IFERROR(IF(J1079=5,1,IF(MATCH(J1079&\"/\"&N1079,読み替え表_カーシェア!$P$32:$P$52,0),1,0)),0)","v":0},"*"]
[null,null,1070,null,null,null,null,null,null,null,null,null,null,null,null,null,null,null,null,null,null,null,null,null,null,null,null,null,null,0,0,{"$f":"IFERROR(IF(J1080=5,1,IF(MATCH(J1080&\"/\"&N1080,読み替え表_カーシェア!$P$32:$P$52,0),1,0)),0)","v":0},"*"]
[null,null,1071,null,null,null,null,null,null,null,null,null,null,null,null,null,null,null,null,null,null,null,null,null,null,null,null,null,null,0,0,{"$f":"IFERROR(IF(J1081=5,1,IF(MATCH(J1081&\"/\"&N1081,読み替え表_カーシェア!$P$32:$P$52,0),1,0)),0)","v":0},"*"]
[null,null,1072,null,null,null,null,null,null,null,null,null,null,null,null,null,null,null,null,null,null,null,null,null,null,null,null,null,null,0,0,{"$f":"IFERROR(IF(J1082=5,1,IF(MATCH(J1082&\"/\"&N1082,読み替え表_カーシェア!$P$32:$P$52,0),1,0)),0)","v":0},"*"]
[null,null,1073,null,null,null,null,null,null,null,null,null,null,null,null,null,null,null,null,null,null,null,null,null,null,null,null,null,null,0,0,{"$f":"IFERROR(IF(J1083=5,1,IF(MATCH(J1083&\"/\"&N1083,読み替え表_カーシェア!$P$32:$P$52,0),1,0)),0)","v":0},"*"]
[null,null,1074,null,null,null,null,null,null,null,null,null,null,null,null,null,null,null,null,null,null,null,null,null,null,null,null,null,null,0,0,{"$f":"IFERROR(IF(J1084=5,1,IF(MATCH(J1084&\"/\"&N1084,読み替え表_カーシェア!$P$32:$P$52,0),1,0)),0)","v":0},"*"]
[null,null,1075,null,null,null,null,null,null,null,null,null,null,null,null,null,null,null,null,null,null,null,null,null,null,null,null,null,null,0,0,{"$f":"IFERROR(IF(J1085=5,1,IF(MATCH(J1085&\"/\"&N1085,読み替え表_カーシェア!$P$32:$P$52,0),1,0)),0)","v":0},"*"]
[null,null,1076,null,null,null,null,null,null,null,null,null,null,null,null,null,null,null,null,null,null,null,null,null,null,null,null,null,null,0,0,{"$f":"IFERROR(IF(J1086=5,1,IF(MATCH(J1086&\"/\"&N1086,読み替え表_カーシェア!$P$32:$P$52,0),1,0)),0)","v":0},"*"]
[null,null,1077,null,null,null,null,null,null,null,null,null,null,null,null,null,null,null,null,null,null,null,null,null,null,null,null,null,null,0,0,{"$f":"IFERROR(IF(J1087=5,1,IF(MATCH(J1087&\"/\"&N1087,読み替え表_カーシェア!$P$32:$P$52,0),1,0)),0)","v":0},"*"]
[null,null,1078,null,null,null,null,null,null,null,null,null,null,null,null,null,null,null,null,null,null,null,null,null,null,null,null,null,null,0,0,{"$f":"IFERROR(IF(J1088=5,1,IF(MATCH(J1088&\"/\"&N1088,読み替え表_カーシェア!$P$32:$P$52,0),1,0)),0)","v":0},"*"]
[null,null,1079,null,null,null,null,null,null,null,null,null,null,null,null,null,null,null,null,null,null,null,null,null,null,null,null,null,null,0,0,{"$f":"IFERROR(IF(J1089=5,1,IF(MATCH(J1089&\"/\"&N1089,読み替え表_カーシェア!$P$32:$P$52,0),1,0)),0)","v":0},"*"]
[null,null,1080,null,null,null,null,null,null,null,null,null,null,null,null,null,null,null,null,null,null,null,null,null,null,null,null,null,null,0,0,{"$f":"IFERROR(IF(J1090=5,1,IF(MATCH(J1090&\"/\"&N1090,読み替え表_カーシェア!$P$32:$P$52,0),1,0)),0)","v":0},"*"]
[null,null,1081,null,null,null,null,null,null,null,null,null,null,null,null,null,null,null,null,null,null,null,null,null,null,null,null,null,null,0,0,{"$f":"IFERROR(IF(J1091=5,1,IF(MATCH(J1091&\"/\"&N1091,読み替え表_カーシェア!$P$32:$P$52,0),1,0)),0)","v":0},"*"]
[null,null,1082,null,null,null,null,null,null,null,null,null,null,null,null,null,null,null,null,null,null,null,null,null,null,null,null,null,null,0,0,{"$f":"IFERROR(IF(J1092=5,1,IF(MATCH(J1092&\"/\"&N1092,読み替え表_カーシェア!$P$32:$P$52,0),1,0)),0)","v":0},"*"]
[null,null,1083,null,null,null,null,null,null,null,null,null,null,null,null,null,null,null,null,null,null,null,null,null,null,null,null,null,null,0,0,{"$f":"IFERROR(IF(J1093=5,1,IF(MATCH(J1093&\"/\"&N1093,読み替え表_カーシェア!$P$32:$P$52,0),1,0)),0)","v":0},"*"]
[null,null,1084,null,null,null,null,null,null,null,null,null,null,null,null,null,null,null,null,null,null,null,null,null,null,null,null,null,null,0,0,{"$f":"IFERROR(IF(J1094=5,1,IF(MATCH(J1094&\"/\"&N1094,読み替え表_カーシェア!$P$32:$P$52,0),1,0)),0)","v":0},"*"]
[null,null,1085,null,null,null,null,null,null,null,null,null,null,null,null,null,null,null,null,null,null,null,null,null,null,null,null,null,null,0,0,{"$f":"IFERROR(IF(J1095=5,1,IF(MATCH(J1095&\"/\"&N1095,読み替え表_カーシェア!$P$32:$P$52,0),1,0)),0)","v":0},"*"]
[null,null,1086,null,null,null,null,null,null,null,null,null,null,null,null,null,null,null,null,null,null,null,null,null,null,null,null,null,null,0,0,{"$f":"IFERROR(IF(J1096=5,1,IF(MATCH(J1096&\"/\"&N1096,読み替え表_カーシェア!$P$32:$P$52,0),1,0)),0)","v":0},"*"]
[null,null,1087,null,null,null,null,null,null,null,null,null,null,null,null,null,null,null,null,null,null,null,null,null,null,null,null,null,null,0,0,{"$f":"IFERROR(IF(J1097=5,1,IF(MATCH(J1097&\"/\"&N1097,読み替え表_カーシェア!$P$32:$P$52,0),1,0)),0)","v":0},"*"]
[null,null,1088,null,null,null,null,null,null,null,null,null,null,null,null,null,null,null,null,null,null,null,null,null,null,null,null,null,null,0,0,{"$f":"IFERROR(IF(J1098=5,1,IF(MATCH(J1098&\"/\"&N1098,読み替え表_カーシェア!$P$32:$P$52,0),1,0)),0)","v":0},"*"]
[null,null,1089,null,null,null,null,null,null,null,null,null,null,null,null,null,null,null,null,null,null,null,null,null,null,null,null,null,null,0,0,{"$f":"IFERROR(IF(J1099=5,1,IF(MATCH(J1099&\"/\"&N1099,読み替え表_カーシェア!$P$32:$P$52,0),1,0)),0)","v":0},"*"]
[null,null,{"$f":"ROW()-10","v":1090},null,null,null,null,null,null,null,null,null,null,null,null,null,null,null,null,null,null,null,null,null,null,null,null,null,null,{"$f":"IF(OR($N1100=1,$N1100=2,$N1100=3),1,0)","v":0},{"$f":"IF(AND($J1100=1,$L1100>$M1100),1,IF(AND($J1100=1,$L1100<$M1100),2,IF(AND($J1100=1,$L1100=$M1100),3,0)))","v":0},{"$f":"IFERROR(IF(J1100=5,1,IF(MATCH(J1100&\"/\"&N1100,読み替え表_カーシェア!$P$32:$P$52,0),1,0)),0)","v":0},"*"]
[null,null,1091,null,null,null,null,null,null,null,null,null,null,null,null,null,null,null,null,null,null,null,null,null,null,null,null,null,null,0,0,{"$f":"IFERROR(IF(J1101=5,1,IF(MATCH(J1101&\"/\"&N1101,読み替え表_カーシェア!$P$32:$P$52,0),1,0)),0)","v":0},"*"]
[null,null,1092,null,null,null,null,null,null,null,null,null,null,null,null,null,null,null,null,null,null,null,null,null,null,null,null,null,null,0,0,{"$f":"IFERROR(IF(J1102=5,1,IF(MATCH(J1102&\"/\"&N1102,読み替え表_カーシェア!$P$32:$P$52,0),1,0)),0)","v":0},"*"]
[null,null,1093,null,null,null,null,null,null,null,null,null,null,null,null,null,null,null,null,null,null,null,null,null,null,null,null,null,null,0,0,{"$f":"IFERROR(IF(J1103=5,1,IF(MATCH(J1103&\"/\"&N1103,読み替え表_カーシェア!$P$32:$P$52,0),1,0)),0)","v":0},"*"]
[null,null,1094,null,null,null,null,null,null,null,null,null,null,null,null,null,null,null,null,null,null,null,null,null,null,null,null,null,null,0,0,{"$f":"IFERROR(IF(J1104=5,1,IF(MATCH(J1104&\"/\"&N1104,読み替え表_カーシェア!$P$32:$P$52,0),1,0)),0)","v":0},"*"]
[null,null,1095,null,null,null,null,null,null,null,null,null,null,null,null,null,null,null,null,null,null,null,null,null,null,null,null,null,null,0,0,{"$f":"IFERROR(IF(J1105=5,1,IF(MATCH(J1105&\"/\"&N1105,読み替え表_カーシェア!$P$32:$P$52,0),1,0)),0)","v":0},"*"]
[null,null,1096,null,null,null,null,null,null,null,null,null,null,null,null,null,null,null,null,null,null,null,null,null,null,null,null,null,null,0,0,{"$f":"IFERROR(IF(J1106=5,1,IF(MATCH(J1106&\"/\"&N1106,読み替え表_カーシェア!$P$32:$P$52,0),1,0)),0)","v":0},"*"]
[null,null,1097,null,null,null,null,null,null,null,null,null,null,null,null,null,null,null,null,null,null,null,null,null,null,null,null,null,null,0,0,{"$f":"IFERROR(IF(J1107=5,1,IF(MATCH(J1107&\"/\"&N1107,読み替え表_カーシェア!$P$32:$P$52,0),1,0)),0)","v":0},"*"]
[null,null,1098,null,null,null,null,null,null,null,null,null,null,null,null,null,null,null,null,null,null,null,null,null,null,null,null,null,null,0,0,{"$f":"IFERROR(IF(J1108=5,1,IF(MATCH(J1108&\"/\"&N1108,読み替え表_カーシェア!$P$32:$P$52,0),1,0)),0)","v":0},"*"]
[null,null,1099,null,null,null,null,null,null,null,null,null,null,null,null,null,null,null,null,null,null,null,null,null,null,null,null,null,null,0,0,{"$f":"IFERROR(IF(J1109=5,1,IF(MATCH(J1109&\"/\"&N1109,読み替え表_カーシェア!$P$32:$P$52,0),1,0)),0)","v":0},"*"]
[null,null,1100,null,null,null,null,null,null,null,null,null,null,null,null,null,null,null,null,null,null,null,null,null,null,null,null,null,null,0,0,{"$f":"IFERROR(IF(J1110=5,1,IF(MATCH(J1110&\"/\"&N1110,読み替え表_カーシェア!$P$32:$P$52,0),1,0)),0)","v":0},"*"]
[null,null,1101,null,null,null,null,null,null,null,null,null,null,null,null,null,null,null,null,null,null,null,null,null,null,null,null,null,null,0,0,{"$f":"IFERROR(IF(J1111=5,1,IF(MATCH(J1111&\"/\"&N1111,読み替え表_カーシェア!$P$32:$P$52,0),1,0)),0)","v":0},"*"]
[null,null,1102,null,null,null,null,null,null,null,null,null,null,null,null,null,null,null,null,null,null,null,null,null,null,null,null,null,null,0,0,{"$f":"IFERROR(IF(J1112=5,1,IF(MATCH(J1112&\"/\"&N1112,読み替え表_カーシェア!$P$32:$P$52,0),1,0)),0)","v":0},"*"]
[null,null,1103,null,null,null,null,null,null,null,null,null,null,null,null,null,null,null,null,null,null,null,null,null,null,null,null,null,null,0,0,{"$f":"IFERROR(IF(J1113=5,1,IF(MATCH(J1113&\"/\"&N1113,読み替え表_カーシェア!$P$32:$P$52,0),1,0)),0)","v":0},"*"]
[null,null,1104,null,null,null,null,null,null,null,null,null,null,null,null,null,null,null,null,null,null,null,null,null,null,null,null,null,null,0,0,{"$f":"IFERROR(IF(J1114=5,1,IF(MATCH(J1114&\"/\"&N1114,読み替え表_カーシェア!$P$32:$P$52,0),1,0)),0)","v":0},"*"]
[null,null,1105,null,null,null,null,null,null,null,null,null,null,null,null,null,null,null,null,null,null,null,null,null,null,null,null,null,null,0,0,{"$f":"IFERROR(IF(J1115=5,1,IF(MATCH(J1115&\"/\"&N1115,読み替え表_カーシェア!$P$32:$P$52,0),1,0)),0)","v":0},"*"]
[null,null,1106,null,null,null,null,null,null,null,null,null,null,null,null,null,null,null,null,null,null,null,null,null,null,null,null,null,null,0,0,{"$f":"IFERROR(IF(J1116=5,1,IF(MATCH(J1116&\"/\"&N1116,読み替え表_カーシェア!$P$32:$P$52,0),1,0)),0)","v":0},"*"]
[null,null,1107,null,null,null,null,null,null,null,null,null,null,null,null,null,null,null,null,null,null,null,null,null,null,null,null,null,null,0,0,{"$f":"IFERROR(IF(J1117=5,1,IF(MATCH(J1117&\"/\"&N1117,読み替え表_カーシェア!$P$32:$P$52,0),1,0)),0)","v":0},"*"]
[null,null,1108,null,null,null,null,null,null,null,null,null,null,null,null,null,null,null,null,null,null,null,null,null,null,null,null,null,null,0,0,{"$f":"IFERROR(IF(J1118=5,1,IF(MATCH(J1118&\"/\"&N1118,読み替え表_カーシェア!$P$32:$P$52,0),1,0)),0)","v":0},"*"]
[null,null,1109,null,null,null,null,null,null,null,null,null,null,null,null,null,null,null,null,null,null,null,null,null,null,null,null,null,null,0,0,{"$f":"IFERROR(IF(J1119=5,1,IF(MATCH(J1119&\"/\"&N1119,読み替え表_カーシェア!$P$32:$P$52,0),1,0)),0)","v":0},"*"]
[null,null,1110,null,null,null,null,null,null,null,null,null,null,null,null,null,null,null,null,null,null,null,null,null,null,null,null,null,null,0,0,{"$f":"IFERROR(IF(J1120=5,1,IF(MATCH(J1120&\"/\"&N1120,読み替え表_カーシェア!$P$32:$P$52,0),1,0)),0)","v":0},"*"]
[null,null,1111,null,null,null,null,null,null,null,null,null,null,null,null,null,null,null,null,null,null,null,null,null,null,null,null,null,null,0,0,{"$f":"IFERROR(IF(J1121=5,1,IF(MATCH(J1121&\"/\"&N1121,読み替え表_カーシェア!$P$32:$P$52,0),1,0)),0)","v":0},"*"]
[null,null,1112,null,null,null,null,null,null,null,null,null,null,null,null,null,null,null,null,null,null,null,null,null,null,null,null,null,null,0,0,{"$f":"IFERROR(IF(J1122=5,1,IF(MATCH(J1122&\"/\"&N1122,読み替え表_カーシェア!$P$32:$P$52,0),1,0)),0)","v":0},"*"]
[null,null,1113,null,null,null,null,null,null,null,null,null,null,null,null,null,null,null,null,null,null,null,null,null,null,null,null,null,null,0,0,{"$f":"IFERROR(IF(J1123=5,1,IF(MATCH(J1123&\"/\"&N1123,読み替え表_カーシェア!$P$32:$P$52,0),1,0)),0)","v":0},"*"]
[null,null,1114,null,null,null,null,null,null,null,null,null,null,null,null,null,null,null,null,null,null,null,null,null,null,null,null,null,null,0,0,{"$f":"IFERROR(IF(J1124=5,1,IF(MATCH(J1124&\"/\"&N1124,読み替え表_カーシェア!$P$32:$P$52,0),1,0)),0)","v":0},"*"]
[null,null,1115,null,null,null,null,null,null,null,null,null,null,null,null,null,null,null,null,null,null,null,null,null,null,null,null,null,null,0,0,{"$f":"IFERROR(IF(J1125=5,1,IF(MATCH(J1125&\"/\"&N1125,読み替え表_カーシェア!$P$32:$P$52,0),1,0)),0)","v":0},"*"]
[null,null,1116,null,null,null,null,null,null,null,null,null,null,null,null,null,null,null,null,null,null,null,null,null,null,null,null,null,null,0,0,{"$f":"IFERROR(IF(J1126=5,1,IF(MATCH(J1126&\"/\"&N1126,読み替え表_カーシェア!$P$32:$P$52,0),1,0)),0)","v":0},"*"]
[null,null,1117,null,null,null,null,null,null,null,null,null,null,null,null,null,null,null,null,null,null,null,null,null,null,null,null,null,null,0,0,{"$f":"IFERROR(IF(J1127=5,1,IF(MATCH(J1127&\"/\"&N1127,読み替え表_カーシェア!$P$32:$P$52,0),1,0)),0)","v":0},"*"]
[null,null,1118,null,null,null,null,null,null,null,null,null,null,null,null,null,null,null,null,null,null,null,null,null,null,null,null,null,null,0,0,{"$f":"IFERROR(IF(J1128=5,1,IF(MATCH(J1128&\"/\"&N1128,読み替え表_カーシェア!$P$32:$P$52,0),1,0)),0)","v":0},"*"]
[null,null,1119,null,null,null,null,null,null,null,null,null,null,null,null,null,null,null,null,null,null,null,null,null,null,null,null,null,null,0,0,{"$f":"IFERROR(IF(J1129=5,1,IF(MATCH(J1129&\"/\"&N1129,読み替え表_カーシェア!$P$32:$P$52,0),1,0)),0)","v":0},"*"]
[null,null,1120,null,null,null,null,null,null,null,null,null,null,null,null,null,null,null,null,null,null,null,null,null,null,null,null,null,null,0,0,{"$f":"IFERROR(IF(J1130=5,1,IF(MATCH(J1130&\"/\"&N1130,読み替え表_カーシェア!$P$32:$P$52,0),1,0)),0)","v":0},"*"]
[null,null,1121,null,null,null,null,null,null,null,null,null,null,null,null,null,null,null,null,null,null,null,null,null,null,null,null,null,null,0,0,{"$f":"IFERROR(IF(J1131=5,1,IF(MATCH(J1131&\"/\"&N1131,読み替え表_カーシェア!$P$32:$P$52,0),1,0)),0)","v":0},"*"]
[null,null,1122,null,null,null,null,null,null,null,null,null,null,null,null,null,null,null,null,null,null,null,null,null,null,null,null,null,null,0,0,{"$f":"IFERROR(IF(J1132=5,1,IF(MATCH(J1132&\"/\"&N1132,読み替え表_カーシェア!$P$32:$P$52,0),1,0)),0)","v":0},"*"]
[null,null,1123,null,null,null,null,null,null,null,null,null,null,null,null,null,null,null,null,null,null,null,null,null,null,null,null,null,null,0,0,{"$f":"IFERROR(IF(J1133=5,1,IF(MATCH(J1133&\"/\"&N1133,読み替え表_カーシェア!$P$32:$P$52,0),1,0)),0)","v":0},"*"]
[null,null,1124,null,null,null,null,null,null,null,null,null,null,null,null,null,null,null,null,null,null,null,null,null,null,null,null,null,null,0,0,{"$f":"IFERROR(IF(J1134=5,1,IF(MATCH(J1134&\"/\"&N1134,読み替え表_カーシェア!$P$32:$P$52,0),1,0)),0)","v":0},"*"]
[null,null,1125,null,null,null,null,null,null,null,null,null,null,null,null,null,null,null,null,null,null,null,null,null,null,null,null,null,null,0,0,{"$f":"IFERROR(IF(J1135=5,1,IF(MATCH(J1135&\"/\"&N1135,読み替え表_カーシェア!$P$32:$P$52,0),1,0)),0)","v":0},"*"]
[null,null,1126,null,null,null,null,null,null,null,null,null,null,null,null,null,null,null,null,null,null,null,null,null,null,null,null,null,null,0,0,{"$f":"IFERROR(IF(J1136=5,1,IF(MATCH(J1136&\"/\"&N1136,読み替え表_カーシェア!$P$32:$P$52,0),1,0)),0)","v":0},"*"]
[null,null,1127,null,null,null,null,null,null,null,null,null,null,null,null,null,null,null,null,null,null,null,null,null,null,null,null,null,null,0,0,{"$f":"IFERROR(IF(J1137=5,1,IF(MATCH(J1137&\"/\"&N1137,読み替え表_カーシェア!$P$32:$P$52,0),1,0)),0)","v":0},"*"]
[null,null,1128,null,null,null,null,null,null,null,null,null,null,null,null,null,null,null,null,null,null,null,null,null,null,null,null,null,null,0,0,{"$f":"IFERROR(IF(J1138=5,1,IF(MATCH(J1138&\"/\"&N1138,読み替え表_カーシェア!$P$32:$P$52,0),1,0)),0)","v":0},"*"]
[null,null,1129,null,null,null,null,null,null,null,null,null,null,null,null,null,null,null,null,null,null,null,null,null,null,null,null,null,null,0,0,{"$f":"IFERROR(IF(J1139=5,1,IF(MATCH(J1139&\"/\"&N1139,読み替え表_カーシェア!$P$32:$P$52,0),1,0)),0)","v":0},"*"]
[null,null,1130,null,null,null,null,null,null,null,null,null,null,null,null,null,null,null,null,null,null,null,null,null,null,null,null,null,null,0,0,{"$f":"IFERROR(IF(J1140=5,1,IF(MATCH(J1140&\"/\"&N1140,読み替え表_カーシェア!$P$32:$P$52,0),1,0)),0)","v":0},"*"]
[null,null,1131,null,null,null,null,null,null,null,null,null,null,null,null,null,null,null,null,null,null,null,null,null,null,null,null,null,null,0,0,{"$f":"IFERROR(IF(J1141=5,1,IF(MATCH(J1141&\"/\"&N1141,読み替え表_カーシェア!$P$32:$P$52,0),1,0)),0)","v":0},"*"]
[null,null,1132,null,null,null,null,null,null,null,null,null,null,null,null,null,null,null,null,null,null,null,null,null,null,null,null,null,null,0,0,{"$f":"IFERROR(IF(J1142=5,1,IF(MATCH(J1142&\"/\"&N1142,読み替え表_カーシェア!$P$32:$P$52,0),1,0)),0)","v":0},"*"]
[null,null,1133,null,null,null,null,null,null,null,null,null,null,null,null,null,null,null,null,null,null,null,null,null,null,null,null,null,null,0,0,{"$f":"IFERROR(IF(J1143=5,1,IF(MATCH(J1143&\"/\"&N1143,読み替え表_カーシェア!$P$32:$P$52,0),1,0)),0)","v":0},"*"]
[null,null,1134,null,null,null,null,null,null,null,null,null,null,null,null,null,null,null,null,null,null,null,null,null,null,null,null,null,null,0,0,{"$f":"IFERROR(IF(J1144=5,1,IF(MATCH(J1144&\"/\"&N1144,読み替え表_カーシェア!$P$32:$P$52,0),1,0)),0)","v":0},"*"]
[null,null,1135,null,null,null,null,null,null,null,null,null,null,null,null,null,null,null,null,null,null,null,null,null,null,null,null,null,null,0,0,{"$f":"IFERROR(IF(J1145=5,1,IF(MATCH(J1145&\"/\"&N1145,読み替え表_カーシェア!$P$32:$P$52,0),1,0)),0)","v":0},"*"]
[null,null,1136,null,null,null,null,null,null,null,null,null,null,null,null,null,null,null,null,null,null,null,null,null,null,null,null,null,null,0,0,{"$f":"IFERROR(IF(J1146=5,1,IF(MATCH(J1146&\"/\"&N1146,読み替え表_カーシェア!$P$32:$P$52,0),1,0)),0)","v":0},"*"]
[null,null,1137,null,null,null,null,null,null,null,null,null,null,null,null,null,null,null,null,null,null,null,null,null,null,null,null,null,null,0,0,{"$f":"IFERROR(IF(J1147=5,1,IF(MATCH(J1147&\"/\"&N1147,読み替え表_カーシェア!$P$32:$P$52,0),1,0)),0)","v":0},"*"]
[null,null,1138,null,null,null,null,null,null,null,null,null,null,null,null,null,null,null,null,null,null,null,null,null,null,null,null,null,null,0,0,{"$f":"IFERROR(IF(J1148=5,1,IF(MATCH(J1148&\"/\"&N1148,読み替え表_カーシェア!$P$32:$P$52,0),1,0)),0)","v":0},"*"]
[null,null,1139,null,null,null,null,null,null,null,null,null,null,null,null,null,null,null,null,null,null,null,null,null,null,null,null,null,null,0,0,{"$f":"IFERROR(IF(J1149=5,1,IF(MATCH(J1149&\"/\"&N1149,読み替え表_カーシェア!$P$32:$P$52,0),1,0)),0)","v":0},"*"]
[null,null,1140,null,null,null,null,null,null,null,null,null,null,null,null,null,null,null,null,null,null,null,null,null,null,null,null,null,null,0,0,{"$f":"IFERROR(IF(J1150=5,1,IF(MATCH(J1150&\"/\"&N1150,読み替え表_カーシェア!$P$32:$P$52,0),1,0)),0)","v":0},"*"]
[null,null,1141,null,null,null,null,null,null,null,null,null,null,null,null,null,null,null,null,null,null,null,null,null,null,null,null,null,null,0,0,{"$f":"IFERROR(IF(J1151=5,1,IF(MATCH(J1151&\"/\"&N1151,読み替え表_カーシェア!$P$32:$P$52,0),1,0)),0)","v":0},"*"]
[null,null,1142,null,null,null,null,null,null,null,null,null,null,null,null,null,null,null,null,null,null,null,null,null,null,null,null,null,null,0,0,{"$f":"IFERROR(IF(J1152=5,1,IF(MATCH(J1152&\"/\"&N1152,読み替え表_カーシェア!$P$32:$P$52,0),1,0)),0)","v":0},"*"]
[null,null,1143,null,null,null,null,null,null,null,null,null,null,null,null,null,null,null,null,null,null,null,null,null,null,null,null,null,null,0,0,{"$f":"IFERROR(IF(J1153=5,1,IF(MATCH(J1153&\"/\"&N1153,読み替え表_カーシェア!$P$32:$P$52,0),1,0)),0)","v":0},"*"]
[null,null,1144,null,null,null,null,null,null,null,null,null,null,null,null,null,null,null,null,null,null,null,null,null,null,null,null,null,null,0,0,{"$f":"IFERROR(IF(J1154=5,1,IF(MATCH(J1154&\"/\"&N1154,読み替え表_カーシェア!$P$32:$P$52,0),1,0)),0)","v":0},"*"]
[null,null,1145,null,null,null,null,null,null,null,null,null,null,null,null,null,null,null,null,null,null,null,null,null,null,null,null,null,null,0,0,{"$f":"IFERROR(IF(J1155=5,1,IF(MATCH(J1155&\"/\"&N1155,読み替え表_カーシェア!$P$32:$P$52,0),1,0)),0)","v":0},"*"]
[null,null,1146,null,null,null,null,null,null,null,null,null,null,null,null,null,null,null,null,null,null,null,null,null,null,null,null,null,null,0,0,{"$f":"IFERROR(IF(J1156=5,1,IF(MATCH(J1156&\"/\"&N1156,読み替え表_カーシェア!$P$32:$P$52,0),1,0)),0)","v":0},"*"]
[null,null,1147,null,null,null,null,null,null,null,null,null,null,null,null,null,null,null,null,null,null,null,null,null,null,null,null,null,null,0,0,{"$f":"IFERROR(IF(J1157=5,1,IF(MATCH(J1157&\"/\"&N1157,読み替え表_カーシェア!$P$32:$P$52,0),1,0)),0)","v":0},"*"]
[null,null,1148,null,null,null,null,null,null,null,null,null,null,null,null,null,null,null,null,null,null,null,null,null,null,null,null,null,null,0,0,{"$f":"IFERROR(IF(J1158=5,1,IF(MATCH(J1158&\"/\"&N1158,読み替え表_カーシェア!$P$32:$P$52,0),1,0)),0)","v":0},"*"]
[null,null,1149,null,null,null,null,null,null,null,null,null,null,null,null,null,null,null,null,null,null,null,null,null,null,null,null,null,null,0,0,{"$f":"IFERROR(IF(J1159=5,1,IF(MATCH(J1159&\"/\"&N1159,読み替え表_カーシェア!$P$32:$P$52,0),1,0)),0)","v":0},"*"]
[null,null,1150,null,null,null,null,null,null,null,null,null,null,null,null,null,null,null,null,null,null,null,null,null,null,null,null,null,null,0,0,{"$f":"IFERROR(IF(J1160=5,1,IF(MATCH(J1160&\"/\"&N1160,読み替え表_カーシェア!$P$32:$P$52,0),1,0)),0)","v":0},"*"]
[null,null,1151,null,null,null,null,null,null,null,null,null,null,null,null,null,null,null,null,null,null,null,null,null,null,null,null,null,null,0,0,{"$f":"IFERROR(IF(J1161=5,1,IF(MATCH(J1161&\"/\"&N1161,読み替え表_カーシェア!$P$32:$P$52,0),1,0)),0)","v":0},"*"]
[null,null,1152,null,null,null,null,null,null,null,null,null,null,null,null,null,null,null,null,null,null,null,null,null,null,null,null,null,null,0,0,{"$f":"IFERROR(IF(J1162=5,1,IF(MATCH(J1162&\"/\"&N1162,読み替え表_カーシェア!$P$32:$P$52,0),1,0)),0)","v":0},"*"]
[null,null,1153,null,null,null,null,null,null,null,null,null,null,null,null,null,null,null,null,null,null,null,null,null,null,null,null,null,null,0,0,{"$f":"IFERROR(IF(J1163=5,1,IF(MATCH(J1163&\"/\"&N1163,読み替え表_カーシェア!$P$32:$P$52,0),1,0)),0)","v":0},"*"]
[null,null,{"$f":"ROW()-10","v":1154},null,null,null,null,null,null,null,null,null,null,null,null,null,null,null,null,null,null,null,null,null,null,null,null,null,null,{"$f":"IF(OR($N1164=1,$N1164=2,$N1164=3),1,0)","v":0},{"$f":"IF(AND($J1164=1,$L1164>$M1164),1,IF(AND($J1164=1,$L1164<$M1164),2,IF(AND($J1164=1,$L1164=$M1164),3,0)))","v":0},{"$f":"IFERROR(IF(J1164=5,1,IF(MATCH(J1164&\"/\"&N1164,読み替え表_カーシェア!$P$32:$P$52,0),1,0)),0)","v":0},"*"]
[null,null,1155,null,null,null,null,null,null,null,null,null,null,null,null,null,null,null,null,null,null,null,null,null,null,null,null,null,null,0,0,{"$f":"IFERROR(IF(J1165=5,1,IF(MATCH(J1165&\"/\"&N1165,読み替え表_カーシェア!$P$32:$P$52,0),1,0)),0)","v":0},"*"]
[null,null,1156,null,null,null,null,null,null,null,null,null,null,null,null,null,null,null,null,null,null,null,null,null,null,null,null,null,null,0,0,{"$f":"IFERROR(IF(J1166=5,1,IF(MATCH(J1166&\"/\"&N1166,読み替え表_カーシェア!$P$32:$P$52,0),1,0)),0)","v":0},"*"]
[null,null,1157,null,null,null,null,null,null,null,null,null,null,null,null,null,null,null,null,null,null,null,null,null,null,null,null,null,null,0,0,{"$f":"IFERROR(IF(J1167=5,1,IF(MATCH(J1167&\"/\"&N1167,読み替え表_カーシェア!$P$32:$P$52,0),1,0)),0)","v":0},"*"]
[null,null,1158,null,null,null,null,null,null,null,null,null,null,null,null,null,null,null,null,null,null,null,null,null,null,null,null,null,null,0,0,{"$f":"IFERROR(IF(J1168=5,1,IF(MATCH(J1168&\"/\"&N1168,読み替え表_カーシェア!$P$32:$P$52,0),1,0)),0)","v":0},"*"]
[null,null,1159,null,null,null,null,null,null,null,null,null,null,null,null,null,null,null,null,null,null,null,null,null,null,null,null,null,null,0,0,{"$f":"IFERROR(IF(J1169=5,1,IF(MATCH(J1169&\"/\"&N1169,読み替え表_カーシェア!$P$32:$P$52,0),1,0)),0)","v":0},"*"]
[null,null,1160,null,null,null,null,null,null,null,null,null,null,null,null,null,null,null,null,null,null,null,null,null,null,null,null,null,null,0,0,{"$f":"IFERROR(IF(J1170=5,1,IF(MATCH(J1170&\"/\"&N1170,読み替え表_カーシェア!$P$32:$P$52,0),1,0)),0)","v":0},"*"]
[null,null,1161,null,null,null,null,null,null,null,null,null,null,null,null,null,null,null,null,null,null,null,null,null,null,null,null,null,null,0,0,{"$f":"IFERROR(IF(J1171=5,1,IF(MATCH(J1171&\"/\"&N1171,読み替え表_カーシェア!$P$32:$P$52,0),1,0)),0)","v":0},"*"]
[null,null,1162,null,null,null,null,null,null,null,null,null,null,null,null,null,null,null,null,null,null,null,null,null,null,null,null,null,null,0,0,{"$f":"IFERROR(IF(J1172=5,1,IF(MATCH(J1172&\"/\"&N1172,読み替え表_カーシェア!$P$32:$P$52,0),1,0)),0)","v":0},"*"]
[null,null,1163,null,null,null,null,null,null,null,null,null,null,null,null,null,null,null,null,null,null,null,null,null,null,null,null,null,null,0,0,{"$f":"IFERROR(IF(J1173=5,1,IF(MATCH(J1173&\"/\"&N1173,読み替え表_カーシェア!$P$32:$P$52,0),1,0)),0)","v":0},"*"]
[null,null,1164,null,null,null,null,null,null,null,null,null,null,null,null,null,null,null,null,null,null,null,null,null,null,null,null,null,null,0,0,{"$f":"IFERROR(IF(J1174=5,1,IF(MATCH(J1174&\"/\"&N1174,読み替え表_カーシェア!$P$32:$P$52,0),1,0)),0)","v":0},"*"]
[null,null,1165,null,null,null,null,null,null,null,null,null,null,null,null,null,null,null,null,null,null,null,null,null,null,null,null,null,null,0,0,{"$f":"IFERROR(IF(J1175=5,1,IF(MATCH(J1175&\"/\"&N1175,読み替え表_カーシェア!$P$32:$P$52,0),1,0)),0)","v":0},"*"]
[null,null,1166,null,null,null,null,null,null,null,null,null,null,null,null,null,null,null,null,null,null,null,null,null,null,null,null,null,null,0,0,{"$f":"IFERROR(IF(J1176=5,1,IF(MATCH(J1176&\"/\"&N1176,読み替え表_カーシェア!$P$32:$P$52,0),1,0)),0)","v":0},"*"]
[null,null,1167,null,null,null,null,null,null,null,null,null,null,null,null,null,null,null,null,null,null,null,null,null,null,null,null,null,null,0,0,{"$f":"IFERROR(IF(J1177=5,1,IF(MATCH(J1177&\"/\"&N1177,読み替え表_カーシェア!$P$32:$P$52,0),1,0)),0)","v":0},"*"]
[null,null,1168,null,null,null,null,null,null,null,null,null,null,null,null,null,null,null,null,null,null,null,null,null,null,null,null,null,null,0,0,{"$f":"IFERROR(IF(J1178=5,1,IF(MATCH(J1178&\"/\"&N1178,読み替え表_カーシェア!$P$32:$P$52,0),1,0)),0)","v":0},"*"]
[null,null,1169,null,null,null,null,null,null,null,null,null,null,null,null,null,null,null,null,null,null,null,null,null,null,null,null,null,null,0,0,{"$f":"IFERROR(IF(J1179=5,1,IF(MATCH(J1179&\"/\"&N1179,読み替え表_カーシェア!$P$32:$P$52,0),1,0)),0)","v":0},"*"]
[null,null,1170,null,null,null,null,null,null,null,null,null,null,null,null,null,null,null,null,null,null,null,null,null,null,null,null,null,null,0,0,{"$f":"IFERROR(IF(J1180=5,1,IF(MATCH(J1180&\"/\"&N1180,読み替え表_カーシェア!$P$32:$P$52,0),1,0)),0)","v":0},"*"]
[null,null,1171,null,null,null,null,null,null,null,null,null,null,null,null,null,null,null,null,null,null,null,null,null,null,null,null,null,null,0,0,{"$f":"IFERROR(IF(J1181=5,1,IF(MATCH(J1181&\"/\"&N1181,読み替え表_カーシェア!$P$32:$P$52,0),1,0)),0)","v":0},"*"]
[null,null,1172,null,null,null,null,null,null,null,null,null,null,null,null,null,null,null,null,null,null,null,null,null,null,null,null,null,null,0,0,{"$f":"IFERROR(IF(J1182=5,1,IF(MATCH(J1182&\"/\"&N1182,読み替え表_カーシェア!$P$32:$P$52,0),1,0)),0)","v":0},"*"]
[null,null,1173,null,null,null,null,null,null,null,null,null,null,null,null,null,null,null,null,null,null,null,null,null,null,null,null,null,null,0,0,{"$f":"IFERROR(IF(J1183=5,1,IF(MATCH(J1183&\"/\"&N1183,読み替え表_カーシェア!$P$32:$P$52,0),1,0)),0)","v":0},"*"]
[null,null,1174,null,null,null,null,null,null,null,null,null,null,null,null,null,null,null,null,null,null,null,null,null,null,null,null,null,null,0,0,{"$f":"IFERROR(IF(J1184=5,1,IF(MATCH(J1184&\"/\"&N1184,読み替え表_カーシェア!$P$32:$P$52,0),1,0)),0)","v":0},"*"]
[null,null,1175,null,null,null,null,null,null,null,null,null,null,null,null,null,null,null,null,null,null,null,null,null,null,null,null,null,null,0,0,{"$f":"IFERROR(IF(J1185=5,1,IF(MATCH(J1185&\"/\"&N1185,読み替え表_カーシェア!$P$32:$P$52,0),1,0)),0)","v":0},"*"]
[null,null,1176,null,null,null,null,null,null,null,null,null,null,null,null,null,null,null,null,null,null,null,null,null,null,null,null,null,null,0,0,{"$f":"IFERROR(IF(J1186=5,1,IF(MATCH(J1186&\"/\"&N1186,読み替え表_カーシェア!$P$32:$P$52,0),1,0)),0)","v":0},"*"]
[null,null,1177,null,null,null,null,null,null,null,null,null,null,null,null,null,null,null,null,null,null,null,null,null,null,null,null,null,null,0,0,{"$f":"IFERROR(IF(J1187=5,1,IF(MATCH(J1187&\"/\"&N1187,読み替え表_カーシェア!$P$32:$P$52,0),1,0)),0)","v":0},"*"]
[null,null,1178,null,null,null,null,null,null,null,null,null,null,null,null,null,null,null,null,null,null,null,null,null,null,null,null,null,null,0,0,{"$f":"IFERROR(IF(J1188=5,1,IF(MATCH(J1188&\"/\"&N1188,読み替え表_カーシェア!$P$32:$P$52,0),1,0)),0)","v":0},"*"]
[null,null,1179,null,null,null,null,null,null,null,null,null,null,null,null,null,null,null,null,null,null,null,null,null,null,null,null,null,null,0,0,{"$f":"IFERROR(IF(J1189=5,1,IF(MATCH(J1189&\"/\"&N1189,読み替え表_カーシェア!$P$32:$P$52,0),1,0)),0)","v":0},"*"]
[null,null,1180,null,null,null,null,null,null,null,null,null,null,null,null,null,null,null,null,null,null,null,null,null,null,null,null,null,null,0,0,{"$f":"IFERROR(IF(J1190=5,1,IF(MATCH(J1190&\"/\"&N1190,読み替え表_カーシェア!$P$32:$P$52,0),1,0)),0)","v":0},"*"]
[null,null,1181,null,null,null,null,null,null,null,null,null,null,null,null,null,null,null,null,null,null,null,null,null,null,null,null,null,null,0,0,{"$f":"IFERROR(IF(J1191=5,1,IF(MATCH(J1191&\"/\"&N1191,読み替え表_カーシェア!$P$32:$P$52,0),1,0)),0)","v":0},"*"]
[null,null,1182,null,null,null,null,null,null,null,null,null,null,null,null,null,null,null,null,null,null,null,null,null,null,null,null,null,null,0,0,{"$f":"IFERROR(IF(J1192=5,1,IF(MATCH(J1192&\"/\"&N1192,読み替え表_カーシェア!$P$32:$P$52,0),1,0)),0)","v":0},"*"]
[null,null,1183,null,null,null,null,null,null,null,null,null,null,null,null,null,null,null,null,null,null,null,null,null,null,null,null,null,null,0,0,{"$f":"IFERROR(IF(J1193=5,1,IF(MATCH(J1193&\"/\"&N1193,読み替え表_カーシェア!$P$32:$P$52,0),1,0)),0)","v":0},"*"]
[null,null,1184,null,null,null,null,null,null,null,null,null,null,null,null,null,null,null,null,null,null,null,null,null,null,null,null,null,null,0,0,{"$f":"IFERROR(IF(J1194=5,1,IF(MATCH(J1194&\"/\"&N1194,読み替え表_カーシェア!$P$32:$P$52,0),1,0)),0)","v":0},"*"]
[null,null,1185,null,null,null,null,null,null,null,null,null,null,null,null,null,null,null,null,null,null,null,null,null,null,null,null,null,null,0,0,{"$f":"IFERROR(IF(J1195=5,1,IF(MATCH(J1195&\"/\"&N1195,読み替え表_カーシェア!$P$32:$P$52,0),1,0)),0)","v":0},"*"]
[null,null,1186,null,null,null,null,null,null,null,null,null,null,null,null,null,null,null,null,null,null,null,null,null,null,null,null,null,null,0,0,{"$f":"IFERROR(IF(J1196=5,1,IF(MATCH(J1196&\"/\"&N1196,読み替え表_カーシェア!$P$32:$P$52,0),1,0)),0)","v":0},"*"]
[null,null,1187,null,null,null,null,null,null,null,null,null,null,null,null,null,null,null,null,null,null,null,null,null,null,null,null,null,null,0,0,{"$f":"IFERROR(IF(J1197=5,1,IF(MATCH(J1197&\"/\"&N1197,読み替え表_カーシェア!$P$32:$P$52,0),1,0)),0)","v":0},"*"]
[null,null,1188,null,null,null,null,null,null,null,null,null,null,null,null,null,null,null,null,null,null,null,null,null,null,null,null,null,null,0,0,{"$f":"IFERROR(IF(J1198=5,1,IF(MATCH(J1198&\"/\"&N1198,読み替え表_カーシェア!$P$32:$P$52,0),1,0)),0)","v":0},"*"]
[null,null,1189,null,null,null,null,null,null,null,null,null,null,null,null,null,null,null,null,null,null,null,null,null,null,null,null,null,null,0,0,{"$f":"IFERROR(IF(J1199=5,1,IF(MATCH(J1199&\"/\"&N1199,読み替え表_カーシェア!$P$32:$P$52,0),1,0)),0)","v":0},"*"]
[null,null,1190,null,null,null,null,null,null,null,null,null,null,null,null,null,null,null,null,null,null,null,null,null,null,null,null,null,null,0,0,{"$f":"IFERROR(IF(J1200=5,1,IF(MATCH(J1200&\"/\"&N1200,読み替え表_カーシェア!$P$32:$P$52,0),1,0)),0)","v":0},"*"]
[null,null,1191,null,null,null,null,null,null,null,null,null,null,null,null,null,null,null,null,null,null,null,null,null,null,null,null,null,null,0,0,{"$f":"IFERROR(IF(J1201=5,1,IF(MATCH(J1201&\"/\"&N1201,読み替え表_カーシェア!$P$32:$P$52,0),1,0)),0)","v":0},"*"]
[null,null,1192,null,null,null,null,null,null,null,null,null,null,null,null,null,null,null,null,null,null,null,null,null,null,null,null,null,null,0,0,{"$f":"IFERROR(IF(J1202=5,1,IF(MATCH(J1202&\"/\"&N1202,読み替え表_カーシェア!$P$32:$P$52,0),1,0)),0)","v":0},"*"]
[null,null,1193,null,null,null,null,null,null,null,null,null,null,null,null,null,null,null,null,null,null,null,null,null,null,null,null,null,null,0,0,{"$f":"IFERROR(IF(J1203=5,1,IF(MATCH(J1203&\"/\"&N1203,読み替え表_カーシェア!$P$32:$P$52,0),1,0)),0)","v":0},"*"]
[null,null,1194,null,null,null,null,null,null,null,null,null,null,null,null,null,null,null,null,null,null,null,null,null,null,null,null,null,null,0,0,{"$f":"IFERROR(IF(J1204=5,1,IF(MATCH(J1204&\"/\"&N1204,読み替え表_カーシェア!$P$32:$P$52,0),1,0)),0)","v":0},"*"]
[null,null,1195,null,null,null,null,null,null,null,null,null,null,null,null,null,null,null,null,null,null,null,null,null,null,null,null,null,null,0,0,{"$f":"IFERROR(IF(J1205=5,1,IF(MATCH(J1205&\"/\"&N1205,読み替え表_カーシェア!$P$32:$P$52,0),1,0)),0)","v":0},"*"]
[null,null,1196,null,null,null,null,null,null,null,null,null,null,null,null,null,null,null,null,null,null,null,null,null,null,null,null,null,null,0,0,{"$f":"IFERROR(IF(J1206=5,1,IF(MATCH(J1206&\"/\"&N1206,読み替え表_カーシェア!$P$32:$P$52,0),1,0)),0)","v":0},"*"]
[null,null,1197,null,null,null,null,null,null,null,null,null,null,null,null,null,null,null,null,null,null,null,null,null,null,null,null,null,null,0,0,{"$f":"IFERROR(IF(J1207=5,1,IF(MATCH(J1207&\"/\"&N1207,読み替え表_カーシェア!$P$32:$P$52,0),1,0)),0)","v":0},"*"]
[null,null,1198,null,null,null,null,null,null,null,null,null,null,null,null,null,null,null,null,null,null,null,null,null,null,null,null,null,null,0,0,{"$f":"IFERROR(IF(J1208=5,1,IF(MATCH(J1208&\"/\"&N1208,読み替え表_カーシェア!$P$32:$P$52,0),1,0)),0)","v":0},"*"]
[null,null,1199,null,null,null,null,null,null,null,null,null,null,null,null,null,null,null,null,null,null,null,null,null,null,null,null,null,null,0,0,{"$f":"IFERROR(IF(J1209=5,1,IF(MATCH(J1209&\"/\"&N1209,読み替え表_カーシェア!$P$32:$P$52,0),1,0)),0)","v":0},"*"]
[null,null,1200,null,null,null,null,null,null,null,null,null,null,null,null,null,null,null,null,null,null,null,null,null,null,null,null,null,null,0,0,{"$f":"IFERROR(IF(J1210=5,1,IF(MATCH(J1210&\"/\"&N1210,読み替え表_カーシェア!$P$32:$P$52,0),1,0)),0)","v":0},"*"]
[null,null,1201,null,null,null,null,null,null,null,null,null,null,null,null,null,null,null,null,null,null,null,null,null,null,null,null,null,null,0,0,{"$f":"IFERROR(IF(J1211=5,1,IF(MATCH(J1211&\"/\"&N1211,読み替え表_カーシェア!$P$32:$P$52,0),1,0)),0)","v":0},"*"]
[null,null,1202,null,null,null,null,null,null,null,null,null,null,null,null,null,null,null,null,null,null,null,null,null,null,null,null,null,null,0,0,{"$f":"IFERROR(IF(J1212=5,1,IF(MATCH(J1212&\"/\"&N1212,読み替え表_カーシェア!$P$32:$P$52,0),1,0)),0)","v":0},"*"]
[null,null,1203,null,null,null,null,null,null,null,null,null,null,null,null,null,null,null,null,null,null,null,null,null,null,null,null,null,null,0,0,{"$f":"IFERROR(IF(J1213=5,1,IF(MATCH(J1213&\"/\"&N1213,読み替え表_カーシェア!$P$32:$P$52,0),1,0)),0)","v":0},"*"]
[null,null,1204,null,null,null,null,null,null,null,null,null,null,null,null,null,null,null,null,null,null,null,null,null,null,null,null,null,null,0,0,{"$f":"IFERROR(IF(J1214=5,1,IF(MATCH(J1214&\"/\"&N1214,読み替え表_カーシェア!$P$32:$P$52,0),1,0)),0)","v":0},"*"]
[null,null,1205,null,null,null,null,null,null,null,null,null,null,null,null,null,null,null,null,null,null,null,null,null,null,null,null,null,null,0,0,{"$f":"IFERROR(IF(J1215=5,1,IF(MATCH(J1215&\"/\"&N1215,読み替え表_カーシェア!$P$32:$P$52,0),1,0)),0)","v":0},"*"]
[null,null,1206,null,null,null,null,null,null,null,null,null,null,null,null,null,null,null,null,null,null,null,null,null,null,null,null,null,null,0,0,{"$f":"IFERROR(IF(J1216=5,1,IF(MATCH(J1216&\"/\"&N1216,読み替え表_カーシェア!$P$32:$P$52,0),1,0)),0)","v":0},"*"]
[null,null,1207,null,null,null,null,null,null,null,null,null,null,null,null,null,null,null,null,null,null,null,null,null,null,null,null,null,null,0,0,{"$f":"IFERROR(IF(J1217=5,1,IF(MATCH(J1217&\"/\"&N1217,読み替え表_カーシェア!$P$32:$P$52,0),1,0)),0)","v":0},"*"]
[null,null,1208,null,null,null,null,null,null,null,null,null,null,null,null,null,null,null,null,null,null,null,null,null,null,null,null,null,null,0,0,{"$f":"IFERROR(IF(J1218=5,1,IF(MATCH(J1218&\"/\"&N1218,読み替え表_カーシェア!$P$32:$P$52,0),1,0)),0)","v":0},"*"]
[null,null,1209,null,null,null,null,null,null,null,null,null,null,null,null,null,null,null,null,null,null,null,null,null,null,null,null,null,null,0,0,{"$f":"IFERROR(IF(J1219=5,1,IF(MATCH(J1219&\"/\"&N1219,読み替え表_カーシェア!$P$32:$P$52,0),1,0)),0)","v":0},"*"]
[null,null,1210,null,null,null,null,null,null,null,null,null,null,null,null,null,null,null,null,null,null,null,null,null,null,null,null,null,null,0,0,{"$f":"IFERROR(IF(J1220=5,1,IF(MATCH(J1220&\"/\"&N1220,読み替え表_カーシェア!$P$32:$P$52,0),1,0)),0)","v":0},"*"]
[null,null,1211,null,null,null,null,null,null,null,null,null,null,null,null,null,null,null,null,null,null,null,null,null,null,null,null,null,null,0,0,{"$f":"IFERROR(IF(J1221=5,1,IF(MATCH(J1221&\"/\"&N1221,読み替え表_カーシェア!$P$32:$P$52,0),1,0)),0)","v":0},"*"]
[null,null,1212,null,null,null,null,null,null,null,null,null,null,null,null,null,null,null,null,null,null,null,null,null,null,null,null,null,null,0,0,{"$f":"IFERROR(IF(J1222=5,1,IF(MATCH(J1222&\"/\"&N1222,読み替え表_カーシェア!$P$32:$P$52,0),1,0)),0)","v":0},"*"]
[null,null,1213,null,null,null,null,null,null,null,null,null,null,null,null,null,null,null,null,null,null,null,null,null,null,null,null,null,null,0,0,{"$f":"IFERROR(IF(J1223=5,1,IF(MATCH(J1223&\"/\"&N1223,読み替え表_カーシェア!$P$32:$P$52,0),1,0)),0)","v":0},"*"]
[null,null,1214,null,null,null,null,null,null,null,null,null,null,null,null,null,null,null,null,null,null,null,null,null,null,null,null,null,null,0,0,{"$f":"IFERROR(IF(J1224=5,1,IF(MATCH(J1224&\"/\"&N1224,読み替え表_カーシェア!$P$32:$P$52,0),1,0)),0)","v":0},"*"]
[null,null,1215,null,null,null,null,null,null,null,null,null,null,null,null,null,null,null,null,null,null,null,null,null,null,null,null,null,null,0,0,{"$f":"IFERROR(IF(J1225=5,1,IF(MATCH(J1225&\"/\"&N1225,読み替え表_カーシェア!$P$32:$P$52,0),1,0)),0)","v":0},"*"]
[null,null,1216,null,null,null,null,null,null,null,null,null,null,null,null,null,null,null,null,null,null,null,null,null,null,null,null,null,null,0,0,{"$f":"IFERROR(IF(J1226=5,1,IF(MATCH(J1226&\"/\"&N1226,読み替え表_カーシェア!$P$32:$P$52,0),1,0)),0)","v":0},"*"]
[null,null,1217,null,null,null,null,null,null,null,null,null,null,null,null,null,null,null,null,null,null,null,null,null,null,null,null,null,null,0,0,{"$f":"IFERROR(IF(J1227=5,1,IF(MATCH(J1227&\"/\"&N1227,読み替え表_カーシェア!$P$32:$P$52,0),1,0)),0)","v":0},"*"]
[null,null,{"$f":"ROW()-10","v":1218},null,null,null,null,null,null,null,null,null,null,null,null,null,null,null,null,null,null,null,null,null,null,null,null,null,null,{"$f":"IF(OR($N1228=1,$N1228=2,$N1228=3),1,0)","v":0},{"$f":"IF(AND($J1228=1,$L1228>$M1228),1,IF(AND($J1228=1,$L1228<$M1228),2,IF(AND($J1228=1,$L1228=$M1228),3,0)))","v":0},{"$f":"IFERROR(IF(J1228=5,1,IF(MATCH(J1228&\"/\"&N1228,読み替え表_カーシェア!$P$32:$P$52,0),1,0)),0)","v":0},"*"]
[null,null,1219,null,null,null,null,null,null,null,null,null,null,null,null,null,null,null,null,null,null,null,null,null,null,null,null,null,null,0,0,{"$f":"IFERROR(IF(J1229=5,1,IF(MATCH(J1229&\"/\"&N1229,読み替え表_カーシェア!$P$32:$P$52,0),1,0)),0)","v":0},"*"]
[null,null,1220,null,null,null,null,null,null,null,null,null,null,null,null,null,null,null,null,null,null,null,null,null,null,null,null,null,null,0,0,{"$f":"IFERROR(IF(J1230=5,1,IF(MATCH(J1230&\"/\"&N1230,読み替え表_カーシェア!$P$32:$P$52,0),1,0)),0)","v":0},"*"]
[null,null,1221,null,null,null,null,null,null,null,null,null,null,null,null,null,null,null,null,null,null,null,null,null,null,null,null,null,null,0,0,{"$f":"IFERROR(IF(J1231=5,1,IF(MATCH(J1231&\"/\"&N1231,読み替え表_カーシェア!$P$32:$P$52,0),1,0)),0)","v":0},"*"]
[null,null,1222,null,null,null,null,null,null,null,null,null,null,null,null,null,null,null,null,null,null,null,null,null,null,null,null,null,null,0,0,{"$f":"IFERROR(IF(J1232=5,1,IF(MATCH(J1232&\"/\"&N1232,読み替え表_カーシェア!$P$32:$P$52,0),1,0)),0)","v":0},"*"]
[null,null,1223,null,null,null,null,null,null,null,null,null,null,null,null,null,null,null,null,null,null,null,null,null,null,null,null,null,null,0,0,{"$f":"IFERROR(IF(J1233=5,1,IF(MATCH(J1233&\"/\"&N1233,読み替え表_カーシェア!$P$32:$P$52,0),1,0)),0)","v":0},"*"]
[null,null,1224,null,null,null,null,null,null,null,null,null,null,null,null,null,null,null,null,null,null,null,null,null,null,null,null,null,null,0,0,{"$f":"IFERROR(IF(J1234=5,1,IF(MATCH(J1234&\"/\"&N1234,読み替え表_カーシェア!$P$32:$P$52,0),1,0)),0)","v":0},"*"]
[null,null,1225,null,null,null,null,null,null,null,null,null,null,null,null,null,null,null,null,null,null,null,null,null,null,null,null,null,null,0,0,{"$f":"IFERROR(IF(J1235=5,1,IF(MATCH(J1235&\"/\"&N1235,読み替え表_カーシェア!$P$32:$P$52,0),1,0)),0)","v":0},"*"]
[null,null,1226,null,null,null,null,null,null,null,null,null,null,null,null,null,null,null,null,null,null,null,null,null,null,null,null,null,null,0,0,{"$f":"IFERROR(IF(J1236=5,1,IF(MATCH(J1236&\"/\"&N1236,読み替え表_カーシェア!$P$32:$P$52,0),1,0)),0)","v":0},"*"]
[null,null,1227,null,null,null,null,null,null,null,null,null,null,null,null,null,null,null,null,null,null,null,null,null,null,null,null,null,null,0,0,{"$f":"IFERROR(IF(J1237=5,1,IF(MATCH(J1237&\"/\"&N1237,読み替え表_カーシェア!$P$32:$P$52,0),1,0)),0)","v":0},"*"]
[null,null,1228,null,null,null,null,null,null,null,null,null,null,null,null,null,null,null,null,null,null,null,null,null,null,null,null,null,null,0,0,{"$f":"IFERROR(IF(J1238=5,1,IF(MATCH(J1238&\"/\"&N1238,読み替え表_カーシェア!$P$32:$P$52,0),1,0)),0)","v":0},"*"]
[null,null,1229,null,null,null,null,null,null,null,null,null,null,null,null,null,null,null,null,null,null,null,null,null,null,null,null,null,null,0,0,{"$f":"IFERROR(IF(J1239=5,1,IF(MATCH(J1239&\"/\"&N1239,読み替え表_カーシェア!$P$32:$P$52,0),1,0)),0)","v":0},"*"]
[null,null,1230,null,null,null,null,null,null,null,null,null,null,null,null,null,null,null,null,null,null,null,null,null,null,null,null,null,null,0,0,{"$f":"IFERROR(IF(J1240=5,1,IF(MATCH(J1240&\"/\"&N1240,読み替え表_カーシェア!$P$32:$P$52,0),1,0)),0)","v":0},"*"]
[null,null,1231,null,null,null,null,null,null,null,null,null,null,null,null,null,null,null,null,null,null,null,null,null,null,null,null,null,null,0,0,{"$f":"IFERROR(IF(J1241=5,1,IF(MATCH(J1241&\"/\"&N1241,読み替え表_カーシェア!$P$32:$P$52,0),1,0)),0)","v":0},"*"]
[null,null,1232,null,null,null,null,null,null,null,null,null,null,null,null,null,null,null,null,null,null,null,null,null,null,null,null,null,null,0,0,{"$f":"IFERROR(IF(J1242=5,1,IF(MATCH(J1242&\"/\"&N1242,読み替え表_カーシェア!$P$32:$P$52,0),1,0)),0)","v":0},"*"]
[null,null,1233,null,null,null,null,null,null,null,null,null,null,null,null,null,null,null,null,null,null,null,null,null,null,null,null,null,null,0,0,{"$f":"IFERROR(IF(J1243=5,1,IF(MATCH(J1243&\"/\"&N1243,読み替え表_カーシェア!$P$32:$P$52,0),1,0)),0)","v":0},"*"]
[null,null,1234,null,null,null,null,null,null,null,null,null,null,null,null,null,null,null,null,null,null,null,null,null,null,null,null,null,null,0,0,{"$f":"IFERROR(IF(J1244=5,1,IF(MATCH(J1244&\"/\"&N1244,読み替え表_カーシェア!$P$32:$P$52,0),1,0)),0)","v":0},"*"]
[null,null,1235,null,null,null,null,null,null,null,null,null,null,null,null,null,null,null,null,null,null,null,null,null,null,null,null,null,null,0,0,{"$f":"IFERROR(IF(J1245=5,1,IF(MATCH(J1245&\"/\"&N1245,読み替え表_カーシェア!$P$32:$P$52,0),1,0)),0)","v":0},"*"]
[null,null,1236,null,null,null,null,null,null,null,null,null,null,null,null,null,null,null,null,null,null,null,null,null,null,null,null,null,null,0,0,{"$f":"IFERROR(IF(J1246=5,1,IF(MATCH(J1246&\"/\"&N1246,読み替え表_カーシェア!$P$32:$P$52,0),1,0)),0)","v":0},"*"]
[null,null,1237,null,null,null,null,null,null,null,null,null,null,null,null,null,null,null,null,null,null,null,null,null,null,null,null,null,null,0,0,{"$f":"IFERROR(IF(J1247=5,1,IF(MATCH(J1247&\"/\"&N1247,読み替え表_カーシェア!$P$32:$P$52,0),1,0)),0)","v":0},"*"]
[null,null,1238,null,null,null,null,null,null,null,null,null,null,null,null,null,null,null,null,null,null,null,null,null,null,null,null,null,null,0,0,{"$f":"IFERROR(IF(J1248=5,1,IF(MATCH(J1248&\"/\"&N1248,読み替え表_カーシェア!$P$32:$P$52,0),1,0)),0)","v":0},"*"]
[null,null,1239,null,null,null,null,null,null,null,null,null,null,null,null,null,null,null,null,null,null,null,null,null,null,null,null,null,null,0,0,{"$f":"IFERROR(IF(J1249=5,1,IF(MATCH(J1249&\"/\"&N1249,読み替え表_カーシェア!$P$32:$P$52,0),1,0)),0)","v":0},"*"]
[null,null,1240,null,null,null,null,null,null,null,null,null,null,null,null,null,null,null,null,null,null,null,null,null,null,null,null,null,null,0,0,{"$f":"IFERROR(IF(J1250=5,1,IF(MATCH(J1250&\"/\"&N1250,読み替え表_カーシェア!$P$32:$P$52,0),1,0)),0)","v":0},"*"]
[null,null,1241,null,null,null,null,null,null,null,null,null,null,null,null,null,null,null,null,null,null,null,null,null,null,null,null,null,null,0,0,{"$f":"IFERROR(IF(J1251=5,1,IF(MATCH(J1251&\"/\"&N1251,読み替え表_カーシェア!$P$32:$P$52,0),1,0)),0)","v":0},"*"]
[null,null,1242,null,null,null,null,null,null,null,null,null,null,null,null,null,null,null,null,null,null,null,null,null,null,null,null,null,null,0,0,{"$f":"IFERROR(IF(J1252=5,1,IF(MATCH(J1252&\"/\"&N1252,読み替え表_カーシェア!$P$32:$P$52,0),1,0)),0)","v":0},"*"]
[null,null,1243,null,null,null,null,null,null,null,null,null,null,null,null,null,null,null,null,null,null,null,null,null,null,null,null,null,null,0,0,{"$f":"IFERROR(IF(J1253=5,1,IF(MATCH(J1253&\"/\"&N1253,読み替え表_カーシェア!$P$32:$P$52,0),1,0)),0)","v":0},"*"]
[null,null,1244,null,null,null,null,null,null,null,null,null,null,null,null,null,null,null,null,null,null,null,null,null,null,null,null,null,null,0,0,{"$f":"IFERROR(IF(J1254=5,1,IF(MATCH(J1254&\"/\"&N1254,読み替え表_カーシェア!$P$32:$P$52,0),1,0)),0)","v":0},"*"]
[null,null,1245,null,null,null,null,null,null,null,null,null,null,null,null,null,null,null,null,null,null,null,null,null,null,null,null,null,null,0,0,{"$f":"IFERROR(IF(J1255=5,1,IF(MATCH(J1255&\"/\"&N1255,読み替え表_カーシェア!$P$32:$P$52,0),1,0)),0)","v":0},"*"]
[null,null,1246,null,null,null,null,null,null,null,null,null,null,null,null,null,null,null,null,null,null,null,null,null,null,null,null,null,null,0,0,{"$f":"IFERROR(IF(J1256=5,1,IF(MATCH(J1256&\"/\"&N1256,読み替え表_カーシェア!$P$32:$P$52,0),1,0)),0)","v":0},"*"]
[null,null,1247,null,null,null,null,null,null,null,null,null,null,null,null,null,null,null,null,null,null,null,null,null,null,null,null,null,null,0,0,{"$f":"IFERROR(IF(J1257=5,1,IF(MATCH(J1257&\"/\"&N1257,読み替え表_カーシェア!$P$32:$P$52,0),1,0)),0)","v":0},"*"]
[null,null,1248,null,null,null,null,null,null,null,null,null,null,null,null,null,null,null,null,null,null,null,null,null,null,null,null,null,null,0,0,{"$f":"IFERROR(IF(J1258=5,1,IF(MATCH(J1258&\"/\"&N1258,読み替え表_カーシェア!$P$32:$P$52,0),1,0)),0)","v":0},"*"]
[null,null,1249,null,null,null,null,null,null,null,null,null,null,null,null,null,null,null,null,null,null,null,null,null,null,null,null,null,null,0,0,{"$f":"IFERROR(IF(J1259=5,1,IF(MATCH(J1259&\"/\"&N1259,読み替え表_カーシェア!$P$32:$P$52,0),1,0)),0)","v":0},"*"]
[null,null,1250,null,null,null,null,null,null,null,null,null,null,null,null,null,null,null,null,null,null,null,null,null,null,null,null,null,null,0,0,{"$f":"IFERROR(IF(J1260=5,1,IF(MATCH(J1260&\"/\"&N1260,読み替え表_カーシェア!$P$32:$P$52,0),1,0)),0)","v":0},"*"]
[null,null,1251,null,null,null,null,null,null,null,null,null,null,null,null,null,null,null,null,null,null,null,null,null,null,null,null,null,null,0,0,{"$f":"IFERROR(IF(J1261=5,1,IF(MATCH(J1261&\"/\"&N1261,読み替え表_カーシェア!$P$32:$P$52,0),1,0)),0)","v":0},"*"]
[null,null,1252,null,null,null,null,null,null,null,null,null,null,null,null,null,null,null,null,null,null,null,null,null,null,null,null,null,null,0,0,{"$f":"IFERROR(IF(J1262=5,1,IF(MATCH(J1262&\"/\"&N1262,読み替え表_カーシェア!$P$32:$P$52,0),1,0)),0)","v":0},"*"]
[null,null,1253,null,null,null,null,null,null,null,null,null,null,null,null,null,null,null,null,null,null,null,null,null,null,null,null,null,null,0,0,{"$f":"IFERROR(IF(J1263=5,1,IF(MATCH(J1263&\"/\"&N1263,読み替え表_カーシェア!$P$32:$P$52,0),1,0)),0)","v":0},"*"]
[null,null,1254,null,null,null,null,null,null,null,null,null,null,null,null,null,null,null,null,null,null,null,null,null,null,null,null,null,null,0,0,{"$f":"IFERROR(IF(J1264=5,1,IF(MATCH(J1264&\"/\"&N1264,読み替え表_カーシェア!$P$32:$P$52,0),1,0)),0)","v":0},"*"]
[null,null,1255,null,null,null,null,null,null,null,null,null,null,null,null,null,null,null,null,null,null,null,null,null,null,null,null,null,null,0,0,{"$f":"IFERROR(IF(J1265=5,1,IF(MATCH(J1265&\"/\"&N1265,読み替え表_カーシェア!$P$32:$P$52,0),1,0)),0)","v":0},"*"]
[null,null,1256,null,null,null,null,null,null,null,null,null,null,null,null,null,null,null,null,null,null,null,null,null,null,null,null,null,null,0,0,{"$f":"IFERROR(IF(J1266=5,1,IF(MATCH(J1266&\"/\"&N1266,読み替え表_カーシェア!$P$32:$P$52,0),1,0)),0)","v":0},"*"]
[null,null,1257,null,null,null,null,null,null,null,null,null,null,null,null,null,null,null,null,null,null,null,null,null,null,null,null,null,null,0,0,{"$f":"IFERROR(IF(J1267=5,1,IF(MATCH(J1267&\"/\"&N1267,読み替え表_カーシェア!$P$32:$P$52,0),1,0)),0)","v":0},"*"]
[null,null,1258,null,null,null,null,null,null,null,null,null,null,null,null,null,null,null,null,null,null,null,null,null,null,null,null,null,null,0,0,{"$f":"IFERROR(IF(J1268=5,1,IF(MATCH(J1268&\"/\"&N1268,読み替え表_カーシェア!$P$32:$P$52,0),1,0)),0)","v":0},"*"]
[null,null,1259,null,null,null,null,null,null,null,null,null,null,null,null,null,null,null,null,null,null,null,null,null,null,null,null,null,null,0,0,{"$f":"IFERROR(IF(J1269=5,1,IF(MATCH(J1269&\"/\"&N1269,読み替え表_カーシェア!$P$32:$P$52,0),1,0)),0)","v":0},"*"]
[null,null,1260,null,null,null,null,null,null,null,null,null,null,null,null,null,null,null,null,null,null,null,null,null,null,null,null,null,null,0,0,{"$f":"IFERROR(IF(J1270=5,1,IF(MATCH(J1270&\"/\"&N1270,読み替え表_カーシェア!$P$32:$P$52,0),1,0)),0)","v":0},"*"]
[null,null,1261,null,null,null,null,null,null,null,null,null,null,null,null,null,null,null,null,null,null,null,null,null,null,null,null,null,null,0,0,{"$f":"IFERROR(IF(J1271=5,1,IF(MATCH(J1271&\"/\"&N1271,読み替え表_カーシェア!$P$32:$P$52,0),1,0)),0)","v":0},"*"]
[null,null,1262,null,null,null,null,null,null,null,null,null,null,null,null,null,null,null,null,null,null,null,null,null,null,null,null,null,null,0,0,{"$f":"IFERROR(IF(J1272=5,1,IF(MATCH(J1272&\"/\"&N1272,読み替え表_カーシェア!$P$32:$P$52,0),1,0)),0)","v":0},"*"]
[null,null,1263,null,null,null,null,null,null,null,null,null,null,null,null,null,null,null,null,null,null,null,null,null,null,null,null,null,null,0,0,{"$f":"IFERROR(IF(J1273=5,1,IF(MATCH(J1273&\"/\"&N1273,読み替え表_カーシェア!$P$32:$P$52,0),1,0)),0)","v":0},"*"]
[null,null,1264,null,null,null,null,null,null,null,null,null,null,null,null,null,null,null,null,null,null,null,null,null,null,null,null,null,null,0,0,{"$f":"IFERROR(IF(J1274=5,1,IF(MATCH(J1274&\"/\"&N1274,読み替え表_カーシェア!$P$32:$P$52,0),1,0)),0)","v":0},"*"]
[null,null,1265,null,null,null,null,null,null,null,null,null,null,null,null,null,null,null,null,null,null,null,null,null,null,null,null,null,null,0,0,{"$f":"IFERROR(IF(J1275=5,1,IF(MATCH(J1275&\"/\"&N1275,読み替え表_カーシェア!$P$32:$P$52,0),1,0)),0)","v":0},"*"]
[null,null,1266,null,null,null,null,null,null,null,null,null,null,null,null,null,null,null,null,null,null,null,null,null,null,null,null,null,null,0,0,{"$f":"IFERROR(IF(J1276=5,1,IF(MATCH(J1276&\"/\"&N1276,読み替え表_カーシェア!$P$32:$P$52,0),1,0)),0)","v":0},"*"]
[null,null,1267,null,null,null,null,null,null,null,null,null,null,null,null,null,null,null,null,null,null,null,null,null,null,null,null,null,null,0,0,{"$f":"IFERROR(IF(J1277=5,1,IF(MATCH(J1277&\"/\"&N1277,読み替え表_カーシェア!$P$32:$P$52,0),1,0)),0)","v":0},"*"]
[null,null,1268,null,null,null,null,null,null,null,null,null,null,null,null,null,null,null,null,null,null,null,null,null,null,null,null,null,null,0,0,{"$f":"IFERROR(IF(J1278=5,1,IF(MATCH(J1278&\"/\"&N1278,読み替え表_カーシェア!$P$32:$P$52,0),1,0)),0)","v":0},"*"]
[null,null,1269,null,null,null,null,null,null,null,null,null,null,null,null,null,null,null,null,null,null,null,null,null,null,null,null,null,null,0,0,{"$f":"IFERROR(IF(J1279=5,1,IF(MATCH(J1279&\"/\"&N1279,読み替え表_カーシェア!$P$32:$P$52,0),1,0)),0)","v":0},"*"]
[null,null,1270,null,null,null,null,null,null,null,null,null,null,null,null,null,null,null,null,null,null,null,null,null,null,null,null,null,null,0,0,{"$f":"IFERROR(IF(J1280=5,1,IF(MATCH(J1280&\"/\"&N1280,読み替え表_カーシェア!$P$32:$P$52,0),1,0)),0)","v":0},"*"]
[null,null,1271,null,null,null,null,null,null,null,null,null,null,null,null,null,null,null,null,null,null,null,null,null,null,null,null,null,null,0,0,{"$f":"IFERROR(IF(J1281=5,1,IF(MATCH(J1281&\"/\"&N1281,読み替え表_カーシェア!$P$32:$P$52,0),1,0)),0)","v":0},"*"]
[null,null,1272,null,null,null,null,null,null,null,null,null,null,null,null,null,null,null,null,null,null,null,null,null,null,null,null,null,null,0,0,{"$f":"IFERROR(IF(J1282=5,1,IF(MATCH(J1282&\"/\"&N1282,読み替え表_カーシェア!$P$32:$P$52,0),1,0)),0)","v":0},"*"]
[null,null,1273,null,null,null,null,null,null,null,null,null,null,null,null,null,null,null,null,null,null,null,null,null,null,null,null,null,null,0,0,{"$f":"IFERROR(IF(J1283=5,1,IF(MATCH(J1283&\"/\"&N1283,読み替え表_カーシェア!$P$32:$P$52,0),1,0)),0)","v":0},"*"]
[null,null,1274,null,null,null,null,null,null,null,null,null,null,null,null,null,null,null,null,null,null,null,null,null,null,null,null,null,null,0,0,{"$f":"IFERROR(IF(J1284=5,1,IF(MATCH(J1284&\"/\"&N1284,読み替え表_カーシェア!$P$32:$P$52,0),1,0)),0)","v":0},"*"]
[null,null,1275,null,null,null,null,null,null,null,null,null,null,null,null,null,null,null,null,null,null,null,null,null,null,null,null,null,null,0,0,{"$f":"IFERROR(IF(J1285=5,1,IF(MATCH(J1285&\"/\"&N1285,読み替え表_カーシェア!$P$32:$P$52,0),1,0)),0)","v":0},"*"]
[null,null,1276,null,null,null,null,null,null,null,null,null,null,null,null,null,null,null,null,null,null,null,null,null,null,null,null,null,null,0,0,{"$f":"IFERROR(IF(J1286=5,1,IF(MATCH(J1286&\"/\"&N1286,読み替え表_カーシェア!$P$32:$P$52,0),1,0)),0)","v":0},"*"]
[null,null,1277,null,null,null,null,null,null,null,null,null,null,null,null,null,null,null,null,null,null,null,null,null,null,null,null,null,null,0,0,{"$f":"IFERROR(IF(J1287=5,1,IF(MATCH(J1287&\"/\"&N1287,読み替え表_カーシェア!$P$32:$P$52,0),1,0)),0)","v":0},"*"]
[null,null,1278,null,null,null,null,null,null,null,null,null,null,null,null,null,null,null,null,null,null,null,null,null,null,null,null,null,null,0,0,{"$f":"IFERROR(IF(J1288=5,1,IF(MATCH(J1288&\"/\"&N1288,読み替え表_カーシェア!$P$32:$P$52,0),1,0)),0)","v":0},"*"]
[null,null,1279,null,null,null,null,null,null,null,null,null,null,null,null,null,null,null,null,null,null,null,null,null,null,null,null,null,null,0,0,{"$f":"IFERROR(IF(J1289=5,1,IF(MATCH(J1289&\"/\"&N1289,読み替え表_カーシェア!$P$32:$P$52,0),1,0)),0)","v":0},"*"]
[null,null,1280,null,null,null,null,null,null,null,null,null,null,null,null,null,null,null,null,null,null,null,null,null,null,null,null,null,null,0,0,{"$f":"IFERROR(IF(J1290=5,1,IF(MATCH(J1290&\"/\"&N1290,読み替え表_カーシェア!$P$32:$P$52,0),1,0)),0)","v":0},"*"]
[null,null,1281,null,null,null,null,null,null,null,null,null,null,null,null,null,null,null,null,null,null,null,null,null,null,null,null,null,null,0,0,{"$f":"IFERROR(IF(J1291=5,1,IF(MATCH(J1291&\"/\"&N1291,読み替え表_カーシェア!$P$32:$P$52,0),1,0)),0)","v":0},"*"]
[null,null,{"$f":"ROW()-10","v":1282},null,null,null,null,null,null,null,null,null,null,null,null,null,null,null,null,null,null,null,null,null,null,null,null,null,null,{"$f":"IF(OR($N1292=1,$N1292=2,$N1292=3),1,0)","v":0},{"$f":"IF(AND($J1292=1,$L1292>$M1292),1,IF(AND($J1292=1,$L1292<$M1292),2,IF(AND($J1292=1,$L1292=$M1292),3,0)))","v":0},{"$f":"IFERROR(IF(J1292=5,1,IF(MATCH(J1292&\"/\"&N1292,読み替え表_カーシェア!$P$32:$P$52,0),1,0)),0)","v":0},"*"]
[null,null,1283,null,null,null,null,null,null,null,null,null,null,null,null,null,null,null,null,null,null,null,null,null,null,null,null,null,null,0,0,{"$f":"IFERROR(IF(J1293=5,1,IF(MATCH(J1293&\"/\"&N1293,読み替え表_カーシェア!$P$32:$P$52,0),1,0)),0)","v":0},"*"]
[null,null,1284,null,null,null,null,null,null,null,null,null,null,null,null,null,null,null,null,null,null,null,null,null,null,null,null,null,null,0,0,{"$f":"IFERROR(IF(J1294=5,1,IF(MATCH(J1294&\"/\"&N1294,読み替え表_カーシェア!$P$32:$P$52,0),1,0)),0)","v":0},"*"]
[null,null,1285,null,null,null,null,null,null,null,null,null,null,null,null,null,null,null,null,null,null,null,null,null,null,null,null,null,null,0,0,{"$f":"IFERROR(IF(J1295=5,1,IF(MATCH(J1295&\"/\"&N1295,読み替え表_カーシェア!$P$32:$P$52,0),1,0)),0)","v":0},"*"]
[null,null,1286,null,null,null,null,null,null,null,null,null,null,null,null,null,null,null,null,null,null,null,null,null,null,null,null,null,null,0,0,{"$f":"IFERROR(IF(J1296=5,1,IF(MATCH(J1296&\"/\"&N1296,読み替え表_カーシェア!$P$32:$P$52,0),1,0)),0)","v":0},"*"]
[null,null,1287,null,null,null,null,null,null,null,null,null,null,null,null,null,null,null,null,null,null,null,null,null,null,null,null,null,null,0,0,{"$f":"IFERROR(IF(J1297=5,1,IF(MATCH(J1297&\"/\"&N1297,読み替え表_カーシェア!$P$32:$P$52,0),1,0)),0)","v":0},"*"]
[null,null,1288,null,null,null,null,null,null,null,null,null,null,null,null,null,null,null,null,null,null,null,null,null,null,null,null,null,null,0,0,{"$f":"IFERROR(IF(J1298=5,1,IF(MATCH(J1298&\"/\"&N1298,読み替え表_カーシェア!$P$32:$P$52,0),1,0)),0)","v":0},"*"]
[null,null,1289,null,null,null,null,null,null,null,null,null,null,null,null,null,null,null,null,null,null,null,null,null,null,null,null,null,null,0,0,{"$f":"IFERROR(IF(J1299=5,1,IF(MATCH(J1299&\"/\"&N1299,読み替え表_カーシェア!$P$32:$P$52,0),1,0)),0)","v":0},"*"]
[null,null,1290,null,null,null,null,null,null,null,null,null,null,null,null,null,null,null,null,null,null,null,null,null,null,null,null,null,null,0,0,{"$f":"IFERROR(IF(J1300=5,1,IF(MATCH(J1300&\"/\"&N1300,読み替え表_カーシェア!$P$32:$P$52,0),1,0)),0)","v":0},"*"]
[null,null,1291,null,null,null,null,null,null,null,null,null,null,null,null,null,null,null,null,null,null,null,null,null,null,null,null,null,null,0,0,{"$f":"IFERROR(IF(J1301=5,1,IF(MATCH(J1301&\"/\"&N1301,読み替え表_カーシェア!$P$32:$P$52,0),1,0)),0)","v":0},"*"]
[null,null,1292,null,null,null,null,null,null,null,null,null,null,null,null,null,null,null,null,null,null,null,null,null,null,null,null,null,null,0,0,{"$f":"IFERROR(IF(J1302=5,1,IF(MATCH(J1302&\"/\"&N1302,読み替え表_カーシェア!$P$32:$P$52,0),1,0)),0)","v":0},"*"]
[null,null,1293,null,null,null,null,null,null,null,null,null,null,null,null,null,null,null,null,null,null,null,null,null,null,null,null,null,null,0,0,{"$f":"IFERROR(IF(J1303=5,1,IF(MATCH(J1303&\"/\"&N1303,読み替え表_カーシェア!$P$32:$P$52,0),1,0)),0)","v":0},"*"]
[null,null,1294,null,null,null,null,null,null,null,null,null,null,null,null,null,null,null,null,null,null,null,null,null,null,null,null,null,null,0,0,{"$f":"IFERROR(IF(J1304=5,1,IF(MATCH(J1304&\"/\"&N1304,読み替え表_カーシェア!$P$32:$P$52,0),1,0)),0)","v":0},"*"]
[null,null,1295,null,null,null,null,null,null,null,null,null,null,null,null,null,null,null,null,null,null,null,null,null,null,null,null,null,null,0,0,{"$f":"IFERROR(IF(J1305=5,1,IF(MATCH(J1305&\"/\"&N1305,読み替え表_カーシェア!$P$32:$P$52,0),1,0)),0)","v":0},"*"]
[null,null,1296,null,null,null,null,null,null,null,null,null,null,null,null,null,null,null,null,null,null,null,null,null,null,null,null,null,null,0,0,{"$f":"IFERROR(IF(J1306=5,1,IF(MATCH(J1306&\"/\"&N1306,読み替え表_カーシェア!$P$32:$P$52,0),1,0)),0)","v":0},"*"]
[null,null,1297,null,null,null,null,null,null,null,null,null,null,null,null,null,null,null,null,null,null,null,null,null,null,null,null,null,null,0,0,{"$f":"IFERROR(IF(J1307=5,1,IF(MATCH(J1307&\"/\"&N1307,読み替え表_カーシェア!$P$32:$P$52,0),1,0)),0)","v":0},"*"]
[null,null,1298,null,null,null,null,null,null,null,null,null,null,null,null,null,null,null,null,null,null,null,null,null,null,null,null,null,null,0,0,{"$f":"IFERROR(IF(J1308=5,1,IF(MATCH(J1308&\"/\"&N1308,読み替え表_カーシェア!$P$32:$P$52,0),1,0)),0)","v":0},"*"]
[null,null,1299,null,null,null,null,null,null,null,null,null,null,null,null,null,null,null,null,null,null,null,null,null,null,null,null,null,null,0,0,{"$f":"IFERROR(IF(J1309=5,1,IF(MATCH(J1309&\"/\"&N1309,読み替え表_カーシェア!$P$32:$P$52,0),1,0)),0)","v":0},"*"]
[null,null,1300,null,null,null,null,null,null,null,null,null,null,null,null,null,null,null,null,null,null,null,null,null,null,null,null,null,null,0,0,{"$f":"IFERROR(IF(J1310=5,1,IF(MATCH(J1310&\"/\"&N1310,読み替え表_カーシェア!$P$32:$P$52,0),1,0)),0)","v":0},"*"]
[null,null,1301,null,null,null,null,null,null,null,null,null,null,null,null,null,null,null,null,null,null,null,null,null,null,null,null,null,null,0,0,{"$f":"IFERROR(IF(J1311=5,1,IF(MATCH(J1311&\"/\"&N1311,読み替え表_カーシェア!$P$32:$P$52,0),1,0)),0)","v":0},"*"]
[null,null,1302,null,null,null,null,null,null,null,null,null,null,null,null,null,null,null,null,null,null,null,null,null,null,null,null,null,null,0,0,{"$f":"IFERROR(IF(J1312=5,1,IF(MATCH(J1312&\"/\"&N1312,読み替え表_カーシェア!$P$32:$P$52,0),1,0)),0)","v":0},"*"]
[null,null,1303,null,null,null,null,null,null,null,null,null,null,null,null,null,null,null,null,null,null,null,null,null,null,null,null,null,null,0,0,{"$f":"IFERROR(IF(J1313=5,1,IF(MATCH(J1313&\"/\"&N1313,読み替え表_カーシェア!$P$32:$P$52,0),1,0)),0)","v":0},"*"]
[null,null,1304,null,null,null,null,null,null,null,null,null,null,null,null,null,null,null,null,null,null,null,null,null,null,null,null,null,null,0,0,{"$f":"IFERROR(IF(J1314=5,1,IF(MATCH(J1314&\"/\"&N1314,読み替え表_カーシェア!$P$32:$P$52,0),1,0)),0)","v":0},"*"]
[null,null,1305,null,null,null,null,null,null,null,null,null,null,null,null,null,null,null,null,null,null,null,null,null,null,null,null,null,null,0,0,{"$f":"IFERROR(IF(J1315=5,1,IF(MATCH(J1315&\"/\"&N1315,読み替え表_カーシェア!$P$32:$P$52,0),1,0)),0)","v":0},"*"]
[null,null,1306,null,null,null,null,null,null,null,null,null,null,null,null,null,null,null,null,null,null,null,null,null,null,null,null,null,null,0,0,{"$f":"IFERROR(IF(J1316=5,1,IF(MATCH(J1316&\"/\"&N1316,読み替え表_カーシェア!$P$32:$P$52,0),1,0)),0)","v":0},"*"]
[null,null,1307,null,null,null,null,null,null,null,null,null,null,null,null,null,null,null,null,null,null,null,null,null,null,null,null,null,null,0,0,{"$f":"IFERROR(IF(J1317=5,1,IF(MATCH(J1317&\"/\"&N1317,読み替え表_カーシェア!$P$32:$P$52,0),1,0)),0)","v":0},"*"]
[null,null,1308,null,null,null,null,null,null,null,null,null,null,null,null,null,null,null,null,null,null,null,null,null,null,null,null,null,null,0,0,{"$f":"IFERROR(IF(J1318=5,1,IF(MATCH(J1318&\"/\"&N1318,読み替え表_カーシェア!$P$32:$P$52,0),1,0)),0)","v":0},"*"]
[null,null,1309,null,null,null,null,null,null,null,null,null,null,null,null,null,null,null,null,null,null,null,null,null,null,null,null,null,null,0,0,{"$f":"IFERROR(IF(J1319=5,1,IF(MATCH(J1319&\"/\"&N1319,読み替え表_カーシェア!$P$32:$P$52,0),1,0)),0)","v":0},"*"]
[null,null,1310,null,null,null,null,null,null,null,null,null,null,null,null,null,null,null,null,null,null,null,null,null,null,null,null,null,null,0,0,{"$f":"IFERROR(IF(J1320=5,1,IF(MATCH(J1320&\"/\"&N1320,読み替え表_カーシェア!$P$32:$P$52,0),1,0)),0)","v":0},"*"]
[null,null,1311,null,null,null,null,null,null,null,null,null,null,null,null,null,null,null,null,null,null,null,null,null,null,null,null,null,null,0,0,{"$f":"IFERROR(IF(J1321=5,1,IF(MATCH(J1321&\"/\"&N1321,読み替え表_カーシェア!$P$32:$P$52,0),1,0)),0)","v":0},"*"]
[null,null,1312,null,null,null,null,null,null,null,null,null,null,null,null,null,null,null,null,null,null,null,null,null,null,null,null,null,null,0,0,{"$f":"IFERROR(IF(J1322=5,1,IF(MATCH(J1322&\"/\"&N1322,読み替え表_カーシェア!$P$32:$P$52,0),1,0)),0)","v":0},"*"]
[null,null,1313,null,null,null,null,null,null,null,null,null,null,null,null,null,null,null,null,null,null,null,null,null,null,null,null,null,null,0,0,{"$f":"IFERROR(IF(J1323=5,1,IF(MATCH(J1323&\"/\"&N1323,読み替え表_カーシェア!$P$32:$P$52,0),1,0)),0)","v":0},"*"]
[null,null,1314,null,null,null,null,null,null,null,null,null,null,null,null,null,null,null,null,null,null,null,null,null,null,null,null,null,null,0,0,{"$f":"IFERROR(IF(J1324=5,1,IF(MATCH(J1324&\"/\"&N1324,読み替え表_カーシェア!$P$32:$P$52,0),1,0)),0)","v":0},"*"]
[null,null,1315,null,null,null,null,null,null,null,null,null,null,null,null,null,null,null,null,null,null,null,null,null,null,null,null,null,null,0,0,{"$f":"IFERROR(IF(J1325=5,1,IF(MATCH(J1325&\"/\"&N1325,読み替え表_カーシェア!$P$32:$P$52,0),1,0)),0)","v":0},"*"]
[null,null,1316,null,null,null,null,null,null,null,null,null,null,null,null,null,null,null,null,null,null,null,null,null,null,null,null,null,null,0,0,{"$f":"IFERROR(IF(J1326=5,1,IF(MATCH(J1326&\"/\"&N1326,読み替え表_カーシェア!$P$32:$P$52,0),1,0)),0)","v":0},"*"]
[null,null,1317,null,null,null,null,null,null,null,null,null,null,null,null,null,null,null,null,null,null,null,null,null,null,null,null,null,null,0,0,{"$f":"IFERROR(IF(J1327=5,1,IF(MATCH(J1327&\"/\"&N1327,読み替え表_カーシェア!$P$32:$P$52,0),1,0)),0)","v":0},"*"]
[null,null,1318,null,null,null,null,null,null,null,null,null,null,null,null,null,null,null,null,null,null,null,null,null,null,null,null,null,null,0,0,{"$f":"IFERROR(IF(J1328=5,1,IF(MATCH(J1328&\"/\"&N1328,読み替え表_カーシェア!$P$32:$P$52,0),1,0)),0)","v":0},"*"]
[null,null,1319,null,null,null,null,null,null,null,null,null,null,null,null,null,null,null,null,null,null,null,null,null,null,null,null,null,null,0,0,{"$f":"IFERROR(IF(J1329=5,1,IF(MATCH(J1329&\"/\"&N1329,読み替え表_カーシェア!$P$32:$P$52,0),1,0)),0)","v":0},"*"]
[null,null,1320,null,null,null,null,null,null,null,null,null,null,null,null,null,null,null,null,null,null,null,null,null,null,null,null,null,null,0,0,{"$f":"IFERROR(IF(J1330=5,1,IF(MATCH(J1330&\"/\"&N1330,読み替え表_カーシェア!$P$32:$P$52,0),1,0)),0)","v":0},"*"]
[null,null,1321,null,null,null,null,null,null,null,null,null,null,null,null,null,null,null,null,null,null,null,null,null,null,null,null,null,null,0,0,{"$f":"IFERROR(IF(J1331=5,1,IF(MATCH(J1331&\"/\"&N1331,読み替え表_カーシェア!$P$32:$P$52,0),1,0)),0)","v":0},"*"]
[null,null,1322,null,null,null,null,null,null,null,null,null,null,null,null,null,null,null,null,null,null,null,null,null,null,null,null,null,null,0,0,{"$f":"IFERROR(IF(J1332=5,1,IF(MATCH(J1332&\"/\"&N1332,読み替え表_カーシェア!$P$32:$P$52,0),1,0)),0)","v":0},"*"]
[null,null,1323,null,null,null,null,null,null,null,null,null,null,null,null,null,null,null,null,null,null,null,null,null,null,null,null,null,null,0,0,{"$f":"IFERROR(IF(J1333=5,1,IF(MATCH(J1333&\"/\"&N1333,読み替え表_カーシェア!$P$32:$P$52,0),1,0)),0)","v":0},"*"]
[null,null,1324,null,null,null,null,null,null,null,null,null,null,null,null,null,null,null,null,null,null,null,null,null,null,null,null,null,null,0,0,{"$f":"IFERROR(IF(J1334=5,1,IF(MATCH(J1334&\"/\"&N1334,読み替え表_カーシェア!$P$32:$P$52,0),1,0)),0)","v":0},"*"]
[null,null,1325,null,null,null,null,null,null,null,null,null,null,null,null,null,null,null,null,null,null,null,null,null,null,null,null,null,null,0,0,{"$f":"IFERROR(IF(J1335=5,1,IF(MATCH(J1335&\"/\"&N1335,読み替え表_カーシェア!$P$32:$P$52,0),1,0)),0)","v":0},"*"]
[null,null,1326,null,null,null,null,null,null,null,null,null,null,null,null,null,null,null,null,null,null,null,null,null,null,null,null,null,null,0,0,{"$f":"IFERROR(IF(J1336=5,1,IF(MATCH(J1336&\"/\"&N1336,読み替え表_カーシェア!$P$32:$P$52,0),1,0)),0)","v":0},"*"]
[null,null,1327,null,null,null,null,null,null,null,null,null,null,null,null,null,null,null,null,null,null,null,null,null,null,null,null,null,null,0,0,{"$f":"IFERROR(IF(J1337=5,1,IF(MATCH(J1337&\"/\"&N1337,読み替え表_カーシェア!$P$32:$P$52,0),1,0)),0)","v":0},"*"]
[null,null,1328,null,null,null,null,null,null,null,null,null,null,null,null,null,null,null,null,null,null,null,null,null,null,null,null,null,null,0,0,{"$f":"IFERROR(IF(J1338=5,1,IF(MATCH(J1338&\"/\"&N1338,読み替え表_カーシェア!$P$32:$P$52,0),1,0)),0)","v":0},"*"]
[null,null,1329,null,null,null,null,null,null,null,null,null,null,null,null,null,null,null,null,null,null,null,null,null,null,null,null,null,null,0,0,{"$f":"IFERROR(IF(J1339=5,1,IF(MATCH(J1339&\"/\"&N1339,読み替え表_カーシェア!$P$32:$P$52,0),1,0)),0)","v":0},"*"]
[null,null,1330,null,null,null,null,null,null,null,null,null,null,null,null,null,null,null,null,null,null,null,null,null,null,null,null,null,null,0,0,{"$f":"IFERROR(IF(J1340=5,1,IF(MATCH(J1340&\"/\"&N1340,読み替え表_カーシェア!$P$32:$P$52,0),1,0)),0)","v":0},"*"]
[null,null,1331,null,null,null,null,null,null,null,null,null,null,null,null,null,null,null,null,null,null,null,null,null,null,null,null,null,null,0,0,{"$f":"IFERROR(IF(J1341=5,1,IF(MATCH(J1341&\"/\"&N1341,読み替え表_カーシェア!$P$32:$P$52,0),1,0)),0)","v":0},"*"]
[null,null,1332,null,null,null,null,null,null,null,null,null,null,null,null,null,null,null,null,null,null,null,null,null,null,null,null,null,null,0,0,{"$f":"IFERROR(IF(J1342=5,1,IF(MATCH(J1342&\"/\"&N1342,読み替え表_カーシェア!$P$32:$P$52,0),1,0)),0)","v":0},"*"]
[null,null,1333,null,null,null,null,null,null,null,null,null,null,null,null,null,null,null,null,null,null,null,null,null,null,null,null,null,null,0,0,{"$f":"IFERROR(IF(J1343=5,1,IF(MATCH(J1343&\"/\"&N1343,読み替え表_カーシェア!$P$32:$P$52,0),1,0)),0)","v":0},"*"]
[null,null,1334,null,null,null,null,null,null,null,null,null,null,null,null,null,null,null,null,null,null,null,null,null,null,null,null,null,null,0,0,{"$f":"IFERROR(IF(J1344=5,1,IF(MATCH(J1344&\"/\"&N1344,読み替え表_カーシェア!$P$32:$P$52,0),1,0)),0)","v":0},"*"]
[null,null,1335,null,null,null,null,null,null,null,null,null,null,null,null,null,null,null,null,null,null,null,null,null,null,null,null,null,null,0,0,{"$f":"IFERROR(IF(J1345=5,1,IF(MATCH(J1345&\"/\"&N1345,読み替え表_カーシェア!$P$32:$P$52,0),1,0)),0)","v":0},"*"]
[null,null,1336,null,null,null,null,null,null,null,null,null,null,null,null,null,null,null,null,null,null,null,null,null,null,null,null,null,null,0,0,{"$f":"IFERROR(IF(J1346=5,1,IF(MATCH(J1346&\"/\"&N1346,読み替え表_カーシェア!$P$32:$P$52,0),1,0)),0)","v":0},"*"]
[null,null,1337,null,null,null,null,null,null,null,null,null,null,null,null,null,null,null,null,null,null,null,null,null,null,null,null,null,null,0,0,{"$f":"IFERROR(IF(J1347=5,1,IF(MATCH(J1347&\"/\"&N1347,読み替え表_カーシェア!$P$32:$P$52,0),1,0)),0)","v":0},"*"]
[null,null,1338,null,null,null,null,null,null,null,null,null,null,null,null,null,null,null,null,null,null,null,null,null,null,null,null,null,null,0,0,{"$f":"IFERROR(IF(J1348=5,1,IF(MATCH(J1348&\"/\"&N1348,読み替え表_カーシェア!$P$32:$P$52,0),1,0)),0)","v":0},"*"]
[null,null,1339,null,null,null,null,null,null,null,null,null,null,null,null,null,null,null,null,null,null,null,null,null,null,null,null,null,null,0,0,{"$f":"IFERROR(IF(J1349=5,1,IF(MATCH(J1349&\"/\"&N1349,読み替え表_カーシェア!$P$32:$P$52,0),1,0)),0)","v":0},"*"]
[null,null,1340,null,null,null,null,null,null,null,null,null,null,null,null,null,null,null,null,null,null,null,null,null,null,null,null,null,null,0,0,{"$f":"IFERROR(IF(J1350=5,1,IF(MATCH(J1350&\"/\"&N1350,読み替え表_カーシェア!$P$32:$P$52,0),1,0)),0)","v":0},"*"]
[null,null,1341,null,null,null,null,null,null,null,null,null,null,null,null,null,null,null,null,null,null,null,null,null,null,null,null,null,null,0,0,{"$f":"IFERROR(IF(J1351=5,1,IF(MATCH(J1351&\"/\"&N1351,読み替え表_カーシェア!$P$32:$P$52,0),1,0)),0)","v":0},"*"]
[null,null,1342,null,null,null,null,null,null,null,null,null,null,null,null,null,null,null,null,null,null,null,null,null,null,null,null,null,null,0,0,{"$f":"IFERROR(IF(J1352=5,1,IF(MATCH(J1352&\"/\"&N1352,読み替え表_カーシェア!$P$32:$P$52,0),1,0)),0)","v":0},"*"]
[null,null,1343,null,null,null,null,null,null,null,null,null,null,null,null,null,null,null,null,null,null,null,null,null,null,null,null,null,null,0,0,{"$f":"IFERROR(IF(J1353=5,1,IF(MATCH(J1353&\"/\"&N1353,読み替え表_カーシェア!$P$32:$P$52,0),1,0)),0)","v":0},"*"]
[null,null,1344,null,null,null,null,null,null,null,null,null,null,null,null,null,null,null,null,null,null,null,null,null,null,null,null,null,null,0,0,{"$f":"IFERROR(IF(J1354=5,1,IF(MATCH(J1354&\"/\"&N1354,読み替え表_カーシェア!$P$32:$P$52,0),1,0)),0)","v":0},"*"]
[null,null,1345,null,null,null,null,null,null,null,null,null,null,null,null,null,null,null,null,null,null,null,null,null,null,null,null,null,null,0,0,{"$f":"IFERROR(IF(J1355=5,1,IF(MATCH(J1355&\"/\"&N1355,読み替え表_カーシェア!$P$32:$P$52,0),1,0)),0)","v":0},"*"]
[null,null,{"$f":"ROW()-10","v":1346},null,null,null,null,null,null,null,null,null,null,null,null,null,null,null,null,null,null,null,null,null,null,null,null,null,null,{"$f":"IF(OR($N1356=1,$N1356=2,$N1356=3),1,0)","v":0},{"$f":"IF(AND($J1356=1,$L1356>$M1356),1,IF(AND($J1356=1,$L1356<$M1356),2,IF(AND($J1356=1,$L1356=$M1356),3,0)))","v":0},{"$f":"IFERROR(IF(J1356=5,1,IF(MATCH(J1356&\"/\"&N1356,読み替え表_カーシェア!$P$32:$P$52,0),1,0)),0)","v":0},"*"]
[null,null,1347,null,null,null,null,null,null,null,null,null,null,null,null,null,null,null,null,null,null,null,null,null,null,null,null,null,null,0,0,{"$f":"IFERROR(IF(J1357=5,1,IF(MATCH(J1357&\"/\"&N1357,読み替え表_カーシェア!$P$32:$P$52,0),1,0)),0)","v":0},"*"]
[null,null,1348,null,null,null,null,null,null,null,null,null,null,null,null,null,null,null,null,null,null,null,null,null,null,null,null,null,null,0,0,{"$f":"IFERROR(IF(J1358=5,1,IF(MATCH(J1358&\"/\"&N1358,読み替え表_カーシェア!$P$32:$P$52,0),1,0)),0)","v":0},"*"]
[null,null,1349,null,null,null,null,null,null,null,null,null,null,null,null,null,null,null,null,null,null,null,null,null,null,null,null,null,null,0,0,{"$f":"IFERROR(IF(J1359=5,1,IF(MATCH(J1359&\"/\"&N1359,読み替え表_カーシェア!$P$32:$P$52,0),1,0)),0)","v":0},"*"]
[null,null,1350,null,null,null,null,null,null,null,null,null,null,null,null,null,null,null,null,null,null,null,null,null,null,null,null,null,null,0,0,{"$f":"IFERROR(IF(J1360=5,1,IF(MATCH(J1360&\"/\"&N1360,読み替え表_カーシェア!$P$32:$P$52,0),1,0)),0)","v":0},"*"]
[null,null,1351,null,null,null,null,null,null,null,null,null,null,null,null,null,null,null,null,null,null,null,null,null,null,null,null,null,null,0,0,{"$f":"IFERROR(IF(J1361=5,1,IF(MATCH(J1361&\"/\"&N1361,読み替え表_カーシェア!$P$32:$P$52,0),1,0)),0)","v":0},"*"]
[null,null,1352,null,null,null,null,null,null,null,null,null,null,null,null,null,null,null,null,null,null,null,null,null,null,null,null,null,null,0,0,{"$f":"IFERROR(IF(J1362=5,1,IF(MATCH(J1362&\"/\"&N1362,読み替え表_カーシェア!$P$32:$P$52,0),1,0)),0)","v":0},"*"]
[null,null,1353,null,null,null,null,null,null,null,null,null,null,null,null,null,null,null,null,null,null,null,null,null,null,null,null,null,null,0,0,{"$f":"IFERROR(IF(J1363=5,1,IF(MATCH(J1363&\"/\"&N1363,読み替え表_カーシェア!$P$32:$P$52,0),1,0)),0)","v":0},"*"]
[null,null,1354,null,null,null,null,null,null,null,null,null,null,null,null,null,null,null,null,null,null,null,null,null,null,null,null,null,null,0,0,{"$f":"IFERROR(IF(J1364=5,1,IF(MATCH(J1364&\"/\"&N1364,読み替え表_カーシェア!$P$32:$P$52,0),1,0)),0)","v":0},"*"]
[null,null,1355,null,null,null,null,null,null,null,null,null,null,null,null,null,null,null,null,null,null,null,null,null,null,null,null,null,null,0,0,{"$f":"IFERROR(IF(J1365=5,1,IF(MATCH(J1365&\"/\"&N1365,読み替え表_カーシェア!$P$32:$P$52,0),1,0)),0)","v":0},"*"]
[null,null,1356,null,null,null,null,null,null,null,null,null,null,null,null,null,null,null,null,null,null,null,null,null,null,null,null,null,null,0,0,{"$f":"IFERROR(IF(J1366=5,1,IF(MATCH(J1366&\"/\"&N1366,読み替え表_カーシェア!$P$32:$P$52,0),1,0)),0)","v":0},"*"]
[null,null,1357,null,null,null,null,null,null,null,null,null,null,null,null,null,null,null,null,null,null,null,null,null,null,null,null,null,null,0,0,{"$f":"IFERROR(IF(J1367=5,1,IF(MATCH(J1367&\"/\"&N1367,読み替え表_カーシェア!$P$32:$P$52,0),1,0)),0)","v":0},"*"]
[null,null,1358,null,null,null,null,null,null,null,null,null,null,null,null,null,null,null,null,null,null,null,null,null,null,null,null,null,null,0,0,{"$f":"IFERROR(IF(J1368=5,1,IF(MATCH(J1368&\"/\"&N1368,読み替え表_カーシェア!$P$32:$P$52,0),1,0)),0)","v":0},"*"]
[null,null,1359,null,null,null,null,null,null,null,null,null,null,null,null,null,null,null,null,null,null,null,null,null,null,null,null,null,null,0,0,{"$f":"IFERROR(IF(J1369=5,1,IF(MATCH(J1369&\"/\"&N1369,読み替え表_カーシェア!$P$32:$P$52,0),1,0)),0)","v":0},"*"]
[null,null,1360,null,null,null,null,null,null,null,null,null,null,null,null,null,null,null,null,null,null,null,null,null,null,null,null,null,null,0,0,{"$f":"IFERROR(IF(J1370=5,1,IF(MATCH(J1370&\"/\"&N1370,読み替え表_カーシェア!$P$32:$P$52,0),1,0)),0)","v":0},"*"]
[null,null,1361,null,null,null,null,null,null,null,null,null,null,null,null,null,null,null,null,null,null,null,null,null,null,null,null,null,null,0,0,{"$f":"IFERROR(IF(J1371=5,1,IF(MATCH(J1371&\"/\"&N1371,読み替え表_カーシェア!$P$32:$P$52,0),1,0)),0)","v":0},"*"]
[null,null,1362,null,null,null,null,null,null,null,null,null,null,null,null,null,null,null,null,null,null,null,null,null,null,null,null,null,null,0,0,{"$f":"IFERROR(IF(J1372=5,1,IF(MATCH(J1372&\"/\"&N1372,読み替え表_カーシェア!$P$32:$P$52,0),1,0)),0)","v":0},"*"]
[null,null,1363,null,null,null,null,null,null,null,null,null,null,null,null,null,null,null,null,null,null,null,null,null,null,null,null,null,null,0,0,{"$f":"IFERROR(IF(J1373=5,1,IF(MATCH(J1373&\"/\"&N1373,読み替え表_カーシェア!$P$32:$P$52,0),1,0)),0)","v":0},"*"]
[null,null,1364,null,null,null,null,null,null,null,null,null,null,null,null,null,null,null,null,null,null,null,null,null,null,null,null,null,null,0,0,{"$f":"IFERROR(IF(J1374=5,1,IF(MATCH(J1374&\"/\"&N1374,読み替え表_カーシェア!$P$32:$P$52,0),1,0)),0)","v":0},"*"]
[null,null,1365,null,null,null,null,null,null,null,null,null,null,null,null,null,null,null,null,null,null,null,null,null,null,null,null,null,null,0,0,{"$f":"IFERROR(IF(J1375=5,1,IF(MATCH(J1375&\"/\"&N1375,読み替え表_カーシェア!$P$32:$P$52,0),1,0)),0)","v":0},"*"]
[null,null,1366,null,null,null,null,null,null,null,null,null,null,null,null,null,null,null,null,null,null,null,null,null,null,null,null,null,null,0,0,{"$f":"IFERROR(IF(J1376=5,1,IF(MATCH(J1376&\"/\"&N1376,読み替え表_カーシェア!$P$32:$P$52,0),1,0)),0)","v":0},"*"]
[null,null,1367,null,null,null,null,null,null,null,null,null,null,null,null,null,null,null,null,null,null,null,null,null,null,null,null,null,null,0,0,{"$f":"IFERROR(IF(J1377=5,1,IF(MATCH(J1377&\"/\"&N1377,読み替え表_カーシェア!$P$32:$P$52,0),1,0)),0)","v":0},"*"]
[null,null,1368,null,null,null,null,null,null,null,null,null,null,null,null,null,null,null,null,null,null,null,null,null,null,null,null,null,null,0,0,{"$f":"IFERROR(IF(J1378=5,1,IF(MATCH(J1378&\"/\"&N1378,読み替え表_カーシェア!$P$32:$P$52,0),1,0)),0)","v":0},"*"]
[null,null,1369,null,null,null,null,null,null,null,null,null,null,null,null,null,null,null,null,null,null,null,null,null,null,null,null,null,null,0,0,{"$f":"IFERROR(IF(J1379=5,1,IF(MATCH(J1379&\"/\"&N1379,読み替え表_カーシェア!$P$32:$P$52,0),1,0)),0)","v":0},"*"]
[null,null,1370,null,null,null,null,null,null,null,null,null,null,null,null,null,null,null,null,null,null,null,null,null,null,null,null,null,null,0,0,{"$f":"IFERROR(IF(J1380=5,1,IF(MATCH(J1380&\"/\"&N1380,読み替え表_カーシェア!$P$32:$P$52,0),1,0)),0)","v":0},"*"]
[null,null,1371,null,null,null,null,null,null,null,null,null,null,null,null,null,null,null,null,null,null,null,null,null,null,null,null,null,null,0,0,{"$f":"IFERROR(IF(J1381=5,1,IF(MATCH(J1381&\"/\"&N1381,読み替え表_カーシェア!$P$32:$P$52,0),1,0)),0)","v":0},"*"]
[null,null,1372,null,null,null,null,null,null,null,null,null,null,null,null,null,null,null,null,null,null,null,null,null,null,null,null,null,null,0,0,{"$f":"IFERROR(IF(J1382=5,1,IF(MATCH(J1382&\"/\"&N1382,読み替え表_カーシェア!$P$32:$P$52,0),1,0)),0)","v":0},"*"]
[null,null,1373,null,null,null,null,null,null,null,null,null,null,null,null,null,null,null,null,null,null,null,null,null,null,null,null,null,null,0,0,{"$f":"IFERROR(IF(J1383=5,1,IF(MATCH(J1383&\"/\"&N1383,読み替え表_カーシェア!$P$32:$P$52,0),1,0)),0)","v":0},"*"]
[null,null,1374,null,null,null,null,null,null,null,null,null,null,null,null,null,null,null,null,null,null,null,null,null,null,null,null,null,null,0,0,{"$f":"IFERROR(IF(J1384=5,1,IF(MATCH(J1384&\"/\"&N1384,読み替え表_カーシェア!$P$32:$P$52,0),1,0)),0)","v":0},"*"]
[null,null,1375,null,null,null,null,null,null,null,null,null,null,null,null,null,null,null,null,null,null,null,null,null,null,null,null,null,null,0,0,{"$f":"IFERROR(IF(J1385=5,1,IF(MATCH(J1385&\"/\"&N1385,読み替え表_カーシェア!$P$32:$P$52,0),1,0)),0)","v":0},"*"]
[null,null,1376,null,null,null,null,null,null,null,null,null,null,null,null,null,null,null,null,null,null,null,null,null,null,null,null,null,null,0,0,{"$f":"IFERROR(IF(J1386=5,1,IF(MATCH(J1386&\"/\"&N1386,読み替え表_カーシェア!$P$32:$P$52,0),1,0)),0)","v":0},"*"]
[null,null,1377,null,null,null,null,null,null,null,null,null,null,null,null,null,null,null,null,null,null,null,null,null,null,null,null,null,null,0,0,{"$f":"IFERROR(IF(J1387=5,1,IF(MATCH(J1387&\"/\"&N1387,読み替え表_カーシェア!$P$32:$P$52,0),1,0)),0)","v":0},"*"]
[null,null,1378,null,null,null,null,null,null,null,null,null,null,null,null,null,null,null,null,null,null,null,null,null,null,null,null,null,null,0,0,{"$f":"IFERROR(IF(J1388=5,1,IF(MATCH(J1388&\"/\"&N1388,読み替え表_カーシェア!$P$32:$P$52,0),1,0)),0)","v":0},"*"]
[null,null,1379,null,null,null,null,null,null,null,null,null,null,null,null,null,null,null,null,null,null,null,null,null,null,null,null,null,null,0,0,{"$f":"IFERROR(IF(J1389=5,1,IF(MATCH(J1389&\"/\"&N1389,読み替え表_カーシェア!$P$32:$P$52,0),1,0)),0)","v":0},"*"]
[null,null,1380,null,null,null,null,null,null,null,null,null,null,null,null,null,null,null,null,null,null,null,null,null,null,null,null,null,null,0,0,{"$f":"IFERROR(IF(J1390=5,1,IF(MATCH(J1390&\"/\"&N1390,読み替え表_カーシェア!$P$32:$P$52,0),1,0)),0)","v":0},"*"]
[null,null,1381,null,null,null,null,null,null,null,null,null,null,null,null,null,null,null,null,null,null,null,null,null,null,null,null,null,null,0,0,{"$f":"IFERROR(IF(J1391=5,1,IF(MATCH(J1391&\"/\"&N1391,読み替え表_カーシェア!$P$32:$P$52,0),1,0)),0)","v":0},"*"]
[null,null,1382,null,null,null,null,null,null,null,null,null,null,null,null,null,null,null,null,null,null,null,null,null,null,null,null,null,null,0,0,{"$f":"IFERROR(IF(J1392=5,1,IF(MATCH(J1392&\"/\"&N1392,読み替え表_カーシェア!$P$32:$P$52,0),1,0)),0)","v":0},"*"]
[null,null,1383,null,null,null,null,null,null,null,null,null,null,null,null,null,null,null,null,null,null,null,null,null,null,null,null,null,null,0,0,{"$f":"IFERROR(IF(J1393=5,1,IF(MATCH(J1393&\"/\"&N1393,読み替え表_カーシェア!$P$32:$P$52,0),1,0)),0)","v":0},"*"]
[null,null,1384,null,null,null,null,null,null,null,null,null,null,null,null,null,null,null,null,null,null,null,null,null,null,null,null,null,null,0,0,{"$f":"IFERROR(IF(J1394=5,1,IF(MATCH(J1394&\"/\"&N1394,読み替え表_カーシェア!$P$32:$P$52,0),1,0)),0)","v":0},"*"]
[null,null,1385,null,null,null,null,null,null,null,null,null,null,null,null,null,null,null,null,null,null,null,null,null,null,null,null,null,null,0,0,{"$f":"IFERROR(IF(J1395=5,1,IF(MATCH(J1395&\"/\"&N1395,読み替え表_カーシェア!$P$32:$P$52,0),1,0)),0)","v":0},"*"]
[null,null,1386,null,null,null,null,null,null,null,null,null,null,null,null,null,null,null,null,null,null,null,null,null,null,null,null,null,null,0,0,{"$f":"IFERROR(IF(J1396=5,1,IF(MATCH(J1396&\"/\"&N1396,読み替え表_カーシェア!$P$32:$P$52,0),1,0)),0)","v":0},"*"]
[null,null,1387,null,null,null,null,null,null,null,null,null,null,null,null,null,null,null,null,null,null,null,null,null,null,null,null,null,null,0,0,{"$f":"IFERROR(IF(J1397=5,1,IF(MATCH(J1397&\"/\"&N1397,読み替え表_カーシェア!$P$32:$P$52,0),1,0)),0)","v":0},"*"]
[null,null,1388,null,null,null,null,null,null,null,null,null,null,null,null,null,null,null,null,null,null,null,null,null,null,null,null,null,null,0,0,{"$f":"IFERROR(IF(J1398=5,1,IF(MATCH(J1398&\"/\"&N1398,読み替え表_カーシェア!$P$32:$P$52,0),1,0)),0)","v":0},"*"]
[null,null,1389,null,null,null,null,null,null,null,null,null,null,null,null,null,null,null,null,null,null,null,null,null,null,null,null,null,null,0,0,{"$f":"IFERROR(IF(J1399=5,1,IF(MATCH(J1399&\"/\"&N1399,読み替え表_カーシェア!$P$32:$P$52,0),1,0)),0)","v":0},"*"]
[null,null,1390,null,null,null,null,null,null,null,null,null,null,null,null,null,null,null,null,null,null,null,null,null,null,null,null,null,null,0,0,{"$f":"IFERROR(IF(J1400=5,1,IF(MATCH(J1400&\"/\"&N1400,読み替え表_カーシェア!$P$32:$P$52,0),1,0)),0)","v":0},"*"]
[null,null,1391,null,null,null,null,null,null,null,null,null,null,null,null,null,null,null,null,null,null,null,null,null,null,null,null,null,null,0,0,{"$f":"IFERROR(IF(J1401=5,1,IF(MATCH(J1401&\"/\"&N1401,読み替え表_カーシェア!$P$32:$P$52,0),1,0)),0)","v":0},"*"]
[null,null,1392,null,null,null,null,null,null,null,null,null,null,null,null,null,null,null,null,null,null,null,null,null,null,null,null,null,null,0,0,{"$f":"IFERROR(IF(J1402=5,1,IF(MATCH(J1402&\"/\"&N1402,読み替え表_カーシェア!$P$32:$P$52,0),1,0)),0)","v":0},"*"]
[null,null,1393,null,null,null,null,null,null,null,null,null,null,null,null,null,null,null,null,null,null,null,null,null,null,null,null,null,null,0,0,{"$f":"IFERROR(IF(J1403=5,1,IF(MATCH(J1403&\"/\"&N1403,読み替え表_カーシェア!$P$32:$P$52,0),1,0)),0)","v":0},"*"]
[null,null,1394,null,null,null,null,null,null,null,null,null,null,null,null,null,null,null,null,null,null,null,null,null,null,null,null,null,null,0,0,{"$f":"IFERROR(IF(J1404=5,1,IF(MATCH(J1404&\"/\"&N1404,読み替え表_カーシェア!$P$32:$P$52,0),1,0)),0)","v":0},"*"]
[null,null,1395,null,null,null,null,null,null,null,null,null,null,null,null,null,null,null,null,null,null,null,null,null,null,null,null,null,null,0,0,{"$f":"IFERROR(IF(J1405=5,1,IF(MATCH(J1405&\"/\"&N1405,読み替え表_カーシェア!$P$32:$P$52,0),1,0)),0)","v":0},"*"]
[null,null,1396,null,null,null,null,null,null,null,null,null,null,null,null,null,null,null,null,null,null,null,null,null,null,null,null,null,null,0,0,{"$f":"IFERROR(IF(J1406=5,1,IF(MATCH(J1406&\"/\"&N1406,読み替え表_カーシェア!$P$32:$P$52,0),1,0)),0)","v":0},"*"]
[null,null,1397,null,null,null,null,null,null,null,null,null,null,null,null,null,null,null,null,null,null,null,null,null,null,null,null,null,null,0,0,{"$f":"IFERROR(IF(J1407=5,1,IF(MATCH(J1407&\"/\"&N1407,読み替え表_カーシェア!$P$32:$P$52,0),1,0)),0)","v":0},"*"]
[null,null,1398,null,null,null,null,null,null,null,null,null,null,null,null,null,null,null,null,null,null,null,null,null,null,null,null,null,null,0,0,{"$f":"IFERROR(IF(J1408=5,1,IF(MATCH(J1408&\"/\"&N1408,読み替え表_カーシェア!$P$32:$P$52,0),1,0)),0)","v":0},"*"]
[null,null,1399,null,null,null,null,null,null,null,null,null,null,null,null,null,null,null,null,null,null,null,null,null,null,null,null,null,null,0,0,{"$f":"IFERROR(IF(J1409=5,1,IF(MATCH(J1409&\"/\"&N1409,読み替え表_カーシェア!$P$32:$P$52,0),1,0)),0)","v":0},"*"]
[null,null,1400,null,null,null,null,null,null,null,null,null,null,null,null,null,null,null,null,null,null,null,null,null,null,null,null,null,null,0,0,{"$f":"IFERROR(IF(J1410=5,1,IF(MATCH(J1410&\"/\"&N1410,読み替え表_カーシェア!$P$32:$P$52,0),1,0)),0)","v":0},"*"]
[null,null,1401,null,null,null,null,null,null,null,null,null,null,null,null,null,null,null,null,null,null,null,null,null,null,null,null,null,null,0,0,{"$f":"IFERROR(IF(J1411=5,1,IF(MATCH(J1411&\"/\"&N1411,読み替え表_カーシェア!$P$32:$P$52,0),1,0)),0)","v":0},"*"]
[null,null,1402,null,null,null,null,null,null,null,null,null,null,null,null,null,null,null,null,null,null,null,null,null,null,null,null,null,null,0,0,{"$f":"IFERROR(IF(J1412=5,1,IF(MATCH(J1412&\"/\"&N1412,読み替え表_カーシェア!$P$32:$P$52,0),1,0)),0)","v":0},"*"]
[null,null,1403,null,null,null,null,null,null,null,null,null,null,null,null,null,null,null,null,null,null,null,null,null,null,null,null,null,null,0,0,{"$f":"IFERROR(IF(J1413=5,1,IF(MATCH(J1413&\"/\"&N1413,読み替え表_カーシェア!$P$32:$P$52,0),1,0)),0)","v":0},"*"]
[null,null,1404,null,null,null,null,null,null,null,null,null,null,null,null,null,null,null,null,null,null,null,null,null,null,null,null,null,null,0,0,{"$f":"IFERROR(IF(J1414=5,1,IF(MATCH(J1414&\"/\"&N1414,読み替え表_カーシェア!$P$32:$P$52,0),1,0)),0)","v":0},"*"]
[null,null,1405,null,null,null,null,null,null,null,null,null,null,null,null,null,null,null,null,null,null,null,null,null,null,null,null,null,null,0,0,{"$f":"IFERROR(IF(J1415=5,1,IF(MATCH(J1415&\"/\"&N1415,読み替え表_カーシェア!$P$32:$P$52,0),1,0)),0)","v":0},"*"]
[null,null,1406,null,null,null,null,null,null,null,null,null,null,null,null,null,null,null,null,null,null,null,null,null,null,null,null,null,null,0,0,{"$f":"IFERROR(IF(J1416=5,1,IF(MATCH(J1416&\"/\"&N1416,読み替え表_カーシェア!$P$32:$P$52,0),1,0)),0)","v":0},"*"]
[null,null,1407,null,null,null,null,null,null,null,null,null,null,null,null,null,null,null,null,null,null,null,null,null,null,null,null,null,null,0,0,{"$f":"IFERROR(IF(J1417=5,1,IF(MATCH(J1417&\"/\"&N1417,読み替え表_カーシェア!$P$32:$P$52,0),1,0)),0)","v":0},"*"]
[null,null,1408,null,null,null,null,null,null,null,null,null,null,null,null,null,null,null,null,null,null,null,null,null,null,null,null,null,null,0,0,{"$f":"IFERROR(IF(J1418=5,1,IF(MATCH(J1418&\"/\"&N1418,読み替え表_カーシェア!$P$32:$P$52,0),1,0)),0)","v":0},"*"]
[null,null,1409,null,null,null,null,null,null,null,null,null,null,null,null,null,null,null,null,null,null,null,null,null,null,null,null,null,null,0,0,{"$f":"IFERROR(IF(J1419=5,1,IF(MATCH(J1419&\"/\"&N1419,読み替え表_カーシェア!$P$32:$P$52,0),1,0)),0)","v":0},"*"]
[null,null,{"$f":"ROW()-10","v":1410},null,null,null,null,null,null,null,null,null,null,null,null,null,null,null,null,null,null,null,null,null,null,null,null,null,null,{"$f":"IF(OR($N1420=1,$N1420=2,$N1420=3),1,0)","v":0},{"$f":"IF(AND($J1420=1,$L1420>$M1420),1,IF(AND($J1420=1,$L1420<$M1420),2,IF(AND($J1420=1,$L1420=$M1420),3,0)))","v":0},{"$f":"IFERROR(IF(J1420=5,1,IF(MATCH(J1420&\"/\"&N1420,読み替え表_カーシェア!$P$32:$P$52,0),1,0)),0)","v":0},"*"]
[null,null,1411,null,null,null,null,null,null,null,null,null,null,null,null,null,null,null,null,null,null,null,null,null,null,null,null,null,null,0,0,{"$f":"IFERROR(IF(J1421=5,1,IF(MATCH(J1421&\"/\"&N1421,読み替え表_カーシェア!$P$32:$P$52,0),1,0)),0)","v":0},"*"]
[null,null,1412,null,null,null,null,null,null,null,null,null,null,null,null,null,null,null,null,null,null,null,null,null,null,null,null,null,null,0,0,{"$f":"IFERROR(IF(J1422=5,1,IF(MATCH(J1422&\"/\"&N1422,読み替え表_カーシェア!$P$32:$P$52,0),1,0)),0)","v":0},"*"]
[null,null,1413,null,null,null,null,null,null,null,null,null,null,null,null,null,null,null,null,null,null,null,null,null,null,null,null,null,null,0,0,{"$f":"IFERROR(IF(J1423=5,1,IF(MATCH(J1423&\"/\"&N1423,読み替え表_カーシェア!$P$32:$P$52,0),1,0)),0)","v":0},"*"]
[null,null,1414,null,null,null,null,null,null,null,null,null,null,null,null,null,null,null,null,null,null,null,null,null,null,null,null,null,null,0,0,{"$f":"IFERROR(IF(J1424=5,1,IF(MATCH(J1424&\"/\"&N1424,読み替え表_カーシェア!$P$32:$P$52,0),1,0)),0)","v":0},"*"]
[null,null,1415,null,null,null,null,null,null,null,null,null,null,null,null,null,null,null,null,null,null,null,null,null,null,null,null,null,null,0,0,{"$f":"IFERROR(IF(J1425=5,1,IF(MATCH(J1425&\"/\"&N1425,読み替え表_カーシェア!$P$32:$P$52,0),1,0)),0)","v":0},"*"]
[null,null,1416,null,null,null,null,null,null,null,null,null,null,null,null,null,null,null,null,null,null,null,null,null,null,null,null,null,null,0,0,{"$f":"IFERROR(IF(J1426=5,1,IF(MATCH(J1426&\"/\"&N1426,読み替え表_カーシェア!$P$32:$P$52,0),1,0)),0)","v":0},"*"]
[null,null,1417,null,null,null,null,null,null,null,null,null,null,null,null,null,null,null,null,null,null,null,null,null,null,null,null,null,null,0,0,{"$f":"IFERROR(IF(J1427=5,1,IF(MATCH(J1427&\"/\"&N1427,読み替え表_カーシェア!$P$32:$P$52,0),1,0)),0)","v":0},"*"]
[null,null,1418,null,null,null,null,null,null,null,null,null,null,null,null,null,null,null,null,null,null,null,null,null,null,null,null,null,null,0,0,{"$f":"IFERROR(IF(J1428=5,1,IF(MATCH(J1428&\"/\"&N1428,読み替え表_カーシェア!$P$32:$P$52,0),1,0)),0)","v":0},"*"]
[null,null,1419,null,null,null,null,null,null,null,null,null,null,null,null,null,null,null,null,null,null,null,null,null,null,null,null,null,null,0,0,{"$f":"IFERROR(IF(J1429=5,1,IF(MATCH(J1429&\"/\"&N1429,読み替え表_カーシェア!$P$32:$P$52,0),1,0)),0)","v":0},"*"]
[null,null,1420,null,null,null,null,null,null,null,null,null,null,null,null,null,null,null,null,null,null,null,null,null,null,null,null,null,null,0,0,{"$f":"IFERROR(IF(J1430=5,1,IF(MATCH(J1430&\"/\"&N1430,読み替え表_カーシェア!$P$32:$P$52,0),1,0)),0)","v":0},"*"]
[null,null,1421,null,null,null,null,null,null,null,null,null,null,null,null,null,null,null,null,null,null,null,null,null,null,null,null,null,null,0,0,{"$f":"IFERROR(IF(J1431=5,1,IF(MATCH(J1431&\"/\"&N1431,読み替え表_カーシェア!$P$32:$P$52,0),1,0)),0)","v":0},"*"]
[null,null,1422,null,null,null,null,null,null,null,null,null,null,null,null,null,null,null,null,null,null,null,null,null,null,null,null,null,null,0,0,{"$f":"IFERROR(IF(J1432=5,1,IF(MATCH(J1432&\"/\"&N1432,読み替え表_カーシェア!$P$32:$P$52,0),1,0)),0)","v":0},"*"]
[null,null,1423,null,null,null,null,null,null,null,null,null,null,null,null,null,null,null,null,null,null,null,null,null,null,null,null,null,null,0,0,{"$f":"IFERROR(IF(J1433=5,1,IF(MATCH(J1433&\"/\"&N1433,読み替え表_カーシェア!$P$32:$P$52,0),1,0)),0)","v":0},"*"]
[null,null,1424,null,null,null,null,null,null,null,null,null,null,null,null,null,null,null,null,null,null,null,null,null,null,null,null,null,null,0,0,{"$f":"IFERROR(IF(J1434=5,1,IF(MATCH(J1434&\"/\"&N1434,読み替え表_カーシェア!$P$32:$P$52,0),1,0)),0)","v":0},"*"]
[null,null,1425,null,null,null,null,null,null,null,null,null,null,null,null,null,null,null,null,null,null,null,null,null,null,null,null,null,null,0,0,{"$f":"IFERROR(IF(J1435=5,1,IF(MATCH(J1435&\"/\"&N1435,読み替え表_カーシェア!$P$32:$P$52,0),1,0)),0)","v":0},"*"]
[null,null,1426,null,null,null,null,null,null,null,null,null,null,null,null,null,null,null,null,null,null,null,null,null,null,null,null,null,null,0,0,{"$f":"IFERROR(IF(J1436=5,1,IF(MATCH(J1436&\"/\"&N1436,読み替え表_カーシェア!$P$32:$P$52,0),1,0)),0)","v":0},"*"]
[null,null,1427,null,null,null,null,null,null,null,null,null,null,null,null,null,null,null,null,null,null,null,null,null,null,null,null,null,null,0,0,{"$f":"IFERROR(IF(J1437=5,1,IF(MATCH(J1437&\"/\"&N1437,読み替え表_カーシェア!$P$32:$P$52,0),1,0)),0)","v":0},"*"]
[null,null,1428,null,null,null,null,null,null,null,null,null,null,null,null,null,null,null,null,null,null,null,null,null,null,null,null,null,null,0,0,{"$f":"IFERROR(IF(J1438=5,1,IF(MATCH(J1438&\"/\"&N1438,読み替え表_カーシェア!$P$32:$P$52,0),1,0)),0)","v":0},"*"]
[null,null,1429,null,null,null,null,null,null,null,null,null,null,null,null,null,null,null,null,null,null,null,null,null,null,null,null,null,null,0,0,{"$f":"IFERROR(IF(J1439=5,1,IF(MATCH(J1439&\"/\"&N1439,読み替え表_カーシェア!$P$32:$P$52,0),1,0)),0)","v":0},"*"]
[null,null,1430,null,null,null,null,null,null,null,null,null,null,null,null,null,null,null,null,null,null,null,null,null,null,null,null,null,null,0,0,{"$f":"IFERROR(IF(J1440=5,1,IF(MATCH(J1440&\"/\"&N1440,読み替え表_カーシェア!$P$32:$P$52,0),1,0)),0)","v":0},"*"]
[null,null,1431,null,null,null,null,null,null,null,null,null,null,null,null,null,null,null,null,null,null,null,null,null,null,null,null,null,null,0,0,{"$f":"IFERROR(IF(J1441=5,1,IF(MATCH(J1441&\"/\"&N1441,読み替え表_カーシェア!$P$32:$P$52,0),1,0)),0)","v":0},"*"]
[null,null,1432,null,null,null,null,null,null,null,null,null,null,null,null,null,null,null,null,null,null,null,null,null,null,null,null,null,null,0,0,{"$f":"IFERROR(IF(J1442=5,1,IF(MATCH(J1442&\"/\"&N1442,読み替え表_カーシェア!$P$32:$P$52,0),1,0)),0)","v":0},"*"]
[null,null,1433,null,null,null,null,null,null,null,null,null,null,null,null,null,null,null,null,null,null,null,null,null,null,null,null,null,null,0,0,{"$f":"IFERROR(IF(J1443=5,1,IF(MATCH(J1443&\"/\"&N1443,読み替え表_カーシェア!$P$32:$P$52,0),1,0)),0)","v":0},"*"]
[null,null,1434,null,null,null,null,null,null,null,null,null,null,null,null,null,null,null,null,null,null,null,null,null,null,null,null,null,null,0,0,{"$f":"IFERROR(IF(J1444=5,1,IF(MATCH(J1444&\"/\"&N1444,読み替え表_カーシェア!$P$32:$P$52,0),1,0)),0)","v":0},"*"]
[null,null,1435,null,null,null,null,null,null,null,null,null,null,null,null,null,null,null,null,null,null,null,null,null,null,null,null,null,null,0,0,{"$f":"IFERROR(IF(J1445=5,1,IF(MATCH(J1445&\"/\"&N1445,読み替え表_カーシェア!$P$32:$P$52,0),1,0)),0)","v":0},"*"]
[null,null,1436,null,null,null,null,null,null,null,null,null,null,null,null,null,null,null,null,null,null,null,null,null,null,null,null,null,null,0,0,{"$f":"IFERROR(IF(J1446=5,1,IF(MATCH(J1446&\"/\"&N1446,読み替え表_カーシェア!$P$32:$P$52,0),1,0)),0)","v":0},"*"]
[null,null,1437,null,null,null,null,null,null,null,null,null,null,null,null,null,null,null,null,null,null,null,null,null,null,null,null,null,null,0,0,{"$f":"IFERROR(IF(J1447=5,1,IF(MATCH(J1447&\"/\"&N1447,読み替え表_カーシェア!$P$32:$P$52,0),1,0)),0)","v":0},"*"]
[null,null,1438,null,null,null,null,null,null,null,null,null,null,null,null,null,null,null,null,null,null,null,null,null,null,null,null,null,null,0,0,{"$f":"IFERROR(IF(J1448=5,1,IF(MATCH(J1448&\"/\"&N1448,読み替え表_カーシェア!$P$32:$P$52,0),1,0)),0)","v":0},"*"]
[null,null,1439,null,null,null,null,null,null,null,null,null,null,null,null,null,null,null,null,null,null,null,null,null,null,null,null,null,null,0,0,{"$f":"IFERROR(IF(J1449=5,1,IF(MATCH(J1449&\"/\"&N1449,読み替え表_カーシェア!$P$32:$P$52,0),1,0)),0)","v":0},"*"]
[null,null,1440,null,null,null,null,null,null,null,null,null,null,null,null,null,null,null,null,null,null,null,null,null,null,null,null,null,null,0,0,{"$f":"IFERROR(IF(J1450=5,1,IF(MATCH(J1450&\"/\"&N1450,読み替え表_カーシェア!$P$32:$P$52,0),1,0)),0)","v":0},"*"]
[null,null,1441,null,null,null,null,null,null,null,null,null,null,null,null,null,null,null,null,null,null,null,null,null,null,null,null,null,null,0,0,{"$f":"IFERROR(IF(J1451=5,1,IF(MATCH(J1451&\"/\"&N1451,読み替え表_カーシェア!$P$32:$P$52,0),1,0)),0)","v":0},"*"]
[null,null,1442,null,null,null,null,null,null,null,null,null,null,null,null,null,null,null,null,null,null,null,null,null,null,null,null,null,null,0,0,{"$f":"IFERROR(IF(J1452=5,1,IF(MATCH(J1452&\"/\"&N1452,読み替え表_カーシェア!$P$32:$P$52,0),1,0)),0)","v":0},"*"]
[null,null,1443,null,null,null,null,null,null,null,null,null,null,null,null,null,null,null,null,null,null,null,null,null,null,null,null,null,null,0,0,{"$f":"IFERROR(IF(J1453=5,1,IF(MATCH(J1453&\"/\"&N1453,読み替え表_カーシェア!$P$32:$P$52,0),1,0)),0)","v":0},"*"]
[null,null,1444,null,null,null,null,null,null,null,null,null,null,null,null,null,null,null,null,null,null,null,null,null,null,null,null,null,null,0,0,{"$f":"IFERROR(IF(J1454=5,1,IF(MATCH(J1454&\"/\"&N1454,読み替え表_カーシェア!$P$32:$P$52,0),1,0)),0)","v":0},"*"]
[null,null,1445,null,null,null,null,null,null,null,null,null,null,null,null,null,null,null,null,null,null,null,null,null,null,null,null,null,null,0,0,{"$f":"IFERROR(IF(J1455=5,1,IF(MATCH(J1455&\"/\"&N1455,読み替え表_カーシェア!$P$32:$P$52,0),1,0)),0)","v":0},"*"]
[null,null,1446,null,null,null,null,null,null,null,null,null,null,null,null,null,null,null,null,null,null,null,null,null,null,null,null,null,null,0,0,{"$f":"IFERROR(IF(J1456=5,1,IF(MATCH(J1456&\"/\"&N1456,読み替え表_カーシェア!$P$32:$P$52,0),1,0)),0)","v":0},"*"]
[null,null,1447,null,null,null,null,null,null,null,null,null,null,null,null,null,null,null,null,null,null,null,null,null,null,null,null,null,null,0,0,{"$f":"IFERROR(IF(J1457=5,1,IF(MATCH(J1457&\"/\"&N1457,読み替え表_カーシェア!$P$32:$P$52,0),1,0)),0)","v":0},"*"]
[null,null,1448,null,null,null,null,null,null,null,null,null,null,null,null,null,null,null,null,null,null,null,null,null,null,null,null,null,null,0,0,{"$f":"IFERROR(IF(J1458=5,1,IF(MATCH(J1458&\"/\"&N1458,読み替え表_カーシェア!$P$32:$P$52,0),1,0)),0)","v":0},"*"]
[null,null,1449,null,null,null,null,null,null,null,null,null,null,null,null,null,null,null,null,null,null,null,null,null,null,null,null,null,null,0,0,{"$f":"IFERROR(IF(J1459=5,1,IF(MATCH(J1459&\"/\"&N1459,読み替え表_カーシェア!$P$32:$P$52,0),1,0)),0)","v":0},"*"]
[null,null,1450,null,null,null,null,null,null,null,null,null,null,null,null,null,null,null,null,null,null,null,null,null,null,null,null,null,null,0,0,{"$f":"IFERROR(IF(J1460=5,1,IF(MATCH(J1460&\"/\"&N1460,読み替え表_カーシェア!$P$32:$P$52,0),1,0)),0)","v":0},"*"]
[null,null,1451,null,null,null,null,null,null,null,null,null,null,null,null,null,null,null,null,null,null,null,null,null,null,null,null,null,null,0,0,{"$f":"IFERROR(IF(J1461=5,1,IF(MATCH(J1461&\"/\"&N1461,読み替え表_カーシェア!$P$32:$P$52,0),1,0)),0)","v":0},"*"]
[null,null,1452,null,null,null,null,null,null,null,null,null,null,null,null,null,null,null,null,null,null,null,null,null,null,null,null,null,null,0,0,{"$f":"IFERROR(IF(J1462=5,1,IF(MATCH(J1462&\"/\"&N1462,読み替え表_カーシェア!$P$32:$P$52,0),1,0)),0)","v":0},"*"]
[null,null,1453,null,null,null,null,null,null,null,null,null,null,null,null,null,null,null,null,null,null,null,null,null,null,null,null,null,null,0,0,{"$f":"IFERROR(IF(J1463=5,1,IF(MATCH(J1463&\"/\"&N1463,読み替え表_カーシェア!$P$32:$P$52,0),1,0)),0)","v":0},"*"]
[null,null,1454,null,null,null,null,null,null,null,null,null,null,null,null,null,null,null,null,null,null,null,null,null,null,null,null,null,null,0,0,{"$f":"IFERROR(IF(J1464=5,1,IF(MATCH(J1464&\"/\"&N1464,読み替え表_カーシェア!$P$32:$P$52,0),1,0)),0)","v":0},"*"]
[null,null,1455,null,null,null,null,null,null,null,null,null,null,null,null,null,null,null,null,null,null,null,null,null,null,null,null,null,null,0,0,{"$f":"IFERROR(IF(J1465=5,1,IF(MATCH(J1465&\"/\"&N1465,読み替え表_カーシェア!$P$32:$P$52,0),1,0)),0)","v":0},"*"]
[null,null,1456,null,null,null,null,null,null,null,null,null,null,null,null,null,null,null,null,null,null,null,null,null,null,null,null,null,null,0,0,{"$f":"IFERROR(IF(J1466=5,1,IF(MATCH(J1466&\"/\"&N1466,読み替え表_カーシェア!$P$32:$P$52,0),1,0)),0)","v":0},"*"]
[null,null,1457,null,null,null,null,null,null,null,null,null,null,null,null,null,null,null,null,null,null,null,null,null,null,null,null,null,null,0,0,{"$f":"IFERROR(IF(J1467=5,1,IF(MATCH(J1467&\"/\"&N1467,読み替え表_カーシェア!$P$32:$P$52,0),1,0)),0)","v":0},"*"]
[null,null,1458,null,null,null,null,null,null,null,null,null,null,null,null,null,null,null,null,null,null,null,null,null,null,null,null,null,null,0,0,{"$f":"IFERROR(IF(J1468=5,1,IF(MATCH(J1468&\"/\"&N1468,読み替え表_カーシェア!$P$32:$P$52,0),1,0)),0)","v":0},"*"]
[null,null,1459,null,null,null,null,null,null,null,null,null,null,null,null,null,null,null,null,null,null,null,null,null,null,null,null,null,null,0,0,{"$f":"IFERROR(IF(J1469=5,1,IF(MATCH(J1469&\"/\"&N1469,読み替え表_カーシェア!$P$32:$P$52,0),1,0)),0)","v":0},"*"]
[null,null,1460,null,null,null,null,null,null,null,null,null,null,null,null,null,null,null,null,null,null,null,null,null,null,null,null,null,null,0,0,{"$f":"IFERROR(IF(J1470=5,1,IF(MATCH(J1470&\"/\"&N1470,読み替え表_カーシェア!$P$32:$P$52,0),1,0)),0)","v":0},"*"]
[null,null,1461,null,null,null,null,null,null,null,null,null,null,null,null,null,null,null,null,null,null,null,null,null,null,null,null,null,null,0,0,{"$f":"IFERROR(IF(J1471=5,1,IF(MATCH(J1471&\"/\"&N1471,読み替え表_カーシェア!$P$32:$P$52,0),1,0)),0)","v":0},"*"]
[null,null,1462,null,null,null,null,null,null,null,null,null,null,null,null,null,null,null,null,null,null,null,null,null,null,null,null,null,null,0,0,{"$f":"IFERROR(IF(J1472=5,1,IF(MATCH(J1472&\"/\"&N1472,読み替え表_カーシェア!$P$32:$P$52,0),1,0)),0)","v":0},"*"]
[null,null,1463,null,null,null,null,null,null,null,null,null,null,null,null,null,null,null,null,null,null,null,null,null,null,null,null,null,null,0,0,{"$f":"IFERROR(IF(J1473=5,1,IF(MATCH(J1473&\"/\"&N1473,読み替え表_カーシェア!$P$32:$P$52,0),1,0)),0)","v":0},"*"]
[null,null,1464,null,null,null,null,null,null,null,null,null,null,null,null,null,null,null,null,null,null,null,null,null,null,null,null,null,null,0,0,{"$f":"IFERROR(IF(J1474=5,1,IF(MATCH(J1474&\"/\"&N1474,読み替え表_カーシェア!$P$32:$P$52,0),1,0)),0)","v":0},"*"]
[null,null,1465,null,null,null,null,null,null,null,null,null,null,null,null,null,null,null,null,null,null,null,null,null,null,null,null,null,null,0,0,{"$f":"IFERROR(IF(J1475=5,1,IF(MATCH(J1475&\"/\"&N1475,読み替え表_カーシェア!$P$32:$P$52,0),1,0)),0)","v":0},"*"]
[null,null,1466,null,null,null,null,null,null,null,null,null,null,null,null,null,null,null,null,null,null,null,null,null,null,null,null,null,null,0,0,{"$f":"IFERROR(IF(J1476=5,1,IF(MATCH(J1476&\"/\"&N1476,読み替え表_カーシェア!$P$32:$P$52,0),1,0)),0)","v":0},"*"]
[null,null,1467,null,null,null,null,null,null,null,null,null,null,null,null,null,null,null,null,null,null,null,null,null,null,null,null,null,null,0,0,{"$f":"IFERROR(IF(J1477=5,1,IF(MATCH(J1477&\"/\"&N1477,読み替え表_カーシェア!$P$32:$P$52,0),1,0)),0)","v":0},"*"]
[null,null,1468,null,null,null,null,null,null,null,null,null,null,null,null,null,null,null,null,null,null,null,null,null,null,null,null,null,null,0,0,{"$f":"IFERROR(IF(J1478=5,1,IF(MATCH(J1478&\"/\"&N1478,読み替え表_カーシェア!$P$32:$P$52,0),1,0)),0)","v":0},"*"]
[null,null,1469,null,null,null,null,null,null,null,null,null,null,null,null,null,null,null,null,null,null,null,null,null,null,null,null,null,null,0,0,{"$f":"IFERROR(IF(J1479=5,1,IF(MATCH(J1479&\"/\"&N1479,読み替え表_カーシェア!$P$32:$P$52,0),1,0)),0)","v":0},"*"]
[null,null,1470,null,null,null,null,null,null,null,null,null,null,null,null,null,null,null,null,null,null,null,null,null,null,null,null,null,null,0,0,{"$f":"IFERROR(IF(J1480=5,1,IF(MATCH(J1480&\"/\"&N1480,読み替え表_カーシェア!$P$32:$P$52,0),1,0)),0)","v":0},"*"]
[null,null,1471,null,null,null,null,null,null,null,null,null,null,null,null,null,null,null,null,null,null,null,null,null,null,null,null,null,null,0,0,{"$f":"IFERROR(IF(J1481=5,1,IF(MATCH(J1481&\"/\"&N1481,読み替え表_カーシェア!$P$32:$P$52,0),1,0)),0)","v":0},"*"]
[null,null,1472,null,null,null,null,null,null,null,null,null,null,null,null,null,null,null,null,null,null,null,null,null,null,null,null,null,null,0,0,{"$f":"IFERROR(IF(J1482=5,1,IF(MATCH(J1482&\"/\"&N1482,読み替え表_カーシェア!$P$32:$P$52,0),1,0)),0)","v":0},"*"]
[null,null,1473,null,null,null,null,null,null,null,null,null,null,null,null,null,null,null,null,null,null,null,null,null,null,null,null,null,null,0,0,{"$f":"IFERROR(IF(J1483=5,1,IF(MATCH(J1483&\"/\"&N1483,読み替え表_カーシェア!$P$32:$P$52,0),1,0)),0)","v":0},"*"]
[null,null,{"$f":"ROW()-10","v":1474},null,null,null,null,null,null,null,null,null,null,null,null,null,null,null,null,null,null,null,null,null,null,null,null,null,null,{"$f":"IF(OR($N1484=1,$N1484=2,$N1484=3),1,0)","v":0},{"$f":"IF(AND($J1484=1,$L1484>$M1484),1,IF(AND($J1484=1,$L1484<$M1484),2,IF(AND($J1484=1,$L1484=$M1484),3,0)))","v":0},{"$f":"IFERROR(IF(J1484=5,1,IF(MATCH(J1484&\"/\"&N1484,読み替え表_カーシェア!$P$32:$P$52,0),1,0)),0)","v":0},"*"]
[null,null,1475,null,null,null,null,null,null,null,null,null,null,null,null,null,null,null,null,null,null,null,null,null,null,null,null,null,null,0,0,{"$f":"IFERROR(IF(J1485=5,1,IF(MATCH(J1485&\"/\"&N1485,読み替え表_カーシェア!$P$32:$P$52,0),1,0)),0)","v":0},"*"]
[null,null,1476,null,null,null,null,null,null,null,null,null,null,null,null,null,null,null,null,null,null,null,null,null,null,null,null,null,null,0,0,{"$f":"IFERROR(IF(J1486=5,1,IF(MATCH(J1486&\"/\"&N1486,読み替え表_カーシェア!$P$32:$P$52,0),1,0)),0)","v":0},"*"]
[null,null,1477,null,null,null,null,null,null,null,null,null,null,null,null,null,null,null,null,null,null,null,null,null,null,null,null,null,null,0,0,{"$f":"IFERROR(IF(J1487=5,1,IF(MATCH(J1487&\"/\"&N1487,読み替え表_カーシェア!$P$32:$P$52,0),1,0)),0)","v":0},"*"]
[null,null,1478,null,null,null,null,null,null,null,null,null,null,null,null,null,null,null,null,null,null,null,null,null,null,null,null,null,null,0,0,{"$f":"IFERROR(IF(J1488=5,1,IF(MATCH(J1488&\"/\"&N1488,読み替え表_カーシェア!$P$32:$P$52,0),1,0)),0)","v":0},"*"]
[null,null,1479,null,null,null,null,null,null,null,null,null,null,null,null,null,null,null,null,null,null,null,null,null,null,null,null,null,null,0,0,{"$f":"IFERROR(IF(J1489=5,1,IF(MATCH(J1489&\"/\"&N1489,読み替え表_カーシェア!$P$32:$P$52,0),1,0)),0)","v":0},"*"]
[null,null,1480,null,null,null,null,null,null,null,null,null,null,null,null,null,null,null,null,null,null,null,null,null,null,null,null,null,null,0,0,{"$f":"IFERROR(IF(J1490=5,1,IF(MATCH(J1490&\"/\"&N1490,読み替え表_カーシェア!$P$32:$P$52,0),1,0)),0)","v":0},"*"]
[null,null,1481,null,null,null,null,null,null,null,null,null,null,null,null,null,null,null,null,null,null,null,null,null,null,null,null,null,null,0,0,{"$f":"IFERROR(IF(J1491=5,1,IF(MATCH(J1491&\"/\"&N1491,読み替え表_カーシェア!$P$32:$P$52,0),1,0)),0)","v":0},"*"]
[null,null,1482,null,null,null,null,null,null,null,null,null,null,null,null,null,null,null,null,null,null,null,null,null,null,null,null,null,null,0,0,{"$f":"IFERROR(IF(J1492=5,1,IF(MATCH(J1492&\"/\"&N1492,読み替え表_カーシェア!$P$32:$P$52,0),1,0)),0)","v":0},"*"]
[null,null,1483,null,null,null,null,null,null,null,null,null,null,null,null,null,null,null,null,null,null,null,null,null,null,null,null,null,null,0,0,{"$f":"IFERROR(IF(J1493=5,1,IF(MATCH(J1493&\"/\"&N1493,読み替え表_カーシェア!$P$32:$P$52,0),1,0)),0)","v":0},"*"]
[null,null,1484,null,null,null,null,null,null,null,null,null,null,null,null,null,null,null,null,null,null,null,null,null,null,null,null,null,null,0,0,{"$f":"IFERROR(IF(J1494=5,1,IF(MATCH(J1494&\"/\"&N1494,読み替え表_カーシェア!$P$32:$P$52,0),1,0)),0)","v":0},"*"]
[null,null,1485,null,null,null,null,null,null,null,null,null,null,null,null,null,null,null,null,null,null,null,null,null,null,null,null,null,null,0,0,{"$f":"IFERROR(IF(J1495=5,1,IF(MATCH(J1495&\"/\"&N1495,読み替え表_カーシェア!$P$32:$P$52,0),1,0)),0)","v":0},"*"]
[null,null,1486,null,null,null,null,null,null,null,null,null,null,null,null,null,null,null,null,null,null,null,null,null,null,null,null,null,null,0,0,{"$f":"IFERROR(IF(J1496=5,1,IF(MATCH(J1496&\"/\"&N1496,読み替え表_カーシェア!$P$32:$P$52,0),1,0)),0)","v":0},"*"]
[null,null,1487,null,null,null,null,null,null,null,null,null,null,null,null,null,null,null,null,null,null,null,null,null,null,null,null,null,null,0,0,{"$f":"IFERROR(IF(J1497=5,1,IF(MATCH(J1497&\"/\"&N1497,読み替え表_カーシェア!$P$32:$P$52,0),1,0)),0)","v":0},"*"]
[null,null,1488,null,null,null,null,null,null,null,null,null,null,null,null,null,null,null,null,null,null,null,null,null,null,null,null,null,null,0,0,{"$f":"IFERROR(IF(J1498=5,1,IF(MATCH(J1498&\"/\"&N1498,読み替え表_カーシェア!$P$32:$P$52,0),1,0)),0)","v":0},"*"]
[null,null,1489,null,null,null,null,null,null,null,null,null,null,null,null,null,null,null,null,null,null,null,null,null,null,null,null,null,null,0,0,{"$f":"IFERROR(IF(J1499=5,1,IF(MATCH(J1499&\"/\"&N1499,読み替え表_カーシェア!$P$32:$P$52,0),1,0)),0)","v":0},"*"]
[null,null,1490,null,null,null,null,null,null,null,null,null,null,null,null,null,null,null,null,null,null,null,null,null,null,null,null,null,null,0,0,{"$f":"IFERROR(IF(J1500=5,1,IF(MATCH(J1500&\"/\"&N1500,読み替え表_カーシェア!$P$32:$P$52,0),1,0)),0)","v":0},"*"]
[null,null,1491,null,null,null,null,null,null,null,null,null,null,null,null,null,null,null,null,null,null,null,null,null,null,null,null,null,null,0,0,{"$f":"IFERROR(IF(J1501=5,1,IF(MATCH(J1501&\"/\"&N1501,読み替え表_カーシェア!$P$32:$P$52,0),1,0)),0)","v":0},"*"]
[null,null,1492,null,null,null,null,null,null,null,null,null,null,null,null,null,null,null,null,null,null,null,null,null,null,null,null,null,null,0,0,{"$f":"IFERROR(IF(J1502=5,1,IF(MATCH(J1502&\"/\"&N1502,読み替え表_カーシェア!$P$32:$P$52,0),1,0)),0)","v":0},"*"]
[null,null,1493,null,null,null,null,null,null,null,null,null,null,null,null,null,null,null,null,null,null,null,null,null,null,null,null,null,null,0,0,{"$f":"IFERROR(IF(J1503=5,1,IF(MATCH(J1503&\"/\"&N1503,読み替え表_カーシェア!$P$32:$P$52,0),1,0)),0)","v":0},"*"]
[null,null,1494,null,null,null,null,null,null,null,null,null,null,null,null,null,null,null,null,null,null,null,null,null,null,null,null,null,null,0,0,{"$f":"IFERROR(IF(J1504=5,1,IF(MATCH(J1504&\"/\"&N1504,読み替え表_カーシェア!$P$32:$P$52,0),1,0)),0)","v":0},"*"]
[null,null,1495,null,null,null,null,null,null,null,null,null,null,null,null,null,null,null,null,null,null,null,null,null,null,null,null,null,null,0,0,{"$f":"IFERROR(IF(J1505=5,1,IF(MATCH(J1505&\"/\"&N1505,読み替え表_カーシェア!$P$32:$P$52,0),1,0)),0)","v":0},"*"]
[null,null,1496,null,null,null,null,null,null,null,null,null,null,null,null,null,null,null,null,null,null,null,null,null,null,null,null,null,null,0,0,{"$f":"IFERROR(IF(J1506=5,1,IF(MATCH(J1506&\"/\"&N1506,読み替え表_カーシェア!$P$32:$P$52,0),1,0)),0)","v":0},"*"]
[null,null,1497,null,null,null,null,null,null,null,null,null,null,null,null,null,null,null,null,null,null,null,null,null,null,null,null,null,null,0,0,{"$f":"IFERROR(IF(J1507=5,1,IF(MATCH(J1507&\"/\"&N1507,読み替え表_カーシェア!$P$32:$P$52,0),1,0)),0)","v":0},"*"]
[null,null,1498,null,null,null,null,null,null,null,null,null,null,null,null,null,null,null,null,null,null,null,null,null,null,null,null,null,null,0,0,{"$f":"IFERROR(IF(J1508=5,1,IF(MATCH(J1508&\"/\"&N1508,読み替え表_カーシェア!$P$32:$P$52,0),1,0)),0)","v":0},"*"]
[null,null,1499,null,null,null,null,null,null,null,null,null,null,null,null,null,null,null,null,null,null,null,null,null,null,null,null,null,null,0,0,{"$f":"IFERROR(IF(J1509=5,1,IF(MATCH(J1509&\"/\"&N1509,読み替え表_カーシェア!$P$32:$P$52,0),1,0)),0)","v":0},"*"]
[null,null,1500,null,null,null,null,null,null,null,null,null,null,null,null,null,null,null,null,null,null,null,null,null,null,null,null,null,null,0,0,{"$f":"IFERROR(IF(J1510=5,1,IF(MATCH(J1510&\"/\"&N1510,読み替え表_カーシェア!$P$32:$P$52,0),1,0)),0)","v":0},"*"]
[null,null,1501,null,null,null,null,null,null,null,null,null,null,null,null,null,null,null,null,null,null,null,null,null,null,null,null,null,null,0,0,{"$f":"IFERROR(IF(J1511=5,1,IF(MATCH(J1511&\"/\"&N1511,読み替え表_カーシェア!$P$32:$P$52,0),1,0)),0)","v":0},"*"]
[null,null,1502,null,null,null,null,null,null,null,null,null,null,null,null,null,null,null,null,null,null,null,null,null,null,null,null,null,null,0,0,{"$f":"IFERROR(IF(J1512=5,1,IF(MATCH(J1512&\"/\"&N1512,読み替え表_カーシェア!$P$32:$P$52,0),1,0)),0)","v":0},"*"]
[null,null,1503,null,null,null,null,null,null,null,null,null,null,null,null,null,null,null,null,null,null,null,null,null,null,null,null,null,null,0,0,{"$f":"IFERROR(IF(J1513=5,1,IF(MATCH(J1513&\"/\"&N1513,読み替え表_カーシェア!$P$32:$P$52,0),1,0)),0)","v":0},"*"]
[null,null,1504,null,null,null,null,null,null,null,null,null,null,null,null,null,null,null,null,null,null,null,null,null,null,null,null,null,null,0,0,{"$f":"IFERROR(IF(J1514=5,1,IF(MATCH(J1514&\"/\"&N1514,読み替え表_カーシェア!$P$32:$P$52,0),1,0)),0)","v":0},"*"]
[null,null,1505,null,null,null,null,null,null,null,null,null,null,null,null,null,null,null,null,null,null,null,null,null,null,null,null,null,null,0,0,{"$f":"IFERROR(IF(J1515=5,1,IF(MATCH(J1515&\"/\"&N1515,読み替え表_カーシェア!$P$32:$P$52,0),1,0)),0)","v":0},"*"]
[null,null,1506,null,null,null,null,null,null,null,null,null,null,null,null,null,null,null,null,null,null,null,null,null,null,null,null,null,null,0,0,{"$f":"IFERROR(IF(J1516=5,1,IF(MATCH(J1516&\"/\"&N1516,読み替え表_カーシェア!$P$32:$P$52,0),1,0)),0)","v":0},"*"]
[null,null,1507,null,null,null,null,null,null,null,null,null,null,null,null,null,null,null,null,null,null,null,null,null,null,null,null,null,null,0,0,{"$f":"IFERROR(IF(J1517=5,1,IF(MATCH(J1517&\"/\"&N1517,読み替え表_カーシェア!$P$32:$P$52,0),1,0)),0)","v":0},"*"]
[null,null,1508,null,null,null,null,null,null,null,null,null,null,null,null,null,null,null,null,null,null,null,null,null,null,null,null,null,null,0,0,{"$f":"IFERROR(IF(J1518=5,1,IF(MATCH(J1518&\"/\"&N1518,読み替え表_カーシェア!$P$32:$P$52,0),1,0)),0)","v":0},"*"]
[null,null,1509,null,null,null,null,null,null,null,null,null,null,null,null,null,null,null,null,null,null,null,null,null,null,null,null,null,null,0,0,{"$f":"IFERROR(IF(J1519=5,1,IF(MATCH(J1519&\"/\"&N1519,読み替え表_カーシェア!$P$32:$P$52,0),1,0)),0)","v":0},"*"]
[null,null,1510,null,null,null,null,null,null,null,null,null,null,null,null,null,null,null,null,null,null,null,null,null,null,null,null,null,null,0,0,{"$f":"IFERROR(IF(J1520=5,1,IF(MATCH(J1520&\"/\"&N1520,読み替え表_カーシェア!$P$32:$P$52,0),1,0)),0)","v":0},"*"]
[null,null,1511,null,null,null,null,null,null,null,null,null,null,null,null,null,null,null,null,null,null,null,null,null,null,null,null,null,null,0,0,{"$f":"IFERROR(IF(J1521=5,1,IF(MATCH(J1521&\"/\"&N1521,読み替え表_カーシェア!$P$32:$P$52,0),1,0)),0)","v":0},"*"]
[null,null,1512,null,null,null,null,null,null,null,null,null,null,null,null,null,null,null,null,null,null,null,null,null,null,null,null,null,null,0,0,{"$f":"IFERROR(IF(J1522=5,1,IF(MATCH(J1522&\"/\"&N1522,読み替え表_カーシェア!$P$32:$P$52,0),1,0)),0)","v":0},"*"]
[null,null,1513,null,null,null,null,null,null,null,null,null,null,null,null,null,null,null,null,null,null,null,null,null,null,null,null,null,null,0,0,{"$f":"IFERROR(IF(J1523=5,1,IF(MATCH(J1523&\"/\"&N1523,読み替え表_カーシェア!$P$32:$P$52,0),1,0)),0)","v":0},"*"]
[null,null,1514,null,null,null,null,null,null,null,null,null,null,null,null,null,null,null,null,null,null,null,null,null,null,null,null,null,null,0,0,{"$f":"IFERROR(IF(J1524=5,1,IF(MATCH(J1524&\"/\"&N1524,読み替え表_カーシェア!$P$32:$P$52,0),1,0)),0)","v":0},"*"]
[null,null,1515,null,null,null,null,null,null,null,null,null,null,null,null,null,null,null,null,null,null,null,null,null,null,null,null,null,null,0,0,{"$f":"IFERROR(IF(J1525=5,1,IF(MATCH(J1525&\"/\"&N1525,読み替え表_カーシェア!$P$32:$P$52,0),1,0)),0)","v":0},"*"]
[null,null,1516,null,null,null,null,null,null,null,null,null,null,null,null,null,null,null,null,null,null,null,null,null,null,null,null,null,null,0,0,{"$f":"IFERROR(IF(J1526=5,1,IF(MATCH(J1526&\"/\"&N1526,読み替え表_カーシェア!$P$32:$P$52,0),1,0)),0)","v":0},"*"]
[null,null,1517,null,null,null,null,null,null,null,null,null,null,null,null,null,null,null,null,null,null,null,null,null,null,null,null,null,null,0,0,{"$f":"IFERROR(IF(J1527=5,1,IF(MATCH(J1527&\"/\"&N1527,読み替え表_カーシェア!$P$32:$P$52,0),1,0)),0)","v":0},"*"]
[null,null,1518,null,null,null,null,null,null,null,null,null,null,null,null,null,null,null,null,null,null,null,null,null,null,null,null,null,null,0,0,{"$f":"IFERROR(IF(J1528=5,1,IF(MATCH(J1528&\"/\"&N1528,読み替え表_カーシェア!$P$32:$P$52,0),1,0)),0)","v":0},"*"]
[null,null,1519,null,null,null,null,null,null,null,null,null,null,null,null,null,null,null,null,null,null,null,null,null,null,null,null,null,null,0,0,{"$f":"IFERROR(IF(J1529=5,1,IF(MATCH(J1529&\"/\"&N1529,読み替え表_カーシェア!$P$32:$P$52,0),1,0)),0)","v":0},"*"]
[null,null,1520,null,null,null,null,null,null,null,null,null,null,null,null,null,null,null,null,null,null,null,null,null,null,null,null,null,null,0,0,{"$f":"IFERROR(IF(J1530=5,1,IF(MATCH(J1530&\"/\"&N1530,読み替え表_カーシェア!$P$32:$P$52,0),1,0)),0)","v":0},"*"]
[null,null,1521,null,null,null,null,null,null,null,null,null,null,null,null,null,null,null,null,null,null,null,null,null,null,null,null,null,null,0,0,{"$f":"IFERROR(IF(J1531=5,1,IF(MATCH(J1531&\"/\"&N1531,読み替え表_カーシェア!$P$32:$P$52,0),1,0)),0)","v":0},"*"]
[null,null,1522,null,null,null,null,null,null,null,null,null,null,null,null,null,null,null,null,null,null,null,null,null,null,null,null,null,null,0,0,{"$f":"IFERROR(IF(J1532=5,1,IF(MATCH(J1532&\"/\"&N1532,読み替え表_カーシェア!$P$32:$P$52,0),1,0)),0)","v":0},"*"]
[null,null,1523,null,null,null,null,null,null,null,null,null,null,null,null,null,null,null,null,null,null,null,null,null,null,null,null,null,null,0,0,{"$f":"IFERROR(IF(J1533=5,1,IF(MATCH(J1533&\"/\"&N1533,読み替え表_カーシェア!$P$32:$P$52,0),1,0)),0)","v":0},"*"]
[null,null,1524,null,null,null,null,null,null,null,null,null,null,null,null,null,null,null,null,null,null,null,null,null,null,null,null,null,null,0,0,{"$f":"IFERROR(IF(J1534=5,1,IF(MATCH(J1534&\"/\"&N1534,読み替え表_カーシェア!$P$32:$P$52,0),1,0)),0)","v":0},"*"]
[null,null,1525,null,null,null,null,null,null,null,null,null,null,null,null,null,null,null,null,null,null,null,null,null,null,null,null,null,null,0,0,{"$f":"IFERROR(IF(J1535=5,1,IF(MATCH(J1535&\"/\"&N1535,読み替え表_カーシェア!$P$32:$P$52,0),1,0)),0)","v":0},"*"]
[null,null,1526,null,null,null,null,null,null,null,null,null,null,null,null,null,null,null,null,null,null,null,null,null,null,null,null,null,null,0,0,{"$f":"IFERROR(IF(J1536=5,1,IF(MATCH(J1536&\"/\"&N1536,読み替え表_カーシェア!$P$32:$P$52,0),1,0)),0)","v":0},"*"]
[null,null,1527,null,null,null,null,null,null,null,null,null,null,null,null,null,null,null,null,null,null,null,null,null,null,null,null,null,null,0,0,{"$f":"IFERROR(IF(J1537=5,1,IF(MATCH(J1537&\"/\"&N1537,読み替え表_カーシェア!$P$32:$P$52,0),1,0)),0)","v":0},"*"]
[null,null,1528,null,null,null,null,null,null,null,null,null,null,null,null,null,null,null,null,null,null,null,null,null,null,null,null,null,null,0,0,{"$f":"IFERROR(IF(J1538=5,1,IF(MATCH(J1538&\"/\"&N1538,読み替え表_カーシェア!$P$32:$P$52,0),1,0)),0)","v":0},"*"]
[null,null,1529,null,null,null,null,null,null,null,null,null,null,null,null,null,null,null,null,null,null,null,null,null,null,null,null,null,null,0,0,{"$f":"IFERROR(IF(J1539=5,1,IF(MATCH(J1539&\"/\"&N1539,読み替え表_カーシェア!$P$32:$P$52,0),1,0)),0)","v":0},"*"]
[null,null,1530,null,null,null,null,null,null,null,null,null,null,null,null,null,null,null,null,null,null,null,null,null,null,null,null,null,null,0,0,{"$f":"IFERROR(IF(J1540=5,1,IF(MATCH(J1540&\"/\"&N1540,読み替え表_カーシェア!$P$32:$P$52,0),1,0)),0)","v":0},"*"]
[null,null,1531,null,null,null,null,null,null,null,null,null,null,null,null,null,null,null,null,null,null,null,null,null,null,null,null,null,null,0,0,{"$f":"IFERROR(IF(J1541=5,1,IF(MATCH(J1541&\"/\"&N1541,読み替え表_カーシェア!$P$32:$P$52,0),1,0)),0)","v":0},"*"]
[null,null,1532,null,null,null,null,null,null,null,null,null,null,null,null,null,null,null,null,null,null,null,null,null,null,null,null,null,null,0,0,{"$f":"IFERROR(IF(J1542=5,1,IF(MATCH(J1542&\"/\"&N1542,読み替え表_カーシェア!$P$32:$P$52,0),1,0)),0)","v":0},"*"]
[null,null,1533,null,null,null,null,null,null,null,null,null,null,null,null,null,null,null,null,null,null,null,null,null,null,null,null,null,null,0,0,{"$f":"IFERROR(IF(J1543=5,1,IF(MATCH(J1543&\"/\"&N1543,読み替え表_カーシェア!$P$32:$P$52,0),1,0)),0)","v":0},"*"]
[null,null,1534,null,null,null,null,null,null,null,null,null,null,null,null,null,null,null,null,null,null,null,null,null,null,null,null,null,null,0,0,{"$f":"IFERROR(IF(J1544=5,1,IF(MATCH(J1544&\"/\"&N1544,読み替え表_カーシェア!$P$32:$P$52,0),1,0)),0)","v":0},"*"]
[null,null,1535,null,null,null,null,null,null,null,null,null,null,null,null,null,null,null,null,null,null,null,null,null,null,null,null,null,null,0,0,{"$f":"IFERROR(IF(J1545=5,1,IF(MATCH(J1545&\"/\"&N1545,読み替え表_カーシェア!$P$32:$P$52,0),1,0)),0)","v":0},"*"]
[null,null,1536,null,null,null,null,null,null,null,null,null,null,null,null,null,null,null,null,null,null,null,null,null,null,null,null,null,null,0,0,{"$f":"IFERROR(IF(J1546=5,1,IF(MATCH(J1546&\"/\"&N1546,読み替え表_カーシェア!$P$32:$P$52,0),1,0)),0)","v":0},"*"]
[null,null,1537,null,null,null,null,null,null,null,null,null,null,null,null,null,null,null,null,null,null,null,null,null,null,null,null,null,null,0,0,{"$f":"IFERROR(IF(J1547=5,1,IF(MATCH(J1547&\"/\"&N1547,読み替え表_カーシェア!$P$32:$P$52,0),1,0)),0)","v":0},"*"]
[null,null,{"$f":"ROW()-10","v":1538},null,null,null,null,null,null,null,null,null,null,null,null,null,null,null,null,null,null,null,null,null,null,null,null,null,null,{"$f":"IF(OR($N1548=1,$N1548=2,$N1548=3),1,0)","v":0},{"$f":"IF(AND($J1548=1,$L1548>$M1548),1,IF(AND($J1548=1,$L1548<$M1548),2,IF(AND($J1548=1,$L1548=$M1548),3,0)))","v":0},{"$f":"IFERROR(IF(J1548=5,1,IF(MATCH(J1548&\"/\"&N1548,読み替え表_カーシェア!$P$32:$P$52,0),1,0)),0)","v":0},"*"]
[null,null,1539,null,null,null,null,null,null,null,null,null,null,null,null,null,null,null,null,null,null,null,null,null,null,null,null,null,null,0,0,{"$f":"IFERROR(IF(J1549=5,1,IF(MATCH(J1549&\"/\"&N1549,読み替え表_カーシェア!$P$32:$P$52,0),1,0)),0)","v":0},"*"]
[null,null,1540,null,null,null,null,null,null,null,null,null,null,null,null,null,null,null,null,null,null,null,null,null,null,null,null,null,null,0,0,{"$f":"IFERROR(IF(J1550=5,1,IF(MATCH(J1550&\"/\"&N1550,読み替え表_カーシェア!$P$32:$P$52,0),1,0)),0)","v":0},"*"]
[null,null,1541,null,null,null,null,null,null,null,null,null,null,null,null,null,null,null,null,null,null,null,null,null,null,null,null,null,null,0,0,{"$f":"IFERROR(IF(J1551=5,1,IF(MATCH(J1551&\"/\"&N1551,読み替え表_カーシェア!$P$32:$P$52,0),1,0)),0)","v":0},"*"]
[null,null,1542,null,null,null,null,null,null,null,null,null,null,null,null,null,null,null,null,null,null,null,null,null,null,null,null,null,null,0,0,{"$f":"IFERROR(IF(J1552=5,1,IF(MATCH(J1552&\"/\"&N1552,読み替え表_カーシェア!$P$32:$P$52,0),1,0)),0)","v":0},"*"]
[null,null,1543,null,null,null,null,null,null,null,null,null,null,null,null,null,null,null,null,null,null,null,null,null,null,null,null,null,null,0,0,{"$f":"IFERROR(IF(J1553=5,1,IF(MATCH(J1553&\"/\"&N1553,読み替え表_カーシェア!$P$32:$P$52,0),1,0)),0)","v":0},"*"]
[null,null,1544,null,null,null,null,null,null,null,null,null,null,null,null,null,null,null,null,null,null,null,null,null,null,null,null,null,null,0,0,{"$f":"IFERROR(IF(J1554=5,1,IF(MATCH(J1554&\"/\"&N1554,読み替え表_カーシェア!$P$32:$P$52,0),1,0)),0)","v":0},"*"]
[null,null,1545,null,null,null,null,null,null,null,null,null,null,null,null,null,null,null,null,null,null,null,null,null,null,null,null,null,null,0,0,{"$f":"IFERROR(IF(J1555=5,1,IF(MATCH(J1555&\"/\"&N1555,読み替え表_カーシェア!$P$32:$P$52,0),1,0)),0)","v":0},"*"]
[null,null,1546,null,null,null,null,null,null,null,null,null,null,null,null,null,null,null,null,null,null,null,null,null,null,null,null,null,null,0,0,{"$f":"IFERROR(IF(J1556=5,1,IF(MATCH(J1556&\"/\"&N1556,読み替え表_カーシェア!$P$32:$P$52,0),1,0)),0)","v":0},"*"]
[null,null,1547,null,null,null,null,null,null,null,null,null,null,null,null,null,null,null,null,null,null,null,null,null,null,null,null,null,null,0,0,{"$f":"IFERROR(IF(J1557=5,1,IF(MATCH(J1557&\"/\"&N1557,読み替え表_カーシェア!$P$32:$P$52,0),1,0)),0)","v":0},"*"]
[null,null,1548,null,null,null,null,null,null,null,null,null,null,null,null,null,null,null,null,null,null,null,null,null,null,null,null,null,null,0,0,{"$f":"IFERROR(IF(J1558=5,1,IF(MATCH(J1558&\"/\"&N1558,読み替え表_カーシェア!$P$32:$P$52,0),1,0)),0)","v":0},"*"]
[null,null,1549,null,null,null,null,null,null,null,null,null,null,null,null,null,null,null,null,null,null,null,null,null,null,null,null,null,null,0,0,{"$f":"IFERROR(IF(J1559=5,1,IF(MATCH(J1559&\"/\"&N1559,読み替え表_カーシェア!$P$32:$P$52,0),1,0)),0)","v":0},"*"]
[null,null,1550,null,null,null,null,null,null,null,null,null,null,null,null,null,null,null,null,null,null,null,null,null,null,null,null,null,null,0,0,{"$f":"IFERROR(IF(J1560=5,1,IF(MATCH(J1560&\"/\"&N1560,読み替え表_カーシェア!$P$32:$P$52,0),1,0)),0)","v":0},"*"]
[null,null,1551,null,null,null,null,null,null,null,null,null,null,null,null,null,null,null,null,null,null,null,null,null,null,null,null,null,null,0,0,{"$f":"IFERROR(IF(J1561=5,1,IF(MATCH(J1561&\"/\"&N1561,読み替え表_カーシェア!$P$32:$P$52,0),1,0)),0)","v":0},"*"]
[null,null,1552,null,null,null,null,null,null,null,null,null,null,null,null,null,null,null,null,null,null,null,null,null,null,null,null,null,null,0,0,{"$f":"IFERROR(IF(J1562=5,1,IF(MATCH(J1562&\"/\"&N1562,読み替え表_カーシェア!$P$32:$P$52,0),1,0)),0)","v":0},"*"]
[null,null,1553,null,null,null,null,null,null,null,null,null,null,null,null,null,null,null,null,null,null,null,null,null,null,null,null,null,null,0,0,{"$f":"IFERROR(IF(J1563=5,1,IF(MATCH(J1563&\"/\"&N1563,読み替え表_カーシェア!$P$32:$P$52,0),1,0)),0)","v":0},"*"]
[null,null,1554,null,null,null,null,null,null,null,null,null,null,null,null,null,null,null,null,null,null,null,null,null,null,null,null,null,null,0,0,{"$f":"IFERROR(IF(J1564=5,1,IF(MATCH(J1564&\"/\"&N1564,読み替え表_カーシェア!$P$32:$P$52,0),1,0)),0)","v":0},"*"]
[null,null,1555,null,null,null,null,null,null,null,null,null,null,null,null,null,null,null,null,null,null,null,null,null,null,null,null,null,null,0,0,{"$f":"IFERROR(IF(J1565=5,1,IF(MATCH(J1565&\"/\"&N1565,読み替え表_カーシェア!$P$32:$P$52,0),1,0)),0)","v":0},"*"]
[null,null,1556,null,null,null,null,null,null,null,null,null,null,null,null,null,null,null,null,null,null,null,null,null,null,null,null,null,null,0,0,{"$f":"IFERROR(IF(J1566=5,1,IF(MATCH(J1566&\"/\"&N1566,読み替え表_カーシェア!$P$32:$P$52,0),1,0)),0)","v":0},"*"]
[null,null,1557,null,null,null,null,null,null,null,null,null,null,null,null,null,null,null,null,null,null,null,null,null,null,null,null,null,null,0,0,{"$f":"IFERROR(IF(J1567=5,1,IF(MATCH(J1567&\"/\"&N1567,読み替え表_カーシェア!$P$32:$P$52,0),1,0)),0)","v":0},"*"]
[null,null,1558,null,null,null,null,null,null,null,null,null,null,null,null,null,null,null,null,null,null,null,null,null,null,null,null,null,null,0,0,{"$f":"IFERROR(IF(J1568=5,1,IF(MATCH(J1568&\"/\"&N1568,読み替え表_カーシェア!$P$32:$P$52,0),1,0)),0)","v":0},"*"]
[null,null,1559,null,null,null,null,null,null,null,null,null,null,null,null,null,null,null,null,null,null,null,null,null,null,null,null,null,null,0,0,{"$f":"IFERROR(IF(J1569=5,1,IF(MATCH(J1569&\"/\"&N1569,読み替え表_カーシェア!$P$32:$P$52,0),1,0)),0)","v":0},"*"]
[null,null,1560,null,null,null,null,null,null,null,null,null,null,null,null,null,null,null,null,null,null,null,null,null,null,null,null,null,null,0,0,{"$f":"IFERROR(IF(J1570=5,1,IF(MATCH(J1570&\"/\"&N1570,読み替え表_カーシェア!$P$32:$P$52,0),1,0)),0)","v":0},"*"]
[null,null,1561,null,null,null,null,null,null,null,null,null,null,null,null,null,null,null,null,null,null,null,null,null,null,null,null,null,null,0,0,{"$f":"IFERROR(IF(J1571=5,1,IF(MATCH(J1571&\"/\"&N1571,読み替え表_カーシェア!$P$32:$P$52,0),1,0)),0)","v":0},"*"]
[null,null,1562,null,null,null,null,null,null,null,null,null,null,null,null,null,null,null,null,null,null,null,null,null,null,null,null,null,null,0,0,{"$f":"IFERROR(IF(J1572=5,1,IF(MATCH(J1572&\"/\"&N1572,読み替え表_カーシェア!$P$32:$P$52,0),1,0)),0)","v":0},"*"]
[null,null,1563,null,null,null,null,null,null,null,null,null,null,null,null,null,null,null,null,null,null,null,null,null,null,null,null,null,null,0,0,{"$f":"IFERROR(IF(J1573=5,1,IF(MATCH(J1573&\"/\"&N1573,読み替え表_カーシェア!$P$32:$P$52,0),1,0)),0)","v":0},"*"]
[null,null,1564,null,null,null,null,null,null,null,null,null,null,null,null,null,null,null,null,null,null,null,null,null,null,null,null,null,null,0,0,{"$f":"IFERROR(IF(J1574=5,1,IF(MATCH(J1574&\"/\"&N1574,読み替え表_カーシェア!$P$32:$P$52,0),1,0)),0)","v":0},"*"]
[null,null,1565,null,null,null,null,null,null,null,null,null,null,null,null,null,null,null,null,null,null,null,null,null,null,null,null,null,null,0,0,{"$f":"IFERROR(IF(J1575=5,1,IF(MATCH(J1575&\"/\"&N1575,読み替え表_カーシェア!$P$32:$P$52,0),1,0)),0)","v":0},"*"]
[null,null,1566,null,null,null,null,null,null,null,null,null,null,null,null,null,null,null,null,null,null,null,null,null,null,null,null,null,null,0,0,{"$f":"IFERROR(IF(J1576=5,1,IF(MATCH(J1576&\"/\"&N1576,読み替え表_カーシェア!$P$32:$P$52,0),1,0)),0)","v":0},"*"]
[null,null,1567,null,null,null,null,null,null,null,null,null,null,null,null,null,null,null,null,null,null,null,null,null,null,null,null,null,null,0,0,{"$f":"IFERROR(IF(J1577=5,1,IF(MATCH(J1577&\"/\"&N1577,読み替え表_カーシェア!$P$32:$P$52,0),1,0)),0)","v":0},"*"]
[null,null,1568,null,null,null,null,null,null,null,null,null,null,null,null,null,null,null,null,null,null,null,null,null,null,null,null,null,null,0,0,{"$f":"IFERROR(IF(J1578=5,1,IF(MATCH(J1578&\"/\"&N1578,読み替え表_カーシェア!$P$32:$P$52,0),1,0)),0)","v":0},"*"]
[null,null,1569,null,null,null,null,null,null,null,null,null,null,null,null,null,null,null,null,null,null,null,null,null,null,null,null,null,null,0,0,{"$f":"IFERROR(IF(J1579=5,1,IF(MATCH(J1579&\"/\"&N1579,読み替え表_カーシェア!$P$32:$P$52,0),1,0)),0)","v":0},"*"]
[null,null,1570,null,null,null,null,null,null,null,null,null,null,null,null,null,null,null,null,null,null,null,null,null,null,null,null,null,null,0,0,{"$f":"IFERROR(IF(J1580=5,1,IF(MATCH(J1580&\"/\"&N1580,読み替え表_カーシェア!$P$32:$P$52,0),1,0)),0)","v":0},"*"]
[null,null,1571,null,null,null,null,null,null,null,null,null,null,null,null,null,null,null,null,null,null,null,null,null,null,null,null,null,null,0,0,{"$f":"IFERROR(IF(J1581=5,1,IF(MATCH(J1581&\"/\"&N1581,読み替え表_カーシェア!$P$32:$P$52,0),1,0)),0)","v":0},"*"]
[null,null,1572,null,null,null,null,null,null,null,null,null,null,null,null,null,null,null,null,null,null,null,null,null,null,null,null,null,null,0,0,{"$f":"IFERROR(IF(J1582=5,1,IF(MATCH(J1582&\"/\"&N1582,読み替え表_カーシェア!$P$32:$P$52,0),1,0)),0)","v":0},"*"]
[null,null,1573,null,null,null,null,null,null,null,null,null,null,null,null,null,null,null,null,null,null,null,null,null,null,null,null,null,null,0,0,{"$f":"IFERROR(IF(J1583=5,1,IF(MATCH(J1583&\"/\"&N1583,読み替え表_カーシェア!$P$32:$P$52,0),1,0)),0)","v":0},"*"]
[null,null,1574,null,null,null,null,null,null,null,null,null,null,null,null,null,null,null,null,null,null,null,null,null,null,null,null,null,null,0,0,{"$f":"IFERROR(IF(J1584=5,1,IF(MATCH(J1584&\"/\"&N1584,読み替え表_カーシェア!$P$32:$P$52,0),1,0)),0)","v":0},"*"]
[null,null,1575,null,null,null,null,null,null,null,null,null,null,null,null,null,null,null,null,null,null,null,null,null,null,null,null,null,null,0,0,{"$f":"IFERROR(IF(J1585=5,1,IF(MATCH(J1585&\"/\"&N1585,読み替え表_カーシェア!$P$32:$P$52,0),1,0)),0)","v":0},"*"]
[null,null,1576,null,null,null,null,null,null,null,null,null,null,null,null,null,null,null,null,null,null,null,null,null,null,null,null,null,null,0,0,{"$f":"IFERROR(IF(J1586=5,1,IF(MATCH(J1586&\"/\"&N1586,読み替え表_カーシェア!$P$32:$P$52,0),1,0)),0)","v":0},"*"]
[null,null,1577,null,null,null,null,null,null,null,null,null,null,null,null,null,null,null,null,null,null,null,null,null,null,null,null,null,null,0,0,{"$f":"IFERROR(IF(J1587=5,1,IF(MATCH(J1587&\"/\"&N1587,読み替え表_カーシェア!$P$32:$P$52,0),1,0)),0)","v":0},"*"]
[null,null,1578,null,null,null,null,null,null,null,null,null,null,null,null,null,null,null,null,null,null,null,null,null,null,null,null,null,null,0,0,{"$f":"IFERROR(IF(J1588=5,1,IF(MATCH(J1588&\"/\"&N1588,読み替え表_カーシェア!$P$32:$P$52,0),1,0)),0)","v":0},"*"]
[null,null,1579,null,null,null,null,null,null,null,null,null,null,null,null,null,null,null,null,null,null,null,null,null,null,null,null,null,null,0,0,{"$f":"IFERROR(IF(J1589=5,1,IF(MATCH(J1589&\"/\"&N1589,読み替え表_カーシェア!$P$32:$P$52,0),1,0)),0)","v":0},"*"]
[null,null,1580,null,null,null,null,null,null,null,null,null,null,null,null,null,null,null,null,null,null,null,null,null,null,null,null,null,null,0,0,{"$f":"IFERROR(IF(J1590=5,1,IF(MATCH(J1590&\"/\"&N1590,読み替え表_カーシェア!$P$32:$P$52,0),1,0)),0)","v":0},"*"]
[null,null,1581,null,null,null,null,null,null,null,null,null,null,null,null,null,null,null,null,null,null,null,null,null,null,null,null,null,null,0,0,{"$f":"IFERROR(IF(J1591=5,1,IF(MATCH(J1591&\"/\"&N1591,読み替え表_カーシェア!$P$32:$P$52,0),1,0)),0)","v":0},"*"]
[null,null,1582,null,null,null,null,null,null,null,null,null,null,null,null,null,null,null,null,null,null,null,null,null,null,null,null,null,null,0,0,{"$f":"IFERROR(IF(J1592=5,1,IF(MATCH(J1592&\"/\"&N1592,読み替え表_カーシェア!$P$32:$P$52,0),1,0)),0)","v":0},"*"]
[null,null,1583,null,null,null,null,null,null,null,null,null,null,null,null,null,null,null,null,null,null,null,null,null,null,null,null,null,null,0,0,{"$f":"IFERROR(IF(J1593=5,1,IF(MATCH(J1593&\"/\"&N1593,読み替え表_カーシェア!$P$32:$P$52,0),1,0)),0)","v":0},"*"]
[null,null,1584,null,null,null,null,null,null,null,null,null,null,null,null,null,null,null,null,null,null,null,null,null,null,null,null,null,null,0,0,{"$f":"IFERROR(IF(J1594=5,1,IF(MATCH(J1594&\"/\"&N1594,読み替え表_カーシェア!$P$32:$P$52,0),1,0)),0)","v":0},"*"]
[null,null,1585,null,null,null,null,null,null,null,null,null,null,null,null,null,null,null,null,null,null,null,null,null,null,null,null,null,null,0,0,{"$f":"IFERROR(IF(J1595=5,1,IF(MATCH(J1595&\"/\"&N1595,読み替え表_カーシェア!$P$32:$P$52,0),1,0)),0)","v":0},"*"]
[null,null,1586,null,null,null,null,null,null,null,null,null,null,null,null,null,null,null,null,null,null,null,null,null,null,null,null,null,null,0,0,{"$f":"IFERROR(IF(J1596=5,1,IF(MATCH(J1596&\"/\"&N1596,読み替え表_カーシェア!$P$32:$P$52,0),1,0)),0)","v":0},"*"]
[null,null,1587,null,null,null,null,null,null,null,null,null,null,null,null,null,null,null,null,null,null,null,null,null,null,null,null,null,null,0,0,{"$f":"IFERROR(IF(J1597=5,1,IF(MATCH(J1597&\"/\"&N1597,読み替え表_カーシェア!$P$32:$P$52,0),1,0)),0)","v":0},"*"]
[null,null,1588,null,null,null,null,null,null,null,null,null,null,null,null,null,null,null,null,null,null,null,null,null,null,null,null,null,null,0,0,{"$f":"IFERROR(IF(J1598=5,1,IF(MATCH(J1598&\"/\"&N1598,読み替え表_カーシェア!$P$32:$P$52,0),1,0)),0)","v":0},"*"]
[null,null,1589,null,null,null,null,null,null,null,null,null,null,null,null,null,null,null,null,null,null,null,null,null,null,null,null,null,null,0,0,{"$f":"IFERROR(IF(J1599=5,1,IF(MATCH(J1599&\"/\"&N1599,読み替え表_カーシェア!$P$32:$P$52,0),1,0)),0)","v":0},"*"]
[null,null,1590,null,null,null,null,null,null,null,null,null,null,null,null,null,null,null,null,null,null,null,null,null,null,null,null,null,null,0,0,{"$f":"IFERROR(IF(J1600=5,1,IF(MATCH(J1600&\"/\"&N1600,読み替え表_カーシェア!$P$32:$P$52,0),1,0)),0)","v":0},"*"]
[null,null,1591,null,null,null,null,null,null,null,null,null,null,null,null,null,null,null,null,null,null,null,null,null,null,null,null,null,null,0,0,{"$f":"IFERROR(IF(J1601=5,1,IF(MATCH(J1601&\"/\"&N1601,読み替え表_カーシェア!$P$32:$P$52,0),1,0)),0)","v":0},"*"]
[null,null,1592,null,null,null,null,null,null,null,null,null,null,null,null,null,null,null,null,null,null,null,null,null,null,null,null,null,null,0,0,{"$f":"IFERROR(IF(J1602=5,1,IF(MATCH(J1602&\"/\"&N1602,読み替え表_カーシェア!$P$32:$P$52,0),1,0)),0)","v":0},"*"]
[null,null,1593,null,null,null,null,null,null,null,null,null,null,null,null,null,null,null,null,null,null,null,null,null,null,null,null,null,null,0,0,{"$f":"IFERROR(IF(J1603=5,1,IF(MATCH(J1603&\"/\"&N1603,読み替え表_カーシェア!$P$32:$P$52,0),1,0)),0)","v":0},"*"]
[null,null,1594,null,null,null,null,null,null,null,null,null,null,null,null,null,null,null,null,null,null,null,null,null,null,null,null,null,null,0,0,{"$f":"IFERROR(IF(J1604=5,1,IF(MATCH(J1604&\"/\"&N1604,読み替え表_カーシェア!$P$32:$P$52,0),1,0)),0)","v":0},"*"]
[null,null,1595,null,null,null,null,null,null,null,null,null,null,null,null,null,null,null,null,null,null,null,null,null,null,null,null,null,null,0,0,{"$f":"IFERROR(IF(J1605=5,1,IF(MATCH(J1605&\"/\"&N1605,読み替え表_カーシェア!$P$32:$P$52,0),1,0)),0)","v":0},"*"]
[null,null,1596,null,null,null,null,null,null,null,null,null,null,null,null,null,null,null,null,null,null,null,null,null,null,null,null,null,null,0,0,{"$f":"IFERROR(IF(J1606=5,1,IF(MATCH(J1606&\"/\"&N1606,読み替え表_カーシェア!$P$32:$P$52,0),1,0)),0)","v":0},"*"]
[null,null,1597,null,null,null,null,null,null,null,null,null,null,null,null,null,null,null,null,null,null,null,null,null,null,null,null,null,null,0,0,{"$f":"IFERROR(IF(J1607=5,1,IF(MATCH(J1607&\"/\"&N1607,読み替え表_カーシェア!$P$32:$P$52,0),1,0)),0)","v":0},"*"]
[null,null,1598,null,null,null,null,null,null,null,null,null,null,null,null,null,null,null,null,null,null,null,null,null,null,null,null,null,null,0,0,{"$f":"IFERROR(IF(J1608=5,1,IF(MATCH(J1608&\"/\"&N1608,読み替え表_カーシェア!$P$32:$P$52,0),1,0)),0)","v":0},"*"]
[null,null,1599,null,null,null,null,null,null,null,null,null,null,null,null,null,null,null,null,null,null,null,null,null,null,null,null,null,null,0,0,{"$f":"IFERROR(IF(J1609=5,1,IF(MATCH(J1609&\"/\"&N1609,読み替え表_カーシェア!$P$32:$P$52,0),1,0)),0)","v":0},"*"]
[null,null,1600,null,null,null,null,null,null,null,null,null,null,null,null,null,null,null,null,null,null,null,null,null,null,null,null,null,null,0,0,{"$f":"IFERROR(IF(J1610=5,1,IF(MATCH(J1610&\"/\"&N1610,読み替え表_カーシェア!$P$32:$P$52,0),1,0)),0)","v":0},"*"]
[null,null,1601,null,null,null,null,null,null,null,null,null,null,null,null,null,null,null,null,null,null,null,null,null,null,null,null,null,null,0,0,{"$f":"IFERROR(IF(J1611=5,1,IF(MATCH(J1611&\"/\"&N1611,読み替え表_カーシェア!$P$32:$P$52,0),1,0)),0)","v":0},"*"]
[null,null,{"$f":"ROW()-10","v":1602},null,null,null,null,null,null,null,null,null,null,null,null,null,null,null,null,null,null,null,null,null,null,null,null,null,null,{"$f":"IF(OR($N1612=1,$N1612=2,$N1612=3),1,0)","v":0},{"$f":"IF(AND($J1612=1,$L1612>$M1612),1,IF(AND($J1612=1,$L1612<$M1612),2,IF(AND($J1612=1,$L1612=$M1612),3,0)))","v":0},{"$f":"IFERROR(IF(J1612=5,1,IF(MATCH(J1612&\"/\"&N1612,読み替え表_カーシェア!$P$32:$P$52,0),1,0)),0)","v":0},"*"]
[null,null,1603,null,null,null,null,null,null,null,null,null,null,null,null,null,null,null,null,null,null,null,null,null,null,null,null,null,null,0,0,{"$f":"IFERROR(IF(J1613=5,1,IF(MATCH(J1613&\"/\"&N1613,読み替え表_カーシェア!$P$32:$P$52,0),1,0)),0)","v":0},"*"]
[null,null,1604,null,null,null,null,null,null,null,null,null,null,null,null,null,null,null,null,null,null,null,null,null,null,null,null,null,null,0,0,{"$f":"IFERROR(IF(J1614=5,1,IF(MATCH(J1614&\"/\"&N1614,読み替え表_カーシェア!$P$32:$P$52,0),1,0)),0)","v":0},"*"]
[null,null,1605,null,null,null,null,null,null,null,null,null,null,null,null,null,null,null,null,null,null,null,null,null,null,null,null,null,null,0,0,{"$f":"IFERROR(IF(J1615=5,1,IF(MATCH(J1615&\"/\"&N1615,読み替え表_カーシェア!$P$32:$P$52,0),1,0)),0)","v":0},"*"]
[null,null,1606,null,null,null,null,null,null,null,null,null,null,null,null,null,null,null,null,null,null,null,null,null,null,null,null,null,null,0,0,{"$f":"IFERROR(IF(J1616=5,1,IF(MATCH(J1616&\"/\"&N1616,読み替え表_カーシェア!$P$32:$P$52,0),1,0)),0)","v":0},"*"]
[null,null,1607,null,null,null,null,null,null,null,null,null,null,null,null,null,null,null,null,null,null,null,null,null,null,null,null,null,null,0,0,{"$f":"IFERROR(IF(J1617=5,1,IF(MATCH(J1617&\"/\"&N1617,読み替え表_カーシェア!$P$32:$P$52,0),1,0)),0)","v":0},"*"]
[null,null,1608,null,null,null,null,null,null,null,null,null,null,null,null,null,null,null,null,null,null,null,null,null,null,null,null,null,null,0,0,{"$f":"IFERROR(IF(J1618=5,1,IF(MATCH(J1618&\"/\"&N1618,読み替え表_カーシェア!$P$32:$P$52,0),1,0)),0)","v":0},"*"]
[null,null,1609,null,null,null,null,null,null,null,null,null,null,null,null,null,null,null,null,null,null,null,null,null,null,null,null,null,null,0,0,{"$f":"IFERROR(IF(J1619=5,1,IF(MATCH(J1619&\"/\"&N1619,読み替え表_カーシェア!$P$32:$P$52,0),1,0)),0)","v":0},"*"]
[null,null,1610,null,null,null,null,null,null,null,null,null,null,null,null,null,null,null,null,null,null,null,null,null,null,null,null,null,null,0,0,{"$f":"IFERROR(IF(J1620=5,1,IF(MATCH(J1620&\"/\"&N1620,読み替え表_カーシェア!$P$32:$P$52,0),1,0)),0)","v":0},"*"]
[null,null,1611,null,null,null,null,null,null,null,null,null,null,null,null,null,null,null,null,null,null,null,null,null,null,null,null,null,null,0,0,{"$f":"IFERROR(IF(J1621=5,1,IF(MATCH(J1621&\"/\"&N1621,読み替え表_カーシェア!$P$32:$P$52,0),1,0)),0)","v":0},"*"]
[null,null,1612,null,null,null,null,null,null,null,null,null,null,null,null,null,null,null,null,null,null,null,null,null,null,null,null,null,null,0,0,{"$f":"IFERROR(IF(J1622=5,1,IF(MATCH(J1622&\"/\"&N1622,読み替え表_カーシェア!$P$32:$P$52,0),1,0)),0)","v":0},"*"]
[null,null,1613,null,null,null,null,null,null,null,null,null,null,null,null,null,null,null,null,null,null,null,null,null,null,null,null,null,null,0,0,{"$f":"IFERROR(IF(J1623=5,1,IF(MATCH(J1623&\"/\"&N1623,読み替え表_カーシェア!$P$32:$P$52,0),1,0)),0)","v":0},"*"]
[null,null,1614,null,null,null,null,null,null,null,null,null,null,null,null,null,null,null,null,null,null,null,null,null,null,null,null,null,null,0,0,{"$f":"IFERROR(IF(J1624=5,1,IF(MATCH(J1624&\"/\"&N1624,読み替え表_カーシェア!$P$32:$P$52,0),1,0)),0)","v":0},"*"]
[null,null,1615,null,null,null,null,null,null,null,null,null,null,null,null,null,null,null,null,null,null,null,null,null,null,null,null,null,null,0,0,{"$f":"IFERROR(IF(J1625=5,1,IF(MATCH(J1625&\"/\"&N1625,読み替え表_カーシェア!$P$32:$P$52,0),1,0)),0)","v":0},"*"]
[null,null,1616,null,null,null,null,null,null,null,null,null,null,null,null,null,null,null,null,null,null,null,null,null,null,null,null,null,null,0,0,{"$f":"IFERROR(IF(J1626=5,1,IF(MATCH(J1626&\"/\"&N1626,読み替え表_カーシェア!$P$32:$P$52,0),1,0)),0)","v":0},"*"]
[null,null,1617,null,null,null,null,null,null,null,null,null,null,null,null,null,null,null,null,null,null,null,null,null,null,null,null,null,null,0,0,{"$f":"IFERROR(IF(J1627=5,1,IF(MATCH(J1627&\"/\"&N1627,読み替え表_カーシェア!$P$32:$P$52,0),1,0)),0)","v":0},"*"]
[null,null,1618,null,null,null,null,null,null,null,null,null,null,null,null,null,null,null,null,null,null,null,null,null,null,null,null,null,null,0,0,{"$f":"IFERROR(IF(J1628=5,1,IF(MATCH(J1628&\"/\"&N1628,読み替え表_カーシェア!$P$32:$P$52,0),1,0)),0)","v":0},"*"]
[null,null,1619,null,null,null,null,null,null,null,null,null,null,null,null,null,null,null,null,null,null,null,null,null,null,null,null,null,null,0,0,{"$f":"IFERROR(IF(J1629=5,1,IF(MATCH(J1629&\"/\"&N1629,読み替え表_カーシェア!$P$32:$P$52,0),1,0)),0)","v":0},"*"]
[null,null,1620,null,null,null,null,null,null,null,null,null,null,null,null,null,null,null,null,null,null,null,null,null,null,null,null,null,null,0,0,{"$f":"IFERROR(IF(J1630=5,1,IF(MATCH(J1630&\"/\"&N1630,読み替え表_カーシェア!$P$32:$P$52,0),1,0)),0)","v":0},"*"]
[null,null,1621,null,null,null,null,null,null,null,null,null,null,null,null,null,null,null,null,null,null,null,null,null,null,null,null,null,null,0,0,{"$f":"IFERROR(IF(J1631=5,1,IF(MATCH(J1631&\"/\"&N1631,読み替え表_カーシェア!$P$32:$P$52,0),1,0)),0)","v":0},"*"]
[null,null,1622,null,null,null,null,null,null,null,null,null,null,null,null,null,null,null,null,null,null,null,null,null,null,null,null,null,null,0,0,{"$f":"IFERROR(IF(J1632=5,1,IF(MATCH(J1632&\"/\"&N1632,読み替え表_カーシェア!$P$32:$P$52,0),1,0)),0)","v":0},"*"]
[null,null,1623,null,null,null,null,null,null,null,null,null,null,null,null,null,null,null,null,null,null,null,null,null,null,null,null,null,null,0,0,{"$f":"IFERROR(IF(J1633=5,1,IF(MATCH(J1633&\"/\"&N1633,読み替え表_カーシェア!$P$32:$P$52,0),1,0)),0)","v":0},"*"]
[null,null,1624,null,null,null,null,null,null,null,null,null,null,null,null,null,null,null,null,null,null,null,null,null,null,null,null,null,null,0,0,{"$f":"IFERROR(IF(J1634=5,1,IF(MATCH(J1634&\"/\"&N1634,読み替え表_カーシェア!$P$32:$P$52,0),1,0)),0)","v":0},"*"]
[null,null,1625,null,null,null,null,null,null,null,null,null,null,null,null,null,null,null,null,null,null,null,null,null,null,null,null,null,null,0,0,{"$f":"IFERROR(IF(J1635=5,1,IF(MATCH(J1635&\"/\"&N1635,読み替え表_カーシェア!$P$32:$P$52,0),1,0)),0)","v":0},"*"]
[null,null,1626,null,null,null,null,null,null,null,null,null,null,null,null,null,null,null,null,null,null,null,null,null,null,null,null,null,null,0,0,{"$f":"IFERROR(IF(J1636=5,1,IF(MATCH(J1636&\"/\"&N1636,読み替え表_カーシェア!$P$32:$P$52,0),1,0)),0)","v":0},"*"]
[null,null,1627,null,null,null,null,null,null,null,null,null,null,null,null,null,null,null,null,null,null,null,null,null,null,null,null,null,null,0,0,{"$f":"IFERROR(IF(J1637=5,1,IF(MATCH(J1637&\"/\"&N1637,読み替え表_カーシェア!$P$32:$P$52,0),1,0)),0)","v":0},"*"]
[null,null,1628,null,null,null,null,null,null,null,null,null,null,null,null,null,null,null,null,null,null,null,null,null,null,null,null,null,null,0,0,{"$f":"IFERROR(IF(J1638=5,1,IF(MATCH(J1638&\"/\"&N1638,読み替え表_カーシェア!$P$32:$P$52,0),1,0)),0)","v":0},"*"]
[null,null,1629,null,null,null,null,null,null,null,null,null,null,null,null,null,null,null,null,null,null,null,null,null,null,null,null,null,null,0,0,{"$f":"IFERROR(IF(J1639=5,1,IF(MATCH(J1639&\"/\"&N1639,読み替え表_カーシェア!$P$32:$P$52,0),1,0)),0)","v":0},"*"]
[null,null,1630,null,null,null,null,null,null,null,null,null,null,null,null,null,null,null,null,null,null,null,null,null,null,null,null,null,null,0,0,{"$f":"IFERROR(IF(J1640=5,1,IF(MATCH(J1640&\"/\"&N1640,読み替え表_カーシェア!$P$32:$P$52,0),1,0)),0)","v":0},"*"]
[null,null,1631,null,null,null,null,null,null,null,null,null,null,null,null,null,null,null,null,null,null,null,null,null,null,null,null,null,null,0,0,{"$f":"IFERROR(IF(J1641=5,1,IF(MATCH(J1641&\"/\"&N1641,読み替え表_カーシェア!$P$32:$P$52,0),1,0)),0)","v":0},"*"]
[null,null,1632,null,null,null,null,null,null,null,null,null,null,null,null,null,null,null,null,null,null,null,null,null,null,null,null,null,null,0,0,{"$f":"IFERROR(IF(J1642=5,1,IF(MATCH(J1642&\"/\"&N1642,読み替え表_カーシェア!$P$32:$P$52,0),1,0)),0)","v":0},"*"]
[null,null,1633,null,null,null,null,null,null,null,null,null,null,null,null,null,null,null,null,null,null,null,null,null,null,null,null,null,null,0,0,{"$f":"IFERROR(IF(J1643=5,1,IF(MATCH(J1643&\"/\"&N1643,読み替え表_カーシェア!$P$32:$P$52,0),1,0)),0)","v":0},"*"]
[null,null,1634,null,null,null,null,null,null,null,null,null,null,null,null,null,null,null,null,null,null,null,null,null,null,null,null,null,null,0,0,{"$f":"IFERROR(IF(J1644=5,1,IF(MATCH(J1644&\"/\"&N1644,読み替え表_カーシェア!$P$32:$P$52,0),1,0)),0)","v":0},"*"]
[null,null,1635,null,null,null,null,null,null,null,null,null,null,null,null,null,null,null,null,null,null,null,null,null,null,null,null,null,null,0,0,{"$f":"IFERROR(IF(J1645=5,1,IF(MATCH(J1645&\"/\"&N1645,読み替え表_カーシェア!$P$32:$P$52,0),1,0)),0)","v":0},"*"]
[null,null,1636,null,null,null,null,null,null,null,null,null,null,null,null,null,null,null,null,null,null,null,null,null,null,null,null,null,null,0,0,{"$f":"IFERROR(IF(J1646=5,1,IF(MATCH(J1646&\"/\"&N1646,読み替え表_カーシェア!$P$32:$P$52,0),1,0)),0)","v":0},"*"]
[null,null,1637,null,null,null,null,null,null,null,null,null,null,null,null,null,null,null,null,null,null,null,null,null,null,null,null,null,null,0,0,{"$f":"IFERROR(IF(J1647=5,1,IF(MATCH(J1647&\"/\"&N1647,読み替え表_カーシェア!$P$32:$P$52,0),1,0)),0)","v":0},"*"]
[null,null,1638,null,null,null,null,null,null,null,null,null,null,null,null,null,null,null,null,null,null,null,null,null,null,null,null,null,null,0,0,{"$f":"IFERROR(IF(J1648=5,1,IF(MATCH(J1648&\"/\"&N1648,読み替え表_カーシェア!$P$32:$P$52,0),1,0)),0)","v":0},"*"]
[null,null,1639,null,null,null,null,null,null,null,null,null,null,null,null,null,null,null,null,null,null,null,null,null,null,null,null,null,null,0,0,{"$f":"IFERROR(IF(J1649=5,1,IF(MATCH(J1649&\"/\"&N1649,読み替え表_カーシェア!$P$32:$P$52,0),1,0)),0)","v":0},"*"]
[null,null,1640,null,null,null,null,null,null,null,null,null,null,null,null,null,null,null,null,null,null,null,null,null,null,null,null,null,null,0,0,{"$f":"IFERROR(IF(J1650=5,1,IF(MATCH(J1650&\"/\"&N1650,読み替え表_カーシェア!$P$32:$P$52,0),1,0)),0)","v":0},"*"]
[null,null,1641,null,null,null,null,null,null,null,null,null,null,null,null,null,null,null,null,null,null,null,null,null,null,null,null,null,null,0,0,{"$f":"IFERROR(IF(J1651=5,1,IF(MATCH(J1651&\"/\"&N1651,読み替え表_カーシェア!$P$32:$P$52,0),1,0)),0)","v":0},"*"]
[null,null,1642,null,null,null,null,null,null,null,null,null,null,null,null,null,null,null,null,null,null,null,null,null,null,null,null,null,null,0,0,{"$f":"IFERROR(IF(J1652=5,1,IF(MATCH(J1652&\"/\"&N1652,読み替え表_カーシェア!$P$32:$P$52,0),1,0)),0)","v":0},"*"]
[null,null,1643,null,null,null,null,null,null,null,null,null,null,null,null,null,null,null,null,null,null,null,null,null,null,null,null,null,null,0,0,{"$f":"IFERROR(IF(J1653=5,1,IF(MATCH(J1653&\"/\"&N1653,読み替え表_カーシェア!$P$32:$P$52,0),1,0)),0)","v":0},"*"]
[null,null,1644,null,null,null,null,null,null,null,null,null,null,null,null,null,null,null,null,null,null,null,null,null,null,null,null,null,null,0,0,{"$f":"IFERROR(IF(J1654=5,1,IF(MATCH(J1654&\"/\"&N1654,読み替え表_カーシェア!$P$32:$P$52,0),1,0)),0)","v":0},"*"]
[null,null,1645,null,null,null,null,null,null,null,null,null,null,null,null,null,null,null,null,null,null,null,null,null,null,null,null,null,null,0,0,{"$f":"IFERROR(IF(J1655=5,1,IF(MATCH(J1655&\"/\"&N1655,読み替え表_カーシェア!$P$32:$P$52,0),1,0)),0)","v":0},"*"]
[null,null,1646,null,null,null,null,null,null,null,null,null,null,null,null,null,null,null,null,null,null,null,null,null,null,null,null,null,null,0,0,{"$f":"IFERROR(IF(J1656=5,1,IF(MATCH(J1656&\"/\"&N1656,読み替え表_カーシェア!$P$32:$P$52,0),1,0)),0)","v":0},"*"]
[null,null,1647,null,null,null,null,null,null,null,null,null,null,null,null,null,null,null,null,null,null,null,null,null,null,null,null,null,null,0,0,{"$f":"IFERROR(IF(J1657=5,1,IF(MATCH(J1657&\"/\"&N1657,読み替え表_カーシェア!$P$32:$P$52,0),1,0)),0)","v":0},"*"]
[null,null,1648,null,null,null,null,null,null,null,null,null,null,null,null,null,null,null,null,null,null,null,null,null,null,null,null,null,null,0,0,{"$f":"IFERROR(IF(J1658=5,1,IF(MATCH(J1658&\"/\"&N1658,読み替え表_カーシェア!$P$32:$P$52,0),1,0)),0)","v":0},"*"]
[null,null,1649,null,null,null,null,null,null,null,null,null,null,null,null,null,null,null,null,null,null,null,null,null,null,null,null,null,null,0,0,{"$f":"IFERROR(IF(J1659=5,1,IF(MATCH(J1659&\"/\"&N1659,読み替え表_カーシェア!$P$32:$P$52,0),1,0)),0)","v":0},"*"]
[null,null,1650,null,null,null,null,null,null,null,null,null,null,null,null,null,null,null,null,null,null,null,null,null,null,null,null,null,null,0,0,{"$f":"IFERROR(IF(J1660=5,1,IF(MATCH(J1660&\"/\"&N1660,読み替え表_カーシェア!$P$32:$P$52,0),1,0)),0)","v":0},"*"]
[null,null,1651,null,null,null,null,null,null,null,null,null,null,null,null,null,null,null,null,null,null,null,null,null,null,null,null,null,null,0,0,{"$f":"IFERROR(IF(J1661=5,1,IF(MATCH(J1661&\"/\"&N1661,読み替え表_カーシェア!$P$32:$P$52,0),1,0)),0)","v":0},"*"]
[null,null,1652,null,null,null,null,null,null,null,null,null,null,null,null,null,null,null,null,null,null,null,null,null,null,null,null,null,null,0,0,{"$f":"IFERROR(IF(J1662=5,1,IF(MATCH(J1662&\"/\"&N1662,読み替え表_カーシェア!$P$32:$P$52,0),1,0)),0)","v":0},"*"]
[null,null,1653,null,null,null,null,null,null,null,null,null,null,null,null,null,null,null,null,null,null,null,null,null,null,null,null,null,null,0,0,{"$f":"IFERROR(IF(J1663=5,1,IF(MATCH(J1663&\"/\"&N1663,読み替え表_カーシェア!$P$32:$P$52,0),1,0)),0)","v":0},"*"]
[null,null,1654,null,null,null,null,null,null,null,null,null,null,null,null,null,null,null,null,null,null,null,null,null,null,null,null,null,null,0,0,{"$f":"IFERROR(IF(J1664=5,1,IF(MATCH(J1664&\"/\"&N1664,読み替え表_カーシェア!$P$32:$P$52,0),1,0)),0)","v":0},"*"]
[null,null,1655,null,null,null,null,null,null,null,null,null,null,null,null,null,null,null,null,null,null,null,null,null,null,null,null,null,null,0,0,{"$f":"IFERROR(IF(J1665=5,1,IF(MATCH(J1665&\"/\"&N1665,読み替え表_カーシェア!$P$32:$P$52,0),1,0)),0)","v":0},"*"]
[null,null,1656,null,null,null,null,null,null,null,null,null,null,null,null,null,null,null,null,null,null,null,null,null,null,null,null,null,null,0,0,{"$f":"IFERROR(IF(J1666=5,1,IF(MATCH(J1666&\"/\"&N1666,読み替え表_カーシェア!$P$32:$P$52,0),1,0)),0)","v":0},"*"]
[null,null,1657,null,null,null,null,null,null,null,null,null,null,null,null,null,null,null,null,null,null,null,null,null,null,null,null,null,null,0,0,{"$f":"IFERROR(IF(J1667=5,1,IF(MATCH(J1667&\"/\"&N1667,読み替え表_カーシェア!$P$32:$P$52,0),1,0)),0)","v":0},"*"]
[null,null,1658,null,null,null,null,null,null,null,null,null,null,null,null,null,null,null,null,null,null,null,null,null,null,null,null,null,null,0,0,{"$f":"IFERROR(IF(J1668=5,1,IF(MATCH(J1668&\"/\"&N1668,読み替え表_カーシェア!$P$32:$P$52,0),1,0)),0)","v":0},"*"]
[null,null,1659,null,null,null,null,null,null,null,null,null,null,null,null,null,null,null,null,null,null,null,null,null,null,null,null,null,null,0,0,{"$f":"IFERROR(IF(J1669=5,1,IF(MATCH(J1669&\"/\"&N1669,読み替え表_カーシェア!$P$32:$P$52,0),1,0)),0)","v":0},"*"]
[null,null,1660,null,null,null,null,null,null,null,null,null,null,null,null,null,null,null,null,null,null,null,null,null,null,null,null,null,null,0,0,{"$f":"IFERROR(IF(J1670=5,1,IF(MATCH(J1670&\"/\"&N1670,読み替え表_カーシェア!$P$32:$P$52,0),1,0)),0)","v":0},"*"]
[null,null,1661,null,null,null,null,null,null,null,null,null,null,null,null,null,null,null,null,null,null,null,null,null,null,null,null,null,null,0,0,{"$f":"IFERROR(IF(J1671=5,1,IF(MATCH(J1671&\"/\"&N1671,読み替え表_カーシェア!$P$32:$P$52,0),1,0)),0)","v":0},"*"]
[null,null,1662,null,null,null,null,null,null,null,null,null,null,null,null,null,null,null,null,null,null,null,null,null,null,null,null,null,null,0,0,{"$f":"IFERROR(IF(J1672=5,1,IF(MATCH(J1672&\"/\"&N1672,読み替え表_カーシェア!$P$32:$P$52,0),1,0)),0)","v":0},"*"]
[null,null,1663,null,null,null,null,null,null,null,null,null,null,null,null,null,null,null,null,null,null,null,null,null,null,null,null,null,null,0,0,{"$f":"IFERROR(IF(J1673=5,1,IF(MATCH(J1673&\"/\"&N1673,読み替え表_カーシェア!$P$32:$P$52,0),1,0)),0)","v":0},"*"]
[null,null,1664,null,null,null,null,null,null,null,null,null,null,null,null,null,null,null,null,null,null,null,null,null,null,null,null,null,null,0,0,{"$f":"IFERROR(IF(J1674=5,1,IF(MATCH(J1674&\"/\"&N1674,読み替え表_カーシェア!$P$32:$P$52,0),1,0)),0)","v":0},"*"]
[null,null,1665,null,null,null,null,null,null,null,null,null,null,null,null,null,null,null,null,null,null,null,null,null,null,null,null,null,null,0,0,{"$f":"IFERROR(IF(J1675=5,1,IF(MATCH(J1675&\"/\"&N1675,読み替え表_カーシェア!$P$32:$P$52,0),1,0)),0)","v":0},"*"]
[null,null,{"$f":"ROW()-10","v":1666},null,null,null,null,null,null,null,null,null,null,null,null,null,null,null,null,null,null,null,null,null,null,null,null,null,null,{"$f":"IF(OR($N1676=1,$N1676=2,$N1676=3),1,0)","v":0},{"$f":"IF(AND($J1676=1,$L1676>$M1676),1,IF(AND($J1676=1,$L1676<$M1676),2,IF(AND($J1676=1,$L1676=$M1676),3,0)))","v":0},{"$f":"IFERROR(IF(J1676=5,1,IF(MATCH(J1676&\"/\"&N1676,読み替え表_カーシェア!$P$32:$P$52,0),1,0)),0)","v":0},"*"]
[null,null,1667,null,null,null,null,null,null,null,null,null,null,null,null,null,null,null,null,null,null,null,null,null,null,null,null,null,null,0,0,{"$f":"IFERROR(IF(J1677=5,1,IF(MATCH(J1677&\"/\"&N1677,読み替え表_カーシェア!$P$32:$P$52,0),1,0)),0)","v":0},"*"]
[null,null,1668,null,null,null,null,null,null,null,null,null,null,null,null,null,null,null,null,null,null,null,null,null,null,null,null,null,null,0,0,{"$f":"IFERROR(IF(J1678=5,1,IF(MATCH(J1678&\"/\"&N1678,読み替え表_カーシェア!$P$32:$P$52,0),1,0)),0)","v":0},"*"]
[null,null,1669,null,null,null,null,null,null,null,null,null,null,null,null,null,null,null,null,null,null,null,null,null,null,null,null,null,null,0,0,{"$f":"IFERROR(IF(J1679=5,1,IF(MATCH(J1679&\"/\"&N1679,読み替え表_カーシェア!$P$32:$P$52,0),1,0)),0)","v":0},"*"]
[null,null,1670,null,null,null,null,null,null,null,null,null,null,null,null,null,null,null,null,null,null,null,null,null,null,null,null,null,null,0,0,{"$f":"IFERROR(IF(J1680=5,1,IF(MATCH(J1680&\"/\"&N1680,読み替え表_カーシェア!$P$32:$P$52,0),1,0)),0)","v":0},"*"]
[null,null,1671,null,null,null,null,null,null,null,null,null,null,null,null,null,null,null,null,null,null,null,null,null,null,null,null,null,null,0,0,{"$f":"IFERROR(IF(J1681=5,1,IF(MATCH(J1681&\"/\"&N1681,読み替え表_カーシェア!$P$32:$P$52,0),1,0)),0)","v":0},"*"]
[null,null,1672,null,null,null,null,null,null,null,null,null,null,null,null,null,null,null,null,null,null,null,null,null,null,null,null,null,null,0,0,{"$f":"IFERROR(IF(J1682=5,1,IF(MATCH(J1682&\"/\"&N1682,読み替え表_カーシェア!$P$32:$P$52,0),1,0)),0)","v":0},"*"]
[null,null,1673,null,null,null,null,null,null,null,null,null,null,null,null,null,null,null,null,null,null,null,null,null,null,null,null,null,null,0,0,{"$f":"IFERROR(IF(J1683=5,1,IF(MATCH(J1683&\"/\"&N1683,読み替え表_カーシェア!$P$32:$P$52,0),1,0)),0)","v":0},"*"]
[null,null,1674,null,null,null,null,null,null,null,null,null,null,null,null,null,null,null,null,null,null,null,null,null,null,null,null,null,null,0,0,{"$f":"IFERROR(IF(J1684=5,1,IF(MATCH(J1684&\"/\"&N1684,読み替え表_カーシェア!$P$32:$P$52,0),1,0)),0)","v":0},"*"]
[null,null,1675,null,null,null,null,null,null,null,null,null,null,null,null,null,null,null,null,null,null,null,null,null,null,null,null,null,null,0,0,{"$f":"IFERROR(IF(J1685=5,1,IF(MATCH(J1685&\"/\"&N1685,読み替え表_カーシェア!$P$32:$P$52,0),1,0)),0)","v":0},"*"]
[null,null,1676,null,null,null,null,null,null,null,null,null,null,null,null,null,null,null,null,null,null,null,null,null,null,null,null,null,null,0,0,{"$f":"IFERROR(IF(J1686=5,1,IF(MATCH(J1686&\"/\"&N1686,読み替え表_カーシェア!$P$32:$P$52,0),1,0)),0)","v":0},"*"]
[null,null,1677,null,null,null,null,null,null,null,null,null,null,null,null,null,null,null,null,null,null,null,null,null,null,null,null,null,null,0,0,{"$f":"IFERROR(IF(J1687=5,1,IF(MATCH(J1687&\"/\"&N1687,読み替え表_カーシェア!$P$32:$P$52,0),1,0)),0)","v":0},"*"]
[null,null,1678,null,null,null,null,null,null,null,null,null,null,null,null,null,null,null,null,null,null,null,null,null,null,null,null,null,null,0,0,{"$f":"IFERROR(IF(J1688=5,1,IF(MATCH(J1688&\"/\"&N1688,読み替え表_カーシェア!$P$32:$P$52,0),1,0)),0)","v":0},"*"]
[null,null,1679,null,null,null,null,null,null,null,null,null,null,null,null,null,null,null,null,null,null,null,null,null,null,null,null,null,null,0,0,{"$f":"IFERROR(IF(J1689=5,1,IF(MATCH(J1689&\"/\"&N1689,読み替え表_カーシェア!$P$32:$P$52,0),1,0)),0)","v":0},"*"]
[null,null,1680,null,null,null,null,null,null,null,null,null,null,null,null,null,null,null,null,null,null,null,null,null,null,null,null,null,null,0,0,{"$f":"IFERROR(IF(J1690=5,1,IF(MATCH(J1690&\"/\"&N1690,読み替え表_カーシェア!$P$32:$P$52,0),1,0)),0)","v":0},"*"]
[null,null,1681,null,null,null,null,null,null,null,null,null,null,null,null,null,null,null,null,null,null,null,null,null,null,null,null,null,null,0,0,{"$f":"IFERROR(IF(J1691=5,1,IF(MATCH(J1691&\"/\"&N1691,読み替え表_カーシェア!$P$32:$P$52,0),1,0)),0)","v":0},"*"]
[null,null,1682,null,null,null,null,null,null,null,null,null,null,null,null,null,null,null,null,null,null,null,null,null,null,null,null,null,null,0,0,{"$f":"IFERROR(IF(J1692=5,1,IF(MATCH(J1692&\"/\"&N1692,読み替え表_カーシェア!$P$32:$P$52,0),1,0)),0)","v":0},"*"]
[null,null,1683,null,null,null,null,null,null,null,null,null,null,null,null,null,null,null,null,null,null,null,null,null,null,null,null,null,null,0,0,{"$f":"IFERROR(IF(J1693=5,1,IF(MATCH(J1693&\"/\"&N1693,読み替え表_カーシェア!$P$32:$P$52,0),1,0)),0)","v":0},"*"]
[null,null,1684,null,null,null,null,null,null,null,null,null,null,null,null,null,null,null,null,null,null,null,null,null,null,null,null,null,null,0,0,{"$f":"IFERROR(IF(J1694=5,1,IF(MATCH(J1694&\"/\"&N1694,読み替え表_カーシェア!$P$32:$P$52,0),1,0)),0)","v":0},"*"]
[null,null,1685,null,null,null,null,null,null,null,null,null,null,null,null,null,null,null,null,null,null,null,null,null,null,null,null,null,null,0,0,{"$f":"IFERROR(IF(J1695=5,1,IF(MATCH(J1695&\"/\"&N1695,読み替え表_カーシェア!$P$32:$P$52,0),1,0)),0)","v":0},"*"]
[null,null,1686,null,null,null,null,null,null,null,null,null,null,null,null,null,null,null,null,null,null,null,null,null,null,null,null,null,null,0,0,{"$f":"IFERROR(IF(J1696=5,1,IF(MATCH(J1696&\"/\"&N1696,読み替え表_カーシェア!$P$32:$P$52,0),1,0)),0)","v":0},"*"]
[null,null,1687,null,null,null,null,null,null,null,null,null,null,null,null,null,null,null,null,null,null,null,null,null,null,null,null,null,null,0,0,{"$f":"IFERROR(IF(J1697=5,1,IF(MATCH(J1697&\"/\"&N1697,読み替え表_カーシェア!$P$32:$P$52,0),1,0)),0)","v":0},"*"]
[null,null,1688,null,null,null,null,null,null,null,null,null,null,null,null,null,null,null,null,null,null,null,null,null,null,null,null,null,null,0,0,{"$f":"IFERROR(IF(J1698=5,1,IF(MATCH(J1698&\"/\"&N1698,読み替え表_カーシェア!$P$32:$P$52,0),1,0)),0)","v":0},"*"]
[null,null,1689,null,null,null,null,null,null,null,null,null,null,null,null,null,null,null,null,null,null,null,null,null,null,null,null,null,null,0,0,{"$f":"IFERROR(IF(J1699=5,1,IF(MATCH(J1699&\"/\"&N1699,読み替え表_カーシェア!$P$32:$P$52,0),1,0)),0)","v":0},"*"]
[null,null,1690,null,null,null,null,null,null,null,null,null,null,null,null,null,null,null,null,null,null,null,null,null,null,null,null,null,null,0,0,{"$f":"IFERROR(IF(J1700=5,1,IF(MATCH(J1700&\"/\"&N1700,読み替え表_カーシェア!$P$32:$P$52,0),1,0)),0)","v":0},"*"]
[null,null,1691,null,null,null,null,null,null,null,null,null,null,null,null,null,null,null,null,null,null,null,null,null,null,null,null,null,null,0,0,{"$f":"IFERROR(IF(J1701=5,1,IF(MATCH(J1701&\"/\"&N1701,読み替え表_カーシェア!$P$32:$P$52,0),1,0)),0)","v":0},"*"]
[null,null,1692,null,null,null,null,null,null,null,null,null,null,null,null,null,null,null,null,null,null,null,null,null,null,null,null,null,null,0,0,{"$f":"IFERROR(IF(J1702=5,1,IF(MATCH(J1702&\"/\"&N1702,読み替え表_カーシェア!$P$32:$P$52,0),1,0)),0)","v":0},"*"]
[null,null,1693,null,null,null,null,null,null,null,null,null,null,null,null,null,null,null,null,null,null,null,null,null,null,null,null,null,null,0,0,{"$f":"IFERROR(IF(J1703=5,1,IF(MATCH(J1703&\"/\"&N1703,読み替え表_カーシェア!$P$32:$P$52,0),1,0)),0)","v":0},"*"]
[null,null,1694,null,null,null,null,null,null,null,null,null,null,null,null,null,null,null,null,null,null,null,null,null,null,null,null,null,null,0,0,{"$f":"IFERROR(IF(J1704=5,1,IF(MATCH(J1704&\"/\"&N1704,読み替え表_カーシェア!$P$32:$P$52,0),1,0)),0)","v":0},"*"]
[null,null,1695,null,null,null,null,null,null,null,null,null,null,null,null,null,null,null,null,null,null,null,null,null,null,null,null,null,null,0,0,{"$f":"IFERROR(IF(J1705=5,1,IF(MATCH(J1705&\"/\"&N1705,読み替え表_カーシェア!$P$32:$P$52,0),1,0)),0)","v":0},"*"]
[null,null,1696,null,null,null,null,null,null,null,null,null,null,null,null,null,null,null,null,null,null,null,null,null,null,null,null,null,null,0,0,{"$f":"IFERROR(IF(J1706=5,1,IF(MATCH(J1706&\"/\"&N1706,読み替え表_カーシェア!$P$32:$P$52,0),1,0)),0)","v":0},"*"]
[null,null,1697,null,null,null,null,null,null,null,null,null,null,null,null,null,null,null,null,null,null,null,null,null,null,null,null,null,null,0,0,{"$f":"IFERROR(IF(J1707=5,1,IF(MATCH(J1707&\"/\"&N1707,読み替え表_カーシェア!$P$32:$P$52,0),1,0)),0)","v":0},"*"]
[null,null,1698,null,null,null,null,null,null,null,null,null,null,null,null,null,null,null,null,null,null,null,null,null,null,null,null,null,null,0,0,{"$f":"IFERROR(IF(J1708=5,1,IF(MATCH(J1708&\"/\"&N1708,読み替え表_カーシェア!$P$32:$P$52,0),1,0)),0)","v":0},"*"]
[null,null,1699,null,null,null,null,null,null,null,null,null,null,null,null,null,null,null,null,null,null,null,null,null,null,null,null,null,null,0,0,{"$f":"IFERROR(IF(J1709=5,1,IF(MATCH(J1709&\"/\"&N1709,読み替え表_カーシェア!$P$32:$P$52,0),1,0)),0)","v":0},"*"]
[null,null,1700,null,null,null,null,null,null,null,null,null,null,null,null,null,null,null,null,null,null,null,null,null,null,null,null,null,null,0,0,{"$f":"IFERROR(IF(J1710=5,1,IF(MATCH(J1710&\"/\"&N1710,読み替え表_カーシェア!$P$32:$P$52,0),1,0)),0)","v":0},"*"]
[null,null,1701,null,null,null,null,null,null,null,null,null,null,null,null,null,null,null,null,null,null,null,null,null,null,null,null,null,null,0,0,{"$f":"IFERROR(IF(J1711=5,1,IF(MATCH(J1711&\"/\"&N1711,読み替え表_カーシェア!$P$32:$P$52,0),1,0)),0)","v":0},"*"]
[null,null,1702,null,null,null,null,null,null,null,null,null,null,null,null,null,null,null,null,null,null,null,null,null,null,null,null,null,null,0,0,{"$f":"IFERROR(IF(J1712=5,1,IF(MATCH(J1712&\"/\"&N1712,読み替え表_カーシェア!$P$32:$P$52,0),1,0)),0)","v":0},"*"]
[null,null,1703,null,null,null,null,null,null,null,null,null,null,null,null,null,null,null,null,null,null,null,null,null,null,null,null,null,null,0,0,{"$f":"IFERROR(IF(J1713=5,1,IF(MATCH(J1713&\"/\"&N1713,読み替え表_カーシェア!$P$32:$P$52,0),1,0)),0)","v":0},"*"]
[null,null,1704,null,null,null,null,null,null,null,null,null,null,null,null,null,null,null,null,null,null,null,null,null,null,null,null,null,null,0,0,{"$f":"IFERROR(IF(J1714=5,1,IF(MATCH(J1714&\"/\"&N1714,読み替え表_カーシェア!$P$32:$P$52,0),1,0)),0)","v":0},"*"]
[null,null,1705,null,null,null,null,null,null,null,null,null,null,null,null,null,null,null,null,null,null,null,null,null,null,null,null,null,null,0,0,{"$f":"IFERROR(IF(J1715=5,1,IF(MATCH(J1715&\"/\"&N1715,読み替え表_カーシェア!$P$32:$P$52,0),1,0)),0)","v":0},"*"]
[null,null,1706,null,null,null,null,null,null,null,null,null,null,null,null,null,null,null,null,null,null,null,null,null,null,null,null,null,null,0,0,{"$f":"IFERROR(IF(J1716=5,1,IF(MATCH(J1716&\"/\"&N1716,読み替え表_カーシェア!$P$32:$P$52,0),1,0)),0)","v":0},"*"]
[null,null,1707,null,null,null,null,null,null,null,null,null,null,null,null,null,null,null,null,null,null,null,null,null,null,null,null,null,null,0,0,{"$f":"IFERROR(IF(J1717=5,1,IF(MATCH(J1717&\"/\"&N1717,読み替え表_カーシェア!$P$32:$P$52,0),1,0)),0)","v":0},"*"]
[null,null,1708,null,null,null,null,null,null,null,null,null,null,null,null,null,null,null,null,null,null,null,null,null,null,null,null,null,null,0,0,{"$f":"IFERROR(IF(J1718=5,1,IF(MATCH(J1718&\"/\"&N1718,読み替え表_カーシェア!$P$32:$P$52,0),1,0)),0)","v":0},"*"]
[null,null,1709,null,null,null,null,null,null,null,null,null,null,null,null,null,null,null,null,null,null,null,null,null,null,null,null,null,null,0,0,{"$f":"IFERROR(IF(J1719=5,1,IF(MATCH(J1719&\"/\"&N1719,読み替え表_カーシェア!$P$32:$P$52,0),1,0)),0)","v":0},"*"]
[null,null,1710,null,null,null,null,null,null,null,null,null,null,null,null,null,null,null,null,null,null,null,null,null,null,null,null,null,null,0,0,{"$f":"IFERROR(IF(J1720=5,1,IF(MATCH(J1720&\"/\"&N1720,読み替え表_カーシェア!$P$32:$P$52,0),1,0)),0)","v":0},"*"]
[null,null,1711,null,null,null,null,null,null,null,null,null,null,null,null,null,null,null,null,null,null,null,null,null,null,null,null,null,null,0,0,{"$f":"IFERROR(IF(J1721=5,1,IF(MATCH(J1721&\"/\"&N1721,読み替え表_カーシェア!$P$32:$P$52,0),1,0)),0)","v":0},"*"]
[null,null,1712,null,null,null,null,null,null,null,null,null,null,null,null,null,null,null,null,null,null,null,null,null,null,null,null,null,null,0,0,{"$f":"IFERROR(IF(J1722=5,1,IF(MATCH(J1722&\"/\"&N1722,読み替え表_カーシェア!$P$32:$P$52,0),1,0)),0)","v":0},"*"]
[null,null,1713,null,null,null,null,null,null,null,null,null,null,null,null,null,null,null,null,null,null,null,null,null,null,null,null,null,null,0,0,{"$f":"IFERROR(IF(J1723=5,1,IF(MATCH(J1723&\"/\"&N1723,読み替え表_カーシェア!$P$32:$P$52,0),1,0)),0)","v":0},"*"]
[null,null,1714,null,null,null,null,null,null,null,null,null,null,null,null,null,null,null,null,null,null,null,null,null,null,null,null,null,null,0,0,{"$f":"IFERROR(IF(J1724=5,1,IF(MATCH(J1724&\"/\"&N1724,読み替え表_カーシェア!$P$32:$P$52,0),1,0)),0)","v":0},"*"]
[null,null,1715,null,null,null,null,null,null,null,null,null,null,null,null,null,null,null,null,null,null,null,null,null,null,null,null,null,null,0,0,{"$f":"IFERROR(IF(J1725=5,1,IF(MATCH(J1725&\"/\"&N1725,読み替え表_カーシェア!$P$32:$P$52,0),1,0)),0)","v":0},"*"]
[null,null,1716,null,null,null,null,null,null,null,null,null,null,null,null,null,null,null,null,null,null,null,null,null,null,null,null,null,null,0,0,{"$f":"IFERROR(IF(J1726=5,1,IF(MATCH(J1726&\"/\"&N1726,読み替え表_カーシェア!$P$32:$P$52,0),1,0)),0)","v":0},"*"]
[null,null,1717,null,null,null,null,null,null,null,null,null,null,null,null,null,null,null,null,null,null,null,null,null,null,null,null,null,null,0,0,{"$f":"IFERROR(IF(J1727=5,1,IF(MATCH(J1727&\"/\"&N1727,読み替え表_カーシェア!$P$32:$P$52,0),1,0)),0)","v":0},"*"]
[null,null,1718,null,null,null,null,null,null,null,null,null,null,null,null,null,null,null,null,null,null,null,null,null,null,null,null,null,null,0,0,{"$f":"IFERROR(IF(J1728=5,1,IF(MATCH(J1728&\"/\"&N1728,読み替え表_カーシェア!$P$32:$P$52,0),1,0)),0)","v":0},"*"]
[null,null,1719,null,null,null,null,null,null,null,null,null,null,null,null,null,null,null,null,null,null,null,null,null,null,null,null,null,null,0,0,{"$f":"IFERROR(IF(J1729=5,1,IF(MATCH(J1729&\"/\"&N1729,読み替え表_カーシェア!$P$32:$P$52,0),1,0)),0)","v":0},"*"]
[null,null,1720,null,null,null,null,null,null,null,null,null,null,null,null,null,null,null,null,null,null,null,null,null,null,null,null,null,null,0,0,{"$f":"IFERROR(IF(J1730=5,1,IF(MATCH(J1730&\"/\"&N1730,読み替え表_カーシェア!$P$32:$P$52,0),1,0)),0)","v":0},"*"]
[null,null,1721,null,null,null,null,null,null,null,null,null,null,null,null,null,null,null,null,null,null,null,null,null,null,null,null,null,null,0,0,{"$f":"IFERROR(IF(J1731=5,1,IF(MATCH(J1731&\"/\"&N1731,読み替え表_カーシェア!$P$32:$P$52,0),1,0)),0)","v":0},"*"]
[null,null,1722,null,null,null,null,null,null,null,null,null,null,null,null,null,null,null,null,null,null,null,null,null,null,null,null,null,null,0,0,{"$f":"IFERROR(IF(J1732=5,1,IF(MATCH(J1732&\"/\"&N1732,読み替え表_カーシェア!$P$32:$P$52,0),1,0)),0)","v":0},"*"]
[null,null,1723,null,null,null,null,null,null,null,null,null,null,null,null,null,null,null,null,null,null,null,null,null,null,null,null,null,null,0,0,{"$f":"IFERROR(IF(J1733=5,1,IF(MATCH(J1733&\"/\"&N1733,読み替え表_カーシェア!$P$32:$P$52,0),1,0)),0)","v":0},"*"]
[null,null,1724,null,null,null,null,null,null,null,null,null,null,null,null,null,null,null,null,null,null,null,null,null,null,null,null,null,null,0,0,{"$f":"IFERROR(IF(J1734=5,1,IF(MATCH(J1734&\"/\"&N1734,読み替え表_カーシェア!$P$32:$P$52,0),1,0)),0)","v":0},"*"]
[null,null,1725,null,null,null,null,null,null,null,null,null,null,null,null,null,null,null,null,null,null,null,null,null,null,null,null,null,null,0,0,{"$f":"IFERROR(IF(J1735=5,1,IF(MATCH(J1735&\"/\"&N1735,読み替え表_カーシェア!$P$32:$P$52,0),1,0)),0)","v":0},"*"]
[null,null,1726,null,null,null,null,null,null,null,null,null,null,null,null,null,null,null,null,null,null,null,null,null,null,null,null,null,null,0,0,{"$f":"IFERROR(IF(J1736=5,1,IF(MATCH(J1736&\"/\"&N1736,読み替え表_カーシェア!$P$32:$P$52,0),1,0)),0)","v":0},"*"]
[null,null,1727,null,null,null,null,null,null,null,null,null,null,null,null,null,null,null,null,null,null,null,null,null,null,null,null,null,null,0,0,{"$f":"IFERROR(IF(J1737=5,1,IF(MATCH(J1737&\"/\"&N1737,読み替え表_カーシェア!$P$32:$P$52,0),1,0)),0)","v":0},"*"]
[null,null,1728,null,null,null,null,null,null,null,null,null,null,null,null,null,null,null,null,null,null,null,null,null,null,null,null,null,null,0,0,{"$f":"IFERROR(IF(J1738=5,1,IF(MATCH(J1738&\"/\"&N1738,読み替え表_カーシェア!$P$32:$P$52,0),1,0)),0)","v":0},"*"]
[null,null,1729,null,null,null,null,null,null,null,null,null,null,null,null,null,null,null,null,null,null,null,null,null,null,null,null,null,null,0,0,{"$f":"IFERROR(IF(J1739=5,1,IF(MATCH(J1739&\"/\"&N1739,読み替え表_カーシェア!$P$32:$P$52,0),1,0)),0)","v":0},"*"]
[null,null,{"$f":"ROW()-10","v":1730},null,null,null,null,null,null,null,null,null,null,null,null,null,null,null,null,null,null,null,null,null,null,null,null,null,null,{"$f":"IF(OR($N1740=1,$N1740=2,$N1740=3),1,0)","v":0},{"$f":"IF(AND($J1740=1,$L1740>$M1740),1,IF(AND($J1740=1,$L1740<$M1740),2,IF(AND($J1740=1,$L1740=$M1740),3,0)))","v":0},{"$f":"IFERROR(IF(J1740=5,1,IF(MATCH(J1740&\"/\"&N1740,読み替え表_カーシェア!$P$32:$P$52,0),1,0)),0)","v":0},"*"]
[null,null,1731,null,null,null,null,null,null,null,null,null,null,null,null,null,null,null,null,null,null,null,null,null,null,null,null,null,null,0,0,{"$f":"IFERROR(IF(J1741=5,1,IF(MATCH(J1741&\"/\"&N1741,読み替え表_カーシェア!$P$32:$P$52,0),1,0)),0)","v":0},"*"]
[null,null,1732,null,null,null,null,null,null,null,null,null,null,null,null,null,null,null,null,null,null,null,null,null,null,null,null,null,null,0,0,{"$f":"IFERROR(IF(J1742=5,1,IF(MATCH(J1742&\"/\"&N1742,読み替え表_カーシェア!$P$32:$P$52,0),1,0)),0)","v":0},"*"]
[null,null,1733,null,null,null,null,null,null,null,null,null,null,null,null,null,null,null,null,null,null,null,null,null,null,null,null,null,null,0,0,{"$f":"IFERROR(IF(J1743=5,1,IF(MATCH(J1743&\"/\"&N1743,読み替え表_カーシェア!$P$32:$P$52,0),1,0)),0)","v":0},"*"]
[null,null,1734,null,null,null,null,null,null,null,null,null,null,null,null,null,null,null,null,null,null,null,null,null,null,null,null,null,null,0,0,{"$f":"IFERROR(IF(J1744=5,1,IF(MATCH(J1744&\"/\"&N1744,読み替え表_カーシェア!$P$32:$P$52,0),1,0)),0)","v":0},"*"]
[null,null,1735,null,null,null,null,null,null,null,null,null,null,null,null,null,null,null,null,null,null,null,null,null,null,null,null,null,null,0,0,{"$f":"IFERROR(IF(J1745=5,1,IF(MATCH(J1745&\"/\"&N1745,読み替え表_カーシェア!$P$32:$P$52,0),1,0)),0)","v":0},"*"]
[null,null,1736,null,null,null,null,null,null,null,null,null,null,null,null,null,null,null,null,null,null,null,null,null,null,null,null,null,null,0,0,{"$f":"IFERROR(IF(J1746=5,1,IF(MATCH(J1746&\"/\"&N1746,読み替え表_カーシェア!$P$32:$P$52,0),1,0)),0)","v":0},"*"]
[null,null,1737,null,null,null,null,null,null,null,null,null,null,null,null,null,null,null,null,null,null,null,null,null,null,null,null,null,null,0,0,{"$f":"IFERROR(IF(J1747=5,1,IF(MATCH(J1747&\"/\"&N1747,読み替え表_カーシェア!$P$32:$P$52,0),1,0)),0)","v":0},"*"]
[null,null,1738,null,null,null,null,null,null,null,null,null,null,null,null,null,null,null,null,null,null,null,null,null,null,null,null,null,null,0,0,{"$f":"IFERROR(IF(J1748=5,1,IF(MATCH(J1748&\"/\"&N1748,読み替え表_カーシェア!$P$32:$P$52,0),1,0)),0)","v":0},"*"]
[null,null,1739,null,null,null,null,null,null,null,null,null,null,null,null,null,null,null,null,null,null,null,null,null,null,null,null,null,null,0,0,{"$f":"IFERROR(IF(J1749=5,1,IF(MATCH(J1749&\"/\"&N1749,読み替え表_カーシェア!$P$32:$P$52,0),1,0)),0)","v":0},"*"]
[null,null,1740,null,null,null,null,null,null,null,null,null,null,null,null,null,null,null,null,null,null,null,null,null,null,null,null,null,null,0,0,{"$f":"IFERROR(IF(J1750=5,1,IF(MATCH(J1750&\"/\"&N1750,読み替え表_カーシェア!$P$32:$P$52,0),1,0)),0)","v":0},"*"]
[null,null,1741,null,null,null,null,null,null,null,null,null,null,null,null,null,null,null,null,null,null,null,null,null,null,null,null,null,null,0,0,{"$f":"IFERROR(IF(J1751=5,1,IF(MATCH(J1751&\"/\"&N1751,読み替え表_カーシェア!$P$32:$P$52,0),1,0)),0)","v":0},"*"]
[null,null,1742,null,null,null,null,null,null,null,null,null,null,null,null,null,null,null,null,null,null,null,null,null,null,null,null,null,null,0,0,{"$f":"IFERROR(IF(J1752=5,1,IF(MATCH(J1752&\"/\"&N1752,読み替え表_カーシェア!$P$32:$P$52,0),1,0)),0)","v":0},"*"]
[null,null,1743,null,null,null,null,null,null,null,null,null,null,null,null,null,null,null,null,null,null,null,null,null,null,null,null,null,null,0,0,{"$f":"IFERROR(IF(J1753=5,1,IF(MATCH(J1753&\"/\"&N1753,読み替え表_カーシェア!$P$32:$P$52,0),1,0)),0)","v":0},"*"]
[null,null,1744,null,null,null,null,null,null,null,null,null,null,null,null,null,null,null,null,null,null,null,null,null,null,null,null,null,null,0,0,{"$f":"IFERROR(IF(J1754=5,1,IF(MATCH(J1754&\"/\"&N1754,読み替え表_カーシェア!$P$32:$P$52,0),1,0)),0)","v":0},"*"]
[null,null,1745,null,null,null,null,null,null,null,null,null,null,null,null,null,null,null,null,null,null,null,null,null,null,null,null,null,null,0,0,{"$f":"IFERROR(IF(J1755=5,1,IF(MATCH(J1755&\"/\"&N1755,読み替え表_カーシェア!$P$32:$P$52,0),1,0)),0)","v":0},"*"]
[null,null,1746,null,null,null,null,null,null,null,null,null,null,null,null,null,null,null,null,null,null,null,null,null,null,null,null,null,null,0,0,{"$f":"IFERROR(IF(J1756=5,1,IF(MATCH(J1756&\"/\"&N1756,読み替え表_カーシェア!$P$32:$P$52,0),1,0)),0)","v":0},"*"]
[null,null,1747,null,null,null,null,null,null,null,null,null,null,null,null,null,null,null,null,null,null,null,null,null,null,null,null,null,null,0,0,{"$f":"IFERROR(IF(J1757=5,1,IF(MATCH(J1757&\"/\"&N1757,読み替え表_カーシェア!$P$32:$P$52,0),1,0)),0)","v":0},"*"]
[null,null,1748,null,null,null,null,null,null,null,null,null,null,null,null,null,null,null,null,null,null,null,null,null,null,null,null,null,null,0,0,{"$f":"IFERROR(IF(J1758=5,1,IF(MATCH(J1758&\"/\"&N1758,読み替え表_カーシェア!$P$32:$P$52,0),1,0)),0)","v":0},"*"]
[null,null,1749,null,null,null,null,null,null,null,null,null,null,null,null,null,null,null,null,null,null,null,null,null,null,null,null,null,null,0,0,{"$f":"IFERROR(IF(J1759=5,1,IF(MATCH(J1759&\"/\"&N1759,読み替え表_カーシェア!$P$32:$P$52,0),1,0)),0)","v":0},"*"]
[null,null,1750,null,null,null,null,null,null,null,null,null,null,null,null,null,null,null,null,null,null,null,null,null,null,null,null,null,null,0,0,{"$f":"IFERROR(IF(J1760=5,1,IF(MATCH(J1760&\"/\"&N1760,読み替え表_カーシェア!$P$32:$P$52,0),1,0)),0)","v":0},"*"]
[null,null,1751,null,null,null,null,null,null,null,null,null,null,null,null,null,null,null,null,null,null,null,null,null,null,null,null,null,null,0,0,{"$f":"IFERROR(IF(J1761=5,1,IF(MATCH(J1761&\"/\"&N1761,読み替え表_カーシェア!$P$32:$P$52,0),1,0)),0)","v":0},"*"]
[null,null,1752,null,null,null,null,null,null,null,null,null,null,null,null,null,null,null,null,null,null,null,null,null,null,null,null,null,null,0,0,{"$f":"IFERROR(IF(J1762=5,1,IF(MATCH(J1762&\"/\"&N1762,読み替え表_カーシェア!$P$32:$P$52,0),1,0)),0)","v":0},"*"]
[null,null,1753,null,null,null,null,null,null,null,null,null,null,null,null,null,null,null,null,null,null,null,null,null,null,null,null,null,null,0,0,{"$f":"IFERROR(IF(J1763=5,1,IF(MATCH(J1763&\"/\"&N1763,読み替え表_カーシェア!$P$32:$P$52,0),1,0)),0)","v":0},"*"]
[null,null,1754,null,null,null,null,null,null,null,null,null,null,null,null,null,null,null,null,null,null,null,null,null,null,null,null,null,null,0,0,{"$f":"IFERROR(IF(J1764=5,1,IF(MATCH(J1764&\"/\"&N1764,読み替え表_カーシェア!$P$32:$P$52,0),1,0)),0)","v":0},"*"]
[null,null,1755,null,null,null,null,null,null,null,null,null,null,null,null,null,null,null,null,null,null,null,null,null,null,null,null,null,null,0,0,{"$f":"IFERROR(IF(J1765=5,1,IF(MATCH(J1765&\"/\"&N1765,読み替え表_カーシェア!$P$32:$P$52,0),1,0)),0)","v":0},"*"]
[null,null,1756,null,null,null,null,null,null,null,null,null,null,null,null,null,null,null,null,null,null,null,null,null,null,null,null,null,null,0,0,{"$f":"IFERROR(IF(J1766=5,1,IF(MATCH(J1766&\"/\"&N1766,読み替え表_カーシェア!$P$32:$P$52,0),1,0)),0)","v":0},"*"]
[null,null,1757,null,null,null,null,null,null,null,null,null,null,null,null,null,null,null,null,null,null,null,null,null,null,null,null,null,null,0,0,{"$f":"IFERROR(IF(J1767=5,1,IF(MATCH(J1767&\"/\"&N1767,読み替え表_カーシェア!$P$32:$P$52,0),1,0)),0)","v":0},"*"]
[null,null,1758,null,null,null,null,null,null,null,null,null,null,null,null,null,null,null,null,null,null,null,null,null,null,null,null,null,null,0,0,{"$f":"IFERROR(IF(J1768=5,1,IF(MATCH(J1768&\"/\"&N1768,読み替え表_カーシェア!$P$32:$P$52,0),1,0)),0)","v":0},"*"]
[null,null,1759,null,null,null,null,null,null,null,null,null,null,null,null,null,null,null,null,null,null,null,null,null,null,null,null,null,null,0,0,{"$f":"IFERROR(IF(J1769=5,1,IF(MATCH(J1769&\"/\"&N1769,読み替え表_カーシェア!$P$32:$P$52,0),1,0)),0)","v":0},"*"]
[null,null,1760,null,null,null,null,null,null,null,null,null,null,null,null,null,null,null,null,null,null,null,null,null,null,null,null,null,null,0,0,{"$f":"IFERROR(IF(J1770=5,1,IF(MATCH(J1770&\"/\"&N1770,読み替え表_カーシェア!$P$32:$P$52,0),1,0)),0)","v":0},"*"]
[null,null,1761,null,null,null,null,null,null,null,null,null,null,null,null,null,null,null,null,null,null,null,null,null,null,null,null,null,null,0,0,{"$f":"IFERROR(IF(J1771=5,1,IF(MATCH(J1771&\"/\"&N1771,読み替え表_カーシェア!$P$32:$P$52,0),1,0)),0)","v":0},"*"]
[null,null,1762,null,null,null,null,null,null,null,null,null,null,null,null,null,null,null,null,null,null,null,null,null,null,null,null,null,null,0,0,{"$f":"IFERROR(IF(J1772=5,1,IF(MATCH(J1772&\"/\"&N1772,読み替え表_カーシェア!$P$32:$P$52,0),1,0)),0)","v":0},"*"]
[null,null,1763,null,null,null,null,null,null,null,null,null,null,null,null,null,null,null,null,null,null,null,null,null,null,null,null,null,null,0,0,{"$f":"IFERROR(IF(J1773=5,1,IF(MATCH(J1773&\"/\"&N1773,読み替え表_カーシェア!$P$32:$P$52,0),1,0)),0)","v":0},"*"]
[null,null,1764,null,null,null,null,null,null,null,null,null,null,null,null,null,null,null,null,null,null,null,null,null,null,null,null,null,null,0,0,{"$f":"IFERROR(IF(J1774=5,1,IF(MATCH(J1774&\"/\"&N1774,読み替え表_カーシェア!$P$32:$P$52,0),1,0)),0)","v":0},"*"]
[null,null,1765,null,null,null,null,null,null,null,null,null,null,null,null,null,null,null,null,null,null,null,null,null,null,null,null,null,null,0,0,{"$f":"IFERROR(IF(J1775=5,1,IF(MATCH(J1775&\"/\"&N1775,読み替え表_カーシェア!$P$32:$P$52,0),1,0)),0)","v":0},"*"]
[null,null,1766,null,null,null,null,null,null,null,null,null,null,null,null,null,null,null,null,null,null,null,null,null,null,null,null,null,null,0,0,{"$f":"IFERROR(IF(J1776=5,1,IF(MATCH(J1776&\"/\"&N1776,読み替え表_カーシェア!$P$32:$P$52,0),1,0)),0)","v":0},"*"]
[null,null,1767,null,null,null,null,null,null,null,null,null,null,null,null,null,null,null,null,null,null,null,null,null,null,null,null,null,null,0,0,{"$f":"IFERROR(IF(J1777=5,1,IF(MATCH(J1777&\"/\"&N1777,読み替え表_カーシェア!$P$32:$P$52,0),1,0)),0)","v":0},"*"]
[null,null,1768,null,null,null,null,null,null,null,null,null,null,null,null,null,null,null,null,null,null,null,null,null,null,null,null,null,null,0,0,{"$f":"IFERROR(IF(J1778=5,1,IF(MATCH(J1778&\"/\"&N1778,読み替え表_カーシェア!$P$32:$P$52,0),1,0)),0)","v":0},"*"]
[null,null,1769,null,null,null,null,null,null,null,null,null,null,null,null,null,null,null,null,null,null,null,null,null,null,null,null,null,null,0,0,{"$f":"IFERROR(IF(J1779=5,1,IF(MATCH(J1779&\"/\"&N1779,読み替え表_カーシェア!$P$32:$P$52,0),1,0)),0)","v":0},"*"]
[null,null,1770,null,null,null,null,null,null,null,null,null,null,null,null,null,null,null,null,null,null,null,null,null,null,null,null,null,null,0,0,{"$f":"IFERROR(IF(J1780=5,1,IF(MATCH(J1780&\"/\"&N1780,読み替え表_カーシェア!$P$32:$P$52,0),1,0)),0)","v":0},"*"]
[null,null,1771,null,null,null,null,null,null,null,null,null,null,null,null,null,null,null,null,null,null,null,null,null,null,null,null,null,null,0,0,{"$f":"IFERROR(IF(J1781=5,1,IF(MATCH(J1781&\"/\"&N1781,読み替え表_カーシェア!$P$32:$P$52,0),1,0)),0)","v":0},"*"]
[null,null,1772,null,null,null,null,null,null,null,null,null,null,null,null,null,null,null,null,null,null,null,null,null,null,null,null,null,null,0,0,{"$f":"IFERROR(IF(J1782=5,1,IF(MATCH(J1782&\"/\"&N1782,読み替え表_カーシェア!$P$32:$P$52,0),1,0)),0)","v":0},"*"]
[null,null,1773,null,null,null,null,null,null,null,null,null,null,null,null,null,null,null,null,null,null,null,null,null,null,null,null,null,null,0,0,{"$f":"IFERROR(IF(J1783=5,1,IF(MATCH(J1783&\"/\"&N1783,読み替え表_カーシェア!$P$32:$P$52,0),1,0)),0)","v":0},"*"]
[null,null,1774,null,null,null,null,null,null,null,null,null,null,null,null,null,null,null,null,null,null,null,null,null,null,null,null,null,null,0,0,{"$f":"IFERROR(IF(J1784=5,1,IF(MATCH(J1784&\"/\"&N1784,読み替え表_カーシェア!$P$32:$P$52,0),1,0)),0)","v":0},"*"]
[null,null,1775,null,null,null,null,null,null,null,null,null,null,null,null,null,null,null,null,null,null,null,null,null,null,null,null,null,null,0,0,{"$f":"IFERROR(IF(J1785=5,1,IF(MATCH(J1785&\"/\"&N1785,読み替え表_カーシェア!$P$32:$P$52,0),1,0)),0)","v":0},"*"]
[null,null,1776,null,null,null,null,null,null,null,null,null,null,null,null,null,null,null,null,null,null,null,null,null,null,null,null,null,null,0,0,{"$f":"IFERROR(IF(J1786=5,1,IF(MATCH(J1786&\"/\"&N1786,読み替え表_カーシェア!$P$32:$P$52,0),1,0)),0)","v":0},"*"]
[null,null,1777,null,null,null,null,null,null,null,null,null,null,null,null,null,null,null,null,null,null,null,null,null,null,null,null,null,null,0,0,{"$f":"IFERROR(IF(J1787=5,1,IF(MATCH(J1787&\"/\"&N1787,読み替え表_カーシェア!$P$32:$P$52,0),1,0)),0)","v":0},"*"]
[null,null,1778,null,null,null,null,null,null,null,null,null,null,null,null,null,null,null,null,null,null,null,null,null,null,null,null,null,null,0,0,{"$f":"IFERROR(IF(J1788=5,1,IF(MATCH(J1788&\"/\"&N1788,読み替え表_カーシェア!$P$32:$P$52,0),1,0)),0)","v":0},"*"]
[null,null,1779,null,null,null,null,null,null,null,null,null,null,null,null,null,null,null,null,null,null,null,null,null,null,null,null,null,null,0,0,{"$f":"IFERROR(IF(J1789=5,1,IF(MATCH(J1789&\"/\"&N1789,読み替え表_カーシェア!$P$32:$P$52,0),1,0)),0)","v":0},"*"]
[null,null,1780,null,null,null,null,null,null,null,null,null,null,null,null,null,null,null,null,null,null,null,null,null,null,null,null,null,null,0,0,{"$f":"IFERROR(IF(J1790=5,1,IF(MATCH(J1790&\"/\"&N1790,読み替え表_カーシェア!$P$32:$P$52,0),1,0)),0)","v":0},"*"]
[null,null,1781,null,null,null,null,null,null,null,null,null,null,null,null,null,null,null,null,null,null,null,null,null,null,null,null,null,null,0,0,{"$f":"IFERROR(IF(J1791=5,1,IF(MATCH(J1791&\"/\"&N1791,読み替え表_カーシェア!$P$32:$P$52,0),1,0)),0)","v":0},"*"]
[null,null,1782,null,null,null,null,null,null,null,null,null,null,null,null,null,null,null,null,null,null,null,null,null,null,null,null,null,null,0,0,{"$f":"IFERROR(IF(J1792=5,1,IF(MATCH(J1792&\"/\"&N1792,読み替え表_カーシェア!$P$32:$P$52,0),1,0)),0)","v":0},"*"]
[null,null,1783,null,null,null,null,null,null,null,null,null,null,null,null,null,null,null,null,null,null,null,null,null,null,null,null,null,null,0,0,{"$f":"IFERROR(IF(J1793=5,1,IF(MATCH(J1793&\"/\"&N1793,読み替え表_カーシェア!$P$32:$P$52,0),1,0)),0)","v":0},"*"]
[null,null,1784,null,null,null,null,null,null,null,null,null,null,null,null,null,null,null,null,null,null,null,null,null,null,null,null,null,null,0,0,{"$f":"IFERROR(IF(J1794=5,1,IF(MATCH(J1794&\"/\"&N1794,読み替え表_カーシェア!$P$32:$P$52,0),1,0)),0)","v":0},"*"]
[null,null,1785,null,null,null,null,null,null,null,null,null,null,null,null,null,null,null,null,null,null,null,null,null,null,null,null,null,null,0,0,{"$f":"IFERROR(IF(J1795=5,1,IF(MATCH(J1795&\"/\"&N1795,読み替え表_カーシェア!$P$32:$P$52,0),1,0)),0)","v":0},"*"]
[null,null,1786,null,null,null,null,null,null,null,null,null,null,null,null,null,null,null,null,null,null,null,null,null,null,null,null,null,null,0,0,{"$f":"IFERROR(IF(J1796=5,1,IF(MATCH(J1796&\"/\"&N1796,読み替え表_カーシェア!$P$32:$P$52,0),1,0)),0)","v":0},"*"]
[null,null,1787,null,null,null,null,null,null,null,null,null,null,null,null,null,null,null,null,null,null,null,null,null,null,null,null,null,null,0,0,{"$f":"IFERROR(IF(J1797=5,1,IF(MATCH(J1797&\"/\"&N1797,読み替え表_カーシェア!$P$32:$P$52,0),1,0)),0)","v":0},"*"]
[null,null,1788,null,null,null,null,null,null,null,null,null,null,null,null,null,null,null,null,null,null,null,null,null,null,null,null,null,null,0,0,{"$f":"IFERROR(IF(J1798=5,1,IF(MATCH(J1798&\"/\"&N1798,読み替え表_カーシェア!$P$32:$P$52,0),1,0)),0)","v":0},"*"]
[null,null,1789,null,null,null,null,null,null,null,null,null,null,null,null,null,null,null,null,null,null,null,null,null,null,null,null,null,null,0,0,{"$f":"IFERROR(IF(J1799=5,1,IF(MATCH(J1799&\"/\"&N1799,読み替え表_カーシェア!$P$32:$P$52,0),1,0)),0)","v":0},"*"]
[null,null,1790,null,null,null,null,null,null,null,null,null,null,null,null,null,null,null,null,null,null,null,null,null,null,null,null,null,null,0,0,{"$f":"IFERROR(IF(J1800=5,1,IF(MATCH(J1800&\"/\"&N1800,読み替え表_カーシェア!$P$32:$P$52,0),1,0)),0)","v":0},"*"]
[null,null,1791,null,null,null,null,null,null,null,null,null,null,null,null,null,null,null,null,null,null,null,null,null,null,null,null,null,null,0,0,{"$f":"IFERROR(IF(J1801=5,1,IF(MATCH(J1801&\"/\"&N1801,読み替え表_カーシェア!$P$32:$P$52,0),1,0)),0)","v":0},"*"]
[null,null,1792,null,null,null,null,null,null,null,null,null,null,null,null,null,null,null,null,null,null,null,null,null,null,null,null,null,null,0,0,{"$f":"IFERROR(IF(J1802=5,1,IF(MATCH(J1802&\"/\"&N1802,読み替え表_カーシェア!$P$32:$P$52,0),1,0)),0)","v":0},"*"]
[null,null,1793,null,null,null,null,null,null,null,null,null,null,null,null,null,null,null,null,null,null,null,null,null,null,null,null,null,null,0,0,{"$f":"IFERROR(IF(J1803=5,1,IF(MATCH(J1803&\"/\"&N1803,読み替え表_カーシェア!$P$32:$P$52,0),1,0)),0)","v":0},"*"]
[null,null,{"$f":"ROW()-10","v":1794},null,null,null,null,null,null,null,null,null,null,null,null,null,null,null,null,null,null,null,null,null,null,null,null,null,null,{"$f":"IF(OR($N1804=1,$N1804=2,$N1804=3),1,0)","v":0},{"$f":"IF(AND($J1804=1,$L1804>$M1804),1,IF(AND($J1804=1,$L1804<$M1804),2,IF(AND($J1804=1,$L1804=$M1804),3,0)))","v":0},{"$f":"IFERROR(IF(J1804=5,1,IF(MATCH(J1804&\"/\"&N1804,読み替え表_カーシェア!$P$32:$P$52,0),1,0)),0)","v":0},"*"]
[null,null,1795,null,null,null,null,null,null,null,null,null,null,null,null,null,null,null,null,null,null,null,null,null,null,null,null,null,null,0,0,{"$f":"IFERROR(IF(J1805=5,1,IF(MATCH(J1805&\"/\"&N1805,読み替え表_カーシェア!$P$32:$P$52,0),1,0)),0)","v":0},"*"]
[null,null,1796,null,null,null,null,null,null,null,null,null,null,null,null,null,null,null,null,null,null,null,null,null,null,null,null,null,null,0,0,{"$f":"IFERROR(IF(J1806=5,1,IF(MATCH(J1806&\"/\"&N1806,読み替え表_カーシェア!$P$32:$P$52,0),1,0)),0)","v":0},"*"]
[null,null,1797,null,null,null,null,null,null,null,null,null,null,null,null,null,null,null,null,null,null,null,null,null,null,null,null,null,null,0,0,{"$f":"IFERROR(IF(J1807=5,1,IF(MATCH(J1807&\"/\"&N1807,読み替え表_カーシェア!$P$32:$P$52,0),1,0)),0)","v":0},"*"]
[null,null,1798,null,null,null,null,null,null,null,null,null,null,null,null,null,null,null,null,null,null,null,null,null,null,null,null,null,null,0,0,{"$f":"IFERROR(IF(J1808=5,1,IF(MATCH(J1808&\"/\"&N1808,読み替え表_カーシェア!$P$32:$P$52,0),1,0)),0)","v":0},"*"]
[null,null,1799,null,null,null,null,null,null,null,null,null,null,null,null,null,null,null,null,null,null,null,null,null,null,null,null,null,null,0,0,{"$f":"IFERROR(IF(J1809=5,1,IF(MATCH(J1809&\"/\"&N1809,読み替え表_カーシェア!$P$32:$P$52,0),1,0)),0)","v":0},"*"]
[null,null,1800,null,null,null,null,null,null,null,null,null,null,null,null,null,null,null,null,null,null,null,null,null,null,null,null,null,null,0,0,{"$f":"IFERROR(IF(J1810=5,1,IF(MATCH(J1810&\"/\"&N1810,読み替え表_カーシェア!$P$32:$P$52,0),1,0)),0)","v":0},"*"]
[null,null,1801,null,null,null,null,null,null,null,null,null,null,null,null,null,null,null,null,null,null,null,null,null,null,null,null,null,null,0,0,{"$f":"IFERROR(IF(J1811=5,1,IF(MATCH(J1811&\"/\"&N1811,読み替え表_カーシェア!$P$32:$P$52,0),1,0)),0)","v":0},"*"]
[null,null,1802,null,null,null,null,null,null,null,null,null,null,null,null,null,null,null,null,null,null,null,null,null,null,null,null,null,null,0,0,{"$f":"IFERROR(IF(J1812=5,1,IF(MATCH(J1812&\"/\"&N1812,読み替え表_カーシェア!$P$32:$P$52,0),1,0)),0)","v":0},"*"]
[null,null,1803,null,null,null,null,null,null,null,null,null,null,null,null,null,null,null,null,null,null,null,null,null,null,null,null,null,null,0,0,{"$f":"IFERROR(IF(J1813=5,1,IF(MATCH(J1813&\"/\"&N1813,読み替え表_カーシェア!$P$32:$P$52,0),1,0)),0)","v":0},"*"]
[null,null,1804,null,null,null,null,null,null,null,null,null,null,null,null,null,null,null,null,null,null,null,null,null,null,null,null,null,null,0,0,{"$f":"IFERROR(IF(J1814=5,1,IF(MATCH(J1814&\"/\"&N1814,読み替え表_カーシェア!$P$32:$P$52,0),1,0)),0)","v":0},"*"]
[null,null,1805,null,null,null,null,null,null,null,null,null,null,null,null,null,null,null,null,null,null,null,null,null,null,null,null,null,null,0,0,{"$f":"IFERROR(IF(J1815=5,1,IF(MATCH(J1815&\"/\"&N1815,読み替え表_カーシェア!$P$32:$P$52,0),1,0)),0)","v":0},"*"]
[null,null,1806,null,null,null,null,null,null,null,null,null,null,null,null,null,null,null,null,null,null,null,null,null,null,null,null,null,null,0,0,{"$f":"IFERROR(IF(J1816=5,1,IF(MATCH(J1816&\"/\"&N1816,読み替え表_カーシェア!$P$32:$P$52,0),1,0)),0)","v":0},"*"]
[null,null,1807,null,null,null,null,null,null,null,null,null,null,null,null,null,null,null,null,null,null,null,null,null,null,null,null,null,null,0,0,{"$f":"IFERROR(IF(J1817=5,1,IF(MATCH(J1817&\"/\"&N1817,読み替え表_カーシェア!$P$32:$P$52,0),1,0)),0)","v":0},"*"]
[null,null,1808,null,null,null,null,null,null,null,null,null,null,null,null,null,null,null,null,null,null,null,null,null,null,null,null,null,null,0,0,{"$f":"IFERROR(IF(J1818=5,1,IF(MATCH(J1818&\"/\"&N1818,読み替え表_カーシェア!$P$32:$P$52,0),1,0)),0)","v":0},"*"]
[null,null,1809,null,null,null,null,null,null,null,null,null,null,null,null,null,null,null,null,null,null,null,null,null,null,null,null,null,null,0,0,{"$f":"IFERROR(IF(J1819=5,1,IF(MATCH(J1819&\"/\"&N1819,読み替え表_カーシェア!$P$32:$P$52,0),1,0)),0)","v":0},"*"]
[null,null,1810,null,null,null,null,null,null,null,null,null,null,null,null,null,null,null,null,null,null,null,null,null,null,null,null,null,null,0,0,{"$f":"IFERROR(IF(J1820=5,1,IF(MATCH(J1820&\"/\"&N1820,読み替え表_カーシェア!$P$32:$P$52,0),1,0)),0)","v":0},"*"]
[null,null,1811,null,null,null,null,null,null,null,null,null,null,null,null,null,null,null,null,null,null,null,null,null,null,null,null,null,null,0,0,{"$f":"IFERROR(IF(J1821=5,1,IF(MATCH(J1821&\"/\"&N1821,読み替え表_カーシェア!$P$32:$P$52,0),1,0)),0)","v":0},"*"]
[null,null,1812,null,null,null,null,null,null,null,null,null,null,null,null,null,null,null,null,null,null,null,null,null,null,null,null,null,null,0,0,{"$f":"IFERROR(IF(J1822=5,1,IF(MATCH(J1822&\"/\"&N1822,読み替え表_カーシェア!$P$32:$P$52,0),1,0)),0)","v":0},"*"]
[null,null,1813,null,null,null,null,null,null,null,null,null,null,null,null,null,null,null,null,null,null,null,null,null,null,null,null,null,null,0,0,{"$f":"IFERROR(IF(J1823=5,1,IF(MATCH(J1823&\"/\"&N1823,読み替え表_カーシェア!$P$32:$P$52,0),1,0)),0)","v":0},"*"]
[null,null,1814,null,null,null,null,null,null,null,null,null,null,null,null,null,null,null,null,null,null,null,null,null,null,null,null,null,null,0,0,{"$f":"IFERROR(IF(J1824=5,1,IF(MATCH(J1824&\"/\"&N1824,読み替え表_カーシェア!$P$32:$P$52,0),1,0)),0)","v":0},"*"]
[null,null,1815,null,null,null,null,null,null,null,null,null,null,null,null,null,null,null,null,null,null,null,null,null,null,null,null,null,null,0,0,{"$f":"IFERROR(IF(J1825=5,1,IF(MATCH(J1825&\"/\"&N1825,読み替え表_カーシェア!$P$32:$P$52,0),1,0)),0)","v":0},"*"]
[null,null,1816,null,null,null,null,null,null,null,null,null,null,null,null,null,null,null,null,null,null,null,null,null,null,null,null,null,null,0,0,{"$f":"IFERROR(IF(J1826=5,1,IF(MATCH(J1826&\"/\"&N1826,読み替え表_カーシェア!$P$32:$P$52,0),1,0)),0)","v":0},"*"]
[null,null,1817,null,null,null,null,null,null,null,null,null,null,null,null,null,null,null,null,null,null,null,null,null,null,null,null,null,null,0,0,{"$f":"IFERROR(IF(J1827=5,1,IF(MATCH(J1827&\"/\"&N1827,読み替え表_カーシェア!$P$32:$P$52,0),1,0)),0)","v":0},"*"]
[null,null,1818,null,null,null,null,null,null,null,null,null,null,null,null,null,null,null,null,null,null,null,null,null,null,null,null,null,null,0,0,{"$f":"IFERROR(IF(J1828=5,1,IF(MATCH(J1828&\"/\"&N1828,読み替え表_カーシェア!$P$32:$P$52,0),1,0)),0)","v":0},"*"]
[null,null,1819,null,null,null,null,null,null,null,null,null,null,null,null,null,null,null,null,null,null,null,null,null,null,null,null,null,null,0,0,{"$f":"IFERROR(IF(J1829=5,1,IF(MATCH(J1829&\"/\"&N1829,読み替え表_カーシェア!$P$32:$P$52,0),1,0)),0)","v":0},"*"]
[null,null,1820,null,null,null,null,null,null,null,null,null,null,null,null,null,null,null,null,null,null,null,null,null,null,null,null,null,null,0,0,{"$f":"IFERROR(IF(J1830=5,1,IF(MATCH(J1830&\"/\"&N1830,読み替え表_カーシェア!$P$32:$P$52,0),1,0)),0)","v":0},"*"]
[null,null,1821,null,null,null,null,null,null,null,null,null,null,null,null,null,null,null,null,null,null,null,null,null,null,null,null,null,null,0,0,{"$f":"IFERROR(IF(J1831=5,1,IF(MATCH(J1831&\"/\"&N1831,読み替え表_カーシェア!$P$32:$P$52,0),1,0)),0)","v":0},"*"]
[null,null,1822,null,null,null,null,null,null,null,null,null,null,null,null,null,null,null,null,null,null,null,null,null,null,null,null,null,null,0,0,{"$f":"IFERROR(IF(J1832=5,1,IF(MATCH(J1832&\"/\"&N1832,読み替え表_カーシェア!$P$32:$P$52,0),1,0)),0)","v":0},"*"]
[null,null,1823,null,null,null,null,null,null,null,null,null,null,null,null,null,null,null,null,null,null,null,null,null,null,null,null,null,null,0,0,{"$f":"IFERROR(IF(J1833=5,1,IF(MATCH(J1833&\"/\"&N1833,読み替え表_カーシェア!$P$32:$P$52,0),1,0)),0)","v":0},"*"]
[null,null,1824,null,null,null,null,null,null,null,null,null,null,null,null,null,null,null,null,null,null,null,null,null,null,null,null,null,null,0,0,{"$f":"IFERROR(IF(J1834=5,1,IF(MATCH(J1834&\"/\"&N1834,読み替え表_カーシェア!$P$32:$P$52,0),1,0)),0)","v":0},"*"]
[null,null,1825,null,null,null,null,null,null,null,null,null,null,null,null,null,null,null,null,null,null,null,null,null,null,null,null,null,null,0,0,{"$f":"IFERROR(IF(J1835=5,1,IF(MATCH(J1835&\"/\"&N1835,読み替え表_カーシェア!$P$32:$P$52,0),1,0)),0)","v":0},"*"]
[null,null,1826,null,null,null,null,null,null,null,null,null,null,null,null,null,null,null,null,null,null,null,null,null,null,null,null,null,null,0,0,{"$f":"IFERROR(IF(J1836=5,1,IF(MATCH(J1836&\"/\"&N1836,読み替え表_カーシェア!$P$32:$P$52,0),1,0)),0)","v":0},"*"]
[null,null,1827,null,null,null,null,null,null,null,null,null,null,null,null,null,null,null,null,null,null,null,null,null,null,null,null,null,null,0,0,{"$f":"IFERROR(IF(J1837=5,1,IF(MATCH(J1837&\"/\"&N1837,読み替え表_カーシェア!$P$32:$P$52,0),1,0)),0)","v":0},"*"]
[null,null,1828,null,null,null,null,null,null,null,null,null,null,null,null,null,null,null,null,null,null,null,null,null,null,null,null,null,null,0,0,{"$f":"IFERROR(IF(J1838=5,1,IF(MATCH(J1838&\"/\"&N1838,読み替え表_カーシェア!$P$32:$P$52,0),1,0)),0)","v":0},"*"]
[null,null,1829,null,null,null,null,null,null,null,null,null,null,null,null,null,null,null,null,null,null,null,null,null,null,null,null,null,null,0,0,{"$f":"IFERROR(IF(J1839=5,1,IF(MATCH(J1839&\"/\"&N1839,読み替え表_カーシェア!$P$32:$P$52,0),1,0)),0)","v":0},"*"]
[null,null,1830,null,null,null,null,null,null,null,null,null,null,null,null,null,null,null,null,null,null,null,null,null,null,null,null,null,null,0,0,{"$f":"IFERROR(IF(J1840=5,1,IF(MATCH(J1840&\"/\"&N1840,読み替え表_カーシェア!$P$32:$P$52,0),1,0)),0)","v":0},"*"]
[null,null,1831,null,null,null,null,null,null,null,null,null,null,null,null,null,null,null,null,null,null,null,null,null,null,null,null,null,null,0,0,{"$f":"IFERROR(IF(J1841=5,1,IF(MATCH(J1841&\"/\"&N1841,読み替え表_カーシェア!$P$32:$P$52,0),1,0)),0)","v":0},"*"]
[null,null,1832,null,null,null,null,null,null,null,null,null,null,null,null,null,null,null,null,null,null,null,null,null,null,null,null,null,null,0,0,{"$f":"IFERROR(IF(J1842=5,1,IF(MATCH(J1842&\"/\"&N1842,読み替え表_カーシェア!$P$32:$P$52,0),1,0)),0)","v":0},"*"]
[null,null,1833,null,null,null,null,null,null,null,null,null,null,null,null,null,null,null,null,null,null,null,null,null,null,null,null,null,null,0,0,{"$f":"IFERROR(IF(J1843=5,1,IF(MATCH(J1843&\"/\"&N1843,読み替え表_カーシェア!$P$32:$P$52,0),1,0)),0)","v":0},"*"]
[null,null,1834,null,null,null,null,null,null,null,null,null,null,null,null,null,null,null,null,null,null,null,null,null,null,null,null,null,null,0,0,{"$f":"IFERROR(IF(J1844=5,1,IF(MATCH(J1844&\"/\"&N1844,読み替え表_カーシェア!$P$32:$P$52,0),1,0)),0)","v":0},"*"]
[null,null,1835,null,null,null,null,null,null,null,null,null,null,null,null,null,null,null,null,null,null,null,null,null,null,null,null,null,null,0,0,{"$f":"IFERROR(IF(J1845=5,1,IF(MATCH(J1845&\"/\"&N1845,読み替え表_カーシェア!$P$32:$P$52,0),1,0)),0)","v":0},"*"]
[null,null,1836,null,null,null,null,null,null,null,null,null,null,null,null,null,null,null,null,null,null,null,null,null,null,null,null,null,null,0,0,{"$f":"IFERROR(IF(J1846=5,1,IF(MATCH(J1846&\"/\"&N1846,読み替え表_カーシェア!$P$32:$P$52,0),1,0)),0)","v":0},"*"]
[null,null,1837,null,null,null,null,null,null,null,null,null,null,null,null,null,null,null,null,null,null,null,null,null,null,null,null,null,null,0,0,{"$f":"IFERROR(IF(J1847=5,1,IF(MATCH(J1847&\"/\"&N1847,読み替え表_カーシェア!$P$32:$P$52,0),1,0)),0)","v":0},"*"]
[null,null,1838,null,null,null,null,null,null,null,null,null,null,null,null,null,null,null,null,null,null,null,null,null,null,null,null,null,null,0,0,{"$f":"IFERROR(IF(J1848=5,1,IF(MATCH(J1848&\"/\"&N1848,読み替え表_カーシェア!$P$32:$P$52,0),1,0)),0)","v":0},"*"]
[null,null,1839,null,null,null,null,null,null,null,null,null,null,null,null,null,null,null,null,null,null,null,null,null,null,null,null,null,null,0,0,{"$f":"IFERROR(IF(J1849=5,1,IF(MATCH(J1849&\"/\"&N1849,読み替え表_カーシェア!$P$32:$P$52,0),1,0)),0)","v":0},"*"]
[null,null,1840,null,null,null,null,null,null,null,null,null,null,null,null,null,null,null,null,null,null,null,null,null,null,null,null,null,null,0,0,{"$f":"IFERROR(IF(J1850=5,1,IF(MATCH(J1850&\"/\"&N1850,読み替え表_カーシェア!$P$32:$P$52,0),1,0)),0)","v":0},"*"]
[null,null,1841,null,null,null,null,null,null,null,null,null,null,null,null,null,null,null,null,null,null,null,null,null,null,null,null,null,null,0,0,{"$f":"IFERROR(IF(J1851=5,1,IF(MATCH(J1851&\"/\"&N1851,読み替え表_カーシェア!$P$32:$P$52,0),1,0)),0)","v":0},"*"]
[null,null,1842,null,null,null,null,null,null,null,null,null,null,null,null,null,null,null,null,null,null,null,null,null,null,null,null,null,null,0,0,{"$f":"IFERROR(IF(J1852=5,1,IF(MATCH(J1852&\"/\"&N1852,読み替え表_カーシェア!$P$32:$P$52,0),1,0)),0)","v":0},"*"]
[null,null,1843,null,null,null,null,null,null,null,null,null,null,null,null,null,null,null,null,null,null,null,null,null,null,null,null,null,null,0,0,{"$f":"IFERROR(IF(J1853=5,1,IF(MATCH(J1853&\"/\"&N1853,読み替え表_カーシェア!$P$32:$P$52,0),1,0)),0)","v":0},"*"]
[null,null,1844,null,null,null,null,null,null,null,null,null,null,null,null,null,null,null,null,null,null,null,null,null,null,null,null,null,null,0,0,{"$f":"IFERROR(IF(J1854=5,1,IF(MATCH(J1854&\"/\"&N1854,読み替え表_カーシェア!$P$32:$P$52,0),1,0)),0)","v":0},"*"]
[null,null,1845,null,null,null,null,null,null,null,null,null,null,null,null,null,null,null,null,null,null,null,null,null,null,null,null,null,null,0,0,{"$f":"IFERROR(IF(J1855=5,1,IF(MATCH(J1855&\"/\"&N1855,読み替え表_カーシェア!$P$32:$P$52,0),1,0)),0)","v":0},"*"]
[null,null,1846,null,null,null,null,null,null,null,null,null,null,null,null,null,null,null,null,null,null,null,null,null,null,null,null,null,null,0,0,{"$f":"IFERROR(IF(J1856=5,1,IF(MATCH(J1856&\"/\"&N1856,読み替え表_カーシェア!$P$32:$P$52,0),1,0)),0)","v":0},"*"]
[null,null,1847,null,null,null,null,null,null,null,null,null,null,null,null,null,null,null,null,null,null,null,null,null,null,null,null,null,null,0,0,{"$f":"IFERROR(IF(J1857=5,1,IF(MATCH(J1857&\"/\"&N1857,読み替え表_カーシェア!$P$32:$P$52,0),1,0)),0)","v":0},"*"]
[null,null,1848,null,null,null,null,null,null,null,null,null,null,null,null,null,null,null,null,null,null,null,null,null,null,null,null,null,null,0,0,{"$f":"IFERROR(IF(J1858=5,1,IF(MATCH(J1858&\"/\"&N1858,読み替え表_カーシェア!$P$32:$P$52,0),1,0)),0)","v":0},"*"]
[null,null,1849,null,null,null,null,null,null,null,null,null,null,null,null,null,null,null,null,null,null,null,null,null,null,null,null,null,null,0,0,{"$f":"IFERROR(IF(J1859=5,1,IF(MATCH(J1859&\"/\"&N1859,読み替え表_カーシェア!$P$32:$P$52,0),1,0)),0)","v":0},"*"]
[null,null,1850,null,null,null,null,null,null,null,null,null,null,null,null,null,null,null,null,null,null,null,null,null,null,null,null,null,null,0,0,{"$f":"IFERROR(IF(J1860=5,1,IF(MATCH(J1860&\"/\"&N1860,読み替え表_カーシェア!$P$32:$P$52,0),1,0)),0)","v":0},"*"]
[null,null,1851,null,null,null,null,null,null,null,null,null,null,null,null,null,null,null,null,null,null,null,null,null,null,null,null,null,null,0,0,{"$f":"IFERROR(IF(J1861=5,1,IF(MATCH(J1861&\"/\"&N1861,読み替え表_カーシェア!$P$32:$P$52,0),1,0)),0)","v":0},"*"]
[null,null,1852,null,null,null,null,null,null,null,null,null,null,null,null,null,null,null,null,null,null,null,null,null,null,null,null,null,null,0,0,{"$f":"IFERROR(IF(J1862=5,1,IF(MATCH(J1862&\"/\"&N1862,読み替え表_カーシェア!$P$32:$P$52,0),1,0)),0)","v":0},"*"]
[null,null,1853,null,null,null,null,null,null,null,null,null,null,null,null,null,null,null,null,null,null,null,null,null,null,null,null,null,null,0,0,{"$f":"IFERROR(IF(J1863=5,1,IF(MATCH(J1863&\"/\"&N1863,読み替え表_カーシェア!$P$32:$P$52,0),1,0)),0)","v":0},"*"]
[null,null,1854,null,null,null,null,null,null,null,null,null,null,null,null,null,null,null,null,null,null,null,null,null,null,null,null,null,null,0,0,{"$f":"IFERROR(IF(J1864=5,1,IF(MATCH(J1864&\"/\"&N1864,読み替え表_カーシェア!$P$32:$P$52,0),1,0)),0)","v":0},"*"]
[null,null,1855,null,null,null,null,null,null,null,null,null,null,null,null,null,null,null,null,null,null,null,null,null,null,null,null,null,null,0,0,{"$f":"IFERROR(IF(J1865=5,1,IF(MATCH(J1865&\"/\"&N1865,読み替え表_カーシェア!$P$32:$P$52,0),1,0)),0)","v":0},"*"]
[null,null,1856,null,null,null,null,null,null,null,null,null,null,null,null,null,null,null,null,null,null,null,null,null,null,null,null,null,null,0,0,{"$f":"IFERROR(IF(J1866=5,1,IF(MATCH(J1866&\"/\"&N1866,読み替え表_カーシェア!$P$32:$P$52,0),1,0)),0)","v":0},"*"]
[null,null,1857,null,null,null,null,null,null,null,null,null,null,null,null,null,null,null,null,null,null,null,null,null,null,null,null,null,null,0,0,{"$f":"IFERROR(IF(J1867=5,1,IF(MATCH(J1867&\"/\"&N1867,読み替え表_カーシェア!$P$32:$P$52,0),1,0)),0)","v":0},"*"]
[null,null,{"$f":"ROW()-10","v":1858},null,null,null,null,null,null,null,null,null,null,null,null,null,null,null,null,null,null,null,null,null,null,null,null,null,null,{"$f":"IF(OR($N1868=1,$N1868=2,$N1868=3),1,0)","v":0},{"$f":"IF(AND($J1868=1,$L1868>$M1868),1,IF(AND($J1868=1,$L1868<$M1868),2,IF(AND($J1868=1,$L1868=$M1868),3,0)))","v":0},{"$f":"IFERROR(IF(J1868=5,1,IF(MATCH(J1868&\"/\"&N1868,読み替え表_カーシェア!$P$32:$P$52,0),1,0)),0)","v":0},"*"]
[null,null,1859,null,null,null,null,null,null,null,null,null,null,null,null,null,null,null,null,null,null,null,null,null,null,null,null,null,null,0,0,{"$f":"IFERROR(IF(J1869=5,1,IF(MATCH(J1869&\"/\"&N1869,読み替え表_カーシェア!$P$32:$P$52,0),1,0)),0)","v":0},"*"]
[null,null,1860,null,null,null,null,null,null,null,null,null,null,null,null,null,null,null,null,null,null,null,null,null,null,null,null,null,null,0,0,{"$f":"IFERROR(IF(J1870=5,1,IF(MATCH(J1870&\"/\"&N1870,読み替え表_カーシェア!$P$32:$P$52,0),1,0)),0)","v":0},"*"]
[null,null,1861,null,null,null,null,null,null,null,null,null,null,null,null,null,null,null,null,null,null,null,null,null,null,null,null,null,null,0,0,{"$f":"IFERROR(IF(J1871=5,1,IF(MATCH(J1871&\"/\"&N1871,読み替え表_カーシェア!$P$32:$P$52,0),1,0)),0)","v":0},"*"]
[null,null,1862,null,null,null,null,null,null,null,null,null,null,null,null,null,null,null,null,null,null,null,null,null,null,null,null,null,null,0,0,{"$f":"IFERROR(IF(J1872=5,1,IF(MATCH(J1872&\"/\"&N1872,読み替え表_カーシェア!$P$32:$P$52,0),1,0)),0)","v":0},"*"]
[null,null,1863,null,null,null,null,null,null,null,null,null,null,null,null,null,null,null,null,null,null,null,null,null,null,null,null,null,null,0,0,{"$f":"IFERROR(IF(J1873=5,1,IF(MATCH(J1873&\"/\"&N1873,読み替え表_カーシェア!$P$32:$P$52,0),1,0)),0)","v":0},"*"]
[null,null,1864,null,null,null,null,null,null,null,null,null,null,null,null,null,null,null,null,null,null,null,null,null,null,null,null,null,null,0,0,{"$f":"IFERROR(IF(J1874=5,1,IF(MATCH(J1874&\"/\"&N1874,読み替え表_カーシェア!$P$32:$P$52,0),1,0)),0)","v":0},"*"]
[null,null,1865,null,null,null,null,null,null,null,null,null,null,null,null,null,null,null,null,null,null,null,null,null,null,null,null,null,null,0,0,{"$f":"IFERROR(IF(J1875=5,1,IF(MATCH(J1875&\"/\"&N1875,読み替え表_カーシェア!$P$32:$P$52,0),1,0)),0)","v":0},"*"]
[null,null,1866,null,null,null,null,null,null,null,null,null,null,null,null,null,null,null,null,null,null,null,null,null,null,null,null,null,null,0,0,{"$f":"IFERROR(IF(J1876=5,1,IF(MATCH(J1876&\"/\"&N1876,読み替え表_カーシェア!$P$32:$P$52,0),1,0)),0)","v":0},"*"]
[null,null,1867,null,null,null,null,null,null,null,null,null,null,null,null,null,null,null,null,null,null,null,null,null,null,null,null,null,null,0,0,{"$f":"IFERROR(IF(J1877=5,1,IF(MATCH(J1877&\"/\"&N1877,読み替え表_カーシェア!$P$32:$P$52,0),1,0)),0)","v":0},"*"]
[null,null,1868,null,null,null,null,null,null,null,null,null,null,null,null,null,null,null,null,null,null,null,null,null,null,null,null,null,null,0,0,{"$f":"IFERROR(IF(J1878=5,1,IF(MATCH(J1878&\"/\"&N1878,読み替え表_カーシェア!$P$32:$P$52,0),1,0)),0)","v":0},"*"]
[null,null,1869,null,null,null,null,null,null,null,null,null,null,null,null,null,null,null,null,null,null,null,null,null,null,null,null,null,null,0,0,{"$f":"IFERROR(IF(J1879=5,1,IF(MATCH(J1879&\"/\"&N1879,読み替え表_カーシェア!$P$32:$P$52,0),1,0)),0)","v":0},"*"]
[null,null,1870,null,null,null,null,null,null,null,null,null,null,null,null,null,null,null,null,null,null,null,null,null,null,null,null,null,null,0,0,{"$f":"IFERROR(IF(J1880=5,1,IF(MATCH(J1880&\"/\"&N1880,読み替え表_カーシェア!$P$32:$P$52,0),1,0)),0)","v":0},"*"]
[null,null,1871,null,null,null,null,null,null,null,null,null,null,null,null,null,null,null,null,null,null,null,null,null,null,null,null,null,null,0,0,{"$f":"IFERROR(IF(J1881=5,1,IF(MATCH(J1881&\"/\"&N1881,読み替え表_カーシェア!$P$32:$P$52,0),1,0)),0)","v":0},"*"]
[null,null,1872,null,null,null,null,null,null,null,null,null,null,null,null,null,null,null,null,null,null,null,null,null,null,null,null,null,null,0,0,{"$f":"IFERROR(IF(J1882=5,1,IF(MATCH(J1882&\"/\"&N1882,読み替え表_カーシェア!$P$32:$P$52,0),1,0)),0)","v":0},"*"]
[null,null,1873,null,null,null,null,null,null,null,null,null,null,null,null,null,null,null,null,null,null,null,null,null,null,null,null,null,null,0,0,{"$f":"IFERROR(IF(J1883=5,1,IF(MATCH(J1883&\"/\"&N1883,読み替え表_カーシェア!$P$32:$P$52,0),1,0)),0)","v":0},"*"]
[null,null,1874,null,null,null,null,null,null,null,null,null,null,null,null,null,null,null,null,null,null,null,null,null,null,null,null,null,null,0,0,{"$f":"IFERROR(IF(J1884=5,1,IF(MATCH(J1884&\"/\"&N1884,読み替え表_カーシェア!$P$32:$P$52,0),1,0)),0)","v":0},"*"]
[null,null,1875,null,null,null,null,null,null,null,null,null,null,null,null,null,null,null,null,null,null,null,null,null,null,null,null,null,null,0,0,{"$f":"IFERROR(IF(J1885=5,1,IF(MATCH(J1885&\"/\"&N1885,読み替え表_カーシェア!$P$32:$P$52,0),1,0)),0)","v":0},"*"]
[null,null,1876,null,null,null,null,null,null,null,null,null,null,null,null,null,null,null,null,null,null,null,null,null,null,null,null,null,null,0,0,{"$f":"IFERROR(IF(J1886=5,1,IF(MATCH(J1886&\"/\"&N1886,読み替え表_カーシェア!$P$32:$P$52,0),1,0)),0)","v":0},"*"]
[null,null,1877,null,null,null,null,null,null,null,null,null,null,null,null,null,null,null,null,null,null,null,null,null,null,null,null,null,null,0,0,{"$f":"IFERROR(IF(J1887=5,1,IF(MATCH(J1887&\"/\"&N1887,読み替え表_カーシェア!$P$32:$P$52,0),1,0)),0)","v":0},"*"]
[null,null,1878,null,null,null,null,null,null,null,null,null,null,null,null,null,null,null,null,null,null,null,null,null,null,null,null,null,null,0,0,{"$f":"IFERROR(IF(J1888=5,1,IF(MATCH(J1888&\"/\"&N1888,読み替え表_カーシェア!$P$32:$P$52,0),1,0)),0)","v":0},"*"]
[null,null,1879,null,null,null,null,null,null,null,null,null,null,null,null,null,null,null,null,null,null,null,null,null,null,null,null,null,null,0,0,{"$f":"IFERROR(IF(J1889=5,1,IF(MATCH(J1889&\"/\"&N1889,読み替え表_カーシェア!$P$32:$P$52,0),1,0)),0)","v":0},"*"]
[null,null,1880,null,null,null,null,null,null,null,null,null,null,null,null,null,null,null,null,null,null,null,null,null,null,null,null,null,null,0,0,{"$f":"IFERROR(IF(J1890=5,1,IF(MATCH(J1890&\"/\"&N1890,読み替え表_カーシェア!$P$32:$P$52,0),1,0)),0)","v":0},"*"]
[null,null,1881,null,null,null,null,null,null,null,null,null,null,null,null,null,null,null,null,null,null,null,null,null,null,null,null,null,null,0,0,{"$f":"IFERROR(IF(J1891=5,1,IF(MATCH(J1891&\"/\"&N1891,読み替え表_カーシェア!$P$32:$P$52,0),1,0)),0)","v":0},"*"]
[null,null,1882,null,null,null,null,null,null,null,null,null,null,null,null,null,null,null,null,null,null,null,null,null,null,null,null,null,null,0,0,{"$f":"IFERROR(IF(J1892=5,1,IF(MATCH(J1892&\"/\"&N1892,読み替え表_カーシェア!$P$32:$P$52,0),1,0)),0)","v":0},"*"]
[null,null,1883,null,null,null,null,null,null,null,null,null,null,null,null,null,null,null,null,null,null,null,null,null,null,null,null,null,null,0,0,{"$f":"IFERROR(IF(J1893=5,1,IF(MATCH(J1893&\"/\"&N1893,読み替え表_カーシェア!$P$32:$P$52,0),1,0)),0)","v":0},"*"]
[null,null,1884,null,null,null,null,null,null,null,null,null,null,null,null,null,null,null,null,null,null,null,null,null,null,null,null,null,null,0,0,{"$f":"IFERROR(IF(J1894=5,1,IF(MATCH(J1894&\"/\"&N1894,読み替え表_カーシェア!$P$32:$P$52,0),1,0)),0)","v":0},"*"]
[null,null,1885,null,null,null,null,null,null,null,null,null,null,null,null,null,null,null,null,null,null,null,null,null,null,null,null,null,null,0,0,{"$f":"IFERROR(IF(J1895=5,1,IF(MATCH(J1895&\"/\"&N1895,読み替え表_カーシェア!$P$32:$P$52,0),1,0)),0)","v":0},"*"]
[null,null,1886,null,null,null,null,null,null,null,null,null,null,null,null,null,null,null,null,null,null,null,null,null,null,null,null,null,null,0,0,{"$f":"IFERROR(IF(J1896=5,1,IF(MATCH(J1896&\"/\"&N1896,読み替え表_カーシェア!$P$32:$P$52,0),1,0)),0)","v":0},"*"]
[null,null,1887,null,null,null,null,null,null,null,null,null,null,null,null,null,null,null,null,null,null,null,null,null,null,null,null,null,null,0,0,{"$f":"IFERROR(IF(J1897=5,1,IF(MATCH(J1897&\"/\"&N1897,読み替え表_カーシェア!$P$32:$P$52,0),1,0)),0)","v":0},"*"]
[null,null,1888,null,null,null,null,null,null,null,null,null,null,null,null,null,null,null,null,null,null,null,null,null,null,null,null,null,null,0,0,{"$f":"IFERROR(IF(J1898=5,1,IF(MATCH(J1898&\"/\"&N1898,読み替え表_カーシェア!$P$32:$P$52,0),1,0)),0)","v":0},"*"]
[null,null,1889,null,null,null,null,null,null,null,null,null,null,null,null,null,null,null,null,null,null,null,null,null,null,null,null,null,null,0,0,{"$f":"IFERROR(IF(J1899=5,1,IF(MATCH(J1899&\"/\"&N1899,読み替え表_カーシェア!$P$32:$P$52,0),1,0)),0)","v":0},"*"]
[null,null,1890,null,null,null,null,null,null,null,null,null,null,null,null,null,null,null,null,null,null,null,null,null,null,null,null,null,null,0,0,{"$f":"IFERROR(IF(J1900=5,1,IF(MATCH(J1900&\"/\"&N1900,読み替え表_カーシェア!$P$32:$P$52,0),1,0)),0)","v":0},"*"]
[null,null,1891,null,null,null,null,null,null,null,null,null,null,null,null,null,null,null,null,null,null,null,null,null,null,null,null,null,null,0,0,{"$f":"IFERROR(IF(J1901=5,1,IF(MATCH(J1901&\"/\"&N1901,読み替え表_カーシェア!$P$32:$P$52,0),1,0)),0)","v":0},"*"]
[null,null,1892,null,null,null,null,null,null,null,null,null,null,null,null,null,null,null,null,null,null,null,null,null,null,null,null,null,null,0,0,{"$f":"IFERROR(IF(J1902=5,1,IF(MATCH(J1902&\"/\"&N1902,読み替え表_カーシェア!$P$32:$P$52,0),1,0)),0)","v":0},"*"]
[null,null,1893,null,null,null,null,null,null,null,null,null,null,null,null,null,null,null,null,null,null,null,null,null,null,null,null,null,null,0,0,{"$f":"IFERROR(IF(J1903=5,1,IF(MATCH(J1903&\"/\"&N1903,読み替え表_カーシェア!$P$32:$P$52,0),1,0)),0)","v":0},"*"]
[null,null,1894,null,null,null,null,null,null,null,null,null,null,null,null,null,null,null,null,null,null,null,null,null,null,null,null,null,null,0,0,{"$f":"IFERROR(IF(J1904=5,1,IF(MATCH(J1904&\"/\"&N1904,読み替え表_カーシェア!$P$32:$P$52,0),1,0)),0)","v":0},"*"]
[null,null,1895,null,null,null,null,null,null,null,null,null,null,null,null,null,null,null,null,null,null,null,null,null,null,null,null,null,null,0,0,{"$f":"IFERROR(IF(J1905=5,1,IF(MATCH(J1905&\"/\"&N1905,読み替え表_カーシェア!$P$32:$P$52,0),1,0)),0)","v":0},"*"]
[null,null,1896,null,null,null,null,null,null,null,null,null,null,null,null,null,null,null,null,null,null,null,null,null,null,null,null,null,null,0,0,{"$f":"IFERROR(IF(J1906=5,1,IF(MATCH(J1906&\"/\"&N1906,読み替え表_カーシェア!$P$32:$P$52,0),1,0)),0)","v":0},"*"]
[null,null,1897,null,null,null,null,null,null,null,null,null,null,null,null,null,null,null,null,null,null,null,null,null,null,null,null,null,null,0,0,{"$f":"IFERROR(IF(J1907=5,1,IF(MATCH(J1907&\"/\"&N1907,読み替え表_カーシェア!$P$32:$P$52,0),1,0)),0)","v":0},"*"]
[null,null,1898,null,null,null,null,null,null,null,null,null,null,null,null,null,null,null,null,null,null,null,null,null,null,null,null,null,null,0,0,{"$f":"IFERROR(IF(J1908=5,1,IF(MATCH(J1908&\"/\"&N1908,読み替え表_カーシェア!$P$32:$P$52,0),1,0)),0)","v":0},"*"]
[null,null,1899,null,null,null,null,null,null,null,null,null,null,null,null,null,null,null,null,null,null,null,null,null,null,null,null,null,null,0,0,{"$f":"IFERROR(IF(J1909=5,1,IF(MATCH(J1909&\"/\"&N1909,読み替え表_カーシェア!$P$32:$P$52,0),1,0)),0)","v":0},"*"]
[null,null,1900,null,null,null,null,null,null,null,null,null,null,null,null,null,null,null,null,null,null,null,null,null,null,null,null,null,null,0,0,{"$f":"IFERROR(IF(J1910=5,1,IF(MATCH(J1910&\"/\"&N1910,読み替え表_カーシェア!$P$32:$P$52,0),1,0)),0)","v":0},"*"]
[null,null,1901,null,null,null,null,null,null,null,null,null,null,null,null,null,null,null,null,null,null,null,null,null,null,null,null,null,null,0,0,{"$f":"IFERROR(IF(J1911=5,1,IF(MATCH(J1911&\"/\"&N1911,読み替え表_カーシェア!$P$32:$P$52,0),1,0)),0)","v":0},"*"]
[null,null,1902,null,null,null,null,null,null,null,null,null,null,null,null,null,null,null,null,null,null,null,null,null,null,null,null,null,null,0,0,{"$f":"IFERROR(IF(J1912=5,1,IF(MATCH(J1912&\"/\"&N1912,読み替え表_カーシェア!$P$32:$P$52,0),1,0)),0)","v":0},"*"]
[null,null,1903,null,null,null,null,null,null,null,null,null,null,null,null,null,null,null,null,null,null,null,null,null,null,null,null,null,null,0,0,{"$f":"IFERROR(IF(J1913=5,1,IF(MATCH(J1913&\"/\"&N1913,読み替え表_カーシェア!$P$32:$P$52,0),1,0)),0)","v":0},"*"]
[null,null,1904,null,null,null,null,null,null,null,null,null,null,null,null,null,null,null,null,null,null,null,null,null,null,null,null,null,null,0,0,{"$f":"IFERROR(IF(J1914=5,1,IF(MATCH(J1914&\"/\"&N1914,読み替え表_カーシェア!$P$32:$P$52,0),1,0)),0)","v":0},"*"]
[null,null,1905,null,null,null,null,null,null,null,null,null,null,null,null,null,null,null,null,null,null,null,null,null,null,null,null,null,null,0,0,{"$f":"IFERROR(IF(J1915=5,1,IF(MATCH(J1915&\"/\"&N1915,読み替え表_カーシェア!$P$32:$P$52,0),1,0)),0)","v":0},"*"]
[null,null,1906,null,null,null,null,null,null,null,null,null,null,null,null,null,null,null,null,null,null,null,null,null,null,null,null,null,null,0,0,{"$f":"IFERROR(IF(J1916=5,1,IF(MATCH(J1916&\"/\"&N1916,読み替え表_カーシェア!$P$32:$P$52,0),1,0)),0)","v":0},"*"]
[null,null,1907,null,null,null,null,null,null,null,null,null,null,null,null,null,null,null,null,null,null,null,null,null,null,null,null,null,null,0,0,{"$f":"IFERROR(IF(J1917=5,1,IF(MATCH(J1917&\"/\"&N1917,読み替え表_カーシェア!$P$32:$P$52,0),1,0)),0)","v":0},"*"]
[null,null,1908,null,null,null,null,null,null,null,null,null,null,null,null,null,null,null,null,null,null,null,null,null,null,null,null,null,null,0,0,{"$f":"IFERROR(IF(J1918=5,1,IF(MATCH(J1918&\"/\"&N1918,読み替え表_カーシェア!$P$32:$P$52,0),1,0)),0)","v":0},"*"]
[null,null,1909,null,null,null,null,null,null,null,null,null,null,null,null,null,null,null,null,null,null,null,null,null,null,null,null,null,null,0,0,{"$f":"IFERROR(IF(J1919=5,1,IF(MATCH(J1919&\"/\"&N1919,読み替え表_カーシェア!$P$32:$P$52,0),1,0)),0)","v":0},"*"]
[null,null,1910,null,null,null,null,null,null,null,null,null,null,null,null,null,null,null,null,null,null,null,null,null,null,null,null,null,null,0,0,{"$f":"IFERROR(IF(J1920=5,1,IF(MATCH(J1920&\"/\"&N1920,読み替え表_カーシェア!$P$32:$P$52,0),1,0)),0)","v":0},"*"]
[null,null,1911,null,null,null,null,null,null,null,null,null,null,null,null,null,null,null,null,null,null,null,null,null,null,null,null,null,null,0,0,{"$f":"IFERROR(IF(J1921=5,1,IF(MATCH(J1921&\"/\"&N1921,読み替え表_カーシェア!$P$32:$P$52,0),1,0)),0)","v":0},"*"]
[null,null,1912,null,null,null,null,null,null,null,null,null,null,null,null,null,null,null,null,null,null,null,null,null,null,null,null,null,null,0,0,{"$f":"IFERROR(IF(J1922=5,1,IF(MATCH(J1922&\"/\"&N1922,読み替え表_カーシェア!$P$32:$P$52,0),1,0)),0)","v":0},"*"]
[null,null,1913,null,null,null,null,null,null,null,null,null,null,null,null,null,null,null,null,null,null,null,null,null,null,null,null,null,null,0,0,{"$f":"IFERROR(IF(J1923=5,1,IF(MATCH(J1923&\"/\"&N1923,読み替え表_カーシェア!$P$32:$P$52,0),1,0)),0)","v":0},"*"]
[null,null,1914,null,null,null,null,null,null,null,null,null,null,null,null,null,null,null,null,null,null,null,null,null,null,null,null,null,null,0,0,{"$f":"IFERROR(IF(J1924=5,1,IF(MATCH(J1924&\"/\"&N1924,読み替え表_カーシェア!$P$32:$P$52,0),1,0)),0)","v":0},"*"]
[null,null,1915,null,null,null,null,null,null,null,null,null,null,null,null,null,null,null,null,null,null,null,null,null,null,null,null,null,null,0,0,{"$f":"IFERROR(IF(J1925=5,1,IF(MATCH(J1925&\"/\"&N1925,読み替え表_カーシェア!$P$32:$P$52,0),1,0)),0)","v":0},"*"]
[null,null,1916,null,null,null,null,null,null,null,null,null,null,null,null,null,null,null,null,null,null,null,null,null,null,null,null,null,null,0,0,{"$f":"IFERROR(IF(J1926=5,1,IF(MATCH(J1926&\"/\"&N1926,読み替え表_カーシェア!$P$32:$P$52,0),1,0)),0)","v":0},"*"]
[null,null,1917,null,null,null,null,null,null,null,null,null,null,null,null,null,null,null,null,null,null,null,null,null,null,null,null,null,null,0,0,{"$f":"IFERROR(IF(J1927=5,1,IF(MATCH(J1927&\"/\"&N1927,読み替え表_カーシェア!$P$32:$P$52,0),1,0)),0)","v":0},"*"]
[null,null,1918,null,null,null,null,null,null,null,null,null,null,null,null,null,null,null,null,null,null,null,null,null,null,null,null,null,null,0,0,{"$f":"IFERROR(IF(J1928=5,1,IF(MATCH(J1928&\"/\"&N1928,読み替え表_カーシェア!$P$32:$P$52,0),1,0)),0)","v":0},"*"]
[null,null,1919,null,null,null,null,null,null,null,null,null,null,null,null,null,null,null,null,null,null,null,null,null,null,null,null,null,null,0,0,{"$f":"IFERROR(IF(J1929=5,1,IF(MATCH(J1929&\"/\"&N1929,読み替え表_カーシェア!$P$32:$P$52,0),1,0)),0)","v":0},"*"]
[null,null,1920,null,null,null,null,null,null,null,null,null,null,null,null,null,null,null,null,null,null,null,null,null,null,null,null,null,null,0,0,{"$f":"IFERROR(IF(J1930=5,1,IF(MATCH(J1930&\"/\"&N1930,読み替え表_カーシェア!$P$32:$P$52,0),1,0)),0)","v":0},"*"]
[null,null,1921,null,null,null,null,null,null,null,null,null,null,null,null,null,null,null,null,null,null,null,null,null,null,null,null,null,null,0,0,{"$f":"IFERROR(IF(J1931=5,1,IF(MATCH(J1931&\"/\"&N1931,読み替え表_カーシェア!$P$32:$P$52,0),1,0)),0)","v":0},"*"]
[null,null,{"$f":"ROW()-10","v":1922},null,null,null,null,null,null,null,null,null,null,null,null,null,null,null,null,null,null,null,null,null,null,null,null,null,null,{"$f":"IF(OR($N1932=1,$N1932=2,$N1932=3),1,0)","v":0},{"$f":"IF(AND($J1932=1,$L1932>$M1932),1,IF(AND($J1932=1,$L1932<$M1932),2,IF(AND($J1932=1,$L1932=$M1932),3,0)))","v":0},{"$f":"IFERROR(IF(J1932=5,1,IF(MATCH(J1932&\"/\"&N1932,読み替え表_カーシェア!$P$32:$P$52,0),1,0)),0)","v":0},"*"]
[null,null,1923,null,null,null,null,null,null,null,null,null,null,null,null,null,null,null,null,null,null,null,null,null,null,null,null,null,null,0,0,{"$f":"IFERROR(IF(J1933=5,1,IF(MATCH(J1933&\"/\"&N1933,読み替え表_カーシェア!$P$32:$P$52,0),1,0)),0)","v":0},"*"]
[null,null,1924,null,null,null,null,null,null,null,null,null,null,null,null,null,null,null,null,null,null,null,null,null,null,null,null,null,null,0,0,{"$f":"IFERROR(IF(J1934=5,1,IF(MATCH(J1934&\"/\"&N1934,読み替え表_カーシェア!$P$32:$P$52,0),1,0)),0)","v":0},"*"]
[null,null,1925,null,null,null,null,null,null,null,null,null,null,null,null,null,null,null,null,null,null,null,null,null,null,null,null,null,null,0,0,{"$f":"IFERROR(IF(J1935=5,1,IF(MATCH(J1935&\"/\"&N1935,読み替え表_カーシェア!$P$32:$P$52,0),1,0)),0)","v":0},"*"]
[null,null,1926,null,null,null,null,null,null,null,null,null,null,null,null,null,null,null,null,null,null,null,null,null,null,null,null,null,null,0,0,{"$f":"IFERROR(IF(J1936=5,1,IF(MATCH(J1936&\"/\"&N1936,読み替え表_カーシェア!$P$32:$P$52,0),1,0)),0)","v":0},"*"]
[null,null,1927,null,null,null,null,null,null,null,null,null,null,null,null,null,null,null,null,null,null,null,null,null,null,null,null,null,null,0,0,{"$f":"IFERROR(IF(J1937=5,1,IF(MATCH(J1937&\"/\"&N1937,読み替え表_カーシェア!$P$32:$P$52,0),1,0)),0)","v":0},"*"]
[null,null,1928,null,null,null,null,null,null,null,null,null,null,null,null,null,null,null,null,null,null,null,null,null,null,null,null,null,null,0,0,{"$f":"IFERROR(IF(J1938=5,1,IF(MATCH(J1938&\"/\"&N1938,読み替え表_カーシェア!$P$32:$P$52,0),1,0)),0)","v":0},"*"]
[null,null,1929,null,null,null,null,null,null,null,null,null,null,null,null,null,null,null,null,null,null,null,null,null,null,null,null,null,null,0,0,{"$f":"IFERROR(IF(J1939=5,1,IF(MATCH(J1939&\"/\"&N1939,読み替え表_カーシェア!$P$32:$P$52,0),1,0)),0)","v":0},"*"]
[null,null,1930,null,null,null,null,null,null,null,null,null,null,null,null,null,null,null,null,null,null,null,null,null,null,null,null,null,null,0,0,{"$f":"IFERROR(IF(J1940=5,1,IF(MATCH(J1940&\"/\"&N1940,読み替え表_カーシェア!$P$32:$P$52,0),1,0)),0)","v":0},"*"]
[null,null,1931,null,null,null,null,null,null,null,null,null,null,null,null,null,null,null,null,null,null,null,null,null,null,null,null,null,null,0,0,{"$f":"IFERROR(IF(J1941=5,1,IF(MATCH(J1941&\"/\"&N1941,読み替え表_カーシェア!$P$32:$P$52,0),1,0)),0)","v":0},"*"]
[null,null,1932,null,null,null,null,null,null,null,null,null,null,null,null,null,null,null,null,null,null,null,null,null,null,null,null,null,null,0,0,{"$f":"IFERROR(IF(J1942=5,1,IF(MATCH(J1942&\"/\"&N1942,読み替え表_カーシェア!$P$32:$P$52,0),1,0)),0)","v":0},"*"]
[null,null,1933,null,null,null,null,null,null,null,null,null,null,null,null,null,null,null,null,null,null,null,null,null,null,null,null,null,null,0,0,{"$f":"IFERROR(IF(J1943=5,1,IF(MATCH(J1943&\"/\"&N1943,読み替え表_カーシェア!$P$32:$P$52,0),1,0)),0)","v":0},"*"]
[null,null,1934,null,null,null,null,null,null,null,null,null,null,null,null,null,null,null,null,null,null,null,null,null,null,null,null,null,null,0,0,{"$f":"IFERROR(IF(J1944=5,1,IF(MATCH(J1944&\"/\"&N1944,読み替え表_カーシェア!$P$32:$P$52,0),1,0)),0)","v":0},"*"]
[null,null,1935,null,null,null,null,null,null,null,null,null,null,null,null,null,null,null,null,null,null,null,null,null,null,null,null,null,null,0,0,{"$f":"IFERROR(IF(J1945=5,1,IF(MATCH(J1945&\"/\"&N1945,読み替え表_カーシェア!$P$32:$P$52,0),1,0)),0)","v":0},"*"]
[null,null,1936,null,null,null,null,null,null,null,null,null,null,null,null,null,null,null,null,null,null,null,null,null,null,null,null,null,null,0,0,{"$f":"IFERROR(IF(J1946=5,1,IF(MATCH(J1946&\"/\"&N1946,読み替え表_カーシェア!$P$32:$P$52,0),1,0)),0)","v":0},"*"]
[null,null,1937,null,null,null,null,null,null,null,null,null,null,null,null,null,null,null,null,null,null,null,null,null,null,null,null,null,null,0,0,{"$f":"IFERROR(IF(J1947=5,1,IF(MATCH(J1947&\"/\"&N1947,読み替え表_カーシェア!$P$32:$P$52,0),1,0)),0)","v":0},"*"]
[null,null,1938,null,null,null,null,null,null,null,null,null,null,null,null,null,null,null,null,null,null,null,null,null,null,null,null,null,null,0,0,{"$f":"IFERROR(IF(J1948=5,1,IF(MATCH(J1948&\"/\"&N1948,読み替え表_カーシェア!$P$32:$P$52,0),1,0)),0)","v":0},"*"]
[null,null,1939,null,null,null,null,null,null,null,null,null,null,null,null,null,null,null,null,null,null,null,null,null,null,null,null,null,null,0,0,{"$f":"IFERROR(IF(J1949=5,1,IF(MATCH(J1949&\"/\"&N1949,読み替え表_カーシェア!$P$32:$P$52,0),1,0)),0)","v":0},"*"]
[null,null,1940,null,null,null,null,null,null,null,null,null,null,null,null,null,null,null,null,null,null,null,null,null,null,null,null,null,null,0,0,{"$f":"IFERROR(IF(J1950=5,1,IF(MATCH(J1950&\"/\"&N1950,読み替え表_カーシェア!$P$32:$P$52,0),1,0)),0)","v":0},"*"]
[null,null,1941,null,null,null,null,null,null,null,null,null,null,null,null,null,null,null,null,null,null,null,null,null,null,null,null,null,null,0,0,{"$f":"IFERROR(IF(J1951=5,1,IF(MATCH(J1951&\"/\"&N1951,読み替え表_カーシェア!$P$32:$P$52,0),1,0)),0)","v":0},"*"]
[null,null,1942,null,null,null,null,null,null,null,null,null,null,null,null,null,null,null,null,null,null,null,null,null,null,null,null,null,null,0,0,{"$f":"IFERROR(IF(J1952=5,1,IF(MATCH(J1952&\"/\"&N1952,読み替え表_カーシェア!$P$32:$P$52,0),1,0)),0)","v":0},"*"]
[null,null,1943,null,null,null,null,null,null,null,null,null,null,null,null,null,null,null,null,null,null,null,null,null,null,null,null,null,null,0,0,{"$f":"IFERROR(IF(J1953=5,1,IF(MATCH(J1953&\"/\"&N1953,読み替え表_カーシェア!$P$32:$P$52,0),1,0)),0)","v":0},"*"]
[null,null,1944,null,null,null,null,null,null,null,null,null,null,null,null,null,null,null,null,null,null,null,null,null,null,null,null,null,null,0,0,{"$f":"IFERROR(IF(J1954=5,1,IF(MATCH(J1954&\"/\"&N1954,読み替え表_カーシェア!$P$32:$P$52,0),1,0)),0)","v":0},"*"]
[null,null,1945,null,null,null,null,null,null,null,null,null,null,null,null,null,null,null,null,null,null,null,null,null,null,null,null,null,null,0,0,{"$f":"IFERROR(IF(J1955=5,1,IF(MATCH(J1955&\"/\"&N1955,読み替え表_カーシェア!$P$32:$P$52,0),1,0)),0)","v":0},"*"]
[null,null,1946,null,null,null,null,null,null,null,null,null,null,null,null,null,null,null,null,null,null,null,null,null,null,null,null,null,null,0,0,{"$f":"IFERROR(IF(J1956=5,1,IF(MATCH(J1956&\"/\"&N1956,読み替え表_カーシェア!$P$32:$P$52,0),1,0)),0)","v":0},"*"]
[null,null,1947,null,null,null,null,null,null,null,null,null,null,null,null,null,null,null,null,null,null,null,null,null,null,null,null,null,null,0,0,{"$f":"IFERROR(IF(J1957=5,1,IF(MATCH(J1957&\"/\"&N1957,読み替え表_カーシェア!$P$32:$P$52,0),1,0)),0)","v":0},"*"]
[null,null,1948,null,null,null,null,null,null,null,null,null,null,null,null,null,null,null,null,null,null,null,null,null,null,null,null,null,null,0,0,{"$f":"IFERROR(IF(J1958=5,1,IF(MATCH(J1958&\"/\"&N1958,読み替え表_カーシェア!$P$32:$P$52,0),1,0)),0)","v":0},"*"]
[null,null,1949,null,null,null,null,null,null,null,null,null,null,null,null,null,null,null,null,null,null,null,null,null,null,null,null,null,null,{"$f":"IF(OR($N1959=1,$N1959=2,$N1959=3),1,0)","v":0},0,{"$f":"IFERROR(IF(J1959=5,1,IF(MATCH(J1959&\"/\"&N1959,読み替え表_カーシェア!$P$32:$P$52,0),1,0)),0)","v":0},"*"]
[null,null,1950,null,null,null,null,null,null,null,null,null,null,null,null,null,null,null,null,null,null,null,null,null,null,null,null,null,null,0,0,{"$f":"IFERROR(IF(J1960=5,1,IF(MATCH(J1960&\"/\"&N1960,読み替え表_カーシェア!$P$32:$P$52,0),1,0)),0)","v":0},"*"]
[null,null,1951,null,null,null,null,null,null,null,null,null,null,null,null,null,null,null,null,null,null,null,null,null,null,null,null,null,null,0,0,{"$f":"IFERROR(IF(J1961=5,1,IF(MATCH(J1961&\"/\"&N1961,読み替え表_カーシェア!$P$32:$P$52,0),1,0)),0)","v":0},"*"]
[null,null,1952,null,null,null,null,null,null,null,null,null,null,null,null,null,null,null,null,null,null,null,null,null,null,null,null,null,null,0,0,{"$f":"IFERROR(IF(J1962=5,1,IF(MATCH(J1962&\"/\"&N1962,読み替え表_カーシェア!$P$32:$P$52,0),1,0)),0)","v":0},"*"]
[null,null,1953,null,null,null,null,null,null,null,null,null,null,null,null,null,null,null,null,null,null,null,null,null,null,null,null,null,null,0,0,{"$f":"IFERROR(IF(J1963=5,1,IF(MATCH(J1963&\"/\"&N1963,読み替え表_カーシェア!$P$32:$P$52,0),1,0)),0)","v":0},"*"]
[null,null,1954,null,null,null,null,null,null,null,null,null,null,null,null,null,null,null,null,null,null,null,null,null,null,null,null,null,null,0,0,{"$f":"IFERROR(IF(J1964=5,1,IF(MATCH(J1964&\"/\"&N1964,読み替え表_カーシェア!$P$32:$P$52,0),1,0)),0)","v":0},"*"]
[null,null,1955,null,null,null,null,null,null,null,null,null,null,null,null,null,null,null,null,null,null,null,null,null,null,null,null,null,null,0,0,{"$f":"IFERROR(IF(J1965=5,1,IF(MATCH(J1965&\"/\"&N1965,読み替え表_カーシェア!$P$32:$P$52,0),1,0)),0)","v":0},"*"]
[null,null,1956,null,null,null,null,null,null,null,null,null,null,null,null,null,null,null,null,null,null,null,null,null,null,null,null,null,null,0,0,{"$f":"IFERROR(IF(J1966=5,1,IF(MATCH(J1966&\"/\"&N1966,読み替え表_カーシェア!$P$32:$P$52,0),1,0)),0)","v":0},"*"]
[null,null,1957,null,null,null,null,null,null,null,null,null,null,null,null,null,null,null,null,null,null,null,null,null,null,null,null,null,null,0,0,{"$f":"IFERROR(IF(J1967=5,1,IF(MATCH(J1967&\"/\"&N1967,読み替え表_カーシェア!$P$32:$P$52,0),1,0)),0)","v":0},"*"]
[null,null,1958,null,null,null,null,null,null,null,null,null,null,null,null,null,null,null,null,null,null,null,null,null,null,null,null,null,null,0,0,{"$f":"IFERROR(IF(J1968=5,1,IF(MATCH(J1968&\"/\"&N1968,読み替え表_カーシェア!$P$32:$P$52,0),1,0)),0)","v":0},"*"]
[null,null,1959,null,null,null,null,null,null,null,null,null,null,null,null,null,null,null,null,null,null,null,null,null,null,null,null,null,null,0,0,{"$f":"IFERROR(IF(J1969=5,1,IF(MATCH(J1969&\"/\"&N1969,読み替え表_カーシェア!$P$32:$P$52,0),1,0)),0)","v":0},"*"]
[null,null,1960,null,null,null,null,null,null,null,null,null,null,null,null,null,null,null,null,null,null,null,null,null,null,null,null,null,null,0,0,{"$f":"IFERROR(IF(J1970=5,1,IF(MATCH(J1970&\"/\"&N1970,読み替え表_カーシェア!$P$32:$P$52,0),1,0)),0)","v":0},"*"]
[null,null,1961,null,null,null,null,null,null,null,null,null,null,null,null,null,null,null,null,null,null,null,null,null,null,null,null,null,null,0,0,{"$f":"IFERROR(IF(J1971=5,1,IF(MATCH(J1971&\"/\"&N1971,読み替え表_カーシェア!$P$32:$P$52,0),1,0)),0)","v":0},"*"]
[null,null,1962,null,null,null,null,null,null,null,null,null,null,null,null,null,null,null,null,null,null,null,null,null,null,null,null,null,null,0,0,{"$f":"IFERROR(IF(J1972=5,1,IF(MATCH(J1972&\"/\"&N1972,読み替え表_カーシェア!$P$32:$P$52,0),1,0)),0)","v":0},"*"]
[null,null,1963,null,null,null,null,null,null,null,null,null,null,null,null,null,null,null,null,null,null,null,null,null,null,null,null,null,null,0,0,{"$f":"IFERROR(IF(J1973=5,1,IF(MATCH(J1973&\"/\"&N1973,読み替え表_カーシェア!$P$32:$P$52,0),1,0)),0)","v":0},"*"]
[null,null,1964,null,null,null,null,null,null,null,null,null,null,null,null,null,null,null,null,null,null,null,null,null,null,null,null,null,null,0,0,{"$f":"IFERROR(IF(J1974=5,1,IF(MATCH(J1974&\"/\"&N1974,読み替え表_カーシェア!$P$32:$P$52,0),1,0)),0)","v":0},"*"]
[null,null,1965,null,null,null,null,null,null,null,null,null,null,null,null,null,null,null,null,null,null,null,null,null,null,null,null,null,null,0,0,{"$f":"IFERROR(IF(J1975=5,1,IF(MATCH(J1975&\"/\"&N1975,読み替え表_カーシェア!$P$32:$P$52,0),1,0)),0)","v":0},"*"]
[null,null,1966,null,null,null,null,null,null,null,null,null,null,null,null,null,null,null,null,null,null,null,null,null,null,null,null,null,null,0,0,{"$f":"IFERROR(IF(J1976=5,1,IF(MATCH(J1976&\"/\"&N1976,読み替え表_カーシェア!$P$32:$P$52,0),1,0)),0)","v":0},"*"]
[null,null,1967,null,null,null,null,null,null,null,null,null,null,null,null,null,null,null,null,null,null,null,null,null,null,null,null,null,null,0,0,{"$f":"IFERROR(IF(J1977=5,1,IF(MATCH(J1977&\"/\"&N1977,読み替え表_カーシェア!$P$32:$P$52,0),1,0)),0)","v":0},"*"]
[null,null,1968,null,null,null,null,null,null,null,null,null,null,null,null,null,null,null,null,null,null,null,null,null,null,null,null,null,null,0,0,{"$f":"IFERROR(IF(J1978=5,1,IF(MATCH(J1978&\"/\"&N1978,読み替え表_カーシェア!$P$32:$P$52,0),1,0)),0)","v":0},"*"]
[null,null,1969,null,null,null,null,null,null,null,null,null,null,null,null,null,null,null,null,null,null,null,null,null,null,null,null,null,null,0,0,{"$f":"IFERROR(IF(J1979=5,1,IF(MATCH(J1979&\"/\"&N1979,読み替え表_カーシェア!$P$32:$P$52,0),1,0)),0)","v":0},"*"]
[null,null,1970,null,null,null,null,null,null,null,null,null,null,null,null,null,null,null,null,null,null,null,null,null,null,null,null,null,null,0,0,{"$f":"IFERROR(IF(J1980=5,1,IF(MATCH(J1980&\"/\"&N1980,読み替え表_カーシェア!$P$32:$P$52,0),1,0)),0)","v":0},"*"]
[null,null,1971,null,null,null,null,null,null,null,null,null,null,null,null,null,null,null,null,null,null,null,null,null,null,null,null,null,null,0,0,{"$f":"IFERROR(IF(J1981=5,1,IF(MATCH(J1981&\"/\"&N1981,読み替え表_カーシェア!$P$32:$P$52,0),1,0)),0)","v":0},"*"]
[null,null,1972,null,null,null,null,null,null,null,null,null,null,null,null,null,null,null,null,null,null,null,null,null,null,null,null,null,null,0,0,{"$f":"IFERROR(IF(J1982=5,1,IF(MATCH(J1982&\"/\"&N1982,読み替え表_カーシェア!$P$32:$P$52,0),1,0)),0)","v":0},"*"]
[null,null,1973,null,null,null,null,null,null,null,null,null,null,null,null,null,null,null,null,null,null,null,null,null,null,null,null,null,null,0,0,{"$f":"IFERROR(IF(J1983=5,1,IF(MATCH(J1983&\"/\"&N1983,読み替え表_カーシェア!$P$32:$P$52,0),1,0)),0)","v":0},"*"]
[null,null,1974,null,null,null,null,null,null,null,null,null,null,null,null,null,null,null,null,null,null,null,null,null,null,null,null,null,null,0,0,{"$f":"IFERROR(IF(J1984=5,1,IF(MATCH(J1984&\"/\"&N1984,読み替え表_カーシェア!$P$32:$P$52,0),1,0)),0)","v":0},"*"]
[null,null,1975,null,null,null,null,null,null,null,null,null,null,null,null,null,null,null,null,null,null,null,null,null,null,null,null,null,null,0,0,{"$f":"IFERROR(IF(J1985=5,1,IF(MATCH(J1985&\"/\"&N1985,読み替え表_カーシェア!$P$32:$P$52,0),1,0)),0)","v":0},"*"]
[null,null,1976,null,null,null,null,null,null,null,null,null,null,null,null,null,null,null,null,null,null,null,null,null,null,null,null,null,null,0,0,{"$f":"IFERROR(IF(J1986=5,1,IF(MATCH(J1986&\"/\"&N1986,読み替え表_カーシェア!$P$32:$P$52,0),1,0)),0)","v":0},"*"]
[null,null,1977,null,null,null,null,null,null,null,null,null,null,null,null,null,null,null,null,null,null,null,null,null,null,null,null,null,null,0,0,{"$f":"IFERROR(IF(J1987=5,1,IF(MATCH(J1987&\"/\"&N1987,読み替え表_カーシェア!$P$32:$P$52,0),1,0)),0)","v":0},"*"]
[null,null,1978,null,null,null,null,null,null,null,null,null,null,null,null,null,null,null,null,null,null,null,null,null,null,null,null,null,null,0,0,{"$f":"IFERROR(IF(J1988=5,1,IF(MATCH(J1988&\"/\"&N1988,読み替え表_カーシェア!$P$32:$P$52,0),1,0)),0)","v":0},"*"]
[null,null,1979,null,null,null,null,null,null,null,null,null,null,null,null,null,null,null,null,null,null,null,null,null,null,null,null,null,null,0,0,{"$f":"IFERROR(IF(J1989=5,1,IF(MATCH(J1989&\"/\"&N1989,読み替え表_カーシェア!$P$32:$P$52,0),1,0)),0)","v":0},"*"]
[null,null,1980,null,null,null,null,null,null,null,null,null,null,null,null,null,null,null,null,null,null,null,null,null,null,null,null,null,null,0,0,{"$f":"IFERROR(IF(J1990=5,1,IF(MATCH(J1990&\"/\"&N1990,読み替え表_カーシェア!$P$32:$P$52,0),1,0)),0)","v":0},"*"]
[null,null,1981,null,null,null,null,null,null,null,null,null,null,null,null,null,null,null,null,null,null,null,null,null,null,null,null,null,null,0,0,{"$f":"IFERROR(IF(J1991=5,1,IF(MATCH(J1991&\"/\"&N1991,読み替え表_カーシェア!$P$32:$P$52,0),1,0)),0)","v":0},"*"]
[null,null,1982,null,null,null,null,null,null,null,null,null,null,null,null,null,null,null,null,null,null,null,null,null,null,null,null,null,null,0,0,{"$f":"IFERROR(IF(J1992=5,1,IF(MATCH(J1992&\"/\"&N1992,読み替え表_カーシェア!$P$32:$P$52,0),1,0)),0)","v":0},"*"]
[null,null,1983,null,null,null,null,null,null,null,null,null,null,null,null,null,null,null,null,null,null,null,null,null,null,null,null,null,null,0,0,{"$f":"IFERROR(IF(J1993=5,1,IF(MATCH(J1993&\"/\"&N1993,読み替え表_カーシェア!$P$32:$P$52,0),1,0)),0)","v":0},"*"]
[null,null,1984,null,null,null,null,null,null,null,null,null,null,null,null,null,null,null,null,null,null,null,null,null,null,null,null,null,null,0,0,{"$f":"IFERROR(IF(J1994=5,1,IF(MATCH(J1994&\"/\"&N1994,読み替え表_カーシェア!$P$32:$P$52,0),1,0)),0)","v":0},"*"]
[null,null,1985,null,null,null,null,null,null,null,null,null,null,null,null,null,null,null,null,null,null,null,null,null,null,null,null,null,null,0,0,{"$f":"IFERROR(IF(J1995=5,1,IF(MATCH(J1995&\"/\"&N1995,読み替え表_カーシェア!$P$32:$P$52,0),1,0)),0)","v":0},"*"]
[null,null,{"$f":"ROW()-10","v":1986},null,null,null,null,null,null,null,null,null,null,null,null,null,null,null,null,null,null,null,null,null,null,null,null,null,null,{"$f":"IF(OR($N1996=1,$N1996=2,$N1996=3),1,0)","v":0},{"$f":"IF(AND($J1996=1,$L1996>$M1996),1,IF(AND($J1996=1,$L1996<$M1996),2,IF(AND($J1996=1,$L1996=$M1996),3,0)))","v":0},{"$f":"IFERROR(IF(J1996=5,1,IF(MATCH(J1996&\"/\"&N1996,読み替え表_カーシェア!$P$32:$P$52,0),1,0)),0)","v":0},"*"]
[null,null,1987,null,null,null,null,null,null,null,null,null,null,null,null,null,null,null,null,null,null,null,null,null,null,null,null,null,null,0,0,{"$f":"IFERROR(IF(J1997=5,1,IF(MATCH(J1997&\"/\"&N1997,読み替え表_カーシェア!$P$32:$P$52,0),1,0)),0)","v":0},"*"]
[null,null,1988,null,null,null,null,null,null,null,null,null,null,null,null,null,null,null,null,null,null,null,null,null,null,null,null,null,null,0,0,{"$f":"IFERROR(IF(J1998=5,1,IF(MATCH(J1998&\"/\"&N1998,読み替え表_カーシェア!$P$32:$P$52,0),1,0)),0)","v":0},"*"]
[null,null,1989,null,null,null,null,null,null,null,null,null,null,null,null,null,null,null,null,null,null,null,null,null,null,null,null,null,null,0,0,{"$f":"IFERROR(IF(J1999=5,1,IF(MATCH(J1999&\"/\"&N1999,読み替え表_カーシェア!$P$32:$P$52,0),1,0)),0)","v":0},"*"]
[null,null,1990,null,null,null,null,null,null,null,null,null,null,null,null,null,null,null,null,null,null,null,null,null,null,null,null,null,null,0,0,{"$f":"IFERROR(IF(J2000=5,1,IF(MATCH(J2000&\"/\"&N2000,読み替え表_カーシェア!$P$32:$P$52,0),1,0)),0)","v":0},"*"]
[null,null,1991,null,null,null,null,null,null,null,null,null,null,null,null,null,null,null,null,null,null,null,null,null,null,null,null,null,null,0,0,{"$f":"IFERROR(IF(J2001=5,1,IF(MATCH(J2001&\"/\"&N2001,読み替え表_カーシェア!$P$32:$P$52,0),1,0)),0)","v":0},"*"]
[null,null,1992,null,null,null,null,null,null,null,null,null,null,null,null,null,null,null,null,null,null,null,null,null,null,null,null,null,null,0,0,{"$f":"IFERROR(IF(J2002=5,1,IF(MATCH(J2002&\"/\"&N2002,読み替え表_カーシェア!$P$32:$P$52,0),1,0)),0)","v":0},"*"]
[null,null,1993,null,null,null,null,null,null,null,null,null,null,null,null,null,null,null,null,null,null,null,null,null,null,null,null,null,null,0,0,{"$f":"IFERROR(IF(J2003=5,1,IF(MATCH(J2003&\"/\"&N2003,読み替え表_カーシェア!$P$32:$P$52,0),1,0)),0)","v":0},"*"]
[null,null,1994,null,null,null,null,null,null,null,null,null,null,null,null,null,null,null,null,null,null,null,null,null,null,null,null,null,null,0,0,{"$f":"IFERROR(IF(J2004=5,1,IF(MATCH(J2004&\"/\"&N2004,読み替え表_カーシェア!$P$32:$P$52,0),1,0)),0)","v":0},"*"]
[null,null,1995,null,null,null,null,null,null,null,null,null,null,null,null,null,null,null,null,null,null,null,null,null,null,null,null,null,null,0,0,{"$f":"IFERROR(IF(J2005=5,1,IF(MATCH(J2005&\"/\"&N2005,読み替え表_カーシェア!$P$32:$P$52,0),1,0)),0)","v":0},"*"]
[null,null,1996,null,null,null,null,null,null,null,null,null,null,null,null,null,null,null,null,null,null,null,null,null,null,null,null,null,null,0,0,{"$f":"IFERROR(IF(J2006=5,1,IF(MATCH(J2006&\"/\"&N2006,読み替え表_カーシェア!$P$32:$P$52,0),1,0)),0)","v":0},"*"]
[null,null,1997,null,null,null,null,null,null,null,null,null,null,null,null,null,null,null,null,null,null,null,null,null,null,null,null,null,null,0,0,{"$f":"IFERROR(IF(J2007=5,1,IF(MATCH(J2007&\"/\"&N2007,読み替え表_カーシェア!$P$32:$P$52,0),1,0)),0)","v":0},"*"]
[null,null,1998,null,null,null,null,null,null,null,null,null,null,null,null,null,null,null,null,null,null,null,null,null,null,null,null,null,null,0,0,{"$f":"IFERROR(IF(J2008=5,1,IF(MATCH(J2008&\"/\"&N2008,読み替え表_カーシェア!$P$32:$P$52,0),1,0)),0)","v":0},"*"]
[null,null,1999,null,null,null,null,null,null,null,null,null,null,null,null,null,null,null,null,null,null,null,null,null,null,null,null,null,null,0,0,{"$f":"IFERROR(IF(J2009=5,1,IF(MATCH(J2009&\"/\"&N2009,読み替え表_カーシェア!$P$32:$P$52,0),1,0)),0)","v":0},"*"]
[null,null,2000,null,null,null,null,null,null,null,null,null,null,null,null,null,null,null,null,null,null,null,null,null,null,null,null,null,null,0,0,{"$f":"IFERROR(IF(J2010=5,1,IF(MATCH(J2010&\"/\"&N2010,読み替え表_カーシェア!$P$32:$P$52,0),1,0)),0)","v":0},"*"]
[null,null,"*","*","*","*","*","*","*","*","*","*","*","*","*","*","*","*","*","*","*","*","*","*","*","*","*","*","*","*","*","*","*"]

{"sheet":"集計結果⇒","index":3,"n_rows":0,"n_cols":0,"rows_kept":0,"cut":false,"hidden":false,"merged":[]}

{"sheet":"②単純集計表 ","index":4,"n_rows":192,"n_cols":13,"rows_kept":192,"cut":false,"hidden":false,"merged":[[177,4,177,6],[177,8,177,10],[178,4,178,6],[178,8,178,10],[179,4,179,6],[179,8,179,10],[168,8,168,10],[169,4,169,6],[169,8,169,10],[168,4,168,6],[171,4,171,6],[171,8,171,10],[172,4,172,6],[172,8,172,10],[170,4,170,6],[170,8,170,10],[174,4,174,6],[174,8,174,10],[175,4,175,6],[175,8,175,10],[176,4,176,6],[176,8,176,10],[186,8,186,10],[187,4,187,6],[187,8,187,10],[183,4,183,6],[183,8,183,10],[184,4,184,6],[184,8,184,10],[185,4,185,6],[182,4,182,6],[182,8,182,10],[180,4,180,6],[180,8,180,10],[181,4,181,6],[181,8,181,10],[163,1,167,2],[163,4,163,6],[163,8,163,10],[164,4,164,6],[164,8,164,10],[165,4,165,6],[165,8,165,10],[166,4,166,6],[166,8,166,10],[167,4,167,6],[167,8,167,10],[179,1,188,2],[174,1,178,2],[173,4,173,6],[173,8,173,10],[168,1,173,2],[188,4,188,6],[188,8,188,10],[185,8,185,10],[186,4,186,6],[3,1,3,2],[13,1,16,1],[6,1,6,2],[7,1,7,2],[29,4,29,5],[149,1,149,5],[153,3,153,6],[153,7,153,10],[154,4,154,6],[154,8,154,10],[143,1,143,5],[144,1,144,5],[145,1,145,5],[146,1,146,5],[147,1,147,5],[86,1,88,1],[77,1,82,1],[148,1,148,5],[95,1,100,1],[51,1,56,1],[44,4,44,5],[40,4,40,5],[37,4,37,5],[38,4,38,5],[1,3,1,5],[7,3,7,5],[6,3,6,5],[5,1,5,2],[5,3,5,5],[41,4,41,5],[42,4,42,5],[34,4,34,5],[36,4,36,5],[33,4,33,5],[1,1,1,2],[18,1,25,1],[4,1,4,2],[4,3,4,5],[3,3,3,5],[2,3,2,5],[28,4,28,5],[2,1,2,2],[30,4,30,5],[31,4,31,5],[32,4,32,5],[27,1,44,1],[27,3,27,5],[35,3,35,5],[39,4,39,5],[43,4,43,5],[125,1,133,1],[155,4,155,6],[155,8,155,10],[154,1,155,2],[162,4,162,6],[159,1,162,2],[159,4,159,6],[159,8,159,10],[161,4,161,6],[161,8,161,10],[162,8,162,10],[156,1,158,2],[156,4,156,6],[156,8,156,10],[157,4,157,6],[157,8,157,10],[158,4,158,6],[158,8,158,10],[160,4,160,6],[160,8,160,10]]}
[]
[null,"都道府県",null,{"$f":"①会場アンケート集計結果_カーシェア!D11","v":0}]
[null,"事業者名",null,{"$f":"①会場アンケート集計結果_カーシェア!E11","v":0}]
[null,"イベント名",null,{"$f":"①会場アンケート集計結果_カーシェア!F11","v":0}]
[null,"回収日付",null,{"$f":"①会場アンケート集計結果_カーシェア!G11","v":"00:00:00"}]
[null,"アンケート回収数",null,{"$f":"COUNTIFS(①会場アンケート集計結果_カーシェア!$H$11:$H$2010,\"<>\"&\"\")","v":0}]
[null,"有効アンケート数",null,{"$f":"COUNTIFS(①会場アンケート集計結果_カーシェア!$H$11:$H$2010,\"<>\"&\"\",①会場アンケート集計結果_カーシェア!$AF$11:$AF$2010,0)","v":0},{"$f":"COUNTIFS(①会場アンケート集計結果_カーシェア!$H$11:$H$2010,\"<>\"&\"\",①会場アンケート集計結果_カーシェア!$AF$11:$AF$2010,0)","v":0},{"$f":"COUNTIFS(①会場アンケート集計結果_カーシェア!$H$11:$H$2010,\"<>\"&\"\",①会場アンケート集計結果_カーシェア!$AF$11:$AF$2010,0)","v":0}]
[null,"メールアドレス回収数",null,{"$f":"COUNTIFS(①会場アンケート集計結果_カーシェア!$H$11:$H$2010,\"<>\"&\"\",①会場アンケート集計結果_カーシェア!$AF$11:$AF$2010,0,①会場アンケート集計結果_カーシェア!$Z$11:$Z$2010,1)","v":0}]
[]
[null,"【設問1-1】性別・年代"]
[null,"※来場者層の把握のため、「有効回答数」ではなく「アンケート回収数」で集計"]
[]
[null,null,null,null,null,null,"アンケート\n回収者","有効\n回答者","%","検算用"]
[null,"性別",1,"男性",null,null,{"$f":"COUNTIFS(①会場アンケート集計結果_カーシェア!$H:$H,'②単純集計表 '!D14)","v":0},{"$f":"COUNTIFS(①会場アンケート集計結果_カーシェア!$AP:$AP,0,①会場アンケート集計結果_カーシェア!$H:$H,'②単純集計表 '!D14)","v":0},{"$f":"G14/$D$6","v":{"$error":"#DIV/0!"}}]
[null,null,2,"女性",null,null,{"$f":"COUNTIFS(①会場アンケート集計結果_カーシェア!$H:$H,'②単純集計表 '!D15)","v":0},{"$f":"COUNTIFS(①会場アンケート集計結果_カーシェア!$AP:$AP,0,①会場アンケート集計結果_カーシェア!$H:$H,'②単純集計表 '!D15)","v":0},{"$f":"G15/$D$6","v":{"$error":"#DIV/0!"}}]
[null,null,3,"その他",null,null,{"$f":"COUNTIFS(①会場アンケート集計結果_カーシェア!$H:$H,'②単純集計表 '!D16)","v":0},{"$f":"COUNTIFS(①会場アンケート集計結果_カーシェア!$AP:$AP,0,①会場アンケート集計結果_カーシェア!$H:$H,'②単純集計表 '!D16)","v":0},{"$f":"G16/$D$6","v":{"$error":"#DIV/0!"}}]
[null,null,99,"未回答",null,null,{"$f":"COUNTIFS(①会場アンケート集計結果_カーシェア!$H:$H,'②単純集計表 '!D17)","v":0},{"$f":"COUNTIFS(①会場アンケート集計結果_カーシェア!$AP:$AP,0,①会場アンケート集計結果_カーシェア!$H:$H,'②単純集計表 '!D17)","v":0},{"$f":"G17/$D$6","v":{"$error":"#DIV/0!"}},{"$f":"SUM(G14:G17)","v":0}]
[]
[null,"年代",1,"10代",null,null,{"$f":"COUNTIFS(①会場アンケート集計結果_カーシェア!$I:$I,'②単純集計表 '!D19)","v":0},{"$f":"COUNTIFS(①会場アンケート集計結果_カーシェア!$AP:$AP,0,①会場アンケート集計結果_カーシェア!$I:$I,'②単純集計表 '!D19)","v":0},{"$f":"G19/$D$6","v":{"$error":"#DIV/0!"}}]
[null,null,2,"20代",null,null,{"$f":"COUNTIFS(①会場アンケート集計結果_カーシェア!$I:$I,'②単純集計表 '!D20)","v":0},{"$f":"COUNTIFS(①会場アンケート集計結果_カーシェア!$AP:$AP,0,①会場アンケート集計結果_カーシェア!$I:$I,'②単純集計表 '!D20)","v":0},{"$f":"G20/$D$6","v":{"$error":"#DIV/0!"}}]
[null,null,3,"30代",null,null,{"$f":"COUNTIFS(①会場アンケート集計結果_カーシェア!$I:$I,'②単純集計表 '!D21)","v":0},{"$f":"COUNTIFS(①会場アンケート集計結果_カーシェア!$AP:$AP,0,①会場アンケート集計結果_カーシェア!$I:$I,'②単純集計表 '!D21)","v":0},{"$error":"#DIV/0!"}]
[null,null,4,"40代",null,null,{"$f":"COUNTIFS(①会場アンケート集計結果_カーシェア!$I:$I,'②単純集計表 '!D22)","v":0},{"$f":"COUNTIFS(①会場アンケート集計結果_カーシェア!$AP:$AP,0,①会場アンケート集計結果_カーシェア!$I:$I,'②単純集計表 '!D22)","v":0},{"$error":"#DIV/0!"}]
[null,null,5,"50代",null,null,{"$f":"COUNTIFS(①会場アンケート集計結果_カーシェア!$I:$I,'②単純集計表 '!D23)","v":0},{"$f":"COUNTIFS(①会場アンケート集計結果_カーシェア!$AP:$AP,0,①会場アンケート集計結果_カーシェア!$I:$I,'②単純集計表 '!D23)","v":0},{"$error":"#DIV/0!"}]
[null,null,6,"60代",null,null,{"$f":"COUNTIFS(①会場アンケート集計結果_カーシェア!$I:$I,'②単純集計表 '!D24)","v":0},{"$f":"COUNTIFS(①会場アンケート集計結果_カーシェア!$AP:$AP,0,①会場アンケート集計結果_カーシェア!$I:$I,'②単純集計表 '!D24)","v":0},{"$error":"#DIV/0!"}]
[null,null,7,"70代以上",null,null,{"$f":"COUNTIFS(①会場アンケート集計結果_カーシェア!$I:$I,'②単純集計表 '!D25)","v":0},{"$f":"COUNTIFS(①会場アンケート集計結果_カーシェア!$AP:$AP,0,①会場アンケート集計結果_カーシェア!$I:$I,'②単純集計表 '!D25)","v":0},{"$error":"#DIV/0!"}]
[null,null,99,"未回答",null,null,{"$f":"COUNTIFS(①会場アンケート集計結果_カーシェア!$I:$I,'②単純集計表 '!D26)","v":0},{"$f":"COUNTIFS(①会場アンケート集計結果_カーシェア!$AP:$AP,0,①会場アンケート集計結果_カーシェア!$I:$I,'②単純集計表 '!D26)","v":0},{"$error":"#DIV/0!"},{"$f":"SUM(G19:G26)","v":0}]
[]
[null,"性別・年代別",null,"男性",null,null,{"$f":"SUM(G29:G35)","v":0},{"$f":"SUM(H29:H35)","v":0},{"$f":"G28/$D$6","v":{"$error":"#DIV/0!"}}]
[null,null,null,"男性","10代",null,{"$f":"COUNTIFS(①会場アンケート集計結果_カーシェア!$H:$H,D29,①会場アンケート集計結果_カーシェア!$I:$I,E29)","v":0},{"$f":"COUNTIFS(①会場アンケート集計結果_カーシェア!$AP:$AP,0,①会場アンケート集計結果_カーシェア!$H:$H,D29,①会場アンケート集計結果_カーシェア!$I:$I,E29)","v":0},{"$f":"G29/$D$6","v":{"$error":"#DIV/0!"}}]
[null,null,null,"男性","20代",null,{"$f":"COUNTIFS(①会場アンケート集計結果_カーシェア!$H:$H,D30,①会場アンケート集計結果_カーシェア!$I:$I,E30)","v":0},{"$f":"COUNTIFS(①会場アンケート集計結果_カーシェア!$AP:$AP,0,①会場アンケート集計結果_カーシェア!$H:$H,D30,①会場アンケート集計結果_カーシェア!$I:$I,E30)","v":0},{"$error":"#DIV/0!"}]
[null,null,null,"男性","30代",null,{"$f":"COUNTIFS(①会場アンケート集計結果_カーシェア!$H:$H,D31,①会場アンケート集計結果_カーシェア!$I:$I,E31)","v":0},{"$f":"COUNTIFS(①会場アンケート集計結果_カーシェア!$AP:$AP,0,①会場アンケート集計結果_カーシェア!$H:$H,D31,①会場アンケート集計結果_カーシェア!$I:$I,E31)","v":0},{"$error":"#DIV/0!"}]
[null,null,null,"男性","40代",null,{"$f":"COUNTIFS(①会場アンケート集計結果_カーシェア!$H:$H,D32,①会場アンケート集計結果_カーシェア!$I:$I,E32)","v":0},{"$f":"COUNTIFS(①会場アンケート集計結果_カーシェア!$AP:$AP,0,①会場アンケート集計結果_カーシェア!$H:$H,D32,①会場アンケート集計結果_カーシェア!$I:$I,E32)","v":0},{"$error":"#DIV/0!"}]
[null,null,null,"男性","50代",null,{"$f":"COUNTIFS(①会場アンケート集計結果_カーシェア!$H:$H,D33,①会場アンケート集計結果_カーシェア!$I:$I,E33)","v":0},{"$f":"COUNTIFS(①会場アンケート集計結果_カーシェア!$AP:$AP,0,①会場アンケート集計結果_カーシェア!$H:$H,D33,①会場アンケート集計結果_カーシェア!$I:$I,E33)","v":0},{"$error":"#DIV/0!"}]
[null,null,null,"男性","60代",null,{"$f":"COUNTIFS(①会場アンケート集計結果_カーシェア!$H:$H,D34,①会場アンケート集計結果_カーシェア!$I:$I,E34)","v":0},{"$f":"COUNTIFS(①会場アンケート集計結果_カーシェア!$AP:$AP,0,①会場アンケート集計結果_カーシェア!$H:$H,D34,①会場アンケート集計結果_カーシェア!$I:$I,E34)","v":0},{"$error":"#DIV/0!"}]
[null,null,null,"男性","70代以上",null,{"$f":"COUNTIFS(①会場アンケート集計結果_カーシェア!$H:$H,D35,①会場アンケート集計結果_カーシェア!$I:$I,E35)","v":0},{"$f":"COUNTIFS(①会場アンケート集計結果_カーシェア!$AP:$AP,0,①会場アンケート集計結果_カーシェア!$H:$H,D35,①会場アンケート集計結果_カーシェア!$I:$I,E35)","v":0},{"$error":"#DIV/0!"}]
[null,null,null,"女性",null,null,{"$f":"SUM(G37:G43)","v":0},{"$f":"SUM(H37:H43)","v":0},{"$error":"#DIV/0!"}]
[null,null,null,"女性","10代",null,{"$f":"COUNTIFS(①会場アンケート集計結果_カーシェア!$H:$H,D37,①会場アンケート集計結果_カーシェア!$I:$I,E37)","v":0},{"$f":"COUNTIFS(①会場アンケート集計結果_カーシェア!$AP:$AP,0,①会場アンケート集計結果_カーシェア!$H:$H,D37,①会場アンケート集計結果_カーシェア!$I:$I,E37)","v":0},{"$error":"#DIV/0!"}]
[null,null,null,"女性","20代",null,{"$f":"COUNTIFS(①会場アンケート集計結果_カーシェア!$H:$H,D38,①会場アンケート集計結果_カーシェア!$I:$I,E38)","v":0},{"$f":"COUNTIFS(①会場アンケート集計結果_カーシェア!$AP:$AP,0,①会場アンケート集計結果_カーシェア!$H:$H,D38,①会場アンケート集計結果_カーシェア!$I:$I,E38)","v":0},{"$error":"#DIV/0!"}]
[null,null,null,"女性","30代",null,{"$f":"COUNTIFS(①会場アンケート集計結果_カーシェア!$H:$H,D39,①会場アンケート集計結果_カーシェア!$I:$I,E39)","v":0},{"$f":"COUNTIFS(①会場アンケート集計結果_カーシェア!$AP:$AP,0,①会場アンケート集計結果_カーシェア!$H:$H,D39,①会場アンケート集計結果_カーシェア!$I:$I,E39)","v":0},{"$error":"#DIV/0!"}]
[null,null,null,"女性","40代",null,{"$f":"COUNTIFS(①会場アンケート集計結果_カーシェア!$H:$H,D40,①会場アンケート集計結果_カーシェア!$I:$I,E40)","v":0},{"$f":"COUNTIFS(①会場アンケート集計結果_カーシェア!$AP:$AP,0,①会場アンケート集計結果_カーシェア!$H:$H,D40,①会場アンケート集計結果_カーシェア!$I:$I,E40)","v":0},{"$error":"#DIV/0!"}]
[null,null,null,"女性","50代",null,{"$f":"COUNTIFS(①会場アンケート集計結果_カーシェア!$H:$H,D41,①会場アンケート集計結果_カーシェア!$I:$I,E41)","v":0},{"$f":"COUNTIFS(①会場アンケート集計結果_カーシェア!$AP:$AP,0,①会場アンケート集計結果_カーシェア!$H:$H,D41,①会場アンケート集計結果_カーシェア!$I:$I,E41)","v":0},{"$error":"#DIV/0!"}]
[null,null,null,"女性","60代",null,{"$f":"COUNTIFS(①会場アンケート集計結果_カーシェア!$H:$H,D42,①会場アンケート集計結果_カーシェア!$I:$I,E42)","v":0},{"$f":"COUNTIFS(①会場アンケート集計結果_カーシェア!$AP:$AP,0,①会場アンケート集計結果_カーシェア!$H:$H,D42,①会場アンケート集計結果_カーシェア!$I:$I,E42)","v":0},{"$error":"#DIV/0!"}]
[null,null,null,"女性","70代以上",null,{"$f":"COUNTIFS(①会場アンケート集計結果_カーシェア!$H:$H,D43,①会場アンケート集計結果_カーシェア!$I:$I,E43)","v":0},{"$f":"COUNTIFS(①会場アンケート集計結果_カーシェア!$AP:$AP,0,①会場アンケート集計結果_カーシェア!$H:$H,D43,①会場アンケート集計結果_カーシェア!$I:$I,E43)","v":0},{"$error":"#DIV/0!"}]
[null,null,null,"その他","その他",null,{"$f":"COUNTIFS(①会場アンケート集計結果_カーシェア!$H:$H,D44,①会場アンケート集計結果_カーシェア!$I:$I,\"<>\"&D45)","v":0},{"$f":"COUNTIFS(①会場アンケート集計結果_カーシェア!$AP:$AP,0,①会場アンケート集計結果_カーシェア!$H:$H,D44,①会場アンケート集計結果_カーシェア!$I:$I,\"<>\"&D45)","v":0},{"$error":"#DIV/0!"}]
[null,null,null,"未回答","未回答",null,{"$f":"COUNTIFS(①会場アンケート集計結果_カーシェア!$H:$H,D45,①会場アンケート集計結果_カーシェア!$I:$I,\"<>\")\n+COUNTIFS(①会場アンケート集計結果_カーシェア!$H:$H,\"<>\",①会場アンケート集計結果_カーシェア!$I:$I,E45)\n-COUNTIFS(①会場アンケート集計結果_カーシェア!$H:$H,D45,①会場アンケート集計結果_カーシェア!$I:$I,E45)","v":0},{"$f":"COUNTIFS(①会場アンケート集計結果_カーシェア!$AP:$AP,0,①会場アンケート集計結果_カーシェア!$H:$H,D45,①会場アンケート集計結果_カーシェア!$I:$I,\"<>\")\n+COUNTIFS(①会場アンケート集計結果_カーシェア!$AP:$AP,0,①会場アンケート集計結果_カーシェア!$H:$H,\"<>\",①会場アンケート集計結果_カーシェア!$I:$I,E45)\n-COUNTIFS(①会場アンケート集計結果_カーシェア!$AP:$AP,0,①会場アンケート集計結果_カーシェア!$H:$H,D45,①会場アンケート集計結果_カーシェア!$I:$I,E45)","v":0},{"$error":"#DIV/0!"},{"$f":"SUM(G37:G45,G29:G35)","v":0}]
[]
[]
[]
[null,"【設問2】現在のカーシェアの利用状況についてお聞かせください（1つ回答）。"]
[]
[null,null,null,null,null,null,null,null,null,"回答者数","有効回答者数","%"]
[null,"これまでのカーシェア実施状況",1,"利用している",null,null,null,null,null,{"$f":"COUNTIFS(①会場アンケート集計結果_カーシェア!$J$11:$J$2010,$C52)","v":0},{"$f":"COUNTIFS(①会場アンケート集計結果_カーシェア!$J$11:$J$2010,$C52,①会場アンケート集計結果_カーシェア!$AF$11:$AF$2010,0)","v":0},{"$f":"K52/$D$7","v":{"$error":"#DIV/0!"}}]
[null,null,2,"利用していないが、利用したいと思っている",null,null,null,null,null,{"$f":"COUNTIFS(①会場アンケート集計結果_カーシェア!$J$11:$J$2010,$C53)","v":0},{"$f":"COUNTIFS(①会場アンケート集計結果_カーシェア!$J$11:$J$2010,$C53,①会場アンケート集計結果_カーシェア!$AF$11:$AF$2010,0)","v":0},{"$error":"#DIV/0!"}]
[null,null,3,"利用しておらず、今後も利用したいと思わない",null,null,null,null,null,{"$f":"COUNTIFS(①会場アンケート集計結果_カーシェア!$J$11:$J$2010,$C54)","v":0},{"$f":"COUNTIFS(①会場アンケート集計結果_カーシェア!$J$11:$J$2010,$C54,①会場アンケート集計結果_カーシェア!$AF$11:$AF$2010,0)","v":0},{"$error":"#DIV/0!"}]
[null,null,4,"カーシェアを知らなかった",null,null,null,null,null,{"$f":"COUNTIFS(①会場アンケート集計結果_カーシェア!$J$11:$J$2010,$C55)","v":0},{"$f":"COUNTIFS(①会場アンケート集計結果_カーシェア!$J$11:$J$2010,$C55,①会場アンケート集計結果_カーシェア!$AF$11:$AF$2010,0)","v":0},{"$error":"#DIV/0!"}]
[null,null,5,"カーシェアを利用できない（自動車運転免許を持っていない、利用可能なカーシェアステーションがないなど）",null,null,null,null,null,{"$f":"COUNTIFS(①会場アンケート集計結果_カーシェア!$J$11:$J$2010,$C56)","v":0},{"$f":"COUNTIFS(①会場アンケート集計結果_カーシェア!$J$11:$J$2010,$C56,①会場アンケート集計結果_カーシェア!$AF$11:$AF$2010,0)","v":0},{"$error":"#DIV/0!"},"無効回答（対象外）"]
[null,null,99,"未回答",null,null,null,null,null,{"$f":"COUNTIFS(①会場アンケート集計結果_カーシェア!$J$11:$J$2010,$C57)","v":0},{"$f":"COUNTIFS(①会場アンケート集計結果_カーシェア!$J$11:$J$2010,$C57,①会場アンケート集計結果_カーシェア!$AF$11:$AF$2010,0)","v":0},{"$error":"#DIV/0!"}]
[null,null,null,null,null,null,null,"検算用","回答者数",{"$f":"SUM(J52:J57)","v":0}]
[null,null,null,null,null,null,null,null,"有効回答数",null,{"$f":"SUM(K52:K57)","v":0}]
[]
[]
[]
[]
[]
[]
[]
[]
[]
[]
[]
[]
[]
[]
[null,"【設問3】現在の車の保有台数についてお聞かせください。また、Q2でカーシェアを「利用している」を選択した方は、カーシェア実施前の車の保有台数についてもお聞かせください（数字を記入）。"]
[]
[null,null,null,null,"①現在の保有台数",null,"②利用前の保有台数",null,"②該当者人数"]
[null,null,null,null,"回答者数","%","回答者数","%",{"$f":"$K$52","v":0}]
[null,"車の保有台数",0,"0台",{"$f":"COUNTIFS(①会場アンケート集計結果_カーシェア!$L$11:$L$2010,$C78)","v":0},{"$f":"$E78/$D$7","v":{"$error":"#DIV/0!"}},{"$f":"COUNTIFS(①会場アンケート集計結果_カーシェア!$M$11:$M$2010,$C78,①会場アンケート集計結果_カーシェア!$AF$11:$AF$2010,0)","v":0},{"$f":"$G78/$K$52","v":{"$error":"#DIV/0!"}}]
[null,null,1,"1台",{"$f":"COUNTIFS(①会場アンケート集計結果_カーシェア!$L$11:$L$2010,$C79)","v":0},{"$f":"$E79/$D$7","v":{"$error":"#DIV/0!"}},{"$f":"COUNTIFS(①会場アンケート集計結果_カーシェア!$M$11:$M$2010,$C79,①会場アンケート集計結果_カーシェア!$AF$11:$AF$2010,0)","v":0},{"$f":"$G79/$K$52","v":{"$error":"#DIV/0!"}}]
[null,null,2,"2台",{"$f":"COUNTIFS(①会場アンケート集計結果_カーシェア!$L$11:$L$2010,$C80)","v":0},{"$error":"#DIV/0!"},{"$f":"COUNTIFS(①会場アンケート集計結果_カーシェア!$M$11:$M$2010,$C80,①会場アンケート集計結果_カーシェア!$AF$11:$AF$2010,0)","v":0},{"$f":"$G80/$K$52","v":{"$error":"#DIV/0!"}}]
[null,null,3,"3台",{"$f":"COUNTIFS(①会場アンケート集計結果_カーシェア!$L$11:$L$2010,$C81)","v":0},{"$error":"#DIV/0!"},{"$f":"COUNTIFS(①会場アンケート集計結果_カーシェア!$M$11:$M$2010,$C81,①会場アンケート集計結果_カーシェア!$AF$11:$AF$2010,0)","v":0},{"$error":"#DIV/0!"}]
[null,null,4,"4台以上",{"$f":"COUNTIFS(①会場アンケート集計結果_カーシェア!$L$11:$L$2010,\">=4\")","v":0},{"$f":"$E82/$D$7","v":{"$error":"#DIV/0!"}},{"$f":"COUNTIFS(①会場アンケート集計結果_カーシェア!$M$11:$M$2010,$C82,①会場アンケート集計結果_カーシェア!$AF$11:$AF$2010,0)","v":0},{"$error":"#DIV/0!"}]
[null,null,99,"未回答",{"$f":"COUNTIFS(①会場アンケート集計結果_カーシェア!$L$11:$L$2010,$C83)","v":0},{"$error":"#DIV/0!"},{"$f":"COUNTIFS(①会場アンケート集計結果_カーシェア!$M$11:$M$2010,$C83,①会場アンケート集計結果_カーシェア!$AF$11:$AF$2010,0)","v":0},{"$error":"#DIV/0!"}]
[]
[]
[null,null,null,null,null,"回答者数","%"]
[null,"①→②増減",1,"保有台数が増加",null,{"$f":"COUNTIF(①会場アンケート集計結果_カーシェア!$AE$11:$AE$2011,'②単純集計表 '!$C87)","v":0},{"$f":"$F87/$I$77","v":{"$error":"#DIV/0!"}}]
[null,null,2,"保有台数が減少",null,{"$f":"COUNTIF(①会場アンケート集計結果_カーシェア!$AE$11:$AE$2011,'②単純集計表 '!$C88)","v":0},{"$f":"$F88/$I$77","v":{"$error":"#DIV/0!"}}]
[null,null,3,"保有台数は不変",null,{"$f":"COUNTIF(①会場アンケート集計結果_カーシェア!$AE$11:$AE$2011,'②単純集計表 '!$C89)","v":0},{"$error":"#DIV/0!"}]
[null,null,null,null,null,"検算用",{"$f":"COUNTIF(①会場アンケート集計結果_カーシェア!$AE$11:$AE$2011,\">=1\")","v":0}]
[]
[]
[null,"【設問4】イベントに参加されて、カーシェアを利用したいと思いましたか（1つ回答）。"]
[]
[null,null,null,null,null,null,null,null,null,"回答者数","%"]
[null,"今後のカーシェア実施意向",1,"現在も利用しており、今後も利用したい",null,null,null,null,null,{"$f":"COUNTIFS(①会場アンケート集計結果_カーシェア!$AF$11:$AF$2010,0,①会場アンケート集計結果_カーシェア!$N$11:$N$2010,$C96)","v":0},{"$f":"J96/$D$7","v":{"$error":"#DIV/0!"}}]
[null,null,2,"これまでも利用したいと思っており、今後は実際に利用したい",null,null,null,null,null,{"$f":"COUNTIFS(①会場アンケート集計結果_カーシェア!$AF$11:$AF$2010,0,①会場アンケート集計結果_カーシェア!$N$11:$N$2010,$C97)","v":0},{"$f":"J97/$D$7","v":{"$error":"#DIV/0!"}}]
[null,null,3,"今後は利用したいと思うようになった",null,null,null,null,null,{"$f":"COUNTIFS(①会場アンケート集計結果_カーシェア!$AF$11:$AF$2010,0,①会場アンケート集計結果_カーシェア!$N$11:$N$2010,$C98)","v":0},{"$error":"#DIV/0!"}]
[null,null,4,"今後も利用したいとは思わない",null,null,null,null,null,{"$f":"COUNTIFS(①会場アンケート集計結果_カーシェア!$AF$11:$AF$2010,0,①会場アンケート集計結果_カーシェア!$N$11:$N$2010,$C99)","v":0},{"$error":"#DIV/0!"}]
[null,null,5,"わからない",null,null,null,null,null,{"$f":"COUNTIFS(①会場アンケート集計結果_カーシェア!$AF$11:$AF$2010,0,①会場アンケート集計結果_カーシェア!$N$11:$N$2010,$C100)","v":0},{"$error":"#DIV/0!"}]
[null,null,99,"未回答",null,null,null,null,null,{"$f":"COUNTIFS(①会場アンケート集計結果_カーシェア!$AF$11:$AF$2010,0,①会場アンケート集計結果_カーシェア!$N$11:$N$2010,$C101)","v":0},{"$error":"#DIV/0!"}]
[null,null,null,null,null,null,null,"検算用","有効回答数",{"$f":"SUM(J96:J101)","v":0}]
[]
[]
[]
[]
[]
[]
[]
[]
[]
[]
[]
[]
[]
[]
[]
[]
[]
[]
[]
[null,"【設問5】なぜ、カーシェアを利用していますか/利用したいと思いましたか（3つまで）。"]
[null,"※設問4で「現在も利用しており、今後も利用したい」「これまでも利用したいと思っており、今後は実際に利用したい」「今後は利用したいと思うようになった」と回答した人対象"]
[]
[null,null,null,null,null,null,null,null,null,"回答者数","%","設問5該当者"]
[null,"実施意向の理由",1,"CO2の削減に貢献するため",null,null,null,null,null,{"$f":"COUNTIFS(①会場アンケート集計結果_カーシェア!$AF$11:$AF$2010,0,①会場アンケート集計結果_カーシェア!$P$11:$P$2010,1,①会場アンケート集計結果_カーシェア!$AD$11:$AD$2010,1)","v":0},{"$f":"J126/$L$126","v":{"$error":"#DIV/0!"}},{"$f":"COUNTIFS(①会場アンケート集計結果_カーシェア!$AF$11:$AF$2010,0,①会場アンケート集計結果_カーシェア!$AD$11:$AD$2010,1)","v":0}]
[null,null,2,"これまでよりも維持費が節約できるなど経済的なメリットが期待できるため",null,null,null,null,null,{"$f":"COUNTIFS(①会場アンケート集計結果_カーシェア!$AF$11:$AF$2010,0,①会場アンケート集計結果_カーシェア!$Q$11:$Q$2010,1,①会場アンケート集計結果_カーシェア!$AD$11:$AD$2010,1)","v":0},{"$error":"#DIV/0!"}]
[null,null,3,"様々な車種の車に乗れるため",null,null,null,null,null,{"$f":"COUNTIFS(①会場アンケート集計結果_カーシェア!$AF$11:$AF$2010,0,①会場アンケート集計結果_カーシェア!$R$11:$R$2010,1,①会場アンケート集計結果_カーシェア!$AD$11:$AD$2010,1)","v":0},{"$error":"#DIV/0!"}]
[null,null,4,"車の利用頻度が低いため",null,null,null,null,null,{"$f":"COUNTIFS(①会場アンケート集計結果_カーシェア!$AF$11:$AF$2010,0,①会場アンケート集計結果_カーシェア!$S$11:$S$2010,1,①会場アンケート集計結果_カーシェア!$AD$11:$AD$2010,1)","v":0},{"$error":"#DIV/0!"}]
[null,null,5,"運転する家族が増えるなど、これまで持っている車の台数では足りなくなったため",null,null,null,null,null,{"$f":"COUNTIFS(①会場アンケート集計結果_カーシェア!$AF$11:$AF$2010,0,①会場アンケート集計結果_カーシェア!$T$11:$T$2010,1,①会場アンケート集計結果_カーシェア!$AD$11:$AD$2010,1)","v":0},{"$error":"#DIV/0!"}]
[null,null,6,"みんな（周りの人）がカーシェアを行っているため",null,null,null,null,null,{"$f":"COUNTIFS(①会場アンケート集計結果_カーシェア!$AF$11:$AF$2010,0,①会場アンケート集計結果_カーシェア!$U$11:$U$2010,1,①会場アンケート集計結果_カーシェア!$AD$11:$AD$2010,1)","v":0},{"$error":"#DIV/0!"}]
[null,null,7,"その他",null,null,null,null,null,{"$f":"COUNTIFS(①会場アンケート集計結果_カーシェア!$AF$11:$AF$2010,0,①会場アンケート集計結果_カーシェア!$V$11:$V$2010,1,①会場アンケート集計結果_カーシェア!$AD$11:$AD$2010,1)","v":0},{"$error":"#DIV/0!"}]
[null,null,9,"特に理由はない・なんとなく",null,null,null,null,null,{"$f":"COUNTIFS(①会場アンケート集計結果_カーシェア!$AF$11:$AF$2010,0,①会場アンケート集計結果_カーシェア!$X$11:$X$2010,1,①会場アンケート集計結果_カーシェア!$AD$11:$AD$2010,1)","v":0},{"$error":"#DIV/0!"}]
[null,null,99,"未回答",null,null,null,null,null,{"$f":"COUNTIFS(①会場アンケート集計結果_カーシェア!$AF$11:$AF$2010,0,①会場アンケート集計結果_カーシェア!$Y$11:$Y$2010,1,①会場アンケート集計結果_カーシェア!$AD$11:$AD$2010,1)","v":0},{"$error":"#DIV/0!"}]
[]
[]
[]
[]
[]
[]
[null,"【設問2、3】行動変容・意識変容"]
[]
[null,null,null,null,null,null,"回答者数","%","検算用"]
[null,"行動済み",null,null,null,null,{"$f":"SUM(L155:L156)","v":0},{"$f":"G144/$D$7","v":{"$error":"#DIV/0!"}}]
[null,"意識変容",null,null,null,null,{"$f":"SUM(L157:L159)","v":0},{"$f":"G145/$D$7","v":{"$error":"#DIV/0!"}}]
[null,"現状維持",null,null,null,null,{"$f":"SUM(L160:L163)","v":0},{"$error":"#DIV/0!"}]
[null,"マイナス変容",null,null,null,null,{"$f":"SUM(L164:L168)","v":0},{"$error":"#DIV/0!"}]
[null,"＜無効回答＞回答に矛盾があるため除外",null,null,null,null,{"$f":"SUM(L169:L174)","v":0},{"$error":"#DIV/0!"}]
[null,"＜無効回答＞対象外（自動車運転免許を持っていない、利用可能なカーシェアステーションがない等）",null,null,null,null,{"$f":"SUM(L175:L179)","v":0},{"$error":"#DIV/0!"},{"$f":"SUM(G144:G147)","v":0},"←有効回答"]
[null,"対象外（一部未回答）",null,null,null,null,{"$f":"SUM(L180:L189)","v":0},{"$error":"#DIV/0!"},{"$f":"SUM(G144:G150)","v":0}]
[]
[]
[null,"変容定義"]
[null,null,null,"イベント前",null,null,null,"今後",null,null,null,"回答者数"]
[null,"行動済み",null,1,"利用している",null,null,1,"現在も利用しており、今後も利用したい",null,null,{"$f":"COUNTIFS(①会場アンケート集計結果_カーシェア!$J$11:$J$5010,'②単純集計表 '!$D155,①会場アンケート集計結果_カーシェア!$N$11:$N$5010,'②単純集計表 '!$H155,①会場アンケート集計結果_カーシェア!$AF$11:$AF$5010,0)","v":0}]
[null,null,null,1,"利用している",null,null,99,"未回答",null,null,{"$f":"COUNTIFS(①会場アンケート集計結果_カーシェア!$J$11:$J$5010,'②単純集計表 '!$D156,①会場アンケート集計結果_カーシェア!$N$11:$N$5010,'②単純集計表 '!$H156,①会場アンケート集計結果_カーシェア!$AF$11:$AF$5010,0)","v":0}]
[null,"意識変容",null,2,"利用していないが、利用したいと思っている",null,null,2,"これまでも利用したいと思っており、今後は実際に利用したい",null,null,{"$f":"COUNTIFS(①会場アンケート集計結果_カーシェア!$J$11:$J$5010,'②単純集計表 '!$D157,①会場アンケート集計結果_カーシェア!$N$11:$N$5010,'②単純集計表 '!$H157,①会場アンケート集計結果_カーシェア!$AF$11:$AF$5010,0)","v":0}]
[null,null,null,3,"利用しておらず、今後も利用したいと思わない",null,null,3,"今後は利用したいと思うようになった",null,null,{"$f":"COUNTIFS(①会場アンケート集計結果_カーシェア!$J$11:$J$5010,'②単純集計表 '!$D158,①会場アンケート集計結果_カーシェア!$N$11:$N$5010,'②単純集計表 '!$H158,①会場アンケート集計結果_カーシェア!$AF$11:$AF$5010,0)","v":0}]
[null,null,null,4,"カーシェアを知らなかった",null,null,3,"今後は利用したいと思うようになった",null,null,{"$f":"COUNTIFS(①会場アンケート集計結果_カーシェア!$J$11:$J$5010,'②単純集計表 '!$D159,①会場アンケート集計結果_カーシェア!$N$11:$N$5010,'②単純集計表 '!$H159,①会場アンケート集計結果_カーシェア!$AF$11:$AF$5010,0)","v":0}]
[null,"現状維持",null,2,"利用していないが、利用したいと思っている",null,null,3,"今後は利用したいと思うようになった",null,null,{"$f":"COUNTIFS(①会場アンケート集計結果_カーシェア!$J$11:$J$5010,'②単純集計表 '!$D160,①会場アンケート集計結果_カーシェア!$N$11:$N$5010,'②単純集計表 '!$H160,①会場アンケート集計結果_カーシェア!$AF$11:$AF$5010,0)","v":0}]
[null,null,null,3,"利用しておらず、今後も利用したいと思わない",null,null,4,"今後も利用したいとは思わない",null,null,{"$f":"COUNTIFS(①会場アンケート集計結果_カーシェア!$J$11:$J$5010,'②単純集計表 '!$D161,①会場アンケート集計結果_カーシェア!$N$11:$N$5010,'②単純集計表 '!$H161,①会場アンケート集計結果_カーシェア!$AF$11:$AF$5010,0)","v":0}]
[null,null,null,3,"利用しておらず、今後も利用したいと思わない",null,null,5,"わからない",null,null,{"$f":"COUNTIFS(①会場アンケート集計結果_カーシェア!$J$11:$J$5010,'②単純集計表 '!$D162,①会場アンケート集計結果_カーシェア!$N$11:$N$5010,'②単純集計表 '!$H162,①会場アンケート集計結果_カーシェア!$AF$11:$AF$5010,0)","v":0}]
[null,null,null,4,"興味がなかった",null,null,5,"わからない",null,null,{"$f":"COUNTIFS(①会場アンケート集計結果_カーシェア!$J$11:$J$5010,'②単純集計表 '!$D163,①会場アンケート集計結果_カーシェア!$N$11:$N$5010,'②単純集計表 '!$H163,①会場アンケート集計結果_カーシェア!$AF$11:$AF$5010,0)","v":0}]
[null,"マイナス変容",null,1,"利用している",null,null,4,"今後も利用したいとは思わない",null,null,{"$f":"COUNTIFS(①会場アンケート集計結果_カーシェア!$J$11:$J$5010,'②単純集計表 '!$D164,①会場アンケート集計結果_カーシェア!$N$11:$N$5010,'②単純集計表 '!$H164,①会場アンケート集計結果_カーシェア!$AF$11:$AF$5010,0)","v":0}]
[null,null,null,2,"利用していないが、利用したいと思っている",null,null,4,"今後も利用したいとは思わない",null,null,{"$f":"COUNTIFS(①会場アンケート集計結果_カーシェア!$J$11:$J$5010,'②単純集計表 '!$D165,①会場アンケート集計結果_カーシェア!$N$11:$N$5010,'②単純集計表 '!$H165,①会場アンケート集計結果_カーシェア!$AF$11:$AF$5010,0)","v":0}]
[null,null,null,1,"利用している",null,null,5,"わからない",null,null,{"$f":"COUNTIFS(①会場アンケート集計結果_カーシェア!$J$11:$J$5010,'②単純集計表 '!$D166,①会場アンケート集計結果_カーシェア!$N$11:$N$5010,'②単純集計表 '!$H166,①会場アンケート集計結果_カーシェア!$AF$11:$AF$5010,0)","v":0}]
[null,null,null,2,"利用していないが、利用したいと思っている",null,null,5,"わからない",null,null,{"$f":"COUNTIFS(①会場アンケート集計結果_カーシェア!$J$11:$J$5010,'②単純集計表 '!$D167,①会場アンケート集計結果_カーシェア!$N$11:$N$5010,'②単純集計表 '!$H167,①会場アンケート集計結果_カーシェア!$AF$11:$AF$5010,0)","v":0}]
[null,null,null,3,"利用しておらず、今後も利用したいと思わない",null,null,4,"今後も利用したいとは思わない",null,null,{"$f":"COUNTIFS(①会場アンケート集計結果_カーシェア!$J$11:$J$5010,'②単純集計表 '!$D168,①会場アンケート集計結果_カーシェア!$N$11:$N$5010,'②単純集計表 '!$H168,①会場アンケート集計結果_カーシェア!$AF$11:$AF$5010,0)","v":0}]
[null,"<無効回答>\n回答に矛盾があるため除外",null,1,"利用している",null,null,2,"これまでも利用したいと思っており、今後は実際に利用したい",null,null,{"$f":"COUNTIFS(①会場アンケート集計結果_カーシェア!$J$11:$J$5010,'②単純集計表 '!$D169,①会場アンケート集計結果_カーシェア!$N$11:$N$5010,'②単純集計表 '!$H169,①会場アンケート集計結果_カーシェア!$AF$11:$AF$5010,0)","v":0}]
[null,null,null,1,"利用している",null,null,3,"今後は利用したいと思うようになった",null,null,{"$f":"COUNTIFS(①会場アンケート集計結果_カーシェア!$J$11:$J$5010,'②単純集計表 '!$D170,①会場アンケート集計結果_カーシェア!$N$11:$N$5010,'②単純集計表 '!$H170,①会場アンケート集計結果_カーシェア!$AF$11:$AF$5010,0)","v":0}]
[null,null,null,3,"利用しておらず、今後も利用したいと思わない",null,null,1,"現在も利用しており、今後も利用したい",null,null,{"$f":"COUNTIFS(①会場アンケート集計結果_カーシェア!$J$11:$J$5010,'②単純集計表 '!$D171,①会場アンケート集計結果_カーシェア!$N$11:$N$5010,'②単純集計表 '!$H171,①会場アンケート集計結果_カーシェア!$AF$11:$AF$5010,0)","v":0}]
[null,null,null,3,"利用しておらず、今後も利用したいと思わない",null,null,2,"これまでも利用したいと思っており、今後は実際に利用したい",null,null,{"$f":"COUNTIFS(①会場アンケート集計結果_カーシェア!$J$11:$J$5010,'②単純集計表 '!$D172,①会場アンケート集計結果_カーシェア!$N$11:$N$5010,'②単純集計表 '!$H172,①会場アンケート集計結果_カーシェア!$AF$11:$AF$5010,0)","v":0}]
[null,null,null,4,"カーシェアを知らなかった",null,null,1,"現在も利用しており、今後も利用したい",null,null,{"$f":"COUNTIFS(①会場アンケート集計結果_カーシェア!$J$11:$J$5010,'②単純集計表 '!$D173,①会場アンケート集計結果_カーシェア!$N$11:$N$5010,'②単純集計表 '!$H173,①会場アンケート集計結果_カーシェア!$AF$11:$AF$5010,0)","v":0}]
[null,null,null,4,"カーシェアを知らなかった",null,null,2,"これまでも利用したいと思っており、今後は実際に利用したい",null,null,{"$f":"COUNTIFS(①会場アンケート集計結果_カーシェア!$J$11:$J$5010,'②単純集計表 '!$D174,①会場アンケート集計結果_カーシェア!$N$11:$N$5010,'②単純集計表 '!$H174,①会場アンケート集計結果_カーシェア!$AF$11:$AF$5010,0)","v":0}]
[null,"＜無効回答＞\n対象外（自動車運転免許を持っていない、利用可能なカーシェアステーションがない等）",null,5,"カーシェアを利用できない",null,null,1,"現在も利用しており、今後も利用したい",null,null,{"$f":"COUNTIFS(①会場アンケート集計結果_カーシェア!$J$11:$J$5010,'②単純集計表 '!$D175,①会場アンケート集計結果_カーシェア!$N$11:$N$5010,'②単純集計表 '!$H175,①会場アンケート集計結果_カーシェア!$AF$11:$AF$5010,0)","v":0}]
[null,null,null,5,"カーシェアを利用できない",null,null,2,"これまでも利用したいと思っており、今後は実際に利用したい",null,null,{"$f":"COUNTIFS(①会場アンケート集計結果_カーシェア!$J$11:$J$5010,'②単純集計表 '!$D176,①会場アンケート集計結果_カーシェア!$N$11:$N$5010,'②単純集計表 '!$H176,①会場アンケート集計結果_カーシェア!$AF$11:$AF$5010,0)","v":0}]
[null,null,null,5,"カーシェアを利用できない",null,null,3,"今後は利用したいと思うようになった",null,null,{"$f":"COUNTIFS(①会場アンケート集計結果_カーシェア!$J$11:$J$5010,'②単純集計表 '!$D177,①会場アンケート集計結果_カーシェア!$N$11:$N$5010,'②単純集計表 '!$H177,①会場アンケート集計結果_カーシェア!$AF$11:$AF$5010,0)","v":0}]
[null,null,null,5,"カーシェアを利用できない",null,null,4,"今後も利用したいとは思わない",null,null,{"$f":"COUNTIFS(①会場アンケート集計結果_カーシェア!$J$11:$J$5010,'②単純集計表 '!$D178,①会場アンケート集計結果_カーシェア!$N$11:$N$5010,'②単純集計表 '!$H178,①会場アンケート集計結果_カーシェア!$AF$11:$AF$5010,0)","v":0}]
[null,null,null,5,"カーシェアを利用できない",null,null,5,"わからない",null,null,{"$f":"COUNTIFS(①会場アンケート集計結果_カーシェア!$J$11:$J$5010,'②単純集計表 '!$D179,①会場アンケート集計結果_カーシェア!$N$11:$N$5010,'②単純集計表 '!$H179,①会場アンケート集計結果_カーシェア!$AF$11:$AF$5010,0)","v":0}]
[null,"＜無効回答＞\n対象外（一部未回答）",null,99,"未回答",null,null,1,"現在も利用しており、今後も利用したい",null,null,{"$f":"COUNTIFS(①会場アンケート集計結果_カーシェア!$J$11:$J$5010,'②単純集計表 '!$D180,①会場アンケート集計結果_カーシェア!$N$11:$N$5010,'②単純集計表 '!$H180,①会場アンケート集計結果_カーシェア!$AF$11:$AF$5010,0)","v":0}]
[null,null,null,99,"未回答",null,null,2,"これまでも利用したいと思っており、今後は実際に利用したい",null,null,{"$f":"COUNTIFS(①会場アンケート集計結果_カーシェア!$J$11:$J$5010,'②単純集計表 '!$D181,①会場アンケート集計結果_カーシェア!$N$11:$N$5010,'②単純集計表 '!$H181,①会場アンケート集計結果_カーシェア!$AF$11:$AF$5010,0)","v":0}]
[null,null,null,99,"未回答",null,null,3,"今後は利用したいと思うようになった",null,null,{"$f":"COUNTIFS(①会場アンケート集計結果_カーシェア!$J$11:$J$5010,'②単純集計表 '!$D182,①会場アンケート集計結果_カーシェア!$N$11:$N$5010,'②単純集計表 '!$H182,①会場アンケート集計結果_カーシェア!$AF$11:$AF$5010,0)","v":0}]
[null,null,null,99,"未回答",null,null,4,"今後も利用したいとは思わない",null,null,{"$f":"COUNTIFS(①会場アンケート集計結果_カーシェア!$J$11:$J$5010,'②単純集計表 '!$D183,①会場アンケート集計結果_カーシェア!$N$11:$N$5010,'②単純集計表 '!$H183,①会場アンケート集計結果_カーシェア!$AF$11:$AF$5010,0)","v":0}]
[null,null,null,99,"未回答",null,null,5,"わからない",null,null,{"$f":"COUNTIFS(①会場アンケート集計結果_カーシェア!$J$11:$J$5010,'②単純集計表 '!$D184,①会場アンケート集計結果_カーシェア!$N$11:$N$5010,'②単純集計表 '!$H184,①会場アンケート集計結果_カーシェア!$AF$11:$AF$5010,0)","v":0}]
[null,null,null,99,"未回答",null,null,99,"未回答",null,null,{"$f":"COUNTIFS(①会場アンケート集計結果_カーシェア!$J$11:$J$5010,'②単純集計表 '!$D185,①会場アンケート集計結果_カーシェア!$N$11:$N$5010,'②単純集計表 '!$H185,①会場アンケート集計結果_カーシェア!$AF$11:$AF$5010,0)","v":0}]
[null,null,null,2,"利用していないが、利用したいと思っている",null,null,99,"未回答",null,null,{"$f":"COUNTIFS(①会場アンケート集計結果_カーシェア!$J$11:$J$5010,'②単純集計表 '!$D186,①会場アンケート集計結果_カーシェア!$N$11:$N$5010,'②単純集計表 '!$H186,①会場アンケート集計結果_カーシェア!$AF$11:$AF$5010,0)","v":0}]
[null,null,null,3,"利用しておらず、今後も利用したいと思わない",null,null,99,"未回答",null,null,{"$f":"COUNTIFS(①会場アンケート集計結果_カーシェア!$J$11:$J$5010,'②単純集計表 '!$D187,①会場アンケート集計結果_カーシェア!$N$11:$N$5010,'②単純集計表 '!$H187,①会場アンケート集計結果_カーシェア!$AF$11:$AF$5010,0)","v":0}]
[null,null,null,4,"カーシェアを知らなかった",null,null,99,"未回答",null,null,{"$f":"COUNTIFS(①会場アンケート集計結果_カーシェア!$J$11:$J$5010,'②単純集計表 '!$D188,①会場アンケート集計結果_カーシェア!$N$11:$N$5010,'②単純集計表 '!$H188,①会場アンケート集計結果_カーシェア!$AF$11:$AF$5010,0)","v":0}]
[null,null,null,5,"カーシェアを利用できない",null,null,99,"未回答",null,null,{"$f":"COUNTIFS(①会場アンケート集計結果_カーシェア!$J$11:$J$5010,'②単純集計表 '!$D189,①会場アンケート集計結果_カーシェア!$N$11:$N$5010,'②単純集計表 '!$H189,①会場アンケート集計結果_カーシェア!$AF$11:$AF$5010,0)","v":0}]
[null,null,null,null,null,null,null,null,null,null,"＜検算用＞"]
[null,null,null,null,null,null,null,null,null,null,"有効回答（無効回答・対象外を除く）⇒",{"$f":"SUM(L155:L168)","v":0}]
[null,null,null,null,null,null,null,null,null,null,"アンケート回収数⇒",{"$f":"SUM(L155:L189)","v":0}]

{"sheet":"参照⇒","index":5,"n_rows":0,"n_cols":0,"rows_kept":0,"cut":false,"hidden":false,"merged":[]}

{"sheet":"読み替え表_カーシェア","index":6,"n_rows":59,"n_cols":17,"rows_kept":59,"cut":false,"hidden":false,"merged":[[32,4,32,7],[31,4,31,7],[30,4,30,7],[30,10,30,14],[31,10,31,14],[32,10,32,14],[41,4,41,7],[35,10,35,14],[35,4,35,7],[34,4,34,7],[33,4,33,7],[33,10,33,14],[34,10,34,14],[36,4,36,7],[37,4,37,7],[38,4,38,7],[39,4,39,7],[40,4,40,7],[42,4,42,7],[43,4,43,7],[44,4,44,7],[45,4,45,7],[46,4,46,7],[50,4,50,7],[48,10,48,14],[49,10,49,14],[50,10,50,14],[47,4,47,7],[51,4,51,7],[51,10,51,14],[45,10,45,14],[36,10,36,14],[37,10,37,14],[38,10,38,14],[39,10,39,14],[40,10,40,14],[41,10,41,14],[42,10,42,14],[43,10,43,14],[44,10,44,14],[46,10,46,14],[47,10,47,14],[48,4,48,7],[49,4,49,7]]}
[]
[null,"・これまでのカーシェア利用状況について"]
[null,null,1,"利用している"]
[null,null,2,"利用していないが、利用したいと思っている"]
[null,null,3,"利用しておらず、今後も利用したいと思わない"]
[null,null,4,"カーシェアを知らなかった"]
[null,null,5,"カーシェアを利用できない（自動車運転免許を持っていない、利用可能なカーシェアステーションがないなど）"]
[null,null,99,"未回答"]
[]
[null,"・今後のカーシェア利用意向について"]
[null,null,1,"現在も利用しており、今後も利用したい"]
[null,null,2,"これまでも利用したいと思っており、今後は実際に利用したい"]
[null,null,3,"今後は利用したいと思うようになった"]
[null,null,4,"今後も利用したいとは思わない"]
[null,null,5,"わからない"]
[null,null,99,"未回答"]
[]
[null,"・実施意向の理由について"]
[null,null,1,"CO2の削減に貢献するため"]
[null,null,2,"これまでよりも維持費が節約できるなど経済的なメリットが期待できるため"]
[null,null,3,"様々な車種の車に乗れるため"]
[null,null,4,"車の利用頻度が低いため"]
[null,null,5,"運転する家族が増えるなど、これまで持っている車の台数では足りなくなったため"]
[null,null,6,"みんな（周りの人）がカーシェアを行っているため"]
[null,null,7,"その他"]
[null,null,8,"特に理由はない・なんとなく"]
[null,null,99,"未回答"]
[]
[null,"・無効回答の定義：回答に矛盾があるため除外"]
[]
[null,null,null,"Q2の回答","普及啓発前（読替）",null,null,null,null,"Q3の回答","普及啓発後",null,null,null,null,"エラー参照用フラグ"]
[null,null,{"$f":"$D32&\"/\"&$J32","v":"1/2"},1,"利用している",null,null,null,"⇒",2,"これまでも利用したいと思っており、今後は実際に利用したい",null,null,null,null,"1/2","※普及啓発前（アンケート回答時点）に「常に行っている」と回答しているにもかかわらず、普及啓発直後（アンケート回答時点）に常に行って「いない」と回答している"]
[null,null,{"$f":"$D33&\"/\"&$J33","v":"1/3"},1,"利用している",null,null,null,"⇒",3,"今後は利用したいと思うようになった",null,null,null,null,"1/3","※普及啓発前（アンケート回答時点）に「常に行っている」と回答しているにもかかわらず、普及啓発直後（アンケート回答時点）に常に行って「いない」と回答している"]
[null,null,"3/1",3,"利用しておらず、今後も利用したいと思わない",null,null,null,"⇒",1,"現在も利用しており、今後も利用したい",null,null,null,null,"3/1","※普及啓発前（アンケート回答時点）に「常に行っている」と回答していないにもかかわらず、普及啓発直後（アンケート回答時点）に「常に行っている」と回答している"]
[null,null,"3/2",3,"利用しておらず、今後も利用したいと思わない",null,null,null,"⇒",2,"これまでも利用したいと思っており、今後は実際に利用したい",null,null,null,null,"3/2","※普及啓発前（アンケート回答時点）に「利用したいと思わない」と回答しているにもかかわらず、普及啓発直後（アンケート回答時点）に「利用したいと思っている」と回答している"]
[null,null,"4/1",4,"カーシェアを知らなかった",null,null,null,"⇒",1,"現在も利用しており、今後も利用したい",null,null,null,null,"4/1","※普及啓発前（アンケート回答時点）に「知らなかった」と回答しているにもかかわらず、普及啓発直後（アンケート回答時点）に「利用している」と回答している"]
[null,null,"4/2",4,"カーシェアを知らなかった",null,null,null,"⇒",2,"これまでも利用したいと思っており、今後は実際に利用したい",null,null,null,null,"4/2","※普及啓発前（アンケート回答時点）に「知らなかった」と回答しているにもかかわらず、普及啓発直後（アンケート回答時点）に「利用したいと思っている」と回答している"]
[null,null,"5/1",5,"カーシェアを利用できない",null,null,null,"⇒",1,"現在も利用しており、今後も利用したい",null,null,null,null,"5/1","※自動車運転免許を持っていないなど、自動車を利用しないため"]
[null,null,"5/2",5,"カーシェアを利用できない",null,null,null,"⇒",2,"これまでも利用したいと思っており、今後は実際に利用したい",null,null,null,null,"5/2","※自動車運転免許を持っていないなど、自動車を利用しないため"]
[null,null,"5/3",5,"カーシェアを利用できない",null,null,null,"⇒",3,"今後は利用したいと思うようになった",null,null,null,null,"5/3","※自動車運転免許を持っていないなど、自動車を利用しないため"]
[null,null,"5/4",5,"カーシェアを利用できない",null,null,null,"⇒",4,"今後も利用したいとは思わない",null,null,null,null,"5/4","※自動車運転免許を持っていないなど、自動車を利用しないため"]
[null,null,"5/5",5,"カーシェアを利用できない",null,null,null,"⇒",5,"わからない",null,null,null,null,"5/5","※自動車運転免許を持っていないなど、自動車を利用しないため"]
[null,null,"99/1",99,"未回答",null,null,null,"⇒",1,"現在も利用しており、今後も利用したい",null,null,null,null,"99/1","※一部設問が未回答であり、普及啓発効果が測定できないため"]
[null,null,"99/2",99,"未回答",null,null,null,"⇒",2,"これまでも利用したいと思っており、今後は実際に利用したい",null,null,null,null,"99/2","※一部設問が未回答であり、普及啓発効果が測定できないため"]
[null,null,"99/3",99,"未回答",null,null,null,"⇒",3,"今後は利用したいと思うようになった",null,null,null,null,"99/3","※一部設問が未回答であり、普及啓発効果が測定できないため"]
[null,null,"99/4",99,"未回答",null,null,null,"⇒",4,"今後も利用したいとは思わない",null,null,null,null,"99/4","※一部設問が未回答であり、普及啓発効果が測定できないため"]
[null,null,"99/5",99,"未回答",null,null,null,"⇒",5,"わからない",null,null,null,null,"99/5","※一部設問が未回答であり、普及啓発効果が測定できないため"]
[null,null,"99/99",99,"未回答",null,null,null,"⇒",99,"未回答",null,null,null,null,"99/99","※一部設問が未回答であり、普及啓発効果が測定できないため"]
[null,null,"2/99",2,"利用していないが、利用したいと思っている",null,null,null,"⇒",99,"未回答",null,null,null,null,"2/99","※一部設問が未回答であり、普及啓発効果が測定できないため"]
[null,null,"3/99",3,"利用しておらず、今後も利用したいと思わない",null,null,null,"⇒",99,"未回答",null,null,null,null,"3/99","※一部設問が未回答であり、普及啓発効果が測定できないため"]
[null,null,"4/99",4,"カーシェアを知らなかった",null,null,null,"⇒",99,"未回答",null,null,null,null,"4/99","※一部設問が未回答であり、普及啓発効果が測定できないため"]
[null,null,{"$f":"$D52&\"/\"&$J52","v":"5/99"},5,"カーシェアを利用できない",null,null,null,null,99,"未回答",null,null,null,null,"5/99","※一部設問が未回答であり、普及啓発効果が測定できないため"]
[]
[]
[]
[null,"◆","アンケート配布状況オプション"]
[null,null,"普及啓発活動の実施前"]
[null,null,"普及啓発活動の実施直後"]
[null,null,"普及啓発活動実施の数日後"]