{"text_format":"1","workbook":"xlsx","n_sheets":7,"sheets":["入力手順","ローデータ⇒","①会場アンケート集計結果_クールビズ","集計結果⇒","②単純集計表 ","参照⇒","読み替え表_クールビズ"],"not_rendered":{"charts":8,"images":0,"macros":1,"external_links":0,"defined_names":2,"comments":1,"pivot_tables":0},"unopened":[],"bounds":{"document_bytes":16777216,"sheet_cells":100000,"rows_first":2000,"rows_last":500,"rows_between":2000,"halvings":0,"cell_chars":16384,"cell_head_chars":4096},"cells_cut":0,"cells_raw":0,"read":"whole","date_system":"1900"}

{"sheet":"入力手順","index":0,"n_rows":27,"n_cols":4,"rows_kept":27,"cut":false,"hidden":false,"merged":[[7,3,7,11],[16,3,16,11],[17,3,17,11],[8,3,8,11],[9,3,9,11],[10,3,10,11],[11,3,11,11],[14,3,14,11],[15,3,15,11],[13,3,13,11],[12,3,12,11]]}
[]
[null,"会場アンケート入力ツール　シート構成・入力手順--------------------------------------------"]
[null,"◆クールビズ"]
[]
[null,"①「会場アンケート集計結果_クールビズ」シート【要入力】"]
[null,"・講演会・イベント等で回収されたアンケート調査票を入力する（データ化する）ツール"]
[null,"＜手順＞"]
[null,null,"①","「会場アンケート情報」の黄色セル欄に事業者番号、PDCAシート記載の事業番号、実施日、実施場所、アンケート配布状況を記入する"]
[null,null,"②","「表示」をクリックし、入力フォームを表示させる"]
[null,null,"③","「入力行」にアンケート結果の入力を開始する行番号を入力する（添付エクセルの場合は11行目から開始）"]
[null,null,"④","都道府県名、事業者名、アンケートを実施したイベント名、アンケート回収日付をそれぞれの欄に記入する"]
[null,null,"⑤"," 性別・年齢・職業は入力フォームにしたがって選択する"]
[null,null,"⑥","「出社状況」は回答と一致するものを選択する"]
[null,null,"⑦","「２．これまでのクールビズ実施状況について」は回答と一致するものを選択する"]
[null,null,"⑧","「３．今後のクールビズ実施意向について」は回答と一致するものを選択する"]
[null,null,"⑨","「4．実施意向の理由について」は回答と一致するものを選択する"]
[null,null,"⑩","「５．追跡アンケートへのご協力のお願い（メールアドレス）」では、アンケート下部を確認し、まずメールアドレスの有無を選択する。メールアドレスの記入があった場合は、メールアドレスを記入する"]
[null,null,"⑪","すべての入力が終わったら「【データ入力】」をクリック"]
[]
[]
[null,"②「単純集計表」シート"]
[null,"・「会場アンケート集計結果_クールビズ」シートに入力されたデータを簡易的に集計したものである"]
[null,"・来場者の性別・年代別構成比、出社状況、現在のクールビズ実施状況、実施意向及び理由を把握可能"]
[]
[null,"③「読み替え表_クールビズ」シート"]
[null,"・本ファイルではアンケートの回答結果をデータ処理のため数字で代替している箇所がある"]
[null,"・その際のアンケート回答選択肢と数字の置換関係をまとめたシートである"]

{"sheet":"ローデータ⇒","index":1,"n_rows":0,"n_cols":0,"rows_kept":0,"cut":false,"hidden":false,"merged":[]}

{"sheet":"①会場アンケート集計結果_クールビズ","index":2,"n_rows":2011,"n_cols":44,"rows_kept":2011,"cut":false,"hidden":false,"merged":[[2,6,2,8],[7,17,7,18],[6,17,6,18],[6,19,6,27],[7,19,7,27],[7,7,7,8],[7,9,7,10],[6,28,6,30],[7,28,7,30],[6,7,6,10],[6,11,6,12],[7,11,7,12],[6,13,6,16],[7,13,7,16]]}
[null,null,{"$f":"COLUMN()","v":3},{"$f":"COLUMN()","v":4},{"$f":"COLUMN()","v":5},{"$f":"COLUMN()","v":6},{"$f":"COLUMN()","v":7},{"$f":"COLUMN()","v":8},{"$f":"COLUMN()","v":9},{"$f":"COLUMN()","v":10},{"$f":"COLUMN()","v":11},{"$f":"COLUMN()","v":12},{"$f":"COLUMN()","v":13},{"$f":"COLUMN()","v":14},{"$f":"COLUMN()","v":15},{"$f":"COLUMN()","v":16},{"$f":"COLUMN()","v":17},{"$f":"COLUMN()","v":18},{"$f":"COLUMN()","v":19},{"$f":"COLUMN()","v":20},{"$f":"COLUMN()","v":21},{"$f":"COLUMN()","v":22},{"$f":"COLUMN()","v":23},{"$f":"COLUMN()","v":24},{"$f":"COLUMN()","v":25},{"$f":"COLUMN()","v":26},{"$f":"COLUMN()","v":27},{"$f":"COLUMN()","v":28},{"$f":"COLUMN()","v":29},{"$f":"COLUMN()","v":30},{"$f":"COLUMN()","v":31},{"$f":"COLUMN()","v":32},{"$f":"COLUMN()","v":33},{"$f":"COLUMN()","v":34},{"$f":"COLUMN()","v":35},{"$f":"COLUMN()","v":36},{"$f":"COLUMN()","v":37},{"$f":"COLUMN()","v":38},{"$f":"COLUMN()","v":39},{"$f":"COLUMN()","v":40},{"$f":"COLUMN()","v":41},{"$f":"COLUMN()","v":42},{"$f":"COLUMN()","v":43},{"$f":"COLUMN()","v":44}]
[null,95,null,"【会場アンケート情報】"]
[null,null,null,"事業者番号","PDCAシート記載の事業番号","イベント名\n（PDCAシート記載の名称）","講演会・イベント　実施日",null,null,"実施場所","アンケート配布状況\n（どのタイミングでアンケートを実施したか）","アンケート\n回収数","ﾒｰﾙｱﾄﾞﾚｽ\n回収数"]
[null,null,null,null,null,{"$f":"$F$11&\"\"","v":""},"2021/XX/XX","～","2022/XX/XX",null,null,{"$f":"COUNTA($F$11:$F$2010)","v":0},{"$f":"COUNTIF($AC$11:$AC$2010,1)","v":0}]
[null,null,null,null,null,null,null,null,null,null,"↑プルダウンメニューから選択してください"]
[]
[null,null,null,null,null,null,null,"１．あなたご自身について",null,null,null,"２．出社状況",null,"３．これまでのクールビズ実施状況について",null,null,null,"４．今後のクールビズ実施意向について",null,"５．実施意向の理由について",null,null,null,null,null,null,null,null,"５．追跡アンケートへのご協力のお願い（メールアドレス）",null,null,null,null,null,null,null,null,null,null,null,"*"]
[null,null,null,"事業者情報",null,"イベント情報",null,"性別・年代",null,"職業",null,"現在の就業場所についてお聞かせください",null,"現在のクールビズ（就業時における冷房温度緩和（室温28℃）、その温度に適した軽装等）の実施状況についてお聞かせください。",null,null,null," イベントに参加されて、クールビズを実施したいと思いましたか（1つ回答）。",null,"なぜ、クールビズを実施していますか/実施したいと思いましたか（3つまで）。",null,null,null,null,null,null,null,null,"メールアドレス",null,null,null,null,null,null,null,null,null,null,null,"*"]
[null,null,"#","都道府県","事業者名","イベント名\n（PDCAシート記載の名称）","回収日付","性別","年代","#","職業","#","回答","職場\n#","職場\n回答","自宅\n#","自宅\n回答","#","回答","CO2の削減に貢献する","電気代が安くなる","快適になる","会社で推奨されている","みんながクールビズを行っている","その他","その他（）","特に理由はない・なんとなく","未回答","記入\n有無","メールアドレス（@より前）","ドメイン","特定ID","職業有効回答フラグ","Q5回答者フラグ","Q3職場無効回答フラグ","Q3自宅無効回答フラグ","職場意識変容フラグ","自宅意識変容フラグ","どちらか意識変容フラグ","error"]
[null,null,null,null,null,null,null,null,null,null,null,null,null,null,null,null,null,null,null,1,2,3,4,5,6,7,8,99,null,null,null,null,null,null,null,null,null,null,null,null,"*"]
[null,null,{"$f":"ROW()-10","v":1},null,null,null,null,null,null,null,null,null,null,null,null,null,null,null,null,null,null,null,null,null,null,null,null,null,null,null,null,null,{"$f":"IF($J11=\"\",\"\",IF(AND($J11>=1,$J11<=9),1,0))","v":""},{"$f":"IF($R11=\"\",\"\",IF(OR($R11=1,$R11=2,$R11=3),1,0))","v":""},{"$f":"IF($N11=\"\",\"\",IFERROR(IF(N11=6,1,IF(MATCH(N11&\"/\"&R11,読み替え表_クールビズ!$P$38:$P$59,0),1,0)),0))","v":""},{"$f":"IF($P11=\"\",\"\",IFERROR(IF(P11=6,1,IF(MATCH(P11&\"/\"&R11,読み替え表_クールビズ!$P$38:$P$59,0),1,0)),0))","v":""},{"$f":"IF($N11=\"\",\"\",IF(OR(CONCATENATE(N11,$R11)=\"22\",CONCATENATE(N11,$R11)=\"32\",CONCATENATE(N11,$R11)=\"42\",CONCATENATE(N11,$R11)=\"43\",CONCATENATE(N11,$R11)=\"51\",CONCATENATE(N11,$R11)=\"52\",CONCATENATE(N11,$R11)=\"53\"),1,0))","v":""},{"$f":"IF($P11=\"\",\"\",IF(OR(CONCATENATE(P11,$R11)=\"22\",CONCATENATE(P11,$R11)=\"32\",CONCATENATE(P11,$R11)=\"42\",CONCATENATE(P11,$R11)=\"43\",CONCATENATE(P11,$R11)=\"51\",CONCATENATE(P11,$R11)=\"52\",CONCATENATE(P11,$R11)=\"53\"),1,0))","v":""},{"$f":"IF(OR(AK11=1,AL11=1),1,0)","v":0},{"$f":"IF(OR($AG11=0,SUM(AI11:AJ11)=2),1,0)","v":0},"*"]
[null,null,2,null,null,null,null,null,null,null,null,null,null,null,null,null,null,null,null,null,null,null,null,null,null,null,null,null,null,null,null,null,{"$f":"IF($J12=\"\",\"\",IF(AND($J12>=1,$J12<=9),1,0))","v":""},{"$f":"IF($R12=\"\",\"\",IF(OR($R12=1,$R12=2,$R12=3),1,0))","v":""},{"$f":"IF($N12=\"\",\"\",IFERROR(IF(N12=6,1,IF(MATCH(N12&\"/\"&R12,読み替え表_クールビズ!$P$38:$P$59,0),1,0)),0))","v":""},{"$f":"IF($P12=\"\",\"\",IFERROR(IF(P12=6,1,IF(MATCH(P12&\"/\"&R12,読み替え表_クールビズ!$P$38:$P$59,0),1,0)),0))","v":""},"","",{"$f":"IF(OR(AK12=1,AL12=1),1,0)","v":0},{"$f":"IF(OR($AG12=0,SUM(AI12:AJ12)=2),1,0)","v":0},"*"]
[null,null,3,null,null,null,null,null,null,null,null,null,null,null,null,null,null,null,null,null,null,null,null,null,null,null,null,null,null,null,null,null,"","",{"$f":"IF($N13=\"\",\"\",IFERROR(IF(N13=6,1,IF(MATCH(N13&\"/\"&R13,読み替え表_クールビズ!$P$38:$P$59,0),1,0)),0))","v":""},{"$f":"IF($P13=\"\",\"\",IFERROR(IF(P13=6,1,IF(MATCH(P13&\"/\"&R13,読み替え表_クールビズ!$P$38:$P$59,0),1,0)),0))","v":""},"","",0,0,"*"]
[null,null,4,null,null,null,null,null,null,null,null,null,null,null,null,null,null,null,null,null,null,null,null,null,null,null,null,null,null,null,null,null,"","",{"$f":"IF($N14=\"\",\"\",IFERROR(IF(N14=6,1,IF(MATCH(N14&\"/\"&R14,読み替え表_クールビズ!$P$38:$P$59,0),1,0)),0))","v":""},{"$f":"IF($P14=\"\",\"\",IFERROR(IF(P14=6,1,IF(MATCH(P14&\"/\"&R14,読み替え表_クールビズ!$P$38:$P$59,0),1,0)),0))","v":""},"","",0,0,"*"]
[null,null,5,null,null,null,null,null,null,null,null,null,null,null,null,null,null,null,null,null,null,null,null,null,null,null,null,null,null,null,null,null,"","",{"$f":"IF($N15=\"\",\"\",IFERROR(IF(N15=6,1,IF(MATCH(N15&\"/\"&R15,読み替え表_クールビズ!$P$38:$P$59,0),1,0)),0))","v":""},{"$f":"IF($P15=\"\",\"\",IFERROR(IF(P15=6,1,IF(MATCH(P15&\"/\"&R15,読み替え表_クールビズ!$P$38:$P$59,0),1,0)),0))","v":""},"","",0,0,"*"]
[null,null,6,null,null,null,null,null,null,null,null,null,null,null,null,null,null,null,null,null,null,null,null,null,null,null,null,null,null,null,null,null,"","",{"$f":"IF($N16=\"\",\"\",IFERROR(IF(N16=6,1,IF(MATCH(N16&\"/\"&R16,読み替え表_クールビズ!$P$38:$P$59,0),1,0)),0))","v":""},{"$f":"IF($P16=\"\",\"\",IFERROR(IF(P16=6,1,IF(MATCH(P16&\"/\"&R16,読み替え表_クールビズ!$P$38:$P$59,0),1,0)),0))","v":""},"","",0,0,"*"]
[null,null,7,null,null,null,null,null,null,null,null,null,null,null,null,null,null,null,null,null,null,null,null,null,null,null,null,null,null,null,null,null,"","",{"$f":"IF($N17=\"\",\"\",IFERROR(IF(N17=6,1,IF(MATCH(N17&\"/\"&R17,読み替え表_クールビズ!$P$38:$P$59,0),1,0)),0))","v":""},{"$f":"IF($P17=\"\",\"\",IFERROR(IF(P17=6,1,IF(MATCH(P17&\"/\"&R17,読み替え表_クールビズ!$P$38:$P$59,0),1,0)),0))","v":""},"","",0,0,"*"]
[null,null,{"$f":"ROW()-10","v":8},null,null,null,null,null,null,null,null,null,null,null,null,null,null,null,null,null,null,null,null,null,null,null,null,null,null,null,null,null,"","",{"$f":"IF($N18=\"\",\"\",IFERROR(IF(N18=6,1,IF(MATCH(N18&\"/\"&R18,読み替え表_クールビズ!$P$38:$P$59,0),1,0)),0))","v":""},{"$f":"IF($P18=\"\",\"\",IFERROR(IF(P18=6,1,IF(MATCH(P18&\"/\"&R18,読み替え表_クールビズ!$P$38:$P$59,0),1,0)),0))","v":""},"","",0,0,"*"]
[null,null,{"$f":"ROW()-10","v":9},null,null,null,null,null,null,null,null,null,null,null,null,null,null,null,null,null,null,null,null,null,null,null,null,null,null,null,null,null,"","",{"$f":"IF($N19=\"\",\"\",IFERROR(IF(N19=6,1,IF(MATCH(N19&\"/\"&R19,読み替え表_クールビズ!$P$38:$P$59,0),1,0)),0))","v":""},{"$f":"IF($P19=\"\",\"\",IFERROR(IF(P19=6,1,IF(MATCH(P19&\"/\"&R19,読み替え表_クールビズ!$P$38:$P$59,0),1,0)),0))","v":""},"","",0,0,"*"]
[null,null,{"$f":"ROW()-10","v":10},null,null,null,null,null,null,null,null,null,null,null,null,null,null,null,null,null,null,null,null,null,null,null,null,null,null,null,null,null,"","",{"$f":"IF($N20=\"\",\"\",IFERROR(IF(N20=6,1,IF(MATCH(N20&\"/\"&R20,読み替え表_クールビズ!$P$38:$P$59,0),1,0)),0))","v":""},{"$f":"IF($P20=\"\",\"\",IFERROR(IF(P20=6,1,IF(MATCH(P20&\"/\"&R20,読み替え表_クールビズ!$P$38:$P$59,0),1,0)),0))","v":""},"","",0,0,"*"]
[null,null,{"$f":"ROW()-10","v":11},null,null,null,null,null,null,null,null,null,null,null,null,null,null,null,null,null,null,null,null,null,null,null,null,null,null,null,null,null,"","",{"$f":"IF($N21=\"\",\"\",IFERROR(IF(N21=6,1,IF(MATCH(N21&\"/\"&R21,読み替え表_クールビズ!$P$38:$P$59,0),1,0)),0))","v":""},{"$f":"IF($P21=\"\",\"\",IFERROR(IF(P21=6,1,IF(MATCH(P21&\"/\"&R21,読み替え表_クールビズ!$P$38:$P$59,0),1,0)),0))","v":""},"","",0,0,"*"]
[null,null,12,null,null,null,null,null,null,null,null,null,null,null,null,null,null,null,null,null,null,null,null,null,null,null,null,null,null,null,null,null,"","",{"$f":"IF($N22=\"\",\"\",IFERROR(IF(N22=6,1,IF(MATCH(N22&\"/\"&R22,読み替え表_クールビズ!$P$38:$P$59,0),1,0)),0))","v":""},{"$f":"IF($P22=\"\",\"\",IFERROR(IF(P22=6,1,IF(MATCH(P22&\"/\"&R22,読み替え表_クールビズ!$P$38:$P$59,0),1,0)),0))","v":""},"","",0,0,"*"]
[null,null,13,null,null,null,null,null,null,null,null,null,null,null,null,null,null,null,null,null,null,null,null,null,null,null,null,null,null,null,null,null,"","",{"$f":"IF($N23=\"\",\"\",IFERROR(IF(N23=6,1,IF(MATCH(N23&\"/\"&R23,読み替え表_クールビズ!$P$38:$P$59,0),1,0)),0))","v":""},{"$f":"IF($P23=\"\",\"\",IFERROR(IF(P23=6,1,IF(MATCH(P23&\"/\"&R23,読み替え表_クールビズ!$P$38:$P$59,0),1,0)),0))","v":""},"","",0,0,"*"]
[null,null,14,null,null,null,null,null,null,null,null,null,null,null,null,null,null,null,null,null,null,null,null,null,null,null,null,null,null,null,null,null,"","",{"$f":"IF($N24=\"\",\"\",IFERROR(IF(N24=6,1,IF(MATCH(N24&\"/\"&R24,読み替え表_クールビズ!$P$38:$P$59,0),1,0)),0))","v":""},{"$f":"IF($P24=\"\",\"\",IFERROR(IF(P24=6,1,IF(MATCH(P24&\"/\"&R24,読み替え表_クールビズ!$P$38:$P$59,0),1,0)),0))","v":""},"","",0,0,"*"]
[null,null,15,null,null,null,null,null,null,null,null,null,null,null,null,null,null,null,null,null,null,null,null,null,null,null,null,null,null,null,null,null,"","",{"$f":"IF($N25=\"\",\"\",IFERROR(IF(N25=6,1,IF(MATCH(N25&\"/\"&R25,読み替え表_クールビズ!$P$38:$P$59,0),1,0)),0))","v":""},{"$f":"IF($P25=\"\",\"\",IFERROR(IF(P25=6,1,IF(MATCH(P25&\"/\"&R25,読み替え表_クールビズ!$P$38:$P$59,0),1,0)),0))","v":""},"","",0,0,"*"]
[null,null,16,null,null,null,null,null,null,null,null,null,null,null,null,null,null,null,null,null,null,null,null,null,null,null,null,null,null,null,null,null,"","",{"$f":"IF($N26=\"\",\"\",IFERROR(IF(N26=6,1,IF(MATCH(N26&\"/\"&R26,読み替え表_クールビズ!$P$38:$P$59,0),1,0)),0))","v":""},{"$f":"IF($P26=\"\",\"\",IFERROR(IF(P26=6,1,IF(MATCH(P26&\"/\"&R26,読み替え表_クールビズ!$P$38:$P$59,0),1,0)),0))","v":""},"","",0,0,"*"]
[null,null,17,null,null,null,null,null,null,null,null,null,null,null,null,null,null,null,null,null,null,null,null,null,null,null,null,null,null,null,null,null,"","",{"$f":"IF($N27=\"\",\"\",IFERROR(IF(N27=6,1,IF(MATCH(N27&\"/\"&R27,読み替え表_クールビズ!$P$38:$P$59,0),1,0)),0))","v":""},{"$f":"IF($P27=\"\",\"\",IFERROR(IF(P27=6,1,IF(MATCH(P27&\"/\"&R27,読み替え表_クールビズ!$P$38:$P$59,0),1,0)),0))","v":""},"","",0,0,"*"]
[null,null,18,null,null,null,null,null,null,null,null,null,null,null,null,null,null,null,null,null,null,null,null,null,null,null,null,null,null,null,null,null,"","",{"$f":"IF($N28=\"\",\"\",IFERROR(IF(N28=6,1,IF(MATCH(N28&\"/\"&R28,読み替え表_クールビズ!$P$38:$P$59,0),1,0)),0))","v":""},{"$f":"IF($P28=\"\",\"\",IFERROR(IF(P28=6,1,IF(MATCH(P28&\"/\"&R28,読み替え表_クールビズ!$P$38:$P$59,0),1,0)),0))","v":""},"","",0,0,"*"]
[null,null,19,null,null,null,null,null,null,null,null,null,null,null,null,null,null,null,null,null,null,null,null,null,null,null,null,null,null,null,null,null,"","",{"$f":"IF($N29=\"\",\"\",IFERROR(IF(N29=6,1,IF(MATCH(N29&\"/\"&R29,読み替え表_クールビズ!$P$38:$P$59,0),1,0)),0))","v":""},{"$f":"IF($P29=\"\",\"\",IFERROR(IF(P29=6,1,IF(MATCH(P29&\"/\"&R29,読み替え表_クールビズ!$P$38:$P$59,0),1,0)),0))","v":""},"","",0,0,"*"]
[null,null,20,null,null,null,null,null,null,null,null,null,null,null,null,null,null,null,null,null,null,null,null,null,null,null,null,null,null,null,null,null,"","",{"$f":"IF($N30=\"\",\"\",IFERROR(IF(N30=6,1,IF(MATCH(N30&\"/\"&R30,読み替え表_クールビズ!$P$38:$P$59,0),1,0)),0))","v":""},{"$f":"IF($P30=\"\",\"\",IFERROR(IF(P30=6,1,IF(MATCH(P30&\"/\"&R30,読み替え表_クールビズ!$P$38:$P$59,0),1,0)),0))","v":""},"","",0,0,"*"]
[null,null,21,null,null,null,null,null,null,null,null,null,null,null,null,null,null,null,null,null,null,null,null,null,null,null,null,null,null,null,null,null,"","",{"$f":"IF($N31=\"\",\"\",IFERROR(IF(N31=6,1,IF(MATCH(N31&\"/\"&R31,読み替え表_クールビズ!$P$38:$P$59,0),1,0)),0))","v":""},{"$f":"IF($P31=\"\",\"\",IFERROR(IF(P31=6,1,IF(MATCH(P31&\"/\"&R31,読み替え表_クールビズ!$P$38:$P$59,0),1,0)),0))","v":""},"","",0,0,"*"]
[null,null,22,null,null,null,null,null,null,null,null,null,null,null,null,null,null,null,null,null,null,null,null,null,null,null,null,null,null,null,null,null,"","",{"$f":"IF($N32=\"\",\"\",IFERROR(IF(N32=6,1,IF(MATCH(N32&\"/\"&R32,読み替え表_クールビズ!$P$38:$P$59,0),1,0)),0))","v":""},{"$f":"IF($P32=\"\",\"\",IFERROR(IF(P32=6,1,IF(MATCH(P32&\"/\"&R32,読み替え表_クールビズ!$P$38:$P$59,0),1,0)),0))","v":""},"","",0,0,"*"]
[null,null,23,null,null,null,null,null,null,null,null,null,null,null,null,null,null,null,null,null,null,null,null,null,null,null,null,null,null,null,null,null,"","",{"$f":"IF($N33=\"\",\"\",IFERROR(IF(N33=6,1,IF(MATCH(N33&\"/\"&R33,読み替え表_クールビズ!$P$38:$P$59,0),1,0)),0))","v":""},{"$f":"IF($P33=\"\",\"\",IFERROR(IF(P33=6,1,IF(MATCH(P33&\"/\"&R33,読み替え表_クールビズ!$P$38:$P$59,0),1,0)),0))","v":""},"","",0,0,"*"]
[null,null,24,null,null,null,null,null,null,null,null,null,null,null,null,null,null,null,null,null,null,null,null,null,null,null,null,null,null,null,null,null,"","",{"$f":"IF($N34=\"\",\"\",IFERROR(IF(N34=6,1,IF(MATCH(N34&\"/\"&R34,読み替え表_クールビズ!$P$38:$P$59,0),1,0)),0))","v":""},{"$f":"IF($P34=\"\",\"\",IFERROR(IF(P34=6,1,IF(MATCH(P34&\"/\"&R34,読み替え表_クールビズ!$P$38:$P$59,0),1,0)),0))","v":""},"","",0,0,"*"]
[null,null,25,null,null,null,null,null,null,null,null,null,null,null,null,null,null,null,null,null,null,null,null,null,null,null,null,null,null,null,null,null,"","",{"$f":"IF($N35=\"\",\"\",IFERROR(IF(N35=6,1,IF(MATCH(N35&\"/\"&R35,読み替え表_クールビズ!$P$38:$P$59,0),1,0)),0))","v":""},{"$f":"IF($P35=\"\",\"\",IFERROR(IF(P35=6,1,IF(MATCH(P35&\"/\"&R35,読み替え表_クールビズ!$P$38:$P$59,0),1,0)),0))","v":""},"","",0,0,"*"]
[null,null,26,null,null,null,null,null,null,null,null,null,null,null,null,null,null,null,null,null,null,null,null,null,null,null,null,null,null,null,null,null,"","",{"$f":"IF($N36=\"\",\"\",IFERROR(IF(N36=6,1,IF(MATCH(N36&\"/\"&R36,読み替え表_クールビズ!$P$38:$P$59,0),1,0)),0))","v":""},{"$f":"IF($P36=\"\",\"\",IFERROR(IF(P36=6,1,IF(MATCH(P36&\"/\"&R36,読み替え表_クールビズ!$P$38:$P$59,0),1,0)),0))","v":""},"","",0,0,"*"]
[null,null,27,null,null,null,null,null,null,null,null,null,null,null,null,null,null,null,null,null,null,null,null,null,null,null,null,null,null,null,null,null,"","",{"$f":"IF($N37=\"\",\"\",IFERROR(IF(N37=6,1,IF(MATCH(N37&\"/\"&R37,読み替え表_クールビズ!$P$38:$P$59,0),1,0)),0))","v":""},{"$f":"IF($P37=\"\",\"\",IFERROR(IF(P37=6,1,IF(MATCH(P37&\"/\"&R37,読み替え表_クールビズ!$P$38:$P$59,0),1,0)),0))","v":""},"","",0,0,"*"]
[null,null,28,null,null,null,null,null,null,null,null,null,null,null,null,null,null,null,null,null,null,null,null,null,null,null,null,null,null,null,null,null,"","",{"$f":"IF($N38=\"\",\"\",IFERROR(IF(N38=6,1,IF(MATCH(N38&\"/\"&R38,読み替え表_クールビズ!$P$38:$P$59,0),1,0)),0))","v":""},{"$f":"IF($P38=\"\",\"\",IFERROR(IF(P38=6,1,IF(MATCH(P38&\"/\"&R38,読み替え表_クールビズ!$P$38:$P$59,0),1,0)),0))","v":""},"","",0,0,"*"]
[null,null,29,null,null,null,null,null,null,null,null,null,null,null,null,null,null,null,null,null,null,null,null,null,null,null,null,null,null,null,null,null,"","",{"$f":"IF($N39=\"\",\"\",IFERROR(IF(N39=6,1,IF(MATCH(N39&\"/\"&R39,読み替え表_クールビズ!$P$38:$P$59,0),1,0)),0))","v":""},{"$f":"IF($P39=\"\",\"\",IFERROR(IF(P39=6,1,IF(MATCH(P39&\"/\"&R39,読み替え表_クールビズ!$P$38:$P$59,0),1,0)),0))","v":""},"","",0,0,"*"]
[null,null,30,null,null,null,null,null,null,null,null,null,null,null,null,null,null,null,null,null,null,null,null,null,null,null,null,null,null,null,null,null,"","",{"$f":"IF($N40=\"\",\"\",IFERROR(IF(N40=6,1,IF(MATCH(N40&\"/\"&R40,読み替え表_クールビズ!$P$38:$P$59,0),1,0)),0))","v":""},{"$f":"IF($P40=\"\",\"\",IFERROR(IF(P40=6,1,IF(MATCH(P40&\"/\"&R40,読み替え表_クールビズ!$P$38:$P$59,0),1,0)),0))","v":""},"","",0,0,"*"]
[null,null,31,null,null,null,null,null,null,null,null,null,null,null,null,null,null,null,null,null,null,null,null,null,null,null,null,null,null,null,null,null,"","",{"$f":"IF($N41=\"\",\"\",IFERROR(IF(N41=6,1,IF(MATCH(N41&\"/\"&R41,読み替え表_クールビズ!$P$38:$P$59,0),1,0)),0))","v":""},{"$f":"IF($P41=\"\",\"\",IFERROR(IF(P41=6,1,IF(MATCH(P41&\"/\"&R41,読み替え表_クールビズ!$P$38:$P$59,0),1,0)),0))","v":""},"","",0,0,"*"]
[null,null,32,null,null,null,null,null,null,null,null,null,null,null,null,null,null,null,null,null,null,null,null,null,null,null,null,null,null,null,null,null,"","",{"$f":"IF($N42=\"\",\"\",IFERROR(IF(N42=6,1,IF(MATCH(N42&\"/\"&R42,読み替え表_クールビズ!$P$38:$P$59,0),1,0)),0))","v":""},{"$f":"IF($P42=\"\",\"\",IFERROR(IF(P42=6,1,IF(MATCH(P42&\"/\"&R42,読み替え表_クールビズ!$P$38:$P$59,0),1,0)),0))","v":""},"","",0,0,"*"]
[null,null,33,null,null,null,null,null,null,null,null,null,null,null,null,null,null,null,null,null,null,null,null,null,null,null,null,null,null,null,null,null,"","",{"$f":"IF($N43=\"\",\"\",IFERROR(IF(N43=6,1,IF(MATCH(N43&\"/\"&R43,読み替え表_クールビズ!$P$38:$P$59,0),1,0)),0))","v":""},{"$f":"IF($P43=\"\",\"\",IFERROR(IF(P43=6,1,IF(MATCH(P43&\"/\"&R43,読み替え表_クールビズ!$P$38:$P$59,0),1,0)),0))","v":""},"","",0,0,"*"]
[null,null,34,null,null,null,null,null,null,null,null,null,null,null,null,null,null,null,null,null,null,null,null,null,null,null,null,null,null,null,null,null,"","",{"$f":"IF($N44=\"\",\"\",IFERROR(IF(N44=6,1,IF(MATCH(N44&\"/\"&R44,読み替え表_クールビズ!$P$38:$P$59,0),1,0)),0))","v":""},{"$f":"IF($P44=\"\",\"\",IFERROR(IF(P44=6,1,IF(MATCH(P44&\"/\"&R44,読み替え表_クールビズ!$P$38:$P$59,0),1,0)),0))","v":""},"","",0,0,"*"]
[null,null,35,null,null,null,null,null,null,null,null,null,null,null,null,null,null,null,null,null,null,null,null,null,null,null,null,null,null,null,null,null,"","",{"$f":"IF($N45=\"\",\"\",IFERROR(IF(N45=6,1,IF(MATCH(N45&\"/\"&R45,読み替え表_クールビズ!$P$38:$P$59,0),1,0)),0))","v":""},{"$f":"IF($P45=\"\",\"\",IFERROR(IF(P45=6,1,IF(MATCH(P45&\"/\"&R45,読み替え表_クールビズ!$P$38:$P$59,0),1,0)),0))","v":""},"","",0,0,"*"]
[null,null,36,null,null,null,null,null,null,null,null,null,null,null,null,null,null,null,null,null,null,null,null,null,null,null,null,null,null,null,null,null,"","",{"$f":"IF($N46=\"\",\"\",IFERROR(IF(N46=6,1,IF(MATCH(N46&\"/\"&R46,読み替え表_クールビズ!$P$38:$P$59,0),1,0)),0))","v":""},{"$f":"IF($P46=\"\",\"\",IFERROR(IF(P46=6,1,IF(MATCH(P46&\"/\"&R46,読み替え表_クールビズ!$P$38:$P$59,0),1,0)),0))","v":""},"","",0,0,"*"]
[null,null,37,null,null,null,null,null,null,null,null,null,null,null,null,null,null,null,null,null,null,null,null,null,null,null,null,null,null,null,null,null,"","",{"$f":"IF($N47=\"\",\"\",IFERROR(IF(N47=6,1,IF(MATCH(N47&\"/\"&R47,読み替え表_クールビズ!$P$38:$P$59,0),1,0)),0))","v":""},{"$f":"IF($P47=\"\",\"\",IFERROR(IF(P47=6,1,IF(MATCH(P47&\"/\"&R47,読み替え表_クールビズ!$P$38:$P$59,0),1,0)),0))","v":""},"","",0,0,"*"]
[null,null,38,null,null,null,null,null,null,null,null,null,null,null,null,null,null,null,null,null,null,null,null,null,null,null,null,null,null,null,null,null,"","",{"$f":"IF($N48=\"\",\"\",IFERROR(IF(N48=6,1,IF(MATCH(N48&\"/\"&R48,読み替え表_クールビズ!$P$38:$P$59,0),1,0)),0))","v":""},{"$f":"IF($P48=\"\",\"\",IFERROR(IF(P48=6,1,IF(MATCH(P48&\"/\"&R48,読み替え表_クールビズ!$P$38:$P$59,0),1,0)),0))","v":""},"","",0,0,"*"]
[null,null,39,null,null,null,null,null,null,null,null,null,null,null,null,null,null,null,null,null,null,null,null,null,null,null,null,null,null,null,null,null,"","",{"$f":"IF($N49=\"\",\"\",IFERROR(IF(N49=6,1,IF(MATCH(N49&\"/\"&R49,読み替え表_クールビズ!$P$38:$P$59,0),1,0)),0))","v":""},{"$f":"IF($P49=\"\",\"\",IFERROR(IF(P49=6,1,IF(MATCH(P49&\"/\"&R49,読み替え表_クールビズ!$P$38:$P$59,0),1,0)),0))","v":""},"","",0,0,"*"]
[null,null,40,null,null,null,null,null,null,null,null,null,null,null,null,null,null,null,null,null,null,null,null,null,null,null,null,null,null,null,null,null,"","",{"$f":"IF($N50=\"\",\"\",IFERROR(IF(N50=6,1,IF(MATCH(N50&\"/\"&R50,読み替え表_クールビズ!$P$38:$P$59,0),1,0)),0))","v":""},{"$f":"IF($P50=\"\",\"\",IFERROR(IF(P50=6,1,IF(MATCH(P50&\"/\"&R50,読み替え表_クールビズ!$P$38:$P$59,0),1,0)),0))","v":""},"","",0,0,"*"]
[null,null,41,null,null,null,null,null,null,null,null,null,null,null,null,null,null,null,null,null,null,null,null,null,null,null,null,null,null,null,null,null,"","",{"$f":"IF($N51=\"\",\"\",IFERROR(IF(N51=6,1,IF(MATCH(N51&\"/\"&R51,読み替え表_クールビズ!$P$38:$P$59,0),1,0)),0))","v":""},{"$f":"IF($P51=\"\",\"\",IFERROR(IF(P51=6,1,IF(MATCH(P51&\"/\"&R51,読み替え表_クールビズ!$P$38:$P$59,0),1,0)),0))","v":""},"","",0,0,"*"]
[null,null,42,null,null,null,null,null,null,null,null,null,null,null,null,null,null,null,null,null,null,null,null,null,null,null,null,null,null,null,null,null,"","",{"$f":"IF($N52=\"\",\"\",IFERROR(IF(N52=6,1,IF(MATCH(N52&\"/\"&R52,読み替え表_クールビズ!$P$38:$P$59,0),1,0)),0))","v":""},{"$f":"IF($P52=\"\",\"\",IFERROR(IF(P52=6,1,IF(MATCH(P52&\"/\"&R52,読み替え表_クールビズ!$P$38:$P$59,0),1,0)),0))","v":""},"","",0,0,"*"]
[null,null,43,null,null,null,null,null,null,null,null,null,null,null,null,null,null,null,null,null,null,null,null,null,null,null,null,null,null,null,null,null,"","",{"$f":"IF($N53=\"\",\"\",IFERROR(IF(N53=6,1,IF(MATCH(N53&\"/\"&R53,読み替え表_クールビズ!$P$38:$P$59,0),1,0)),0))","v":""},{"$f":"IF($P53=\"\",\"\",IFERROR(IF(P53=6,1,IF(MATCH(P53&\"/\"&R53,読み替え表_クールビズ!$P$38:$P$59,0),1,0)),0))","v":""},"","",0,0,"*"]
[null,null,44,null,null,null,null,null,null,null,null,null,null,null,null,null,null,null,null,null,null,null,null,null,null,null,null,null,null,null,null,null,"","",{"$f":"IF($N54=\"\",\"\",IFERROR(IF(N54=6,1,IF(MATCH(N54&\"/\"&R54,読み替え表_クールビズ!$P$38:$P$59,0),1,0)),0))","v":""},{"$f":"IF($P54=\"\",\"\",IFERROR(IF(P54=6,1,IF(MATCH(P54&\"/\"&R54,読み替え表_クールビズ!$P$38:$P$59,0),1,0)),0))","v":""},"","",0,0,"*"]
[null,null,45,null,null,null,null,null,null,null,null,null,null,null,null,null,null,null,null,null,null,null,null,null,null,null,null,null,null,null,null,null,"","",{"$f":"IF($N55=\"\",\"\",IFERROR(IF(N55=6,1,IF(MATCH(N55&\"/\"&R55,読み替え表_クールビズ!$P$38:$P$59,0),1,0)),0))","v":""},{"$f":"IF($P55=\"\",\"\",IFERROR(IF(P55=6,1,IF(MATCH(P55&\"/\"&R55,読み替え表_クールビズ!$P$38:$P$59,0),1,0)),0))","v":""},"","",0,0,"*"]
[null,null,46,null,null,null,null,null,null,null,null,null,null,null,null,null,null,null,null,null,null,null,null,null,null,null,null,null,null,null,null,null,"","",{"$f":"IF($N56=\"\",\"\",IFERROR(IF(N56=6,1,IF(MATCH(N56&\"/\"&R56,読み替え表_クールビズ!$P$38:$P$59,0),1,0)),0))","v":""},{"$f":"IF($P56=\"\",\"\",IFERROR(IF(P56=6,1,IF(MATCH(P56&\"/\"&R56,読み替え表_クールビズ!$P$38:$P$59,0),1,0)),0))","v":""},"","",0,0,"*"]
[null,null,47,null,null,null,null,null,null,null,null,null,null,null,null,null,null,null,null,null,null,null,null,null,null,null,null,null,null,null,null,null,"","",{"$f":"IF($N57=\"\",\"\",IFERROR(IF(N57=6,1,IF(MATCH(N57&\"/\"&R57,読み替え表_クールビズ!$P$38:$P$59,0),1,0)),0))","v":""},{"$f":"IF($P57=\"\",\"\",IFERROR(IF(P57=6,1,IF(MATCH(P57&\"/\"&R57,読み替え表_クールビズ!$P$38:$P$59,0),1,0)),0))","v":""},"","",0,0,"*"]
[null,null,48,null,null,null,null,null,null,null,null,null,null,null,null,null,null,null,null,null,null,null,null,null,null,null,null,null,null,null,null,null,"","",{"$f":"IF($N58=\"\",\"\",IFERROR(IF(N58=6,1,IF(MATCH(N58&\"/\"&R58,読み替え表_クールビズ!$P$38:$P$59,0),1,0)),0))","v":""},{"$f":"IF($P58=\"\",\"\",IFERROR(IF(P58=6,1,IF(MATCH(P58&\"/\"&R58,読み替え表_クールビズ!$P$38:$P$59,0),1,0)),0))","v":""},"","",0,0,"*"]
[null,null,49,null,null,null,null,null,null,null,null,null,null,null,null,null,null,null,null,null,null,null,null,null,null,null,null,null,null,null,null,null,"","",{"$f":"IF($N59=\"\",\"\",IFERROR(IF(N59=6,1,IF(MATCH(N59&\"/\"&R59,読み替え表_クールビズ!$P$38:$P$59,0),1,0)),0))","v":""},{"$f":"IF($P59=\"\",\"\",IFERROR(IF(P59=6,1,IF(MATCH(P59&\"/\"&R59,読み替え表_クールビズ!$P$38:$P$59,0),1,0)),0))","v":""},"","",0,0,"*"]
[null,null,50,null,null,null,null,null,null,null,null,null,null,null,null,null,null,null,null,null,null,null,null,null,null,null,null,null,null,null,null,null,"","",{"$f":"IF($N60=\"\",\"\",IFERROR(IF(N60=6,1,IF(MATCH(N60&\"/\"&R60,読み替え表_クールビズ!$P$38:$P$59,0),1,0)),0))","v":""},{"$f":"IF($P60=\"\",\"\",IFERROR(IF(P60=6,1,IF(MATCH(P60&\"/\"&R60,読み替え表_クールビズ!$P$38:$P$59,0),1,0)),0))","v":""},"","",0,0,"*"]
[null,null,51,null,null,null,null,null,null,null,null,null,null,null,null,null,null,null,null,null,null,null,null,null,null,null,null,null,null,null,null,null,"","",{"$f":"IF($N61=\"\",\"\",IFERROR(IF(N61=6,1,IF(MATCH(N61&\"/\"&R61,読み替え表_クールビズ!$P$38:$P$59,0),1,0)),0))","v":""},{"$f":"IF($P61=\"\",\"\",IFERROR(IF(P61=6,1,IF(MATCH(P61&\"/\"&R61,読み替え表_クールビズ!$P$38:$P$59,0),1,0)),0))","v":""},"","",0,0,"*"]
[null,null,52,null,null,null,null,null,null,null,null,null,null,null,null,null,null,null,null,null,null,null,null,null,null,null,null,null,null,null,null,null,"","",{"$f":"IF($N62=\"\",\"\",IFERROR(IF(N62=6,1,IF(MATCH(N62&\"/\"&R62,読み替え表_クールビズ!$P$38:$P$59,0),1,0)),0))","v":""},{"$f":"IF($P62=\"\",\"\",IFERROR(IF(P62=6,1,IF(MATCH(P62&\"/\"&R62,読み替え表_クールビズ!$P$38:$P$59,0),1,0)),0))","v":""},"","",0,0,"*"]
[null,null,53,null,null,null,null,null,null,null,null,null,null,null,null,null,null,null,null,null,null,null,null,null,null,null,null,null,null,null,null,null,"","",{"$f":"IF($N63=\"\",\"\",IFERROR(IF(N63=6,1,IF(MATCH(N63&\"/\"&R63,読み替え表_クールビズ!$P$38:$P$59,0),1,0)),0))","v":""},{"$f":"IF($P63=\"\",\"\",IFERROR(IF(P63=6,1,IF(MATCH(P63&\"/\"&R63,読み替え表_クールビズ!$P$38:$P$59,0),1,0)),0))","v":""},"","",0,0,"*"]
[null,null,54,null,null,null,null,null,null,null,null,null,null,null,null,null,null,null,null,null,null,null,null,null,null,null,null,null,null,null,null,null,"","",{"$f":"IF($N64=\"\",\"\",IFERROR(IF(N64=6,1,IF(MATCH(N64&\"/\"&R64,読み替え表_クールビズ!$P$38:$P$59,0),1,0)),0))","v":""},{"$f":"IF($P64=\"\",\"\",IFERROR(IF(P64=6,1,IF(MATCH(P64&\"/\"&R64,読み替え表_クールビズ!$P$38:$P$59,0),1,0)),0))","v":""},"","",0,0,"*"]
[null,null,55,null,null,null,null,null,null,null,null,null,null,null,null,null,null,null,null,null,null,null,null,null,null,null,null,null,null,null,null,null,"","",{"$f":"IF($N65=\"\",\"\",IFERROR(IF(N65=6,1,IF(MATCH(N65&\"/\"&R65,読み替え表_クールビズ!$P$38:$P$59,0),1,0)),0))","v":""},{"$f":"IF($P65=\"\",\"\",IFERROR(IF(P65=6,1,IF(MATCH(P65&\"/\"&R65,読み替え表_クールビズ!$P$38:$P$59,0),1,0)),0))","v":""},"","",0,0,"*"]
[null,null,56,null,null,null,null,null,null,null,null,null,null,null,null,null,null,null,null,null,null,null,null,null,null,null,null,null,null,null,null,null,"","",{"$f":"IF($N66=\"\",\"\",IFERROR(IF(N66=6,1,IF(MATCH(N66&\"/\"&R66,読み替え表_クールビズ!$P$38:$P$59,0),1,0)),0))","v":""},{"$f":"IF($P66=\"\",\"\",IFERROR(IF(P66=6,1,IF(MATCH(P66&\"/\"&R66,読み替え表_クールビズ!$P$38:$P$59,0),1,0)),0))","v":""},"","",0,0,"*"]
[null,null,57,null,null,null,null,null,null,null,null,null,null,null,null,null,null,null,null,null,null,null,null,null,null,null,null,null,null,null,null,null,"","",{"$f":"IF($N67=\"\",\"\",IFERROR(IF(N67=6,1,IF(MATCH(N67&\"/\"&R67,読み替え表_クールビズ!$P$38:$P$59,0),1,0)),0))","v":""},{"$f":"IF($P67=\"\",\"\",IFERROR(IF(P67=6,1,IF(MATCH(P67&\"/\"&R67,読み替え表_クールビズ!$P$38:$P$59,0),1,0)),0))","v":""},"","",0,0,"*"]
[null,null,58,null,null,null,null,null,null,null,null,null,null,null,null,null,null,null,null,null,null,null,null,null,null,null,null,null,null,null,null,null,"","",{"$f":"IF($N68=\"\",\"\",IFERROR(IF(N68=6,1,IF(MATCH(N68&\"/\"&R68,読み替え表_クールビズ!$P$38:$P$59,0),1,0)),0))","v":""},{"$f":"IF($P68=\"\",\"\",IFERROR(IF(P68=6,1,IF(MATCH(P68&\"/\"&R68,読み替え表_クールビズ!$P$38:$P$59,0),1,0)),0))","v":""},"","",0,0,"*"]
[null,null,59,null,null,null,null,null,null,null,null,null,null,null,null,null,null,null,null,null,null,null,null,null,null,null,null,null,null,null,null,null,"","",{"$f":"IF($N69=\"\",\"\",IFERROR(IF(N69=6,1,IF(MATCH(N69&\"/\"&R69,読み替え表_クールビズ!$P$38:$P$59,0),1,0)),0))","v":""},{"$f":"IF($P69=\"\",\"\",IFERROR(IF(P69=6,1,IF(MATCH(P69&\"/\"&R69,読み替え表_クールビズ!$P$38:$P$59,0),1,0)),0))","v":""},"","",0,0,"*"]
[null,null,60,null,null,null,null,null,null,null,null,null,null,null,null,null,null,null,null,null,null,null,null,null,null,null,null,null,null,null,null,null,"","",{"$f":"IF($N70=\"\",\"\",IFERROR(IF(N70=6,1,IF(MATCH(N70&\"/\"&R70,読み替え表_クールビズ!$P$38:$P$59,0),1,0)),0))","v":""},{"$f":"IF($P70=\"\",\"\",IFERROR(IF(P70=6,1,IF(MATCH(P70&\"/\"&R70,読み替え表_クールビズ!$P$38:$P$59,0),1,0)),0))","v":""},"","",0,0,"*"]
[null,null,61,null,null,null,null,null,null,null,null,null,null,null,null,null,null,null,null,null,null,null,null,null,null,null,null,null,null,null,null,null,"","",{"$f":"IF($N71=\"\",\"\",IFERROR(IF(N71=6,1,IF(MATCH(N71&\"/\"&R71,読み替え表_クールビズ!$P$38:$P$59,0),1,0)),0))","v":""},{"$f":"IF($P71=\"\",\"\",IFERROR(IF(P71=6,1,IF(MATCH(P71&\"/\"&R71,読み替え表_クールビズ!$P$38:$P$59,0),1,0)),0))","v":""},"","",0,0,"*"]
[null,null,62,null,null,null,null,null,null,null,null,null,null,null,null,null,null,null,null,null,null,null,null,null,null,null,null,null,null,null,null,null,"","",{"$f":"IF($N72=\"\",\"\",IFERROR(IF(N72=6,1,IF(MATCH(N72&\"/\"&R72,読み替え表_クールビズ!$P$38:$P$59,0),1,0)),0))","v":""},{"$f":"IF($P72=\"\",\"\",IFERROR(IF(P72=6,1,IF(MATCH(P72&\"/\"&R72,読み替え表_クールビズ!$P$38:$P$59,0),1,0)),0))","v":""},"","",0,0,"*"]
[null,null,63,null,null,null,null,null,null,null,null,null,null,null,null,null,null,null,null,null,null,null,null,null,null,null,null,null,null,null,null,null,"","",{"$f":"IF($N73=\"\",\"\",IFERROR(IF(N73=6,1,IF(MATCH(N73&\"/\"&R73,読み替え表_クールビズ!$P$38:$P$59,0),1,0)),0))","v":""},{"$f":"IF($P73=\"\",\"\",IFERROR(IF(P73=6,1,IF(MATCH(P73&\"/\"&R73,読み替え表_クールビズ!$P$38:$P$59,0),1,0)),0))","v":""},"","",0,0,"*"]
[null,null,64,null,null,null,null,null,null,null,null,null,null,null,null,null,null,null,null,null,null,null,null,null,null,null,null,null,null,null,null,null,"","",{"$f":"IF($N74=\"\",\"\",IFERROR(IF(N74=6,1,IF(MATCH(N74&\"/\"&R74,読み替え表_クールビズ!$P$38:$P$59,0),1,0)),0))","v":""},{"$f":"IF($P74=\"\",\"\",IFERROR(IF(P74=6,1,IF(MATCH(P74&\"/\"&R74,読み替え表_クールビズ!$P$38:$P$59,0),1,0)),0))","v":""},"","",0,0,"*"]
[null,null,65,null,null,null,null,null,null,null,null,null,null,null,null,null,null,null,null,null,null,null,null,null,null,null,null,null,null,null,null,null,"","",{"$f":"IF($N75=\"\",\"\",IFERROR(IF(N75=6,1,IF(MATCH(N75&\"/\"&R75,読み替え表_クールビズ!$P$38:$P$59,0),1,0)),0))","v":""},{"$f":"IF($P75=\"\",\"\",IFERROR(IF(P75=6,1,IF(MATCH(P75&\"/\"&R75,読み替え表_クールビズ!$P$38:$P$59,0),1,0)),0))","v":""},{"$f":"IF($N75=\"\",\"\",IF(OR(CONCATENATE(N75,$R75)=\"22\",CONCATENATE(N75,$R75)=\"32\",CONCATENATE(N75,$R75)=\"42\",CONCATENATE(N75,$R75)=\"43\",CONCATENATE(N75,$R75)=\"51\",CONCATENATE(N75,$R75)=\"52\",CONCATENATE(N75,$R75)=\"53\"),1,0))","v":""},{"$f":"IF($P75=\"\",\"\",IF(OR(CONCATENATE(P75,$R75)=\"22\",CONCATENATE(P75,$R75)=\"32\",CONCATENATE(P75,$R75)=\"42\",CONCATENATE(P75,$R75)=\"43\",CONCATENATE(P75,$R75)=\"51\",CONCATENATE(P75,$R75)=\"52\",CONCATENATE(P75,$R75)=\"53\"),1,0))","v":""},0,0,"*"]
[null,null,{"$f":"ROW()-10","v":66},null,null,null,null,null,null,null,null,null,null,null,null,null,null,null,null,null,null,null,null,null,null,null,null,null,null,null,null,null,{"$f":"IF($J76=\"\",\"\",IF(AND($J76>=1,$J76<=9),1,0))","v":""},{"$f":"IF($R76=\"\",\"\",IF(OR($R76=1,$R76=2,$R76=3),1,0))","v":""},{"$f":"IF($N76=\"\",\"\",IFERROR(IF(N76=6,1,IF(MATCH(N76&\"/\"&R76,読み替え表_クールビズ!$P$38:$P$59,0),1,0)),0))","v":""},{"$f":"IF($P76=\"\",\"\",IFERROR(IF(P76=6,1,IF(MATCH(P76&\"/\"&R76,読み替え表_クールビズ!$P$38:$P$59,0),1,0)),0))","v":""},"","",{"$f":"IF(OR(AK76=1,AL76=1),1,0)","v":0},{"$f":"IF(OR($AG76=0,SUM(AI76:AJ76)=2),1,0)","v":0},"*"]
[null,null,67,null,null,null,null,null,null,null,null,null,null,null,null,null,null,null,null,null,null,null,null,null,null,null,null,null,null,null,null,null,"","",{"$f":"IF($N77=\"\",\"\",IFERROR(IF(N77=6,1,IF(MATCH(N77&\"/\"&R77,読み替え表_クールビズ!$P$38:$P$59,0),1,0)),0))","v":""},{"$f":"IF($P77=\"\",\"\",IFERROR(IF(P77=6,1,IF(MATCH(P77&\"/\"&R77,読み替え表_クールビズ!$P$38:$P$59,0),1,0)),0))","v":""},"","",0,0,"*"]
[null,null,68,null,null,null,null,null,null,null,null,null,null,null,null,null,null,null,null,null,null,null,null,null,null,null,null,null,null,null,null,null,"","",{"$f":"IF($N78=\"\",\"\",IFERROR(IF(N78=6,1,IF(MATCH(N78&\"/\"&R78,読み替え表_クールビズ!$P$38:$P$59,0),1,0)),0))","v":""},{"$f":"IF($P78=\"\",\"\",IFERROR(IF(P78=6,1,IF(MATCH(P78&\"/\"&R78,読み替え表_クールビズ!$P$38:$P$59,0),1,0)),0))","v":""},"","",0,0,"*"]
[null,null,69,null,null,null,null,null,null,null,null,null,null,null,null,null,null,null,null,null,null,null,null,null,null,null,null,null,null,null,null,null,"","",{"$f":"IF($N79=\"\",\"\",IFERROR(IF(N79=6,1,IF(MATCH(N79&\"/\"&R79,読み替え表_クールビズ!$P$38:$P$59,0),1,0)),0))","v":""},{"$f":"IF($P79=\"\",\"\",IFERROR(IF(P79=6,1,IF(MATCH(P79&\"/\"&R79,読み替え表_クールビズ!$P$38:$P$59,0),1,0)),0))","v":""},"","",0,0,"*"]
[null,null,70,null,null,null,null,null,null,null,null,null,null,null,null,null,null,null,null,null,null,null,null,null,null,null,null,null,null,null,null,null,"","",{"$f":"IF($N80=\"\",\"\",IFERROR(IF(N80=6,1,IF(MATCH(N80&\"/\"&R80,読み替え表_クールビズ!$P$38:$P$59,0),1,0)),0))","v":""},{"$f":"IF($P80=\"\",\"\",IFERROR(IF(P80=6,1,IF(MATCH(P80&\"/\"&R80,読み替え表_クールビズ!$P$38:$P$59,0),1,0)),0))","v":""},"","",0,0,"*"]
[null,null,71,null,null,null,null,null,null,null,null,null,null,null,null,null,null,null,null,null,null,null,null,null,null,null,null,null,null,null,null,null,"","",{"$f":"IF($N81=\"\",\"\",IFERROR(IF(N81=6,1,IF(MATCH(N81&\"/\"&R81,読み替え表_クールビズ!$P$38:$P$59,0),1,0)),0))","v":""},{"$f":"IF($P81=\"\",\"\",IFERROR(IF(P81=6,1,IF(MATCH(P81&\"/\"&R81,読み替え表_クールビズ!$P$38:$P$59,0),1,0)),0))","v":""},"","",0,0,"*"]
[null,null,72,null,null,null,null,null,null,null,null,null,null,null,null,null,null,null,null,null,null,null,null,null,null,null,null,null,null,null,null,null,"","",{"$f":"IF($N82=\"\",\"\",IFERROR(IF(N82=6,1,IF(MATCH(N82&\"/\"&R82,読み替え表_クールビズ!$P$38:$P$59,0),1,0)),0))","v":""},{"$f":"IF($P82=\"\",\"\",IFERROR(IF(P82=6,1,IF(MATCH(P82&\"/\"&R82,読み替え表_クールビズ!$P$38:$P$59,0),1,0)),0))","v":""},"","",0,0,"*"]
[null,null,73,null,null,null,null,null,null,null,null,null,null,null,null,null,null,null,null,null,null,null,null,null,null,null,null,null,null,null,null,null,"","",{"$f":"IF($N83=\"\",\"\",IFERROR(IF(N83=6,1,IF(MATCH(N83&\"/\"&R83,読み替え表_クールビズ!$P$38:$P$59,0),1,0)),0))","v":""},{"$f":"IF($P83=\"\",\"\",IFERROR(IF(P83=6,1,IF(MATCH(P83&\"/\"&R83,読み替え表_クールビズ!$P$38:$P$59,0),1,0)),0))","v":""},"","",0,0,"*"]
[null,null,74,null,null,null,null,null,null,null,null,null,null,null,null,null,null,null,null,null,null,null,null,null,null,null,null,null,null,null,null,null,"","",{"$f":"IF($N84=\"\",\"\",IFERROR(IF(N84=6,1,IF(MATCH(N84&\"/\"&R84,読み替え表_クールビズ!$P$38:$P$59,0),1,0)),0))","v":""},{"$f":"IF($P84=\"\",\"\",IFERROR(IF(P84=6,1,IF(MATCH(P84&\"/\"&R84,読み替え表_クールビズ!$P$38:$P$59,0),1,0)),0))","v":""},"","",0,0,"*"]
[null,null,75,null,null,null,null,null,null,null,null,null,null,null,null,null,null,null,null,null,null,null,null,null,null,null,null,null,null,null,null,null,"","",{"$f":"IF($N85=\"\",\"\",IFERROR(IF(N85=6,1,IF(MATCH(N85&\"/\"&R85,読み替え表_クールビズ!$P$38:$P$59,0),1,0)),0))","v":""},{"$f":"IF($P85=\"\",\"\",IFERROR(IF(P85=6,1,IF(MATCH(P85&\"/\"&R85,読み替え表_クールビズ!$P$38:$P$59,0),1,0)),0))","v":""},"","",0,0,"*"]
[null,null,76,null,null,null,null,null,null,null,null,null,null,null,null,null,null,null,null,null,null,null,null,null,null,null,null,null,null,null,null,null,"","",{"$f":"IF($N86=\"\",\"\",IFERROR(IF(N86=6,1,IF(MATCH(N86&\"/\"&R86,読み替え表_クールビズ!$P$38:$P$59,0),1,0)),0))","v":""},{"$f":"IF($P86=\"\",\"\",IFERROR(IF(P86=6,1,IF(MATCH(P86&\"/\"&R86,読み替え表_クールビズ!$P$38:$P$59,0),1,0)),0))","v":""},"","",0,0,"*"]
[null,null,77,null,null,null,null,null,null,null,null,null,null,null,null,null,null,null,null,null,null,null,null,null,null,null,null,null,null,null,null,null,"","",{"$f":"IF($N87=\"\",\"\",IFERROR(IF(N87=6,1,IF(MATCH(N87&\"/\"&R87,読み替え表_クールビズ!$P$38:$P$59,0),1,0)),0))","v":""},{"$f":"IF($P87=\"\",\"\",IFERROR(IF(P87=6,1,IF(MATCH(P87&\"/\"&R87,読み替え表_クールビズ!$P$38:$P$59,0),1,0)),0))","v":""},"","",0,0,"*"]
[null,null,78,null,null,null,null,null,null,null,null,null,null,null,null,null,null,null,null,null,null,null,null,null,null,null,null,null,null,null,null,null,"","",{"$f":"IF($N88=\"\",\"\",IFERROR(IF(N88=6,1,IF(MATCH(N88&\"/\"&R88,読み替え表_クールビズ!$P$38:$P$59,0),1,0)),0))","v":""},{"$f":"IF($P88=\"\",\"\",IFERROR(IF(P88=6,1,IF(MATCH(P88&\"/\"&R88,読み替え表_クールビズ!$P$38:$P$59,0),1,0)),0))","v":""},"","",0,0,"*"]
[null,null,79,null,null,null,null,null,null,null,null,null,null,null,null,null,null,null,null,null,null,null,null,null,null,null,null,null,null,null,null,null,"","",{"$f":"IF($N89=\"\",\"\",IFERROR(IF(N89=6,1,IF(MATCH(N89&\"/\"&R89,読み替え表_クールビズ!$P$38:$P$59,0),1,0)),0))","v":""},{"$f":"IF($P89=\"\",\"\",IFERROR(IF(P89=6,1,IF(MATCH(P89&\"/\"&R89,読み替え表_クールビズ!$P$38:$P$59,0),1,0)),0))","v":""},"","",0,0,"*"]
[null,null,80,null,null,null,null,null,null,null,null,null,null,null,null,null,null,null,null,null,null,null,null,null,null,null,null,null,null,null,null,null,"","",{"$f":"IF($N90=\"\",\"\",IFERROR(IF(N90=6,1,IF(MATCH(N90&\"/\"&R90,読み替え表_クールビズ!$P$38:$P$59,0),1,0)),0))","v":""},{"$f":"IF($P90=\"\",\"\",IFERROR(IF(P90=6,1,IF(MATCH(P90&\"/\"&R90,読み替え表_クールビズ!$P$38:$P$59,0),1,0)),0))","v":""},"","",0,0,"*"]
[null,null,81,null,null,null,null,null,null,null,null,null,null,null,null,null,null,null,null,null,null,null,null,null,null,null,null,null,null,null,null,null,"","",{"$f":"IF($N91=\"\",\"\",IFERROR(IF(N91=6,1,IF(MATCH(N91&\"/\"&R91,読み替え表_クールビズ!$P$38:$P$59,0),1,0)),0))","v":""},{"$f":"IF($P91=\"\",\"\",IFERROR(IF(P91=6,1,IF(MATCH(P91&\"/\"&R91,読み替え表_クールビズ!$P$38:$P$59,0),1,0)),0))","v":""},"","",0,0,"*"]
[null,null,82,null,null,null,null,null,null,null,null,null,null,null,null,null,null,null,null,null,null,null,null,null,null,null,null,null,null,null,null,null,"","",{"$f":"IF($N92=\"\",\"\",IFERROR(IF(N92=6,1,IF(MATCH(N92&\"/\"&R92,読み替え表_クールビズ!$P$38:$P$59,0),1,0)),0))","v":""},{"$f":"IF($P92=\"\",\"\",IFERROR(IF(P92=6,1,IF(MATCH(P92&\"/\"&R92,読み替え表_クールビズ!$P$38:$P$59,0),1,0)),0))","v":""},"","",0,0,"*"]
[null,null,83,null,null,null,null,null,null,null,null,null,null,null,null,null,null,null,null,null,null,null,null,null,null,null,null,null,null,null,null,null,"","",{"$f":"IF($N93=\"\",\"\",IFERROR(IF(N93=6,1,IF(MATCH(N93&\"/\"&R93,読み替え表_クールビズ!$P$38:$P$59,0),1,0)),0))","v":""},{"$f":"IF($P93=\"\",\"\",IFERROR(IF(P93=6,1,IF(MATCH(P93&\"/\"&R93,読み替え表_クールビズ!$P$38:$P$59,0),1,0)),0))","v":""},"","",0,0,"*"]
[null,null,84,null,null,null,null,null,null,null,null,null,null,null,null,null,null,null,null,null,null,null,null,null,null,null,null,null,null,null,null,null,"","",{"$f":"IF($N94=\"\",\"\",IFERROR(IF(N94=6,1,IF(MATCH(N94&\"/\"&R94,読み替え表_クールビズ!$P$38:$P$59,0),1,0)),0))","v":""},{"$f":"IF($P94=\"\",\"\",IFERROR(IF(P94=6,1,IF(MATCH(P94&\"/\"&R94,読み替え表_クールビズ!$P$38:$P$59,0),1,0)),0))","v":""},"","",0,0,"*"]
[null,null,85,null,null,null,null,null,null,null,null,null,null,null,null,null,null,null,null,null,null,null,null,null,null,null,null,null,null,null,null,null,"","",{"$f":"IF($N95=\"\",\"\",IFERROR(IF(N95=6,1,IF(MATCH(N95&\"/\"&R95,読み替え表_クールビズ!$P$38:$P$59,0),1,0)),0))","v":""},{"$f":"IF($P95=\"\",\"\",IFERROR(IF(P95=6,1,IF(MATCH(P95&\"/\"&R95,読み替え表_クールビズ!$P$38:$P$59,0),1,0)),0))","v":""},"","",0,0,"*"]
[null,null,86,null,null,null,null,null,null,null,null,null,null,null,null,null,null,null,null,null,null,null,null,null,null,null,null,null,null,null,null,null,"","",{"$f":"IF($N96=\"\",\"\",IFERROR(IF(N96=6,1,IF(MATCH(N96&\"/\"&R96,読み替え表_クールビズ!$P$38:$P$59,0),1,0)),0))","v":""},{"$f":"IF($P96=\"\",\"\",IFERROR(IF(P96=6,1,IF(MATCH(P96&\"/\"&R96,読み替え表_クールビズ!$P$38:$P$59,0),1,0)),0))","v":""},"","",0,0,"*"]
[null,null,87,null,null,null,null,null,null,null,null,null,null,null,null,null,null,null,null,null,null,null,null,null,null,null,null,null,null,null,null,null,"","",{"$f":"IF($N97=\"\",\"\",IFERROR(IF(N97=6,1,IF(MATCH(N97&\"/\"&R97,読み替え表_クールビズ!$P$38:$P$59,0),1,0)),0))","v":""},{"$f":"IF($P97=\"\",\"\",IFERROR(IF(P97=6,1,IF(MATCH(P97&\"/\"&R97,読み替え表_クールビズ!$P$38:$P$59,0),1,0)),0))","v":""},"","",0,0,"*"]
[null,null,88,null,null,null,null,null,null,null,null,null,null,null,null,null,null,null,null,null,null,null,null,null,null,null,null,null,null,null,null,null,"","",{"$f":"IF($N98=\"\",\"\",IFERROR(IF(N98=6,1,IF(MATCH(N98&\"/\"&R98,読み替え表_クールビズ!$P$38:$P$59,0),1,0)),0))","v":""},{"$f":"IF($P98=\"\",\"\",IFERROR(IF(P98=6,1,IF(MATCH(P98&\"/\"&R98,読み替え表_クールビズ!$P$38:$P$59,0),1,0)),0))","v":""},"","",0,0,"*"]
[null,null,89,null,null,null,null,null,null,null,null,null,null,null,null,null,null,null,null,null,null,null,null,null,null,null,null,null,null,null,null,null,"","",{"$f":"IF($N99=\"\",\"\",IFERROR(IF(N99=6,1,IF(MATCH(N99&\"/\"&R99,読み替え表_クールビズ!$P$38:$P$59,0),1,0)),0))","v":""},{"$f":"IF($P99=\"\",\"\",IFERROR(IF(P99=6,1,IF(MATCH(P99&\"/\"&R99,読み替え表_クールビズ!$P$38:$P$59,0),1,0)),0))","v":""},"","",0,0,"*"]
[null,null,90,null,null,null,null,null,null,null,null,null,null,null,null,null,null,null,null,null,null,null,null,null,null,null,null,null,null,null,null,null,"","",{"$f":"IF($N100=\"\",\"\",IFERROR(IF(N100=6,1,IF(MATCH(N100&\"/\"&R100,読み替え表_クールビズ!$P$38:$P$59,0),1,0)),0))","v":""},{"$f":"IF($P100=\"\",\"\",IFERROR(IF(P100=6,1,IF(MATCH(P100&\"/\"&R100,読み替え表_クールビズ!$P$38:$P$59,0),1,0)),0))","v":""},"","",0,0,"*"]
[null,null,91,null,null,null,null,null,null,null,null,null,null,null,null,null,null,null,null,null,null,null,null,null,null,null,null,null,null,null,null,null,"","",{"$f":"IF($N101=\"\",\"\",IFERROR(IF(N101=6,1,IF(MATCH(N101&\"/\"&R101,読み替え表_クールビズ!$P$38:$P$59,0),1,0)),0))","v":""},{"$f":"IF($P101=\"\",\"\",IFERROR(IF(P101=6,1,IF(MATCH(P101&\"/\"&R101,読み替え表_クールビズ!$P$38:$P$59,0),1,0)),0))","v":""},"","",0,0,"*"]
[null,null,92,null,null,null,null,null,null,null,null,null,null,null,null,null,null,null,null,null,null,null,null,null,null,null,null,null,null,null,null,null,"","",{"$f":"IF($N102=\"\",\"\",IFERROR(IF(N102=6,1,IF(MATCH(N102&\"/\"&R102,読み替え表_クールビズ!$P$38:$P$59,0),1,0)),0))","v":""},{"$f":"IF($P102=\"\",\"\",IFERROR(IF(P102=6,1,IF(MATCH(P102&\"/\"&R102,読み替え表_クールビズ!$P$38:$P$59,0),1,0)),0))","v":""},"","",0,0,"*"]
[null,null,93,null,null,null,null,null,null,null,null,null,null,null,null,null,null,null,null,null,null,null,null,null,null,null,null,null,null,null,null,null,"","",{"$f":"IF($N103=\"\",\"\",IFERROR(IF(N103=6,1,IF(MATCH(N103&\"/\"&R103,読み替え表_クールビズ!$P$38:$P$59,0),1,0)),0))","v":""},{"$f":"IF($P103=\"\",\"\",IFERROR(IF(P103=6,1,IF(MATCH(P103&\"/\"&R103,読み替え表_クールビズ!$P$38:$P$59,0),1,0)),0))","v":""},"","",0,0,"*"]
[null,null,94,null,null,null,null,null,null,null,null,null,null,null,null,null,null,null,null,null,null,null,null,null,null,null,null,null,null,null,null,null,"","",{"$f":"IF($N104=\"\",\"\",IFERROR(IF(N104=6,1,IF(MATCH(N104&\"/\"&R104,読み替え表_クールビズ!$P$38:$P$59,0),1,0)),0))","v":""},{"$f":"IF($P104=\"\",\"\",IFERROR(IF(P104=6,1,IF(MATCH(P104&\"/\"&R104,読み替え表_クールビズ!$P$38:$P$59,0),1,0)),0))","v":""},"","",0,0,"*"]
[null,null,95,null,null,null,null,null,null,null,null,null,null,null,null,null,null,null,null,null,null,null,null,null,null,null,null,null,null,null,null,null,"","",{"$f":"IF($N105=\"\",\"\",IFERROR(IF(N105=6,1,IF(MATCH(N105&\"/\"&R105,読み替え表_クールビズ!$P$38:$P$59,0),1,0)),0))","v":""},{"$f":"IF($P105=\"\",\"\",IFERROR(IF(P105=6,1,IF(MATCH(P105&\"/\"&R105,読み替え表_クールビズ!$P$38:$P$59,0),1,0)),0))","v":""},"","",0,0,"*"]
[null,null,96,null,null,null,null,null,null,null,null,null,null,null,null,null,null,null,null,null,null,null,null,null,null,null,null,null,null,null,null,null,"","",{"$f":"IF($N106=\"\",\"\",IFERROR(IF(N106=6,1,IF(MATCH(N106&\"/\"&R106,読み替え表_クールビズ!$P$38:$P$59,0),1,0)),0))","v":""},{"$f":"IF($P106=\"\",\"\",IFERROR(IF(P106=6,1,IF(MATCH(P106&\"/\"&R106,読み替え表_クールビズ!$P$38:$P$59,0),1,0)),0))","v":""},"","",0,0,"*"]
[null,null,97,null,null,null,null,null,null,null,null,null,null,null,null,null,null,null,null,null,null,null,null,null,null,null,null,null,null,null,null,null,"","",{"$f":"IF($N107=\"\",\"\",IFERROR(IF(N107=6,1,IF(MATCH(N107&\"/\"&R107,読み替え表_クールビズ!$P$38:$P$59,0),1,0)),0))","v":""},{"$f":"IF($P107=\"\",\"\",IFERROR(IF(P107=6,1,IF(MATCH(P107&\"/\"&R107,読み替え表_クールビズ!$P$38:$P$59,0),1,0)),0))","v":""},"","",0,0,"*"]
[null,null,98,null,null,null,null,null,null,null,null,null,null,null,null,null,null,null,null,null,null,null,null,null,null,null,null,null,null,null,null,null,"","",{"$f":"IF($N108=\"\",\"\",IFERROR(IF(N108=6,1,IF(MATCH(N108&\"/\"&R108,読み替え表_クールビズ!$P$38:$P$59,0),1,0)),0))","v":""},{"$f":"IF($P108=\"\",\"\",IFERROR(IF(P108=6,1,IF(MATCH(P108&\"/\"&R108,読み替え表_クールビズ!$P$38:$P$59,0),1,0)),0))","v":""},"","",0,0,"*"]
[null,null,99,null,null,null,null,null,null,null,null,null,null,null,null,null,null,null,null,null,null,null,null,null,null,null,null,null,null,null,null,null,"","",{"$f":"IF($N109=\"\",\"\",IFERROR(IF(N109=6,1,IF(MATCH(N109&\"/\"&R109,読み替え表_クールビズ!$P$38:$P$59,0),1,0)),0))","v":""},{"$f":"IF($P109=\"\",\"\",IFERROR(IF(P109=6,1,IF(MATCH(P109&\"/\"&R109,読み替え表_クールビズ!$P$38:$P$59,0),1,0)),0))","v":""},"","",0,0,"*"]
[null,null,100,null,null,null,null,null,null,null,null,null,null,null,null,null,null,null,null,null,null,null,null,null,null,null,null,null,null,null,null,null,"","",{"$f":"IF($N110=\"\",\"\",IFERROR(IF(N110=6,1,IF(MATCH(N110&\"/\"&R110,読み替え表_クールビズ!$P$38:$P$59,0),1,0)),0))","v":""},{"$f":"IF($P110=\"\",\"\",IFERROR(IF(P110=6,1,IF(MATCH(P110&\"/\"&R110,読み替え表_クールビズ!$P$38:$P$59,0),1,0)),0))","v":""},"","",0,0,"*"]
[null,null,101,null,null,null,null,null,null,null,null,null,null,null,null,null,null,null,null,null,null,null,null,null,null,null,null,null,null,null,null,null,"","",{"$f":"IF($N111=\"\",\"\",IFERROR(IF(N111=6,1,IF(MATCH(N111&\"/\"&R111,読み替え表_クールビズ!$P$38:$P$59,0),1,0)),0))","v":""},{"$f":"IF($P111=\"\",\"\",IFERROR(IF(P111=6,1,IF(MATCH(P111&\"/\"&R111,読み替え表_クールビズ!$P$38:$P$59,0),1,0)),0))","v":""},"","",0,0,"*"]
[null,null,102,null,null,null,null,null,null,null,null,null,null,null,null,null,null,null,null,null,null,null,null,null,null,null,null,null,null,null,null,null,"","",{"$f":"IF($N112=\"\",\"\",IFERROR(IF(N112=6,1,IF(MATCH(N112&\"/\"&R112,読み替え表_クールビズ!$P$38:$P$59,0),1,0)),0))","v":""},{"$f":"IF($P112=\"\",\"\",IFERROR(IF(P112=6,1,IF(MATCH(P112&\"/\"&R112,読み替え表_クールビズ!$P$38:$P$59,0),1,0)),0))","v":""},"","",0,0,"*"]
[null,null,103,null,null,null,null,null,null,null,null,null,null,null,null,null,null,null,null,null,null,null,null,null,null,null,null,null,null,null,null,null,"","",{"$f":"IF($N113=\"\",\"\",IFERROR(IF(N113=6,1,IF(MATCH(N113&\"/\"&R113,読み替え表_クールビズ!$P$38:$P$59,0),1,0)),0))","v":""},{"$f":"IF($P113=\"\",\"\",IFERROR(IF(P113=6,1,IF(MATCH(P113&\"/\"&R113,読み替え表_クールビズ!$P$38:$P$59,0),1,0)),0))","v":""},"","",0,0,"*"]
[null,null,104,null,null,null,null,null,null,null,null,null,null,null,null,null,null,null,null,null,null,null,null,null,null,null,null,null,null,null,null,null,"","",{"$f":"IF($N114=\"\",\"\",IFERROR(IF(N114=6,1,IF(MATCH(N114&\"/\"&R114,読み替え表_クールビズ!$P$38:$P$59,0),1,0)),0))","v":""},{"$f":"IF($P114=\"\",\"\",IFERROR(IF(P114=6,1,IF(MATCH(P114&\"/\"&R114,読み替え表_クールビズ!$P$38:$P$59,0),1,0)),0))","v":""},"","",0,0,"*"]
[null,null,105,null,null,null,null,null,null,null,null,null,null,null,null,null,null,null,null,null,null,null,null,null,null,null,null,null,null,null,null,null,"","",{"$f":"IF($N115=\"\",\"\",IFERROR(IF(N115=6,1,IF(MATCH(N115&\"/\"&R115,読み替え表_クールビズ!$P$38:$P$59,0),1,0)),0))","v":""},{"$f":"IF($P115=\"\",\"\",IFERROR(IF(P115=6,1,IF(MATCH(P115&\"/\"&R115,読み替え表_クールビズ!$P$38:$P$59,0),1,0)),0))","v":""},"","",0,0,"*"]
[null,null,106,null,null,null,null,null,null,null,null,null,null,null,null,null,null,null,null,null,null,null,null,null,null,null,null,null,null,null,null,null,"","",{"$f":"IF($N116=\"\",\"\",IFERROR(IF(N116=6,1,IF(MATCH(N116&\"/\"&R116,読み替え表_クールビズ!$P$38:$P$59,0),1,0)),0))","v":""},{"$f":"IF($P116=\"\",\"\",IFERROR(IF(P116=6,1,IF(MATCH(P116&\"/\"&R116,読み替え表_クールビズ!$P$38:$P$59,0),1,0)),0))","v":""},"","",0,0,"*"]
[null,null,107,null,null,null,null,null,null,null,null,null,null,null,null,null,null,null,null,null,null,null,null,null,null,null,null,null,null,null,null,null,"","",{"$f":"IF($N117=\"\",\"\",IFERROR(IF(N117=6,1,IF(MATCH(N117&\"/\"&R117,読み替え表_クールビズ!$P$38:$P$59,0),1,0)),0))","v":""},{"$f":"IF($P117=\"\",\"\",IFERROR(IF(P117=6,1,IF(MATCH(P117&\"/\"&R117,読み替え表_クールビズ!$P$38:$P$59,0),1,0)),0))","v":""},"","",0,0,"*"]
[null,null,108,null,null,null,null,null,null,null,null,null,null,null,null,null,null,null,null,null,null,null,null,null,null,null,null,null,null,null,null,null,"","",{"$f":"IF($N118=\"\",\"\",IFERROR(IF(N118=6,1,IF(MATCH(N118&\"/\"&R118,読み替え表_クールビズ!$P$38:$P$59,0),1,0)),0))","v":""},{"$f":"IF($P118=\"\",\"\",IFERROR(IF(P118=6,1,IF(MATCH(P118&\"/\"&R118,読み替え表_クールビズ!$P$38:$P$59,0),1,0)),0))","v":""},"","",0,0,"*"]
[null,null,109,null,null,null,null,null,null,null,null,null,null,null,null,null,null,null,null,null,null,null,null,null,null,null,null,null,null,null,null,null,"","",{"$f":"IF($N119=\"\",\"\",IFERROR(IF(N119=6,1,IF(MATCH(N119&\"/\"&R119,読み替え表_クールビズ!$P$38:$P$59,0),1,0)),0))","v":""},{"$f":"IF($P119=\"\",\"\",IFERROR(IF(P119=6,1,IF(MATCH(P119&\"/\"&R119,読み替え表_クールビズ!$P$38:$P$59,0),1,0)),0))","v":""},"","",0,0,"*"]
[null,null,110,null,null,null,null,null,null,null,null,null,null,null,null,null,null,null,null,null,null,null,null,null,null,null,null,null,null,null,null,null,"","",{"$f":"IF($N120=\"\",\"\",IFERROR(IF(N120=6,1,IF(MATCH(N120&\"/\"&R120,読み替え表_クールビズ!$P$38:$P$59,0),1,0)),0))","v":""},{"$f":"IF($P120=\"\",\"\",IFERROR(IF(P120=6,1,IF(MATCH(P120&\"/\"&R120,読み替え表_クールビズ!$P$38:$P$59,0),1,0)),0))","v":""},"","",0,0,"*"]
[null,null,111,null,null,null,null,null,null,null,null,null,null,null,null,null,null,null,null,null,null,null,null,null,null,null,null,null,null,null,null,null,"","",{"$f":"IF($N121=\"\",\"\",IFERROR(IF(N121=6,1,IF(MATCH(N121&\"/\"&R121,読み替え表_クールビズ!$P$38:$P$59,0),1,0)),0))","v":""},{"$f":"IF($P121=\"\",\"\",IFERROR(IF(P121=6,1,IF(MATCH(P121&\"/\"&R121,読み替え表_クールビズ!$P$38:$P$59,0),1,0)),0))","v":""},"","",0,0,"*"]
[null,null,112,null,null,null,null,null,null,null,null,null,null,null,null,null,null,null,null,null,null,null,null,null,null,null,null,null,null,null,null,null,"","",{"$f":"IF($N122=\"\",\"\",IFERROR(IF(N122=6,1,IF(MATCH(N122&\"/\"&R122,読み替え表_クールビズ!$P$38:$P$59,0),1,0)),0))","v":""},{"$f":"IF($P122=\"\",\"\",IFERROR(IF(P122=6,1,IF(MATCH(P122&\"/\"&R122,読み替え表_クールビズ!$P$38:$P$59,0),1,0)),0))","v":""},"","",0,0,"*"]
[null,null,113,null,null,null,null,null,null,null,null,null,null,null,null,null,null,null,null,null,null,null,null,null,null,null,null,null,null,null,null,null,"","",{"$f":"IF($N123=\"\",\"\",IFERROR(IF(N123=6,1,IF(MATCH(N123&\"/\"&R123,読み替え表_クールビズ!$P$38:$P$59,0),1,0)),0))","v":""},{"$f":"IF($P123=\"\",\"\",IFERROR(IF(P123=6,1,IF(MATCH(P123&\"/\"&R123,読み替え表_クールビズ!$P$38:$P$59,0),1,0)),0))","v":""},"","",0,0,"*"]
[null,null,114,null,null,null,null,null,null,null,null,null,null,null,null,null,null,null,null,null,null,null,null,null,null,null,null,null,null,null,null,null,"","",{"$f":"IF($N124=\"\",\"\",IFERROR(IF(N124=6,1,IF(MATCH(N124&\"/\"&R124,読み替え表_クールビズ!$P$38:$P$59,0),1,0)),0))","v":""},{"$f":"IF($P124=\"\",\"\",IFERROR(IF(P124=6,1,IF(MATCH(P124&\"/\"&R124,読み替え表_クールビズ!$P$38:$P$59,0),1,0)),0))","v":""},"","",0,0,"*"]
[null,null,115,null,null,null,null,null,null,null,null,null,null,null,null,null,null,null,null,null,null,null,null,null,null,null,null,null,null,null,null,null,"","",{"$f":"IF($N125=\"\",\"\",IFERROR(IF(N125=6,1,IF(MATCH(N125&\"/\"&R125,読み替え表_クールビズ!$P$38:$P$59,0),1,0)),0))","v":""},{"$f":"IF($P125=\"\",\"\",IFERROR(IF(P125=6,1,IF(MATCH(P125&\"/\"&R125,読み替え表_クールビズ!$P$38:$P$59,0),1,0)),0))","v":""},"","",0,0,"*"]
[null,null,116,null,null,null,null,null,null,null,null,null,null,null,null,null,null,null,null,null,null,null,null,null,null,null,null,null,null,null,null,null,"","",{"$f":"IF($N126=\"\",\"\",IFERROR(IF(N126=6,1,IF(MATCH(N126&\"/\"&R126,読み替え表_クールビズ!$P$38:$P$59,0),1,0)),0))","v":""},{"$f":"IF($P126=\"\",\"\",IFERROR(IF(P126=6,1,IF(MATCH(P126&\"/\"&R126,読み替え表_クールビズ!$P$38:$P$59,0),1,0)),0))","v":""},"","",0,0,"*"]
[null,null,117,null,null,null,null,null,null,null,null,null,null,null,null,null,null,null,null,null,null,null,null,null,null,null,null,null,null,null,null,null,"","",{"$f":"IF($N127=\"\",\"\",IFERROR(IF(N127=6,1,IF(MATCH(N127&\"/\"&R127,読み替え表_クールビズ!$P$38:$P$59,0),1,0)),0))","v":""},{"$f":"IF($P127=\"\",\"\",IFERROR(IF(P127=6,1,IF(MATCH(P127&\"/\"&R127,読み替え表_クールビズ!$P$38:$P$59,0),1,0)),0))","v":""},"","",0,0,"*"]
[null,null,118,null,null,null,null,null,null,null,null,null,null,null,null,null,null,null,null,null,null,null,null,null,null,null,null,null,null,null,null,null,"","",{"$f":"IF($N128=\"\",\"\",IFERROR(IF(N128=6,1,IF(MATCH(N128&\"/\"&R128,読み替え表_クールビズ!$P$38:$P$59,0),1,0)),0))","v":""},{"$f":"IF($P128=\"\",\"\",IFERROR(IF(P128=6,1,IF(MATCH(P128&\"/\"&R128,読み替え表_クールビズ!$P$38:$P$59,0),1,0)),0))","v":""},"","",0,0,"*"]
[null,null,119,null,null,null,null,null,null,null,null,null,null,null,null,null,null,null,null,null,null,null,null,null,null,null,null,null,null,null,null,null,"","",{"$f":"IF($N129=\"\",\"\",IFERROR(IF(N129=6,1,IF(MATCH(N129&\"/\"&R129,読み替え表_クールビズ!$P$38:$P$59,0),1,0)),0))","v":""},{"$f":"IF($P129=\"\",\"\",IFERROR(IF(P129=6,1,IF(MATCH(P129&\"/\"&R129,読み替え表_クールビズ!$P$38:$P$59,0),1,0)),0))","v":""},"","",0,0,"*"]
[null,null,120,null,null,null,null,null,null,null,null,null,null,null,null,null,null,null,null,null,null,null,null,null,null,null,null,null,null,null,null,null,"","",{"$f":"IF($N130=\"\",\"\",IFERROR(IF(N130=6,1,IF(MATCH(N130&\"/\"&R130,読み替え表_クールビズ!$P$38:$P$59,0),1,0)),0))","v":""},{"$f":"IF($P130=\"\",\"\",IFERROR(IF(P130=6,1,IF(MATCH(P130&\"/\"&R130,読み替え表_クールビズ!$P$38:$P$59,0),1,0)),0))","v":""},"","",0,0,"*"]
[null,null,121,null,null,null,null,null,null,null,null,null,null,null,null,null,null,null,null,null,null,null,null,null,null,null,null,null,null,null,null,null,"","",{"$f":"IF($N131=\"\",\"\",IFERROR(IF(N131=6,1,IF(MATCH(N131&\"/\"&R131,読み替え表_クールビズ!$P$38:$P$59,0),1,0)),0))","v":""},{"$f":"IF($P131=\"\",\"\",IFERROR(IF(P131=6,1,IF(MATCH(P131&\"/\"&R131,読み替え表_クールビズ!$P$38:$P$59,0),1,0)),0))","v":""},"","",0,0,"*"]
[null,null,122,null,null,null,null,null,null,null,null,null,null,null,null,null,null,null,null,null,null,null,null,null,null,null,null,null,null,null,null,null,"","",{"$f":"IF($N132=\"\",\"\",IFERROR(IF(N132=6,1,IF(MATCH(N132&\"/\"&R132,読み替え表_クールビズ!$P$38:$P$59,0),1,0)),0))","v":""},{"$f":"IF($P132=\"\",\"\",IFERROR(IF(P132=6,1,IF(MATCH(P132&\"/\"&R132,読み替え表_クールビズ!$P$38:$P$59,0),1,0)),0))","v":""},"","",0,0,"*"]
[null,null,123,null,null,null,null,null,null,null,null,null,null,null,null,null,null,null,null,null,null,null,null,null,null,null,null,null,null,null,null,null,"","",{"$f":"IF($N133=\"\",\"\",IFERROR(IF(N133=6,1,IF(MATCH(N133&\"/\"&R133,読み替え表_クールビズ!$P$38:$P$59,0),1,0)),0))","v":""},{"$f":"IF($P133=\"\",\"\",IFERROR(IF(P133=6,1,IF(MATCH(P133&\"/\"&R133,読み替え表_クールビズ!$P$38:$P$59,0),1,0)),0))","v":""},"","",0,0,"*"]
[null,null,124,null,null,null,null,null,null,null,null,null,null,null,null,null,null,null,null,null,null,null,null,null,null,null,null,null,null,null,null,null,"","",{"$f":"IF($N134=\"\",\"\",IFERROR(IF(N134=6,1,IF(MATCH(N134&\"/\"&R134,読み替え表_クールビズ!$P$38:$P$59,0),1,0)),0))","v":""},{"$f":"IF($P134=\"\",\"\",IFERROR(IF(P134=6,1,IF(MATCH(P134&\"/\"&R134,読み替え表_クールビズ!$P$38:$P$59,0),1,0)),0))","v":""},"","",0,0,"*"]
[null,null,125,null,null,null,null,null,null,null,null,null,null,null,null,null,null,null,null,null,null,null,null,null,null,null,null,null,null,null,null,null,"","",{"$f":"IF($N135=\"\",\"\",IFERROR(IF(N135=6,1,IF(MATCH(N135&\"/\"&R135,読み替え表_クールビズ!$P$38:$P$59,0),1,0)),0))","v":""},{"$f":"IF($P135=\"\",\"\",IFERROR(IF(P135=6,1,IF(MATCH(P135&\"/\"&R135,読み替え表_クールビズ!$P$38:$P$59,0),1,0)),0))","v":""},"","",0,0,"*"]
[null,null,126,null,null,null,null,null,null,null,null,null,null,null,null,null,null,null,null,null,null,null,null,null,null,null,null,null,null,null,null,null,"","",{"$f":"IF($N136=\"\",\"\",IFERROR(IF(N136=6,1,IF(MATCH(N136&\"/\"&R136,読み替え表_クールビズ!$P$38:$P$59,0),1,0)),0))","v":""},{"$f":"IF($P136=\"\",\"\",IFERROR(IF(P136=6,1,IF(MATCH(P136&\"/\"&R136,読み替え表_クールビズ!$P$38:$P$59,0),1,0)),0))","v":""},"","",0,0,"*"]
[null,null,127,null,null,null,null,null,null,null,null,null,null,null,null,null,null,null,null,null,null,null,null,null,null,null,null,null,null,null,null,null,"","",{"$f":"IF($N137=\"\",\"\",IFERROR(IF(N137=6,1,IF(MATCH(N137&\"/\"&R137,読み替え表_クールビズ!$P$38:$P$59,0),1,0)),0))","v":""},{"$f":"IF($P137=\"\",\"\",IFERROR(IF(P137=6,1,IF(MATCH(P137&\"/\"&R137,読み替え表_クールビズ!$P$38:$P$59,0),1,0)),0))","v":""},"","",0,0,"*"]
[null,null,128,null,null,null,null,null,null,null,null,null,null,null,null,null,null,null,null,null,null,null,null,null,null,null,null,null,null,null,null,null,"","",{"$f":"IF($N138=\"\",\"\",IFERROR(IF(N138=6,1,IF(MATCH(N138&\"/\"&R138,読み替え表_クールビズ!$P$38:$P$59,0),1,0)),0))","v":""},{"$f":"IF($P138=\"\",\"\",IFERROR(IF(P138=6,1,IF(MATCH(P138&\"/\"&R138,読み替え表_クールビズ!$P$38:$P$59,0),1,0)),0))","v":""},"","",0,0,"*"]
[null,null,129,null,null,null,null,null,null,null,null,null,null,null,null,null,null,null,null,null,null,null,null,null,null,null,null,null,null,null,null,null,"","",{"$f":"IF($N139=\"\",\"\",IFERROR(IF(N139=6,1,IF(MATCH(N139&\"/\"&R139,読み替え表_クールビズ!$P$38:$P$59,0),1,0)),0))","v":""},{"$f":"IF($P139=\"\",\"\",IFERROR(IF(P139=6,1,IF(MATCH(P139&\"/\"&R139,読み替え表_クールビズ!$P$38:$P$59,0),1,0)),0))","v":""},{"$f":"IF($N139=\"\",\"\",IF(OR(CONCATENATE(N139,$R139)=\"22\",CONCATENATE(N139,$R139)=\"32\",CONCATENATE(N139,$R139)=\"42\",CONCATENATE(N139,$R139)=\"43\",CONCATENATE(N139,$R139)=\"51\",CONCATENATE(N139,$R139)=\"52\",CONCATENATE(N139,$R139)=\"53\"),1,0))","v":""},{"$f":"IF($P139=\"\",\"\",IF(OR(CONCATENATE(P139,$R139)=\"22\",CONCATENATE(P139,$R139)=\"32\",CONCATENATE(P139,$R139)=\"42\",CONCATENATE(P139,$R139)=\"43\",CONCATENATE(P139,$R139)=\"51\",CONCATENATE(P139,$R139)=\"52\",CONCATENATE(P139,$R139)=\"53\"),1,0))","v":""},0,0,"*"]
[null,null,{"$f":"ROW()-10","v":130},null,null,null,null,null,null,null,null,null,null,null,null,null,null,null,null,null,null,null,null,null,null,null,null,null,null,null,null,null,{"$f":"IF($J140=\"\",\"\",IF(AND($J140>=1,$J140<=9),1,0))","v":""},{"$f":"IF($R140=\"\",\"\",IF(OR($R140=1,$R140=2,$R140=3),1,0))","v":""},{"$f":"IF($N140=\"\",\"\",IFERROR(IF(N140=6,1,IF(MATCH(N140&\"/\"&R140,読み替え表_クールビズ!$P$38:$P$59,0),1,0)),0))","v":""},{"$f":"IF($P140=\"\",\"\",IFERROR(IF(P140=6,1,IF(MATCH(P140&\"/\"&R140,読み替え表_クールビズ!$P$38:$P$59,0),1,0)),0))","v":""},"","",{"$f":"IF(OR(AK140=1,AL140=1),1,0)","v":0},{"$f":"IF(OR($AG140=0,SUM(AI140:AJ140)=2),1,0)","v":0},"*"]
[null,null,131,null,null,null,null,null,null,null,null,null,null,null,null,null,null,null,null,null,null,null,null,null,null,null,null,null,null,null,null,null,"","",{"$f":"IF($N141=\"\",\"\",IFERROR(IF(N141=6,1,IF(MATCH(N141&\"/\"&R141,読み替え表_クールビズ!$P$38:$P$59,0),1,0)),0))","v":""},{"$f":"IF($P141=\"\",\"\",IFERROR(IF(P141=6,1,IF(MATCH(P141&\"/\"&R141,読み替え表_クールビズ!$P$38:$P$59,0),1,0)),0))","v":""},"","",0,0,"*"]
[null,null,132,null,null,null,null,null,null,null,null,null,null,null,null,null,null,null,null,null,null,null,null,null,null,null,null,null,null,null,null,null,"","",{"$f":"IF($N142=\"\",\"\",IFERROR(IF(N142=6,1,IF(MATCH(N142&\"/\"&R142,読み替え表_クールビズ!$P$38:$P$59,0),1,0)),0))","v":""},{"$f":"IF($P142=\"\",\"\",IFERROR(IF(P142=6,1,IF(MATCH(P142&\"/\"&R142,読み替え表_クールビズ!$P$38:$P$59,0),1,0)),0))","v":""},"","",0,0,"*"]
[null,null,133,null,null,null,null,null,null,null,null,null,null,null,null,null,null,null,null,null,null,null,null,null,null,null,null,null,null,null,null,null,"","",{"$f":"IF($N143=\"\",\"\",IFERROR(IF(N143=6,1,IF(MATCH(N143&\"/\"&R143,読み替え表_クールビズ!$P$38:$P$59,0),1,0)),0))","v":""},{"$f":"IF($P143=\"\",\"\",IFERROR(IF(P143=6,1,IF(MATCH(P143&\"/\"&R143,読み替え表_クールビズ!$P$38:$P$59,0),1,0)),0))","v":""},"","",0,0,"*"]
[null,null,134,null,null,null,null,null,null,null,null,null,null,null,null,null,null,null,null,null,null,null,null,null,null,null,null,null,null,null,null,null,"","",{"$f":"IF($N144=\"\",\"\",IFERROR(IF(N144=6,1,IF(MATCH(N144&\"/\"&R144,読み替え表_クールビズ!$P$38:$P$59,0),1,0)),0))","v":""},{"$f":"IF($P144=\"\",\"\",IFERROR(IF(P144=6,1,IF(MATCH(P144&\"/\"&R144,読み替え表_クールビズ!$P$38:$P$59,0),1,0)),0))","v":""},"","",0,0,"*"]
[null,null,135,null,null,null,null,null,null,null,null,null,null,null,null,null,null,null,null,null,null,null,null,null,null,null,null,null,null,null,null,null,"","",{"$f":"IF($N145=\"\",\"\",IFERROR(IF(N145=6,1,IF(MATCH(N145&\"/\"&R145,読み替え表_クールビズ!$P$38:$P$59,0),1,0)),0))","v":""},{"$f":"IF($P145=\"\",\"\",IFERROR(IF(P145=6,1,IF(MATCH(P145&\"/\"&R145,読み替え表_クールビズ!$P$38:$P$59,0),1,0)),0))","v":""},"","",0,0,"*"]
[null,null,136,null,null,null,null,null,null,null,null,null,null,null,null,null,null,null,null,null,null,null,null,null,null,null,null,null,null,null,null,null,"","",{"$f":"IF($N146=\"\",\"\",IFERROR(IF(N146=6,1,IF(MATCH(N146&\"/\"&R146,読み替え表_クールビズ!$P$38:$P$59,0),1,0)),0))","v":""},{"$f":"IF($P146=\"\",\"\",IFERROR(IF(P146=6,1,IF(MATCH(P146&\"/\"&R146,読み替え表_クールビズ!$P$38:$P$59,0),1,0)),0))","v":""},"","",0,0,"*"]
[null,null,137,null,null,null,null,null,null,null,null,null,null,null,null,null,null,null,null,null,null,null,null,null,null,null,null,null,null,null,null,null,"","",{"$f":"IF($N147=\"\",\"\",IFERROR(IF(N147=6,1,IF(MATCH(N147&\"/\"&R147,読み替え表_クールビズ!$P$38:$P$59,0),1,0)),0))","v":""},{"$f":"IF($P147=\"\",\"\",IFERROR(IF(P147=6,1,IF(MATCH(P147&\"/\"&R147,読み替え表_クールビズ!$P$38:$P$59,0),1,0)),0))","v":""},"","",0,0,"*"]
[null,null,138,null,null,null,null,null,null,null,null,null,null,null,null,null,null,null,null,null,null,null,null,null,null,null,null,null,null,null,null,null,"","",{"$f":"IF($N148=\"\",\"\",IFERROR(IF(N148=6,1,IF(MATCH(N148&\"/\"&R148,読み替え表_クールビズ!$P$38:$P$59,0),1,0)),0))","v":""},{"$f":"IF($P148=\"\",\"\",IFERROR(IF(P148=6,1,IF(MATCH(P148&\"/\"&R148,読み替え表_クールビズ!$P$38:$P$59,0),1,0)),0))","v":""},"","",0,0,"*"]
[null,null,139,null,null,null,null,null,null,null,null,null,null,null,null,null,null,null,null,null,null,null,null,null,null,null,null,null,null,null,null,null,"","",{"$f":"IF($N149=\"\",\"\",IFERROR(IF(N149=6,1,IF(MATCH(N149&\"/\"&R149,読み替え表_クールビズ!$P$38:$P$59,0),1,0)),0))","v":""},{"$f":"IF($P149=\"\",\"\",IFERROR(IF(P149=6,1,IF(MATCH(P149&\"/\"&R149,読み替え表_クールビズ!$P$38:$P$59,0),1,0)),0))","v":""},"","",0,0,"*"]
[null,null,140,null,null,null,null,null,null,null,null,null,null,null,null,null,null,null,null,null,null,null,null,null,null,null,null,null,null,null,null,null,"","",{"$f":"IF($N150=\"\",\"\",IFERROR(IF(N150=6,1,IF(MATCH(N150&\"/\"&R150,読み替え表_クールビズ!$P$38:$P$59,0),1,0)),0))","v":""},{"$f":"IF($P150=\"\",\"\",IFERROR(IF(P150=6,1,IF(MATCH(P150&\"/\"&R150,読み替え表_クールビズ!$P$38:$P$59,0),1,0)),0))","v":""},"","",0,0,"*"]
[null,null,141,null,null,null,null,null,null,null,null,null,null,null,null,null,null,null,null,null,null,null,null,null,null,null,null,null,null,null,null,null,"","",{"$f":"IF($N151=\"\",\"\",IFERROR(IF(N151=6,1,IF(MATCH(N151&\"/\"&R151,読み替え表_クールビズ!$P$38:$P$59,0),1,0)),0))","v":""},{"$f":"IF($P151=\"\",\"\",IFERROR(IF(P151=6,1,IF(MATCH(P151&\"/\"&R151,読み替え表_クールビズ!$P$38:$P$59,0),1,0)),0))","v":""},"","",0,0,"*"]
[null,null,142,null,null,null,null,null,null,null,null,null,null,null,null,null,null,null,null,null,null,null,null,null,null,null,null,null,null,null,null,null,"","",{"$f":"IF($N152=\"\",\"\",IFERROR(IF(N152=6,1,IF(MATCH(N152&\"/\"&R152,読み替え表_クールビズ!$P$38:$P$59,0),1,0)),0))","v":""},{"$f":"IF($P152=\"\",\"\",IFERROR(IF(P152=6,1,IF(MATCH(P152&\"/\"&R152,読み替え表_クールビズ!$P$38:$P$59,0),1,0)),0))","v":""},"","",0,0,"*"]
[null,null,143,null,null,null,null,null,null,null,null,null,null,null,null,null,null,null,null,null,null,null,null,null,null,null,null,null,null,null,null,null,"","",{"$f":"IF($N153=\"\",\"\",IFERROR(IF(N153=6,1,IF(MATCH(N153&\"/\"&R153,読み替え表_クールビズ!$P$38:$P$59,0),1,0)),0))","v":""},{"$f":"IF($P153=\"\",\"\",IFERROR(IF(P153=6,1,IF(MATCH(P153&\"/\"&R153,読み替え表_クールビズ!$P$38:$P$59,0),1,0)),0))","v":""},"","",0,0,"*"]
[null,null,144,null,null,null,null,null,null,null,null,null,null,null,null,null,null,null,null,null,null,null,null,null,null,null,null,null,null,null,null,null,"","",{"$f":"IF($N154=\"\",\"\",IFERROR(IF(N154=6,1,IF(MATCH(N154&\"/\"&R154,読み替え表_クールビズ!$P$38:$P$59,0),1,0)),0))","v":""},{"$f":"IF($P154=\"\",\"\",IFERROR(IF(P154=6,1,IF(MATCH(P154&\"/\"&R154,読み替え表_クールビズ!$P$38:$P$59,0),1,0)),0))","v":""},"","",0,0,"*"]
[null,null,145,null,null,null,null,null,null,null,null,null,null,null,null,null,null,null,null,null,null,null,null,null,null,null,null,null,null,null,null,null,"","",{"$f":"IF($N155=\"\",\"\",IFERROR(IF(N155=6,1,IF(MATCH(N155&\"/\"&R155,読み替え表_クールビズ!$P$38:$P$59,0),1,0)),0))","v":""},{"$f":"IF($P155=\"\",\"\",IFERROR(IF(P155=6,1,IF(MATCH(P155&\"/\"&R155,読み替え表_クールビズ!$P$38:$P$59,0),1,0)),0))","v":""},"","",0,0,"*"]
[null,null,146,null,null,null,null,null,null,null,null,null,null,null,null,null,null,null,null,null,null,null,null,null,null,null,null,null,null,null,null,null,"","",{"$f":"IF($N156=\"\",\"\",IFERROR(IF(N156=6,1,IF(MATCH(N156&\"/\"&R156,読み替え表_クールビズ!$P$38:$P$59,0),1,0)),0))","v":""},{"$f":"IF($P156=\"\",\"\",IFERROR(IF(P156=6,1,IF(MATCH(P156&\"/\"&R156,読み替え表_クールビズ!$P$38:$P$59,0),1,0)),0))","v":""},"","",0,0,"*"]
[null,null,147,null,null,null,null,null,null,null,null,null,null,null,null,null,null,null,null,null,null,null,null,null,null,null,null,null,null,null,null,null,"","",{"$f":"IF($N157=\"\",\"\",IFERROR(IF(N157=6,1,IF(MATCH(N157&\"/\"&R157,読み替え表_クールビズ!$P$38:$P$59,0),1,0)),0))","v":""},{"$f":"IF($P157=\"\",\"\",IFERROR(IF(P157=6,1,IF(MATCH(P157&\"/\"&R157,読み替え表_クールビズ!$P$38:$P$59,0),1,0)),0))","v":""},"","",0,0,"*"]
[null,null,148,null,null,null,null,null,null,null,null,null,null,null,null,null,null,null,null,null,null,null,null,null,null,null,null,null,null,null,null,null,"","",{"$f":"IF($N158=\"\",\"\",IFERROR(IF(N158=6,1,IF(MATCH(N158&\"/\"&R158,読み替え表_クールビズ!$P$38:$P$59,0),1,0)),0))","v":""},{"$f":"IF($P158=\"\",\"\",IFERROR(IF(P158=6,1,IF(MATCH(P158&\"/\"&R158,読み替え表_クールビズ!$P$38:$P$59,0),1,0)),0))","v":""},"","",0,0,"*"]
[null,null,149,null,null,null,null,null,null,null,null,null,null,null,null,null,null,null,null,null,null,null,null,null,null,null,null,null,null,null,null,null,"","",{"$f":"IF($N159=\"\",\"\",IFERROR(IF(N159=6,1,IF(MATCH(N159&\"/\"&R159,読み替え表_クールビズ!$P$38:$P$59,0),1,0)),0))","v":""},{"$f":"IF($P159=\"\",\"\",IFERROR(IF(P159=6,1,IF(MATCH(P159&\"/\"&R159,読み替え表_クールビズ!$P$38:$P$59,0),1,0)),0))","v":""},"","",0,0,"*"]
[null,null,150,null,null,null,null,null,null,null,null,null,null,null,null,null,null,null,null,null,null,null,null,null,null,null,null,null,null,null,null,null,"","",{"$f":"IF($N160=\"\",\"\",IFERROR(IF(N160=6,1,IF(MATCH(N160&\"/\"&R160,読み替え表_クールビズ!$P$38:$P$59,0),1,0)),0))","v":""},{"$f":"IF($P160=\"\",\"\",IFERROR(IF(P160=6,1,IF(MATCH(P160&\"/\"&R160,読み替え表_クールビズ!$P$38:$P$59,0),1,0)),0))","v":""},"","",0,0,"*"]
[null,null,151,null,null,null,null,null,null,null,null,null,null,null,null,null,null,null,null,null,null,null,null,null,null,null,null,null,null,null,null,null,"","",{"$f":"IF($N161=\"\",\"\",IFERROR(IF(N161=6,1,IF(MATCH(N161&\"/\"&R161,読み替え表_クールビズ!$P$38:$P$59,0),1,0)),0))","v":""},{"$f":"IF($P161=\"\",\"\",IFERROR(IF(P161=6,1,IF(MATCH(P161&\"/\"&R161,読み替え表_クールビズ!$P$38:$P$59,0),1,0)),0))","v":""},"","",0,0,"*"]
[null,null,152,null,null,null,null,null,null,null,null,null,null,null,null,null,null,null,null,null,null,null,null,null,null,null,null,null,null,null,null,null,"","",{"$f":"IF($N162=\"\",\"\",IFERROR(IF(N162=6,1,IF(MATCH(N162&\"/\"&R162,読み替え表_クールビズ!$P$38:$P$59,0),1,0)),0))","v":""},{"$f":"IF($P162=\"\",\"\",IFERROR(IF(P162=6,1,IF(MATCH(P162&\"/\"&R162,読み替え表_クールビズ!$P$38:$P$59,0),1,0)),0))","v":""},"","",0,0,"*"]
[null,null,153,null,null,null,null,null,null,null,null,null,null,null,null,null,null,null,null,null,null,null,null,null,null,null,null,null,null,null,null,null,"","",{"$f":"IF($N163=\"\",\"\",IFERROR(IF(N163=6,1,IF(MATCH(N163&\"/\"&R163,読み替え表_クールビズ!$P$38:$P$59,0),1,0)),0))","v":""},{"$f":"IF($P163=\"\",\"\",IFERROR(IF(P163=6,1,IF(MATCH(P163&\"/\"&R163,読み替え表_クールビズ!$P$38:$P$59,0),1,0)),0))","v":""},"","",0,0,"*"]
[null,null,154,null,null,null,null,null,null,null,null,null,null,null,null,null,null,null,null,null,null,null,null,null,null,null,null,null,null,null,null,null,"","",{"$f":"IF($N164=\"\",\"\",IFERROR(IF(N164=6,1,IF(MATCH(N164&\"/\"&R164,読み替え表_クールビズ!$P$38:$P$59,0),1,0)),0))","v":""},{"$f":"IF($P164=\"\",\"\",IFERROR(IF(P164=6,1,IF(MATCH(P164&\"/\"&R164,読み替え表_クールビズ!$P$38:$P$59,0),1,0)),0))","v":""},"","",0,0,"*"]
[null,null,155,null,null,null,null,null,null,null,null,null,null,null,null,null,null,null,null,null,null,null,null,null,null,null,null,null,null,null,null,null,"","",{"$f":"IF($N165=\"\",\"\",IFERROR(IF(N165=6,1,IF(MATCH(N165&\"/\"&R165,読み替え表_クールビズ!$P$38:$P$59,0),1,0)),0))","v":""},{"$f":"IF($P165=\"\",\"\",IFERROR(IF(P165=6,1,IF(MATCH(P165&\"/\"&R165,読み替え表_クールビズ!$P$38:$P$59,0),1,0)),0))","v":""},"","",0,0,"*"]
[null,null,156,null,null,null,null,null,null,null,null,null,null,null,null,null,null,null,null,null,null,null,null,null,null,null,null,null,null,null,null,null,"","",{"$f":"IF($N166=\"\",\"\",IFERROR(IF(N166=6,1,IF(MATCH(N166&\"/\"&R166,読み替え表_クールビズ!$P$38:$P$59,0),1,0)),0))","v":""},{"$f":"IF($P166=\"\",\"\",IFERROR(IF(P166=6,1,IF(MATCH(P166&\"/\"&R166,読み替え表_クールビズ!$P$38:$P$59,0),1,0)),0))","v":""},"","",0,0,"*"]
[null,null,157,null,null,null,null,null,null,null,null,null,null,null,null,null,null,null,null,null,null,null,null,null,null,null,null,null,null,null,null,null,"","",{"$f":"IF($N167=\"\",\"\",IFERROR(IF(N167=6,1,IF(MATCH(N167&\"/\"&R167,読み替え表_クールビズ!$P$38:$P$59,0),1,0)),0))","v":""},{"$f":"IF($P167=\"\",\"\",IFERROR(IF(P167=6,1,IF(MATCH(P167&\"/\"&R167,読み替え表_クールビズ!$P$38:$P$59,0),1,0)),0))","v":""},"","",0,0,"*"]
[null,null,158,null,null,null,null,null,null,null,null,null,null,null,null,null,null,null,null,null,null,null,null,null,null,null,null,null,null,null,null,null,"","",{"$f":"IF($N168=\"\",\"\",IFERROR(IF(N168=6,1,IF(MATCH(N168&\"/\"&R168,読み替え表_クールビズ!$P$38:$P$59,0),1,0)),0))","v":""},{"$f":"IF($P168=\"\",\"\",IFERROR(IF(P168=6,1,IF(MATCH(P168&\"/\"&R168,読み替え表_クールビズ!$P$38:$P$59,0),1,0)),0))","v":""},"","",0,0,"*"]
[null,null,159,null,null,null,null,null,null,null,null,null,null,null,null,null,null,null,null,null,null,null,null,null,null,null,null,null,null,null,null,null,"","",{"$f":"IF($N169=\"\",\"\",IFERROR(IF(N169=6,1,IF(MATCH(N169&\"/\"&R169,読み替え表_クールビズ!$P$38:$P$59,0),1,0)),0))","v":""},{"$f":"IF($P169=\"\",\"\",IFERROR(IF(P169=6,1,IF(MATCH(P169&\"/\"&R169,読み替え表_クールビズ!$P$38:$P$59,0),1,0)),0))","v":""},"","",0,0,"*"]
[null,null,160,null,null,null,null,null,null,null,null,null,null,null,null,null,null,null,null,null,null,null,null,null,null,null,null,null,null,null,null,null,"","",{"$f":"IF($N170=\"\",\"\",IFERROR(IF(N170=6,1,IF(MATCH(N170&\"/\"&R170,読み替え表_クールビズ!$P$38:$P$59,0),1,0)),0))","v":""},{"$f":"IF($P170=\"\",\"\",IFERROR(IF(P170=6,1,IF(MATCH(P170&\"/\"&R170,読み替え表_クールビズ!$P$38:$P$59,0),1,0)),0))","v":""},"","",0,0,"*"]
[null,null,161,null,null,null,null,null,null,null,null,null,null,null,null,null,null,null,null,null,null,null,null,null,null,null,null,null,null,null,null,null,"","",{"$f":"IF($N171=\"\",\"\",IFERROR(IF(N171=6,1,IF(MATCH(N171&\"/\"&R171,読み替え表_クールビズ!$P$38:$P$59,0),1,0)),0))","v":""},{"$f":"IF($P171=\"\",\"\",IFERROR(IF(P171=6,1,IF(MATCH(P171&\"/\"&R171,読み替え表_クールビズ!$P$38:$P$59,0),1,0)),0))","v":""},"","",0,0,"*"]
[null,null,162,null,null,null,null,null,null,null,null,null,null,null,null,null,null,null,null,null,null,null,null,null,null,null,null,null,null,null,null,null,"","",{"$f":"IF($N172=\"\",\"\",IFERROR(IF(N172=6,1,IF(MATCH(N172&\"/\"&R172,読み替え表_クールビズ!$P$38:$P$59,0),1,0)),0))","v":""},{"$f":"IF($P172=\"\",\"\",IFERROR(IF(P172=6,1,IF(MATCH(P172&\"/\"&R172,読み替え表_クールビズ!$P$38:$P$59,0),1,0)),0))","v":""},"","",0,0,"*"]
[null,null,163,null,null,null,null,null,null,null,null,null,null,null,null,null,null,null,null,null,null,null,null,null,null,null,null,null,null,null,null,null,"","",{"$f":"IF($N173=\"\",\"\",IFERROR(IF(N173=6,1,IF(MATCH(N173&\"/\"&R173,読み替え表_クールビズ!$P$38:$P$59,0),1,0)),0))","v":""},{"$f":"IF($P173=\"\",\"\",IFERROR(IF(P173=6,1,IF(MATCH(P173&\"/\"&R173,読み替え表_クールビズ!$P$38:$P$59,0),1,0)),0))","v":""},"","",0,0,"*"]
[null,null,164,null,null,null,null,null,null,null,null,null,null,null,null,null,null,null,null,null,null,null,null,null,null,null,null,null,null,null,null,null,"","",{"$f":"IF($N174=\"\",\"\",IFERROR(IF(N174=6,1,IF(MATCH(N174&\"/\"&R174,読み替え表_クールビズ!$P$38:$P$59,0),1,0)),0))","v":""},{"$f":"IF($P174=\"\",\"\",IFERROR(IF(P174=6,1,IF(MATCH(P174&\"/\"&R174,読み替え表_クールビズ!$P$38:$P$59,0),1,0)),0))","v":""},"","",0,0,"*"]
[null,null,165,null,null,null,null,null,null,null,null,null,null,null,null,null,null,null,null,null,null,null,null,null,null,null,null,null,null,null,null,null,"","",{"$f":"IF($N175=\"\",\"\",IFERROR(IF(N175=6,1,IF(MATCH(N175&\"/\"&R175,読み替え表_クールビズ!$P$38:$P$59,0),1,0)),0))","v":""},{"$f":"IF($P175=\"\",\"\",IFERROR(IF(P175=6,1,IF(MATCH(P175&\"/\"&R175,読み替え表_クールビズ!$P$38:$P$59,0),1,0)),0))","v":""},"","",0,0,"*"]
[null,null,166,null,null,null,null,null,null,null,null,null,null,null,null,null,null,null,null,null,null,null,null,null,null,null,null,null,null,null,null,null,"","",{"$f":"IF($N176=\"\",\"\",IFERROR(IF(N176=6,1,IF(MATCH(N176&\"/\"&R176,読み替え表_クールビズ!$P$38:$P$59,0),1,0)),0))","v":""},{"$f":"IF($P176=\"\",\"\",IFERROR(IF(P176=6,1,IF(MATCH(P176&\"/\"&R176,読み替え表_クールビズ!$P$38:$P$59,0),1,0)),0))","v":""},"","",0,0,"*"]
[null,null,167,null,null,null,null,null,null,null,null,null,null,null,null,null,null,null,null,null,null,null,null,null,null,null,null,null,null,null,null,null,"","",{"$f":"IF($N177=\"\",\"\",IFERROR(IF(N177=6,1,IF(MATCH(N177&\"/\"&R177,読み替え表_クールビズ!$P$38:$P$59,0),1,0)),0))","v":""},{"$f":"IF($P177=\"\",\"\",IFERROR(IF(P177=6,1,IF(MATCH(P177&\"/\"&R177,読み替え表_クールビズ!$P$38:$P$59,0),1,0)),0))","v":""},"","",0,0,"*"]
[null,null,168,null,null,null,null,null,null,null,null,null,null,null,null,null,null,null,null,null,null,null,null,null,null,null,null,null,null,null,null,null,"","",{"$f":"IF($N178=\"\",\"\",IFERROR(IF(N178=6,1,IF(MATCH(N178&\"/\"&R178,読み替え表_クールビズ!$P$38:$P$59,0),1,0)),0))","v":""},{"$f":"IF($P178=\"\",\"\",IFERROR(IF(P178=6,1,IF(MATCH(P178&\"/\"&R178,読み替え表_クールビズ!$P$38:$P$59,0),1,0)),0))","v":""},"","",0,0,"*"]
[null,null,169,null,null,null,null,null,null,null,null,null,null,null,null,null,null,null,null,null,null,null,null,null,null,null,null,null,null,null,null,null,"","",{"$f":"IF($N179=\"\",\"\",IFERROR(IF(N179=6,1,IF(MATCH(N179&\"/\"&R179,読み替え表_クールビズ!$P$38:$P$59,0),1,0)),0))","v":""},{"$f":"IF($P179=\"\",\"\",IFERROR(IF(P179=6,1,IF(MATCH(P179&\"/\"&R179,読み替え表_クールビズ!$P$38:$P$59,0),1,0)),0))","v":""},"","",0,0,"*"]
[null,null,170,null,null,null,null,null,null,null,null,null,null,null,null,null,null,null,null,null,null,null,null,null,null,null,null,null,null,null,null,null,"","",{"$f":"IF($N180=\"\",\"\",IFERROR(IF(N180=6,1,IF(MATCH(N180&\"/\"&R180,読み替え表_クールビズ!$P$38:$P$59,0),1,0)),0))","v":""},{"$f":"IF($P180=\"\",\"\",IFERROR(IF(P180=6,1,IF(MATCH(P180&\"/\"&R180,読み替え表_クールビズ!$P$38:$P$59,0),1,0)),0))","v":""},"","",0,0,"*"]
[null,null,171,null,null,null,null,null,null,null,null,null,null,null,null,null,null,null,null,null,null,null,null,null,null,null,null,null,null,null,null,null,"","",{"$f":"IF($N181=\"\",\"\",IFERROR(IF(N181=6,1,IF(MATCH(N181&\"/\"&R181,読み替え表_クールビズ!$P$38:$P$59,0),1,0)),0))","v":""},{"$f":"IF($P181=\"\",\"\",IFERROR(IF(P181=6,1,IF(MATCH(P181&\"/\"&R181,読み替え表_クールビズ!$P$38:$P$59,0),1,0)),0))","v":""},"","",0,0,"*"]
[null,null,172,null,null,null,null,null,null,null,null,null,null,null,null,null,null,null,null,null,null,null,null,null,null,null,null,null,null,null,null,null,"","",{"$f":"IF($N182=\"\",\"\",IFERROR(IF(N182=6,1,IF(MATCH(N182&\"/\"&R182,読み替え表_クールビズ!$P$38:$P$59,0),1,0)),0))","v":""},{"$f":"IF($P182=\"\",\"\",IFERROR(IF(P182=6,1,IF(MATCH(P182&\"/\"&R182,読み替え表_クールビズ!$P$38:$P$59,0),1,0)),0))","v":""},"","",0,0,"*"]
[null,null,173,null,null,null,null,null,null,null,null,null,null,null,null,null,null,null,null,null,null,null,null,null,null,null,null,null,null,null,null,null,"","",{"$f":"IF($N183=\"\",\"\",IFERROR(IF(N183=6,1,IF(MATCH(N183&\"/\"&R183,読み替え表_クールビズ!$P$38:$P$59,0),1,0)),0))","v":""},{"$f":"IF($P183=\"\",\"\",IFERROR(IF(P183=6,1,IF(MATCH(P183&\"/\"&R183,読み替え表_クールビズ!$P$38:$P$59,0),1,0)),0))","v":""},"","",0,0,"*"]
[null,null,174,null,null,null,null,null,null,null,null,null,null,null,null,null,null,null,null,null,null,null,null,null,null,null,null,null,null,null,null,null,"","",{"$f":"IF($N184=\"\",\"\",IFERROR(IF(N184=6,1,IF(MATCH(N184&\"/\"&R184,読み替え表_クールビズ!$P$38:$P$59,0),1,0)),0))","v":""},{"$f":"IF($P184=\"\",\"\",IFERROR(IF(P184=6,1,IF(MATCH(P184&\"/\"&R184,読み替え表_クールビズ!$P$38:$P$59,0),1,0)),0))","v":""},"","",0,0,"*"]
[null,null,175,null,null,null,null,null,null,null,null,null,null,null,null,null,null,null,null,null,null,null,null,null,null,null,null,null,null,null,null,null,"","",{"$f":"IF($N185=\"\",\"\",IFERROR(IF(N185=6,1,IF(MATCH(N185&\"/\"&R185,読み替え表_クールビズ!$P$38:$P$59,0),1,0)),0))","v":""},{"$f":"IF($P185=\"\",\"\",IFERROR(IF(P185=6,1,IF(MATCH(P185&\"/\"&R185,読み替え表_クールビズ!$P$38:$P$59,0),1,0)),0))","v":""},"","",0,0,"*"]
[null,null,176,null,null,null,null,null,null,null,null,null,null,null,null,null,null,null,null,null,null,null,null,null,null,null,null,null,null,null,null,null,"","",{"$f":"IF($N186=\"\",\"\",IFERROR(IF(N186=6,1,IF(MATCH(N186&\"/\"&R186,読み替え表_クールビズ!$P$38:$P$59,0),1,0)),0))","v":""},{"$f":"IF($P186=\"\",\"\",IFERROR(IF(P186=6,1,IF(MATCH(P186&\"/\"&R186,読み替え表_クールビズ!$P$38:$P$59,0),1,0)),0))","v":""},"","",0,0,"*"]
[null,null,177,null,null,null,null,null,null,null,null,null,null,null,null,null,null,null,null,null,null,null,null,null,null,null,null,null,null,null,null,null,"","",{"$f":"IF($N187=\"\",\"\",IFERROR(IF(N187=6,1,IF(MATCH(N187&\"/\"&R187,読み替え表_クールビズ!$P$38:$P$59,0),1,0)),0))","v":""},{"$f":"IF($P187=\"\",\"\",IFERROR(IF(P187=6,1,IF(MATCH(P187&\"/\"&R187,読み替え表_クールビズ!$P$38:$P$59,0),1,0)),0))","v":""},"","",0,0,"*"]
[null,null,178,null,null,null,null,null,null,null,null,null,null,null,null,null,null,null,null,null,null,null,null,null,null,null,null,null,null,null,null,null,"","",{"$f":"IF($N188=\"\",\"\",IFERROR(IF(N188=6,1,IF(MATCH(N188&\"/\"&R188,読み替え表_クールビズ!$P$38:$P$59,0),1,0)),0))","v":""},{"$f":"IF($P188=\"\",\"\",IFERROR(IF(P188=6,1,IF(MATCH(P188&\"/\"&R188,読み替え表_クールビズ!$P$38:$P$59,0),1,0)),0))","v":""},"","",0,0,"*"]
[null,null,179,null,null,null,null,null,null,null,null,null,null,null,null,null,null,null,null,null,null,null,null,null,null,null,null,null,null,null,null,null,"","",{"$f":"IF($N189=\"\",\"\",IFERROR(IF(N189=6,1,IF(MATCH(N189&\"/\"&R189,読み替え表_クールビズ!$P$38:$P$59,0),1,0)),0))","v":""},{"$f":"IF($P189=\"\",\"\",IFERROR(IF(P189=6,1,IF(MATCH(P189&\"/\"&R189,読み替え表_クールビズ!$P$38:$P$59,0),1,0)),0))","v":""},"","",0,0,"*"]
[null,null,180,null,null,null,null,null,null,null,null,null,null,null,null,null,null,null,null,null,null,null,null,null,null,null,null,null,null,null,null,null,"","",{"$f":"IF($N190=\"\",\"\",IFERROR(IF(N190=6,1,IF(MATCH(N190&\"/\"&R190,読み替え表_クールビズ!$P$38:$P$59,0),1,0)),0))","v":""},{"$f":"IF($P190=\"\",\"\",IFERROR(IF(P190=6,1,IF(MATCH(P190&\"/\"&R190,読み替え表_クールビズ!$P$38:$P$59,0),1,0)),0))","v":""},"","",0,0,"*"]
[null,null,181,null,null,null,null,null,null,null,null,null,null,null,null,null,null,null,null,null,null,null,null,null,null,null,null,null,null,null,null,null,"","",{"$f":"IF($N191=\"\",\"\",IFERROR(IF(N191=6,1,IF(MATCH(N191&\"/\"&R191,読み替え表_クールビズ!$P$38:$P$59,0),1,0)),0))","v":""},{"$f":"IF($P191=\"\",\"\",IFERROR(IF(P191=6,1,IF(MATCH(P191&\"/\"&R191,読み替え表_クールビズ!$P$38:$P$59,0),1,0)),0))","v":""},"","",0,0,"*"]
[null,null,182,null,null,null,null,null,null,null,null,null,null,null,null,null,null,null,null,null,null,null,null,null,null,null,null,null,null,null,null,null,"","",{"$f":"IF($N192=\"\",\"\",IFERROR(IF(N192=6,1,IF(MATCH(N192&\"/\"&R192,読み替え表_クールビズ!$P$38:$P$59,0),1,0)),0))","v":""},{"$f":"IF($P192=\"\",\"\",IFERROR(IF(P192=6,1,IF(MATCH(P192&\"/\"&R192,読み替え表_クールビズ!$P$38:$P$59,0),1,0)),0))","v":""},"","",0,0,"*"]
[null,null,183,null,null,null,null,null,null,null,null,null,null,null,null,null,null,null,null,null,null,null,null,null,null,null,null,null,null,null,null,null,"","",{"$f":"IF($N193=\"\",\"\",IFERROR(IF(N193=6,1,IF(MATCH(N193&\"/\"&R193,読み替え表_クールビズ!$P$38:$P$59,0),1,0)),0))","v":""},{"$f":"IF($P193=\"\",\"\",IFERROR(IF(P193=6,1,IF(MATCH(P193&\"/\"&R193,読み替え表_クールビズ!$P$38:$P$59,0),1,0)),0))","v":""},"","",0,0,"*"]
[null,null,184,null,null,null,null,null,null,null,null,null,null,null,null,null,null,null,null,null,null,null,null,null,null,null,null,null,null,null,null,null,"","",{"$f":"IF($N194=\"\",\"\",IFERROR(IF(N194=6,1,IF(MATCH(N194&\"/\"&R194,読み替え表_クールビズ!$P$38:$P$59,0),1,0)),0))","v":""},{"$f":"IF($P194=\"\",\"\",IFERROR(IF(P194=6,1,IF(MATCH(P194&\"/\"&R194,読み替え表_クールビズ!$P$38:$P$59,0),1,0)),0))","v":""},"","",0,0,"*"]
[null,null,185,null,null,null,null,null,null,null,null,null,null,null,null,null,null,null,null,null,null,null,null,null,null,null,null,null,null,null,null,null,"","",{"$f":"IF($N195=\"\",\"\",IFERROR(IF(N195=6,1,IF(MATCH(N195&\"/\"&R195,読み替え表_クールビズ!$P$38:$P$59,0),1,0)),0))","v":""},{"$f":"IF($P195=\"\",\"\",IFERROR(IF(P195=6,1,IF(MATCH(P195&\"/\"&R195,読み替え表_クールビズ!$P$38:$P$59,0),1,0)),0))","v":""},"","",0,0,"*"]
[null,null,186,null,null,null,null,null,null,null,null,null,null,null,null,null,null,null,null,null,null,null,null,null,null,null,null,null,null,null,null,null,"","",{"$f":"IF($N196=\"\",\"\",IFERROR(IF(N196=6,1,IF(MATCH(N196&\"/\"&R196,読み替え表_クールビズ!$P$38:$P$59,0),1,0)),0))","v":""},{"$f":"IF($P196=\"\",\"\",IFERROR(IF(P196=6,1,IF(MATCH(P196&\"/\"&R196,読み替え表_クールビズ!$P$38:$P$59,0),1,0)),0))","v":""},"","",0,0,"*"]
[null,null,187,null,null,null,null,null,null,null,null,null,null,null,null,null,null,null,null,null,null,null,null,null,null,null,null,null,null,null,null,null,"","",{"$f":"IF($N197=\"\",\"\",IFERROR(IF(N197=6,1,IF(MATCH(N197&\"/\"&R197,読み替え表_クールビズ!$P$38:$P$59,0),1,0)),0))","v":""},{"$f":"IF($P197=\"\",\"\",IFERROR(IF(P197=6,1,IF(MATCH(P197&\"/\"&R197,読み替え表_クールビズ!$P$38:$P$59,0),1,0)),0))","v":""},"","",0,0,"*"]
[null,null,188,null,null,null,null,null,null,null,null,null,null,null,null,null,null,null,null,null,null,null,null,null,null,null,null,null,null,null,null,null,"","",{"$f":"IF($N198=\"\",\"\",IFERROR(IF(N198=6,1,IF(MATCH(N198&\"/\"&R198,読み替え表_クールビズ!$P$38:$P$59,0),1,0)),0))","v":""},{"$f":"IF($P198=\"\",\"\",IFERROR(IF(P198=6,1,IF(MATCH(P198&\"/\"&R198,読み替え表_クールビズ!$P$38:$P$59,0),1,0)),0))","v":""},"","",0,0,"*"]
[null,null,189,null,null,null,null,null,null,null,null,null,null,null,null,null,null,null,null,null,null,null,null,null,null,null,null,null,null,null,null,null,"","",{"$f":"IF($N199=\"\",\"\",IFERROR(IF(N199=6,1,IF(MATCH(N199&\"/\"&R199,読み替え表_クールビズ!$P$38:$P$59,0),1,0)),0))","v":""},{"$f":"IF($P199=\"\",\"\",IFERROR(IF(P199=6,1,IF(MATCH(P199&\"/\"&R199,読み替え表_クールビズ!$P$38:$P$59,0),1,0)),0))","v":""},"","",0,0,"*"]
[null,null,190,null,null,null,null,null,null,null,null,null,null,null,null,null,null,null,null,null,null,null,null,null,null,null,null,null,null,null,null,null,"","",{"$f":"IF($N200=\"\",\"\",IFERROR(IF(N200=6,1,IF(MATCH(N200&\"/\"&R200,読み替え表_クールビズ!$P$38:$P$59,0),1,0)),0))","v":""},{"$f":"IF($P200=\"\",\"\",IFERROR(IF(P200=6,1,IF(MATCH(P200&\"/\"&R200,読み替え表_クールビズ!$P$38:$P$59,0),1,0)),0))","v":""},"","",0,0,"*"]
[null,null,191,null,null,null,null,null,null,null,null,null,null,null,null,null,null,null,null,null,null,null,null,null,null,null,null,null,null,null,null,null,"","",{"$f":"IF($N201=\"\",\"\",IFERROR(IF(N201=6,1,IF(MATCH(N201&\"/\"&R201,読み替え表_クールビズ!$P$38:$P$59,0),1,0)),0))","v":""},{"$f":"IF($P201=\"\",\"\",IFERROR(IF(P201=6,1,IF(MATCH(P201&\"/\"&R201,読み替え表_クールビズ!$P$38:$P$59,0),1,0)),0))","v":""},"","",0,0,"*"]
[null,null,192,null,null,null,null,null,null,null,null,null,null,null,null,null,null,null,null,null,null,null,null,null,null,null,null,null,null,null,null,null,"","",{"$f":"IF($N202=\"\",\"\",IFERROR(IF(N202=6,1,IF(MATCH(N202&\"/\"&R202,読み替え表_クールビズ!$P$38:$P$59,0),1,0)),0))","v":""},{"$f":"IF($P202=\"\",\"\",IFERROR(IF(P202=6,1,IF(MATCH(P202&\"/\"&R202,読み替え表_クールビズ!$P$38:$P$59,0),1,0)),0))","v":""},"","",0,0,"*"]
[null,null,193,null,null,null,null,null,null,null,null,null,null,null,null,null,null,null,null,null,null,null,null,null,null,null,null,null,null,null,null,null,"","",{"$f":"IF($N203=\"\",\"\",IFERROR(IF(N203=6,1,IF(MATCH(N203&\"/\"&R203,読み替え表_クールビズ!$P$38:$P$59,0),1,0)),0))","v":""},{"$f":"IF($P203=\"\",\"\",IFERROR(IF(P203=6,1,IF(MATCH(P203&\"/\"&R203,読み替え表_クールビズ!$P$38:$P$59,0),1,0)),0))","v":""},{"$f":"IF($N203=\"\",\"\",IF(OR(CONCATENATE(N203,$R203)=\"22\",CONCATENATE(N203,$R203)=\"32\",CONCATENATE(N203,$R203)=\"42\",CONCATENATE(N203,$R203)=\"43\",CONCATENATE(N203,$R203)=\"51\",CONCATENATE(N203,$R203)=\"52\",CONCATENATE(N203,$R203)=\"53\"),1,0))","v":""},{"$f":"IF($P203=\"\",\"\",IF(OR(CONCATENATE(P203,$R203)=\"22\",CONCATENATE(P203,$R203)=\"32\",CONCATENATE(P203,$R203)=\"42\",CONCATENATE(P203,$R203)=\"43\",CONCATENATE(P203,$R203)=\"51\",CONCATENATE(P203,$R203)=\"52\",CONCATENATE(P203,$R203)=\"53\"),1,0))","v":""},0,0,"*"]
[null,null,{"$f":"ROW()-10","v":194},null,null,null,null,null,null,null,null,null,null,null,null,null,null,null,null,null,null,null,null,null,null,null,null,null,null,null,null,null,{"$f":"IF($J204=\"\",\"\",IF(AND($J204>=1,$J204<=9),1,0))","v":""},{"$f":"IF($R204=\"\",\"\",IF(OR($R204=1,$R204=2,$R204=3),1,0))","v":""},{"$f":"IF($N204=\"\",\"\",IFERROR(IF(N204=6,1,IF(MATCH(N204&\"/\"&R204,読み替え表_クールビズ!$P$38:$P$59,0),1,0)),0))","v":""},{"$f":"IF($P204=\"\",\"\",IFERROR(IF(P204=6,1,IF(MATCH(P204&\"/\"&R204,読み替え表_クールビズ!$P$38:$P$59,0),1,0)),0))","v":""},"","",{"$f":"IF(OR(AK204=1,AL204=1),1,0)","v":0},{"$f":"IF(OR($AG204=0,SUM(AI204:AJ204)=2),1,0)","v":0},"*"]
[null,null,195,null,null,null,null,null,null,null,null,null,null,null,null,null,null,null,null,null,null,null,null,null,null,null,null,null,null,null,null,null,"","",{"$f":"IF($N205=\"\",\"\",IFERROR(IF(N205=6,1,IF(MATCH(N205&\"/\"&R205,読み替え表_クールビズ!$P$38:$P$59,0),1,0)),0))","v":""},{"$f":"IF($P205=\"\",\"\",IFERROR(IF(P205=6,1,IF(MATCH(P205&\"/\"&R205,読み替え表_クールビズ!$P$38:$P$59,0),1,0)),0))","v":""},"","",0,0,"*"]
[null,null,196,null,null,null,null,null,null,null,null,null,null,null,null,null,null,null,null,null,null,null,null,null,null,null,null,null,null,null,null,null,"","",{"$f":"IF($N206=\"\",\"\",IFERROR(IF(N206=6,1,IF(MATCH(N206&\"/\"&R206,読み替え表_クールビズ!$P$38:$P$59,0),1,0)),0))","v":""},{"$f":"IF($P206=\"\",\"\",IFERROR(IF(P206=6,1,IF(MATCH(P206&\"/\"&R206,読み替え表_クールビズ!$P$38:$P$59,0),1,0)),0))","v":""},"","",0,0,"*"]
[null,null,197,null,null,null,null,null,null,null,null,null,null,null,null,null,null,null,null,null,null,null,null,null,null,null,null,null,null,null,null,null,"","",{"$f":"IF($N207=\"\",\"\",IFERROR(IF(N207=6,1,IF(MATCH(N207&\"/\"&R207,読み替え表_クールビズ!$P$38:$P$59,0),1,0)),0))","v":""},{"$f":"IF($P207=\"\",\"\",IFERROR(IF(P207=6,1,IF(MATCH(P207&\"/\"&R207,読み替え表_クールビズ!$P$38:$P$59,0),1,0)),0))","v":""},"","",0,0,"*"]
[null,null,198,null,null,null,null,null,null,null,null,null,null,null,null,null,null,null,null,null,null,null,null,null,null,null,null,null,null,null,null,null,"","",{"$f":"IF($N208=\"\",\"\",IFERROR(IF(N208=6,1,IF(MATCH(N208&\"/\"&R208,読み替え表_クールビズ!$P$38:$P$59,0),1,0)),0))","v":""},{"$f":"IF($P208=\"\",\"\",IFERROR(IF(P208=6,1,IF(MATCH(P208&\"/\"&R208,読み替え表_クールビズ!$P$38:$P$59,0),1,0)),0))","v":""},"","",0,0,"*"]
[null,null,199,null,null,null,null,null,null,null,null,null,null,null,null,null,null,null,null,null,null,null,null,null,null,null,null,null,null,null,null,null,"","",{"$f":"IF($N209=\"\",\"\",IFERROR(IF(N209=6,1,IF(MATCH(N209&\"/\"&R209,読み替え表_クールビズ!$P$38:$P$59,0),1,0)),0))","v":""},{"$f":"IF($P209=\"\",\"\",IFERROR(IF(P209=6,1,IF(MATCH(P209&\"/\"&R209,読み替え表_クールビズ!$P$38:$P$59,0),1,0)),0))","v":""},"","",0,0,"*"]
[null,null,200,null,null,null,null,null,null,null,null,null,null,null,null,null,null,null,null,null,null,null,null,null,null,null,null,null,null,null,null,null,"","",{"$f":"IF($N210=\"\",\"\",IFERROR(IF(N210=6,1,IF(MATCH(N210&\"/\"&R210,読み替え表_クールビズ!$P$38:$P$59,0),1,0)),0))","v":""},{"$f":"IF($P210=\"\",\"\",IFERROR(IF(P210=6,1,IF(MATCH(P210&\"/\"&R210,読み替え表_クールビズ!$P$38:$P$59,0),1,0)),0))","v":""},"","",0,0,"*"]
[null,null,201,null,null,null,null,null,null,null,null,null,null,null,null,null,null,null,null,null,null,null,null,null,null,null,null,null,null,null,null,null,"","",{"$f":"IF($N211=\"\",\"\",IFERROR(IF(N211=6,1,IF(MATCH(N211&\"/\"&R211,読み替え表_クールビズ!$P$38:$P$59,0),1,0)),0))","v":""},{"$f":"IF($P211=\"\",\"\",IFERROR(IF(P211=6,1,IF(MATCH(P211&\"/\"&R211,読み替え表_クールビズ!$P$38:$P$59,0),1,0)),0))","v":""},"","",0,0,"*"]
[null,null,202,null,null,null,null,null,null,null,null,null,null,null,null,null,null,null,null,null,null,null,null,null,null,null,null,null,null,null,null,null,"","",{"$f":"IF($N212=\"\",\"\",IFERROR(IF(N212=6,1,IF(MATCH(N212&\"/\"&R212,読み替え表_クールビズ!$P$38:$P$59,0),1,0)),0))","v":""},{"$f":"IF($P212=\"\",\"\",IFERROR(IF(P212=6,1,IF(MATCH(P212&\"/\"&R212,読み替え表_クールビズ!$P$38:$P$59,0),1,0)),0))","v":""},"","",0,0,"*"]
[null,null,203,null,null,null,null,null,null,null,null,null,null,null,null,null,null,null,null,null,null,null,null,null,null,null,null,null,null,null,null,null,"","",{"$f":"IF($N213=\"\",\"\",IFERROR(IF(N213=6,1,IF(MATCH(N213&\"/\"&R213,読み替え表_クールビズ!$P$38:$P$59,0),1,0)),0))","v":""},{"$f":"IF($P213=\"\",\"\",IFERROR(IF(P213=6,1,IF(MATCH(P213&\"/\"&R213,読み替え表_クールビズ!$P$38:$P$59,0),1,0)),0))","v":""},"","",0,0,"*"]
[null,null,204,null,null,null,null,null,null,null,null,null,null,null,null,null,null,null,null,null,null,null,null,null,null,null,null,null,null,null,null,null,"","",{"$f":"IF($N214=\"\",\"\",IFERROR(IF(N214=6,1,IF(MATCH(N214&\"/\"&R214,読み替え表_クールビズ!$P$38:$P$59,0),1,0)),0))","v":""},{"$f":"IF($P214=\"\",\"\",IFERROR(IF(P214=6,1,IF(MATCH(P214&\"/\"&R214,読み替え表_クールビズ!$P$38:$P$59,0),1,0)),0))","v":""},"","",0,0,"*"]
[null,null,205,null,null,null,null,null,null,null,null,null,null,null,null,null,null,null,null,null,null,null,null,null,null,null,null,null,null,null,null,null,"","",{"$f":"IF($N215=\"\",\"\",IFERROR(IF(N215=6,1,IF(MATCH(N215&\"/\"&R215,読み替え表_クールビズ!$P$38:$P$59,0),1,0)),0))","v":""},{"$f":"IF($P215=\"\",\"\",IFERROR(IF(P215=6,1,IF(MATCH(P215&\"/\"&R215,読み替え表_クールビズ!$P$38:$P$59,0),1,0)),0))","v":""},"","",0,0,"*"]
[null,null,206,null,null,null,null,null,null,null,null,null,null,null,null,null,null,null,null,null,null,null,null,null,null,null,null,null,null,null,null,null,"","",{"$f":"IF($N216=\"\",\"\",IFERROR(IF(N216=6,1,IF(MATCH(N216&\"/\"&R216,読み替え表_クールビズ!$P$38:$P$59,0),1,0)),0))","v":""},{"$f":"IF($P216=\"\",\"\",IFERROR(IF(P216=6,1,IF(MATCH(P216&\"/\"&R216,読み替え表_クールビズ!$P$38:$P$59,0),1,0)),0))","v":""},"","",0,0,"*"]
[null,null,207,null,null,null,null,null,null,null,null,null,null,null,null,null,null,null,null,null,null,null,null,null,null,null,null,null,null,null,null,null,"","",{"$f":"IF($N217=\"\",\"\",IFERROR(IF(N217=6,1,IF(MATCH(N217&\"/\"&R217,読み替え表_クールビズ!$P$38:$P$59,0),1,0)),0))","v":""},{"$f":"IF($P217=\"\",\"\",IFERROR(IF(P217=6,1,IF(MATCH(P217&\"/\"&R217,読み替え表_クールビズ!$P$38:$P$59,0),1,0)),0))","v":""},"","",0,0,"*"]
[null,null,208,null,null,null,null,null,null,null,null,null,null,null,null,null,null,null,null,null,null,null,null,null,null,null,null,null,null,null,null,null,"","",{"$f":"IF($N218=\"\",\"\",IFERROR(IF(N218=6,1,IF(MATCH(N218&\"/\"&R218,読み替え表_クールビズ!$P$38:$P$59,0),1,0)),0))","v":""},{"$f":"IF($P218=\"\",\"\",IFERROR(IF(P218=6,1,IF(MATCH(P218&\"/\"&R218,読み替え表_クールビズ!$P$38:$P$59,0),1,0)),0))","v":""},"","",0,0,"*"]
[null,null,209,null,null,null,null,null,null,null,null,null,null,null,null,null,null,null,null,null,null,null,null,null,null,null,null,null,null,null,null,null,"","",{"$f":"IF($N219=\"\",\"\",IFERROR(IF(N219=6,1,IF(MATCH(N219&\"/\"&R219,読み替え表_クールビズ!$P$38:$P$59,0),1,0)),0))","v":""},{"$f":"IF($P219=\"\",\"\",IFERROR(IF(P219=6,1,IF(MATCH(P219&\"/\"&R219,読み替え表_クールビズ!$P$38:$P$59,0),1,0)),0))","v":""},"","",0,0,"*"]
[null,null,210,null,null,null,null,null,null,null,null,null,null,null,null,null,null,null,null,null,null,null,null,null,null,null,null,null,null,null,null,null,"","",{"$f":"IF($N220=\"\",\"\",IFERROR(IF(N220=6,1,IF(MATCH(N220&\"/\"&R220,読み替え表_クールビズ!$P$38:$P$59,0),1,0)),0))","v":""},{"$f":"IF($P220=\"\",\"\",IFERROR(IF(P220=6,1,IF(MATCH(P220&\"/\"&R220,読み替え表_クールビズ!$P$38:$P$59,0),1,0)),0))","v":""},"","",0,0,"*"]
[null,null,211,null,null,null,null,null,null,null,null,null,null,null,null,null,null,null,null,null,null,null,null,null,null,null,null,null,null,null,null,null,"","",{"$f":"IF($N221=\"\",\"\",IFERROR(IF(N221=6,1,IF(MATCH(N221&\"/\"&R221,読み替え表_クールビズ!$P$38:$P$59,0),1,0)),0))","v":""},{"$f":"IF($P221=\"\",\"\",IFERROR(IF(P221=6,1,IF(MATCH(P221&\"/\"&R221,読み替え表_クールビズ!$P$38:$P$59,0),1,0)),0))","v":""},"","",0,0,"*"]
[null,null,212,null,null,null,null,null,null,null,null,null,null,null,null,null,null,null,null,null,null,null,null,null,null,null,null,null,null,null,null,null,"","",{"$f":"IF($N222=\"\",\"\",IFERROR(IF(N222=6,1,IF(MATCH(N222&\"/\"&R222,読み替え表_クールビズ!$P$38:$P$59,0),1,0)),0))","v":""},{"$f":"IF($P222=\"\",\"\",IFERROR(IF(P222=6,1,IF(MATCH(P222&\"/\"&R222,読み替え表_クールビズ!$P$38:$P$59,0),1,0)),0))","v":""},"","",0,0,"*"]
[null,null,213,null,null,null,null,null,null,null,null,null,null,null,null,null,null,null,null,null,null,null,null,null,null,null,null,null,null,null,null,null,"","",{"$f":"IF($N223=\"\",\"\",IFERROR(IF(N223=6,1,IF(MATCH(N223&\"/\"&R223,読み替え表_クールビズ!$P$38:$P$59,0),1,0)),0))","v":""},{"$f":"IF($P223=\"\",\"\",IFERROR(IF(P223=6,1,IF(MATCH(P223&\"/\"&R223,読み替え表_クールビズ!$P$38:$P$59,0),1,0)),0))","v":""},"","",0,0,"*"]
[null,null,214,null,null,null,null,null,null,null,null,null,null,null,null,null,null,null,null,null,null,null,null,null,null,null,null,null,null,null,null,null,"","",{"$f":"IF($N224=\"\",\"\",IFERROR(IF(N224=6,1,IF(MATCH(N224&\"/\"&R224,読み替え表_クールビズ!$P$38:$P$59,0),1,0)),0))","v":""},{"$f":"IF($P224=\"\",\"\",IFERROR(IF(P224=6,1,IF(MATCH(P224&\"/\"&R224,読み替え表_クールビズ!$P$38:$P$59,0),1,0)),0))","v":""},"","",0,0,"*"]
[null,null,215,null,null,null,null,null,null,null,null,null,null,null,null,null,null,null,null,null,null,null,null,null,null,null,null,null,null,null,null,null,"","",{"$f":"IF($N225=\"\",\"\",IFERROR(IF(N225=6,1,IF(MATCH(N225&\"/\"&R225,読み替え表_クールビズ!$P$38:$P$59,0),1,0)),0))","v":""},{"$f":"IF($P225=\"\",\"\",IFERROR(IF(P225=6,1,IF(MATCH(P225&\"/\"&R225,読み替え表_クールビズ!$P$38:$P$59,0),1,0)),0))","v":""},"","",0,0,"*"]
[null,null,216,null,null,null,null,null,null,null,null,null,null,null,null,null,null,null,null,null,null,null,null,null,null,null,null,null,null,null,null,null,"","",{"$f":"IF($N226=\"\",\"\",IFERROR(IF(N226=6,1,IF(MATCH(N226&\"/\"&R226,読み替え表_クールビズ!$P$38:$P$59,0),1,0)),0))","v":""},{"$f":"IF($P226=\"\",\"\",IFERROR(IF(P226=6,1,IF(MATCH(P226&\"/\"&R226,読み替え表_クールビズ!$P$38:$P$59,0),1,0)),0))","v":""},"","",0,0,"*"]
[null,null,217,null,null,null,null,null,null,null,null,null,null,null,null,null,null,null,null,null,null,null,null,null,null,null,null,null,null,null,null,null,"","",{"$f":"IF($N227=\"\",\"\",IFERROR(IF(N227=6,1,IF(MATCH(N227&\"/\"&R227,読み替え表_クールビズ!$P$38:$P$59,0),1,0)),0))","v":""},{"$f":"IF($P227=\"\",\"\",IFERROR(IF(P227=6,1,IF(MATCH(P227&\"/\"&R227,読み替え表_クールビズ!$P$38:$P$59,0),1,0)),0))","v":""},"","",0,0,"*"]
[null,null,218,null,null,null,null,null,null,null,null,null,null,null,null,null,null,null,null,null,null,null,null,null,null,null,null,null,null,null,null,null,"","",{"$f":"IF($N228=\"\",\"\",IFERROR(IF(N228=6,1,IF(MATCH(N228&\"/\"&R228,読み替え表_クールビズ!$P$38:$P$59,0),1,0)),0))","v":""},{"$f":"IF($P228=\"\",\"\",IFERROR(IF(P228=6,1,IF(MATCH(P228&\"/\"&R228,読み替え表_クールビズ!$P$38:$P$59,0),1,0)),0))","v":""},"","",0,0,"*"]
[null,null,219,null,null,null,null,null,null,null,null,null,null,null,null,null,null,null,null,null,null,null,null,null,null,null,null,null,null,null,null,null,"","",{"$f":"IF($N229=\"\",\"\",IFERROR(IF(N229=6,1,IF(MATCH(N229&\"/\"&R229,読み替え表_クールビズ!$P$38:$P$59,0),1,0)),0))","v":""},{"$f":"IF($P229=\"\",\"\",IFERROR(IF(P229=6,1,IF(MATCH(P229&\"/\"&R229,読み替え表_クールビズ!$P$38:$P$59,0),1,0)),0))","v":""},"","",0,0,"*"]
[null,null,220,null,null,null,null,null,null,null,null,null,null,null,null,null,null,null,null,null,null,null,null,null,null,null,null,null,null,null,null,null,"","",{"$f":"IF($N230=\"\",\"\",IFERROR(IF(N230=6,1,IF(MATCH(N230&\"/\"&R230,読み替え表_クールビズ!$P$38:$P$59,0),1,0)),0))","v":""},{"$f":"IF($P230=\"\",\"\",IFERROR(IF(P230=6,1,IF(MATCH(P230&\"/\"&R230,読み替え表_クールビズ!$P$38:$P$59,0),1,0)),0))","v":""},"","",0,0,"*"]
[null,null,221,null,null,null,null,null,null,null,null,null,null,null,null,null,null,null,null,null,null,null,null,null,null,null,null,null,null,null,null,null,"","",{"$f":"IF($N231=\"\",\"\",IFERROR(IF(N231=6,1,IF(MATCH(N231&\"/\"&R231,読み替え表_クールビズ!$P$38:$P$59,0),1,0)),0))","v":""},{"$f":"IF($P231=\"\",\"\",IFERROR(IF(P231=6,1,IF(MATCH(P231&\"/\"&R231,読み替え表_クールビズ!$P$38:$P$59,0),1,0)),0))","v":""},"","",0,0,"*"]
[null,null,222,null,null,null,null,null,null,null,null,null,null,null,null,null,null,null,null,null,null,null,null,null,null,null,null,null,null,null,null,null,"","",{"$f":"IF($N232=\"\",\"\",IFERROR(IF(N232=6,1,IF(MATCH(N232&\"/\"&R232,読み替え表_クールビズ!$P$38:$P$59,0),1,0)),0))","v":""},{"$f":"IF($P232=\"\",\"\",IFERROR(IF(P232=6,1,IF(MATCH(P232&\"/\"&R232,読み替え表_クールビズ!$P$38:$P$59,0),1,0)),0))","v":""},"","",0,0,"*"]
[null,null,223,null,null,null,null,null,null,null,null,null,null,null,null,null,null,null,null,null,null,null,null,null,null,null,null,null,null,null,null,null,"","",{"$f":"IF($N233=\"\",\"\",IFERROR(IF(N233=6,1,IF(MATCH(N233&\"/\"&R233,読み替え表_クールビズ!$P$38:$P$59,0),1,0)),0))","v":""},{"$f":"IF($P233=\"\",\"\",IFERROR(IF(P233=6,1,IF(MATCH(P233&\"/\"&R233,読み替え表_クールビズ!$P$38:$P$59,0),1,0)),0))","v":""},"","",0,0,"*"]
[null,null,224,null,null,null,null,null,null,null,null,null,null,null,null,null,null,null,null,null,null,null,null,null,null,null,null,null,null,null,null,null,"","",{"$f":"IF($N234=\"\",\"\",IFERROR(IF(N234=6,1,IF(MATCH(N234&\"/\"&R234,読み替え表_クールビズ!$P$38:$P$59,0),1,0)),0))","v":""},{"$f":"IF($P234=\"\",\"\",IFERROR(IF(P234=6,1,IF(MATCH(P234&\"/\"&R234,読み替え表_クールビズ!$P$38:$P$59,0),1,0)),0))","v":""},"","",0,0,"*"]
[null,null,225,null,null,null,null,null,null,null,null,null,null,null,null,null,null,null,null,null,null,null,null,null,null,null,null,null,null,null,null,null,"","",{"$f":"IF($N235=\"\",\"\",IFERROR(IF(N235=6,1,IF(MATCH(N235&\"/\"&R235,読み替え表_クールビズ!$P$38:$P$59,0),1,0)),0))","v":""},{"$f":"IF($P235=\"\",\"\",IFERROR(IF(P235=6,1,IF(MATCH(P235&\"/\"&R235,読み替え表_クールビズ!$P$38:$P$59,0),1,0)),0))","v":""},"","",0,0,"*"]
[null,null,226,null,null,null,null,null,null,null,null,null,null,null,null,null,null,null,null,null,null,null,null,null,null,null,null,null,null,null,null,null,"","",{"$f":"IF($N236=\"\",\"\",IFERROR(IF(N236=6,1,IF(MATCH(N236&\"/\"&R236,読み替え表_クールビズ!$P$38:$P$59,0),1,0)),0))","v":""},{"$f":"IF($P236=\"\",\"\",IFERROR(IF(P236=6,1,IF(MATCH(P236&\"/\"&R236,読み替え表_クールビズ!$P$38:$P$59,0),1,0)),0))","v":""},"","",0,0,"*"]
[null,null,227,null,null,null,null,null,null,null,null,null,null,null,null,null,null,null,null,null,null,null,null,null,null,null,null,null,null,null,null,null,"","",{"$f":"IF($N237=\"\",\"\",IFERROR(IF(N237=6,1,IF(MATCH(N237&\"/\"&R237,読み替え表_クールビズ!$P$38:$P$59,0),1,0)),0))","v":""},{"$f":"IF($P237=\"\",\"\",IFERROR(IF(P237=6,1,IF(MATCH(P237&\"/\"&R237,読み替え表_クールビズ!$P$38:$P$59,0),1,0)),0))","v":""},"","",0,0,"*"]
[null,null,228,null,null,null,null,null,null,null,null,null,null,null,null,null,null,null,null,null,null,null,null,null,null,null,null,null,null,null,null,null,"","",{"$f":"IF($N238=\"\",\"\",IFERROR(IF(N238=6,1,IF(MATCH(N238&\"/\"&R238,読み替え表_クールビズ!$P$38:$P$59,0),1,0)),0))","v":""},{"$f":"IF($P238=\"\",\"\",IFERROR(IF(P238=6,1,IF(MATCH(P238&\"/\"&R238,読み替え表_クールビズ!$P$38:$P$59,0),1,0)),0))","v":""},"","",0,0,"*"]
[null,null,229,null,null,null,null,null,null,null,null,null,null,null,null,null,null,null,null,null,null,null,null,null,null,null,null,null,null,null,null,null,"","",{"$f":"IF($N239=\"\",\"\",IFERROR(IF(N239=6,1,IF(MATCH(N239&\"/\"&R239,読み替え表_クールビズ!$P$38:$P$59,0),1,0)),0))","v":""},{"$f":"IF($P239=\"\",\"\",IFERROR(IF(P239=6,1,IF(MATCH(P239&\"/\"&R239,読み替え表_クールビズ!$P$38:$P$59,0),1,0)),0))","v":""},"","",0,0,"*"]
[null,null,230,null,null,null,null,null,null,null,null,null,null,null,null,null,null,null,null,null,null,null,null,null,null,null,null,null,null,null,null,null,"","",{"$f":"IF($N240=\"\",\"\",IFERROR(IF(N240=6,1,IF(MATCH(N240&\"/\"&R240,読み替え表_クールビズ!$P$38:$P$59,0),1,0)),0))","v":""},{"$f":"IF($P240=\"\",\"\",IFERROR(IF(P240=6,1,IF(MATCH(P240&\"/\"&R240,読み替え表_クールビズ!$P$38:$P$59,0),1,0)),0))","v":""},"","",0,0,"*"]
[null,null,231,null,null,null,null,null,null,null,null,null,null,null,null,null,null,null,null,null,null,null,null,null,null,null,null,null,null,null,null,null,"","",{"$f":"IF($N241=\"\",\"\",IFERROR(IF(N241=6,1,IF(MATCH(N241&\"/\"&R241,読み替え表_クールビズ!$P$38:$P$59,0),1,0)),0))","v":""},{"$f":"IF($P241=\"\",\"\",IFERROR(IF(P241=6,1,IF(MATCH(P241&\"/\"&R241,読み替え表_クールビズ!$P$38:$P$59,0),1,0)),0))","v":""},"","",0,0,"*"]
[null,null,232,null,null,null,null,null,null,null,null,null,null,null,null,null,null,null,null,null,null,null,null,null,null,null,null,null,null,null,null,null,"","",{"$f":"IF($N242=\"\",\"\",IFERROR(IF(N242=6,1,IF(MATCH(N242&\"/\"&R242,読み替え表_クールビズ!$P$38:$P$59,0),1,0)),0))","v":""},{"$f":"IF($P242=\"\",\"\",IFERROR(IF(P242=6,1,IF(MATCH(P242&\"/\"&R242,読み替え表_クールビズ!$P$38:$P$59,0),1,0)),0))","v":""},"","",0,0,"*"]
[null,null,233,null,null,null,null,null,null,null,null,null,null,null,null,null,null,null,null,null,null,null,null,null,null,null,null,null,null,null,null,null,"","",{"$f":"IF($N243=\"\",\"\",IFERROR(IF(N243=6,1,IF(MATCH(N243&\"/\"&R243,読み替え表_クールビズ!$P$38:$P$59,0),1,0)),0))","v":""},{"$f":"IF($P243=\"\",\"\",IFERROR(IF(P243=6,1,IF(MATCH(P243&\"/\"&R243,読み替え表_クールビズ!$P$38:$P$59,0),1,0)),0))","v":""},"","",0,0,"*"]
[null,null,234,null,null,null,null,null,null,null,null,null,null,null,null,null,null,null,null,null,null,null,null,null,null,null,null,null,null,null,null,null,"","",{"$f":"IF($N244=\"\",\"\",IFERROR(IF(N244=6,1,IF(MATCH(N244&\"/\"&R244,読み替え表_クールビズ!$P$38:$P$59,0),1,0)),0))","v":""},{"$f":"IF($P244=\"\",\"\",IFERROR(IF(P244=6,1,IF(MATCH(P244&\"/\"&R244,読み替え表_クールビズ!$P$38:$P$59,0),1,0)),0))","v":""},"","",0,0,"*"]
[null,null,235,null,null,null,null,null,null,null,null,null,null,null,null,null,null,null,null,null,null,null,null,null,null,null,null,null,null,null,null,null,"","",{"$f":"IF($N245=\"\",\"\",IFERROR(IF(N245=6,1,IF(MATCH(N245&\"/\"&R245,読み替え表_クールビズ!$P$38:$P$59,0),1,0)),0))","v":""},{"$f":"IF($P245=\"\",\"\",IFERROR(IF(P245=6,1,IF(MATCH(P245&\"/\"&R245,読み替え表_クールビズ!$P$38:$P$59,0),1,0)),0))","v":""},"","",0,0,"*"]
[null,null,236,null,null,null,null,null,null,null,null,null,null,null,null,null,null,null,null,null,null,null,null,null,null,null,null,null,null,null,null,null,"","",{"$f":"IF($N246=\"\",\"\",IFERROR(IF(N246=6,1,IF(MATCH(N246&\"/\"&R246,読み替え表_クールビズ!$P$38:$P$59,0),1,0)),0))","v":""},{"$f":"IF($P246=\"\",\"\",IFERROR(IF(P246=6,1,IF(MATCH(P246&\"/\"&R246,読み替え表_クールビズ!$P$38:$P$59,0),1,0)),0))","v":""},"","",0,0,"*"]
[null,null,237,null,null,null,null,null,null,null,null,null,null,null,null,null,null,null,null,null,null,null,null,null,null,null,null,null,null,null,null,null,"","",{"$f":"IF($N247=\"\",\"\",IFERROR(IF(N247=6,1,IF(MATCH(N247&\"/\"&R247,読み替え表_クールビズ!$P$38:$P$59,0),1,0)),0))","v":""},{"$f":"IF($P247=\"\",\"\",IFERROR(IF(P247=6,1,IF(MATCH(P247&\"/\"&R247,読み替え表_クールビズ!$P$38:$P$59,0),1,0)),0))","v":""},"","",0,0,"*"]
[null,null,238,null,null,null,null,null,null,null,null,null,null,null,null,null,null,null,null,null,null,null,null,null,null,null,null,null,null,null,null,null,"","",{"$f":"IF($N248=\"\",\"\",IFERROR(IF(N248=6,1,IF(MATCH(N248&\"/\"&R248,読み替え表_クールビズ!$P$38:$P$59,0),1,0)),0))","v":""},{"$f":"IF($P248=\"\",\"\",IFERROR(IF(P248=6,1,IF(MATCH(P248&\"/\"&R248,読み替え表_クールビズ!$P$38:$P$59,0),1,0)),0))","v":""},"","",0,0,"*"]
[null,null,239,null,null,null,null,null,null,null,null,null,null,null,null,null,null,null,null,null,null,null,null,null,null,null,null,null,null,null,null,null,"","",{"$f":"IF($N249=\"\",\"\",IFERROR(IF(N249=6,1,IF(MATCH(N249&\"/\"&R249,読み替え表_クールビズ!$P$38:$P$59,0),1,0)),0))","v":""},{"$f":"IF($P249=\"\",\"\",IFERROR(IF(P249=6,1,IF(MATCH(P249&\"/\"&R249,読み替え表_クールビズ!$P$38:$P$59,0),1,0)),0))","v":""},"","",0,0,"*"]
[null,null,240,null,null,null,null,null,null,null,null,null,null,null,null,null,null,null,null,null,null,null,null,null,null,null,null,null,null,null,null,null,"","",{"$f":"IF($N250=\"\",\"\",IFERROR(IF(N250=6,1,IF(MATCH(N250&\"/\"&R250,読み替え表_クールビズ!$P$38:$P$59,0),1,0)),0))","v":""},{"$f":"IF($P250=\"\",\"\",IFERROR(IF(P250=6,1,IF(MATCH(P250&\"/\"&R250,読み替え表_クールビズ!$P$38:$P$59,0),1,0)),0))","v":""},"","",0,0,"*"]
[null,null,241,null,null,null,null,null,null,null,null,null,null,null,null,null,null,null,null,null,null,null,null,null,null,null,null,null,null,null,null,null,"","",{"$f":"IF($N251=\"\",\"\",IFERROR(IF(N251=6,1,IF(MATCH(N251&\"/\"&R251,読み替え表_クールビズ!$P$38:$P$59,0),1,0)),0))","v":""},{"$f":"IF($P251=\"\",\"\",IFERROR(IF(P251=6,1,IF(MATCH(P251&\"/\"&R251,読み替え表_クールビズ!$P$38:$P$59,0),1,0)),0))","v":""},"","",0,0,"*"]
[null,null,242,null,null,null,null,null,null,null,null,null,null,null,null,null,null,null,null,null,null,null,null,null,null,null,null,null,null,null,null,null,"","",{"$f":"IF($N252=\"\",\"\",IFERROR(IF(N252=6,1,IF(MATCH(N252&\"/\"&R252,読み替え表_クールビズ!$P$38:$P$59,0),1,0)),0))","v":""},{"$f":"IF($P252=\"\",\"\",IFERROR(IF(P252=6,1,IF(MATCH(P252&\"/\"&R252,読み替え表_クールビズ!$P$38:$P$59,0),1,0)),0))","v":""},"","",0,0,"*"]
[null,null,243,null,null,null,null,null,null,null,null,null,null,null,null,null,null,null,null,null,null,null,null,null,null,null,null,null,null,null,null,null,"","",{"$f":"IF($N253=\"\",\"\",IFERROR(IF(N253=6,1,IF(MATCH(N253&\"/\"&R253,読み替え表_クールビズ!$P$38:$P$59,0),1,0)),0))","v":""},{"$f":"IF($P253=\"\",\"\",IFERROR(IF(P253=6,1,IF(MATCH(P253&\"/\"&R253,読み替え表_クールビズ!$P$38:$P$59,0),1,0)),0))","v":""},"","",0,0,"*"]
[null,null,244,null,null,null,null,null,null,null,null,null,null,null,null,null,null,null,null,null,null,null,null,null,null,null,null,null,null,null,null,null,"","",{"$f":"IF($N254=\"\",\"\",IFERROR(IF(N254=6,1,IF(MATCH(N254&\"/\"&R254,読み替え表_クールビズ!$P$38:$P$59,0),1,0)),0))","v":""},{"$f":"IF($P254=\"\",\"\",IFERROR(IF(P254=6,1,IF(MATCH(P254&\"/\"&R254,読み替え表_クールビズ!$P$38:$P$59,0),1,0)),0))","v":""},"","",0,0,"*"]
[null,null,245,null,null,null,null,null,null,null,null,null,null,null,null,null,null,null,null,null,null,null,null,null,null,null,null,null,null,null,null,null,"","",{"$f":"IF($N255=\"\",\"\",IFERROR(IF(N255=6,1,IF(MATCH(N255&\"/\"&R255,読み替え表_クールビズ!$P$38:$P$59,0),1,0)),0))","v":""},{"$f":"IF($P255=\"\",\"\",IFERROR(IF(P255=6,1,IF(MATCH(P255&\"/\"&R255,読み替え表_クールビズ!$P$38:$P$59,0),1,0)),0))","v":""},"","",0,0,"*"]
[null,null,246,null,null,null,null,null,null,null,null,null,null,null,null,null,null,null,null,null,null,null,null,null,null,null,null,null,null,null,null,null,"","",{"$f":"IF($N256=\"\",\"\",IFERROR(IF(N256=6,1,IF(MATCH(N256&\"/\"&R256,読み替え表_クールビズ!$P$38:$P$59,0),1,0)),0))","v":""},{"$f":"IF($P256=\"\",\"\",IFERROR(IF(P256=6,1,IF(MATCH(P256&\"/\"&R256,読み替え表_クールビズ!$P$38:$P$59,0),1,0)),0))","v":""},"","",0,0,"*"]
[null,null,247,null,null,null,null,null,null,null,null,null,null,null,null,null,null,null,null,null,null,null,null,null,null,null,null,null,null,null,null,null,"","",{"$f":"IF($N257=\"\",\"\",IFERROR(IF(N257=6,1,IF(MATCH(N257&\"/\"&R257,読み替え表_クールビズ!$P$38:$P$59,0),1,0)),0))","v":""},{"$f":"IF($P257=\"\",\"\",IFERROR(IF(P257=6,1,IF(MATCH(P257&\"/\"&R257,読み替え表_クールビズ!$P$38:$P$59,0),1,0)),0))","v":""},"","",0,0,"*"]
[null,null,248,null,null,null,null,null,null,null,null,null,null,null,null,null,null,null,null,null,null,null,null,null,null,null,null,null,null,null,null,null,"","",{"$f":"IF($N258=\"\",\"\",IFERROR(IF(N258=6,1,IF(MATCH(N258&\"/\"&R258,読み替え表_クールビズ!$P$38:$P$59,0),1,0)),0))","v":""},{"$f":"IF($P258=\"\",\"\",IFERROR(IF(P258=6,1,IF(MATCH(P258&\"/\"&R258,読み替え表_クールビズ!$P$38:$P$59,0),1,0)),0))","v":""},"","",0,0,"*"]
[null,null,249,null,null,null,null,null,null,null,null,null,null,null,null,null,null,null,null,null,null,null,null,null,null,null,null,null,null,null,null,null,"","",{"$f":"IF($N259=\"\",\"\",IFERROR(IF(N259=6,1,IF(MATCH(N259&\"/\"&R259,読み替え表_クールビズ!$P$38:$P$59,0),1,0)),0))","v":""},{"$f":"IF($P259=\"\",\"\",IFERROR(IF(P259=6,1,IF(MATCH(P259&\"/\"&R259,読み替え表_クールビズ!$P$38:$P$59,0),1,0)),0))","v":""},"","",0,0,"*"]
[null,null,250,null,null,null,null,null,null,null,null,null,null,null,null,null,null,null,null,null,null,null,null,null,null,null,null,null,null,null,null,null,"","",{"$f":"IF($N260=\"\",\"\",IFERROR(IF(N260=6,1,IF(MATCH(N260&\"/\"&R260,読み替え表_クールビズ!$P$38:$P$59,0),1,0)),0))","v":""},{"$f":"IF($P260=\"\",\"\",IFERROR(IF(P260=6,1,IF(MATCH(P260&\"/\"&R260,読み替え表_クールビズ!$P$38:$P$59,0),1,0)),0))","v":""},"","",0,0,"*"]
[null,null,251,null,null,null,null,null,null,null,null,null,null,null,null,null,null,null,null,null,null,null,null,null,null,null,null,null,null,null,null,null,"","",{"$f":"IF($N261=\"\",\"\",IFERROR(IF(N261=6,1,IF(MATCH(N261&\"/\"&R261,読み替え表_クールビズ!$P$38:$P$59,0),1,0)),0))","v":""},{"$f":"IF($P261=\"\",\"\",IFERROR(IF(P261=6,1,IF(MATCH(P261&\"/\"&R261,読み替え表_クールビズ!$P$38:$P$59,0),1,0)),0))","v":""},"","",0,0,"*"]
[null,null,252,null,null,null,null,null,null,null,null,null,null,null,null,null,null,null,null,null,null,null,null,null,null,null,null,null,null,null,null,null,"","",{"$f":"IF($N262=\"\",\"\",IFERROR(IF(N262=6,1,IF(MATCH(N262&\"/\"&R262,読み替え表_クールビズ!$P$38:$P$59,0),1,0)),0))","v":""},{"$f":"IF($P262=\"\",\"\",IFERROR(IF(P262=6,1,IF(MATCH(P262&\"/\"&R262,読み替え表_クールビズ!$P$38:$P$59,0),1,0)),0))","v":""},"","",0,0,"*"]
[null,null,253,null,null,null,null,null,null,null,null,null,null,null,null,null,null,null,null,null,null,null,null,null,null,null,null,null,null,null,null,null,"","",{"$f":"IF($N263=\"\",\"\",IFERROR(IF(N263=6,1,IF(MATCH(N263&\"/\"&R263,読み替え表_クールビズ!$P$38:$P$59,0),1,0)),0))","v":""},{"$f":"IF($P263=\"\",\"\",IFERROR(IF(P263=6,1,IF(MATCH(P263&\"/\"&R263,読み替え表_クールビズ!$P$38:$P$59,0),1,0)),0))","v":""},"","",0,0,"*"]
[null,null,254,null,null,null,null,null,null,null,null,null,null,null,null,null,null,null,null,null,null,null,null,null,null,null,null,null,null,null,null,null,"","",{"$f":"IF($N264=\"\",\"\",IFERROR(IF(N264=6,1,IF(MATCH(N264&\"/\"&R264,読み替え表_クールビズ!$P$38:$P$59,0),1,0)),0))","v":""},{"$f":"IF($P264=\"\",\"\",IFERROR(IF(P264=6,1,IF(MATCH(P264&\"/\"&R264,読み替え表_クールビズ!$P$38:$P$59,0),1,0)),0))","v":""},"","",0,0,"*"]
[null,null,255,null,null,null,null,null,null,null,null,null,null,null,null,null,null,null,null,null,null,null,null,null,null,null,null,null,null,null,null,null,"","",{"$f":"IF($N265=\"\",\"\",IFERROR(IF(N265=6,1,IF(MATCH(N265&\"/\"&R265,読み替え表_クールビズ!$P$38:$P$59,0),1,0)),0))","v":""},{"$f":"IF($P265=\"\",\"\",IFERROR(IF(P265=6,1,IF(MATCH(P265&\"/\"&R265,読み替え表_クールビズ!$P$38:$P$59,0),1,0)),0))","v":""},"","",0,0,"*"]
[null,null,256,null,null,null,null,null,null,null,null,null,null,null,null,null,null,null,null,null,null,null,null,null,null,null,null,null,null,null,null,null,"","",{"$f":"IF($N266=\"\",\"\",IFERROR(IF(N266=6,1,IF(MATCH(N266&\"/\"&R266,読み替え表_クールビズ!$P$38:$P$59,0),1,0)),0))","v":""},{"$f":"IF($P266=\"\",\"\",IFERROR(IF(P266=6,1,IF(MATCH(P266&\"/\"&R266,読み替え表_クールビズ!$P$38:$P$59,0),1,0)),0))","v":""},"","",0,0,"*"]
[null,null,257,null,null,null,null,null,null,null,null,null,null,null,null,null,null,null,null,null,null,null,null,null,null,null,null,null,null,null,null,null,"","",{"$f":"IF($N267=\"\",\"\",IFERROR(IF(N267=6,1,IF(MATCH(N267&\"/\"&R267,読み替え表_クールビズ!$P$38:$P$59,0),1,0)),0))","v":""},{"$f":"IF($P267=\"\",\"\",IFERROR(IF(P267=6,1,IF(MATCH(P267&\"/\"&R267,読み替え表_クールビズ!$P$38:$P$59,0),1,0)),0))","v":""},{"$f":"IF($N267=\"\",\"\",IF(OR(CONCATENATE(N267,$R267)=\"22\",CONCATENATE(N267,$R267)=\"32\",CONCATENATE(N267,$R267)=\"42\",CONCATENATE(N267,$R267)=\"43\",CONCATENATE(N267,$R267)=\"51\",CONCATENATE(N267,$R267)=\"52\",CONCATENATE(N267,$R267)=\"53\"),1,0))","v":""},{"$f":"IF($P267=\"\",\"\",IF(OR(CONCATENATE(P267,$R267)=\"22\",CONCATENATE(P267,$R267)=\"32\",CONCATENATE(P267,$R267)=\"42\",CONCATENATE(P267,$R267)=\"43\",CONCATENATE(P267,$R267)=\"51\",CONCATENATE(P267,$R267)=\"52\",CONCATENATE(P267,$R267)=\"53\"),1,0))","v":""},0,0,"*"]
[null,null,{"$f":"ROW()-10","v":258},null,null,null,null,null,null,null,null,null,null,null,null,null,null,null,null,null,null,null,null,null,null,null,null,null,null,null,null,null,{"$f":"IF($J268=\"\",\"\",IF(AND($J268>=1,$J268<=9),1,0))","v":""},{"$f":"IF($R268=\"\",\"\",IF(OR($R268=1,$R268=2,$R268=3),1,0))","v":""},{"$f":"IF($N268=\"\",\"\",IFERROR(IF(N268=6,1,IF(MATCH(N268&\"/\"&R268,読み替え表_クールビズ!$P$38:$P$59,0),1,0)),0))","v":""},{"$f":"IF($P268=\"\",\"\",IFERROR(IF(P268=6,1,IF(MATCH(P268&\"/\"&R268,読み替え表_クールビズ!$P$38:$P$59,0),1,0)),0))","v":""},"","",{"$f":"IF(OR(AK268=1,AL268=1),1,0)","v":0},{"$f":"IF(OR($AG268=0,SUM(AI268:AJ268)=2),1,0)","v":0},"*"]
[null,null,259,null,null,null,null,null,null,null,null,null,null,null,null,null,null,null,null,null,null,null,null,null,null,null,null,null,null,null,null,null,"","",{"$f":"IF($N269=\"\",\"\",IFERROR(IF(N269=6,1,IF(MATCH(N269&\"/\"&R269,読み替え表_クールビズ!$P$38:$P$59,0),1,0)),0))","v":""},{"$f":"IF($P269=\"\",\"\",IFERROR(IF(P269=6,1,IF(MATCH(P269&\"/\"&R269,読み替え表_クールビズ!$P$38:$P$59,0),1,0)),0))","v":""},"","",0,0,"*"]
[null,null,260,null,null,null,null,null,null,null,null,null,null,null,null,null,null,null,null,null,null,null,null,null,null,null,null,null,null,null,null,null,"","",{"$f":"IF($N270=\"\",\"\",IFERROR(IF(N270=6,1,IF(MATCH(N270&\"/\"&R270,読み替え表_クールビズ!$P$38:$P$59,0),1,0)),0))","v":""},{"$f":"IF($P270=\"\",\"\",IFERROR(IF(P270=6,1,IF(MATCH(P270&\"/\"&R270,読み替え表_クールビズ!$P$38:$P$59,0),1,0)),0))","v":""},"","",0,0,"*"]
[null,null,261,null,null,null,null,null,null,null,null,null,null,null,null,null,null,null,null,null,null,null,null,null,null,null,null,null,null,null,null,null,"","",{"$f":"IF($N271=\"\",\"\",IFERROR(IF(N271=6,1,IF(MATCH(N271&\"/\"&R271,読み替え表_クールビズ!$P$38:$P$59,0),1,0)),0))","v":""},{"$f":"IF($P271=\"\",\"\",IFERROR(IF(P271=6,1,IF(MATCH(P271&\"/\"&R271,読み替え表_クールビズ!$P$38:$P$59,0),1,0)),0))","v":""},"","",0,0,"*"]
[null,null,262,null,null,null,null,null,null,null,null,null,null,null,null,null,null,null,null,null,null,null,null,null,null,null,null,null,null,null,null,null,"","",{"$f":"IF($N272=\"\",\"\",IFERROR(IF(N272=6,1,IF(MATCH(N272&\"/\"&R272,読み替え表_クールビズ!$P$38:$P$59,0),1,0)),0))","v":""},{"$f":"IF($P272=\"\",\"\",IFERROR(IF(P272=6,1,IF(MATCH(P272&\"/\"&R272,読み替え表_クールビズ!$P$38:$P$59,0),1,0)),0))","v":""},"","",0,0,"*"]
[null,null,263,null,null,null,null,null,null,null,null,null,null,null,null,null,null,null,null,null,null,null,null,null,null,null,null,null,null,null,null,null,"","",{"$f":"IF($N273=\"\",\"\",IFERROR(IF(N273=6,1,IF(MATCH(N273&\"/\"&R273,読み替え表_クールビズ!$P$38:$P$59,0),1,0)),0))","v":""},{"$f":"IF($P273=\"\",\"\",IFERROR(IF(P273=6,1,IF(MATCH(P273&\"/\"&R273,読み替え表_クールビズ!$P$38:$P$59,0),1,0)),0))","v":""},"","",0,0,"*"]
[null,null,264,null,null,null,null,null,null,null,null,null,null,null,null,null,null,null,null,null,null,null,null,null,null,null,null,null,null,null,null,null,"","",{"$f":"IF($N274=\"\",\"\",IFERROR(IF(N274=6,1,IF(MATCH(N274&\"/\"&R274,読み替え表_クールビズ!$P$38:$P$59,0),1,0)),0))","v":""},{"$f":"IF($P274=\"\",\"\",IFERROR(IF(P274=6,1,IF(MATCH(P274&\"/\"&R274,読み替え表_クールビズ!$P$38:$P$59,0),1,0)),0))","v":""},"","",0,0,"*"]
[null,null,265,null,null,null,null,null,null,null,null,null,null,null,null,null,null,null,null,null,null,null,null,null,null,null,null,null,null,null,null,null,"","",{"$f":"IF($N275=\"\",\"\",IFERROR(IF(N275=6,1,IF(MATCH(N275&\"/\"&R275,読み替え表_クールビズ!$P$38:$P$59,0),1,0)),0))","v":""},{"$f":"IF($P275=\"\",\"\",IFERROR(IF(P275=6,1,IF(MATCH(P275&\"/\"&R275,読み替え表_クールビズ!$P$38:$P$59,0),1,0)),0))","v":""},"","",0,0,"*"]
[null,null,266,null,null,null,null,null,null,null,null,null,null,null,null,null,null,null,null,null,null,null,null,null,null,null,null,null,null,null,null,null,"","",{"$f":"IF($N276=\"\",\"\",IFERROR(IF(N276=6,1,IF(MATCH(N276&\"/\"&R276,読み替え表_クールビズ!$P$38:$P$59,0),1,0)),0))","v":""},{"$f":"IF($P276=\"\",\"\",IFERROR(IF(P276=6,1,IF(MATCH(P276&\"/\"&R276,読み替え表_クールビズ!$P$38:$P$59,0),1,0)),0))","v":""},"","",0,0,"*"]
[null,null,267,null,null,null,null,null,null,null,null,null,null,null,null,null,null,null,null,null,null,null,null,null,null,null,null,null,null,null,null,null,"","",{"$f":"IF($N277=\"\",\"\",IFERROR(IF(N277=6,1,IF(MATCH(N277&\"/\"&R277,読み替え表_クールビズ!$P$38:$P$59,0),1,0)),0))","v":""},{"$f":"IF($P277=\"\",\"\",IFERROR(IF(P277=6,1,IF(MATCH(P277&\"/\"&R277,読み替え表_クールビズ!$P$38:$P$59,0),1,0)),0))","v":""},"","",0,0,"*"]
[null,null,268,null,null,null,null,null,null,null,null,null,null,null,null,null,null,null,null,null,null,null,null,null,null,null,null,null,null,null,null,null,"","",{"$f":"IF($N278=\"\",\"\",IFERROR(IF(N278=6,1,IF(MATCH(N278&\"/\"&R278,読み替え表_クールビズ!$P$38:$P$59,0),1,0)),0))","v":""},{"$f":"IF($P278=\"\",\"\",IFERROR(IF(P278=6,1,IF(MATCH(P278&\"/\"&R278,読み替え表_クールビズ!$P$38:$P$59,0),1,0)),0))","v":""},"","",0,0,"*"]
[null,null,269,null,null,null,null,null,null,null,null,null,null,null,null,null,null,null,null,null,null,null,null,null,null,null,null,null,null,null,null,null,"","",{"$f":"IF($N279=\"\",\"\",IFERROR(IF(N279=6,1,IF(MATCH(N279&\"/\"&R279,読み替え表_クールビズ!$P$38:$P$59,0),1,0)),0))","v":""},{"$f":"IF($P279=\"\",\"\",IFERROR(IF(P279=6,1,IF(MATCH(P279&\"/\"&R279,読み替え表_クールビズ!$P$38:$P$59,0),1,0)),0))","v":""},"","",0,0,"*"]
[null,null,270,null,null,null,null,null,null,null,null,null,null,null,null,null,null,null,null,null,null,null,null,null,null,null,null,null,null,null,null,null,"","",{"$f":"IF($N280=\"\",\"\",IFERROR(IF(N280=6,1,IF(MATCH(N280&\"/\"&R280,読み替え表_クールビズ!$P$38:$P$59,0),1,0)),0))","v":""},{"$f":"IF($P280=\"\",\"\",IFERROR(IF(P280=6,1,IF(MATCH(P280&\"/\"&R280,読み替え表_クールビズ!$P$38:$P$59,0),1,0)),0))","v":""},"","",0,0,"*"]
[null,null,271,null,null,null,null,null,null,null,null,null,null,null,null,null,null,null,null,null,null,null,null,null,null,null,null,null,null,null,null,null,"","",{"$f":"IF($N281=\"\",\"\",IFERROR(IF(N281=6,1,IF(MATCH(N281&\"/\"&R281,読み替え表_クールビズ!$P$38:$P$59,0),1,0)),0))","v":""},{"$f":"IF($P281=\"\",\"\",IFERROR(IF(P281=6,1,IF(MATCH(P281&\"/\"&R281,読み替え表_クールビズ!$P$38:$P$59,0),1,0)),0))","v":""},"","",0,0,"*"]
[null,null,272,null,null,null,null,null,null,null,null,null,null,null,null,null,null,null,null,null,null,null,null,null,null,null,null,null,null,null,null,null,"","",{"$f":"IF($N282=\"\",\"\",IFERROR(IF(N282=6,1,IF(MATCH(N282&\"/\"&R282,読み替え表_クールビズ!$P$38:$P$59,0),1,0)),0))","v":""},{"$f":"IF($P282=\"\",\"\",IFERROR(IF(P282=6,1,IF(MATCH(P282&\"/\"&R282,読み替え表_クールビズ!$P$38:$P$59,0),1,0)),0))","v":""},"","",0,0,"*"]
[null,null,273,null,null,null,null,null,null,null,null,null,null,null,null,null,null,null,null,null,null,null,null,null,null,null,null,null,null,null,null,null,"","",{"$f":"IF($N283=\"\",\"\",IFERROR(IF(N283=6,1,IF(MATCH(N283&\"/\"&R283,読み替え表_クールビズ!$P$38:$P$59,0),1,0)),0))","v":""},{"$f":"IF($P283=\"\",\"\",IFERROR(IF(P283=6,1,IF(MATCH(P283&\"/\"&R283,読み替え表_クールビズ!$P$38:$P$59,0),1,0)),0))","v":""},"","",0,0,"*"]
[null,null,274,null,null,null,null,null,null,null,null,null,null,null,null,null,null,null,null,null,null,null,null,null,null,null,null,null,null,null,null,null,"","",{"$f":"IF($N284=\"\",\"\",IFERROR(IF(N284=6,1,IF(MATCH(N284&\"/\"&R284,読み替え表_クールビズ!$P$38:$P$59,0),1,0)),0))","v":""},{"$f":"IF($P284=\"\",\"\",IFERROR(IF(P284=6,1,IF(MATCH(P284&\"/\"&R284,読み替え表_クールビズ!$P$38:$P$59,0),1,0)),0))","v":""},"","",0,0,"*"]
[null,null,275,null,null,null,null,null,null,null,null,null,null,null,null,null,null,null,null,null,null,null,null,null,null,null,null,null,null,null,null,null,"","",{"$f":"IF($N285=\"\",\"\",IFERROR(IF(N285=6,1,IF(MATCH(N285&\"/\"&R285,読み替え表_クールビズ!$P$38:$P$59,0),1,0)),0))","v":""},{"$f":"IF($P285=\"\",\"\",IFERROR(IF(P285=6,1,IF(MATCH(P285&\"/\"&R285,読み替え表_クールビズ!$P$38:$P$59,0),1,0)),0))","v":""},"","",0,0,"*"]
[null,null,276,null,null,null,null,null,null,null,null,null,null,null,null,null,null,null,null,null,null,null,null,null,null,null,null,null,null,null,null,null,"","",{"$f":"IF($N286=\"\",\"\",IFERROR(IF(N286=6,1,IF(MATCH(N286&\"/\"&R286,読み替え表_クールビズ!$P$38:$P$59,0),1,0)),0))","v":""},{"$f":"IF($P286=\"\",\"\",IFERROR(IF(P286=6,1,IF(MATCH(P286&\"/\"&R286,読み替え表_クールビズ!$P$38:$P$59,0),1,0)),0))","v":""},"","",0,0,"*"]
[null,null,277,null,null,null,null,null,null,null,null,null,null,null,null,null,null,null,null,null,null,null,null,null,null,null,null,null,null,null,null,null,"","",{"$f":"IF($N287=\"\",\"\",IFERROR(IF(N287=6,1,IF(MATCH(N287&\"/\"&R287,読み替え表_クールビズ!$P$38:$P$59,0),1,0)),0))","v":""},{"$f":"IF($P287=\"\",\"\",IFERROR(IF(P287=6,1,IF(MATCH(P287&\"/\"&R287,読み替え表_クールビズ!$P$38:$P$59,0),1,0)),0))","v":""},"","",0,0,"*"]
[null,null,278,null,null,null,null,null,null,null,null,null,null,null,null,null,null,null,null,null,null,null,null,null,null,null,null,null,null,null,null,null,"","",{"$f":"IF($N288=\"\",\"\",IFERROR(IF(N288=6,1,IF(MATCH(N288&\"/\"&R288,読み替え表_クールビズ!$P$38:$P$59,0),1,0)),0))","v":""},{"$f":"IF($P288=\"\",\"\",IFERROR(IF(P288=6,1,IF(MATCH(P288&\"/\"&R288,読み替え表_クールビズ!$P$38:$P$59,0),1,0)),0))","v":""},"","",0,0,"*"]
[null,null,279,null,null,null,null,null,null,null,null,null,null,null,null,null,null,null,null,null,null,null,null,null,null,null,null,null,null,null,null,null,"","",{"$f":"IF($N289=\"\",\"\",IFERROR(IF(N289=6,1,IF(MATCH(N289&\"/\"&R289,読み替え表_クールビズ!$P$38:$P$59,0),1,0)),0))","v":""},{"$f":"IF($P289=\"\",\"\",IFERROR(IF(P289=6,1,IF(MATCH(P289&\"/\"&R289,読み替え表_クールビズ!$P$38:$P$59,0),1,0)),0))","v":""},"","",0,0,"*"]
[null,null,280,null,null,null,null,null,null,null,null,null,null,null,null,null,null,null,null,null,null,null,null,null,null,null,null,null,null,null,null,null,"","",{"$f":"IF($N290=\"\",\"\",IFERROR(IF(N290=6,1,IF(MATCH(N290&\"/\"&R290,読み替え表_クールビズ!$P$38:$P$59,0),1,0)),0))","v":""},{"$f":"IF($P290=\"\",\"\",IFERROR(IF(P290=6,1,IF(MATCH(P290&\"/\"&R290,読み替え表_クールビズ!$P$38:$P$59,0),1,0)),0))","v":""},"","",0,0,"*"]
[null,null,281,null,null,null,null,null,null,null,null,null,null,null,null,null,null,null,null,null,null,null,null,null,null,null,null,null,null,null,null,null,"","",{"$f":"IF($N291=\"\",\"\",IFERROR(IF(N291=6,1,IF(MATCH(N291&\"/\"&R291,読み替え表_クールビズ!$P$38:$P$59,0),1,0)),0))","v":""},{"$f":"IF($P291=\"\",\"\",IFERROR(IF(P291=6,1,IF(MATCH(P291&\"/\"&R291,読み替え表_クールビズ!$P$38:$P$59,0),1,0)),0))","v":""},"","",0,0,"*"]
[null,null,282,null,null,null,null,null,null,null,null,null,null,null,null,null,null,null,null,null,null,null,null,null,null,null,null,null,null,null,null,null,"","",{"$f":"IF($N292=\"\",\"\",IFERROR(IF(N292=6,1,IF(MATCH(N292&\"/\"&R292,読み替え表_クールビズ!$P$38:$P$59,0),1,0)),0))","v":""},{"$f":"IF($P292=\"\",\"\",IFERROR(IF(P292=6,1,IF(MATCH(P292&\"/\"&R292,読み替え表_クールビズ!$P$38:$P$59,0),1,0)),0))","v":""},"","",0,0,"*"]
[null,null,283,null,null,null,null,null,null,null,null,null,null,null,null,null,null,null,null,null,null,null,null,null,null,null,null,null,null,null,null,null,"","",{"$f":"IF($N293=\"\",\"\",IFERROR(IF(N293=6,1,IF(MATCH(N293&\"/\"&R293,読み替え表_クールビズ!$P$38:$P$59,0),1,0)),0))","v":""},{"$f":"IF($P293=\"\",\"\",IFERROR(IF(P293=6,1,IF(MATCH(P293&\"/\"&R293,読み替え表_クールビズ!$P$38:$P$59,0),1,0)),0))","v":""},"","",0,0,"*"]
[null,null,284,null,null,null,null,null,null,null,null,null,null,null,null,null,null,null,null,null,null,null,null,null,null,null,null,null,null,null,null,null,"","",{"$f":"IF($N294=\"\",\"\",IFERROR(IF(N294=6,1,IF(MATCH(N294&\"/\"&R294,読み替え表_クールビズ!$P$38:$P$59,0),1,0)),0))","v":""},{"$f":"IF($P294=\"\",\"\",IFERROR(IF(P294=6,1,IF(MATCH(P294&\"/\"&R294,読み替え表_クールビズ!$P$38:$P$59,0),1,0)),0))","v":""},"","",0,0,"*"]
[null,null,285,null,null,null,null,null,null,null,null,null,null,null,null,null,null,null,null,null,null,null,null,null,null,null,null,null,null,null,null,null,"","",{"$f":"IF($N295=\"\",\"\",IFERROR(IF(N295=6,1,IF(MATCH(N295&\"/\"&R295,読み替え表_クールビズ!$P$38:$P$59,0),1,0)),0))","v":""},{"$f":"IF($P295=\"\",\"\",IFERROR(IF(P295=6,1,IF(MATCH(P295&\"/\"&R295,読み替え表_クールビズ!$P$38:$P$59,0),1,0)),0))","v":""},"","",0,0,"*"]
[null,null,286,null,null,null,null,null,null,null,null,null,null,null,null,null,null,null,null,null,null,null,null,null,null,null,null,null,null,null,null,null,"","",{"$f":"IF($N296=\"\",\"\",IFERROR(IF(N296=6,1,IF(MATCH(N296&\"/\"&R296,読み替え表_クールビズ!$P$38:$P$59,0),1,0)),0))","v":""},{"$f":"IF($P296=\"\",\"\",IFERROR(IF(P296=6,1,IF(MATCH(P296&\"/\"&R296,読み替え表_クールビズ!$P$38:$P$59,0),1,0)),0))","v":""},"","",0,0,"*"]
[null,null,287,null,null,null,null,null,null,null,null,null,null,null,null,null,null,null,null,null,null,null,null,null,null,null,null,null,null,null,null,null,"","",{"$f":"IF($N297=\"\",\"\",IFERROR(IF(N297=6,1,IF(MATCH(N297&\"/\"&R297,読み替え表_クールビズ!$P$38:$P$59,0),1,0)),0))","v":""},{"$f":"IF($P297=\"\",\"\",IFERROR(IF(P297=6,1,IF(MATCH(P297&\"/\"&R297,読み替え表_クールビズ!$P$38:$P$59,0),1,0)),0))","v":""},"","",0,0,"*"]
[null,null,288,null,null,null,null,null,null,null,null,null,null,null,null,null,null,null,null,null,null,null,null,null,null,null,null,null,null,null,null,null,"","",{"$f":"IF($N298=\"\",\"\",IFERROR(IF(N298=6,1,IF(MATCH(N298&\"/\"&R298,読み替え表_クールビズ!$P$38:$P$59,0),1,0)),0))","v":""},{"$f":"IF($P298=\"\",\"\",IFERROR(IF(P298=6,1,IF(MATCH(P298&\"/\"&R298,読み替え表_クールビズ!$P$38:$P$59,0),1,0)),0))","v":""},"","",0,0,"*"]
[null,null,289,null,null,null,null,null,null,null,null,null,null,null,null,null,null,null,null,null,null,null,null,null,null,null,null,null,null,null,null,null,"","",{"$f":"IF($N299=\"\",\"\",IFERROR(IF(N299=6,1,IF(MATCH(N299&\"/\"&R299,読み替え表_クールビズ!$P$38:$P$59,0),1,0)),0))","v":""},{"$f":"IF($P299=\"\",\"\",IFERROR(IF(P299=6,1,IF(MATCH(P299&\"/\"&R299,読み替え表_クールビズ!$P$38:$P$59,0),1,0)),0))","v":""},"","",0,0,"*"]
[null,null,290,null,null,null,null,null,null,null,null,null,null,null,null,null,null,null,null,null,null,null,null,null,null,null,null,null,null,null,null,null,"","",{"$f":"IF($N300=\"\",\"\",IFERROR(IF(N300=6,1,IF(MATCH(N300&\"/\"&R300,読み替え表_クールビズ!$P$38:$P$59,0),1,0)),0))","v":""},{"$f":"IF($P300=\"\",\"\",IFERROR(IF(P300=6,1,IF(MATCH(P300&\"/\"&R300,読み替え表_クールビズ!$P$38:$P$59,0),1,0)),0))","v":""},"","",0,0,"*"]
[null,null,291,null,null,null,null,null,null,null,null,null,null,null,null,null,null,null,null,null,null,null,null,null,null,null,null,null,null,null,null,null,"","",{"$f":"IF($N301=\"\",\"\",IFERROR(IF(N301=6,1,IF(MATCH(N301&\"/\"&R301,読み替え表_クールビズ!$P$38:$P$59,0),1,0)),0))","v":""},{"$f":"IF($P301=\"\",\"\",IFERROR(IF(P301=6,1,IF(MATCH(P301&\"/\"&R301,読み替え表_クールビズ!$P$38:$P$59,0),1,0)),0))","v":""},"","",0,0,"*"]
[null,null,292,null,null,null,null,null,null,null,null,null,null,null,null,null,null,null,null,null,null,null,null,null,null,null,null,null,null,null,null,null,"","",{"$f":"IF($N302=\"\",\"\",IFERROR(IF(N302=6,1,IF(MATCH(N302&\"/\"&R302,読み替え表_クールビズ!$P$38:$P$59,0),1,0)),0))","v":""},{"$f":"IF($P302=\"\",\"\",IFERROR(IF(P302=6,1,IF(MATCH(P302&\"/\"&R302,読み替え表_クールビズ!$P$38:$P$59,0),1,0)),0))","v":""},"","",0,0,"*"]
[null,null,293,null,null,null,null,null,null,null,null,null,null,null,null,null,null,null,null,null,null,null,null,null,null,null,null,null,null,null,null,null,"","",{"$f":"IF($N303=\"\",\"\",IFERROR(IF(N303=6,1,IF(MATCH(N303&\"/\"&R303,読み替え表_クールビズ!$P$38:$P$59,0),1,0)),0))","v":""},{"$f":"IF($P303=\"\",\"\",IFERROR(IF(P303=6,1,IF(MATCH(P303&\"/\"&R303,読み替え表_クールビズ!$P$38:$P$59,0),1,0)),0))","v":""},"","",0,0,"*"]
[null,null,294,null,null,null,null,null,null,null,null,null,null,null,null,null,null,null,null,null,null,null,null,null,null,null,null,null,null,null,null,null,"","",{"$f":"IF($N304=\"\",\"\",IFERROR(IF(N304=6,1,IF(MATCH(N304&\"/\"&R304,読み替え表_クールビズ!$P$38:$P$59,0),1,0)),0))","v":""},{"$f":"IF($P304=\"\",\"\",IFERROR(IF(P304=6,1,IF(MATCH(P304&\"/\"&R304,読み替え表_クールビズ!$P$38:$P$59,0),1,0)),0))","v":""},"","",0,0,"*"]
[null,null,295,null,null,null,null,null,null,null,null,null,null,null,null,null,null,null,null,null,null,null,null,null,null,null,null,null,null,null,null,null,"","",{"$f":"IF($N305=\"\",\"\",IFERROR(IF(N305=6,1,IF(MATCH(N305&\"/\"&R305,読み替え表_クールビズ!$P$38:$P$59,0),1,0)),0))","v":""},{"$f":"IF($P305=\"\",\"\",IFERROR(IF(P305=6,1,IF(MATCH(P305&\"/\"&R305,読み替え表_クールビズ!$P$38:$P$59,0),1,0)),0))","v":""},"","",0,0,"*"]
[null,null,296,null,null,null,null,null,null,null,null,null,null,null,null,null,null,null,null,null,null,null,null,null,null,null,null,null,null,null,null,null,"","",{"$f":"IF($N306=\"\",\"\",IFERROR(IF(N306=6,1,IF(MATCH(N306&\"/\"&R306,読み替え表_クールビズ!$P$38:$P$59,0),1,0)),0))","v":""},{"$f":"IF($P306=\"\",\"\",IFERROR(IF(P306=6,1,IF(MATCH(P306&\"/\"&R306,読み替え表_クールビズ!$P$38:$P$59,0),1,0)),0))","v":""},"","",0,0,"*"]
[null,null,297,null,null,null,null,null,null,null,null,null,null,null,null,null,null,null,null,null,null,null,null,null,null,null,null,null,null,null,null,null,"","",{"$f":"IF($N307=\"\",\"\",IFERROR(IF(N307=6,1,IF(MATCH(N307&\"/\"&R307,読み替え表_クールビズ!$P$38:$P$59,0),1,0)),0))","v":""},{"$f":"IF($P307=\"\",\"\",IFERROR(IF(P307=6,1,IF(MATCH(P307&\"/\"&R307,読み替え表_クールビズ!$P$38:$P$59,0),1,0)),0))","v":""},"","",0,0,"*"]
[null,null,298,null,null,null,null,null,null,null,null,null,null,null,null,null,null,null,null,null,null,null,null,null,null,null,null,null,null,null,null,null,"","",{"$f":"IF($N308=\"\",\"\",IFERROR(IF(N308=6,1,IF(MATCH(N308&\"/\"&R308,読み替え表_クールビズ!$P$38:$P$59,0),1,0)),0))","v":""},{"$f":"IF($P308=\"\",\"\",IFERROR(IF(P308=6,1,IF(MATCH(P308&\"/\"&R308,読み替え表_クールビズ!$P$38:$P$59,0),1,0)),0))","v":""},"","",0,0,"*"]
[null,null,299,null,null,null,null,null,null,null,null,null,null,null,null,null,null,null,null,null,null,null,null,null,null,null,null,null,null,null,null,null,"","",{"$f":"IF($N309=\"\",\"\",IFERROR(IF(N309=6,1,IF(MATCH(N309&\"/\"&R309,読み替え表_クールビズ!$P$38:$P$59,0),1,0)),0))","v":""},{"$f":"IF($P309=\"\",\"\",IFERROR(IF(P309=6,1,IF(MATCH(P309&\"/\"&R309,読み替え表_クールビズ!$P$38:$P$59,0),1,0)),0))","v":""},"","",0,0,"*"]
[null,null,300,null,null,null,null,null,null,null,null,null,null,null,null,null,null,null,null,null,null,null,null,null,null,null,null,null,null,null,null,null,"","",{"$f":"IF($N310=\"\",\"\",IFERROR(IF(N310=6,1,IF(MATCH(N310&\"/\"&R310,読み替え表_クールビズ!$P$38:$P$59,0),1,0)),0))","v":""},{"$f":"IF($P310=\"\",\"\",IFERROR(IF(P310=6,1,IF(MATCH(P310&\"/\"&R310,読み替え表_クールビズ!$P$38:$P$59,0),1,0)),0))","v":""},"","",0,0,"*"]
[null,null,301,null,null,null,null,null,null,null,null,null,null,null,null,null,null,null,null,null,null,null,null,null,null,null,null,null,null,null,null,null,"","",{"$f":"IF($N311=\"\",\"\",IFERROR(IF(N311=6,1,IF(MATCH(N311&\"/\"&R311,読み替え表_クールビズ!$P$38:$P$59,0),1,0)),0))","v":""},{"$f":"IF($P311=\"\",\"\",IFERROR(IF(P311=6,1,IF(MATCH(P311&\"/\"&R311,読み替え表_クールビズ!$P$38:$P$59,0),1,0)),0))","v":""},"","",0,0,"*"]
[null,null,302,null,null,null,null,null,null,null,null,null,null,null,null,null,null,null,null,null,null,null,null,null,null,null,null,null,null,null,null,null,"","",{"$f":"IF($N312=\"\",\"\",IFERROR(IF(N312=6,1,IF(MATCH(N312&\"/\"&R312,読み替え表_クールビズ!$P$38:$P$59,0),1,0)),0))","v":""},{"$f":"IF($P312=\"\",\"\",IFERROR(IF(P312=6,1,IF(MATCH(P312&\"/\"&R312,読み替え表_クールビズ!$P$38:$P$59,0),1,0)),0))","v":""},"","",0,0,"*"]
[null,null,303,null,null,null,null,null,null,null,null,null,null,null,null,null,null,null,null,null,null,null,null,null,null,null,null,null,null,null,null,null,"","",{"$f":"IF($N313=\"\",\"\",IFERROR(IF(N313=6,1,IF(MATCH(N313&\"/\"&R313,読み替え表_クールビズ!$P$38:$P$59,0),1,0)),0))","v":""},{"$f":"IF($P313=\"\",\"\",IFERROR(IF(P313=6,1,IF(MATCH(P313&\"/\"&R313,読み替え表_クールビズ!$P$38:$P$59,0),1,0)),0))","v":""},"","",0,0,"*"]
[null,null,304,null,null,null,null,null,null,null,null,null,null,null,null,null,null,null,null,null,null,null,null,null,null,null,null,null,null,null,null,null,"","",{"$f":"IF($N314=\"\",\"\",IFERROR(IF(N314=6,1,IF(MATCH(N314&\"/\"&R314,読み替え表_クールビズ!$P$38:$P$59,0),1,0)),0))","v":""},{"$f":"IF($P314=\"\",\"\",IFERROR(IF(P314=6,1,IF(MATCH(P314&\"/\"&R314,読み替え表_クールビズ!$P$38:$P$59,0),1,0)),0))","v":""},"","",0,0,"*"]
[null,null,305,null,null,null,null,null,null,null,null,null,null,null,null,null,null,null,null,null,null,null,null,null,null,null,null,null,null,null,null,null,"","",{"$f":"IF($N315=\"\",\"\",IFERROR(IF(N315=6,1,IF(MATCH(N315&\"/\"&R315,読み替え表_クールビズ!$P$38:$P$59,0),1,0)),0))","v":""},{"$f":"IF($P315=\"\",\"\",IFERROR(IF(P315=6,1,IF(MATCH(P315&\"/\"&R315,読み替え表_クールビズ!$P$38:$P$59,0),1,0)),0))","v":""},"","",0,0,"*"]
[null,null,306,null,null,null,null,null,null,null,null,null,null,null,null,null,null,null,null,null,null,null,null,null,null,null,null,null,null,null,null,null,"","",{"$f":"IF($N316=\"\",\"\",IFERROR(IF(N316=6,1,IF(MATCH(N316&\"/\"&R316,読み替え表_クールビズ!$P$38:$P$59,0),1,0)),0))","v":""},{"$f":"IF($P316=\"\",\"\",IFERROR(IF(P316=6,1,IF(MATCH(P316&\"/\"&R316,読み替え表_クールビズ!$P$38:$P$59,0),1,0)),0))","v":""},"","",0,0,"*"]
[null,null,307,null,null,null,null,null,null,null,null,null,null,null,null,null,null,null,null,null,null,null,null,null,null,null,null,null,null,null,null,null,"","",{"$f":"IF($N317=\"\",\"\",IFERROR(IF(N317=6,1,IF(MATCH(N317&\"/\"&R317,読み替え表_クールビズ!$P$38:$P$59,0),1,0)),0))","v":""},{"$f":"IF($P317=\"\",\"\",IFERROR(IF(P317=6,1,IF(MATCH(P317&\"/\"&R317,読み替え表_クールビズ!$P$38:$P$59,0),1,0)),0))","v":""},"","",0,0,"*"]
[null,null,308,null,null,null,null,null,null,null,null,null,null,null,null,null,null,null,null,null,null,null,null,null,null,null,null,null,null,null,null,null,"","",{"$f":"IF($N318=\"\",\"\",IFERROR(IF(N318=6,1,IF(MATCH(N318&\"/\"&R318,読み替え表_クールビズ!$P$38:$P$59,0),1,0)),0))","v":""},{"$f":"IF($P318=\"\",\"\",IFERROR(IF(P318=6,1,IF(MATCH(P318&\"/\"&R318,読み替え表_クールビズ!$P$38:$P$59,0),1,0)),0))","v":""},"","",0,0,"*"]
[null,null,309,null,null,null,null,null,null,null,null,null,null,null,null,null,null,null,null,null,null,null,null,null,null,null,null,null,null,null,null,null,"","",{"$f":"IF($N319=\"\",\"\",IFERROR(IF(N319=6,1,IF(MATCH(N319&\"/\"&R319,読み替え表_クールビズ!$P$38:$P$59,0),1,0)),0))","v":""},{"$f":"IF($P319=\"\",\"\",IFERROR(IF(P319=6,1,IF(MATCH(P319&\"/\"&R319,読み替え表_クールビズ!$P$38:$P$59,0),1,0)),0))","v":""},"","",0,0,"*"]
[null,null,310,null,null,null,null,null,null,null,null,null,null,null,null,null,null,null,null,null,null,null,null,null,null,null,null,null,null,null,null,null,"","",{"$f":"IF($N320=\"\",\"\",IFERROR(IF(N320=6,1,IF(MATCH(N320&\"/\"&R320,読み替え表_クールビズ!$P$38:$P$59,0),1,0)),0))","v":""},{"$f":"IF($P320=\"\",\"\",IFERROR(IF(P320=6,1,IF(MATCH(P320&\"/\"&R320,読み替え表_クールビズ!$P$38:$P$59,0),1,0)),0))","v":""},"","",0,0,"*"]
[null,null,311,null,null,null,null,null,null,null,null,null,null,null,null,null,null,null,null,null,null,null,null,null,null,null,null,null,null,null,null,null,"","",{"$f":"IF($N321=\"\",\"\",IFERROR(IF(N321=6,1,IF(MATCH(N321&\"/\"&R321,読み替え表_クールビズ!$P$38:$P$59,0),1,0)),0))","v":""},{"$f":"IF($P321=\"\",\"\",IFERROR(IF(P321=6,1,IF(MATCH(P321&\"/\"&R321,読み替え表_クールビズ!$P$38:$P$59,0),1,0)),0))","v":""},"","",0,0,"*"]
[null,null,312,null,null,null,null,null,null,null,null,null,null,null,null,null,null,null,null,null,null,null,null,null,null,null,null,null,null,null,null,null,"","",{"$f":"IF($N322=\"\",\"\",IFERROR(IF(N322=6,1,IF(MATCH(N322&\"/\"&R322,読み替え表_クールビズ!$P$38:$P$59,0),1,0)),0))","v":""},{"$f":"IF($P322=\"\",\"\",IFERROR(IF(P322=6,1,IF(MATCH(P322&\"/\"&R322,読み替え表_クールビズ!$P$38:$P$59,0),1,0)),0))","v":""},"","",0,0,"*"]
[null,null,313,null,null,null,null,null,null,null,null,null,null,null,null,null,null,null,null,null,null,null,null,null,null,null,null,null,null,null,null,null,"","",{"$f":"IF($N323=\"\",\"\",IFERROR(IF(N323=6,1,IF(MATCH(N323&\"/\"&R323,読み替え表_クールビズ!$P$38:$P$59,0),1,0)),0))","v":""},{"$f":"IF($P323=\"\",\"\",IFERROR(IF(P323=6,1,IF(MATCH(P323&\"/\"&R323,読み替え表_クールビズ!$P$38:$P$59,0),1,0)),0))","v":""},"","",0,0,"*"]
[null,null,314,null,null,null,null,null,null,null,null,null,null,null,null,null,null,null,null,null,null,null,null,null,null,null,null,null,null,null,null,null,"","",{"$f":"IF($N324=\"\",\"\",IFERROR(IF(N324=6,1,IF(MATCH(N324&\"/\"&R324,読み替え表_クールビズ!$P$38:$P$59,0),1,0)),0))","v":""},{"$f":"IF($P324=\"\",\"\",IFERROR(IF(P324=6,1,IF(MATCH(P324&\"/\"&R324,読み替え表_クールビズ!$P$38:$P$59,0),1,0)),0))","v":""},"","",0,0,"*"]
[null,null,315,null,null,null,null,null,null,null,null,null,null,null,null,null,null,null,null,null,null,null,null,null,null,null,null,null,null,null,null,null,"","",{"$f":"IF($N325=\"\",\"\",IFERROR(IF(N325=6,1,IF(MATCH(N325&\"/\"&R325,読み替え表_クールビズ!$P$38:$P$59,0),1,0)),0))","v":""},{"$f":"IF($P325=\"\",\"\",IFERROR(IF(P325=6,1,IF(MATCH(P325&\"/\"&R325,読み替え表_クールビズ!$P$38:$P$59,0),1,0)),0))","v":""},"","",0,0,"*"]
[null,null,316,null,null,null,null,null,null,null,null,null,null,null,null,null,null,null,null,null,null,null,null,null,null,null,null,null,null,null,null,null,"","",{"$f":"IF($N326=\"\",\"\",IFERROR(IF(N326=6,1,IF(MATCH(N326&\"/\"&R326,読み替え表_クールビズ!$P$38:$P$59,0),1,0)),0))","v":""},{"$f":"IF($P326=\"\",\"\",IFERROR(IF(P326=6,1,IF(MATCH(P326&\"/\"&R326,読み替え表_クールビズ!$P$38:$P$59,0),1,0)),0))","v":""},"","",0,0,"*"]
[null,null,317,null,null,null,null,null,null,null,null,null,null,null,null,null,null,null,null,null,null,null,null,null,null,null,null,null,null,null,null,null,"","",{"$f":"IF($N327=\"\",\"\",IFERROR(IF(N327=6,1,IF(MATCH(N327&\"/\"&R327,読み替え表_クールビズ!$P$38:$P$59,0),1,0)),0))","v":""},{"$f":"IF($P327=\"\",\"\",IFERROR(IF(P327=6,1,IF(MATCH(P327&\"/\"&R327,読み替え表_クールビズ!$P$38:$P$59,0),1,0)),0))","v":""},"","",0,0,"*"]
[null,null,318,null,null,null,null,null,null,null,null,null,null,null,null,null,null,null,null,null,null,null,null,null,null,null,null,null,null,null,null,null,"","",{"$f":"IF($N328=\"\",\"\",IFERROR(IF(N328=6,1,IF(MATCH(N328&\"/\"&R328,読み替え表_クールビズ!$P$38:$P$59,0),1,0)),0))","v":""},{"$f":"IF($P328=\"\",\"\",IFERROR(IF(P328=6,1,IF(MATCH(P328&\"/\"&R328,読み替え表_クールビズ!$P$38:$P$59,0),1,0)),0))","v":""},"","",0,0,"*"]
[null,null,319,null,null,null,null,null,null,null,null,null,null,null,null,null,null,null,null,null,null,null,null,null,null,null,null,null,null,null,null,null,"","",{"$f":"IF($N329=\"\",\"\",IFERROR(IF(N329=6,1,IF(MATCH(N329&\"/\"&R329,読み替え表_クールビズ!$P$38:$P$59,0),1,0)),0))","v":""},{"$f":"IF($P329=\"\",\"\",IFERROR(IF(P329=6,1,IF(MATCH(P329&\"/\"&R329,読み替え表_クールビズ!$P$38:$P$59,0),1,0)),0))","v":""},"","",0,0,"*"]
[null,null,320,null,null,null,null,null,null,null,null,null,null,null,null,null,null,null,null,null,null,null,null,null,null,null,null,null,null,null,null,null,"","",{"$f":"IF($N330=\"\",\"\",IFERROR(IF(N330=6,1,IF(MATCH(N330&\"/\"&R330,読み替え表_クールビズ!$P$38:$P$59,0),1,0)),0))","v":""},{"$f":"IF($P330=\"\",\"\",IFERROR(IF(P330=6,1,IF(MATCH(P330&\"/\"&R330,読み替え表_クールビズ!$P$38:$P$59,0),1,0)),0))","v":""},"","",0,0,"*"]
[null,null,321,null,null,null,null,null,null,null,null,null,null,null,null,null,null,null,null,null,null,null,null,null,null,null,null,null,null,null,null,null,"","",{"$f":"IF($N331=\"\",\"\",IFERROR(IF(N331=6,1,IF(MATCH(N331&\"/\"&R331,読み替え表_クールビズ!$P$38:$P$59,0),1,0)),0))","v":""},{"$f":"IF($P331=\"\",\"\",IFERROR(IF(P331=6,1,IF(MATCH(P331&\"/\"&R331,読み替え表_クールビズ!$P$38:$P$59,0),1,0)),0))","v":""},{"$f":"IF($N331=\"\",\"\",IF(OR(CONCATENATE(N331,$R331)=\"22\",CONCATENATE(N331,$R331)=\"32\",CONCATENATE(N331,$R331)=\"42\",CONCATENATE(N331,$R331)=\"43\",CONCATENATE(N331,$R331)=\"51\",CONCATENATE(N331,$R331)=\"52\",CONCATENATE(N331,$R331)=\"53\"),1,0))","v":""},{"$f":"IF($P331=\"\",\"\",IF(OR(CONCATENATE(P331,$R331)=\"22\",CONCATENATE(P331,$R331)=\"32\",CONCATENATE(P331,$R331)=\"42\",CONCATENATE(P331,$R331)=\"43\",CONCATENATE(P331,$R331)=\"51\",CONCATENATE(P331,$R331)=\"52\",CONCATENATE(P331,$R331)=\"53\"),1,0))","v":""},0,0,"*"]
[null,null,{"$f":"ROW()-10","v":322},null,null,null,null,null,null,null,null,null,null,null,null,null,null,null,null,null,null,null,null,null,null,null,null,null,null,null,null,null,{"$f":"IF($J332=\"\",\"\",IF(AND($J332>=1,$J332<=9),1,0))","v":""},{"$f":"IF($R332=\"\",\"\",IF(OR($R332=1,$R332=2,$R332=3),1,0))","v":""},{"$f":"IF($N332=\"\",\"\",IFERROR(IF(N332=6,1,IF(MATCH(N332&\"/\"&R332,読み替え表_クールビズ!$P$38:$P$59,0),1,0)),0))","v":""},{"$f":"IF($P332=\"\",\"\",IFERROR(IF(P332=6,1,IF(MATCH(P332&\"/\"&R332,読み替え表_クールビズ!$P$38:$P$59,0),1,0)),0))","v":""},"","",{"$f":"IF(OR(AK332=1,AL332=1),1,0)","v":0},{"$f":"IF(OR($AG332=0,SUM(AI332:AJ332)=2),1,0)","v":0},"*"]
[null,null,323,null,null,null,null,null,null,null,null,null,null,null,null,null,null,null,null,null,null,null,null,null,null,null,null,null,null,null,null,null,"","",{"$f":"IF($N333=\"\",\"\",IFERROR(IF(N333=6,1,IF(MATCH(N333&\"/\"&R333,読み替え表_クールビズ!$P$38:$P$59,0),1,0)),0))","v":""},{"$f":"IF($P333=\"\",\"\",IFERROR(IF(P333=6,1,IF(MATCH(P333&\"/\"&R333,読み替え表_クールビズ!$P$38:$P$59,0),1,0)),0))","v":""},"","",0,0,"*"]
[null,null,324,null,null,null,null,null,null,null,null,null,null,null,null,null,null,null,null,null,null,null,null,null,null,null,null,null,null,null,null,null,"","",{"$f":"IF($N334=\"\",\"\",IFERROR(IF(N334=6,1,IF(MATCH(N334&\"/\"&R334,読み替え表_クールビズ!$P$38:$P$59,0),1,0)),0))","v":""},{"$f":"IF($P334=\"\",\"\",IFERROR(IF(P334=6,1,IF(MATCH(P334&\"/\"&R334,読み替え表_クールビズ!$P$38:$P$59,0),1,0)),0))","v":""},"","",0,0,"*"]
[null,null,325,null,null,null,null,null,null,null,null,null,null,null,null,null,null,null,null,null,null,null,null,null,null,null,null,null,null,null,null,null,"","",{"$f":"IF($N335=\"\",\"\",IFERROR(IF(N335=6,1,IF(MATCH(N335&\"/\"&R335,読み替え表_クールビズ!$P$38:$P$59,0),1,0)),0))","v":""},{"$f":"IF($P335=\"\",\"\",IFERROR(IF(P335=6,1,IF(MATCH(P335&\"/\"&R335,読み替え表_クールビズ!$P$38:$P$59,0),1,0)),0))","v":""},"","",0,0,"*"]
[null,null,326,null,null,null,null,null,null,null,null,null,null,null,null,null,null,null,null,null,null,null,null,null,null,null,null,null,null,null,null,null,"","",{"$f":"IF($N336=\"\",\"\",IFERROR(IF(N336=6,1,IF(MATCH(N336&\"/\"&R336,読み替え表_クールビズ!$P$38:$P$59,0),1,0)),0))","v":""},{"$f":"IF($P336=\"\",\"\",IFERROR(IF(P336=6,1,IF(MATCH(P336&\"/\"&R336,読み替え表_クールビズ!$P$38:$P$59,0),1,0)),0))","v":""},"","",0,0,"*"]
[null,null,327,null,null,null,null,null,null,null,null,null,null,null,null,null,null,null,null,null,null,null,null,null,null,null,null,null,null,null,null,null,"","",{"$f":"IF($N337=\"\",\"\",IFERROR(IF(N337=6,1,IF(MATCH(N337&\"/\"&R337,読み替え表_クールビズ!$P$38:$P$59,0),1,0)),0))","v":""},{"$f":"IF($P337=\"\",\"\",IFERROR(IF(P337=6,1,IF(MATCH(P337&\"/\"&R337,読み替え表_クールビズ!$P$38:$P$59,0),1,0)),0))","v":""},"","",0,0,"*"]
[null,null,328,null,null,null,null,null,null,null,null,null,null,null,null,null,null,null,null,null,null,null,null,null,null,null,null,null,null,null,null,null,"","",{"$f":"IF($N338=\"\",\"\",IFERROR(IF(N338=6,1,IF(MATCH(N338&\"/\"&R338,読み替え表_クールビズ!$P$38:$P$59,0),1,0)),0))","v":""},{"$f":"IF($P338=\"\",\"\",IFERROR(IF(P338=6,1,IF(MATCH(P338&\"/\"&R338,読み替え表_クールビズ!$P$38:$P$59,0),1,0)),0))","v":""},"","",0,0,"*"]
[null,null,329,null,null,null,null,null,null,null,null,null,null,null,null,null,null,null,null,null,null,null,null,null,null,null,null,null,null,null,null,null,"","",{"$f":"IF($N339=\"\",\"\",IFERROR(IF(N339=6,1,IF(MATCH(N339&\"/\"&R339,読み替え表_クールビズ!$P$38:$P$59,0),1,0)),0))","v":""},{"$f":"IF($P339=\"\",\"\",IFERROR(IF(P339=6,1,IF(MATCH(P339&\"/\"&R339,読み替え表_クールビズ!$P$38:$P$59,0),1,0)),0))","v":""},"","",0,0,"*"]
[null,null,330,null,null,null,null,null,null,null,null,null,null,null,null,null,null,null,null,null,null,null,null,null,null,null,null,null,null,null,null,null,"","",{"$f":"IF($N340=\"\",\"\",IFERROR(IF(N340=6,1,IF(MATCH(N340&\"/\"&R340,読み替え表_クールビズ!$P$38:$P$59,0),1,0)),0))","v":""},{"$f":"IF($P340=\"\",\"\",IFERROR(IF(P340=6,1,IF(MATCH(P340&\"/\"&R340,読み替え表_クールビズ!$P$38:$P$59,0),1,0)),0))","v":""},"","",0,0,"*"]
[null,null,331,null,null,null,null,null,null,null,null,null,null,null,null,null,null,null,null,null,null,null,null,null,null,null,null,null,null,null,null,null,"","",{"$f":"IF($N341=\"\",\"\",IFERROR(IF(N341=6,1,IF(MATCH(N341&\"/\"&R341,読み替え表_クールビズ!$P$38:$P$59,0),1,0)),0))","v":""},{"$f":"IF($P341=\"\",\"\",IFERROR(IF(P341=6,1,IF(MATCH(P341&\"/\"&R341,読み替え表_クールビズ!$P$38:$P$59,0),1,0)),0))","v":""},"","",0,0,"*"]
[null,null,332,null,null,null,null,null,null,null,null,null,null,null,null,null,null,null,null,null,null,null,null,null,null,null,null,null,null,null,null,null,"","",{"$f":"IF($N342=\"\",\"\",IFERROR(IF(N342=6,1,IF(MATCH(N342&\"/\"&R342,読み替え表_クールビズ!$P$38:$P$59,0),1,0)),0))","v":""},{"$f":"IF($P342=\"\",\"\",IFERROR(IF(P342=6,1,IF(MATCH(P342&\"/\"&R342,読み替え表_クールビズ!$P$38:$P$59,0),1,0)),0))","v":""},"","",0,0,"*"]
[null,null,333,null,null,null,null,null,null,null,null,null,null,null,null,null,null,null,null,null,null,null,null,null,null,null,null,null,null,null,null,null,"","",{"$f":"IF($N343=\"\",\"\",IFERROR(IF(N343=6,1,IF(MATCH(N343&\"/\"&R343,読み替え表_クールビズ!$P$38:$P$59,0),1,0)),0))","v":""},{"$f":"IF($P343=\"\",\"\",IFERROR(IF(P343=6,1,IF(MATCH(P343&\"/\"&R343,読み替え表_クールビズ!$P$38:$P$59,0),1,0)),0))","v":""},"","",0,0,"*"]
[null,null,334,null,null,null,null,null,null,null,null,null,null,null,null,null,null,null,null,null,null,null,null,null,null,null,null,null,null,null,null,null,"","",{"$f":"IF($N344=\"\",\"\",IFERROR(IF(N344=6,1,IF(MATCH(N344&\"/\"&R344,読み替え表_クールビズ!$P$38:$P$59,0),1,0)),0))","v":""},{"$f":"IF($P344=\"\",\"\",IFERROR(IF(P344=6,1,IF(MATCH(P344&\"/\"&R344,読み替え表_クールビズ!$P$38:$P$59,0),1,0)),0))","v":""},"","",0,0,"*"]
[null,null,335,null,null,null,null,null,null,null,null,null,null,null,null,null,null,null,null,null,null,null,null,null,null,null,null,null,null,null,null,null,"","",{"$f":"IF($N345=\"\",\"\",IFERROR(IF(N345=6,1,IF(MATCH(N345&\"/\"&R345,読み替え表_クールビズ!$P$38:$P$59,0),1,0)),0))","v":""},{"$f":"IF($P345=\"\",\"\",IFERROR(IF(P345=6,1,IF(MATCH(P345&\"/\"&R345,読み替え表_クールビズ!$P$38:$P$59,0),1,0)),0))","v":""},"","",0,0,"*"]
[null,null,336,null,null,null,null,null,null,null,null,null,null,null,null,null,null,null,null,null,null,null,null,null,null,null,null,null,null,null,null,null,"","",{"$f":"IF($N346=\"\",\"\",IFERROR(IF(N346=6,1,IF(MATCH(N346&\"/\"&R346,読み替え表_クールビズ!$P$38:$P$59,0),1,0)),0))","v":""},{"$f":"IF($P346=\"\",\"\",IFERROR(IF(P346=6,1,IF(MATCH(P346&\"/\"&R346,読み替え表_クールビズ!$P$38:$P$59,0),1,0)),0))","v":""},"","",0,0,"*"]
[null,null,337,null,null,null,null,null,null,null,null,null,null,null,null,null,null,null,null,null,null,null,null,null,null,null,null,null,null,null,null,null,"","",{"$f":"IF($N347=\"\",\"\",IFERROR(IF(N347=6,1,IF(MATCH(N347&\"/\"&R347,読み替え表_クールビズ!$P$38:$P$59,0),1,0)),0))","v":""},{"$f":"IF($P347=\"\",\"\",IFERROR(IF(P347=6,1,IF(MATCH(P347&\"/\"&R347,読み替え表_クールビズ!$P$38:$P$59,0),1,0)),0))","v":""},"","",0,0,"*"]
[null,null,338,null,null,null,null,null,null,null,null,null,null,null,null,null,null,null,null,null,null,null,null,null,null,null,null,null,null,null,null,null,"","",{"$f":"IF($N348=\"\",\"\",IFERROR(IF(N348=6,1,IF(MATCH(N348&\"/\"&R348,読み替え表_クールビズ!$P$38:$P$59,0),1,0)),0))","v":""},{"$f":"IF($P348=\"\",\"\",IFERROR(IF(P348=6,1,IF(MATCH(P348&\"/\"&R348,読み替え表_クールビズ!$P$38:$P$59,0),1,0)),0))","v":""},"","",0,0,"*"]
[null,null,339,null,null,null,null,null,null,null,null,null,null,null,null,null,null,null,null,null,null,null,null,null,null,null,null,null,null,null,null,null,"","",{"$f":"IF($N349=\"\",\"\",IFERROR(IF(N349=6,1,IF(MATCH(N349&\"/\"&R349,読み替え表_クールビズ!$P$38:$P$59,0),1,0)),0))","v":""},{"$f":"IF($P349=\"\",\"\",IFERROR(IF(P349=6,1,IF(MATCH(P349&\"/\"&R349,読み替え表_クールビズ!$P$38:$P$59,0),1,0)),0))","v":""},"","",0,0,"*"]
[null,null,340,null,null,null,null,null,null,null,null,null,null,null,null,null,null,null,null,null,null,null,null,null,null,null,null,null,null,null,null,null,"","",{"$f":"IF($N350=\"\",\"\",IFERROR(IF(N350=6,1,IF(MATCH(N350&\"/\"&R350,読み替え表_クールビズ!$P$38:$P$59,0),1,0)),0))","v":""},{"$f":"IF($P350=\"\",\"\",IFERROR(IF(P350=6,1,IF(MATCH(P350&\"/\"&R350,読み替え表_クールビズ!$P$38:$P$59,0),1,0)),0))","v":""},"","",0,0,"*"]
[null,null,341,null,null,null,null,null,null,null,null,null,null,null,null,null,null,null,null,null,null,null,null,null,null,null,null,null,null,null,null,null,"","",{"$f":"IF($N351=\"\",\"\",IFERROR(IF(N351=6,1,IF(MATCH(N351&\"/\"&R351,読み替え表_クールビズ!$P$38:$P$59,0),1,0)),0))","v":""},{"$f":"IF($P351=\"\",\"\",IFERROR(IF(P351=6,1,IF(MATCH(P351&\"/\"&R351,読み替え表_クールビズ!$P$38:$P$59,0),1,0)),0))","v":""},"","",0,0,"*"]
[null,null,342,null,null,null,null,null,null,null,null,null,null,null,null,null,null,null,null,null,null,null,null,null,null,null,null,null,null,null,null,null,"","",{"$f":"IF($N352=\"\",\"\",IFERROR(IF(N352=6,1,IF(MATCH(N352&\"/\"&R352,読み替え表_クールビズ!$P$38:$P$59,0),1,0)),0))","v":""},{"$f":"IF($P352=\"\",\"\",IFERROR(IF(P352=6,1,IF(MATCH(P352&\"/\"&R352,読み替え表_クールビズ!$P$38:$P$59,0),1,0)),0))","v":""},"","",0,0,"*"]
[null,null,343,null,null,null,null,null,null,null,null,null,null,null,null,null,null,null,null,null,null,null,null,null,null,null,null,null,null,null,null,null,"","",{"$f":"IF($N353=\"\",\"\",IFERROR(IF(N353=6,1,IF(MATCH(N353&\"/\"&R353,読み替え表_クールビズ!$P$38:$P$59,0),1,0)),0))","v":""},{"$f":"IF($P353=\"\",\"\",IFERROR(IF(P353=6,1,IF(MATCH(P353&\"/\"&R353,読み替え表_クールビズ!$P$38:$P$59,0),1,0)),0))","v":""},"","",0,0,"*"]
[null,null,344,null,null,null,null,null,null,null,null,null,null,null,null,null,null,null,null,null,null,null,null,null,null,null,null,null,null,null,null,null,"","",{"$f":"IF($N354=\"\",\"\",IFERROR(IF(N354=6,1,IF(MATCH(N354&\"/\"&R354,読み替え表_クールビズ!$P$38:$P$59,0),1,0)),0))","v":""},{"$f":"IF($P354=\"\",\"\",IFERROR(IF(P354=6,1,IF(MATCH(P354&\"/\"&R354,読み替え表_クールビズ!$P$38:$P$59,0),1,0)),0))","v":""},"","",0,0,"*"]
[null,null,345,null,null,null,null,null,null,null,null,null,null,null,null,null,null,null,null,null,null,null,null,null,null,null,null,null,null,null,null,null,"","",{"$f":"IF($N355=\"\",\"\",IFERROR(IF(N355=6,1,IF(MATCH(N355&\"/\"&R355,読み替え表_クールビズ!$P$38:$P$59,0),1,0)),0))","v":""},{"$f":"IF($P355=\"\",\"\",IFERROR(IF(P355=6,1,IF(MATCH(P355&\"/\"&R355,読み替え表_クールビズ!$P$38:$P$59,0),1,0)),0))","v":""},"","",0,0,"*"]
[null,null,346,null,null,null,null,null,null,null,null,null,null,null,null,null,null,null,null,null,null,null,null,null,null,null,null,null,null,null,null,null,"","",{"$f":"IF($N356=\"\",\"\",IFERROR(IF(N356=6,1,IF(MATCH(N356&\"/\"&R356,読み替え表_クールビズ!$P$38:$P$59,0),1,0)),0))","v":""},{"$f":"IF($P356=\"\",\"\",IFERROR(IF(P356=6,1,IF(MATCH(P356&\"/\"&R356,読み替え表_クールビズ!$P$38:$P$59,0),1,0)),0))","v":""},"","",0,0,"*"]
[null,null,347,null,null,null,null,null,null,null,null,null,null,null,null,null,null,null,null,null,null,null,null,null,null,null,null,null,null,null,null,null,"","",{"$f":"IF($N357=\"\",\"\",IFERROR(IF(N357=6,1,IF(MATCH(N357&\"/\"&R357,読み替え表_クールビズ!$P$38:$P$59,0),1,0)),0))","v":""},{"$f":"IF($P357=\"\",\"\",IFERROR(IF(P357=6,1,IF(MATCH(P357&\"/\"&R357,読み替え表_クールビズ!$P$38:$P$59,0),1,0)),0))","v":""},"","",0,0,"*"]
[null,null,348,null,null,null,null,null,null,null,null,null,null,null,null,null,null,null,null,null,null,null,null,null,null,null,null,null,null,null,null,null,"","",{"$f":"IF($N358=\"\",\"\",IFERROR(IF(N358=6,1,IF(MATCH(N358&\"/\"&R358,読み替え表_クールビズ!$P$38:$P$59,0),1,0)),0))","v":""},{"$f":"IF($P358=\"\",\"\",IFERROR(IF(P358=6,1,IF(MATCH(P358&\"/\"&R358,読み替え表_クールビズ!$P$38:$P$59,0),1,0)),0))","v":""},"","",0,0,"*"]
[null,null,349,null,null,null,null,null,null,null,null,null,null,null,null,null,null,null,null,null,null,null,null,null,null,null,null,null,null,null,null,null,"","",{"$f":"IF($N359=\"\",\"\",IFERROR(IF(N359=6,1,IF(MATCH(N359&\"/\"&R359,読み替え表_クールビズ!$P$38:$P$59,0),1,0)),0))","v":""},{"$f":"IF($P359=\"\",\"\",IFERROR(IF(P359=6,1,IF(MATCH(P359&\"/\"&R359,読み替え表_クールビズ!$P$38:$P$59,0),1,0)),0))","v":""},"","",0,0,"*"]
[null,null,350,null,null,null,null,null,null,null,null,null,null,null,null,null,null,null,null,null,null,null,null,null,null,null,null,null,null,null,null,null,"","",{"$f":"IF($N360=\"\",\"\",IFERROR(IF(N360=6,1,IF(MATCH(N360&\"/\"&R360,読み替え表_クールビズ!$P$38:$P$59,0),1,0)),0))","v":""},{"$f":"IF($P360=\"\",\"\",IFERROR(IF(P360=6,1,IF(MATCH(P360&\"/\"&R360,読み替え表_クールビズ!$P$38:$P$59,0),1,0)),0))","v":""},"","",0,0,"*"]
[null,null,351,null,null,null,null,null,null,null,null,null,null,null,null,null,null,null,null,null,null,null,null,null,null,null,null,null,null,null,null,null,"","",{"$f":"IF($N361=\"\",\"\",IFERROR(IF(N361=6,1,IF(MATCH(N361&\"/\"&R361,読み替え表_クールビズ!$P$38:$P$59,0),1,0)),0))","v":""},{"$f":"IF($P361=\"\",\"\",IFERROR(IF(P361=6,1,IF(MATCH(P361&\"/\"&R361,読み替え表_クールビズ!$P$38:$P$59,0),1,0)),0))","v":""},"","",0,0,"*"]
[null,null,352,null,null,null,null,null,null,null,null,null,null,null,null,null,null,null,null,null,null,null,null,null,null,null,null,null,null,null,null,null,"","",{"$f":"IF($N362=\"\",\"\",IFERROR(IF(N362=6,1,IF(MATCH(N362&\"/\"&R362,読み替え表_クールビズ!$P$38:$P$59,0),1,0)),0))","v":""},{"$f":"IF($P362=\"\",\"\",IFERROR(IF(P362=6,1,IF(MATCH(P362&\"/\"&R362,読み替え表_クールビズ!$P$38:$P$59,0),1,0)),0))","v":""},"","",0,0,"*"]
[null,null,353,null,null,null,null,null,null,null,null,null,null,null,null,null,null,null,null,null,null,null,null,null,null,null,null,null,null,null,null,null,"","",{"$f":"IF($N363=\"\",\"\",IFERROR(IF(N363=6,1,IF(MATCH(N363&\"/\"&R363,読み替え表_クールビズ!$P$38:$P$59,0),1,0)),0))","v":""},{"$f":"IF($P363=\"\",\"\",IFERROR(IF(P363=6,1,IF(MATCH(P363&\"/\"&R363,読み替え表_クールビズ!$P$38:$P$59,0),1,0)),0))","v":""},"","",0,0,"*"]
[null,null,354,null,null,null,null,null,null,null,null,null,null,null,null,null,null,null,null,null,null,null,null,null,null,null,null,null,null,null,null,null,"","",{"$f":"IF($N364=\"\",\"\",IFERROR(IF(N364=6,1,IF(MATCH(N364&\"/\"&R364,読み替え表_クールビズ!$P$38:$P$59,0),1,0)),0))","v":""},{"$f":"IF($P364=\"\",\"\",IFERROR(IF(P364=6,1,IF(MATCH(P364&\"/\"&R364,読み替え表_クールビズ!$P$38:$P$59,0),1,0)),0))","v":""},"","",0,0,"*"]
[null,null,355,null,null,null,null,null,null,null,null,null,null,null,null,null,null,null,null,null,null,null,null,null,null,null,null,null,null,null,null,null,"","",{"$f":"IF($N365=\"\",\"\",IFERROR(IF(N365=6,1,IF(MATCH(N365&\"/\"&R365,読み替え表_クールビズ!$P$38:$P$59,0),1,0)),0))","v":""},{"$f":"IF($P365=\"\",\"\",IFERROR(IF(P365=6,1,IF(MATCH(P365&\"/\"&R365,読み替え表_クールビズ!$P$38:$P$59,0),1,0)),0))","v":""},"","",0,0,"*"]
[null,null,356,null,null,null,null,null,null,null,null,null,null,null,null,null,null,null,null,null,null,null,null,null,null,null,null,null,null,null,null,null,"","",{"$f":"IF($N366=\"\",\"\",IFERROR(IF(N366=6,1,IF(MATCH(N366&\"/\"&R366,読み替え表_クールビズ!$P$38:$P$59,0),1,0)),0))","v":""},{"$f":"IF($P366=\"\",\"\",IFERROR(IF(P366=6,1,IF(MATCH(P366&\"/\"&R366,読み替え表_クールビズ!$P$38:$P$59,0),1,0)),0))","v":""},"","",0,0,"*"]
[null,null,357,null,null,null,null,null,null,null,null,null,null,null,null,null,null,null,null,null,null,null,null,null,null,null,null,null,null,null,null,null,"","",{"$f":"IF($N367=\"\",\"\",IFERROR(IF(N367=6,1,IF(MATCH(N367&\"/\"&R367,読み替え表_クールビズ!$P$38:$P$59,0),1,0)),0))","v":""},{"$f":"IF($P367=\"\",\"\",IFERROR(IF(P367=6,1,IF(MATCH(P367&\"/\"&R367,読み替え表_クールビズ!$P$38:$P$59,0),1,0)),0))","v":""},"","",0,0,"*"]
[null,null,358,null,null,null,null,null,null,null,null,null,null,null,null,null,null,null,null,null,null,null,null,null,null,null,null,null,null,null,null,null,"","",{"$f":"IF($N368=\"\",\"\",IFERROR(IF(N368=6,1,IF(MATCH(N368&\"/\"&R368,読み替え表_クールビズ!$P$38:$P$59,0),1,0)),0))","v":""},{"$f":"IF($P368=\"\",\"\",IFERROR(IF(P368=6,1,IF(MATCH(P368&\"/\"&R368,読み替え表_クールビズ!$P$38:$P$59,0),1,0)),0))","v":""},"","",0,0,"*"]
[null,null,359,null,null,null,null,null,null,null,null,null,null,null,null,null,null,null,null,null,null,null,null,null,null,null,null,null,null,null,null,null,"","",{"$f":"IF($N369=\"\",\"\",IFERROR(IF(N369=6,1,IF(MATCH(N369&\"/\"&R369,読み替え表_クールビズ!$P$38:$P$59,0),1,0)),0))","v":""},{"$f":"IF($P369=\"\",\"\",IFERROR(IF(P369=6,1,IF(MATCH(P369&\"/\"&R369,読み替え表_クールビズ!$P$38:$P$59,0),1,0)),0))","v":""},"","",0,0,"*"]
[null,null,360,null,null,null,null,null,null,null,null,null,null,null,null,null,null,null,null,null,null,null,null,null,null,null,null,null,null,null,null,null,"","",{"$f":"IF($N370=\"\",\"\",IFERROR(IF(N370=6,1,IF(MATCH(N370&\"/\"&R370,読み替え表_クールビズ!$P$38:$P$59,0),1,0)),0))","v":""},{"$f":"IF($P370=\"\",\"\",IFERROR(IF(P370=6,1,IF(MATCH(P370&\"/\"&R370,読み替え表_クールビズ!$P$38:$P$59,0),1,0)),0))","v":""},"","",0,0,"*"]
[null,null,361,null,null,null,null,null,null,null,null,null,null,null,null,null,null,null,null,null,null,null,null,null,null,null,null,null,null,null,null,null,"","",{"$f":"IF($N371=\"\",\"\",IFERROR(IF(N371=6,1,IF(MATCH(N371&\"/\"&R371,読み替え表_クールビズ!$P$38:$P$59,0),1,0)),0))","v":""},{"$f":"IF($P371=\"\",\"\",IFERROR(IF(P371=6,1,IF(MATCH(P371&\"/\"&R371,読み替え表_クールビズ!$P$38:$P$59,0),1,0)),0))","v":""},"","",0,0,"*"]
[null,null,362,null,null,null,null,null,null,null,null,null,null,null,null,null,null,null,null,null,null,null,null,null,null,null,null,null,null,null,null,null,"","",{"$f":"IF($N372=\"\",\"\",IFERROR(IF(N372=6,1,IF(MATCH(N372&\"/\"&R372,読み替え表_クールビズ!$P$38:$P$59,0),1,0)),0))","v":""},{"$f":"IF($P372=\"\",\"\",IFERROR(IF(P372=6,1,IF(MATCH(P372&\"/\"&R372,読み替え表_クールビズ!$P$38:$P$59,0),1,0)),0))","v":""},"","",0,0,"*"]
[null,null,363,null,null,null,null,null,null,null,null,null,null,null,null,null,null,null,null,null,null,null,null,null,null,null,null,null,null,null,null,null,"","",{"$f":"IF($N373=\"\",\"\",IFERROR(IF(N373=6,1,IF(MATCH(N373&\"/\"&R373,読み替え表_クールビズ!$P$38:$P$59,0),1,0)),0))","v":""},{"$f":"IF($P373=\"\",\"\",IFERROR(IF(P373=6,1,IF(MATCH(P373&\"/\"&R373,読み替え表_クールビズ!$P$38:$P$59,0),1,0)),0))","v":""},"","",0,0,"*"]
[null,null,364,null,null,null,null,null,null,null,null,null,null,null,null,null,null,null,null,null,null,null,null,null,null,null,null,null,null,null,null,null,"","",{"$f":"IF($N374=\"\",\"\",IFERROR(IF(N374=6,1,IF(MATCH(N374&\"/\"&R374,読み替え表_クールビズ!$P$38:$P$59,0),1,0)),0))","v":""},{"$f":"IF($P374=\"\",\"\",IFERROR(IF(P374=6,1,IF(MATCH(P374&\"/\"&R374,読み替え表_クールビズ!$P$38:$P$59,0),1,0)),0))","v":""},"","",0,0,"*"]
[null,null,365,null,null,null,null,null,null,null,null,null,null,null,null,null,null,null,null,null,null,null,null,null,null,null,null,null,null,null,null,null,"","",{"$f":"IF($N375=\"\",\"\",IFERROR(IF(N375=6,1,IF(MATCH(N375&\"/\"&R375,読み替え表_クールビズ!$P$38:$P$59,0),1,0)),0))","v":""},{"$f":"IF($P375=\"\",\"\",IFERROR(IF(P375=6,1,IF(MATCH(P375&\"/\"&R375,読み替え表_クールビズ!$P$38:$P$59,0),1,0)),0))","v":""},"","",0,0,"*"]
[null,null,366,null,null,null,null,null,null,null,null,null,null,null,null,null,null,null,null,null,null,null,null,null,null,null,null,null,null,null,null,null,"","",{"$f":"IF($N376=\"\",\"\",IFERROR(IF(N376=6,1,IF(MATCH(N376&\"/\"&R376,読み替え表_クールビズ!$P$38:$P$59,0),1,0)),0))","v":""},{"$f":"IF($P376=\"\",\"\",IFERROR(IF(P376=6,1,IF(MATCH(P376&\"/\"&R376,読み替え表_クールビズ!$P$38:$P$59,0),1,0)),0))","v":""},"","",0,0,"*"]
[null,null,367,null,null,null,null,null,null,null,null,null,null,null,null,null,null,null,null,null,null,null,null,null,null,null,null,null,null,null,null,null,"","",{"$f":"IF($N377=\"\",\"\",IFERROR(IF(N377=6,1,IF(MATCH(N377&\"/\"&R377,読み替え表_クールビズ!$P$38:$P$59,0),1,0)),0))","v":""},{"$f":"IF($P377=\"\",\"\",IFERROR(IF(P377=6,1,IF(MATCH(P377&\"/\"&R377,読み替え表_クールビズ!$P$38:$P$59,0),1,0)),0))","v":""},"","",0,0,"*"]
[null,null,368,null,null,null,null,null,null,null,null,null,null,null,null,null,null,null,null,null,null,null,null,null,null,null,null,null,null,null,null,null,"","",{"$f":"IF($N378=\"\",\"\",IFERROR(IF(N378=6,1,IF(MATCH(N378&\"/\"&R378,読み替え表_クールビズ!$P$38:$P$59,0),1,0)),0))","v":""},{"$f":"IF($P378=\"\",\"\",IFERROR(IF(P378=6,1,IF(MATCH(P378&\"/\"&R378,読み替え表_クールビズ!$P$38:$P$59,0),1,0)),0))","v":""},"","",0,0,"*"]
[null,null,369,null,null,null,null,null,null,null,null,null,null,null,null,null,null,null,null,null,null,null,null,null,null,null,null,null,null,null,null,null,"","",{"$f":"IF($N379=\"\",\"\",IFERROR(IF(N379=6,1,IF(MATCH(N379&\"/\"&R379,読み替え表_クールビズ!$P$38:$P$59,0),1,0)),0))","v":""},{"$f":"IF($P379=\"\",\"\",IFERROR(IF(P379=6,1,IF(MATCH(P379&\"/\"&R379,読み替え表_クールビズ!$P$38:$P$59,0),1,0)),0))","v":""},"","",0,0,"*"]
[null,null,370,null,null,null,null,null,null,null,null,null,null,null,null,null,null,null,null,null,null,null,null,null,null,null,null,null,null,null,null,null,"","",{"$f":"IF($N380=\"\",\"\",IFERROR(IF(N380=6,1,IF(MATCH(N380&\"/\"&R380,読み替え表_クールビズ!$P$38:$P$59,0),1,0)),0))","v":""},{"$f":"IF($P380=\"\",\"\",IFERROR(IF(P380=6,1,IF(MATCH(P380&\"/\"&R380,読み替え表_クールビズ!$P$38:$P$59,0),1,0)),0))","v":""},"","",0,0,"*"]
[null,null,371,null,null,null,null,null,null,null,null,null,null,null,null,null,null,null,null,null,null,null,null,null,null,null,null,null,null,null,null,null,"","",{"$f":"IF($N381=\"\",\"\",IFERROR(IF(N381=6,1,IF(MATCH(N381&\"/\"&R381,読み替え表_クールビズ!$P$38:$P$59,0),1,0)),0))","v":""},{"$f":"IF($P381=\"\",\"\",IFERROR(IF(P381=6,1,IF(MATCH(P381&\"/\"&R381,読み替え表_クールビズ!$P$38:$P$59,0),1,0)),0))","v":""},"","",0,0,"*"]
[null,null,372,null,null,null,null,null,null,null,null,null,null,null,null,null,null,null,null,null,null,null,null,null,null,null,null,null,null,null,null,null,"","",{"$f":"IF($N382=\"\",\"\",IFERROR(IF(N382=6,1,IF(MATCH(N382&\"/\"&R382,読み替え表_クールビズ!$P$38:$P$59,0),1,0)),0))","v":""},{"$f":"IF($P382=\"\",\"\",IFERROR(IF(P382=6,1,IF(MATCH(P382&\"/\"&R382,読み替え表_クールビズ!$P$38:$P$59,0),1,0)),0))","v":""},"","",0,0,"*"]
[null,null,373,null,null,null,null,null,null,null,null,null,null,null,null,null,null,null,null,null,null,null,null,null,null,null,null,null,null,null,null,null,"","",{"$f":"IF($N383=\"\",\"\",IFERROR(IF(N383=6,1,IF(MATCH(N383&\"/\"&R383,読み替え表_クールビズ!$P$38:$P$59,0),1,0)),0))","v":""},{"$f":"IF($P383=\"\",\"\",IFERROR(IF(P383=6,1,IF(MATCH(P383&\"/\"&R383,読み替え表_クールビズ!$P$38:$P$59,0),1,0)),0))","v":""},"","",0,0,"*"]
[null,null,374,null,null,null,null,null,null,null,null,null,null,null,null,null,null,null,null,null,null,null,null,null,null,null,null,null,null,null,null,null,"","",{"$f":"IF($N384=\"\",\"\",IFERROR(IF(N384=6,1,IF(MATCH(N384&\"/\"&R384,読み替え表_クールビズ!$P$38:$P$59,0),1,0)),0))","v":""},{"$f":"IF($P384=\"\",\"\",IFERROR(IF(P384=6,1,IF(MATCH(P384&\"/\"&R384,読み替え表_クールビズ!$P$38:$P$59,0),1,0)),0))","v":""},"","",0,0,"*"]
[null,null,375,null,null,null,null,null,null,null,null,null,null,null,null,null,null,null,null,null,null,null,null,null,null,null,null,null,null,null,null,null,"","",{"$f":"IF($N385=\"\",\"\",IFERROR(IF(N385=6,1,IF(MATCH(N385&\"/\"&R385,読み替え表_クールビズ!$P$38:$P$59,0),1,0)),0))","v":""},{"$f":"IF($P385=\"\",\"\",IFERROR(IF(P385=6,1,IF(MATCH(P385&\"/\"&R385,読み替え表_クールビズ!$P$38:$P$59,0),1,0)),0))","v":""},"","",0,0,"*"]
[null,null,376,null,null,null,null,null,null,null,null,null,null,null,null,null,null,null,null,null,null,null,null,null,null,null,null,null,null,null,null,null,"","",{"$f":"IF($N386=\"\",\"\",IFERROR(IF(N386=6,1,IF(MATCH(N386&\"/\"&R386,読み替え表_クールビズ!$P$38:$P$59,0),1,0)),0))","v":""},{"$f":"IF($P386=\"\",\"\",IFERROR(IF(P386=6,1,IF(MATCH(P386&\"/\"&R386,読み替え表_クールビズ!$P$38:$P$59,0),1,0)),0))","v":""},"","",0,0,"*"]
[null,null,377,null,null,null,null,null,null,null,null,null,null,null,null,null,null,null,null,null,null,null,null,null,null,null,null,null,null,null,null,null,"","",{"$f":"IF($N387=\"\",\"\",IFERROR(IF(N387=6,1,IF(MATCH(N387&\"/\"&R387,読み替え表_クールビズ!$P$38:$P$59,0),1,0)),0))","v":""},{"$f":"IF($P387=\"\",\"\",IFERROR(IF(P387=6,1,IF(MATCH(P387&\"/\"&R387,読み替え表_クールビズ!$P$38:$P$59,0),1,0)),0))","v":""},"","",0,0,"*"]
[null,null,378,null,null,null,null,null,null,null,null,null,null,null,null,null,null,null,null,null,null,null,null,null,null,null,null,null,null,null,null,null,"","",{"$f":"IF($N388=\"\",\"\",IFERROR(IF(N388=6,1,IF(MATCH(N388&\"/\"&R388,読み替え表_クールビズ!$P$38:$P$59,0),1,0)),0))","v":""},{"$f":"IF($P388=\"\",\"\",IFERROR(IF(P388=6,1,IF(MATCH(P388&\"/\"&R388,読み替え表_クールビズ!$P$38:$P$59,0),1,0)),0))","v":""},"","",0,0,"*"]
[null,null,379,null,null,null,null,null,null,null,null,null,null,null,null,null,null,null,null,null,null,null,null,null,null,null,null,null,null,null,null,null,"","",{"$f":"IF($N389=\"\",\"\",IFERROR(IF(N389=6,1,IF(MATCH(N389&\"/\"&R389,読み替え表_クールビズ!$P$38:$P$59,0),1,0)),0))","v":""},{"$f":"IF($P389=\"\",\"\",IFERROR(IF(P389=6,1,IF(MATCH(P389&\"/\"&R389,読み替え表_クールビズ!$P$38:$P$59,0),1,0)),0))","v":""},"","",0,0,"*"]
[null,null,380,null,null,null,null,null,null,null,null,null,null,null,null,null,null,null,null,null,null,null,null,null,null,null,null,null,null,null,null,null,"","",{"$f":"IF($N390=\"\",\"\",IFERROR(IF(N390=6,1,IF(MATCH(N390&\"/\"&R390,読み替え表_クールビズ!$P$38:$P$59,0),1,0)),0))","v":""},{"$f":"IF($P390=\"\",\"\",IFERROR(IF(P390=6,1,IF(MATCH(P390&\"/\"&R390,読み替え表_クールビズ!$P$38:$P$59,0),1,0)),0))","v":""},"","",0,0,"*"]
[null,null,381,null,null,null,null,null,null,null,null,null,null,null,null,null,null,null,null,null,null,null,null,null,null,null,null,null,null,null,null,null,"","",{"$f":"IF($N391=\"\",\"\",IFERROR(IF(N391=6,1,IF(MATCH(N391&\"/\"&R391,読み替え表_クールビズ!$P$38:$P$59,0),1,0)),0))","v":""},{"$f":"IF($P391=\"\",\"\",IFERROR(IF(P391=6,1,IF(MATCH(P391&\"/\"&R391,読み替え表_クールビズ!$P$38:$P$59,0),1,0)),0))","v":""},"","",0,0,"*"]
[null,null,382,null,null,null,null,null,null,null,null,null,null,null,null,null,null,null,null,null,null,null,null,null,null,null,null,null,null,null,null,null,"","",{"$f":"IF($N392=\"\",\"\",IFERROR(IF(N392=6,1,IF(MATCH(N392&\"/\"&R392,読み替え表_クールビズ!$P$38:$P$59,0),1,0)),0))","v":""},{"$f":"IF($P392=\"\",\"\",IFERROR(IF(P392=6,1,IF(MATCH(P392&\"/\"&R392,読み替え表_クールビズ!$P$38:$P$59,0),1,0)),0))","v":""},"","",0,0,"*"]
[null,null,383,null,null,null,null,null,null,null,null,null,null,null,null,null,null,null,null,null,null,null,null,null,null,null,null,null,null,null,null,null,"","",{"$f":"IF($N393=\"\",\"\",IFERROR(IF(N393=6,1,IF(MATCH(N393&\"/\"&R393,読み替え表_クールビズ!$P$38:$P$59,0),1,0)),0))","v":""},{"$f":"IF($P393=\"\",\"\",IFERROR(IF(P393=6,1,IF(MATCH(P393&\"/\"&R393,読み替え表_クールビズ!$P$38:$P$59,0),1,0)),0))","v":""},"","",0,0,"*"]
[null,null,384,null,null,null,null,null,null,null,null,null,null,null,null,null,null,null,null,null,null,null,null,null,null,null,null,null,null,null,null,null,"","",{"$f":"IF($N394=\"\",\"\",IFERROR(IF(N394=6,1,IF(MATCH(N394&\"/\"&R394,読み替え表_クールビズ!$P$38:$P$59,0),1,0)),0))","v":""},{"$f":"IF($P394=\"\",\"\",IFERROR(IF(P394=6,1,IF(MATCH(P394&\"/\"&R394,読み替え表_クールビズ!$P$38:$P$59,0),1,0)),0))","v":""},"","",0,0,"*"]
[null,null,385,null,null,null,null,null,null,null,null,null,null,null,null,null,null,null,null,null,null,null,null,null,null,null,null,null,null,null,null,null,"","",{"$f":"IF($N395=\"\",\"\",IFERROR(IF(N395=6,1,IF(MATCH(N395&\"/\"&R395,読み替え表_クールビズ!$P$38:$P$59,0),1,0)),0))","v":""},{"$f":"IF($P395=\"\",\"\",IFERROR(IF(P395=6,1,IF(MATCH(P395&\"/\"&R395,読み替え表_クールビズ!$P$38:$P$59,0),1,0)),0))","v":""},{"$f":"IF($N395=\"\",\"\",IF(OR(CONCATENATE(N395,$R395)=\"22\",CONCATENATE(N395,$R395)=\"32\",CONCATENATE(N395,$R395)=\"42\",CONCATENATE(N395,$R395)=\"43\",CONCATENATE(N395,$R395)=\"51\",CONCATENATE(N395,$R395)=\"52\",CONCATENATE(N395,$R395)=\"53\"),1,0))","v":""},{"$f":"IF($P395=\"\",\"\",IF(OR(CONCATENATE(P395,$R395)=\"22\",CONCATENATE(P395,$R395)=\"32\",CONCATENATE(P395,$R395)=\"42\",CONCATENATE(P395,$R395)=\"43\",CONCATENATE(P395,$R395)=\"51\",CONCATENATE(P395,$R395)=\"52\",CONCATENATE(P395,$R395)=\"53\"),1,0))","v":""},0,0,"*"]
[null,null,{"$f":"ROW()-10","v":386},null,null,null,null,null,null,null,null,null,null,null,null,null,null,null,null,null,null,null,null,null,null,null,null,null,null,null,null,null,{"$f":"IF($J396=\"\",\"\",IF(AND($J396>=1,$J396<=9),1,0))","v":""},{"$f":"IF($R396=\"\",\"\",IF(OR($R396=1,$R396=2,$R396=3),1,0))","v":""},{"$f":"IF($N396=\"\",\"\",IFERROR(IF(N396=6,1,IF(MATCH(N396&\"/\"&R396,読み替え表_クールビズ!$P$38:$P$59,0),1,0)),0))","v":""},{"$f":"IF($P396=\"\",\"\",IFERROR(IF(P396=6,1,IF(MATCH(P396&\"/\"&R396,読み替え表_クールビズ!$P$38:$P$59,0),1,0)),0))","v":""},"","",{"$f":"IF(OR(AK396=1,AL396=1),1,0)","v":0},{"$f":"IF(OR($AG396=0,SUM(AI396:AJ396)=2),1,0)","v":0},"*"]
[null,null,387,null,null,null,null,null,null,null,null,null,null,null,null,null,null,null,null,null,null,null,null,null,null,null,null,null,null,null,null,null,"","",{"$f":"IF($N397=\"\",\"\",IFERROR(IF(N397=6,1,IF(MATCH(N397&\"/\"&R397,読み替え表_クールビズ!$P$38:$P$59,0),1,0)),0))","v":""},{"$f":"IF($P397=\"\",\"\",IFERROR(IF(P397=6,1,IF(MATCH(P397&\"/\"&R397,読み替え表_クールビズ!$P$38:$P$59,0),1,0)),0))","v":""},"","",0,0,"*"]
[null,null,388,null,null,null,null,null,null,null,null,null,null,null,null,null,null,null,null,null,null,null,null,null,null,null,null,null,null,null,null,null,"","",{"$f":"IF($N398=\"\",\"\",IFERROR(IF(N398=6,1,IF(MATCH(N398&\"/\"&R398,読み替え表_クールビズ!$P$38:$P$59,0),1,0)),0))","v":""},{"$f":"IF($P398=\"\",\"\",IFERROR(IF(P398=6,1,IF(MATCH(P398&\"/\"&R398,読み替え表_クールビズ!$P$38:$P$59,0),1,0)),0))","v":""},"","",0,0,"*"]
[null,null,389,null,null,null,null,null,null,null,null,null,null,null,null,null,null,null,null,null,null,null,null,null,null,null,null,null,null,null,null,null,"","",{"$f":"IF($N399=\"\",\"\",IFERROR(IF(N399=6,1,IF(MATCH(N399&\"/\"&R399,読み替え表_クールビズ!$P$38:$P$59,0),1,0)),0))","v":""},{"$f":"IF($P399=\"\",\"\",IFERROR(IF(P399=6,1,IF(MATCH(P399&\"/\"&R399,読み替え表_クールビズ!$P$38:$P$59,0),1,0)),0))","v":""},"","",0,0,"*"]
[null,null,390,null,null,null,null,null,null,null,null,null,null,null,null,null,null,null,null,null,null,null,null,null,null,null,null,null,null,null,null,null,"","",{"$f":"IF($N400=\"\",\"\",IFERROR(IF(N400=6,1,IF(MATCH(N400&\"/\"&R400,読み替え表_クールビズ!$P$38:$P$59,0),1,0)),0))","v":""},{"$f":"IF($P400=\"\",\"\",IFERROR(IF(P400=6,1,IF(MATCH(P400&\"/\"&R400,読み替え表_クールビズ!$P$38:$P$59,0),1,0)),0))","v":""},"","",0,0,"*"]
[null,null,391,null,null,null,null,null,null,null,null,null,null,null,null,null,null,null,null,null,null,null,null,null,null,null,null,null,null,null,null,null,"","",{"$f":"IF($N401=\"\",\"\",IFERROR(IF(N401=6,1,IF(MATCH(N401&\"/\"&R401,読み替え表_クールビズ!$P$38:$P$59,0),1,0)),0))","v":""},{"$f":"IF($P401=\"\",\"\",IFERROR(IF(P401=6,1,IF(MATCH(P401&\"/\"&R401,読み替え表_クールビズ!$P$38:$P$59,0),1,0)),0))","v":""},"","",0,0,"*"]
[null,null,392,null,null,null,null,null,null,null,null,null,null,null,null,null,null,null,null,null,null,null,null,null,null,null,null,null,null,null,null,null,"","",{"$f":"IF($N402=\"\",\"\",IFERROR(IF(N402=6,1,IF(MATCH(N402&\"/\"&R402,読み替え表_クールビズ!$P$38:$P$59,0),1,0)),0))","v":""},{"$f":"IF($P402=\"\",\"\",IFERROR(IF(P402=6,1,IF(MATCH(P402&\"/\"&R402,読み替え表_クールビズ!$P$38:$P$59,0),1,0)),0))","v":""},"","",0,0,"*"]
[null,null,393,null,null,null,null,null,null,null,null,null,null,null,null,null,null,null,null,null,null,null,null,null,null,null,null,null,null,null,null,null,"","",{"$f":"IF($N403=\"\",\"\",IFERROR(IF(N403=6,1,IF(MATCH(N403&\"/\"&R403,読み替え表_クールビズ!$P$38:$P$59,0),1,0)),0))","v":""},{"$f":"IF($P403=\"\",\"\",IFERROR(IF(P403=6,1,IF(MATCH(P403&\"/\"&R403,読み替え表_クールビズ!$P$38:$P$59,0),1,0)),0))","v":""},"","",0,0,"*"]
[null,null,394,null,null,null,null,null,null,null,null,null,null,null,null,null,null,null,null,null,null,null,null,null,null,null,null,null,null,null,null,null,"","",{"$f":"IF($N404=\"\",\"\",IFERROR(IF(N404=6,1,IF(MATCH(N404&\"/\"&R404,読み替え表_クールビズ!$P$38:$P$59,0),1,0)),0))","v":""},{"$f":"IF($P404=\"\",\"\",IFERROR(IF(P404=6,1,IF(MATCH(P404&\"/\"&R404,読み替え表_クールビズ!$P$38:$P$59,0),1,0)),0))","v":""},"","",0,0,"*"]
[null,null,395,null,null,null,null,null,null,null,null,null,null,null,null,null,null,null,null,null,null,null,null,null,null,null,null,null,null,null,null,null,"","",{"$f":"IF($N405=\"\",\"\",IFERROR(IF(N405=6,1,IF(MATCH(N405&\"/\"&R405,読み替え表_クールビズ!$P$38:$P$59,0),1,0)),0))","v":""},{"$f":"IF($P405=\"\",\"\",IFERROR(IF(P405=6,1,IF(MATCH(P405&\"/\"&R405,読み替え表_クールビズ!$P$38:$P$59,0),1,0)),0))","v":""},"","",0,0,"*"]
[null,null,396,null,null,null,null,null,null,null,null,null,null,null,null,null,null,null,null,null,null,null,null,null,null,null,null,null,null,null,null,null,"","",{"$f":"IF($N406=\"\",\"\",IFERROR(IF(N406=6,1,IF(MATCH(N406&\"/\"&R406,読み替え表_クールビズ!$P$38:$P$59,0),1,0)),0))","v":""},{"$f":"IF($P406=\"\",\"\",IFERROR(IF(P406=6,1,IF(MATCH(P406&\"/\"&R406,読み替え表_クールビズ!$P$38:$P$59,0),1,0)),0))","v":""},"","",0,0,"*"]
[null,null,397,null,null,null,null,null,null,null,null,null,null,null,null,null,null,null,null,null,null,null,null,null,null,null,null,null,null,null,null,null,"","",{"$f":"IF($N407=\"\",\"\",IFERROR(IF(N407=6,1,IF(MATCH(N407&\"/\"&R407,読み替え表_クールビズ!$P$38:$P$59,0),1,0)),0))","v":""},{"$f":"IF($P407=\"\",\"\",IFERROR(IF(P407=6,1,IF(MATCH(P407&\"/\"&R407,読み替え表_クールビズ!$P$38:$P$59,0),1,0)),0))","v":""},"","",0,0,"*"]
[null,null,398,null,null,null,null,null,null,null,null,null,null,null,null,null,null,null,null,null,null,null,null,null,null,null,null,null,null,null,null,null,"","",{"$f":"IF($N408=\"\",\"\",IFERROR(IF(N408=6,1,IF(MATCH(N408&\"/\"&R408,読み替え表_クールビズ!$P$38:$P$59,0),1,0)),0))","v":""},{"$f":"IF($P408=\"\",\"\",IFERROR(IF(P408=6,1,IF(MATCH(P408&\"/\"&R408,読み替え表_クールビズ!$P$38:$P$59,0),1,0)),0))","v":""},"","",0,0,"*"]
[null,null,399,null,null,null,null,null,null,null,null,null,null,null,null,null,null,null,null,null,null,null,null,null,null,null,null,null,null,null,null,null,"","",{"$f":"IF($N409=\"\",\"\",IFERROR(IF(N409=6,1,IF(MATCH(N409&\"/\"&R409,読み替え表_クールビズ!$P$38:$P$59,0),1,0)),0))","v":""},{"$f":"IF($P409=\"\",\"\",IFERROR(IF(P409=6,1,IF(MATCH(P409&\"/\"&R409,読み替え表_クールビズ!$P$38:$P$59,0),1,0)),0))","v":""},"","",0,0,"*"]
[null,null,400,null,null,null,null,null,null,null,null,null,null,null,null,null,null,null,null,null,null,null,null,null,null,null,null,null,null,null,null,null,"","",{"$f":"IF($N410=\"\",\"\",IFERROR(IF(N410=6,1,IF(MATCH(N410&\"/\"&R410,読み替え表_クールビズ!$P$38:$P$59,0),1,0)),0))","v":""},{"$f":"IF($P410=\"\",\"\",IFERROR(IF(P410=6,1,IF(MATCH(P410&\"/\"&R410,読み替え表_クールビズ!$P$38:$P$59,0),1,0)),0))","v":""},"","",0,0,"*"]
[null,null,401,null,null,null,null,null,null,null,null,null,null,null,null,null,null,null,null,null,null,null,null,null,null,null,null,null,null,null,null,null,"","",{"$f":"IF($N411=\"\",\"\",IFERROR(IF(N411=6,1,IF(MATCH(N411&\"/\"&R411,読み替え表_クールビズ!$P$38:$P$59,0),1,0)),0))","v":""},{"$f":"IF($P411=\"\",\"\",IFERROR(IF(P411=6,1,IF(MATCH(P411&\"/\"&R411,読み替え表_クールビズ!$P$38:$P$59,0),1,0)),0))","v":""},"","",0,0,"*"]
[null,null,402,null,null,null,null,null,null,null,null,null,null,null,null,null,null,null,null,null,null,null,null,null,null,null,null,null,null,null,null,null,"","",{"$f":"IF($N412=\"\",\"\",IFERROR(IF(N412=6,1,IF(MATCH(N412&\"/\"&R412,読み替え表_クールビズ!$P$38:$P$59,0),1,0)),0))","v":""},{"$f":"IF($P412=\"\",\"\",IFERROR(IF(P412=6,1,IF(MATCH(P412&\"/\"&R412,読み替え表_クールビズ!$P$38:$P$59,0),1,0)),0))","v":""},"","",0,0,"*"]
[null,null,403,null,null,null,null,null,null,null,null,null,null,null,null,null,null,null,null,null,null,null,null,null,null,null,null,null,null,null,null,null,"","",{"$f":"IF($N413=\"\",\"\",IFERROR(IF(N413=6,1,IF(MATCH(N413&\"/\"&R413,読み替え表_クールビズ!$P$38:$P$59,0),1,0)),0))","v":""},{"$f":"IF($P413=\"\",\"\",IFERROR(IF(P413=6,1,IF(MATCH(P413&\"/\"&R413,読み替え表_クールビズ!$P$38:$P$59,0),1,0)),0))","v":""},"","",0,0,"*"]
[null,null,404,null,null,null,null,null,null,null,null,null,null,null,null,null,null,null,null,null,null,null,null,null,null,null,null,null,null,null,null,null,"","",{"$f":"IF($N414=\"\",\"\",IFERROR(IF(N414=6,1,IF(MATCH(N414&\"/\"&R414,読み替え表_クールビズ!$P$38:$P$59,0),1,0)),0))","v":""},{"$f":"IF($P414=\"\",\"\",IFERROR(IF(P414=6,1,IF(MATCH(P414&\"/\"&R414,読み替え表_クールビズ!$P$38:$P$59,0),1,0)),0))","v":""},"","",0,0,"*"]
[null,null,405,null,null,null,null,null,null,null,null,null,null,null,null,null,null,null,null,null,null,null,null,null,null,null,null,null,null,null,null,null,"","",{"$f":"IF($N415=\"\",\"\",IFERROR(IF(N415=6,1,IF(MATCH(N415&\"/\"&R415,読み替え表_クールビズ!$P$38:$P$59,0),1,0)),0))","v":""},{"$f":"IF($P415=\"\",\"\",IFERROR(IF(P415=6,1,IF(MATCH(P415&\"/\"&R415,読み替え表_クールビズ!$P$38:$P$59,0),1,0)),0))","v":""},"","",0,0,"*"]
[null,null,406,null,null,null,null,null,null,null,null,null,null,null,null,null,null,null,null,null,null,null,null,null,null,null,null,null,null,null,null,null,"","",{"$f":"IF($N416=\"\",\"\",IFERROR(IF(N416=6,1,IF(MATCH(N416&\"/\"&R416,読み替え表_クールビズ!$P$38:$P$59,0),1,0)),0))","v":""},{"$f":"IF($P416=\"\",\"\",IFERROR(IF(P416=6,1,IF(MATCH(P416&\"/\"&R416,読み替え表_クールビズ!$P$38:$P$59,0),1,0)),0))","v":""},"","",0,0,"*"]
[null,null,407,null,null,null,null,null,null,null,null,null,null,null,null,null,null,null,null,null,null,null,null,null,null,null,null,null,null,null,null,null,"","",{"$f":"IF($N417=\"\",\"\",IFERROR(IF(N417=6,1,IF(MATCH(N417&\"/\"&R417,読み替え表_クールビズ!$P$38:$P$59,0),1,0)),0))","v":""},{"$f":"IF($P417=\"\",\"\",IFERROR(IF(P417=6,1,IF(MATCH(P417&\"/\"&R417,読み替え表_クールビズ!$P$38:$P$59,0),1,0)),0))","v":""},"","",0,0,"*"]
[null,null,408,null,null,null,null,null,null,null,null,null,null,null,null,null,null,null,null,null,null,null,null,null,null,null,null,null,null,null,null,null,"","",{"$f":"IF($N418=\"\",\"\",IFERROR(IF(N418=6,1,IF(MATCH(N418&\"/\"&R418,読み替え表_クールビズ!$P$38:$P$59,0),1,0)),0))","v":""},{"$f":"IF($P418=\"\",\"\",IFERROR(IF(P418=6,1,IF(MATCH(P418&\"/\"&R418,読み替え表_クールビズ!$P$38:$P$59,0),1,0)),0))","v":""},"","",0,0,"*"]
[null,null,409,null,null,null,null,null,null,null,null,null,null,null,null,null,null,null,null,null,null,null,null,null,null,null,null,null,null,null,null,null,"","",{"$f":"IF($N419=\"\",\"\",IFERROR(IF(N419=6,1,IF(MATCH(N419&\"/\"&R419,読み替え表_クールビズ!$P$38:$P$59,0),1,0)),0))","v":""},{"$f":"IF($P419=\"\",\"\",IFERROR(IF(P419=6,1,IF(MATCH(P419&\"/\"&R419,読み替え表_クールビズ!$P$38:$P$59,0),1,0)),0))","v":""},"","",0,0,"*"]
[null,null,410,null,null,null,null,null,null,null,null,null,null,null,null,null,null,null,null,null,null,null,null,null,null,null,null,null,null,null,null,null,"","",{"$f":"IF($N420=\"\",\"\",IFERROR(IF(N420=6,1,IF(MATCH(N420&\"/\"&R420,読み替え表_クールビズ!$P$38:$P$59,0),1,0)),0))","v":""},{"$f":"IF($P420=\"\",\"\",IFERROR(IF(P420=6,1,IF(MATCH(P420&\"/\"&R420,読み替え表_クールビズ!$P$38:$P$59,0),1,0)),0))","v":""},"","",0,0,"*"]
[null,null,411,null,null,null,null,null,null,null,null,null,null,null,null,null,null,null,null,null,null,null,null,null,null,null,null,null,null,null,null,null,"","",{"$f":"IF($N421=\"\",\"\",IFERROR(IF(N421=6,1,IF(MATCH(N421&\"/\"&R421,読み替え表_クールビズ!$P$38:$P$59,0),1,0)),0))","v":""},{"$f":"IF($P421=\"\",\"\",IFERROR(IF(P421=6,1,IF(MATCH(P421&\"/\"&R421,読み替え表_クールビズ!$P$38:$P$59,0),1,0)),0))","v":""},"","",0,0,"*"]
[null,null,412,null,null,null,null,null,null,null,null,null,null,null,null,null,null,null,null,null,null,null,null,null,null,null,null,null,null,null,null,null,"","",{"$f":"IF($N422=\"\",\"\",IFERROR(IF(N422=6,1,IF(MATCH(N422&\"/\"&R422,読み替え表_クールビズ!$P$38:$P$59,0),1,0)),0))","v":""},{"$f":"IF($P422=\"\",\"\",IFERROR(IF(P422=6,1,IF(MATCH(P422&\"/\"&R422,読み替え表_クールビズ!$P$38:$P$59,0),1,0)),0))","v":""},"","",0,0,"*"]
[null,null,413,null,null,null,null,null,null,null,null,null,null,null,null,null,null,null,null,null,null,null,null,null,null,null,null,null,null,null,null,null,"","",{"$f":"IF($N423=\"\",\"\",IFERROR(IF(N423=6,1,IF(MATCH(N423&\"/\"&R423,読み替え表_クールビズ!$P$38:$P$59,0),1,0)),0))","v":""},{"$f":"IF($P423=\"\",\"\",IFERROR(IF(P423=6,1,IF(MATCH(P423&\"/\"&R423,読み替え表_クールビズ!$P$38:$P$59,0),1,0)),0))","v":""},"","",0,0,"*"]
[null,null,414,null,null,null,null,null,null,null,null,null,null,null,null,null,null,null,null,null,null,null,null,null,null,null,null,null,null,null,null,null,"","",{"$f":"IF($N424=\"\",\"\",IFERROR(IF(N424=6,1,IF(MATCH(N424&\"/\"&R424,読み替え表_クールビズ!$P$38:$P$59,0),1,0)),0))","v":""},{"$f":"IF($P424=\"\",\"\",IFERROR(IF(P424=6,1,IF(MATCH(P424&\"/\"&R424,読み替え表_クールビズ!$P$38:$P$59,0),1,0)),0))","v":""},"","",0,0,"*"]
[null,null,415,null,null,null,null,null,null,null,null,null,null,null,null,null,null,null,null,null,null,null,null,null,null,null,null,null,null,null,null,null,"","",{"$f":"IF($N425=\"\",\"\",IFERROR(IF(N425=6,1,IF(MATCH(N425&\"/\"&R425,読み替え表_クールビズ!$P$38:$P$59,0),1,0)),0))","v":""},{"$f":"IF($P425=\"\",\"\",IFERROR(IF(P425=6,1,IF(MATCH(P425&\"/\"&R425,読み替え表_クールビズ!$P$38:$P$59,0),1,0)),0))","v":""},"","",0,0,"*"]
[null,null,416,null,null,null,null,null,null,null,null,null,null,null,null,null,null,null,null,null,null,null,null,null,null,null,null,null,null,null,null,null,"","",{"$f":"IF($N426=\"\",\"\",IFERROR(IF(N426=6,1,IF(MATCH(N426&\"/\"&R426,読み替え表_クールビズ!$P$38:$P$59,0),1,0)),0))","v":""},{"$f":"IF($P426=\"\",\"\",IFERROR(IF(P426=6,1,IF(MATCH(P426&\"/\"&R426,読み替え表_クールビズ!$P$38:$P$59,0),1,0)),0))","v":""},"","",0,0,"*"]
[null,null,417,null,null,null,null,null,null,null,null,null,null,null,null,null,null,null,null,null,null,null,null,null,null,null,null,null,null,null,null,null,"","",{"$f":"IF($N427=\"\",\"\",IFERROR(IF(N427=6,1,IF(MATCH(N427&\"/\"&R427,読み替え表_クールビズ!$P$38:$P$59,0),1,0)),0))","v":""},{"$f":"IF($P427=\"\",\"\",IFERROR(IF(P427=6,1,IF(MATCH(P427&\"/\"&R427,読み替え表_クールビズ!$P$38:$P$59,0),1,0)),0))","v":""},"","",0,0,"*"]
[null,null,418,null,null,null,null,null,null,null,null,null,null,null,null,null,null,null,null,null,null,null,null,null,null,null,null,null,null,null,null,null,"","",{"$f":"IF($N428=\"\",\"\",IFERROR(IF(N428=6,1,IF(MATCH(N428&\"/\"&R428,読み替え表_クールビズ!$P$38:$P$59,0),1,0)),0))","v":""},{"$f":"IF($P428=\"\",\"\",IFERROR(IF(P428=6,1,IF(MATCH(P428&\"/\"&R428,読み替え表_クールビズ!$P$38:$P$59,0),1,0)),0))","v":""},"","",0,0,"*"]
[null,null,419,null,null,null,null,null,null,null,null,null,null,null,null,null,null,null,null,null,null,null,null,null,null,null,null,null,null,null,null,null,"","",{"$f":"IF($N429=\"\",\"\",IFERROR(IF(N429=6,1,IF(MATCH(N429&\"/\"&R429,読み替え表_クールビズ!$P$38:$P$59,0),1,0)),0))","v":""},{"$f":"IF($P429=\"\",\"\",IFERROR(IF(P429=6,1,IF(MATCH(P429&\"/\"&R429,読み替え表_クールビズ!$P$38:$P$59,0),1,0)),0))","v":""},"","",0,0,"*"]
[null,null,420,null,null,null,null,null,null,null,null,null,null,null,null,null,null,null,null,null,null,null,null,null,null,null,null,null,null,null,null,null,"","",{"$f":"IF($N430=\"\",\"\",IFERROR(IF(N430=6,1,IF(MATCH(N430&\"/\"&R430,読み替え表_クールビズ!$P$38:$P$59,0),1,0)),0))","v":""},{"$f":"IF($P430=\"\",\"\",IFERROR(IF(P430=6,1,IF(MATCH(P430&\"/\"&R430,読み替え表_クールビズ!$P$38:$P$59,0),1,0)),0))","v":""},"","",0,0,"*"]
[null,null,421,null,null,null,null,null,null,null,null,null,null,null,null,null,null,null,null,null,null,null,null,null,null,null,null,null,null,null,null,null,"","",{"$f":"IF($N431=\"\",\"\",IFERROR(IF(N431=6,1,IF(MATCH(N431&\"/\"&R431,読み替え表_クールビズ!$P$38:$P$59,0),1,0)),0))","v":""},{"$f":"IF($P431=\"\",\"\",IFERROR(IF(P431=6,1,IF(MATCH(P431&\"/\"&R431,読み替え表_クールビズ!$P$38:$P$59,0),1,0)),0))","v":""},"","",0,0,"*"]
[null,null,422,null,null,null,null,null,null,null,null,null,null,null,null,null,null,null,null,null,null,null,null,null,null,null,null,null,null,null,null,null,"","",{"$f":"IF($N432=\"\",\"\",IFERROR(IF(N432=6,1,IF(MATCH(N432&\"/\"&R432,読み替え表_クールビズ!$P$38:$P$59,0),1,0)),0))","v":""},{"$f":"IF($P432=\"\",\"\",IFERROR(IF(P432=6,1,IF(MATCH(P432&\"/\"&R432,読み替え表_クールビズ!$P$38:$P$59,0),1,0)),0))","v":""},"","",0,0,"*"]
[null,null,423,null,null,null,null,null,null,null,null,null,null,null,null,null,null,null,null,null,null,null,null,null,null,null,null,null,null,null,null,null,"","",{"$f":"IF($N433=\"\",\"\",IFERROR(IF(N433=6,1,IF(MATCH(N433&\"/\"&R433,読み替え表_クールビズ!$P$38:$P$59,0),1,0)),0))","v":""},{"$f":"IF($P433=\"\",\"\",IFERROR(IF(P433=6,1,IF(MATCH(P433&\"/\"&R433,読み替え表_クールビズ!$P$38:$P$59,0),1,0)),0))","v":""},"","",0,0,"*"]
[null,null,424,null,null,null,null,null,null,null,null,null,null,null,null,null,null,null,null,null,null,null,null,null,null,null,null,null,null,null,null,null,"","",{"$f":"IF($N434=\"\",\"\",IFERROR(IF(N434=6,1,IF(MATCH(N434&\"/\"&R434,読み替え表_クールビズ!$P$38:$P$59,0),1,0)),0))","v":""},{"$f":"IF($P434=\"\",\"\",IFERROR(IF(P434=6,1,IF(MATCH(P434&\"/\"&R434,読み替え表_クールビズ!$P$38:$P$59,0),1,0)),0))","v":""},"","",0,0,"*"]
[null,null,425,null,null,null,null,null,null,null,null,null,null,null,null,null,null,null,null,null,null,null,null,null,null,null,null,null,null,null,null,null,"","",{"$f":"IF($N435=\"\",\"\",IFERROR(IF(N435=6,1,IF(MATCH(N435&\"/\"&R435,読み替え表_クールビズ!$P$38:$P$59,0),1,0)),0))","v":""},{"$f":"IF($P435=\"\",\"\",IFERROR(IF(P435=6,1,IF(MATCH(P435&\"/\"&R435,読み替え表_クールビズ!$P$38:$P$59,0),1,0)),0))","v":""},"","",0,0,"*"]
[null,null,426,null,null,null,null,null,null,null,null,null,null,null,null,null,null,null,null,null,null,null,null,null,null,null,null,null,null,null,null,null,"","",{"$f":"IF($N436=\"\",\"\",IFERROR(IF(N436=6,1,IF(MATCH(N436&\"/\"&R436,読み替え表_クールビズ!$P$38:$P$59,0),1,0)),0))","v":""},{"$f":"IF($P436=\"\",\"\",IFERROR(IF(P436=6,1,IF(MATCH(P436&\"/\"&R436,読み替え表_クールビズ!$P$38:$P$59,0),1,0)),0))","v":""},"","",0,0,"*"]
[null,null,427,null,null,null,null,null,null,null,null,null,null,null,null,null,null,null,null,null,null,null,null,null,null,null,null,null,null,null,null,null,"","",{"$f":"IF($N437=\"\",\"\",IFERROR(IF(N437=6,1,IF(MATCH(N437&\"/\"&R437,読み替え表_クールビズ!$P$38:$P$59,0),1,0)),0))","v":""},{"$f":"IF($P437=\"\",\"\",IFERROR(IF(P437=6,1,IF(MATCH(P437&\"/\"&R437,読み替え表_クールビズ!$P$38:$P$59,0),1,0)),0))","v":""},"","",0,0,"*"]
[null,null,428,null,null,null,null,null,null,null,null,null,null,null,null,null,null,null,null,null,null,null,null,null,null,null,null,null,null,null,null,null,"","",{"$f":"IF($N438=\"\",\"\",IFERROR(IF(N438=6,1,IF(MATCH(N438&\"/\"&R438,読み替え表_クールビズ!$P$38:$P$59,0),1,0)),0))","v":""},{"$f":"IF($P438=\"\",\"\",IFERROR(IF(P438=6,1,IF(MATCH(P438&\"/\"&R438,読み替え表_クールビズ!$P$38:$P$59,0),1,0)),0))","v":""},"","",0,0,"*"]
[null,null,429,null,null,null,null,null,null,null,null,null,null,null,null,null,null,null,null,null,null,null,null,null,null,null,null,null,null,null,null,null,"","",{"$f":"IF($N439=\"\",\"\",IFERROR(IF(N439=6,1,IF(MATCH(N439&\"/\"&R439,読み替え表_クールビズ!$P$38:$P$59,0),1,0)),0))","v":""},{"$f":"IF($P439=\"\",\"\",IFERROR(IF(P439=6,1,IF(MATCH(P439&\"/\"&R439,読み替え表_クールビズ!$P$38:$P$59,0),1,0)),0))","v":""},"","",0,0,"*"]
[null,null,430,null,null,null,null,null,null,null,null,null,null,null,null,null,null,null,null,null,null,null,null,null,null,null,null,null,null,null,null,null,"","",{"$f":"IF($N440=\"\",\"\",IFERROR(IF(N440=6,1,IF(MATCH(N440&\"/\"&R440,読み替え表_クールビズ!$P$38:$P$59,0),1,0)),0))","v":""},{"$f":"IF($P440=\"\",\"\",IFERROR(IF(P440=6,1,IF(MATCH(P440&\"/\"&R440,読み替え表_クールビズ!$P$38:$P$59,0),1,0)),0))","v":""},"","",0,0,"*"]
[null,null,431,null,null,null,null,null,null,null,null,null,null,null,null,null,null,null,null,null,null,null,null,null,null,null,null,null,null,null,null,null,"","",{"$f":"IF($N441=\"\",\"\",IFERROR(IF(N441=6,1,IF(MATCH(N441&\"/\"&R441,読み替え表_クールビズ!$P$38:$P$59,0),1,0)),0))","v":""},{"$f":"IF($P441=\"\",\"\",IFERROR(IF(P441=6,1,IF(MATCH(P441&\"/\"&R441,読み替え表_クールビズ!$P$38:$P$59,0),1,0)),0))","v":""},"","",0,0,"*"]
[null,null,432,null,null,null,null,null,null,null,null,null,null,null,null,null,null,null,null,null,null,null,null,null,null,null,null,null,null,null,null,null,"","",{"$f":"IF($N442=\"\",\"\",IFERROR(IF(N442=6,1,IF(MATCH(N442&\"/\"&R442,読み替え表_クールビズ!$P$38:$P$59,0),1,0)),0))","v":""},{"$f":"IF($P442=\"\",\"\",IFERROR(IF(P442=6,1,IF(MATCH(P442&\"/\"&R442,読み替え表_クールビズ!$P$38:$P$59,0),1,0)),0))","v":""},"","",0,0,"*"]
[null,null,433,null,null,null,null,null,null,null,null,null,null,null,null,null,null,null,null,null,null,null,null,null,null,null,null,null,null,null,null,null,"","",{"$f":"IF($N443=\"\",\"\",IFERROR(IF(N443=6,1,IF(MATCH(N443&\"/\"&R443,読み替え表_クールビズ!$P$38:$P$59,0),1,0)),0))","v":""},{"$f":"IF($P443=\"\",\"\",IFERROR(IF(P443=6,1,IF(MATCH(P443&\"/\"&R443,読み替え表_クールビズ!$P$38:$P$59,0),1,0)),0))","v":""},"","",0,0,"*"]
[null,null,434,null,null,null,null,null,null,null,null,null,null,null,null,null,null,null,null,null,null,null,null,null,null,null,null,null,null,null,null,null,"","",{"$f":"IF($N444=\"\",\"\",IFERROR(IF(N444=6,1,IF(MATCH(N444&\"/\"&R444,読み替え表_クールビズ!$P$38:$P$59,0),1,0)),0))","v":""},{"$f":"IF($P444=\"\",\"\",IFERROR(IF(P444=6,1,IF(MATCH(P444&\"/\"&R444,読み替え表_クールビズ!$P$38:$P$59,0),1,0)),0))","v":""},"","",0,0,"*"]
[null,null,435,null,null,null,null,null,null,null,null,null,null,null,null,null,null,null,null,null,null,null,null,null,null,null,null,null,null,null,null,null,"","",{"$f":"IF($N445=\"\",\"\",IFERROR(IF(N445=6,1,IF(MATCH(N445&\"/\"&R445,読み替え表_クールビズ!$P$38:$P$59,0),1,0)),0))","v":""},{"$f":"IF($P445=\"\",\"\",IFERROR(IF(P445=6,1,IF(MATCH(P445&\"/\"&R445,読み替え表_クールビズ!$P$38:$P$59,0),1,0)),0))","v":""},"","",0,0,"*"]
[null,null,436,null,null,null,null,null,null,null,null,null,null,null,null,null,null,null,null,null,null,null,null,null,null,null,null,null,null,null,null,null,"","",{"$f":"IF($N446=\"\",\"\",IFERROR(IF(N446=6,1,IF(MATCH(N446&\"/\"&R446,読み替え表_クールビズ!$P$38:$P$59,0),1,0)),0))","v":""},{"$f":"IF($P446=\"\",\"\",IFERROR(IF(P446=6,1,IF(MATCH(P446&\"/\"&R446,読み替え表_クールビズ!$P$38:$P$59,0),1,0)),0))","v":""},"","",0,0,"*"]
[null,null,437,null,null,null,null,null,null,null,null,null,null,null,null,null,null,null,null,null,null,null,null,null,null,null,null,null,null,null,null,null,"","",{"$f":"IF($N447=\"\",\"\",IFERROR(IF(N447=6,1,IF(MATCH(N447&\"/\"&R447,読み替え表_クールビズ!$P$38:$P$59,0),1,0)),0))","v":""},{"$f":"IF($P447=\"\",\"\",IFERROR(IF(P447=6,1,IF(MATCH(P447&\"/\"&R447,読み替え表_クールビズ!$P$38:$P$59,0),1,0)),0))","v":""},"","",0,0,"*"]
[null,null,438,null,null,null,null,null,null,null,null,null,null,null,null,null,null,null,null,null,null,null,null,null,null,null,null,null,null,null,null,null,"","",{"$f":"IF($N448=\"\",\"\",IFERROR(IF(N448=6,1,IF(MATCH(N448&\"/\"&R448,読み替え表_クールビズ!$P$38:$P$59,0),1,0)),0))","v":""},{"$f":"IF($P448=\"\",\"\",IFERROR(IF(P448=6,1,IF(MATCH(P448&\"/\"&R448,読み替え表_クールビズ!$P$38:$P$59,0),1,0)),0))","v":""},"","",0,0,"*"]
[null,null,439,null,null,null,null,null,null,null,null,null,null,null,null,null,null,null,null,null,null,null,null,null,null,null,null,null,null,null,null,null,"","",{"$f":"IF($N449=\"\",\"\",IFERROR(IF(N449=6,1,IF(MATCH(N449&\"/\"&R449,読み替え表_クールビズ!$P$38:$P$59,0),1,0)),0))","v":""},{"$f":"IF($P449=\"\",\"\",IFERROR(IF(P449=6,1,IF(MATCH(P449&\"/\"&R449,読み替え表_クールビズ!$P$38:$P$59,0),1,0)),0))","v":""},"","",0,0,"*"]
[null,null,440,null,null,null,null,null,null,null,null,null,null,null,null,null,null,null,null,null,null,null,null,null,null,null,null,null,null,null,null,null,"","",{"$f":"IF($N450=\"\",\"\",IFERROR(IF(N450=6,1,IF(MATCH(N450&\"/\"&R450,読み替え表_クールビズ!$P$38:$P$59,0),1,0)),0))","v":""},{"$f":"IF($P450=\"\",\"\",IFERROR(IF(P450=6,1,IF(MATCH(P450&\"/\"&R450,読み替え表_クールビズ!$P$38:$P$59,0),1,0)),0))","v":""},"","",0,0,"*"]
[null,null,441,null,null,null,null,null,null,null,null,null,null,null,null,null,null,null,null,null,null,null,null,null,null,null,null,null,null,null,null,null,"","",{"$f":"IF($N451=\"\",\"\",IFERROR(IF(N451=6,1,IF(MATCH(N451&\"/\"&R451,読み替え表_クールビズ!$P$38:$P$59,0),1,0)),0))","v":""},{"$f":"IF($P451=\"\",\"\",IFERROR(IF(P451=6,1,IF(MATCH(P451&\"/\"&R451,読み替え表_クールビズ!$P$38:$P$59,0),1,0)),0))","v":""},"","",0,0,"*"]
[null,null,442,null,null,null,null,null,null,null,null,null,null,null,null,null,null,null,null,null,null,null,null,null,null,null,null,null,null,null,null,null,"","",{"$f":"IF($N452=\"\",\"\",IFERROR(IF(N452=6,1,IF(MATCH(N452&\"/\"&R452,読み替え表_クールビズ!$P$38:$P$59,0),1,0)),0))","v":""},{"$f":"IF($P452=\"\",\"\",IFERROR(IF(P452=6,1,IF(MATCH(P452&\"/\"&R452,読み替え表_クールビズ!$P$38:$P$59,0),1,0)),0))","v":""},"","",0,0,"*"]
[null,null,443,null,null,null,null,null,null,null,null,null,null,null,null,null,null,null,null,null,null,null,null,null,null,null,null,null,null,null,null,null,"","",{"$f":"IF($N453=\"\",\"\",IFERROR(IF(N453=6,1,IF(MATCH(N453&\"/\"&R453,読み替え表_クールビズ!$P$38:$P$59,0),1,0)),0))","v":""},{"$f":"IF($P453=\"\",\"\",IFERROR(IF(P453=6,1,IF(MATCH(P453&\"/\"&R453,読み替え表_クールビズ!$P$38:$P$59,0),1,0)),0))","v":""},"","",0,0,"*"]
[null,null,444,null,null,null,null,null,null,null,null,null,null,null,null,null,null,null,null,null,null,null,null,null,null,null,null,null,null,null,null,null,"","",{"$f":"IF($N454=\"\",\"\",IFERROR(IF(N454=6,1,IF(MATCH(N454&\"/\"&R454,読み替え表_クールビズ!$P$38:$P$59,0),1,0)),0))","v":""},{"$f":"IF($P454=\"\",\"\",IFERROR(IF(P454=6,1,IF(MATCH(P454&\"/\"&R454,読み替え表_クールビズ!$P$38:$P$59,0),1,0)),0))","v":""},"","",0,0,"*"]
[null,null,445,null,null,null,null,null,null,null,null,null,null,null,null,null,null,null,null,null,null,null,null,null,null,null,null,null,null,null,null,null,"","",{"$f":"IF($N455=\"\",\"\",IFERROR(IF(N455=6,1,IF(MATCH(N455&\"/\"&R455,読み替え表_クールビズ!$P$38:$P$59,0),1,0)),0))","v":""},{"$f":"IF($P455=\"\",\"\",IFERROR(IF(P455=6,1,IF(MATCH(P455&\"/\"&R455,読み替え表_クールビズ!$P$38:$P$59,0),1,0)),0))","v":""},"","",0,0,"*"]
[null,null,446,null,null,null,null,null,null,null,null,null,null,null,null,null,null,null,null,null,null,null,null,null,null,null,null,null,null,null,null,null,"","",{"$f":"IF($N456=\"\",\"\",IFERROR(IF(N456=6,1,IF(MATCH(N456&\"/\"&R456,読み替え表_クールビズ!$P$38:$P$59,0),1,0)),0))","v":""},{"$f":"IF($P456=\"\",\"\",IFERROR(IF(P456=6,1,IF(MATCH(P456&\"/\"&R456,読み替え表_クールビズ!$P$38:$P$59,0),1,0)),0))","v":""},"","",0,0,"*"]
[null,null,447,null,null,null,null,null,null,null,null,null,null,null,null,null,null,null,null,null,null,null,null,null,null,null,null,null,null,null,null,null,"","",{"$f":"IF($N457=\"\",\"\",IFERROR(IF(N457=6,1,IF(MATCH(N457&\"/\"&R457,読み替え表_クールビズ!$P$38:$P$59,0),1,0)),0))","v":""},{"$f":"IF($P457=\"\",\"\",IFERROR(IF(P457=6,1,IF(MATCH(P457&\"/\"&R457,読み替え表_クールビズ!$P$38:$P$59,0),1,0)),0))","v":""},"","",0,0,"*"]
[null,null,448,null,null,null,null,null,null,null,null,null,null,null,null,null,null,null,null,null,null,null,null,null,null,null,null,null,null,null,null,null,"","",{"$f":"IF($N458=\"\",\"\",IFERROR(IF(N458=6,1,IF(MATCH(N458&\"/\"&R458,読み替え表_クールビズ!$P$38:$P$59,0),1,0)),0))","v":""},{"$f":"IF($P458=\"\",\"\",IFERROR(IF(P458=6,1,IF(MATCH(P458&\"/\"&R458,読み替え表_クールビズ!$P$38:$P$59,0),1,0)),0))","v":""},"","",0,0,"*"]
[null,null,449,null,null,null,null,null,null,null,null,null,null,null,null,null,null,null,null,null,null,null,null,null,null,null,null,null,null,null,null,null,"","",{"$f":"IF($N459=\"\",\"\",IFERROR(IF(N459=6,1,IF(MATCH(N459&\"/\"&R459,読み替え表_クールビズ!$P$38:$P$59,0),1,0)),0))","v":""},{"$f":"IF($P459=\"\",\"\",IFERROR(IF(P459=6,1,IF(MATCH(P459&\"/\"&R459,読み替え表_クールビズ!$P$38:$P$59,0),1,0)),0))","v":""},{"$f":"IF($N459=\"\",\"\",IF(OR(CONCATENATE(N459,$R459)=\"22\",CONCATENATE(N459,$R459)=\"32\",CONCATENATE(N459,$R459)=\"42\",CONCATENATE(N459,$R459)=\"43\",CONCATENATE(N459,$R459)=\"51\",CONCATENATE(N459,$R459)=\"52\",CONCATENATE(N459,$R459)=\"53\"),1,0))","v":""},{"$f":"IF($P459=\"\",\"\",IF(OR(CONCATENATE(P459,$R459)=\"22\",CONCATENATE(P459,$R459)=\"32\",CONCATENATE(P459,$R459)=\"42\",CONCATENATE(P459,$R459)=\"43\",CONCATENATE(P459,$R459)=\"51\",CONCATENATE(P459,$R459)=\"52\",CONCATENATE(P459,$R459)=\"53\"),1,0))","v":""},0,0,"*"]
[null,null,{"$f":"ROW()-10","v":450},null,null,null,null,null,null,null,null,null,null,null,null,null,null,null,null,null,null,null,null,null,null,null,null,null,null,null,null,null,{"$f":"IF($J460=\"\",\"\",IF(AND($J460>=1,$J460<=9),1,0))","v":""},{"$f":"IF($R460=\"\",\"\",IF(OR($R460=1,$R460=2,$R460=3),1,0))","v":""},{"$f":"IF($N460=\"\",\"\",IFERROR(IF(N460=6,1,IF(MATCH(N460&\"/\"&R460,読み替え表_クールビズ!$P$38:$P$59,0),1,0)),0))","v":""},{"$f":"IF($P460=\"\",\"\",IFERROR(IF(P460=6,1,IF(MATCH(P460&\"/\"&R460,読み替え表_クールビズ!$P$38:$P$59,0),1,0)),0))","v":""},"","",{"$f":"IF(OR(AK460=1,AL460=1),1,0)","v":0},{"$f":"IF(OR($AG460=0,SUM(AI460:AJ460)=2),1,0)","v":0},"*"]
[null,null,451,null,null,null,null,null,null,null,null,null,null,null,null,null,null,null,null,null,null,null,null,null,null,null,null,null,null,null,null,null,"","",{"$f":"IF($N461=\"\",\"\",IFERROR(IF(N461=6,1,IF(MATCH(N461&\"/\"&R461,読み替え表_クールビズ!$P$38:$P$59,0),1,0)),0))","v":""},{"$f":"IF($P461=\"\",\"\",IFERROR(IF(P461=6,1,IF(MATCH(P461&\"/\"&R461,読み替え表_クールビズ!$P$38:$P$59,0),1,0)),0))","v":""},"","",0,0,"*"]
[null,null,452,null,null,null,null,null,null,null,null,null,null,null,null,null,null,null,null,null,null,null,null,null,null,null,null,null,null,null,null,null,"","",{"$f":"IF($N462=\"\",\"\",IFERROR(IF(N462=6,1,IF(MATCH(N462&\"/\"&R462,読み替え表_クールビズ!$P$38:$P$59,0),1,0)),0))","v":""},{"$f":"IF($P462=\"\",\"\",IFERROR(IF(P462=6,1,IF(MATCH(P462&\"/\"&R462,読み替え表_クールビズ!$P$38:$P$59,0),1,0)),0))","v":""},"","",0,0,"*"]
[null,null,453,null,null,null,null,null,null,null,null,null,null,null,null,null,null,null,null,null,null,null,null,null,null,null,null,null,null,null,null,null,"","",{"$f":"IF($N463=\"\",\"\",IFERROR(IF(N463=6,1,IF(MATCH(N463&\"/\"&R463,読み替え表_クールビズ!$P$38:$P$59,0),1,0)),0))","v":""},{"$f":"IF($P463=\"\",\"\",IFERROR(IF(P463=6,1,IF(MATCH(P463&\"/\"&R463,読み替え表_クールビズ!$P$38:$P$59,0),1,0)),0))","v":""},"","",0,0,"*"]
[null,null,454,null,null,null,null,null,null,null,null,null,null,null,null,null,null,null,null,null,null,null,null,null,null,null,null,null,null,null,null,null,"","",{"$f":"IF($N464=\"\",\"\",IFERROR(IF(N464=6,1,IF(MATCH(N464&\"/\"&R464,読み替え表_クールビズ!$P$38:$P$59,0),1,0)),0))","v":""},{"$f":"IF($P464=\"\",\"\",IFERROR(IF(P464=6,1,IF(MATCH(P464&\"/\"&R464,読み替え表_クールビズ!$P$38:$P$59,0),1,0)),0))","v":""},"","",0,0,"*"]
[null,null,455,null,null,null,null,null,null,null,null,null,null,null,null,null,null,null,null,null,null,null,null,null,null,null,null,null,null,null,null,null,"","",{"$f":"IF($N465=\"\",\"\",IFERROR(IF(N465=6,1,IF(MATCH(N465&\"/\"&R465,読み替え表_クールビズ!$P$38:$P$59,0),1,0)),0))","v":""},{"$f":"IF($P465=\"\",\"\",IFERROR(IF(P465=6,1,IF(MATCH(P465&\"/\"&R465,読み替え表_クールビズ!$P$38:$P$59,0),1,0)),0))","v":""},"","",0,0,"*"]
[null,null,456,null,null,null,null,null,null,null,null,null,null,null,null,null,null,null,null,null,null,null,null,null,null,null,null,null,null,null,null,null,"","",{"$f":"IF($N466=\"\",\"\",IFERROR(IF(N466=6,1,IF(MATCH(N466&\"/\"&R466,読み替え表_クールビズ!$P$38:$P$59,0),1,0)),0))","v":""},{"$f":"IF($P466=\"\",\"\",IFERROR(IF(P466=6,1,IF(MATCH(P466&\"/\"&R466,読み替え表_クールビズ!$P$38:$P$59,0),1,0)),0))","v":""},"","",0,0,"*"]
[null,null,457,null,null,null,null,null,null,null,null,null,null,null,null,null,null,null,null,null,null,null,null,null,null,null,null,null,null,null,null,null,"","",{"$f":"IF($N467=\"\",\"\",IFERROR(IF(N467=6,1,IF(MATCH(N467&\"/\"&R467,読み替え表_クールビズ!$P$38:$P$59,0),1,0)),0))","v":""},{"$f":"IF($P467=\"\",\"\",IFERROR(IF(P467=6,1,IF(MATCH(P467&\"/\"&R467,読み替え表_クールビズ!$P$38:$P$59,0),1,0)),0))","v":""},"","",0,0,"*"]
[null,null,458,null,null,null,null,null,null,null,null,null,null,null,null,null,null,null,null,null,null,null,null,null,null,null,null,null,null,null,null,null,"","",{"$f":"IF($N468=\"\",\"\",IFERROR(IF(N468=6,1,IF(MATCH(N468&\"/\"&R468,読み替え表_クールビズ!$P$38:$P$59,0),1,0)),0))","v":""},{"$f":"IF($P468=\"\",\"\",IFERROR(IF(P468=6,1,IF(MATCH(P468&\"/\"&R468,読み替え表_クールビズ!$P$38:$P$59,0),1,0)),0))","v":""},"","",0,0,"*"]
[null,null,459,null,null,null,null,null,null,null,null,null,null,null,null,null,null,null,null,null,null,null,null,null,null,null,null,null,null,null,null,null,"","",{"$f":"IF($N469=\"\",\"\",IFERROR(IF(N469=6,1,IF(MATCH(N469&\"/\"&R469,読み替え表_クールビズ!$P$38:$P$59,0),1,0)),0))","v":""},{"$f":"IF($P469=\"\",\"\",IFERROR(IF(P469=6,1,IF(MATCH(P469&\"/\"&R469,読み替え表_クールビズ!$P$38:$P$59,0),1,0)),0))","v":""},"","",0,0,"*"]
[null,null,460,null,null,null,null,null,null,null,null,null,null,null,null,null,null,null,null,null,null,null,null,null,null,null,null,null,null,null,null,null,"","",{"$f":"IF($N470=\"\",\"\",IFERROR(IF(N470=6,1,IF(MATCH(N470&\"/\"&R470,読み替え表_クールビズ!$P$38:$P$59,0),1,0)),0))","v":""},{"$f":"IF($P470=\"\",\"\",IFERROR(IF(P470=6,1,IF(MATCH(P470&\"/\"&R470,読み替え表_クールビズ!$P$38:$P$59,0),1,0)),0))","v":""},"","",0,0,"*"]
[null,null,461,null,null,null,null,null,null,null,null,null,null,null,null,null,null,null,null,null,null,null,null,null,null,null,null,null,null,null,null,null,"","",{"$f":"IF($N471=\"\",\"\",IFERROR(IF(N471=6,1,IF(MATCH(N471&\"/\"&R471,読み替え表_クールビズ!$P$38:$P$59,0),1,0)),0))","v":""},{"$f":"IF($P471=\"\",\"\",IFERROR(IF(P471=6,1,IF(MATCH(P471&\"/\"&R471,読み替え表_クールビズ!$P$38:$P$59,0),1,0)),0))","v":""},"","",0,0,"*"]
[null,null,462,null,null,null,null,null,null,null,null,null,null,null,null,null,null,null,null,null,null,null,null,null,null,null,null,null,null,null,null,null,"","",{"$f":"IF($N472=\"\",\"\",IFERROR(IF(N472=6,1,IF(MATCH(N472&\"/\"&R472,読み替え表_クールビズ!$P$38:$P$59,0),1,0)),0))","v":""},{"$f":"IF($P472=\"\",\"\",IFERROR(IF(P472=6,1,IF(MATCH(P472&\"/\"&R472,読み替え表_クールビズ!$P$38:$P$59,0),1,0)),0))","v":""},"","",0,0,"*"]
[null,null,463,null,null,null,null,null,null,null,null,null,null,null,null,null,null,null,null,null,null,null,null,null,null,null,null,null,null,null,null,null,"","",{"$f":"IF($N473=\"\",\"\",IFERROR(IF(N473=6,1,IF(MATCH(N473&\"/\"&R473,読み替え表_クールビズ!$P$38:$P$59,0),1,0)),0))","v":""},{"$f":"IF($P473=\"\",\"\",IFERROR(IF(P473=6,1,IF(MATCH(P473&\"/\"&R473,読み替え表_クールビズ!$P$38:$P$59,0),1,0)),0))","v":""},"","",0,0,"*"]
[null,null,464,null,null,null,null,null,null,null,null,null,null,null,null,null,null,null,null,null,null,null,null,null,null,null,null,null,null,null,null,null,"","",{"$f":"IF($N474=\"\",\"\",IFERROR(IF(N474=6,1,IF(MATCH(N474&\"/\"&R474,読み替え表_クールビズ!$P$38:$P$59,0),1,0)),0))","v":""},{"$f":"IF($P474=\"\",\"\",IFERROR(IF(P474=6,1,IF(MATCH(P474&\"/\"&R474,読み替え表_クールビズ!$P$38:$P$59,0),1,0)),0))","v":""},"","",0,0,"*"]
[null,null,465,null,null,null,null,null,null,null,null,null,null,null,null,null,null,null,null,null,null,null,null,null,null,null,null,null,null,null,null,null,"","",{"$f":"IF($N475=\"\",\"\",IFERROR(IF(N475=6,1,IF(MATCH(N475&\"/\"&R475,読み替え表_クールビズ!$P$38:$P$59,0),1,0)),0))","v":""},{"$f":"IF($P475=\"\",\"\",IFERROR(IF(P475=6,1,IF(MATCH(P475&\"/\"&R475,読み替え表_クールビズ!$P$38:$P$59,0),1,0)),0))","v":""},"","",0,0,"*"]
[null,null,466,null,null,null,null,null,null,null,null,null,null,null,null,null,null,null,null,null,null,null,null,null,null,null,null,null,null,null,null,null,"","",{"$f":"IF($N476=\"\",\"\",IFERROR(IF(N476=6,1,IF(MATCH(N476&\"/\"&R476,読み替え表_クールビズ!$P$38:$P$59,0),1,0)),0))","v":""},{"$f":"IF($P476=\"\",\"\",IFERROR(IF(P476=6,1,IF(MATCH(P476&\"/\"&R476,読み替え表_クールビズ!$P$38:$P$59,0),1,0)),0))","v":""},"","",0,0,"*"]
[null,null,467,null,null,null,null,null,null,null,null,null,null,null,null,null,null,null,null,null,null,null,null,null,null,null,null,null,null,null,null,null,"","",{"$f":"IF($N477=\"\",\"\",IFERROR(IF(N477=6,1,IF(MATCH(N477&\"/\"&R477,読み替え表_クールビズ!$P$38:$P$59,0),1,0)),0))","v":""},{"$f":"IF($P477=\"\",\"\",IFERROR(IF(P477=6,1,IF(MATCH(P477&\"/\"&R477,読み替え表_クールビズ!$P$38:$P$59,0),1,0)),0))","v":""},"","",0,0,"*"]
[null,null,468,null,null,null,null,null,null,null,null,null,null,null,null,null,null,null,null,null,null,null,null,null,null,null,null,null,null,null,null,null,"","",{"$f":"IF($N478=\"\",\"\",IFERROR(IF(N478=6,1,IF(MATCH(N478&\"/\"&R478,読み替え表_クールビズ!$P$38:$P$59,0),1,0)),0))","v":""},{"$f":"IF($P478=\"\",\"\",IFERROR(IF(P478=6,1,IF(MATCH(P478&\"/\"&R478,読み替え表_クールビズ!$P$38:$P$59,0),1,0)),0))","v":""},"","",0,0,"*"]
[null,null,469,null,null,null,null,null,null,null,null,null,null,null,null,null,null,null,null,null,null,null,null,null,null,null,null,null,null,null,null,null,"","",{"$f":"IF($N479=\"\",\"\",IFERROR(IF(N479=6,1,IF(MATCH(N479&\"/\"&R479,読み替え表_クールビズ!$P$38:$P$59,0),1,0)),0))","v":""},{"$f":"IF($P479=\"\",\"\",IFERROR(IF(P479=6,1,IF(MATCH(P479&\"/\"&R479,読み替え表_クールビズ!$P$38:$P$59,0),1,0)),0))","v":""},"","",0,0,"*"]
[null,null,470,null,null,null,null,null,null,null,null,null,null,null,null,null,null,null,null,null,null,null,null,null,null,null,null,null,null,null,null,null,"","",{"$f":"IF($N480=\"\",\"\",IFERROR(IF(N480=6,1,IF(MATCH(N480&\"/\"&R480,読み替え表_クールビズ!$P$38:$P$59,0),1,0)),0))","v":""},{"$f":"IF($P480=\"\",\"\",IFERROR(IF(P480=6,1,IF(MATCH(P480&\"/\"&R480,読み替え表_クールビズ!$P$38:$P$59,0),1,0)),0))","v":""},"","",0,0,"*"]
[null,null,471,null,null,null,null,null,null,null,null,null,null,null,null,null,null,null,null,null,null,null,null,null,null,null,null,null,null,null,null,null,"","",{"$f":"IF($N481=\"\",\"\",IFERROR(IF(N481=6,1,IF(MATCH(N481&\"/\"&R481,読み替え表_クールビズ!$P$38:$P$59,0),1,0)),0))","v":""},{"$f":"IF($P481=\"\",\"\",IFERROR(IF(P481=6,1,IF(MATCH(P481&\"/\"&R481,読み替え表_クールビズ!$P$38:$P$59,0),1,0)),0))","v":""},"","",0,0,"*"]
[null,null,472,null,null,null,null,null,null,null,null,null,null,null,null,null,null,null,null,null,null,null,null,null,null,null,null,null,null,null,null,null,"","",{"$f":"IF($N482=\"\",\"\",IFERROR(IF(N482=6,1,IF(MATCH(N482&\"/\"&R482,読み替え表_クールビズ!$P$38:$P$59,0),1,0)),0))","v":""},{"$f":"IF($P482=\"\",\"\",IFERROR(IF(P482=6,1,IF(MATCH(P482&\"/\"&R482,読み替え表_クールビズ!$P$38:$P$59,0),1,0)),0))","v":""},"","",0,0,"*"]
[null,null,473,null,null,null,null,null,null,null,null,null,null,null,null,null,null,null,null,null,null,null,null,null,null,null,null,null,null,null,null,null,"","",{"$f":"IF($N483=\"\",\"\",IFERROR(IF(N483=6,1,IF(MATCH(N483&\"/\"&R483,読み替え表_クールビズ!$P$38:$P$59,0),1,0)),0))","v":""},{"$f":"IF($P483=\"\",\"\",IFERROR(IF(P483=6,1,IF(MATCH(P483&\"/\"&R483,読み替え表_クールビズ!$P$38:$P$59,0),1,0)),0))","v":""},"","",0,0,"*"]
[null,null,474,null,null,null,null,null,null,null,null,null,null,null,null,null,null,null,null,null,null,null,null,null,null,null,null,null,null,null,null,null,"","",{"$f":"IF($N484=\"\",\"\",IFERROR(IF(N484=6,1,IF(MATCH(N484&\"/\"&R484,読み替え表_クールビズ!$P$38:$P$59,0),1,0)),0))","v":""},{"$f":"IF($P484=\"\",\"\",IFERROR(IF(P484=6,1,IF(MATCH(P484&\"/\"&R484,読み替え表_クールビズ!$P$38:$P$59,0),1,0)),0))","v":""},"","",0,0,"*"]
[null,null,475,null,null,null,null,null,null,null,null,null,null,null,null,null,null,null,null,null,null,null,null,null,null,null,null,null,null,null,null,null,"","",{"$f":"IF($N485=\"\",\"\",IFERROR(IF(N485=6,1,IF(MATCH(N485&\"/\"&R485,読み替え表_クールビズ!$P$38:$P$59,0),1,0)),0))","v":""},{"$f":"IF($P485=\"\",\"\",IFERROR(IF(P485=6,1,IF(MATCH(P485&\"/\"&R485,読み替え表_クールビズ!$P$38:$P$59,0),1,0)),0))","v":""},"","",0,0,"*"]
[null,null,476,null,null,null,null,null,null,null,null,null,null,null,null,null,null,null,null,null,null,null,null,null,null,null,null,null,null,null,null,null,"","",{"$f":"IF($N486=\"\",\"\",IFERROR(IF(N486=6,1,IF(MATCH(N486&\"/\"&R486,読み替え表_クールビズ!$P$38:$P$59,0),1,0)),0))","v":""},{"$f":"IF($P486=\"\",\"\",IFERROR(IF(P486=6,1,IF(MATCH(P486&\"/\"&R486,読み替え表_クールビズ!$P$38:$P$59,0),1,0)),0))","v":""},"","",0,0,"*"]
[null,null,477,null,null,null,null,null,null,null,null,null,null,null,null,null,null,null,null,null,null,null,null,null,null,null,null,null,null,null,null,null,"","",{"$f":"IF($N487=\"\",\"\",IFERROR(IF(N487=6,1,IF(MATCH(N487&\"/\"&R487,読み替え表_クールビズ!$P$38:$P$59,0),1,0)),0))","v":""},{"$f":"IF($P487=\"\",\"\",IFERROR(IF(P487=6,1,IF(MATCH(P487&\"/\"&R487,読み替え表_クールビズ!$P$38:$P$59,0),1,0)),0))","v":""},"","",0,0,"*"]
[null,null,478,null,null,null,null,null,null,null,null,null,null,null,null,null,null,null,null,null,null,null,null,null,null,null,null,null,null,null,null,null,"","",{"$f":"IF($N488=\"\",\"\",IFERROR(IF(N488=6,1,IF(MATCH(N488&\"/\"&R488,読み替え表_クールビズ!$P$38:$P$59,0),1,0)),0))","v":""},{"$f":"IF($P488=\"\",\"\",IFERROR(IF(P488=6,1,IF(MATCH(P488&\"/\"&R488,読み替え表_クールビズ!$P$38:$P$59,0),1,0)),0))","v":""},"","",0,0,"*"]
[null,null,479,null,null,null,null,null,null,null,null,null,null,null,null,null,null,null,null,null,null,null,null,null,null,null,null,null,null,null,null,null,"","",{"$f":"IF($N489=\"\",\"\",IFERROR(IF(N489=6,1,IF(MATCH(N489&\"/\"&R489,読み替え表_クールビズ!$P$38:$P$59,0),1,0)),0))","v":""},{"$f":"IF($P489=\"\",\"\",IFERROR(IF(P489=6,1,IF(MATCH(P489&\"/\"&R489,読み替え表_クールビズ!$P$38:$P$59,0),1,0)),0))","v":""},"","",0,0,"*"]
[null,null,480,null,null,null,null,null,null,null,null,null,null,null,null,null,null,null,null,null,null,null,null,null,null,null,null,null,null,null,null,null,"","",{"$f":"IF($N490=\"\",\"\",IFERROR(IF(N490=6,1,IF(MATCH(N490&\"/\"&R490,読み替え表_クールビズ!$P$38:$P$59,0),1,0)),0))","v":""},{"$f":"IF($P490=\"\",\"\",IFERROR(IF(P490=6,1,IF(MATCH(P490&\"/\"&R490,読み替え表_クールビズ!$P$38:$P$59,0),1,0)),0))","v":""},"","",0,0,"*"]
[null,null,481,null,null,null,null,null,null,null,null,null,null,null,null,null,null,null,null,null,null,null,null,null,null,null,null,null,null,null,null,null,"","",{"$f":"IF($N491=\"\",\"\",IFERROR(IF(N491=6,1,IF(MATCH(N491&\"/\"&R491,読み替え表_クールビズ!$P$38:$P$59,0),1,0)),0))","v":""},{"$f":"IF($P491=\"\",\"\",IFERROR(IF(P491=6,1,IF(MATCH(P491&\"/\"&R491,読み替え表_クールビズ!$P$38:$P$59,0),1,0)),0))","v":""},"","",0,0,"*"]
[null,null,482,null,null,null,null,null,null,null,null,null,null,null,null,null,null,null,null,null,null,null,null,null,null,null,null,null,null,null,null,null,"","",{"$f":"IF($N492=\"\",\"\",IFERROR(IF(N492=6,1,IF(MATCH(N492&\"/\"&R492,読み替え表_クールビズ!$P$38:$P$59,0),1,0)),0))","v":""},{"$f":"IF($P492=\"\",\"\",IFERROR(IF(P492=6,1,IF(MATCH(P492&\"/\"&R492,読み替え表_クールビズ!$P$38:$P$59,0),1,0)),0))","v":""},"","",0,0,"*"]
[null,null,483,null,null,null,null,null,null,null,null,null,null,null,null,null,null,null,null,null,null,null,null,null,null,null,null,null,null,null,null,null,"","",{"$f":"IF($N493=\"\",\"\",IFERROR(IF(N493=6,1,IF(MATCH(N493&\"/\"&R493,読み替え表_クールビズ!$P$38:$P$59,0),1,0)),0))","v":""},{"$f":"IF($P493=\"\",\"\",IFERROR(IF(P493=6,1,IF(MATCH(P493&\"/\"&R493,読み替え表_クールビズ!$P$38:$P$59,0),1,0)),0))","v":""},"","",0,0,"*"]
[null,null,484,null,null,null,null,null,null,null,null,null,null,null,null,null,null,null,null,null,null,null,null,null,null,null,null,null,null,null,null,null,"","",{"$f":"IF($N494=\"\",\"\",IFERROR(IF(N494=6,1,IF(MATCH(N494&\"/\"&R494,読み替え表_クールビズ!$P$38:$P$59,0),1,0)),0))","v":""},{"$f":"IF($P494=\"\",\"\",IFERROR(IF(P494=6,1,IF(MATCH(P494&\"/\"&R494,読み替え表_クールビズ!$P$38:$P$59,0),1,0)),0))","v":""},"","",0,0,"*"]
[null,null,485,null,null,null,null,null,null,null,null,null,null,null,null,null,null,null,null,null,null,null,null,null,null,null,null,null,null,null,null,null,"","",{"$f":"IF($N495=\"\",\"\",IFERROR(IF(N495=6,1,IF(MATCH(N495&\"/\"&R495,読み替え表_クールビズ!$P$38:$P$59,0),1,0)),0))","v":""},{"$f":"IF($P495=\"\",\"\",IFERROR(IF(P495=6,1,IF(MATCH(P495&\"/\"&R495,読み替え表_クールビズ!$P$38:$P$59,0),1,0)),0))","v":""},"","",0,0,"*"]
[null,null,486,null,null,null,null,null,null,null,null,null,null,null,null,null,null,null,null,null,null,null,null,null,null,null,null,null,null,null,null,null,"","",{"$f":"IF($N496=\"\",\"\",IFERROR(IF(N496=6,1,IF(MATCH(N496&\"/\"&R496,読み替え表_クールビズ!$P$38:$P$59,0),1,0)),0))","v":""},{"$f":"IF($P496=\"\",\"\",IFERROR(IF(P496=6,1,IF(MATCH(P496&\"/\"&R496,読み替え表_クールビズ!$P$38:$P$59,0),1,0)),0))","v":""},"","",0,0,"*"]
[null,null,487,null,null,null,null,null,null,null,null,null,null,null,null,null,null,null,null,null,null,null,null,null,null,null,null,null,null,null,null,null,"","",{"$f":"IF($N497=\"\",\"\",IFERROR(IF(N497=6,1,IF(MATCH(N497&\"/\"&R497,読み替え表_クールビズ!$P$38:$P$59,0),1,0)),0))","v":""},{"$f":"IF($P497=\"\",\"\",IFERROR(IF(P497=6,1,IF(MATCH(P497&\"/\"&R497,読み替え表_クールビズ!$P$38:$P$59,0),1,0)),0))","v":""},"","",0,0,"*"]
[null,null,488,null,null,null,null,null,null,null,null,null,null,null,null,null,null,null,null,null,null,null,null,null,null,null,null,null,null,null,null,null,"","",{"$f":"IF($N498=\"\",\"\",IFERROR(IF(N498=6,1,IF(MATCH(N498&\"/\"&R498,読み替え表_クールビズ!$P$38:$P$59,0),1,0)),0))","v":""},{"$f":"IF($P498=\"\",\"\",IFERROR(IF(P498=6,1,IF(MATCH(P498&\"/\"&R498,読み替え表_クールビズ!$P$38:$P$59,0),1,0)),0))","v":""},"","",0,0,"*"]
[null,null,489,null,null,null,null,null,null,null,null,null,null,null,null,null,null,null,null,null,null,null,null,null,null,null,null,null,null,null,null,null,"","",{"$f":"IF($N499=\"\",\"\",IFERROR(IF(N499=6,1,IF(MATCH(N499&\"/\"&R499,読み替え表_クールビズ!$P$38:$P$59,0),1,0)),0))","v":""},{"$f":"IF($P499=\"\",\"\",IFERROR(IF(P499=6,1,IF(MATCH(P499&\"/\"&R499,読み替え表_クールビズ!$P$38:$P$59,0),1,0)),0))","v":""},"","",0,0,"*"]
[null,null,490,null,null,null,null,null,null,null,null,null,null,null,null,null,null,null,null,null,null,null,null,null,null,null,null,null,null,null,null,null,"","",{"$f":"IF($N500=\"\",\"\",IFERROR(IF(N500=6,1,IF(MATCH(N500&\"/\"&R500,読み替え表_クールビズ!$P$38:$P$59,0),1,0)),0))","v":""},{"$f":"IF($P500=\"\",\"\",IFERROR(IF(P500=6,1,IF(MATCH(P500&\"/\"&R500,読み替え表_クールビズ!$P$38:$P$59,0),1,0)),0))","v":""},"","",0,0,"*"]
[null,null,491,null,null,null,null,null,null,null,null,null,null,null,null,null,null,null,null,null,null,null,null,null,null,null,null,null,null,null,null,null,"","",{"$f":"IF($N501=\"\",\"\",IFERROR(IF(N501=6,1,IF(MATCH(N501&\"/\"&R501,読み替え表_クールビズ!$P$38:$P$59,0),1,0)),0))","v":""},{"$f":"IF($P501=\"\",\"\",IFERROR(IF(P501=6,1,IF(MATCH(P501&\"/\"&R501,読み替え表_クールビズ!$P$38:$P$59,0),1,0)),0))","v":""},"","",0,0,"*"]
[null,null,492,null,null,null,null,null,null,null,null,null,null,null,null,null,null,null,null,null,null,null,null,null,null,null,null,null,null,null,null,null,"","",{"$f":"IF($N502=\"\",\"\",IFERROR(IF(N502=6,1,IF(MATCH(N502&\"/\"&R502,読み替え表_クールビズ!$P$38:$P$59,0),1,0)),0))","v":""},{"$f":"IF($P502=\"\",\"\",IFERROR(IF(P502=6,1,IF(MATCH(P502&\"/\"&R502,読み替え表_クールビズ!$P$38:$P$59,0),1,0)),0))","v":""},"","",0,0,"*"]
[null,null,493,null,null,null,null,null,null,null,null,null,null,null,null,null,null,null,null,null,null,null,null,null,null,null,null,null,null,null,null,null,"","",{"$f":"IF($N503=\"\",\"\",IFERROR(IF(N503=6,1,IF(MATCH(N503&\"/\"&R503,読み替え表_クールビズ!$P$38:$P$59,0),1,0)),0))","v":""},{"$f":"IF($P503=\"\",\"\",IFERROR(IF(P503=6,1,IF(MATCH(P503&\"/\"&R503,読み替え表_クールビズ!$P$38:$P$59,0),1,0)),0))","v":""},"","",0,0,"*"]
[null,null,494,null,null,null,null,null,null,null,null,null,null,null,null,null,null,null,null,null,null,null,null,null,null,null,null,null,null,null,null,null,"","",{"$f":"IF($N504=\"\",\"\",IFERROR(IF(N504=6,1,IF(MATCH(N504&\"/\"&R504,読み替え表_クールビズ!$P$38:$P$59,0),1,0)),0))","v":""},{"$f":"IF($P504=\"\",\"\",IFERROR(IF(P504=6,1,IF(MATCH(P504&\"/\"&R504,読み替え表_クールビズ!$P$38:$P$59,0),1,0)),0))","v":""},"","",0,0,"*"]
[null,null,495,null,null,null,null,null,null,null,null,null,null,null,null,null,null,null,null,null,null,null,null,null,null,null,null,null,null,null,null,null,"","",{"$f":"IF($N505=\"\",\"\",IFERROR(IF(N505=6,1,IF(MATCH(N505&\"/\"&R505,読み替え表_クールビズ!$P$38:$P$59,0),1,0)),0))","v":""},{"$f":"IF($P505=\"\",\"\",IFERROR(IF(P505=6,1,IF(MATCH(P505&\"/\"&R505,読み替え表_クールビズ!$P$38:$P$59,0),1,0)),0))","v":""},"","",0,0,"*"]
[null,null,496,null,null,null,null,null,null,null,null,null,null,null,null,null,null,null,null,null,null,null,null,null,null,null,null,null,null,null,null,null,"","",{"$f":"IF($N506=\"\",\"\",IFERROR(IF(N506=6,1,IF(MATCH(N506&\"/\"&R506,読み替え表_クールビズ!$P$38:$P$59,0),1,0)),0))","v":""},{"$f":"IF($P506=\"\",\"\",IFERROR(IF(P506=6,1,IF(MATCH(P506&\"/\"&R506,読み替え表_クールビズ!$P$38:$P$59,0),1,0)),0))","v":""},"","",0,0,"*"]
[null,null,497,null,null,null,null,null,null,null,null,null,null,null,null,null,null,null,null,null,null,null,null,null,null,null,null,null,null,null,null,null,"","",{"$f":"IF($N507=\"\",\"\",IFERROR(IF(N507=6,1,IF(MATCH(N507&\"/\"&R507,読み替え表_クールビズ!$P$38:$P$59,0),1,0)),0))","v":""},{"$f":"IF($P507=\"\",\"\",IFERROR(IF(P507=6,1,IF(MATCH(P507&\"/\"&R507,読み替え表_クールビズ!$P$38:$P$59,0),1,0)),0))","v":""},"","",0,0,"*"]
[null,null,498,null,null,null,null,null,null,null,null,null,null,null,null,null,null,null,null,null,null,null,null,null,null,null,null,null,null,null,null,null,"","",{"$f":"IF($N508=\"\",\"\",IFERROR(IF(N508=6,1,IF(MATCH(N508&\"/\"&R508,読み替え表_クールビズ!$P$38:$P$59,0),1,0)),0))","v":""},{"$f":"IF($P508=\"\",\"\",IFERROR(IF(P508=6,1,IF(MATCH(P508&\"/\"&R508,読み替え表_クールビズ!$P$38:$P$59,0),1,0)),0))","v":""},"","",0,0,"*"]
[null,null,499,null,null,null,null,null,null,null,null,null,null,null,null,null,null,null,null,null,null,null,null,null,null,null,null,null,null,null,null,null,"","",{"$f":"IF($N509=\"\",\"\",IFERROR(IF(N509=6,1,IF(MATCH(N509&\"/\"&R509,読み替え表_クールビズ!$P$38:$P$59,0),1,0)),0))","v":""},{"$f":"IF($P509=\"\",\"\",IFERROR(IF(P509=6,1,IF(MATCH(P509&\"/\"&R509,読み替え表_クールビズ!$P$38:$P$59,0),1,0)),0))","v":""},"","",0,0,"*"]
[null,null,500,null,null,null,null,null,null,null,null,null,null,null,null,null,null,null,null,null,null,null,null,null,null,null,null,null,null,null,null,null,"","",{"$f":"IF($N510=\"\",\"\",IFERROR(IF(N510=6,1,IF(MATCH(N510&\"/\"&R510,読み替え表_クールビズ!$P$38:$P$59,0),1,0)),0))","v":""},{"$f":"IF($P510=\"\",\"\",IFERROR(IF(P510=6,1,IF(MATCH(P510&\"/\"&R510,読み替え表_クールビズ!$P$38:$P$59,0),1,0)),0))","v":""},"","",0,0,"*"]
[null,null,501,null,null,null,null,null,null,null,null,null,null,null,null,null,null,null,null,null,null,null,null,null,null,null,null,null,null,null,null,null,"","",{"$f":"IF($N511=\"\",\"\",IFERROR(IF(N511=6,1,IF(MATCH(N511&\"/\"&R511,読み替え表_クールビズ!$P$38:$P$59,0),1,0)),0))","v":""},{"$f":"IF($P511=\"\",\"\",IFERROR(IF(P511=6,1,IF(MATCH(P511&\"/\"&R511,読み替え表_クールビズ!$P$38:$P$59,0),1,0)),0))","v":""},"","",0,0,"*"]
[null,null,502,null,null,null,null,null,null,null,null,null,null,null,null,null,null,null,null,null,null,null,null,null,null,null,null,null,null,null,null,null,"","",{"$f":"IF($N512=\"\",\"\",IFERROR(IF(N512=6,1,IF(MATCH(N512&\"/\"&R512,読み替え表_クールビズ!$P$38:$P$59,0),1,0)),0))","v":""},{"$f":"IF($P512=\"\",\"\",IFERROR(IF(P512=6,1,IF(MATCH(P512&\"/\"&R512,読み替え表_クールビズ!$P$38:$P$59,0),1,0)),0))","v":""},"","",0,0,"*"]
[null,null,503,null,null,null,null,null,null,null,null,null,null,null,null,null,null,null,null,null,null,null,null,null,null,null,null,null,null,null,null,null,"","",{"$f":"IF($N513=\"\",\"\",IFERROR(IF(N513=6,1,IF(MATCH(N513&\"/\"&R513,読み替え表_クールビズ!$P$38:$P$59,0),1,0)),0))","v":""},{"$f":"IF($P513=\"\",\"\",IFERROR(IF(P513=6,1,IF(MATCH(P513&\"/\"&R513,読み替え表_クールビズ!$P$38:$P$59,0),1,0)),0))","v":""},"","",0,0,"*"]
[null,null,504,null,null,null,null,null,null,null,null,null,null,null,null,null,null,null,null,null,null,null,null,null,null,null,null,null,null,null,null,null,"","",{"$f":"IF($N514=\"\",\"\",IFERROR(IF(N514=6,1,IF(MATCH(N514&\"/\"&R514,読み替え表_クールビズ!$P$38:$P$59,0),1,0)),0))","v":""},{"$f":"IF($P514=\"\",\"\",IFERROR(IF(P514=6,1,IF(MATCH(P514&\"/\"&R514,読み替え表_クールビズ!$P$38:$P$59,0),1,0)),0))","v":""},"","",0,0,"*"]
[null,null,505,null,null,null,null,null,null,null,null,null,null,null,null,null,null,null,null,null,null,null,null,null,null,null,null,null,null,null,null,null,"","",{"$f":"IF($N515=\"\",\"\",IFERROR(IF(N515=6,1,IF(MATCH(N515&\"/\"&R515,読み替え表_クールビズ!$P$38:$P$59,0),1,0)),0))","v":""},{"$f":"IF($P515=\"\",\"\",IFERROR(IF(P515=6,1,IF(MATCH(P515&\"/\"&R515,読み替え表_クールビズ!$P$38:$P$59,0),1,0)),0))","v":""},"","",0,0,"*"]
[null,null,506,null,null,null,null,null,null,null,null,null,null,null,null,null,null,null,null,null,null,null,null,null,null,null,null,null,null,null,null,null,"","",{"$f":"IF($N516=\"\",\"\",IFERROR(IF(N516=6,1,IF(MATCH(N516&\"/\"&R516,読み替え表_クールビズ!$P$38:$P$59,0),1,0)),0))","v":""},{"$f":"IF($P516=\"\",\"\",IFERROR(IF(P516=6,1,IF(MATCH(P516&\"/\"&R516,読み替え表_クールビズ!$P$38:$P$59,0),1,0)),0))","v":""},"","",0,0,"*"]
[null,null,507,null,null,null,null,null,null,null,null,null,null,null,null,null,null,null,null,null,null,null,null,null,null,null,null,null,null,null,null,null,"","",{"$f":"IF($N517=\"\",\"\",IFERROR(IF(N517=6,1,IF(MATCH(N517&\"/\"&R517,読み替え表_クールビズ!$P$38:$P$59,0),1,0)),0))","v":""},{"$f":"IF($P517=\"\",\"\",IFERROR(IF(P517=6,1,IF(MATCH(P517&\"/\"&R517,読み替え表_クールビズ!$P$38:$P$59,0),1,0)),0))","v":""},"","",0,0,"*"]
[null,null,508,null,null,null,null,null,null,null,null,null,null,null,null,null,null,null,null,null,null,null,null,null,null,null,null,null,null,null,null,null,"","",{"$f":"IF($N518=\"\",\"\",IFERROR(IF(N518=6,1,IF(MATCH(N518&\"/\"&R518,読み替え表_クールビズ!$P$38:$P$59,0),1,0)),0))","v":""},{"$f":"IF($P518=\"\",\"\",IFERROR(IF(P518=6,1,IF(MATCH(P518&\"/\"&R518,読み替え表_クールビズ!$P$38:$P$59,0),1,0)),0))","v":""},"","",0,0,"*"]
[null,null,509,null,null,null,null,null,null,null,null,null,null,null,null,null,null,null,null,null,null,null,null,null,null,null,null,null,null,null,null,null,"","",{"$f":"IF($N519=\"\",\"\",IFERROR(IF(N519=6,1,IF(MATCH(N519&\"/\"&R519,読み替え表_クールビズ!$P$38:$P$59,0),1,0)),0))","v":""},{"$f":"IF($P519=\"\",\"\",IFERROR(IF(P519=6,1,IF(MATCH(P519&\"/\"&R519,読み替え表_クールビズ!$P$38:$P$59,0),1,0)),0))","v":""},"","",0,0,"*"]
[null,null,510,null,null,null,null,null,null,null,null,null,null,null,null,null,null,null,null,null,null,null,null,null,null,null,null,null,null,null,null,null,"","",{"$f":"IF($N520=\"\",\"\",IFERROR(IF(N520=6,1,IF(MATCH(N520&\"/\"&R520,読み替え表_クールビズ!$P$38:$P$59,0),1,0)),0))","v":""},{"$f":"IF($P520=\"\",\"\",IFERROR(IF(P520=6,1,IF(MATCH(P520&\"/\"&R520,読み替え表_クールビズ!$P$38:$P$59,0),1,0)),0))","v":""},"","",0,0,"*"]
[null,null,511,null,null,null,null,null,null,null,null,null,null,null,null,null,null,null,null,null,null,null,null,null,null,null,null,null,null,null,null,null,"","",{"$f":"IF($N521=\"\",\"\",IFERROR(IF(N521=6,1,IF(MATCH(N521&\"/\"&R521,読み替え表_クールビズ!$P$38:$P$59,0),1,0)),0))","v":""},{"$f":"IF($P521=\"\",\"\",IFERROR(IF(P521=6,1,IF(MATCH(P521&\"/\"&R521,読み替え表_クールビズ!$P$38:$P$59,0),1,0)),0))","v":""},"","",0,0,"*"]
[null,null,512,null,null,null,null,null,null,null,null,null,null,null,null,null,null,null,null,null,null,null,null,null,null,null,null,null,null,null,null,null,"","",{"$f":"IF($N522=\"\",\"\",IFERROR(IF(N522=6,1,IF(MATCH(N522&\"/\"&R522,読み替え表_クールビズ!$P$38:$P$59,0),1,0)),0))","v":""},{"$f":"IF($P522=\"\",\"\",IFERROR(IF(P522=6,1,IF(MATCH(P522&\"/\"&R522,読み替え表_クールビズ!$P$38:$P$59,0),1,0)),0))","v":""},"","",0,0,"*"]
[null,null,513,null,null,null,null,null,null,null,null,null,null,null,null,null,null,null,null,null,null,null,null,null,null,null,null,null,null,null,null,null,"","",{"$f":"IF($N523=\"\",\"\",IFERROR(IF(N523=6,1,IF(MATCH(N523&\"/\"&R523,読み替え表_クールビズ!$P$38:$P$59,0),1,0)),0))","v":""},{"$f":"IF($P523=\"\",\"\",IFERROR(IF(P523=6,1,IF(MATCH(P523&\"/\"&R523,読み替え表_クールビズ!$P$38:$P$59,0),1,0)),0))","v":""},{"$f":"IF($N523=\"\",\"\",IF(OR(CONCATENATE(N523,$R523)=\"22\",CONCATENATE(N523,$R523)=\"32\",CONCATENATE(N523,$R523)=\"42\",CONCATENATE(N523,$R523)=\"43\",CONCATENATE(N523,$R523)=\"51\",CONCATENATE(N523,$R523)=\"52\",CONCATENATE(N523,$R523)=\"53\"),1,0))","v":""},{"$f":"IF($P523=\"\",\"\",IF(OR(CONCATENATE(P523,$R523)=\"22\",CONCATENATE(P523,$R523)=\"32\",CONCATENATE(P523,$R523)=\"42\",CONCATENATE(P523,$R523)=\"43\",CONCATENATE(P523,$R523)=\"51\",CONCATENATE(P523,$R523)=\"52\",CONCATENATE(P523,$R523)=\"53\"),1,0))","v":""},0,0,"*"]
[null,null,{"$f":"ROW()-10","v":514},null,null,null,null,null,null,null,null,null,null,null,null,null,null,null,null,null,null,null,null,null,null,null,null,null,null,null,null,null,{"$f":"IF($J524=\"\",\"\",IF(AND($J524>=1,$J524<=9),1,0))","v":""},{"$f":"IF($R524=\"\",\"\",IF(OR($R524=1,$R524=2,$R524=3),1,0))","v":""},{"$f":"IF($N524=\"\",\"\",IFERROR(IF(N524=6,1,IF(MATCH(N524&\"/\"&R524,読み替え表_クールビズ!$P$38:$P$59,0),1,0)),0))","v":""},{"$f":"IF($P524=\"\",\"\",IFERROR(IF(P524=6,1,IF(MATCH(P524&\"/\"&R524,読み替え表_クールビズ!$P$38:$P$59,0),1,0)),0))","v":""},"","",{"$f":"IF(OR(AK524=1,AL524=1),1,0)","v":0},{"$f":"IF(OR($AG524=0,SUM(AI524:AJ524)=2),1,0)","v":0},"*"]
[null,null,515,null,null,null,null,null,null,null,null,null,null,null,null,null,null,null,null,null,null,null,null,null,null,null,null,null,null,null,null,null,"","",{"$f":"IF($N525=\"\",\"\",IFERROR(IF(N525=6,1,IF(MATCH(N525&\"/\"&R525,読み替え表_クールビズ!$P$38:$P$59,0),1,0)),0))","v":""},{"$f":"IF($P525=\"\",\"\",IFERROR(IF(P525=6,1,IF(MATCH(P525&\"/\"&R525,読み替え表_クールビズ!$P$38:$P$59,0),1,0)),0))","v":""},"","",0,0,"*"]
[null,null,516,null,null,null,null,null,null,null,null,null,null,null,null,null,null,null,null,null,null,null,null,null,null,null,null,null,null,null,null,null,"","",{"$f":"IF($N526=\"\",\"\",IFERROR(IF(N526=6,1,IF(MATCH(N526&\"/\"&R526,読み替え表_クールビズ!$P$38:$P$59,0),1,0)),0))","v":""},{"$f":"IF($P526=\"\",\"\",IFERROR(IF(P526=6,1,IF(MATCH(P526&\"/\"&R526,読み替え表_クールビズ!$P$38:$P$59,0),1,0)),0))","v":""},"","",0,0,"*"]
[null,null,517,null,null,null,null,null,null,null,null,null,null,null,null,null,null,null,null,null,null,null,null,null,null,null,null,null,null,null,null,null,"","",{"$f":"IF($N527=\"\",\"\",IFERROR(IF(N527=6,1,IF(MATCH(N527&\"/\"&R527,読み替え表_クールビズ!$P$38:$P$59,0),1,0)),0))","v":""},{"$f":"IF($P527=\"\",\"\",IFERROR(IF(P527=6,1,IF(MATCH(P527&\"/\"&R527,読み替え表_クールビズ!$P$38:$P$59,0),1,0)),0))","v":""},"","",0,0,"*"]
[null,null,518,null,null,null,null,null,null,null,null,null,null,null,null,null,null,null,null,null,null,null,null,null,null,null,null,null,null,null,null,null,"","",{"$f":"IF($N528=\"\",\"\",IFERROR(IF(N528=6,1,IF(MATCH(N528&\"/\"&R528,読み替え表_クールビズ!$P$38:$P$59,0),1,0)),0))","v":""},{"$f":"IF($P528=\"\",\"\",IFERROR(IF(P528=6,1,IF(MATCH(P528&\"/\"&R528,読み替え表_クールビズ!$P$38:$P$59,0),1,0)),0))","v":""},"","",0,0,"*"]
[null,null,519,null,null,null,null,null,null,null,null,null,null,null,null,null,null,null,null,null,null,null,null,null,null,null,null,null,null,null,null,null,"","",{"$f":"IF($N529=\"\",\"\",IFERROR(IF(N529=6,1,IF(MATCH(N529&\"/\"&R529,読み替え表_クールビズ!$P$38:$P$59,0),1,0)),0))","v":""},{"$f":"IF($P529=\"\",\"\",IFERROR(IF(P529=6,1,IF(MATCH(P529&\"/\"&R529,読み替え表_クールビズ!$P$38:$P$59,0),1,0)),0))","v":""},"","",0,0,"*"]
[null,null,520,null,null,null,null,null,null,null,null,null,null,null,null,null,null,null,null,null,null,null,null,null,null,null,null,null,null,null,null,null,"","",{"$f":"IF($N530=\"\",\"\",IFERROR(IF(N530=6,1,IF(MATCH(N530&\"/\"&R530,読み替え表_クールビズ!$P$38:$P$59,0),1,0)),0))","v":""},{"$f":"IF($P530=\"\",\"\",IFERROR(IF(P530=6,1,IF(MATCH(P530&\"/\"&R530,読み替え表_クールビズ!$P$38:$P$59,0),1,0)),0))","v":""},"","",0,0,"*"]
[null,null,521,null,null,null,null,null,null,null,null,null,null,null,null,null,null,null,null,null,null,null,null,null,null,null,null,null,null,null,null,null,"","",{"$f":"IF($N531=\"\",\"\",IFERROR(IF(N531=6,1,IF(MATCH(N531&\"/\"&R531,読み替え表_クールビズ!$P$38:$P$59,0),1,0)),0))","v":""},{"$f":"IF($P531=\"\",\"\",IFERROR(IF(P531=6,1,IF(MATCH(P531&\"/\"&R531,読み替え表_クールビズ!$P$38:$P$59,0),1,0)),0))","v":""},"","",0,0,"*"]
[null,null,522,null,null,null,null,null,null,null,null,null,null,null,null,null,null,null,null,null,null,null,null,null,null,null,null,null,null,null,null,null,"","",{"$f":"IF($N532=\"\",\"\",IFERROR(IF(N532=6,1,IF(MATCH(N532&\"/\"&R532,読み替え表_クールビズ!$P$38:$P$59,0),1,0)),0))","v":""},{"$f":"IF($P532=\"\",\"\",IFERROR(IF(P532=6,1,IF(MATCH(P532&\"/\"&R532,読み替え表_クールビズ!$P$38:$P$59,0),1,0)),0))","v":""},"","",0,0,"*"]
[null,null,523,null,null,null,null,null,null,null,null,null,null,null,null,null,null,null,null,null,null,null,null,null,null,null,null,null,null,null,null,null,"","",{"$f":"IF($N533=\"\",\"\",IFERROR(IF(N533=6,1,IF(MATCH(N533&\"/\"&R533,読み替え表_クールビズ!$P$38:$P$59,0),1,0)),0))","v":""},{"$f":"IF($P533=\"\",\"\",IFERROR(IF(P533=6,1,IF(MATCH(P533&\"/\"&R533,読み替え表_クールビズ!$P$38:$P$59,0),1,0)),0))","v":""},"","",0,0,"*"]
[null,null,524,null,null,null,null,null,null,null,null,null,null,null,null,null,null,null,null,null,null,null,null,null,null,null,null,null,null,null,null,null,"","",{"$f":"IF($N534=\"\",\"\",IFERROR(IF(N534=6,1,IF(MATCH(N534&\"/\"&R534,読み替え表_クールビズ!$P$38:$P$59,0),1,0)),0))","v":""},{"$f":"IF($P534=\"\",\"\",IFERROR(IF(P534=6,1,IF(MATCH(P534&\"/\"&R534,読み替え表_クールビズ!$P$38:$P$59,0),1,0)),0))","v":""},"","",0,0,"*"]
[null,null,525,null,null,null,null,null,null,null,null,null,null,null,null,null,null,null,null,null,null,null,null,null,null,null,null,null,null,null,null,null,"","",{"$f":"IF($N535=\"\",\"\",IFERROR(IF(N535=6,1,IF(MATCH(N535&\"/\"&R535,読み替え表_クールビズ!$P$38:$P$59,0),1,0)),0))","v":""},{"$f":"IF($P535=\"\",\"\",IFERROR(IF(P535=6,1,IF(MATCH(P535&\"/\"&R535,読み替え表_クールビズ!$P$38:$P$59,0),1,0)),0))","v":""},"","",0,0,"*"]
[null,null,526,null,null,null,null,null,null,null,null,null,null,null,null,null,null,null,null,null,null,null,null,null,null,null,null,null,null,null,null,null,"","",{"$f":"IF($N536=\"\",\"\",IFERROR(IF(N536=6,1,IF(MATCH(N536&\"/\"&R536,読み替え表_クールビズ!$P$38:$P$59,0),1,0)),0))","v":""},{"$f":"IF($P536=\"\",\"\",IFERROR(IF(P536=6,1,IF(MATCH(P536&\"/\"&R536,読み替え表_クールビズ!$P$38:$P$59,0),1,0)),0))","v":""},"","",0,0,"*"]
[null,null,527,null,null,null,null,null,null,null,null,null,null,null,null,null,null,null,null,null,null,null,null,null,null,null,null,null,null,null,null,null,"","",{"$f":"IF($N537=\"\",\"\",IFERROR(IF(N537=6,1,IF(MATCH(N537&\"/\"&R537,読み替え表_クールビズ!$P$38:$P$59,0),1,0)),0))","v":""},{"$f":"IF($P537=\"\",\"\",IFERROR(IF(P537=6,1,IF(MATCH(P537&\"/\"&R537,読み替え表_クールビズ!$P$38:$P$59,0),1,0)),0))","v":""},"","",0,0,"*"]
[null,null,528,null,null,null,null,null,null,null,null,null,null,null,null,null,null,null,null,null,null,null,null,null,null,null,null,null,null,null,null,null,"","",{"$f":"IF($N538=\"\",\"\",IFERROR(IF(N538=6,1,IF(MATCH(N538&\"/\"&R538,読み替え表_クールビズ!$P$38:$P$59,0),1,0)),0))","v":""},{"$f":"IF($P538=\"\",\"\",IFERROR(IF(P538=6,1,IF(MATCH(P538&\"/\"&R538,読み替え表_クールビズ!$P$38:$P$59,0),1,0)),0))","v":""},"","",0,0,"*"]
[null,null,529,null,null,null,null,null,null,null,null,null,null,null,null,null,null,null,null,null,null,null,null,null,null,null,null,null,null,null,null,null,"","",{"$f":"IF($N539=\"\",\"\",IFERROR(IF(N539=6,1,IF(MATCH(N539&\"/\"&R539,読み替え表_クールビズ!$P$38:$P$59,0),1,0)),0))","v":""},{"$f":"IF($P539=\"\",\"\",IFERROR(IF(P539=6,1,IF(MATCH(P539&\"/\"&R539,読み替え表_クールビズ!$P$38:$P$59,0),1,0)),0))","v":""},"","",0,0,"*"]
[null,null,530,null,null,null,null,null,null,null,null,null,null,null,null,null,null,null,null,null,null,null,null,null,null,null,null,null,null,null,null,null,"","",{"$f":"IF($N540=\"\",\"\",IFERROR(IF(N540=6,1,IF(MATCH(N540&\"/\"&R540,読み替え表_クールビズ!$P$38:$P$59,0),1,0)),0))","v":""},{"$f":"IF($P540=\"\",\"\",IFERROR(IF(P540=6,1,IF(MATCH(P540&\"/\"&R540,読み替え表_クールビズ!$P$38:$P$59,0),1,0)),0))","v":""},"","",0,0,"*"]
[null,null,531,null,null,null,null,null,null,null,null,null,null,null,null,null,null,null,null,null,null,null,null,null,null,null,null,null,null,null,null,null,"","",{"$f":"IF($N541=\"\",\"\",IFERROR(IF(N541=6,1,IF(MATCH(N541&\"/\"&R541,読み替え表_クールビズ!$P$38:$P$59,0),1,0)),0))","v":""},{"$f":"IF($P541=\"\",\"\",IFERROR(IF(P541=6,1,IF(MATCH(P541&\"/\"&R541,読み替え表_クールビズ!$P$38:$P$59,0),1,0)),0))","v":""},"","",0,0,"*"]
[null,null,532,null,null,null,null,null,null,null,null,null,null,null,null,null,null,null,null,null,null,null,null,null,null,null,null,null,null,null,null,null,"","",{"$f":"IF($N542=\"\",\"\",IFERROR(IF(N542=6,1,IF(MATCH(N542&\"/\"&R542,読み替え表_クールビズ!$P$38:$P$59,0),1,0)),0))","v":""},{"$f":"IF($P542=\"\",\"\",IFERROR(IF(P542=6,1,IF(MATCH(P542&\"/\"&R542,読み替え表_クールビズ!$P$38:$P$59,0),1,0)),0))","v":""},"","",0,0,"*"]
[null,null,533,null,null,null,null,null,null,null,null,null,null,null,null,null,null,null,null,null,null,null,null,null,null,null,null,null,null,null,null,null,"","",{"$f":"IF($N543=\"\",\"\",IFERROR(IF(N543=6,1,IF(MATCH(N543&\"/\"&R543,読み替え表_クールビズ!$P$38:$P$59,0),1,0)),0))","v":""},{"$f":"IF($P543=\"\",\"\",IFERROR(IF(P543=6,1,IF(MATCH(P543&\"/\"&R543,読み替え表_クールビズ!$P$38:$P$59,0),1,0)),0))","v":""},"","",0,0,"*"]
[null,null,534,null,null,null,null,null,null,null,null,null,null,null,null,null,null,null,null,null,null,null,null,null,null,null,null,null,null,null,null,null,"","",{"$f":"IF($N544=\"\",\"\",IFERROR(IF(N544=6,1,IF(MATCH(N544&\"/\"&R544,読み替え表_クールビズ!$P$38:$P$59,0),1,0)),0))","v":""},{"$f":"IF($P544=\"\",\"\",IFERROR(IF(P544=6,1,IF(MATCH(P544&\"/\"&R544,読み替え表_クールビズ!$P$38:$P$59,0),1,0)),0))","v":""},"","",0,0,"*"]
[null,null,535,null,null,null,null,null,null,null,null,null,null,null,null,null,null,null,null,null,null,null,null,null,null,null,null,null,null,null,null,null,"","",{"$f":"IF($N545=\"\",\"\",IFERROR(IF(N545=6,1,IF(MATCH(N545&\"/\"&R545,読み替え表_クールビズ!$P$38:$P$59,0),1,0)),0))","v":""},{"$f":"IF($P545=\"\",\"\",IFERROR(IF(P545=6,1,IF(MATCH(P545&\"/\"&R545,読み替え表_クールビズ!$P$38:$P$59,0),1,0)),0))","v":""},"","",0,0,"*"]
[null,null,536,null,null,null,null,null,null,null,null,null,null,null,null,null,null,null,null,null,null,null,null,null,null,null,null,null,null,null,null,null,"","",{"$f":"IF($N546=\"\",\"\",IFERROR(IF(N546=6,1,IF(MATCH(N546&\"/\"&R546,読み替え表_クールビズ!$P$38:$P$59,0),1,0)),0))","v":""},{"$f":"IF($P546=\"\",\"\",IFERROR(IF(P546=6,1,IF(MATCH(P546&\"/\"&R546,読み替え表_クールビズ!$P$38:$P$59,0),1,0)),0))","v":""},"","",0,0,"*"]
[null,null,537,null,null,null,null,null,null,null,null,null,null,null,null,null,null,null,null,null,null,null,null,null,null,null,null,null,null,null,null,null,"","",{"$f":"IF($N547=\"\",\"\",IFERROR(IF(N547=6,1,IF(MATCH(N547&\"/\"&R547,読み替え表_クールビズ!$P$38:$P$59,0),1,0)),0))","v":""},{"$f":"IF($P547=\"\",\"\",IFERROR(IF(P547=6,1,IF(MATCH(P547&\"/\"&R547,読み替え表_クールビズ!$P$38:$P$59,0),1,0)),0))","v":""},"","",0,0,"*"]
[null,null,538,null,null,null,null,null,null,null,null,null,null,null,null,null,null,null,null,null,null,null,null,null,null,null,null,null,null,null,null,null,"","",{"$f":"IF($N548=\"\",\"\",IFERROR(IF(N548=6,1,IF(MATCH(N548&\"/\"&R548,読み替え表_クールビズ!$P$38:$P$59,0),1,0)),0))","v":""},{"$f":"IF($P548=\"\",\"\",IFERROR(IF(P548=6,1,IF(MATCH(P548&\"/\"&R548,読み替え表_クールビズ!$P$38:$P$59,0),1,0)),0))","v":""},"","",0,0,"*"]
[null,null,539,null,null,null,null,null,null,null,null,null,null,null,null,null,null,null,null,null,null,null,null,null,null,null,null,null,null,null,null,null,"","",{"$f":"IF($N549=\"\",\"\",IFERROR(IF(N549=6,1,IF(MATCH(N549&\"/\"&R549,読み替え表_クールビズ!$P$38:$P$59,0),1,0)),0))","v":""},{"$f":"IF($P549=\"\",\"\",IFERROR(IF(P549=6,1,IF(MATCH(P549&\"/\"&R549,読み替え表_クールビズ!$P$38:$P$59,0),1,0)),0))","v":""},"","",0,0,"*"]
[null,null,540,null,null,null,null,null,null,null,null,null,null,null,null,null,null,null,null,null,null,null,null,null,null,null,null,null,null,null,null,null,"","",{"$f":"IF($N550=\"\",\"\",IFERROR(IF(N550=6,1,IF(MATCH(N550&\"/\"&R550,読み替え表_クールビズ!$P$38:$P$59,0),1,0)),0))","v":""},{"$f":"IF($P550=\"\",\"\",IFERROR(IF(P550=6,1,IF(MATCH(P550&\"/\"&R550,読み替え表_クールビズ!$P$38:$P$59,0),1,0)),0))","v":""},"","",0,0,"*"]
[null,null,541,null,null,null,null,null,null,null,null,null,null,null,null,null,null,null,null,null,null,null,null,null,null,null,null,null,null,null,null,null,"","",{"$f":"IF($N551=\"\",\"\",IFERROR(IF(N551=6,1,IF(MATCH(N551&\"/\"&R551,読み替え表_クールビズ!$P$38:$P$59,0),1,0)),0))","v":""},{"$f":"IF($P551=\"\",\"\",IFERROR(IF(P551=6,1,IF(MATCH(P551&\"/\"&R551,読み替え表_クールビズ!$P$38:$P$59,0),1,0)),0))","v":""},"","",0,0,"*"]
[null,null,542,null,null,null,null,null,null,null,null,null,null,null,null,null,null,null,null,null,null,null,null,null,null,null,null,null,null,null,null,null,"","",{"$f":"IF($N552=\"\",\"\",IFERROR(IF(N552=6,1,IF(MATCH(N552&\"/\"&R552,読み替え表_クールビズ!$P$38:$P$59,0),1,0)),0))","v":""},{"$f":"IF($P552=\"\",\"\",IFERROR(IF(P552=6,1,IF(MATCH(P552&\"/\"&R552,読み替え表_クールビズ!$P$38:$P$59,0),1,0)),0))","v":""},"","",0,0,"*"]
[null,null,543,null,null,null,null,null,null,null,null,null,null,null,null,null,null,null,null,null,null,null,null,null,null,null,null,null,null,null,null,null,"","",{"$f":"IF($N553=\"\",\"\",IFERROR(IF(N553=6,1,IF(MATCH(N553&\"/\"&R553,読み替え表_クールビズ!$P$38:$P$59,0),1,0)),0))","v":""},{"$f":"IF($P553=\"\",\"\",IFERROR(IF(P553=6,1,IF(MATCH(P553&\"/\"&R553,読み替え表_クールビズ!$P$38:$P$59,0),1,0)),0))","v":""},"","",0,0,"*"]
[null,null,544,null,null,null,null,null,null,null,null,null,null,null,null,null,null,null,null,null,null,null,null,null,null,null,null,null,null,null,null,null,"","",{"$f":"IF($N554=\"\",\"\",IFERROR(IF(N554=6,1,IF(MATCH(N554&\"/\"&R554,読み替え表_クールビズ!$P$38:$P$59,0),1,0)),0))","v":""},{"$f":"IF($P554=\"\",\"\",IFERROR(IF(P554=6,1,IF(MATCH(P554&\"/\"&R554,読み替え表_クールビズ!$P$38:$P$59,0),1,0)),0))","v":""},"","",0,0,"*"]
[null,null,545,null,null,null,null,null,null,null,null,null,null,null,null,null,null,null,null,null,null,null,null,null,null,null,null,null,null,null,null,null,"","",{"$f":"IF($N555=\"\",\"\",IFERROR(IF(N555=6,1,IF(MATCH(N555&\"/\"&R555,読み替え表_クールビズ!$P$38:$P$59,0),1,0)),0))","v":""},{"$f":"IF($P555=\"\",\"\",IFERROR(IF(P555=6,1,IF(MATCH(P555&\"/\"&R555,読み替え表_クールビズ!$P$38:$P$59,0),1,0)),0))","v":""},"","",0,0,"*"]
[null,null,546,null,null,null,null,null,null,null,null,null,null,null,null,null,null,null,null,null,null,null,null,null,null,null,null,null,null,null,null,null,"","",{"$f":"IF($N556=\"\",\"\",IFERROR(IF(N556=6,1,IF(MATCH(N556&\"/\"&R556,読み替え表_クールビズ!$P$38:$P$59,0),1,0)),0))","v":""},{"$f":"IF($P556=\"\",\"\",IFERROR(IF(P556=6,1,IF(MATCH(P556&\"/\"&R556,読み替え表_クールビズ!$P$38:$P$59,0),1,0)),0))","v":""},"","",0,0,"*"]
[null,null,547,null,null,null,null,null,null,null,null,null,null,null,null,null,null,null,null,null,null,null,null,null,null,null,null,null,null,null,null,null,"","",{"$f":"IF($N557=\"\",\"\",IFERROR(IF(N557=6,1,IF(MATCH(N557&\"/\"&R557,読み替え表_クールビズ!$P$38:$P$59,0),1,0)),0))","v":""},{"$f":"IF($P557=\"\",\"\",IFERROR(IF(P557=6,1,IF(MATCH(P557&\"/\"&R557,読み替え表_クールビズ!$P$38:$P$59,0),1,0)),0))","v":""},"","",0,0,"*"]
[null,null,548,null,null,null,null,null,null,null,null,null,null,null,null,null,null,null,null,null,null,null,null,null,null,null,null,null,null,null,null,null,"","",{"$f":"IF($N558=\"\",\"\",IFERROR(IF(N558=6,1,IF(MATCH(N558&\"/\"&R558,読み替え表_クールビズ!$P$38:$P$59,0),1,0)),0))","v":""},{"$f":"IF($P558=\"\",\"\",IFERROR(IF(P558=6,1,IF(MATCH(P558&\"/\"&R558,読み替え表_クールビズ!$P$38:$P$59,0),1,0)),0))","v":""},"","",0,0,"*"]
[null,null,549,null,null,null,null,null,null,null,null,null,null,null,null,null,null,null,null,null,null,null,null,null,null,null,null,null,null,null,null,null,"","",{"$f":"IF($N559=\"\",\"\",IFERROR(IF(N559=6,1,IF(MATCH(N559&\"/\"&R559,読み替え表_クールビズ!$P$38:$P$59,0),1,0)),0))","v":""},{"$f":"IF($P559=\"\",\"\",IFERROR(IF(P559=6,1,IF(MATCH(P559&\"/\"&R559,読み替え表_クールビズ!$P$38:$P$59,0),1,0)),0))","v":""},"","",0,0,"*"]
[null,null,550,null,null,null,null,null,null,null,null,null,null,null,null,null,null,null,null,null,null,null,null,null,null,null,null,null,null,null,null,null,"","",{"$f":"IF($N560=\"\",\"\",IFERROR(IF(N560=6,1,IF(MATCH(N560&\"/\"&R560,読み替え表_クールビズ!$P$38:$P$59,0),1,0)),0))","v":""},{"$f":"IF($P560=\"\",\"\",IFERROR(IF(P560=6,1,IF(MATCH(P560&\"/\"&R560,読み替え表_クールビズ!$P$38:$P$59,0),1,0)),0))","v":""},"","",0,0,"*"]
[null,null,551,null,null,null,null,null,null,null,null,null,null,null,null,null,null,null,null,null,null,null,null,null,null,null,null,null,null,null,null,null,"","",{"$f":"IF($N561=\"\",\"\",IFERROR(IF(N561=6,1,IF(MATCH(N561&\"/\"&R561,読み替え表_クールビズ!$P$38:$P$59,0),1,0)),0))","v":""},{"$f":"IF($P561=\"\",\"\",IFERROR(IF(P561=6,1,IF(MATCH(P561&\"/\"&R561,読み替え表_クールビズ!$P$38:$P$59,0),1,0)),0))","v":""},"","",0,0,"*"]
[null,null,552,null,null,null,null,null,null,null,null,null,null,null,null,null,null,null,null,null,null,null,null,null,null,null,null,null,null,null,null,null,"","",{"$f":"IF($N562=\"\",\"\",IFERROR(IF(N562=6,1,IF(MATCH(N562&\"/\"&R562,読み替え表_クールビズ!$P$38:$P$59,0),1,0)),0))","v":""},{"$f":"IF($P562=\"\",\"\",IFERROR(IF(P562=6,1,IF(MATCH(P562&\"/\"&R562,読み替え表_クールビズ!$P$38:$P$59,0),1,0)),0))","v":""},"","",0,0,"*"]
[null,null,553,null,null,null,null,null,null,null,null,null,null,null,null,null,null,null,null,null,null,null,null,null,null,null,null,null,null,null,null,null,"","",{"$f":"IF($N563=\"\",\"\",IFERROR(IF(N563=6,1,IF(MATCH(N563&\"/\"&R563,読み替え表_クールビズ!$P$38:$P$59,0),1,0)),0))","v":""},{"$f":"IF($P563=\"\",\"\",IFERROR(IF(P563=6,1,IF(MATCH(P563&\"/\"&R563,読み替え表_クールビズ!$P$38:$P$59,0),1,0)),0))","v":""},"","",0,0,"*"]
[null,null,554,null,null,null,null,null,null,null,null,null,null,null,null,null,null,null,null,null,null,null,null,null,null,null,null,null,null,null,null,null,"","",{"$f":"IF($N564=\"\",\"\",IFERROR(IF(N564=6,1,IF(MATCH(N564&\"/\"&R564,読み替え表_クールビズ!$P$38:$P$59,0),1,0)),0))","v":""},{"$f":"IF($P564=\"\",\"\",IFERROR(IF(P564=6,1,IF(MATCH(P564&\"/\"&R564,読み替え表_クールビズ!$P$38:$P$59,0),1,0)),0))","v":""},"","",0,0,"*"]
[null,null,555,null,null,null,null,null,null,null,null,null,null,null,null,null,null,null,null,null,null,null,null,null,null,null,null,null,null,null,null,null,"","",{"$f":"IF($N565=\"\",\"\",IFERROR(IF(N565=6,1,IF(MATCH(N565&\"/\"&R565,読み替え表_クールビズ!$P$38:$P$59,0),1,0)),0))","v":""},{"$f":"IF($P565=\"\",\"\",IFERROR(IF(P565=6,1,IF(MATCH(P565&\"/\"&R565,読み替え表_クールビズ!$P$38:$P$59,0),1,0)),0))","v":""},"","",0,0,"*"]
[null,null,556,null,null,null,null,null,null,null,null,null,null,null,null,null,null,null,null,null,null,null,null,null,null,null,null,null,null,null,null,null,"","",{"$f":"IF($N566=\"\",\"\",IFERROR(IF(N566=6,1,IF(MATCH(N566&\"/\"&R566,読み替え表_クールビズ!$P$38:$P$59,0),1,0)),0))","v":""},{"$f":"IF($P566=\"\",\"\",IFERROR(IF(P566=6,1,IF(MATCH(P566&\"/\"&R566,読み替え表_クールビズ!$P$38:$P$59,0),1,0)),0))","v":""},"","",0,0,"*"]
[null,null,557,null,null,null,null,null,null,null,null,null,null,null,null,null,null,null,null,null,null,null,null,null,null,null,null,null,null,null,null,null,"","",{"$f":"IF($N567=\"\",\"\",IFERROR(IF(N567=6,1,IF(MATCH(N567&\"/\"&R567,読み替え表_クールビズ!$P$38:$P$59,0),1,0)),0))","v":""},{"$f":"IF($P567=\"\",\"\",IFERROR(IF(P567=6,1,IF(MATCH(P567&\"/\"&R567,読み替え表_クールビズ!$P$38:$P$59,0),1,0)),0))","v":""},"","",0,0,"*"]
[null,null,558,null,null,null,null,null,null,null,null,null,null,null,null,null,null,null,null,null,null,null,null,null,null,null,null,null,null,null,null,null,"","",{"$f":"IF($N568=\"\",\"\",IFERROR(IF(N568=6,1,IF(MATCH(N568&\"/\"&R568,読み替え表_クールビズ!$P$38:$P$59,0),1,0)),0))","v":""},{"$f":"IF($P568=\"\",\"\",IFERROR(IF(P568=6,1,IF(MATCH(P568&\"/\"&R568,読み替え表_クールビズ!$P$38:$P$59,0),1,0)),0))","v":""},"","",0,0,"*"]
[null,null,559,null,null,null,null,null,null,null,null,null,null,null,null,null,null,null,null,null,null,null,null,null,null,null,null,null,null,null,null,null,"","",{"$f":"IF($N569=\"\",\"\",IFERROR(IF(N569=6,1,IF(MATCH(N569&\"/\"&R569,読み替え表_クールビズ!$P$38:$P$59,0),1,0)),0))","v":""},{"$f":"IF($P569=\"\",\"\",IFERROR(IF(P569=6,1,IF(MATCH(P569&\"/\"&R569,読み替え表_クールビズ!$P$38:$P$59,0),1,0)),0))","v":""},"","",0,0,"*"]
[null,null,560,null,null,null,null,null,null,null,null,null,null,null,null,null,null,null,null,null,null,null,null,null,null,null,null,null,null,null,null,null,"","",{"$f":"IF($N570=\"\",\"\",IFERROR(IF(N570=6,1,IF(MATCH(N570&\"/\"&R570,読み替え表_クールビズ!$P$38:$P$59,0),1,0)),0))","v":""},{"$f":"IF($P570=\"\",\"\",IFERROR(IF(P570=6,1,IF(MATCH(P570&\"/\"&R570,読み替え表_クールビズ!$P$38:$P$59,0),1,0)),0))","v":""},"","",0,0,"*"]
[null,null,561,null,null,null,null,null,null,null,null,null,null,null,null,null,null,null,null,null,null,null,null,null,null,null,null,null,null,null,null,null,"","",{"$f":"IF($N571=\"\",\"\",IFERROR(IF(N571=6,1,IF(MATCH(N571&\"/\"&R571,読み替え表_クールビズ!$P$38:$P$59,0),1,0)),0))","v":""},{"$f":"IF($P571=\"\",\"\",IFERROR(IF(P571=6,1,IF(MATCH(P571&\"/\"&R571,読み替え表_クールビズ!$P$38:$P$59,0),1,0)),0))","v":""},"","",0,0,"*"]
[null,null,562,null,null,null,null,null,null,null,null,null,null,null,null,null,null,null,null,null,null,null,null,null,null,null,null,null,null,null,null,null,"","",{"$f":"IF($N572=\"\",\"\",IFERROR(IF(N572=6,1,IF(MATCH(N572&\"/\"&R572,読み替え表_クールビズ!$P$38:$P$59,0),1,0)),0))","v":""},{"$f":"IF($P572=\"\",\"\",IFERROR(IF(P572=6,1,IF(MATCH(P572&\"/\"&R572,読み替え表_クールビズ!$P$38:$P$59,0),1,0)),0))","v":""},"","",0,0,"*"]
[null,null,563,null,null,null,null,null,null,null,null,null,null,null,null,null,null,null,null,null,null,null,null,null,null,null,null,null,null,null,null,null,"","",{"$f":"IF($N573=\"\",\"\",IFERROR(IF(N573=6,1,IF(MATCH(N573&\"/\"&R573,読み替え表_クールビズ!$P$38:$P$59,0),1,0)),0))","v":""},{"$f":"IF($P573=\"\",\"\",IFERROR(IF(P573=6,1,IF(MATCH(P573&\"/\"&R573,読み替え表_クールビズ!$P$38:$P$59,0),1,0)),0))","v":""},"","",0,0,"*"]
[null,null,564,null,null,null,null,null,null,null,null,null,null,null,null,null,null,null,null,null,null,null,null,null,null,null,null,null,null,null,null,null,"","",{"$f":"IF($N574=\"\",\"\",IFERROR(IF(N574=6,1,IF(MATCH(N574&\"/\"&R574,読み替え表_クールビズ!$P$38:$P$59,0),1,0)),0))","v":""},{"$f":"IF($P574=\"\",\"\",IFERROR(IF(P574=6,1,IF(MATCH(P574&\"/\"&R574,読み替え表_クールビズ!$P$38:$P$59,0),1,0)),0))","v":""},"","",0,0,"*"]
[null,null,565,null,null,null,null,null,null,null,null,null,null,null,null,null,null,null,null,null,null,null,null,null,null,null,null,null,null,null,null,null,"","",{"$f":"IF($N575=\"\",\"\",IFERROR(IF(N575=6,1,IF(MATCH(N575&\"/\"&R575,読み替え表_クールビズ!$P$38:$P$59,0),1,0)),0))","v":""},{"$f":"IF($P575=\"\",\"\",IFERROR(IF(P575=6,1,IF(MATCH(P575&\"/\"&R575,読み替え表_クールビズ!$P$38:$P$59,0),1,0)),0))","v":""},"","",0,0,"*"]
[null,null,566,null,null,null,null,null,null,null,null,null,null,null,null,null,null,null,null,null,null,null,null,null,null,null,null,null,null,null,null,null,"","",{"$f":"IF($N576=\"\",\"\",IFERROR(IF(N576=6,1,IF(MATCH(N576&\"/\"&R576,読み替え表_クールビズ!$P$38:$P$59,0),1,0)),0))","v":""},{"$f":"IF($P576=\"\",\"\",IFERROR(IF(P576=6,1,IF(MATCH(P576&\"/\"&R576,読み替え表_クールビズ!$P$38:$P$59,0),1,0)),0))","v":""},"","",0,0,"*"]
[null,null,567,null,null,null,null,null,null,null,null,null,null,null,null,null,null,null,null,null,null,null,null,null,null,null,null,null,null,null,null,null,"","",{"$f":"IF($N577=\"\",\"\",IFERROR(IF(N577=6,1,IF(MATCH(N577&\"/\"&R577,読み替え表_クールビズ!$P$38:$P$59,0),1,0)),0))","v":""},{"$f":"IF($P577=\"\",\"\",IFERROR(IF(P577=6,1,IF(MATCH(P577&\"/\"&R577,読み替え表_クールビズ!$P$38:$P$59,0),1,0)),0))","v":""},"","",0,0,"*"]
[null,null,568,null,null,null,null,null,null,null,null,null,null,null,null,null,null,null,null,null,null,null,null,null,null,null,null,null,null,null,null,null,"","",{"$f":"IF($N578=\"\",\"\",IFERROR(IF(N578=6,1,IF(MATCH(N578&\"/\"&R578,読み替え表_クールビズ!$P$38:$P$59,0),1,0)),0))","v":""},{"$f":"IF($P578=\"\",\"\",IFERROR(IF(P578=6,1,IF(MATCH(P578&\"/\"&R578,読み替え表_クールビズ!$P$38:$P$59,0),1,0)),0))","v":""},"","",0,0,"*"]
[null,null,569,null,null,null,null,null,null,null,null,null,null,null,null,null,null,null,null,null,null,null,null,null,null,null,null,null,null,null,null,null,"","",{"$f":"IF($N579=\"\",\"\",IFERROR(IF(N579=6,1,IF(MATCH(N579&\"/\"&R579,読み替え表_クールビズ!$P$38:$P$59,0),1,0)),0))","v":""},{"$f":"IF($P579=\"\",\"\",IFERROR(IF(P579=6,1,IF(MATCH(P579&\"/\"&R579,読み替え表_クールビズ!$P$38:$P$59,0),1,0)),0))","v":""},"","",0,0,"*"]
[null,null,570,null,null,null,null,null,null,null,null,null,null,null,null,null,null,null,null,null,null,null,null,null,null,null,null,null,null,null,null,null,"","",{"$f":"IF($N580=\"\",\"\",IFERROR(IF(N580=6,1,IF(MATCH(N580&\"/\"&R580,読み替え表_クールビズ!$P$38:$P$59,0),1,0)),0))","v":""},{"$f":"IF($P580=\"\",\"\",IFERROR(IF(P580=6,1,IF(MATCH(P580&\"/\"&R580,読み替え表_クールビズ!$P$38:$P$59,0),1,0)),0))","v":""},"","",0,0,"*"]
[null,null,571,null,null,null,null,null,null,null,null,null,null,null,null,null,null,null,null,null,null,null,null,null,null,null,null,null,null,null,null,null,"","",{"$f":"IF($N581=\"\",\"\",IFERROR(IF(N581=6,1,IF(MATCH(N581&\"/\"&R581,読み替え表_クールビズ!$P$38:$P$59,0),1,0)),0))","v":""},{"$f":"IF($P581=\"\",\"\",IFERROR(IF(P581=6,1,IF(MATCH(P581&\"/\"&R581,読み替え表_クールビズ!$P$38:$P$59,0),1,0)),0))","v":""},"","",0,0,"*"]
[null,null,572,null,null,null,null,null,null,null,null,null,null,null,null,null,null,null,null,null,null,null,null,null,null,null,null,null,null,null,null,null,"","",{"$f":"IF($N582=\"\",\"\",IFERROR(IF(N582=6,1,IF(MATCH(N582&\"/\"&R582,読み替え表_クールビズ!$P$38:$P$59,0),1,0)),0))","v":""},{"$f":"IF($P582=\"\",\"\",IFERROR(IF(P582=6,1,IF(MATCH(P582&\"/\"&R582,読み替え表_クールビズ!$P$38:$P$59,0),1,0)),0))","v":""},"","",0,0,"*"]
[null,null,573,null,null,null,null,null,null,null,null,null,null,null,null,null,null,null,null,null,null,null,null,null,null,null,null,null,null,null,null,null,"","",{"$f":"IF($N583=\"\",\"\",IFERROR(IF(N583=6,1,IF(MATCH(N583&\"/\"&R583,読み替え表_クールビズ!$P$38:$P$59,0),1,0)),0))","v":""},{"$f":"IF($P583=\"\",\"\",IFERROR(IF(P583=6,1,IF(MATCH(P583&\"/\"&R583,読み替え表_クールビズ!$P$38:$P$59,0),1,0)),0))","v":""},"","",0,0,"*"]
[null,null,574,null,null,null,null,null,null,null,null,null,null,null,null,null,null,null,null,null,null,null,null,null,null,null,null,null,null,null,null,null,"","",{"$f":"IF($N584=\"\",\"\",IFERROR(IF(N584=6,1,IF(MATCH(N584&\"/\"&R584,読み替え表_クールビズ!$P$38:$P$59,0),1,0)),0))","v":""},{"$f":"IF($P584=\"\",\"\",IFERROR(IF(P584=6,1,IF(MATCH(P584&\"/\"&R584,読み替え表_クールビズ!$P$38:$P$59,0),1,0)),0))","v":""},"","",0,0,"*"]
[null,null,575,null,null,null,null,null,null,null,null,null,null,null,null,null,null,null,null,null,null,null,null,null,null,null,null,null,null,null,null,null,"","",{"$f":"IF($N585=\"\",\"\",IFERROR(IF(N585=6,1,IF(MATCH(N585&\"/\"&R585,読み替え表_クールビズ!$P$38:$P$59,0),1,0)),0))","v":""},{"$f":"IF($P585=\"\",\"\",IFERROR(IF(P585=6,1,IF(MATCH(P585&\"/\"&R585,読み替え表_クールビズ!$P$38:$P$59,0),1,0)),0))","v":""},"","",0,0,"*"]
[null,null,576,null,null,null,null,null,null,null,null,null,null,null,null,null,null,null,null,null,null,null,null,null,null,null,null,null,null,null,null,null,"","",{"$f":"IF($N586=\"\",\"\",IFERROR(IF(N586=6,1,IF(MATCH(N586&\"/\"&R586,読み替え表_クールビズ!$P$38:$P$59,0),1,0)),0))","v":""},{"$f":"IF($P586=\"\",\"\",IFERROR(IF(P586=6,1,IF(MATCH(P586&\"/\"&R586,読み替え表_クールビズ!$P$38:$P$59,0),1,0)),0))","v":""},"","",0,0,"*"]
[null,null,577,null,null,null,null,null,null,null,null,null,null,null,null,null,null,null,null,null,null,null,null,null,null,null,null,null,null,null,null,null,"","",{"$f":"IF($N587=\"\",\"\",IFERROR(IF(N587=6,1,IF(MATCH(N587&\"/\"&R587,読み替え表_クールビズ!$P$38:$P$59,0),1,0)),0))","v":""},{"$f":"IF($P587=\"\",\"\",IFERROR(IF(P587=6,1,IF(MATCH(P587&\"/\"&R587,読み替え表_クールビズ!$P$38:$P$59,0),1,0)),0))","v":""},{"$f":"IF($N587=\"\",\"\",IF(OR(CONCATENATE(N587,$R587)=\"22\",CONCATENATE(N587,$R587)=\"32\",CONCATENATE(N587,$R587)=\"42\",CONCATENATE(N587,$R587)=\"43\",CONCATENATE(N587,$R587)=\"51\",CONCATENATE(N587,$R587)=\"52\",CONCATENATE(N587,$R587)=\"53\"),1,0))","v":""},{"$f":"IF($P587=\"\",\"\",IF(OR(CONCATENATE(P587,$R587)=\"22\",CONCATENATE(P587,$R587)=\"32\",CONCATENATE(P587,$R587)=\"42\",CONCATENATE(P587,$R587)=\"43\",CONCATENATE(P587,$R587)=\"51\",CONCATENATE(P587,$R587)=\"52\",CONCATENATE(P587,$R587)=\"53\"),1,0))","v":""},0,0,"*"]
[null,null,{"$f":"ROW()-10","v":578},null,null,null,null,null,null,null,null,null,null,null,null,null,null,null,null,null,null,null,null,null,null,null,null,null,null,null,null,null,{"$f":"IF($J588=\"\",\"\",IF(AND($J588>=1,$J588<=9),1,0))","v":""},{"$f":"IF($R588=\"\",\"\",IF(OR($R588=1,$R588=2,$R588=3),1,0))","v":""},{"$f":"IF($N588=\"\",\"\",IFERROR(IF(N588=6,1,IF(MATCH(N588&\"/\"&R588,読み替え表_クールビズ!$P$38:$P$59,0),1,0)),0))","v":""},{"$f":"IF($P588=\"\",\"\",IFERROR(IF(P588=6,1,IF(MATCH(P588&\"/\"&R588,読み替え表_クールビズ!$P$38:$P$59,0),1,0)),0))","v":""},"","",{"$f":"IF(OR(AK588=1,AL588=1),1,0)","v":0},{"$f":"IF(OR($AG588=0,SUM(AI588:AJ588)=2),1,0)","v":0},"*"]
[null,null,579,null,null,null,null,null,null,null,null,null,null,null,null,null,null,null,null,null,null,null,null,null,null,null,null,null,null,null,null,null,"","",{"$f":"IF($N589=\"\",\"\",IFERROR(IF(N589=6,1,IF(MATCH(N589&\"/\"&R589,読み替え表_クールビズ!$P$38:$P$59,0),1,0)),0))","v":""},{"$f":"IF($P589=\"\",\"\",IFERROR(IF(P589=6,1,IF(MATCH(P589&\"/\"&R589,読み替え表_クールビズ!$P$38:$P$59,0),1,0)),0))","v":""},"","",0,0,"*"]
[null,null,580,null,null,null,null,null,null,null,null,null,null,null,null,null,null,null,null,null,null,null,null,null,null,null,null,null,null,null,null,null,"","",{"$f":"IF($N590=\"\",\"\",IFERROR(IF(N590=6,1,IF(MATCH(N590&\"/\"&R590,読み替え表_クールビズ!$P$38:$P$59,0),1,0)),0))","v":""},{"$f":"IF($P590=\"\",\"\",IFERROR(IF(P590=6,1,IF(MATCH(P590&\"/\"&R590,読み替え表_クールビズ!$P$38:$P$59,0),1,0)),0))","v":""},"","",0,0,"*"]
[null,null,581,null,null,null,null,null,null,null,null,null,null,null,null,null,null,null,null,null,null,null,null,null,null,null,null,null,null,null,null,null,"","",{"$f":"IF($N591=\"\",\"\",IFERROR(IF(N591=6,1,IF(MATCH(N591&\"/\"&R591,読み替え表_クールビズ!$P$38:$P$59,0),1,0)),0))","v":""},{"$f":"IF($P591=\"\",\"\",IFERROR(IF(P591=6,1,IF(MATCH(P591&\"/\"&R591,読み替え表_クールビズ!$P$38:$P$59,0),1,0)),0))","v":""},"","",0,0,"*"]
[null,null,582,null,null,null,null,null,null,null,null,null,null,null,null,null,null,null,null,null,null,null,null,null,null,null,null,null,null,null,null,null,"","",{"$f":"IF($N592=\"\",\"\",IFERROR(IF(N592=6,1,IF(MATCH(N592&\"/\"&R592,読み替え表_クールビズ!$P$38:$P$59,0),1,0)),0))","v":""},{"$f":"IF($P592=\"\",\"\",IFERROR(IF(P592=6,1,IF(MATCH(P592&\"/\"&R592,読み替え表_クールビズ!$P$38:$P$59,0),1,0)),0))","v":""},"","",0,0,"*"]
[null,null,583,null,null,null,null,null,null,null,null,null,null,null,null,null,null,null,null,null,null,null,null,null,null,null,null,null,null,null,null,null,"","",{"$f":"IF($N593=\"\",\"\",IFERROR(IF(N593=6,1,IF(MATCH(N593&\"/\"&R593,読み替え表_クールビズ!$P$38:$P$59,0),1,0)),0))","v":""},{"$f":"IF($P593=\"\",\"\",IFERROR(IF(P593=6,1,IF(MATCH(P593&\"/\"&R593,読み替え表_クールビズ!$P$38:$P$59,0),1,0)),0))","v":""},"","",0,0,"*"]
[null,null,584,null,null,null,null,null,null,null,null,null,null,null,null,null,null,null,null,null,null,null,null,null,null,null,null,null,null,null,null,null,"","",{"$f":"IF($N594=\"\",\"\",IFERROR(IF(N594=6,1,IF(MATCH(N594&\"/\"&R594,読み替え表_クールビズ!$P$38:$P$59,0),1,0)),0))","v":""},{"$f":"IF($P594=\"\",\"\",IFERROR(IF(P594=6,1,IF(MATCH(P594&\"/\"&R594,読み替え表_クールビズ!$P$38:$P$59,0),1,0)),0))","v":""},"","",0,0,"*"]
[null,null,585,null,null,null,null,null,null,null,null,null,null,null,null,null,null,null,null,null,null,null,null,null,null,null,null,null,null,null,null,null,"","",{"$f":"IF($N595=\"\",\"\",IFERROR(IF(N595=6,1,IF(MATCH(N595&\"/\"&R595,読み替え表_クールビズ!$P$38:$P$59,0),1,0)),0))","v":""},{"$f":"IF($P595=\"\",\"\",IFERROR(IF(P595=6,1,IF(MATCH(P595&\"/\"&R595,読み替え表_クールビズ!$P$38:$P$59,0),1,0)),0))","v":""},"","",0,0,"*"]
[null,null,586,null,null,null,null,null,null,null,null,null,null,null,null,null,null,null,null,null,null,null,null,null,null,null,null,null,null,null,null,null,"","",{"$f":"IF($N596=\"\",\"\",IFERROR(IF(N596=6,1,IF(MATCH(N596&\"/\"&R596,読み替え表_クールビズ!$P$38:$P$59,0),1,0)),0))","v":""},{"$f":"IF($P596=\"\",\"\",IFERROR(IF(P596=6,1,IF(MATCH(P596&\"/\"&R596,読み替え表_クールビズ!$P$38:$P$59,0),1,0)),0))","v":""},"","",0,0,"*"]
[null,null,587,null,null,null,null,null,null,null,null,null,null,null,null,null,null,null,null,null,null,null,null,null,null,null,null,null,null,null,null,null,"","",{"$f":"IF($N597=\"\",\"\",IFERROR(IF(N597=6,1,IF(MATCH(N597&\"/\"&R597,読み替え表_クールビズ!$P$38:$P$59,0),1,0)),0))","v":""},{"$f":"IF($P597=\"\",\"\",IFERROR(IF(P597=6,1,IF(MATCH(P597&\"/\"&R597,読み替え表_クールビズ!$P$38:$P$59,0),1,0)),0))","v":""},"","",0,0,"*"]
[null,null,588,null,null,null,null,null,null,null,null,null,null,null,null,null,null,null,null,null,null,null,null,null,null,null,null,null,null,null,null,null,"","",{"$f":"IF($N598=\"\",\"\",IFERROR(IF(N598=6,1,IF(MATCH(N598&\"/\"&R598,読み替え表_クールビズ!$P$38:$P$59,0),1,0)),0))","v":""},{"$f":"IF($P598=\"\",\"\",IFERROR(IF(P598=6,1,IF(MATCH(P598&\"/\"&R598,読み替え表_クールビズ!$P$38:$P$59,0),1,0)),0))","v":""},"","",0,0,"*"]
[null,null,589,null,null,null,null,null,null,null,null,null,null,null,null,null,null,null,null,null,null,null,null,null,null,null,null,null,null,null,null,null,"","",{"$f":"IF($N599=\"\",\"\",IFERROR(IF(N599=6,1,IF(MATCH(N599&\"/\"&R599,読み替え表_クールビズ!$P$38:$P$59,0),1,0)),0))","v":""},{"$f":"IF($P599=\"\",\"\",IFERROR(IF(P599=6,1,IF(MATCH(P599&\"/\"&R599,読み替え表_クールビズ!$P$38:$P$59,0),1,0)),0))","v":""},"","",0,0,"*"]
[null,null,590,null,null,null,null,null,null,null,null,null,null,null,null,null,null,null,null,null,null,null,null,null,null,null,null,null,null,null,null,null,"","",{"$f":"IF($N600=\"\",\"\",IFERROR(IF(N600=6,1,IF(MATCH(N600&\"/\"&R600,読み替え表_クールビズ!$P$38:$P$59,0),1,0)),0))","v":""},{"$f":"IF($P600=\"\",\"\",IFERROR(IF(P600=6,1,IF(MATCH(P600&\"/\"&R600,読み替え表_クールビズ!$P$38:$P$59,0),1,0)),0))","v":""},"","",0,0,"*"]
[null,null,591,null,null,null,null,null,null,null,null,null,null,null,null,null,null,null,null,null,null,null,null,null,null,null,null,null,null,null,null,null,"","",{"$f":"IF($N601=\"\",\"\",IFERROR(IF(N601=6,1,IF(MATCH(N601&\"/\"&R601,読み替え表_クールビズ!$P$38:$P$59,0),1,0)),0))","v":""},{"$f":"IF($P601=\"\",\"\",IFERROR(IF(P601=6,1,IF(MATCH(P601&\"/\"&R601,読み替え表_クールビズ!$P$38:$P$59,0),1,0)),0))","v":""},"","",0,0,"*"]
[null,null,592,null,null,null,null,null,null,null,null,null,null,null,null,null,null,null,null,null,null,null,null,null,null,null,null,null,null,null,null,null,"","",{"$f":"IF($N602=\"\",\"\",IFERROR(IF(N602=6,1,IF(MATCH(N602&\"/\"&R602,読み替え表_クールビズ!$P$38:$P$59,0),1,0)),0))","v":""},{"$f":"IF($P602=\"\",\"\",IFERROR(IF(P602=6,1,IF(MATCH(P602&\"/\"&R602,読み替え表_クールビズ!$P$38:$P$59,0),1,0)),0))","v":""},"","",0,0,"*"]
[null,null,593,null,null,null,null,null,null,null,null,null,null,null,null,null,null,null,null,null,null,null,null,null,null,null,null,null,null,null,null,null,"","",{"$f":"IF($N603=\"\",\"\",IFERROR(IF(N603=6,1,IF(MATCH(N603&\"/\"&R603,読み替え表_クールビズ!$P$38:$P$59,0),1,0)),0))","v":""},{"$f":"IF($P603=\"\",\"\",IFERROR(IF(P603=6,1,IF(MATCH(P603&\"/\"&R603,読み替え表_クールビズ!$P$38:$P$59,0),1,0)),0))","v":""},"","",0,0,"*"]
[null,null,594,null,null,null,null,null,null,null,null,null,null,null,null,null,null,null,null,null,null,null,null,null,null,null,null,null,null,null,null,null,"","",{"$f":"IF($N604=\"\",\"\",IFERROR(IF(N604=6,1,IF(MATCH(N604&\"/\"&R604,読み替え表_クールビズ!$P$38:$P$59,0),1,0)),0))","v":""},{"$f":"IF($P604=\"\",\"\",IFERROR(IF(P604=6,1,IF(MATCH(P604&\"/\"&R604,読み替え表_クールビズ!$P$38:$P$59,0),1,0)),0))","v":""},"","",0,0,"*"]
[null,null,595,null,null,null,null,null,null,null,null,null,null,null,null,null,null,null,null,null,null,null,null,null,null,null,null,null,null,null,null,null,"","",{"$f":"IF($N605=\"\",\"\",IFERROR(IF(N605=6,1,IF(MATCH(N605&\"/\"&R605,読み替え表_クールビズ!$P$38:$P$59,0),1,0)),0))","v":""},{"$f":"IF($P605=\"\",\"\",IFERROR(IF(P605=6,1,IF(MATCH(P605&\"/\"&R605,読み替え表_クールビズ!$P$38:$P$59,0),1,0)),0))","v":""},"","",0,0,"*"]
[null,null,596,null,null,null,null,null,null,null,null,null,null,null,null,null,null,null,null,null,null,null,null,null,null,null,null,null,null,null,null,null,"","",{"$f":"IF($N606=\"\",\"\",IFERROR(IF(N606=6,1,IF(MATCH(N606&\"/\"&R606,読み替え表_クールビズ!$P$38:$P$59,0),1,0)),0))","v":""},{"$f":"IF($P606=\"\",\"\",IFERROR(IF(P606=6,1,IF(MATCH(P606&\"/\"&R606,読み替え表_クールビズ!$P$38:$P$59,0),1,0)),0))","v":""},"","",0,0,"*"]
[null,null,597,null,null,null,null,null,null,null,null,null,null,null,null,null,null,null,null,null,null,null,null,null,null,null,null,null,null,null,null,null,"","",{"$f":"IF($N607=\"\",\"\",IFERROR(IF(N607=6,1,IF(MATCH(N607&\"/\"&R607,読み替え表_クールビズ!$P$38:$P$59,0),1,0)),0))","v":""},{"$f":"IF($P607=\"\",\"\",IFERROR(IF(P607=6,1,IF(MATCH(P607&\"/\"&R607,読み替え表_クールビズ!$P$38:$P$59,0),1,0)),0))","v":""},"","",0,0,"*"]
[null,null,598,null,null,null,null,null,null,null,null,null,null,null,null,null,null,null,null,null,null,null,null,null,null,null,null,null,null,null,null,null,"","",{"$f":"IF($N608=\"\",\"\",IFERROR(IF(N608=6,1,IF(MATCH(N608&\"/\"&R608,読み替え表_クールビズ!$P$38:$P$59,0),1,0)),0))","v":""},{"$f":"IF($P608=\"\",\"\",IFERROR(IF(P608=6,1,IF(MATCH(P608&\"/\"&R608,読み替え表_クールビズ!$P$38:$P$59,0),1,0)),0))","v":""},"","",0,0,"*"]
[null,null,599,null,null,null,null,null,null,null,null,null,null,null,null,null,null,null,null,null,null,null,null,null,null,null,null,null,null,null,null,null,"","",{"$f":"IF($N609=\"\",\"\",IFERROR(IF(N609=6,1,IF(MATCH(N609&\"/\"&R609,読み替え表_クールビズ!$P$38:$P$59,0),1,0)),0))","v":""},{"$f":"IF($P609=\"\",\"\",IFERROR(IF(P609=6,1,IF(MATCH(P609&\"/\"&R609,読み替え表_クールビズ!$P$38:$P$59,0),1,0)),0))","v":""},"","",0,0,"*"]
[null,null,600,null,null,null,null,null,null,null,null,null,null,null,null,null,null,null,null,null,null,null,null,null,null,null,null,null,null,null,null,null,"","",{"$f":"IF($N610=\"\",\"\",IFERROR(IF(N610=6,1,IF(MATCH(N610&\"/\"&R610,読み替え表_クールビズ!$P$38:$P$59,0),1,0)),0))","v":""},{"$f":"IF($P610=\"\",\"\",IFERROR(IF(P610=6,1,IF(MATCH(P610&\"/\"&R610,読み替え表_クールビズ!$P$38:$P$59,0),1,0)),0))","v":""},"","",0,0,"*"]
[null,null,601,null,null,null,null,null,null,null,null,null,null,null,null,null,null,null,null,null,null,null,null,null,null,null,null,null,null,null,null,null,"","",{"$f":"IF($N611=\"\",\"\",IFERROR(IF(N611=6,1,IF(MATCH(N611&\"/\"&R611,読み替え表_クールビズ!$P$38:$P$59,0),1,0)),0))","v":""},{"$f":"IF($P611=\"\",\"\",IFERROR(IF(P611=6,1,IF(MATCH(P611&\"/\"&R611,読み替え表_クールビズ!$P$38:$P$59,0),1,0)),0))","v":""},"","",0,0,"*"]
[null,null,602,null,null,null,null,null,null,null,null,null,null,null,null,null,null,null,null,null,null,null,null,null,null,null,null,null,null,null,null,null,"","",{"$f":"IF($N612=\"\",\"\",IFERROR(IF(N612=6,1,IF(MATCH(N612&\"/\"&R612,読み替え表_クールビズ!$P$38:$P$59,0),1,0)),0))","v":""},{"$f":"IF($P612=\"\",\"\",IFERROR(IF(P612=6,1,IF(MATCH(P612&\"/\"&R612,読み替え表_クールビズ!$P$38:$P$59,0),1,0)),0))","v":""},"","",0,0,"*"]
[null,null,603,null,null,null,null,null,null,null,null,null,null,null,null,null,null,null,null,null,null,null,null,null,null,null,null,null,null,null,null,null,"","",{"$f":"IF($N613=\"\",\"\",IFERROR(IF(N613=6,1,IF(MATCH(N613&\"/\"&R613,読み替え表_クールビズ!$P$38:$P$59,0),1,0)),0))","v":""},{"$f":"IF($P613=\"\",\"\",IFERROR(IF(P613=6,1,IF(MATCH(P613&\"/\"&R613,読み替え表_クールビズ!$P$38:$P$59,0),1,0)),0))","v":""},"","",0,0,"*"]
[null,null,604,null,null,null,null,null,null,null,null,null,null,null,null,null,null,null,null,null,null,null,null,null,null,null,null,null,null,null,null,null,"","",{"$f":"IF($N614=\"\",\"\",IFERROR(IF(N614=6,1,IF(MATCH(N614&\"/\"&R614,読み替え表_クールビズ!$P$38:$P$59,0),1,0)),0))","v":""},{"$f":"IF($P614=\"\",\"\",IFERROR(IF(P614=6,1,IF(MATCH(P614&\"/\"&R614,読み替え表_クールビズ!$P$38:$P$59,0),1,0)),0))","v":""},"","",0,0,"*"]
[null,null,605,null,null,null,null,null,null,null,null,null,null,null,null,null,null,null,null,null,null,null,null,null,null,null,null,null,null,null,null,null,"","",{"$f":"IF($N615=\"\",\"\",IFERROR(IF(N615=6,1,IF(MATCH(N615&\"/\"&R615,読み替え表_クールビズ!$P$38:$P$59,0),1,0)),0))","v":""},{"$f":"IF($P615=\"\",\"\",IFERROR(IF(P615=6,1,IF(MATCH(P615&\"/\"&R615,読み替え表_クールビズ!$P$38:$P$59,0),1,0)),0))","v":""},"","",0,0,"*"]
[null,null,606,null,null,null,null,null,null,null,null,null,null,null,null,null,null,null,null,null,null,null,null,null,null,null,null,null,null,null,null,null,"","",{"$f":"IF($N616=\"\",\"\",IFERROR(IF(N616=6,1,IF(MATCH(N616&\"/\"&R616,読み替え表_クールビズ!$P$38:$P$59,0),1,0)),0))","v":""},{"$f":"IF($P616=\"\",\"\",IFERROR(IF(P616=6,1,IF(MATCH(P616&\"/\"&R616,読み替え表_クールビズ!$P$38:$P$59,0),1,0)),0))","v":""},"","",0,0,"*"]
[null,null,607,null,null,null,null,null,null,null,null,null,null,null,null,null,null,null,null,null,null,null,null,null,null,null,null,null,null,null,null,null,"","",{"$f":"IF($N617=\"\",\"\",IFERROR(IF(N617=6,1,IF(MATCH(N617&\"/\"&R617,読み替え表_クールビズ!$P$38:$P$59,0),1,0)),0))","v":""},{"$f":"IF($P617=\"\",\"\",IFERROR(IF(P617=6,1,IF(MATCH(P617&\"/\"&R617,読み替え表_クールビズ!$P$38:$P$59,0),1,0)),0))","v":""},"","",0,0,"*"]
[null,null,608,null,null,null,null,null,null,null,null,null,null,null,null,null,null,null,null,null,null,null,null,null,null,null,null,null,null,null,null,null,"","",{"$f":"IF($N618=\"\",\"\",IFERROR(IF(N618=6,1,IF(MATCH(N618&\"/\"&R618,読み替え表_クールビズ!$P$38:$P$59,0),1,0)),0))","v":""},{"$f":"IF($P618=\"\",\"\",IFERROR(IF(P618=6,1,IF(MATCH(P618&\"/\"&R618,読み替え表_クールビズ!$P$38:$P$59,0),1,0)),0))","v":""},"","",0,0,"*"]
[null,null,609,null,null,null,null,null,null,null,null,null,null,null,null,null,null,null,null,null,null,null,null,null,null,null,null,null,null,null,null,null,"","",{"$f":"IF($N619=\"\",\"\",IFERROR(IF(N619=6,1,IF(MATCH(N619&\"/\"&R619,読み替え表_クールビズ!$P$38:$P$59,0),1,0)),0))","v":""},{"$f":"IF($P619=\"\",\"\",IFERROR(IF(P619=6,1,IF(MATCH(P619&\"/\"&R619,読み替え表_クールビズ!$P$38:$P$59,0),1,0)),0))","v":""},"","",0,0,"*"]
[null,null,610,null,null,null,null,null,null,null,null,null,null,null,null,null,null,null,null,null,null,null,null,null,null,null,null,null,null,null,null,null,"","",{"$f":"IF($N620=\"\",\"\",IFERROR(IF(N620=6,1,IF(MATCH(N620&\"/\"&R620,読み替え表_クールビズ!$P$38:$P$59,0),1,0)),0))","v":""},{"$f":"IF($P620=\"\",\"\",IFERROR(IF(P620=6,1,IF(MATCH(P620&\"/\"&R620,読み替え表_クールビズ!$P$38:$P$59,0),1,0)),0))","v":""},"","",0,0,"*"]
[null,null,611,null,null,null,null,null,null,null,null,null,null,null,null,null,null,null,null,null,null,null,null,null,null,null,null,null,null,null,null,null,"","",{"$f":"IF($N621=\"\",\"\",IFERROR(IF(N621=6,1,IF(MATCH(N621&\"/\"&R621,読み替え表_クールビズ!$P$38:$P$59,0),1,0)),0))","v":""},{"$f":"IF($P621=\"\",\"\",IFERROR(IF(P621=6,1,IF(MATCH(P621&\"/\"&R621,読み替え表_クールビズ!$P$38:$P$59,0),1,0)),0))","v":""},"","",0,0,"*"]
[null,null,612,null,null,null,null,null,null,null,null,null,null,null,null,null,null,null,null,null,null,null,null,null,null,null,null,null,null,null,null,null,"","",{"$f":"IF($N622=\"\",\"\",IFERROR(IF(N622=6,1,IF(MATCH(N622&\"/\"&R622,読み替え表_クールビズ!$P$38:$P$59,0),1,0)),0))","v":""},{"$f":"IF($P622=\"\",\"\",IFERROR(IF(P622=6,1,IF(MATCH(P622&\"/\"&R622,読み替え表_クールビズ!$P$38:$P$59,0),1,0)),0))","v":""},"","",0,0,"*"]
[null,null,613,null,null,null,null,null,null,null,null,null,null,null,null,null,null,null,null,null,null,null,null,null,null,null,null,null,null,null,null,null,"","",{"$f":"IF($N623=\"\",\"\",IFERROR(IF(N623=6,1,IF(MATCH(N623&\"/\"&R623,読み替え表_クールビズ!$P$38:$P$59,0),1,0)),0))","v":""},{"$f":"IF($P623=\"\",\"\",IFERROR(IF(P623=6,1,IF(MATCH(P623&\"/\"&R623,読み替え表_クールビズ!$P$38:$P$59,0),1,0)),0))","v":""},"","",0,0,"*"]
[null,null,614,null,null,null,null,null,null,null,null,null,null,null,null,null,null,null,null,null,null,null,null,null,null,null,null,null,null,null,null,null,"","",{"$f":"IF($N624=\"\",\"\",IFERROR(IF(N624=6,1,IF(MATCH(N624&\"/\"&R624,読み替え表_クールビズ!$P$38:$P$59,0),1,0)),0))","v":""},{"$f":"IF($P624=\"\",\"\",IFERROR(IF(P624=6,1,IF(MATCH(P624&\"/\"&R624,読み替え表_クールビズ!$P$38:$P$59,0),1,0)),0))","v":""},"","",0,0,"*"]
[null,null,615,null,null,null,null,null,null,null,null,null,null,null,null,null,null,null,null,null,null,null,null,null,null,null,null,null,null,null,null,null,"","",{"$f":"IF($N625=\"\",\"\",IFERROR(IF(N625=6,1,IF(MATCH(N625&\"/\"&R625,読み替え表_クールビズ!$P$38:$P$59,0),1,0)),0))","v":""},{"$f":"IF($P625=\"\",\"\",IFERROR(IF(P625=6,1,IF(MATCH(P625&\"/\"&R625,読み替え表_クールビズ!$P$38:$P$59,0),1,0)),0))","v":""},"","",0,0,"*"]
[null,null,616,null,null,null,null,null,null,null,null,null,null,null,null,null,null,null,null,null,null,null,null,null,null,null,null,null,null,null,null,null,"","",{"$f":"IF($N626=\"\",\"\",IFERROR(IF(N626=6,1,IF(MATCH(N626&\"/\"&R626,読み替え表_クールビズ!$P$38:$P$59,0),1,0)),0))","v":""},{"$f":"IF($P626=\"\",\"\",IFERROR(IF(P626=6,1,IF(MATCH(P626&\"/\"&R626,読み替え表_クールビズ!$P$38:$P$59,0),1,0)),0))","v":""},"","",0,0,"*"]
[null,null,617,null,null,null,null,null,null,null,null,null,null,null,null,null,null,null,null,null,null,null,null,null,null,null,null,null,null,null,null,null,"","",{"$f":"IF($N627=\"\",\"\",IFERROR(IF(N627=6,1,IF(MATCH(N627&\"/\"&R627,読み替え表_クールビズ!$P$38:$P$59,0),1,0)),0))","v":""},{"$f":"IF($P627=\"\",\"\",IFERROR(IF(P627=6,1,IF(MATCH(P627&\"/\"&R627,読み替え表_クールビズ!$P$38:$P$59,0),1,0)),0))","v":""},"","",0,0,"*"]
[null,null,618,null,null,null,null,null,null,null,null,null,null,null,null,null,null,null,null,null,null,null,null,null,null,null,null,null,null,null,null,null,"","",{"$f":"IF($N628=\"\",\"\",IFERROR(IF(N628=6,1,IF(MATCH(N628&\"/\"&R628,読み替え表_クールビズ!$P$38:$P$59,0),1,0)),0))","v":""},{"$f":"IF($P628=\"\",\"\",IFERROR(IF(P628=6,1,IF(MATCH(P628&\"/\"&R628,読み替え表_クールビズ!$P$38:$P$59,0),1,0)),0))","v":""},"","",0,0,"*"]
[null,null,619,null,null,null,null,null,null,null,null,null,null,null,null,null,null,null,null,null,null,null,null,null,null,null,null,null,null,null,null,null,"","",{"$f":"IF($N629=\"\",\"\",IFERROR(IF(N629=6,1,IF(MATCH(N629&\"/\"&R629,読み替え表_クールビズ!$P$38:$P$59,0),1,0)),0))","v":""},{"$f":"IF($P629=\"\",\"\",IFERROR(IF(P629=6,1,IF(MATCH(P629&\"/\"&R629,読み替え表_クールビズ!$P$38:$P$59,0),1,0)),0))","v":""},"","",0,0,"*"]
[null,null,620,null,null,null,null,null,null,null,null,null,null,null,null,null,null,null,null,null,null,null,null,null,null,null,null,null,null,null,null,null,"","",{"$f":"IF($N630=\"\",\"\",IFERROR(IF(N630=6,1,IF(MATCH(N630&\"/\"&R630,読み替え表_クールビズ!$P$38:$P$59,0),1,0)),0))","v":""},{"$f":"IF($P630=\"\",\"\",IFERROR(IF(P630=6,1,IF(MATCH(P630&\"/\"&R630,読み替え表_クールビズ!$P$38:$P$59,0),1,0)),0))","v":""},"","",0,0,"*"]
[null,null,621,null,null,null,null,null,null,null,null,null,null,null,null,null,null,null,null,null,null,null,null,null,null,null,null,null,null,null,null,null,"","",{"$f":"IF($N631=\"\",\"\",IFERROR(IF(N631=6,1,IF(MATCH(N631&\"/\"&R631,読み替え表_クールビズ!$P$38:$P$59,0),1,0)),0))","v":""},{"$f":"IF($P631=\"\",\"\",IFERROR(IF(P631=6,1,IF(MATCH(P631&\"/\"&R631,読み替え表_クールビズ!$P$38:$P$59,0),1,0)),0))","v":""},"","",0,0,"*"]
[null,null,622,null,null,null,null,null,null,null,null,null,null,null,null,null,null,null,null,null,null,null,null,null,null,null,null,null,null,null,null,null,"","",{"$f":"IF($N632=\"\",\"\",IFERROR(IF(N632=6,1,IF(MATCH(N632&\"/\"&R632,読み替え表_クールビズ!$P$38:$P$59,0),1,0)),0))","v":""},{"$f":"IF($P632=\"\",\"\",IFERROR(IF(P632=6,1,IF(MATCH(P632&\"/\"&R632,読み替え表_クールビズ!$P$38:$P$59,0),1,0)),0))","v":""},"","",0,0,"*"]
[null,null,623,null,null,null,null,null,null,null,null,null,null,null,null,null,null,null,null,null,null,null,null,null,null,null,null,null,null,null,null,null,"","",{"$f":"IF($N633=\"\",\"\",IFERROR(IF(N633=6,1,IF(MATCH(N633&\"/\"&R633,読み替え表_クールビズ!$P$38:$P$59,0),1,0)),0))","v":""},{"$f":"IF($P633=\"\",\"\",IFERROR(IF(P633=6,1,IF(MATCH(P633&\"/\"&R633,読み替え表_クールビズ!$P$38:$P$59,0),1,0)),0))","v":""},"","",0,0,"*"]
[null,null,624,null,null,null,null,null,null,null,null,null,null,null,null,null,null,null,null,null,null,null,null,null,null,null,null,null,null,null,null,null,"","",{"$f":"IF($N634=\"\",\"\",IFERROR(IF(N634=6,1,IF(MATCH(N634&\"/\"&R634,読み替え表_クールビズ!$P$38:$P$59,0),1,0)),0))","v":""},{"$f":"IF($P634=\"\",\"\",IFERROR(IF(P634=6,1,IF(MATCH(P634&\"/\"&R634,読み替え表_クールビズ!$P$38:$P$59,0),1,0)),0))","v":""},"","",0,0,"*"]
[null,null,625,null,null,null,null,null,null,null,null,null,null,null,null,null,null,null,null,null,null,null,null,null,null,null,null,null,null,null,null,null,"","",{"$f":"IF($N635=\"\",\"\",IFERROR(IF(N635=6,1,IF(MATCH(N635&\"/\"&R635,読み替え表_クールビズ!$P$38:$P$59,0),1,0)),0))","v":""},{"$f":"IF($P635=\"\",\"\",IFERROR(IF(P635=6,1,IF(MATCH(P635&\"/\"&R635,読み替え表_クールビズ!$P$38:$P$59,0),1,0)),0))","v":""},"","",0,0,"*"]
[null,null,626,null,null,null,null,null,null,null,null,null,null,null,null,null,null,null,null,null,null,null,null,null,null,null,null,null,null,null,null,null,"","",{"$f":"IF($N636=\"\",\"\",IFERROR(IF(N636=6,1,IF(MATCH(N636&\"/\"&R636,読み替え表_クールビズ!$P$38:$P$59,0),1,0)),0))","v":""},{"$f":"IF($P636=\"\",\"\",IFERROR(IF(P636=6,1,IF(MATCH(P636&\"/\"&R636,読み替え表_クールビズ!$P$38:$P$59,0),1,0)),0))","v":""},"","",0,0,"*"]
[null,null,627,null,null,null,null,null,null,null,null,null,null,null,null,null,null,null,null,null,null,null,null,null,null,null,null,null,null,null,null,null,"","",{"$f":"IF($N637=\"\",\"\",IFERROR(IF(N637=6,1,IF(MATCH(N637&\"/\"&R637,読み替え表_クールビズ!$P$38:$P$59,0),1,0)),0))","v":""},{"$f":"IF($P637=\"\",\"\",IFERROR(IF(P637=6,1,IF(MATCH(P637&\"/\"&R637,読み替え表_クールビズ!$P$38:$P$59,0),1,0)),0))","v":""},"","",0,0,"*"]
[null,null,628,null,null,null,null,null,null,null,null,null,null,null,null,null,null,null,null,null,null,null,null,null,null,null,null,null,null,null,null,null,"","",{"$f":"IF($N638=\"\",\"\",IFERROR(IF(N638=6,1,IF(MATCH(N638&\"/\"&R638,読み替え表_クールビズ!$P$38:$P$59,0),1,0)),0))","v":""},{"$f":"IF($P638=\"\",\"\",IFERROR(IF(P638=6,1,IF(MATCH(P638&\"/\"&R638,読み替え表_クールビズ!$P$38:$P$59,0),1,0)),0))","v":""},"","",0,0,"*"]
[null,null,629,null,null,null,null,null,null,null,null,null,null,null,null,null,null,null,null,null,null,null,null,null,null,null,null,null,null,null,null,null,"","",{"$f":"IF($N639=\"\",\"\",IFERROR(IF(N639=6,1,IF(MATCH(N639&\"/\"&R639,読み替え表_クールビズ!$P$38:$P$59,0),1,0)),0))","v":""},{"$f":"IF($P639=\"\",\"\",IFERROR(IF(P639=6,1,IF(MATCH(P639&\"/\"&R639,読み替え表_クールビズ!$P$38:$P$59,0),1,0)),0))","v":""},"","",0,0,"*"]
[null,null,630,null,null,null,null,null,null,null,null,null,null,null,null,null,null,null,null,null,null,null,null,null,null,null,null,null,null,null,null,null,"","",{"$f":"IF($N640=\"\",\"\",IFERROR(IF(N640=6,1,IF(MATCH(N640&\"/\"&R640,読み替え表_クールビズ!$P$38:$P$59,0),1,0)),0))","v":""},{"$f":"IF($P640=\"\",\"\",IFERROR(IF(P640=6,1,IF(MATCH(P640&\"/\"&R640,読み替え表_クールビズ!$P$38:$P$59,0),1,0)),0))","v":""},"","",0,0,"*"]
[null,null,631,null,null,null,null,null,null,null,null,null,null,null,null,null,null,null,null,null,null,null,null,null,null,null,null,null,null,null,null,null,"","",{"$f":"IF($N641=\"\",\"\",IFERROR(IF(N641=6,1,IF(MATCH(N641&\"/\"&R641,読み替え表_クールビズ!$P$38:$P$59,0),1,0)),0))","v":""},{"$f":"IF($P641=\"\",\"\",IFERROR(IF(P641=6,1,IF(MATCH(P641&\"/\"&R641,読み替え表_クールビズ!$P$38:$P$59,0),1,0)),0))","v":""},"","",0,0,"*"]
[null,null,632,null,null,null,null,null,null,null,null,null,null,null,null,null,null,null,null,null,null,null,null,null,null,null,null,null,null,null,null,null,"","",{"$f":"IF($N642=\"\",\"\",IFERROR(IF(N642=6,1,IF(MATCH(N642&\"/\"&R642,読み替え表_クールビズ!$P$38:$P$59,0),1,0)),0))","v":""},{"$f":"IF($P642=\"\",\"\",IFERROR(IF(P642=6,1,IF(MATCH(P642&\"/\"&R642,読み替え表_クールビズ!$P$38:$P$59,0),1,0)),0))","v":""},"","",0,0,"*"]
[null,null,633,null,null,null,null,null,null,null,null,null,null,null,null,null,null,null,null,null,null,null,null,null,null,null,null,null,null,null,null,null,"","",{"$f":"IF($N643=\"\",\"\",IFERROR(IF(N643=6,1,IF(MATCH(N643&\"/\"&R643,読み替え表_クールビズ!$P$38:$P$59,0),1,0)),0))","v":""},{"$f":"IF($P643=\"\",\"\",IFERROR(IF(P643=6,1,IF(MATCH(P643&\"/\"&R643,読み替え表_クールビズ!$P$38:$P$59,0),1,0)),0))","v":""},"","",0,0,"*"]
[null,null,634,null,null,null,null,null,null,null,null,null,null,null,null,null,null,null,null,null,null,null,null,null,null,null,null,null,null,null,null,null,"","",{"$f":"IF($N644=\"\",\"\",IFERROR(IF(N644=6,1,IF(MATCH(N644&\"/\"&R644,読み替え表_クールビズ!$P$38:$P$59,0),1,0)),0))","v":""},{"$f":"IF($P644=\"\",\"\",IFERROR(IF(P644=6,1,IF(MATCH(P644&\"/\"&R644,読み替え表_クールビズ!$P$38:$P$59,0),1,0)),0))","v":""},"","",0,0,"*"]
[null,null,635,null,null,null,null,null,null,null,null,null,null,null,null,null,null,null,null,null,null,null,null,null,null,null,null,null,null,null,null,null,"","",{"$f":"IF($N645=\"\",\"\",IFERROR(IF(N645=6,1,IF(MATCH(N645&\"/\"&R645,読み替え表_クールビズ!$P$38:$P$59,0),1,0)),0))","v":""},{"$f":"IF($P645=\"\",\"\",IFERROR(IF(P645=6,1,IF(MATCH(P645&\"/\"&R645,読み替え表_クールビズ!$P$38:$P$59,0),1,0)),0))","v":""},"","",0,0,"*"]
[null,null,636,null,null,null,null,null,null,null,null,null,null,null,null,null,null,null,null,null,null,null,null,null,null,null,null,null,null,null,null,null,"","",{"$f":"IF($N646=\"\",\"\",IFERROR(IF(N646=6,1,IF(MATCH(N646&\"/\"&R646,読み替え表_クールビズ!$P$38:$P$59,0),1,0)),0))","v":""},{"$f":"IF($P646=\"\",\"\",IFERROR(IF(P646=6,1,IF(MATCH(P646&\"/\"&R646,読み替え表_クールビズ!$P$38:$P$59,0),1,0)),0))","v":""},"","",0,0,"*"]
[null,null,637,null,null,null,null,null,null,null,null,null,null,null,null,null,null,null,null,null,null,null,null,null,null,null,null,null,null,null,null,null,"","",{"$f":"IF($N647=\"\",\"\",IFERROR(IF(N647=6,1,IF(MATCH(N647&\"/\"&R647,読み替え表_クールビズ!$P$38:$P$59,0),1,0)),0))","v":""},{"$f":"IF($P647=\"\",\"\",IFERROR(IF(P647=6,1,IF(MATCH(P647&\"/\"&R647,読み替え表_クールビズ!$P$38:$P$59,0),1,0)),0))","v":""},"","",0,0,"*"]
[null,null,638,null,null,null,null,null,null,null,null,null,null,null,null,null,null,null,null,null,null,null,null,null,null,null,null,null,null,null,null,null,"","",{"$f":"IF($N648=\"\",\"\",IFERROR(IF(N648=6,1,IF(MATCH(N648&\"/\"&R648,読み替え表_クールビズ!$P$38:$P$59,0),1,0)),0))","v":""},{"$f":"IF($P648=\"\",\"\",IFERROR(IF(P648=6,1,IF(MATCH(P648&\"/\"&R648,読み替え表_クールビズ!$P$38:$P$59,0),1,0)),0))","v":""},"","",0,0,"*"]
[null,null,639,null,null,null,null,null,null,null,null,null,null,null,null,null,null,null,null,null,null,null,null,null,null,null,null,null,null,null,null,null,"","",{"$f":"IF($N649=\"\",\"\",IFERROR(IF(N649=6,1,IF(MATCH(N649&\"/\"&R649,読み替え表_クールビズ!$P$38:$P$59,0),1,0)),0))","v":""},{"$f":"IF($P649=\"\",\"\",IFERROR(IF(P649=6,1,IF(MATCH(P649&\"/\"&R649,読み替え表_クールビズ!$P$38:$P$59,0),1,0)),0))","v":""},"","",0,0,"*"]
[null,null,640,null,null,null,null,null,null,null,null,null,null,null,null,null,null,null,null,null,null,null,null,null,null,null,null,null,null,null,null,null,"","",{"$f":"IF($N650=\"\",\"\",IFERROR(IF(N650=6,1,IF(MATCH(N650&\"/\"&R650,読み替え表_クールビズ!$P$38:$P$59,0),1,0)),0))","v":""},{"$f":"IF($P650=\"\",\"\",IFERROR(IF(P650=6,1,IF(MATCH(P650&\"/\"&R650,読み替え表_クールビズ!$P$38:$P$59,0),1,0)),0))","v":""},"","",0,0,"*"]
[null,null,641,null,null,null,null,null,null,null,null,null,null,null,null,null,null,null,null,null,null,null,null,null,null,null,null,null,null,null,null,null,"","",{"$f":"IF($N651=\"\",\"\",IFERROR(IF(N651=6,1,IF(MATCH(N651&\"/\"&R651,読み替え表_クールビズ!$P$38:$P$59,0),1,0)),0))","v":""},{"$f":"IF($P651=\"\",\"\",IFERROR(IF(P651=6,1,IF(MATCH(P651&\"/\"&R651,読み替え表_クールビズ!$P$38:$P$59,0),1,0)),0))","v":""},{"$f":"IF($N651=\"\",\"\",IF(OR(CONCATENATE(N651,$R651)=\"22\",CONCATENATE(N651,$R651)=\"32\",CONCATENATE(N651,$R651)=\"42\",CONCATENATE(N651,$R651)=\"43\",CONCATENATE(N651,$R651)=\"51\",CONCATENATE(N651,$R651)=\"52\",CONCATENATE(N651,$R651)=\"53\"),1,0))","v":""},{"$f":"IF($P651=\"\",\"\",IF(OR(CONCATENATE(P651,$R651)=\"22\",CONCATENATE(P651,$R651)=\"32\",CONCATENATE(P651,$R651)=\"42\",CONCATENATE(P651,$R651)=\"43\",CONCATENATE(P651,$R651)=\"51\",CONCATENATE(P651,$R651)=\"52\",CONCATENATE(P651,$R651)=\"53\"),1,0))","v":""},0,0,"*"]
[null,null,{"$f":"ROW()-10","v":642},null,null,null,null,null,null,null,null,null,null,null,null,null,null,null,null,null,null,null,null,null,null,null,null,null,null,null,null,null,{"$f":"IF($J652=\"\",\"\",IF(AND($J652>=1,$J652<=9),1,0))","v":""},{"$f":"IF($R652=\"\",\"\",IF(OR($R652=1,$R652=2,$R652=3),1,0))","v":""},{"$f":"IF($N652=\"\",\"\",IFERROR(IF(N652=6,1,IF(MATCH(N652&\"/\"&R652,読み替え表_クールビズ!$P$38:$P$59,0),1,0)),0))","v":""},{"$f":"IF($P652=\"\",\"\",IFERROR(IF(P652=6,1,IF(MATCH(P652&\"/\"&R652,読み替え表_クールビズ!$P$38:$P$59,0),1,0)),0))","v":""},"","",{"$f":"IF(OR(AK652=1,AL652=1),1,0)","v":0},{"$f":"IF(OR($AG652=0,SUM(AI652:AJ652)=2),1,0)","v":0},"*"]
[null,null,643,null,null,null,null,null,null,null,null,null,null,null,null,null,null,null,null,null,null,null,null,null,null,null,null,null,null,null,null,null,"","",{"$f":"IF($N653=\"\",\"\",IFERROR(IF(N653=6,1,IF(MATCH(N653&\"/\"&R653,読み替え表_クールビズ!$P$38:$P$59,0),1,0)),0))","v":""},{"$f":"IF($P653=\"\",\"\",IFERROR(IF(P653=6,1,IF(MATCH(P653&\"/\"&R653,読み替え表_クールビズ!$P$38:$P$59,0),1,0)),0))","v":""},"","",0,0,"*"]
[null,null,644,null,null,null,null,null,null,null,null,null,null,null,null,null,null,null,null,null,null,null,null,null,null,null,null,null,null,null,null,null,"","",{"$f":"IF($N654=\"\",\"\",IFERROR(IF(N654=6,1,IF(MATCH(N654&\"/\"&R654,読み替え表_クールビズ!$P$38:$P$59,0),1,0)),0))","v":""},{"$f":"IF($P654=\"\",\"\",IFERROR(IF(P654=6,1,IF(MATCH(P654&\"/\"&R654,読み替え表_クールビズ!$P$38:$P$59,0),1,0)),0))","v":""},"","",0,0,"*"]
[null,null,645,null,null,null,null,null,null,null,null,null,null,null,null,null,null,null,null,null,null,null,null,null,null,null,null,null,null,null,null,null,"","",{"$f":"IF($N655=\"\",\"\",IFERROR(IF(N655=6,1,IF(MATCH(N655&\"/\"&R655,読み替え表_クールビズ!$P$38:$P$59,0),1,0)),0))","v":""},{"$f":"IF($P655=\"\",\"\",IFERROR(IF(P655=6,1,IF(MATCH(P655&\"/\"&R655,読み替え表_クールビズ!$P$38:$P$59,0),1,0)),0))","v":""},"","",0,0,"*"]
[null,null,646,null,null,null,null,null,null,null,null,null,null,null,null,null,null,null,null,null,null,null,null,null,null,null,null,null,null,null,null,null,"","",{"$f":"IF($N656=\"\",\"\",IFERROR(IF(N656=6,1,IF(MATCH(N656&\"/\"&R656,読み替え表_クールビズ!$P$38:$P$59,0),1,0)),0))","v":""},{"$f":"IF($P656=\"\",\"\",IFERROR(IF(P656=6,1,IF(MATCH(P656&\"/\"&R656,読み替え表_クールビズ!$P$38:$P$59,0),1,0)),0))","v":""},"","",0,0,"*"]
[null,null,647,null,null,null,null,null,null,null,null,null,null,null,null,null,null,null,null,null,null,null,null,null,null,null,null,null,null,null,null,null,"","",{"$f":"IF($N657=\"\",\"\",IFERROR(IF(N657=6,1,IF(MATCH(N657&\"/\"&R657,読み替え表_クールビズ!$P$38:$P$59,0),1,0)),0))","v":""},{"$f":"IF($P657=\"\",\"\",IFERROR(IF(P657=6,1,IF(MATCH(P657&\"/\"&R657,読み替え表_クールビズ!$P$38:$P$59,0),1,0)),0))","v":""},"","",0,0,"*"]
[null,null,648,null,null,null,null,null,null,null,null,null,null,null,null,null,null,null,null,null,null,null,null,null,null,null,null,null,null,null,null,null,"","",{"$f":"IF($N658=\"\",\"\",IFERROR(IF(N658=6,1,IF(MATCH(N658&\"/\"&R658,読み替え表_クールビズ!$P$38:$P$59,0),1,0)),0))","v":""},{"$f":"IF($P658=\"\",\"\",IFERROR(IF(P658=6,1,IF(MATCH(P658&\"/\"&R658,読み替え表_クールビズ!$P$38:$P$59,0),1,0)),0))","v":""},"","",0,0,"*"]
[null,null,649,null,null,null,null,null,null,null,null,null,null,null,null,null,null,null,null,null,null,null,null,null,null,null,null,null,null,null,null,null,"","",{"$f":"IF($N659=\"\",\"\",IFERROR(IF(N659=6,1,IF(MATCH(N659&\"/\"&R659,読み替え表_クールビズ!$P$38:$P$59,0),1,0)),0))","v":""},{"$f":"IF($P659=\"\",\"\",IFERROR(IF(P659=6,1,IF(MATCH(P659&\"/\"&R659,読み替え表_クールビズ!$P$38:$P$59,0),1,0)),0))","v":""},"","",0,0,"*"]
[null,null,650,null,null,null,null,null,null,null,null,null,null,null,null,null,null,null,null,null,null,null,null,null,null,null,null,null,null,null,null,null,"","",{"$f":"IF($N660=\"\",\"\",IFERROR(IF(N660=6,1,IF(MATCH(N660&\"/\"&R660,読み替え表_クールビズ!$P$38:$P$59,0),1,0)),0))","v":""},{"$f":"IF($P660=\"\",\"\",IFERROR(IF(P660=6,1,IF(MATCH(P660&\"/\"&R660,読み替え表_クールビズ!$P$38:$P$59,0),1,0)),0))","v":""},"","",0,0,"*"]
[null,null,651,null,null,null,null,null,null,null,null,null,null,null,null,null,null,null,null,null,null,null,null,null,null,null,null,null,null,null,null,null,"","",{"$f":"IF($N661=\"\",\"\",IFERROR(IF(N661=6,1,IF(MATCH(N661&\"/\"&R661,読み替え表_クールビズ!$P$38:$P$59,0),1,0)),0))","v":""},{"$f":"IF($P661=\"\",\"\",IFERROR(IF(P661=6,1,IF(MATCH(P661&\"/\"&R661,読み替え表_クールビズ!$P$38:$P$59,0),1,0)),0))","v":""},"","",0,0,"*"]
[null,null,652,null,null,null,null,null,null,null,null,null,null,null,null,null,null,null,null,null,null,null,null,null,null,null,null,null,null,null,null,null,"","",{"$f":"IF($N662=\"\",\"\",IFERROR(IF(N662=6,1,IF(MATCH(N662&\"/\"&R662,読み替え表_クールビズ!$P$38:$P$59,0),1,0)),0))","v":""},{"$f":"IF($P662=\"\",\"\",IFERROR(IF(P662=6,1,IF(MATCH(P662&\"/\"&R662,読み替え表_クールビズ!$P$38:$P$59,0),1,0)),0))","v":""},"","",0,0,"*"]
[null,null,653,null,null,null,null,null,null,null,null,null,null,null,null,null,null,null,null,null,null,null,null,null,null,null,null,null,null,null,null,null,"","",{"$f":"IF($N663=\"\",\"\",IFERROR(IF(N663=6,1,IF(MATCH(N663&\"/\"&R663,読み替え表_クールビズ!$P$38:$P$59,0),1,0)),0))","v":""},{"$f":"IF($P663=\"\",\"\",IFERROR(IF(P663=6,1,IF(MATCH(P663&\"/\"&R663,読み替え表_クールビズ!$P$38:$P$59,0),1,0)),0))","v":""},"","",0,0,"*"]
[null,null,654,null,null,null,null,null,null,null,null,null,null,null,null,null,null,null,null,null,null,null,null,null,null,null,null,null,null,null,null,null,"","",{"$f":"IF($N664=\"\",\"\",IFERROR(IF(N664=6,1,IF(MATCH(N664&\"/\"&R664,読み替え表_クールビズ!$P$38:$P$59,0),1,0)),0))","v":""},{"$f":"IF($P664=\"\",\"\",IFERROR(IF(P664=6,1,IF(MATCH(P664&\"/\"&R664,読み替え表_クールビズ!$P$38:$P$59,0),1,0)),0))","v":""},"","",0,0,"*"]
[null,null,655,null,null,null,null,null,null,null,null,null,null,null,null,null,null,null,null,null,null,null,null,null,null,null,null,null,null,null,null,null,"","",{"$f":"IF($N665=\"\",\"\",IFERROR(IF(N665=6,1,IF(MATCH(N665&\"/\"&R665,読み替え表_クールビズ!$P$38:$P$59,0),1,0)),0))","v":""},{"$f":"IF($P665=\"\",\"\",IFERROR(IF(P665=6,1,IF(MATCH(P665&\"/\"&R665,読み替え表_クールビズ!$P$38:$P$59,0),1,0)),0))","v":""},"","",0,0,"*"]
[null,null,656,null,null,null,null,null,null,null,null,null,null,null,null,null,null,null,null,null,null,null,null,null,null,null,null,null,null,null,null,null,"","",{"$f":"IF($N666=\"\",\"\",IFERROR(IF(N666=6,1,IF(MATCH(N666&\"/\"&R666,読み替え表_クールビズ!$P$38:$P$59,0),1,0)),0))","v":""},{"$f":"IF($P666=\"\",\"\",IFERROR(IF(P666=6,1,IF(MATCH(P666&\"/\"&R666,読み替え表_クールビズ!$P$38:$P$59,0),1,0)),0))","v":""},"","",0,0,"*"]
[null,null,657,null,null,null,null,null,null,null,null,null,null,null,null,null,null,null,null,null,null,null,null,null,null,null,null,null,null,null,null,null,"","",{"$f":"IF($N667=\"\",\"\",IFERROR(IF(N667=6,1,IF(MATCH(N667&\"/\"&R667,読み替え表_クールビズ!$P$38:$P$59,0),1,0)),0))","v":""},{"$f":"IF($P667=\"\",\"\",IFERROR(IF(P667=6,1,IF(MATCH(P667&\"/\"&R667,読み替え表_クールビズ!$P$38:$P$59,0),1,0)),0))","v":""},"","",0,0,"*"]
[null,null,658,null,null,null,null,null,null,null,null,null,null,null,null,null,null,null,null,null,null,null,null,null,null,null,null,null,null,null,null,null,"","",{"$f":"IF($N668=\"\",\"\",IFERROR(IF(N668=6,1,IF(MATCH(N668&\"/\"&R668,読み替え表_クールビズ!$P$38:$P$59,0),1,0)),0))","v":""},{"$f":"IF($P668=\"\",\"\",IFERROR(IF(P668=6,1,IF(MATCH(P668&\"/\"&R668,読み替え表_クールビズ!$P$38:$P$59,0),1,0)),0))","v":""},"","",0,0,"*"]
[null,null,659,null,null,null,null,null,null,null,null,null,null,null,null,null,null,null,null,null,null,null,null,null,null,null,null,null,null,null,null,null,"","",{"$f":"IF($N669=\"\",\"\",IFERROR(IF(N669=6,1,IF(MATCH(N669&\"/\"&R669,読み替え表_クールビズ!$P$38:$P$59,0),1,0)),0))","v":""},{"$f":"IF($P669=\"\",\"\",IFERROR(IF(P669=6,1,IF(MATCH(P669&\"/\"&R669,読み替え表_クールビズ!$P$38:$P$59,0),1,0)),0))","v":""},"","",0,0,"*"]
[null,null,660,null,null,null,null,null,null,null,null,null,null,null,null,null,null,null,null,null,null,null,null,null,null,null,null,null,null,null,null,null,"","",{"$f":"IF($N670=\"\",\"\",IFERROR(IF(N670=6,1,IF(MATCH(N670&\"/\"&R670,読み替え表_クールビズ!$P$38:$P$59,0),1,0)),0))","v":""},{"$f":"IF($P670=\"\",\"\",IFERROR(IF(P670=6,1,IF(MATCH(P670&\"/\"&R670,読み替え表_クールビズ!$P$38:$P$59,0),1,0)),0))","v":""},"","",0,0,"*"]
[null,null,661,null,null,null,null,null,null,null,null,null,null,null,null,null,null,null,null,null,null,null,null,null,null,null,null,null,null,null,null,null,"","",{"$f":"IF($N671=\"\",\"\",IFERROR(IF(N671=6,1,IF(MATCH(N671&\"/\"&R671,読み替え表_クールビズ!$P$38:$P$59,0),1,0)),0))","v":""},{"$f":"IF($P671=\"\",\"\",IFERROR(IF(P671=6,1,IF(MATCH(P671&\"/\"&R671,読み替え表_クールビズ!$P$38:$P$59,0),1,0)),0))","v":""},"","",0,0,"*"]
[null,null,662,null,null,null,null,null,null,null,null,null,null,null,null,null,null,null,null,null,null,null,null,null,null,null,null,null,null,null,null,null,"","",{"$f":"IF($N672=\"\",\"\",IFERROR(IF(N672=6,1,IF(MATCH(N672&\"/\"&R672,読み替え表_クールビズ!$P$38:$P$59,0),1,0)),0))","v":""},{"$f":"IF($P672=\"\",\"\",IFERROR(IF(P672=6,1,IF(MATCH(P672&\"/\"&R672,読み替え表_クールビズ!$P$38:$P$59,0),1,0)),0))","v":""},"","",0,0,"*"]
[null,null,663,null,null,null,null,null,null,null,null,null,null,null,null,null,null,null,null,null,null,null,null,null,null,null,null,null,null,null,null,null,"","",{"$f":"IF($N673=\"\",\"\",IFERROR(IF(N673=6,1,IF(MATCH(N673&\"/\"&R673,読み替え表_クールビズ!$P$38:$P$59,0),1,0)),0))","v":""},{"$f":"IF($P673=\"\",\"\",IFERROR(IF(P673=6,1,IF(MATCH(P673&\"/\"&R673,読み替え表_クールビズ!$P$38:$P$59,0),1,0)),0))","v":""},"","",0,0,"*"]
[null,null,664,null,null,null,null,null,null,null,null,null,null,null,null,null,null,null,null,null,null,null,null,null,null,null,null,null,null,null,null,null,"","",{"$f":"IF($N674=\"\",\"\",IFERROR(IF(N674=6,1,IF(MATCH(N674&\"/\"&R674,読み替え表_クールビズ!$P$38:$P$59,0),1,0)),0))","v":""},{"$f":"IF($P674=\"\",\"\",IFERROR(IF(P674=6,1,IF(MATCH(P674&\"/\"&R674,読み替え表_クールビズ!$P$38:$P$59,0),1,0)),0))","v":""},"","",0,0,"*"]
[null,null,665,null,null,null,null,null,null,null,null,null,null,null,null,null,null,null,null,null,null,null,null,null,null,null,null,null,null,null,null,null,"","",{"$f":"IF($N675=\"\",\"\",IFERROR(IF(N675=6,1,IF(MATCH(N675&\"/\"&R675,読み替え表_クールビズ!$P$38:$P$59,0),1,0)),0))","v":""},{"$f":"IF($P675=\"\",\"\",IFERROR(IF(P675=6,1,IF(MATCH(P675&\"/\"&R675,読み替え表_クールビズ!$P$38:$P$59,0),1,0)),0))","v":""},"","",0,0,"*"]
[null,null,666,null,null,null,null,null,null,null,null,null,null,null,null,null,null,null,null,null,null,null,null,null,null,null,null,null,null,null,null,null,"","",{"$f":"IF($N676=\"\",\"\",IFERROR(IF(N676=6,1,IF(MATCH(N676&\"/\"&R676,読み替え表_クールビズ!$P$38:$P$59,0),1,0)),0))","v":""},{"$f":"IF($P676=\"\",\"\",IFERROR(IF(P676=6,1,IF(MATCH(P676&\"/\"&R676,読み替え表_クールビズ!$P$38:$P$59,0),1,0)),0))","v":""},"","",0,0,"*"]
[null,null,667,null,null,null,null,null,null,null,null,null,null,null,null,null,null,null,null,null,null,null,null,null,null,null,null,null,null,null,null,null,"","",{"$f":"IF($N677=\"\",\"\",IFERROR(IF(N677=6,1,IF(MATCH(N677&\"/\"&R677,読み替え表_クールビズ!$P$38:$P$59,0),1,0)),0))","v":""},{"$f":"IF($P677=\"\",\"\",IFERROR(IF(P677=6,1,IF(MATCH(P677&\"/\"&R677,読み替え表_クールビズ!$P$38:$P$59,0),1,0)),0))","v":""},"","",0,0,"*"]
[null,null,668,null,null,null,null,null,null,null,null,null,null,null,null,null,null,null,null,null,null,null,null,null,null,null,null,null,null,null,null,null,"","",{"$f":"IF($N678=\"\",\"\",IFERROR(IF(N678=6,1,IF(MATCH(N678&\"/\"&R678,読み替え表_クールビズ!$P$38:$P$59,0),1,0)),0))","v":""},{"$f":"IF($P678=\"\",\"\",IFERROR(IF(P678=6,1,IF(MATCH(P678&\"/\"&R678,読み替え表_クールビズ!$P$38:$P$59,0),1,0)),0))","v":""},"","",0,0,"*"]
[null,null,669,null,null,null,null,null,null,null,null,null,null,null,null,null,null,null,null,null,null,null,null,null,null,null,null,null,null,null,null,null,"","",{"$f":"IF($N679=\"\",\"\",IFERROR(IF(N679=6,1,IF(MATCH(N679&\"/\"&R679,読み替え表_クールビズ!$P$38:$P$59,0),1,0)),0))","v":""},{"$f":"IF($P679=\"\",\"\",IFERROR(IF(P679=6,1,IF(MATCH(P679&\"/\"&R679,読み替え表_クールビズ!$P$38:$P$59,0),1,0)),0))","v":""},"","",0,0,"*"]
[null,null,670,null,null,null,null,null,null,null,null,null,null,null,null,null,null,null,null,null,null,null,null,null,null,null,null,null,null,null,null,null,"","",{"$f":"IF($N680=\"\",\"\",IFERROR(IF(N680=6,1,IF(MATCH(N680&\"/\"&R680,読み替え表_クールビズ!$P$38:$P$59,0),1,0)),0))","v":""},{"$f":"IF($P680=\"\",\"\",IFERROR(IF(P680=6,1,IF(MATCH(P680&\"/\"&R680,読み替え表_クールビズ!$P$38:$P$59,0),1,0)),0))","v":""},"","",0,0,"*"]
[null,null,671,null,null,null,null,null,null,null,null,null,null,null,null,null,null,null,null,null,null,null,null,null,null,null,null,null,null,null,null,null,"","",{"$f":"IF($N681=\"\",\"\",IFERROR(IF(N681=6,1,IF(MATCH(N681&\"/\"&R681,読み替え表_クールビズ!$P$38:$P$59,0),1,0)),0))","v":""},{"$f":"IF($P681=\"\",\"\",IFERROR(IF(P681=6,1,IF(MATCH(P681&\"/\"&R681,読み替え表_クールビズ!$P$38:$P$59,0),1,0)),0))","v":""},"","",0,0,"*"]
[null,null,672,null,null,null,null,null,null,null,null,null,null,null,null,null,null,null,null,null,null,null,null,null,null,null,null,null,null,null,null,null,"","",{"$f":"IF($N682=\"\",\"\",IFERROR(IF(N682=6,1,IF(MATCH(N682&\"/\"&R682,読み替え表_クールビズ!$P$38:$P$59,0),1,0)),0))","v":""},{"$f":"IF($P682=\"\",\"\",IFERROR(IF(P682=6,1,IF(MATCH(P682&\"/\"&R682,読み替え表_クールビズ!$P$38:$P$59,0),1,0)),0))","v":""},"","",0,0,"*"]
[null,null,673,null,null,null,null,null,null,null,null,null,null,null,null,null,null,null,null,null,null,null,null,null,null,null,null,null,null,null,null,null,"","",{"$f":"IF($N683=\"\",\"\",IFERROR(IF(N683=6,1,IF(MATCH(N683&\"/\"&R683,読み替え表_クールビズ!$P$38:$P$59,0),1,0)),0))","v":""},{"$f":"IF($P683=\"\",\"\",IFERROR(IF(P683=6,1,IF(MATCH(P683&\"/\"&R683,読み替え表_クールビズ!$P$38:$P$59,0),1,0)),0))","v":""},"","",0,0,"*"]
[null,null,674,null,null,null,null,null,null,null,null,null,null,null,null,null,null,null,null,null,null,null,null,null,null,null,null,null,null,null,null,null,"","",{"$f":"IF($N684=\"\",\"\",IFERROR(IF(N684=6,1,IF(MATCH(N684&\"/\"&R684,読み替え表_クールビズ!$P$38:$P$59,0),1,0)),0))","v":""},{"$f":"IF($P684=\"\",\"\",IFERROR(IF(P684=6,1,IF(MATCH(P684&\"/\"&R684,読み替え表_クールビズ!$P$38:$P$59,0),1,0)),0))","v":""},"","",0,0,"*"]
[null,null,675,null,null,null,null,null,null,null,null,null,null,null,null,null,null,null,null,null,null,null,null,null,null,null,null,null,null,null,null,null,"","",{"$f":"IF($N685=\"\",\"\",IFERROR(IF(N685=6,1,IF(MATCH(N685&\"/\"&R685,読み替え表_クールビズ!$P$38:$P$59,0),1,0)),0))","v":""},{"$f":"IF($P685=\"\",\"\",IFERROR(IF(P685=6,1,IF(MATCH(P685&\"/\"&R685,読み替え表_クールビズ!$P$38:$P$59,0),1,0)),0))","v":""},"","",0,0,"*"]
[null,null,676,null,null,null,null,null,null,null,null,null,null,null,null,null,null,null,null,null,null,null,null,null,null,null,null,null,null,null,null,null,"","",{"$f":"IF($N686=\"\",\"\",IFERROR(IF(N686=6,1,IF(MATCH(N686&\"/\"&R686,読み替え表_クールビズ!$P$38:$P$59,0),1,0)),0))","v":""},{"$f":"IF($P686=\"\",\"\",IFERROR(IF(P686=6,1,IF(MATCH(P686&\"/\"&R686,読み替え表_クールビズ!$P$38:$P$59,0),1,0)),0))","v":""},"","",0,0,"*"]
[null,null,677,null,null,null,null,null,null,null,null,null,null,null,null,null,null,null,null,null,null,null,null,null,null,null,null,null,null,null,null,null,"","",{"$f":"IF($N687=\"\",\"\",IFERROR(IF(N687=6,1,IF(MATCH(N687&\"/\"&R687,読み替え表_クールビズ!$P$38:$P$59,0),1,0)),0))","v":""},{"$f":"IF($P687=\"\",\"\",IFERROR(IF(P687=6,1,IF(MATCH(P687&\"/\"&R687,読み替え表_クールビズ!$P$38:$P$59,0),1,0)),0))","v":""},"","",0,0,"*"]
[null,null,678,null,null,null,null,null,null,null,null,null,null,null,null,null,null,null,null,null,null,null,null,null,null,null,null,null,null,null,null,null,"","",{"$f":"IF($N688=\"\",\"\",IFERROR(IF(N688=6,1,IF(MATCH(N688&\"/\"&R688,読み替え表_クールビズ!$P$38:$P$59,0),1,0)),0))","v":""},{"$f":"IF($P688=\"\",\"\",IFERROR(IF(P688=6,1,IF(MATCH(P688&\"/\"&R688,読み替え表_クールビズ!$P$38:$P$59,0),1,0)),0))","v":""},"","",0,0,"*"]
[null,null,679,null,null,null,null,null,null,null,null,null,null,null,null,null,null,null,null,null,null,null,null,null,null,null,null,null,null,null,null,null,"","",{"$f":"IF($N689=\"\",\"\",IFERROR(IF(N689=6,1,IF(MATCH(N689&\"/\"&R689,読み替え表_クールビズ!$P$38:$P$59,0),1,0)),0))","v":""},{"$f":"IF($P689=\"\",\"\",IFERROR(IF(P689=6,1,IF(MATCH(P689&\"/\"&R689,読み替え表_クールビズ!$P$38:$P$59,0),1,0)),0))","v":""},"","",0,0,"*"]
[null,null,680,null,null,null,null,null,null,null,null,null,null,null,null,null,null,null,null,null,null,null,null,null,null,null,null,null,null,null,null,null,"","",{"$f":"IF($N690=\"\",\"\",IFERROR(IF(N690=6,1,IF(MATCH(N690&\"/\"&R690,読み替え表_クールビズ!$P$38:$P$59,0),1,0)),0))","v":""},{"$f":"IF($P690=\"\",\"\",IFERROR(IF(P690=6,1,IF(MATCH(P690&\"/\"&R690,読み替え表_クールビズ!$P$38:$P$59,0),1,0)),0))","v":""},"","",0,0,"*"]
[null,null,681,null,null,null,null,null,null,null,null,null,null,null,null,null,null,null,null,null,null,null,null,null,null,null,null,null,null,null,null,null,"","",{"$f":"IF($N691=\"\",\"\",IFERROR(IF(N691=6,1,IF(MATCH(N691&\"/\"&R691,読み替え表_クールビズ!$P$38:$P$59,0),1,0)),0))","v":""},{"$f":"IF($P691=\"\",\"\",IFERROR(IF(P691=6,1,IF(MATCH(P691&\"/\"&R691,読み替え表_クールビズ!$P$38:$P$59,0),1,0)),0))","v":""},"","",0,0,"*"]
[null,null,682,null,null,null,null,null,null,null,null,null,null,null,null,null,null,null,null,null,null,null,null,null,null,null,null,null,null,null,null,null,"","",{"$f":"IF($N692=\"\",\"\",IFERROR(IF(N692=6,1,IF(MATCH(N692&\"/\"&R692,読み替え表_クールビズ!$P$38:$P$59,0),1,0)),0))","v":""},{"$f":"IF($P692=\"\",\"\",IFERROR(IF(P692=6,1,IF(MATCH(P692&\"/\"&R692,読み替え表_クールビズ!$P$38:$P$59,0),1,0)),0))","v":""},"","",0,0,"*"]
[null,null,683,null,null,null,null,null,null,null,null,null,null,null,null,null,null,null,null,null,null,null,null,null,null,null,null,null,null,null,null,null,"","",{"$f":"IF($N693=\"\",\"\",IFERROR(IF(N693=6,1,IF(MATCH(N693&\"/\"&R693,読み替え表_クールビズ!$P$38:$P$59,0),1,0)),0))","v":""},{"$f":"IF($P693=\"\",\"\",IFERROR(IF(P693=6,1,IF(MATCH(P693&\"/\"&R693,読み替え表_クールビズ!$P$38:$P$59,0),1,0)),0))","v":""},"","",0,0,"*"]
[null,null,684,null,null,null,null,null,null,null,null,null,null,null,null,null,null,null,null,null,null,null,null,null,null,null,null,null,null,null,null,null,"","",{"$f":"IF($N694=\"\",\"\",IFERROR(IF(N694=6,1,IF(MATCH(N694&\"/\"&R694,読み替え表_クールビズ!$P$38:$P$59,0),1,0)),0))","v":""},{"$f":"IF($P694=\"\",\"\",IFERROR(IF(P694=6,1,IF(MATCH(P694&\"/\"&R694,読み替え表_クールビズ!$P$38:$P$59,0),1,0)),0))","v":""},"","",0,0,"*"]
[null,null,685,null,null,null,null,null,null,null,null,null,null,null,null,null,null,null,null,null,null,null,null,null,null,null,null,null,null,null,null,null,"","",{"$f":"IF($N695=\"\",\"\",IFERROR(IF(N695=6,1,IF(MATCH(N695&\"/\"&R695,読み替え表_クールビズ!$P$38:$P$59,0),1,0)),0))","v":""},{"$f":"IF($P695=\"\",\"\",IFERROR(IF(P695=6,1,IF(MATCH(P695&\"/\"&R695,読み替え表_クールビズ!$P$38:$P$59,0),1,0)),0))","v":""},"","",0,0,"*"]
[null,null,686,null,null,null,null,null,null,null,null,null,null,null,null,null,null,null,null,null,null,null,null,null,null,null,null,null,null,null,null,null,"","",{"$f":"IF($N696=\"\",\"\",IFERROR(IF(N696=6,1,IF(MATCH(N696&\"/\"&R696,読み替え表_クールビズ!$P$38:$P$59,0),1,0)),0))","v":""},{"$f":"IF($P696=\"\",\"\",IFERROR(IF(P696=6,1,IF(MATCH(P696&\"/\"&R696,読み替え表_クールビズ!$P$38:$P$59,0),1,0)),0))","v":""},"","",0,0,"*"]
[null,null,687,null,null,null,null,null,null,null,null,null,null,null,null,null,null,null,null,null,null,null,null,null,null,null,null,null,null,null,null,null,"","",{"$f":"IF($N697=\"\",\"\",IFERROR(IF(N697=6,1,IF(MATCH(N697&\"/\"&R697,読み替え表_クールビズ!$P$38:$P$59,0),1,0)),0))","v":""},{"$f":"IF($P697=\"\",\"\",IFERROR(IF(P697=6,1,IF(MATCH(P697&\"/\"&R697,読み替え表_クールビズ!$P$38:$P$59,0),1,0)),0))","v":""},"","",0,0,"*"]
[null,null,688,null,null,null,null,null,null,null,null,null,null,null,null,null,null,null,null,null,null,null,null,null,null,null,null,null,null,null,null,null,"","",{"$f":"IF($N698=\"\",\"\",IFERROR(IF(N698=6,1,IF(MATCH(N698&\"/\"&R698,読み替え表_クールビズ!$P$38:$P$59,0),1,0)),0))","v":""},{"$f":"IF($P698=\"\",\"\",IFERROR(IF(P698=6,1,IF(MATCH(P698&\"/\"&R698,読み替え表_クールビズ!$P$38:$P$59,0),1,0)),0))","v":""},"","",0,0,"*"]
[null,null,689,null,null,null,null,null,null,null,null,null,null,null,null,null,null,null,null,null,null,null,null,null,null,null,null,null,null,null,null,null,"","",{"$f":"IF($N699=\"\",\"\",IFERROR(IF(N699=6,1,IF(MATCH(N699&\"/\"&R699,読み替え表_クールビズ!$P$38:$P$59,0),1,0)),0))","v":""},{"$f":"IF($P699=\"\",\"\",IFERROR(IF(P699=6,1,IF(MATCH(P699&\"/\"&R699,読み替え表_クールビズ!$P$38:$P$59,0),1,0)),0))","v":""},"","",0,0,"*"]
[null,null,690,null,null,null,null,null,null,null,null,null,null,null,null,null,null,null,null,null,null,null,null,null,null,null,null,null,null,null,null,null,"","",{"$f":"IF($N700=\"\",\"\",IFERROR(IF(N700=6,1,IF(MATCH(N700&\"/\"&R700,読み替え表_クールビズ!$P$38:$P$59,0),1,0)),0))","v":""},{"$f":"IF($P700=\"\",\"\",IFERROR(IF(P700=6,1,IF(MATCH(P700&\"/\"&R700,読み替え表_クールビズ!$P$38:$P$59,0),1,0)),0))","v":""},"","",0,0,"*"]
[null,null,691,null,null,null,null,null,null,null,null,null,null,null,null,null,null,null,null,null,null,null,null,null,null,null,null,null,null,null,null,null,"","",{"$f":"IF($N701=\"\",\"\",IFERROR(IF(N701=6,1,IF(MATCH(N701&\"/\"&R701,読み替え表_クールビズ!$P$38:$P$59,0),1,0)),0))","v":""},{"$f":"IF($P701=\"\",\"\",IFERROR(IF(P701=6,1,IF(MATCH(P701&\"/\"&R701,読み替え表_クールビズ!$P$38:$P$59,0),1,0)),0))","v":""},"","",0,0,"*"]
[null,null,692,null,null,null,null,null,null,null,null,null,null,null,null,null,null,null,null,null,null,null,null,null,null,null,null,null,null,null,null,null,"","",{"$f":"IF($N702=\"\",\"\",IFERROR(IF(N702=6,1,IF(MATCH(N702&\"/\"&R702,読み替え表_クールビズ!$P$38:$P$59,0),1,0)),0))","v":""},{"$f":"IF($P702=\"\",\"\",IFERROR(IF(P702=6,1,IF(MATCH(P702&\"/\"&R702,読み替え表_クールビズ!$P$38:$P$59,0),1,0)),0))","v":""},"","",0,0,"*"]
[null,null,693,null,null,null,null,null,null,null,null,null,null,null,null,null,null,null,null,null,null,null,null,null,null,null,null,null,null,null,null,null,"","",{"$f":"IF($N703=\"\",\"\",IFERROR(IF(N703=6,1,IF(MATCH(N703&\"/\"&R703,読み替え表_クールビズ!$P$38:$P$59,0),1,0)),0))","v":""},{"$f":"IF($P703=\"\",\"\",IFERROR(IF(P703=6,1,IF(MATCH(P703&\"/\"&R703,読み替え表_クールビズ!$P$38:$P$59,0),1,0)),0))","v":""},"","",0,0,"*"]
[null,null,694,null,null,null,null,null,null,null,null,null,null,null,null,null,null,null,null,null,null,null,null,null,null,null,null,null,null,null,null,null,"","",{"$f":"IF($N704=\"\",\"\",IFERROR(IF(N704=6,1,IF(MATCH(N704&\"/\"&R704,読み替え表_クールビズ!$P$38:$P$59,0),1,0)),0))","v":""},{"$f":"IF($P704=\"\",\"\",IFERROR(IF(P704=6,1,IF(MATCH(P704&\"/\"&R704,読み替え表_クールビズ!$P$38:$P$59,0),1,0)),0))","v":""},"","",0,0,"*"]
[null,null,695,null,null,null,null,null,null,null,null,null,null,null,null,null,null,null,null,null,null,null,null,null,null,null,null,null,null,null,null,null,"","",{"$f":"IF($N705=\"\",\"\",IFERROR(IF(N705=6,1,IF(MATCH(N705&\"/\"&R705,読み替え表_クールビズ!$P$38:$P$59,0),1,0)),0))","v":""},{"$f":"IF($P705=\"\",\"\",IFERROR(IF(P705=6,1,IF(MATCH(P705&\"/\"&R705,読み替え表_クールビズ!$P$38:$P$59,0),1,0)),0))","v":""},"","",0,0,"*"]
[null,null,696,null,null,null,null,null,null,null,null,null,null,null,null,null,null,null,null,null,null,null,null,null,null,null,null,null,null,null,null,null,"","",{"$f":"IF($N706=\"\",\"\",IFERROR(IF(N706=6,1,IF(MATCH(N706&\"/\"&R706,読み替え表_クールビズ!$P$38:$P$59,0),1,0)),0))","v":""},{"$f":"IF($P706=\"\",\"\",IFERROR(IF(P706=6,1,IF(MATCH(P706&\"/\"&R706,読み替え表_クールビズ!$P$38:$P$59,0),1,0)),0))","v":""},"","",0,0,"*"]
[null,null,697,null,null,null,null,null,null,null,null,null,null,null,null,null,null,null,null,null,null,null,null,null,null,null,null,null,null,null,null,null,"","",{"$f":"IF($N707=\"\",\"\",IFERROR(IF(N707=6,1,IF(MATCH(N707&\"/\"&R707,読み替え表_クールビズ!$P$38:$P$59,0),1,0)),0))","v":""},{"$f":"IF($P707=\"\",\"\",IFERROR(IF(P707=6,1,IF(MATCH(P707&\"/\"&R707,読み替え表_クールビズ!$P$38:$P$59,0),1,0)),0))","v":""},"","",0,0,"*"]
[null,null,698,null,null,null,null,null,null,null,null,null,null,null,null,null,null,null,null,null,null,null,null,null,null,null,null,null,null,null,null,null,"","",{"$f":"IF($N708=\"\",\"\",IFERROR(IF(N708=6,1,IF(MATCH(N708&\"/\"&R708,読み替え表_クールビズ!$P$38:$P$59,0),1,0)),0))","v":""},{"$f":"IF($P708=\"\",\"\",IFERROR(IF(P708=6,1,IF(MATCH(P708&\"/\"&R708,読み替え表_クールビズ!$P$38:$P$59,0),1,0)),0))","v":""},"","",0,0,"*"]
[null,null,699,null,null,null,null,null,null,null,null,null,null,null,null,null,null,null,null,null,null,null,null,null,null,null,null,null,null,null,null,null,"","",{"$f":"IF($N709=\"\",\"\",IFERROR(IF(N709=6,1,IF(MATCH(N709&\"/\"&R709,読み替え表_クールビズ!$P$38:$P$59,0),1,0)),0))","v":""},{"$f":"IF($P709=\"\",\"\",IFERROR(IF(P709=6,1,IF(MATCH(P709&\"/\"&R709,読み替え表_クールビズ!$P$38:$P$59,0),1,0)),0))","v":""},"","",0,0,"*"]
[null,null,700,null,null,null,null,null,null,null,null,null,null,null,null,null,null,null,null,null,null,null,null,null,null,null,null,null,null,null,null,null,"","",{"$f":"IF($N710=\"\",\"\",IFERROR(IF(N710=6,1,IF(MATCH(N710&\"/\"&R710,読み替え表_クールビズ!$P$38:$P$59,0),1,0)),0))","v":""},{"$f":"IF($P710=\"\",\"\",IFERROR(IF(P710=6,1,IF(MATCH(P710&\"/\"&R710,読み替え表_クールビズ!$P$38:$P$59,0),1,0)),0))","v":""},"","",0,0,"*"]
[null,null,701,null,null,null,null,null,null,null,null,null,null,null,null,null,null,null,null,null,null,null,null,null,null,null,null,null,null,null,null,null,"","",{"$f":"IF($N711=\"\",\"\",IFERROR(IF(N711=6,1,IF(MATCH(N711&\"/\"&R711,読み替え表_クールビズ!$P$38:$P$59,0),1,0)),0))","v":""},{"$f":"IF($P711=\"\",\"\",IFERROR(IF(P711=6,1,IF(MATCH(P711&\"/\"&R711,読み替え表_クールビズ!$P$38:$P$59,0),1,0)),0))","v":""},"","",0,0,"*"]
[null,null,702,null,null,null,null,null,null,null,null,null,null,null,null,null,null,null,null,null,null,null,null,null,null,null,null,null,null,null,null,null,"","",{"$f":"IF($N712=\"\",\"\",IFERROR(IF(N712=6,1,IF(MATCH(N712&\"/\"&R712,読み替え表_クールビズ!$P$38:$P$59,0),1,0)),0))","v":""},{"$f":"IF($P712=\"\",\"\",IFERROR(IF(P712=6,1,IF(MATCH(P712&\"/\"&R712,読み替え表_クールビズ!$P$38:$P$59,0),1,0)),0))","v":""},"","",0,0,"*"]
[null,null,703,null,null,null,null,null,null,null,null,null,null,null,null,null,null,null,null,null,null,null,null,null,null,null,null,null,null,null,null,null,"","",{"$f":"IF($N713=\"\",\"\",IFERROR(IF(N713=6,1,IF(MATCH(N713&\"/\"&R713,読み替え表_クールビズ!$P$38:$P$59,0),1,0)),0))","v":""},{"$f":"IF($P713=\"\",\"\",IFERROR(IF(P713=6,1,IF(MATCH(P713&\"/\"&R713,読み替え表_クールビズ!$P$38:$P$59,0),1,0)),0))","v":""},"","",0,0,"*"]
[null,null,704,null,null,null,null,null,null,null,null,null,null,null,null,null,null,null,null,null,null,null,null,null,null,null,null,null,null,null,null,null,"","",{"$f":"IF($N714=\"\",\"\",IFERROR(IF(N714=6,1,IF(MATCH(N714&\"/\"&R714,読み替え表_クールビズ!$P$38:$P$59,0),1,0)),0))","v":""},{"$f":"IF($P714=\"\",\"\",IFERROR(IF(P714=6,1,IF(MATCH(P714&\"/\"&R714,読み替え表_クールビズ!$P$38:$P$59,0),1,0)),0))","v":""},"","",0,0,"*"]
[null,null,705,null,null,null,null,null,null,null,null,null,null,null,null,null,null,null,null,null,null,null,null,null,null,null,null,null,null,null,null,null,"","",{"$f":"IF($N715=\"\",\"\",IFERROR(IF(N715=6,1,IF(MATCH(N715&\"/\"&R715,読み替え表_クールビズ!$P$38:$P$59,0),1,0)),0))","v":""},{"$f":"IF($P715=\"\",\"\",IFERROR(IF(P715=6,1,IF(MATCH(P715&\"/\"&R715,読み替え表_クールビズ!$P$38:$P$59,0),1,0)),0))","v":""},{"$f":"IF($N715=\"\",\"\",IF(OR(CONCATENATE(N715,$R715)=\"22\",CONCATENATE(N715,$R715)=\"32\",CONCATENATE(N715,$R715)=\"42\",CONCATENATE(N715,$R715)=\"43\",CONCATENATE(N715,$R715)=\"51\",CONCATENATE(N715,$R715)=\"52\",CONCATENATE(N715,$R715)=\"53\"),1,0))","v":""},{"$f":"IF($P715=\"\",\"\",IF(OR(CONCATENATE(P715,$R715)=\"22\",CONCATENATE(P715,$R715)=\"32\",CONCATENATE(P715,$R715)=\"42\",CONCATENATE(P715,$R715)=\"43\",CONCATENATE(P715,$R715)=\"51\",CONCATENATE(P715,$R715)=\"52\",CONCATENATE(P715,$R715)=\"53\"),1,0))","v":""},0,0,"*"]
[null,null,{"$f":"ROW()-10","v":706},null,null,null,null,null,null,null,null,null,null,null,null,null,null,null,null,null,null,null,null,null,null,null,null,null,null,null,null,null,{"$f":"IF($J716=\"\",\"\",IF(AND($J716>=1,$J716<=9),1,0))","v":""},{"$f":"IF($R716=\"\",\"\",IF(OR($R716=1,$R716=2,$R716=3),1,0))","v":""},{"$f":"IF($N716=\"\",\"\",IFERROR(IF(N716=6,1,IF(MATCH(N716&\"/\"&R716,読み替え表_クールビズ!$P$38:$P$59,0),1,0)),0))","v":""},{"$f":"IF($P716=\"\",\"\",IFERROR(IF(P716=6,1,IF(MATCH(P716&\"/\"&R716,読み替え表_クールビズ!$P$38:$P$59,0),1,0)),0))","v":""},"","",{"$f":"IF(OR(AK716=1,AL716=1),1,0)","v":0},{"$f":"IF(OR($AG716=0,SUM(AI716:AJ716)=2),1,0)","v":0},"*"]
[null,null,707,null,null,null,null,null,null,null,null,null,null,null,null,null,null,null,null,null,null,null,null,null,null,null,null,null,null,null,null,null,"","",{"$f":"IF($N717=\"\",\"\",IFERROR(IF(N717=6,1,IF(MATCH(N717&\"/\"&R717,読み替え表_クールビズ!$P$38:$P$59,0),1,0)),0))","v":""},{"$f":"IF($P717=\"\",\"\",IFERROR(IF(P717=6,1,IF(MATCH(P717&\"/\"&R717,読み替え表_クールビズ!$P$38:$P$59,0),1,0)),0))","v":""},"","",0,0,"*"]
[null,null,708,null,null,null,null,null,null,null,null,null,null,null,null,null,null,null,null,null,null,null,null,null,null,null,null,null,null,null,null,null,"","",{"$f":"IF($N718=\"\",\"\",IFERROR(IF(N718=6,1,IF(MATCH(N718&\"/\"&R718,読み替え表_クールビズ!$P$38:$P$59,0),1,0)),0))","v":""},{"$f":"IF($P718=\"\",\"\",IFERROR(IF(P718=6,1,IF(MATCH(P718&\"/\"&R718,読み替え表_クールビズ!$P$38:$P$59,0),1,0)),0))","v":""},"","",0,0,"*"]
[null,null,709,null,null,null,null,null,null,null,null,null,null,null,null,null,null,null,null,null,null,null,null,null,null,null,null,null,null,null,null,null,"","",{"$f":"IF($N719=\"\",\"\",IFERROR(IF(N719=6,1,IF(MATCH(N719&\"/\"&R719,読み替え表_クールビズ!$P$38:$P$59,0),1,0)),0))","v":""},{"$f":"IF($P719=\"\",\"\",IFERROR(IF(P719=6,1,IF(MATCH(P719&\"/\"&R719,読み替え表_クールビズ!$P$38:$P$59,0),1,0)),0))","v":""},"","",0,0,"*"]
[null,null,710,null,null,null,null,null,null,null,null,null,null,null,null,null,null,null,null,null,null,null,null,null,null,null,null,null,null,null,null,null,"","",{"$f":"IF($N720=\"\",\"\",IFERROR(IF(N720=6,1,IF(MATCH(N720&\"/\"&R720,読み替え表_クールビズ!$P$38:$P$59,0),1,0)),0))","v":""},{"$f":"IF($P720=\"\",\"\",IFERROR(IF(P720=6,1,IF(MATCH(P720&\"/\"&R720,読み替え表_クールビズ!$P$38:$P$59,0),1,0)),0))","v":""},"","",0,0,"*"]
[null,null,711,null,null,null,null,null,null,null,null,null,null,null,null,null,null,null,null,null,null,null,null,null,null,null,null,null,null,null,null,null,"","",{"$f":"IF($N721=\"\",\"\",IFERROR(IF(N721=6,1,IF(MATCH(N721&\"/\"&R721,読み替え表_クールビズ!$P$38:$P$59,0),1,0)),0))","v":""},{"$f":"IF($P721=\"\",\"\",IFERROR(IF(P721=6,1,IF(MATCH(P721&\"/\"&R721,読み替え表_クールビズ!$P$38:$P$59,0),1,0)),0))","v":""},"","",0,0,"*"]
[null,null,712,null,null,null,null,null,null,null,null,null,null,null,null,null,null,null,null,null,null,null,null,null,null,null,null,null,null,null,null,null,"","",{"$f":"IF($N722=\"\",\"\",IFERROR(IF(N722=6,1,IF(MATCH(N722&\"/\"&R722,読み替え表_クールビズ!$P$38:$P$59,0),1,0)),0))","v":""},{"$f":"IF($P722=\"\",\"\",IFERROR(IF(P722=6,1,IF(MATCH(P722&\"/\"&R722,読み替え表_クールビズ!$P$38:$P$59,0),1,0)),0))","v":""},"","",0,0,"*"]
[null,null,713,null,null,null,null,null,null,null,null,null,null,null,null,null,null,null,null,null,null,null,null,null,null,null,null,null,null,null,null,null,"","",{"$f":"IF($N723=\"\",\"\",IFERROR(IF(N723=6,1,IF(MATCH(N723&\"/\"&R723,読み替え表_クールビズ!$P$38:$P$59,0),1,0)),0))","v":""},{"$f":"IF($P723=\"\",\"\",IFERROR(IF(P723=6,1,IF(MATCH(P723&\"/\"&R723,読み替え表_クールビズ!$P$38:$P$59,0),1,0)),0))","v":""},"","",0,0,"*"]
[null,null,714,null,null,null,null,null,null,null,null,null,null,null,null,null,null,null,null,null,null,null,null,null,null,null,null,null,null,null,null,null,"","",{"$f":"IF($N724=\"\",\"\",IFERROR(IF(N724=6,1,IF(MATCH(N724&\"/\"&R724,読み替え表_クールビズ!$P$38:$P$59,0),1,0)),0))","v":""},{"$f":"IF($P724=\"\",\"\",IFERROR(IF(P724=6,1,IF(MATCH(P724&\"/\"&R724,読み替え表_クールビズ!$P$38:$P$59,0),1,0)),0))","v":""},"","",0,0,"*"]
[null,null,715,null,null,null,null,null,null,null,null,null,null,null,null,null,null,null,null,null,null,null,null,null,null,null,null,null,null,null,null,null,"","",{"$f":"IF($N725=\"\",\"\",IFERROR(IF(N725=6,1,IF(MATCH(N725&\"/\"&R725,読み替え表_クールビズ!$P$38:$P$59,0),1,0)),0))","v":""},{"$f":"IF($P725=\"\",\"\",IFERROR(IF(P725=6,1,IF(MATCH(P725&\"/\"&R725,読み替え表_クールビズ!$P$38:$P$59,0),1,0)),0))","v":""},"","",0,0,"*"]
[null,null,716,null,null,null,null,null,null,null,null,null,null,null,null,null,null,null,null,null,null,null,null,null,null,null,null,null,null,null,null,null,"","",{"$f":"IF($N726=\"\",\"\",IFERROR(IF(N726=6,1,IF(MATCH(N726&\"/\"&R726,読み替え表_クールビズ!$P$38:$P$59,0),1,0)),0))","v":""},{"$f":"IF($P726=\"\",\"\",IFERROR(IF(P726=6,1,IF(MATCH(P726&\"/\"&R726,読み替え表_クールビズ!$P$38:$P$59,0),1,0)),0))","v":""},"","",0,0,"*"]
[null,null,717,null,null,null,null,null,null,null,null,null,null,null,null,null,null,null,null,null,null,null,null,null,null,null,null,null,null,null,null,null,"","",{"$f":"IF($N727=\"\",\"\",IFERROR(IF(N727=6,1,IF(MATCH(N727&\"/\"&R727,読み替え表_クールビズ!$P$38:$P$59,0),1,0)),0))","v":""},{"$f":"IF($P727=\"\",\"\",IFERROR(IF(P727=6,1,IF(MATCH(P727&\"/\"&R727,読み替え表_クールビズ!$P$38:$P$59,0),1,0)),0))","v":""},"","",0,0,"*"]
[null,null,718,null,null,null,null,null,null,null,null,null,null,null,null,null,null,null,null,null,null,null,null,null,null,null,null,null,null,null,null,null,"","",{"$f":"IF($N728=\"\",\"\",IFERROR(IF(N728=6,1,IF(MATCH(N728&\"/\"&R728,読み替え表_クールビズ!$P$38:$P$59,0),1,0)),0))","v":""},{"$f":"IF($P728=\"\",\"\",IFERROR(IF(P728=6,1,IF(MATCH(P728&\"/\"&R728,読み替え表_クールビズ!$P$38:$P$59,0),1,0)),0))","v":""},"","",0,0,"*"]
[null,null,719,null,null,null,null,null,null,null,null,null,null,null,null,null,null,null,null,null,null,null,null,null,null,null,null,null,null,null,null,null,"","",{"$f":"IF($N729=\"\",\"\",IFERROR(IF(N729=6,1,IF(MATCH(N729&\"/\"&R729,読み替え表_クールビズ!$P$38:$P$59,0),1,0)),0))","v":""},{"$f":"IF($P729=\"\",\"\",IFERROR(IF(P729=6,1,IF(MATCH(P729&\"/\"&R729,読み替え表_クールビズ!$P$38:$P$59,0),1,0)),0))","v":""},"","",0,0,"*"]
[null,null,720,null,null,null,null,null,null,null,null,null,null,null,null,null,null,null,null,null,null,null,null,null,null,null,null,null,null,null,null,null,"","",{"$f":"IF($N730=\"\",\"\",IFERROR(IF(N730=6,1,IF(MATCH(N730&\"/\"&R730,読み替え表_クールビズ!$P$38:$P$59,0),1,0)),0))","v":""},{"$f":"IF($P730=\"\",\"\",IFERROR(IF(P730=6,1,IF(MATCH(P730&\"/\"&R730,読み替え表_クールビズ!$P$38:$P$59,0),1,0)),0))","v":""},"","",0,0,"*"]
[null,null,721,null,null,null,null,null,null,null,null,null,null,null,null,null,null,null,null,null,null,null,null,null,null,null,null,null,null,null,null,null,"","",{"$f":"IF($N731=\"\",\"\",IFERROR(IF(N731=6,1,IF(MATCH(N731&\"/\"&R731,読み替え表_クールビズ!$P$38:$P$59,0),1,0)),0))","v":""},{"$f":"IF($P731=\"\",\"\",IFERROR(IF(P731=6,1,IF(MATCH(P731&\"/\"&R731,読み替え表_クールビズ!$P$38:$P$59,0),1,0)),0))","v":""},"","",0,0,"*"]
[null,null,722,null,null,null,null,null,null,null,null,null,null,null,null,null,null,null,null,null,null,null,null,null,null,null,null,null,null,null,null,null,"","",{"$f":"IF($N732=\"\",\"\",IFERROR(IF(N732=6,1,IF(MATCH(N732&\"/\"&R732,読み替え表_クールビズ!$P$38:$P$59,0),1,0)),0))","v":""},{"$f":"IF($P732=\"\",\"\",IFERROR(IF(P732=6,1,IF(MATCH(P732&\"/\"&R732,読み替え表_クールビズ!$P$38:$P$59,0),1,0)),0))","v":""},"","",0,0,"*"]
[null,null,723,null,null,null,null,null,null,null,null,null,null,null,null,null,null,null,null,null,null,null,null,null,null,null,null,null,null,null,null,null,"","",{"$f":"IF($N733=\"\",\"\",IFERROR(IF(N733=6,1,IF(MATCH(N733&\"/\"&R733,読み替え表_クールビズ!$P$38:$P$59,0),1,0)),0))","v":""},{"$f":"IF($P733=\"\",\"\",IFERROR(IF(P733=6,1,IF(MATCH(P733&\"/\"&R733,読み替え表_クールビズ!$P$38:$P$59,0),1,0)),0))","v":""},"","",0,0,"*"]
[null,null,724,null,null,null,null,null,null,null,null,null,null,null,null,null,null,null,null,null,null,null,null,null,null,null,null,null,null,null,null,null,"","",{"$f":"IF($N734=\"\",\"\",IFERROR(IF(N734=6,1,IF(MATCH(N734&\"/\"&R734,読み替え表_クールビズ!$P$38:$P$59,0),1,0)),0))","v":""},{"$f":"IF($P734=\"\",\"\",IFERROR(IF(P734=6,1,IF(MATCH(P734&\"/\"&R734,読み替え表_クールビズ!$P$38:$P$59,0),1,0)),0))","v":""},"","",0,0,"*"]
[null,null,725,null,null,null,null,null,null,null,null,null,null,null,null,null,null,null,null,null,null,null,null,null,null,null,null,null,null,null,null,null,"","",{"$f":"IF($N735=\"\",\"\",IFERROR(IF(N735=6,1,IF(MATCH(N735&\"/\"&R735,読み替え表_クールビズ!$P$38:$P$59,0),1,0)),0))","v":""},{"$f":"IF($P735=\"\",\"\",IFERROR(IF(P735=6,1,IF(MATCH(P735&\"/\"&R735,読み替え表_クールビズ!$P$38:$P$59,0),1,0)),0))","v":""},"","",0,0,"*"]
[null,null,726,null,null,null,null,null,null,null,null,null,null,null,null,null,null,null,null,null,null,null,null,null,null,null,null,null,null,null,null,null,"","",{"$f":"IF($N736=\"\",\"\",IFERROR(IF(N736=6,1,IF(MATCH(N736&\"/\"&R736,読み替え表_クールビズ!$P$38:$P$59,0),1,0)),0))","v":""},{"$f":"IF($P736=\"\",\"\",IFERROR(IF(P736=6,1,IF(MATCH(P736&\"/\"&R736,読み替え表_クールビズ!$P$38:$P$59,0),1,0)),0))","v":""},"","",0,0,"*"]
[null,null,727,null,null,null,null,null,null,null,null,null,null,null,null,null,null,null,null,null,null,null,null,null,null,null,null,null,null,null,null,null,"","",{"$f":"IF($N737=\"\",\"\",IFERROR(IF(N737=6,1,IF(MATCH(N737&\"/\"&R737,読み替え表_クールビズ!$P$38:$P$59,0),1,0)),0))","v":""},{"$f":"IF($P737=\"\",\"\",IFERROR(IF(P737=6,1,IF(MATCH(P737&\"/\"&R737,読み替え表_クールビズ!$P$38:$P$59,0),1,0)),0))","v":""},"","",0,0,"*"]
[null,null,728,null,null,null,null,null,null,null,null,null,null,null,null,null,null,null,null,null,null,null,null,null,null,null,null,null,null,null,null,null,"","",{"$f":"IF($N738=\"\",\"\",IFERROR(IF(N738=6,1,IF(MATCH(N738&\"/\"&R738,読み替え表_クールビズ!$P$38:$P$59,0),1,0)),0))","v":""},{"$f":"IF($P738=\"\",\"\",IFERROR(IF(P738=6,1,IF(MATCH(P738&\"/\"&R738,読み替え表_クールビズ!$P$38:$P$59,0),1,0)),0))","v":""},"","",0,0,"*"]
[null,null,729,null,null,null,null,null,null,null,null,null,null,null,null,null,null,null,null,null,null,null,null,null,null,null,null,null,null,null,null,null,"","",{"$f":"IF($N739=\"\",\"\",IFERROR(IF(N739=6,1,IF(MATCH(N739&\"/\"&R739,読み替え表_クールビズ!$P$38:$P$59,0),1,0)),0))","v":""},{"$f":"IF($P739=\"\",\"\",IFERROR(IF(P739=6,1,IF(MATCH(P739&\"/\"&R739,読み替え表_クールビズ!$P$38:$P$59,0),1,0)),0))","v":""},"","",0,0,"*"]
[null,null,730,null,null,null,null,null,null,null,null,null,null,null,null,null,null,null,null,null,null,null,null,null,null,null,null,null,null,null,null,null,"","",{"$f":"IF($N740=\"\",\"\",IFERROR(IF(N740=6,1,IF(MATCH(N740&\"/\"&R740,読み替え表_クールビズ!$P$38:$P$59,0),1,0)),0))","v":""},{"$f":"IF($P740=\"\",\"\",IFERROR(IF(P740=6,1,IF(MATCH(P740&\"/\"&R740,読み替え表_クールビズ!$P$38:$P$59,0),1,0)),0))","v":""},"","",0,0,"*"]
[null,null,731,null,null,null,null,null,null,null,null,null,null,null,null,null,null,null,null,null,null,null,null,null,null,null,null,null,null,null,null,null,"","",{"$f":"IF($N741=\"\",\"\",IFERROR(IF(N741=6,1,IF(MATCH(N741&\"/\"&R741,読み替え表_クールビズ!$P$38:$P$59,0),1,0)),0))","v":""},{"$f":"IF($P741=\"\",\"\",IFERROR(IF(P741=6,1,IF(MATCH(P741&\"/\"&R741,読み替え表_クールビズ!$P$38:$P$59,0),1,0)),0))","v":""},"","",0,0,"*"]
[null,null,732,null,null,null,null,null,null,null,null,null,null,null,null,null,null,null,null,null,null,null,null,null,null,null,null,null,null,null,null,null,"","",{"$f":"IF($N742=\"\",\"\",IFERROR(IF(N742=6,1,IF(MATCH(N742&\"/\"&R742,読み替え表_クールビズ!$P$38:$P$59,0),1,0)),0))","v":""},{"$f":"IF($P742=\"\",\"\",IFERROR(IF(P742=6,1,IF(MATCH(P742&\"/\"&R742,読み替え表_クールビズ!$P$38:$P$59,0),1,0)),0))","v":""},"","",0,0,"*"]
[null,null,733,null,null,null,null,null,null,null,null,null,null,null,null,null,null,null,null,null,null,null,null,null,null,null,null,null,null,null,null,null,"","",{"$f":"IF($N743=\"\",\"\",IFERROR(IF(N743=6,1,IF(MATCH(N743&\"/\"&R743,読み替え表_クールビズ!$P$38:$P$59,0),1,0)),0))","v":""},{"$f":"IF($P743=\"\",\"\",IFERROR(IF(P743=6,1,IF(MATCH(P743&\"/\"&R743,読み替え表_クールビズ!$P$38:$P$59,0),1,0)),0))","v":""},"","",0,0,"*"]
[null,null,734,null,null,null,null,null,null,null,null,null,null,null,null,null,null,null,null,null,null,null,null,null,null,null,null,null,null,null,null,null,"","",{"$f":"IF($N744=\"\",\"\",IFERROR(IF(N744=6,1,IF(MATCH(N744&\"/\"&R744,読み替え表_クールビズ!$P$38:$P$59,0),1,0)),0))","v":""},{"$f":"IF($P744=\"\",\"\",IFERROR(IF(P744=6,1,IF(MATCH(P744&\"/\"&R744,読み替え表_クールビズ!$P$38:$P$59,0),1,0)),0))","v":""},"","",0,0,"*"]
[null,null,735,null,null,null,null,null,null,null,null,null,null,null,null,null,null,null,null,null,null,null,null,null,null,null,null,null,null,null,null,null,"","",{"$f":"IF($N745=\"\",\"\",IFERROR(IF(N745=6,1,IF(MATCH(N745&\"/\"&R745,読み替え表_クールビズ!$P$38:$P$59,0),1,0)),0))","v":""},{"$f":"IF($P745=\"\",\"\",IFERROR(IF(P745=6,1,IF(MATCH(P745&\"/\"&R745,読み替え表_クールビズ!$P$38:$P$59,0),1,0)),0))","v":""},"","",0,0,"*"]
[null,null,736,null,null,null,null,null,null,null,null,null,null,null,null,null,null,null,null,null,null,null,null,null,null,null,null,null,null,null,null,null,"","",{"$f":"IF($N746=\"\",\"\",IFERROR(IF(N746=6,1,IF(MATCH(N746&\"/\"&R746,読み替え表_クールビズ!$P$38:$P$59,0),1,0)),0))","v":""},{"$f":"IF($P746=\"\",\"\",IFERROR(IF(P746=6,1,IF(MATCH(P746&\"/\"&R746,読み替え表_クールビズ!$P$38:$P$59,0),1,0)),0))","v":""},"","",0,0,"*"]
[null,null,737,null,null,null,null,null,null,null,null,null,null,null,null,null,null,null,null,null,null,null,null,null,null,null,null,null,null,null,null,null,"","",{"$f":"IF($N747=\"\",\"\",IFERROR(IF(N747=6,1,IF(MATCH(N747&\"/\"&R747,読み替え表_クールビズ!$P$38:$P$59,0),1,0)),0))","v":""},{"$f":"IF($P747=\"\",\"\",IFERROR(IF(P747=6,1,IF(MATCH(P747&\"/\"&R747,読み替え表_クールビズ!$P$38:$P$59,0),1,0)),0))","v":""},"","",0,0,"*"]
[null,null,738,null,null,null,null,null,null,null,null,null,null,null,null,null,null,null,null,null,null,null,null,null,null,null,null,null,null,null,null,null,"","",{"$f":"IF($N748=\"\",\"\",IFERROR(IF(N748=6,1,IF(MATCH(N748&\"/\"&R748,読み替え表_クールビズ!$P$38:$P$59,0),1,0)),0))","v":""},{"$f":"IF($P748=\"\",\"\",IFERROR(IF(P748=6,1,IF(MATCH(P748&\"/\"&R748,読み替え表_クールビズ!$P$38:$P$59,0),1,0)),0))","v":""},"","",0,0,"*"]
[null,null,739,null,null,null,null,null,null,null,null,null,null,null,null,null,null,null,null,null,null,null,null,null,null,null,null,null,null,null,null,null,"","",{"$f":"IF($N749=\"\",\"\",IFERROR(IF(N749=6,1,IF(MATCH(N749&\"/\"&R749,読み替え表_クールビズ!$P$38:$P$59,0),1,0)),0))","v":""},{"$f":"IF($P749=\"\",\"\",IFERROR(IF(P749=6,1,IF(MATCH(P749&\"/\"&R749,読み替え表_クールビズ!$P$38:$P$59,0),1,0)),0))","v":""},"","",0,0,"*"]
[null,null,740,null,null,null,null,null,null,null,null,null,null,null,null,null,null,null,null,null,null,null,null,null,null,null,null,null,null,null,null,null,"","",{"$f":"IF($N750=\"\",\"\",IFERROR(IF(N750=6,1,IF(MATCH(N750&\"/\"&R750,読み替え表_クールビズ!$P$38:$P$59,0),1,0)),0))","v":""},{"$f":"IF($P750=\"\",\"\",IFERROR(IF(P750=6,1,IF(MATCH(P750&\"/\"&R750,読み替え表_クールビズ!$P$38:$P$59,0),1,0)),0))","v":""},"","",0,0,"*"]
[null,null,741,null,null,null,null,null,null,null,null,null,null,null,null,null,null,null,null,null,null,null,null,null,null,null,null,null,null,null,null,null,"","",{"$f":"IF($N751=\"\",\"\",IFERROR(IF(N751=6,1,IF(MATCH(N751&\"/\"&R751,読み替え表_クールビズ!$P$38:$P$59,0),1,0)),0))","v":""},{"$f":"IF($P751=\"\",\"\",IFERROR(IF(P751=6,1,IF(MATCH(P751&\"/\"&R751,読み替え表_クールビズ!$P$38:$P$59,0),1,0)),0))","v":""},"","",0,0,"*"]
[null,null,742,null,null,null,null,null,null,null,null,null,null,null,null,null,null,null,null,null,null,null,null,null,null,null,null,null,null,null,null,null,"","",{"$f":"IF($N752=\"\",\"\",IFERROR(IF(N752=6,1,IF(MATCH(N752&\"/\"&R752,読み替え表_クールビズ!$P$38:$P$59,0),1,0)),0))","v":""},{"$f":"IF($P752=\"\",\"\",IFERROR(IF(P752=6,1,IF(MATCH(P752&\"/\"&R752,読み替え表_クールビズ!$P$38:$P$59,0),1,0)),0))","v":""},"","",0,0,"*"]
[null,null,743,null,null,null,null,null,null,null,null,null,null,null,null,null,null,null,null,null,null,null,null,null,null,null,null,null,null,null,null,null,"","",{"$f":"IF($N753=\"\",\"\",IFERROR(IF(N753=6,1,IF(MATCH(N753&\"/\"&R753,読み替え表_クールビズ!$P$38:$P$59,0),1,0)),0))","v":""},{"$f":"IF($P753=\"\",\"\",IFERROR(IF(P753=6,1,IF(MATCH(P753&\"/\"&R753,読み替え表_クールビズ!$P$38:$P$59,0),1,0)),0))","v":""},"","",0,0,"*"]
[null,null,744,null,null,null,null,null,null,null,null,null,null,null,null,null,null,null,null,null,null,null,null,null,null,null,null,null,null,null,null,null,"","",{"$f":"IF($N754=\"\",\"\",IFERROR(IF(N754=6,1,IF(MATCH(N754&\"/\"&R754,読み替え表_クールビズ!$P$38:$P$59,0),1,0)),0))","v":""},{"$f":"IF($P754=\"\",\"\",IFERROR(IF(P754=6,1,IF(MATCH(P754&\"/\"&R754,読み替え表_クールビズ!$P$38:$P$59,0),1,0)),0))","v":""},"","",0,0,"*"]
[null,null,745,null,null,null,null,null,null,null,null,null,null,null,null,null,null,null,null,null,null,null,null,null,null,null,null,null,null,null,null,null,"","",{"$f":"IF($N755=\"\",\"\",IFERROR(IF(N755=6,1,IF(MATCH(N755&\"/\"&R755,読み替え表_クールビズ!$P$38:$P$59,0),1,0)),0))","v":""},{"$f":"IF($P755=\"\",\"\",IFERROR(IF(P755=6,1,IF(MATCH(P755&\"/\"&R755,読み替え表_クールビズ!$P$38:$P$59,0),1,0)),0))","v":""},"","",0,0,"*"]
[null,null,746,null,null,null,null,null,null,null,null,null,null,null,null,null,null,null,null,null,null,null,null,null,null,null,null,null,null,null,null,null,"","",{"$f":"IF($N756=\"\",\"\",IFERROR(IF(N756=6,1,IF(MATCH(N756&\"/\"&R756,読み替え表_クールビズ!$P$38:$P$59,0),1,0)),0))","v":""},{"$f":"IF($P756=\"\",\"\",IFERROR(IF(P756=6,1,IF(MATCH(P756&\"/\"&R756,読み替え表_クールビズ!$P$38:$P$59,0),1,0)),0))","v":""},"","",0,0,"*"]
[null,null,747,null,null,null,null,null,null,null,null,null,null,null,null,null,null,null,null,null,null,null,null,null,null,null,null,null,null,null,null,null,"","",{"$f":"IF($N757=\"\",\"\",IFERROR(IF(N757=6,1,IF(MATCH(N757&\"/\"&R757,読み替え表_クールビズ!$P$38:$P$59,0),1,0)),0))","v":""},{"$f":"IF($P757=\"\",\"\",IFERROR(IF(P757=6,1,IF(MATCH(P757&\"/\"&R757,読み替え表_クールビズ!$P$38:$P$59,0),1,0)),0))","v":""},"","",0,0,"*"]
[null,null,748,null,null,null,null,null,null,null,null,null,null,null,null,null,null,null,null,null,null,null,null,null,null,null,null,null,null,null,null,null,"","",{"$f":"IF($N758=\"\",\"\",IFERROR(IF(N758=6,1,IF(MATCH(N758&\"/\"&R758,読み替え表_クールビズ!$P$38:$P$59,0),1,0)),0))","v":""},{"$f":"IF($P758=\"\",\"\",IFERROR(IF(P758=6,1,IF(MATCH(P758&\"/\"&R758,読み替え表_クールビズ!$P$38:$P$59,0),1,0)),0))","v":""},"","",0,0,"*"]
[null,null,749,null,null,null,null,null,null,null,null,null,null,null,null,null,null,null,null,null,null,null,null,null,null,null,null,null,null,null,null,null,"","",{"$f":"IF($N759=\"\",\"\",IFERROR(IF(N759=6,1,IF(MATCH(N759&\"/\"&R759,読み替え表_クールビズ!$P$38:$P$59,0),1,0)),0))","v":""},{"$f":"IF($P759=\"\",\"\",IFERROR(IF(P759=6,1,IF(MATCH(P759&\"/\"&R759,読み替え表_クールビズ!$P$38:$P$59,0),1,0)),0))","v":""},"","",0,0,"*"]
[null,null,750,null,null,null,null,null,null,null,null,null,null,null,null,null,null,null,null,null,null,null,null,null,null,null,null,null,null,null,null,null,"","",{"$f":"IF($N760=\"\",\"\",IFERROR(IF(N760=6,1,IF(MATCH(N760&\"/\"&R760,読み替え表_クールビズ!$P$38:$P$59,0),1,0)),0))","v":""},{"$f":"IF($P760=\"\",\"\",IFERROR(IF(P760=6,1,IF(MATCH(P760&\"/\"&R760,読み替え表_クールビズ!$P$38:$P$59,0),1,0)),0))","v":""},"","",0,0,"*"]
[null,null,751,null,null,null,null,null,null,null,null,null,null,null,null,null,null,null,null,null,null,null,null,null,null,null,null,null,null,null,null,null,"","",{"$f":"IF($N761=\"\",\"\",IFERROR(IF(N761=6,1,IF(MATCH(N761&\"/\"&R761,読み替え表_クールビズ!$P$38:$P$59,0),1,0)),0))","v":""},{"$f":"IF($P761=\"\",\"\",IFERROR(IF(P761=6,1,IF(MATCH(P761&\"/\"&R761,読み替え表_クールビズ!$P$38:$P$59,0),1,0)),0))","v":""},"","",0,0,"*"]
[null,null,752,null,null,null,null,null,null,null,null,null,null,null,null,null,null,null,null,null,null,null,null,null,null,null,null,null,null,null,null,null,"","",{"$f":"IF($N762=\"\",\"\",IFERROR(IF(N762=6,1,IF(MATCH(N762&\"/\"&R762,読み替え表_クールビズ!$P$38:$P$59,0),1,0)),0))","v":""},{"$f":"IF($P762=\"\",\"\",IFERROR(IF(P762=6,1,IF(MATCH(P762&\"/\"&R762,読み替え表_クールビズ!$P$38:$P$59,0),1,0)),0))","v":""},"","",0,0,"*"]
[null,null,753,null,null,null,null,null,null,null,null,null,null,null,null,null,null,null,null,null,null,null,null,null,null,null,null,null,null,null,null,null,"","",{"$f":"IF($N763=\"\",\"\",IFERROR(IF(N763=6,1,IF(MATCH(N763&\"/\"&R763,読み替え表_クールビズ!$P$38:$P$59,0),1,0)),0))","v":""},{"$f":"IF($P763=\"\",\"\",IFERROR(IF(P763=6,1,IF(MATCH(P763&\"/\"&R763,読み替え表_クールビズ!$P$38:$P$59,0),1,0)),0))","v":""},"","",0,0,"*"]
[null,null,754,null,null,null,null,null,null,null,null,null,null,null,null,null,null,null,null,null,null,null,null,null,null,null,null,null,null,null,null,null,"","",{"$f":"IF($N764=\"\",\"\",IFERROR(IF(N764=6,1,IF(MATCH(N764&\"/\"&R764,読み替え表_クールビズ!$P$38:$P$59,0),1,0)),0))","v":""},{"$f":"IF($P764=\"\",\"\",IFERROR(IF(P764=6,1,IF(MATCH(P764&\"/\"&R764,読み替え表_クールビズ!$P$38:$P$59,0),1,0)),0))","v":""},"","",0,0,"*"]
[null,null,755,null,null,null,null,null,null,null,null,null,null,null,null,null,null,null,null,null,null,null,null,null,null,null,null,null,null,null,null,null,"","",{"$f":"IF($N765=\"\",\"\",IFERROR(IF(N765=6,1,IF(MATCH(N765&\"/\"&R765,読み替え表_クールビズ!$P$38:$P$59,0),1,0)),0))","v":""},{"$f":"IF($P765=\"\",\"\",IFERROR(IF(P765=6,1,IF(MATCH(P765&\"/\"&R765,読み替え表_クールビズ!$P$38:$P$59,0),1,0)),0))","v":""},"","",0,0,"*"]
[null,null,756,null,null,null,null,null,null,null,null,null,null,null,null,null,null,null,null,null,null,null,null,null,null,null,null,null,null,null,null,null,"","",{"$f":"IF($N766=\"\",\"\",IFERROR(IF(N766=6,1,IF(MATCH(N766&\"/\"&R766,読み替え表_クールビズ!$P$38:$P$59,0),1,0)),0))","v":""},{"$f":"IF($P766=\"\",\"\",IFERROR(IF(P766=6,1,IF(MATCH(P766&\"/\"&R766,読み替え表_クールビズ!$P$38:$P$59,0),1,0)),0))","v":""},"","",0,0,"*"]
[null,null,757,null,null,null,null,null,null,null,null,null,null,null,null,null,null,null,null,null,null,null,null,null,null,null,null,null,null,null,null,null,"","",{"$f":"IF($N767=\"\",\"\",IFERROR(IF(N767=6,1,IF(MATCH(N767&\"/\"&R767,読み替え表_クールビズ!$P$38:$P$59,0),1,0)),0))","v":""},{"$f":"IF($P767=\"\",\"\",IFERROR(IF(P767=6,1,IF(MATCH(P767&\"/\"&R767,読み替え表_クールビズ!$P$38:$P$59,0),1,0)),0))","v":""},"","",0,0,"*"]
[null,null,758,null,null,null,null,null,null,null,null,null,null,null,null,null,null,null,null,null,null,null,null,null,null,null,null,null,null,null,null,null,"","",{"$f":"IF($N768=\"\",\"\",IFERROR(IF(N768=6,1,IF(MATCH(N768&\"/\"&R768,読み替え表_クールビズ!$P$38:$P$59,0),1,0)),0))","v":""},{"$f":"IF($P768=\"\",\"\",IFERROR(IF(P768=6,1,IF(MATCH(P768&\"/\"&R768,読み替え表_クールビズ!$P$38:$P$59,0),1,0)),0))","v":""},"","",0,0,"*"]
[null,null,759,null,null,null,null,null,null,null,null,null,null,null,null,null,null,null,null,null,null,null,null,null,null,null,null,null,null,null,null,null,"","",{"$f":"IF($N769=\"\",\"\",IFERROR(IF(N769=6,1,IF(MATCH(N769&\"/\"&R769,読み替え表_クールビズ!$P$38:$P$59,0),1,0)),0))","v":""},{"$f":"IF($P769=\"\",\"\",IFERROR(IF(P769=6,1,IF(MATCH(P769&\"/\"&R769,読み替え表_クールビズ!$P$38:$P$59,0),1,0)),0))","v":""},"","",0,0,"*"]
[null,null,760,null,null,null,null,null,null,null,null,null,null,null,null,null,null,null,null,null,null,null,null,null,null,null,null,null,null,null,null,null,"","",{"$f":"IF($N770=\"\",\"\",IFERROR(IF(N770=6,1,IF(MATCH(N770&\"/\"&R770,読み替え表_クールビズ!$P$38:$P$59,0),1,0)),0))","v":""},{"$f":"IF($P770=\"\",\"\",IFERROR(IF(P770=6,1,IF(MATCH(P770&\"/\"&R770,読み替え表_クールビズ!$P$38:$P$59,0),1,0)),0))","v":""},"","",0,0,"*"]
[null,null,761,null,null,null,null,null,null,null,null,null,null,null,null,null,null,null,null,null,null,null,null,null,null,null,null,null,null,null,null,null,"","",{"$f":"IF($N771=\"\",\"\",IFERROR(IF(N771=6,1,IF(MATCH(N771&\"/\"&R771,読み替え表_クールビズ!$P$38:$P$59,0),1,0)),0))","v":""},{"$f":"IF($P771=\"\",\"\",IFERROR(IF(P771=6,1,IF(MATCH(P771&\"/\"&R771,読み替え表_クールビズ!$P$38:$P$59,0),1,0)),0))","v":""},"","",0,0,"*"]
[null,null,762,null,null,null,null,null,null,null,null,null,null,null,null,null,null,null,null,null,null,null,null,null,null,null,null,null,null,null,null,null,"","",{"$f":"IF($N772=\"\",\"\",IFERROR(IF(N772=6,1,IF(MATCH(N772&\"/\"&R772,読み替え表_クールビズ!$P$38:$P$59,0),1,0)),0))","v":""},{"$f":"IF($P772=\"\",\"\",IFERROR(IF(P772=6,1,IF(MATCH(P772&\"/\"&R772,読み替え表_クールビズ!$P$38:$P$59,0),1,0)),0))","v":""},"","",0,0,"*"]
[null,null,763,null,null,null,null,null,null,null,null,null,null,null,null,null,null,null,null,null,null,null,null,null,null,null,null,null,null,null,null,null,"","",{"$f":"IF($N773=\"\",\"\",IFERROR(IF(N773=6,1,IF(MATCH(N773&\"/\"&R773,読み替え表_クールビズ!$P$38:$P$59,0),1,0)),0))","v":""},{"$f":"IF($P773=\"\",\"\",IFERROR(IF(P773=6,1,IF(MATCH(P773&\"/\"&R773,読み替え表_クールビズ!$P$38:$P$59,0),1,0)),0))","v":""},"","",0,0,"*"]
[null,null,764,null,null,null,null,null,null,null,null,null,null,null,null,null,null,null,null,null,null,null,null,null,null,null,null,null,null,null,null,null,"","",{"$f":"IF($N774=\"\",\"\",IFERROR(IF(N774=6,1,IF(MATCH(N774&\"/\"&R774,読み替え表_クールビズ!$P$38:$P$59,0),1,0)),0))","v":""},{"$f":"IF($P774=\"\",\"\",IFERROR(IF(P774=6,1,IF(MATCH(P774&\"/\"&R774,読み替え表_クールビズ!$P$38:$P$59,0),1,0)),0))","v":""},"","",0,0,"*"]
[null,null,765,null,null,null,null,null,null,null,null,null,null,null,null,null,null,null,null,null,null,null,null,null,null,null,null,null,null,null,null,null,"","",{"$f":"IF($N775=\"\",\"\",IFERROR(IF(N775=6,1,IF(MATCH(N775&\"/\"&R775,読み替え表_クールビズ!$P$38:$P$59,0),1,0)),0))","v":""},{"$f":"IF($P775=\"\",\"\",IFERROR(IF(P775=6,1,IF(MATCH(P775&\"/\"&R775,読み替え表_クールビズ!$P$38:$P$59,0),1,0)),0))","v":""},"","",0,0,"*"]
[null,null,766,null,null,null,null,null,null,null,null,null,null,null,null,null,null,null,null,null,null,null,null,null,null,null,null,null,null,null,null,null,"","",{"$f":"IF($N776=\"\",\"\",IFERROR(IF(N776=6,1,IF(MATCH(N776&\"/\"&R776,読み替え表_クールビズ!$P$38:$P$59,0),1,0)),0))","v":""},{"$f":"IF($P776=\"\",\"\",IFERROR(IF(P776=6,1,IF(MATCH(P776&\"/\"&R776,読み替え表_クールビズ!$P$38:$P$59,0),1,0)),0))","v":""},"","",0,0,"*"]
[null,null,767,null,null,null,null,null,null,null,null,null,null,null,null,null,null,null,null,null,null,null,null,null,null,null,null,null,null,null,null,null,"","",{"$f":"IF($N777=\"\",\"\",IFERROR(IF(N777=6,1,IF(MATCH(N777&\"/\"&R777,読み替え表_クールビズ!$P$38:$P$59,0),1,0)),0))","v":""},{"$f":"IF($P777=\"\",\"\",IFERROR(IF(P777=6,1,IF(MATCH(P777&\"/\"&R777,読み替え表_クールビズ!$P$38:$P$59,0),1,0)),0))","v":""},"","",0,0,"*"]
[null,null,768,null,null,null,null,null,null,null,null,null,null,null,null,null,null,null,null,null,null,null,null,null,null,null,null,null,null,null,null,null,"","",{"$f":"IF($N778=\"\",\"\",IFERROR(IF(N778=6,1,IF(MATCH(N778&\"/\"&R778,読み替え表_クールビズ!$P$38:$P$59,0),1,0)),0))","v":""},{"$f":"IF($P778=\"\",\"\",IFERROR(IF(P778=6,1,IF(MATCH(P778&\"/\"&R778,読み替え表_クールビズ!$P$38:$P$59,0),1,0)),0))","v":""},"","",0,0,"*"]
[null,null,769,null,null,null,null,null,null,null,null,null,null,null,null,null,null,null,null,null,null,null,null,null,null,null,null,null,null,null,null,null,"","",{"$f":"IF($N779=\"\",\"\",IFERROR(IF(N779=6,1,IF(MATCH(N779&\"/\"&R779,読み替え表_クールビズ!$P$38:$P$59,0),1,0)),0))","v":""},{"$f":"IF($P779=\"\",\"\",IFERROR(IF(P779=6,1,IF(MATCH(P779&\"/\"&R779,読み替え表_クールビズ!$P$38:$P$59,0),1,0)),0))","v":""},{"$f":"IF($N779=\"\",\"\",IF(OR(CONCATENATE(N779,$R779)=\"22\",CONCATENATE(N779,$R779)=\"32\",CONCATENATE(N779,$R779)=\"42\",CONCATENATE(N779,$R779)=\"43\",CONCATENATE(N779,$R779)=\"51\",CONCATENATE(N779,$R779)=\"52\",CONCATENATE(N779,$R779)=\"53\"),1,0))","v":""},{"$f":"IF($P779=\"\",\"\",IF(OR(CONCATENATE(P779,$R779)=\"22\",CONCATENATE(P779,$R779)=\"32\",CONCATENATE(P779,$R779)=\"42\",CONCATENATE(P779,$R779)=\"43\",CONCATENATE(P779,$R779)=\"51\",CONCATENATE(P779,$R779)=\"52\",CONCATENATE(P779,$R779)=\"53\"),1,0))","v":""},0,0,"*"]
[null,null,{"$f":"ROW()-10","v":770},null,null,null,null,null,null,null,null,null,null,null,null,null,null,null,null,null,null,null,null,null,null,null,null,null,null,null,null,null,{"$f":"IF($J780=\"\",\"\",IF(AND($J780>=1,$J780<=9),1,0))","v":""},{"$f":"IF($R780=\"\",\"\",IF(OR($R780=1,$R780=2,$R780=3),1,0))","v":""},{"$f":"IF($N780=\"\",\"\",IFERROR(IF(N780=6,1,IF(MATCH(N780&\"/\"&R780,読み替え表_クールビズ!$P$38:$P$59,0),1,0)),0))","v":""},{"$f":"IF($P780=\"\",\"\",IFERROR(IF(P780=6,1,IF(MATCH(P780&\"/\"&R780,読み替え表_クールビズ!$P$38:$P$59,0),1,0)),0))","v":""},"","",{"$f":"IF(OR(AK780=1,AL780=1),1,0)","v":0},{"$f":"IF(OR($AG780=0,SUM(AI780:AJ780)=2),1,0)","v":0},"*"]
[null,null,771,null,null,null,null,null,null,null,null,null,null,null,null,null,null,null,null,null,null,null,null,null,null,null,null,null,null,null,null,null,"","",{"$f":"IF($N781=\"\",\"\",IFERROR(IF(N781=6,1,IF(MATCH(N781&\"/\"&R781,読み替え表_クールビズ!$P$38:$P$59,0),1,0)),0))","v":""},{"$f":"IF($P781=\"\",\"\",IFERROR(IF(P781=6,1,IF(MATCH(P781&\"/\"&R781,読み替え表_クールビズ!$P$38:$P$59,0),1,0)),0))","v":""},"","",0,0,"*"]
[null,null,772,null,null,null,null,null,null,null,null,null,null,null,null,null,null,null,null,null,null,null,null,null,null,null,null,null,null,null,null,null,"","",{"$f":"IF($N782=\"\",\"\",IFERROR(IF(N782=6,1,IF(MATCH(N782&\"/\"&R782,読み替え表_クールビズ!$P$38:$P$59,0),1,0)),0))","v":""},{"$f":"IF($P782=\"\",\"\",IFERROR(IF(P782=6,1,IF(MATCH(P782&\"/\"&R782,読み替え表_クールビズ!$P$38:$P$59,0),1,0)),0))","v":""},"","",0,0,"*"]
[null,null,773,null,null,null,null,null,null,null,null,null,null,null,null,null,null,null,null,null,null,null,null,null,null,null,null,null,null,null,null,null,"","",{"$f":"IF($N783=\"\",\"\",IFERROR(IF(N783=6,1,IF(MATCH(N783&\"/\"&R783,読み替え表_クールビズ!$P$38:$P$59,0),1,0)),0))","v":""},{"$f":"IF($P783=\"\",\"\",IFERROR(IF(P783=6,1,IF(MATCH(P783&\"/\"&R783,読み替え表_クールビズ!$P$38:$P$59,0),1,0)),0))","v":""},"","",0,0,"*"]
[null,null,774,null,null,null,null,null,null,null,null,null,null,null,null,null,null,null,null,null,null,null,null,null,null,null,null,null,null,null,null,null,"","",{"$f":"IF($N784=\"\",\"\",IFERROR(IF(N784=6,1,IF(MATCH(N784&\"/\"&R784,読み替え表_クールビズ!$P$38:$P$59,0),1,0)),0))","v":""},{"$f":"IF($P784=\"\",\"\",IFERROR(IF(P784=6,1,IF(MATCH(P784&\"/\"&R784,読み替え表_クールビズ!$P$38:$P$59,0),1,0)),0))","v":""},"","",0,0,"*"]
[null,null,775,null,null,null,null,null,null,null,null,null,null,null,null,null,null,null,null,null,null,null,null,null,null,null,null,null,null,null,null,null,"","",{"$f":"IF($N785=\"\",\"\",IFERROR(IF(N785=6,1,IF(MATCH(N785&\"/\"&R785,読み替え表_クールビズ!$P$38:$P$59,0),1,0)),0))","v":""},{"$f":"IF($P785=\"\",\"\",IFERROR(IF(P785=6,1,IF(MATCH(P785&\"/\"&R785,読み替え表_クールビズ!$P$38:$P$59,0),1,0)),0))","v":""},"","",0,0,"*"]
[null,null,776,null,null,null,null,null,null,null,null,null,null,null,null,null,null,null,null,null,null,null,null,null,null,null,null,null,null,null,null,null,"","",{"$f":"IF($N786=\"\",\"\",IFERROR(IF(N786=6,1,IF(MATCH(N786&\"/\"&R786,読み替え表_クールビズ!$P$38:$P$59,0),1,0)),0))","v":""},{"$f":"IF($P786=\"\",\"\",IFERROR(IF(P786=6,1,IF(MATCH(P786&\"/\"&R786,読み替え表_クールビズ!$P$38:$P$59,0),1,0)),0))","v":""},"","",0,0,"*"]
[null,null,777,null,null,null,null,null,null,null,null,null,null,null,null,null,null,null,null,null,null,null,null,null,null,null,null,null,null,null,null,null,"","",{"$f":"IF($N787=\"\",\"\",IFERROR(IF(N787=6,1,IF(MATCH(N787&\"/\"&R787,読み替え表_クールビズ!$P$38:$P$59,0),1,0)),0))","v":""},{"$f":"IF($P787=\"\",\"\",IFERROR(IF(P787=6,1,IF(MATCH(P787&\"/\"&R787,読み替え表_クールビズ!$P$38:$P$59,0),1,0)),0))","v":""},"","",0,0,"*"]
[null,null,778,null,null,null,null,null,null,null,null,null,null,null,null,null,null,null,null,null,null,null,null,null,null,null,null,null,null,null,null,null,"","",{"$f":"IF($N788=\"\",\"\",IFERROR(IF(N788=6,1,IF(MATCH(N788&\"/\"&R788,読み替え表_クールビズ!$P$38:$P$59,0),1,0)),0))","v":""},{"$f":"IF($P788=\"\",\"\",IFERROR(IF(P788=6,1,IF(MATCH(P788&\"/\"&R788,読み替え表_クールビズ!$P$38:$P$59,0),1,0)),0))","v":""},"","",0,0,"*"]
[null,null,779,null,null,null,null,null,null,null,null,null,null,null,null,null,null,null,null,null,null,null,null,null,null,null,null,null,null,null,null,null,"","",{"$f":"IF($N789=\"\",\"\",IFERROR(IF(N789=6,1,IF(MATCH(N789&\"/\"&R789,読み替え表_クールビズ!$P$38:$P$59,0),1,0)),0))","v":""},{"$f":"IF($P789=\"\",\"\",IFERROR(IF(P789=6,1,IF(MATCH(P789&\"/\"&R789,読み替え表_クールビズ!$P$38:$P$59,0),1,0)),0))","v":""},"","",0,0,"*"]
[null,null,780,null,null,null,null,null,null,null,null,null,null,null,null,null,null,null,null,null,null,null,null,null,null,null,null,null,null,null,null,null,"","",{"$f":"IF($N790=\"\",\"\",IFERROR(IF(N790=6,1,IF(MATCH(N790&\"/\"&R790,読み替え表_クールビズ!$P$38:$P$59,0),1,0)),0))","v":""},{"$f":"IF($P790=\"\",\"\",IFERROR(IF(P790=6,1,IF(MATCH(P790&\"/\"&R790,読み替え表_クールビズ!$P$38:$P$59,0),1,0)),0))","v":""},"","",0,0,"*"]
[null,null,781,null,null,null,null,null,null,null,null,null,null,null,null,null,null,null,null,null,null,null,null,null,null,null,null,null,null,null,null,null,"","",{"$f":"IF($N791=\"\",\"\",IFERROR(IF(N791=6,1,IF(MATCH(N791&\"/\"&R791,読み替え表_クールビズ!$P$38:$P$59,0),1,0)),0))","v":""},{"$f":"IF($P791=\"\",\"\",IFERROR(IF(P791=6,1,IF(MATCH(P791&\"/\"&R791,読み替え表_クールビズ!$P$38:$P$59,0),1,0)),0))","v":""},"","",0,0,"*"]
[null,null,782,null,null,null,null,null,null,null,null,null,null,null,null,null,null,null,null,null,null,null,null,null,null,null,null,null,null,null,null,null,"","",{"$f":"IF($N792=\"\",\"\",IFERROR(IF(N792=6,1,IF(MATCH(N792&\"/\"&R792,読み替え表_クールビズ!$P$38:$P$59,0),1,0)),0))","v":""},{"$f":"IF($P792=\"\",\"\",IFERROR(IF(P792=6,1,IF(MATCH(P792&\"/\"&R792,読み替え表_クールビズ!$P$38:$P$59,0),1,0)),0))","v":""},"","",0,0,"*"]
[null,null,783,null,null,null,null,null,null,null,null,null,null,null,null,null,null,null,null,null,null,null,null,null,null,null,null,null,null,null,null,null,"","",{"$f":"IF($N793=\"\",\"\",IFERROR(IF(N793=6,1,IF(MATCH(N793&\"/\"&R793,読み替え表_クールビズ!$P$38:$P$59,0),1,0)),0))","v":""},{"$f":"IF($P793=\"\",\"\",IFERROR(IF(P793=6,1,IF(MATCH(P793&\"/\"&R793,読み替え表_クールビズ!$P$38:$P$59,0),1,0)),0))","v":""},"","",0,0,"*"]
[null,null,784,null,null,null,null,null,null,null,null,null,null,null,null,null,null,null,null,null,null,null,null,null,null,null,null,null,null,null,null,null,"","",{"$f":"IF($N794=\"\",\"\",IFERROR(IF(N794=6,1,IF(MATCH(N794&\"/\"&R794,読み替え表_クールビズ!$P$38:$P$59,0),1,0)),0))","v":""},{"$f":"IF($P794=\"\",\"\",IFERROR(IF(P794=6,1,IF(MATCH(P794&\"/\"&R794,読み替え表_クールビズ!$P$38:$P$59,0),1,0)),0))","v":""},"","",0,0,"*"]
[null,null,785,null,null,null,null,null,null,null,null,null,null,null,null,null,null,null,null,null,null,null,null,null,null,null,null,null,null,null,null,null,"","",{"$f":"IF($N795=\"\",\"\",IFERROR(IF(N795=6,1,IF(MATCH(N795&\"/\"&R795,読み替え表_クールビズ!$P$38:$P$59,0),1,0)),0))","v":""},{"$f":"IF($P795=\"\",\"\",IFERROR(IF(P795=6,1,IF(MATCH(P795&\"/\"&R795,読み替え表_クールビズ!$P$38:$P$59,0),1,0)),0))","v":""},"","",0,0,"*"]
[null,null,786,null,null,null,null,null,null,null,null,null,null,null,null,null,null,null,null,null,null,null,null,null,null,null,null,null,null,null,null,null,"","",{"$f":"IF($N796=\"\",\"\",IFERROR(IF(N796=6,1,IF(MATCH(N796&\"/\"&R796,読み替え表_クールビズ!$P$38:$P$59,0),1,0)),0))","v":""},{"$f":"IF($P796=\"\",\"\",IFERROR(IF(P796=6,1,IF(MATCH(P796&\"/\"&R796,読み替え表_クールビズ!$P$38:$P$59,0),1,0)),0))","v":""},"","",0,0,"*"]
[null,null,787,null,null,null,null,null,null,null,null,null,null,null,null,null,null,null,null,null,null,null,null,null,null,null,null,null,null,null,null,null,"","",{"$f":"IF($N797=\"\",\"\",IFERROR(IF(N797=6,1,IF(MATCH(N797&\"/\"&R797,読み替え表_クールビズ!$P$38:$P$59,0),1,0)),0))","v":""},{"$f":"IF($P797=\"\",\"\",IFERROR(IF(P797=6,1,IF(MATCH(P797&\"/\"&R797,読み替え表_クールビズ!$P$38:$P$59,0),1,0)),0))","v":""},"","",0,0,"*"]
[null,null,788,null,null,null,null,null,null,null,null,null,null,null,null,null,null,null,null,null,null,null,null,null,null,null,null,null,null,null,null,null,"","",{"$f":"IF($N798=\"\",\"\",IFERROR(IF(N798=6,1,IF(MATCH(N798&\"/\"&R798,読み替え表_クールビズ!$P$38:$P$59,0),1,0)),0))","v":""},{"$f":"IF($P798=\"\",\"\",IFERROR(IF(P798=6,1,IF(MATCH(P798&\"/\"&R798,読み替え表_クールビズ!$P$38:$P$59,0),1,0)),0))","v":""},"","",0,0,"*"]
[null,null,789,null,null,null,null,null,null,null,null,null,null,null,null,null,null,null,null,null,null,null,null,null,null,null,null,null,null,null,null,null,"","",{"$f":"IF($N799=\"\",\"\",IFERROR(IF(N799=6,1,IF(MATCH(N799&\"/\"&R799,読み替え表_クールビズ!$P$38:$P$59,0),1,0)),0))","v":""},{"$f":"IF($P799=\"\",\"\",IFERROR(IF(P799=6,1,IF(MATCH(P799&\"/\"&R799,読み替え表_クールビズ!$P$38:$P$59,0),1,0)),0))","v":""},"","",0,0,"*"]
[null,null,790,null,null,null,null,null,null,null,null,null,null,null,null,null,null,null,null,null,null,null,null,null,null,null,null,null,null,null,null,null,"","",{"$f":"IF($N800=\"\",\"\",IFERROR(IF(N800=6,1,IF(MATCH(N800&\"/\"&R800,読み替え表_クールビズ!$P$38:$P$59,0),1,0)),0))","v":""},{"$f":"IF($P800=\"\",\"\",IFERROR(IF(P800=6,1,IF(MATCH(P800&\"/\"&R800,読み替え表_クールビズ!$P$38:$P$59,0),1,0)),0))","v":""},"","",0,0,"*"]
[null,null,791,null,null,null,null,null,null,null,null,null,null,null,null,null,null,null,null,null,null,null,null,null,null,null,null,null,null,null,null,null,"","",{"$f":"IF($N801=\"\",\"\",IFERROR(IF(N801=6,1,IF(MATCH(N801&\"/\"&R801,読み替え表_クールビズ!$P$38:$P$59,0),1,0)),0))","v":""},{"$f":"IF($P801=\"\",\"\",IFERROR(IF(P801=6,1,IF(MATCH(P801&\"/\"&R801,読み替え表_クールビズ!$P$38:$P$59,0),1,0)),0))","v":""},"","",0,0,"*"]
[null,null,792,null,null,null,null,null,null,null,null,null,null,null,null,null,null,null,null,null,null,null,null,null,null,null,null,null,null,null,null,null,"","",{"$f":"IF($N802=\"\",\"\",IFERROR(IF(N802=6,1,IF(MATCH(N802&\"/\"&R802,読み替え表_クールビズ!$P$38:$P$59,0),1,0)),0))","v":""},{"$f":"IF($P802=\"\",\"\",IFERROR(IF(P802=6,1,IF(MATCH(P802&\"/\"&R802,読み替え表_クールビズ!$P$38:$P$59,0),1,0)),0))","v":""},"","",0,0,"*"]
[null,null,793,null,null,null,null,null,null,null,null,null,null,null,null,null,null,null,null,null,null,null,null,null,null,null,null,null,null,null,null,null,"","",{"$f":"IF($N803=\"\",\"\",IFERROR(IF(N803=6,1,IF(MATCH(N803&\"/\"&R803,読み替え表_クールビズ!$P$38:$P$59,0),1,0)),0))","v":""},{"$f":"IF($P803=\"\",\"\",IFERROR(IF(P803=6,1,IF(MATCH(P803&\"/\"&R803,読み替え表_クールビズ!$P$38:$P$59,0),1,0)),0))","v":""},"","",0,0,"*"]
[null,null,794,null,null,null,null,null,null,null,null,null,null,null,null,null,null,null,null,null,null,null,null,null,null,null,null,null,null,null,null,null,"","",{"$f":"IF($N804=\"\",\"\",IFERROR(IF(N804=6,1,IF(MATCH(N804&\"/\"&R804,読み替え表_クールビズ!$P$38:$P$59,0),1,0)),0))","v":""},{"$f":"IF($P804=\"\",\"\",IFERROR(IF(P804=6,1,IF(MATCH(P804&\"/\"&R804,読み替え表_クールビズ!$P$38:$P$59,0),1,0)),0))","v":""},"","",0,0,"*"]
[null,null,795,null,null,null,null,null,null,null,null,null,null,null,null,null,null,null,null,null,null,null,null,null,null,null,null,null,null,null,null,null,"","",{"$f":"IF($N805=\"\",\"\",IFERROR(IF(N805=6,1,IF(MATCH(N805&\"/\"&R805,読み替え表_クールビズ!$P$38:$P$59,0),1,0)),0))","v":""},{"$f":"IF($P805=\"\",\"\",IFERROR(IF(P805=6,1,IF(MATCH(P805&\"/\"&R805,読み替え表_クールビズ!$P$38:$P$59,0),1,0)),0))","v":""},"","",0,0,"*"]
[null,null,796,null,null,null,null,null,null,null,null,null,null,null,null,null,null,null,null,null,null,null,null,null,null,null,null,null,null,null,null,null,"","",{"$f":"IF($N806=\"\",\"\",IFERROR(IF(N806=6,1,IF(MATCH(N806&\"/\"&R806,読み替え表_クールビズ!$P$38:$P$59,0),1,0)),0))","v":""},{"$f":"IF($P806=\"\",\"\",IFERROR(IF(P806=6,1,IF(MATCH(P806&\"/\"&R806,読み替え表_クールビズ!$P$38:$P$59,0),1,0)),0))","v":""},"","",0,0,"*"]
[null,null,797,null,null,null,null,null,null,null,null,null,null,null,null,null,null,null,null,null,null,null,null,null,null,null,null,null,null,null,null,null,"","",{"$f":"IF($N807=\"\",\"\",IFERROR(IF(N807=6,1,IF(MATCH(N807&\"/\"&R807,読み替え表_クールビズ!$P$38:$P$59,0),1,0)),0))","v":""},{"$f":"IF($P807=\"\",\"\",IFERROR(IF(P807=6,1,IF(MATCH(P807&\"/\"&R807,読み替え表_クールビズ!$P$38:$P$59,0),1,0)),0))","v":""},"","",0,0,"*"]
[null,null,798,null,null,null,null,null,null,null,null,null,null,null,null,null,null,null,null,null,null,null,null,null,null,null,null,null,null,null,null,null,"","",{"$f":"IF($N808=\"\",\"\",IFERROR(IF(N808=6,1,IF(MATCH(N808&\"/\"&R808,読み替え表_クールビズ!$P$38:$P$59,0),1,0)),0))","v":""},{"$f":"IF($P808=\"\",\"\",IFERROR(IF(P808=6,1,IF(MATCH(P808&\"/\"&R808,読み替え表_クールビズ!$P$38:$P$59,0),1,0)),0))","v":""},"","",0,0,"*"]
[null,null,799,null,null,null,null,null,null,null,null,null,null,null,null,null,null,null,null,null,null,null,null,null,null,null,null,null,null,null,null,null,"","",{"$f":"IF($N809=\"\",\"\",IFERROR(IF(N809=6,1,IF(MATCH(N809&\"/\"&R809,読み替え表_クールビズ!$P$38:$P$59,0),1,0)),0))","v":""},{"$f":"IF($P809=\"\",\"\",IFERROR(IF(P809=6,1,IF(MATCH(P809&\"/\"&R809,読み替え表_クールビズ!$P$38:$P$59,0),1,0)),0))","v":""},"","",0,0,"*"]
[null,null,800,null,null,null,null,null,null,null,null,null,null,null,null,null,null,null,null,null,null,null,null,null,null,null,null,null,null,null,null,null,"","",{"$f":"IF($N810=\"\",\"\",IFERROR(IF(N810=6,1,IF(MATCH(N810&\"/\"&R810,読み替え表_クールビズ!$P$38:$P$59,0),1,0)),0))","v":""},{"$f":"IF($P810=\"\",\"\",IFERROR(IF(P810=6,1,IF(MATCH(P810&\"/\"&R810,読み替え表_クールビズ!$P$38:$P$59,0),1,0)),0))","v":""},"","",0,0,"*"]
[null,null,801,null,null,null,null,null,null,null,null,null,null,null,null,null,null,null,null,null,null,null,null,null,null,null,null,null,null,null,null,null,"","",{"$f":"IF($N811=\"\",\"\",IFERROR(IF(N811=6,1,IF(MATCH(N811&\"/\"&R811,読み替え表_クールビズ!$P$38:$P$59,0),1,0)),0))","v":""},{"$f":"IF($P811=\"\",\"\",IFERROR(IF(P811=6,1,IF(MATCH(P811&\"/\"&R811,読み替え表_クールビズ!$P$38:$P$59,0),1,0)),0))","v":""},"","",0,0,"*"]
[null,null,802,null,null,null,null,null,null,null,null,null,null,null,null,null,null,null,null,null,null,null,null,null,null,null,null,null,null,null,null,null,"","",{"$f":"IF($N812=\"\",\"\",IFERROR(IF(N812=6,1,IF(MATCH(N812&\"/\"&R812,読み替え表_クールビズ!$P$38:$P$59,0),1,0)),0))","v":""},{"$f":"IF($P812=\"\",\"\",IFERROR(IF(P812=6,1,IF(MATCH(P812&\"/\"&R812,読み替え表_クールビズ!$P$38:$P$59,0),1,0)),0))","v":""},"","",0,0,"*"]
[null,null,803,null,null,null,null,null,null,null,null,null,null,null,null,null,null,null,null,null,null,null,null,null,null,null,null,null,null,null,null,null,"","",{"$f":"IF($N813=\"\",\"\",IFERROR(IF(N813=6,1,IF(MATCH(N813&\"/\"&R813,読み替え表_クールビズ!$P$38:$P$59,0),1,0)),0))","v":""},{"$f":"IF($P813=\"\",\"\",IFERROR(IF(P813=6,1,IF(MATCH(P813&\"/\"&R813,読み替え表_クールビズ!$P$38:$P$59,0),1,0)),0))","v":""},"","",0,0,"*"]
[null,null,804,null,null,null,null,null,null,null,null,null,null,null,null,null,null,null,null,null,null,null,null,null,null,null,null,null,null,null,null,null,"","",{"$f":"IF($N814=\"\",\"\",IFERROR(IF(N814=6,1,IF(MATCH(N814&\"/\"&R814,読み替え表_クールビズ!$P$38:$P$59,0),1,0)),0))","v":""},{"$f":"IF($P814=\"\",\"\",IFERROR(IF(P814=6,1,IF(MATCH(P814&\"/\"&R814,読み替え表_クールビズ!$P$38:$P$59,0),1,0)),0))","v":""},"","",0,0,"*"]
[null,null,805,null,null,null,null,null,null,null,null,null,null,null,null,null,null,null,null,null,null,null,null,null,null,null,null,null,null,null,null,null,"","",{"$f":"IF($N815=\"\",\"\",IFERROR(IF(N815=6,1,IF(MATCH(N815&\"/\"&R815,読み替え表_クールビズ!$P$38:$P$59,0),1,0)),0))","v":""},{"$f":"IF($P815=\"\",\"\",IFERROR(IF(P815=6,1,IF(MATCH(P815&\"/\"&R815,読み替え表_クールビズ!$P$38:$P$59,0),1,0)),0))","v":""},"","",0,0,"*"]
[null,null,806,null,null,null,null,null,null,null,null,null,null,null,null,null,null,null,null,null,null,null,null,null,null,null,null,null,null,null,null,null,"","",{"$f":"IF($N816=\"\",\"\",IFERROR(IF(N816=6,1,IF(MATCH(N816&\"/\"&R816,読み替え表_クールビズ!$P$38:$P$59,0),1,0)),0))","v":""},{"$f":"IF($P816=\"\",\"\",IFERROR(IF(P816=6,1,IF(MATCH(P816&\"/\"&R816,読み替え表_クールビズ!$P$38:$P$59,0),1,0)),0))","v":""},"","",0,0,"*"]
[null,null,807,null,null,null,null,null,null,null,null,null,null,null,null,null,null,null,null,null,null,null,null,null,null,null,null,null,null,null,null,null,"","",{"$f":"IF($N817=\"\",\"\",IFERROR(IF(N817=6,1,IF(MATCH(N817&\"/\"&R817,読み替え表_クールビズ!$P$38:$P$59,0),1,0)),0))","v":""},{"$f":"IF($P817=\"\",\"\",IFERROR(IF(P817=6,1,IF(MATCH(P817&\"/\"&R817,読み替え表_クールビズ!$P$38:$P$59,0),1,0)),0))","v":""},"","",0,0,"*"]
[null,null,808,null,null,null,null,null,null,null,null,null,null,null,null,null,null,null,null,null,null,null,null,null,null,null,null,null,null,null,null,null,"","",{"$f":"IF($N818=\"\",\"\",IFERROR(IF(N818=6,1,IF(MATCH(N818&\"/\"&R818,読み替え表_クールビズ!$P$38:$P$59,0),1,0)),0))","v":""},{"$f":"IF($P818=\"\",\"\",IFERROR(IF(P818=6,1,IF(MATCH(P818&\"/\"&R818,読み替え表_クールビズ!$P$38:$P$59,0),1,0)),0))","v":""},"","",0,0,"*"]
[null,null,809,null,null,null,null,null,null,null,null,null,null,null,null,null,null,null,null,null,null,null,null,null,null,null,null,null,null,null,null,null,"","",{"$f":"IF($N819=\"\",\"\",IFERROR(IF(N819=6,1,IF(MATCH(N819&\"/\"&R819,読み替え表_クールビズ!$P$38:$P$59,0),1,0)),0))","v":""},{"$f":"IF($P819=\"\",\"\",IFERROR(IF(P819=6,1,IF(MATCH(P819&\"/\"&R819,読み替え表_クールビズ!$P$38:$P$59,0),1,0)),0))","v":""},"","",0,0,"*"]
[null,null,810,null,null,null,null,null,null,null,null,null,null,null,null,null,null,null,null,null,null,null,null,null,null,null,null,null,null,null,null,null,"","",{"$f":"IF($N820=\"\",\"\",IFERROR(IF(N820=6,1,IF(MATCH(N820&\"/\"&R820,読み替え表_クールビズ!$P$38:$P$59,0),1,0)),0))","v":""},{"$f":"IF($P820=\"\",\"\",IFERROR(IF(P820=6,1,IF(MATCH(P820&\"/\"&R820,読み替え表_クールビズ!$P$38:$P$59,0),1,0)),0))","v":""},"","",0,0,"*"]
[null,null,811,null,null,null,null,null,null,null,null,null,null,null,null,null,null,null,null,null,null,null,null,null,null,null,null,null,null,null,null,null,"","",{"$f":"IF($N821=\"\",\"\",IFERROR(IF(N821=6,1,IF(MATCH(N821&\"/\"&R821,読み替え表_クールビズ!$P$38:$P$59,0),1,0)),0))","v":""},{"$f":"IF($P821=\"\",\"\",IFERROR(IF(P821=6,1,IF(MATCH(P821&\"/\"&R821,読み替え表_クールビズ!$P$38:$P$59,0),1,0)),0))","v":""},"","",0,0,"*"]
[null,null,812,null,null,null,null,null,null,null,null,null,null,null,null,null,null,null,null,null,null,null,null,null,null,null,null,null,null,null,null,null,"","",{"$f":"IF($N822=\"\",\"\",IFERROR(IF(N822=6,1,IF(MATCH(N822&\"/\"&R822,読み替え表_クールビズ!$P$38:$P$59,0),1,0)),0))","v":""},{"$f":"IF($P822=\"\",\"\",IFERROR(IF(P822=6,1,IF(MATCH(P822&\"/\"&R822,読み替え表_クールビズ!$P$38:$P$59,0),1,0)),0))","v":""},"","",0,0,"*"]
[null,null,813,null,null,null,null,null,null,null,null,null,null,null,null,null,null,null,null,null,null,null,null,null,null,null,null,null,null,null,null,null,"","",{"$f":"IF($N823=\"\",\"\",IFERROR(IF(N823=6,1,IF(MATCH(N823&\"/\"&R823,読み替え表_クールビズ!$P$38:$P$59,0),1,0)),0))","v":""},{"$f":"IF($P823=\"\",\"\",IFERROR(IF(P823=6,1,IF(MATCH(P823&\"/\"&R823,読み替え表_クールビズ!$P$38:$P$59,0),1,0)),0))","v":""},"","",0,0,"*"]
[null,null,814,null,null,null,null,null,null,null,null,null,null,null,null,null,null,null,null,null,null,null,null,null,null,null,null,null,null,null,null,null,"","",{"$f":"IF($N824=\"\",\"\",IFERROR(IF(N824=6,1,IF(MATCH(N824&\"/\"&R824,読み替え表_クールビズ!$P$38:$P$59,0),1,0)),0))","v":""},{"$f":"IF($P824=\"\",\"\",IFERROR(IF(P824=6,1,IF(MATCH(P824&\"/\"&R824,読み替え表_クールビズ!$P$38:$P$59,0),1,0)),0))","v":""},"","",0,0,"*"]
[null,null,815,null,null,null,null,null,null,null,null,null,null,null,null,null,null,null,null,null,null,null,null,null,null,null,null,null,null,null,null,null,"","",{"$f":"IF($N825=\"\",\"\",IFERROR(IF(N825=6,1,IF(MATCH(N825&\"/\"&R825,読み替え表_クールビズ!$P$38:$P$59,0),1,0)),0))","v":""},{"$f":"IF($P825=\"\",\"\",IFERROR(IF(P825=6,1,IF(MATCH(P825&\"/\"&R825,読み替え表_クールビズ!$P$38:$P$59,0),1,0)),0))","v":""},"","",0,0,"*"]
[null,null,816,null,null,null,null,null,null,null,null,null,null,null,null,null,null,null,null,null,null,null,null,null,null,null,null,null,null,null,null,null,"","",{"$f":"IF($N826=\"\",\"\",IFERROR(IF(N826=6,1,IF(MATCH(N826&\"/\"&R826,読み替え表_クールビズ!$P$38:$P$59,0),1,0)),0))","v":""},{"$f":"IF($P826=\"\",\"\",IFERROR(IF(P826=6,1,IF(MATCH(P826&\"/\"&R826,読み替え表_クールビズ!$P$38:$P$59,0),1,0)),0))","v":""},"","",0,0,"*"]
[null,null,817,null,null,null,null,null,null,null,null,null,null,null,null,null,null,null,null,null,null,null,null,null,null,null,null,null,null,null,null,null,"","",{"$f":"IF($N827=\"\",\"\",IFERROR(IF(N827=6,1,IF(MATCH(N827&\"/\"&R827,読み替え表_クールビズ!$P$38:$P$59,0),1,0)),0))","v":""},{"$f":"IF($P827=\"\",\"\",IFERROR(IF(P827=6,1,IF(MATCH(P827&\"/\"&R827,読み替え表_クールビズ!$P$38:$P$59,0),1,0)),0))","v":""},"","",0,0,"*"]
[null,null,818,null,null,null,null,null,null,null,null,null,null,null,null,null,null,null,null,null,null,null,null,null,null,null,null,null,null,null,null,null,"","",{"$f":"IF($N828=\"\",\"\",IFERROR(IF(N828=6,1,IF(MATCH(N828&\"/\"&R828,読み替え表_クールビズ!$P$38:$P$59,0),1,0)),0))","v":""},{"$f":"IF($P828=\"\",\"\",IFERROR(IF(P828=6,1,IF(MATCH(P828&\"/\"&R828,読み替え表_クールビズ!$P$38:$P$59,0),1,0)),0))","v":""},"","",0,0,"*"]
[null,null,819,null,null,null,null,null,null,null,null,null,null,null,null,null,null,null,null,null,null,null,null,null,null,null,null,null,null,null,null,null,"","",{"$f":"IF($N829=\"\",\"\",IFERROR(IF(N829=6,1,IF(MATCH(N829&\"/\"&R829,読み替え表_クールビズ!$P$38:$P$59,0),1,0)),0))","v":""},{"$f":"IF($P829=\"\",\"\",IFERROR(IF(P829=6,1,IF(MATCH(P829&\"/\"&R829,読み替え表_クールビズ!$P$38:$P$59,0),1,0)),0))","v":""},"","",0,0,"*"]
[null,null,820,null,null,null,null,null,null,null,null,null,null,null,null,null,null,null,null,null,null,null,null,null,null,null,null,null,null,null,null,null,"","",{"$f":"IF($N830=\"\",\"\",IFERROR(IF(N830=6,1,IF(MATCH(N830&\"/\"&R830,読み替え表_クールビズ!$P$38:$P$59,0),1,0)),0))","v":""},{"$f":"IF($P830=\"\",\"\",IFERROR(IF(P830=6,1,IF(MATCH(P830&\"/\"&R830,読み替え表_クールビズ!$P$38:$P$59,0),1,0)),0))","v":""},"","",0,0,"*"]
[null,null,821,null,null,null,null,null,null,null,null,null,null,null,null,null,null,null,null,null,null,null,null,null,null,null,null,null,null,null,null,null,"","",{"$f":"IF($N831=\"\",\"\",IFERROR(IF(N831=6,1,IF(MATCH(N831&\"/\"&R831,読み替え表_クールビズ!$P$38:$P$59,0),1,0)),0))","v":""},{"$f":"IF($P831=\"\",\"\",IFERROR(IF(P831=6,1,IF(MATCH(P831&\"/\"&R831,読み替え表_クールビズ!$P$38:$P$59,0),1,0)),0))","v":""},"","",0,0,"*"]
[null,null,822,null,null,null,null,null,null,null,null,null,null,null,null,null,null,null,null,null,null,null,null,null,null,null,null,null,null,null,null,null,"","",{"$f":"IF($N832=\"\",\"\",IFERROR(IF(N832=6,1,IF(MATCH(N832&\"/\"&R832,読み替え表_クールビズ!$P$38:$P$59,0),1,0)),0))","v":""},{"$f":"IF($P832=\"\",\"\",IFERROR(IF(P832=6,1,IF(MATCH(P832&\"/\"&R832,読み替え表_クールビズ!$P$38:$P$59,0),1,0)),0))","v":""},"","",0,0,"*"]
[null,null,823,null,null,null,null,null,null,null,null,null,null,null,null,null,null,null,null,null,null,null,null,null,null,null,null,null,null,null,null,null,"","",{"$f":"IF($N833=\"\",\"\",IFERROR(IF(N833=6,1,IF(MATCH(N833&\"/\"&R833,読み替え表_クールビズ!$P$38:$P$59,0),1,0)),0))","v":""},{"$f":"IF($P833=\"\",\"\",IFERROR(IF(P833=6,1,IF(MATCH(P833&\"/\"&R833,読み替え表_クールビズ!$P$38:$P$59,0),1,0)),0))","v":""},"","",0,0,"*"]
[null,null,824,null,null,null,null,null,null,null,null,null,null,null,null,null,null,null,null,null,null,null,null,null,null,null,null,null,null,null,null,null,"","",{"$f":"IF($N834=\"\",\"\",IFERROR(IF(N834=6,1,IF(MATCH(N834&\"/\"&R834,読み替え表_クールビズ!$P$38:$P$59,0),1,0)),0))","v":""},{"$f":"IF($P834=\"\",\"\",IFERROR(IF(P834=6,1,IF(MATCH(P834&\"/\"&R834,読み替え表_クールビズ!$P$38:$P$59,0),1,0)),0))","v":""},"","",0,0,"*"]
[null,null,825,null,null,null,null,null,null,null,null,null,null,null,null,null,null,null,null,null,null,null,null,null,null,null,null,null,null,null,null,null,"","",{"$f":"IF($N835=\"\",\"\",IFERROR(IF(N835=6,1,IF(MATCH(N835&\"/\"&R835,読み替え表_クールビズ!$P$38:$P$59,0),1,0)),0))","v":""},{"$f":"IF($P835=\"\",\"\",IFERROR(IF(P835=6,1,IF(MATCH(P835&\"/\"&R835,読み替え表_クールビズ!$P$38:$P$59,0),1,0)),0))","v":""},"","",0,0,"*"]
[null,null,826,null,null,null,null,null,null,null,null,null,null,null,null,null,null,null,null,null,null,null,null,null,null,null,null,null,null,null,null,null,"","",{"$f":"IF($N836=\"\",\"\",IFERROR(IF(N836=6,1,IF(MATCH(N836&\"/\"&R836,読み替え表_クールビズ!$P$38:$P$59,0),1,0)),0))","v":""},{"$f":"IF($P836=\"\",\"\",IFERROR(IF(P836=6,1,IF(MATCH(P836&\"/\"&R836,読み替え表_クールビズ!$P$38:$P$59,0),1,0)),0))","v":""},"","",0,0,"*"]
[null,null,827,null,null,null,null,null,null,null,null,null,null,null,null,null,null,null,null,null,null,null,null,null,null,null,null,null,null,null,null,null,"","",{"$f":"IF($N837=\"\",\"\",IFERROR(IF(N837=6,1,IF(MATCH(N837&\"/\"&R837,読み替え表_クールビズ!$P$38:$P$59,0),1,0)),0))","v":""},{"$f":"IF($P837=\"\",\"\",IFERROR(IF(P837=6,1,IF(MATCH(P837&\"/\"&R837,読み替え表_クールビズ!$P$38:$P$59,0),1,0)),0))","v":""},"","",0,0,"*"]
[null,null,828,null,null,null,null,null,null,null,null,null,null,null,null,null,null,null,null,null,null,null,null,null,null,null,null,null,null,null,null,null,"","",{"$f":"IF($N838=\"\",\"\",IFERROR(IF(N838=6,1,IF(MATCH(N838&\"/\"&R838,読み替え表_クールビズ!$P$38:$P$59,0),1,0)),0))","v":""},{"$f":"IF($P838=\"\",\"\",IFERROR(IF(P838=6,1,IF(MATCH(P838&\"/\"&R838,読み替え表_クールビズ!$P$38:$P$59,0),1,0)),0))","v":""},"","",0,0,"*"]
[null,null,829,null,null,null,null,null,null,null,null,null,null,null,null,null,null,null,null,null,null,null,null,null,null,null,null,null,null,null,null,null,"","",{"$f":"IF($N839=\"\",\"\",IFERROR(IF(N839=6,1,IF(MATCH(N839&\"/\"&R839,読み替え表_クールビズ!$P$38:$P$59,0),1,0)),0))","v":""},{"$f":"IF($P839=\"\",\"\",IFERROR(IF(P839=6,1,IF(MATCH(P839&\"/\"&R839,読み替え表_クールビズ!$P$38:$P$59,0),1,0)),0))","v":""},"","",0,0,"*"]
[null,null,830,null,null,null,null,null,null,null,null,null,null,null,null,null,null,null,null,null,null,null,null,null,null,null,null,null,null,null,null,null,"","",{"$f":"IF($N840=\"\",\"\",IFERROR(IF(N840=6,1,IF(MATCH(N840&\"/\"&R840,読み替え表_クールビズ!$P$38:$P$59,0),1,0)),0))","v":""},{"$f":"IF($P840=\"\",\"\",IFERROR(IF(P840=6,1,IF(MATCH(P840&\"/\"&R840,読み替え表_クールビズ!$P$38:$P$59,0),1,0)),0))","v":""},"","",0,0,"*"]
[null,null,831,null,null,null,null,null,null,null,null,null,null,null,null,null,null,null,null,null,null,null,null,null,null,null,null,null,null,null,null,null,"","",{"$f":"IF($N841=\"\",\"\",IFERROR(IF(N841=6,1,IF(MATCH(N841&\"/\"&R841,読み替え表_クールビズ!$P$38:$P$59,0),1,0)),0))","v":""},{"$f":"IF($P841=\"\",\"\",IFERROR(IF(P841=6,1,IF(MATCH(P841&\"/\"&R841,読み替え表_クールビズ!$P$38:$P$59,0),1,0)),0))","v":""},"","",0,0,"*"]
[null,null,832,null,null,null,null,null,null,null,null,null,null,null,null,null,null,null,null,null,null,null,null,null,null,null,null,null,null,null,null,null,"","",{"$f":"IF($N842=\"\",\"\",IFERROR(IF(N842=6,1,IF(MATCH(N842&\"/\"&R842,読み替え表_クールビズ!$P$38:$P$59,0),1,0)),0))","v":""},{"$f":"IF($P842=\"\",\"\",IFERROR(IF(P842=6,1,IF(MATCH(P842&\"/\"&R842,読み替え表_クールビズ!$P$38:$P$59,0),1,0)),0))","v":""},"","",0,0,"*"]
[null,null,833,null,null,null,null,null,null,null,null,null,null,null,null,null,null,null,null,null,null,null,null,null,null,null,null,null,null,null,null,null,"","",{"$f":"IF($N843=\"\",\"\",IFERROR(IF(N843=6,1,IF(MATCH(N843&\"/\"&R843,読み替え表_クールビズ!$P$38:$P$59,0),1,0)),0))","v":""},{"$f":"IF($P843=\"\",\"\",IFERROR(IF(P843=6,1,IF(MATCH(P843&\"/\"&R843,読み替え表_クールビズ!$P$38:$P$59,0),1,0)),0))","v":""},{"$f":"IF($N843=\"\",\"\",IF(OR(CONCATENATE(N843,$R843)=\"22\",CONCATENATE(N843,$R843)=\"32\",CONCATENATE(N843,$R843)=\"42\",CONCATENATE(N843,$R843)=\"43\",CONCATENATE(N843,$R843)=\"51\",CONCATENATE(N843,$R843)=\"52\",CONCATENATE(N843,$R843)=\"53\"),1,0))","v":""},{"$f":"IF($P843=\"\",\"\",IF(OR(CONCATENATE(P843,$R843)=\"22\",CONCATENATE(P843,$R843)=\"32\",CONCATENATE(P843,$R843)=\"42\",CONCATENATE(P843,$R843)=\"43\",CONCATENATE(P843,$R843)=\"51\",CONCATENATE(P843,$R843)=\"52\",CONCATENATE(P843,$R843)=\"53\"),1,0))","v":""},0,0,"*"]
[null,null,{"$f":"ROW()-10","v":834},null,null,null,null,null,null,null,null,null,null,null,null,null,null,null,null,null,null,null,null,null,null,null,null,null,null,null,null,null,{"$f":"IF($J844=\"\",\"\",IF(AND($J844>=1,$J844<=9),1,0))","v":""},{"$f":"IF($R844=\"\",\"\",IF(OR($R844=1,$R844=2,$R844=3),1,0))","v":""},{"$f":"IF($N844=\"\",\"\",IFERROR(IF(N844=6,1,IF(MATCH(N844&\"/\"&R844,読み替え表_クールビズ!$P$38:$P$59,0),1,0)),0))","v":""},{"$f":"IF($P844=\"\",\"\",IFERROR(IF(P844=6,1,IF(MATCH(P844&\"/\"&R844,読み替え表_クールビズ!$P$38:$P$59,0),1,0)),0))","v":""},"","",{"$f":"IF(OR(AK844=1,AL844=1),1,0)","v":0},{"$f":"IF(OR($AG844=0,SUM(AI844:AJ844)=2),1,0)","v":0},"*"]
[null,null,835,null,null,null,null,null,null,null,null,null,null,null,null,null,null,null,null,null,null,null,null,null,null,null,null,null,null,null,null,null,"","",{"$f":"IF($N845=\"\",\"\",IFERROR(IF(N845=6,1,IF(MATCH(N845&\"/\"&R845,読み替え表_クールビズ!$P$38:$P$59,0),1,0)),0))","v":""},{"$f":"IF($P845=\"\",\"\",IFERROR(IF(P845=6,1,IF(MATCH(P845&\"/\"&R845,読み替え表_クールビズ!$P$38:$P$59,0),1,0)),0))","v":""},"","",0,0,"*"]
[null,null,836,null,null,null,null,null,null,null,null,null,null,null,null,null,null,null,null,null,null,null,null,null,null,null,null,null,null,null,null,null,"","",{"$f":"IF($N846=\"\",\"\",IFERROR(IF(N846=6,1,IF(MATCH(N846&\"/\"&R846,読み替え表_クールビズ!$P$38:$P$59,0),1,0)),0))","v":""},{"$f":"IF($P846=\"\",\"\",IFERROR(IF(P846=6,1,IF(MATCH(P846&\"/\"&R846,読み替え表_クールビズ!$P$38:$P$59,0),1,0)),0))","v":""},"","",0,0,"*"]
[null,null,837,null,null,null,null,null,null,null,null,null,null,null,null,null,null,null,null,null,null,null,null,null,null,null,null,null,null,null,null,null,"","",{"$f":"IF($N847=\"\",\"\",IFERROR(IF(N847=6,1,IF(MATCH(N847&\"/\"&R847,読み替え表_クールビズ!$P$38:$P$59,0),1,0)),0))","v":""},{"$f":"IF($P847=\"\",\"\",IFERROR(IF(P847=6,1,IF(MATCH(P847&\"/\"&R847,読み替え表_クールビズ!$P$38:$P$59,0),1,0)),0))","v":""},"","",0,0,"*"]
[null,null,838,null,null,null,null,null,null,null,null,null,null,null,null,null,null,null,null,null,null,null,null,null,null,null,null,null,null,null,null,null,"","",{"$f":"IF($N848=\"\",\"\",IFERROR(IF(N848=6,1,IF(MATCH(N848&\"/\"&R848,読み替え表_クールビズ!$P$38:$P$59,0),1,0)),0))","v":""},{"$f":"IF($P848=\"\",\"\",IFERROR(IF(P848=6,1,IF(MATCH(P848&\"/\"&R848,読み替え表_クールビズ!$P$38:$P$59,0),1,0)),0))","v":""},"","",0,0,"*"]
[null,null,839,null,null,null,null,null,null,null,null,null,null,null,null,null,null,null,null,null,null,null,null,null,null,null,null,null,null,null,null,null,"","",{"$f":"IF($N849=\"\",\"\",IFERROR(IF(N849=6,1,IF(MATCH(N849&\"/\"&R849,読み替え表_クールビズ!$P$38:$P$59,0),1,0)),0))","v":""},{"$f":"IF($P849=\"\",\"\",IFERROR(IF(P849=6,1,IF(MATCH(P849&\"/\"&R849,読み替え表_クールビズ!$P$38:$P$59,0),1,0)),0))","v":""},"","",0,0,"*"]
[null,null,840,null,null,null,null,null,null,null,null,null,null,null,null,null,null,null,null,null,null,null,null,null,null,null,null,null,null,null,null,null,"","",{"$f":"IF($N850=\"\",\"\",IFERROR(IF(N850=6,1,IF(MATCH(N850&\"/\"&R850,読み替え表_クールビズ!$P$38:$P$59,0),1,0)),0))","v":""},{"$f":"IF($P850=\"\",\"\",IFERROR(IF(P850=6,1,IF(MATCH(P850&\"/\"&R850,読み替え表_クールビズ!$P$38:$P$59,0),1,0)),0))","v":""},"","",0,0,"*"]
[null,null,841,null,null,null,null,null,null,null,null,null,null,null,null,null,null,null,null,null,null,null,null,null,null,null,null,null,null,null,null,null,"","",{"$f":"IF($N851=\"\",\"\",IFERROR(IF(N851=6,1,IF(MATCH(N851&\"/\"&R851,読み替え表_クールビズ!$P$38:$P$59,0),1,0)),0))","v":""},{"$f":"IF($P851=\"\",\"\",IFERROR(IF(P851=6,1,IF(MATCH(P851&\"/\"&R851,読み替え表_クールビズ!$P$38:$P$59,0),1,0)),0))","v":""},"","",0,0,"*"]
[null,null,842,null,null,null,null,null,null,null,null,null,null,null,null,null,null,null,null,null,null,null,null,null,null,null,null,null,null,null,null,null,"","",{"$f":"IF($N852=\"\",\"\",IFERROR(IF(N852=6,1,IF(MATCH(N852&\"/\"&R852,読み替え表_クールビズ!$P$38:$P$59,0),1,0)),0))","v":""},{"$f":"IF($P852=\"\",\"\",IFERROR(IF(P852=6,1,IF(MATCH(P852&\"/\"&R852,読み替え表_クールビズ!$P$38:$P$59,0),1,0)),0))","v":""},"","",0,0,"*"]
[null,null,843,null,null,null,null,null,null,null,null,null,null,null,null,null,null,null,null,null,null,null,null,null,null,null,null,null,null,null,null,null,"","",{"$f":"IF($N853=\"\",\"\",IFERROR(IF(N853=6,1,IF(MATCH(N853&\"/\"&R853,読み替え表_クールビズ!$P$38:$P$59,0),1,0)),0))","v":""},{"$f":"IF($P853=\"\",\"\",IFERROR(IF(P853=6,1,IF(MATCH(P853&\"/\"&R853,読み替え表_クールビズ!$P$38:$P$59,0),1,0)),0))","v":""},"","",0,0,"*"]
[null,null,844,null,null,null,null,null,null,null,null,null,null,null,null,null,null,null,null,null,null,null,null,null,null,null,null,null,null,null,null,null,"","",{"$f":"IF($N854=\"\",\"\",IFERROR(IF(N854=6,1,IF(MATCH(N854&\"/\"&R854,読み替え表_クールビズ!$P$38:$P$59,0),1,0)),0))","v":""},{"$f":"IF($P854=\"\",\"\",IFERROR(IF(P854=6,1,IF(MATCH(P854&\"/\"&R854,読み替え表_クールビズ!$P$38:$P$59,0),1,0)),0))","v":""},"","",0,0,"*"]
[null,null,845,null,null,null,null,null,null,null,null,null,null,null,null,null,null,null,null,null,null,null,null,null,null,null,null,null,null,null,null,null,"","",{"$f":"IF($N855=\"\",\"\",IFERROR(IF(N855=6,1,IF(MATCH(N855&\"/\"&R855,読み替え表_クールビズ!$P$38:$P$59,0),1,0)),0))","v":""},{"$f":"IF($P855=\"\",\"\",IFERROR(IF(P855=6,1,IF(MATCH(P855&\"/\"&R855,読み替え表_クールビズ!$P$38:$P$59,0),1,0)),0))","v":""},"","",0,0,"*"]
[null,null,846,null,null,null,null,null,null,null,null,null,null,null,null,null,null,null,null,null,null,null,null,null,null,null,null,null,null,null,null,null,"","",{"$f":"IF($N856=\"\",\"\",IFERROR(IF(N856=6,1,IF(MATCH(N856&\"/\"&R856,読み替え表_クールビズ!$P$38:$P$59,0),1,0)),0))","v":""},{"$f":"IF($P856=\"\",\"\",IFERROR(IF(P856=6,1,IF(MATCH(P856&\"/\"&R856,読み替え表_クールビズ!$P$38:$P$59,0),1,0)),0))","v":""},"","",0,0,"*"]
[null,null,847,null,null,null,null,null,null,null,null,null,null,null,null,null,null,null,null,null,null,null,null,null,null,null,null,null,null,null,null,null,"","",{"$f":"IF($N857=\"\",\"\",IFERROR(IF(N857=6,1,IF(MATCH(N857&\"/\"&R857,読み替え表_クールビズ!$P$38:$P$59,0),1,0)),0))","v":""},{"$f":"IF($P857=\"\",\"\",IFERROR(IF(P857=6,1,IF(MATCH(P857&\"/\"&R857,読み替え表_クールビズ!$P$38:$P$59,0),1,0)),0))","v":""},"","",0,0,"*"]
[null,null,848,null,null,null,null,null,null,null,null,null,null,null,null,null,null,null,null,null,null,null,null,null,null,null,null,null,null,null,null,null,"","",{"$f":"IF($N858=\"\",\"\",IFERROR(IF(N858=6,1,IF(MATCH(N858&\"/\"&R858,読み替え表_クールビズ!$P$38:$P$59,0),1,0)),0))","v":""},{"$f":"IF($P858=\"\",\"\",IFERROR(IF(P858=6,1,IF(MATCH(P858&\"/\"&R858,読み替え表_クールビズ!$P$38:$P$59,0),1,0)),0))","v":""},"","",0,0,"*"]
[null,null,849,null,null,null,null,null,null,null,null,null,null,null,null,null,null,null,null,null,null,null,null,null,null,null,null,null,null,null,null,null,"","",{"$f":"IF($N859=\"\",\"\",IFERROR(IF(N859=6,1,IF(MATCH(N859&\"/\"&R859,読み替え表_クールビズ!$P$38:$P$59,0),1,0)),0))","v":""},{"$f":"IF($P859=\"\",\"\",IFERROR(IF(P859=6,1,IF(MATCH(P859&\"/\"&R859,読み替え表_クールビズ!$P$38:$P$59,0),1,0)),0))","v":""},"","",0,0,"*"]
[null,null,850,null,null,null,null,null,null,null,null,null,null,null,null,null,null,null,null,null,null,null,null,null,null,null,null,null,null,null,null,null,"","",{"$f":"IF($N860=\"\",\"\",IFERROR(IF(N860=6,1,IF(MATCH(N860&\"/\"&R860,読み替え表_クールビズ!$P$38:$P$59,0),1,0)),0))","v":""},{"$f":"IF($P860=\"\",\"\",IFERROR(IF(P860=6,1,IF(MATCH(P860&\"/\"&R860,読み替え表_クールビズ!$P$38:$P$59,0),1,0)),0))","v":""},"","",0,0,"*"]
[null,null,851,null,null,null,null,null,null,null,null,null,null,null,null,null,null,null,null,null,null,null,null,null,null,null,null,null,null,null,null,null,"","",{"$f":"IF($N861=\"\",\"\",IFERROR(IF(N861=6,1,IF(MATCH(N861&\"/\"&R861,読み替え表_クールビズ!$P$38:$P$59,0),1,0)),0))","v":""},{"$f":"IF($P861=\"\",\"\",IFERROR(IF(P861=6,1,IF(MATCH(P861&\"/\"&R861,読み替え表_クールビズ!$P$38:$P$59,0),1,0)),0))","v":""},"","",0,0,"*"]
[null,null,852,null,null,null,null,null,null,null,null,null,null,null,null,null,null,null,null,null,null,null,null,null,null,null,null,null,null,null,null,null,"","",{"$f":"IF($N862=\"\",\"\",IFERROR(IF(N862=6,1,IF(MATCH(N862&\"/\"&R862,読み替え表_クールビズ!$P$38:$P$59,0),1,0)),0))","v":""},{"$f":"IF($P862=\"\",\"\",IFERROR(IF(P862=6,1,IF(MATCH(P862&\"/\"&R862,読み替え表_クールビズ!$P$38:$P$59,0),1,0)),0))","v":""},"","",0,0,"*"]
[null,null,853,null,null,null,null,null,null,null,null,null,null,null,null,null,null,null,null,null,null,null,null,null,null,null,null,null,null,null,null,null,"","",{"$f":"IF($N863=\"\",\"\",IFERROR(IF(N863=6,1,IF(MATCH(N863&\"/\"&R863,読み替え表_クールビズ!$P$38:$P$59,0),1,0)),0))","v":""},{"$f":"IF($P863=\"\",\"\",IFERROR(IF(P863=6,1,IF(MATCH(P863&\"/\"&R863,読み替え表_クールビズ!$P$38:$P$59,0),1,0)),0))","v":""},"","",0,0,"*"]
[null,null,854,null,null,null,null,null,null,null,null,null,null,null,null,null,null,null,null,null,null,null,null,null,null,null,null,null,null,null,null,null,"","",{"$f":"IF($N864=\"\",\"\",IFERROR(IF(N864=6,1,IF(MATCH(N864&\"/\"&R864,読み替え表_クールビズ!$P$38:$P$59,0),1,0)),0))","v":""},{"$f":"IF($P864=\"\",\"\",IFERROR(IF(P864=6,1,IF(MATCH(P864&\"/\"&R864,読み替え表_クールビズ!$P$38:$P$59,0),1,0)),0))","v":""},"","",0,0,"*"]
[null,null,855,null,null,null,null,null,null,null,null,null,null,null,null,null,null,null,null,null,null,null,null,null,null,null,null,null,null,null,null,null,"","",{"$f":"IF($N865=\"\",\"\",IFERROR(IF(N865=6,1,IF(MATCH(N865&\"/\"&R865,読み替え表_クールビズ!$P$38:$P$59,0),1,0)),0))","v":""},{"$f":"IF($P865=\"\",\"\",IFERROR(IF(P865=6,1,IF(MATCH(P865&\"/\"&R865,読み替え表_クールビズ!$P$38:$P$59,0),1,0)),0))","v":""},"","",0,0,"*"]
[null,null,856,null,null,null,null,null,null,null,null,null,null,null,null,null,null,null,null,null,null,null,null,null,null,null,null,null,null,null,null,null,"","",{"$f":"IF($N866=\"\",\"\",IFERROR(IF(N866=6,1,IF(MATCH(N866&\"/\"&R866,読み替え表_クールビズ!$P$38:$P$59,0),1,0)),0))","v":""},{"$f":"IF($P866=\"\",\"\",IFERROR(IF(P866=6,1,IF(MATCH(P866&\"/\"&R866,読み替え表_クールビズ!$P$38:$P$59,0),1,0)),0))","v":""},"","",0,0,"*"]
[null,null,857,null,null,null,null,null,null,null,null,null,null,null,null,null,null,null,null,null,null,null,null,null,null,null,null,null,null,null,null,null,"","",{"$f":"IF($N867=\"\",\"\",IFERROR(IF(N867=6,1,IF(MATCH(N867&\"/\"&R867,読み替え表_クールビズ!$P$38:$P$59,0),1,0)),0))","v":""},{"$f":"IF($P867=\"\",\"\",IFERROR(IF(P867=6,1,IF(MATCH(P867&\"/\"&R867,読み替え表_クールビズ!$P$38:$P$59,0),1,0)),0))","v":""},"","",0,0,"*"]
[null,null,858,null,null,null,null,null,null,null,null,null,null,null,null,null,null,null,null,null,null,null,null,null,null,null,null,null,null,null,null,null,"","",{"$f":"IF($N868=\"\",\"\",IFERROR(IF(N868=6,1,IF(MATCH(N868&\"/\"&R868,読み替え表_クールビズ!$P$38:$P$59,0),1,0)),0))","v":""},{"$f":"IF($P868=\"\",\"\",IFERROR(IF(P868=6,1,IF(MATCH(P868&\"/\"&R868,読み替え表_クールビズ!$P$38:$P$59,0),1,0)),0))","v":""},"","",0,0,"*"]
[null,null,859,null,null,null,null,null,null,null,null,null,null,null,null,null,null,null,null,null,null,null,null,null,null,null,null,null,null,null,null,null,"","",{"$f":"IF($N869=\"\",\"\",IFERROR(IF(N869=6,1,IF(MATCH(N869&\"/\"&R869,読み替え表_クールビズ!$P$38:$P$59,0),1,0)),0))","v":""},{"$f":"IF($P869=\"\",\"\",IFERROR(IF(P869=6,1,IF(MATCH(P869&\"/\"&R869,読み替え表_クールビズ!$P$38:$P$59,0),1,0)),0))","v":""},"","",0,0,"*"]
[null,null,860,null,null,null,null,null,null,null,null,null,null,null,null,null,null,null,null,null,null,null,null,null,null,null,null,null,null,null,null,null,"","",{"$f":"IF($N870=\"\",\"\",IFERROR(IF(N870=6,1,IF(MATCH(N870&\"/\"&R870,読み替え表_クールビズ!$P$38:$P$59,0),1,0)),0))","v":""},{"$f":"IF($P870=\"\",\"\",IFERROR(IF(P870=6,1,IF(MATCH(P870&\"/\"&R870,読み替え表_クールビズ!$P$38:$P$59,0),1,0)),0))","v":""},"","",0,0,"*"]
[null,null,861,null,null,null,null,null,null,null,null,null,null,null,null,null,null,null,null,null,null,null,null,null,null,null,null,null,null,null,null,null,"","",{"$f":"IF($N871=\"\",\"\",IFERROR(IF(N871=6,1,IF(MATCH(N871&\"/\"&R871,読み替え表_クールビズ!$P$38:$P$59,0),1,0)),0))","v":""},{"$f":"IF($P871=\"\",\"\",IFERROR(IF(P871=6,1,IF(MATCH(P871&\"/\"&R871,読み替え表_クールビズ!$P$38:$P$59,0),1,0)),0))","v":""},"","",0,0,"*"]
[null,null,862,null,null,null,null,null,null,null,null,null,null,null,null,null,null,null,null,null,null,null,null,null,null,null,null,null,null,null,null,null,"","",{"$f":"IF($N872=\"\",\"\",IFERROR(IF(N872=6,1,IF(MATCH(N872&\"/\"&R872,読み替え表_クールビズ!$P$38:$P$59,0),1,0)),0))","v":""},{"$f":"IF($P872=\"\",\"\",IFERROR(IF(P872=6,1,IF(MATCH(P872&\"/\"&R872,読み替え表_クールビズ!$P$38:$P$59,0),1,0)),0))","v":""},"","",0,0,"*"]
[null,null,863,null,null,null,null,null,null,null,null,null,null,null,null,null,null,null,null,null,null,null,null,null,null,null,null,null,null,null,null,null,"","",{"$f":"IF($N873=\"\",\"\",IFERROR(IF(N873=6,1,IF(MATCH(N873&\"/\"&R873,読み替え表_クールビズ!$P$38:$P$59,0),1,0)),0))","v":""},{"$f":"IF($P873=\"\",\"\",IFERROR(IF(P873=6,1,IF(MATCH(P873&\"/\"&R873,読み替え表_クールビズ!$P$38:$P$59,0),1,0)),0))","v":""},"","",0,0,"*"]
[null,null,864,null,null,null,null,null,null,null,null,null,null,null,null,null,null,null,null,null,null,null,null,null,null,null,null,null,null,null,null,null,"","",{"$f":"IF($N874=\"\",\"\",IFERROR(IF(N874=6,1,IF(MATCH(N874&\"/\"&R874,読み替え表_クールビズ!$P$38:$P$59,0),1,0)),0))","v":""},{"$f":"IF($P874=\"\",\"\",IFERROR(IF(P874=6,1,IF(MATCH(P874&\"/\"&R874,読み替え表_クールビズ!$P$38:$P$59,0),1,0)),0))","v":""},"","",0,0,"*"]
[null,null,865,null,null,null,null,null,null,null,null,null,null,null,null,null,null,null,null,null,null,null,null,null,null,null,null,null,null,null,null,null,"","",{"$f":"IF($N875=\"\",\"\",IFERROR(IF(N875=6,1,IF(MATCH(N875&\"/\"&R875,読み替え表_クールビズ!$P$38:$P$59,0),1,0)),0))","v":""},{"$f":"IF($P875=\"\",\"\",IFERROR(IF(P875=6,1,IF(MATCH(P875&\"/\"&R875,読み替え表_クールビズ!$P$38:$P$59,0),1,0)),0))","v":""},"","",0,0,"*"]
[null,null,866,null,null,null,null,null,null,null,null,null,null,null,null,null,null,null,null,null,null,null,null,null,null,null,null,null,null,null,null,null,"","",{"$f":"IF($N876=\"\",\"\",IFERROR(IF(N876=6,1,IF(MATCH(N876&\"/\"&R876,読み替え表_クールビズ!$P$38:$P$59,0),1,0)),0))","v":""},{"$f":"IF($P876=\"\",\"\",IFERROR(IF(P876=6,1,IF(MATCH(P876&\"/\"&R876,読み替え表_クールビズ!$P$38:$P$59,0),1,0)),0))","v":""},"","",0,0,"*"]
[null,null,867,null,null,null,null,null,null,null,null,null,null,null,null,null,null,null,null,null,null,null,null,null,null,null,null,null,null,null,null,null,"","",{"$f":"IF($N877=\"\",\"\",IFERROR(IF(N877=6,1,IF(MATCH(N877&\"/\"&R877,読み替え表_クールビズ!$P$38:$P$59,0),1,0)),0))","v":""},{"$f":"IF($P877=\"\",\"\",IFERROR(IF(P877=6,1,IF(MATCH(P877&\"/\"&R877,読み替え表_クールビズ!$P$38:$P$59,0),1,0)),0))","v":""},"","",0,0,"*"]
[null,null,868,null,null,null,null,null,null,null,null,null,null,null,null,null,null,null,null,null,null,null,null,null,null,null,null,null,null,null,null,null,"","",{"$f":"IF($N878=\"\",\"\",IFERROR(IF(N878=6,1,IF(MATCH(N878&\"/\"&R878,読み替え表_クールビズ!$P$38:$P$59,0),1,0)),0))","v":""},{"$f":"IF($P878=\"\",\"\",IFERROR(IF(P878=6,1,IF(MATCH(P878&\"/\"&R878,読み替え表_クールビズ!$P$38:$P$59,0),1,0)),0))","v":""},"","",0,0,"*"]
[null,null,869,null,null,null,null,null,null,null,null,null,null,null,null,null,null,null,null,null,null,null,null,null,null,null,null,null,null,null,null,null,"","",{"$f":"IF($N879=\"\",\"\",IFERROR(IF(N879=6,1,IF(MATCH(N879&\"/\"&R879,読み替え表_クールビズ!$P$38:$P$59,0),1,0)),0))","v":""},{"$f":"IF($P879=\"\",\"\",IFERROR(IF(P879=6,1,IF(MATCH(P879&\"/\"&R879,読み替え表_クールビズ!$P$38:$P$59,0),1,0)),0))","v":""},"","",0,0,"*"]
[null,null,870,null,null,null,null,null,null,null,null,null,null,null,null,null,null,null,null,null,null,null,null,null,null,null,null,null,null,null,null,null,"","",{"$f":"IF($N880=\"\",\"\",IFERROR(IF(N880=6,1,IF(MATCH(N880&\"/\"&R880,読み替え表_クールビズ!$P$38:$P$59,0),1,0)),0))","v":""},{"$f":"IF($P880=\"\",\"\",IFERROR(IF(P880=6,1,IF(MATCH(P880&\"/\"&R880,読み替え表_クールビズ!$P$38:$P$59,0),1,0)),0))","v":""},"","",0,0,"*"]
[null,null,871,null,null,null,null,null,null,null,null,null,null,null,null,null,null,null,null,null,null,null,null,null,null,null,null,null,null,null,null,null,"","",{"$f":"IF($N881=\"\",\"\",IFERROR(IF(N881=6,1,IF(MATCH(N881&\"/\"&R881,読み替え表_クールビズ!$P$38:$P$59,0),1,0)),0))","v":""},{"$f":"IF($P881=\"\",\"\",IFERROR(IF(P881=6,1,IF(MATCH(P881&\"/\"&R881,読み替え表_クールビズ!$P$38:$P$59,0),1,0)),0))","v":""},"","",0,0,"*"]
[null,null,872,null,null,null,null,null,null,null,null,null,null,null,null,null,null,null,null,null,null,null,null,null,null,null,null,null,null,null,null,null,"","",{"$f":"IF($N882=\"\",\"\",IFERROR(IF(N882=6,1,IF(MATCH(N882&\"/\"&R882,読み替え表_クールビズ!$P$38:$P$59,0),1,0)),0))","v":""},{"$f":"IF($P882=\"\",\"\",IFERROR(IF(P882=6,1,IF(MATCH(P882&\"/\"&R882,読み替え表_クールビズ!$P$38:$P$59,0),1,0)),0))","v":""},"","",0,0,"*"]
[null,null,873,null,null,null,null,null,null,null,null,null,null,null,null,null,null,null,null,null,null,null,null,null,null,null,null,null,null,null,null,null,"","",{"$f":"IF($N883=\"\",\"\",IFERROR(IF(N883=6,1,IF(MATCH(N883&\"/\"&R883,読み替え表_クールビズ!$P$38:$P$59,0),1,0)),0))","v":""},{"$f":"IF($P883=\"\",\"\",IFERROR(IF(P883=6,1,IF(MATCH(P883&\"/\"&R883,読み替え表_クールビズ!$P$38:$P$59,0),1,0)),0))","v":""},"","",0,0,"*"]
[null,null,874,null,null,null,null,null,null,null,null,null,null,null,null,null,null,null,null,null,null,null,null,null,null,null,null,null,null,null,null,null,"","",{"$f":"IF($N884=\"\",\"\",IFERROR(IF(N884=6,1,IF(MATCH(N884&\"/\"&R884,読み替え表_クールビズ!$P$38:$P$59,0),1,0)),0))","v":""},{"$f":"IF($P884=\"\",\"\",IFERROR(IF(P884=6,1,IF(MATCH(P884&\"/\"&R884,読み替え表_クールビズ!$P$38:$P$59,0),1,0)),0))","v":""},"","",0,0,"*"]
[null,null,875,null,null,null,null,null,null,null,null,null,null,null,null,null,null,null,null,null,null,null,null,null,null,null,null,null,null,null,null,null,"","",{"$f":"IF($N885=\"\",\"\",IFERROR(IF(N885=6,1,IF(MATCH(N885&\"/\"&R885,読み替え表_クールビズ!$P$38:$P$59,0),1,0)),0))","v":""},{"$f":"IF($P885=\"\",\"\",IFERROR(IF(P885=6,1,IF(MATCH(P885&\"/\"&R885,読み替え表_クールビズ!$P$38:$P$59,0),1,0)),0))","v":""},"","",0,0,"*"]
[null,null,876,null,null,null,null,null,null,null,null,null,null,null,null,null,null,null,null,null,null,null,null,null,null,null,null,null,null,null,null,null,"","",{"$f":"IF($N886=\"\",\"\",IFERROR(IF(N886=6,1,IF(MATCH(N886&\"/\"&R886,読み替え表_クールビズ!$P$38:$P$59,0),1,0)),0))","v":""},{"$f":"IF($P886=\"\",\"\",IFERROR(IF(P886=6,1,IF(MATCH(P886&\"/\"&R886,読み替え表_クールビズ!$P$38:$P$59,0),1,0)),0))","v":""},"","",0,0,"*"]
[null,null,877,null,null,null,null,null,null,null,null,null,null,null,null,null,null,null,null,null,null,null,null,null,null,null,null,null,null,null,null,null,"","",{"$f":"IF($N887=\"\",\"\",IFERROR(IF(N887=6,1,IF(MATCH(N887&\"/\"&R887,読み替え表_クールビズ!$P$38:$P$59,0),1,0)),0))","v":""},{"$f":"IF($P887=\"\",\"\",IFERROR(IF(P887=6,1,IF(MATCH(P887&\"/\"&R887,読み替え表_クールビズ!$P$38:$P$59,0),1,0)),0))","v":""},"","",0,0,"*"]
[null,null,878,null,null,null,null,null,null,null,null,null,null,null,null,null,null,null,null,null,null,null,null,null,null,null,null,null,null,null,null,null,"","",{"$f":"IF($N888=\"\",\"\",IFERROR(IF(N888=6,1,IF(MATCH(N888&\"/\"&R888,読み替え表_クールビズ!$P$38:$P$59,0),1,0)),0))","v":""},{"$f":"IF($P888=\"\",\"\",IFERROR(IF(P888=6,1,IF(MATCH(P888&\"/\"&R888,読み替え表_クールビズ!$P$38:$P$59,0),1,0)),0))","v":""},"","",0,0,"*"]
[null,null,879,null,null,null,null,null,null,null,null,null,null,null,null,null,null,null,null,null,null,null,null,null,null,null,null,null,null,null,null,null,"","",{"$f":"IF($N889=\"\",\"\",IFERROR(IF(N889=6,1,IF(MATCH(N889&\"/\"&R889,読み替え表_クールビズ!$P$38:$P$59,0),1,0)),0))","v":""},{"$f":"IF($P889=\"\",\"\",IFERROR(IF(P889=6,1,IF(MATCH(P889&\"/\"&R889,読み替え表_クールビズ!$P$38:$P$59,0),1,0)),0))","v":""},"","",0,0,"*"]
[null,null,880,null,null,null,null,null,null,null,null,null,null,null,null,null,null,null,null,null,null,null,null,null,null,null,null,null,null,null,null,null,"","",{"$f":"IF($N890=\"\",\"\",IFERROR(IF(N890=6,1,IF(MATCH(N890&\"/\"&R890,読み替え表_クールビズ!$P$38:$P$59,0),1,0)),0))","v":""},{"$f":"IF($P890=\"\",\"\",IFERROR(IF(P890=6,1,IF(MATCH(P890&\"/\"&R890,読み替え表_クールビズ!$P$38:$P$59,0),1,0)),0))","v":""},"","",0,0,"*"]
[null,null,881,null,null,null,null,null,null,null,null,null,null,null,null,null,null,null,null,null,null,null,null,null,null,null,null,null,null,null,null,null,"","",{"$f":"IF($N891=\"\",\"\",IFERROR(IF(N891=6,1,IF(MATCH(N891&\"/\"&R891,読み替え表_クールビズ!$P$38:$P$59,0),1,0)),0))","v":""},{"$f":"IF($P891=\"\",\"\",IFERROR(IF(P891=6,1,IF(MATCH(P891&\"/\"&R891,読み替え表_クールビズ!$P$38:$P$59,0),1,0)),0))","v":""},"","",0,0,"*"]
[null,null,882,null,null,null,null,null,null,null,null,null,null,null,null,null,null,null,null,null,null,null,null,null,null,null,null,null,null,null,null,null,"","",{"$f":"IF($N892=\"\",\"\",IFERROR(IF(N892=6,1,IF(MATCH(N892&\"/\"&R892,読み替え表_クールビズ!$P$38:$P$59,0),1,0)),0))","v":""},{"$f":"IF($P892=\"\",\"\",IFERROR(IF(P892=6,1,IF(MATCH(P892&\"/\"&R892,読み替え表_クールビズ!$P$38:$P$59,0),1,0)),0))","v":""},"","",0,0,"*"]
[null,null,883,null,null,null,null,null,null,null,null,null,null,null,null,null,null,null,null,null,null,null,null,null,null,null,null,null,null,null,null,null,"","",{"$f":"IF($N893=\"\",\"\",IFERROR(IF(N893=6,1,IF(MATCH(N893&\"/\"&R893,読み替え表_クールビズ!$P$38:$P$59,0),1,0)),0))","v":""},{"$f":"IF($P893=\"\",\"\",IFERROR(IF(P893=6,1,IF(MATCH(P893&\"/\"&R893,読み替え表_クールビズ!$P$38:$P$59,0),1,0)),0))","v":""},"","",0,0,"*"]
[null,null,884,null,null,null,null,null,null,null,null,null,null,null,null,null,null,null,null,null,null,null,null,null,null,null,null,null,null,null,null,null,"","",{"$f":"IF($N894=\"\",\"\",IFERROR(IF(N894=6,1,IF(MATCH(N894&\"/\"&R894,読み替え表_クールビズ!$P$38:$P$59,0),1,0)),0))","v":""},{"$f":"IF($P894=\"\",\"\",IFERROR(IF(P894=6,1,IF(MATCH(P894&\"/\"&R894,読み替え表_クールビズ!$P$38:$P$59,0),1,0)),0))","v":""},"","",0,0,"*"]
[null,null,885,null,null,null,null,null,null,null,null,null,null,null,null,null,null,null,null,null,null,null,null,null,null,null,null,null,null,null,null,null,"","",{"$f":"IF($N895=\"\",\"\",IFERROR(IF(N895=6,1,IF(MATCH(N895&\"/\"&R895,読み替え表_クールビズ!$P$38:$P$59,0),1,0)),0))","v":""},{"$f":"IF($P895=\"\",\"\",IFERROR(IF(P895=6,1,IF(MATCH(P895&\"/\"&R895,読み替え表_クールビズ!$P$38:$P$59,0),1,0)),0))","v":""},"","",0,0,"*"]
[null,null,886,null,null,null,null,null,null,null,null,null,null,null,null,null,null,null,null,null,null,null,null,null,null,null,null,null,null,null,null,null,"","",{"$f":"IF($N896=\"\",\"\",IFERROR(IF(N896=6,1,IF(MATCH(N896&\"/\"&R896,読み替え表_クールビズ!$P$38:$P$59,0),1,0)),0))","v":""},{"$f":"IF($P896=\"\",\"\",IFERROR(IF(P896=6,1,IF(MATCH(P896&\"/\"&R896,読み替え表_クールビズ!$P$38:$P$59,0),1,0)),0))","v":""},"","",0,0,"*"]
[null,null,887,null,null,null,null,null,null,null,null,null,null,null,null,null,null,null,null,null,null,null,null,null,null,null,null,null,null,null,null,null,"","",{"$f":"IF($N897=\"\",\"\",IFERROR(IF(N897=6,1,IF(MATCH(N897&\"/\"&R897,読み替え表_クールビズ!$P$38:$P$59,0),1,0)),0))","v":""},{"$f":"IF($P897=\"\",\"\",IFERROR(IF(P897=6,1,IF(MATCH(P897&\"/\"&R897,読み替え表_クールビズ!$P$38:$P$59,0),1,0)),0))","v":""},"","",0,0,"*"]
[null,null,888,null,null,null,null,null,null,null,null,null,null,null,null,null,null,null,null,null,null,null,null,null,null,null,null,null,null,null,null,null,"","",{"$f":"IF($N898=\"\",\"\",IFERROR(IF(N898=6,1,IF(MATCH(N898&\"/\"&R898,読み替え表_クールビズ!$P$38:$P$59,0),1,0)),0))","v":""},{"$f":"IF($P898=\"\",\"\",IFERROR(IF(P898=6,1,IF(MATCH(P898&\"/\"&R898,読み替え表_クールビズ!$P$38:$P$59,0),1,0)),0))","v":""},"","",0,0,"*"]
[null,null,889,null,null,null,null,null,null,null,null,null,null,null,null,null,null,null,null,null,null,null,null,null,null,null,null,null,null,null,null,null,"","",{"$f":"IF($N899=\"\",\"\",IFERROR(IF(N899=6,1,IF(MATCH(N899&\"/\"&R899,読み替え表_クールビズ!$P$38:$P$59,0),1,0)),0))","v":""},{"$f":"IF($P899=\"\",\"\",IFERROR(IF(P899=6,1,IF(MATCH(P899&\"/\"&R899,読み替え表_クールビズ!$P$38:$P$59,0),1,0)),0))","v":""},"","",0,0,"*"]
[null,null,890,null,null,null,null,null,null,null,null,null,null,null,null,null,null,null,null,null,null,null,null,null,null,null,null,null,null,null,null,null,"","",{"$f":"IF($N900=\"\",\"\",IFERROR(IF(N900=6,1,IF(MATCH(N900&\"/\"&R900,読み替え表_クールビズ!$P$38:$P$59,0),1,0)),0))","v":""},{"$f":"IF($P900=\"\",\"\",IFERROR(IF(P900=6,1,IF(MATCH(P900&\"/\"&R900,読み替え表_クールビズ!$P$38:$P$59,0),1,0)),0))","v":""},"","",0,0,"*"]
[null,null,891,null,null,null,null,null,null,null,null,null,null,null,null,null,null,null,null,null,null,null,null,null,null,null,null,null,null,null,null,null,"","",{"$f":"IF($N901=\"\",\"\",IFERROR(IF(N901=6,1,IF(MATCH(N901&\"/\"&R901,読み替え表_クールビズ!$P$38:$P$59,0),1,0)),0))","v":""},{"$f":"IF($P901=\"\",\"\",IFERROR(IF(P901=6,1,IF(MATCH(P901&\"/\"&R901,読み替え表_クールビズ!$P$38:$P$59,0),1,0)),0))","v":""},"","",0,0,"*"]
[null,null,892,null,null,null,null,null,null,null,null,null,null,null,null,null,null,null,null,null,null,null,null,null,null,null,null,null,null,null,null,null,"","",{"$f":"IF($N902=\"\",\"\",IFERROR(IF(N902=6,1,IF(MATCH(N902&\"/\"&R902,読み替え表_クールビズ!$P$38:$P$59,0),1,0)),0))","v":""},{"$f":"IF($P902=\"\",\"\",IFERROR(IF(P902=6,1,IF(MATCH(P902&\"/\"&R902,読み替え表_クールビズ!$P$38:$P$59,0),1,0)),0))","v":""},"","",0,0,"*"]
[null,null,893,null,null,null,null,null,null,null,null,null,null,null,null,null,null,null,null,null,null,null,null,null,null,null,null,null,null,null,null,null,"","",{"$f":"IF($N903=\"\",\"\",IFERROR(IF(N903=6,1,IF(MATCH(N903&\"/\"&R903,読み替え表_クールビズ!$P$38:$P$59,0),1,0)),0))","v":""},{"$f":"IF($P903=\"\",\"\",IFERROR(IF(P903=6,1,IF(MATCH(P903&\"/\"&R903,読み替え表_クールビズ!$P$38:$P$59,0),1,0)),0))","v":""},"","",0,0,"*"]
[null,null,894,null,null,null,null,null,null,null,null,null,null,null,null,null,null,null,null,null,null,null,null,null,null,null,null,null,null,null,null,null,"","",{"$f":"IF($N904=\"\",\"\",IFERROR(IF(N904=6,1,IF(MATCH(N904&\"/\"&R904,読み替え表_クールビズ!$P$38:$P$59,0),1,0)),0))","v":""},{"$f":"IF($P904=\"\",\"\",IFERROR(IF(P904=6,1,IF(MATCH(P904&\"/\"&R904,読み替え表_クールビズ!$P$38:$P$59,0),1,0)),0))","v":""},"","",0,0,"*"]
[null,null,895,null,null,null,null,null,null,null,null,null,null,null,null,null,null,null,null,null,null,null,null,null,null,null,null,null,null,null,null,null,"","",{"$f":"IF($N905=\"\",\"\",IFERROR(IF(N905=6,1,IF(MATCH(N905&\"/\"&R905,読み替え表_クールビズ!$P$38:$P$59,0),1,0)),0))","v":""},{"$f":"IF($P905=\"\",\"\",IFERROR(IF(P905=6,1,IF(MATCH(P905&\"/\"&R905,読み替え表_クールビズ!$P$38:$P$59,0),1,0)),0))","v":""},"","",0,0,"*"]
[null,null,896,null,null,null,null,null,null,null,null,null,null,null,null,null,null,null,null,null,null,null,null,null,null,null,null,null,null,null,null,null,"","",{"$f":"IF($N906=\"\",\"\",IFERROR(IF(N906=6,1,IF(MATCH(N906&\"/\"&R906,読み替え表_クールビズ!$P$38:$P$59,0),1,0)),0))","v":""},{"$f":"IF($P906=\"\",\"\",IFERROR(IF(P906=6,1,IF(MATCH(P906&\"/\"&R906,読み替え表_クールビズ!$P$38:$P$59,0),1,0)),0))","v":""},"","",0,0,"*"]
[null,null,897,null,null,null,null,null,null,null,null,null,null,null,null,null,null,null,null,null,null,null,null,null,null,null,null,null,null,null,null,null,"","",{"$f":"IF($N907=\"\",\"\",IFERROR(IF(N907=6,1,IF(MATCH(N907&\"/\"&R907,読み替え表_クールビズ!$P$38:$P$59,0),1,0)),0))","v":""},{"$f":"IF($P907=\"\",\"\",IFERROR(IF(P907=6,1,IF(MATCH(P907&\"/\"&R907,読み替え表_クールビズ!$P$38:$P$59,0),1,0)),0))","v":""},{"$f":"IF($N907=\"\",\"\",IF(OR(CONCATENATE(N907,$R907)=\"22\",CONCATENATE(N907,$R907)=\"32\",CONCATENATE(N907,$R907)=\"42\",CONCATENATE(N907,$R907)=\"43\",CONCATENATE(N907,$R907)=\"51\",CONCATENATE(N907,$R907)=\"52\",CONCATENATE(N907,$R907)=\"53\"),1,0))","v":""},{"$f":"IF($P907=\"\",\"\",IF(OR(CONCATENATE(P907,$R907)=\"22\",CONCATENATE(P907,$R907)=\"32\",CONCATENATE(P907,$R907)=\"42\",CONCATENATE(P907,$R907)=\"43\",CONCATENATE(P907,$R907)=\"51\",CONCATENATE(P907,$R907)=\"52\",CONCATENATE(P907,$R907)=\"53\"),1,0))","v":""},0,0,"*"]
[null,null,{"$f":"ROW()-10","v":898},null,null,null,null,null,null,null,null,null,null,null,null,null,null,null,null,null,null,null,null,null,null,null,null,null,null,null,null,null,{"$f":"IF($J908=\"\",\"\",IF(AND($J908>=1,$J908<=9),1,0))","v":""},{"$f":"IF($R908=\"\",\"\",IF(OR($R908=1,$R908=2,$R908=3),1,0))","v":""},{"$f":"IF($N908=\"\",\"\",IFERROR(IF(N908=6,1,IF(MATCH(N908&\"/\"&R908,読み替え表_クールビズ!$P$38:$P$59,0),1,0)),0))","v":""},{"$f":"IF($P908=\"\",\"\",IFERROR(IF(P908=6,1,IF(MATCH(P908&\"/\"&R908,読み替え表_クールビズ!$P$38:$P$59,0),1,0)),0))","v":""},"","",{"$f":"IF(OR(AK908=1,AL908=1),1,0)","v":0},{"$f":"IF(OR($AG908=0,SUM(AI908:AJ908)=2),1,0)","v":0},"*"]
[null,null,899,null,null,null,null,null,null,null,null,null,null,null,null,null,null,null,null,null,null,null,null,null,null,null,null,null,null,null,null,null,"","",{"$f":"IF($N909=\"\",\"\",IFERROR(IF(N909=6,1,IF(MATCH(N909&\"/\"&R909,読み替え表_クールビズ!$P$38:$P$59,0),1,0)),0))","v":""},{"$f":"IF($P909=\"\",\"\",IFERROR(IF(P909=6,1,IF(MATCH(P909&\"/\"&R909,読み替え表_クールビズ!$P$38:$P$59,0),1,0)),0))","v":""},"","",0,0,"*"]
[null,null,900,null,null,null,null,null,null,null,null,null,null,null,null,null,null,null,null,null,null,null,null,null,null,null,null,null,null,null,null,null,"","",{"$f":"IF($N910=\"\",\"\",IFERROR(IF(N910=6,1,IF(MATCH(N910&\"/\"&R910,読み替え表_クールビズ!$P$38:$P$59,0),1,0)),0))","v":""},{"$f":"IF($P910=\"\",\"\",IFERROR(IF(P910=6,1,IF(MATCH(P910&\"/\"&R910,読み替え表_クールビズ!$P$38:$P$59,0),1,0)),0))","v":""},"","",0,0,"*"]
[null,null,901,null,null,null,null,null,null,null,null,null,null,null,null,null,null,null,null,null,null,null,null,null,null,null,null,null,null,null,null,null,"","",{"$f":"IF($N911=\"\",\"\",IFERROR(IF(N911=6,1,IF(MATCH(N911&\"/\"&R911,読み替え表_クールビズ!$P$38:$P$59,0),1,0)),0))","v":""},{"$f":"IF($P911=\"\",\"\",IFERROR(IF(P911=6,1,IF(MATCH(P911&\"/\"&R911,読み替え表_クールビズ!$P$38:$P$59,0),1,0)),0))","v":""},"","",0,0,"*"]
[null,null,902,null,null,null,null,null,null,null,null,null,null,null,null,null,null,null,null,null,null,null,null,null,null,null,null,null,null,null,null,null,"","",{"$f":"IF($N912=\"\",\"\",IFERROR(IF(N912=6,1,IF(MATCH(N912&\"/\"&R912,読み替え表_クールビズ!$P$38:$P$59,0),1,0)),0))","v":""},{"$f":"IF($P912=\"\",\"\",IFERROR(IF(P912=6,1,IF(MATCH(P912&\"/\"&R912,読み替え表_クールビズ!$P$38:$P$59,0),1,0)),0))","v":""},"","",0,0,"*"]
[null,null,903,null,null,null,null,null,null,null,null,null,null,null,null,null,null,null,null,null,null,null,null,null,null,null,null,null,null,null,null,null,"","",{"$f":"IF($N913=\"\",\"\",IFERROR(IF(N913=6,1,IF(MATCH(N913&\"/\"&R913,読み替え表_クールビズ!$P$38:$P$59,0),1,0)),0))","v":""},{"$f":"IF($P913=\"\",\"\",IFERROR(IF(P913=6,1,IF(MATCH(P913&\"/\"&R913,読み替え表_クールビズ!$P$38:$P$59,0),1,0)),0))","v":""},"","",0,0,"*"]
[null,null,904,null,null,null,null,null,null,null,null,null,null,null,null,null,null,null,null,null,null,null,null,null,null,null,null,null,null,null,null,null,"","",{"$f":"IF($N914=\"\",\"\",IFERROR(IF(N914=6,1,IF(MATCH(N914&\"/\"&R914,読み替え表_クールビズ!$P$38:$P$59,0),1,0)),0))","v":""},{"$f":"IF($P914=\"\",\"\",IFERROR(IF(P914=6,1,IF(MATCH(P914&\"/\"&R914,読み替え表_クールビズ!$P$38:$P$59,0),1,0)),0))","v":""},"","",0,0,"*"]
[null,null,905,null,null,null,null,null,null,null,null,null,null,null,null,null,null,null,null,null,null,null,null,null,null,null,null,null,null,null,null,null,"","",{"$f":"IF($N915=\"\",\"\",IFERROR(IF(N915=6,1,IF(MATCH(N915&\"/\"&R915,読み替え表_クールビズ!$P$38:$P$59,0),1,0)),0))","v":""},{"$f":"IF($P915=\"\",\"\",IFERROR(IF(P915=6,1,IF(MATCH(P915&\"/\"&R915,読み替え表_クールビズ!$P$38:$P$59,0),1,0)),0))","v":""},"","",0,0,"*"]
[null,null,906,null,null,null,null,null,null,null,null,null,null,null,null,null,null,null,null,null,null,null,null,null,null,null,null,null,null,null,null,null,"","",{"$f":"IF($N916=\"\",\"\",IFERROR(IF(N916=6,1,IF(MATCH(N916&\"/\"&R916,読み替え表_クールビズ!$P$38:$P$59,0),1,0)),0))","v":""},{"$f":"IF($P916=\"\",\"\",IFERROR(IF(P916=6,1,IF(MATCH(P916&\"/\"&R916,読み替え表_クールビズ!$P$38:$P$59,0),1,0)),0))","v":""},"","",0,0,"*"]
[null,null,907,null,null,null,null,null,null,null,null,null,null,null,null,null,null,null,null,null,null,null,null,null,null,null,null,null,null,null,null,null,"","",{"$f":"IF($N917=\"\",\"\",IFERROR(IF(N917=6,1,IF(MATCH(N917&\"/\"&R917,読み替え表_クールビズ!$P$38:$P$59,0),1,0)),0))","v":""},{"$f":"IF($P917=\"\",\"\",IFERROR(IF(P917=6,1,IF(MATCH(P917&\"/\"&R917,読み替え表_クールビズ!$P$38:$P$59,0),1,0)),0))","v":""},"","",0,0,"*"]
[null,null,908,null,null,null,null,null,null,null,null,null,null,null,null,null,null,null,null,null,null,null,null,null,null,null,null,null,null,null,null,null,"","",{"$f":"IF($N918=\"\",\"\",IFERROR(IF(N918=6,1,IF(MATCH(N918&\"/\"&R918,読み替え表_クールビズ!$P$38:$P$59,0),1,0)),0))","v":""},{"$f":"IF($P918=\"\",\"\",IFERROR(IF(P918=6,1,IF(MATCH(P918&\"/\"&R918,読み替え表_クールビズ!$P$38:$P$59,0),1,0)),0))","v":""},"","",0,0,"*"]
[null,null,909,null,null,null,null,null,null,null,null,null,null,null,null,null,null,null,null,null,null,null,null,null,null,null,null,null,null,null,null,null,"","",{"$f":"IF($N919=\"\",\"\",IFERROR(IF(N919=6,1,IF(MATCH(N919&\"/\"&R919,読み替え表_クールビズ!$P$38:$P$59,0),1,0)),0))","v":""},{"$f":"IF($P919=\"\",\"\",IFERROR(IF(P919=6,1,IF(MATCH(P919&\"/\"&R919,読み替え表_クールビズ!$P$38:$P$59,0),1,0)),0))","v":""},"","",0,0,"*"]
[null,null,910,null,null,null,null,null,null,null,null,null,null,null,null,null,null,null,null,null,null,null,null,null,null,null,null,null,null,null,null,null,"","",{"$f":"IF($N920=\"\",\"\",IFERROR(IF(N920=6,1,IF(MATCH(N920&\"/\"&R920,読み替え表_クールビズ!$P$38:$P$59,0),1,0)),0))","v":""},{"$f":"IF($P920=\"\",\"\",IFERROR(IF(P920=6,1,IF(MATCH(P920&\"/\"&R920,読み替え表_クールビズ!$P$38:$P$59,0),1,0)),0))","v":""},"","",0,0,"*"]
[null,null,911,null,null,null,null,null,null,null,null,null,null,null,null,null,null,null,null,null,null,null,null,null,null,null,null,null,null,null,null,null,"","",{"$f":"IF($N921=\"\",\"\",IFERROR(IF(N921=6,1,IF(MATCH(N921&\"/\"&R921,読み替え表_クールビズ!$P$38:$P$59,0),1,0)),0))","v":""},{"$f":"IF($P921=\"\",\"\",IFERROR(IF(P921=6,1,IF(MATCH(P921&\"/\"&R921,読み替え表_クールビズ!$P$38:$P$59,0),1,0)),0))","v":""},"","",0,0,"*"]
[null,null,912,null,null,null,null,null,null,null,null,null,null,null,null,null,null,null,null,null,null,null,null,null,null,null,null,null,null,null,null,null,"","",{"$f":"IF($N922=\"\",\"\",IFERROR(IF(N922=6,1,IF(MATCH(N922&\"/\"&R922,読み替え表_クールビズ!$P$38:$P$59,0),1,0)),0))","v":""},{"$f":"IF($P922=\"\",\"\",IFERROR(IF(P922=6,1,IF(MATCH(P922&\"/\"&R922,読み替え表_クールビズ!$P$38:$P$59,0),1,0)),0))","v":""},"","",0,0,"*"]
[null,null,913,null,null,null,null,null,null,null,null,null,null,null,null,null,null,null,null,null,null,null,null,null,null,null,null,null,null,null,null,null,"","",{"$f":"IF($N923=\"\",\"\",IFERROR(IF(N923=6,1,IF(MATCH(N923&\"/\"&R923,読み替え表_クールビズ!$P$38:$P$59,0),1,0)),0))","v":""},{"$f":"IF($P923=\"\",\"\",IFERROR(IF(P923=6,1,IF(MATCH(P923&\"/\"&R923,読み替え表_クールビズ!$P$38:$P$59,0),1,0)),0))","v":""},"","",0,0,"*"]
[null,null,914,null,null,null,null,null,null,null,null,null,null,null,null,null,null,null,null,null,null,null,null,null,null,null,null,null,null,null,null,null,"","",{"$f":"IF($N924=\"\",\"\",IFERROR(IF(N924=6,1,IF(MATCH(N924&\"/\"&R924,読み替え表_クールビズ!$P$38:$P$59,0),1,0)),0))","v":""},{"$f":"IF($P924=\"\",\"\",IFERROR(IF(P924=6,1,IF(MATCH(P924&\"/\"&R924,読み替え表_クールビズ!$P$38:$P$59,0),1,0)),0))","v":""},"","",0,0,"*"]
[null,null,915,null,null,null,null,null,null,null,null,null,null,null,null,null,null,null,null,null,null,null,null,null,null,null,null,null,null,null,null,null,"","",{"$f":"IF($N925=\"\",\"\",IFERROR(IF(N925=6,1,IF(MATCH(N925&\"/\"&R925,読み替え表_クールビズ!$P$38:$P$59,0),1,0)),0))","v":""},{"$f":"IF($P925=\"\",\"\",IFERROR(IF(P925=6,1,IF(MATCH(P925&\"/\"&R925,読み替え表_クールビズ!$P$38:$P$59,0),1,0)),0))","v":""},"","",0,0,"*"]
[null,null,916,null,null,null,null,null,null,null,null,null,null,null,null,null,null,null,null,null,null,null,null,null,null,null,null,null,null,null,null,null,"","",{"$f":"IF($N926=\"\",\"\",IFERROR(IF(N926=6,1,IF(MATCH(N926&\"/\"&R926,読み替え表_クールビズ!$P$38:$P$59,0),1,0)),0))","v":""},{"$f":"IF($P926=\"\",\"\",IFERROR(IF(P926=6,1,IF(MATCH(P926&\"/\"&R926,読み替え表_クールビズ!$P$38:$P$59,0),1,0)),0))","v":""},"","",0,0,"*"]
[null,null,917,null,null,null,null,null,null,null,null,null,null,null,null,null,null,null,null,null,null,null,null,null,null,null,null,null,null,null,null,null,"","",{"$f":"IF($N927=\"\",\"\",IFERROR(IF(N927=6,1,IF(MATCH(N927&\"/\"&R927,読み替え表_クールビズ!$P$38:$P$59,0),1,0)),0))","v":""},{"$f":"IF($P927=\"\",\"\",IFERROR(IF(P927=6,1,IF(MATCH(P927&\"/\"&R927,読み替え表_クールビズ!$P$38:$P$59,0),1,0)),0))","v":""},"","",0,0,"*"]
[null,null,918,null,null,null,null,null,null,null,null,null,null,null,null,null,null,null,null,null,null,null,null,null,null,null,null,null,null,null,null,null,"","",{"$f":"IF($N928=\"\",\"\",IFERROR(IF(N928=6,1,IF(MATCH(N928&\"/\"&R928,読み替え表_クールビズ!$P$38:$P$59,0),1,0)),0))","v":""},{"$f":"IF($P928=\"\",\"\",IFERROR(IF(P928=6,1,IF(MATCH(P928&\"/\"&R928,読み替え表_クールビズ!$P$38:$P$59,0),1,0)),0))","v":""},"","",0,0,"*"]
[null,null,919,null,null,null,null,null,null,null,null,null,null,null,null,null,null,null,null,null,null,null,null,null,null,null,null,null,null,null,null,null,"","",{"$f":"IF($N929=\"\",\"\",IFERROR(IF(N929=6,1,IF(MATCH(N929&\"/\"&R929,読み替え表_クールビズ!$P$38:$P$59,0),1,0)),0))","v":""},{"$f":"IF($P929=\"\",\"\",IFERROR(IF(P929=6,1,IF(MATCH(P929&\"/\"&R929,読み替え表_クールビズ!$P$38:$P$59,0),1,0)),0))","v":""},"","",0,0,"*"]
[null,null,920,null,null,null,null,null,null,null,null,null,null,null,null,null,null,null,null,null,null,null,null,null,null,null,null,null,null,null,null,null,"","",{"$f":"IF($N930=\"\",\"\",IFERROR(IF(N930=6,1,IF(MATCH(N930&\"/\"&R930,読み替え表_クールビズ!$P$38:$P$59,0),1,0)),0))","v":""},{"$f":"IF($P930=\"\",\"\",IFERROR(IF(P930=6,1,IF(MATCH(P930&\"/\"&R930,読み替え表_クールビズ!$P$38:$P$59,0),1,0)),0))","v":""},"","",0,0,"*"]
[null,null,921,null,null,null,null,null,null,null,null,null,null,null,null,null,null,null,null,null,null,null,null,null,null,null,null,null,null,null,null,null,"","",{"$f":"IF($N931=\"\",\"\",IFERROR(IF(N931=6,1,IF(MATCH(N931&\"/\"&R931,読み替え表_クールビズ!$P$38:$P$59,0),1,0)),0))","v":""},{"$f":"IF($P931=\"\",\"\",IFERROR(IF(P931=6,1,IF(MATCH(P931&\"/\"&R931,読み替え表_クールビズ!$P$38:$P$59,0),1,0)),0))","v":""},"","",0,0,"*"]
[null,null,922,null,null,null,null,null,null,null,null,null,null,null,null,null,null,null,null,null,null,null,null,null,null,null,null,null,null,null,null,null,"","",{"$f":"IF($N932=\"\",\"\",IFERROR(IF(N932=6,1,IF(MATCH(N932&\"/\"&R932,読み替え表_クールビズ!$P$38:$P$59,0),1,0)),0))","v":""},{"$f":"IF($P932=\"\",\"\",IFERROR(IF(P932=6,1,IF(MATCH(P932&\"/\"&R932,読み替え表_クールビズ!$P$38:$P$59,0),1,0)),0))","v":""},"","",0,0,"*"]
[null,null,923,null,null,null,null,null,null,null,null,null,null,null,null,null,null,null,null,null,null,null,null,null,null,null,null,null,null,null,null,null,"","",{"$f":"IF($N933=\"\",\"\",IFERROR(IF(N933=6,1,IF(MATCH(N933&\"/\"&R933,読み替え表_クールビズ!$P$38:$P$59,0),1,0)),0))","v":""},{"$f":"IF($P933=\"\",\"\",IFERROR(IF(P933=6,1,IF(MATCH(P933&\"/\"&R933,読み替え表_クールビズ!$P$38:$P$59,0),1,0)),0))","v":""},"","",0,0,"*"]
[null,null,924,null,null,null,null,null,null,null,null,null,null,null,null,null,null,null,null,null,null,null,null,null,null,null,null,null,null,null,null,null,"","",{"$f":"IF($N934=\"\",\"\",IFERROR(IF(N934=6,1,IF(MATCH(N934&\"/\"&R934,読み替え表_クールビズ!$P$38:$P$59,0),1,0)),0))","v":""},{"$f":"IF($P934=\"\",\"\",IFERROR(IF(P934=6,1,IF(MATCH(P934&\"/\"&R934,読み替え表_クールビズ!$P$38:$P$59,0),1,0)),0))","v":""},"","",0,0,"*"]
[null,null,925,null,null,null,null,null,null,null,null,null,null,null,null,null,null,null,null,null,null,null,null,null,null,null,null,null,null,null,null,null,"","",{"$f":"IF($N935=\"\",\"\",IFERROR(IF(N935=6,1,IF(MATCH(N935&\"/\"&R935,読み替え表_クールビズ!$P$38:$P$59,0),1,0)),0))","v":""},{"$f":"IF($P935=\"\",\"\",IFERROR(IF(P935=6,1,IF(MATCH(P935&\"/\"&R935,読み替え表_クールビズ!$P$38:$P$59,0),1,0)),0))","v":""},"","",0,0,"*"]
[null,null,926,null,null,null,null,null,null,null,null,null,null,null,null,null,null,null,null,null,null,null,null,null,null,null,null,null,null,null,null,null,"","",{"$f":"IF($N936=\"\",\"\",IFERROR(IF(N936=6,1,IF(MATCH(N936&\"/\"&R936,読み替え表_クールビズ!$P$38:$P$59,0),1,0)),0))","v":""},{"$f":"IF($P936=\"\",\"\",IFERROR(IF(P936=6,1,IF(MATCH(P936&\"/\"&R936,読み替え表_クールビズ!$P$38:$P$59,0),1,0)),0))","v":""},"","",0,0,"*"]
[null,null,927,null,null,null,null,null,null,null,null,null,null,null,null,null,null,null,null,null,null,null,null,null,null,null,null,null,null,null,null,null,"","",{"$f":"IF($N937=\"\",\"\",IFERROR(IF(N937=6,1,IF(MATCH(N937&\"/\"&R937,読み替え表_クールビズ!$P$38:$P$59,0),1,0)),0))","v":""},{"$f":"IF($P937=\"\",\"\",IFERROR(IF(P937=6,1,IF(MATCH(P937&\"/\"&R937,読み替え表_クールビズ!$P$38:$P$59,0),1,0)),0))","v":""},"","",0,0,"*"]
[null,null,928,null,null,null,null,null,null,null,null,null,null,null,null,null,null,null,null,null,null,null,null,null,null,null,null,null,null,null,null,null,"","",{"$f":"IF($N938=\"\",\"\",IFERROR(IF(N938=6,1,IF(MATCH(N938&\"/\"&R938,読み替え表_クールビズ!$P$38:$P$59,0),1,0)),0))","v":""},{"$f":"IF($P938=\"\",\"\",IFERROR(IF(P938=6,1,IF(MATCH(P938&\"/\"&R938,読み替え表_クールビズ!$P$38:$P$59,0),1,0)),0))","v":""},"","",0,0,"*"]
[null,null,929,null,null,null,null,null,null,null,null,null,null,null,null,null,null,null,null,null,null,null,null,null,null,null,null,null,null,null,null,null,"","",{"$f":"IF($N939=\"\",\"\",IFERROR(IF(N939=6,1,IF(MATCH(N939&\"/\"&R939,読み替え表_クールビズ!$P$38:$P$59,0),1,0)),0))","v":""},{"$f":"IF($P939=\"\",\"\",IFERROR(IF(P939=6,1,IF(MATCH(P939&\"/\"&R939,読み替え表_クールビズ!$P$38:$P$59,0),1,0)),0))","v":""},"","",0,0,"*"]
[null,null,930,null,null,null,null,null,null,null,null,null,null,null,null,null,null,null,null,null,null,null,null,null,null,null,null,null,null,null,null,null,"","",{"$f":"IF($N940=\"\",\"\",IFERROR(IF(N940=6,1,IF(MATCH(N940&\"/\"&R940,読み替え表_クールビズ!$P$38:$P$59,0),1,0)),0))","v":""},{"$f":"IF($P940=\"\",\"\",IFERROR(IF(P940=6,1,IF(MATCH(P940&\"/\"&R940,読み替え表_クールビズ!$P$38:$P$59,0),1,0)),0))","v":""},"","",0,0,"*"]
[null,null,931,null,null,null,null,null,null,null,null,null,null,null,null,null,null,null,null,null,null,null,null,null,null,null,null,null,null,null,null,null,"","",{"$f":"IF($N941=\"\",\"\",IFERROR(IF(N941=6,1,IF(MATCH(N941&\"/\"&R941,読み替え表_クールビズ!$P$38:$P$59,0),1,0)),0))","v":""},{"$f":"IF($P941=\"\",\"\",IFERROR(IF(P941=6,1,IF(MATCH(P941&\"/\"&R941,読み替え表_クールビズ!$P$38:$P$59,0),1,0)),0))","v":""},"","",0,0,"*"]
[null,null,932,null,null,null,null,null,null,null,null,null,null,null,null,null,null,null,null,null,null,null,null,null,null,null,null,null,null,null,null,null,"","",{"$f":"IF($N942=\"\",\"\",IFERROR(IF(N942=6,1,IF(MATCH(N942&\"/\"&R942,読み替え表_クールビズ!$P$38:$P$59,0),1,0)),0))","v":""},{"$f":"IF($P942=\"\",\"\",IFERROR(IF(P942=6,1,IF(MATCH(P942&\"/\"&R942,読み替え表_クールビズ!$P$38:$P$59,0),1,0)),0))","v":""},"","",0,0,"*"]
[null,null,933,null,null,null,null,null,null,null,null,null,null,null,null,null,null,null,null,null,null,null,null,null,null,null,null,null,null,null,null,null,"","",{"$f":"IF($N943=\"\",\"\",IFERROR(IF(N943=6,1,IF(MATCH(N943&\"/\"&R943,読み替え表_クールビズ!$P$38:$P$59,0),1,0)),0))","v":""},{"$f":"IF($P943=\"\",\"\",IFERROR(IF(P943=6,1,IF(MATCH(P943&\"/\"&R943,読み替え表_クールビズ!$P$38:$P$59,0),1,0)),0))","v":""},"","",0,0,"*"]
[null,null,934,null,null,null,null,null,null,null,null,null,null,null,null,null,null,null,null,null,null,null,null,null,null,null,null,null,null,null,null,null,"","",{"$f":"IF($N944=\"\",\"\",IFERROR(IF(N944=6,1,IF(MATCH(N944&\"/\"&R944,読み替え表_クールビズ!$P$38:$P$59,0),1,0)),0))","v":""},{"$f":"IF($P944=\"\",\"\",IFERROR(IF(P944=6,1,IF(MATCH(P944&\"/\"&R944,読み替え表_クールビズ!$P$38:$P$59,0),1,0)),0))","v":""},"","",0,0,"*"]
[null,null,935,null,null,null,null,null,null,null,null,null,null,null,null,null,null,null,null,null,null,null,null,null,null,null,null,null,null,null,null,null,"","",{"$f":"IF($N945=\"\",\"\",IFERROR(IF(N945=6,1,IF(MATCH(N945&\"/\"&R945,読み替え表_クールビズ!$P$38:$P$59,0),1,0)),0))","v":""},{"$f":"IF($P945=\"\",\"\",IFERROR(IF(P945=6,1,IF(MATCH(P945&\"/\"&R945,読み替え表_クールビズ!$P$38:$P$59,0),1,0)),0))","v":""},"","",0,0,"*"]
[null,null,936,null,null,null,null,null,null,null,null,null,null,null,null,null,null,null,null,null,null,null,null,null,null,null,null,null,null,null,null,null,"","",{"$f":"IF($N946=\"\",\"\",IFERROR(IF(N946=6,1,IF(MATCH(N946&\"/\"&R946,読み替え表_クールビズ!$P$38:$P$59,0),1,0)),0))","v":""},{"$f":"IF($P946=\"\",\"\",IFERROR(IF(P946=6,1,IF(MATCH(P946&\"/\"&R946,読み替え表_クールビズ!$P$38:$P$59,0),1,0)),0))","v":""},"","",0,0,"*"]
[null,null,937,null,null,null,null,null,null,null,null,null,null,null,null,null,null,null,null,null,null,null,null,null,null,null,null,null,null,null,null,null,"","",{"$f":"IF($N947=\"\",\"\",IFERROR(IF(N947=6,1,IF(MATCH(N947&\"/\"&R947,読み替え表_クールビズ!$P$38:$P$59,0),1,0)),0))","v":""},{"$f":"IF($P947=\"\",\"\",IFERROR(IF(P947=6,1,IF(MATCH(P947&\"/\"&R947,読み替え表_クールビズ!$P$38:$P$59,0),1,0)),0))","v":""},"","",0,0,"*"]
[null,null,938,null,null,null,null,null,null,null,null,null,null,null,null,null,null,null,null,null,null,null,null,null,null,null,null,null,null,null,null,null,"","",{"$f":"IF($N948=\"\",\"\",IFERROR(IF(N948=6,1,IF(MATCH(N948&\"/\"&R948,読み替え表_クールビズ!$P$38:$P$59,0),1,0)),0))","v":""},{"$f":"IF($P948=\"\",\"\",IFERROR(IF(P948=6,1,IF(MATCH(P948&\"/\"&R948,読み替え表_クールビズ!$P$38:$P$59,0),1,0)),0))","v":""},"","",0,0,"*"]
[null,null,939,null,null,null,null,null,null,null,null,null,null,null,null,null,null,null,null,null,null,null,null,null,null,null,null,null,null,null,null,null,"","",{"$f":"IF($N949=\"\",\"\",IFERROR(IF(N949=6,1,IF(MATCH(N949&\"/\"&R949,読み替え表_クールビズ!$P$38:$P$59,0),1,0)),0))","v":""},{"$f":"IF($P949=\"\",\"\",IFERROR(IF(P949=6,1,IF(MATCH(P949&\"/\"&R949,読み替え表_クールビズ!$P$38:$P$59,0),1,0)),0))","v":""},"","",0,0,"*"]
[null,null,940,null,null,null,null,null,null,null,null,null,null,null,null,null,null,null,null,null,null,null,null,null,null,null,null,null,null,null,null,null,"","",{"$f":"IF($N950=\"\",\"\",IFERROR(IF(N950=6,1,IF(MATCH(N950&\"/\"&R950,読み替え表_クールビズ!$P$38:$P$59,0),1,0)),0))","v":""},{"$f":"IF($P950=\"\",\"\",IFERROR(IF(P950=6,1,IF(MATCH(P950&\"/\"&R950,読み替え表_クールビズ!$P$38:$P$59,0),1,0)),0))","v":""},"","",0,0,"*"]
[null,null,941,null,null,null,null,null,null,null,null,null,null,null,null,null,null,null,null,null,null,null,null,null,null,null,null,null,null,null,null,null,"","",{"$f":"IF($N951=\"\",\"\",IFERROR(IF(N951=6,1,IF(MATCH(N951&\"/\"&R951,読み替え表_クールビズ!$P$38:$P$59,0),1,0)),0))","v":""},{"$f":"IF($P951=\"\",\"\",IFERROR(IF(P951=6,1,IF(MATCH(P951&\"/\"&R951,読み替え表_クールビズ!$P$38:$P$59,0),1,0)),0))","v":""},"","",0,0,"*"]
[null,null,942,null,null,null,null,null,null,null,null,null,null,null,null,null,null,null,null,null,null,null,null,null,null,null,null,null,null,null,null,null,"","",{"$f":"IF($N952=\"\",\"\",IFERROR(IF(N952=6,1,IF(MATCH(N952&\"/\"&R952,読み替え表_クールビズ!$P$38:$P$59,0),1,0)),0))","v":""},{"$f":"IF($P952=\"\",\"\",IFERROR(IF(P952=6,1,IF(MATCH(P952&\"/\"&R952,読み替え表_クールビズ!$P$38:$P$59,0),1,0)),0))","v":""},"","",0,0,"*"]
[null,null,943,null,null,null,null,null,null,null,null,null,null,null,null,null,null,null,null,null,null,null,null,null,null,null,null,null,null,null,null,null,"","",{"$f":"IF($N953=\"\",\"\",IFERROR(IF(N953=6,1,IF(MATCH(N953&\"/\"&R953,読み替え表_クールビズ!$P$38:$P$59,0),1,0)),0))","v":""},{"$f":"IF($P953=\"\",\"\",IFERROR(IF(P953=6,1,IF(MATCH(P953&\"/\"&R953,読み替え表_クールビズ!$P$38:$P$59,0),1,0)),0))","v":""},"","",0,0,"*"]
[null,null,944,null,null,null,null,null,null,null,null,null,null,null,null,null,null,null,null,null,null,null,null,null,null,null,null,null,null,null,null,null,"","",{"$f":"IF($N954=\"\",\"\",IFERROR(IF(N954=6,1,IF(MATCH(N954&\"/\"&R954,読み替え表_クールビズ!$P$38:$P$59,0),1,0)),0))","v":""},{"$f":"IF($P954=\"\",\"\",IFERROR(IF(P954=6,1,IF(MATCH(P954&\"/\"&R954,読み替え表_クールビズ!$P$38:$P$59,0),1,0)),0))","v":""},"","",0,0,"*"]
[null,null,945,null,null,null,null,null,null,null,null,null,null,null,null,null,null,null,null,null,null,null,null,null,null,null,null,null,null,null,null,null,"","",{"$f":"IF($N955=\"\",\"\",IFERROR(IF(N955=6,1,IF(MATCH(N955&\"/\"&R955,読み替え表_クールビズ!$P$38:$P$59,0),1,0)),0))","v":""},{"$f":"IF($P955=\"\",\"\",IFERROR(IF(P955=6,1,IF(MATCH(P955&\"/\"&R955,読み替え表_クールビズ!$P$38:$P$59,0),1,0)),0))","v":""},"","",0,0,"*"]
[null,null,946,null,null,null,null,null,null,null,null,null,null,null,null,null,null,null,null,null,null,null,null,null,null,null,null,null,null,null,null,null,"","",{"$f":"IF($N956=\"\",\"\",IFERROR(IF(N956=6,1,IF(MATCH(N956&\"/\"&R956,読み替え表_クールビズ!$P$38:$P$59,0),1,0)),0))","v":""},{"$f":"IF($P956=\"\",\"\",IFERROR(IF(P956=6,1,IF(MATCH(P956&\"/\"&R956,読み替え表_クールビズ!$P$38:$P$59,0),1,0)),0))","v":""},"","",0,0,"*"]
[null,null,947,null,null,null,null,null,null,null,null,null,null,null,null,null,null,null,null,null,null,null,null,null,null,null,null,null,null,null,null,null,"","",{"$f":"IF($N957=\"\",\"\",IFERROR(IF(N957=6,1,IF(MATCH(N957&\"/\"&R957,読み替え表_クールビズ!$P$38:$P$59,0),1,0)),0))","v":""},{"$f":"IF($P957=\"\",\"\",IFERROR(IF(P957=6,1,IF(MATCH(P957&\"/\"&R957,読み替え表_クールビズ!$P$38:$P$59,0),1,0)),0))","v":""},"","",0,0,"*"]
[null,null,948,null,null,null,null,null,null,null,null,null,null,null,null,null,null,null,null,null,null,null,null,null,null,null,null,null,null,null,null,null,"","",{"$f":"IF($N958=\"\",\"\",IFERROR(IF(N958=6,1,IF(MATCH(N958&\"/\"&R958,読み替え表_クールビズ!$P$38:$P$59,0),1,0)),0))","v":""},{"$f":"IF($P958=\"\",\"\",IFERROR(IF(P958=6,1,IF(MATCH(P958&\"/\"&R958,読み替え表_クールビズ!$P$38:$P$59,0),1,0)),0))","v":""},"","",0,0,"*"]
[null,null,949,null,null,null,null,null,null,null,null,null,null,null,null,null,null,null,null,null,null,null,null,null,null,null,null,null,null,null,null,null,"","",{"$f":"IF($N959=\"\",\"\",IFERROR(IF(N959=6,1,IF(MATCH(N959&\"/\"&R959,読み替え表_クールビズ!$P$38:$P$59,0),1,0)),0))","v":""},{"$f":"IF($P959=\"\",\"\",IFERROR(IF(P959=6,1,IF(MATCH(P959&\"/\"&R959,読み替え表_クールビズ!$P$38:$P$59,0),1,0)),0))","v":""},"","",0,0,"*"]
[null,null,950,null,null,null,null,null,null,null,null,null,null,null,null,null,null,null,null,null,null,null,null,null,null,null,null,null,null,null,null,null,"","",{"$f":"IF($N960=\"\",\"\",IFERROR(IF(N960=6,1,IF(MATCH(N960&\"/\"&R960,読み替え表_クールビズ!$P$38:$P$59,0),1,0)),0))","v":""},{"$f":"IF($P960=\"\",\"\",IFERROR(IF(P960=6,1,IF(MATCH(P960&\"/\"&R960,読み替え表_クールビズ!$P$38:$P$59,0),1,0)),0))","v":""},"","",0,0,"*"]
[null,null,951,null,null,null,null,null,null,null,null,null,null,null,null,null,null,null,null,null,null,null,null,null,null,null,null,null,null,null,null,null,"","",{"$f":"IF($N961=\"\",\"\",IFERROR(IF(N961=6,1,IF(MATCH(N961&\"/\"&R961,読み替え表_クールビズ!$P$38:$P$59,0),1,0)),0))","v":""},{"$f":"IF($P961=\"\",\"\",IFERROR(IF(P961=6,1,IF(MATCH(P961&\"/\"&R961,読み替え表_クールビズ!$P$38:$P$59,0),1,0)),0))","v":""},"","",0,0,"*"]
[null,null,952,null,null,null,null,null,null,null,null,null,null,null,null,null,null,null,null,null,null,null,null,null,null,null,null,null,null,null,null,null,"","",{"$f":"IF($N962=\"\",\"\",IFERROR(IF(N962=6,1,IF(MATCH(N962&\"/\"&R962,読み替え表_クールビズ!$P$38:$P$59,0),1,0)),0))","v":""},{"$f":"IF($P962=\"\",\"\",IFERROR(IF(P962=6,1,IF(MATCH(P962&\"/\"&R962,読み替え表_クールビズ!$P$38:$P$59,0),1,0)),0))","v":""},"","",0,0,"*"]
[null,null,953,null,null,null,null,null,null,null,null,null,null,null,null,null,null,null,null,null,null,null,null,null,null,null,null,null,null,null,null,null,"","",{"$f":"IF($N963=\"\",\"\",IFERROR(IF(N963=6,1,IF(MATCH(N963&\"/\"&R963,読み替え表_クールビズ!$P$38:$P$59,0),1,0)),0))","v":""},{"$f":"IF($P963=\"\",\"\",IFERROR(IF(P963=6,1,IF(MATCH(P963&\"/\"&R963,読み替え表_クールビズ!$P$38:$P$59,0),1,0)),0))","v":""},"","",0,0,"*"]
[null,null,954,null,null,null,null,null,null,null,null,null,null,null,null,null,null,null,null,null,null,null,null,null,null,null,null,null,null,null,null,null,"","",{"$f":"IF($N964=\"\",\"\",IFERROR(IF(N964=6,1,IF(MATCH(N964&\"/\"&R964,読み替え表_クールビズ!$P$38:$P$59,0),1,0)),0))","v":""},{"$f":"IF($P964=\"\",\"\",IFERROR(IF(P964=6,1,IF(MATCH(P964&\"/\"&R964,読み替え表_クールビズ!$P$38:$P$59,0),1,0)),0))","v":""},"","",0,0,"*"]
[null,null,955,null,null,null,null,null,null,null,null,null,null,null,null,null,null,null,null,null,null,null,null,null,null,null,null,null,null,null,null,null,"","",{"$f":"IF($N965=\"\",\"\",IFERROR(IF(N965=6,1,IF(MATCH(N965&\"/\"&R965,読み替え表_クールビズ!$P$38:$P$59,0),1,0)),0))","v":""},{"$f":"IF($P965=\"\",\"\",IFERROR(IF(P965=6,1,IF(MATCH(P965&\"/\"&R965,読み替え表_クールビズ!$P$38:$P$59,0),1,0)),0))","v":""},"","",0,0,"*"]
[null,null,956,null,null,null,null,null,null,null,null,null,null,null,null,null,null,null,null,null,null,null,null,null,null,null,null,null,null,null,null,null,"","",{"$f":"IF($N966=\"\",\"\",IFERROR(IF(N966=6,1,IF(MATCH(N966&\"/\"&R966,読み替え表_クールビズ!$P$38:$P$59,0),1,0)),0))","v":""},{"$f":"IF($P966=\"\",\"\",IFERROR(IF(P966=6,1,IF(MATCH(P966&\"/\"&R966,読み替え表_クールビズ!$P$38:$P$59,0),1,0)),0))","v":""},"","",0,0,"*"]
[null,null,957,null,null,null,null,null,null,null,null,null,null,null,null,null,null,null,null,null,null,null,null,null,null,null,null,null,null,null,null,null,"","",{"$f":"IF($N967=\"\",\"\",IFERROR(IF(N967=6,1,IF(MATCH(N967&\"/\"&R967,読み替え表_クールビズ!$P$38:$P$59,0),1,0)),0))","v":""},{"$f":"IF($P967=\"\",\"\",IFERROR(IF(P967=6,1,IF(MATCH(P967&\"/\"&R967,読み替え表_クールビズ!$P$38:$P$59,0),1,0)),0))","v":""},"","",0,0,"*"]
[null,null,958,null,null,null,null,null,null,null,null,null,null,null,null,null,null,null,null,null,null,null,null,null,null,null,null,null,null,null,null,null,"","",{"$f":"IF($N968=\"\",\"\",IFERROR(IF(N968=6,1,IF(MATCH(N968&\"/\"&R968,読み替え表_クールビズ!$P$38:$P$59,0),1,0)),0))","v":""},{"$f":"IF($P968=\"\",\"\",IFERROR(IF(P968=6,1,IF(MATCH(P968&\"/\"&R968,読み替え表_クールビズ!$P$38:$P$59,0),1,0)),0))","v":""},"","",0,0,"*"]
[null,null,959,null,null,null,null,null,null,null,null,null,null,null,null,null,null,null,null,null,null,null,null,null,null,null,null,null,null,null,null,null,"","",{"$f":"IF($N969=\"\",\"\",IFERROR(IF(N969=6,1,IF(MATCH(N969&\"/\"&R969,読み替え表_クールビズ!$P$38:$P$59,0),1,0)),0))","v":""},{"$f":"IF($P969=\"\",\"\",IFERROR(IF(P969=6,1,IF(MATCH(P969&\"/\"&R969,読み替え表_クールビズ!$P$38:$P$59,0),1,0)),0))","v":""},"","",0,0,"*"]
[null,null,960,null,null,null,null,null,null,null,null,null,null,null,null,null,null,null,null,null,null,null,null,null,null,null,null,null,null,null,null,null,"","",{"$f":"IF($N970=\"\",\"\",IFERROR(IF(N970=6,1,IF(MATCH(N970&\"/\"&R970,読み替え表_クールビズ!$P$38:$P$59,0),1,0)),0))","v":""},{"$f":"IF($P970=\"\",\"\",IFERROR(IF(P970=6,1,IF(MATCH(P970&\"/\"&R970,読み替え表_クールビズ!$P$38:$P$59,0),1,0)),0))","v":""},"","",0,0,"*"]
[null,null,961,null,null,null,null,null,null,null,null,null,null,null,null,null,null,null,null,null,null,null,null,null,null,null,null,null,null,null,null,null,"","",{"$f":"IF($N971=\"\",\"\",IFERROR(IF(N971=6,1,IF(MATCH(N971&\"/\"&R971,読み替え表_クールビズ!$P$38:$P$59,0),1,0)),0))","v":""},{"$f":"IF($P971=\"\",\"\",IFERROR(IF(P971=6,1,IF(MATCH(P971&\"/\"&R971,読み替え表_クールビズ!$P$38:$P$59,0),1,0)),0))","v":""},{"$f":"IF($N971=\"\",\"\",IF(OR(CONCATENATE(N971,$R971)=\"22\",CONCATENATE(N971,$R971)=\"32\",CONCATENATE(N971,$R971)=\"42\",CONCATENATE(N971,$R971)=\"43\",CONCATENATE(N971,$R971)=\"51\",CONCATENATE(N971,$R971)=\"52\",CONCATENATE(N971,$R971)=\"53\"),1,0))","v":""},{"$f":"IF($P971=\"\",\"\",IF(OR(CONCATENATE(P971,$R971)=\"22\",CONCATENATE(P971,$R971)=\"32\",CONCATENATE(P971,$R971)=\"42\",CONCATENATE(P971,$R971)=\"43\",CONCATENATE(P971,$R971)=\"51\",CONCATENATE(P971,$R971)=\"52\",CONCATENATE(P971,$R971)=\"53\"),1,0))","v":""},0,0,"*"]
[null,null,{"$f":"ROW()-10","v":962},null,null,null,null,null,null,null,null,null,null,null,null,null,null,null,null,null,null,null,null,null,null,null,null,null,null,null,null,null,{"$f":"IF($J972=\"\",\"\",IF(AND($J972>=1,$J972<=9),1,0))","v":""},{"$f":"IF($R972=\"\",\"\",IF(OR($R972=1,$R972=2,$R972=3),1,0))","v":""},{"$f":"IF($N972=\"\",\"\",IFERROR(IF(N972=6,1,IF(MATCH(N972&\"/\"&R972,読み替え表_クールビズ!$P$38:$P$59,0),1,0)),0))","v":""},{"$f":"IF($P972=\"\",\"\",IFERROR(IF(P972=6,1,IF(MATCH(P972&\"/\"&R972,読み替え表_クールビズ!$P$38:$P$59,0),1,0)),0))","v":""},"","",{"$f":"IF(OR(AK972=1,AL972=1),1,0)","v":0},{"$f":"IF(OR($AG972=0,SUM(AI972:AJ972)=2),1,0)","v":0},"*"]
[null,null,963,null,null,null,null,null,null,null,null,null,null,null,null,null,null,null,null,null,null,null,null,null,null,null,null,null,null,null,null,null,"","",{"$f":"IF($N973=\"\",\"\",IFERROR(IF(N973=6,1,IF(MATCH(N973&\"/\"&R973,読み替え表_クールビズ!$P$38:$P$59,0),1,0)),0))","v":""},{"$f":"IF($P973=\"\",\"\",IFERROR(IF(P973=6,1,IF(MATCH(P973&\"/\"&R973,読み替え表_クールビズ!$P$38:$P$59,0),1,0)),0))","v":""},"","",0,0,"*"]
[null,null,964,null,null,null,null,null,null,null,null,null,null,null,null,null,null,null,null,null,null,null,null,null,null,null,null,null,null,null,null,null,"","",{"$f":"IF($N974=\"\",\"\",IFERROR(IF(N974=6,1,IF(MATCH(N974&\"/\"&R974,読み替え表_クールビズ!$P$38:$P$59,0),1,0)),0))","v":""},{"$f":"IF($P974=\"\",\"\",IFERROR(IF(P974=6,1,IF(MATCH(P974&\"/\"&R974,読み替え表_クールビズ!$P$38:$P$59,0),1,0)),0))","v":""},"","",0,0,"*"]
[null,null,965,null,null,null,null,null,null,null,null,null,null,null,null,null,null,null,null,null,null,null,null,null,null,null,null,null,null,null,null,null,"","",{"$f":"IF($N975=\"\",\"\",IFERROR(IF(N975=6,1,IF(MATCH(N975&\"/\"&R975,読み替え表_クールビズ!$P$38:$P$59,0),1,0)),0))","v":""},{"$f":"IF($P975=\"\",\"\",IFERROR(IF(P975=6,1,IF(MATCH(P975&\"/\"&R975,読み替え表_クールビズ!$P$38:$P$59,0),1,0)),0))","v":""},"","",0,0,"*"]
[null,null,966,null,null,null,null,null,null,null,null,null,null,null,null,null,null,null,null,null,null,null,null,null,null,null,null,null,null,null,null,null,"","",{"$f":"IF($N976=\"\",\"\",IFERROR(IF(N976=6,1,IF(MATCH(N976&\"/\"&R976,読み替え表_クールビズ!$P$38:$P$59,0),1,0)),0))","v":""},{"$f":"IF($P976=\"\",\"\",IFERROR(IF(P976=6,1,IF(MATCH(P976&\"/\"&R976,読み替え表_クールビズ!$P$38:$P$59,0),1,0)),0))","v":""},"","",0,0,"*"]
[null,null,967,null,null,null,null,null,null,null,null,null,null,null,null,null,null,null,null,null,null,null,null,null,null,null,null,null,null,null,null,null,"","",{"$f":"IF($N977=\"\",\"\",IFERROR(IF(N977=6,1,IF(MATCH(N977&\"/\"&R977,読み替え表_クールビズ!$P$38:$P$59,0),1,0)),0))","v":""},{"$f":"IF($P977=\"\",\"\",IFERROR(IF(P977=6,1,IF(MATCH(P977&\"/\"&R977,読み替え表_クールビズ!$P$38:$P$59,0),1,0)),0))","v":""},"","",0,0,"*"]
[null,null,968,null,null,null,null,null,null,null,null,null,null,null,null,null,null,null,null,null,null,null,null,null,null,null,null,null,null,null,null,null,"","",{"$f":"IF($N978=\"\",\"\",IFERROR(IF(N978=6,1,IF(MATCH(N978&\"/\"&R978,読み替え表_クールビズ!$P$38:$P$59,0),1,0)),0))","v":""},{"$f":"IF($P978=\"\",\"\",IFERROR(IF(P978=6,1,IF(MATCH(P978&\"/\"&R978,読み替え表_クールビズ!$P$38:$P$59,0),1,0)),0))","v":""},"","",0,0,"*"]
[null,null,969,null,null,null,null,null,null,null,null,null,null,null,null,null,null,null,null,null,null,null,null,null,null,null,null,null,null,null,null,null,"","",{"$f":"IF($N979=\"\",\"\",IFERROR(IF(N979=6,1,IF(MATCH(N979&\"/\"&R979,読み替え表_クールビズ!$P$38:$P$59,0),1,0)),0))","v":""},{"$f":"IF($P979=\"\",\"\",IFERROR(IF(P979=6,1,IF(MATCH(P979&\"/\"&R979,読み替え表_クールビズ!$P$38:$P$59,0),1,0)),0))","v":""},"","",0,0,"*"]
[null,null,970,null,null,null,null,null,null,null,null,null,null,null,null,null,null,null,null,null,null,null,null,null,null,null,null,null,null,null,null,null,"","",{"$f":"IF($N980=\"\",\"\",IFERROR(IF(N980=6,1,IF(MATCH(N980&\"/\"&R980,読み替え表_クールビズ!$P$38:$P$59,0),1,0)),0))","v":""},{"$f":"IF($P980=\"\",\"\",IFERROR(IF(P980=6,1,IF(MATCH(P980&\"/\"&R980,読み替え表_クールビズ!$P$38:$P$59,0),1,0)),0))","v":""},"","",0,0,"*"]
[null,null,971,null,null,null,null,null,null,null,null,null,null,null,null,null,null,null,null,null,null,null,null,null,null,null,null,null,null,null,null,null,"","",{"$f":"IF($N981=\"\",\"\",IFERROR(IF(N981=6,1,IF(MATCH(N981&\"/\"&R981,読み替え表_クールビズ!$P$38:$P$59,0),1,0)),0))","v":""},{"$f":"IF($P981=\"\",\"\",IFERROR(IF(P981=6,1,IF(MATCH(P981&\"/\"&R981,読み替え表_クールビズ!$P$38:$P$59,0),1,0)),0))","v":""},"","",0,0,"*"]
[null,null,972,null,null,null,null,null,null,null,null,null,null,null,null,null,null,null,null,null,null,null,null,null,null,null,null,null,null,null,null,null,"","",{"$f":"IF($N982=\"\",\"\",IFERROR(IF(N982=6,1,IF(MATCH(N982&\"/\"&R982,読み替え表_クールビズ!$P$38:$P$59,0),1,0)),0))","v":""},{"$f":"IF($P982=\"\",\"\",IFERROR(IF(P982=6,1,IF(MATCH(P982&\"/\"&R982,読み替え表_クールビズ!$P$38:$P$59,0),1,0)),0))","v":""},"","",0,0,"*"]
[null,null,973,null,null,null,null,null,null,null,null,null,null,null,null,null,null,null,null,null,null,null,null,null,null,null,null,null,null,null,null,null,"","",{"$f":"IF($N983=\"\",\"\",IFERROR(IF(N983=6,1,IF(MATCH(N983&\"/\"&R983,読み替え表_クールビズ!$P$38:$P$59,0),1,0)),0))","v":""},{"$f":"IF($P983=\"\",\"\",IFERROR(IF(P983=6,1,IF(MATCH(P983&\"/\"&R983,読み替え表_クールビズ!$P$38:$P$59,0),1,0)),0))","v":""},"","",0,0,"*"]
[null,null,974,null,null,null,null,null,null,null,null,null,null,null,null,null,null,null,null,null,null,null,null,null,null,null,null,null,null,null,null,null,"","",{"$f":"IF($N984=\"\",\"\",IFERROR(IF(N984=6,1,IF(MATCH(N984&\"/\"&R984,読み替え表_クールビズ!$P$38:$P$59,0),1,0)),0))","v":""},{"$f":"IF($P984=\"\",\"\",IFERROR(IF(P984=6,1,IF(MATCH(P984&\"/\"&R984,読み替え表_クールビズ!$P$38:$P$59,0),1,0)),0))","v":""},"","",0,0,"*"]
[null,null,975,null,null,null,null,null,null,null,null,null,null,null,null,null,null,null,null,null,null,null,null,null,null,null,null,null,null,null,null,null,"","",{"$f":"IF($N985=\"\",\"\",IFERROR(IF(N985=6,1,IF(MATCH(N985&\"/\"&R985,読み替え表_クールビズ!$P$38:$P$59,0),1,0)),0))","v":""},{"$f":"IF($P985=\"\",\"\",IFERROR(IF(P985=6,1,IF(MATCH(P985&\"/\"&R985,読み替え表_クールビズ!$P$38:$P$59,0),1,0)),0))","v":""},"","",0,0,"*"]
[null,null,976,null,null,null,null,null,null,null,null,null,null,null,null,null,null,null,null,null,null,null,null,null,null,null,null,null,null,null,null,null,"","",{"$f":"IF($N986=\"\",\"\",IFERROR(IF(N986=6,1,IF(MATCH(N986&\"/\"&R986,読み替え表_クールビズ!$P$38:$P$59,0),1,0)),0))","v":""},{"$f":"IF($P986=\"\",\"\",IFERROR(IF(P986=6,1,IF(MATCH(P986&\"/\"&R986,読み替え表_クールビズ!$P$38:$P$59,0),1,0)),0))","v":""},"","",0,0,"*"]
[null,null,977,null,null,null,null,null,null,null,null,null,null,null,null,null,null,null,null,null,null,null,null,null,null,null,null,null,null,null,null,null,"","",{"$f":"IF($N987=\"\",\"\",IFERROR(IF(N987=6,1,IF(MATCH(N987&\"/\"&R987,読み替え表_クールビズ!$P$38:$P$59,0),1,0)),0))","v":""},{"$f":"IF($P987=\"\",\"\",IFERROR(IF(P987=6,1,IF(MATCH(P987&\"/\"&R987,読み替え表_クールビズ!$P$38:$P$59,0),1,0)),0))","v":""},"","",0,0,"*"]
[null,null,978,null,null,null,null,null,null,null,null,null,null,null,null,null,null,null,null,null,null,null,null,null,null,null,null,null,null,null,null,null,"","",{"$f":"IF($N988=\"\",\"\",IFERROR(IF(N988=6,1,IF(MATCH(N988&\"/\"&R988,読み替え表_クールビズ!$P$38:$P$59,0),1,0)),0))","v":""},{"$f":"IF($P988=\"\",\"\",IFERROR(IF(P988=6,1,IF(MATCH(P988&\"/\"&R988,読み替え表_クールビズ!$P$38:$P$59,0),1,0)),0))","v":""},"","",0,0,"*"]
[null,null,979,null,null,null,null,null,null,null,null,null,null,null,null,null,null,null,null,null,null,null,null,null,null,null,null,null,null,null,null,null,"","",{"$f":"IF($N989=\"\",\"\",IFERROR(IF(N989=6,1,IF(MATCH(N989&\"/\"&R989,読み替え表_クールビズ!$P$38:$P$59,0),1,0)),0))","v":""},{"$f":"IF($P989=\"\",\"\",IFERROR(IF(P989=6,1,IF(MATCH(P989&\"/\"&R989,読み替え表_クールビズ!$P$38:$P$59,0),1,0)),0))","v":""},"","",0,0,"*"]
[null,null,980,null,null,null,null,null,null,null,null,null,null,null,null,null,null,null,null,null,null,null,null,null,null,null,null,null,null,null,null,null,"","",{"$f":"IF($N990=\"\",\"\",IFERROR(IF(N990=6,1,IF(MATCH(N990&\"/\"&R990,読み替え表_クールビズ!$P$38:$P$59,0),1,0)),0))","v":""},{"$f":"IF($P990=\"\",\"\",IFERROR(IF(P990=6,1,IF(MATCH(P990&\"/\"&R990,読み替え表_クールビズ!$P$38:$P$59,0),1,0)),0))","v":""},"","",0,0,"*"]
[null,null,981,null,null,null,null,null,null,null,null,null,null,null,null,null,null,null,null,null,null,null,null,null,null,null,null,null,null,null,null,null,"","",{"$f":"IF($N991=\"\",\"\",IFERROR(IF(N991=6,1,IF(MATCH(N991&\"/\"&R991,読み替え表_クールビズ!$P$38:$P$59,0),1,0)),0))","v":""},{"$f":"IF($P991=\"\",\"\",IFERROR(IF(P991=6,1,IF(MATCH(P991&\"/\"&R991,読み替え表_クールビズ!$P$38:$P$59,0),1,0)),0))","v":""},"","",0,0,"*"]
[null,null,982,null,null,null,null,null,null,null,null,null,null,null,null,null,null,null,null,null,null,null,null,null,null,null,null,null,null,null,null,null,"","",{"$f":"IF($N992=\"\",\"\",IFERROR(IF(N992=6,1,IF(MATCH(N992&\"/\"&R992,読み替え表_クールビズ!$P$38:$P$59,0),1,0)),0))","v":""},{"$f":"IF($P992=\"\",\"\",IFERROR(IF(P992=6,1,IF(MATCH(P992&\"/\"&R992,読み替え表_クールビズ!$P$38:$P$59,0),1,0)),0))","v":""},"","",0,0,"*"]
[null,null,983,null,null,null,null,null,null,null,null,null,null,null,null,null,null,null,null,null,null,null,null,null,null,null,null,null,null,null,null,null,"","",{"$f":"IF($N993=\"\",\"\",IFERROR(IF(N993=6,1,IF(MATCH(N993&\"/\"&R993,読み替え表_クールビズ!$P$38:$P$59,0),1,0)),0))","v":""},{"$f":"IF($P993=\"\",\"\",IFERROR(IF(P993=6,1,IF(MATCH(P993&\"/\"&R993,読み替え表_クールビズ!$P$38:$P$59,0),1,0)),0))","v":""},"","",0,0,"*"]
[null,null,984,null,null,null,null,null,null,null,null,null,null,null,null,null,null,null,null,null,null,null,null,null,null,null,null,null,null,null,null,null,"","",{"$f":"IF($N994=\"\",\"\",IFERROR(IF(N994=6,1,IF(MATCH(N994&\"/\"&R994,読み替え表_クールビズ!$P$38:$P$59,0),1,0)),0))","v":""},{"$f":"IF($P994=\"\",\"\",IFERROR(IF(P994=6,1,IF(MATCH(P994&\"/\"&R994,読み替え表_クールビズ!$P$38:$P$59,0),1,0)),0))","v":""},"","",0,0,"*"]
[null,null,985,null,null,null,null,null,null,null,null,null,null,null,null,null,null,null,null,null,null,null,null,null,null,null,null,null,null,null,null,null,"","",{"$f":"IF($N995=\"\",\"\",IFERROR(IF(N995=6,1,IF(MATCH(N995&\"/\"&R995,読み替え表_クールビズ!$P$38:$P$59,0),1,0)),0))","v":""},{"$f":"IF($P995=\"\",\"\",IFERROR(IF(P995=6,1,IF(MATCH(P995&\"/\"&R995,読み替え表_クールビズ!$P$38:$P$59,0),1,0)),0))","v":""},"","",0,0,"*"]
[null,null,986,null,null,null,null,null,null,null,null,null,null,null,null,null,null,null,null,null,null,null,null,null,null,null,null,null,null,null,null,null,"","",{"$f":"IF($N996=\"\",\"\",IFERROR(IF(N996=6,1,IF(MATCH(N996&\"/\"&R996,読み替え表_クールビズ!$P$38:$P$59,0),1,0)),0))","v":""},{"$f":"IF($P996=\"\",\"\",IFERROR(IF(P996=6,1,IF(MATCH(P996&\"/\"&R996,読み替え表_クールビズ!$P$38:$P$59,0),1,0)),0))","v":""},"","",0,0,"*"]
[null,null,987,null,null,null,null,null,null,null,null,null,null,null,null,null,null,null,null,null,null,null,null,null,null,null,null,null,null,null,null,null,"","",{"$f":"IF($N997=\"\",\"\",IFERROR(IF(N997=6,1,IF(MATCH(N997&\"/\"&R997,読み替え表_クールビズ!$P$38:$P$59,0),1,0)),0))","v":""},{"$f":"IF($P997=\"\",\"\",IFERROR(IF(P997=6,1,IF(MATCH(P997&\"/\"&R997,読み替え表_クールビズ!$P$38:$P$59,0),1,0)),0))","v":""},"","",0,0,"*"]
[null,null,988,null,null,null,null,null,null,null,null,null,null,null,null,null,null,null,null,null,null,null,null,null,null,null,null,null,null,null,null,null,"","",{"$f":"IF($N998=\"\",\"\",IFERROR(IF(N998=6,1,IF(MATCH(N998&\"/\"&R998,読み替え表_クールビズ!$P$38:$P$59,0),1,0)),0))","v":""},{"$f":"IF($P998=\"\",\"\",IFERROR(IF(P998=6,1,IF(MATCH(P998&\"/\"&R998,読み替え表_クールビズ!$P$38:$P$59,0),1,0)),0))","v":""},"","",0,0,"*"]
[null,null,989,null,null,null,null,null,null,null,null,null,null,null,null,null,null,null,null,null,null,null,null,null,null,null,null,null,null,null,null,null,"","",{"$f":"IF($N999=\"\",\"\",IFERROR(IF(N999=6,1,IF(MATCH(N999&\"/\"&R999,読み替え表_クールビズ!$P$38:$P$59,0),1,0)),0))","v":""},{"$f":"IF($P999=\"\",\"\",IFERROR(IF(P999=6,1,IF(MATCH(P999&\"/\"&R999,読み替え表_クールビズ!$P$38:$P$59,0),1,0)),0))","v":""},"","",0,0,"*"]
[null,null,990,null,null,null,null,null,null,null,null,null,null,null,null,null,null,null,null,null,null,null,null,null,null,null,null,null,null,null,null,null,"","",{"$f":"IF($N1000=\"\",\"\",IFERROR(IF(N1000=6,1,IF(MATCH(N1000&\"/\"&R1000,読み替え表_クールビズ!$P$38:$P$59,0),1,0)),0))","v":""},{"$f":"IF($P1000=\"\",\"\",IFERROR(IF(P1000=6,1,IF(MATCH(P1000&\"/\"&R1000,読み替え表_クールビズ!$P$38:$P$59,0),1,0)),0))","v":""},"","",0,0,"*"]
[null,null,991,null,null,null,null,null,null,null,null,null,null,null,null,null,null,null,null,null,null,null,null,null,null,null,null,null,null,null,null,null,"","",{"$f":"IF($N1001=\"\",\"\",IFERROR(IF(N1001=6,1,IF(MATCH(N1001&\"/\"&R1001,読み替え表_クールビズ!$P$38:$P$59,0),1,0)),0))","v":""},{"$f":"IF($P1001=\"\",\"\",IFERROR(IF(P1001=6,1,IF(MATCH(P1001&\"/\"&R1001,読み替え表_クールビズ!$P$38:$P$59,0),1,0)),0))","v":""},"","",0,0,"*"]
[null,null,992,null,null,null,null,null,null,null,null,null,null,null,null,null,null,null,null,null,null,null,null,null,null,null,null,null,null,null,null,null,"","",{"$f":"IF($N1002=\"\",\"\",IFERROR(IF(N1002=6,1,IF(MATCH(N1002&\"/\"&R1002,読み替え表_クールビズ!$P$38:$P$59,0),1,0)),0))","v":""},{"$f":"IF($P1002=\"\",\"\",IFERROR(IF(P1002=6,1,IF(MATCH(P1002&\"/\"&R1002,読み替え表_クールビズ!$P$38:$P$59,0),1,0)),0))","v":""},"","",0,0,"*"]
[null,null,993,null,null,null,null,null,null,null,null,null,null,null,null,null,null,null,null,null,null,null,null,null,null,null,null,null,null,null,null,null,"","",{"$f":"IF($N1003=\"\",\"\",IFERROR(IF(N1003=6,1,IF(MATCH(N1003&\"/\"&R1003,読み替え表_クールビズ!$P$38:$P$59,0),1,0)),0))","v":""},{"$f":"IF($P1003=\"\",\"\",IFERROR(IF(P1003=6,1,IF(MATCH(P1003&\"/\"&R1003,読み替え表_クールビズ!$P$38:$P$59,0),1,0)),0))","v":""},"","",0,0,"*"]
[null,null,994,null,null,null,null,null,null,null,null,null,null,null,null,null,null,null,null,null,null,null,null,null,null,null,null,null,null,null,null,null,"","",{"$f":"IF($N1004=\"\",\"\",IFERROR(IF(N1004=6,1,IF(MATCH(N1004&\"/\"&R1004,読み替え表_クールビズ!$P$38:$P$59,0),1,0)),0))","v":""},{"$f":"IF($P1004=\"\",\"\",IFERROR(IF(P1004=6,1,IF(MATCH(P1004&\"/\"&R1004,読み替え表_クールビズ!$P$38:$P$59,0),1,0)),0))","v":""},"","",0,0,"*"]
[null,null,995,null,null,null,null,null,null,null,null,null,null,null,null,null,null,null,null,null,null,null,null,null,null,null,null,null,null,null,null,null,"","",{"$f":"IF($N1005=\"\",\"\",IFERROR(IF(N1005=6,1,IF(MATCH(N1005&\"/\"&R1005,読み替え表_クールビズ!$P$38:$P$59,0),1,0)),0))","v":""},{"$f":"IF($P1005=\"\",\"\",IFERROR(IF(P1005=6,1,IF(MATCH(P1005&\"/\"&R1005,読み替え表_クールビズ!$P$38:$P$59,0),1,0)),0))","v":""},"","",0,0,"*"]
[null,null,996,null,null,null,null,null,null,null,null,null,null,null,null,null,null,null,null,null,null,null,null,null,null,null,null,null,null,null,null,null,"","",{"$f":"IF($N1006=\"\",\"\",IFERROR(IF(N1006=6,1,IF(MATCH(N1006&\"/\"&R1006,読み替え表_クールビズ!$P$38:$P$59,0),1,0)),0))","v":""},{"$f":"IF($P1006=\"\",\"\",IFERROR(IF(P1006=6,1,IF(MATCH(P1006&\"/\"&R1006,読み替え表_クールビズ!$P$38:$P$59,0),1,0)),0))","v":""},"","",0,0,"*"]
[null,null,997,null,null,null,null,null,null,null,null,null,null,null,null,null,null,null,null,null,null,null,null,null,null,null,null,null,null,null,null,null,"","",{"$f":"IF($N1007=\"\",\"\",IFERROR(IF(N1007=6,1,IF(MATCH(N1007&\"/\"&R1007,読み替え表_クールビズ!$P$38:$P$59,0),1,0)),0))","v":""},{"$f":"IF($P1007=\"\",\"\",IFERROR(IF(P1007=6,1,IF(MATCH(P1007&\"/\"&R1007,読み替え表_クールビズ!$P$38:$P$59,0),1,0)),0))","v":""},"","",0,0,"*"]
[null,null,998,null,null,null,null,null,null,null,null,null,null,null,null,null,null,null,null,null,null,null,null,null,null,null,null,null,null,null,null,null,"","",{"$f":"IF($N1008=\"\",\"\",IFERROR(IF(N1008=6,1,IF(MATCH(N1008&\"/\"&R1008,読み替え表_クールビズ!$P$38:$P$59,0),1,0)),0))","v":""},{"$f":"IF($P1008=\"\",\"\",IFERROR(IF(P1008=6,1,IF(MATCH(P1008&\"/\"&R1008,読み替え表_クールビズ!$P$38:$P$59,0),1,0)),0))","v":""},"","",0,0,"*"]
[null,null,999,null,null,null,null,null,null,null,null,null,null,null,null,null,null,null,null,null,null,null,null,null,null,null,null,null,null,null,null,null,"","",{"$f":"IF($N1009=\"\",\"\",IFERROR(IF(N1009=6,1,IF(MATCH(N1009&\"/\"&R1009,読み替え表_クールビズ!$P$38:$P$59,0),1,0)),0))","v":""},{"$f":"IF($P1009=\"\",\"\",IFERROR(IF(P1009=6,1,IF(MATCH(P1009&\"/\"&R1009,読み替え表_クールビズ!$P$38:$P$59,0),1,0)),0))","v":""},"","",0,0,"*"]
[null,null,1000,null,null,null,null,null,null,null,null,null,null,null,null,null,null,null,null,null,null,null,null,null,null,null,null,null,null,null,null,null,"","",{"$f":"IF($N1010=\"\",\"\",IFERROR(IF(N1010=6,1,IF(MATCH(N1010&\"/\"&R1010,読み替え表_クールビズ!$P$38:$P$59,0),1,0)),0))","v":""},{"$f":"IF($P1010=\"\",\"\",IFERROR(IF(P1010=6,1,IF(MATCH(P1010&\"/\"&R1010,読み替え表_クールビズ!$P$38:$P$59,0),1,0)),0))","v":""},"","",0,0,"*"]
[null,null,1001,null,null,null,null,null,null,null,null,null,null,null,null,null,null,null,null,null,null,null,null,null,null,null,null,null,null,null,null,null,"","",{"$f":"IF($N1011=\"\",\"\",IFERROR(IF(N1011=6,1,IF(MATCH(N1011&\"/\"&R1011,読み替え表_クールビズ!$P$38:$P$59,0),1,0)),0))","v":""},{"$f":"IF($P1011=\"\",\"\",IFERROR(IF(P1011=6,1,IF(MATCH(P1011&\"/\"&R1011,読み替え表_クールビズ!$P$38:$P$59,0),1,0)),0))","v":""},"","",0,0,"*"]
[null,null,1002,null,null,null,null,null,null,null,null,null,null,null,null,null,null,null,null,null,null,null,null,null,null,null,null,null,null,null,null,null,"","",{"$f":"IF($N1012=\"\",\"\",IFERROR(IF(N1012=6,1,IF(MATCH(N1012&\"/\"&R1012,読み替え表_クールビズ!$P$38:$P$59,0),1,0)),0))","v":""},{"$f":"IF($P1012=\"\",\"\",IFERROR(IF(P1012=6,1,IF(MATCH(P1012&\"/\"&R1012,読み替え表_クールビズ!$P$38:$P$59,0),1,0)),0))","v":""},"","",0,0,"*"]
[null,null,1003,null,null,null,null,null,null,null,null,null,null,null,null,null,null,null,null,null,null,null,null,null,null,null,null,null,null,null,null,null,"","",{"$f":"IF($N1013=\"\",\"\",IFERROR(IF(N1013=6,1,IF(MATCH(N1013&\"/\"&R1013,読み替え表_クールビズ!$P$38:$P$59,0),1,0)),0))","v":""},{"$f":"IF($P1013=\"\",\"\",IFERROR(IF(P1013=6,1,IF(MATCH(P1013&\"/\"&R1013,読み替え表_クールビズ!$P$38:$P$59,0),1,0)),0))","v":""},"","",0,0,"*"]
[null,null,1004,null,null,null,null,null,null,null,null,null,null,null,null,null,null,null,null,null,null,null,null,null,null,null,null,null,null,null,null,null,"","",{"$f":"IF($N1014=\"\",\"\",IFERROR(IF(N1014=6,1,IF(MATCH(N1014&\"/\"&R1014,読み替え表_クールビズ!$P$38:$P$59,0),1,0)),0))","v":""},{"$f":"IF($P1014=\"\",\"\",IFERROR(IF(P1014=6,1,IF(MATCH(P1014&\"/\"&R1014,読み替え表_クールビズ!$P$38:$P$59,0),1,0)),0))","v":""},"","",0,0,"*"]
[null,null,1005,null,null,null,null,null,null,null,null,null,null,null,null,null,null,null,null,null,null,null,null,null,null,null,null,null,null,null,null,null,"","",{"$f":"IF($N1015=\"\",\"\",IFERROR(IF(N1015=6,1,IF(MATCH(N1015&\"/\"&R1015,読み替え表_クールビズ!$P$38:$P$59,0),1,0)),0))","v":""},{"$f":"IF($P1015=\"\",\"\",IFERROR(IF(P1015=6,1,IF(MATCH(P1015&\"/\"&R1015,読み替え表_クールビズ!$P$38:$P$59,0),1,0)),0))","v":""},"","",0,0,"*"]
[null,null,1006,null,null,null,null,null,null,null,null,null,null,null,null,null,null,null,null,null,null,null,null,null,null,null,null,null,null,null,null,null,"","",{"$f":"IF($N1016=\"\",\"\",IFERROR(IF(N1016=6,1,IF(MATCH(N1016&\"/\"&R1016,読み替え表_クールビズ!$P$38:$P$59,0),1,0)),0))","v":""},{"$f":"IF($P1016=\"\",\"\",IFERROR(IF(P1016=6,1,IF(MATCH(P1016&\"/\"&R1016,読み替え表_クールビズ!$P$38:$P$59,0),1,0)),0))","v":""},"","",0,0,"*"]
[null,null,1007,null,null,null,null,null,null,null,null,null,null,null,null,null,null,null,null,null,null,null,null,null,null,null,null,null,null,null,null,null,"","",{"$f":"IF($N1017=\"\",\"\",IFERROR(IF(N1017=6,1,IF(MATCH(N1017&\"/\"&R1017,読み替え表_クールビズ!$P$38:$P$59,0),1,0)),0))","v":""},{"$f":"IF($P1017=\"\",\"\",IFERROR(IF(P1017=6,1,IF(MATCH(P1017&\"/\"&R1017,読み替え表_クールビズ!$P$38:$P$59,0),1,0)),0))","v":""},"","",0,0,"*"]
[null,null,1008,null,null,null,null,null,null,null,null,null,null,null,null,null,null,null,null,null,null,null,null,null,null,null,null,null,null,null,null,null,"","",{"$f":"IF($N1018=\"\",\"\",IFERROR(IF(N1018=6,1,IF(MATCH(N1018&\"/\"&R1018,読み替え表_クールビズ!$P$38:$P$59,0),1,0)),0))","v":""},{"$f":"IF($P1018=\"\",\"\",IFERROR(IF(P1018=6,1,IF(MATCH(P1018&\"/\"&R1018,読み替え表_クールビズ!$P$38:$P$59,0),1,0)),0))","v":""},"","",0,0,"*"]
[null,null,1009,null,null,null,null,null,null,null,null,null,null,null,null,null,null,null,null,null,null,null,null,null,null,null,null,null,null,null,null,null,"","",{"$f":"IF($N1019=\"\",\"\",IFERROR(IF(N1019=6,1,IF(MATCH(N1019&\"/\"&R1019,読み替え表_クールビズ!$P$38:$P$59,0),1,0)),0))","v":""},{"$f":"IF($P1019=\"\",\"\",IFERROR(IF(P1019=6,1,IF(MATCH(P1019&\"/\"&R1019,読み替え表_クールビズ!$P$38:$P$59,0),1,0)),0))","v":""},"","",0,0,"*"]
[null,null,1010,null,null,null,null,null,null,null,null,null,null,null,null,null,null,null,null,null,null,null,null,null,null,null,null,null,null,null,null,null,"","",{"$f":"IF($N1020=\"\",\"\",IFERROR(IF(N1020=6,1,IF(MATCH(N1020&\"/\"&R1020,読み替え表_クールビズ!$P$38:$P$59,0),1,0)),0))","v":""},{"$f":"IF($P1020=\"\",\"\",IFERROR(IF(P1020=6,1,IF(MATCH(P1020&\"/\"&R1020,読み替え表_クールビズ!$P$38:$P$59,0),1,0)),0))","v":""},"","",0,0,"*"]
[null,null,1011,null,null,null,null,null,null,null,null,null,null,null,null,null,null,null,null,null,null,null,null,null,null,null,null,null,null,null,null,null,"","",{"$f":"IF($N1021=\"\",\"\",IFERROR(IF(N1021=6,1,IF(MATCH(N1021&\"/\"&R1021,読み替え表_クールビズ!$P$38:$P$59,0),1,0)),0))","v":""},{"$f":"IF($P1021=\"\",\"\",IFERROR(IF(P1021=6,1,IF(MATCH(P1021&\"/\"&R1021,読み替え表_クールビズ!$P$38:$P$59,0),1,0)),0))","v":""},"","",0,0,"*"]
[null,null,1012,null,null,null,null,null,null,null,null,null,null,null,null,null,null,null,null,null,null,null,null,null,null,null,null,null,null,null,null,null,"","",{"$f":"IF($N1022=\"\",\"\",IFERROR(IF(N1022=6,1,IF(MATCH(N1022&\"/\"&R1022,読み替え表_クールビズ!$P$38:$P$59,0),1,0)),0))","v":""},{"$f":"IF($P1022=\"\",\"\",IFERROR(IF(P1022=6,1,IF(MATCH(P1022&\"/\"&R1022,読み替え表_クールビズ!$P$38:$P$59,0),1,0)),0))","v":""},"","",0,0,"*"]
[null,null,1013,null,null,null,null,null,null,null,null,null,null,null,null,null,null,null,null,null,null,null,null,null,null,null,null,null,null,null,null,null,"","",{"$f":"IF($N1023=\"\",\"\",IFERROR(IF(N1023=6,1,IF(MATCH(N1023&\"/\"&R1023,読み替え表_クールビズ!$P$38:$P$59,0),1,0)),0))","v":""},{"$f":"IF($P1023=\"\",\"\",IFERROR(IF(P1023=6,1,IF(MATCH(P1023&\"/\"&R1023,読み替え表_クールビズ!$P$38:$P$59,0),1,0)),0))","v":""},"","",0,0,"*"]
[null,null,1014,null,null,null,null,null,null,null,null,null,null,null,null,null,null,null,null,null,null,null,null,null,null,null,null,null,null,null,null,null,"","",{"$f":"IF($N1024=\"\",\"\",IFERROR(IF(N1024=6,1,IF(MATCH(N1024&\"/\"&R1024,読み替え表_クールビズ!$P$38:$P$59,0),1,0)),0))","v":""},{"$f":"IF($P1024=\"\",\"\",IFERROR(IF(P1024=6,1,IF(MATCH(P1024&\"/\"&R1024,読み替え表_クールビズ!$P$38:$P$59,0),1,0)),0))","v":""},"","",0,0,"*"]
[null,null,1015,null,null,null,null,null,null,null,null,null,null,null,null,null,null,null,null,null,null,null,null,null,null,null,null,null,null,null,null,null,"","",{"$f":"IF($N1025=\"\",\"\",IFERROR(IF(N1025=6,1,IF(MATCH(N1025&\"/\"&R1025,読み替え表_クールビズ!$P$38:$P$59,0),1,0)),0))","v":""},{"$f":"IF($P1025=\"\",\"\",IFERROR(IF(P1025=6,1,IF(MATCH(P1025&\"/\"&R1025,読み替え表_クールビズ!$P$38:$P$59,0),1,0)),0))","v":""},"","",0,0,"*"]
[null,null,1016,null,null,null,null,null,null,null,null,null,null,null,null,null,null,null,null,null,null,null,null,null,null,null,null,null,null,null,null,null,"","",{"$f":"IF($N1026=\"\",\"\",IFERROR(IF(N1026=6,1,IF(MATCH(N1026&\"/\"&R1026,読み替え表_クールビズ!$P$38:$P$59,0),1,0)),0))","v":""},{"$f":"IF($P1026=\"\",\"\",IFERROR(IF(P1026=6,1,IF(MATCH(P1026&\"/\"&R1026,読み替え表_クールビズ!$P$38:$P$59,0),1,0)),0))","v":""},"","",0,0,"*"]
[null,null,1017,null,null,null,null,null,null,null,null,null,null,null,null,null,null,null,null,null,null,null,null,null,null,null,null,null,null,null,null,null,"","",{"$f":"IF($N1027=\"\",\"\",IFERROR(IF(N1027=6,1,IF(MATCH(N1027&\"/\"&R1027,読み替え表_クールビズ!$P$38:$P$59,0),1,0)),0))","v":""},{"$f":"IF($P1027=\"\",\"\",IFERROR(IF(P1027=6,1,IF(MATCH(P1027&\"/\"&R1027,読み替え表_クールビズ!$P$38:$P$59,0),1,0)),0))","v":""},"","",0,0,"*"]
[null,null,1018,null,null,null,null,null,null,null,null,null,null,null,null,null,null,null,null,null,null,null,null,null,null,null,null,null,null,null,null,null,"","",{"$f":"IF($N1028=\"\",\"\",IFERROR(IF(N1028=6,1,IF(MATCH(N1028&\"/\"&R1028,読み替え表_クールビズ!$P$38:$P$59,0),1,0)),0))","v":""},{"$f":"IF($P1028=\"\",\"\",IFERROR(IF(P1028=6,1,IF(MATCH(P1028&\"/\"&R1028,読み替え表_クールビズ!$P$38:$P$59,0),1,0)),0))","v":""},"","",0,0,"*"]
[null,null,1019,null,null,null,null,null,null,null,null,null,null,null,null,null,null,null,null,null,null,null,null,null,null,null,null,null,null,null,null,null,"","",{"$f":"IF($N1029=\"\",\"\",IFERROR(IF(N1029=6,1,IF(MATCH(N1029&\"/\"&R1029,読み替え表_クールビズ!$P$38:$P$59,0),1,0)),0))","v":""},{"$f":"IF($P1029=\"\",\"\",IFERROR(IF(P1029=6,1,IF(MATCH(P1029&\"/\"&R1029,読み替え表_クールビズ!$P$38:$P$59,0),1,0)),0))","v":""},"","",0,0,"*"]
[null,null,1020,null,null,null,null,null,null,null,null,null,null,null,null,null,null,null,null,null,null,null,null,null,null,null,null,null,null,null,null,null,"","",{"$f":"IF($N1030=\"\",\"\",IFERROR(IF(N1030=6,1,IF(MATCH(N1030&\"/\"&R1030,読み替え表_クールビズ!$P$38:$P$59,0),1,0)),0))","v":""},{"$f":"IF($P1030=\"\",\"\",IFERROR(IF(P1030=6,1,IF(MATCH(P1030&\"/\"&R1030,読み替え表_クールビズ!$P$38:$P$59,0),1,0)),0))","v":""},"","",0,0,"*"]
[null,null,1021,null,null,null,null,null,null,null,null,null,null,null,null,null,null,null,null,null,null,null,null,null,null,null,null,null,null,null,null,null,"","",{"$f":"IF($N1031=\"\",\"\",IFERROR(IF(N1031=6,1,IF(MATCH(N1031&\"/\"&R1031,読み替え表_クールビズ!$P$38:$P$59,0),1,0)),0))","v":""},{"$f":"IF($P1031=\"\",\"\",IFERROR(IF(P1031=6,1,IF(MATCH(P1031&\"/\"&R1031,読み替え表_クールビズ!$P$38:$P$59,0),1,0)),0))","v":""},"","",0,0,"*"]
[null,null,1022,null,null,null,null,null,null,null,null,null,null,null,null,null,null,null,null,null,null,null,null,null,null,null,null,null,null,null,null,null,"","",{"$f":"IF($N1032=\"\",\"\",IFERROR(IF(N1032=6,1,IF(MATCH(N1032&\"/\"&R1032,読み替え表_クールビズ!$P$38:$P$59,0),1,0)),0))","v":""},{"$f":"IF($P1032=\"\",\"\",IFERROR(IF(P1032=6,1,IF(MATCH(P1032&\"/\"&R1032,読み替え表_クールビズ!$P$38:$P$59,0),1,0)),0))","v":""},"","",0,0,"*"]
[null,null,1023,null,null,null,null,null,null,null,null,null,null,null,null,null,null,null,null,null,null,null,null,null,null,null,null,null,null,null,null,null,"","",{"$f":"IF($N1033=\"\",\"\",IFERROR(IF(N1033=6,1,IF(MATCH(N1033&\"/\"&R1033,読み替え表_クールビズ!$P$38:$P$59,0),1,0)),0))","v":""},{"$f":"IF($P1033=\"\",\"\",IFERROR(IF(P1033=6,1,IF(MATCH(P1033&\"/\"&R1033,読み替え表_クールビズ!$P$38:$P$59,0),1,0)),0))","v":""},"","",0,0,"*"]
[null,null,1024,null,null,null,null,null,null,null,null,null,null,null,null,null,null,null,null,null,null,null,null,null,null,null,null,null,null,null,null,null,"","",{"$f":"IF($N1034=\"\",\"\",IFERROR(IF(N1034=6,1,IF(MATCH(N1034&\"/\"&R1034,読み替え表_クールビズ!$P$38:$P$59,0),1,0)),0))","v":""},{"$f":"IF($P1034=\"\",\"\",IFERROR(IF(P1034=6,1,IF(MATCH(P1034&\"/\"&R1034,読み替え表_クールビズ!$P$38:$P$59,0),1,0)),0))","v":""},"","",0,0,"*"]
[null,null,1025,null,null,null,null,null,null,null,null,null,null,null,null,null,null,null,null,null,null,null,null,null,null,null,null,null,null,null,null,null,"","",{"$f":"IF($N1035=\"\",\"\",IFERROR(IF(N1035=6,1,IF(MATCH(N1035&\"/\"&R1035,読み替え表_クールビズ!$P$38:$P$59,0),1,0)),0))","v":""},{"$f":"IF($P1035=\"\",\"\",IFERROR(IF(P1035=6,1,IF(MATCH(P1035&\"/\"&R1035,読み替え表_クールビズ!$P$38:$P$59,0),1,0)),0))","v":""},{"$f":"IF($N1035=\"\",\"\",IF(OR(CONCATENATE(N1035,$R1035)=\"22\",CONCATENATE(N1035,$R1035)=\"32\",CONCATENATE(N1035,$R1035)=\"42\",CONCATENATE(N1035,$R1035)=\"43\",CONCATENATE(N1035,$R1035)=\"51\",CONCATENATE(N1035,$R1035)=\"52\",CONCATENATE(N1035,$R1035)=\"53\"),1,0))","v":""},{"$f":"IF($P1035=\"\",\"\",IF(OR(CONCATENATE(P1035,$R1035)=\"22\",CONCATENATE(P1035,$R1035)=\"32\",CONCATENATE(P1035,$R1035)=\"42\",CONCATENATE(P1035,$R1035)=\"43\",CONCATENATE(P1035,$R1035)=\"51\",CONCATENATE(P1035,$R1035)=\"52\",CONCATENATE(P1035,$R1035)=\"53\"),1,0))","v":""},0,0,"*"]
[null,null,{"$f":"ROW()-10","v":1026},null,null,null,null,null,null,null,null,null,null,null,null,null,null,null,null,null,null,null,null,null,null,null,null,null,null,null,null,null,{"$f":"IF($J1036=\"\",\"\",IF(AND($J1036>=1,$J1036<=9),1,0))","v":""},{"$f":"IF($R1036=\"\",\"\",IF(OR($R1036=1,$R1036=2,$R1036=3),1,0))","v":""},{"$f":"IF($N1036=\"\",\"\",IFERROR(IF(N1036=6,1,IF(MATCH(N1036&\"/\"&R1036,読み替え表_クールビズ!$P$38:$P$59,0),1,0)),0))","v":""},{"$f":"IF($P1036=\"\",\"\",IFERROR(IF(P1036=6,1,IF(MATCH(P1036&\"/\"&R1036,読み替え表_クールビズ!$P$38:$P$59,0),1,0)),0))","v":""},"","",{"$f":"IF(OR(AK1036=1,AL1036=1),1,0)","v":0},{"$f":"IF(OR($AG1036=0,SUM(AI1036:AJ1036)=2),1,0)","v":0},"*"]
[null,null,1027,null,null,null,null,null,null,null,null,null,null,null,null,null,null,null,null,null,null,null,null,null,null,null,null,null,null,null,null,null,"","",{"$f":"IF($N1037=\"\",\"\",IFERROR(IF(N1037=6,1,IF(MATCH(N1037&\"/\"&R1037,読み替え表_クールビズ!$P$38:$P$59,0),1,0)),0))","v":""},{"$f":"IF($P1037=\"\",\"\",IFERROR(IF(P1037=6,1,IF(MATCH(P1037&\"/\"&R1037,読み替え表_クールビズ!$P$38:$P$59,0),1,0)),0))","v":""},"","",0,0,"*"]
[null,null,1028,null,null,null,null,null,null,null,null,null,null,null,null,null,null,null,null,null,null,null,null,null,null,null,null,null,null,null,null,null,"","",{"$f":"IF($N1038=\"\",\"\",IFERROR(IF(N1038=6,1,IF(MATCH(N1038&\"/\"&R1038,読み替え表_クールビズ!$P$38:$P$59,0),1,0)),0))","v":""},{"$f":"IF($P1038=\"\",\"\",IFERROR(IF(P1038=6,1,IF(MATCH(P1038&\"/\"&R1038,読み替え表_クールビズ!$P$38:$P$59,0),1,0)),0))","v":""},"","",0,0,"*"]
[null,null,1029,null,null,null,null,null,null,null,null,null,null,null,null,null,null,null,null,null,null,null,null,null,null,null,null,null,null,null,null,null,"","",{"$f":"IF($N1039=\"\",\"\",IFERROR(IF(N1039=6,1,IF(MATCH(N1039&\"/\"&R1039,読み替え表_クールビズ!$P$38:$P$59,0),1,0)),0))","v":""},{"$f":"IF($P1039=\"\",\"\",IFERROR(IF(P1039=6,1,IF(MATCH(P1039&\"/\"&R1039,読み替え表_クールビズ!$P$38:$P$59,0),1,0)),0))","v":""},"","",0,0,"*"]
[null,null,1030,null,null,null,null,null,null,null,null,null,null,null,null,null,null,null,null,null,null,null,null,null,null,null,null,null,null,null,null,null,"","",{"$f":"IF($N1040=\"\",\"\",IFERROR(IF(N1040=6,1,IF(MATCH(N1040&\"/\"&R1040,読み替え表_クールビズ!$P$38:$P$59,0),1,0)),0))","v":""},{"$f":"IF($P1040=\"\",\"\",IFERROR(IF(P1040=6,1,IF(MATCH(P1040&\"/\"&R1040,読み替え表_クールビズ!$P$38:$P$59,0),1,0)),0))","v":""},"","",0,0,"*"]
[null,null,1031,null,null,null,null,null,null,null,null,null,null,null,null,null,null,null,null,null,null,null,null,null,null,null,null,null,null,null,null,null,"","",{"$f":"IF($N1041=\"\",\"\",IFERROR(IF(N1041=6,1,IF(MATCH(N1041&\"/\"&R1041,読み替え表_クールビズ!$P$38:$P$59,0),1,0)),0))","v":""},{"$f":"IF($P1041=\"\",\"\",IFERROR(IF(P1041=6,1,IF(MATCH(P1041&\"/\"&R1041,読み替え表_クールビズ!$P$38:$P$59,0),1,0)),0))","v":""},"","",0,0,"*"]
[null,null,1032,null,null,null,null,null,null,null,null,null,null,null,null,null,null,null,null,null,null,null,null,null,null,null,null,null,null,null,null,null,"","",{"$f":"IF($N1042=\"\",\"\",IFERROR(IF(N1042=6,1,IF(MATCH(N1042&\"/\"&R1042,読み替え表_クールビズ!$P$38:$P$59,0),1,0)),0))","v":""},{"$f":"IF($P1042=\"\",\"\",IFERROR(IF(P1042=6,1,IF(MATCH(P1042&\"/\"&R1042,読み替え表_クールビズ!$P$38:$P$59,0),1,0)),0))","v":""},"","",0,0,"*"]
[null,null,1033,null,null,null,null,null,null,null,null,null,null,null,null,null,null,null,null,null,null,null,null,null,null,null,null,null,null,null,null,null,"","",{"$f":"IF($N1043=\"\",\"\",IFERROR(IF(N1043=6,1,IF(MATCH(N1043&\"/\"&R1043,読み替え表_クールビズ!$P$38:$P$59,0),1,0)),0))","v":""},{"$f":"IF($P1043=\"\",\"\",IFERROR(IF(P1043=6,1,IF(MATCH(P1043&\"/\"&R1043,読み替え表_クールビズ!$P$38:$P$59,0),1,0)),0))","v":""},"","",0,0,"*"]
[null,null,1034,null,null,null,null,null,null,null,null,null,null,null,null,null,null,null,null,null,null,null,null,null,null,null,null,null,null,null,null,null,"","",{"$f":"IF($N1044=\"\",\"\",IFERROR(IF(N1044=6,1,IF(MATCH(N1044&\"/\"&R1044,読み替え表_クールビズ!$P$38:$P$59,0),1,0)),0))","v":""},{"$f":"IF($P1044=\"\",\"\",IFERROR(IF(P1044=6,1,IF(MATCH(P1044&\"/\"&R1044,読み替え表_クールビズ!$P$38:$P$59,0),1,0)),0))","v":""},"","",0,0,"*"]
[null,null,1035,null,null,null,null,null,null,null,null,null,null,null,null,null,null,null,null,null,null,null,null,null,null,null,null,null,null,null,null,null,"","",{"$f":"IF($N1045=\"\",\"\",IFERROR(IF(N1045=6,1,IF(MATCH(N1045&\"/\"&R1045,読み替え表_クールビズ!$P$38:$P$59,0),1,0)),0))","v":""},{"$f":"IF($P1045=\"\",\"\",IFERROR(IF(P1045=6,1,IF(MATCH(P1045&\"/\"&R1045,読み替え表_クールビズ!$P$38:$P$59,0),1,0)),0))","v":""},"","",0,0,"*"]
[null,null,1036,null,null,null,null,null,null,null,null,null,null,null,null,null,null,null,null,null,null,null,null,null,null,null,null,null,null,null,null,null,"","",{"$f":"IF($N1046=\"\",\"\",IFERROR(IF(N1046=6,1,IF(MATCH(N1046&\"/\"&R1046,読み替え表_クールビズ!$P$38:$P$59,0),1,0)),0))","v":""},{"$f":"IF($P1046=\"\",\"\",IFERROR(IF(P1046=6,1,IF(MATCH(P1046&\"/\"&R1046,読み替え表_クールビズ!$P$38:$P$59,0),1,0)),0))","v":""},"","",0,0,"*"]
[null,null,1037,null,null,null,null,null,null,null,null,null,null,null,null,null,null,null,null,null,null,null,null,null,null,null,null,null,null,null,null,null,"","",{"$f":"IF($N1047=\"\",\"\",IFERROR(IF(N1047=6,1,IF(MATCH(N1047&\"/\"&R1047,読み替え表_クールビズ!$P$38:$P$59,0),1,0)),0))","v":""},{"$f":"IF($P1047=\"\",\"\",IFERROR(IF(P1047=6,1,IF(MATCH(P1047&\"/\"&R1047,読み替え表_クールビズ!$P$38:$P$59,0),1,0)),0))","v":""},"","",0,0,"*"]
[null,null,1038,null,null,null,null,null,null,null,null,null,null,null,null,null,null,null,null,null,null,null,null,null,null,null,null,null,null,null,null,null,"","",{"$f":"IF($N1048=\"\",\"\",IFERROR(IF(N1048=6,1,IF(MATCH(N1048&\"/\"&R1048,読み替え表_クールビズ!$P$38:$P$59,0),1,0)),0))","v":""},{"$f":"IF($P1048=\"\",\"\",IFERROR(IF(P1048=6,1,IF(MATCH(P1048&\"/\"&R1048,読み替え表_クールビズ!$P$38:$P$59,0),1,0)),0))","v":""},"","",0,0,"*"]
[null,null,1039,null,null,null,null,null,null,null,null,null,null,null,null,null,null,null,null,null,null,null,null,null,null,null,null,null,null,null,null,null,"","",{"$f":"IF($N1049=\"\",\"\",IFERROR(IF(N1049=6,1,IF(MATCH(N1049&\"/\"&R1049,読み替え表_クールビズ!$P$38:$P$59,0),1,0)),0))","v":""},{"$f":"IF($P1049=\"\",\"\",IFERROR(IF(P1049=6,1,IF(MATCH(P1049&\"/\"&R1049,読み替え表_クールビズ!$P$38:$P$59,0),1,0)),0))","v":""},"","",0,0,"*"]
[null,null,1040,null,null,null,null,null,null,null,null,null,null,null,null,null,null,null,null,null,null,null,null,null,null,null,null,null,null,null,null,null,"","",{"$f":"IF($N1050=\"\",\"\",IFERROR(IF(N1050=6,1,IF(MATCH(N1050&\"/\"&R1050,読み替え表_クールビズ!$P$38:$P$59,0),1,0)),0))","v":""},{"$f":"IF($P1050=\"\",\"\",IFERROR(IF(P1050=6,1,IF(MATCH(P1050&\"/\"&R1050,読み替え表_クールビズ!$P$38:$P$59,0),1,0)),0))","v":""},"","",0,0,"*"]
[null,null,1041,null,null,null,null,null,null,null,null,null,null,null,null,null,null,null,null,null,null,null,null,null,null,null,null,null,null,null,null,null,"","",{"$f":"IF($N1051=\"\",\"\",IFERROR(IF(N1051=6,1,IF(MATCH(N1051&\"/\"&R1051,読み替え表_クールビズ!$P$38:$P$59,0),1,0)),0))","v":""},{"$f":"IF($P1051=\"\",\"\",IFERROR(IF(P1051=6,1,IF(MATCH(P1051&\"/\"&R1051,読み替え表_クールビズ!$P$38:$P$59,0),1,0)),0))","v":""},"","",0,0,"*"]
[null,null,1042,null,null,null,null,null,null,null,null,null,null,null,null,null,null,null,null,null,null,null,null,null,null,null,null,null,null,null,null,null,"","",{"$f":"IF($N1052=\"\",\"\",IFERROR(IF(N1052=6,1,IF(MATCH(N1052&\"/\"&R1052,読み替え表_クールビズ!$P$38:$P$59,0),1,0)),0))","v":""},{"$f":"IF($P1052=\"\",\"\",IFERROR(IF(P1052=6,1,IF(MATCH(P1052&\"/\"&R1052,読み替え表_クールビズ!$P$38:$P$59,0),1,0)),0))","v":""},"","",0,0,"*"]
[null,null,1043,null,null,null,null,null,null,null,null,null,null,null,null,null,null,null,null,null,null,null,null,null,null,null,null,null,null,null,null,null,"","",{"$f":"IF($N1053=\"\",\"\",IFERROR(IF(N1053=6,1,IF(MATCH(N1053&\"/\"&R1053,読み替え表_クールビズ!$P$38:$P$59,0),1,0)),0))","v":""},{"$f":"IF($P1053=\"\",\"\",IFERROR(IF(P1053=6,1,IF(MATCH(P1053&\"/\"&R1053,読み替え表_クールビズ!$P$38:$P$59,0),1,0)),0))","v":""},"","",0,0,"*"]
[null,null,1044,null,null,null,null,null,null,null,null,null,null,null,null,null,null,null,null,null,null,null,null,null,null,null,null,null,null,null,null,null,"","",{"$f":"IF($N1054=\"\",\"\",IFERROR(IF(N1054=6,1,IF(MATCH(N1054&\"/\"&R1054,読み替え表_クールビズ!$P$38:$P$59,0),1,0)),0))","v":""},{"$f":"IF($P1054=\"\",\"\",IFERROR(IF(P1054=6,1,IF(MATCH(P1054&\"/\"&R1054,読み替え表_クールビズ!$P$38:$P$59,0),1,0)),0))","v":""},"","",0,0,"*"]
[null,null,1045,null,null,null,null,null,null,null,null,null,null,null,null,null,null,null,null,null,null,null,null,null,null,null,null,null,null,null,null,null,"","",{"$f":"IF($N1055=\"\",\"\",IFERROR(IF(N1055=6,1,IF(MATCH(N1055&\"/\"&R1055,読み替え表_クールビズ!$P$38:$P$59,0),1,0)),0))","v":""},{"$f":"IF($P1055=\"\",\"\",IFERROR(IF(P1055=6,1,IF(MATCH(P1055&\"/\"&R1055,読み替え表_クールビズ!$P$38:$P$59,0),1,0)),0))","v":""},"","",0,0,"*"]
[null,null,1046,null,null,null,null,null,null,null,null,null,null,null,null,null,null,null,null,null,null,null,null,null,null,null,null,null,null,null,null,null,"","",{"$f":"IF($N1056=\"\",\"\",IFERROR(IF(N1056=6,1,IF(MATCH(N1056&\"/\"&R1056,読み替え表_クールビズ!$P$38:$P$59,0),1,0)),0))","v":""},{"$f":"IF($P1056=\"\",\"\",IFERROR(IF(P1056=6,1,IF(MATCH(P1056&\"/\"&R1056,読み替え表_クールビズ!$P$38:$P$59,0),1,0)),0))","v":""},"","",0,0,"*"]
[null,null,1047,null,null,null,null,null,null,null,null,null,null,null,null,null,null,null,null,null,null,null,null,null,null,null,null,null,null,null,null,null,"","",{"$f":"IF($N1057=\"\",\"\",IFERROR(IF(N1057=6,1,IF(MATCH(N1057&\"/\"&R1057,読み替え表_クールビズ!$P$38:$P$59,0),1,0)),0))","v":""},{"$f":"IF($P1057=\"\",\"\",IFERROR(IF(P1057=6,1,IF(MATCH(P1057&\"/\"&R1057,読み替え表_クールビズ!$P$38:$P$59,0),1,0)),0))","v":""},"","",0,0,"*"]
[null,null,1048,null,null,null,null,null,null,null,null,null,null,null,null,null,null,null,null,null,null,null,null,null,null,null,null,null,null,null,null,null,"","",{"$f":"IF($N1058=\"\",\"\",IFERROR(IF(N1058=6,1,IF(MATCH(N1058&\"/\"&R1058,読み替え表_クールビズ!$P$38:$P$59,0),1,0)),0))","v":""},{"$f":"IF($P1058=\"\",\"\",IFERROR(IF(P1058=6,1,IF(MATCH(P1058&\"/\"&R1058,読み替え表_クールビズ!$P$38:$P$59,0),1,0)),0))","v":""},"","",0,0,"*"]
[null,null,1049,null,null,null,null,null,null,null,null,null,null,null,null,null,null,null,null,null,null,null,null,null,null,null,null,null,null,null,null,null,"","",{"$f":"IF($N1059=\"\",\"\",IFERROR(IF(N1059=6,1,IF(MATCH(N1059&\"/\"&R1059,読み替え表_クールビズ!$P$38:$P$59,0),1,0)),0))","v":""},{"$f":"IF($P1059=\"\",\"\",IFERROR(IF(P1059=6,1,IF(MATCH(P1059&\"/\"&R1059,読み替え表_クールビズ!$P$38:$P$59,0),1,0)),0))","v":""},"","",0,0,"*"]
[null,null,1050,null,null,null,null,null,null,null,null,null,null,null,null,null,null,null,null,null,null,null,null,null,null,null,null,null,null,null,null,null,"","",{"$f":"IF($N1060=\"\",\"\",IFERROR(IF(N1060=6,1,IF(MATCH(N1060&\"/\"&R1060,読み替え表_クールビズ!$P$38:$P$59,0),1,0)),0))","v":""},{"$f":"IF($P1060=\"\",\"\",IFERROR(IF(P1060=6,1,IF(MATCH(P1060&\"/\"&R1060,読み替え表_クールビズ!$P$38:$P$59,0),1,0)),0))","v":""},"","",0,0,"*"]
[null,null,1051,null,null,null,null,null,null,null,null,null,null,null,null,null,null,null,null,null,null,null,null,null,null,null,null,null,null,null,null,null,"","",{"$f":"IF($N1061=\"\",\"\",IFERROR(IF(N1061=6,1,IF(MATCH(N1061&\"/\"&R1061,読み替え表_クールビズ!$P$38:$P$59,0),1,0)),0))","v":""},{"$f":"IF($P1061=\"\",\"\",IFERROR(IF(P1061=6,1,IF(MATCH(P1061&\"/\"&R1061,読み替え表_クールビズ!$P$38:$P$59,0),1,0)),0))","v":""},"","",0,0,"*"]
[null,null,1052,null,null,null,null,null,null,null,null,null,null,null,null,null,null,null,null,null,null,null,null,null,null,null,null,null,null,null,null,null,"","",{"$f":"IF($N1062=\"\",\"\",IFERROR(IF(N1062=6,1,IF(MATCH(N1062&\"/\"&R1062,読み替え表_クールビズ!$P$38:$P$59,0),1,0)),0))","v":""},{"$f":"IF($P1062=\"\",\"\",IFERROR(IF(P1062=6,1,IF(MATCH(P1062&\"/\"&R1062,読み替え表_クールビズ!$P$38:$P$59,0),1,0)),0))","v":""},"","",0,0,"*"]
[null,null,1053,null,null,null,null,null,null,null,null,null,null,null,null,null,null,null,null,null,null,null,null,null,null,null,null,null,null,null,null,null,"","",{"$f":"IF($N1063=\"\",\"\",IFERROR(IF(N1063=6,1,IF(MATCH(N1063&\"/\"&R1063,読み替え表_クールビズ!$P$38:$P$59,0),1,0)),0))","v":""},{"$f":"IF($P1063=\"\",\"\",IFERROR(IF(P1063=6,1,IF(MATCH(P1063&\"/\"&R1063,読み替え表_クールビズ!$P$38:$P$59,0),1,0)),0))","v":""},"","",0,0,"*"]
[null,null,1054,null,null,null,null,null,null,null,null,null,null,null,null,null,null,null,null,null,null,null,null,null,null,null,null,null,null,null,null,null,"","",{"$f":"IF($N1064=\"\",\"\",IFERROR(IF(N1064=6,1,IF(MATCH(N1064&\"/\"&R1064,読み替え表_クールビズ!$P$38:$P$59,0),1,0)),0))","v":""},{"$f":"IF($P1064=\"\",\"\",IFERROR(IF(P1064=6,1,IF(MATCH(P1064&\"/\"&R1064,読み替え表_クールビズ!$P$38:$P$59,0),1,0)),0))","v":""},"","",0,0,"*"]
[null,null,1055,null,null,null,null,null,null,null,null,null,null,null,null,null,null,null,null,null,null,null,null,null,null,null,null,null,null,null,null,null,"","",{"$f":"IF($N1065=\"\",\"\",IFERROR(IF(N1065=6,1,IF(MATCH(N1065&\"/\"&R1065,読み替え表_クールビズ!$P$38:$P$59,0),1,0)),0))","v":""},{"$f":"IF($P1065=\"\",\"\",IFERROR(IF(P1065=6,1,IF(MATCH(P1065&\"/\"&R1065,読み替え表_クールビズ!$P$38:$P$59,0),1,0)),0))","v":""},"","",0,0,"*"]
[null,null,1056,null,null,null,null,null,null,null,null,null,null,null,null,null,null,null,null,null,null,null,null,null,null,null,null,null,null,null,null,null,"","",{"$f":"IF($N1066=\"\",\"\",IFERROR(IF(N1066=6,1,IF(MATCH(N1066&\"/\"&R1066,読み替え表_クールビズ!$P$38:$P$59,0),1,0)),0))","v":""},{"$f":"IF($P1066=\"\",\"\",IFERROR(IF(P1066=6,1,IF(MATCH(P1066&\"/\"&R1066,読み替え表_クールビズ!$P$38:$P$59,0),1,0)),0))","v":""},"","",0,0,"*"]
[null,null,1057,null,null,null,null,null,null,null,null,null,null,null,null,null,null,null,null,null,null,null,null,null,null,null,null,null,null,null,null,null,"","",{"$f":"IF($N1067=\"\",\"\",IFERROR(IF(N1067=6,1,IF(MATCH(N1067&\"/\"&R1067,読み替え表_クールビズ!$P$38:$P$59,0),1,0)),0))","v":""},{"$f":"IF($P1067=\"\",\"\",IFERROR(IF(P1067=6,1,IF(MATCH(P1067&\"/\"&R1067,読み替え表_クールビズ!$P$38:$P$59,0),1,0)),0))","v":""},"","",0,0,"*"]
[null,null,1058,null,null,null,null,null,null,null,null,null,null,null,null,null,null,null,null,null,null,null,null,null,null,null,null,null,null,null,null,null,"","",{"$f":"IF($N1068=\"\",\"\",IFERROR(IF(N1068=6,1,IF(MATCH(N1068&\"/\"&R1068,読み替え表_クールビズ!$P$38:$P$59,0),1,0)),0))","v":""},{"$f":"IF($P1068=\"\",\"\",IFERROR(IF(P1068=6,1,IF(MATCH(P1068&\"/\"&R1068,読み替え表_クールビズ!$P$38:$P$59,0),1,0)),0))","v":""},"","",0,0,"*"]
[null,null,1059,null,null,null,null,null,null,null,null,null,null,null,null,null,null,null,null,null,null,null,null,null,null,null,null,null,null,null,null,null,"","",{"$f":"IF($N1069=\"\",\"\",IFERROR(IF(N1069=6,1,IF(MATCH(N1069&\"/\"&R1069,読み替え表_クールビズ!$P$38:$P$59,0),1,0)),0))","v":""},{"$f":"IF($P1069=\"\",\"\",IFERROR(IF(P1069=6,1,IF(MATCH(P1069&\"/\"&R1069,読み替え表_クールビズ!$P$38:$P$59,0),1,0)),0))","v":""},"","",0,0,"*"]
[null,null,1060,null,null,null,null,null,null,null,null,null,null,null,null,null,null,null,null,null,null,null,null,null,null,null,null,null,null,null,null,null,"","",{"$f":"IF($N1070=\"\",\"\",IFERROR(IF(N1070=6,1,IF(MATCH(N1070&\"/\"&R1070,読み替え表_クールビズ!$P$38:$P$59,0),1,0)),0))","v":""},{"$f":"IF($P1070=\"\",\"\",IFERROR(IF(P1070=6,1,IF(MATCH(P1070&\"/\"&R1070,読み替え表_クールビズ!$P$38:$P$59,0),1,0)),0))","v":""},"","",0,0,"*"]
[null,null,1061,null,null,null,null,null,null,null,null,null,null,null,null,null,null,null,null,null,null,null,null,null,null,null,null,null,null,null,null,null,"","",{"$f":"IF($N1071=\"\",\"\",IFERROR(IF(N1071=6,1,IF(MATCH(N1071&\"/\"&R1071,読み替え表_クールビズ!$P$38:$P$59,0),1,0)),0))","v":""},{"$f":"IF($P1071=\"\",\"\",IFERROR(IF(P1071=6,1,IF(MATCH(P1071&\"/\"&R1071,読み替え表_クールビズ!$P$38:$P$59,0),1,0)),0))","v":""},"","",0,0,"*"]
[null,null,1062,null,null,null,null,null,null,null,null,null,null,null,null,null,null,null,null,null,null,null,null,null,null,null,null,null,null,null,null,null,"","",{"$f":"IF($N1072=\"\",\"\",IFERROR(IF(N1072=6,1,IF(MATCH(N1072&\"/\"&R1072,読み替え表_クールビズ!$P$38:$P$59,0),1,0)),0))","v":""},{"$f":"IF($P1072=\"\",\"\",IFERROR(IF(P1072=6,1,IF(MATCH(P1072&\"/\"&R1072,読み替え表_クールビズ!$P$38:$P$59,0),1,0)),0))","v":""},"","",0,0,"*"]
[null,null,1063,null,null,null,null,null,null,null,null,null,null,null,null,null,null,null,null,null,null,null,null,null,null,null,null,null,null,null,null,null,"","",{"$f":"IF($N1073=\"\",\"\",IFERROR(IF(N1073=6,1,IF(MATCH(N1073&\"/\"&R1073,読み替え表_クールビズ!$P$38:$P$59,0),1,0)),0))","v":""},{"$f":"IF($P1073=\"\",\"\",IFERROR(IF(P1073=6,1,IF(MATCH(P1073&\"/\"&R1073,読み替え表_クールビズ!$P$38:$P$59,0),1,0)),0))","v":""},"","",0,0,"*"]
[null,null,1064,null,null,null,null,null,null,null,null,null,null,null,null,null,null,null,null,null,null,null,null,null,null,null,null,null,null,null,null,null,"","",{"$f":"IF($N1074=\"\",\"\",IFERROR(IF(N1074=6,1,IF(MATCH(N1074&\"/\"&R1074,読み替え表_クールビズ!$P$38:$P$59,0),1,0)),0))","v":""},{"$f":"IF($P1074=\"\",\"\",IFERROR(IF(P1074=6,1,IF(MATCH(P1074&\"/\"&R1074,読み替え表_クールビズ!$P$38:$P$59,0),1,0)),0))","v":""},"","",0,0,"*"]
[null,null,1065,null,null,null,null,null,null,null,null,null,null,null,null,null,null,null,null,null,null,null,null,null,null,null,null,null,null,null,null,null,"","",{"$f":"IF($N1075=\"\",\"\",IFERROR(IF(N1075=6,1,IF(MATCH(N1075&\"/\"&R1075,読み替え表_クールビズ!$P$38:$P$59,0),1,0)),0))","v":""},{"$f":"IF($P1075=\"\",\"\",IFERROR(IF(P1075=6,1,IF(MATCH(P1075&\"/\"&R1075,読み替え表_クールビズ!$P$38:$P$59,0),1,0)),0))","v":""},"","",0,0,"*"]
[null,null,1066,null,null,null,null,null,null,null,null,null,null,null,null,null,null,null,null,null,null,null,null,null,null,null,null,null,null,null,null,null,"","",{"$f":"IF($N1076=\"\",\"\",IFERROR(IF(N1076=6,1,IF(MATCH(N1076&\"/\"&R1076,読み替え表_クールビズ!$P$38:$P$59,0),1,0)),0))","v":""},{"$f":"IF($P1076=\"\",\"\",IFERROR(IF(P1076=6,1,IF(MATCH(P1076&\"/\"&R1076,読み替え表_クールビズ!$P$38:$P$59,0),1,0)),0))","v":""},"","",0,0,"*"]
[null,null,1067,null,null,null,null,null,null,null,null,null,null,null,null,null,null,null,null,null,null,null,null,null,null,null,null,null,null,null,null,null,"","",{"$f":"IF($N1077=\"\",\"\",IFERROR(IF(N1077=6,1,IF(MATCH(N1077&\"/\"&R1077,読み替え表_クールビズ!$P$38:$P$59,0),1,0)),0))","v":""},{"$f":"IF($P1077=\"\",\"\",IFERROR(IF(P1077=6,1,IF(MATCH(P1077&\"/\"&R1077,読み替え表_クールビズ!$P$38:$P$59,0),1,0)),0))","v":""},"","",0,0,"*"]
[null,null,1068,null,null,null,null,null,null,null,null,null,null,null,null,null,null,null,null,null,null,null,null,null,null,null,null,null,null,null,null,null,"","",{"$f":"IF($N1078=\"\",\"\",IFERROR(IF(N1078=6,1,IF(MATCH(N1078&\"/\"&R1078,読み替え表_クールビズ!$P$38:$P$59,0),1,0)),0))","v":""},{"$f":"IF($P1078=\"\",\"\",IFERROR(IF(P1078=6,1,IF(MATCH(P1078&\"/\"&R1078,読み替え表_クールビズ!$P$38:$P$59,0),1,0)),0))","v":""},"","",0,0,"*"]
[null,null,1069,null,null,null,null,null,null,null,null,null,null,null,null,null,null,null,null,null,null,null,null,null,null,null,null,null,null,null,null,null,"","",{"$f":"IF($N1079=\"\",\"\",IFERROR(IF(N1079=6,1,IF(MATCH(N1079&\"/\"&R1079,読み替え表_クールビズ!$P$38:$P$59,0),1,0)),0))","v":""},{"$f":"IF($P1079=\"\",\"\",IFERROR(IF(P1079=6,1,IF(MATCH(P1079&\"/\"&R1079,読み替え表_クールビズ!$P$38:$P$59,0),1,0)),0))","v":""},"","",0,0,"*"]
[null,null,1070,null,null,null,null,null,null,null,null,null,null,null,null,null,null,null,null,null,null,null,null,null,null,null,null,null,null,null,null,null,"","",{"$f":"IF($N1080=\"\",\"\",IFERROR(IF(N1080=6,1,IF(MATCH(N1080&\"/\"&R1080,読み替え表_クールビズ!$P$38:$P$59,0),1,0)),0))","v":""},{"$f":"IF($P1080=\"\",\"\",IFERROR(IF(P1080=6,1,IF(MATCH(P1080&\"/\"&R1080,読み替え表_クールビズ!$P$38:$P$59,0),1,0)),0))","v":""},"","",0,0,"*"]
[null,null,1071,null,null,null,null,null,null,null,null,null,null,null,null,null,null,null,null,null,null,null,null,null,null,null,null,null,null,null,null,null,"","",{"$f":"IF($N1081=\"\",\"\",IFERROR(IF(N1081=6,1,IF(MATCH(N1081&\"/\"&R1081,読み替え表_クールビズ!$P$38:$P$59,0),1,0)),0))","v":""},{"$f":"IF($P1081=\"\",\"\",IFERROR(IF(P1081=6,1,IF(MATCH(P1081&\"/\"&R1081,読み替え表_クールビズ!$P$38:$P$59,0),1,0)),0))","v":""},"","",0,0,"*"]
[null,null,1072,null,null,null,null,null,null,null,null,null,null,null,null,null,null,null,null,null,null,null,null,null,null,null,null,null,null,null,null,null,"","",{"$f":"IF($N1082=\"\",\"\",IFERROR(IF(N1082=6,1,IF(MATCH(N1082&\"/\"&R1082,読み替え表_クールビズ!$P$38:$P$59,0),1,0)),0))","v":""},{"$f":"IF($P1082=\"\",\"\",IFERROR(IF(P1082=6,1,IF(MATCH(P1082&\"/\"&R1082,読み替え表_クールビズ!$P$38:$P$59,0),1,0)),0))","v":""},"","",0,0,"*"]
[null,null,1073,null,null,null,null,null,null,null,null,null,null,null,null,null,null,null,null,null,null,null,null,null,null,null,null,null,null,null,null,null,"","",{"$f":"IF($N1083=\"\",\"\",IFERROR(IF(N1083=6,1,IF(MATCH(N1083&\"/\"&R1083,読み替え表_クールビズ!$P$38:$P$59,0),1,0)),0))","v":""},{"$f":"IF($P1083=\"\",\"\",IFERROR(IF(P1083=6,1,IF(MATCH(P1083&\"/\"&R1083,読み替え表_クールビズ!$P$38:$P$59,0),1,0)),0))","v":""},"","",0,0,"*"]
[null,null,1074,null,null,null,null,null,null,null,null,null,null,null,null,null,null,null,null,null,null,null,null,null,null,null,null,null,null,null,null,null,"","",{"$f":"IF($N1084=\"\",\"\",IFERROR(IF(N1084=6,1,IF(MATCH(N1084&\"/\"&R1084,読み替え表_クールビズ!$P$38:$P$59,0),1,0)),0))","v":""},{"$f":"IF($P1084=\"\",\"\",IFERROR(IF(P1084=6,1,IF(MATCH(P1084&\"/\"&R1084,読み替え表_クールビズ!$P$38:$P$59,0),1,0)),0))","v":""},"","",0,0,"*"]
[null,null,1075,null,null,null,null,null,null,null,null,null,null,null,null,null,null,null,null,null,null,null,null,null,null,null,null,null,null,null,null,null,"","",{"$f":"IF($N1085=\"\",\"\",IFERROR(IF(N1085=6,1,IF(MATCH(N1085&\"/\"&R1085,読み替え表_クールビズ!$P$38:$P$59,0),1,0)),0))","v":""},{"$f":"IF($P1085=\"\",\"\",IFERROR(IF(P1085=6,1,IF(MATCH(P1085&\"/\"&R1085,読み替え表_クールビズ!$P$38:$P$59,0),1,0)),0))","v":""},"","",0,0,"*"]
[null,null,1076,null,null,null,null,null,null,null,null,null,null,null,null,null,null,null,null,null,null,null,null,null,null,null,null,null,null,null,null,null,"","",{"$f":"IF($N1086=\"\",\"\",IFERROR(IF(N1086=6,1,IF(MATCH(N1086&\"/\"&R1086,読み替え表_クールビズ!$P$38:$P$59,0),1,0)),0))","v":""},{"$f":"IF($P1086=\"\",\"\",IFERROR(IF(P1086=6,1,IF(MATCH(P1086&\"/\"&R1086,読み替え表_クールビズ!$P$38:$P$59,0),1,0)),0))","v":""},"","",0,0,"*"]
[null,null,1077,null,null,null,null,null,null,null,null,null,null,null,null,null,null,null,null,null,null,null,null,null,null,null,null,null,null,null,null,null,"","",{"$f":"IF($N1087=\"\",\"\",IFERROR(IF(N1087=6,1,IF(MATCH(N1087&\"/\"&R1087,読み替え表_クールビズ!$P$38:$P$59,0),1,0)),0))","v":""},{"$f":"IF($P1087=\"\",\"\",IFERROR(IF(P1087=6,1,IF(MATCH(P1087&\"/\"&R1087,読み替え表_クールビズ!$P$38:$P$59,0),1,0)),0))","v":""},"","",0,0,"*"]
[null,null,1078,null,null,null,null,null,null,null,null,null,null,null,null,null,null,null,null,null,null,null,null,null,null,null,null,null,null,null,null,null,"","",{"$f":"IF($N1088=\"\",\"\",IFERROR(IF(N1088=6,1,IF(MATCH(N1088&\"/\"&R1088,読み替え表_クールビズ!$P$38:$P$59,0),1,0)),0))","v":""},{"$f":"IF($P1088=\"\",\"\",IFERROR(IF(P1088=6,1,IF(MATCH(P1088&\"/\"&R1088,読み替え表_クールビズ!$P$38:$P$59,0),1,0)),0))","v":""},"","",0,0,"*"]
[null,null,1079,null,null,null,null,null,null,null,null,null,null,null,null,null,null,null,null,null,null,null,null,null,null,null,null,null,null,null,null,null,"","",{"$f":"IF($N1089=\"\",\"\",IFERROR(IF(N1089=6,1,IF(MATCH(N1089&\"/\"&R1089,読み替え表_クールビズ!$P$38:$P$59,0),1,0)),0))","v":""},{"$f":"IF($P1089=\"\",\"\",IFERROR(IF(P1089=6,1,IF(MATCH(P1089&\"/\"&R1089,読み替え表_クールビズ!$P$38:$P$59,0),1,0)),0))","v":""},"","",0,0,"*"]
[null,null,1080,null,null,null,null,null,null,null,null,null,null,null,null,null,null,null,null,null,null,null,null,null,null,null,null,null,null,null,null,null,"","",{"$f":"IF($N1090=\"\",\"\",IFERROR(IF(N1090=6,1,IF(MATCH(N1090&\"/\"&R1090,読み替え表_クールビズ!$P$38:$P$59,0),1,0)),0))","v":""},{"$f":"IF($P1090=\"\",\"\",IFERROR(IF(P1090=6,1,IF(MATCH(P1090&\"/\"&R1090,読み替え表_クールビズ!$P$38:$P$59,0),1,0)),0))","v":""},"","",0,0,"*"]
[null,null,1081,null,null,null,null,null,null,null,null,null,null,null,null,null,null,null,null,null,null,null,null,null,null,null,null,null,null,null,null,null,"","",{"$f":"IF($N1091=\"\",\"\",IFERROR(IF(N1091=6,1,IF(MATCH(N1091&\"/\"&R1091,読み替え表_クールビズ!$P$38:$P$59,0),1,0)),0))","v":""},{"$f":"IF($P1091=\"\",\"\",IFERROR(IF(P1091=6,1,IF(MATCH(P1091&\"/\"&R1091,読み替え表_クールビズ!$P$38:$P$59,0),1,0)),0))","v":""},"","",0,0,"*"]
[null,null,1082,null,null,null,null,null,null,null,null,null,null,null,null,null,null,null,null,null,null,null,null,null,null,null,null,null,null,null,null,null,"","",{"$f":"IF($N1092=\"\",\"\",IFERROR(IF(N1092=6,1,IF(MATCH(N1092&\"/\"&R1092,読み替え表_クールビズ!$P$38:$P$59,0),1,0)),0))","v":""},{"$f":"IF($P1092=\"\",\"\",IFERROR(IF(P1092=6,1,IF(MATCH(P1092&\"/\"&R1092,読み替え表_クールビズ!$P$38:$P$59,0),1,0)),0))","v":""},"","",0,0,"*"]
[null,null,1083,null,null,null,null,null,null,null,null,null,null,null,null,null,null,null,null,null,null,null,null,null,null,null,null,null,null,null,null,null,"","",{"$f":"IF($N1093=\"\",\"\",IFERROR(IF(N1093=6,1,IF(MATCH(N1093&\"/\"&R1093,読み替え表_クールビズ!$P$38:$P$59,0),1,0)),0))","v":""},{"$f":"IF($P1093=\"\",\"\",IFERROR(IF(P1093=6,1,IF(MATCH(P1093&\"/\"&R1093,読み替え表_クールビズ!$P$38:$P$59,0),1,0)),0))","v":""},"","",0,0,"*"]
[null,null,1084,null,null,null,null,null,null,null,null,null,null,null,null,null,null,null,null,null,null,null,null,null,null,null,null,null,null,null,null,null,"","",{"$f":"IF($N1094=\"\",\"\",IFERROR(IF(N1094=6,1,IF(MATCH(N1094&\"/\"&R1094,読み替え表_クールビズ!$P$38:$P$59,0),1,0)),0))","v":""},{"$f":"IF($P1094=\"\",\"\",IFERROR(IF(P1094=6,1,IF(MATCH(P1094&\"/\"&R1094,読み替え表_クールビズ!$P$38:$P$59,0),1,0)),0))","v":""},"","",0,0,"*"]
[null,null,1085,null,null,null,null,null,null,null,null,null,null,null,null,null,null,null,null,null,null,null,null,null,null,null,null,null,null,null,null,null,"","",{"$f":"IF($N1095=\"\",\"\",IFERROR(IF(N1095=6,1,IF(MATCH(N1095&\"/\"&R1095,読み替え表_クールビズ!$P$38:$P$59,0),1,0)),0))","v":""},{"$f":"IF($P1095=\"\",\"\",IFERROR(IF(P1095=6,1,IF(MATCH(P1095&\"/\"&R1095,読み替え表_クールビズ!$P$38:$P$59,0),1,0)),0))","v":""},"","",0,0,"*"]
[null,null,1086,null,null,null,null,null,null,null,null,null,null,null,null,null,null,null,null,null,null,null,null,null,null,null,null,null,null,null,null,null,"","",{"$f":"IF($N1096=\"\",\"\",IFERROR(IF(N1096=6,1,IF(MATCH(N1096&\"/\"&R1096,読み替え表_クールビズ!$P$38:$P$59,0),1,0)),0))","v":""},{"$f":"IF($P1096=\"\",\"\",IFERROR(IF(P1096=6,1,IF(MATCH(P1096&\"/\"&R1096,読み替え表_クールビズ!$P$38:$P$59,0),1,0)),0))","v":""},"","",0,0,"*"]
[null,null,1087,null,null,null,null,null,null,null,null,null,null,null,null,null,null,null,null,null,null,null,null,null,null,null,null,null,null,null,null,null,"","",{"$f":"IF($N1097=\"\",\"\",IFERROR(IF(N1097=6,1,IF(MATCH(N1097&\"/\"&R1097,読み替え表_クールビズ!$P$38:$P$59,0),1,0)),0))","v":""},{"$f":"IF($P1097=\"\",\"\",IFERROR(IF(P1097=6,1,IF(MATCH(P1097&\"/\"&R1097,読み替え表_クールビズ!$P$38:$P$59,0),1,0)),0))","v":""},"","",0,0,"*"]
[null,null,1088,null,null,null,null,null,null,null,null,null,null,null,null,null,null,null,null,null,null,null,null,null,null,null,null,null,null,null,null,null,"","",{"$f":"IF($N1098=\"\",\"\",IFERROR(IF(N1098=6,1,IF(MATCH(N1098&\"/\"&R1098,読み替え表_クールビズ!$P$38:$P$59,0),1,0)),0))","v":""},{"$f":"IF($P1098=\"\",\"\",IFERROR(IF(P1098=6,1,IF(MATCH(P1098&\"/\"&R1098,読み替え表_クールビズ!$P$38:$P$59,0),1,0)),0))","v":""},"","",0,0,"*"]
[null,null,1089,null,null,null,null,null,null,null,null,null,null,null,null,null,null,null,null,null,null,null,null,null,null,null,null,null,null,null,null,null,"","",{"$f":"IF($N1099=\"\",\"\",IFERROR(IF(N1099=6,1,IF(MATCH(N1099&\"/\"&R1099,読み替え表_クールビズ!$P$38:$P$59,0),1,0)),0))","v":""},{"$f":"IF($P1099=\"\",\"\",IFERROR(IF(P1099=6,1,IF(MATCH(P1099&\"/\"&R1099,読み替え表_クールビズ!$P$38:$P$59,0),1,0)),0))","v":""},{"$f":"IF($N1099=\"\",\"\",IF(OR(CONCATENATE(N1099,$R1099)=\"22\",CONCATENATE(N1099,$R1099)=\"32\",CONCATENATE(N1099,$R1099)=\"42\",CONCATENATE(N1099,$R1099)=\"43\",CONCATENATE(N1099,$R1099)=\"51\",CONCATENATE(N1099,$R1099)=\"52\",CONCATENATE(N1099,$R1099)=\"53\"),1,0))","v":""},{"$f":"IF($P1099=\"\",\"\",IF(OR(CONCATENATE(P1099,$R1099)=\"22\",CONCATENATE(P1099,$R1099)=\"32\",CONCATENATE(P1099,$R1099)=\"42\",CONCATENATE(P1099,$R1099)=\"43\",CONCATENATE(P1099,$R1099)=\"51\",CONCATENATE(P1099,$R1099)=\"52\",CONCATENATE(P1099,$R1099)=\"53\"),1,0))","v":""},0,0,"*"]
[null,null,{"$f":"ROW()-10","v":1090},null,null,null,null,null,null,null,null,null,null,null,null,null,null,null,null,null,null,null,null,null,null,null,null,null,null,null,null,null,{"$f":"IF($J1100=\"\",\"\",IF(AND($J1100>=1,$J1100<=9),1,0))","v":""},{"$f":"IF($R1100=\"\",\"\",IF(OR($R1100=1,$R1100=2,$R1100=3),1,0))","v":""},{"$f":"IF($N1100=\"\",\"\",IFERROR(IF(N1100=6,1,IF(MATCH(N1100&\"/\"&R1100,読み替え表_クールビズ!$P$38:$P$59,0),1,0)),0))","v":""},{"$f":"IF($P1100=\"\",\"\",IFERROR(IF(P1100=6,1,IF(MATCH(P1100&\"/\"&R1100,読み替え表_クールビズ!$P$38:$P$59,0),1,0)),0))","v":""},"","",{"$f":"IF(OR(AK1100=1,AL1100=1),1,0)","v":0},{"$f":"IF(OR($AG1100=0,SUM(AI1100:AJ1100)=2),1,0)","v":0},"*"]
[null,null,1091,null,null,null,null,null,null,null,null,null,null,null,null,null,null,null,null,null,null,null,null,null,null,null,null,null,null,null,null,null,"","",{"$f":"IF($N1101=\"\",\"\",IFERROR(IF(N1101=6,1,IF(MATCH(N1101&\"/\"&R1101,読み替え表_クールビズ!$P$38:$P$59,0),1,0)),0))","v":""},{"$f":"IF($P1101=\"\",\"\",IFERROR(IF(P1101=6,1,IF(MATCH(P1101&\"/\"&R1101,読み替え表_クールビズ!$P$38:$P$59,0),1,0)),0))","v":""},"","",0,0,"*"]
[null,null,1092,null,null,null,null,null,null,null,null,null,null,null,null,null,null,null,null,null,null,null,null,null,null,null,null,null,null,null,null,null,"","",{"$f":"IF($N1102=\"\",\"\",IFERROR(IF(N1102=6,1,IF(MATCH(N1102&\"/\"&R1102,読み替え表_クールビズ!$P$38:$P$59,0),1,0)),0))","v":""},{"$f":"IF($P1102=\"\",\"\",IFERROR(IF(P1102=6,1,IF(MATCH(P1102&\"/\"&R1102,読み替え表_クールビズ!$P$38:$P$59,0),1,0)),0))","v":""},"","",0,0,"*"]
[null,null,1093,null,null,null,null,null,null,null,null,null,null,null,null,null,null,null,null,null,null,null,null,null,null,null,null,null,null,null,null,null,"","",{"$f":"IF($N1103=\"\",\"\",IFERROR(IF(N1103=6,1,IF(MATCH(N1103&\"/\"&R1103,読み替え表_クールビズ!$P$38:$P$59,0),1,0)),0))","v":""},{"$f":"IF($P1103=\"\",\"\",IFERROR(IF(P1103=6,1,IF(MATCH(P1103&\"/\"&R1103,読み替え表_クールビズ!$P$38:$P$59,0),1,0)),0))","v":""},"","",0,0,"*"]
[null,null,1094,null,null,null,null,null,null,null,null,null,null,null,null,null,null,null,null,null,null,null,null,null,null,null,null,null,null,null,null,null,"","",{"$f":"IF($N1104=\"\",\"\",IFERROR(IF(N1104=6,1,IF(MATCH(N1104&\"/\"&R1104,読み替え表_クールビズ!$P$38:$P$59,0),1,0)),0))","v":""},{"$f":"IF($P1104=\"\",\"\",IFERROR(IF(P1104=6,1,IF(MATCH(P1104&\"/\"&R1104,読み替え表_クールビズ!$P$38:$P$59,0),1,0)),0))","v":""},"","",0,0,"*"]
[null,null,1095,null,null,null,null,null,null,null,null,null,null,null,null,null,null,null,null,null,null,null,null,null,null,null,null,null,null,null,null,null,"","",{"$f":"IF($N1105=\"\",\"\",IFERROR(IF(N1105=6,1,IF(MATCH(N1105&\"/\"&R1105,読み替え表_クールビズ!$P$38:$P$59,0),1,0)),0))","v":""},{"$f":"IF($P1105=\"\",\"\",IFERROR(IF(P1105=6,1,IF(MATCH(P1105&\"/\"&R1105,読み替え表_クールビズ!$P$38:$P$59,0),1,0)),0))","v":""},"","",0,0,"*"]
[null,null,1096,null,null,null,null,null,null,null,null,null,null,null,null,null,null,null,null,null,null,null,null,null,null,null,null,null,null,null,null,null,"","",{"$f":"IF($N1106=\"\",\"\",IFERROR(IF(N1106=6,1,IF(MATCH(N1106&\"/\"&R1106,読み替え表_クールビズ!$P$38:$P$59,0),1,0)),0))","v":""},{"$f":"IF($P1106=\"\",\"\",IFERROR(IF(P1106=6,1,IF(MATCH(P1106&\"/\"&R1106,読み替え表_クールビズ!$P$38:$P$59,0),1,0)),0))","v":""},"","",0,0,"*"]
[null,null,1097,null,null,null,null,null,null,null,null,null,null,null,null,null,null,null,null,null,null,null,null,null,null,null,null,null,null,null,null,null,"","",{"$f":"IF($N1107=\"\",\"\",IFERROR(IF(N1107=6,1,IF(MATCH(N1107&\"/\"&R1107,読み替え表_クールビズ!$P$38:$P$59,0),1,0)),0))","v":""},{"$f":"IF($P1107=\"\",\"\",IFERROR(IF(P1107=6,1,IF(MATCH(P1107&\"/\"&R1107,読み替え表_クールビズ!$P$38:$P$59,0),1,0)),0))","v":""},"","",0,0,"*"]
[null,null,1098,null,null,null,null,null,null,null,null,null,null,null,null,null,null,null,null,null,null,null,null,null,null,null,null,null,null,null,null,null,"","",{"$f":"IF($N1108=\"\",\"\",IFERROR(IF(N1108=6,1,IF(MATCH(N1108&\"/\"&R1108,読み替え表_クールビズ!$P$38:$P$59,0),1,0)),0))","v":""},{"$f":"IF($P1108=\"\",\"\",IFERROR(IF(P1108=6,1,IF(MATCH(P1108&\"/\"&R1108,読み替え表_クールビズ!$P$38:$P$59,0),1,0)),0))","v":""},"","",0,0,"*"]
[null,null,1099,null,null,null,null,null,null,null,null,null,null,null,null,null,null,null,null,null,null,null,null,null,null,null,null,null,null,null,null,null,"","",{"$f":"IF($N1109=\"\",\"\",IFERROR(IF(N1109=6,1,IF(MATCH(N1109&\"/\"&R1109,読み替え表_クールビズ!$P$38:$P$59,0),1,0)),0))","v":""},{"$f":"IF($P1109=\"\",\"\",IFERROR(IF(P1109=6,1,IF(MATCH(P1109&\"/\"&R1109,読み替え表_クールビズ!$P$38:$P$59,0),1,0)),0))","v":""},"","",0,0,"*"]
[null,null,1100,null,null,null,null,null,null,null,null,null,null,null,null,null,null,null,null,null,null,null,null,null,null,null,null,null,null,null,null,null,"","",{"$f":"IF($N1110=\"\",\"\",IFERROR(IF(N1110=6,1,IF(MATCH(N1110&\"/\"&R1110,読み替え表_クールビズ!$P$38:$P$59,0),1,0)),0))","v":""},{"$f":"IF($P1110=\"\",\"\",IFERROR(IF(P1110=6,1,IF(MATCH(P1110&\"/\"&R1110,読み替え表_クールビズ!$P$38:$P$59,0),1,0)),0))","v":""},"","",0,0,"*"]
[null,null,1101,null,null,null,null,null,null,null,null,null,null,null,null,null,null,null,null,null,null,null,null,null,null,null,null,null,null,null,null,null,"","",{"$f":"IF($N1111=\"\",\"\",IFERROR(IF(N1111=6,1,IF(MATCH(N1111&\"/\"&R1111,読み替え表_クールビズ!$P$38:$P$59,0),1,0)),0))","v":""},{"$f":"IF($P1111=\"\",\"\",IFERROR(IF(P1111=6,1,IF(MATCH(P1111&\"/\"&R1111,読み替え表_クールビズ!$P$38:$P$59,0),1,0)),0))","v":""},"","",0,0,"*"]
[null,null,1102,null,null,null,null,null,null,null,null,null,null,null,null,null,null,null,null,null,null,null,null,null,null,null,null,null,null,null,null,null,"","",{"$f":"IF($N1112=\"\",\"\",IFERROR(IF(N1112=6,1,IF(MATCH(N1112&\"/\"&R1112,読み替え表_クールビズ!$P$38:$P$59,0),1,0)),0))","v":""},{"$f":"IF($P1112=\"\",\"\",IFERROR(IF(P1112=6,1,IF(MATCH(P1112&\"/\"&R1112,読み替え表_クールビズ!$P$38:$P$59,0),1,0)),0))","v":""},"","",0,0,"*"]
[null,null,1103,null,null,null,null,null,null,null,null,null,null,null,null,null,null,null,null,null,null,null,null,null,null,null,null,null,null,null,null,null,"","",{"$f":"IF($N1113=\"\",\"\",IFERROR(IF(N1113=6,1,IF(MATCH(N1113&\"/\"&R1113,読み替え表_クールビズ!$P$38:$P$59,0),1,0)),0))","v":""},{"$f":"IF($P1113=\"\",\"\",IFERROR(IF(P1113=6,1,IF(MATCH(P1113&\"/\"&R1113,読み替え表_クールビズ!$P$38:$P$59,0),1,0)),0))","v":""},"","",0,0,"*"]
[null,null,1104,null,null,null,null,null,null,null,null,null,null,null,null,null,null,null,null,null,null,null,null,null,null,null,null,null,null,null,null,null,"","",{"$f":"IF($N1114=\"\",\"\",IFERROR(IF(N1114=6,1,IF(MATCH(N1114&\"/\"&R1114,読み替え表_クールビズ!$P$38:$P$59,0),1,0)),0))","v":""},{"$f":"IF($P1114=\"\",\"\",IFERROR(IF(P1114=6,1,IF(MATCH(P1114&\"/\"&R1114,読み替え表_クールビズ!$P$38:$P$59,0),1,0)),0))","v":""},"","",0,0,"*"]
[null,null,1105,null,null,null,null,null,null,null,null,null,null,null,null,null,null,null,null,null,null,null,null,null,null,null,null,null,null,null,null,null,"","",{"$f":"IF($N1115=\"\",\"\",IFERROR(IF(N1115=6,1,IF(MATCH(N1115&\"/\"&R1115,読み替え表_クールビズ!$P$38:$P$59,0),1,0)),0))","v":""},{"$f":"IF($P1115=\"\",\"\",IFERROR(IF(P1115=6,1,IF(MATCH(P1115&\"/\"&R1115,読み替え表_クールビズ!$P$38:$P$59,0),1,0)),0))","v":""},"","",0,0,"*"]
[null,null,1106,null,null,null,null,null,null,null,null,null,null,null,null,null,null,null,null,null,null,null,null,null,null,null,null,null,null,null,null,null,"","",{"$f":"IF($N1116=\"\",\"\",IFERROR(IF(N1116=6,1,IF(MATCH(N1116&\"/\"&R1116,読み替え表_クールビズ!$P$38:$P$59,0),1,0)),0))","v":""},{"$f":"IF($P1116=\"\",\"\",IFERROR(IF(P1116=6,1,IF(MATCH(P1116&\"/\"&R1116,読み替え表_クールビズ!$P$38:$P$59,0),1,0)),0))","v":""},"","",0,0,"*"]
[null,null,1107,null,null,null,null,null,null,null,null,null,null,null,null,null,null,null,null,null,null,null,null,null,null,null,null,null,null,null,null,null,"","",{"$f":"IF($N1117=\"\",\"\",IFERROR(IF(N1117=6,1,IF(MATCH(N1117&\"/\"&R1117,読み替え表_クールビズ!$P$38:$P$59,0),1,0)),0))","v":""},{"$f":"IF($P1117=\"\",\"\",IFERROR(IF(P1117=6,1,IF(MATCH(P1117&\"/\"&R1117,読み替え表_クールビズ!$P$38:$P$59,0),1,0)),0))","v":""},"","",0,0,"*"]
[null,null,1108,null,null,null,null,null,null,null,null,null,null,null,null,null,null,null,null,null,null,null,null,null,null,null,null,null,null,null,null,null,"","",{"$f":"IF($N1118=\"\",\"\",IFERROR(IF(N1118=6,1,IF(MATCH(N1118&\"/\"&R1118,読み替え表_クールビズ!$P$38:$P$59,0),1,0)),0))","v":""},{"$f":"IF($P1118=\"\",\"\",IFERROR(IF(P1118=6,1,IF(MATCH(P1118&\"/\"&R1118,読み替え表_クールビズ!$P$38:$P$59,0),1,0)),0))","v":""},"","",0,0,"*"]
[null,null,1109,null,null,null,null,null,null,null,null,null,null,null,null,null,null,null,null,null,null,null,null,null,null,null,null,null,null,null,null,null,"","",{"$f":"IF($N1119=\"\",\"\",IFERROR(IF(N1119=6,1,IF(MATCH(N1119&\"/\"&R1119,読み替え表_クールビズ!$P$38:$P$59,0),1,0)),0))","v":""},{"$f":"IF($P1119=\"\",\"\",IFERROR(IF(P1119=6,1,IF(MATCH(P1119&\"/\"&R1119,読み替え表_クールビズ!$P$38:$P$59,0),1,0)),0))","v":""},"","",0,0,"*"]
[null,null,1110,null,null,null,null,null,null,null,null,null,null,null,null,null,null,null,null,null,null,null,null,null,null,null,null,null,null,null,null,null,"","",{"$f":"IF($N1120=\"\",\"\",IFERROR(IF(N1120=6,1,IF(MATCH(N1120&\"/\"&R1120,読み替え表_クールビズ!$P$38:$P$59,0),1,0)),0))","v":""},{"$f":"IF($P1120=\"\",\"\",IFERROR(IF(P1120=6,1,IF(MATCH(P1120&\"/\"&R1120,読み替え表_クールビズ!$P$38:$P$59,0),1,0)),0))","v":""},"","",0,0,"*"]
[null,null,1111,null,null,null,null,null,null,null,null,null,null,null,null,null,null,null,null,null,null,null,null,null,null,null,null,null,null,null,null,null,"","",{"$f":"IF($N1121=\"\",\"\",IFERROR(IF(N1121=6,1,IF(MATCH(N1121&\"/\"&R1121,読み替え表_クールビズ!$P$38:$P$59,0),1,0)),0))","v":""},{"$f":"IF($P1121=\"\",\"\",IFERROR(IF(P1121=6,1,IF(MATCH(P1121&\"/\"&R1121,読み替え表_クールビズ!$P$38:$P$59,0),1,0)),0))","v":""},"","",0,0,"*"]
[null,null,1112,null,null,null,null,null,null,null,null,null,null,null,null,null,null,null,null,null,null,null,null,null,null,null,null,null,null,null,null,null,"","",{"$f":"IF($N1122=\"\",\"\",IFERROR(IF(N1122=6,1,IF(MATCH(N1122&\"/\"&R1122,読み替え表_クールビズ!$P$38:$P$59,0),1,0)),0))","v":""},{"$f":"IF($P1122=\"\",\"\",IFERROR(IF(P1122=6,1,IF(MATCH(P1122&\"/\"&R1122,読み替え表_クールビズ!$P$38:$P$59,0),1,0)),0))","v":""},"","",0,0,"*"]
[null,null,1113,null,null,null,null,null,null,null,null,null,null,null,null,null,null,null,null,null,null,null,null,null,null,null,null,null,null,null,null,null,"","",{"$f":"IF($N1123=\"\",\"\",IFERROR(IF(N1123=6,1,IF(MATCH(N1123&\"/\"&R1123,読み替え表_クールビズ!$P$38:$P$59,0),1,0)),0))","v":""},{"$f":"IF($P1123=\"\",\"\",IFERROR(IF(P1123=6,1,IF(MATCH(P1123&\"/\"&R1123,読み替え表_クールビズ!$P$38:$P$59,0),1,0)),0))","v":""},"","",0,0,"*"]
[null,null,1114,null,null,null,null,null,null,null,null,null,null,null,null,null,null,null,null,null,null,null,null,null,null,null,null,null,null,null,null,null,"","",{"$f":"IF($N1124=\"\",\"\",IFERROR(IF(N1124=6,1,IF(MATCH(N1124&\"/\"&R1124,読み替え表_クールビズ!$P$38:$P$59,0),1,0)),0))","v":""},{"$f":"IF($P1124=\"\",\"\",IFERROR(IF(P1124=6,1,IF(MATCH(P1124&\"/\"&R1124,読み替え表_クールビズ!$P$38:$P$59,0),1,0)),0))","v":""},"","",0,0,"*"]
[null,null,1115,null,null,null,null,null,null,null,null,null,null,null,null,null,null,null,null,null,null,null,null,null,null,null,null,null,null,null,null,null,"","",{"$f":"IF($N1125=\"\",\"\",IFERROR(IF(N1125=6,1,IF(MATCH(N1125&\"/\"&R1125,読み替え表_クールビズ!$P$38:$P$59,0),1,0)),0))","v":""},{"$f":"IF($P1125=\"\",\"\",IFERROR(IF(P1125=6,1,IF(MATCH(P1125&\"/\"&R1125,読み替え表_クールビズ!$P$38:$P$59,0),1,0)),0))","v":""},"","",0,0,"*"]
[null,null,1116,null,null,null,null,null,null,null,null,null,null,null,null,null,null,null,null,null,null,null,null,null,null,null,null,null,null,null,null,null,"","",{"$f":"IF($N1126=\"\",\"\",IFERROR(IF(N1126=6,1,IF(MATCH(N1126&\"/\"&R1126,読み替え表_クールビズ!$P$38:$P$59,0),1,0)),0))","v":""},{"$f":"IF($P1126=\"\",\"\",IFERROR(IF(P1126=6,1,IF(MATCH(P1126&\"/\"&R1126,読み替え表_クールビズ!$P$38:$P$59,0),1,0)),0))","v":""},"","",0,0,"*"]
[null,null,1117,null,null,null,null,null,null,null,null,null,null,null,null,null,null,null,null,null,null,null,null,null,null,null,null,null,null,null,null,null,"","",{"$f":"IF($N1127=\"\",\"\",IFERROR(IF(N1127=6,1,IF(MATCH(N1127&\"/\"&R1127,読み替え表_クールビズ!$P$38:$P$59,0),1,0)),0))","v":""},{"$f":"IF($P1127=\"\",\"\",IFERROR(IF(P1127=6,1,IF(MATCH(P1127&\"/\"&R1127,読み替え表_クールビズ!$P$38:$P$59,0),1,0)),0))","v":""},"","",0,0,"*"]
[null,null,1118,null,null,null,null,null,null,null,null,null,null,null,null,null,null,null,null,null,null,null,null,null,null,null,null,null,null,null,null,null,"","",{"$f":"IF($N1128=\"\",\"\",IFERROR(IF(N1128=6,1,IF(MATCH(N1128&\"/\"&R1128,読み替え表_クールビズ!$P$38:$P$59,0),1,0)),0))","v":""},{"$f":"IF($P1128=\"\",\"\",IFERROR(IF(P1128=6,1,IF(MATCH(P1128&\"/\"&R1128,読み替え表_クールビズ!$P$38:$P$59,0),1,0)),0))","v":""},"","",0,0,"*"]
[null,null,1119,null,null,null,null,null,null,null,null,null,null,null,null,null,null,null,null,null,null,null,null,null,null,null,null,null,null,null,null,null,"","",{"$f":"IF($N1129=\"\",\"\",IFERROR(IF(N1129=6,1,IF(MATCH(N1129&\"/\"&R1129,読み替え表_クールビズ!$P$38:$P$59,0),1,0)),0))","v":""},{"$f":"IF($P1129=\"\",\"\",IFERROR(IF(P1129=6,1,IF(MATCH(P1129&\"/\"&R1129,読み替え表_クールビズ!$P$38:$P$59,0),1,0)),0))","v":""},"","",0,0,"*"]
[null,null,1120,null,null,null,null,null,null,null,null,null,null,null,null,null,null,null,null,null,null,null,null,null,null,null,null,null,null,null,null,null,"","",{"$f":"IF($N1130=\"\",\"\",IFERROR(IF(N1130=6,1,IF(MATCH(N1130&\"/\"&R1130,読み替え表_クールビズ!$P$38:$P$59,0),1,0)),0))","v":""},{"$f":"IF($P1130=\"\",\"\",IFERROR(IF(P1130=6,1,IF(MATCH(P1130&\"/\"&R1130,読み替え表_クールビズ!$P$38:$P$59,0),1,0)),0))","v":""},"","",0,0,"*"]
[null,null,1121,null,null,null,null,null,null,null,null,null,null,null,null,null,null,null,null,null,null,null,null,null,null,null,null,null,null,null,null,null,"","",{"$f":"IF($N1131=\"\",\"\",IFERROR(IF(N1131=6,1,IF(MATCH(N1131&\"/\"&R1131,読み替え表_クールビズ!$P$38:$P$59,0),1,0)),0))","v":""},{"$f":"IF($P1131=\"\",\"\",IFERROR(IF(P1131=6,1,IF(MATCH(P1131&\"/\"&R1131,読み替え表_クールビズ!$P$38:$P$59,0),1,0)),0))","v":""},"","",0,0,"*"]
[null,null,1122,null,null,null,null,null,null,null,null,null,null,null,null,null,null,null,null,null,null,null,null,null,null,null,null,null,null,null,null,null,"","",{"$f":"IF($N1132=\"\",\"\",IFERROR(IF(N1132=6,1,IF(MATCH(N1132&\"/\"&R1132,読み替え表_クールビズ!$P$38:$P$59,0),1,0)),0))","v":""},{"$f":"IF($P1132=\"\",\"\",IFERROR(IF(P1132=6,1,IF(MATCH(P1132&\"/\"&R1132,読み替え表_クールビズ!$P$38:$P$59,0),1,0)),0))","v":""},"","",0,0,"*"]
[null,null,1123,null,null,null,null,null,null,null,null,null,null,null,null,null,null,null,null,null,null,null,null,null,null,null,null,null,null,null,null,null,"","",{"$f":"IF($N1133=\"\",\"\",IFERROR(IF(N1133=6,1,IF(MATCH(N1133&\"/\"&R1133,読み替え表_クールビズ!$P$38:$P$59,0),1,0)),0))","v":""},{"$f":"IF($P1133=\"\",\"\",IFERROR(IF(P1133=6,1,IF(MATCH(P1133&\"/\"&R1133,読み替え表_クールビズ!$P$38:$P$59,0),1,0)),0))","v":""},"","",0,0,"*"]
[null,null,1124,null,null,null,null,null,null,null,null,null,null,null,null,null,null,null,null,null,null,null,null,null,null,null,null,null,null,null,null,null,"","",{"$f":"IF($N1134=\"\",\"\",IFERROR(IF(N1134=6,1,IF(MATCH(N1134&\"/\"&R1134,読み替え表_クールビズ!$P$38:$P$59,0),1,0)),0))","v":""},{"$f":"IF($P1134=\"\",\"\",IFERROR(IF(P1134=6,1,IF(MATCH(P1134&\"/\"&R1134,読み替え表_クールビズ!$P$38:$P$59,0),1,0)),0))","v":""},"","",0,0,"*"]
[null,null,1125,null,null,null,null,null,null,null,null,null,null,null,null,null,null,null,null,null,null,null,null,null,null,null,null,null,null,null,null,null,"","",{"$f":"IF($N1135=\"\",\"\",IFERROR(IF(N1135=6,1,IF(MATCH(N1135&\"/\"&R1135,読み替え表_クールビズ!$P$38:$P$59,0),1,0)),0))","v":""},{"$f":"IF($P1135=\"\",\"\",IFERROR(IF(P1135=6,1,IF(MATCH(P1135&\"/\"&R1135,読み替え表_クールビズ!$P$38:$P$59,0),1,0)),0))","v":""},"","",0,0,"*"]
[null,null,1126,null,null,null,null,null,null,null,null,null,null,null,null,null,null,null,null,null,null,null,null,null,null,null,null,null,null,null,null,null,"","",{"$f":"IF($N1136=\"\",\"\",IFERROR(IF(N1136=6,1,IF(MATCH(N1136&\"/\"&R1136,読み替え表_クールビズ!$P$38:$P$59,0),1,0)),0))","v":""},{"$f":"IF($P1136=\"\",\"\",IFERROR(IF(P1136=6,1,IF(MATCH(P1136&\"/\"&R1136,読み替え表_クールビズ!$P$38:$P$59,0),1,0)),0))","v":""},"","",0,0,"*"]
[null,null,1127,null,null,null,null,null,null,null,null,null,null,null,null,null,null,null,null,null,null,null,null,null,null,null,null,null,null,null,null,null,"","",{"$f":"IF($N1137=\"\",\"\",IFERROR(IF(N1137=6,1,IF(MATCH(N1137&\"/\"&R1137,読み替え表_クールビズ!$P$38:$P$59,0),1,0)),0))","v":""},{"$f":"IF($P1137=\"\",\"\",IFERROR(IF(P1137=6,1,IF(MATCH(P1137&\"/\"&R1137,読み替え表_クールビズ!$P$38:$P$59,0),1,0)),0))","v":""},"","",0,0,"*"]
[null,null,1128,null,null,null,null,null,null,null,null,null,null,null,null,null,null,null,null,null,null,null,null,null,null,null,null,null,null,null,null,null,"","",{"$f":"IF($N1138=\"\",\"\",IFERROR(IF(N1138=6,1,IF(MATCH(N1138&\"/\"&R1138,読み替え表_クールビズ!$P$38:$P$59,0),1,0)),0))","v":""},{"$f":"IF($P1138=\"\",\"\",IFERROR(IF(P1138=6,1,IF(MATCH(P1138&\"/\"&R1138,読み替え表_クールビズ!$P$38:$P$59,0),1,0)),0))","v":""},"","",0,0,"*"]
[null,null,1129,null,null,null,null,null,null,null,null,null,null,null,null,null,null,null,null,null,null,null,null,null,null,null,null,null,null,null,null,null,"","",{"$f":"IF($N1139=\"\",\"\",IFERROR(IF(N1139=6,1,IF(MATCH(N1139&\"/\"&R1139,読み替え表_クールビズ!$P$38:$P$59,0),1,0)),0))","v":""},{"$f":"IF($P1139=\"\",\"\",IFERROR(IF(P1139=6,1,IF(MATCH(P1139&\"/\"&R1139,読み替え表_クールビズ!$P$38:$P$59,0),1,0)),0))","v":""},"","",0,0,"*"]
[null,null,1130,null,null,null,null,null,null,null,null,null,null,null,null,null,null,null,null,null,null,null,null,null,null,null,null,null,null,null,null,null,"","",{"$f":"IF($N1140=\"\",\"\",IFERROR(IF(N1140=6,1,IF(MATCH(N1140&\"/\"&R1140,読み替え表_クールビズ!$P$38:$P$59,0),1,0)),0))","v":""},{"$f":"IF($P1140=\"\",\"\",IFERROR(IF(P1140=6,1,IF(MATCH(P1140&\"/\"&R1140,読み替え表_クールビズ!$P$38:$P$59,0),1,0)),0))","v":""},"","",0,0,"*"]
[null,null,1131,null,null,null,null,null,null,null,null,null,null,null,null,null,null,null,null,null,null,null,null,null,null,null,null,null,null,null,null,null,"","",{"$f":"IF($N1141=\"\",\"\",IFERROR(IF(N1141=6,1,IF(MATCH(N1141&\"/\"&R1141,読み替え表_クールビズ!$P$38:$P$59,0),1,0)),0))","v":""},{"$f":"IF($P1141=\"\",\"\",IFERROR(IF(P1141=6,1,IF(MATCH(P1141&\"/\"&R1141,読み替え表_クールビズ!$P$38:$P$59,0),1,0)),0))","v":""},"","",0,0,"*"]
[null,null,1132,null,null,null,null,null,null,null,null,null,null,null,null,null,null,null,null,null,null,null,null,null,null,null,null,null,null,null,null,null,"","",{"$f":"IF($N1142=\"\",\"\",IFERROR(IF(N1142=6,1,IF(MATCH(N1142&\"/\"&R1142,読み替え表_クールビズ!$P$38:$P$59,0),1,0)),0))","v":""},{"$f":"IF($P1142=\"\",\"\",IFERROR(IF(P1142=6,1,IF(MATCH(P1142&\"/\"&R1142,読み替え表_クールビズ!$P$38:$P$59,0),1,0)),0))","v":""},"","",0,0,"*"]
[null,null,1133,null,null,null,null,null,null,null,null,null,null,null,null,null,null,null,null,null,null,null,null,null,null,null,null,null,null,null,null,null,"","",{"$f":"IF($N1143=\"\",\"\",IFERROR(IF(N1143=6,1,IF(MATCH(N1143&\"/\"&R1143,読み替え表_クールビズ!$P$38:$P$59,0),1,0)),0))","v":""},{"$f":"IF($P1143=\"\",\"\",IFERROR(IF(P1143=6,1,IF(MATCH(P1143&\"/\"&R1143,読み替え表_クールビズ!$P$38:$P$59,0),1,0)),0))","v":""},"","",0,0,"*"]
[null,null,1134,null,null,null,null,null,null,null,null,null,null,null,null,null,null,null,null,null,null,null,null,null,null,null,null,null,null,null,null,null,"","",{"$f":"IF($N1144=\"\",\"\",IFERROR(IF(N1144=6,1,IF(MATCH(N1144&\"/\"&R1144,読み替え表_クールビズ!$P$38:$P$59,0),1,0)),0))","v":""},{"$f":"IF($P1144=\"\",\"\",IFERROR(IF(P1144=6,1,IF(MATCH(P1144&\"/\"&R1144,読み替え表_クールビズ!$P$38:$P$59,0),1,0)),0))","v":""},"","",0,0,"*"]
[null,null,1135,null,null,null,null,null,null,null,null,null,null,null,null,null,null,null,null,null,null,null,null,null,null,null,null,null,null,null,null,null,"","",{"$f":"IF($N1145=\"\",\"\",IFERROR(IF(N1145=6,1,IF(MATCH(N1145&\"/\"&R1145,読み替え表_クールビズ!$P$38:$P$59,0),1,0)),0))","v":""},{"$f":"IF($P1145=\"\",\"\",IFERROR(IF(P1145=6,1,IF(MATCH(P1145&\"/\"&R1145,読み替え表_クールビズ!$P$38:$P$59,0),1,0)),0))","v":""},"","",0,0,"*"]
[null,null,1136,null,null,null,null,null,null,null,null,null,null,null,null,null,null,null,null,null,null,null,null,null,null,null,null,null,null,null,null,null,"","",{"$f":"IF($N1146=\"\",\"\",IFERROR(IF(N1146=6,1,IF(MATCH(N1146&\"/\"&R1146,読み替え表_クールビズ!$P$38:$P$59,0),1,0)),0))","v":""},{"$f":"IF($P1146=\"\",\"\",IFERROR(IF(P1146=6,1,IF(MATCH(P1146&\"/\"&R1146,読み替え表_クールビズ!$P$38:$P$59,0),1,0)),0))","v":""},"","",0,0,"*"]
[null,null,1137,null,null,null,null,null,null,null,null,null,null,null,null,null,null,null,null,null,null,null,null,null,null,null,null,null,null,null,null,null,"","",{"$f":"IF($N1147=\"\",\"\",IFERROR(IF(N1147=6,1,IF(MATCH(N1147&\"/\"&R1147,読み替え表_クールビズ!$P$38:$P$59,0),1,0)),0))","v":""},{"$f":"IF($P1147=\"\",\"\",IFERROR(IF(P1147=6,1,IF(MATCH(P1147&\"/\"&R1147,読み替え表_クールビズ!$P$38:$P$59,0),1,0)),0))","v":""},"","",0,0,"*"]
[null,null,1138,null,null,null,null,null,null,null,null,null,null,null,null,null,null,null,null,null,null,null,null,null,null,null,null,null,null,null,null,null,"","",{"$f":"IF($N1148=\"\",\"\",IFERROR(IF(N1148=6,1,IF(MATCH(N1148&\"/\"&R1148,読み替え表_クールビズ!$P$38:$P$59,0),1,0)),0))","v":""},{"$f":"IF($P1148=\"\",\"\",IFERROR(IF(P1148=6,1,IF(MATCH(P1148&\"/\"&R1148,読み替え表_クールビズ!$P$38:$P$59,0),1,0)),0))","v":""},"","",0,0,"*"]
[null,null,1139,null,null,null,null,null,null,null,null,null,null,null,null,null,null,null,null,null,null,null,null,null,null,null,null,null,null,null,null,null,"","",{"$f":"IF($N1149=\"\",\"\",IFERROR(IF(N1149=6,1,IF(MATCH(N1149&\"/\"&R1149,読み替え表_クールビズ!$P$38:$P$59,0),1,0)),0))","v":""},{"$f":"IF($P1149=\"\",\"\",IFERROR(IF(P1149=6,1,IF(MATCH(P1149&\"/\"&R1149,読み替え表_クールビズ!$P$38:$P$59,0),1,0)),0))","v":""},"","",0,0,"*"]
[null,null,1140,null,null,null,null,null,null,null,null,null,null,null,null,null,null,null,null,null,null,null,null,null,null,null,null,null,null,null,null,null,"","",{"$f":"IF($N1150=\"\",\"\",IFERROR(IF(N1150=6,1,IF(MATCH(N1150&\"/\"&R1150,読み替え表_クールビズ!$P$38:$P$59,0),1,0)),0))","v":""},{"$f":"IF($P1150=\"\",\"\",IFERROR(IF(P1150=6,1,IF(MATCH(P1150&\"/\"&R1150,読み替え表_クールビズ!$P$38:$P$59,0),1,0)),0))","v":""},"","",0,0,"*"]
[null,null,1141,null,null,null,null,null,null,null,null,null,null,null,null,null,null,null,null,null,null,null,null,null,null,null,null,null,null,null,null,null,"","",{"$f":"IF($N1151=\"\",\"\",IFERROR(IF(N1151=6,1,IF(MATCH(N1151&\"/\"&R1151,読み替え表_クールビズ!$P$38:$P$59,0),1,0)),0))","v":""},{"$f":"IF($P1151=\"\",\"\",IFERROR(IF(P1151=6,1,IF(MATCH(P1151&\"/\"&R1151,読み替え表_クールビズ!$P$38:$P$59,0),1,0)),0))","v":""},"","",0,0,"*"]
[null,null,1142,null,null,null,null,null,null,null,null,null,null,null,null,null,null,null,null,null,null,null,null,null,null,null,null,null,null,null,null,null,"","",{"$f":"IF($N1152=\"\",\"\",IFERROR(IF(N1152=6,1,IF(MATCH(N1152&\"/\"&R1152,読み替え表_クールビズ!$P$38:$P$59,0),1,0)),0))","v":""},{"$f":"IF($P1152=\"\",\"\",IFERROR(IF(P1152=6,1,IF(MATCH(P1152&\"/\"&R1152,読み替え表_クールビズ!$P$38:$P$59,0),1,0)),0))","v":""},"","",0,0,"*"]
[null,null,1143,null,null,null,null,null,null,null,null,null,null,null,null,null,null,null,null,null,null,null,null,null,null,null,null,null,null,null,null,null,"","",{"$f":"IF($N1153=\"\",\"\",IFERROR(IF(N1153=6,1,IF(MATCH(N1153&\"/\"&R1153,読み替え表_クールビズ!$P$38:$P$59,0),1,0)),0))","v":""},{"$f":"IF($P1153=\"\",\"\",IFERROR(IF(P1153=6,1,IF(MATCH(P1153&\"/\"&R1153,読み替え表_クールビズ!$P$38:$P$59,0),1,0)),0))","v":""},"","",0,0,"*"]
[null,null,1144,null,null,null,null,null,null,null,null,null,null,null,null,null,null,null,null,null,null,null,null,null,null,null,null,null,null,null,null,null,"","",{"$f":"IF($N1154=\"\",\"\",IFERROR(IF(N1154=6,1,IF(MATCH(N1154&\"/\"&R1154,読み替え表_クールビズ!$P$38:$P$59,0),1,0)),0))","v":""},{"$f":"IF($P1154=\"\",\"\",IFERROR(IF(P1154=6,1,IF(MATCH(P1154&\"/\"&R1154,読み替え表_クールビズ!$P$38:$P$59,0),1,0)),0))","v":""},"","",0,0,"*"]
[null,null,1145,null,null,null,null,null,null,null,null,null,null,null,null,null,null,null,null,null,null,null,null,null,null,null,null,null,null,null,null,null,"","",{"$f":"IF($N1155=\"\",\"\",IFERROR(IF(N1155=6,1,IF(MATCH(N1155&\"/\"&R1155,読み替え表_クールビズ!$P$38:$P$59,0),1,0)),0))","v":""},{"$f":"IF($P1155=\"\",\"\",IFERROR(IF(P1155=6,1,IF(MATCH(P1155&\"/\"&R1155,読み替え表_クールビズ!$P$38:$P$59,0),1,0)),0))","v":""},"","",0,0,"*"]
[null,null,1146,null,null,null,null,null,null,null,null,null,null,null,null,null,null,null,null,null,null,null,null,null,null,null,null,null,null,null,null,null,"","",{"$f":"IF($N1156=\"\",\"\",IFERROR(IF(N1156=6,1,IF(MATCH(N1156&\"/\"&R1156,読み替え表_クールビズ!$P$38:$P$59,0),1,0)),0))","v":""},{"$f":"IF($P1156=\"\",\"\",IFERROR(IF(P1156=6,1,IF(MATCH(P1156&\"/\"&R1156,読み替え表_クールビズ!$P$38:$P$59,0),1,0)),0))","v":""},"","",0,0,"*"]
[null,null,1147,null,null,null,null,null,null,null,null,null,null,null,null,null,null,null,null,null,null,null,null,null,null,null,null,null,null,null,null,null,"","",{"$f":"IF($N1157=\"\",\"\",IFERROR(IF(N1157=6,1,IF(MATCH(N1157&\"/\"&R1157,読み替え表_クールビズ!$P$38:$P$59,0),1,0)),0))","v":""},{"$f":"IF($P1157=\"\",\"\",IFERROR(IF(P1157=6,1,IF(MATCH(P1157&\"/\"&R1157,読み替え表_クールビズ!$P$38:$P$59,0),1,0)),0))","v":""},"","",0,0,"*"]
[null,null,1148,null,null,null,null,null,null,null,null,null,null,null,null,null,null,null,null,null,null,null,null,null,null,null,null,null,null,null,null,null,"","",{"$f":"IF($N1158=\"\",\"\",IFERROR(IF(N1158=6,1,IF(MATCH(N1158&\"/\"&R1158,読み替え表_クールビズ!$P$38:$P$59,0),1,0)),0))","v":""},{"$f":"IF($P1158=\"\",\"\",IFERROR(IF(P1158=6,1,IF(MATCH(P1158&\"/\"&R1158,読み替え表_クールビズ!$P$38:$P$59,0),1,0)),0))","v":""},"","",0,0,"*"]
[null,null,1149,null,null,null,null,null,null,null,null,null,null,null,null,null,null,null,null,null,null,null,null,null,null,null,null,null,null,null,null,null,"","",{"$f":"IF($N1159=\"\",\"\",IFERROR(IF(N1159=6,1,IF(MATCH(N1159&\"/\"&R1159,読み替え表_クールビズ!$P$38:$P$59,0),1,0)),0))","v":""},{"$f":"IF($P1159=\"\",\"\",IFERROR(IF(P1159=6,1,IF(MATCH(P1159&\"/\"&R1159,読み替え表_クールビズ!$P$38:$P$59,0),1,0)),0))","v":""},"","",0,0,"*"]
[null,null,1150,null,null,null,null,null,null,null,null,null,null,null,null,null,null,null,null,null,null,null,null,null,null,null,null,null,null,null,null,null,"","",{"$f":"IF($N1160=\"\",\"\",IFERROR(IF(N1160=6,1,IF(MATCH(N1160&\"/\"&R1160,読み替え表_クールビズ!$P$38:$P$59,0),1,0)),0))","v":""},{"$f":"IF($P1160=\"\",\"\",IFERROR(IF(P1160=6,1,IF(MATCH(P1160&\"/\"&R1160,読み替え表_クールビズ!$P$38:$P$59,0),1,0)),0))","v":""},"","",0,0,"*"]
[null,null,1151,null,null,null,null,null,null,null,null,null,null,null,null,null,null,null,null,null,null,null,null,null,null,null,null,null,null,null,null,null,"","",{"$f":"IF($N1161=\"\",\"\",IFERROR(IF(N1161=6,1,IF(MATCH(N1161&\"/\"&R1161,読み替え表_クールビズ!$P$38:$P$59,0),1,0)),0))","v":""},{"$f":"IF($P1161=\"\",\"\",IFERROR(IF(P1161=6,1,IF(MATCH(P1161&\"/\"&R1161,読み替え表_クールビズ!$P$38:$P$59,0),1,0)),0))","v":""},"","",0,0,"*"]
[null,null,1152,null,null,null,null,null,null,null,null,null,null,null,null,null,null,null,null,null,null,null,null,null,null,null,null,null,null,null,null,null,"","",{"$f":"IF($N1162=\"\",\"\",IFERROR(IF(N1162=6,1,IF(MATCH(N1162&\"/\"&R1162,読み替え表_クールビズ!$P$38:$P$59,0),1,0)),0))","v":""},{"$f":"IF($P1162=\"\",\"\",IFERROR(IF(P1162=6,1,IF(MATCH(P1162&\"/\"&R1162,読み替え表_クールビズ!$P$38:$P$59,0),1,0)),0))","v":""},"","",0,0,"*"]
[null,null,1153,null,null,null,null,null,null,null,null,null,null,null,null,null,null,null,null,null,null,null,null,null,null,null,null,null,null,null,null,null,"","",{"$f":"IF($N1163=\"\",\"\",IFERROR(IF(N1163=6,1,IF(MATCH(N1163&\"/\"&R1163,読み替え表_クールビズ!$P$38:$P$59,0),1,0)),0))","v":""},{"$f":"IF($P1163=\"\",\"\",IFERROR(IF(P1163=6,1,IF(MATCH(P1163&\"/\"&R1163,読み替え表_クールビズ!$P$38:$P$59,0),1,0)),0))","v":""},{"$f":"IF($N1163=\"\",\"\",IF(OR(CONCATENATE(N1163,$R1163)=\"22\",CONCATENATE(N1163,$R1163)=\"32\",CONCATENATE(N1163,$R1163)=\"42\",CONCATENATE(N1163,$R1163)=\"43\",CONCATENATE(N1163,$R1163)=\"51\",CONCATENATE(N1163,$R1163)=\"52\",CONCATENATE(N1163,$R1163)=\"53\"),1,0))","v":""},{"$f":"IF($P1163=\"\",\"\",IF(OR(CONCATENATE(P1163,$R1163)=\"22\",CONCATENATE(P1163,$R1163)=\"32\",CONCATENATE(P1163,$R1163)=\"42\",CONCATENATE(P1163,$R1163)=\"43\",CONCATENATE(P1163,$R1163)=\"51\",CONCATENATE(P1163,$R1163)=\"52\",CONCATENATE(P1163,$R1163)=\"53\"),1,0))","v":""},0,0,"*"]
[null,null,{"$f":"ROW()-10","v":1154},null,null,null,null,null,null,null,null,null,null,null,null,null,null,null,null,null,null,null,null,null,null,null,null,null,null,null,null,null,{"$f":"IF($J1164=\"\",\"\",IF(AND($J1164>=1,$J1164<=9),1,0))","v":""},{"$f":"IF($R1164=\"\",\"\",IF(OR($R1164=1,$R1164=2,$R1164=3),1,0))","v":""},{"$f":"IF($N1164=\"\",\"\",IFERROR(IF(N1164=6,1,IF(MATCH(N1164&\"/\"&R1164,読み替え表_クールビズ!$P$38:$P$59,0),1,0)),0))","v":""},{"$f":"IF($P1164=\"\",\"\",IFERROR(IF(P1164=6,1,IF(MATCH(P1164&\"/\"&R1164,読み替え表_クールビズ!$P$38:$P$59,0),1,0)),0))","v":""},"","",{"$f":"IF(OR(AK1164=1,AL1164=1),1,0)","v":0},{"$f":"IF(OR($AG1164=0,SUM(AI1164:AJ1164)=2),1,0)","v":0},"*"]
[null,null,1155,null,null,null,null,null,null,null,null,null,null,null,null,null,null,null,null,null,null,null,null,null,null,null,null,null,null,null,null,null,"","",{"$f":"IF($N1165=\"\",\"\",IFERROR(IF(N1165=6,1,IF(MATCH(N1165&\"/\"&R1165,読み替え表_クールビズ!$P$38:$P$59,0),1,0)),0))","v":""},{"$f":"IF($P1165=\"\",\"\",IFERROR(IF(P1165=6,1,IF(MATCH(P1165&\"/\"&R1165,読み替え表_クールビズ!$P$38:$P$59,0),1,0)),0))","v":""},"","",0,0,"*"]
[null,null,1156,null,null,null,null,null,null,null,null,null,null,null,null,null,null,null,null,null,null,null,null,null,null,null,null,null,null,null,null,null,"","",{"$f":"IF($N1166=\"\",\"\",IFERROR(IF(N1166=6,1,IF(MATCH(N1166&\"/\"&R1166,読み替え表_クールビズ!$P$38:$P$59,0),1,0)),0))","v":""},{"$f":"IF($P1166=\"\",\"\",IFERROR(IF(P1166=6,1,IF(MATCH(P1166&\"/\"&R1166,読み替え表_クールビズ!$P$38:$P$59,0),1,0)),0))","v":""},"","",0,0,"*"]
[null,null,1157,null,null,null,null,null,null,null,null,null,null,null,null,null,null,null,null,null,null,null,null,null,null,null,null,null,null,null,null,null,"","",{"$f":"IF($N1167=\"\",\"\",IFERROR(IF(N1167=6,1,IF(MATCH(N1167&\"/\"&R1167,読み替え表_クールビズ!$P$38:$P$59,0),1,0)),0))","v":""},{"$f":"IF($P1167=\"\",\"\",IFERROR(IF(P1167=6,1,IF(MATCH(P1167&\"/\"&R1167,読み替え表_クールビズ!$P$38:$P$59,0),1,0)),0))","v":""},"","",0,0,"*"]
[null,null,1158,null,null,null,null,null,null,null,null,null,null,null,null,null,null,null,null,null,null,null,null,null,null,null,null,null,null,null,null,null,"","",{"$f":"IF($N1168=\"\",\"\",IFERROR(IF(N1168=6,1,IF(MATCH(N1168&\"/\"&R1168,読み替え表_クールビズ!$P$38:$P$59,0),1,0)),0))","v":""},{"$f":"IF($P1168=\"\",\"\",IFERROR(IF(P1168=6,1,IF(MATCH(P1168&\"/\"&R1168,読み替え表_クールビズ!$P$38:$P$59,0),1,0)),0))","v":""},"","",0,0,"*"]
[null,null,1159,null,null,null,null,null,null,null,null,null,null,null,null,null,null,null,null,null,null,null,null,null,null,null,null,null,null,null,null,null,"","",{"$f":"IF($N1169=\"\",\"\",IFERROR(IF(N1169=6,1,IF(MATCH(N1169&\"/\"&R1169,読み替え表_クールビズ!$P$38:$P$59,0),1,0)),0))","v":""},{"$f":"IF($P1169=\"\",\"\",IFERROR(IF(P1169=6,1,IF(MATCH(P1169&\"/\"&R1169,読み替え表_クールビズ!$P$38:$P$59,0),1,0)),0))","v":""},"","",0,0,"*"]
[null,null,1160,null,null,null,null,null,null,null,null,null,null,null,null,null,null,null,null,null,null,null,null,null,null,null,null,null,null,null,null,null,"","",{"$f":"IF($N1170=\"\",\"\",IFERROR(IF(N1170=6,1,IF(MATCH(N1170&\"/\"&R1170,読み替え表_クールビズ!$P$38:$P$59,0),1,0)),0))","v":""},{"$f":"IF($P1170=\"\",\"\",IFERROR(IF(P1170=6,1,IF(MATCH(P1170&\"/\"&R1170,読み替え表_クールビズ!$P$38:$P$59,0),1,0)),0))","v":""},"","",0,0,"*"]
[null,null,1161,null,null,null,null,null,null,null,null,null,null,null,null,null,null,null,null,null,null,null,null,null,null,null,null,null,null,null,null,null,"","",{"$f":"IF($N1171=\"\",\"\",IFERROR(IF(N1171=6,1,IF(MATCH(N1171&\"/\"&R1171,読み替え表_クールビズ!$P$38:$P$59,0),1,0)),0))","v":""},{"$f":"IF($P1171=\"\",\"\",IFERROR(IF(P1171=6,1,IF(MATCH(P1171&\"/\"&R1171,読み替え表_クールビズ!$P$38:$P$59,0),1,0)),0))","v":""},"","",0,0,"*"]
[null,null,1162,null,null,null,null,null,null,null,null,null,null,null,null,null,null,null,null,null,null,null,null,null,null,null,null,null,null,null,null,null,"","",{"$f":"IF($N1172=\"\",\"\",IFERROR(IF(N1172=6,1,IF(MATCH(N1172&\"/\"&R1172,読み替え表_クールビズ!$P$38:$P$59,0),1,0)),0))","v":""},{"$f":"IF($P1172=\"\",\"\",IFERROR(IF(P1172=6,1,IF(MATCH(P1172&\"/\"&R1172,読み替え表_クールビズ!$P$38:$P$59,0),1,0)),0))","v":""},"","",0,0,"*"]
[null,null,1163,null,null,null,null,null,null,null,null,null,null,null,null,null,null,null,null,null,null,null,null,null,null,null,null,null,null,null,null,null,"","",{"$f":"IF($N1173=\"\",\"\",IFERROR(IF(N1173=6,1,IF(MATCH(N1173&\"/\"&R1173,読み替え表_クールビズ!$P$38:$P$59,0),1,0)),0))","v":""},{"$f":"IF($P1173=\"\",\"\",IFERROR(IF(P1173=6,1,IF(MATCH(P1173&\"/\"&R1173,読み替え表_クールビズ!$P$38:$P$59,0),1,0)),0))","v":""},"","",0,0,"*"]
[null,null,1164,null,null,null,null,null,null,null,null,null,null,null,null,null,null,null,null,null,null,null,null,null,null,null,null,null,null,null,null,null,"","",{"$f":"IF($N1174=\"\",\"\",IFERROR(IF(N1174=6,1,IF(MATCH(N1174&\"/\"&R1174,読み替え表_クールビズ!$P$38:$P$59,0),1,0)),0))","v":""},{"$f":"IF($P1174=\"\",\"\",IFERROR(IF(P1174=6,1,IF(MATCH(P1174&\"/\"&R1174,読み替え表_クールビズ!$P$38:$P$59,0),1,0)),0))","v":""},"","",0,0,"*"]
[null,null,1165,null,null,null,null,null,null,null,null,null,null,null,null,null,null,null,null,null,null,null,null,null,null,null,null,null,null,null,null,null,"","",{"$f":"IF($N1175=\"\",\"\",IFERROR(IF(N1175=6,1,IF(MATCH(N1175&\"/\"&R1175,読み替え表_クールビズ!$P$38:$P$59,0),1,0)),0))","v":""},{"$f":"IF($P1175=\"\",\"\",IFERROR(IF(P1175=6,1,IF(MATCH(P1175&\"/\"&R1175,読み替え表_クールビズ!$P$38:$P$59,0),1,0)),0))","v":""},"","",0,0,"*"]
[null,null,1166,null,null,null,null,null,null,null,null,null,null,null,null,null,null,null,null,null,null,null,null,null,null,null,null,null,null,null,null,null,"","",{"$f":"IF($N1176=\"\",\"\",IFERROR(IF(N1176=6,1,IF(MATCH(N1176&\"/\"&R1176,読み替え表_クールビズ!$P$38:$P$59,0),1,0)),0))","v":""},{"$f":"IF($P1176=\"\",\"\",IFERROR(IF(P1176=6,1,IF(MATCH(P1176&\"/\"&R1176,読み替え表_クールビズ!$P$38:$P$59,0),1,0)),0))","v":""},"","",0,0,"*"]
[null,null,1167,null,null,null,null,null,null,null,null,null,null,null,null,null,null,null,null,null,null,null,null,null,null,null,null,null,null,null,null,null,"","",{"$f":"IF($N1177=\"\",\"\",IFERROR(IF(N1177=6,1,IF(MATCH(N1177&\"/\"&R1177,読み替え表_クールビズ!$P$38:$P$59,0),1,0)),0))","v":""},{"$f":"IF($P1177=\"\",\"\",IFERROR(IF(P1177=6,1,IF(MATCH(P1177&\"/\"&R1177,読み替え表_クールビズ!$P$38:$P$59,0),1,0)),0))","v":""},"","",0,0,"*"]
[null,null,1168,null,null,null,null,null,null,null,null,null,null,null,null,null,null,null,null,null,null,null,null,null,null,null,null,null,null,null,null,null,"","",{"$f":"IF($N1178=\"\",\"\",IFERROR(IF(N1178=6,1,IF(MATCH(N1178&\"/\"&R1178,読み替え表_クールビズ!$P$38:$P$59,0),1,0)),0))","v":""},{"$f":"IF($P1178=\"\",\"\",IFERROR(IF(P1178=6,1,IF(MATCH(P1178&\"/\"&R1178,読み替え表_クールビズ!$P$38:$P$59,0),1,0)),0))","v":""},"","",0,0,"*"]
[null,null,1169,null,null,null,null,null,null,null,null,null,null,null,null,null,null,null,null,null,null,null,null,null,null,null,null,null,null,null,null,null,"","",{"$f":"IF($N1179=\"\",\"\",IFERROR(IF(N1179=6,1,IF(MATCH(N1179&\"/\"&R1179,読み替え表_クールビズ!$P$38:$P$59,0),1,0)),0))","v":""},{"$f":"IF($P1179=\"\",\"\",IFERROR(IF(P1179=6,1,IF(MATCH(P1179&\"/\"&R1179,読み替え表_クールビズ!$P$38:$P$59,0),1,0)),0))","v":""},"","",0,0,"*"]
[null,null,1170,null,null,null,null,null,null,null,null,null,null,null,null,null,null,null,null,null,null,null,null,null,null,null,null,null,null,null,null,null,"","",{"$f":"IF($N1180=\"\",\"\",IFERROR(IF(N1180=6,1,IF(MATCH(N1180&\"/\"&R1180,読み替え表_クールビズ!$P$38:$P$59,0),1,0)),0))","v":""},{"$f":"IF($P1180=\"\",\"\",IFERROR(IF(P1180=6,1,IF(MATCH(P1180&\"/\"&R1180,読み替え表_クールビズ!$P$38:$P$59,0),1,0)),0))","v":""},"","",0,0,"*"]
[null,null,1171,null,null,null,null,null,null,null,null,null,null,null,null,null,null,null,null,null,null,null,null,null,null,null,null,null,null,null,null,null,"","",{"$f":"IF($N1181=\"\",\"\",IFERROR(IF(N1181=6,1,IF(MATCH(N1181&\"/\"&R1181,読み替え表_クールビズ!$P$38:$P$59,0),1,0)),0))","v":""},{"$f":"IF($P1181=\"\",\"\",IFERROR(IF(P1181=6,1,IF(MATCH(P1181&\"/\"&R1181,読み替え表_クールビズ!$P$38:$P$59,0),1,0)),0))","v":""},"","",0,0,"*"]
[null,null,1172,null,null,null,null,null,null,null,null,null,null,null,null,null,null,null,null,null,null,null,null,null,null,null,null,null,null,null,null,null,"","",{"$f":"IF($N1182=\"\",\"\",IFERROR(IF(N1182=6,1,IF(MATCH(N1182&\"/\"&R1182,読み替え表_クールビズ!$P$38:$P$59,0),1,0)),0))","v":""},{"$f":"IF($P1182=\"\",\"\",IFERROR(IF(P1182=6,1,IF(MATCH(P1182&\"/\"&R1182,読み替え表_クールビズ!$P$38:$P$59,0),1,0)),0))","v":""},"","",0,0,"*"]
[null,null,1173,null,null,null,null,null,null,null,null,null,null,null,null,null,null,null,null,null,null,null,null,null,null,null,null,null,null,null,null,null,"","",{"$f":"IF($N1183=\"\",\"\",IFERROR(IF(N1183=6,1,IF(MATCH(N1183&\"/\"&R1183,読み替え表_クールビズ!$P$38:$P$59,0),1,0)),0))","v":""},{"$f":"IF($P1183=\"\",\"\",IFERROR(IF(P1183=6,1,IF(MATCH(P1183&\"/\"&R1183,読み替え表_クールビズ!$P$38:$P$59,0),1,0)),0))","v":""},"","",0,0,"*"]
[null,null,1174,null,null,null,null,null,null,null,null,null,null,null,null,null,null,null,null,null,null,null,null,null,null,null,null,null,null,null,null,null,"","",{"$f":"IF($N1184=\"\",\"\",IFERROR(IF(N1184=6,1,IF(MATCH(N1184&\"/\"&R1184,読み替え表_クールビズ!$P$38:$P$59,0),1,0)),0))","v":""},{"$f":"IF($P1184=\"\",\"\",IFERROR(IF(P1184=6,1,IF(MATCH(P1184&\"/\"&R1184,読み替え表_クールビズ!$P$38:$P$59,0),1,0)),0))","v":""},"","",0,0,"*"]
[null,null,1175,null,null,null,null,null,null,null,null,null,null,null,null,null,null,null,null,null,null,null,null,null,null,null,null,null,null,null,null,null,"","",{"$f":"IF($N1185=\"\",\"\",IFERROR(IF(N1185=6,1,IF(MATCH(N1185&\"/\"&R1185,読み替え表_クールビズ!$P$38:$P$59,0),1,0)),0))","v":""},{"$f":"IF($P1185=\"\",\"\",IFERROR(IF(P1185=6,1,IF(MATCH(P1185&\"/\"&R1185,読み替え表_クールビズ!$P$38:$P$59,0),1,0)),0))","v":""},"","",0,0,"*"]
[null,null,1176,null,null,null,null,null,null,null,null,null,null,null,null,null,null,null,null,null,null,null,null,null,null,null,null,null,null,null,null,null,"","",{"$f":"IF($N1186=\"\",\"\",IFERROR(IF(N1186=6,1,IF(MATCH(N1186&\"/\"&R1186,読み替え表_クールビズ!$P$38:$P$59,0),1,0)),0))","v":""},{"$f":"IF($P1186=\"\",\"\",IFERROR(IF(P1186=6,1,IF(MATCH(P1186&\"/\"&R1186,読み替え表_クールビズ!$P$38:$P$59,0),1,0)),0))","v":""},"","",0,0,"*"]
[null,null,1177,null,null,null,null,null,null,null,null,null,null,null,null,null,null,null,null,null,null,null,null,null,null,null,null,null,null,null,null,null,"","",{"$f":"IF($N1187=\"\",\"\",IFERROR(IF(N1187=6,1,IF(MATCH(N1187&\"/\"&R1187,読み替え表_クールビズ!$P$38:$P$59,0),1,0)),0))","v":""},{"$f":"IF($P1187=\"\",\"\",IFERROR(IF(P1187=6,1,IF(MATCH(P1187&\"/\"&R1187,読み替え表_クールビズ!$P$38:$P$59,0),1,0)),0))","v":""},"","",0,0,"*"]
[null,null,1178,null,null,null,null,null,null,null,null,null,null,null,null,null,null,null,null,null,null,null,null,null,null,null,null,null,null,null,null,null,"","",{"$f":"IF($N1188=\"\",\"\",IFERROR(IF(N1188=6,1,IF(MATCH(N1188&\"/\"&R1188,読み替え表_クールビズ!$P$38:$P$59,0),1,0)),0))","v":""},{"$f":"IF($P1188=\"\",\"\",IFERROR(IF(P1188=6,1,IF(MATCH(P1188&\"/\"&R1188,読み替え表_クールビズ!$P$38:$P$59,0),1,0)),0))","v":""},"","",0,0,"*"]
[null,null,1179,null,null,null,null,null,null,null,null,null,null,null,null,null,null,null,null,null,null,null,null,null,null,null,null,null,null,null,null,null,"","",{"$f":"IF($N1189=\"\",\"\",IFERROR(IF(N1189=6,1,IF(MATCH(N1189&\"/\"&R1189,読み替え表_クールビズ!$P$38:$P$59,0),1,0)),0))","v":""},{"$f":"IF($P1189=\"\",\"\",IFERROR(IF(P1189=6,1,IF(MATCH(P1189&\"/\"&R1189,読み替え表_クールビズ!$P$38:$P$59,0),1,0)),0))","v":""},"","",0,0,"*"]
[null,null,1180,null,null,null,null,null,null,null,null,null,null,null,null,null,null,null,null,null,null,null,null,null,null,null,null,null,null,null,null,null,"","",{"$f":"IF($N1190=\"\",\"\",IFERROR(IF(N1190=6,1,IF(MATCH(N1190&\"/\"&R1190,読み替え表_クールビズ!$P$38:$P$59,0),1,0)),0))","v":""},{"$f":"IF($P1190=\"\",\"\",IFERROR(IF(P1190=6,1,IF(MATCH(P1190&\"/\"&R1190,読み替え表_クールビズ!$P$38:$P$59,0),1,0)),0))","v":""},"","",0,0,"*"]
[null,null,1181,null,null,null,null,null,null,null,null,null,null,null,null,null,null,null,null,null,null,null,null,null,null,null,null,null,null,null,null,null,"","",{"$f":"IF($N1191=\"\",\"\",IFERROR(IF(N1191=6,1,IF(MATCH(N1191&\"/\"&R1191,読み替え表_クールビズ!$P$38:$P$59,0),1,0)),0))","v":""},{"$f":"IF($P1191=\"\",\"\",IFERROR(IF(P1191=6,1,IF(MATCH(P1191&\"/\"&R1191,読み替え表_クールビズ!$P$38:$P$59,0),1,0)),0))","v":""},"","",0,0,"*"]
[null,null,1182,null,null,null,null,null,null,null,null,null,null,null,null,null,null,null,null,null,null,null,null,null,null,null,null,null,null,null,null,null,"","",{"$f":"IF($N1192=\"\",\"\",IFERROR(IF(N1192=6,1,IF(MATCH(N1192&\"/\"&R1192,読み替え表_クールビズ!$P$38:$P$59,0),1,0)),0))","v":""},{"$f":"IF($P1192=\"\",\"\",IFERROR(IF(P1192=6,1,IF(MATCH(P1192&\"/\"&R1192,読み替え表_クールビズ!$P$38:$P$59,0),1,0)),0))","v":""},"","",0,0,"*"]
[null,null,1183,null,null,null,null,null,null,null,null,null,null,null,null,null,null,null,null,null,null,null,null,null,null,null,null,null,null,null,null,null,"","",{"$f":"IF($N1193=\"\",\"\",IFERROR(IF(N1193=6,1,IF(MATCH(N1193&\"/\"&R1193,読み替え表_クールビズ!$P$38:$P$59,0),1,0)),0))","v":""},{"$f":"IF($P1193=\"\",\"\",IFERROR(IF(P1193=6,1,IF(MATCH(P1193&\"/\"&R1193,読み替え表_クールビズ!$P$38:$P$59,0),1,0)),0))","v":""},"","",0,0,"*"]
[null,null,1184,null,null,null,null,null,null,null,null,null,null,null,null,null,null,null,null,null,null,null,null,null,null,null,null,null,null,null,null,null,"","",{"$f":"IF($N1194=\"\",\"\",IFERROR(IF(N1194=6,1,IF(MATCH(N1194&\"/\"&R1194,読み替え表_クールビズ!$P$38:$P$59,0),1,0)),0))","v":""},{"$f":"IF($P1194=\"\",\"\",IFERROR(IF(P1194=6,1,IF(MATCH(P1194&\"/\"&R1194,読み替え表_クールビズ!$P$38:$P$59,0),1,0)),0))","v":""},"","",0,0,"*"]
[null,null,1185,null,null,null,null,null,null,null,null,null,null,null,null,null,null,null,null,null,null,null,null,null,null,null,null,null,null,null,null,null,"","",{"$f":"IF($N1195=\"\",\"\",IFERROR(IF(N1195=6,1,IF(MATCH(N1195&\"/\"&R1195,読み替え表_クールビズ!$P$38:$P$59,0),1,0)),0))","v":""},{"$f":"IF($P1195=\"\",\"\",IFERROR(IF(P1195=6,1,IF(MATCH(P1195&\"/\"&R1195,読み替え表_クールビズ!$P$38:$P$59,0),1,0)),0))","v":""},"","",0,0,"*"]
[null,null,1186,null,null,null,null,null,null,null,null,null,null,null,null,null,null,null,null,null,null,null,null,null,null,null,null,null,null,null,null,null,"","",{"$f":"IF($N1196=\"\",\"\",IFERROR(IF(N1196=6,1,IF(MATCH(N1196&\"/\"&R1196,読み替え表_クールビズ!$P$38:$P$59,0),1,0)),0))","v":""},{"$f":"IF($P1196=\"\",\"\",IFERROR(IF(P1196=6,1,IF(MATCH(P1196&\"/\"&R1196,読み替え表_クールビズ!$P$38:$P$59,0),1,0)),0))","v":""},"","",0,0,"*"]
[null,null,1187,null,null,null,null,null,null,null,null,null,null,null,null,null,null,null,null,null,null,null,null,null,null,null,null,null,null,null,null,null,"","",{"$f":"IF($N1197=\"\",\"\",IFERROR(IF(N1197=6,1,IF(MATCH(N1197&\"/\"&R1197,読み替え表_クールビズ!$P$38:$P$59,0),1,0)),0))","v":""},{"$f":"IF($P1197=\"\",\"\",IFERROR(IF(P1197=6,1,IF(MATCH(P1197&\"/\"&R1197,読み替え表_クールビズ!$P$38:$P$59,0),1,0)),0))","v":""},"","",0,0,"*"]
[null,null,1188,null,null,null,null,null,null,null,null,null,null,null,null,null,null,null,null,null,null,null,null,null,null,null,null,null,null,null,null,null,"","",{"$f":"IF($N1198=\"\",\"\",IFERROR(IF(N1198=6,1,IF(MATCH(N1198&\"/\"&R1198,読み替え表_クールビズ!$P$38:$P$59,0),1,0)),0))","v":""},{"$f":"IF($P1198=\"\",\"\",IFERROR(IF(P1198=6,1,IF(MATCH(P1198&\"/\"&R1198,読み替え表_クールビズ!$P$38:$P$59,0),1,0)),0))","v":""},"","",0,0,"*"]
[null,null,1189,null,null,null,null,null,null,null,null,null,null,null,null,null,null,null,null,null,null,null,null,null,null,null,null,null,null,null,null,null,"","",{"$f":"IF($N1199=\"\",\"\",IFERROR(IF(N1199=6,1,IF(MATCH(N1199&\"/\"&R1199,読み替え表_クールビズ!$P$38:$P$59,0),1,0)),0))","v":""},{"$f":"IF($P1199=\"\",\"\",IFERROR(IF(P1199=6,1,IF(MATCH(P1199&\"/\"&R1199,読み替え表_クールビズ!$P$38:$P$59,0),1,0)),0))","v":""},"","",0,0,"*"]
[null,null,1190,null,null,null,null,null,null,null,null,null,null,null,null,null,null,null,null,null,null,null,null,null,null,null,null,null,null,null,null,null,"","",{"$f":"IF($N1200=\"\",\"\",IFERROR(IF(N1200=6,1,IF(MATCH(N1200&\"/\"&R1200,読み替え表_クールビズ!$P$38:$P$59,0),1,0)),0))","v":""},{"$f":"IF($P1200=\"\",\"\",IFERROR(IF(P1200=6,1,IF(MATCH(P1200&\"/\"&R1200,読み替え表_クールビズ!$P$38:$P$59,0),1,0)),0))","v":""},"","",0,0,"*"]
[null,null,1191,null,null,null,null,null,null,null,null,null,null,null,null,null,null,null,null,null,null,null,null,null,null,null,null,null,null,null,null,null,"","",{"$f":"IF($N1201=\"\",\"\",IFERROR(IF(N1201=6,1,IF(MATCH(N1201&\"/\"&R1201,読み替え表_クールビズ!$P$38:$P$59,0),1,0)),0))","v":""},{"$f":"IF($P1201=\"\",\"\",IFERROR(IF(P1201=6,1,IF(MATCH(P1201&\"/\"&R1201,読み替え表_クールビズ!$P$38:$P$59,0),1,0)),0))","v":""},"","",0,0,"*"]
[null,null,1192,null,null,null,null,null,null,null,null,null,null,null,null,null,null,null,null,null,null,null,null,null,null,null,null,null,null,null,null,null,"","",{"$f":"IF($N1202=\"\",\"\",IFERROR(IF(N1202=6,1,IF(MATCH(N1202&\"/\"&R1202,読み替え表_クールビズ!$P$38:$P$59,0),1,0)),0))","v":""},{"$f":"IF($P1202=\"\",\"\",IFERROR(IF(P1202=6,1,IF(MATCH(P1202&\"/\"&R1202,読み替え表_クールビズ!$P$38:$P$59,0),1,0)),0))","v":""},"","",0,0,"*"]
[null,null,1193,null,null,null,null,null,null,null,null,null,null,null,null,null,null,null,null,null,null,null,null,null,null,null,null,null,null,null,null,null,"","",{"$f":"IF($N1203=\"\",\"\",IFERROR(IF(N1203=6,1,IF(MATCH(N1203&\"/\"&R1203,読み替え表_クールビズ!$P$38:$P$59,0),1,0)),0))","v":""},{"$f":"IF($P1203=\"\",\"\",IFERROR(IF(P1203=6,1,IF(MATCH(P1203&\"/\"&R1203,読み替え表_クールビズ!$P$38:$P$59,0),1,0)),0))","v":""},"","",0,0,"*"]
[null,null,1194,null,null,null,null,null,null,null,null,null,null,null,null,null,null,null,null,null,null,null,null,null,null,null,null,null,null,null,null,null,"","",{"$f":"IF($N1204=\"\",\"\",IFERROR(IF(N1204=6,1,IF(MATCH(N1204&\"/\"&R1204,読み替え表_クールビズ!$P$38:$P$59,0),1,0)),0))","v":""},{"$f":"IF($P1204=\"\",\"\",IFERROR(IF(P1204=6,1,IF(MATCH(P1204&\"/\"&R1204,読み替え表_クールビズ!$P$38:$P$59,0),1,0)),0))","v":""},"","",0,0,"*"]
[null,null,1195,null,null,null,null,null,null,null,null,null,null,null,null,null,null,null,null,null,null,null,null,null,null,null,null,null,null,null,null,null,"","",{"$f":"IF($N1205=\"\",\"\",IFERROR(IF(N1205=6,1,IF(MATCH(N1205&\"/\"&R1205,読み替え表_クールビズ!$P$38:$P$59,0),1,0)),0))","v":""},{"$f":"IF($P1205=\"\",\"\",IFERROR(IF(P1205=6,1,IF(MATCH(P1205&\"/\"&R1205,読み替え表_クールビズ!$P$38:$P$59,0),1,0)),0))","v":""},"","",0,0,"*"]
[null,null,1196,null,null,null,null,null,null,null,null,null,null,null,null,null,null,null,null,null,null,null,null,null,null,null,null,null,null,null,null,null,"","",{"$f":"IF($N1206=\"\",\"\",IFERROR(IF(N1206=6,1,IF(MATCH(N1206&\"/\"&R1206,読み替え表_クールビズ!$P$38:$P$59,0),1,0)),0))","v":""},{"$f":"IF($P1206=\"\",\"\",IFERROR(IF(P1206=6,1,IF(MATCH(P1206&\"/\"&R1206,読み替え表_クールビズ!$P$38:$P$59,0),1,0)),0))","v":""},"","",0,0,"*"]
[null,null,1197,null,null,null,null,null,null,null,null,null,null,null,null,null,null,null,null,null,null,null,null,null,null,null,null,null,null,null,null,null,"","",{"$f":"IF($N1207=\"\",\"\",IFERROR(IF(N1207=6,1,IF(MATCH(N1207&\"/\"&R1207,読み替え表_クールビズ!$P$38:$P$59,0),1,0)),0))","v":""},{"$f":"IF($P1207=\"\",\"\",IFERROR(IF(P1207=6,1,IF(MATCH(P1207&\"/\"&R1207,読み替え表_クールビズ!$P$38:$P$59,0),1,0)),0))","v":""},"","",0,0,"*"]
[null,null,1198,null,null,null,null,null,null,null,null,null,null,null,null,null,null,null,null,null,null,null,null,null,null,null,null,null,null,null,null,null,"","",{"$f":"IF($N1208=\"\",\"\",IFERROR(IF(N1208=6,1,IF(MATCH(N1208&\"/\"&R1208,読み替え表_クールビズ!$P$38:$P$59,0),1,0)),0))","v":""},{"$f":"IF($P1208=\"\",\"\",IFERROR(IF(P1208=6,1,IF(MATCH(P1208&\"/\"&R1208,読み替え表_クールビズ!$P$38:$P$59,0),1,0)),0))","v":""},"","",0,0,"*"]
[null,null,1199,null,null,null,null,null,null,null,null,null,null,null,null,null,null,null,null,null,null,null,null,null,null,null,null,null,null,null,null,null,"","",{"$f":"IF($N1209=\"\",\"\",IFERROR(IF(N1209=6,1,IF(MATCH(N1209&\"/\"&R1209,読み替え表_クールビズ!$P$38:$P$59,0),1,0)),0))","v":""},{"$f":"IF($P1209=\"\",\"\",IFERROR(IF(P1209=6,1,IF(MATCH(P1209&\"/\"&R1209,読み替え表_クールビズ!$P$38:$P$59,0),1,0)),0))","v":""},"","",0,0,"*"]
[null,null,1200,null,null,null,null,null,null,null,null,null,null,null,null,null,null,null,null,null,null,null,null,null,null,null,null,null,null,null,null,null,"","",{"$f":"IF($N1210=\"\",\"\",IFERROR(IF(N1210=6,1,IF(MATCH(N1210&\"/\"&R1210,読み替え表_クールビズ!$P$38:$P$59,0),1,0)),0))","v":""},{"$f":"IF($P1210=\"\",\"\",IFERROR(IF(P1210=6,1,IF(MATCH(P1210&\"/\"&R1210,読み替え表_クールビズ!$P$38:$P$59,0),1,0)),0))","v":""},"","",0,0,"*"]
[null,null,1201,null,null,null,null,null,null,null,null,null,null,null,null,null,null,null,null,null,null,null,null,null,null,null,null,null,null,null,null,null,"","",{"$f":"IF($N1211=\"\",\"\",IFERROR(IF(N1211=6,1,IF(MATCH(N1211&\"/\"&R1211,読み替え表_クールビズ!$P$38:$P$59,0),1,0)),0))","v":""},{"$f":"IF($P1211=\"\",\"\",IFERROR(IF(P1211=6,1,IF(MATCH(P1211&\"/\"&R1211,読み替え表_クールビズ!$P$38:$P$59,0),1,0)),0))","v":""},"","",0,0,"*"]
[null,null,1202,null,null,null,null,null,null,null,null,null,null,null,null,null,null,null,null,null,null,null,null,null,null,null,null,null,null,null,null,null,"","",{"$f":"IF($N1212=\"\",\"\",IFERROR(IF(N1212=6,1,IF(MATCH(N1212&\"/\"&R1212,読み替え表_クールビズ!$P$38:$P$59,0),1,0)),0))","v":""},{"$f":"IF($P1212=\"\",\"\",IFERROR(IF(P1212=6,1,IF(MATCH(P1212&\"/\"&R1212,読み替え表_クールビズ!$P$38:$P$59,0),1,0)),0))","v":""},"","",0,0,"*"]
[null,null,1203,null,null,null,null,null,null,null,null,null,null,null,null,null,null,null,null,null,null,null,null,null,null,null,null,null,null,null,null,null,"","",{"$f":"IF($N1213=\"\",\"\",IFERROR(IF(N1213=6,1,IF(MATCH(N1213&\"/\"&R1213,読み替え表_クールビズ!$P$38:$P$59,0),1,0)),0))","v":""},{"$f":"IF($P1213=\"\",\"\",IFERROR(IF(P1213=6,1,IF(MATCH(P1213&\"/\"&R1213,読み替え表_クールビズ!$P$38:$P$59,0),1,0)),0))","v":""},"","",0,0,"*"]
[null,null,1204,null,null,null,null,null,null,null,null,null,null,null,null,null,null,null,null,null,null,null,null,null,null,null,null,null,null,null,null,null,"","",{"$f":"IF($N1214=\"\",\"\",IFERROR(IF(N1214=6,1,IF(MATCH(N1214&\"/\"&R1214,読み替え表_クールビズ!$P$38:$P$59,0),1,0)),0))","v":""},{"$f":"IF($P1214=\"\",\"\",IFERROR(IF(P1214=6,1,IF(MATCH(P1214&\"/\"&R1214,読み替え表_クールビズ!$P$38:$P$59,0),1,0)),0))","v":""},"","",0,0,"*"]
[null,null,1205,null,null,null,null,null,null,null,null,null,null,null,null,null,null,null,null,null,null,null,null,null,null,null,null,null,null,null,null,null,"","",{"$f":"IF($N1215=\"\",\"\",IFERROR(IF(N1215=6,1,IF(MATCH(N1215&\"/\"&R1215,読み替え表_クールビズ!$P$38:$P$59,0),1,0)),0))","v":""},{"$f":"IF($P1215=\"\",\"\",IFERROR(IF(P1215=6,1,IF(MATCH(P1215&\"/\"&R1215,読み替え表_クールビズ!$P$38:$P$59,0),1,0)),0))","v":""},"","",0,0,"*"]
[null,null,1206,null,null,null,null,null,null,null,null,null,null,null,null,null,null,null,null,null,null,null,null,null,null,null,null,null,null,null,null,null,"","",{"$f":"IF($N1216=\"\",\"\",IFERROR(IF(N1216=6,1,IF(MATCH(N1216&\"/\"&R1216,読み替え表_クールビズ!$P$38:$P$59,0),1,0)),0))","v":""},{"$f":"IF($P1216=\"\",\"\",IFERROR(IF(P1216=6,1,IF(MATCH(P1216&\"/\"&R1216,読み替え表_クールビズ!$P$38:$P$59,0),1,0)),0))","v":""},"","",0,0,"*"]
[null,null,1207,null,null,null,null,null,null,null,null,null,null,null,null,null,null,null,null,null,null,null,null,null,null,null,null,null,null,null,null,null,"","",{"$f":"IF($N1217=\"\",\"\",IFERROR(IF(N1217=6,1,IF(MATCH(N1217&\"/\"&R1217,読み替え表_クールビズ!$P$38:$P$59,0),1,0)),0))","v":""},{"$f":"IF($P1217=\"\",\"\",IFERROR(IF(P1217=6,1,IF(MATCH(P1217&\"/\"&R1217,読み替え表_クールビズ!$P$38:$P$59,0),1,0)),0))","v":""},"","",0,0,"*"]
[null,null,1208,null,null,null,null,null,null,null,null,null,null,null,null,null,null,null,null,null,null,null,null,null,null,null,null,null,null,null,null,null,"","",{"$f":"IF($N1218=\"\",\"\",IFERROR(IF(N1218=6,1,IF(MATCH(N1218&\"/\"&R1218,読み替え表_クールビズ!$P$38:$P$59,0),1,0)),0))","v":""},{"$f":"IF($P1218=\"\",\"\",IFERROR(IF(P1218=6,1,IF(MATCH(P1218&\"/\"&R1218,読み替え表_クールビズ!$P$38:$P$59,0),1,0)),0))","v":""},"","",0,0,"*"]
[null,null,1209,null,null,null,null,null,null,null,null,null,null,null,null,null,null,null,null,null,null,null,null,null,null,null,null,null,null,null,null,null,"","",{"$f":"IF($N1219=\"\",\"\",IFERROR(IF(N1219=6,1,IF(MATCH(N1219&\"/\"&R1219,読み替え表_クールビズ!$P$38:$P$59,0),1,0)),0))","v":""},{"$f":"IF($P1219=\"\",\"\",IFERROR(IF(P1219=6,1,IF(MATCH(P1219&\"/\"&R1219,読み替え表_クールビズ!$P$38:$P$59,0),1,0)),0))","v":""},"","",0,0,"*"]
[null,null,1210,null,null,null,null,null,null,null,null,null,null,null,null,null,null,null,null,null,null,null,null,null,null,null,null,null,null,null,null,null,"","",{"$f":"IF($N1220=\"\",\"\",IFERROR(IF(N1220=6,1,IF(MATCH(N1220&\"/\"&R1220,読み替え表_クールビズ!$P$38:$P$59,0),1,0)),0))","v":""},{"$f":"IF($P1220=\"\",\"\",IFERROR(IF(P1220=6,1,IF(MATCH(P1220&\"/\"&R1220,読み替え表_クールビズ!$P$38:$P$59,0),1,0)),0))","v":""},"","",0,0,"*"]
[null,null,1211,null,null,null,null,null,null,null,null,null,null,null,null,null,null,null,null,null,null,null,null,null,null,null,null,null,null,null,null,null,"","",{"$f":"IF($N1221=\"\",\"\",IFERROR(IF(N1221=6,1,IF(MATCH(N1221&\"/\"&R1221,読み替え表_クールビズ!$P$38:$P$59,0),1,0)),0))","v":""},{"$f":"IF($P1221=\"\",\"\",IFERROR(IF(P1221=6,1,IF(MATCH(P1221&\"/\"&R1221,読み替え表_クールビズ!$P$38:$P$59,0),1,0)),0))","v":""},"","",0,0,"*"]
[null,null,1212,null,null,null,null,null,null,null,null,null,null,null,null,null,null,null,null,null,null,null,null,null,null,null,null,null,null,null,null,null,"","",{"$f":"IF($N1222=\"\",\"\",IFERROR(IF(N1222=6,1,IF(MATCH(N1222&\"/\"&R1222,読み替え表_クールビズ!$P$38:$P$59,0),1,0)),0))","v":""},{"$f":"IF($P1222=\"\",\"\",IFERROR(IF(P1222=6,1,IF(MATCH(P1222&\"/\"&R1222,読み替え表_クールビズ!$P$38:$P$59,0),1,0)),0))","v":""},"","",0,0,"*"]
[null,null,1213,null,null,null,null,null,null,null,null,null,null,null,null,null,null,null,null,null,null,null,null,null,null,null,null,null,null,null,null,null,"","",{"$f":"IF($N1223=\"\",\"\",IFERROR(IF(N1223=6,1,IF(MATCH(N1223&\"/\"&R1223,読み替え表_クールビズ!$P$38:$P$59,0),1,0)),0))","v":""},{"$f":"IF($P1223=\"\",\"\",IFERROR(IF(P1223=6,1,IF(MATCH(P1223&\"/\"&R1223,読み替え表_クールビズ!$P$38:$P$59,0),1,0)),0))","v":""},"","",0,0,"*"]
[null,null,1214,null,null,null,null,null,null,null,null,null,null,null,null,null,null,null,null,null,null,null,null,null,null,null,null,null,null,null,null,null,"","",{"$f":"IF($N1224=\"\",\"\",IFERROR(IF(N1224=6,1,IF(MATCH(N1224&\"/\"&R1224,読み替え表_クールビズ!$P$38:$P$59,0),1,0)),0))","v":""},{"$f":"IF($P1224=\"\",\"\",IFERROR(IF(P1224=6,1,IF(MATCH(P1224&\"/\"&R1224,読み替え表_クールビズ!$P$38:$P$59,0),1,0)),0))","v":""},"","",0,0,"*"]
[null,null,1215,null,null,null,null,null,null,null,null,null,null,null,null,null,null,null,null,null,null,null,null,null,null,null,null,null,null,null,null,null,"","",{"$f":"IF($N1225=\"\",\"\",IFERROR(IF(N1225=6,1,IF(MATCH(N1225&\"/\"&R1225,読み替え表_クールビズ!$P$38:$P$59,0),1,0)),0))","v":""},{"$f":"IF($P1225=\"\",\"\",IFERROR(IF(P1225=6,1,IF(MATCH(P1225&\"/\"&R1225,読み替え表_クールビズ!$P$38:$P$59,0),1,0)),0))","v":""},"","",0,0,"*"]
[null,null,1216,null,null,null,null,null,null,null,null,null,null,null,null,null,null,null,null,null,null,null,null,null,null,null,null,null,null,null,null,null,"","",{"$f":"IF($N1226=\"\",\"\",IFERROR(IF(N1226=6,1,IF(MATCH(N1226&\"/\"&R1226,読み替え表_クールビズ!$P$38:$P$59,0),1,0)),0))","v":""},{"$f":"IF($P1226=\"\",\"\",IFERROR(IF(P1226=6,1,IF(MATCH(P1226&\"/\"&R1226,読み替え表_クールビズ!$P$38:$P$59,0),1,0)),0))","v":""},"","",0,0,"*"]
[null,null,1217,null,null,null,null,null,null,null,null,null,null,null,null,null,null,null,null,null,null,null,null,null,null,null,null,null,null,null,null,null,"","",{"$f":"IF($N1227=\"\",\"\",IFERROR(IF(N1227=6,1,IF(MATCH(N1227&\"/\"&R1227,読み替え表_クールビズ!$P$38:$P$59,0),1,0)),0))","v":""},{"$f":"IF($P1227=\"\",\"\",IFERROR(IF(P1227=6,1,IF(MATCH(P1227&\"/\"&R1227,読み替え表_クールビズ!$P$38:$P$59,0),1,0)),0))","v":""},{"$f":"IF($N1227=\"\",\"\",IF(OR(CONCATENATE(N1227,$R1227)=\"22\",CONCATENATE(N1227,$R1227)=\"32\",CONCATENATE(N1227,$R1227)=\"42\",CONCATENATE(N1227,$R1227)=\"43\",CONCATENATE(N1227,$R1227)=\"51\",CONCATENATE(N1227,$R1227)=\"52\",CONCATENATE(N1227,$R1227)=\"53\"),1,0))","v":""},{"$f":"IF($P1227=\"\",\"\",IF(OR(CONCATENATE(P1227,$R1227)=\"22\",CONCATENATE(P1227,$R1227)=\"32\",CONCATENATE(P1227,$R1227)=\"42\",CONCATENATE(P1227,$R1227)=\"43\",CONCATENATE(P1227,$R1227)=\"51\",CONCATENATE(P1227,$R1227)=\"52\",CONCATENATE(P1227,$R1227)=\"53\"),1,0))","v":""},0,0,"*"]
[null,null,{"$f":"ROW()-10","v":1218},null,null,null,null,null,null,null,null,null,null,null,null,null,null,null,null,null,null,null,null,null,null,null,null,null,null,null,null,null,{"$f":"IF($J1228=\"\",\"\",IF(AND($J1228>=1,$J1228<=9),1,0))","v":""},{"$f":"IF($R1228=\"\",\"\",IF(OR($R1228=1,$R1228=2,$R1228=3),1,0))","v":""},{"$f":"IF($N1228=\"\",\"\",IFERROR(IF(N1228=6,1,IF(MATCH(N1228&\"/\"&R1228,読み替え表_クールビズ!$P$38:$P$59,0),1,0)),0))","v":""},{"$f":"IF($P1228=\"\",\"\",IFERROR(IF(P1228=6,1,IF(MATCH(P1228&\"/\"&R1228,読み替え表_クールビズ!$P$38:$P$59,0),1,0)),0))","v":""},"","",{"$f":"IF(OR(AK1228=1,AL1228=1),1,0)","v":0},{"$f":"IF(OR($AG1228=0,SUM(AI1228:AJ1228)=2),1,0)","v":0},"*"]
[null,null,1219,null,null,null,null,null,null,null,null,null,null,null,null,null,null,null,null,null,null,null,null,null,null,null,null,null,null,null,null,null,"","",{"$f":"IF($N1229=\"\",\"\",IFERROR(IF(N1229=6,1,IF(MATCH(N1229&\"/\"&R1229,読み替え表_クールビズ!$P$38:$P$59,0),1,0)),0))","v":""},{"$f":"IF($P1229=\"\",\"\",IFERROR(IF(P1229=6,1,IF(MATCH(P1229&\"/\"&R1229,読み替え表_クールビズ!$P$38:$P$59,0),1,0)),0))","v":""},"","",0,0,"*"]
[null,null,1220,null,null,null,null,null,null,null,null,null,null,null,null,null,null,null,null,null,null,null,null,null,null,null,null,null,null,null,null,null,"","",{"$f":"IF($N1230=\"\",\"\",IFERROR(IF(N1230=6,1,IF(MATCH(N1230&\"/\"&R1230,読み替え表_クールビズ!$P$38:$P$59,0),1,0)),0))","v":""},{"$f":"IF($P1230=\"\",\"\",IFERROR(IF(P1230=6,1,IF(MATCH(P1230&\"/\"&R1230,読み替え表_クールビズ!$P$38:$P$59,0),1,0)),0))","v":""},"","",0,0,"*"]
[null,null,1221,null,null,null,null,null,null,null,null,null,null,null,null,null,null,null,null,null,null,null,null,null,null,null,null,null,null,null,null,null,"","",{"$f":"IF($N1231=\"\",\"\",IFERROR(IF(N1231=6,1,IF(MATCH(N1231&\"/\"&R1231,読み替え表_クールビズ!$P$38:$P$59,0),1,0)),0))","v":""},{"$f":"IF($P1231=\"\",\"\",IFERROR(IF(P1231=6,1,IF(MATCH(P1231&\"/\"&R1231,読み替え表_クールビズ!$P$38:$P$59,0),1,0)),0))","v":""},"","",0,0,"*"]
[null,null,1222,null,null,null,null,null,null,null,null,null,null,null,null,null,null,null,null,null,null,null,null,null,null,null,null,null,null,null,null,null,"","",{"$f":"IF($N1232=\"\",\"\",IFERROR(IF(N1232=6,1,IF(MATCH(N1232&\"/\"&R1232,読み替え表_クールビズ!$P$38:$P$59,0),1,0)),0))","v":""},{"$f":"IF($P1232=\"\",\"\",IFERROR(IF(P1232=6,1,IF(MATCH(P1232&\"/\"&R1232,読み替え表_クールビズ!$P$38:$P$59,0),1,0)),0))","v":""},"","",0,0,"*"]
[null,null,1223,null,null,null,null,null,null,null,null,null,null,null,null,null,null,null,null,null,null,null,null,null,null,null,null,null,null,null,null,null,"","",{"$f":"IF($N1233=\"\",\"\",IFERROR(IF(N1233=6,1,IF(MATCH(N1233&\"/\"&R1233,読み替え表_クールビズ!$P$38:$P$59,0),1,0)),0))","v":""},{"$f":"IF($P1233=\"\",\"\",IFERROR(IF(P1233=6,1,IF(MATCH(P1233&\"/\"&R1233,読み替え表_クールビズ!$P$38:$P$59,0),1,0)),0))","v":""},"","",0,0,"*"]
[null,null,1224,null,null,null,null,null,null,null,null,null,null,null,null,null,null,null,null,null,null,null,null,null,null,null,null,null,null,null,null,null,"","",{"$f":"IF($N1234=\"\",\"\",IFERROR(IF(N1234=6,1,IF(MATCH(N1234&\"/\"&R1234,読み替え表_クールビズ!$P$38:$P$59,0),1,0)),0))","v":""},{"$f":"IF($P1234=\"\",\"\",IFERROR(IF(P1234=6,1,IF(MATCH(P1234&\"/\"&R1234,読み替え表_クールビズ!$P$38:$P$59,0),1,0)),0))","v":""},"","",0,0,"*"]
[null,null,1225,null,null,null,null,null,null,null,null,null,null,null,null,null,null,null,null,null,null,null,null,null,null,null,null,null,null,null,null,null,"","",{"$f":"IF($N1235=\"\",\"\",IFERROR(IF(N1235=6,1,IF(MATCH(N1235&\"/\"&R1235,読み替え表_クールビズ!$P$38:$P$59,0),1,0)),0))","v":""},{"$f":"IF($P1235=\"\",\"\",IFERROR(IF(P1235=6,1,IF(MATCH(P1235&\"/\"&R1235,読み替え表_クールビズ!$P$38:$P$59,0),1,0)),0))","v":""},"","",0,0,"*"]
[null,null,1226,null,null,null,null,null,null,null,null,null,null,null,null,null,null,null,null,null,null,null,null,null,null,null,null,null,null,null,null,null,"","",{"$f":"IF($N1236=\"\",\"\",IFERROR(IF(N1236=6,1,IF(MATCH(N1236&\"/\"&R1236,読み替え表_クールビズ!$P$38:$P$59,0),1,0)),0))","v":""},{"$f":"IF($P1236=\"\",\"\",IFERROR(IF(P1236=6,1,IF(MATCH(P1236&\"/\"&R1236,読み替え表_クールビズ!$P$38:$P$59,0),1,0)),0))","v":""},"","",0,0,"*"]
[null,null,1227,null,null,null,null,null,null,null,null,null,null,null,null,null,null,null,null,null,null,null,null,null,null,null,null,null,null,null,null,null,"","",{"$f":"IF($N1237=\"\",\"\",IFERROR(IF(N1237=6,1,IF(MATCH(N1237&\"/\"&R1237,読み替え表_クールビズ!$P$38:$P$59,0),1,0)),0))","v":""},{"$f":"IF($P1237=\"\",\"\",IFERROR(IF(P1237=6,1,IF(MATCH(P1237&\"/\"&R1237,読み替え表_クールビズ!$P$38:$P$59,0),1,0)),0))","v":""},"","",0,0,"*"]
[null,null,1228,null,null,null,null,null,null,null,null,null,null,null,null,null,null,null,null,null,null,null,null,null,null,null,null,null,null,null,null,null,"","",{"$f":"IF($N1238=\"\",\"\",IFERROR(IF(N1238=6,1,IF(MATCH(N1238&\"/\"&R1238,読み替え表_クールビズ!$P$38:$P$59,0),1,0)),0))","v":""},{"$f":"IF($P1238=\"\",\"\",IFERROR(IF(P1238=6,1,IF(MATCH(P1238&\"/\"&R1238,読み替え表_クールビズ!$P$38:$P$59,0),1,0)),0))","v":""},"","",0,0,"*"]
[null,null,1229,null,null,null,null,null,null,null,null,null,null,null,null,null,null,null,null,null,null,null,null,null,null,null,null,null,null,null,null,null,"","",{"$f":"IF($N1239=\"\",\"\",IFERROR(IF(N1239=6,1,IF(MATCH(N1239&\"/\"&R1239,読み替え表_クールビズ!$P$38:$P$59,0),1,0)),0))","v":""},{"$f":"IF($P1239=\"\",\"\",IFERROR(IF(P1239=6,1,IF(MATCH(P1239&\"/\"&R1239,読み替え表_クールビズ!$P$38:$P$59,0),1,0)),0))","v":""},"","",0,0,"*"]
[null,null,1230,null,null,null,null,null,null,null,null,null,null,null,null,null,null,null,null,null,null,null,null,null,null,null,null,null,null,null,null,null,"","",{"$f":"IF($N1240=\"\",\"\",IFERROR(IF(N1240=6,1,IF(MATCH(N1240&\"/\"&R1240,読み替え表_クールビズ!$P$38:$P$59,0),1,0)),0))","v":""},{"$f":"IF($P1240=\"\",\"\",IFERROR(IF(P1240=6,1,IF(MATCH(P1240&\"/\"&R1240,読み替え表_クールビズ!$P$38:$P$59,0),1,0)),0))","v":""},"","",0,0,"*"]
[null,null,1231,null,null,null,null,null,null,null,null,null,null,null,null,null,null,null,null,null,null,null,null,null,null,null,null,null,null,null,null,null,"","",{"$f":"IF($N1241=\"\",\"\",IFERROR(IF(N1241=6,1,IF(MATCH(N1241&\"/\"&R1241,読み替え表_クールビズ!$P$38:$P$59,0),1,0)),0))","v":""},{"$f":"IF($P1241=\"\",\"\",IFERROR(IF(P1241=6,1,IF(MATCH(P1241&\"/\"&R1241,読み替え表_クールビズ!$P$38:$P$59,0),1,0)),0))","v":""},"","",0,0,"*"]
[null,null,1232,null,null,null,null,null,null,null,null,null,null,null,null,null,null,null,null,null,null,null,null,null,null,null,null,null,null,null,null,null,"","",{"$f":"IF($N1242=\"\",\"\",IFERROR(IF(N1242=6,1,IF(MATCH(N1242&\"/\"&R1242,読み替え表_クールビズ!$P$38:$P$59,0),1,0)),0))","v":""},{"$f":"IF($P1242=\"\",\"\",IFERROR(IF(P1242=6,1,IF(MATCH(P1242&\"/\"&R1242,読み替え表_クールビズ!$P$38:$P$59,0),1,0)),0))","v":""},"","",0,0,"*"]
[null,null,1233,null,null,null,null,null,null,null,null,null,null,null,null,null,null,null,null,null,null,null,null,null,null,null,null,null,null,null,null,null,"","",{"$f":"IF($N1243=\"\",\"\",IFERROR(IF(N1243=6,1,IF(MATCH(N1243&\"/\"&R1243,読み替え表_クールビズ!$P$38:$P$59,0),1,0)),0))","v":""},{"$f":"IF($P1243=\"\",\"\",IFERROR(IF(P1243=6,1,IF(MATCH(P1243&\"/\"&R1243,読み替え表_クールビズ!$P$38:$P$59,0),1,0)),0))","v":""},"","",0,0,"*"]
[null,null,1234,null,null,null,null,null,null,null,null,null,null,null,null,null,null,null,null,null,null,null,null,null,null,null,null,null,null,null,null,null,"","",{"$f":"IF($N1244=\"\",\"\",IFERROR(IF(N1244=6,1,IF(MATCH(N1244&\"/\"&R1244,読み替え表_クールビズ!$P$38:$P$59,0),1,0)),0))","v":""},{"$f":"IF($P1244=\"\",\"\",IFERROR(IF(P1244=6,1,IF(MATCH(P1244&\"/\"&R1244,読み替え表_クールビズ!$P$38:$P$59,0),1,0)),0))","v":""},"","",0,0,"*"]
[null,null,1235,null,null,null,null,null,null,null,null,null,null,null,null,null,null,null,null,null,null,null,null,null,null,null,null,null,null,null,null,null,"","",{"$f":"IF($N1245=\"\",\"\",IFERROR(IF(N1245=6,1,IF(MATCH(N1245&\"/\"&R1245,読み替え表_クールビズ!$P$38:$P$59,0),1,0)),0))","v":""},{"$f":"IF($P1245=\"\",\"\",IFERROR(IF(P1245=6,1,IF(MATCH(P1245&\"/\"&R1245,読み替え表_クールビズ!$P$38:$P$59,0),1,0)),0))","v":""},"","",0,0,"*"]
[null,null,1236,null,null,null,null,null,null,null,null,null,null,null,null,null,null,null,null,null,null,null,null,null,null,null,null,null,null,null,null,null,"","",{"$f":"IF($N1246=\"\",\"\",IFERROR(IF(N1246=6,1,IF(MATCH(N1246&\"/\"&R1246,読み替え表_クールビズ!$P$38:$P$59,0),1,0)),0))","v":""},{"$f":"IF($P1246=\"\",\"\",IFERROR(IF(P1246=6,1,IF(MATCH(P1246&\"/\"&R1246,読み替え表_クールビズ!$P$38:$P$59,0),1,0)),0))","v":""},"","",0,0,"*"]
[null,null,1237,null,null,null,null,null,null,null,null,null,null,null,null,null,null,null,null,null,null,null,null,null,null,null,null,null,null,null,null,null,"","",{"$f":"IF($N1247=\"\",\"\",IFERROR(IF(N1247=6,1,IF(MATCH(N1247&\"/\"&R1247,読み替え表_クールビズ!$P$38:$P$59,0),1,0)),0))","v":""},{"$f":"IF($P1247=\"\",\"\",IFERROR(IF(P1247=6,1,IF(MATCH(P1247&\"/\"&R1247,読み替え表_クールビズ!$P$38:$P$59,0),1,0)),0))","v":""},"","",0,0,"*"]
[null,null,1238,null,null,null,null,null,null,null,null,null,null,null,null,null,null,null,null,null,null,null,null,null,null,null,null,null,null,null,null,null,"","",{"$f":"IF($N1248=\"\",\"\",IFERROR(IF(N1248=6,1,IF(MATCH(N1248&\"/\"&R1248,読み替え表_クールビズ!$P$38:$P$59,0),1,0)),0))","v":""},{"$f":"IF($P1248=\"\",\"\",IFERROR(IF(P1248=6,1,IF(MATCH(P1248&\"/\"&R1248,読み替え表_クールビズ!$P$38:$P$59,0),1,0)),0))","v":""},"","",0,0,"*"]
[null,null,1239,null,null,null,null,null,null,null,null,null,null,null,null,null,null,null,null,null,null,null,null,null,null,null,null,null,null,null,null,null,"","",{"$f":"IF($N1249=\"\",\"\",IFERROR(IF(N1249=6,1,IF(MATCH(N1249&\"/\"&R1249,読み替え表_クールビズ!$P$38:$P$59,0),1,0)),0))","v":""},{"$f":"IF($P1249=\"\",\"\",IFERROR(IF(P1249=6,1,IF(MATCH(P1249&\"/\"&R1249,読み替え表_クールビズ!$P$38:$P$59,0),1,0)),0))","v":""},"","",0,0,"*"]
[null,null,1240,null,null,null,null,null,null,null,null,null,null,null,null,null,null,null,null,null,null,null,null,null,null,null,null,null,null,null,null,null,"","",{"$f":"IF($N1250=\"\",\"\",IFERROR(IF(N1250=6,1,IF(MATCH(N1250&\"/\"&R1250,読み替え表_クールビズ!$P$38:$P$59,0),1,0)),0))","v":""},{"$f":"IF($P1250=\"\",\"\",IFERROR(IF(P1250=6,1,IF(MATCH(P1250&\"/\"&R1250,読み替え表_クールビズ!$P$38:$P$59,0),1,0)),0))","v":""},"","",0,0,"*"]
[null,null,1241,null,null,null,null,null,null,null,null,null,null,null,null,null,null,null,null,null,null,null,null,null,null,null,null,null,null,null,null,null,"","",{"$f":"IF($N1251=\"\",\"\",IFERROR(IF(N1251=6,1,IF(MATCH(N1251&\"/\"&R1251,読み替え表_クールビズ!$P$38:$P$59,0),1,0)),0))","v":""},{"$f":"IF($P1251=\"\",\"\",IFERROR(IF(P1251=6,1,IF(MATCH(P1251&\"/\"&R1251,読み替え表_クールビズ!$P$38:$P$59,0),1,0)),0))","v":""},"","",0,0,"*"]
[null,null,1242,null,null,null,null,null,null,null,null,null,null,null,null,null,null,null,null,null,null,null,null,null,null,null,null,null,null,null,null,null,"","",{"$f":"IF($N1252=\"\",\"\",IFERROR(IF(N1252=6,1,IF(MATCH(N1252&\"/\"&R1252,読み替え表_クールビズ!$P$38:$P$59,0),1,0)),0))","v":""},{"$f":"IF($P1252=\"\",\"\",IFERROR(IF(P1252=6,1,IF(MATCH(P1252&\"/\"&R1252,読み替え表_クールビズ!$P$38:$P$59,0),1,0)),0))","v":""},"","",0,0,"*"]
[null,null,1243,null,null,null,null,null,null,null,null,null,null,null,null,null,null,null,null,null,null,null,null,null,null,null,null,null,null,null,null,null,"","",{"$f":"IF($N1253=\"\",\"\",IFERROR(IF(N1253=6,1,IF(MATCH(N1253&\"/\"&R1253,読み替え表_クールビズ!$P$38:$P$59,0),1,0)),0))","v":""},{"$f":"IF($P1253=\"\",\"\",IFERROR(IF(P1253=6,1,IF(MATCH(P1253&\"/\"&R1253,読み替え表_クールビズ!$P$38:$P$59,0),1,0)),0))","v":""},"","",0,0,"*"]
[null,null,1244,null,null,null,null,null,null,null,null,null,null,null,null,null,null,null,null,null,null,null,null,null,null,null,null,null,null,null,null,null,"","",{"$f":"IF($N1254=\"\",\"\",IFERROR(IF(N1254=6,1,IF(MATCH(N1254&\"/\"&R1254,読み替え表_クールビズ!$P$38:$P$59,0),1,0)),0))","v":""},{"$f":"IF($P1254=\"\",\"\",IFERROR(IF(P1254=6,1,IF(MATCH(P1254&\"/\"&R1254,読み替え表_クールビズ!$P$38:$P$59,0),1,0)),0))","v":""},"","",0,0,"*"]
[null,null,1245,null,null,null,null,null,null,null,null,null,null,null,null,null,null,null,null,null,null,null,null,null,null,null,null,null,null,null,null,null,"","",{"$f":"IF($N1255=\"\",\"\",IFERROR(IF(N1255=6,1,IF(MATCH(N1255&\"/\"&R1255,読み替え表_クールビズ!$P$38:$P$59,0),1,0)),0))","v":""},{"$f":"IF($P1255=\"\",\"\",IFERROR(IF(P1255=6,1,IF(MATCH(P1255&\"/\"&R1255,読み替え表_クールビズ!$P$38:$P$59,0),1,0)),0))","v":""},"","",0,0,"*"]
[null,null,1246,null,null,null,null,null,null,null,null,null,null,null,null,null,null,null,null,null,null,null,null,null,null,null,null,null,null,null,null,null,"","",{"$f":"IF($N1256=\"\",\"\",IFERROR(IF(N1256=6,1,IF(MATCH(N1256&\"/\"&R1256,読み替え表_クールビズ!$P$38:$P$59,0),1,0)),0))","v":""},{"$f":"IF($P1256=\"\",\"\",IFERROR(IF(P1256=6,1,IF(MATCH(P1256&\"/\"&R1256,読み替え表_クールビズ!$P$38:$P$59,0),1,0)),0))","v":""},"","",0,0,"*"]
[null,null,1247,null,null,null,null,null,null,null,null,null,null,null,null,null,null,null,null,null,null,null,null,null,null,null,null,null,null,null,null,null,"","",{"$f":"IF($N1257=\"\",\"\",IFERROR(IF(N1257=6,1,IF(MATCH(N1257&\"/\"&R1257,読み替え表_クールビズ!$P$38:$P$59,0),1,0)),0))","v":""},{"$f":"IF($P1257=\"\",\"\",IFERROR(IF(P1257=6,1,IF(MATCH(P1257&\"/\"&R1257,読み替え表_クールビズ!$P$38:$P$59,0),1,0)),0))","v":""},"","",0,0,"*"]
[null,null,1248,null,null,null,null,null,null,null,null,null,null,null,null,null,null,null,null,null,null,null,null,null,null,null,null,null,null,null,null,null,"","",{"$f":"IF($N1258=\"\",\"\",IFERROR(IF(N1258=6,1,IF(MATCH(N1258&\"/\"&R1258,読み替え表_クールビズ!$P$38:$P$59,0),1,0)),0))","v":""},{"$f":"IF($P1258=\"\",\"\",IFERROR(IF(P1258=6,1,IF(MATCH(P1258&\"/\"&R1258,読み替え表_クールビズ!$P$38:$P$59,0),1,0)),0))","v":""},"","",0,0,"*"]
[null,null,1249,null,null,null,null,null,null,null,null,null,null,null,null,null,null,null,null,null,null,null,null,null,null,null,null,null,null,null,null,null,"","",{"$f":"IF($N1259=\"\",\"\",IFERROR(IF(N1259=6,1,IF(MATCH(N1259&\"/\"&R1259,読み替え表_クールビズ!$P$38:$P$59,0),1,0)),0))","v":""},{"$f":"IF($P1259=\"\",\"\",IFERROR(IF(P1259=6,1,IF(MATCH(P1259&\"/\"&R1259,読み替え表_クールビズ!$P$38:$P$59,0),1,0)),0))","v":""},"","",0,0,"*"]
[null,null,1250,null,null,null,null,null,null,null,null,null,null,null,null,null,null,null,null,null,null,null,null,null,null,null,null,null,null,null,null,null,"","",{"$f":"IF($N1260=\"\",\"\",IFERROR(IF(N1260=6,1,IF(MATCH(N1260&\"/\"&R1260,読み替え表_クールビズ!$P$38:$P$59,0),1,0)),0))","v":""},{"$f":"IF($P1260=\"\",\"\",IFERROR(IF(P1260=6,1,IF(MATCH(P1260&\"/\"&R1260,読み替え表_クールビズ!$P$38:$P$59,0),1,0)),0))","v":""},"","",0,0,"*"]
[null,null,1251,null,null,null,null,null,null,null,null,null,null,null,null,null,null,null,null,null,null,null,null,null,null,null,null,null,null,null,null,null,"","",{"$f":"IF($N1261=\"\",\"\",IFERROR(IF(N1261=6,1,IF(MATCH(N1261&\"/\"&R1261,読み替え表_クールビズ!$P$38:$P$59,0),1,0)),0))","v":""},{"$f":"IF($P1261=\"\",\"\",IFERROR(IF(P1261=6,1,IF(MATCH(P1261&\"/\"&R1261,読み替え表_クールビズ!$P$38:$P$59,0),1,0)),0))","v":""},"","",0,0,"*"]
[null,null,1252,null,null,null,null,null,null,null,null,null,null,null,null,null,null,null,null,null,null,null,null,null,null,null,null,null,null,null,null,null,"","",{"$f":"IF($N1262=\"\",\"\",IFERROR(IF(N1262=6,1,IF(MATCH(N1262&\"/\"&R1262,読み替え表_クールビズ!$P$38:$P$59,0),1,0)),0))","v":""},{"$f":"IF($P1262=\"\",\"\",IFERROR(IF(P1262=6,1,IF(MATCH(P1262&\"/\"&R1262,読み替え表_クールビズ!$P$38:$P$59,0),1,0)),0))","v":""},"","",0,0,"*"]
[null,null,1253,null,null,null,null,null,null,null,null,null,null,null,null,null,null,null,null,null,null,null,null,null,null,null,null,null,null,null,null,null,"","",{"$f":"IF($N1263=\"\",\"\",IFERROR(IF(N1263=6,1,IF(MATCH(N1263&\"/\"&R1263,読み替え表_クールビズ!$P$38:$P$59,0),1,0)),0))","v":""},{"$f":"IF($P1263=\"\",\"\",IFERROR(IF(P1263=6,1,IF(MATCH(P1263&\"/\"&R1263,読み替え表_クールビズ!$P$38:$P$59,0),1,0)),0))","v":""},"","",0,0,"*"]
[null,null,1254,null,null,null,null,null,null,null,null,null,null,null,null,null,null,null,null,null,null,null,null,null,null,null,null,null,null,null,null,null,"","",{"$f":"IF($N1264=\"\",\"\",IFERROR(IF(N1264=6,1,IF(MATCH(N1264&\"/\"&R1264,読み替え表_クールビズ!$P$38:$P$59,0),1,0)),0))","v":""},{"$f":"IF($P1264=\"\",\"\",IFERROR(IF(P1264=6,1,IF(MATCH(P1264&\"/\"&R1264,読み替え表_クールビズ!$P$38:$P$59,0),1,0)),0))","v":""},"","",0,0,"*"]
[null,null,1255,null,null,null,null,null,null,null,null,null,null,null,null,null,null,null,null,null,null,null,null,null,null,null,null,null,null,null,null,null,"","",{"$f":"IF($N1265=\"\",\"\",IFERROR(IF(N1265=6,1,IF(MATCH(N1265&\"/\"&R1265,読み替え表_クールビズ!$P$38:$P$59,0),1,0)),0))","v":""},{"$f":"IF($P1265=\"\",\"\",IFERROR(IF(P1265=6,1,IF(MATCH(P1265&\"/\"&R1265,読み替え表_クールビズ!$P$38:$P$59,0),1,0)),0))","v":""},"","",0,0,"*"]
[null,null,1256,null,null,null,null,null,null,null,null,null,null,null,null,null,null,null,null,null,null,null,null,null,null,null,null,null,null,null,null,null,"","",{"$f":"IF($N1266=\"\",\"\",IFERROR(IF(N1266=6,1,IF(MATCH(N1266&\"/\"&R1266,読み替え表_クールビズ!$P$38:$P$59,0),1,0)),0))","v":""},{"$f":"IF($P1266=\"\",\"\",IFERROR(IF(P1266=6,1,IF(MATCH(P1266&\"/\"&R1266,読み替え表_クールビズ!$P$38:$P$59,0),1,0)),0))","v":""},"","",0,0,"*"]
[null,null,1257,null,null,null,null,null,null,null,null,null,null,null,null,null,null,null,null,null,null,null,null,null,null,null,null,null,null,null,null,null,"","",{"$f":"IF($N1267=\"\",\"\",IFERROR(IF(N1267=6,1,IF(MATCH(N1267&\"/\"&R1267,読み替え表_クールビズ!$P$38:$P$59,0),1,0)),0))","v":""},{"$f":"IF($P1267=\"\",\"\",IFERROR(IF(P1267=6,1,IF(MATCH(P1267&\"/\"&R1267,読み替え表_クールビズ!$P$38:$P$59,0),1,0)),0))","v":""},"","",0,0,"*"]
[null,null,1258,null,null,null,null,null,null,null,null,null,null,null,null,null,null,null,null,null,null,null,null,null,null,null,null,null,null,null,null,null,"","",{"$f":"IF($N1268=\"\",\"\",IFERROR(IF(N1268=6,1,IF(MATCH(N1268&\"/\"&R1268,読み替え表_クールビズ!$P$38:$P$59,0),1,0)),0))","v":""},{"$f":"IF($P1268=\"\",\"\",IFERROR(IF(P1268=6,1,IF(MATCH(P1268&\"/\"&R1268,読み替え表_クールビズ!$P$38:$P$59,0),1,0)),0))","v":""},"","",0,0,"*"]
[null,null,1259,null,null,null,null,null,null,null,null,null,null,null,null,null,null,null,null,null,null,null,null,null,null,null,null,null,null,null,null,null,"","",{"$f":"IF($N1269=\"\",\"\",IFERROR(IF(N1269=6,1,IF(MATCH(N1269&\"/\"&R1269,読み替え表_クールビズ!$P$38:$P$59,0),1,0)),0))","v":""},{"$f":"IF($P1269=\"\",\"\",IFERROR(IF(P1269=6,1,IF(MATCH(P1269&\"/\"&R1269,読み替え表_クールビズ!$P$38:$P$59,0),1,0)),0))","v":""},"","",0,0,"*"]
[null,null,1260,null,null,null,null,null,null,null,null,null,null,null,null,null,null,null,null,null,null,null,null,null,null,null,null,null,null,null,null,null,"","",{"$f":"IF($N1270=\"\",\"\",IFERROR(IF(N1270=6,1,IF(MATCH(N1270&\"/\"&R1270,読み替え表_クールビズ!$P$38:$P$59,0),1,0)),0))","v":""},{"$f":"IF($P1270=\"\",\"\",IFERROR(IF(P1270=6,1,IF(MATCH(P1270&\"/\"&R1270,読み替え表_クールビズ!$P$38:$P$59,0),1,0)),0))","v":""},"","",0,0,"*"]
[null,null,1261,null,null,null,null,null,null,null,null,null,null,null,null,null,null,null,null,null,null,null,null,null,null,null,null,null,null,null,null,null,"","",{"$f":"IF($N1271=\"\",\"\",IFERROR(IF(N1271=6,1,IF(MATCH(N1271&\"/\"&R1271,読み替え表_クールビズ!$P$38:$P$59,0),1,0)),0))","v":""},{"$f":"IF($P1271=\"\",\"\",IFERROR(IF(P1271=6,1,IF(MATCH(P1271&\"/\"&R1271,読み替え表_クールビズ!$P$38:$P$59,0),1,0)),0))","v":""},"","",0,0,"*"]
[null,null,1262,null,null,null,null,null,null,null,null,null,null,null,null,null,null,null,null,null,null,null,null,null,null,null,null,null,null,null,null,null,"","",{"$f":"IF($N1272=\"\",\"\",IFERROR(IF(N1272=6,1,IF(MATCH(N1272&\"/\"&R1272,読み替え表_クールビズ!$P$38:$P$59,0),1,0)),0))","v":""},{"$f":"IF($P1272=\"\",\"\",IFERROR(IF(P1272=6,1,IF(MATCH(P1272&\"/\"&R1272,読み替え表_クールビズ!$P$38:$P$59,0),1,0)),0))","v":""},"","",0,0,"*"]
[null,null,1263,null,null,null,null,null,null,null,null,null,null,null,null,null,null,null,null,null,null,null,null,null,null,null,null,null,null,null,null,null,"","",{"$f":"IF($N1273=\"\",\"\",IFERROR(IF(N1273=6,1,IF(MATCH(N1273&\"/\"&R1273,読み替え表_クールビズ!$P$38:$P$59,0),1,0)),0))","v":""},{"$f":"IF($P1273=\"\",\"\",IFERROR(IF(P1273=6,1,IF(MATCH(P1273&\"/\"&R1273,読み替え表_クールビズ!$P$38:$P$59,0),1,0)),0))","v":""},"","",0,0,"*"]
[null,null,1264,null,null,null,null,null,null,null,null,null,null,null,null,null,null,null,null,null,null,null,null,null,null,null,null,null,null,null,null,null,"","",{"$f":"IF($N1274=\"\",\"\",IFERROR(IF(N1274=6,1,IF(MATCH(N1274&\"/\"&R1274,読み替え表_クールビズ!$P$38:$P$59,0),1,0)),0))","v":""},{"$f":"IF($P1274=\"\",\"\",IFERROR(IF(P1274=6,1,IF(MATCH(P1274&\"/\"&R1274,読み替え表_クールビズ!$P$38:$P$59,0),1,0)),0))","v":""},"","",0,0,"*"]
[null,null,1265,null,null,null,null,null,null,null,null,null,null,null,null,null,null,null,null,null,null,null,null,null,null,null,null,null,null,null,null,null,"","",{"$f":"IF($N1275=\"\",\"\",IFERROR(IF(N1275=6,1,IF(MATCH(N1275&\"/\"&R1275,読み替え表_クールビズ!$P$38:$P$59,0),1,0)),0))","v":""},{"$f":"IF($P1275=\"\",\"\",IFERROR(IF(P1275=6,1,IF(MATCH(P1275&\"/\"&R1275,読み替え表_クールビズ!$P$38:$P$59,0),1,0)),0))","v":""},"","",0,0,"*"]
[null,null,1266,null,null,null,null,null,null,null,null,null,null,null,null,null,null,null,null,null,null,null,null,null,null,null,null,null,null,null,null,null,"","",{"$f":"IF($N1276=\"\",\"\",IFERROR(IF(N1276=6,1,IF(MATCH(N1276&\"/\"&R1276,読み替え表_クールビズ!$P$38:$P$59,0),1,0)),0))","v":""},{"$f":"IF($P1276=\"\",\"\",IFERROR(IF(P1276=6,1,IF(MATCH(P1276&\"/\"&R1276,読み替え表_クールビズ!$P$38:$P$59,0),1,0)),0))","v":""},"","",0,0,"*"]
[null,null,1267,null,null,null,null,null,null,null,null,null,null,null,null,null,null,null,null,null,null,null,null,null,null,null,null,null,null,null,null,null,"","",{"$f":"IF($N1277=\"\",\"\",IFERROR(IF(N1277=6,1,IF(MATCH(N1277&\"/\"&R1277,読み替え表_クールビズ!$P$38:$P$59,0),1,0)),0))","v":""},{"$f":"IF($P1277=\"\",\"\",IFERROR(IF(P1277=6,1,IF(MATCH(P1277&\"/\"&R1277,読み替え表_クールビズ!$P$38:$P$59,0),1,0)),0))","v":""},"","",0,0,"*"]
[null,null,1268,null,null,null,null,null,null,null,null,null,null,null,null,null,null,null,null,null,null,null,null,null,null,null,null,null,null,null,null,null,"","",{"$f":"IF($N1278=\"\",\"\",IFERROR(IF(N1278=6,1,IF(MATCH(N1278&\"/\"&R1278,読み替え表_クールビズ!$P$38:$P$59,0),1,0)),0))","v":""},{"$f":"IF($P1278=\"\",\"\",IFERROR(IF(P1278=6,1,IF(MATCH(P1278&\"/\"&R1278,読み替え表_クールビズ!$P$38:$P$59,0),1,0)),0))","v":""},"","",0,0,"*"]
[null,null,1269,null,null,null,null,null,null,null,null,null,null,null,null,null,null,null,null,null,null,null,null,null,null,null,null,null,null,null,null,null,"","",{"$f":"IF($N1279=\"\",\"\",IFERROR(IF(N1279=6,1,IF(MATCH(N1279&\"/\"&R1279,読み替え表_クールビズ!$P$38:$P$59,0),1,0)),0))","v":""},{"$f":"IF($P1279=\"\",\"\",IFERROR(IF(P1279=6,1,IF(MATCH(P1279&\"/\"&R1279,読み替え表_クールビズ!$P$38:$P$59,0),1,0)),0))","v":""},"","",0,0,"*"]
[null,null,1270,null,null,null,null,null,null,null,null,null,null,null,null,null,null,null,null,null,null,null,null,null,null,null,null,null,null,null,null,null,"","",{"$f":"IF($N1280=\"\",\"\",IFERROR(IF(N1280=6,1,IF(MATCH(N1280&\"/\"&R1280,読み替え表_クールビズ!$P$38:$P$59,0),1,0)),0))","v":""},{"$f":"IF($P1280=\"\",\"\",IFERROR(IF(P1280=6,1,IF(MATCH(P1280&\"/\"&R1280,読み替え表_クールビズ!$P$38:$P$59,0),1,0)),0))","v":""},"","",0,0,"*"]
[null,null,1271,null,null,null,null,null,null,null,null,null,null,null,null,null,null,null,null,null,null,null,null,null,null,null,null,null,null,null,null,null,"","",{"$f":"IF($N1281=\"\",\"\",IFERROR(IF(N1281=6,1,IF(MATCH(N1281&\"/\"&R1281,読み替え表_クールビズ!$P$38:$P$59,0),1,0)),0))","v":""},{"$f":"IF($P1281=\"\",\"\",IFERROR(IF(P1281=6,1,IF(MATCH(P1281&\"/\"&R1281,読み替え表_クールビズ!$P$38:$P$59,0),1,0)),0))","v":""},"","",0,0,"*"]
[null,null,1272,null,null,null,null,null,null,null,null,null,null,null,null,null,null,null,null,null,null,null,null,null,null,null,null,null,null,null,null,null,"","",{"$f":"IF($N1282=\"\",\"\",IFERROR(IF(N1282=6,1,IF(MATCH(N1282&\"/\"&R1282,読み替え表_クールビズ!$P$38:$P$59,0),1,0)),0))","v":""},{"$f":"IF($P1282=\"\",\"\",IFERROR(IF(P1282=6,1,IF(MATCH(P1282&\"/\"&R1282,読み替え表_クールビズ!$P$38:$P$59,0),1,0)),0))","v":""},"","",0,0,"*"]
[null,null,1273,null,null,null,null,null,null,null,null,null,null,null,null,null,null,null,null,null,null,null,null,null,null,null,null,null,null,null,null,null,"","",{"$f":"IF($N1283=\"\",\"\",IFERROR(IF(N1283=6,1,IF(MATCH(N1283&\"/\"&R1283,読み替え表_クールビズ!$P$38:$P$59,0),1,0)),0))","v":""},{"$f":"IF($P1283=\"\",\"\",IFERROR(IF(P1283=6,1,IF(MATCH(P1283&\"/\"&R1283,読み替え表_クールビズ!$P$38:$P$59,0),1,0)),0))","v":""},"","",0,0,"*"]
[null,null,1274,null,null,null,null,null,null,null,null,null,null,null,null,null,null,null,null,null,null,null,null,null,null,null,null,null,null,null,null,null,"","",{"$f":"IF($N1284=\"\",\"\",IFERROR(IF(N1284=6,1,IF(MATCH(N1284&\"/\"&R1284,読み替え表_クールビズ!$P$38:$P$59,0),1,0)),0))","v":""},{"$f":"IF($P1284=\"\",\"\",IFERROR(IF(P1284=6,1,IF(MATCH(P1284&\"/\"&R1284,読み替え表_クールビズ!$P$38:$P$59,0),1,0)),0))","v":""},"","",0,0,"*"]
[null,null,1275,null,null,null,null,null,null,null,null,null,null,null,null,null,null,null,null,null,null,null,null,null,null,null,null,null,null,null,null,null,"","",{"$f":"IF($N1285=\"\",\"\",IFERROR(IF(N1285=6,1,IF(MATCH(N1285&\"/\"&R1285,読み替え表_クールビズ!$P$38:$P$59,0),1,0)),0))","v":""},{"$f":"IF($P1285=\"\",\"\",IFERROR(IF(P1285=6,1,IF(MATCH(P1285&\"/\"&R1285,読み替え表_クールビズ!$P$38:$P$59,0),1,0)),0))","v":""},"","",0,0,"*"]
[null,null,1276,null,null,null,null,null,null,null,null,null,null,null,null,null,null,null,null,null,null,null,null,null,null,null,null,null,null,null,null,null,"","",{"$f":"IF($N1286=\"\",\"\",IFERROR(IF(N1286=6,1,IF(MATCH(N1286&\"/\"&R1286,読み替え表_クールビズ!$P$38:$P$59,0),1,0)),0))","v":""},{"$f":"IF($P1286=\"\",\"\",IFERROR(IF(P1286=6,1,IF(MATCH(P1286&\"/\"&R1286,読み替え表_クールビズ!$P$38:$P$59,0),1,0)),0))","v":""},"","",0,0,"*"]
[null,null,1277,null,null,null,null,null,null,null,null,null,null,null,null,null,null,null,null,null,null,null,null,null,null,null,null,null,null,null,null,null,"","",{"$f":"IF($N1287=\"\",\"\",IFERROR(IF(N1287=6,1,IF(MATCH(N1287&\"/\"&R1287,読み替え表_クールビズ!$P$38:$P$59,0),1,0)),0))","v":""},{"$f":"IF($P1287=\"\",\"\",IFERROR(IF(P1287=6,1,IF(MATCH(P1287&\"/\"&R1287,読み替え表_クールビズ!$P$38:$P$59,0),1,0)),0))","v":""},"","",0,0,"*"]
[null,null,1278,null,null,null,null,null,null,null,null,null,null,null,null,null,null,null,null,null,null,null,null,null,null,null,null,null,null,null,null,null,"","",{"$f":"IF($N1288=\"\",\"\",IFERROR(IF(N1288=6,1,IF(MATCH(N1288&\"/\"&R1288,読み替え表_クールビズ!$P$38:$P$59,0),1,0)),0))","v":""},{"$f":"IF($P1288=\"\",\"\",IFERROR(IF(P1288=6,1,IF(MATCH(P1288&\"/\"&R1288,読み替え表_クールビズ!$P$38:$P$59,0),1,0)),0))","v":""},"","",0,0,"*"]
[null,null,1279,null,null,null,null,null,null,null,null,null,null,null,null,null,null,null,null,null,null,null,null,null,null,null,null,null,null,null,null,null,"","",{"$f":"IF($N1289=\"\",\"\",IFERROR(IF(N1289=6,1,IF(MATCH(N1289&\"/\"&R1289,読み替え表_クールビズ!$P$38:$P$59,0),1,0)),0))","v":""},{"$f":"IF($P1289=\"\",\"\",IFERROR(IF(P1289=6,1,IF(MATCH(P1289&\"/\"&R1289,読み替え表_クールビズ!$P$38:$P$59,0),1,0)),0))","v":""},"","",0,0,"*"]
[null,null,1280,null,null,null,null,null,null,null,null,null,null,null,null,null,null,null,null,null,null,null,null,null,null,null,null,null,null,null,null,null,"","",{"$f":"IF($N1290=\"\",\"\",IFERROR(IF(N1290=6,1,IF(MATCH(N1290&\"/\"&R1290,読み替え表_クールビズ!$P$38:$P$59,0),1,0)),0))","v":""},{"$f":"IF($P1290=\"\",\"\",IFERROR(IF(P1290=6,1,IF(MATCH(P1290&\"/\"&R1290,読み替え表_クールビズ!$P$38:$P$59,0),1,0)),0))","v":""},"","",0,0,"*"]
[null,null,1281,null,null,null,null,null,null,null,null,null,null,null,null,null,null,null,null,null,null,null,null,null,null,null,null,null,null,null,null,null,"","",{"$f":"IF($N1291=\"\",\"\",IFERROR(IF(N1291=6,1,IF(MATCH(N1291&\"/\"&R1291,読み替え表_クールビズ!$P$38:$P$59,0),1,0)),0))","v":""},{"$f":"IF($P1291=\"\",\"\",IFERROR(IF(P1291=6,1,IF(MATCH(P1291&\"/\"&R1291,読み替え表_クールビズ!$P$38:$P$59,0),1,0)),0))","v":""},{"$f":"IF($N1291=\"\",\"\",IF(OR(CONCATENATE(N1291,$R1291)=\"22\",CONCATENATE(N1291,$R1291)=\"32\",CONCATENATE(N1291,$R1291)=\"42\",CONCATENATE(N1291,$R1291)=\"43\",CONCATENATE(N1291,$R1291)=\"51\",CONCATENATE(N1291,$R1291)=\"52\",CONCATENATE(N1291,$R1291)=\"53\"),1,0))","v":""},{"$f":"IF($P1291=\"\",\"\",IF(OR(CONCATENATE(P1291,$R1291)=\"22\",CONCATENATE(P1291,$R1291)=\"32\",CONCATENATE(P1291,$R1291)=\"42\",CONCATENATE(P1291,$R1291)=\"43\",CONCATENATE(P1291,$R1291)=\"51\",CONCATENATE(P1291,$R1291)=\"52\",CONCATENATE(P1291,$R1291)=\"53\"),1,0))","v":""},0,0,"*"]
[null,null,{"$f":"ROW()-10","v":1282},null,null,null,null,null,null,null,null,null,null,null,null,null,null,null,null,null,null,null,null,null,null,null,null,null,null,null,null,null,{"$f":"IF($J1292=\"\",\"\",IF(AND($J1292>=1,$J1292<=9),1,0))","v":""},{"$f":"IF($R1292=\"\",\"\",IF(OR($R1292=1,$R1292=2,$R1292=3),1,0))","v":""},{"$f":"IF($N1292=\"\",\"\",IFERROR(IF(N1292=6,1,IF(MATCH(N1292&\"/\"&R1292,読み替え表_クールビズ!$P$38:$P$59,0),1,0)),0))","v":""},{"$f":"IF($P1292=\"\",\"\",IFERROR(IF(P1292=6,1,IF(MATCH(P1292&\"/\"&R1292,読み替え表_クールビズ!$P$38:$P$59,0),1,0)),0))","v":""},"","",{"$f":"IF(OR(AK1292=1,AL1292=1),1,0)","v":0},{"$f":"IF(OR($AG1292=0,SUM(AI1292:AJ1292)=2),1,0)","v":0},"*"]
[null,null,1283,null,null,null,null,null,null,null,null,null,null,null,null,null,null,null,null,null,null,null,null,null,null,null,null,null,null,null,null,null,"","",{"$f":"IF($N1293=\"\",\"\",IFERROR(IF(N1293=6,1,IF(MATCH(N1293&\"/\"&R1293,読み替え表_クールビズ!$P$38:$P$59,0),1,0)),0))","v":""},{"$f":"IF($P1293=\"\",\"\",IFERROR(IF(P1293=6,1,IF(MATCH(P1293&\"/\"&R1293,読み替え表_クールビズ!$P$38:$P$59,0),1,0)),0))","v":""},"","",0,0,"*"]
[null,null,1284,null,null,null,null,null,null,null,null,null,null,null,null,null,null,null,null,null,null,null,null,null,null,null,null,null,null,null,null,null,"","",{"$f":"IF($N1294=\"\",\"\",IFERROR(IF(N1294=6,1,IF(MATCH(N1294&\"/\"&R1294,読み替え表_クールビズ!$P$38:$P$59,0),1,0)),0))","v":""},{"$f":"IF($P1294=\"\",\"\",IFERROR(IF(P1294=6,1,IF(MATCH(P1294&\"/\"&R1294,読み替え表_クールビズ!$P$38:$P$59,0),1,0)),0))","v":""},"","",0,0,"*"]
[null,null,1285,null,null,null,null,null,null,null,null,null,null,null,null,null,null,null,null,null,null,null,null,null,null,null,null,null,null,null,null,null,"","",{"$f":"IF($N1295=\"\",\"\",IFERROR(IF(N1295=6,1,IF(MATCH(N1295&\"/\"&R1295,読み替え表_クールビズ!$P$38:$P$59,0),1,0)),0))","v":""},{"$f":"IF($P1295=\"\",\"\",IFERROR(IF(P1295=6,1,IF(MATCH(P1295&\"/\"&R1295,読み替え表_クールビズ!$P$38:$P$59,0),1,0)),0))","v":""},"","",0,0,"*"]
[null,null,1286,null,null,null,null,null,null,null,null,null,null,null,null,null,null,null,null,null,null,null,null,null,null,null,null,null,null,null,null,null,"","",{"$f":"IF($N1296=\"\",\"\",IFERROR(IF(N1296=6,1,IF(MATCH(N1296&\"/\"&R1296,読み替え表_クールビズ!$P$38:$P$59,0),1,0)),0))","v":""},{"$f":"IF($P1296=\"\",\"\",IFERROR(IF(P1296=6,1,IF(MATCH(P1296&\"/\"&R1296,読み替え表_クールビズ!$P$38:$P$59,0),1,0)),0))","v":""},"","",0,0,"*"]
[null,null,1287,null,null,null,null,null,null,null,null,null,null,null,null,null,null,null,null,null,null,null,null,null,null,null,null,null,null,null,null,null,"","",{"$f":"IF($N1297=\"\",\"\",IFERROR(IF(N1297=6,1,IF(MATCH(N1297&\"/\"&R1297,読み替え表_クールビズ!$P$38:$P$59,0),1,0)),0))","v":""},{"$f":"IF($P1297=\"\",\"\",IFERROR(IF(P1297=6,1,IF(MATCH(P1297&\"/\"&R1297,読み替え表_クールビズ!$P$38:$P$59,0),1,0)),0))","v":""},"","",0,0,"*"]
[null,null,1288,null,null,null,null,null,null,null,null,null,null,null,null,null,null,null,null,null,null,null,null,null,null,null,null,null,null,null,null,null,"","",{"$f":"IF($N1298=\"\",\"\",IFERROR(IF(N1298=6,1,IF(MATCH(N1298&\"/\"&R1298,読み替え表_クールビズ!$P$38:$P$59,0),1,0)),0))","v":""},{"$f":"IF($P1298=\"\",\"\",IFERROR(IF(P1298=6,1,IF(MATCH(P1298&\"/\"&R1298,読み替え表_クールビズ!$P$38:$P$59,0),1,0)),0))","v":""},"","",0,0,"*"]
[null,null,1289,null,null,null,null,null,null,null,null,null,null,null,null,null,null,null,null,null,null,null,null,null,null,null,null,null,null,null,null,null,"","",{"$f":"IF($N1299=\"\",\"\",IFERROR(IF(N1299=6,1,IF(MATCH(N1299&\"/\"&R1299,読み替え表_クールビズ!$P$38:$P$59,0),1,0)),0))","v":""},{"$f":"IF($P1299=\"\",\"\",IFERROR(IF(P1299=6,1,IF(MATCH(P1299&\"/\"&R1299,読み替え表_クールビズ!$P$38:$P$59,0),1,0)),0))","v":""},"","",0,0,"*"]
[null,null,1290,null,null,null,null,null,null,null,null,null,null,null,null,null,null,null,null,null,null,null,null,null,null,null,null,null,null,null,null,null,"","",{"$f":"IF($N1300=\"\",\"\",IFERROR(IF(N1300=6,1,IF(MATCH(N1300&\"/\"&R1300,読み替え表_クールビズ!$P$38:$P$59,0),1,0)),0))","v":""},{"$f":"IF($P1300=\"\",\"\",IFERROR(IF(P1300=6,1,IF(MATCH(P1300&\"/\"&R1300,読み替え表_クールビズ!$P$38:$P$59,0),1,0)),0))","v":""},"","",0,0,"*"]
[null,null,1291,null,null,null,null,null,null,null,null,null,null,null,null,null,null,null,null,null,null,null,null,null,null,null,null,null,null,null,null,null,"","",{"$f":"IF($N1301=\"\",\"\",IFERROR(IF(N1301=6,1,IF(MATCH(N1301&\"/\"&R1301,読み替え表_クールビズ!$P$38:$P$59,0),1,0)),0))","v":""},{"$f":"IF($P1301=\"\",\"\",IFERROR(IF(P1301=6,1,IF(MATCH(P1301&\"/\"&R1301,読み替え表_クールビズ!$P$38:$P$59,0),1,0)),0))","v":""},"","",0,0,"*"]
[null,null,1292,null,null,null,null,null,null,null,null,null,null,null,null,null,null,null,null,null,null,null,null,null,null,null,null,null,null,null,null,null,"","",{"$f":"IF($N1302=\"\",\"\",IFERROR(IF(N1302=6,1,IF(MATCH(N1302&\"/\"&R1302,読み替え表_クールビズ!$P$38:$P$59,0),1,0)),0))","v":""},{"$f":"IF($P1302=\"\",\"\",IFERROR(IF(P1302=6,1,IF(MATCH(P1302&\"/\"&R1302,読み替え表_クールビズ!$P$38:$P$59,0),1,0)),0))","v":""},"","",0,0,"*"]
[null,null,1293,null,null,null,null,null,null,null,null,null,null,null,null,null,null,null,null,null,null,null,null,null,null,null,null,null,null,null,null,null,"","",{"$f":"IF($N1303=\"\",\"\",IFERROR(IF(N1303=6,1,IF(MATCH(N1303&\"/\"&R1303,読み替え表_クールビズ!$P$38:$P$59,0),1,0)),0))","v":""},{"$f":"IF($P1303=\"\",\"\",IFERROR(IF(P1303=6,1,IF(MATCH(P1303&\"/\"&R1303,読み替え表_クールビズ!$P$38:$P$59,0),1,0)),0))","v":""},"","",0,0,"*"]
[null,null,1294,null,null,null,null,null,null,null,null,null,null,null,null,null,null,null,null,null,null,null,null,null,null,null,null,null,null,null,null,null,"","",{"$f":"IF($N1304=\"\",\"\",IFERROR(IF(N1304=6,1,IF(MATCH(N1304&\"/\"&R1304,読み替え表_クールビズ!$P$38:$P$59,0),1,0)),0))","v":""},{"$f":"IF($P1304=\"\",\"\",IFERROR(IF(P1304=6,1,IF(MATCH(P1304&\"/\"&R1304,読み替え表_クールビズ!$P$38:$P$59,0),1,0)),0))","v":""},"","",0,0,"*"]
[null,null,1295,null,null,null,null,null,null,null,null,null,null,null,null,null,null,null,null,null,null,null,null,null,null,null,null,null,null,null,null,null,"","",{"$f":"IF($N1305=\"\",\"\",IFERROR(IF(N1305=6,1,IF(MATCH(N1305&\"/\"&R1305,読み替え表_クールビズ!$P$38:$P$59,0),1,0)),0))","v":""},{"$f":"IF($P1305=\"\",\"\",IFERROR(IF(P1305=6,1,IF(MATCH(P1305&\"/\"&R1305,読み替え表_クールビズ!$P$38:$P$59,0),1,0)),0))","v":""},"","",0,0,"*"]
[null,null,1296,null,null,null,null,null,null,null,null,null,null,null,null,null,null,null,null,null,null,null,null,null,null,null,null,null,null,null,null,null,"","",{"$f":"IF($N1306=\"\",\"\",IFERROR(IF(N1306=6,1,IF(MATCH(N1306&\"/\"&R1306,読み替え表_クールビズ!$P$38:$P$59,0),1,0)),0))","v":""},{"$f":"IF($P1306=\"\",\"\",IFERROR(IF(P1306=6,1,IF(MATCH(P1306&\"/\"&R1306,読み替え表_クールビズ!$P$38:$P$59,0),1,0)),0))","v":""},"","",0,0,"*"]
[null,null,1297,null,null,null,null,null,null,null,null,null,null,null,null,null,null,null,null,null,null,null,null,null,null,null,null,null,null,null,null,null,"","",{"$f":"IF($N1307=\"\",\"\",IFERROR(IF(N1307=6,1,IF(MATCH(N1307&\"/\"&R1307,読み替え表_クールビズ!$P$38:$P$59,0),1,0)),0))","v":""},{"$f":"IF($P1307=\"\",\"\",IFERROR(IF(P1307=6,1,IF(MATCH(P1307&\"/\"&R1307,読み替え表_クールビズ!$P$38:$P$59,0),1,0)),0))","v":""},"","",0,0,"*"]
[null,null,1298,null,null,null,null,null,null,null,null,null,null,null,null,null,null,null,null,null,null,null,null,null,null,null,null,null,null,null,null,null,"","",{"$f":"IF($N1308=\"\",\"\",IFERROR(IF(N1308=6,1,IF(MATCH(N1308&\"/\"&R1308,読み替え表_クールビズ!$P$38:$P$59,0),1,0)),0))","v":""},{"$f":"IF($P1308=\"\",\"\",IFERROR(IF(P1308=6,1,IF(MATCH(P1308&\"/\"&R1308,読み替え表_クールビズ!$P$38:$P$59,0),1,0)),0))","v":""},"","",0,0,"*"]
[null,null,1299,null,null,null,null,null,null,null,null,null,null,null,null,null,null,null,null,null,null,null,null,null,null,null,null,null,null,null,null,null,"","",{"$f":"IF($N1309=\"\",\"\",IFERROR(IF(N1309=6,1,IF(MATCH(N1309&\"/\"&R1309,読み替え表_クールビズ!$P$38:$P$59,0),1,0)),0))","v":""},{"$f":"IF($P1309=\"\",\"\",IFERROR(IF(P1309=6,1,IF(MATCH(P1309&\"/\"&R1309,読み替え表_クールビズ!$P$38:$P$59,0),1,0)),0))","v":""},"","",0,0,"*"]
[null,null,1300,null,null,null,null,null,null,null,null,null,null,null,null,null,null,null,null,null,null,null,null,null,null,null,null,null,null,null,null,null,"","",{"$f":"IF($N1310=\"\",\"\",IFERROR(IF(N1310=6,1,IF(MATCH(N1310&\"/\"&R1310,読み替え表_クールビズ!$P$38:$P$59,0),1,0)),0))","v":""},{"$f":"IF($P1310=\"\",\"\",IFERROR(IF(P1310=6,1,IF(MATCH(P1310&\"/\"&R1310,読み替え表_クールビズ!$P$38:$P$59,0),1,0)),0))","v":""},"","",0,0,"*"]
[null,null,1301,null,null,null,null,null,null,null,null,null,null,null,null,null,null,null,null,null,null,null,null,null,null,null,null,null,null,null,null,null,"","",{"$f":"IF($N1311=\"\",\"\",IFERROR(IF(N1311=6,1,IF(MATCH(N1311&\"/\"&R1311,読み替え表_クールビズ!$P$38:$P$59,0),1,0)),0))","v":""},{"$f":"IF($P1311=\"\",\"\",IFERROR(IF(P1311=6,1,IF(MATCH(P1311&\"/\"&R1311,読み替え表_クールビズ!$P$38:$P$59,0),1,0)),0))","v":""},"","",0,0,"*"]
[null,null,1302,null,null,null,null,null,null,null,null,null,null,null,null,null,null,null,null,null,null,null,null,null,null,null,null,null,null,null,null,null,"","",{"$f":"IF($N1312=\"\",\"\",IFERROR(IF(N1312=6,1,IF(MATCH(N1312&\"/\"&R1312,読み替え表_クールビズ!$P$38:$P$59,0),1,0)),0))","v":""},{"$f":"IF($P1312=\"\",\"\",IFERROR(IF(P1312=6,1,IF(MATCH(P1312&\"/\"&R1312,読み替え表_クールビズ!$P$38:$P$59,0),1,0)),0))","v":""},"","",0,0,"*"]
[null,null,1303,null,null,null,null,null,null,null,null,null,null,null,null,null,null,null,null,null,null,null,null,null,null,null,null,null,null,null,null,null,"","",{"$f":"IF($N1313=\"\",\"\",IFERROR(IF(N1313=6,1,IF(MATCH(N1313&\"/\"&R1313,読み替え表_クールビズ!$P$38:$P$59,0),1,0)),0))","v":""},{"$f":"IF($P1313=\"\",\"\",IFERROR(IF(P1313=6,1,IF(MATCH(P1313&\"/\"&R1313,読み替え表_クールビズ!$P$38:$P$59,0),1,0)),0))","v":""},"","",0,0,"*"]
[null,null,1304,null,null,null,null,null,null,null,null,null,null,null,null,null,null,null,null,null,null,null,null,null,null,null,null,null,null,null,null,null,"","",{"$f":"IF($N1314=\"\",\"\",IFERROR(IF(N1314=6,1,IF(MATCH(N1314&\"/\"&R1314,読み替え表_クールビズ!$P$38:$P$59,0),1,0)),0))","v":""},{"$f":"IF($P1314=\"\",\"\",IFERROR(IF(P1314=6,1,IF(MATCH(P1314&\"/\"&R1314,読み替え表_クールビズ!$P$38:$P$59,0),1,0)),0))","v":""},"","",0,0,"*"]
[null,null,1305,null,null,null,null,null,null,null,null,null,null,null,null,null,null,null,null,null,null,null,null,null,null,null,null,null,null,null,null,null,"","",{"$f":"IF($N1315=\"\",\"\",IFERROR(IF(N1315=6,1,IF(MATCH(N1315&\"/\"&R1315,読み替え表_クールビズ!$P$38:$P$59,0),1,0)),0))","v":""},{"$f":"IF($P1315=\"\",\"\",IFERROR(IF(P1315=6,1,IF(MATCH(P1315&\"/\"&R1315,読み替え表_クールビズ!$P$38:$P$59,0),1,0)),0))","v":""},"","",0,0,"*"]
[null,null,1306,null,null,null,null,null,null,null,null,null,null,null,null,null,null,null,null,null,null,null,null,null,null,null,null,null,null,null,null,null,"","",{"$f":"IF($N1316=\"\",\"\",IFERROR(IF(N1316=6,1,IF(MATCH(N1316&\"/\"&R1316,読み替え表_クールビズ!$P$38:$P$59,0),1,0)),0))","v":""},{"$f":"IF($P1316=\"\",\"\",IFERROR(IF(P1316=6,1,IF(MATCH(P1316&\"/\"&R1316,読み替え表_クールビズ!$P$38:$P$59,0),1,0)),0))","v":""},"","",0,0,"*"]
[null,null,1307,null,null,null,null,null,null,null,null,null,null,null,null,null,null,null,null,null,null,null,null,null,null,null,null,null,null,null,null,null,"","",{"$f":"IF($N1317=\"\",\"\",IFERROR(IF(N1317=6,1,IF(MATCH(N1317&\"/\"&R1317,読み替え表_クールビズ!$P$38:$P$59,0),1,0)),0))","v":""},{"$f":"IF($P1317=\"\",\"\",IFERROR(IF(P1317=6,1,IF(MATCH(P1317&\"/\"&R1317,読み替え表_クールビズ!$P$38:$P$59,0),1,0)),0))","v":""},"","",0,0,"*"]
[null,null,1308,null,null,null,null,null,null,null,null,null,null,null,null,null,null,null,null,null,null,null,null,null,null,null,null,null,null,null,null,null,"","",{"$f":"IF($N1318=\"\",\"\",IFERROR(IF(N1318=6,1,IF(MATCH(N1318&\"/\"&R1318,読み替え表_クールビズ!$P$38:$P$59,0),1,0)),0))","v":""},{"$f":"IF($P1318=\"\",\"\",IFERROR(IF(P1318=6,1,IF(MATCH(P1318&\"/\"&R1318,読み替え表_クールビズ!$P$38:$P$59,0),1,0)),0))","v":""},"","",0,0,"*"]
[null,null,1309,null,null,null,null,null,null,null,null,null,null,null,null,null,null,null,null,null,null,null,null,null,null,null,null,null,null,null,null,null,"","",{"$f":"IF($N1319=\"\",\"\",IFERROR(IF(N1319=6,1,IF(MATCH(N1319&\"/\"&R1319,読み替え表_クールビズ!$P$38:$P$59,0),1,0)),0))","v":""},{"$f":"IF($P1319=\"\",\"\",IFERROR(IF(P1319=6,1,IF(MATCH(P1319&\"/\"&R1319,読み替え表_クールビズ!$P$38:$P$59,0),1,0)),0))","v":""},"","",0,0,"*"]
[null,null,1310,null,null,null,null,null,null,null,null,null,null,null,null,null,null,null,null,null,null,null,null,null,null,null,null,null,null,null,null,null,"","",{"$f":"IF($N1320=\"\",\"\",IFERROR(IF(N1320=6,1,IF(MATCH(N1320&\"/\"&R1320,読み替え表_クールビズ!$P$38:$P$59,0),1,0)),0))","v":""},{"$f":"IF($P1320=\"\",\"\",IFERROR(IF(P1320=6,1,IF(MATCH(P1320&\"/\"&R1320,読み替え表_クールビズ!$P$38:$P$59,0),1,0)),0))","v":""},"","",0,0,"*"]
[null,null,1311,null,null,null,null,null,null,null,null,null,null,null,null,null,null,null,null,null,null,null,null,null,null,null,null,null,null,null,null,null,"","",{"$f":"IF($N1321=\"\",\"\",IFERROR(IF(N1321=6,1,IF(MATCH(N1321&\"/\"&R1321,読み替え表_クールビズ!$P$38:$P$59,0),1,0)),0))","v":""},{"$f":"IF($P1321=\"\",\"\",IFERROR(IF(P1321=6,1,IF(MATCH(P1321&\"/\"&R1321,読み替え表_クールビズ!$P$38:$P$59,0),1,0)),0))","v":""},"","",0,0,"*"]
[null,null,1312,null,null,null,null,null,null,null,null,null,null,null,null,null,null,null,null,null,null,null,null,null,null,null,null,null,null,null,null,null,"","",{"$f":"IF($N1322=\"\",\"\",IFERROR(IF(N1322=6,1,IF(MATCH(N1322&\"/\"&R1322,読み替え表_クールビズ!$P$38:$P$59,0),1,0)),0))","v":""},{"$f":"IF($P1322=\"\",\"\",IFERROR(IF(P1322=6,1,IF(MATCH(P1322&\"/\"&R1322,読み替え表_クールビズ!$P$38:$P$59,0),1,0)),0))","v":""},"","",0,0,"*"]
[null,null,1313,null,null,null,null,null,null,null,null,null,null,null,null,null,null,null,null,null,null,null,null,null,null,null,null,null,null,null,null,null,"","",{"$f":"IF($N1323=\"\",\"\",IFERROR(IF(N1323=6,1,IF(MATCH(N1323&\"/\"&R1323,読み替え表_クールビズ!$P$38:$P$59,0),1,0)),0))","v":""},{"$f":"IF($P1323=\"\",\"\",IFERROR(IF(P1323=6,1,IF(MATCH(P1323&\"/\"&R1323,読み替え表_クールビズ!$P$38:$P$59,0),1,0)),0))","v":""},"","",0,0,"*"]
[null,null,1314,null,null,null,null,null,null,null,null,null,null,null,null,null,null,null,null,null,null,null,null,null,null,null,null,null,null,null,null,null,"","",{"$f":"IF($N1324=\"\",\"\",IFERROR(IF(N1324=6,1,IF(MATCH(N1324&\"/\"&R1324,読み替え表_クールビズ!$P$38:$P$59,0),1,0)),0))","v":""},{"$f":"IF($P1324=\"\",\"\",IFERROR(IF(P1324=6,1,IF(MATCH(P1324&\"/\"&R1324,読み替え表_クールビズ!$P$38:$P$59,0),1,0)),0))","v":""},"","",0,0,"*"]
[null,null,1315,null,null,null,null,null,null,null,null,null,null,null,null,null,null,null,null,null,null,null,null,null,null,null,null,null,null,null,null,null,"","",{"$f":"IF($N1325=\"\",\"\",IFERROR(IF(N1325=6,1,IF(MATCH(N1325&\"/\"&R1325,読み替え表_クールビズ!$P$38:$P$59,0),1,0)),0))","v":""},{"$f":"IF($P1325=\"\",\"\",IFERROR(IF(P1325=6,1,IF(MATCH(P1325&\"/\"&R1325,読み替え表_クールビズ!$P$38:$P$59,0),1,0)),0))","v":""},"","",0,0,"*"]
[null,null,1316,null,null,null,null,null,null,null,null,null,null,null,null,null,null,null,null,null,null,null,null,null,null,null,null,null,null,null,null,null,"","",{"$f":"IF($N1326=\"\",\"\",IFERROR(IF(N1326=6,1,IF(MATCH(N1326&\"/\"&R1326,読み替え表_クールビズ!$P$38:$P$59,0),1,0)),0))","v":""},{"$f":"IF($P1326=\"\",\"\",IFERROR(IF(P1326=6,1,IF(MATCH(P1326&\"/\"&R1326,読み替え表_クールビズ!$P$38:$P$59,0),1,0)),0))","v":""},"","",0,0,"*"]
[null,null,1317,null,null,null,null,null,null,null,null,null,null,null,null,null,null,null,null,null,null,null,null,null,null,null,null,null,null,null,null,null,"","",{"$f":"IF($N1327=\"\",\"\",IFERROR(IF(N1327=6,1,IF(MATCH(N1327&\"/\"&R1327,読み替え表_クールビズ!$P$38:$P$59,0),1,0)),0))","v":""},{"$f":"IF($P1327=\"\",\"\",IFERROR(IF(P1327=6,1,IF(MATCH(P1327&\"/\"&R1327,読み替え表_クールビズ!$P$38:$P$59,0),1,0)),0))","v":""},"","",0,0,"*"]
[null,null,1318,null,null,null,null,null,null,null,null,null,null,null,null,null,null,null,null,null,null,null,null,null,null,null,null,null,null,null,null,null,"","",{"$f":"IF($N1328=\"\",\"\",IFERROR(IF(N1328=6,1,IF(MATCH(N1328&\"/\"&R1328,読み替え表_クールビズ!$P$38:$P$59,0),1,0)),0))","v":""},{"$f":"IF($P1328=\"\",\"\",IFERROR(IF(P1328=6,1,IF(MATCH(P1328&\"/\"&R1328,読み替え表_クールビズ!$P$38:$P$59,0),1,0)),0))","v":""},"","",0,0,"*"]
[null,null,1319,null,null,null,null,null,null,null,null,null,null,null,null,null,null,null,null,null,null,null,null,null,null,null,null,null,null,null,null,null,"","",{"$f":"IF($N1329=\"\",\"\",IFERROR(IF(N1329=6,1,IF(MATCH(N1329&\"/\"&R1329,読み替え表_クールビズ!$P$38:$P$59,0),1,0)),0))","v":""},{"$f":"IF($P1329=\"\",\"\",IFERROR(IF(P1329=6,1,IF(MATCH(P1329&\"/\"&R1329,読み替え表_クールビズ!$P$38:$P$59,0),1,0)),0))","v":""},"","",0,0,"*"]
[null,null,1320,null,null,null,null,null,null,null,null,null,null,null,null,null,null,null,null,null,null,null,null,null,null,null,null,null,null,null,null,null,"","",{"$f":"IF($N1330=\"\",\"\",IFERROR(IF(N1330=6,1,IF(MATCH(N1330&\"/\"&R1330,読み替え表_クールビズ!$P$38:$P$59,0),1,0)),0))","v":""},{"$f":"IF($P1330=\"\",\"\",IFERROR(IF(P1330=6,1,IF(MATCH(P1330&\"/\"&R1330,読み替え表_クールビズ!$P$38:$P$59,0),1,0)),0))","v":""},"","",0,0,"*"]
[null,null,1321,null,null,null,null,null,null,null,null,null,null,null,null,null,null,null,null,null,null,null,null,null,null,null,null,null,null,null,null,null,"","",{"$f":"IF($N1331=\"\",\"\",IFERROR(IF(N1331=6,1,IF(MATCH(N1331&\"/\"&R1331,読み替え表_クールビズ!$P$38:$P$59,0),1,0)),0))","v":""},{"$f":"IF($P1331=\"\",\"\",IFERROR(IF(P1331=6,1,IF(MATCH(P1331&\"/\"&R1331,読み替え表_クールビズ!$P$38:$P$59,0),1,0)),0))","v":""},"","",0,0,"*"]
[null,null,1322,null,null,null,null,null,null,null,null,null,null,null,null,null,null,null,null,null,null,null,null,null,null,null,null,null,null,null,null,null,"","",{"$f":"IF($N1332=\"\",\"\",IFERROR(IF(N1332=6,1,IF(MATCH(N1332&\"/\"&R1332,読み替え表_クールビズ!$P$38:$P$59,0),1,0)),0))","v":""},{"$f":"IF($P1332=\"\",\"\",IFERROR(IF(P1332=6,1,IF(MATCH(P1332&\"/\"&R1332,読み替え表_クールビズ!$P$38:$P$59,0),1,0)),0))","v":""},"","",0,0,"*"]
[null,null,1323,null,null,null,null,null,null,null,null,null,null,null,null,null,null,null,null,null,null,null,null,null,null,null,null,null,null,null,null,null,"","",{"$f":"IF($N1333=\"\",\"\",IFERROR(IF(N1333=6,1,IF(MATCH(N1333&\"/\"&R1333,読み替え表_クールビズ!$P$38:$P$59,0),1,0)),0))","v":""},{"$f":"IF($P1333=\"\",\"\",IFERROR(IF(P1333=6,1,IF(MATCH(P1333&\"/\"&R1333,読み替え表_クールビズ!$P$38:$P$59,0),1,0)),0))","v":""},"","",0,0,"*"]
[null,null,1324,null,null,null,null,null,null,null,null,null,null,null,null,null,null,null,null,null,null,null,null,null,null,null,null,null,null,null,null,null,"","",{"$f":"IF($N1334=\"\",\"\",IFERROR(IF(N1334=6,1,IF(MATCH(N1334&\"/\"&R1334,読み替え表_クールビズ!$P$38:$P$59,0),1,0)),0))","v":""},{"$f":"IF($P1334=\"\",\"\",IFERROR(IF(P1334=6,1,IF(MATCH(P1334&\"/\"&R1334,読み替え表_クールビズ!$P$38:$P$59,0),1,0)),0))","v":""},"","",0,0,"*"]
[null,null,1325,null,null,null,null,null,null,null,null,null,null,null,null,null,null,null,null,null,null,null,null,null,null,null,null,null,null,null,null,null,"","",{"$f":"IF($N1335=\"\",\"\",IFERROR(IF(N1335=6,1,IF(MATCH(N1335&\"/\"&R1335,読み替え表_クールビズ!$P$38:$P$59,0),1,0)),0))","v":""},{"$f":"IF($P1335=\"\",\"\",IFERROR(IF(P1335=6,1,IF(MATCH(P1335&\"/\"&R1335,読み替え表_クールビズ!$P$38:$P$59,0),1,0)),0))","v":""},"","",0,0,"*"]
[null,null,1326,null,null,null,null,null,null,null,null,null,null,null,null,null,null,null,null,null,null,null,null,null,null,null,null,null,null,null,null,null,"","",{"$f":"IF($N1336=\"\",\"\",IFERROR(IF(N1336=6,1,IF(MATCH(N1336&\"/\"&R1336,読み替え表_クールビズ!$P$38:$P$59,0),1,0)),0))","v":""},{"$f":"IF($P1336=\"\",\"\",IFERROR(IF(P1336=6,1,IF(MATCH(P1336&\"/\"&R1336,読み替え表_クールビズ!$P$38:$P$59,0),1,0)),0))","v":""},"","",0,0,"*"]
[null,null,1327,null,null,null,null,null,null,null,null,null,null,null,null,null,null,null,null,null,null,null,null,null,null,null,null,null,null,null,null,null,"","",{"$f":"IF($N1337=\"\",\"\",IFERROR(IF(N1337=6,1,IF(MATCH(N1337&\"/\"&R1337,読み替え表_クールビズ!$P$38:$P$59,0),1,0)),0))","v":""},{"$f":"IF($P1337=\"\",\"\",IFERROR(IF(P1337=6,1,IF(MATCH(P1337&\"/\"&R1337,読み替え表_クールビズ!$P$38:$P$59,0),1,0)),0))","v":""},"","",0,0,"*"]
[null,null,1328,null,null,null,null,null,null,null,null,null,null,null,null,null,null,null,null,null,null,null,null,null,null,null,null,null,null,null,null,null,"","",{"$f":"IF($N1338=\"\",\"\",IFERROR(IF(N1338=6,1,IF(MATCH(N1338&\"/\"&R1338,読み替え表_クールビズ!$P$38:$P$59,0),1,0)),0))","v":""},{"$f":"IF($P1338=\"\",\"\",IFERROR(IF(P1338=6,1,IF(MATCH(P1338&\"/\"&R1338,読み替え表_クールビズ!$P$38:$P$59,0),1,0)),0))","v":""},"","",0,0,"*"]
[null,null,1329,null,null,null,null,null,null,null,null,null,null,null,null,null,null,null,null,null,null,null,null,null,null,null,null,null,null,null,null,null,"","",{"$f":"IF($N1339=\"\",\"\",IFERROR(IF(N1339=6,1,IF(MATCH(N1339&\"/\"&R1339,読み替え表_クールビズ!$P$38:$P$59,0),1,0)),0))","v":""},{"$f":"IF($P1339=\"\",\"\",IFERROR(IF(P1339=6,1,IF(MATCH(P1339&\"/\"&R1339,読み替え表_クールビズ!$P$38:$P$59,0),1,0)),0))","v":""},"","",0,0,"*"]
[null,null,1330,null,null,null,null,null,null,null,null,null,null,null,null,null,null,null,null,null,null,null,null,null,null,null,null,null,null,null,null,null,"","",{"$f":"IF($N1340=\"\",\"\",IFERROR(IF(N1340=6,1,IF(MATCH(N1340&\"/\"&R1340,読み替え表_クールビズ!$P$38:$P$59,0),1,0)),0))","v":""},{"$f":"IF($P1340=\"\",\"\",IFERROR(IF(P1340=6,1,IF(MATCH(P1340&\"/\"&R1340,読み替え表_クールビズ!$P$38:$P$59,0),1,0)),0))","v":""},"","",0,0,"*"]
[null,null,1331,null,null,null,null,null,null,null,null,null,null,null,null,null,null,null,null,null,null,null,null,null,null,null,null,null,null,null,null,null,"","",{"$f":"IF($N1341=\"\",\"\",IFERROR(IF(N1341=6,1,IF(MATCH(N1341&\"/\"&R1341,読み替え表_クールビズ!$P$38:$P$59,0),1,0)),0))","v":""},{"$f":"IF($P1341=\"\",\"\",IFERROR(IF(P1341=6,1,IF(MATCH(P1341&\"/\"&R1341,読み替え表_クールビズ!$P$38:$P$59,0),1,0)),0))","v":""},"","",0,0,"*"]
[null,null,1332,null,null,null,null,null,null,null,null,null,null,null,null,null,null,null,null,null,null,null,null,null,null,null,null,null,null,null,null,null,"","",{"$f":"IF($N1342=\"\",\"\",IFERROR(IF(N1342=6,1,IF(MATCH(N1342&\"/\"&R1342,読み替え表_クールビズ!$P$38:$P$59,0),1,0)),0))","v":""},{"$f":"IF($P1342=\"\",\"\",IFERROR(IF(P1342=6,1,IF(MATCH(P1342&\"/\"&R1342,読み替え表_クールビズ!$P$38:$P$59,0),1,0)),0))","v":""},"","",0,0,"*"]
[null,null,1333,null,null,null,null,null,null,null,null,null,null,null,null,null,null,null,null,null,null,null,null,null,null,null,null,null,null,null,null,null,"","",{"$f":"IF($N1343=\"\",\"\",IFERROR(IF(N1343=6,1,IF(MATCH(N1343&\"/\"&R1343,読み替え表_クールビズ!$P$38:$P$59,0),1,0)),0))","v":""},{"$f":"IF($P1343=\"\",\"\",IFERROR(IF(P1343=6,1,IF(MATCH(P1343&\"/\"&R1343,読み替え表_クールビズ!$P$38:$P$59,0),1,0)),0))","v":""},"","",0,0,"*"]
[null,null,1334,null,null,null,null,null,null,null,null,null,null,null,null,null,null,null,null,null,null,null,null,null,null,null,null,null,null,null,null,null,"","",{"$f":"IF($N1344=\"\",\"\",IFERROR(IF(N1344=6,1,IF(MATCH(N1344&\"/\"&R1344,読み替え表_クールビズ!$P$38:$P$59,0),1,0)),0))","v":""},{"$f":"IF($P1344=\"\",\"\",IFERROR(IF(P1344=6,1,IF(MATCH(P1344&\"/\"&R1344,読み替え表_クールビズ!$P$38:$P$59,0),1,0)),0))","v":""},"","",0,0,"*"]
[null,null,1335,null,null,null,null,null,null,null,null,null,null,null,null,null,null,null,null,null,null,null,null,null,null,null,null,null,null,null,null,null,"","",{"$f":"IF($N1345=\"\",\"\",IFERROR(IF(N1345=6,1,IF(MATCH(N1345&\"/\"&R1345,読み替え表_クールビズ!$P$38:$P$59,0),1,0)),0))","v":""},{"$f":"IF($P1345=\"\",\"\",IFERROR(IF(P1345=6,1,IF(MATCH(P1345&\"/\"&R1345,読み替え表_クールビズ!$P$38:$P$59,0),1,0)),0))","v":""},"","",0,0,"*"]
[null,null,1336,null,null,null,null,null,null,null,null,null,null,null,null,null,null,null,null,null,null,null,null,null,null,null,null,null,null,null,null,null,"","",{"$f":"IF($N1346=\"\",\"\",IFERROR(IF(N1346=6,1,IF(MATCH(N1346&\"/\"&R1346,読み替え表_クールビズ!$P$38:$P$59,0),1,0)),0))","v":""},{"$f":"IF($P1346=\"\",\"\",IFERROR(IF(P1346=6,1,IF(MATCH(P1346&\"/\"&R1346,読み替え表_クールビズ!$P$38:$P$59,0),1,0)),0))","v":""},"","",0,0,"*"]
[null,null,1337,null,null,null,null,null,null,null,null,null,null,null,null,null,null,null,null,null,null,null,null,null,null,null,null,null,null,null,null,null,"","",{"$f":"IF($N1347=\"\",\"\",IFERROR(IF(N1347=6,1,IF(MATCH(N1347&\"/\"&R1347,読み替え表_クールビズ!$P$38:$P$59,0),1,0)),0))","v":""},{"$f":"IF($P1347=\"\",\"\",IFERROR(IF(P1347=6,1,IF(MATCH(P1347&\"/\"&R1347,読み替え表_クールビズ!$P$38:$P$59,0),1,0)),0))","v":""},"","",0,0,"*"]
[null,null,1338,null,null,null,null,null,null,null,null,null,null,null,null,null,null,null,null,null,null,null,null,null,null,null,null,null,null,null,null,null,"","",{"$f":"IF($N1348=\"\",\"\",IFERROR(IF(N1348=6,1,IF(MATCH(N1348&\"/\"&R1348,読み替え表_クールビズ!$P$38:$P$59,0),1,0)),0))","v":""},{"$f":"IF($P1348=\"\",\"\",IFERROR(IF(P1348=6,1,IF(MATCH(P1348&\"/\"&R1348,読み替え表_クールビズ!$P$38:$P$59,0),1,0)),0))","v":""},"","",0,0,"*"]
[null,null,1339,null,null,null,null,null,null,null,null,null,null,null,null,null,null,null,null,null,null,null,null,null,null,null,null,null,null,null,null,null,"","",{"$f":"IF($N1349=\"\",\"\",IFERROR(IF(N1349=6,1,IF(MATCH(N1349&\"/\"&R1349,読み替え表_クールビズ!$P$38:$P$59,0),1,0)),0))","v":""},{"$f":"IF($P1349=\"\",\"\",IFERROR(IF(P1349=6,1,IF(MATCH(P1349&\"/\"&R1349,読み替え表_クールビズ!$P$38:$P$59,0),1,0)),0))","v":""},"","",0,0,"*"]
[null,null,1340,null,null,null,null,null,null,null,null,null,null,null,null,null,null,null,null,null,null,null,null,null,null,null,null,null,null,null,null,null,"","",{"$f":"IF($N1350=\"\",\"\",IFERROR(IF(N1350=6,1,IF(MATCH(N1350&\"/\"&R1350,読み替え表_クールビズ!$P$38:$P$59,0),1,0)),0))","v":""},{"$f":"IF($P1350=\"\",\"\",IFERROR(IF(P1350=6,1,IF(MATCH(P1350&\"/\"&R1350,読み替え表_クールビズ!$P$38:$P$59,0),1,0)),0))","v":""},"","",0,0,"*"]
[null,null,1341,null,null,null,null,null,null,null,null,null,null,null,null,null,null,null,null,null,null,null,null,null,null,null,null,null,null,null,null,null,"","",{"$f":"IF($N1351=\"\",\"\",IFERROR(IF(N1351=6,1,IF(MATCH(N1351&\"/\"&R1351,読み替え表_クールビズ!$P$38:$P$59,0),1,0)),0))","v":""},{"$f":"IF($P1351=\"\",\"\",IFERROR(IF(P1351=6,1,IF(MATCH(P1351&\"/\"&R1351,読み替え表_クールビズ!$P$38:$P$59,0),1,0)),0))","v":""},"","",0,0,"*"]
[null,null,1342,null,null,null,null,null,null,null,null,null,null,null,null,null,null,null,null,null,null,null,null,null,null,null,null,null,null,null,null,null,"","",{"$f":"IF($N1352=\"\",\"\",IFERROR(IF(N1352=6,1,IF(MATCH(N1352&\"/\"&R1352,読み替え表_クールビズ!$P$38:$P$59,0),1,0)),0))","v":""},{"$f":"IF($P1352=\"\",\"\",IFERROR(IF(P1352=6,1,IF(MATCH(P1352&\"/\"&R1352,読み替え表_クールビズ!$P$38:$P$59,0),1,0)),0))","v":""},"","",0,0,"*"]
[null,null,1343,null,null,null,null,null,null,null,null,null,null,null,null,null,null,null,null,null,null,null,null,null,null,null,null,null,null,null,null,null,"","",{"$f":"IF($N1353=\"\",\"\",IFERROR(IF(N1353=6,1,IF(MATCH(N1353&\"/\"&R1353,読み替え表_クールビズ!$P$38:$P$59,0),1,0)),0))","v":""},{"$f":"IF($P1353=\"\",\"\",IFERROR(IF(P1353=6,1,IF(MATCH(P1353&\"/\"&R1353,読み替え表_クールビズ!$P$38:$P$59,0),1,0)),0))","v":""},"","",0,0,"*"]
[null,null,1344,null,null,null,null,null,null,null,null,null,null,null,null,null,null,null,null,null,null,null,null,null,null,null,null,null,null,null,null,null,"","",{"$f":"IF($N1354=\"\",\"\",IFERROR(IF(N1354=6,1,IF(MATCH(N1354&\"/\"&R1354,読み替え表_クールビズ!$P$38:$P$59,0),1,0)),0))","v":""},{"$f":"IF($P1354=\"\",\"\",IFERROR(IF(P1354=6,1,IF(MATCH(P1354&\"/\"&R1354,読み替え表_クールビズ!$P$38:$P$59,0),1,0)),0))","v":""},"","",0,0,"*"]
[null,null,1345,null,null,null,null,null,null,null,null,null,null,null,null,null,null,null,null,null,null,null,null,null,null,null,null,null,null,null,null,null,"","",{"$f":"IF($N1355=\"\",\"\",IFERROR(IF(N1355=6,1,IF(MATCH(N1355&\"/\"&R1355,読み替え表_クールビズ!$P$38:$P$59,0),1,0)),0))","v":""},{"$f":"IF($P1355=\"\",\"\",IFERROR(IF(P1355=6,1,IF(MATCH(P1355&\"/\"&R1355,読み替え表_クールビズ!$P$38:$P$59,0),1,0)),0))","v":""},{"$f":"IF($N1355=\"\",\"\",IF(OR(CONCATENATE(N1355,$R1355)=\"22\",CONCATENATE(N1355,$R1355)=\"32\",CONCATENATE(N1355,$R1355)=\"42\",CONCATENATE(N1355,$R1355)=\"43\",CONCATENATE(N1355,$R1355)=\"51\",CONCATENATE(N1355,$R1355)=\"52\",CONCATENATE(N1355,$R1355)=\"53\"),1,0))","v":""},{"$f":"IF($P1355=\"\",\"\",IF(OR(CONCATENATE(P1355,$R1355)=\"22\",CONCATENATE(P1355,$R1355)=\"32\",CONCATENATE(P1355,$R1355)=\"42\",CONCATENATE(P1355,$R1355)=\"43\",CONCATENATE(P1355,$R1355)=\"51\",CONCATENATE(P1355,$R1355)=\"52\",CONCATENATE(P1355,$R1355)=\"53\"),1,0))","v":""},0,0,"*"]
[null,null,{"$f":"ROW()-10","v":1346},null,null,null,null,null,null,null,null,null,null,null,null,null,null,null,null,null,null,null,null,null,null,null,null,null,null,null,null,null,{"$f":"IF($J1356=\"\",\"\",IF(AND($J1356>=1,$J1356<=9),1,0))","v":""},{"$f":"IF($R1356=\"\",\"\",IF(OR($R1356=1,$R1356=2,$R1356=3),1,0))","v":""},{"$f":"IF($N1356=\"\",\"\",IFERROR(IF(N1356=6,1,IF(MATCH(N1356&\"/\"&R1356,読み替え表_クールビズ!$P$38:$P$59,0),1,0)),0))","v":""},{"$f":"IF($P1356=\"\",\"\",IFERROR(IF(P1356=6,1,IF(MATCH(P1356&\"/\"&R1356,読み替え表_クールビズ!$P$38:$P$59,0),1,0)),0))","v":""},"","",{"$f":"IF(OR(AK1356=1,AL1356=1),1,0)","v":0},{"$f":"IF(OR($AG1356=0,SUM(AI1356:AJ1356)=2),1,0)","v":0},"*"]
[null,null,1347,null,null,null,null,null,null,null,null,null,null,null,null,null,null,null,null,null,null,null,null,null,null,null,null,null,null,null,null,null,"","",{"$f":"IF($N1357=\"\",\"\",IFERROR(IF(N1357=6,1,IF(MATCH(N1357&\"/\"&R1357,読み替え表_クールビズ!$P$38:$P$59,0),1,0)),0))","v":""},{"$f":"IF($P1357=\"\",\"\",IFERROR(IF(P1357=6,1,IF(MATCH(P1357&\"/\"&R1357,読み替え表_クールビズ!$P$38:$P$59,0),1,0)),0))","v":""},"","",0,0,"*"]
[null,null,1348,null,null,null,null,null,null,null,null,null,null,null,null,null,null,null,null,null,null,null,null,null,null,null,null,null,null,null,null,null,"","",{"$f":"IF($N1358=\"\",\"\",IFERROR(IF(N1358=6,1,IF(MATCH(N1358&\"/\"&R1358,読み替え表_クールビズ!$P$38:$P$59,0),1,0)),0))","v":""},{"$f":"IF($P1358=\"\",\"\",IFERROR(IF(P1358=6,1,IF(MATCH(P1358&\"/\"&R1358,読み替え表_クールビズ!$P$38:$P$59,0),1,0)),0))","v":""},"","",0,0,"*"]
[null,null,1349,null,null,null,null,null,null,null,null,null,null,null,null,null,null,null,null,null,null,null,null,null,null,null,null,null,null,null,null,null,"","",{"$f":"IF($N1359=\"\",\"\",IFERROR(IF(N1359=6,1,IF(MATCH(N1359&\"/\"&R1359,読み替え表_クールビズ!$P$38:$P$59,0),1,0)),0))","v":""},{"$f":"IF($P1359=\"\",\"\",IFERROR(IF(P1359=6,1,IF(MATCH(P1359&\"/\"&R1359,読み替え表_クールビズ!$P$38:$P$59,0),1,0)),0))","v":""},"","",0,0,"*"]
[null,null,1350,null,null,null,null,null,null,null,null,null,null,null,null,null,null,null,null,null,null,null,null,null,null,null,null,null,null,null,null,null,"","",{"$f":"IF($N1360=\"\",\"\",IFERROR(IF(N1360=6,1,IF(MATCH(N1360&\"/\"&R1360,読み替え表_クールビズ!$P$38:$P$59,0),1,0)),0))","v":""},{"$f":"IF($P1360=\"\",\"\",IFERROR(IF(P1360=6,1,IF(MATCH(P1360&\"/\"&R1360,読み替え表_クールビズ!$P$38:$P$59,0),1,0)),0))","v":""},"","",0,0,"*"]
[null,null,1351,null,null,null,null,null,null,null,null,null,null,null,null,null,null,null,null,null,null,null,null,null,null,null,null,null,null,null,null,null,"","",{"$f":"IF($N1361=\"\",\"\",IFERROR(IF(N1361=6,1,IF(MATCH(N1361&\"/\"&R1361,読み替え表_クールビズ!$P$38:$P$59,0),1,0)),0))","v":""},{"$f":"IF($P1361=\"\",\"\",IFERROR(IF(P1361=6,1,IF(MATCH(P1361&\"/\"&R1361,読み替え表_クールビズ!$P$38:$P$59,0),1,0)),0))","v":""},"","",0,0,"*"]
[null,null,1352,null,null,null,null,null,null,null,null,null,null,null,null,null,null,null,null,null,null,null,null,null,null,null,null,null,null,null,null,null,"","",{"$f":"IF($N1362=\"\",\"\",IFERROR(IF(N1362=6,1,IF(MATCH(N1362&\"/\"&R1362,読み替え表_クールビズ!$P$38:$P$59,0),1,0)),0))","v":""},{"$f":"IF($P1362=\"\",\"\",IFERROR(IF(P1362=6,1,IF(MATCH(P1362&\"/\"&R1362,読み替え表_クールビズ!$P$38:$P$59,0),1,0)),0))","v":""},"","",0,0,"*"]
[null,null,1353,null,null,null,null,null,null,null,null,null,null,null,null,null,null,null,null,null,null,null,null,null,null,null,null,null,null,null,null,null,"","",{"$f":"IF($N1363=\"\",\"\",IFERROR(IF(N1363=6,1,IF(MATCH(N1363&\"/\"&R1363,読み替え表_クールビズ!$P$38:$P$59,0),1,0)),0))","v":""},{"$f":"IF($P1363=\"\",\"\",IFERROR(IF(P1363=6,1,IF(MATCH(P1363&\"/\"&R1363,読み替え表_クールビズ!$P$38:$P$59,0),1,0)),0))","v":""},"","",0,0,"*"]
[null,null,1354,null,null,null,null,null,null,null,null,null,null,null,null,null,null,null,null,null,null,null,null,null,null,null,null,null,null,null,null,null,"","",{"$f":"IF($N1364=\"\",\"\",IFERROR(IF(N1364=6,1,IF(MATCH(N1364&\"/\"&R1364,読み替え表_クールビズ!$P$38:$P$59,0),1,0)),0))","v":""},{"$f":"IF($P1364=\"\",\"\",IFERROR(IF(P1364=6,1,IF(MATCH(P1364&\"/\"&R1364,読み替え表_クールビズ!$P$38:$P$59,0),1,0)),0))","v":""},"","",0,0,"*"]
[null,null,1355,null,null,null,null,null,null,null,null,null,null,null,null,null,null,null,null,null,null,null,null,null,null,null,null,null,null,null,null,null,"","",{"$f":"IF($N1365=\"\",\"\",IFERROR(IF(N1365=6,1,IF(MATCH(N1365&\"/\"&R1365,読み替え表_クールビズ!$P$38:$P$59,0),1,0)),0))","v":""},{"$f":"IF($P1365=\"\",\"\",IFERROR(IF(P1365=6,1,IF(MATCH(P1365&\"/\"&R1365,読み替え表_クールビズ!$P$38:$P$59,0),1,0)),0))","v":""},"","",0,0,"*"]
[null,null,1356,null,null,null,null,null,null,null,null,null,null,null,null,null,null,null,null,null,null,null,null,null,null,null,null,null,null,null,null,null,"","",{"$f":"IF($N1366=\"\",\"\",IFERROR(IF(N1366=6,1,IF(MATCH(N1366&\"/\"&R1366,読み替え表_クールビズ!$P$38:$P$59,0),1,0)),0))","v":""},{"$f":"IF($P1366=\"\",\"\",IFERROR(IF(P1366=6,1,IF(MATCH(P1366&\"/\"&R1366,読み替え表_クールビズ!$P$38:$P$59,0),1,0)),0))","v":""},"","",0,0,"*"]
[null,null,1357,null,null,null,null,null,null,null,null,null,null,null,null,null,null,null,null,null,null,null,null,null,null,null,null,null,null,null,null,null,"","",{"$f":"IF($N1367=\"\",\"\",IFERROR(IF(N1367=6,1,IF(MATCH(N1367&\"/\"&R1367,読み替え表_クールビズ!$P$38:$P$59,0),1,0)),0))","v":""},{"$f":"IF($P1367=\"\",\"\",IFERROR(IF(P1367=6,1,IF(MATCH(P1367&\"/\"&R1367,読み替え表_クールビズ!$P$38:$P$59,0),1,0)),0))","v":""},"","",0,0,"*"]
[null,null,1358,null,null,null,null,null,null,null,null,null,null,null,null,null,null,null,null,null,null,null,null,null,null,null,null,null,null,null,null,null,"","",{"$f":"IF($N1368=\"\",\"\",IFERROR(IF(N1368=6,1,IF(MATCH(N1368&\"/\"&R1368,読み替え表_クールビズ!$P$38:$P$59,0),1,0)),0))","v":""},{"$f":"IF($P1368=\"\",\"\",IFERROR(IF(P1368=6,1,IF(MATCH(P1368&\"/\"&R1368,読み替え表_クールビズ!$P$38:$P$59,0),1,0)),0))","v":""},"","",0,0,"*"]
[null,null,1359,null,null,null,null,null,null,null,null,null,null,null,null,null,null,null,null,null,null,null,null,null,null,null,null,null,null,null,null,null,"","",{"$f":"IF($N1369=\"\",\"\",IFERROR(IF(N1369=6,1,IF(MATCH(N1369&\"/\"&R1369,読み替え表_クールビズ!$P$38:$P$59,0),1,0)),0))","v":""},{"$f":"IF($P1369=\"\",\"\",IFERROR(IF(P1369=6,1,IF(MATCH(P1369&\"/\"&R1369,読み替え表_クールビズ!$P$38:$P$59,0),1,0)),0))","v":""},"","",0,0,"*"]
[null,null,1360,null,null,null,null,null,null,null,null,null,null,null,null,null,null,null,null,null,null,null,null,null,null,null,null,null,null,null,null,null,"","",{"$f":"IF($N1370=\"\",\"\",IFERROR(IF(N1370=6,1,IF(MATCH(N1370&\"/\"&R1370,読み替え表_クールビズ!$P$38:$P$59,0),1,0)),0))","v":""},{"$f":"IF($P1370=\"\",\"\",IFERROR(IF(P1370=6,1,IF(MATCH(P1370&\"/\"&R1370,読み替え表_クールビズ!$P$38:$P$59,0),1,0)),0))","v":""},"","",0,0,"*"]
[null,null,1361,null,null,null,null,null,null,null,null,null,null,null,null,null,null,null,null,null,null,null,null,null,null,null,null,null,null,null,null,null,"","",{"$f":"IF($N1371=\"\",\"\",IFERROR(IF(N1371=6,1,IF(MATCH(N1371&\"/\"&R1371,読み替え表_クールビズ!$P$38:$P$59,0),1,0)),0))","v":""},{"$f":"IF($P1371=\"\",\"\",IFERROR(IF(P1371=6,1,IF(MATCH(P1371&\"/\"&R1371,読み替え表_クールビズ!$P$38:$P$59,0),1,0)),0))","v":""},"","",0,0,"*"]
[null,null,1362,null,null,null,null,null,null,null,null,null,null,null,null,null,null,null,null,null,null,null,null,null,null,null,null,null,null,null,null,null,"","",{"$f":"IF($N1372=\"\",\"\",IFERROR(IF(N1372=6,1,IF(MATCH(N1372&\"/\"&R1372,読み替え表_クールビズ!$P$38:$P$59,0),1,0)),0))","v":""},{"$f":"IF($P1372=\"\",\"\",IFERROR(IF(P1372=6,1,IF(MATCH(P1372&\"/\"&R1372,読み替え表_クールビズ!$P$38:$P$59,0),1,0)),0))","v":""},"","",0,0,"*"]
[null,null,1363,null,null,null,null,null,null,null,null,null,null,null,null,null,null,null,null,null,null,null,null,null,null,null,null,null,null,null,null,null,"","",{"$f":"IF($N1373=\"\",\"\",IFERROR(IF(N1373=6,1,IF(MATCH(N1373&\"/\"&R1373,読み替え表_クールビズ!$P$38:$P$59,0),1,0)),0))","v":""},{"$f":"IF($P1373=\"\",\"\",IFERROR(IF(P1373=6,1,IF(MATCH(P1373&\"/\"&R1373,読み替え表_クールビズ!$P$38:$P$59,0),1,0)),0))","v":""},"","",0,0,"*"]
[null,null,1364,null,null,null,null,null,null,null,null,null,null,null,null,null,null,null,null,null,null,null,null,null,null,null,null,null,null,null,null,null,"","",{"$f":"IF($N1374=\"\",\"\",IFERROR(IF(N1374=6,1,IF(MATCH(N1374&\"/\"&R1374,読み替え表_クールビズ!$P$38:$P$59,0),1,0)),0))","v":""},{"$f":"IF($P1374=\"\",\"\",IFERROR(IF(P1374=6,1,IF(MATCH(P1374&\"/\"&R1374,読み替え表_クールビズ!$P$38:$P$59,0),1,0)),0))","v":""},"","",0,0,"*"]
[null,null,1365,null,null,null,null,null,null,null,null,null,null,null,null,null,null,null,null,null,null,null,null,null,null,null,null,null,null,null,null,null,"","",{"$f":"IF($N1375=\"\",\"\",IFERROR(IF(N1375=6,1,IF(MATCH(N1375&\"/\"&R1375,読み替え表_クールビズ!$P$38:$P$59,0),1,0)),0))","v":""},{"$f":"IF($P1375=\"\",\"\",IFERROR(IF(P1375=6,1,IF(MATCH(P1375&\"/\"&R1375,読み替え表_クールビズ!$P$38:$P$59,0),1,0)),0))","v":""},"","",0,0,"*"]
[null,null,1366,null,null,null,null,null,null,null,null,null,null,null,null,null,null,null,null,null,null,null,null,null,null,null,null,null,null,null,null,null,"","",{"$f":"IF($N1376=\"\",\"\",IFERROR(IF(N1376=6,1,IF(MATCH(N1376&\"/\"&R1376,読み替え表_クールビズ!$P$38:$P$59,0),1,0)),0))","v":""},{"$f":"IF($P1376=\"\",\"\",IFERROR(IF(P1376=6,1,IF(MATCH(P1376&\"/\"&R1376,読み替え表_クールビズ!$P$38:$P$59,0),1,0)),0))","v":""},"","",0,0,"*"]
[null,null,1367,null,null,null,null,null,null,null,null,null,null,null,null,null,null,null,null,null,null,null,null,null,null,null,null,null,null,null,null,null,"","",{"$f":"IF($N1377=\"\",\"\",IFERROR(IF(N1377=6,1,IF(MATCH(N1377&\"/\"&R1377,読み替え表_クールビズ!$P$38:$P$59,0),1,0)),0))","v":""},{"$f":"IF($P1377=\"\",\"\",IFERROR(IF(P1377=6,1,IF(MATCH(P1377&\"/\"&R1377,読み替え表_クールビズ!$P$38:$P$59,0),1,0)),0))","v":""},"","",0,0,"*"]
[null,null,1368,null,null,null,null,null,null,null,null,null,null,null,null,null,null,null,null,null,null,null,null,null,null,null,null,null,null,null,null,null,"","",{"$f":"IF($N1378=\"\",\"\",IFERROR(IF(N1378=6,1,IF(MATCH(N1378&\"/\"&R1378,読み替え表_クールビズ!$P$38:$P$59,0),1,0)),0))","v":""},{"$f":"IF($P1378=\"\",\"\",IFERROR(IF(P1378=6,1,IF(MATCH(P1378&\"/\"&R1378,読み替え表_クールビズ!$P$38:$P$59,0),1,0)),0))","v":""},"","",0,0,"*"]
[null,null,1369,null,null,null,null,null,null,null,null,null,null,null,null,null,null,null,null,null,null,null,null,null,null,null,null,null,null,null,null,null,"","",{"$f":"IF($N1379=\"\",\"\",IFERROR(IF(N1379=6,1,IF(MATCH(N1379&\"/\"&R1379,読み替え表_クールビズ!$P$38:$P$59,0),1,0)),0))","v":""},{"$f":"IF($P1379=\"\",\"\",IFERROR(IF(P1379=6,1,IF(MATCH(P1379&\"/\"&R1379,読み替え表_クールビズ!$P$38:$P$59,0),1,0)),0))","v":""},"","",0,0,"*"]
[null,null,1370,null,null,null,null,null,null,null,null,null,null,null,null,null,null,null,null,null,null,null,null,null,null,null,null,null,null,null,null,null,"","",{"$f":"IF($N1380=\"\",\"\",IFERROR(IF(N1380=6,1,IF(MATCH(N1380&\"/\"&R1380,読み替え表_クールビズ!$P$38:$P$59,0),1,0)),0))","v":""},{"$f":"IF($P1380=\"\",\"\",IFERROR(IF(P1380=6,1,IF(MATCH(P1380&\"/\"&R1380,読み替え表_クールビズ!$P$38:$P$59,0),1,0)),0))","v":""},"","",0,0,"*"]
[null,null,1371,null,null,null,null,null,null,null,null,null,null,null,null,null,null,null,null,null,null,null,null,null,null,null,null,null,null,null,null,null,"","",{"$f":"IF($N1381=\"\",\"\",IFERROR(IF(N1381=6,1,IF(MATCH(N1381&\"/\"&R1381,読み替え表_クールビズ!$P$38:$P$59,0),1,0)),0))","v":""},{"$f":"IF($P1381=\"\",\"\",IFERROR(IF(P1381=6,1,IF(MATCH(P1381&\"/\"&R1381,読み替え表_クールビズ!$P$38:$P$59,0),1,0)),0))","v":""},"","",0,0,"*"]
[null,null,1372,null,null,null,null,null,null,null,null,null,null,null,null,null,null,null,null,null,null,null,null,null,null,null,null,null,null,null,null,null,"","",{"$f":"IF($N1382=\"\",\"\",IFERROR(IF(N1382=6,1,IF(MATCH(N1382&\"/\"&R1382,読み替え表_クールビズ!$P$38:$P$59,0),1,0)),0))","v":""},{"$f":"IF($P1382=\"\",\"\",IFERROR(IF(P1382=6,1,IF(MATCH(P1382&\"/\"&R1382,読み替え表_クールビズ!$P$38:$P$59,0),1,0)),0))","v":""},"","",0,0,"*"]
[null,null,1373,null,null,null,null,null,null,null,null,null,null,null,null,null,null,null,null,null,null,null,null,null,null,null,null,null,null,null,null,null,"","",{"$f":"IF($N1383=\"\",\"\",IFERROR(IF(N1383=6,1,IF(MATCH(N1383&\"/\"&R1383,読み替え表_クールビズ!$P$38:$P$59,0),1,0)),0))","v":""},{"$f":"IF($P1383=\"\",\"\",IFERROR(IF(P1383=6,1,IF(MATCH(P1383&\"/\"&R1383,読み替え表_クールビズ!$P$38:$P$59,0),1,0)),0))","v":""},"","",0,0,"*"]
[null,null,1374,null,null,null,null,null,null,null,null,null,null,null,null,null,null,null,null,null,null,null,null,null,null,null,null,null,null,null,null,null,"","",{"$f":"IF($N1384=\"\",\"\",IFERROR(IF(N1384=6,1,IF(MATCH(N1384&\"/\"&R1384,読み替え表_クールビズ!$P$38:$P$59,0),1,0)),0))","v":""},{"$f":"IF($P1384=\"\",\"\",IFERROR(IF(P1384=6,1,IF(MATCH(P1384&\"/\"&R1384,読み替え表_クールビズ!$P$38:$P$59,0),1,0)),0))","v":""},"","",0,0,"*"]
[null,null,1375,null,null,null,null,null,null,null,null,null,null,null,null,null,null,null,null,null,null,null,null,null,null,null,null,null,null,null,null,null,"","",{"$f":"IF($N1385=\"\",\"\",IFERROR(IF(N1385=6,1,IF(MATCH(N1385&\"/\"&R1385,読み替え表_クールビズ!$P$38:$P$59,0),1,0)),0))","v":""},{"$f":"IF($P1385=\"\",\"\",IFERROR(IF(P1385=6,1,IF(MATCH(P1385&\"/\"&R1385,読み替え表_クールビズ!$P$38:$P$59,0),1,0)),0))","v":""},"","",0,0,"*"]
[null,null,1376,null,null,null,null,null,null,null,null,null,null,null,null,null,null,null,null,null,null,null,null,null,null,null,null,null,null,null,null,null,"","",{"$f":"IF($N1386=\"\",\"\",IFERROR(IF(N1386=6,1,IF(MATCH(N1386&\"/\"&R1386,読み替え表_クールビズ!$P$38:$P$59,0),1,0)),0))","v":""},{"$f":"IF($P1386=\"\",\"\",IFERROR(IF(P1386=6,1,IF(MATCH(P1386&\"/\"&R1386,読み替え表_クールビズ!$P$38:$P$59,0),1,0)),0))","v":""},"","",0,0,"*"]
[null,null,1377,null,null,null,null,null,null,null,null,null,null,null,null,null,null,null,null,null,null,null,null,null,null,null,null,null,null,null,null,null,"","",{"$f":"IF($N1387=\"\",\"\",IFERROR(IF(N1387=6,1,IF(MATCH(N1387&\"/\"&R1387,読み替え表_クールビズ!$P$38:$P$59,0),1,0)),0))","v":""},{"$f":"IF($P1387=\"\",\"\",IFERROR(IF(P1387=6,1,IF(MATCH(P1387&\"/\"&R1387,読み替え表_クールビズ!$P$38:$P$59,0),1,0)),0))","v":""},"","",0,0,"*"]
[null,null,1378,null,null,null,null,null,null,null,null,null,null,null,null,null,null,null,null,null,null,null,null,null,null,null,null,null,null,null,null,null,"","",{"$f":"IF($N1388=\"\",\"\",IFERROR(IF(N1388=6,1,IF(MATCH(N1388&\"/\"&R1388,読み替え表_クールビズ!$P$38:$P$59,0),1,0)),0))","v":""},{"$f":"IF($P1388=\"\",\"\",IFERROR(IF(P1388=6,1,IF(MATCH(P1388&\"/\"&R1388,読み替え表_クールビズ!$P$38:$P$59,0),1,0)),0))","v":""},"","",0,0,"*"]
[null,null,1379,null,null,null,null,null,null,null,null,null,null,null,null,null,null,null,null,null,null,null,null,null,null,null,null,null,null,null,null,null,"","",{"$f":"IF($N1389=\"\",\"\",IFERROR(IF(N1389=6,1,IF(MATCH(N1389&\"/\"&R1389,読み替え表_クールビズ!$P$38:$P$59,0),1,0)),0))","v":""},{"$f":"IF($P1389=\"\",\"\",IFERROR(IF(P1389=6,1,IF(MATCH(P1389&\"/\"&R1389,読み替え表_クールビズ!$P$38:$P$59,0),1,0)),0))","v":""},"","",0,0,"*"]
[null,null,1380,null,null,null,null,null,null,null,null,null,null,null,null,null,null,null,null,null,null,null,null,null,null,null,null,null,null,null,null,null,"","",{"$f":"IF($N1390=\"\",\"\",IFERROR(IF(N1390=6,1,IF(MATCH(N1390&\"/\"&R1390,読み替え表_クールビズ!$P$38:$P$59,0),1,0)),0))","v":""},{"$f":"IF($P1390=\"\",\"\",IFERROR(IF(P1390=6,1,IF(MATCH(P1390&\"/\"&R1390,読み替え表_クールビズ!$P$38:$P$59,0),1,0)),0))","v":""},"","",0,0,"*"]
[null,null,1381,null,null,null,null,null,null,null,null,null,null,null,null,null,null,null,null,null,null,null,null,null,null,null,null,null,null,null,null,null,"","",{"$f":"IF($N1391=\"\",\"\",IFERROR(IF(N1391=6,1,IF(MATCH(N1391&\"/\"&R1391,読み替え表_クールビズ!$P$38:$P$59,0),1,0)),0))","v":""},{"$f":"IF($P1391=\"\",\"\",IFERROR(IF(P1391=6,1,IF(MATCH(P1391&\"/\"&R1391,読み替え表_クールビズ!$P$38:$P$59,0),1,0)),0))","v":""},"","",0,0,"*"]
[null,null,1382,null,null,null,null,null,null,null,null,null,null,null,null,null,null,null,null,null,null,null,null,null,null,null,null,null,null,null,null,null,"","",{"$f":"IF($N1392=\"\",\"\",IFERROR(IF(N1392=6,1,IF(MATCH(N1392&\"/\"&R1392,読み替え表_クールビズ!$P$38:$P$59,0),1,0)),0))","v":""},{"$f":"IF($P1392=\"\",\"\",IFERROR(IF(P1392=6,1,IF(MATCH(P1392&\"/\"&R1392,読み替え表_クールビズ!$P$38:$P$59,0),1,0)),0))","v":""},"","",0,0,"*"]
[null,null,1383,null,null,null,null,null,null,null,null,null,null,null,null,null,null,null,null,null,null,null,null,null,null,null,null,null,null,null,null,null,"","",{"$f":"IF($N1393=\"\",\"\",IFERROR(IF(N1393=6,1,IF(MATCH(N1393&\"/\"&R1393,読み替え表_クールビズ!$P$38:$P$59,0),1,0)),0))","v":""},{"$f":"IF($P1393=\"\",\"\",IFERROR(IF(P1393=6,1,IF(MATCH(P1393&\"/\"&R1393,読み替え表_クールビズ!$P$38:$P$59,0),1,0)),0))","v":""},"","",0,0,"*"]
[null,null,1384,null,null,null,null,null,null,null,null,null,null,null,null,null,null,null,null,null,null,null,null,null,null,null,null,null,null,null,null,null,"","",{"$f":"IF($N1394=\"\",\"\",IFERROR(IF(N1394=6,1,IF(MATCH(N1394&\"/\"&R1394,読み替え表_クールビズ!$P$38:$P$59,0),1,0)),0))","v":""},{"$f":"IF($P1394=\"\",\"\",IFERROR(IF(P1394=6,1,IF(MATCH(P1394&\"/\"&R1394,読み替え表_クールビズ!$P$38:$P$59,0),1,0)),0))","v":""},"","",0,0,"*"]
[null,null,1385,null,null,null,null,null,null,null,null,null,null,null,null,null,null,null,null,null,null,null,null,null,null,null,null,null,null,null,null,null,"","",{"$f":"IF($N1395=\"\",\"\",IFERROR(IF(N1395=6,1,IF(MATCH(N1395&\"/\"&R1395,読み替え表_クールビズ!$P$38:$P$59,0),1,0)),0))","v":""},{"$f":"IF($P1395=\"\",\"\",IFERROR(IF(P1395=6,1,IF(MATCH(P1395&\"/\"&R1395,読み替え表_クールビズ!$P$38:$P$59,0),1,0)),0))","v":""},"","",0,0,"*"]
[null,null,1386,null,null,null,null,null,null,null,null,null,null,null,null,null,null,null,null,null,null,null,null,null,null,null,null,null,null,null,null,null,"","",{"$f":"IF($N1396=\"\",\"\",IFERROR(IF(N1396=6,1,IF(MATCH(N1396&\"/\"&R1396,読み替え表_クールビズ!$P$38:$P$59,0),1,0)),0))","v":""},{"$f":"IF($P1396=\"\",\"\",IFERROR(IF(P1396=6,1,IF(MATCH(P1396&\"/\"&R1396,読み替え表_クールビズ!$P$38:$P$59,0),1,0)),0))","v":""},"","",0,0,"*"]
[null,null,1387,null,null,null,null,null,null,null,null,null,null,null,null,null,null,null,null,null,null,null,null,null,null,null,null,null,null,null,null,null,"","",{"$f":"IF($N1397=\"\",\"\",IFERROR(IF(N1397=6,1,IF(MATCH(N1397&\"/\"&R1397,読み替え表_クールビズ!$P$38:$P$59,0),1,0)),0))","v":""},{"$f":"IF($P1397=\"\",\"\",IFERROR(IF(P1397=6,1,IF(MATCH(P1397&\"/\"&R1397,読み替え表_クールビズ!$P$38:$P$59,0),1,0)),0))","v":""},"","",0,0,"*"]
[null,null,1388,null,null,null,null,null,null,null,null,null,null,null,null,null,null,null,null,null,null,null,null,null,null,null,null,null,null,null,null,null,"","",{"$f":"IF($N1398=\"\",\"\",IFERROR(IF(N1398=6,1,IF(MATCH(N1398&\"/\"&R1398,読み替え表_クールビズ!$P$38:$P$59,0),1,0)),0))","v":""},{"$f":"IF($P1398=\"\",\"\",IFERROR(IF(P1398=6,1,IF(MATCH(P1398&\"/\"&R1398,読み替え表_クールビズ!$P$38:$P$59,0),1,0)),0))","v":""},"","",0,0,"*"]
[null,null,1389,null,null,null,null,null,null,null,null,null,null,null,null,null,null,null,null,null,null,null,null,null,null,null,null,null,null,null,null,null,"","",{"$f":"IF($N1399=\"\",\"\",IFERROR(IF(N1399=6,1,IF(MATCH(N1399&\"/\"&R1399,読み替え表_クールビズ!$P$38:$P$59,0),1,0)),0))","v":""},{"$f":"IF($P1399=\"\",\"\",IFERROR(IF(P1399=6,1,IF(MATCH(P1399&\"/\"&R1399,読み替え表_クールビズ!$P$38:$P$59,0),1,0)),0))","v":""},"","",0,0,"*"]
[null,null,1390,null,null,null,null,null,null,null,null,null,null,null,null,null,null,null,null,null,null,null,null,null,null,null,null,null,null,null,null,null,"","",{"$f":"IF($N1400=\"\",\"\",IFERROR(IF(N1400=6,1,IF(MATCH(N1400&\"/\"&R1400,読み替え表_クールビズ!$P$38:$P$59,0),1,0)),0))","v":""},{"$f":"IF($P1400=\"\",\"\",IFERROR(IF(P1400=6,1,IF(MATCH(P1400&\"/\"&R1400,読み替え表_クールビズ!$P$38:$P$59,0),1,0)),0))","v":""},"","",0,0,"*"]
[null,null,1391,null,null,null,null,null,null,null,null,null,null,null,null,null,null,null,null,null,null,null,null,null,null,null,null,null,null,null,null,null,"","",{"$f":"IF($N1401=\"\",\"\",IFERROR(IF(N1401=6,1,IF(MATCH(N1401&\"/\"&R1401,読み替え表_クールビズ!$P$38:$P$59,0),1,0)),0))","v":""},{"$f":"IF($P1401=\"\",\"\",IFERROR(IF(P1401=6,1,IF(MATCH(P1401&\"/\"&R1401,読み替え表_クールビズ!$P$38:$P$59,0),1,0)),0))","v":""},"","",0,0,"*"]
[null,null,1392,null,null,null,null,null,null,null,null,null,null,null,null,null,null,null,null,null,null,null,null,null,null,null,null,null,null,null,null,null,"","",{"$f":"IF($N1402=\"\",\"\",IFERROR(IF(N1402=6,1,IF(MATCH(N1402&\"/\"&R1402,読み替え表_クールビズ!$P$38:$P$59,0),1,0)),0))","v":""},{"$f":"IF($P1402=\"\",\"\",IFERROR(IF(P1402=6,1,IF(MATCH(P1402&\"/\"&R1402,読み替え表_クールビズ!$P$38:$P$59,0),1,0)),0))","v":""},"","",0,0,"*"]
[null,null,1393,null,null,null,null,null,null,null,null,null,null,null,null,null,null,null,null,null,null,null,null,null,null,null,null,null,null,null,null,null,"","",{"$f":"IF($N1403=\"\",\"\",IFERROR(IF(N1403=6,1,IF(MATCH(N1403&\"/\"&R1403,読み替え表_クールビズ!$P$38:$P$59,0),1,0)),0))","v":""},{"$f":"IF($P1403=\"\",\"\",IFERROR(IF(P1403=6,1,IF(MATCH(P1403&\"/\"&R1403,読み替え表_クールビズ!$P$38:$P$59,0),1,0)),0))","v":""},"","",0,0,"*"]
[null,null,1394,null,null,null,null,null,null,null,null,null,null,null,null,null,null,null,null,null,null,null,null,null,null,null,null,null,null,null,null,null,"","",{"$f":"IF($N1404=\"\",\"\",IFERROR(IF(N1404=6,1,IF(MATCH(N1404&\"/\"&R1404,読み替え表_クールビズ!$P$38:$P$59,0),1,0)),0))","v":""},{"$f":"IF($P1404=\"\",\"\",IFERROR(IF(P1404=6,1,IF(MATCH(P1404&\"/\"&R1404,読み替え表_クールビズ!$P$38:$P$59,0),1,0)),0))","v":""},"","",0,0,"*"]
[null,null,1395,null,null,null,null,null,null,null,null,null,null,null,null,null,null,null,null,null,null,null,null,null,null,null,null,null,null,null,null,null,"","",{"$f":"IF($N1405=\"\",\"\",IFERROR(IF(N1405=6,1,IF(MATCH(N1405&\"/\"&R1405,読み替え表_クールビズ!$P$38:$P$59,0),1,0)),0))","v":""},{"$f":"IF($P1405=\"\",\"\",IFERROR(IF(P1405=6,1,IF(MATCH(P1405&\"/\"&R1405,読み替え表_クールビズ!$P$38:$P$59,0),1,0)),0))","v":""},"","",0,0,"*"]
[null,null,1396,null,null,null,null,null,null,null,null,null,null,null,null,null,null,null,null,null,null,null,null,null,null,null,null,null,null,null,null,null,"","",{"$f":"IF($N1406=\"\",\"\",IFERROR(IF(N1406=6,1,IF(MATCH(N1406&\"/\"&R1406,読み替え表_クールビズ!$P$38:$P$59,0),1,0)),0))","v":""},{"$f":"IF($P1406=\"\",\"\",IFERROR(IF(P1406=6,1,IF(MATCH(P1406&\"/\"&R1406,読み替え表_クールビズ!$P$38:$P$59,0),1,0)),0))","v":""},"","",0,0,"*"]
[null,null,1397,null,null,null,null,null,null,null,null,null,null,null,null,null,null,null,null,null,null,null,null,null,null,null,null,null,null,null,null,null,"","",{"$f":"IF($N1407=\"\",\"\",IFERROR(IF(N1407=6,1,IF(MATCH(N1407&\"/\"&R1407,読み替え表_クールビズ!$P$38:$P$59,0),1,0)),0))","v":""},{"$f":"IF($P1407=\"\",\"\",IFERROR(IF(P1407=6,1,IF(MATCH(P1407&\"/\"&R1407,読み替え表_クールビズ!$P$38:$P$59,0),1,0)),0))","v":""},"","",0,0,"*"]
[null,null,1398,null,null,null,null,null,null,null,null,null,null,null,null,null,null,null,null,null,null,null,null,null,null,null,null,null,null,null,null,null,"","",{"$f":"IF($N1408=\"\",\"\",IFERROR(IF(N1408=6,1,IF(MATCH(N1408&\"/\"&R1408,読み替え表_クールビズ!$P$38:$P$59,0),1,0)),0))","v":""},{"$f":"IF($P1408=\"\",\"\",IFERROR(IF(P1408=6,1,IF(MATCH(P1408&\"/\"&R1408,読み替え表_クールビズ!$P$38:$P$59,0),1,0)),0))","v":""},"","",0,0,"*"]
[null,null,1399,null,null,null,null,null,null,null,null,null,null,null,null,null,null,null,null,null,null,null,null,null,null,null,null,null,null,null,null,null,"","",{"$f":"IF($N1409=\"\",\"\",IFERROR(IF(N1409=6,1,IF(MATCH(N1409&\"/\"&R1409,読み替え表_クールビズ!$P$38:$P$59,0),1,0)),0))","v":""},{"$f":"IF($P1409=\"\",\"\",IFERROR(IF(P1409=6,1,IF(MATCH(P1409&\"/\"&R1409,読み替え表_クールビズ!$P$38:$P$59,0),1,0)),0))","v":""},"","",0,0,"*"]
[null,null,1400,null,null,null,null,null,null,null,null,null,null,null,null,null,null,null,null,null,null,null,null,null,null,null,null,null,null,null,null,null,"","",{"$f":"IF($N1410=\"\",\"\",IFERROR(IF(N1410=6,1,IF(MATCH(N1410&\"/\"&R1410,読み替え表_クールビズ!$P$38:$P$59,0),1,0)),0))","v":""},{"$f":"IF($P1410=\"\",\"\",IFERROR(IF(P1410=6,1,IF(MATCH(P1410&\"/\"&R1410,読み替え表_クールビズ!$P$38:$P$59,0),1,0)),0))","v":""},"","",0,0,"*"]
[null,null,1401,null,null,null,null,null,null,null,null,null,null,null,null,null,null,null,null,null,null,null,null,null,null,null,null,null,null,null,null,null,"","",{"$f":"IF($N1411=\"\",\"\",IFERROR(IF(N1411=6,1,IF(MATCH(N1411&\"/\"&R1411,読み替え表_クールビズ!$P$38:$P$59,0),1,0)),0))","v":""},{"$f":"IF($P1411=\"\",\"\",IFERROR(IF(P1411=6,1,IF(MATCH(P1411&\"/\"&R1411,読み替え表_クールビズ!$P$38:$P$59,0),1,0)),0))","v":""},"","",0,0,"*"]
[null,null,1402,null,null,null,null,null,null,null,null,null,null,null,null,null,null,null,null,null,null,null,null,null,null,null,null,null,null,null,null,null,"","",{"$f":"IF($N1412=\"\",\"\",IFERROR(IF(N1412=6,1,IF(MATCH(N1412&\"/\"&R1412,読み替え表_クールビズ!$P$38:$P$59,0),1,0)),0))","v":""},{"$f":"IF($P1412=\"\",\"\",IFERROR(IF(P1412=6,1,IF(MATCH(P1412&\"/\"&R1412,読み替え表_クールビズ!$P$38:$P$59,0),1,0)),0))","v":""},"","",0,0,"*"]
[null,null,1403,null,null,null,null,null,null,null,null,null,null,null,null,null,null,null,null,null,null,null,null,null,null,null,null,null,null,null,null,null,"","",{"$f":"IF($N1413=\"\",\"\",IFERROR(IF(N1413=6,1,IF(MATCH(N1413&\"/\"&R1413,読み替え表_クールビズ!$P$38:$P$59,0),1,0)),0))","v":""},{"$f":"IF($P1413=\"\",\"\",IFERROR(IF(P1413=6,1,IF(MATCH(P1413&\"/\"&R1413,読み替え表_クールビズ!$P$38:$P$59,0),1,0)),0))","v":""},"","",0,0,"*"]
[null,null,1404,null,null,null,null,null,null,null,null,null,null,null,null,null,null,null,null,null,null,null,null,null,null,null,null,null,null,null,null,null,"","",{"$f":"IF($N1414=\"\",\"\",IFERROR(IF(N1414=6,1,IF(MATCH(N1414&\"/\"&R1414,読み替え表_クールビズ!$P$38:$P$59,0),1,0)),0))","v":""},{"$f":"IF($P1414=\"\",\"\",IFERROR(IF(P1414=6,1,IF(MATCH(P1414&\"/\"&R1414,読み替え表_クールビズ!$P$38:$P$59,0),1,0)),0))","v":""},"","",0,0,"*"]
[null,null,1405,null,null,null,null,null,null,null,null,null,null,null,null,null,null,null,null,null,null,null,null,null,null,null,null,null,null,null,null,null,"","",{"$f":"IF($N1415=\"\",\"\",IFERROR(IF(N1415=6,1,IF(MATCH(N1415&\"/\"&R1415,読み替え表_クールビズ!$P$38:$P$59,0),1,0)),0))","v":""},{"$f":"IF($P1415=\"\",\"\",IFERROR(IF(P1415=6,1,IF(MATCH(P1415&\"/\"&R1415,読み替え表_クールビズ!$P$38:$P$59,0),1,0)),0))","v":""},"","",0,0,"*"]
[null,null,1406,null,null,null,null,null,null,null,null,null,null,null,null,null,null,null,null,null,null,null,null,null,null,null,null,null,null,null,null,null,"","",{"$f":"IF($N1416=\"\",\"\",IFERROR(IF(N1416=6,1,IF(MATCH(N1416&\"/\"&R1416,読み替え表_クールビズ!$P$38:$P$59,0),1,0)),0))","v":""},{"$f":"IF($P1416=\"\",\"\",IFERROR(IF(P1416=6,1,IF(MATCH(P1416&\"/\"&R1416,読み替え表_クールビズ!$P$38:$P$59,0),1,0)),0))","v":""},"","",0,0,"*"]
[null,null,1407,null,null,null,null,null,null,null,null,null,null,null,null,null,null,null,null,null,null,null,null,null,null,null,null,null,null,null,null,null,"","",{"$f":"IF($N1417=\"\",\"\",IFERROR(IF(N1417=6,1,IF(MATCH(N1417&\"/\"&R1417,読み替え表_クールビズ!$P$38:$P$59,0),1,0)),0))","v":""},{"$f":"IF($P1417=\"\",\"\",IFERROR(IF(P1417=6,1,IF(MATCH(P1417&\"/\"&R1417,読み替え表_クールビズ!$P$38:$P$59,0),1,0)),0))","v":""},"","",0,0,"*"]
[null,null,1408,null,null,null,null,null,null,null,null,null,null,null,null,null,null,null,null,null,null,null,null,null,null,null,null,null,null,null,null,null,"","",{"$f":"IF($N1418=\"\",\"\",IFERROR(IF(N1418=6,1,IF(MATCH(N1418&\"/\"&R1418,読み替え表_クールビズ!$P$38:$P$59,0),1,0)),0))","v":""},{"$f":"IF($P1418=\"\",\"\",IFERROR(IF(P1418=6,1,IF(MATCH(P1418&\"/\"&R1418,読み替え表_クールビズ!$P$38:$P$59,0),1,0)),0))","v":""},"","",0,0,"*"]
[null,null,1409,null,null,null,null,null,null,null,null,null,null,null,null,null,null,null,null,null,null,null,null,null,null,null,null,null,null,null,null,null,"","",{"$f":"IF($N1419=\"\",\"\",IFERROR(IF(N1419=6,1,IF(MATCH(N1419&\"/\"&R1419,読み替え表_クールビズ!$P$38:$P$59,0),1,0)),0))","v":""},{"$f":"IF($P1419=\"\",\"\",IFERROR(IF(P1419=6,1,IF(MATCH(P1419&\"/\"&R1419,読み替え表_クールビズ!$P$38:$P$59,0),1,0)),0))","v":""},{"$f":"IF($N1419=\"\",\"\",IF(OR(CONCATENATE(N1419,$R1419)=\"22\",CONCATENATE(N1419,$R1419)=\"32\",CONCATENATE(N1419,$R1419)=\"42\",CONCATENATE(N1419,$R1419)=\"43\",CONCATENATE(N1419,$R1419)=\"51\",CONCATENATE(N1419,$R1419)=\"52\",CONCATENATE(N1419,$R1419)=\"53\"),1,0))","v":""},{"$f":"IF($P1419=\"\",\"\",IF(OR(CONCATENATE(P1419,$R1419)=\"22\",CONCATENATE(P1419,$R1419)=\"32\",CONCATENATE(P1419,$R1419)=\"42\",CONCATENATE(P1419,$R1419)=\"43\",CONCATENATE(P1419,$R1419)=\"51\",CONCATENATE(P1419,$R1419)=\"52\",CONCATENATE(P1419,$R1419)=\"53\"),1,0))","v":""},0,0,"*"]
[null,null,{"$f":"ROW()-10","v":1410},null,null,null,null,null,null,null,null,null,null,null,null,null,null,null,null,null,null,null,null,null,null,null,null,null,null,null,null,null,{"$f":"IF($J1420=\"\",\"\",IF(AND($J1420>=1,$J1420<=9),1,0))","v":""},{"$f":"IF($R1420=\"\",\"\",IF(OR($R1420=1,$R1420=2,$R1420=3),1,0))","v":""},{"$f":"IF($N1420=\"\",\"\",IFERROR(IF(N1420=6,1,IF(MATCH(N1420&\"/\"&R1420,読み替え表_クールビズ!$P$38:$P$59,0),1,0)),0))","v":""},{"$f":"IF($P1420=\"\",\"\",IFERROR(IF(P1420=6,1,IF(MATCH(P1420&\"/\"&R1420,読み替え表_クールビズ!$P$38:$P$59,0),1,0)),0))","v":""},"","",{"$f":"IF(OR(AK1420=1,AL1420=1),1,0)","v":0},{"$f":"IF(OR($AG1420=0,SUM(AI1420:AJ1420)=2),1,0)","v":0},"*"]
[null,null,1411,null,null,null,null,null,null,null,null,null,null,null,null,null,null,null,null,null,null,null,null,null,null,null,null,null,null,null,null,null,"","",{"$f":"IF($N1421=\"\",\"\",IFERROR(IF(N1421=6,1,IF(MATCH(N1421&\"/\"&R1421,読み替え表_クールビズ!$P$38:$P$59,0),1,0)),0))","v":""},{"$f":"IF($P1421=\"\",\"\",IFERROR(IF(P1421=6,1,IF(MATCH(P1421&\"/\"&R1421,読み替え表_クールビズ!$P$38:$P$59,0),1,0)),0))","v":""},"","",0,0,"*"]
[null,null,1412,null,null,null,null,null,null,null,null,null,null,null,null,null,null,null,null,null,null,null,null,null,null,null,null,null,null,null,null,null,"","",{"$f":"IF($N1422=\"\",\"\",IFERROR(IF(N1422=6,1,IF(MATCH(N1422&\"/\"&R1422,読み替え表_クールビズ!$P$38:$P$59,0),1,0)),0))","v":""},{"$f":"IF($P1422=\"\",\"\",IFERROR(IF(P1422=6,1,IF(MATCH(P1422&\"/\"&R1422,読み替え表_クールビズ!$P$38:$P$59,0),1,0)),0))","v":""},"","",0,0,"*"]
[null,null,1413,null,null,null,null,null,null,null,null,null,null,null,null,null,null,null,null,null,null,null,null,null,null,null,null,null,null,null,null,null,"","",{"$f":"IF($N1423=\"\",\"\",IFERROR(IF(N1423=6,1,IF(MATCH(N1423&\"/\"&R1423,読み替え表_クールビズ!$P$38:$P$59,0),1,0)),0))","v":""},{"$f":"IF($P1423=\"\",\"\",IFERROR(IF(P1423=6,1,IF(MATCH(P1423&\"/\"&R1423,読み替え表_クールビズ!$P$38:$P$59,0),1,0)),0))","v":""},"","",0,0,"*"]
[null,null,1414,null,null,null,null,null,null,null,null,null,null,null,null,null,null,null,null,null,null,null,null,null,null,null,null,null,null,null,null,null,"","",{"$f":"IF($N1424=\"\",\"\",IFERROR(IF(N1424=6,1,IF(MATCH(N1424&\"/\"&R1424,読み替え表_クールビズ!$P$38:$P$59,0),1,0)),0))","v":""},{"$f":"IF($P1424=\"\",\"\",IFERROR(IF(P1424=6,1,IF(MATCH(P1424&\"/\"&R1424,読み替え表_クールビズ!$P$38:$P$59,0),1,0)),0))","v":""},"","",0,0,"*"]
[null,null,1415,null,null,null,null,null,null,null,null,null,null,null,null,null,null,null,null,null,null,null,null,null,null,null,null,null,null,null,null,null,"","",{"$f":"IF($N1425=\"\",\"\",IFERROR(IF(N1425=6,1,IF(MATCH(N1425&\"/\"&R1425,読み替え表_クールビズ!$P$38:$P$59,0),1,0)),0))","v":""},{"$f":"IF($P1425=\"\",\"\",IFERROR(IF(P1425=6,1,IF(MATCH(P1425&\"/\"&R1425,読み替え表_クールビズ!$P$38:$P$59,0),1,0)),0))","v":""},"","",0,0,"*"]
[null,null,1416,null,null,null,null,null,null,null,null,null,null,null,null,null,null,null,null,null,null,null,null,null,null,null,null,null,null,null,null,null,"","",{"$f":"IF($N1426=\"\",\"\",IFERROR(IF(N1426=6,1,IF(MATCH(N1426&\"/\"&R1426,読み替え表_クールビズ!$P$38:$P$59,0),1,0)),0))","v":""},{"$f":"IF($P1426=\"\",\"\",IFERROR(IF(P1426=6,1,IF(MATCH(P1426&\"/\"&R1426,読み替え表_クールビズ!$P$38:$P$59,0),1,0)),0))","v":""},"","",0,0,"*"]
[null,null,1417,null,null,null,null,null,null,null,null,null,null,null,null,null,null,null,null,null,null,null,null,null,null,null,null,null,null,null,null,null,"","",{"$f":"IF($N1427=\"\",\"\",IFERROR(IF(N1427=6,1,IF(MATCH(N1427&\"/\"&R1427,読み替え表_クールビズ!$P$38:$P$59,0),1,0)),0))","v":""},{"$f":"IF($P1427=\"\",\"\",IFERROR(IF(P1427=6,1,IF(MATCH(P1427&\"/\"&R1427,読み替え表_クールビズ!$P$38:$P$59,0),1,0)),0))","v":""},"","",0,0,"*"]
[null,null,1418,null,null,null,null,null,null,null,null,null,null,null,null,null,null,null,null,null,null,null,null,null,null,null,null,null,null,null,null,null,"","",{"$f":"IF($N1428=\"\",\"\",IFERROR(IF(N1428=6,1,IF(MATCH(N1428&\"/\"&R1428,読み替え表_クールビズ!$P$38:$P$59,0),1,0)),0))","v":""},{"$f":"IF($P1428=\"\",\"\",IFERROR(IF(P1428=6,1,IF(MATCH(P1428&\"/\"&R1428,読み替え表_クールビズ!$P$38:$P$59,0),1,0)),0))","v":""},"","",0,0,"*"]
[null,null,1419,null,null,null,null,null,null,null,null,null,null,null,null,null,null,null,null,null,null,null,null,null,null,null,null,null,null,null,null,null,"","",{"$f":"IF($N1429=\"\",\"\",IFERROR(IF(N1429=6,1,IF(MATCH(N1429&\"/\"&R1429,読み替え表_クールビズ!$P$38:$P$59,0),1,0)),0))","v":""},{"$f":"IF($P1429=\"\",\"\",IFERROR(IF(P1429=6,1,IF(MATCH(P1429&\"/\"&R1429,読み替え表_クールビズ!$P$38:$P$59,0),1,0)),0))","v":""},"","",0,0,"*"]
[null,null,1420,null,null,null,null,null,null,null,null,null,null,null,null,null,null,null,null,null,null,null,null,null,null,null,null,null,null,null,null,null,"","",{"$f":"IF($N1430=\"\",\"\",IFERROR(IF(N1430=6,1,IF(MATCH(N1430&\"/\"&R1430,読み替え表_クールビズ!$P$38:$P$59,0),1,0)),0))","v":""},{"$f":"IF($P1430=\"\",\"\",IFERROR(IF(P1430=6,1,IF(MATCH(P1430&\"/\"&R1430,読み替え表_クールビズ!$P$38:$P$59,0),1,0)),0))","v":""},"","",0,0,"*"]
[null,null,1421,null,null,null,null,null,null,null,null,null,null,null,null,null,null,null,null,null,null,null,null,null,null,null,null,null,null,null,null,null,"","",{"$f":"IF($N1431=\"\",\"\",IFERROR(IF(N1431=6,1,IF(MATCH(N1431&\"/\"&R1431,読み替え表_クールビズ!$P$38:$P$59,0),1,0)),0))","v":""},{"$f":"IF($P1431=\"\",\"\",IFERROR(IF(P1431=6,1,IF(MATCH(P1431&\"/\"&R1431,読み替え表_クールビズ!$P$38:$P$59,0),1,0)),0))","v":""},"","",0,0,"*"]
[null,null,1422,null,null,null,null,null,null,null,null,null,null,null,null,null,null,null,null,null,null,null,null,null,null,null,null,null,null,null,null,null,"","",{"$f":"IF($N1432=\"\",\"\",IFERROR(IF(N1432=6,1,IF(MATCH(N1432&\"/\"&R1432,読み替え表_クールビズ!$P$38:$P$59,0),1,0)),0))","v":""},{"$f":"IF($P1432=\"\",\"\",IFERROR(IF(P1432=6,1,IF(MATCH(P1432&\"/\"&R1432,読み替え表_クールビズ!$P$38:$P$59,0),1,0)),0))","v":""},"","",0,0,"*"]
[null,null,1423,null,null,null,null,null,null,null,null,null,null,null,null,null,null,null,null,null,null,null,null,null,null,null,null,null,null,null,null,null,"","",{"$f":"IF($N1433=\"\",\"\",IFERROR(IF(N1433=6,1,IF(MATCH(N1433&\"/\"&R1433,読み替え表_クールビズ!$P$38:$P$59,0),1,0)),0))","v":""},{"$f":"IF($P1433=\"\",\"\",IFERROR(IF(P1433=6,1,IF(MATCH(P1433&\"/\"&R1433,読み替え表_クールビズ!$P$38:$P$59,0),1,0)),0))","v":""},"","",0,0,"*"]
[null,null,1424,null,null,null,null,null,null,null,null,null,null,null,null,null,null,null,null,null,null,null,null,null,null,null,null,null,null,null,null,null,"","",{"$f":"IF($N1434=\"\",\"\",IFERROR(IF(N1434=6,1,IF(MATCH(N1434&\"/\"&R1434,読み替え表_クールビズ!$P$38:$P$59,0),1,0)),0))","v":""},{"$f":"IF($P1434=\"\",\"\",IFERROR(IF(P1434=6,1,IF(MATCH(P1434&\"/\"&R1434,読み替え表_クールビズ!$P$38:$P$59,0),1,0)),0))","v":""},"","",0,0,"*"]
[null,null,1425,null,null,null,null,null,null,null,null,null,null,null,null,null,null,null,null,null,null,null,null,null,null,null,null,null,null,null,null,null,"","",{"$f":"IF($N1435=\"\",\"\",IFERROR(IF(N1435=6,1,IF(MATCH(N1435&\"/\"&R1435,読み替え表_クールビズ!$P$38:$P$59,0),1,0)),0))","v":""},{"$f":"IF($P1435=\"\",\"\",IFERROR(IF(P1435=6,1,IF(MATCH(P1435&\"/\"&R1435,読み替え表_クールビズ!$P$38:$P$59,0),1,0)),0))","v":""},"","",0,0,"*"]
[null,null,1426,null,null,null,null,null,null,null,null,null,null,null,null,null,null,null,null,null,null,null,null,null,null,null,null,null,null,null,null,null,"","",{"$f":"IF($N1436=\"\",\"\",IFERROR(IF(N1436=6,1,IF(MATCH(N1436&\"/\"&R1436,読み替え表_クールビズ!$P$38:$P$59,0),1,0)),0))","v":""},{"$f":"IF($P1436=\"\",\"\",IFERROR(IF(P1436=6,1,IF(MATCH(P1436&\"/\"&R1436,読み替え表_クールビズ!$P$38:$P$59,0),1,0)),0))","v":""},"","",0,0,"*"]
[null,null,1427,null,null,null,null,null,null,null,null,null,null,null,null,null,null,null,null,null,null,null,null,null,null,null,null,null,null,null,null,null,"","",{"$f":"IF($N1437=\"\",\"\",IFERROR(IF(N1437=6,1,IF(MATCH(N1437&\"/\"&R1437,読み替え表_クールビズ!$P$38:$P$59,0),1,0)),0))","v":""},{"$f":"IF($P1437=\"\",\"\",IFERROR(IF(P1437=6,1,IF(MATCH(P1437&\"/\"&R1437,読み替え表_クールビズ!$P$38:$P$59,0),1,0)),0))","v":""},"","",0,0,"*"]
[null,null,1428,null,null,null,null,null,null,null,null,null,null,null,null,null,null,null,null,null,null,null,null,null,null,null,null,null,null,null,null,null,"","",{"$f":"IF($N1438=\"\",\"\",IFERROR(IF(N1438=6,1,IF(MATCH(N1438&\"/\"&R1438,読み替え表_クールビズ!$P$38:$P$59,0),1,0)),0))","v":""},{"$f":"IF($P1438=\"\",\"\",IFERROR(IF(P1438=6,1,IF(MATCH(P1438&\"/\"&R1438,読み替え表_クールビズ!$P$38:$P$59,0),1,0)),0))","v":""},"","",0,0,"*"]
[null,null,1429,null,null,null,null,null,null,null,null,null,null,null,null,null,null,null,null,null,null,null,null,null,null,null,null,null,null,null,null,null,"","",{"$f":"IF($N1439=\"\",\"\",IFERROR(IF(N1439=6,1,IF(MATCH(N1439&\"/\"&R1439,読み替え表_クールビズ!$P$38:$P$59,0),1,0)),0))","v":""},{"$f":"IF($P1439=\"\",\"\",IFERROR(IF(P1439=6,1,IF(MATCH(P1439&\"/\"&R1439,読み替え表_クールビズ!$P$38:$P$59,0),1,0)),0))","v":""},"","",0,0,"*"]
[null,null,1430,null,null,null,null,null,null,null,null,null,null,null,null,null,null,null,null,null,null,null,null,null,null,null,null,null,null,null,null,null,"","",{"$f":"IF($N1440=\"\",\"\",IFERROR(IF(N1440=6,1,IF(MATCH(N1440&\"/\"&R1440,読み替え表_クールビズ!$P$38:$P$59,0),1,0)),0))","v":""},{"$f":"IF($P1440=\"\",\"\",IFERROR(IF(P1440=6,1,IF(MATCH(P1440&\"/\"&R1440,読み替え表_クールビズ!$P$38:$P$59,0),1,0)),0))","v":""},"","",0,0,"*"]
[null,null,1431,null,null,null,null,null,null,null,null,null,null,null,null,null,null,null,null,null,null,null,null,null,null,null,null,null,null,null,null,null,"","",{"$f":"IF($N1441=\"\",\"\",IFERROR(IF(N1441=6,1,IF(MATCH(N1441&\"/\"&R1441,読み替え表_クールビズ!$P$38:$P$59,0),1,0)),0))","v":""},{"$f":"IF($P1441=\"\",\"\",IFERROR(IF(P1441=6,1,IF(MATCH(P1441&\"/\"&R1441,読み替え表_クールビズ!$P$38:$P$59,0),1,0)),0))","v":""},"","",0,0,"*"]
[null,null,1432,null,null,null,null,null,null,null,null,null,null,null,null,null,null,null,null,null,null,null,null,null,null,null,null,null,null,null,null,null,"","",{"$f":"IF($N1442=\"\",\"\",IFERROR(IF(N1442=6,1,IF(MATCH(N1442&\"/\"&R1442,読み替え表_クールビズ!$P$38:$P$59,0),1,0)),0))","v":""},{"$f":"IF($P1442=\"\",\"\",IFERROR(IF(P1442=6,1,IF(MATCH(P1442&\"/\"&R1442,読み替え表_クールビズ!$P$38:$P$59,0),1,0)),0))","v":""},"","",0,0,"*"]
[null,null,1433,null,null,null,null,null,null,null,null,null,null,null,null,null,null,null,null,null,null,null,null,null,null,null,null,null,null,null,null,null,"","",{"$f":"IF($N1443=\"\",\"\",IFERROR(IF(N1443=6,1,IF(MATCH(N1443&\"/\"&R1443,読み替え表_クールビズ!$P$38:$P$59,0),1,0)),0))","v":""},{"$f":"IF($P1443=\"\",\"\",IFERROR(IF(P1443=6,1,IF(MATCH(P1443&\"/\"&R1443,読み替え表_クールビズ!$P$38:$P$59,0),1,0)),0))","v":""},"","",0,0,"*"]
[null,null,1434,null,null,null,null,null,null,null,null,null,null,null,null,null,null,null,null,null,null,null,null,null,null,null,null,null,null,null,null,null,"","",{"$f":"IF($N1444=\"\",\"\",IFERROR(IF(N1444=6,1,IF(MATCH(N1444&\"/\"&R1444,読み替え表_クールビズ!$P$38:$P$59,0),1,0)),0))","v":""},{"$f":"IF($P1444=\"\",\"\",IFERROR(IF(P1444=6,1,IF(MATCH(P1444&\"/\"&R1444,読み替え表_クールビズ!$P$38:$P$59,0),1,0)),0))","v":""},"","",0,0,"*"]
[null,null,1435,null,null,null,null,null,null,null,null,null,null,null,null,null,null,null,null,null,null,null,null,null,null,null,null,null,null,null,null,null,"","",{"$f":"IF($N1445=\"\",\"\",IFERROR(IF(N1445=6,1,IF(MATCH(N1445&\"/\"&R1445,読み替え表_クールビズ!$P$38:$P$59,0),1,0)),0))","v":""},{"$f":"IF($P1445=\"\",\"\",IFERROR(IF(P1445=6,1,IF(MATCH(P1445&\"/\"&R1445,読み替え表_クールビズ!$P$38:$P$59,0),1,0)),0))","v":""},"","",0,0,"*"]
[null,null,1436,null,null,null,null,null,null,null,null,null,null,null,null,null,null,null,null,null,null,null,null,null,null,null,null,null,null,null,null,null,"","",{"$f":"IF($N1446=\"\",\"\",IFERROR(IF(N1446=6,1,IF(MATCH(N1446&\"/\"&R1446,読み替え表_クールビズ!$P$38:$P$59,0),1,0)),0))","v":""},{"$f":"IF($P1446=\"\",\"\",IFERROR(IF(P1446=6,1,IF(MATCH(P1446&\"/\"&R1446,読み替え表_クールビズ!$P$38:$P$59,0),1,0)),0))","v":""},"","",0,0,"*"]
[null,null,1437,null,null,null,null,null,null,null,null,null,null,null,null,null,null,null,null,null,null,null,null,null,null,null,null,null,null,null,null,null,"","",{"$f":"IF($N1447=\"\",\"\",IFERROR(IF(N1447=6,1,IF(MATCH(N1447&\"/\"&R1447,読み替え表_クールビズ!$P$38:$P$59,0),1,0)),0))","v":""},{"$f":"IF($P1447=\"\",\"\",IFERROR(IF(P1447=6,1,IF(MATCH(P1447&\"/\"&R1447,読み替え表_クールビズ!$P$38:$P$59,0),1,0)),0))","v":""},"","",0,0,"*"]
[null,null,1438,null,null,null,null,null,null,null,null,null,null,null,null,null,null,null,null,null,null,null,null,null,null,null,null,null,null,null,null,null,"","",{"$f":"IF($N1448=\"\",\"\",IFERROR(IF(N1448=6,1,IF(MATCH(N1448&\"/\"&R1448,読み替え表_クールビズ!$P$38:$P$59,0),1,0)),0))","v":""},{"$f":"IF($P1448=\"\",\"\",IFERROR(IF(P1448=6,1,IF(MATCH(P1448&\"/\"&R1448,読み替え表_クールビズ!$P$38:$P$59,0),1,0)),0))","v":""},"","",0,0,"*"]
[null,null,1439,null,null,null,null,null,null,null,null,null,null,null,null,null,null,null,null,null,null,null,null,null,null,null,null,null,null,null,null,null,"","",{"$f":"IF($N1449=\"\",\"\",IFERROR(IF(N1449=6,1,IF(MATCH(N1449&\"/\"&R1449,読み替え表_クールビズ!$P$38:$P$59,0),1,0)),0))","v":""},{"$f":"IF($P1449=\"\",\"\",IFERROR(IF(P1449=6,1,IF(MATCH(P1449&\"/\"&R1449,読み替え表_クールビズ!$P$38:$P$59,0),1,0)),0))","v":""},"","",0,0,"*"]
[null,null,1440,null,null,null,null,null,null,null,null,null,null,null,null,null,null,null,null,null,null,null,null,null,null,null,null,null,null,null,null,null,"","",{"$f":"IF($N1450=\"\",\"\",IFERROR(IF(N1450=6,1,IF(MATCH(N1450&\"/\"&R1450,読み替え表_クールビズ!$P$38:$P$59,0),1,0)),0))","v":""},{"$f":"IF($P1450=\"\",\"\",IFERROR(IF(P1450=6,1,IF(MATCH(P1450&\"/\"&R1450,読み替え表_クールビズ!$P$38:$P$59,0),1,0)),0))","v":""},"","",0,0,"*"]
[null,null,1441,null,null,null,null,null,null,null,null,null,null,null,null,null,null,null,null,null,null,null,null,null,null,null,null,null,null,null,null,null,"","",{"$f":"IF($N1451=\"\",\"\",IFERROR(IF(N1451=6,1,IF(MATCH(N1451&\"/\"&R1451,読み替え表_クールビズ!$P$38:$P$59,0),1,0)),0))","v":""},{"$f":"IF($P1451=\"\",\"\",IFERROR(IF(P1451=6,1,IF(MATCH(P1451&\"/\"&R1451,読み替え表_クールビズ!$P$38:$P$59,0),1,0)),0))","v":""},"","",0,0,"*"]
[null,null,1442,null,null,null,null,null,null,null,null,null,null,null,null,null,null,null,null,null,null,null,null,null,null,null,null,null,null,null,null,null,"","",{"$f":"IF($N1452=\"\",\"\",IFERROR(IF(N1452=6,1,IF(MATCH(N1452&\"/\"&R1452,読み替え表_クールビズ!$P$38:$P$59,0),1,0)),0))","v":""},{"$f":"IF($P1452=\"\",\"\",IFERROR(IF(P1452=6,1,IF(MATCH(P1452&\"/\"&R1452,読み替え表_クールビズ!$P$38:$P$59,0),1,0)),0))","v":""},"","",0,0,"*"]
[null,null,1443,null,null,null,null,null,null,null,null,null,null,null,null,null,null,null,null,null,null,null,null,null,null,null,null,null,null,null,null,null,"","",{"$f":"IF($N1453=\"\",\"\",IFERROR(IF(N1453=6,1,IF(MATCH(N1453&\"/\"&R1453,読み替え表_クールビズ!$P$38:$P$59,0),1,0)),0))","v":""},{"$f":"IF($P1453=\"\",\"\",IFERROR(IF(P1453=6,1,IF(MATCH(P1453&\"/\"&R1453,読み替え表_クールビズ!$P$38:$P$59,0),1,0)),0))","v":""},"","",0,0,"*"]
[null,null,1444,null,null,null,null,null,null,null,null,null,null,null,null,null,null,null,null,null,null,null,null,null,null,null,null,null,null,null,null,null,"","",{"$f":"IF($N1454=\"\",\"\",IFERROR(IF(N1454=6,1,IF(MATCH(N1454&\"/\"&R1454,読み替え表_クールビズ!$P$38:$P$59,0),1,0)),0))","v":""},{"$f":"IF($P1454=\"\",\"\",IFERROR(IF(P1454=6,1,IF(MATCH(P1454&\"/\"&R1454,読み替え表_クールビズ!$P$38:$P$59,0),1,0)),0))","v":""},"","",0,0,"*"]
[null,null,1445,null,null,null,null,null,null,null,null,null,null,null,null,null,null,null,null,null,null,null,null,null,null,null,null,null,null,null,null,null,"","",{"$f":"IF($N1455=\"\",\"\",IFERROR(IF(N1455=6,1,IF(MATCH(N1455&\"/\"&R1455,読み替え表_クールビズ!$P$38:$P$59,0),1,0)),0))","v":""},{"$f":"IF($P1455=\"\",\"\",IFERROR(IF(P1455=6,1,IF(MATCH(P1455&\"/\"&R1455,読み替え表_クールビズ!$P$38:$P$59,0),1,0)),0))","v":""},"","",0,0,"*"]
[null,null,1446,null,null,null,null,null,null,null,null,null,null,null,null,null,null,null,null,null,null,null,null,null,null,null,null,null,null,null,null,null,"","",{"$f":"IF($N1456=\"\",\"\",IFERROR(IF(N1456=6,1,IF(MATCH(N1456&\"/\"&R1456,読み替え表_クールビズ!$P$38:$P$59,0),1,0)),0))","v":""},{"$f":"IF($P1456=\"\",\"\",IFERROR(IF(P1456=6,1,IF(MATCH(P1456&\"/\"&R1456,読み替え表_クールビズ!$P$38:$P$59,0),1,0)),0))","v":""},"","",0,0,"*"]
[null,null,1447,null,null,null,null,null,null,null,null,null,null,null,null,null,null,null,null,null,null,null,null,null,null,null,null,null,null,null,null,null,"","",{"$f":"IF($N1457=\"\",\"\",IFERROR(IF(N1457=6,1,IF(MATCH(N1457&\"/\"&R1457,読み替え表_クールビズ!$P$38:$P$59,0),1,0)),0))","v":""},{"$f":"IF($P1457=\"\",\"\",IFERROR(IF(P1457=6,1,IF(MATCH(P1457&\"/\"&R1457,読み替え表_クールビズ!$P$38:$P$59,0),1,0)),0))","v":""},"","",0,0,"*"]
[null,null,1448,null,null,null,null,null,null,null,null,null,null,null,null,null,null,null,null,null,null,null,null,null,null,null,null,null,null,null,null,null,"","",{"$f":"IF($N1458=\"\",\"\",IFERROR(IF(N1458=6,1,IF(MATCH(N1458&\"/\"&R1458,読み替え表_クールビズ!$P$38:$P$59,0),1,0)),0))","v":""},{"$f":"IF($P1458=\"\",\"\",IFERROR(IF(P1458=6,1,IF(MATCH(P1458&\"/\"&R1458,読み替え表_クールビズ!$P$38:$P$59,0),1,0)),0))","v":""},"","",0,0,"*"]
[null,null,1449,null,null,null,null,null,null,null,null,null,null,null,null,null,null,null,null,null,null,null,null,null,null,null,null,null,null,null,null,null,"","",{"$f":"IF($N1459=\"\",\"\",IFERROR(IF(N1459=6,1,IF(MATCH(N1459&\"/\"&R1459,読み替え表_クールビズ!$P$38:$P$59,0),1,0)),0))","v":""},{"$f":"IF($P1459=\"\",\"\",IFERROR(IF(P1459=6,1,IF(MATCH(P1459&\"/\"&R1459,読み替え表_クールビズ!$P$38:$P$59,0),1,0)),0))","v":""},"","",0,0,"*"]
[null,null,1450,null,null,null,null,null,null,null,null,null,null,null,null,null,null,null,null,null,null,null,null,null,null,null,null,null,null,null,null,null,"","",{"$f":"IF($N1460=\"\",\"\",IFERROR(IF(N1460=6,1,IF(MATCH(N1460&\"/\"&R1460,読み替え表_クールビズ!$P$38:$P$59,0),1,0)),0))","v":""},{"$f":"IF($P1460=\"\",\"\",IFERROR(IF(P1460=6,1,IF(MATCH(P1460&\"/\"&R1460,読み替え表_クールビズ!$P$38:$P$59,0),1,0)),0))","v":""},"","",0,0,"*"]
[null,null,1451,null,null,null,null,null,null,null,null,null,null,null,null,null,null,null,null,null,null,null,null,null,null,null,null,null,null,null,null,null,"","",{"$f":"IF($N1461=\"\",\"\",IFERROR(IF(N1461=6,1,IF(MATCH(N1461&\"/\"&R1461,読み替え表_クールビズ!$P$38:$P$59,0),1,0)),0))","v":""},{"$f":"IF($P1461=\"\",\"\",IFERROR(IF(P1461=6,1,IF(MATCH(P1461&\"/\"&R1461,読み替え表_クールビズ!$P$38:$P$59,0),1,0)),0))","v":""},"","",0,0,"*"]
[null,null,1452,null,null,null,null,null,null,null,null,null,null,null,null,null,null,null,null,null,null,null,null,null,null,null,null,null,null,null,null,null,"","",{"$f":"IF($N1462=\"\",\"\",IFERROR(IF(N1462=6,1,IF(MATCH(N1462&\"/\"&R1462,読み替え表_クールビズ!$P$38:$P$59,0),1,0)),0))","v":""},{"$f":"IF($P1462=\"\",\"\",IFERROR(IF(P1462=6,1,IF(MATCH(P1462&\"/\"&R1462,読み替え表_クールビズ!$P$38:$P$59,0),1,0)),0))","v":""},"","",0,0,"*"]
[null,null,1453,null,null,null,null,null,null,null,null,null,null,null,null,null,null,null,null,null,null,null,null,null,null,null,null,null,null,null,null,null,"","",{"$f":"IF($N1463=\"\",\"\",IFERROR(IF(N1463=6,1,IF(MATCH(N1463&\"/\"&R1463,読み替え表_クールビズ!$P$38:$P$59,0),1,0)),0))","v":""},{"$f":"IF($P1463=\"\",\"\",IFERROR(IF(P1463=6,1,IF(MATCH(P1463&\"/\"&R1463,読み替え表_クールビズ!$P$38:$P$59,0),1,0)),0))","v":""},"","",0,0,"*"]
[null,null,1454,null,null,null,null,null,null,null,null,null,null,null,null,null,null,null,null,null,null,null,null,null,null,null,null,null,null,null,null,null,"","",{"$f":"IF($N1464=\"\",\"\",IFERROR(IF(N1464=6,1,IF(MATCH(N1464&\"/\"&R1464,読み替え表_クールビズ!$P$38:$P$59,0),1,0)),0))","v":""},{"$f":"IF($P1464=\"\",\"\",IFERROR(IF(P1464=6,1,IF(MATCH(P1464&\"/\"&R1464,読み替え表_クールビズ!$P$38:$P$59,0),1,0)),0))","v":""},"","",0,0,"*"]
[null,null,1455,null,null,null,null,null,null,null,null,null,null,null,null,null,null,null,null,null,null,null,null,null,null,null,null,null,null,null,null,null,"","",{"$f":"IF($N1465=\"\",\"\",IFERROR(IF(N1465=6,1,IF(MATCH(N1465&\"/\"&R1465,読み替え表_クールビズ!$P$38:$P$59,0),1,0)),0))","v":""},{"$f":"IF($P1465=\"\",\"\",IFERROR(IF(P1465=6,1,IF(MATCH(P1465&\"/\"&R1465,読み替え表_クールビズ!$P$38:$P$59,0),1,0)),0))","v":""},"","",0,0,"*"]
[null,null,1456,null,null,null,null,null,null,null,null,null,null,null,null,null,null,null,null,null,null,null,null,null,null,null,null,null,null,null,null,null,"","",{"$f":"IF($N1466=\"\",\"\",IFERROR(IF(N1466=6,1,IF(MATCH(N1466&\"/\"&R1466,読み替え表_クールビズ!$P$38:$P$59,0),1,0)),0))","v":""},{"$f":"IF($P1466=\"\",\"\",IFERROR(IF(P1466=6,1,IF(MATCH(P1466&\"/\"&R1466,読み替え表_クールビズ!$P$38:$P$59,0),1,0)),0))","v":""},"","",0,0,"*"]
[null,null,1457,null,null,null,null,null,null,null,null,null,null,null,null,null,null,null,null,null,null,null,null,null,null,null,null,null,null,null,null,null,"","",{"$f":"IF($N1467=\"\",\"\",IFERROR(IF(N1467=6,1,IF(MATCH(N1467&\"/\"&R1467,読み替え表_クールビズ!$P$38:$P$59,0),1,0)),0))","v":""},{"$f":"IF($P1467=\"\",\"\",IFERROR(IF(P1467=6,1,IF(MATCH(P1467&\"/\"&R1467,読み替え表_クールビズ!$P$38:$P$59,0),1,0)),0))","v":""},"","",0,0,"*"]
[null,null,1458,null,null,null,null,null,null,null,null,null,null,null,null,null,null,null,null,null,null,null,null,null,null,null,null,null,null,null,null,null,"","",{"$f":"IF($N1468=\"\",\"\",IFERROR(IF(N1468=6,1,IF(MATCH(N1468&\"/\"&R1468,読み替え表_クールビズ!$P$38:$P$59,0),1,0)),0))","v":""},{"$f":"IF($P1468=\"\",\"\",IFERROR(IF(P1468=6,1,IF(MATCH(P1468&\"/\"&R1468,読み替え表_クールビズ!$P$38:$P$59,0),1,0)),0))","v":""},"","",0,0,"*"]
[null,null,1459,null,null,null,null,null,null,null,null,null,null,null,null,null,null,null,null,null,null,null,null,null,null,null,null,null,null,null,null,null,"","",{"$f":"IF($N1469=\"\",\"\",IFERROR(IF(N1469=6,1,IF(MATCH(N1469&\"/\"&R1469,読み替え表_クールビズ!$P$38:$P$59,0),1,0)),0))","v":""},{"$f":"IF($P1469=\"\",\"\",IFERROR(IF(P1469=6,1,IF(MATCH(P1469&\"/\"&R1469,読み替え表_クールビズ!$P$38:$P$59,0),1,0)),0))","v":""},"","",0,0,"*"]
[null,null,1460,null,null,null,null,null,null,null,null,null,null,null,null,null,null,null,null,null,null,null,null,null,null,null,null,null,null,null,null,null,"","",{"$f":"IF($N1470=\"\",\"\",IFERROR(IF(N1470=6,1,IF(MATCH(N1470&\"/\"&R1470,読み替え表_クールビズ!$P$38:$P$59,0),1,0)),0))","v":""},{"$f":"IF($P1470=\"\",\"\",IFERROR(IF(P1470=6,1,IF(MATCH(P1470&\"/\"&R1470,読み替え表_クールビズ!$P$38:$P$59,0),1,0)),0))","v":""},"","",0,0,"*"]
[null,null,1461,null,null,null,null,null,null,null,null,null,null,null,null,null,null,null,null,null,null,null,null,null,null,null,null,null,null,null,null,null,"","",{"$f":"IF($N1471=\"\",\"\",IFERROR(IF(N1471=6,1,IF(MATCH(N1471&\"/\"&R1471,読み替え表_クールビズ!$P$38:$P$59,0),1,0)),0))","v":""},{"$f":"IF($P1471=\"\",\"\",IFERROR(IF(P1471=6,1,IF(MATCH(P1471&\"/\"&R1471,読み替え表_クールビズ!$P$38:$P$59,0),1,0)),0))","v":""},"","",0,0,"*"]
[null,null,1462,null,null,null,null,null,null,null,null,null,null,null,null,null,null,null,null,null,null,null,null,null,null,null,null,null,null,null,null,null,"","",{"$f":"IF($N1472=\"\",\"\",IFERROR(IF(N1472=6,1,IF(MATCH(N1472&\"/\"&R1472,読み替え表_クールビズ!$P$38:$P$59,0),1,0)),0))","v":""},{"$f":"IF($P1472=\"\",\"\",IFERROR(IF(P1472=6,1,IF(MATCH(P1472&\"/\"&R1472,読み替え表_クールビズ!$P$38:$P$59,0),1,0)),0))","v":""},"","",0,0,"*"]
[null,null,1463,null,null,null,null,null,null,null,null,null,null,null,null,null,null,null,null,null,null,null,null,null,null,null,null,null,null,null,null,null,"","",{"$f":"IF($N1473=\"\",\"\",IFERROR(IF(N1473=6,1,IF(MATCH(N1473&\"/\"&R1473,読み替え表_クールビズ!$P$38:$P$59,0),1,0)),0))","v":""},{"$f":"IF($P1473=\"\",\"\",IFERROR(IF(P1473=6,1,IF(MATCH(P1473&\"/\"&R1473,読み替え表_クールビズ!$P$38:$P$59,0),1,0)),0))","v":""},"","",0,0,"*"]
[null,null,1464,null,null,null,null,null,null,null,null,null,null,null,null,null,null,null,null,null,null,null,null,null,null,null,null,null,null,null,null,null,"","",{"$f":"IF($N1474=\"\",\"\",IFERROR(IF(N1474=6,1,IF(MATCH(N1474&\"/\"&R1474,読み替え表_クールビズ!$P$38:$P$59,0),1,0)),0))","v":""},{"$f":"IF($P1474=\"\",\"\",IFERROR(IF(P1474=6,1,IF(MATCH(P1474&\"/\"&R1474,読み替え表_クールビズ!$P$38:$P$59,0),1,0)),0))","v":""},"","",0,0,"*"]
[null,null,1465,null,null,null,null,null,null,null,null,null,null,null,null,null,null,null,null,null,null,null,null,null,null,null,null,null,null,null,null,null,"","",{"$f":"IF($N1475=\"\",\"\",IFERROR(IF(N1475=6,1,IF(MATCH(N1475&\"/\"&R1475,読み替え表_クールビズ!$P$38:$P$59,0),1,0)),0))","v":""},{"$f":"IF($P1475=\"\",\"\",IFERROR(IF(P1475=6,1,IF(MATCH(P1475&\"/\"&R1475,読み替え表_クールビズ!$P$38:$P$59,0),1,0)),0))","v":""},"","",0,0,"*"]
[null,null,1466,null,null,null,null,null,null,null,null,null,null,null,null,null,null,null,null,null,null,null,null,null,null,null,null,null,null,null,null,null,"","",{"$f":"IF($N1476=\"\",\"\",IFERROR(IF(N1476=6,1,IF(MATCH(N1476&\"/\"&R1476,読み替え表_クールビズ!$P$38:$P$59,0),1,0)),0))","v":""},{"$f":"IF($P1476=\"\",\"\",IFERROR(IF(P1476=6,1,IF(MATCH(P1476&\"/\"&R1476,読み替え表_クールビズ!$P$38:$P$59,0),1,0)),0))","v":""},"","",0,0,"*"]
[null,null,1467,null,null,null,null,null,null,null,null,null,null,null,null,null,null,null,null,null,null,null,null,null,null,null,null,null,null,null,null,null,"","",{"$f":"IF($N1477=\"\",\"\",IFERROR(IF(N1477=6,1,IF(MATCH(N1477&\"/\"&R1477,読み替え表_クールビズ!$P$38:$P$59,0),1,0)),0))","v":""},{"$f":"IF($P1477=\"\",\"\",IFERROR(IF(P1477=6,1,IF(MATCH(P1477&\"/\"&R1477,読み替え表_クールビズ!$P$38:$P$59,0),1,0)),0))","v":""},"","",0,0,"*"]
[null,null,1468,null,null,null,null,null,null,null,null,null,null,null,null,null,null,null,null,null,null,null,null,null,null,null,null,null,null,null,null,null,"","",{"$f":"IF($N1478=\"\",\"\",IFERROR(IF(N1478=6,1,IF(MATCH(N1478&\"/\"&R1478,読み替え表_クールビズ!$P$38:$P$59,0),1,0)),0))","v":""},{"$f":"IF($P1478=\"\",\"\",IFERROR(IF(P1478=6,1,IF(MATCH(P1478&\"/\"&R1478,読み替え表_クールビズ!$P$38:$P$59,0),1,0)),0))","v":""},"","",0,0,"*"]
[null,null,1469,null,null,null,null,null,null,null,null,null,null,null,null,null,null,null,null,null,null,null,null,null,null,null,null,null,null,null,null,null,"","",{"$f":"IF($N1479=\"\",\"\",IFERROR(IF(N1479=6,1,IF(MATCH(N1479&\"/\"&R1479,読み替え表_クールビズ!$P$38:$P$59,0),1,0)),0))","v":""},{"$f":"IF($P1479=\"\",\"\",IFERROR(IF(P1479=6,1,IF(MATCH(P1479&\"/\"&R1479,読み替え表_クールビズ!$P$38:$P$59,0),1,0)),0))","v":""},"","",0,0,"*"]
[null,null,1470,null,null,null,null,null,null,null,null,null,null,null,null,null,null,null,null,null,null,null,null,null,null,null,null,null,null,null,null,null,"","",{"$f":"IF($N1480=\"\",\"\",IFERROR(IF(N1480=6,1,IF(MATCH(N1480&\"/\"&R1480,読み替え表_クールビズ!$P$38:$P$59,0),1,0)),0))","v":""},{"$f":"IF($P1480=\"\",\"\",IFERROR(IF(P1480=6,1,IF(MATCH(P1480&\"/\"&R1480,読み替え表_クールビズ!$P$38:$P$59,0),1,0)),0))","v":""},"","",0,0,"*"]
[null,null,1471,null,null,null,null,null,null,null,null,null,null,null,null,null,null,null,null,null,null,null,null,null,null,null,null,null,null,null,null,null,"","",{"$f":"IF($N1481=\"\",\"\",IFERROR(IF(N1481=6,1,IF(MATCH(N1481&\"/\"&R1481,読み替え表_クールビズ!$P$38:$P$59,0),1,0)),0))","v":""},{"$f":"IF($P1481=\"\",\"\",IFERROR(IF(P1481=6,1,IF(MATCH(P1481&\"/\"&R1481,読み替え表_クールビズ!$P$38:$P$59,0),1,0)),0))","v":""},"","",0,0,"*"]
[null,null,1472,null,null,null,null,null,null,null,null,null,null,null,null,null,null,null,null,null,null,null,null,null,null,null,null,null,null,null,null,null,"","",{"$f":"IF($N1482=\"\",\"\",IFERROR(IF(N1482=6,1,IF(MATCH(N1482&\"/\"&R1482,読み替え表_クールビズ!$P$38:$P$59,0),1,0)),0))","v":""},{"$f":"IF($P1482=\"\",\"\",IFERROR(IF(P1482=6,1,IF(MATCH(P1482&\"/\"&R1482,読み替え表_クールビズ!$P$38:$P$59,0),1,0)),0))","v":""},"","",0,0,"*"]
[null,null,1473,null,null,null,null,null,null,null,null,null,null,null,null,null,null,null,null,null,null,null,null,null,null,null,null,null,null,null,null,null,"","",{"$f":"IF($N1483=\"\",\"\",IFERROR(IF(N1483=6,1,IF(MATCH(N1483&\"/\"&R1483,読み替え表_クールビズ!$P$38:$P$59,0),1,0)),0))","v":""},{"$f":"IF($P1483=\"\",\"\",IFERROR(IF(P1483=6,1,IF(MATCH(P1483&\"/\"&R1483,読み替え表_クールビズ!$P$38:$P$59,0),1,0)),0))","v":""},{"$f":"IF($N1483=\"\",\"\",IF(OR(CONCATENATE(N1483,$R1483)=\"22\",CONCATENATE(N1483,$R1483)=\"32\",CONCATENATE(N1483,$R1483)=\"42\",CONCATENATE(N1483,$R1483)=\"43\",CONCATENATE(N1483,$R1483)=\"51\",CONCATENATE(N1483,$R1483)=\"52\",CONCATENATE(N1483,$R1483)=\"53\"),1,0))","v":""},{"$f":"IF($P1483=\"\",\"\",IF(OR(CONCATENATE(P1483,$R1483)=\"22\",CONCATENATE(P1483,$R1483)=\"32\",CONCATENATE(P1483,$R1483)=\"42\",CONCATENATE(P1483,$R1483)=\"43\",CONCATENATE(P1483,$R1483)=\"51\",CONCATENATE(P1483,$R1483)=\"52\",CONCATENATE(P1483,$R1483)=\"53\"),1,0))","v":""},0,0,"*"]
[null,null,{"$f":"ROW()-10","v":1474},null,null,null,null,null,null,null,null,null,null,null,null,null,null,null,null,null,null,null,null,null,null,null,null,null,null,null,null,null,{"$f":"IF($J1484=\"\",\"\",IF(AND($J1484>=1,$J1484<=9),1,0))","v":""},{"$f":"IF($R1484=\"\",\"\",IF(OR($R1484=1,$R1484=2,$R1484=3),1,0))","v":""},{"$f":"IF($N1484=\"\",\"\",IFERROR(IF(N1484=6,1,IF(MATCH(N1484&\"/\"&R1484,読み替え表_クールビズ!$P$38:$P$59,0),1,0)),0))","v":""},{"$f":"IF($P1484=\"\",\"\",IFERROR(IF(P1484=6,1,IF(MATCH(P1484&\"/\"&R1484,読み替え表_クールビズ!$P$38:$P$59,0),1,0)),0))","v":""},"","",{"$f":"IF(OR(AK1484=1,AL1484=1),1,0)","v":0},{"$f":"IF(OR($AG1484=0,SUM(AI1484:AJ1484)=2),1,0)","v":0},"*"]
[null,null,1475,null,null,null,null,null,null,null,null,null,null,null,null,null,null,null,null,null,null,null,null,null,null,null,null,null,null,null,null,null,"","",{"$f":"IF($N1485=\"\",\"\",IFERROR(IF(N1485=6,1,IF(MATCH(N1485&\"/\"&R1485,読み替え表_クールビズ!$P$38:$P$59,0),1,0)),0))","v":""},{"$f":"IF($P1485=\"\",\"\",IFERROR(IF(P1485=6,1,IF(MATCH(P1485&\"/\"&R1485,読み替え表_クールビズ!$P$38:$P$59,0),1,0)),0))","v":""},"","",0,0,"*"]
[null,null,1476,null,null,null,null,null,null,null,null,null,null,null,null,null,null,null,null,null,null,null,null,null,null,null,null,null,null,null,null,null,"","",{"$f":"IF($N1486=\"\",\"\",IFERROR(IF(N1486=6,1,IF(MATCH(N1486&\"/\"&R1486,読み替え表_クールビズ!$P$38:$P$59,0),1,0)),0))","v":""},{"$f":"IF($P1486=\"\",\"\",IFERROR(IF(P1486=6,1,IF(MATCH(P1486&\"/\"&R1486,読み替え表_クールビズ!$P$38:$P$59,0),1,0)),0))","v":""},"","",0,0,"*"]
[null,null,1477,null,null,null,null,null,null,null,null,null,null,null,null,null,null,null,null,null,null,null,null,null,null,null,null,null,null,null,null,null,"","",{"$f":"IF($N1487=\"\",\"\",IFERROR(IF(N1487=6,1,IF(MATCH(N1487&\"/\"&R1487,読み替え表_クールビズ!$P$38:$P$59,0),1,0)),0))","v":""},{"$f":"IF($P1487=\"\",\"\",IFERROR(IF(P1487=6,1,IF(MATCH(P1487&\"/\"&R1487,読み替え表_クールビズ!$P$38:$P$59,0),1,0)),0))","v":""},"","",0,0,"*"]
[null,null,1478,null,null,null,null,null,null,null,null,null,null,null,null,null,null,null,null,null,null,null,null,null,null,null,null,null,null,null,null,null,"","",{"$f":"IF($N1488=\"\",\"\",IFERROR(IF(N1488=6,1,IF(MATCH(N1488&\"/\"&R1488,読み替え表_クールビズ!$P$38:$P$59,0),1,0)),0))","v":""},{"$f":"IF($P1488=\"\",\"\",IFERROR(IF(P1488=6,1,IF(MATCH(P1488&\"/\"&R1488,読み替え表_クールビズ!$P$38:$P$59,0),1,0)),0))","v":""},"","",0,0,"*"]
[null,null,1479,null,null,null,null,null,null,null,null,null,null,null,null,null,null,null,null,null,null,null,null,null,null,null,null,null,null,null,null,null,"","",{"$f":"IF($N1489=\"\",\"\",IFERROR(IF(N1489=6,1,IF(MATCH(N1489&\"/\"&R1489,読み替え表_クールビズ!$P$38:$P$59,0),1,0)),0))","v":""},{"$f":"IF($P1489=\"\",\"\",IFERROR(IF(P1489=6,1,IF(MATCH(P1489&\"/\"&R1489,読み替え表_クールビズ!$P$38:$P$59,0),1,0)),0))","v":""},"","",0,0,"*"]
[null,null,1480,null,null,null,null,null,null,null,null,null,null,null,null,null,null,null,null,null,null,null,null,null,null,null,null,null,null,null,null,null,"","",{"$f":"IF($N1490=\"\",\"\",IFERROR(IF(N1490=6,1,IF(MATCH(N1490&\"/\"&R1490,読み替え表_クールビズ!$P$38:$P$59,0),1,0)),0))","v":""},{"$f":"IF($P1490=\"\",\"\",IFERROR(IF(P1490=6,1,IF(MATCH(P1490&\"/\"&R1490,読み替え表_クールビズ!$P$38:$P$59,0),1,0)),0))","v":""},"","",0,0,"*"]
[null,null,1481,null,null,null,null,null,null,null,null,null,null,null,null,null,null,null,null,null,null,null,null,null,null,null,null,null,null,null,null,null,"","",{"$f":"IF($N1491=\"\",\"\",IFERROR(IF(N1491=6,1,IF(MATCH(N1491&\"/\"&R1491,読み替え表_クールビズ!$P$38:$P$59,0),1,0)),0))","v":""},{"$f":"IF($P1491=\"\",\"\",IFERROR(IF(P1491=6,1,IF(MATCH(P1491&\"/\"&R1491,読み替え表_クールビズ!$P$38:$P$59,0),1,0)),0))","v":""},"","",0,0,"*"]
[null,null,1482,null,null,null,null,null,null,null,null,null,null,null,null,null,null,null,null,null,null,null,null,null,null,null,null,null,null,null,null,null,"","",{"$f":"IF($N1492=\"\",\"\",IFERROR(IF(N1492=6,1,IF(MATCH(N1492&\"/\"&R1492,読み替え表_クールビズ!$P$38:$P$59,0),1,0)),0))","v":""},{"$f":"IF($P1492=\"\",\"\",IFERROR(IF(P1492=6,1,IF(MATCH(P1492&\"/\"&R1492,読み替え表_クールビズ!$P$38:$P$59,0),1,0)),0))","v":""},"","",0,0,"*"]
[null,null,1483,null,null,null,null,null,null,null,null,null,null,null,null,null,null,null,null,null,null,null,null,null,null,null,null,null,null,null,null,null,"","",{"$f":"IF($N1493=\"\",\"\",IFERROR(IF(N1493=6,1,IF(MATCH(N1493&\"/\"&R1493,読み替え表_クールビズ!$P$38:$P$59,0),1,0)),0))","v":""},{"$f":"IF($P1493=\"\",\"\",IFERROR(IF(P1493=6,1,IF(MATCH(P1493&\"/\"&R1493,読み替え表_クールビズ!$P$38:$P$59,0),1,0)),0))","v":""},"","",0,0,"*"]
[null,null,1484,null,null,null,null,null,null,null,null,null,null,null,null,null,null,null,null,null,null,null,null,null,null,null,null,null,null,null,null,null,"","",{"$f":"IF($N1494=\"\",\"\",IFERROR(IF(N1494=6,1,IF(MATCH(N1494&\"/\"&R1494,読み替え表_クールビズ!$P$38:$P$59,0),1,0)),0))","v":""},{"$f":"IF($P1494=\"\",\"\",IFERROR(IF(P1494=6,1,IF(MATCH(P1494&\"/\"&R1494,読み替え表_クールビズ!$P$38:$P$59,0),1,0)),0))","v":""},"","",0,0,"*"]
[null,null,1485,null,null,null,null,null,null,null,null,null,null,null,null,null,null,null,null,null,null,null,null,null,null,null,null,null,null,null,null,null,"","",{"$f":"IF($N1495=\"\",\"\",IFERROR(IF(N1495=6,1,IF(MATCH(N1495&\"/\"&R1495,読み替え表_クールビズ!$P$38:$P$59,0),1,0)),0))","v":""},{"$f":"IF($P1495=\"\",\"\",IFERROR(IF(P1495=6,1,IF(MATCH(P1495&\"/\"&R1495,読み替え表_クールビズ!$P$38:$P$59,0),1,0)),0))","v":""},"","",0,0,"*"]
[null,null,1486,null,null,null,null,null,null,null,null,null,null,null,null,null,null,null,null,null,null,null,null,null,null,null,null,null,null,null,null,null,"","",{"$f":"IF($N1496=\"\",\"\",IFERROR(IF(N1496=6,1,IF(MATCH(N1496&\"/\"&R1496,読み替え表_クールビズ!$P$38:$P$59,0),1,0)),0))","v":""},{"$f":"IF($P1496=\"\",\"\",IFERROR(IF(P1496=6,1,IF(MATCH(P1496&\"/\"&R1496,読み替え表_クールビズ!$P$38:$P$59,0),1,0)),0))","v":""},"","",0,0,"*"]
[null,null,1487,null,null,null,null,null,null,null,null,null,null,null,null,null,null,null,null,null,null,null,null,null,null,null,null,null,null,null,null,null,"","",{"$f":"IF($N1497=\"\",\"\",IFERROR(IF(N1497=6,1,IF(MATCH(N1497&\"/\"&R1497,読み替え表_クールビズ!$P$38:$P$59,0),1,0)),0))","v":""},{"$f":"IF($P1497=\"\",\"\",IFERROR(IF(P1497=6,1,IF(MATCH(P1497&\"/\"&R1497,読み替え表_クールビズ!$P$38:$P$59,0),1,0)),0))","v":""},"","",0,0,"*"]
[null,null,1488,null,null,null,null,null,null,null,null,null,null,null,null,null,null,null,null,null,null,null,null,null,null,null,null,null,null,null,null,null,"","",{"$f":"IF($N1498=\"\",\"\",IFERROR(IF(N1498=6,1,IF(MATCH(N1498&\"/\"&R1498,読み替え表_クールビズ!$P$38:$P$59,0),1,0)),0))","v":""},{"$f":"IF($P1498=\"\",\"\",IFERROR(IF(P1498=6,1,IF(MATCH(P1498&\"/\"&R1498,読み替え表_クールビズ!$P$38:$P$59,0),1,0)),0))","v":""},"","",0,0,"*"]
[null,null,1489,null,null,null,null,null,null,null,null,null,null,null,null,null,null,null,null,null,null,null,null,null,null,null,null,null,null,null,null,null,"","",{"$f":"IF($N1499=\"\",\"\",IFERROR(IF(N1499=6,1,IF(MATCH(N1499&\"/\"&R1499,読み替え表_クールビズ!$P$38:$P$59,0),1,0)),0))","v":""},{"$f":"IF($P1499=\"\",\"\",IFERROR(IF(P1499=6,1,IF(MATCH(P1499&\"/\"&R1499,読み替え表_クールビズ!$P$38:$P$59,0),1,0)),0))","v":""},"","",0,0,"*"]
[null,null,1490,null,null,null,null,null,null,null,null,null,null,null,null,null,null,null,null,null,null,null,null,null,null,null,null,null,null,null,null,null,"","",{"$f":"IF($N1500=\"\",\"\",IFERROR(IF(N1500=6,1,IF(MATCH(N1500&\"/\"&R1500,読み替え表_クールビズ!$P$38:$P$59,0),1,0)),0))","v":""},{"$f":"IF($P1500=\"\",\"\",IFERROR(IF(P1500=6,1,IF(MATCH(P1500&\"/\"&R1500,読み替え表_クールビズ!$P$38:$P$59,0),1,0)),0))","v":""},"","",0,0,"*"]
[null,null,1491,null,null,null,null,null,null,null,null,null,null,null,null,null,null,null,null,null,null,null,null,null,null,null,null,null,null,null,null,null,"","",{"$f":"IF($N1501=\"\",\"\",IFERROR(IF(N1501=6,1,IF(MATCH(N1501&\"/\"&R1501,読み替え表_クールビズ!$P$38:$P$59,0),1,0)),0))","v":""},{"$f":"IF($P1501=\"\",\"\",IFERROR(IF(P1501=6,1,IF(MATCH(P1501&\"/\"&R1501,読み替え表_クールビズ!$P$38:$P$59,0),1,0)),0))","v":""},"","",0,0,"*"]
[null,null,1492,null,null,null,null,null,null,null,null,null,null,null,null,null,null,null,null,null,null,null,null,null,null,null,null,null,null,null,null,null,"","",{"$f":"IF($N1502=\"\",\"\",IFERROR(IF(N1502=6,1,IF(MATCH(N1502&\"/\"&R1502,読み替え表_クールビズ!$P$38:$P$59,0),1,0)),0))","v":""},{"$f":"IF($P1502=\"\",\"\",IFERROR(IF(P1502=6,1,IF(MATCH(P1502&\"/\"&R1502,読み替え表_クールビズ!$P$38:$P$59,0),1,0)),0))","v":""},"","",0,0,"*"]
[null,null,1493,null,null,null,null,null,null,null,null,null,null,null,null,null,null,null,null,null,null,null,null,null,null,null,null,null,null,null,null,null,"","",{"$f":"IF($N1503=\"\",\"\",IFERROR(IF(N1503=6,1,IF(MATCH(N1503&\"/\"&R1503,読み替え表_クールビズ!$P$38:$P$59,0),1,0)),0))","v":""},{"$f":"IF($P1503=\"\",\"\",IFERROR(IF(P1503=6,1,IF(MATCH(P1503&\"/\"&R1503,読み替え表_クールビズ!$P$38:$P$59,0),1,0)),0))","v":""},"","",0,0,"*"]
[null,null,1494,null,null,null,null,null,null,null,null,null,null,null,null,null,null,null,null,null,null,null,null,null,null,null,null,null,null,null,null,null,"","",{"$f":"IF($N1504=\"\",\"\",IFERROR(IF(N1504=6,1,IF(MATCH(N1504&\"/\"&R1504,読み替え表_クールビズ!$P$38:$P$59,0),1,0)),0))","v":""},{"$f":"IF($P1504=\"\",\"\",IFERROR(IF(P1504=6,1,IF(MATCH(P1504&\"/\"&R1504,読み替え表_クールビズ!$P$38:$P$59,0),1,0)),0))","v":""},"","",0,0,"*"]
[null,null,1495,null,null,null,null,null,null,null,null,null,null,null,null,null,null,null,null,null,null,null,null,null,null,null,null,null,null,null,null,null,"","",{"$f":"IF($N1505=\"\",\"\",IFERROR(IF(N1505=6,1,IF(MATCH(N1505&\"/\"&R1505,読み替え表_クールビズ!$P$38:$P$59,0),1,0)),0))","v":""},{"$f":"IF($P1505=\"\",\"\",IFERROR(IF(P1505=6,1,IF(MATCH(P1505&\"/\"&R1505,読み替え表_クールビズ!$P$38:$P$59,0),1,0)),0))","v":""},"","",0,0,"*"]
[null,null,1496,null,null,null,null,null,null,null,null,null,null,null,null,null,null,null,null,null,null,null,null,null,null,null,null,null,null,null,null,null,"","",{"$f":"IF($N1506=\"\",\"\",IFERROR(IF(N1506=6,1,IF(MATCH(N1506&\"/\"&R1506,読み替え表_クールビズ!$P$38:$P$59,0),1,0)),0))","v":""},{"$f":"IF($P1506=\"\",\"\",IFERROR(IF(P1506=6,1,IF(MATCH(P1506&\"/\"&R1506,読み替え表_クールビズ!$P$38:$P$59,0),1,0)),0))","v":""},"","",0,0,"*"]
[null,null,1497,null,null,null,null,null,null,null,null,null,null,null,null,null,null,null,null,null,null,null,null,null,null,null,null,null,null,null,null,null,"","",{"$f":"IF($N1507=\"\",\"\",IFERROR(IF(N1507=6,1,IF(MATCH(N1507&\"/\"&R1507,読み替え表_クールビズ!$P$38:$P$59,0),1,0)),0))","v":""},{"$f":"IF($P1507=\"\",\"\",IFERROR(IF(P1507=6,1,IF(MATCH(P1507&\"/\"&R1507,読み替え表_クールビズ!$P$38:$P$59,0),1,0)),0))","v":""},"","",0,0,"*"]
[null,null,1498,null,null,null,null,null,null,null,null,null,null,null,null,null,null,null,null,null,null,null,null,null,null,null,null,null,null,null,null,null,"","",{"$f":"IF($N1508=\"\",\"\",IFERROR(IF(N1508=6,1,IF(MATCH(N1508&\"/\"&R1508,読み替え表_クールビズ!$P$38:$P$59,0),1,0)),0))","v":""},{"$f":"IF($P1508=\"\",\"\",IFERROR(IF(P1508=6,1,IF(MATCH(P1508&\"/\"&R1508,読み替え表_クールビズ!$P$38:$P$59,0),1,0)),0))","v":""},"","",0,0,"*"]
[null,null,1499,null,null,null,null,null,null,null,null,null,null,null,null,null,null,null,null,null,null,null,null,null,null,null,null,null,null,null,null,null,"","",{"$f":"IF($N1509=\"\",\"\",IFERROR(IF(N1509=6,1,IF(MATCH(N1509&\"/\"&R1509,読み替え表_クールビズ!$P$38:$P$59,0),1,0)),0))","v":""},{"$f":"IF($P1509=\"\",\"\",IFERROR(IF(P1509=6,1,IF(MATCH(P1509&\"/\"&R1509,読み替え表_クールビズ!$P$38:$P$59,0),1,0)),0))","v":""},"","",0,0,"*"]
[null,null,1500,null,null,null,null,null,null,null,null,null,null,null,null,null,null,null,null,null,null,null,null,null,null,null,null,null,null,null,null,null,"","",{"$f":"IF($N1510=\"\",\"\",IFERROR(IF(N1510=6,1,IF(MATCH(N1510&\"/\"&R1510,読み替え表_クールビズ!$P$38:$P$59,0),1,0)),0))","v":""},{"$f":"IF($P1510=\"\",\"\",IFERROR(IF(P1510=6,1,IF(MATCH(P1510&\"/\"&R1510,読み替え表_クールビズ!$P$38:$P$59,0),1,0)),0))","v":""},"","",0,0,"*"]
[null,null,1501,null,null,null,null,null,null,null,null,null,null,null,null,null,null,null,null,null,null,null,null,null,null,null,null,null,null,null,null,null,"","",{"$f":"IF($N1511=\"\",\"\",IFERROR(IF(N1511=6,1,IF(MATCH(N1511&\"/\"&R1511,読み替え表_クールビズ!$P$38:$P$59,0),1,0)),0))","v":""},{"$f":"IF($P1511=\"\",\"\",IFERROR(IF(P1511=6,1,IF(MATCH(P1511&\"/\"&R1511,読み替え表_クールビズ!$P$38:$P$59,0),1,0)),0))","v":""},"","",0,0,"*"]
[null,null,1502,null,null,null,null,null,null,null,null,null,null,null,null,null,null,null,null,null,null,null,null,null,null,null,null,null,null,null,null,null,"","",{"$f":"IF($N1512=\"\",\"\",IFERROR(IF(N1512=6,1,IF(MATCH(N1512&\"/\"&R1512,読み替え表_クールビズ!$P$38:$P$59,0),1,0)),0))","v":""},{"$f":"IF($P1512=\"\",\"\",IFERROR(IF(P1512=6,1,IF(MATCH(P1512&\"/\"&R1512,読み替え表_クールビズ!$P$38:$P$59,0),1,0)),0))","v":""},"","",0,0,"*"]
[null,null,1503,null,null,null,null,null,null,null,null,null,null,null,null,null,null,null,null,null,null,null,null,null,null,null,null,null,null,null,null,null,"","",{"$f":"IF($N1513=\"\",\"\",IFERROR(IF(N1513=6,1,IF(MATCH(N1513&\"/\"&R1513,読み替え表_クールビズ!$P$38:$P$59,0),1,0)),0))","v":""},{"$f":"IF($P1513=\"\",\"\",IFERROR(IF(P1513=6,1,IF(MATCH(P1513&\"/\"&R1513,読み替え表_クールビズ!$P$38:$P$59,0),1,0)),0))","v":""},"","",0,0,"*"]
[null,null,1504,null,null,null,null,null,null,null,null,null,null,null,null,null,null,null,null,null,null,null,null,null,null,null,null,null,null,null,null,null,"","",{"$f":"IF($N1514=\"\",\"\",IFERROR(IF(N1514=6,1,IF(MATCH(N1514&\"/\"&R1514,読み替え表_クールビズ!$P$38:$P$59,0),1,0)),0))","v":""},{"$f":"IF($P1514=\"\",\"\",IFERROR(IF(P1514=6,1,IF(MATCH(P1514&\"/\"&R1514,読み替え表_クールビズ!$P$38:$P$59,0),1,0)),0))","v":""},"","",0,0,"*"]
[null,null,1505,null,null,null,null,null,null,null,null,null,null,null,null,null,null,null,null,null,null,null,null,null,null,null,null,null,null,null,null,null,"","",{"$f":"IF($N1515=\"\",\"\",IFERROR(IF(N1515=6,1,IF(MATCH(N1515&\"/\"&R1515,読み替え表_クールビズ!$P$38:$P$59,0),1,0)),0))","v":""},{"$f":"IF($P1515=\"\",\"\",IFERROR(IF(P1515=6,1,IF(MATCH(P1515&\"/\"&R1515,読み替え表_クールビズ!$P$38:$P$59,0),1,0)),0))","v":""},"","",0,0,"*"]
[null,null,1506,null,null,null,null,null,null,null,null,null,null,null,null,null,null,null,null,null,null,null,null,null,null,null,null,null,null,null,null,null,"","",{"$f":"IF($N1516=\"\",\"\",IFERROR(IF(N1516=6,1,IF(MATCH(N1516&\"/\"&R1516,読み替え表_クールビズ!$P$38:$P$59,0),1,0)),0))","v":""},{"$f":"IF($P1516=\"\",\"\",IFERROR(IF(P1516=6,1,IF(MATCH(P1516&\"/\"&R1516,読み替え表_クールビズ!$P$38:$P$59,0),1,0)),0))","v":""},"","",0,0,"*"]
[null,null,1507,null,null,null,null,null,null,null,null,null,null,null,null,null,null,null,null,null,null,null,null,null,null,null,null,null,null,null,null,null,"","",{"$f":"IF($N1517=\"\",\"\",IFERROR(IF(N1517=6,1,IF(MATCH(N1517&\"/\"&R1517,読み替え表_クールビズ!$P$38:$P$59,0),1,0)),0))","v":""},{"$f":"IF($P1517=\"\",\"\",IFERROR(IF(P1517=6,1,IF(MATCH(P1517&\"/\"&R1517,読み替え表_クールビズ!$P$38:$P$59,0),1,0)),0))","v":""},"","",0,0,"*"]
[null,null,1508,null,null,null,null,null,null,null,null,null,null,null,null,null,null,null,null,null,null,null,null,null,null,null,null,null,null,null,null,null,"","",{"$f":"IF($N1518=\"\",\"\",IFERROR(IF(N1518=6,1,IF(MATCH(N1518&\"/\"&R1518,読み替え表_クールビズ!$P$38:$P$59,0),1,0)),0))","v":""},{"$f":"IF($P1518=\"\",\"\",IFERROR(IF(P1518=6,1,IF(MATCH(P1518&\"/\"&R1518,読み替え表_クールビズ!$P$38:$P$59,0),1,0)),0))","v":""},"","",0,0,"*"]
[null,null,1509,null,null,null,null,null,null,null,null,null,null,null,null,null,null,null,null,null,null,null,null,null,null,null,null,null,null,null,null,null,"","",{"$f":"IF($N1519=\"\",\"\",IFERROR(IF(N1519=6,1,IF(MATCH(N1519&\"/\"&R1519,読み替え表_クールビズ!$P$38:$P$59,0),1,0)),0))","v":""},{"$f":"IF($P1519=\"\",\"\",IFERROR(IF(P1519=6,1,IF(MATCH(P1519&\"/\"&R1519,読み替え表_クールビズ!$P$38:$P$59,0),1,0)),0))","v":""},"","",0,0,"*"]
[null,null,1510,null,null,null,null,null,null,null,null,null,null,null,null,null,null,null,null,null,null,null,null,null,null,null,null,null,null,null,null,null,"","",{"$f":"IF($N1520=\"\",\"\",IFERROR(IF(N1520=6,1,IF(MATCH(N1520&\"/\"&R1520,読み替え表_クールビズ!$P$38:$P$59,0),1,0)),0))","v":""},{"$f":"IF($P1520=\"\",\"\",IFERROR(IF(P1520=6,1,IF(MATCH(P1520&\"/\"&R1520,読み替え表_クールビズ!$P$38:$P$59,0),1,0)),0))","v":""},"","",0,0,"*"]
[null,null,1511,null,null,null,null,null,null,null,null,null,null,null,null,null,null,null,null,null,null,null,null,null,null,null,null,null,null,null,null,null,"","",{"$f":"IF($N1521=\"\",\"\",IFERROR(IF(N1521=6,1,IF(MATCH(N1521&\"/\"&R1521,読み替え表_クールビズ!$P$38:$P$59,0),1,0)),0))","v":""},{"$f":"IF($P1521=\"\",\"\",IFERROR(IF(P1521=6,1,IF(MATCH(P1521&\"/\"&R1521,読み替え表_クールビズ!$P$38:$P$59,0),1,0)),0))","v":""},"","",0,0,"*"]
[null,null,1512,null,null,null,null,null,null,null,null,null,null,null,null,null,null,null,null,null,null,null,null,null,null,null,null,null,null,null,null,null,"","",{"$f":"IF($N1522=\"\",\"\",IFERROR(IF(N1522=6,1,IF(MATCH(N1522&\"/\"&R1522,読み替え表_クールビズ!$P$38:$P$59,0),1,0)),0))","v":""},{"$f":"IF($P1522=\"\",\"\",IFERROR(IF(P1522=6,1,IF(MATCH(P1522&\"/\"&R1522,読み替え表_クールビズ!$P$38:$P$59,0),1,0)),0))","v":""},"","",0,0,"*"]
[null,null,1513,null,null,null,null,null,null,null,null,null,null,null,null,null,null,null,null,null,null,null,null,null,null,null,null,null,null,null,null,null,"","",{"$f":"IF($N1523=\"\",\"\",IFERROR(IF(N1523=6,1,IF(MATCH(N1523&\"/\"&R1523,読み替え表_クールビズ!$P$38:$P$59,0),1,0)),0))","v":""},{"$f":"IF($P1523=\"\",\"\",IFERROR(IF(P1523=6,1,IF(MATCH(P1523&\"/\"&R1523,読み替え表_クールビズ!$P$38:$P$59,0),1,0)),0))","v":""},"","",0,0,"*"]
[null,null,1514,null,null,null,null,null,null,null,null,null,null,null,null,null,null,null,null,null,null,null,null,null,null,null,null,null,null,null,null,null,"","",{"$f":"IF($N1524=\"\",\"\",IFERROR(IF(N1524=6,1,IF(MATCH(N1524&\"/\"&R1524,読み替え表_クールビズ!$P$38:$P$59,0),1,0)),0))","v":""},{"$f":"IF($P1524=\"\",\"\",IFERROR(IF(P1524=6,1,IF(MATCH(P1524&\"/\"&R1524,読み替え表_クールビズ!$P$38:$P$59,0),1,0)),0))","v":""},"","",0,0,"*"]
[null,null,1515,null,null,null,null,null,null,null,null,null,null,null,null,null,null,null,null,null,null,null,null,null,null,null,null,null,null,null,null,null,"","",{"$f":"IF($N1525=\"\",\"\",IFERROR(IF(N1525=6,1,IF(MATCH(N1525&\"/\"&R1525,読み替え表_クールビズ!$P$38:$P$59,0),1,0)),0))","v":""},{"$f":"IF($P1525=\"\",\"\",IFERROR(IF(P1525=6,1,IF(MATCH(P1525&\"/\"&R1525,読み替え表_クールビズ!$P$38:$P$59,0),1,0)),0))","v":""},"","",0,0,"*"]
[null,null,1516,null,null,null,null,null,null,null,null,null,null,null,null,null,null,null,null,null,null,null,null,null,null,null,null,null,null,null,null,null,"","",{"$f":"IF($N1526=\"\",\"\",IFERROR(IF(N1526=6,1,IF(MATCH(N1526&\"/\"&R1526,読み替え表_クールビズ!$P$38:$P$59,0),1,0)),0))","v":""},{"$f":"IF($P1526=\"\",\"\",IFERROR(IF(P1526=6,1,IF(MATCH(P1526&\"/\"&R1526,読み替え表_クールビズ!$P$38:$P$59,0),1,0)),0))","v":""},"","",0,0,"*"]
[null,null,1517,null,null,null,null,null,null,null,null,null,null,null,null,null,null,null,null,null,null,null,null,null,null,null,null,null,null,null,null,null,"","",{"$f":"IF($N1527=\"\",\"\",IFERROR(IF(N1527=6,1,IF(MATCH(N1527&\"/\"&R1527,読み替え表_クールビズ!$P$38:$P$59,0),1,0)),0))","v":""},{"$f":"IF($P1527=\"\",\"\",IFERROR(IF(P1527=6,1,IF(MATCH(P1527&\"/\"&R1527,読み替え表_クールビズ!$P$38:$P$59,0),1,0)),0))","v":""},"","",0,0,"*"]
[null,null,1518,null,null,null,null,null,null,null,null,null,null,null,null,null,null,null,null,null,null,null,null,null,null,null,null,null,null,null,null,null,"","",{"$f":"IF($N1528=\"\",\"\",IFERROR(IF(N1528=6,1,IF(MATCH(N1528&\"/\"&R1528,読み替え表_クールビズ!$P$38:$P$59,0),1,0)),0))","v":""},{"$f":"IF($P1528=\"\",\"\",IFERROR(IF(P1528=6,1,IF(MATCH(P1528&\"/\"&R1528,読み替え表_クールビズ!$P$38:$P$59,0),1,0)),0))","v":""},"","",0,0,"*"]
[null,null,1519,null,null,null,null,null,null,null,null,null,null,null,null,null,null,null,null,null,null,null,null,null,null,null,null,null,null,null,null,null,"","",{"$f":"IF($N1529=\"\",\"\",IFERROR(IF(N1529=6,1,IF(MATCH(N1529&\"/\"&R1529,読み替え表_クールビズ!$P$38:$P$59,0),1,0)),0))","v":""},{"$f":"IF($P1529=\"\",\"\",IFERROR(IF(P1529=6,1,IF(MATCH(P1529&\"/\"&R1529,読み替え表_クールビズ!$P$38:$P$59,0),1,0)),0))","v":""},"","",0,0,"*"]
[null,null,1520,null,null,null,null,null,null,null,null,null,null,null,null,null,null,null,null,null,null,null,null,null,null,null,null,null,null,null,null,null,"","",{"$f":"IF($N1530=\"\",\"\",IFERROR(IF(N1530=6,1,IF(MATCH(N1530&\"/\"&R1530,読み替え表_クールビズ!$P$38:$P$59,0),1,0)),0))","v":""},{"$f":"IF($P1530=\"\",\"\",IFERROR(IF(P1530=6,1,IF(MATCH(P1530&\"/\"&R1530,読み替え表_クールビズ!$P$38:$P$59,0),1,0)),0))","v":""},"","",0,0,"*"]
[null,null,1521,null,null,null,null,null,null,null,null,null,null,null,null,null,null,null,null,null,null,null,null,null,null,null,null,null,null,null,null,null,"","",{"$f":"IF($N1531=\"\",\"\",IFERROR(IF(N1531=6,1,IF(MATCH(N1531&\"/\"&R1531,読み替え表_クールビズ!$P$38:$P$59,0),1,0)),0))","v":""},{"$f":"IF($P1531=\"\",\"\",IFERROR(IF(P1531=6,1,IF(MATCH(P1531&\"/\"&R1531,読み替え表_クールビズ!$P$38:$P$59,0),1,0)),0))","v":""},"","",0,0,"*"]
[null,null,1522,null,null,null,null,null,null,null,null,null,null,null,null,null,null,null,null,null,null,null,null,null,null,null,null,null,null,null,null,null,"","",{"$f":"IF($N1532=\"\",\"\",IFERROR(IF(N1532=6,1,IF(MATCH(N1532&\"/\"&R1532,読み替え表_クールビズ!$P$38:$P$59,0),1,0)),0))","v":""},{"$f":"IF($P1532=\"\",\"\",IFERROR(IF(P1532=6,1,IF(MATCH(P1532&\"/\"&R1532,読み替え表_クールビズ!$P$38:$P$59,0),1,0)),0))","v":""},"","",0,0,"*"]
[null,null,1523,null,null,null,null,null,null,null,null,null,null,null,null,null,null,null,null,null,null,null,null,null,null,null,null,null,null,null,null,null,"","",{"$f":"IF($N1533=\"\",\"\",IFERROR(IF(N1533=6,1,IF(MATCH(N1533&\"/\"&R1533,読み替え表_クールビズ!$P$38:$P$59,0),1,0)),0))","v":""},{"$f":"IF($P1533=\"\",\"\",IFERROR(IF(P1533=6,1,IF(MATCH(P1533&\"/\"&R1533,読み替え表_クールビズ!$P$38:$P$59,0),1,0)),0))","v":""},"","",0,0,"*"]
[null,null,1524,null,null,null,null,null,null,null,null,null,null,null,null,null,null,null,null,null,null,null,null,null,null,null,null,null,null,null,null,null,"","",{"$f":"IF($N1534=\"\",\"\",IFERROR(IF(N1534=6,1,IF(MATCH(N1534&\"/\"&R1534,読み替え表_クールビズ!$P$38:$P$59,0),1,0)),0))","v":""},{"$f":"IF($P1534=\"\",\"\",IFERROR(IF(P1534=6,1,IF(MATCH(P1534&\"/\"&R1534,読み替え表_クールビズ!$P$38:$P$59,0),1,0)),0))","v":""},"","",0,0,"*"]
[null,null,1525,null,null,null,null,null,null,null,null,null,null,null,null,null,null,null,null,null,null,null,null,null,null,null,null,null,null,null,null,null,"","",{"$f":"IF($N1535=\"\",\"\",IFERROR(IF(N1535=6,1,IF(MATCH(N1535&\"/\"&R1535,読み替え表_クールビズ!$P$38:$P$59,0),1,0)),0))","v":""},{"$f":"IF($P1535=\"\",\"\",IFERROR(IF(P1535=6,1,IF(MATCH(P1535&\"/\"&R1535,読み替え表_クールビズ!$P$38:$P$59,0),1,0)),0))","v":""},"","",0,0,"*"]
[null,null,1526,null,null,null,null,null,null,null,null,null,null,null,null,null,null,null,null,null,null,null,null,null,null,null,null,null,null,null,null,null,"","",{"$f":"IF($N1536=\"\",\"\",IFERROR(IF(N1536=6,1,IF(MATCH(N1536&\"/\"&R1536,読み替え表_クールビズ!$P$38:$P$59,0),1,0)),0))","v":""},{"$f":"IF($P1536=\"\",\"\",IFERROR(IF(P1536=6,1,IF(MATCH(P1536&\"/\"&R1536,読み替え表_クールビズ!$P$38:$P$59,0),1,0)),0))","v":""},"","",0,0,"*"]
[null,null,1527,null,null,null,null,null,null,null,null,null,null,null,null,null,null,null,null,null,null,null,null,null,null,null,null,null,null,null,null,null,"","",{"$f":"IF($N1537=\"\",\"\",IFERROR(IF(N1537=6,1,IF(MATCH(N1537&\"/\"&R1537,読み替え表_クールビズ!$P$38:$P$59,0),1,0)),0))","v":""},{"$f":"IF($P1537=\"\",\"\",IFERROR(IF(P1537=6,1,IF(MATCH(P1537&\"/\"&R1537,読み替え表_クールビズ!$P$38:$P$59,0),1,0)),0))","v":""},"","",0,0,"*"]
[null,null,1528,null,null,null,null,null,null,null,null,null,null,null,null,null,null,null,null,null,null,null,null,null,null,null,null,null,null,null,null,null,"","",{"$f":"IF($N1538=\"\",\"\",IFERROR(IF(N1538=6,1,IF(MATCH(N1538&\"/\"&R1538,読み替え表_クールビズ!$P$38:$P$59,0),1,0)),0))","v":""},{"$f":"IF($P1538=\"\",\"\",IFERROR(IF(P1538=6,1,IF(MATCH(P1538&\"/\"&R1538,読み替え表_クールビズ!$P$38:$P$59,0),1,0)),0))","v":""},"","",0,0,"*"]
[null,null,1529,null,null,null,null,null,null,null,null,null,null,null,null,null,null,null,null,null,null,null,null,null,null,null,null,null,null,null,null,null,"","",{"$f":"IF($N1539=\"\",\"\",IFERROR(IF(N1539=6,1,IF(MATCH(N1539&\"/\"&R1539,読み替え表_クールビズ!$P$38:$P$59,0),1,0)),0))","v":""},{"$f":"IF($P1539=\"\",\"\",IFERROR(IF(P1539=6,1,IF(MATCH(P1539&\"/\"&R1539,読み替え表_クールビズ!$P$38:$P$59,0),1,0)),0))","v":""},"","",0,0,"*"]
[null,null,1530,null,null,null,null,null,null,null,null,null,null,null,null,null,null,null,null,null,null,null,null,null,null,null,null,null,null,null,null,null,"","",{"$f":"IF($N1540=\"\",\"\",IFERROR(IF(N1540=6,1,IF(MATCH(N1540&\"/\"&R1540,読み替え表_クールビズ!$P$38:$P$59,0),1,0)),0))","v":""},{"$f":"IF($P1540=\"\",\"\",IFERROR(IF(P1540=6,1,IF(MATCH(P1540&\"/\"&R1540,読み替え表_クールビズ!$P$38:$P$59,0),1,0)),0))","v":""},"","",0,0,"*"]
[null,null,1531,null,null,null,null,null,null,null,null,null,null,null,null,null,null,null,null,null,null,null,null,null,null,null,null,null,null,null,null,null,"","",{"$f":"IF($N1541=\"\",\"\",IFERROR(IF(N1541=6,1,IF(MATCH(N1541&\"/\"&R1541,読み替え表_クールビズ!$P$38:$P$59,0),1,0)),0))","v":""},{"$f":"IF($P1541=\"\",\"\",IFERROR(IF(P1541=6,1,IF(MATCH(P1541&\"/\"&R1541,読み替え表_クールビズ!$P$38:$P$59,0),1,0)),0))","v":""},"","",0,0,"*"]
[null,null,1532,null,null,null,null,null,null,null,null,null,null,null,null,null,null,null,null,null,null,null,null,null,null,null,null,null,null,null,null,null,"","",{"$f":"IF($N1542=\"\",\"\",IFERROR(IF(N1542=6,1,IF(MATCH(N1542&\"/\"&R1542,読み替え表_クールビズ!$P$38:$P$59,0),1,0)),0))","v":""},{"$f":"IF($P1542=\"\",\"\",IFERROR(IF(P1542=6,1,IF(MATCH(P1542&\"/\"&R1542,読み替え表_クールビズ!$P$38:$P$59,0),1,0)),0))","v":""},"","",0,0,"*"]
[null,null,1533,null,null,null,null,null,null,null,null,null,null,null,null,null,null,null,null,null,null,null,null,null,null,null,null,null,null,null,null,null,"","",{"$f":"IF($N1543=\"\",\"\",IFERROR(IF(N1543=6,1,IF(MATCH(N1543&\"/\"&R1543,読み替え表_クールビズ!$P$38:$P$59,0),1,0)),0))","v":""},{"$f":"IF($P1543=\"\",\"\",IFERROR(IF(P1543=6,1,IF(MATCH(P1543&\"/\"&R1543,読み替え表_クールビズ!$P$38:$P$59,0),1,0)),0))","v":""},"","",0,0,"*"]
[null,null,1534,null,null,null,null,null,null,null,null,null,null,null,null,null,null,null,null,null,null,null,null,null,null,null,null,null,null,null,null,null,"","",{"$f":"IF($N1544=\"\",\"\",IFERROR(IF(N1544=6,1,IF(MATCH(N1544&\"/\"&R1544,読み替え表_クールビズ!$P$38:$P$59,0),1,0)),0))","v":""},{"$f":"IF($P1544=\"\",\"\",IFERROR(IF(P1544=6,1,IF(MATCH(P1544&\"/\"&R1544,読み替え表_クールビズ!$P$38:$P$59,0),1,0)),0))","v":""},"","",0,0,"*"]
[null,null,1535,null,null,null,null,null,null,null,null,null,null,null,null,null,null,null,null,null,null,null,null,null,null,null,null,null,null,null,null,null,"","",{"$f":"IF($N1545=\"\",\"\",IFERROR(IF(N1545=6,1,IF(MATCH(N1545&\"/\"&R1545,読み替え表_クールビズ!$P$38:$P$59,0),1,0)),0))","v":""},{"$f":"IF($P1545=\"\",\"\",IFERROR(IF(P1545=6,1,IF(MATCH(P1545&\"/\"&R1545,読み替え表_クールビズ!$P$38:$P$59,0),1,0)),0))","v":""},"","",0,0,"*"]
[null,null,1536,null,null,null,null,null,null,null,null,null,null,null,null,null,null,null,null,null,null,null,null,null,null,null,null,null,null,null,null,null,"","",{"$f":"IF($N1546=\"\",\"\",IFERROR(IF(N1546=6,1,IF(MATCH(N1546&\"/\"&R1546,読み替え表_クールビズ!$P$38:$P$59,0),1,0)),0))","v":""},{"$f":"IF($P1546=\"\",\"\",IFERROR(IF(P1546=6,1,IF(MATCH(P1546&\"/\"&R1546,読み替え表_クールビズ!$P$38:$P$59,0),1,0)),0))","v":""},"","",0,0,"*"]
[null,null,1537,null,null,null,null,null,null,null,null,null,null,null,null,null,null,null,null,null,null,null,null,null,null,null,null,null,null,null,null,null,"","",{"$f":"IF($N1547=\"\",\"\",IFERROR(IF(N1547=6,1,IF(MATCH(N1547&\"/\"&R1547,読み替え表_クールビズ!$P$38:$P$59,0),1,0)),0))","v":""},{"$f":"IF($P1547=\"\",\"\",IFERROR(IF(P1547=6,1,IF(MATCH(P1547&\"/\"&R1547,読み替え表_クールビズ!$P$38:$P$59,0),1,0)),0))","v":""},{"$f":"IF($N1547=\"\",\"\",IF(OR(CONCATENATE(N1547,$R1547)=\"22\",CONCATENATE(N1547,$R1547)=\"32\",CONCATENATE(N1547,$R1547)=\"42\",CONCATENATE(N1547,$R1547)=\"43\",CONCATENATE(N1547,$R1547)=\"51\",CONCATENATE(N1547,$R1547)=\"52\",CONCATENATE(N1547,$R1547)=\"53\"),1,0))","v":""},{"$f":"IF($P1547=\"\",\"\",IF(OR(CONCATENATE(P1547,$R1547)=\"22\",CONCATENATE(P1547,$R1547)=\"32\",CONCATENATE(P1547,$R1547)=\"42\",CONCATENATE(P1547,$R1547)=\"43\",CONCATENATE(P1547,$R1547)=\"51\",CONCATENATE(P1547,$R1547)=\"52\",CONCATENATE(P1547,$R1547)=\"53\"),1,0))","v":""},0,0,"*"]
[null,null,{"$f":"ROW()-10","v":1538},null,null,null,null,null,null,null,null,null,null,null,null,null,null,null,null,null,null,null,null,null,null,null,null,null,null,null,null,null,{"$f":"IF($J1548=\"\",\"\",IF(AND($J1548>=1,$J1548<=9),1,0))","v":""},{"$f":"IF($R1548=\"\",\"\",IF(OR($R1548=1,$R1548=2,$R1548=3),1,0))","v":""},{"$f":"IF($N1548=\"\",\"\",IFERROR(IF(N1548=6,1,IF(MATCH(N1548&\"/\"&R1548,読み替え表_クールビズ!$P$38:$P$59,0),1,0)),0))","v":""},{"$f":"IF($P1548=\"\",\"\",IFERROR(IF(P1548=6,1,IF(MATCH(P1548&\"/\"&R1548,読み替え表_クールビズ!$P$38:$P$59,0),1,0)),0))","v":""},"","",{"$f":"IF(OR(AK1548=1,AL1548=1),1,0)","v":0},{"$f":"IF(OR($AG1548=0,SUM(AI1548:AJ1548)=2),1,0)","v":0},"*"]
[null,null,1539,null,null,null,null,null,null,null,null,null,null,null,null,null,null,null,null,null,null,null,null,null,null,null,null,null,null,null,null,null,"","",{"$f":"IF($N1549=\"\",\"\",IFERROR(IF(N1549=6,1,IF(MATCH(N1549&\"/\"&R1549,読み替え表_クールビズ!$P$38:$P$59,0),1,0)),0))","v":""},{"$f":"IF($P1549=\"\",\"\",IFERROR(IF(P1549=6,1,IF(MATCH(P1549&\"/\"&R1549,読み替え表_クールビズ!$P$38:$P$59,0),1,0)),0))","v":""},"","",0,0,"*"]
[null,null,1540,null,null,null,null,null,null,null,null,null,null,null,null,null,null,null,null,null,null,null,null,null,null,null,null,null,null,null,null,null,"","",{"$f":"IF($N1550=\"\",\"\",IFERROR(IF(N1550=6,1,IF(MATCH(N1550&\"/\"&R1550,読み替え表_クールビズ!$P$38:$P$59,0),1,0)),0))","v":""},{"$f":"IF($P1550=\"\",\"\",IFERROR(IF(P1550=6,1,IF(MATCH(P1550&\"/\"&R1550,読み替え表_クールビズ!$P$38:$P$59,0),1,0)),0))","v":""},"","",0,0,"*"]
[null,null,1541,null,null,null,null,null,null,null,null,null,null,null,null,null,null,null,null,null,null,null,null,null,null,null,null,null,null,null,null,null,"","",{"$f":"IF($N1551=\"\",\"\",IFERROR(IF(N1551=6,1,IF(MATCH(N1551&\"/\"&R1551,読み替え表_クールビズ!$P$38:$P$59,0),1,0)),0))","v":""},{"$f":"IF($P1551=\"\",\"\",IFERROR(IF(P1551=6,1,IF(MATCH(P1551&\"/\"&R1551,読み替え表_クールビズ!$P$38:$P$59,0),1,0)),0))","v":""},"","",0,0,"*"]
[null,null,1542,null,null,null,null,null,null,null,null,null,null,null,null,null,null,null,null,null,null,null,null,null,null,null,null,null,null,null,null,null,"","",{"$f":"IF($N1552=\"\",\"\",IFERROR(IF(N1552=6,1,IF(MATCH(N1552&\"/\"&R1552,読み替え表_クールビズ!$P$38:$P$59,0),1,0)),0))","v":""},{"$f":"IF($P1552=\"\",\"\",IFERROR(IF(P1552=6,1,IF(MATCH(P1552&\"/\"&R1552,読み替え表_クールビズ!$P$38:$P$59,0),1,0)),0))","v":""},"","",0,0,"*"]
[null,null,1543,null,null,null,null,null,null,null,null,null,null,null,null,null,null,null,null,null,null,null,null,null,null,null,null,null,null,null,null,null,"","",{"$f":"IF($N1553=\"\",\"\",IFERROR(IF(N1553=6,1,IF(MATCH(N1553&\"/\"&R1553,読み替え表_クールビズ!$P$38:$P$59,0),1,0)),0))","v":""},{"$f":"IF($P1553=\"\",\"\",IFERROR(IF(P1553=6,1,IF(MATCH(P1553&\"/\"&R1553,読み替え表_クールビズ!$P$38:$P$59,0),1,0)),0))","v":""},"","",0,0,"*"]
[null,null,1544,null,null,null,null,null,null,null,null,null,null,null,null,null,null,null,null,null,null,null,null,null,null,null,null,null,null,null,null,null,"","",{"$f":"IF($N1554=\"\",\"\",IFERROR(IF(N1554=6,1,IF(MATCH(N1554&\"/\"&R1554,読み替え表_クールビズ!$P$38:$P$59,0),1,0)),0))","v":""},{"$f":"IF($P1554=\"\",\"\",IFERROR(IF(P1554=6,1,IF(MATCH(P1554&\"/\"&R1554,読み替え表_クールビズ!$P$38:$P$59,0),1,0)),0))","v":""},"","",0,0,"*"]
[null,null,1545,null,null,null,null,null,null,null,null,null,null,null,null,null,null,null,null,null,null,null,null,null,null,null,null,null,null,null,null,null,"","",{"$f":"IF($N1555=\"\",\"\",IFERROR(IF(N1555=6,1,IF(MATCH(N1555&\"/\"&R1555,読み替え表_クールビズ!$P$38:$P$59,0),1,0)),0))","v":""},{"$f":"IF($P1555=\"\",\"\",IFERROR(IF(P1555=6,1,IF(MATCH(P1555&\"/\"&R1555,読み替え表_クールビズ!$P$38:$P$59,0),1,0)),0))","v":""},"","",0,0,"*"]
[null,null,1546,null,null,null,null,null,null,null,null,null,null,null,null,null,null,null,null,null,null,null,null,null,null,null,null,null,null,null,null,null,"","",{"$f":"IF($N1556=\"\",\"\",IFERROR(IF(N1556=6,1,IF(MATCH(N1556&\"/\"&R1556,読み替え表_クールビズ!$P$38:$P$59,0),1,0)),0))","v":""},{"$f":"IF($P1556=\"\",\"\",IFERROR(IF(P1556=6,1,IF(MATCH(P1556&\"/\"&R1556,読み替え表_クールビズ!$P$38:$P$59,0),1,0)),0))","v":""},"","",0,0,"*"]
[null,null,1547,null,null,null,null,null,null,null,null,null,null,null,null,null,null,null,null,null,null,null,null,null,null,null,null,null,null,null,null,null,"","",{"$f":"IF($N1557=\"\",\"\",IFERROR(IF(N1557=6,1,IF(MATCH(N1557&\"/\"&R1557,読み替え表_クールビズ!$P$38:$P$59,0),1,0)),0))","v":""},{"$f":"IF($P1557=\"\",\"\",IFERROR(IF(P1557=6,1,IF(MATCH(P1557&\"/\"&R1557,読み替え表_クールビズ!$P$38:$P$59,0),1,0)),0))","v":""},"","",0,0,"*"]
[null,null,1548,null,null,null,null,null,null,null,null,null,null,null,null,null,null,null,null,null,null,null,null,null,null,null,null,null,null,null,null,null,"","",{"$f":"IF($N1558=\"\",\"\",IFERROR(IF(N1558=6,1,IF(MATCH(N1558&\"/\"&R1558,読み替え表_クールビズ!$P$38:$P$59,0),1,0)),0))","v":""},{"$f":"IF($P1558=\"\",\"\",IFERROR(IF(P1558=6,1,IF(MATCH(P1558&\"/\"&R1558,読み替え表_クールビズ!$P$38:$P$59,0),1,0)),0))","v":""},"","",0,0,"*"]
[null,null,1549,null,null,null,null,null,null,null,null,null,null,null,null,null,null,null,null,null,null,null,null,null,null,null,null,null,null,null,null,null,"","",{"$f":"IF($N1559=\"\",\"\",IFERROR(IF(N1559=6,1,IF(MATCH(N1559&\"/\"&R1559,読み替え表_クールビズ!$P$38:$P$59,0),1,0)),0))","v":""},{"$f":"IF($P1559=\"\",\"\",IFERROR(IF(P1559=6,1,IF(MATCH(P1559&\"/\"&R1559,読み替え表_クールビズ!$P$38:$P$59,0),1,0)),0))","v":""},"","",0,0,"*"]
[null,null,1550,null,null,null,null,null,null,null,null,null,null,null,null,null,null,null,null,null,null,null,null,null,null,null,null,null,null,null,null,null,"","",{"$f":"IF($N1560=\"\",\"\",IFERROR(IF(N1560=6,1,IF(MATCH(N1560&\"/\"&R1560,読み替え表_クールビズ!$P$38:$P$59,0),1,0)),0))","v":""},{"$f":"IF($P1560=\"\",\"\",IFERROR(IF(P1560=6,1,IF(MATCH(P1560&\"/\"&R1560,読み替え表_クールビズ!$P$38:$P$59,0),1,0)),0))","v":""},"","",0,0,"*"]
[null,null,1551,null,null,null,null,null,null,null,null,null,null,null,null,null,null,null,null,null,null,null,null,null,null,null,null,null,null,null,null,null,"","",{"$f":"IF($N1561=\"\",\"\",IFERROR(IF(N1561=6,1,IF(MATCH(N1561&\"/\"&R1561,読み替え表_クールビズ!$P$38:$P$59,0),1,0)),0))","v":""},{"$f":"IF($P1561=\"\",\"\",IFERROR(IF(P1561=6,1,IF(MATCH(P1561&\"/\"&R1561,読み替え表_クールビズ!$P$38:$P$59,0),1,0)),0))","v":""},"","",0,0,"*"]
[null,null,1552,null,null,null,null,null,null,null,null,null,null,null,null,null,null,null,null,null,null,null,null,null,null,null,null,null,null,null,null,null,"","",{"$f":"IF($N1562=\"\",\"\",IFERROR(IF(N1562=6,1,IF(MATCH(N1562&\"/\"&R1562,読み替え表_クールビズ!$P$38:$P$59,0),1,0)),0))","v":""},{"$f":"IF($P1562=\"\",\"\",IFERROR(IF(P1562=6,1,IF(MATCH(P1562&\"/\"&R1562,読み替え表_クールビズ!$P$38:$P$59,0),1,0)),0))","v":""},"","",0,0,"*"]
[null,null,1553,null,null,null,null,null,null,null,null,null,null,null,null,null,null,null,null,null,null,null,null,null,null,null,null,null,null,null,null,null,"","",{"$f":"IF($N1563=\"\",\"\",IFERROR(IF(N1563=6,1,IF(MATCH(N1563&\"/\"&R1563,読み替え表_クールビズ!$P$38:$P$59,0),1,0)),0))","v":""},{"$f":"IF($P1563=\"\",\"\",IFERROR(IF(P1563=6,1,IF(MATCH(P1563&\"/\"&R1563,読み替え表_クールビズ!$P$38:$P$59,0),1,0)),0))","v":""},"","",0,0,"*"]
[null,null,1554,null,null,null,null,null,null,null,null,null,null,null,null,null,null,null,null,null,null,null,null,null,null,null,null,null,null,null,null,null,"","",{"$f":"IF($N1564=\"\",\"\",IFERROR(IF(N1564=6,1,IF(MATCH(N1564&\"/\"&R1564,読み替え表_クールビズ!$P$38:$P$59,0),1,0)),0))","v":""},{"$f":"IF($P1564=\"\",\"\",IFERROR(IF(P1564=6,1,IF(MATCH(P1564&\"/\"&R1564,読み替え表_クールビズ!$P$38:$P$59,0),1,0)),0))","v":""},"","",0,0,"*"]
[null,null,1555,null,null,null,null,null,null,null,null,null,null,null,null,null,null,null,null,null,null,null,null,null,null,null,null,null,null,null,null,null,"","",{"$f":"IF($N1565=\"\",\"\",IFERROR(IF(N1565=6,1,IF(MATCH(N1565&\"/\"&R1565,読み替え表_クールビズ!$P$38:$P$59,0),1,0)),0))","v":""},{"$f":"IF($P1565=\"\",\"\",IFERROR(IF(P1565=6,1,IF(MATCH(P1565&\"/\"&R1565,読み替え表_クールビズ!$P$38:$P$59,0),1,0)),0))","v":""},"","",0,0,"*"]
[null,null,1556,null,null,null,null,null,null,null,null,null,null,null,null,null,null,null,null,null,null,null,null,null,null,null,null,null,null,null,null,null,"","",{"$f":"IF($N1566=\"\",\"\",IFERROR(IF(N1566=6,1,IF(MATCH(N1566&\"/\"&R1566,読み替え表_クールビズ!$P$38:$P$59,0),1,0)),0))","v":""},{"$f":"IF($P1566=\"\",\"\",IFERROR(IF(P1566=6,1,IF(MATCH(P1566&\"/\"&R1566,読み替え表_クールビズ!$P$38:$P$59,0),1,0)),0))","v":""},"","",0,0,"*"]
[null,null,1557,null,null,null,null,null,null,null,null,null,null,null,null,null,null,null,null,null,null,null,null,null,null,null,null,null,null,null,null,null,"","",{"$f":"IF($N1567=\"\",\"\",IFERROR(IF(N1567=6,1,IF(MATCH(N1567&\"/\"&R1567,読み替え表_クールビズ!$P$38:$P$59,0),1,0)),0))","v":""},{"$f":"IF($P1567=\"\",\"\",IFERROR(IF(P1567=6,1,IF(MATCH(P1567&\"/\"&R1567,読み替え表_クールビズ!$P$38:$P$59,0),1,0)),0))","v":""},"","",0,0,"*"]
[null,null,1558,null,null,null,null,null,null,null,null,null,null,null,null,null,null,null,null,null,null,null,null,null,null,null,null,null,null,null,null,null,"","",{"$f":"IF($N1568=\"\",\"\",IFERROR(IF(N1568=6,1,IF(MATCH(N1568&\"/\"&R1568,読み替え表_クールビズ!$P$38:$P$59,0),1,0)),0))","v":""},{"$f":"IF($P1568=\"\",\"\",IFERROR(IF(P1568=6,1,IF(MATCH(P1568&\"/\"&R1568,読み替え表_クールビズ!$P$38:$P$59,0),1,0)),0))","v":""},"","",0,0,"*"]
[null,null,1559,null,null,null,null,null,null,null,null,null,null,null,null,null,null,null,null,null,null,null,null,null,null,null,null,null,null,null,null,null,"","",{"$f":"IF($N1569=\"\",\"\",IFERROR(IF(N1569=6,1,IF(MATCH(N1569&\"/\"&R1569,読み替え表_クールビズ!$P$38:$P$59,0),1,0)),0))","v":""},{"$f":"IF($P1569=\"\",\"\",IFERROR(IF(P1569=6,1,IF(MATCH(P1569&\"/\"&R1569,読み替え表_クールビズ!$P$38:$P$59,0),1,0)),0))","v":""},"","",0,0,"*"]
[null,null,1560,null,null,null,null,null,null,null,null,null,null,null,null,null,null,null,null,null,null,null,null,null,null,null,null,null,null,null,null,null,"","",{"$f":"IF($N1570=\"\",\"\",IFERROR(IF(N1570=6,1,IF(MATCH(N1570&\"/\"&R1570,読み替え表_クールビズ!$P$38:$P$59,0),1,0)),0))","v":""},{"$f":"IF($P1570=\"\",\"\",IFERROR(IF(P1570=6,1,IF(MATCH(P1570&\"/\"&R1570,読み替え表_クールビズ!$P$38:$P$59,0),1,0)),0))","v":""},"","",0,0,"*"]
[null,null,1561,null,null,null,null,null,null,null,null,null,null,null,null,null,null,null,null,null,null,null,null,null,null,null,null,null,null,null,null,null,"","",{"$f":"IF($N1571=\"\",\"\",IFERROR(IF(N1571=6,1,IF(MATCH(N1571&\"/\"&R1571,読み替え表_クールビズ!$P$38:$P$59,0),1,0)),0))","v":""},{"$f":"IF($P1571=\"\",\"\",IFERROR(IF(P1571=6,1,IF(MATCH(P1571&\"/\"&R1571,読み替え表_クールビズ!$P$38:$P$59,0),1,0)),0))","v":""},"","",0,0,"*"]
[null,null,1562,null,null,null,null,null,null,null,null,null,null,null,null,null,null,null,null,null,null,null,null,null,null,null,null,null,null,null,null,null,"","",{"$f":"IF($N1572=\"\",\"\",IFERROR(IF(N1572=6,1,IF(MATCH(N1572&\"/\"&R1572,読み替え表_クールビズ!$P$38:$P$59,0),1,0)),0))","v":""},{"$f":"IF($P1572=\"\",\"\",IFERROR(IF(P1572=6,1,IF(MATCH(P1572&\"/\"&R1572,読み替え表_クールビズ!$P$38:$P$59,0),1,0)),0))","v":""},"","",0,0,"*"]
[null,null,1563,null,null,null,null,null,null,null,null,null,null,null,null,null,null,null,null,null,null,null,null,null,null,null,null,null,null,null,null,null,"","",{"$f":"IF($N1573=\"\",\"\",IFERROR(IF(N1573=6,1,IF(MATCH(N1573&\"/\"&R1573,読み替え表_クールビズ!$P$38:$P$59,0),1,0)),0))","v":""},{"$f":"IF($P1573=\"\",\"\",IFERROR(IF(P1573=6,1,IF(MATCH(P1573&\"/\"&R1573,読み替え表_クールビズ!$P$38:$P$59,0),1,0)),0))","v":""},"","",0,0,"*"]
[null,null,1564,null,null,null,null,null,null,null,null,null,null,null,null,null,null,null,null,null,null,null,null,null,null,null,null,null,null,null,null,null,"","",{"$f":"IF($N1574=\"\",\"\",IFERROR(IF(N1574=6,1,IF(MATCH(N1574&\"/\"&R1574,読み替え表_クールビズ!$P$38:$P$59,0),1,0)),0))","v":""},{"$f":"IF($P1574=\"\",\"\",IFERROR(IF(P1574=6,1,IF(MATCH(P1574&\"/\"&R1574,読み替え表_クールビズ!$P$38:$P$59,0),1,0)),0))","v":""},"","",0,0,"*"]
[null,null,1565,null,null,null,null,null,null,null,null,null,null,null,null,null,null,null,null,null,null,null,null,null,null,null,null,null,null,null,null,null,"","",{"$f":"IF($N1575=\"\",\"\",IFERROR(IF(N1575=6,1,IF(MATCH(N1575&\"/\"&R1575,読み替え表_クールビズ!$P$38:$P$59,0),1,0)),0))","v":""},{"$f":"IF($P1575=\"\",\"\",IFERROR(IF(P1575=6,1,IF(MATCH(P1575&\"/\"&R1575,読み替え表_クールビズ!$P$38:$P$59,0),1,0)),0))","v":""},"","",0,0,"*"]
[null,null,1566,null,null,null,null,null,null,null,null,null,null,null,null,null,null,null,null,null,null,null,null,null,null,null,null,null,null,null,null,null,"","",{"$f":"IF($N1576=\"\",\"\",IFERROR(IF(N1576=6,1,IF(MATCH(N1576&\"/\"&R1576,読み替え表_クールビズ!$P$38:$P$59,0),1,0)),0))","v":""},{"$f":"IF($P1576=\"\",\"\",IFERROR(IF(P1576=6,1,IF(MATCH(P1576&\"/\"&R1576,読み替え表_クールビズ!$P$38:$P$59,0),1,0)),0))","v":""},"","",0,0,"*"]
[null,null,1567,null,null,null,null,null,null,null,null,null,null,null,null,null,null,null,null,null,null,null,null,null,null,null,null,null,null,null,null,null,"","",{"$f":"IF($N1577=\"\",\"\",IFERROR(IF(N1577=6,1,IF(MATCH(N1577&\"/\"&R1577,読み替え表_クールビズ!$P$38:$P$59,0),1,0)),0))","v":""},{"$f":"IF($P1577=\"\",\"\",IFERROR(IF(P1577=6,1,IF(MATCH(P1577&\"/\"&R1577,読み替え表_クールビズ!$P$38:$P$59,0),1,0)),0))","v":""},"","",0,0,"*"]
[null,null,1568,null,null,null,null,null,null,null,null,null,null,null,null,null,null,null,null,null,null,null,null,null,null,null,null,null,null,null,null,null,"","",{"$f":"IF($N1578=\"\",\"\",IFERROR(IF(N1578=6,1,IF(MATCH(N1578&\"/\"&R1578,読み替え表_クールビズ!$P$38:$P$59,0),1,0)),0))","v":""},{"$f":"IF($P1578=\"\",\"\",IFERROR(IF(P1578=6,1,IF(MATCH(P1578&\"/\"&R1578,読み替え表_クールビズ!$P$38:$P$59,0),1,0)),0))","v":""},"","",0,0,"*"]
[null,null,1569,null,null,null,null,null,null,null,null,null,null,null,null,null,null,null,null,null,null,null,null,null,null,null,null,null,null,null,null,null,"","",{"$f":"IF($N1579=\"\",\"\",IFERROR(IF(N1579=6,1,IF(MATCH(N1579&\"/\"&R1579,読み替え表_クールビズ!$P$38:$P$59,0),1,0)),0))","v":""},{"$f":"IF($P1579=\"\",\"\",IFERROR(IF(P1579=6,1,IF(MATCH(P1579&\"/\"&R1579,読み替え表_クールビズ!$P$38:$P$59,0),1,0)),0))","v":""},"","",0,0,"*"]
[null,null,1570,null,null,null,null,null,null,null,null,null,null,null,null,null,null,null,null,null,null,null,null,null,null,null,null,null,null,null,null,null,"","",{"$f":"IF($N1580=\"\",\"\",IFERROR(IF(N1580=6,1,IF(MATCH(N1580&\"/\"&R1580,読み替え表_クールビズ!$P$38:$P$59,0),1,0)),0))","v":""},{"$f":"IF($P1580=\"\",\"\",IFERROR(IF(P1580=6,1,IF(MATCH(P1580&\"/\"&R1580,読み替え表_クールビズ!$P$38:$P$59,0),1,0)),0))","v":""},"","",0,0,"*"]
[null,null,1571,null,null,null,null,null,null,null,null,null,null,null,null,null,null,null,null,null,null,null,null,null,null,null,null,null,null,null,null,null,"","",{"$f":"IF($N1581=\"\",\"\",IFERROR(IF(N1581=6,1,IF(MATCH(N1581&\"/\"&R1581,読み替え表_クールビズ!$P$38:$P$59,0),1,0)),0))","v":""},{"$f":"IF($P1581=\"\",\"\",IFERROR(IF(P1581=6,1,IF(MATCH(P1581&\"/\"&R1581,読み替え表_クールビズ!$P$38:$P$59,0),1,0)),0))","v":""},"","",0,0,"*"]
[null,null,1572,null,null,null,null,null,null,null,null,null,null,null,null,null,null,null,null,null,null,null,null,null,null,null,null,null,null,null,null,null,"","",{"$f":"IF($N1582=\"\",\"\",IFERROR(IF(N1582=6,1,IF(MATCH(N1582&\"/\"&R1582,読み替え表_クールビズ!$P$38:$P$59,0),1,0)),0))","v":""},{"$f":"IF($P1582=\"\",\"\",IFERROR(IF(P1582=6,1,IF(MATCH(P1582&\"/\"&R1582,読み替え表_クールビズ!$P$38:$P$59,0),1,0)),0))","v":""},"","",0,0,"*"]
[null,null,1573,null,null,null,null,null,null,null,null,null,null,null,null,null,null,null,null,null,null,null,null,null,null,null,null,null,null,null,null,null,"","",{"$f":"IF($N1583=\"\",\"\",IFERROR(IF(N1583=6,1,IF(MATCH(N1583&\"/\"&R1583,読み替え表_クールビズ!$P$38:$P$59,0),1,0)),0))","v":""},{"$f":"IF($P1583=\"\",\"\",IFERROR(IF(P1583=6,1,IF(MATCH(P1583&\"/\"&R1583,読み替え表_クールビズ!$P$38:$P$59,0),1,0)),0))","v":""},"","",0,0,"*"]
[null,null,1574,null,null,null,null,null,null,null,null,null,null,null,null,null,null,null,null,null,null,null,null,null,null,null,null,null,null,null,null,null,"","",{"$f":"IF($N1584=\"\",\"\",IFERROR(IF(N1584=6,1,IF(MATCH(N1584&\"/\"&R1584,読み替え表_クールビズ!$P$38:$P$59,0),1,0)),0))","v":""},{"$f":"IF($P1584=\"\",\"\",IFERROR(IF(P1584=6,1,IF(MATCH(P1584&\"/\"&R1584,読み替え表_クールビズ!$P$38:$P$59,0),1,0)),0))","v":""},"","",0,0,"*"]
[null,null,1575,null,null,null,null,null,null,null,null,null,null,null,null,null,null,null,null,null,null,null,null,null,null,null,null,null,null,null,null,null,"","",{"$f":"IF($N1585=\"\",\"\",IFERROR(IF(N1585=6,1,IF(MATCH(N1585&\"/\"&R1585,読み替え表_クールビズ!$P$38:$P$59,0),1,0)),0))","v":""},{"$f":"IF($P1585=\"\",\"\",IFERROR(IF(P1585=6,1,IF(MATCH(P1585&\"/\"&R1585,読み替え表_クールビズ!$P$38:$P$59,0),1,0)),0))","v":""},"","",0,0,"*"]
[null,null,1576,null,null,null,null,null,null,null,null,null,null,null,null,null,null,null,null,null,null,null,null,null,null,null,null,null,null,null,null,null,"","",{"$f":"IF($N1586=\"\",\"\",IFERROR(IF(N1586=6,1,IF(MATCH(N1586&\"/\"&R1586,読み替え表_クールビズ!$P$38:$P$59,0),1,0)),0))","v":""},{"$f":"IF($P1586=\"\",\"\",IFERROR(IF(P1586=6,1,IF(MATCH(P1586&\"/\"&R1586,読み替え表_クールビズ!$P$38:$P$59,0),1,0)),0))","v":""},"","",0,0,"*"]
[null,null,1577,null,null,null,null,null,null,null,null,null,null,null,null,null,null,null,null,null,null,null,null,null,null,null,null,null,null,null,null,null,"","",{"$f":"IF($N1587=\"\",\"\",IFERROR(IF(N1587=6,1,IF(MATCH(N1587&\"/\"&R1587,読み替え表_クールビズ!$P$38:$P$59,0),1,0)),0))","v":""},{"$f":"IF($P1587=\"\",\"\",IFERROR(IF(P1587=6,1,IF(MATCH(P1587&\"/\"&R1587,読み替え表_クールビズ!$P$38:$P$59,0),1,0)),0))","v":""},"","",0,0,"*"]
[null,null,1578,null,null,null,null,null,null,null,null,null,null,null,null,null,null,null,null,null,null,null,null,null,null,null,null,null,null,null,null,null,"","",{"$f":"IF($N1588=\"\",\"\",IFERROR(IF(N1588=6,1,IF(MATCH(N1588&\"/\"&R1588,読み替え表_クールビズ!$P$38:$P$59,0),1,0)),0))","v":""},{"$f":"IF($P1588=\"\",\"\",IFERROR(IF(P1588=6,1,IF(MATCH(P1588&\"/\"&R1588,読み替え表_クールビズ!$P$38:$P$59,0),1,0)),0))","v":""},"","",0,0,"*"]
[null,null,1579,null,null,null,null,null,null,null,null,null,null,null,null,null,null,null,null,null,null,null,null,null,null,null,null,null,null,null,null,null,"","",{"$f":"IF($N1589=\"\",\"\",IFERROR(IF(N1589=6,1,IF(MATCH(N1589&\"/\"&R1589,読み替え表_クールビズ!$P$38:$P$59,0),1,0)),0))","v":""},{"$f":"IF($P1589=\"\",\"\",IFERROR(IF(P1589=6,1,IF(MATCH(P1589&\"/\"&R1589,読み替え表_クールビズ!$P$38:$P$59,0),1,0)),0))","v":""},"","",0,0,"*"]
[null,null,1580,null,null,null,null,null,null,null,null,null,null,null,null,null,null,null,null,null,null,null,null,null,null,null,null,null,null,null,null,null,"","",{"$f":"IF($N1590=\"\",\"\",IFERROR(IF(N1590=6,1,IF(MATCH(N1590&\"/\"&R1590,読み替え表_クールビズ!$P$38:$P$59,0),1,0)),0))","v":""},{"$f":"IF($P1590=\"\",\"\",IFERROR(IF(P1590=6,1,IF(MATCH(P1590&\"/\"&R1590,読み替え表_クールビズ!$P$38:$P$59,0),1,0)),0))","v":""},"","",0,0,"*"]
[null,null,1581,null,null,null,null,null,null,null,null,null,null,null,null,null,null,null,null,null,null,null,null,null,null,null,null,null,null,null,null,null,"","",{"$f":"IF($N1591=\"\",\"\",IFERROR(IF(N1591=6,1,IF(MATCH(N1591&\"/\"&R1591,読み替え表_クールビズ!$P$38:$P$59,0),1,0)),0))","v":""},{"$f":"IF($P1591=\"\",\"\",IFERROR(IF(P1591=6,1,IF(MATCH(P1591&\"/\"&R1591,読み替え表_クールビズ!$P$38:$P$59,0),1,0)),0))","v":""},"","",0,0,"*"]
[null,null,1582,null,null,null,null,null,null,null,null,null,null,null,null,null,null,null,null,null,null,null,null,null,null,null,null,null,null,null,null,null,"","",{"$f":"IF($N1592=\"\",\"\",IFERROR(IF(N1592=6,1,IF(MATCH(N1592&\"/\"&R1592,読み替え表_クールビズ!$P$38:$P$59,0),1,0)),0))","v":""},{"$f":"IF($P1592=\"\",\"\",IFERROR(IF(P1592=6,1,IF(MATCH(P1592&\"/\"&R1592,読み替え表_クールビズ!$P$38:$P$59,0),1,0)),0))","v":""},"","",0,0,"*"]
[null,null,1583,null,null,null,null,null,null,null,null,null,null,null,null,null,null,null,null,null,null,null,null,null,null,null,null,null,null,null,null,null,"","",{"$f":"IF($N1593=\"\",\"\",IFERROR(IF(N1593=6,1,IF(MATCH(N1593&\"/\"&R1593,読み替え表_クールビズ!$P$38:$P$59,0),1,0)),0))","v":""},{"$f":"IF($P1593=\"\",\"\",IFERROR(IF(P1593=6,1,IF(MATCH(P1593&\"/\"&R1593,読み替え表_クールビズ!$P$38:$P$59,0),1,0)),0))","v":""},"","",0,0,"*"]
[null,null,1584,null,null,null,null,null,null,null,null,null,null,null,null,null,null,null,null,null,null,null,null,null,null,null,null,null,null,null,null,null,"","",{"$f":"IF($N1594=\"\",\"\",IFERROR(IF(N1594=6,1,IF(MATCH(N1594&\"/\"&R1594,読み替え表_クールビズ!$P$38:$P$59,0),1,0)),0))","v":""},{"$f":"IF($P1594=\"\",\"\",IFERROR(IF(P1594=6,1,IF(MATCH(P1594&\"/\"&R1594,読み替え表_クールビズ!$P$38:$P$59,0),1,0)),0))","v":""},"","",0,0,"*"]
[null,null,1585,null,null,null,null,null,null,null,null,null,null,null,null,null,null,null,null,null,null,null,null,null,null,null,null,null,null,null,null,null,"","",{"$f":"IF($N1595=\"\",\"\",IFERROR(IF(N1595=6,1,IF(MATCH(N1595&\"/\"&R1595,読み替え表_クールビズ!$P$38:$P$59,0),1,0)),0))","v":""},{"$f":"IF($P1595=\"\",\"\",IFERROR(IF(P1595=6,1,IF(MATCH(P1595&\"/\"&R1595,読み替え表_クールビズ!$P$38:$P$59,0),1,0)),0))","v":""},"","",0,0,"*"]
[null,null,1586,null,null,null,null,null,null,null,null,null,null,null,null,null,null,null,null,null,null,null,null,null,null,null,null,null,null,null,null,null,"","",{"$f":"IF($N1596=\"\",\"\",IFERROR(IF(N1596=6,1,IF(MATCH(N1596&\"/\"&R1596,読み替え表_クールビズ!$P$38:$P$59,0),1,0)),0))","v":""},{"$f":"IF($P1596=\"\",\"\",IFERROR(IF(P1596=6,1,IF(MATCH(P1596&\"/\"&R1596,読み替え表_クールビズ!$P$38:$P$59,0),1,0)),0))","v":""},"","",0,0,"*"]
[null,null,1587,null,null,null,null,null,null,null,null,null,null,null,null,null,null,null,null,null,null,null,null,null,null,null,null,null,null,null,null,null,"","",{"$f":"IF($N1597=\"\",\"\",IFERROR(IF(N1597=6,1,IF(MATCH(N1597&\"/\"&R1597,読み替え表_クールビズ!$P$38:$P$59,0),1,0)),0))","v":""},{"$f":"IF($P1597=\"\",\"\",IFERROR(IF(P1597=6,1,IF(MATCH(P1597&\"/\"&R1597,読み替え表_クールビズ!$P$38:$P$59,0),1,0)),0))","v":""},"","",0,0,"*"]
[null,null,1588,null,null,null,null,null,null,null,null,null,null,null,null,null,null,null,null,null,null,null,null,null,null,null,null,null,null,null,null,null,"","",{"$f":"IF($N1598=\"\",\"\",IFERROR(IF(N1598=6,1,IF(MATCH(N1598&\"/\"&R1598,読み替え表_クールビズ!$P$38:$P$59,0),1,0)),0))","v":""},{"$f":"IF($P1598=\"\",\"\",IFERROR(IF(P1598=6,1,IF(MATCH(P1598&\"/\"&R1598,読み替え表_クールビズ!$P$38:$P$59,0),1,0)),0))","v":""},"","",0,0,"*"]
[null,null,1589,null,null,null,null,null,null,null,null,null,null,null,null,null,null,null,null,null,null,null,null,null,null,null,null,null,null,null,null,null,"","",{"$f":"IF($N1599=\"\",\"\",IFERROR(IF(N1599=6,1,IF(MATCH(N1599&\"/\"&R1599,読み替え表_クールビズ!$P$38:$P$59,0),1,0)),0))","v":""},{"$f":"IF($P1599=\"\",\"\",IFERROR(IF(P1599=6,1,IF(MATCH(P1599&\"/\"&R1599,読み替え表_クールビズ!$P$38:$P$59,0),1,0)),0))","v":""},"","",0,0,"*"]
[null,null,1590,null,null,null,null,null,null,null,null,null,null,null,null,null,null,null,null,null,null,null,null,null,null,null,null,null,null,null,null,null,"","",{"$f":"IF($N1600=\"\",\"\",IFERROR(IF(N1600=6,1,IF(MATCH(N1600&\"/\"&R1600,読み替え表_クールビズ!$P$38:$P$59,0),1,0)),0))","v":""},{"$f":"IF($P1600=\"\",\"\",IFERROR(IF(P1600=6,1,IF(MATCH(P1600&\"/\"&R1600,読み替え表_クールビズ!$P$38:$P$59,0),1,0)),0))","v":""},"","",0,0,"*"]
[null,null,1591,null,null,null,null,null,null,null,null,null,null,null,null,null,null,null,null,null,null,null,null,null,null,null,null,null,null,null,null,null,"","",{"$f":"IF($N1601=\"\",\"\",IFERROR(IF(N1601=6,1,IF(MATCH(N1601&\"/\"&R1601,読み替え表_クールビズ!$P$38:$P$59,0),1,0)),0))","v":""},{"$f":"IF($P1601=\"\",\"\",IFERROR(IF(P1601=6,1,IF(MATCH(P1601&\"/\"&R1601,読み替え表_クールビズ!$P$38:$P$59,0),1,0)),0))","v":""},"","",0,0,"*"]
[null,null,1592,null,null,null,null,null,null,null,null,null,null,null,null,null,null,null,null,null,null,null,null,null,null,null,null,null,null,null,null,null,"","",{"$f":"IF($N1602=\"\",\"\",IFERROR(IF(N1602=6,1,IF(MATCH(N1602&\"/\"&R1602,読み替え表_クールビズ!$P$38:$P$59,0),1,0)),0))","v":""},{"$f":"IF($P1602=\"\",\"\",IFERROR(IF(P1602=6,1,IF(MATCH(P1602&\"/\"&R1602,読み替え表_クールビズ!$P$38:$P$59,0),1,0)),0))","v":""},"","",0,0,"*"]
[null,null,1593,null,null,null,null,null,null,null,null,null,null,null,null,null,null,null,null,null,null,null,null,null,null,null,null,null,null,null,null,null,"","",{"$f":"IF($N1603=\"\",\"\",IFERROR(IF(N1603=6,1,IF(MATCH(N1603&\"/\"&R1603,読み替え表_クールビズ!$P$38:$P$59,0),1,0)),0))","v":""},{"$f":"IF($P1603=\"\",\"\",IFERROR(IF(P1603=6,1,IF(MATCH(P1603&\"/\"&R1603,読み替え表_クールビズ!$P$38:$P$59,0),1,0)),0))","v":""},"","",0,0,"*"]
[null,null,1594,null,null,null,null,null,null,null,null,null,null,null,null,null,null,null,null,null,null,null,null,null,null,null,null,null,null,null,null,null,"","",{"$f":"IF($N1604=\"\",\"\",IFERROR(IF(N1604=6,1,IF(MATCH(N1604&\"/\"&R1604,読み替え表_クールビズ!$P$38:$P$59,0),1,0)),0))","v":""},{"$f":"IF($P1604=\"\",\"\",IFERROR(IF(P1604=6,1,IF(MATCH(P1604&\"/\"&R1604,読み替え表_クールビズ!$P$38:$P$59,0),1,0)),0))","v":""},"","",0,0,"*"]
[null,null,1595,null,null,null,null,null,null,null,null,null,null,null,null,null,null,null,null,null,null,null,null,null,null,null,null,null,null,null,null,null,"","",{"$f":"IF($N1605=\"\",\"\",IFERROR(IF(N1605=6,1,IF(MATCH(N1605&\"/\"&R1605,読み替え表_クールビズ!$P$38:$P$59,0),1,0)),0))","v":""},{"$f":"IF($P1605=\"\",\"\",IFERROR(IF(P1605=6,1,IF(MATCH(P1605&\"/\"&R1605,読み替え表_クールビズ!$P$38:$P$59,0),1,0)),0))","v":""},"","",0,0,"*"]
[null,null,1596,null,null,null,null,null,null,null,null,null,null,null,null,null,null,null,null,null,null,null,null,null,null,null,null,null,null,null,null,null,"","",{"$f":"IF($N1606=\"\",\"\",IFERROR(IF(N1606=6,1,IF(MATCH(N1606&\"/\"&R1606,読み替え表_クールビズ!$P$38:$P$59,0),1,0)),0))","v":""},{"$f":"IF($P1606=\"\",\"\",IFERROR(IF(P1606=6,1,IF(MATCH(P1606&\"/\"&R1606,読み替え表_クールビズ!$P$38:$P$59,0),1,0)),0))","v":""},"","",0,0,"*"]
[null,null,1597,null,null,null,null,null,null,null,null,null,null,null,null,null,null,null,null,null,null,null,null,null,null,null,null,null,null,null,null,null,"","",{"$f":"IF($N1607=\"\",\"\",IFERROR(IF(N1607=6,1,IF(MATCH(N1607&\"/\"&R1607,読み替え表_クールビズ!$P$38:$P$59,0),1,0)),0))","v":""},{"$f":"IF($P1607=\"\",\"\",IFERROR(IF(P1607=6,1,IF(MATCH(P1607&\"/\"&R1607,読み替え表_クールビズ!$P$38:$P$59,0),1,0)),0))","v":""},"","",0,0,"*"]
[null,null,1598,null,null,null,null,null,null,null,null,null,null,null,null,null,null,null,null,null,null,null,null,null,null,null,null,null,null,null,null,null,"","",{"$f":"IF($N1608=\"\",\"\",IFERROR(IF(N1608=6,1,IF(MATCH(N1608&\"/\"&R1608,読み替え表_クールビズ!$P$38:$P$59,0),1,0)),0))","v":""},{"$f":"IF($P1608=\"\",\"\",IFERROR(IF(P1608=6,1,IF(MATCH(P1608&\"/\"&R1608,読み替え表_クールビズ!$P$38:$P$59,0),1,0)),0))","v":""},"","",0,0,"*"]
[null,null,1599,null,null,null,null,null,null,null,null,null,null,null,null,null,null,null,null,null,null,null,null,null,null,null,null,null,null,null,null,null,"","",{"$f":"IF($N1609=\"\",\"\",IFERROR(IF(N1609=6,1,IF(MATCH(N1609&\"/\"&R1609,読み替え表_クールビズ!$P$38:$P$59,0),1,0)),0))","v":""},{"$f":"IF($P1609=\"\",\"\",IFERROR(IF(P1609=6,1,IF(MATCH(P1609&\"/\"&R1609,読み替え表_クールビズ!$P$38:$P$59,0),1,0)),0))","v":""},"","",0,0,"*"]
[null,null,1600,null,null,null,null,null,null,null,null,null,null,null,null,null,null,null,null,null,null,null,null,null,null,null,null,null,null,null,null,null,"","",{"$f":"IF($N1610=\"\",\"\",IFERROR(IF(N1610=6,1,IF(MATCH(N1610&\"/\"&R1610,読み替え表_クールビズ!$P$38:$P$59,0),1,0)),0))","v":""},{"$f":"IF($P1610=\"\",\"\",IFERROR(IF(P1610=6,1,IF(MATCH(P1610&\"/\"&R1610,読み替え表_クールビズ!$P$38:$P$59,0),1,0)),0))","v":""},"","",0,0,"*"]
[null,null,1601,null,null,null,null,null,null,null,null,null,null,null,null,null,null,null,null,null,null,null,null,null,null,null,null,null,null,null,null,null,"","",{"$f":"IF($N1611=\"\",\"\",IFERROR(IF(N1611=6,1,IF(MATCH(N1611&\"/\"&R1611,読み替え表_クールビズ!$P$38:$P$59,0),1,0)),0))","v":""},{"$f":"IF($P1611=\"\",\"\",IFERROR(IF(P1611=6,1,IF(MATCH(P1611&\"/\"&R1611,読み替え表_クールビズ!$P$38:$P$59,0),1,0)),0))","v":""},{"$f":"IF($N1611=\"\",\"\",IF(OR(CONCATENATE(N1611,$R1611)=\"22\",CONCATENATE(N1611,$R1611)=\"32\",CONCATENATE(N1611,$R1611)=\"42\",CONCATENATE(N1611,$R1611)=\"43\",CONCATENATE(N1611,$R1611)=\"51\",CONCATENATE(N1611,$R1611)=\"52\",CONCATENATE(N1611,$R1611)=\"53\"),1,0))","v":""},{"$f":"IF($P1611=\"\",\"\",IF(OR(CONCATENATE(P1611,$R1611)=\"22\",CONCATENATE(P1611,$R1611)=\"32\",CONCATENATE(P1611,$R1611)=\"42\",CONCATENATE(P1611,$R1611)=\"43\",CONCATENATE(P1611,$R1611)=\"51\",CONCATENATE(P1611,$R1611)=\"52\",CONCATENATE(P1611,$R1611)=\"53\"),1,0))","v":""},0,0,"*"]
[null,null,{"$f":"ROW()-10","v":1602},null,null,null,null,null,null,null,null,null,null,null,null,null,null,null,null,null,null,null,null,null,null,null,null,null,null,null,null,null,{"$f":"IF($J1612=\"\",\"\",IF(AND($J1612>=1,$J1612<=9),1,0))","v":""},{"$f":"IF($R1612=\"\",\"\",IF(OR($R1612=1,$R1612=2,$R1612=3),1,0))","v":""},{"$f":"IF($N1612=\"\",\"\",IFERROR(IF(N1612=6,1,IF(MATCH(N1612&\"/\"&R1612,読み替え表_クールビズ!$P$38:$P$59,0),1,0)),0))","v":""},{"$f":"IF($P1612=\"\",\"\",IFERROR(IF(P1612=6,1,IF(MATCH(P1612&\"/\"&R1612,読み替え表_クールビズ!$P$38:$P$59,0),1,0)),0))","v":""},"","",{"$f":"IF(OR(AK1612=1,AL1612=1),1,0)","v":0},{"$f":"IF(OR($AG1612=0,SUM(AI1612:AJ1612)=2),1,0)","v":0},"*"]
[null,null,1603,null,null,null,null,null,null,null,null,null,null,null,null,null,null,null,null,null,null,null,null,null,null,null,null,null,null,null,null,null,"","",{"$f":"IF($N1613=\"\",\"\",IFERROR(IF(N1613=6,1,IF(MATCH(N1613&\"/\"&R1613,読み替え表_クールビズ!$P$38:$P$59,0),1,0)),0))","v":""},{"$f":"IF($P1613=\"\",\"\",IFERROR(IF(P1613=6,1,IF(MATCH(P1613&\"/\"&R1613,読み替え表_クールビズ!$P$38:$P$59,0),1,0)),0))","v":""},"","",0,0,"*"]
[null,null,1604,null,null,null,null,null,null,null,null,null,null,null,null,null,null,null,null,null,null,null,null,null,null,null,null,null,null,null,null,null,"","",{"$f":"IF($N1614=\"\",\"\",IFERROR(IF(N1614=6,1,IF(MATCH(N1614&\"/\"&R1614,読み替え表_クールビズ!$P$38:$P$59,0),1,0)),0))","v":""},{"$f":"IF($P1614=\"\",\"\",IFERROR(IF(P1614=6,1,IF(MATCH(P1614&\"/\"&R1614,読み替え表_クールビズ!$P$38:$P$59,0),1,0)),0))","v":""},"","",0,0,"*"]
[null,null,1605,null,null,null,null,null,null,null,null,null,null,null,null,null,null,null,null,null,null,null,null,null,null,null,null,null,null,null,null,null,"","",{"$f":"IF($N1615=\"\",\"\",IFERROR(IF(N1615=6,1,IF(MATCH(N1615&\"/\"&R1615,読み替え表_クールビズ!$P$38:$P$59,0),1,0)),0))","v":""},{"$f":"IF($P1615=\"\",\"\",IFERROR(IF(P1615=6,1,IF(MATCH(P1615&\"/\"&R1615,読み替え表_クールビズ!$P$38:$P$59,0),1,0)),0))","v":""},"","",0,0,"*"]
[null,null,1606,null,null,null,null,null,null,null,null,null,null,null,null,null,null,null,null,null,null,null,null,null,null,null,null,null,null,null,null,null,"","",{"$f":"IF($N1616=\"\",\"\",IFERROR(IF(N1616=6,1,IF(MATCH(N1616&\"/\"&R1616,読み替え表_クールビズ!$P$38:$P$59,0),1,0)),0))","v":""},{"$f":"IF($P1616=\"\",\"\",IFERROR(IF(P1616=6,1,IF(MATCH(P1616&\"/\"&R1616,読み替え表_クールビズ!$P$38:$P$59,0),1,0)),0))","v":""},"","",0,0,"*"]
[null,null,1607,null,null,null,null,null,null,null,null,null,null,null,null,null,null,null,null,null,null,null,null,null,null,null,null,null,null,null,null,null,"","",{"$f":"IF($N1617=\"\",\"\",IFERROR(IF(N1617=6,1,IF(MATCH(N1617&\"/\"&R1617,読み替え表_クールビズ!$P$38:$P$59,0),1,0)),0))","v":""},{"$f":"IF($P1617=\"\",\"\",IFERROR(IF(P1617=6,1,IF(MATCH(P1617&\"/\"&R1617,読み替え表_クールビズ!$P$38:$P$59,0),1,0)),0))","v":""},"","",0,0,"*"]
[null,null,1608,null,null,null,null,null,null,null,null,null,null,null,null,null,null,null,null,null,null,null,null,null,null,null,null,null,null,null,null,null,"","",{"$f":"IF($N1618=\"\",\"\",IFERROR(IF(N1618=6,1,IF(MATCH(N1618&\"/\"&R1618,読み替え表_クールビズ!$P$38:$P$59,0),1,0)),0))","v":""},{"$f":"IF($P1618=\"\",\"\",IFERROR(IF(P1618=6,1,IF(MATCH(P1618&\"/\"&R1618,読み替え表_クールビズ!$P$38:$P$59,0),1,0)),0))","v":""},"","",0,0,"*"]
[null,null,1609,null,null,null,null,null,null,null,null,null,null,null,null,null,null,null,null,null,null,null,null,null,null,null,null,null,null,null,null,null,"","",{"$f":"IF($N1619=\"\",\"\",IFERROR(IF(N1619=6,1,IF(MATCH(N1619&\"/\"&R1619,読み替え表_クールビズ!$P$38:$P$59,0),1,0)),0))","v":""},{"$f":"IF($P1619=\"\",\"\",IFERROR(IF(P1619=6,1,IF(MATCH(P1619&\"/\"&R1619,読み替え表_クールビズ!$P$38:$P$59,0),1,0)),0))","v":""},"","",0,0,"*"]
[null,null,1610,null,null,null,null,null,null,null,null,null,null,null,null,null,null,null,null,null,null,null,null,null,null,null,null,null,null,null,null,null,"","",{"$f":"IF($N1620=\"\",\"\",IFERROR(IF(N1620=6,1,IF(MATCH(N1620&\"/\"&R1620,読み替え表_クールビズ!$P$38:$P$59,0),1,0)),0))","v":""},{"$f":"IF($P1620=\"\",\"\",IFERROR(IF(P1620=6,1,IF(MATCH(P1620&\"/\"&R1620,読み替え表_クールビズ!$P$38:$P$59,0),1,0)),0))","v":""},"","",0,0,"*"]
[null,null,1611,null,null,null,null,null,null,null,null,null,null,null,null,null,null,null,null,null,null,null,null,null,null,null,null,null,null,null,null,null,"","",{"$f":"IF($N1621=\"\",\"\",IFERROR(IF(N1621=6,1,IF(MATCH(N1621&\"/\"&R1621,読み替え表_クールビズ!$P$38:$P$59,0),1,0)),0))","v":""},{"$f":"IF($P1621=\"\",\"\",IFERROR(IF(P1621=6,1,IF(MATCH(P1621&\"/\"&R1621,読み替え表_クールビズ!$P$38:$P$59,0),1,0)),0))","v":""},"","",0,0,"*"]
[null,null,1612,null,null,null,null,null,null,null,null,null,null,null,null,null,null,null,null,null,null,null,null,null,null,null,null,null,null,null,null,null,"","",{"$f":"IF($N1622=\"\",\"\",IFERROR(IF(N1622=6,1,IF(MATCH(N1622&\"/\"&R1622,読み替え表_クールビズ!$P$38:$P$59,0),1,0)),0))","v":""},{"$f":"IF($P1622=\"\",\"\",IFERROR(IF(P1622=6,1,IF(MATCH(P1622&\"/\"&R1622,読み替え表_クールビズ!$P$38:$P$59,0),1,0)),0))","v":""},"","",0,0,"*"]
[null,null,1613,null,null,null,null,null,null,null,null,null,null,null,null,null,null,null,null,null,null,null,null,null,null,null,null,null,null,null,null,null,"","",{"$f":"IF($N1623=\"\",\"\",IFERROR(IF(N1623=6,1,IF(MATCH(N1623&\"/\"&R1623,読み替え表_クールビズ!$P$38:$P$59,0),1,0)),0))","v":""},{"$f":"IF($P1623=\"\",\"\",IFERROR(IF(P1623=6,1,IF(MATCH(P1623&\"/\"&R1623,読み替え表_クールビズ!$P$38:$P$59,0),1,0)),0))","v":""},"","",0,0,"*"]
[null,null,1614,null,null,null,null,null,null,null,null,null,null,null,null,null,null,null,null,null,null,null,null,null,null,null,null,null,null,null,null,null,"","",{"$f":"IF($N1624=\"\",\"\",IFERROR(IF(N1624=6,1,IF(MATCH(N1624&\"/\"&R1624,読み替え表_クールビズ!$P$38:$P$59,0),1,0)),0))","v":""},{"$f":"IF($P1624=\"\",\"\",IFERROR(IF(P1624=6,1,IF(MATCH(P1624&\"/\"&R1624,読み替え表_クールビズ!$P$38:$P$59,0),1,0)),0))","v":""},"","",0,0,"*"]
[null,null,1615,null,null,null,null,null,null,null,null,null,null,null,null,null,null,null,null,null,null,null,null,null,null,null,null,null,null,null,null,null,"","",{"$f":"IF($N1625=\"\",\"\",IFERROR(IF(N1625=6,1,IF(MATCH(N1625&\"/\"&R1625,読み替え表_クールビズ!$P$38:$P$59,0),1,0)),0))","v":""},{"$f":"IF($P1625=\"\",\"\",IFERROR(IF(P1625=6,1,IF(MATCH(P1625&\"/\"&R1625,読み替え表_クールビズ!$P$38:$P$59,0),1,0)),0))","v":""},"","",0,0,"*"]
[null,null,1616,null,null,null,null,null,null,null,null,null,null,null,null,null,null,null,null,null,null,null,null,null,null,null,null,null,null,null,null,null,"","",{"$f":"IF($N1626=\"\",\"\",IFERROR(IF(N1626=6,1,IF(MATCH(N1626&\"/\"&R1626,読み替え表_クールビズ!$P$38:$P$59,0),1,0)),0))","v":""},{"$f":"IF($P1626=\"\",\"\",IFERROR(IF(P1626=6,1,IF(MATCH(P1626&\"/\"&R1626,読み替え表_クールビズ!$P$38:$P$59,0),1,0)),0))","v":""},"","",0,0,"*"]
[null,null,1617,null,null,null,null,null,null,null,null,null,null,null,null,null,null,null,null,null,null,null,null,null,null,null,null,null,null,null,null,null,"","",{"$f":"IF($N1627=\"\",\"\",IFERROR(IF(N1627=6,1,IF(MATCH(N1627&\"/\"&R1627,読み替え表_クールビズ!$P$38:$P$59,0),1,0)),0))","v":""},{"$f":"IF($P1627=\"\",\"\",IFERROR(IF(P1627=6,1,IF(MATCH(P1627&\"/\"&R1627,読み替え表_クールビズ!$P$38:$P$59,0),1,0)),0))","v":""},"","",0,0,"*"]
[null,null,1618,null,null,null,null,null,null,null,null,null,null,null,null,null,null,null,null,null,null,null,null,null,null,null,null,null,null,null,null,null,"","",{"$f":"IF($N1628=\"\",\"\",IFERROR(IF(N1628=6,1,IF(MATCH(N1628&\"/\"&R1628,読み替え表_クールビズ!$P$38:$P$59,0),1,0)),0))","v":""},{"$f":"IF($P1628=\"\",\"\",IFERROR(IF(P1628=6,1,IF(MATCH(P1628&\"/\"&R1628,読み替え表_クールビズ!$P$38:$P$59,0),1,0)),0))","v":""},"","",0,0,"*"]
[null,null,1619,null,null,null,null,null,null,null,null,null,null,null,null,null,null,null,null,null,null,null,null,null,null,null,null,null,null,null,null,null,"","",{"$f":"IF($N1629=\"\",\"\",IFERROR(IF(N1629=6,1,IF(MATCH(N1629&\"/\"&R1629,読み替え表_クールビズ!$P$38:$P$59,0),1,0)),0))","v":""},{"$f":"IF($P1629=\"\",\"\",IFERROR(IF(P1629=6,1,IF(MATCH(P1629&\"/\"&R1629,読み替え表_クールビズ!$P$38:$P$59,0),1,0)),0))","v":""},"","",0,0,"*"]
[null,null,1620,null,null,null,null,null,null,null,null,null,null,null,null,null,null,null,null,null,null,null,null,null,null,null,null,null,null,null,null,null,"","",{"$f":"IF($N1630=\"\",\"\",IFERROR(IF(N1630=6,1,IF(MATCH(N1630&\"/\"&R1630,読み替え表_クールビズ!$P$38:$P$59,0),1,0)),0))","v":""},{"$f":"IF($P1630=\"\",\"\",IFERROR(IF(P1630=6,1,IF(MATCH(P1630&\"/\"&R1630,読み替え表_クールビズ!$P$38:$P$59,0),1,0)),0))","v":""},"","",0,0,"*"]
[null,null,1621,null,null,null,null,null,null,null,null,null,null,null,null,null,null,null,null,null,null,null,null,null,null,null,null,null,null,null,null,null,"","",{"$f":"IF($N1631=\"\",\"\",IFERROR(IF(N1631=6,1,IF(MATCH(N1631&\"/\"&R1631,読み替え表_クールビズ!$P$38:$P$59,0),1,0)),0))","v":""},{"$f":"IF($P1631=\"\",\"\",IFERROR(IF(P1631=6,1,IF(MATCH(P1631&\"/\"&R1631,読み替え表_クールビズ!$P$38:$P$59,0),1,0)),0))","v":""},"","",0,0,"*"]
[null,null,1622,null,null,null,null,null,null,null,null,null,null,null,null,null,null,null,null,null,null,null,null,null,null,null,null,null,null,null,null,null,"","",{"$f":"IF($N1632=\"\",\"\",IFERROR(IF(N1632=6,1,IF(MATCH(N1632&\"/\"&R1632,読み替え表_クールビズ!$P$38:$P$59,0),1,0)),0))","v":""},{"$f":"IF($P1632=\"\",\"\",IFERROR(IF(P1632=6,1,IF(MATCH(P1632&\"/\"&R1632,読み替え表_クールビズ!$P$38:$P$59,0),1,0)),0))","v":""},"","",0,0,"*"]
[null,null,1623,null,null,null,null,null,null,null,null,null,null,null,null,null,null,null,null,null,null,null,null,null,null,null,null,null,null,null,null,null,"","",{"$f":"IF($N1633=\"\",\"\",IFERROR(IF(N1633=6,1,IF(MATCH(N1633&\"/\"&R1633,読み替え表_クールビズ!$P$38:$P$59,0),1,0)),0))","v":""},{"$f":"IF($P1633=\"\",\"\",IFERROR(IF(P1633=6,1,IF(MATCH(P1633&\"/\"&R1633,読み替え表_クールビズ!$P$38:$P$59,0),1,0)),0))","v":""},"","",0,0,"*"]
[null,null,1624,null,null,null,null,null,null,null,null,null,null,null,null,null,null,null,null,null,null,null,null,null,null,null,null,null,null,null,null,null,"","",{"$f":"IF($N1634=\"\",\"\",IFERROR(IF(N1634=6,1,IF(MATCH(N1634&\"/\"&R1634,読み替え表_クールビズ!$P$38:$P$59,0),1,0)),0))","v":""},{"$f":"IF($P1634=\"\",\"\",IFERROR(IF(P1634=6,1,IF(MATCH(P1634&\"/\"&R1634,読み替え表_クールビズ!$P$38:$P$59,0),1,0)),0))","v":""},"","",0,0,"*"]
[null,null,1625,null,null,null,null,null,null,null,null,null,null,null,null,null,null,null,null,null,null,null,null,null,null,null,null,null,null,null,null,null,"","",{"$f":"IF($N1635=\"\",\"\",IFERROR(IF(N1635=6,1,IF(MATCH(N1635&\"/\"&R1635,読み替え表_クールビズ!$P$38:$P$59,0),1,0)),0))","v":""},{"$f":"IF($P1635=\"\",\"\",IFERROR(IF(P1635=6,1,IF(MATCH(P1635&\"/\"&R1635,読み替え表_クールビズ!$P$38:$P$59,0),1,0)),0))","v":""},"","",0,0,"*"]
[null,null,1626,null,null,null,null,null,null,null,null,null,null,null,null,null,null,null,null,null,null,null,null,null,null,null,null,null,null,null,null,null,"","",{"$f":"IF($N1636=\"\",\"\",IFERROR(IF(N1636=6,1,IF(MATCH(N1636&\"/\"&R1636,読み替え表_クールビズ!$P$38:$P$59,0),1,0)),0))","v":""},{"$f":"IF($P1636=\"\",\"\",IFERROR(IF(P1636=6,1,IF(MATCH(P1636&\"/\"&R1636,読み替え表_クールビズ!$P$38:$P$59,0),1,0)),0))","v":""},"","",0,0,"*"]
[null,null,1627,null,null,null,null,null,null,null,null,null,null,null,null,null,null,null,null,null,null,null,null,null,null,null,null,null,null,null,null,null,"","",{"$f":"IF($N1637=\"\",\"\",IFERROR(IF(N1637=6,1,IF(MATCH(N1637&\"/\"&R1637,読み替え表_クールビズ!$P$38:$P$59,0),1,0)),0))","v":""},{"$f":"IF($P1637=\"\",\"\",IFERROR(IF(P1637=6,1,IF(MATCH(P1637&\"/\"&R1637,読み替え表_クールビズ!$P$38:$P$59,0),1,0)),0))","v":""},"","",0,0,"*"]
[null,null,1628,null,null,null,null,null,null,null,null,null,null,null,null,null,null,null,null,null,null,null,null,null,null,null,null,null,null,null,null,null,"","",{"$f":"IF($N1638=\"\",\"\",IFERROR(IF(N1638=6,1,IF(MATCH(N1638&\"/\"&R1638,読み替え表_クールビズ!$P$38:$P$59,0),1,0)),0))","v":""},{"$f":"IF($P1638=\"\",\"\",IFERROR(IF(P1638=6,1,IF(MATCH(P1638&\"/\"&R1638,読み替え表_クールビズ!$P$38:$P$59,0),1,0)),0))","v":""},"","",0,0,"*"]
[null,null,1629,null,null,null,null,null,null,null,null,null,null,null,null,null,null,null,null,null,null,null,null,null,null,null,null,null,null,null,null,null,"","",{"$f":"IF($N1639=\"\",\"\",IFERROR(IF(N1639=6,1,IF(MATCH(N1639&\"/\"&R1639,読み替え表_クールビズ!$P$38:$P$59,0),1,0)),0))","v":""},{"$f":"IF($P1639=\"\",\"\",IFERROR(IF(P1639=6,1,IF(MATCH(P1639&\"/\"&R1639,読み替え表_クールビズ!$P$38:$P$59,0),1,0)),0))","v":""},"","",0,0,"*"]
[null,null,1630,null,null,null,null,null,null,null,null,null,null,null,null,null,null,null,null,null,null,null,null,null,null,null,null,null,null,null,null,null,"","",{"$f":"IF($N1640=\"\",\"\",IFERROR(IF(N1640=6,1,IF(MATCH(N1640&\"/\"&R1640,読み替え表_クールビズ!$P$38:$P$59,0),1,0)),0))","v":""},{"$f":"IF($P1640=\"\",\"\",IFERROR(IF(P1640=6,1,IF(MATCH(P1640&\"/\"&R1640,読み替え表_クールビズ!$P$38:$P$59,0),1,0)),0))","v":""},"","",0,0,"*"]
[null,null,1631,null,null,null,null,null,null,null,null,null,null,null,null,null,null,null,null,null,null,null,null,null,null,null,null,null,null,null,null,null,"","",{"$f":"IF($N1641=\"\",\"\",IFERROR(IF(N1641=6,1,IF(MATCH(N1641&\"/\"&R1641,読み替え表_クールビズ!$P$38:$P$59,0),1,0)),0))","v":""},{"$f":"IF($P1641=\"\",\"\",IFERROR(IF(P1641=6,1,IF(MATCH(P1641&\"/\"&R1641,読み替え表_クールビズ!$P$38:$P$59,0),1,0)),0))","v":""},"","",0,0,"*"]
[null,null,1632,null,null,null,null,null,null,null,null,null,null,null,null,null,null,null,null,null,null,null,null,null,null,null,null,null,null,null,null,null,"","",{"$f":"IF($N1642=\"\",\"\",IFERROR(IF(N1642=6,1,IF(MATCH(N1642&\"/\"&R1642,読み替え表_クールビズ!$P$38:$P$59,0),1,0)),0))","v":""},{"$f":"IF($P1642=\"\",\"\",IFERROR(IF(P1642=6,1,IF(MATCH(P1642&\"/\"&R1642,読み替え表_クールビズ!$P$38:$P$59,0),1,0)),0))","v":""},"","",0,0,"*"]
[null,null,1633,null,null,null,null,null,null,null,null,null,null,null,null,null,null,null,null,null,null,null,null,null,null,null,null,null,null,null,null,null,"","",{"$f":"IF($N1643=\"\",\"\",IFERROR(IF(N1643=6,1,IF(MATCH(N1643&\"/\"&R1643,読み替え表_クールビズ!$P$38:$P$59,0),1,0)),0))","v":""},{"$f":"IF($P1643=\"\",\"\",IFERROR(IF(P1643=6,1,IF(MATCH(P1643&\"/\"&R1643,読み替え表_クールビズ!$P$38:$P$59,0),1,0)),0))","v":""},"","",0,0,"*"]
[null,null,1634,null,null,null,null,null,null,null,null,null,null,null,null,null,null,null,null,null,null,null,null,null,null,null,null,null,null,null,null,null,"","",{"$f":"IF($N1644=\"\",\"\",IFERROR(IF(N1644=6,1,IF(MATCH(N1644&\"/\"&R1644,読み替え表_クールビズ!$P$38:$P$59,0),1,0)),0))","v":""},{"$f":"IF($P1644=\"\",\"\",IFERROR(IF(P1644=6,1,IF(MATCH(P1644&\"/\"&R1644,読み替え表_クールビズ!$P$38:$P$59,0),1,0)),0))","v":""},"","",0,0,"*"]
[null,null,1635,null,null,null,null,null,null,null,null,null,null,null,null,null,null,null,null,null,null,null,null,null,null,null,null,null,null,null,null,null,"","",{"$f":"IF($N1645=\"\",\"\",IFERROR(IF(N1645=6,1,IF(MATCH(N1645&\"/\"&R1645,読み替え表_クールビズ!$P$38:$P$59,0),1,0)),0))","v":""},{"$f":"IF($P1645=\"\",\"\",IFERROR(IF(P1645=6,1,IF(MATCH(P1645&\"/\"&R1645,読み替え表_クールビズ!$P$38:$P$59,0),1,0)),0))","v":""},"","",0,0,"*"]
[null,null,1636,null,null,null,null,null,null,null,null,null,null,null,null,null,null,null,null,null,null,null,null,null,null,null,null,null,null,null,null,null,"","",{"$f":"IF($N1646=\"\",\"\",IFERROR(IF(N1646=6,1,IF(MATCH(N1646&\"/\"&R1646,読み替え表_クールビズ!$P$38:$P$59,0),1,0)),0))","v":""},{"$f":"IF($P1646=\"\",\"\",IFERROR(IF(P1646=6,1,IF(MATCH(P1646&\"/\"&R1646,読み替え表_クールビズ!$P$38:$P$59,0),1,0)),0))","v":""},"","",0,0,"*"]
[null,null,1637,null,null,null,null,null,null,null,null,null,null,null,null,null,null,null,null,null,null,null,null,null,null,null,null,null,null,null,null,null,"","",{"$f":"IF($N1647=\"\",\"\",IFERROR(IF(N1647=6,1,IF(MATCH(N1647&\"/\"&R1647,読み替え表_クールビズ!$P$38:$P$59,0),1,0)),0))","v":""},{"$f":"IF($P1647=\"\",\"\",IFERROR(IF(P1647=6,1,IF(MATCH(P1647&\"/\"&R1647,読み替え表_クールビズ!$P$38:$P$59,0),1,0)),0))","v":""},"","",0,0,"*"]
[null,null,1638,null,null,null,null,null,null,null,null,null,null,null,null,null,null,null,null,null,null,null,null,null,null,null,null,null,null,null,null,null,"","",{"$f":"IF($N1648=\"\",\"\",IFERROR(IF(N1648=6,1,IF(MATCH(N1648&\"/\"&R1648,読み替え表_クールビズ!$P$38:$P$59,0),1,0)),0))","v":""},{"$f":"IF($P1648=\"\",\"\",IFERROR(IF(P1648=6,1,IF(MATCH(P1648&\"/\"&R1648,読み替え表_クールビズ!$P$38:$P$59,0),1,0)),0))","v":""},"","",0,0,"*"]
[null,null,1639,null,null,null,null,null,null,null,null,null,null,null,null,null,null,null,null,null,null,null,null,null,null,null,null,null,null,null,null,null,"","",{"$f":"IF($N1649=\"\",\"\",IFERROR(IF(N1649=6,1,IF(MATCH(N1649&\"/\"&R1649,読み替え表_クールビズ!$P$38:$P$59,0),1,0)),0))","v":""},{"$f":"IF($P1649=\"\",\"\",IFERROR(IF(P1649=6,1,IF(MATCH(P1649&\"/\"&R1649,読み替え表_クールビズ!$P$38:$P$59,0),1,0)),0))","v":""},"","",0,0,"*"]
[null,null,1640,null,null,null,null,null,null,null,null,null,null,null,null,null,null,null,null,null,null,null,null,null,null,null,null,null,null,null,null,null,"","",{"$f":"IF($N1650=\"\",\"\",IFERROR(IF(N1650=6,1,IF(MATCH(N1650&\"/\"&R1650,読み替え表_クールビズ!$P$38:$P$59,0),1,0)),0))","v":""},{"$f":"IF($P1650=\"\",\"\",IFERROR(IF(P1650=6,1,IF(MATCH(P1650&\"/\"&R1650,読み替え表_クールビズ!$P$38:$P$59,0),1,0)),0))","v":""},"","",0,0,"*"]
[null,null,1641,null,null,null,null,null,null,null,null,null,null,null,null,null,null,null,null,null,null,null,null,null,null,null,null,null,null,null,null,null,"","",{"$f":"IF($N1651=\"\",\"\",IFERROR(IF(N1651=6,1,IF(MATCH(N1651&\"/\"&R1651,読み替え表_クールビズ!$P$38:$P$59,0),1,0)),0))","v":""},{"$f":"IF($P1651=\"\",\"\",IFERROR(IF(P1651=6,1,IF(MATCH(P1651&\"/\"&R1651,読み替え表_クールビズ!$P$38:$P$59,0),1,0)),0))","v":""},"","",0,0,"*"]
[null,null,1642,null,null,null,null,null,null,null,null,null,null,null,null,null,null,null,null,null,null,null,null,null,null,null,null,null,null,null,null,null,"","",{"$f":"IF($N1652=\"\",\"\",IFERROR(IF(N1652=6,1,IF(MATCH(N1652&\"/\"&R1652,読み替え表_クールビズ!$P$38:$P$59,0),1,0)),0))","v":""},{"$f":"IF($P1652=\"\",\"\",IFERROR(IF(P1652=6,1,IF(MATCH(P1652&\"/\"&R1652,読み替え表_クールビズ!$P$38:$P$59,0),1,0)),0))","v":""},"","",0,0,"*"]
[null,null,1643,null,null,null,null,null,null,null,null,null,null,null,null,null,null,null,null,null,null,null,null,null,null,null,null,null,null,null,null,null,"","",{"$f":"IF($N1653=\"\",\"\",IFERROR(IF(N1653=6,1,IF(MATCH(N1653&\"/\"&R1653,読み替え表_クールビズ!$P$38:$P$59,0),1,0)),0))","v":""},{"$f":"IF($P1653=\"\",\"\",IFERROR(IF(P1653=6,1,IF(MATCH(P1653&\"/\"&R1653,読み替え表_クールビズ!$P$38:$P$59,0),1,0)),0))","v":""},"","",0,0,"*"]
[null,null,1644,null,null,null,null,null,null,null,null,null,null,null,null,null,null,null,null,null,null,null,null,null,null,null,null,null,null,null,null,null,"","",{"$f":"IF($N1654=\"\",\"\",IFERROR(IF(N1654=6,1,IF(MATCH(N1654&\"/\"&R1654,読み替え表_クールビズ!$P$38:$P$59,0),1,0)),0))","v":""},{"$f":"IF($P1654=\"\",\"\",IFERROR(IF(P1654=6,1,IF(MATCH(P1654&\"/\"&R1654,読み替え表_クールビズ!$P$38:$P$59,0),1,0)),0))","v":""},"","",0,0,"*"]
[null,null,1645,null,null,null,null,null,null,null,null,null,null,null,null,null,null,null,null,null,null,null,null,null,null,null,null,null,null,null,null,null,"","",{"$f":"IF($N1655=\"\",\"\",IFERROR(IF(N1655=6,1,IF(MATCH(N1655&\"/\"&R1655,読み替え表_クールビズ!$P$38:$P$59,0),1,0)),0))","v":""},{"$f":"IF($P1655=\"\",\"\",IFERROR(IF(P1655=6,1,IF(MATCH(P1655&\"/\"&R1655,読み替え表_クールビズ!$P$38:$P$59,0),1,0)),0))","v":""},"","",0,0,"*"]
[null,null,1646,null,null,null,null,null,null,null,null,null,null,null,null,null,null,null,null,null,null,null,null,null,null,null,null,null,null,null,null,null,"","",{"$f":"IF($N1656=\"\",\"\",IFERROR(IF(N1656=6,1,IF(MATCH(N1656&\"/\"&R1656,読み替え表_クールビズ!$P$38:$P$59,0),1,0)),0))","v":""},{"$f":"IF($P1656=\"\",\"\",IFERROR(IF(P1656=6,1,IF(MATCH(P1656&\"/\"&R1656,読み替え表_クールビズ!$P$38:$P$59,0),1,0)),0))","v":""},"","",0,0,"*"]
[null,null,1647,null,null,null,null,null,null,null,null,null,null,null,null,null,null,null,null,null,null,null,null,null,null,null,null,null,null,null,null,null,"","",{"$f":"IF($N1657=\"\",\"\",IFERROR(IF(N1657=6,1,IF(MATCH(N1657&\"/\"&R1657,読み替え表_クールビズ!$P$38:$P$59,0),1,0)),0))","v":""},{"$f":"IF($P1657=\"\",\"\",IFERROR(IF(P1657=6,1,IF(MATCH(P1657&\"/\"&R1657,読み替え表_クールビズ!$P$38:$P$59,0),1,0)),0))","v":""},"","",0,0,"*"]
[null,null,1648,null,null,null,null,null,null,null,null,null,null,null,null,null,null,null,null,null,null,null,null,null,null,null,null,null,null,null,null,null,"","",{"$f":"IF($N1658=\"\",\"\",IFERROR(IF(N1658=6,1,IF(MATCH(N1658&\"/\"&R1658,読み替え表_クールビズ!$P$38:$P$59,0),1,0)),0))","v":""},{"$f":"IF($P1658=\"\",\"\",IFERROR(IF(P1658=6,1,IF(MATCH(P1658&\"/\"&R1658,読み替え表_クールビズ!$P$38:$P$59,0),1,0)),0))","v":""},"","",0,0,"*"]
[null,null,1649,null,null,null,null,null,null,null,null,null,null,null,null,null,null,null,null,null,null,null,null,null,null,null,null,null,null,null,null,null,"","",{"$f":"IF($N1659=\"\",\"\",IFERROR(IF(N1659=6,1,IF(MATCH(N1659&\"/\"&R1659,読み替え表_クールビズ!$P$38:$P$59,0),1,0)),0))","v":""},{"$f":"IF($P1659=\"\",\"\",IFERROR(IF(P1659=6,1,IF(MATCH(P1659&\"/\"&R1659,読み替え表_クールビズ!$P$38:$P$59,0),1,0)),0))","v":""},"","",0,0,"*"]
[null,null,1650,null,null,null,null,null,null,null,null,null,null,null,null,null,null,null,null,null,null,null,null,null,null,null,null,null,null,null,null,null,"","",{"$f":"IF($N1660=\"\",\"\",IFERROR(IF(N1660=6,1,IF(MATCH(N1660&\"/\"&R1660,読み替え表_クールビズ!$P$38:$P$59,0),1,0)),0))","v":""},{"$f":"IF($P1660=\"\",\"\",IFERROR(IF(P1660=6,1,IF(MATCH(P1660&\"/\"&R1660,読み替え表_クールビズ!$P$38:$P$59,0),1,0)),0))","v":""},"","",0,0,"*"]
[null,null,1651,null,null,null,null,null,null,null,null,null,null,null,null,null,null,null,null,null,null,null,null,null,null,null,null,null,null,null,null,null,"","",{"$f":"IF($N1661=\"\",\"\",IFERROR(IF(N1661=6,1,IF(MATCH(N1661&\"/\"&R1661,読み替え表_クールビズ!$P$38:$P$59,0),1,0)),0))","v":""},{"$f":"IF($P1661=\"\",\"\",IFERROR(IF(P1661=6,1,IF(MATCH(P1661&\"/\"&R1661,読み替え表_クールビズ!$P$38:$P$59,0),1,0)),0))","v":""},"","",0,0,"*"]
[null,null,1652,null,null,null,null,null,null,null,null,null,null,null,null,null,null,null,null,null,null,null,null,null,null,null,null,null,null,null,null,null,"","",{"$f":"IF($N1662=\"\",\"\",IFERROR(IF(N1662=6,1,IF(MATCH(N1662&\"/\"&R1662,読み替え表_クールビズ!$P$38:$P$59,0),1,0)),0))","v":""},{"$f":"IF($P1662=\"\",\"\",IFERROR(IF(P1662=6,1,IF(MATCH(P1662&\"/\"&R1662,読み替え表_クールビズ!$P$38:$P$59,0),1,0)),0))","v":""},"","",0,0,"*"]
[null,null,1653,null,null,null,null,null,null,null,null,null,null,null,null,null,null,null,null,null,null,null,null,null,null,null,null,null,null,null,null,null,"","",{"$f":"IF($N1663=\"\",\"\",IFERROR(IF(N1663=6,1,IF(MATCH(N1663&\"/\"&R1663,読み替え表_クールビズ!$P$38:$P$59,0),1,0)),0))","v":""},{"$f":"IF($P1663=\"\",\"\",IFERROR(IF(P1663=6,1,IF(MATCH(P1663&\"/\"&R1663,読み替え表_クールビズ!$P$38:$P$59,0),1,0)),0))","v":""},"","",0,0,"*"]
[null,null,1654,null,null,null,null,null,null,null,null,null,null,null,null,null,null,null,null,null,null,null,null,null,null,null,null,null,null,null,null,null,"","",{"$f":"IF($N1664=\"\",\"\",IFERROR(IF(N1664=6,1,IF(MATCH(N1664&\"/\"&R1664,読み替え表_クールビズ!$P$38:$P$59,0),1,0)),0))","v":""},{"$f":"IF($P1664=\"\",\"\",IFERROR(IF(P1664=6,1,IF(MATCH(P1664&\"/\"&R1664,読み替え表_クールビズ!$P$38:$P$59,0),1,0)),0))","v":""},"","",0,0,"*"]
[null,null,1655,null,null,null,null,null,null,null,null,null,null,null,null,null,null,null,null,null,null,null,null,null,null,null,null,null,null,null,null,null,"","",{"$f":"IF($N1665=\"\",\"\",IFERROR(IF(N1665=6,1,IF(MATCH(N1665&\"/\"&R1665,読み替え表_クールビズ!$P$38:$P$59,0),1,0)),0))","v":""},{"$f":"IF($P1665=\"\",\"\",IFERROR(IF(P1665=6,1,IF(MATCH(P1665&\"/\"&R1665,読み替え表_クールビズ!$P$38:$P$59,0),1,0)),0))","v":""},"","",0,0,"*"]
[null,null,1656,null,null,null,null,null,null,null,null,null,null,null,null,null,null,null,null,null,null,null,null,null,null,null,null,null,null,null,null,null,"","",{"$f":"IF($N1666=\"\",\"\",IFERROR(IF(N1666=6,1,IF(MATCH(N1666&\"/\"&R1666,読み替え表_クールビズ!$P$38:$P$59,0),1,0)),0))","v":""},{"$f":"IF($P1666=\"\",\"\",IFERROR(IF(P1666=6,1,IF(MATCH(P1666&\"/\"&R1666,読み替え表_クールビズ!$P$38:$P$59,0),1,0)),0))","v":""},"","",0,0,"*"]
[null,null,1657,null,null,null,null,null,null,null,null,null,null,null,null,null,null,null,null,null,null,null,null,null,null,null,null,null,null,null,null,null,"","",{"$f":"IF($N1667=\"\",\"\",IFERROR(IF(N1667=6,1,IF(MATCH(N1667&\"/\"&R1667,読み替え表_クールビズ!$P$38:$P$59,0),1,0)),0))","v":""},{"$f":"IF($P1667=\"\",\"\",IFERROR(IF(P1667=6,1,IF(MATCH(P1667&\"/\"&R1667,読み替え表_クールビズ!$P$38:$P$59,0),1,0)),0))","v":""},"","",0,0,"*"]
[null,null,1658,null,null,null,null,null,null,null,null,null,null,null,null,null,null,null,null,null,null,null,null,null,null,null,null,null,null,null,null,null,"","",{"$f":"IF($N1668=\"\",\"\",IFERROR(IF(N1668=6,1,IF(MATCH(N1668&\"/\"&R1668,読み替え表_クールビズ!$P$38:$P$59,0),1,0)),0))","v":""},{"$f":"IF($P1668=\"\",\"\",IFERROR(IF(P1668=6,1,IF(MATCH(P1668&\"/\"&R1668,読み替え表_クールビズ!$P$38:$P$59,0),1,0)),0))","v":""},"","",0,0,"*"]
[null,null,1659,null,null,null,null,null,null,null,null,null,null,null,null,null,null,null,null,null,null,null,null,null,null,null,null,null,null,null,null,null,"","",{"$f":"IF($N1669=\"\",\"\",IFERROR(IF(N1669=6,1,IF(MATCH(N1669&\"/\"&R1669,読み替え表_クールビズ!$P$38:$P$59,0),1,0)),0))","v":""},{"$f":"IF($P1669=\"\",\"\",IFERROR(IF(P1669=6,1,IF(MATCH(P1669&\"/\"&R1669,読み替え表_クールビズ!$P$38:$P$59,0),1,0)),0))","v":""},"","",0,0,"*"]
[null,null,1660,null,null,null,null,null,null,null,null,null,null,null,null,null,null,null,null,null,null,null,null,null,null,null,null,null,null,null,null,null,"","",{"$f":"IF($N1670=\"\",\"\",IFERROR(IF(N1670=6,1,IF(MATCH(N1670&\"/\"&R1670,読み替え表_クールビズ!$P$38:$P$59,0),1,0)),0))","v":""},{"$f":"IF($P1670=\"\",\"\",IFERROR(IF(P1670=6,1,IF(MATCH(P1670&\"/\"&R1670,読み替え表_クールビズ!$P$38:$P$59,0),1,0)),0))","v":""},"","",0,0,"*"]
[null,null,1661,null,null,null,null,null,null,null,null,null,null,null,null,null,null,null,null,null,null,null,null,null,null,null,null,null,null,null,null,null,"","",{"$f":"IF($N1671=\"\",\"\",IFERROR(IF(N1671=6,1,IF(MATCH(N1671&\"/\"&R1671,読み替え表_クールビズ!$P$38:$P$59,0),1,0)),0))","v":""},{"$f":"IF($P1671=\"\",\"\",IFERROR(IF(P1671=6,1,IF(MATCH(P1671&\"/\"&R1671,読み替え表_クールビズ!$P$38:$P$59,0),1,0)),0))","v":""},"","",0,0,"*"]
[null,null,1662,null,null,null,null,null,null,null,null,null,null,null,null,null,null,null,null,null,null,null,null,null,null,null,null,null,null,null,null,null,"","",{"$f":"IF($N1672=\"\",\"\",IFERROR(IF(N1672=6,1,IF(MATCH(N1672&\"/\"&R1672,読み替え表_クールビズ!$P$38:$P$59,0),1,0)),0))","v":""},{"$f":"IF($P1672=\"\",\"\",IFERROR(IF(P1672=6,1,IF(MATCH(P1672&\"/\"&R1672,読み替え表_クールビズ!$P$38:$P$59,0),1,0)),0))","v":""},"","",0,0,"*"]
[null,null,1663,null,null,null,null,null,null,null,null,null,null,null,null,null,null,null,null,null,null,null,null,null,null,null,null,null,null,null,null,null,"","",{"$f":"IF($N1673=\"\",\"\",IFERROR(IF(N1673=6,1,IF(MATCH(N1673&\"/\"&R1673,読み替え表_クールビズ!$P$38:$P$59,0),1,0)),0))","v":""},{"$f":"IF($P1673=\"\",\"\",IFERROR(IF(P1673=6,1,IF(MATCH(P1673&\"/\"&R1673,読み替え表_クールビズ!$P$38:$P$59,0),1,0)),0))","v":""},"","",0,0,"*"]
[null,null,1664,null,null,null,null,null,null,null,null,null,null,null,null,null,null,null,null,null,null,null,null,null,null,null,null,null,null,null,null,null,"","",{"$f":"IF($N1674=\"\",\"\",IFERROR(IF(N1674=6,1,IF(MATCH(N1674&\"/\"&R1674,読み替え表_クールビズ!$P$38:$P$59,0),1,0)),0))","v":""},{"$f":"IF($P1674=\"\",\"\",IFERROR(IF(P1674=6,1,IF(MATCH(P1674&\"/\"&R1674,読み替え表_クールビズ!$P$38:$P$59,0),1,0)),0))","v":""},"","",0,0,"*"]
[null,null,1665,null,null,null,null,null,null,null,null,null,null,null,null,null,null,null,null,null,null,null,null,null,null,null,null,null,null,null,null,null,"","",{"$f":"IF($N1675=\"\",\"\",IFERROR(IF(N1675=6,1,IF(MATCH(N1675&\"/\"&R1675,読み替え表_クールビズ!$P$38:$P$59,0),1,0)),0))","v":""},{"$f":"IF($P1675=\"\",\"\",IFERROR(IF(P1675=6,1,IF(MATCH(P1675&\"/\"&R1675,読み替え表_クールビズ!$P$38:$P$59,0),1,0)),0))","v":""},{"$f":"IF($N1675=\"\",\"\",IF(OR(CONCATENATE(N1675,$R1675)=\"22\",CONCATENATE(N1675,$R1675)=\"32\",CONCATENATE(N1675,$R1675)=\"42\",CONCATENATE(N1675,$R1675)=\"43\",CONCATENATE(N1675,$R1675)=\"51\",CONCATENATE(N1675,$R1675)=\"52\",CONCATENATE(N1675,$R1675)=\"53\"),1,0))","v":""},{"$f":"IF($P1675=\"\",\"\",IF(OR(CONCATENATE(P1675,$R1675)=\"22\",CONCATENATE(P1675,$R1675)=\"32\",CONCATENATE(P1675,$R1675)=\"42\",CONCATENATE(P1675,$R1675)=\"43\",CONCATENATE(P1675,$R1675)=\"51\",CONCATENATE(P1675,$R1675)=\"52\",CONCATENATE(P1675,$R1675)=\"53\"),1,0))","v":""},0,0,"*"]
[null,null,{"$f":"ROW()-10","v":1666},null,null,null,null,null,null,null,null,null,null,null,null,null,null,null,null,null,null,null,null,null,null,null,null,null,null,null,null,null,{"$f":"IF($J1676=\"\",\"\",IF(AND($J1676>=1,$J1676<=9),1,0))","v":""},{"$f":"IF($R1676=\"\",\"\",IF(OR($R1676=1,$R1676=2,$R1676=3),1,0))","v":""},{"$f":"IF($N1676=\"\",\"\",IFERROR(IF(N1676=6,1,IF(MATCH(N1676&\"/\"&R1676,読み替え表_クールビズ!$P$38:$P$59,0),1,0)),0))","v":""},{"$f":"IF($P1676=\"\",\"\",IFERROR(IF(P1676=6,1,IF(MATCH(P1676&\"/\"&R1676,読み替え表_クールビズ!$P$38:$P$59,0),1,0)),0))","v":""},"","",{"$f":"IF(OR(AK1676=1,AL1676=1),1,0)","v":0},{"$f":"IF(OR($AG1676=0,SUM(AI1676:AJ1676)=2),1,0)","v":0},"*"]
[null,null,1667,null,null,null,null,null,null,null,null,null,null,null,null,null,null,null,null,null,null,null,null,null,null,null,null,null,null,null,null,null,"","",{"$f":"IF($N1677=\"\",\"\",IFERROR(IF(N1677=6,1,IF(MATCH(N1677&\"/\"&R1677,読み替え表_クールビズ!$P$38:$P$59,0),1,0)),0))","v":""},{"$f":"IF($P1677=\"\",\"\",IFERROR(IF(P1677=6,1,IF(MATCH(P1677&\"/\"&R1677,読み替え表_クールビズ!$P$38:$P$59,0),1,0)),0))","v":""},"","",0,0,"*"]
[null,null,1668,null,null,null,null,null,null,null,null,null,null,null,null,null,null,null,null,null,null,null,null,null,null,null,null,null,null,null,null,null,"","",{"$f":"IF($N1678=\"\",\"\",IFERROR(IF(N1678=6,1,IF(MATCH(N1678&\"/\"&R1678,読み替え表_クールビズ!$P$38:$P$59,0),1,0)),0))","v":""},{"$f":"IF($P1678=\"\",\"\",IFERROR(IF(P1678=6,1,IF(MATCH(P1678&\"/\"&R1678,読み替え表_クールビズ!$P$38:$P$59,0),1,0)),0))","v":""},"","",0,0,"*"]
[null,null,1669,null,null,null,null,null,null,null,null,null,null,null,null,null,null,null,null,null,null,null,null,null,null,null,null,null,null,null,null,null,"","",{"$f":"IF($N1679=\"\",\"\",IFERROR(IF(N1679=6,1,IF(MATCH(N1679&\"/\"&R1679,読み替え表_クールビズ!$P$38:$P$59,0),1,0)),0))","v":""},{"$f":"IF($P1679=\"\",\"\",IFERROR(IF(P1679=6,1,IF(MATCH(P1679&\"/\"&R1679,読み替え表_クールビズ!$P$38:$P$59,0),1,0)),0))","v":""},"","",0,0,"*"]
[null,null,1670,null,null,null,null,null,null,null,null,null,null,null,null,null,null,null,null,null,null,null,null,null,null,null,null,null,null,null,null,null,"","",{"$f":"IF($N1680=\"\",\"\",IFERROR(IF(N1680=6,1,IF(MATCH(N1680&\"/\"&R1680,読み替え表_クールビズ!$P$38:$P$59,0),1,0)),0))","v":""},{"$f":"IF($P1680=\"\",\"\",IFERROR(IF(P1680=6,1,IF(MATCH(P1680&\"/\"&R1680,読み替え表_クールビズ!$P$38:$P$59,0),1,0)),0))","v":""},"","",0,0,"*"]
[null,null,1671,null,null,null,null,null,null,null,null,null,null,null,null,null,null,null,null,null,null,null,null,null,null,null,null,null,null,null,null,null,"","",{"$f":"IF($N1681=\"\",\"\",IFERROR(IF(N1681=6,1,IF(MATCH(N1681&\"/\"&R1681,読み替え表_クールビズ!$P$38:$P$59,0),1,0)),0))","v":""},{"$f":"IF($P1681=\"\",\"\",IFERROR(IF(P1681=6,1,IF(MATCH(P1681&\"/\"&R1681,読み替え表_クールビズ!$P$38:$P$59,0),1,0)),0))","v":""},"","",0,0,"*"]
[null,null,1672,null,null,null,null,null,null,null,null,null,null,null,null,null,null,null,null,null,null,null,null,null,null,null,null,null,null,null,null,null,"","",{"$f":"IF($N1682=\"\",\"\",IFERROR(IF(N1682=6,1,IF(MATCH(N1682&\"/\"&R1682,読み替え表_クールビズ!$P$38:$P$59,0),1,0)),0))","v":""},{"$f":"IF($P1682=\"\",\"\",IFERROR(IF(P1682=6,1,IF(MATCH(P1682&\"/\"&R1682,読み替え表_クールビズ!$P$38:$P$59,0),1,0)),0))","v":""},"","",0,0,"*"]
[null,null,1673,null,null,null,null,null,null,null,null,null,null,null,null,null,null,null,null,null,null,null,null,null,null,null,null,null,null,null,null,null,"","",{"$f":"IF($N1683=\"\",\"\",IFERROR(IF(N1683=6,1,IF(MATCH(N1683&\"/\"&R1683,読み替え表_クールビズ!$P$38:$P$59,0),1,0)),0))","v":""},{"$f":"IF($P1683=\"\",\"\",IFERROR(IF(P1683=6,1,IF(MATCH(P1683&\"/\"&R1683,読み替え表_クールビズ!$P$38:$P$59,0),1,0)),0))","v":""},"","",0,0,"*"]
[null,null,1674,null,null,null,null,null,null,null,null,null,null,null,null,null,null,null,null,null,null,null,null,null,null,null,null,null,null,null,null,null,"","",{"$f":"IF($N1684=\"\",\"\",IFERROR(IF(N1684=6,1,IF(MATCH(N1684&\"/\"&R1684,読み替え表_クールビズ!$P$38:$P$59,0),1,0)),0))","v":""},{"$f":"IF($P1684=\"\",\"\",IFERROR(IF(P1684=6,1,IF(MATCH(P1684&\"/\"&R1684,読み替え表_クールビズ!$P$38:$P$59,0),1,0)),0))","v":""},"","",0,0,"*"]
[null,null,1675,null,null,null,null,null,null,null,null,null,null,null,null,null,null,null,null,null,null,null,null,null,null,null,null,null,null,null,null,null,"","",{"$f":"IF($N1685=\"\",\"\",IFERROR(IF(N1685=6,1,IF(MATCH(N1685&\"/\"&R1685,読み替え表_クールビズ!$P$38:$P$59,0),1,0)),0))","v":""},{"$f":"IF($P1685=\"\",\"\",IFERROR(IF(P1685=6,1,IF(MATCH(P1685&\"/\"&R1685,読み替え表_クールビズ!$P$38:$P$59,0),1,0)),0))","v":""},"","",0,0,"*"]
[null,null,1676,null,null,null,null,null,null,null,null,null,null,null,null,null,null,null,null,null,null,null,null,null,null,null,null,null,null,null,null,null,"","",{"$f":"IF($N1686=\"\",\"\",IFERROR(IF(N1686=6,1,IF(MATCH(N1686&\"/\"&R1686,読み替え表_クールビズ!$P$38:$P$59,0),1,0)),0))","v":""},{"$f":"IF($P1686=\"\",\"\",IFERROR(IF(P1686=6,1,IF(MATCH(P1686&\"/\"&R1686,読み替え表_クールビズ!$P$38:$P$59,0),1,0)),0))","v":""},"","",0,0,"*"]
[null,null,1677,null,null,null,null,null,null,null,null,null,null,null,null,null,null,null,null,null,null,null,null,null,null,null,null,null,null,null,null,null,"","",{"$f":"IF($N1687=\"\",\"\",IFERROR(IF(N1687=6,1,IF(MATCH(N1687&\"/\"&R1687,読み替え表_クールビズ!$P$38:$P$59,0),1,0)),0))","v":""},{"$f":"IF($P1687=\"\",\"\",IFERROR(IF(P1687=6,1,IF(MATCH(P1687&\"/\"&R1687,読み替え表_クールビズ!$P$38:$P$59,0),1,0)),0))","v":""},"","",0,0,"*"]
[null,null,1678,null,null,null,null,null,null,null,null,null,null,null,null,null,null,null,null,null,null,null,null,null,null,null,null,null,null,null,null,null,"","",{"$f":"IF($N1688=\"\",\"\",IFERROR(IF(N1688=6,1,IF(MATCH(N1688&\"/\"&R1688,読み替え表_クールビズ!$P$38:$P$59,0),1,0)),0))","v":""},{"$f":"IF($P1688=\"\",\"\",IFERROR(IF(P1688=6,1,IF(MATCH(P1688&\"/\"&R1688,読み替え表_クールビズ!$P$38:$P$59,0),1,0)),0))","v":""},"","",0,0,"*"]
[null,null,1679,null,null,null,null,null,null,null,null,null,null,null,null,null,null,null,null,null,null,null,null,null,null,null,null,null,null,null,null,null,"","",{"$f":"IF($N1689=\"\",\"\",IFERROR(IF(N1689=6,1,IF(MATCH(N1689&\"/\"&R1689,読み替え表_クールビズ!$P$38:$P$59,0),1,0)),0))","v":""},{"$f":"IF($P1689=\"\",\"\",IFERROR(IF(P1689=6,1,IF(MATCH(P1689&\"/\"&R1689,読み替え表_クールビズ!$P$38:$P$59,0),1,0)),0))","v":""},"","",0,0,"*"]
[null,null,1680,null,null,null,null,null,null,null,null,null,null,null,null,null,null,null,null,null,null,null,null,null,null,null,null,null,null,null,null,null,"","",{"$f":"IF($N1690=\"\",\"\",IFERROR(IF(N1690=6,1,IF(MATCH(N1690&\"/\"&R1690,読み替え表_クールビズ!$P$38:$P$59,0),1,0)),0))","v":""},{"$f":"IF($P1690=\"\",\"\",IFERROR(IF(P1690=6,1,IF(MATCH(P1690&\"/\"&R1690,読み替え表_クールビズ!$P$38:$P$59,0),1,0)),0))","v":""},"","",0,0,"*"]
[null,null,1681,null,null,null,null,null,null,null,null,null,null,null,null,null,null,null,null,null,null,null,null,null,null,null,null,null,null,null,null,null,"","",{"$f":"IF($N1691=\"\",\"\",IFERROR(IF(N1691=6,1,IF(MATCH(N1691&\"/\"&R1691,読み替え表_クールビズ!$P$38:$P$59,0),1,0)),0))","v":""},{"$f":"IF($P1691=\"\",\"\",IFERROR(IF(P1691=6,1,IF(MATCH(P1691&\"/\"&R1691,読み替え表_クールビズ!$P$38:$P$59,0),1,0)),0))","v":""},"","",0,0,"*"]
[null,null,1682,null,null,null,null,null,null,null,null,null,null,null,null,null,null,null,null,null,null,null,null,null,null,null,null,null,null,null,null,null,"","",{"$f":"IF($N1692=\"\",\"\",IFERROR(IF(N1692=6,1,IF(MATCH(N1692&\"/\"&R1692,読み替え表_クールビズ!$P$38:$P$59,0),1,0)),0))","v":""},{"$f":"IF($P1692=\"\",\"\",IFERROR(IF(P1692=6,1,IF(MATCH(P1692&\"/\"&R1692,読み替え表_クールビズ!$P$38:$P$59,0),1,0)),0))","v":""},"","",0,0,"*"]
[null,null,1683,null,null,null,null,null,null,null,null,null,null,null,null,null,null,null,null,null,null,null,null,null,null,null,null,null,null,null,null,null,"","",{"$f":"IF($N1693=\"\",\"\",IFERROR(IF(N1693=6,1,IF(MATCH(N1693&\"/\"&R1693,読み替え表_クールビズ!$P$38:$P$59,0),1,0)),0))","v":""},{"$f":"IF($P1693=\"\",\"\",IFERROR(IF(P1693=6,1,IF(MATCH(P1693&\"/\"&R1693,読み替え表_クールビズ!$P$38:$P$59,0),1,0)),0))","v":""},"","",0,0,"*"]
[null,null,1684,null,null,null,null,null,null,null,null,null,null,null,null,null,null,null,null,null,null,null,null,null,null,null,null,null,null,null,null,null,"","",{"$f":"IF($N1694=\"\",\"\",IFERROR(IF(N1694=6,1,IF(MATCH(N1694&\"/\"&R1694,読み替え表_クールビズ!$P$38:$P$59,0),1,0)),0))","v":""},{"$f":"IF($P1694=\"\",\"\",IFERROR(IF(P1694=6,1,IF(MATCH(P1694&\"/\"&R1694,読み替え表_クールビズ!$P$38:$P$59,0),1,0)),0))","v":""},"","",0,0,"*"]
[null,null,1685,null,null,null,null,null,null,null,null,null,null,null,null,null,null,null,null,null,null,null,null,null,null,null,null,null,null,null,null,null,"","",{"$f":"IF($N1695=\"\",\"\",IFERROR(IF(N1695=6,1,IF(MATCH(N1695&\"/\"&R1695,読み替え表_クールビズ!$P$38:$P$59,0),1,0)),0))","v":""},{"$f":"IF($P1695=\"\",\"\",IFERROR(IF(P1695=6,1,IF(MATCH(P1695&\"/\"&R1695,読み替え表_クールビズ!$P$38:$P$59,0),1,0)),0))","v":""},"","",0,0,"*"]
[null,null,1686,null,null,null,null,null,null,null,null,null,null,null,null,null,null,null,null,null,null,null,null,null,null,null,null,null,null,null,null,null,"","",{"$f":"IF($N1696=\"\",\"\",IFERROR(IF(N1696=6,1,IF(MATCH(N1696&\"/\"&R1696,読み替え表_クールビズ!$P$38:$P$59,0),1,0)),0))","v":""},{"$f":"IF($P1696=\"\",\"\",IFERROR(IF(P1696=6,1,IF(MATCH(P1696&\"/\"&R1696,読み替え表_クールビズ!$P$38:$P$59,0),1,0)),0))","v":""},"","",0,0,"*"]
[null,null,1687,null,null,null,null,null,null,null,null,null,null,null,null,null,null,null,null,null,null,null,null,null,null,null,null,null,null,null,null,null,"","",{"$f":"IF($N1697=\"\",\"\",IFERROR(IF(N1697=6,1,IF(MATCH(N1697&\"/\"&R1697,読み替え表_クールビズ!$P$38:$P$59,0),1,0)),0))","v":""},{"$f":"IF($P1697=\"\",\"\",IFERROR(IF(P1697=6,1,IF(MATCH(P1697&\"/\"&R1697,読み替え表_クールビズ!$P$38:$P$59,0),1,0)),0))","v":""},"","",0,0,"*"]
[null,null,1688,null,null,null,null,null,null,null,null,null,null,null,null,null,null,null,null,null,null,null,null,null,null,null,null,null,null,null,null,null,"","",{"$f":"IF($N1698=\"\",\"\",IFERROR(IF(N1698=6,1,IF(MATCH(N1698&\"/\"&R1698,読み替え表_クールビズ!$P$38:$P$59,0),1,0)),0))","v":""},{"$f":"IF($P1698=\"\",\"\",IFERROR(IF(P1698=6,1,IF(MATCH(P1698&\"/\"&R1698,読み替え表_クールビズ!$P$38:$P$59,0),1,0)),0))","v":""},"","",0,0,"*"]
[null,null,1689,null,null,null,null,null,null,null,null,null,null,null,null,null,null,null,null,null,null,null,null,null,null,null,null,null,null,null,null,null,"","",{"$f":"IF($N1699=\"\",\"\",IFERROR(IF(N1699=6,1,IF(MATCH(N1699&\"/\"&R1699,読み替え表_クールビズ!$P$38:$P$59,0),1,0)),0))","v":""},{"$f":"IF($P1699=\"\",\"\",IFERROR(IF(P1699=6,1,IF(MATCH(P1699&\"/\"&R1699,読み替え表_クールビズ!$P$38:$P$59,0),1,0)),0))","v":""},"","",0,0,"*"]
[null,null,1690,null,null,null,null,null,null,null,null,null,null,null,null,null,null,null,null,null,null,null,null,null,null,null,null,null,null,null,null,null,"","",{"$f":"IF($N1700=\"\",\"\",IFERROR(IF(N1700=6,1,IF(MATCH(N1700&\"/\"&R1700,読み替え表_クールビズ!$P$38:$P$59,0),1,0)),0))","v":""},{"$f":"IF($P1700=\"\",\"\",IFERROR(IF(P1700=6,1,IF(MATCH(P1700&\"/\"&R1700,読み替え表_クールビズ!$P$38:$P$59,0),1,0)),0))","v":""},"","",0,0,"*"]
[null,null,1691,null,null,null,null,null,null,null,null,null,null,null,null,null,null,null,null,null,null,null,null,null,null,null,null,null,null,null,null,null,"","",{"$f":"IF($N1701=\"\",\"\",IFERROR(IF(N1701=6,1,IF(MATCH(N1701&\"/\"&R1701,読み替え表_クールビズ!$P$38:$P$59,0),1,0)),0))","v":""},{"$f":"IF($P1701=\"\",\"\",IFERROR(IF(P1701=6,1,IF(MATCH(P1701&\"/\"&R1701,読み替え表_クールビズ!$P$38:$P$59,0),1,0)),0))","v":""},"","",0,0,"*"]
[null,null,1692,null,null,null,null,null,null,null,null,null,null,null,null,null,null,null,null,null,null,null,null,null,null,null,null,null,null,null,null,null,"","",{"$f":"IF($N1702=\"\",\"\",IFERROR(IF(N1702=6,1,IF(MATCH(N1702&\"/\"&R1702,読み替え表_クールビズ!$P$38:$P$59,0),1,0)),0))","v":""},{"$f":"IF($P1702=\"\",\"\",IFERROR(IF(P1702=6,1,IF(MATCH(P1702&\"/\"&R1702,読み替え表_クールビズ!$P$38:$P$59,0),1,0)),0))","v":""},"","",0,0,"*"]
[null,null,1693,null,null,null,null,null,null,null,null,null,null,null,null,null,null,null,null,null,null,null,null,null,null,null,null,null,null,null,null,null,"","",{"$f":"IF($N1703=\"\",\"\",IFERROR(IF(N1703=6,1,IF(MATCH(N1703&\"/\"&R1703,読み替え表_クールビズ!$P$38:$P$59,0),1,0)),0))","v":""},{"$f":"IF($P1703=\"\",\"\",IFERROR(IF(P1703=6,1,IF(MATCH(P1703&\"/\"&R1703,読み替え表_クールビズ!$P$38:$P$59,0),1,0)),0))","v":""},"","",0,0,"*"]
[null,null,1694,null,null,null,null,null,null,null,null,null,null,null,null,null,null,null,null,null,null,null,null,null,null,null,null,null,null,null,null,null,"","",{"$f":"IF($N1704=\"\",\"\",IFERROR(IF(N1704=6,1,IF(MATCH(N1704&\"/\"&R1704,読み替え表_クールビズ!$P$38:$P$59,0),1,0)),0))","v":""},{"$f":"IF($P1704=\"\",\"\",IFERROR(IF(P1704=6,1,IF(MATCH(P1704&\"/\"&R1704,読み替え表_クールビズ!$P$38:$P$59,0),1,0)),0))","v":""},"","",0,0,"*"]
[null,null,1695,null,null,null,null,null,null,null,null,null,null,null,null,null,null,null,null,null,null,null,null,null,null,null,null,null,null,null,null,null,"","",{"$f":"IF($N1705=\"\",\"\",IFERROR(IF(N1705=6,1,IF(MATCH(N1705&\"/\"&R1705,読み替え表_クールビズ!$P$38:$P$59,0),1,0)),0))","v":""},{"$f":"IF($P1705=\"\",\"\",IFERROR(IF(P1705=6,1,IF(MATCH(P1705&\"/\"&R1705,読み替え表_クールビズ!$P$38:$P$59,0),1,0)),0))","v":""},"","",0,0,"*"]
[null,null,1696,null,null,null,null,null,null,null,null,null,null,null,null,null,null,null,null,null,null,null,null,null,null,null,null,null,null,null,null,null,"","",{"$f":"IF($N1706=\"\",\"\",IFERROR(IF(N1706=6,1,IF(MATCH(N1706&\"/\"&R1706,読み替え表_クールビズ!$P$38:$P$59,0),1,0)),0))","v":""},{"$f":"IF($P1706=\"\",\"\",IFERROR(IF(P1706=6,1,IF(MATCH(P1706&\"/\"&R1706,読み替え表_クールビズ!$P$38:$P$59,0),1,0)),0))","v":""},"","",0,0,"*"]
[null,null,1697,null,null,null,null,null,null,null,null,null,null,null,null,null,null,null,null,null,null,null,null,null,null,null,null,null,null,null,null,null,"","",{"$f":"IF($N1707=\"\",\"\",IFERROR(IF(N1707=6,1,IF(MATCH(N1707&\"/\"&R1707,読み替え表_クールビズ!$P$38:$P$59,0),1,0)),0))","v":""},{"$f":"IF($P1707=\"\",\"\",IFERROR(IF(P1707=6,1,IF(MATCH(P1707&\"/\"&R1707,読み替え表_クールビズ!$P$38:$P$59,0),1,0)),0))","v":""},"","",0,0,"*"]
[null,null,1698,null,null,null,null,null,null,null,null,null,null,null,null,null,null,null,null,null,null,null,null,null,null,null,null,null,null,null,null,null,"","",{"$f":"IF($N1708=\"\",\"\",IFERROR(IF(N1708=6,1,IF(MATCH(N1708&\"/\"&R1708,読み替え表_クールビズ!$P$38:$P$59,0),1,0)),0))","v":""},{"$f":"IF($P1708=\"\",\"\",IFERROR(IF(P1708=6,1,IF(MATCH(P1708&\"/\"&R1708,読み替え表_クールビズ!$P$38:$P$59,0),1,0)),0))","v":""},"","",0,0,"*"]
[null,null,1699,null,null,null,null,null,null,null,null,null,null,null,null,null,null,null,null,null,null,null,null,null,null,null,null,null,null,null,null,null,"","",{"$f":"IF($N1709=\"\",\"\",IFERROR(IF(N1709=6,1,IF(MATCH(N1709&\"/\"&R1709,読み替え表_クールビズ!$P$38:$P$59,0),1,0)),0))","v":""},{"$f":"IF($P1709=\"\",\"\",IFERROR(IF(P1709=6,1,IF(MATCH(P1709&\"/\"&R1709,読み替え表_クールビズ!$P$38:$P$59,0),1,0)),0))","v":""},"","",0,0,"*"]
[null,null,1700,null,null,null,null,null,null,null,null,null,null,null,null,null,null,null,null,null,null,null,null,null,null,null,null,null,null,null,null,null,"","",{"$f":"IF($N1710=\"\",\"\",IFERROR(IF(N1710=6,1,IF(MATCH(N1710&\"/\"&R1710,読み替え表_クールビズ!$P$38:$P$59,0),1,0)),0))","v":""},{"$f":"IF($P1710=\"\",\"\",IFERROR(IF(P1710=6,1,IF(MATCH(P1710&\"/\"&R1710,読み替え表_クールビズ!$P$38:$P$59,0),1,0)),0))","v":""},"","",0,0,"*"]
[null,null,1701,null,null,null,null,null,null,null,null,null,null,null,null,null,null,null,null,null,null,null,null,null,null,null,null,null,null,null,null,null,"","",{"$f":"IF($N1711=\"\",\"\",IFERROR(IF(N1711=6,1,IF(MATCH(N1711&\"/\"&R1711,読み替え表_クールビズ!$P$38:$P$59,0),1,0)),0))","v":""},{"$f":"IF($P1711=\"\",\"\",IFERROR(IF(P1711=6,1,IF(MATCH(P1711&\"/\"&R1711,読み替え表_クールビズ!$P$38:$P$59,0),1,0)),0))","v":""},"","",0,0,"*"]
[null,null,1702,null,null,null,null,null,null,null,null,null,null,null,null,null,null,null,null,null,null,null,null,null,null,null,null,null,null,null,null,null,"","",{"$f":"IF($N1712=\"\",\"\",IFERROR(IF(N1712=6,1,IF(MATCH(N1712&\"/\"&R1712,読み替え表_クールビズ!$P$38:$P$59,0),1,0)),0))","v":""},{"$f":"IF($P1712=\"\",\"\",IFERROR(IF(P1712=6,1,IF(MATCH(P1712&\"/\"&R1712,読み替え表_クールビズ!$P$38:$P$59,0),1,0)),0))","v":""},"","",0,0,"*"]
[null,null,1703,null,null,null,null,null,null,null,null,null,null,null,null,null,null,null,null,null,null,null,null,null,null,null,null,null,null,null,null,null,"","",{"$f":"IF($N1713=\"\",\"\",IFERROR(IF(N1713=6,1,IF(MATCH(N1713&\"/\"&R1713,読み替え表_クールビズ!$P$38:$P$59,0),1,0)),0))","v":""},{"$f":"IF($P1713=\"\",\"\",IFERROR(IF(P1713=6,1,IF(MATCH(P1713&\"/\"&R1713,読み替え表_クールビズ!$P$38:$P$59,0),1,0)),0))","v":""},"","",0,0,"*"]
[null,null,1704,null,null,null,null,null,null,null,null,null,null,null,null,null,null,null,null,null,null,null,null,null,null,null,null,null,null,null,null,null,"","",{"$f":"IF($N1714=\"\",\"\",IFERROR(IF(N1714=6,1,IF(MATCH(N1714&\"/\"&R1714,読み替え表_クールビズ!$P$38:$P$59,0),1,0)),0))","v":""},{"$f":"IF($P1714=\"\",\"\",IFERROR(IF(P1714=6,1,IF(MATCH(P1714&\"/\"&R1714,読み替え表_クールビズ!$P$38:$P$59,0),1,0)),0))","v":""},"","",0,0,"*"]
[null,null,1705,null,null,null,null,null,null,null,null,null,null,null,null,null,null,null,null,null,null,null,null,null,null,null,null,null,null,null,null,null,"","",{"$f":"IF($N1715=\"\",\"\",IFERROR(IF(N1715=6,1,IF(MATCH(N1715&\"/\"&R1715,読み替え表_クールビズ!$P$38:$P$59,0),1,0)),0))","v":""},{"$f":"IF($P1715=\"\",\"\",IFERROR(IF(P1715=6,1,IF(MATCH(P1715&\"/\"&R1715,読み替え表_クールビズ!$P$38:$P$59,0),1,0)),0))","v":""},"","",0,0,"*"]
[null,null,1706,null,null,null,null,null,null,null,null,null,null,null,null,null,null,null,null,null,null,null,null,null,null,null,null,null,null,null,null,null,"","",{"$f":"IF($N1716=\"\",\"\",IFERROR(IF(N1716=6,1,IF(MATCH(N1716&\"/\"&R1716,読み替え表_クールビズ!$P$38:$P$59,0),1,0)),0))","v":""},{"$f":"IF($P1716=\"\",\"\",IFERROR(IF(P1716=6,1,IF(MATCH(P1716&\"/\"&R1716,読み替え表_クールビズ!$P$38:$P$59,0),1,0)),0))","v":""},"","",0,0,"*"]
[null,null,1707,null,null,null,null,null,null,null,null,null,null,null,null,null,null,null,null,null,null,null,null,null,null,null,null,null,null,null,null,null,"","",{"$f":"IF($N1717=\"\",\"\",IFERROR(IF(N1717=6,1,IF(MATCH(N1717&\"/\"&R1717,読み替え表_クールビズ!$P$38:$P$59,0),1,0)),0))","v":""},{"$f":"IF($P1717=\"\",\"\",IFERROR(IF(P1717=6,1,IF(MATCH(P1717&\"/\"&R1717,読み替え表_クールビズ!$P$38:$P$59,0),1,0)),0))","v":""},"","",0,0,"*"]
[null,null,1708,null,null,null,null,null,null,null,null,null,null,null,null,null,null,null,null,null,null,null,null,null,null,null,null,null,null,null,null,null,"","",{"$f":"IF($N1718=\"\",\"\",IFERROR(IF(N1718=6,1,IF(MATCH(N1718&\"/\"&R1718,読み替え表_クールビズ!$P$38:$P$59,0),1,0)),0))","v":""},{"$f":"IF($P1718=\"\",\"\",IFERROR(IF(P1718=6,1,IF(MATCH(P1718&\"/\"&R1718,読み替え表_クールビズ!$P$38:$P$59,0),1,0)),0))","v":""},"","",0,0,"*"]
[null,null,1709,null,null,null,null,null,null,null,null,null,null,null,null,null,null,null,null,null,null,null,null,null,null,null,null,null,null,null,null,null,"","",{"$f":"IF($N1719=\"\",\"\",IFERROR(IF(N1719=6,1,IF(MATCH(N1719&\"/\"&R1719,読み替え表_クールビズ!$P$38:$P$59,0),1,0)),0))","v":""},{"$f":"IF($P1719=\"\",\"\",IFERROR(IF(P1719=6,1,IF(MATCH(P1719&\"/\"&R1719,読み替え表_クールビズ!$P$38:$P$59,0),1,0)),0))","v":""},"","",0,0,"*"]
[null,null,1710,null,null,null,null,null,null,null,null,null,null,null,null,null,null,null,null,null,null,null,null,null,null,null,null,null,null,null,null,null,"","",{"$f":"IF($N1720=\"\",\"\",IFERROR(IF(N1720=6,1,IF(MATCH(N1720&\"/\"&R1720,読み替え表_クールビズ!$P$38:$P$59,0),1,0)),0))","v":""},{"$f":"IF($P1720=\"\",\"\",IFERROR(IF(P1720=6,1,IF(MATCH(P1720&\"/\"&R1720,読み替え表_クールビズ!$P$38:$P$59,0),1,0)),0))","v":""},"","",0,0,"*"]
[null,null,1711,null,null,null,null,null,null,null,null,null,null,null,null,null,null,null,null,null,null,null,null,null,null,null,null,null,null,null,null,null,"","",{"$f":"IF($N1721=\"\",\"\",IFERROR(IF(N1721=6,1,IF(MATCH(N1721&\"/\"&R1721,読み替え表_クールビズ!$P$38:$P$59,0),1,0)),0))","v":""},{"$f":"IF($P1721=\"\",\"\",IFERROR(IF(P1721=6,1,IF(MATCH(P1721&\"/\"&R1721,読み替え表_クールビズ!$P$38:$P$59,0),1,0)),0))","v":""},"","",0,0,"*"]
[null,null,1712,null,null,null,null,null,null,null,null,null,null,null,null,null,null,null,null,null,null,null,null,null,null,null,null,null,null,null,null,null,"","",{"$f":"IF($N1722=\"\",\"\",IFERROR(IF(N1722=6,1,IF(MATCH(N1722&\"/\"&R1722,読み替え表_クールビズ!$P$38:$P$59,0),1,0)),0))","v":""},{"$f":"IF($P1722=\"\",\"\",IFERROR(IF(P1722=6,1,IF(MATCH(P1722&\"/\"&R1722,読み替え表_クールビズ!$P$38:$P$59,0),1,0)),0))","v":""},"","",0,0,"*"]
[null,null,1713,null,null,null,null,null,null,null,null,null,null,null,null,null,null,null,null,null,null,null,null,null,null,null,null,null,null,null,null,null,"","",{"$f":"IF($N1723=\"\",\"\",IFERROR(IF(N1723=6,1,IF(MATCH(N1723&\"/\"&R1723,読み替え表_クールビズ!$P$38:$P$59,0),1,0)),0))","v":""},{"$f":"IF($P1723=\"\",\"\",IFERROR(IF(P1723=6,1,IF(MATCH(P1723&\"/\"&R1723,読み替え表_クールビズ!$P$38:$P$59,0),1,0)),0))","v":""},"","",0,0,"*"]
[null,null,1714,null,null,null,null,null,null,null,null,null,null,null,null,null,null,null,null,null,null,null,null,null,null,null,null,null,null,null,null,null,"","",{"$f":"IF($N1724=\"\",\"\",IFERROR(IF(N1724=6,1,IF(MATCH(N1724&\"/\"&R1724,読み替え表_クールビズ!$P$38:$P$59,0),1,0)),0))","v":""},{"$f":"IF($P1724=\"\",\"\",IFERROR(IF(P1724=6,1,IF(MATCH(P1724&\"/\"&R1724,読み替え表_クールビズ!$P$38:$P$59,0),1,0)),0))","v":""},"","",0,0,"*"]
[null,null,1715,null,null,null,null,null,null,null,null,null,null,null,null,null,null,null,null,null,null,null,null,null,null,null,null,null,null,null,null,null,"","",{"$f":"IF($N1725=\"\",\"\",IFERROR(IF(N1725=6,1,IF(MATCH(N1725&\"/\"&R1725,読み替え表_クールビズ!$P$38:$P$59,0),1,0)),0))","v":""},{"$f":"IF($P1725=\"\",\"\",IFERROR(IF(P1725=6,1,IF(MATCH(P1725&\"/\"&R1725,読み替え表_クールビズ!$P$38:$P$59,0),1,0)),0))","v":""},"","",0,0,"*"]
[null,null,1716,null,null,null,null,null,null,null,null,null,null,null,null,null,null,null,null,null,null,null,null,null,null,null,null,null,null,null,null,null,"","",{"$f":"IF($N1726=\"\",\"\",IFERROR(IF(N1726=6,1,IF(MATCH(N1726&\"/\"&R1726,読み替え表_クールビズ!$P$38:$P$59,0),1,0)),0))","v":""},{"$f":"IF($P1726=\"\",\"\",IFERROR(IF(P1726=6,1,IF(MATCH(P1726&\"/\"&R1726,読み替え表_クールビズ!$P$38:$P$59,0),1,0)),0))","v":""},"","",0,0,"*"]
[null,null,1717,null,null,null,null,null,null,null,null,null,null,null,null,null,null,null,null,null,null,null,null,null,null,null,null,null,null,null,null,null,"","",{"$f":"IF($N1727=\"\",\"\",IFERROR(IF(N1727=6,1,IF(MATCH(N1727&\"/\"&R1727,読み替え表_クールビズ!$P$38:$P$59,0),1,0)),0))","v":""},{"$f":"IF($P1727=\"\",\"\",IFERROR(IF(P1727=6,1,IF(MATCH(P1727&\"/\"&R1727,読み替え表_クールビズ!$P$38:$P$59,0),1,0)),0))","v":""},"","",0,0,"*"]
[null,null,1718,null,null,null,null,null,null,null,null,null,null,null,null,null,null,null,null,null,null,null,null,null,null,null,null,null,null,null,null,null,"","",{"$f":"IF($N1728=\"\",\"\",IFERROR(IF(N1728=6,1,IF(MATCH(N1728&\"/\"&R1728,読み替え表_クールビズ!$P$38:$P$59,0),1,0)),0))","v":""},{"$f":"IF($P1728=\"\",\"\",IFERROR(IF(P1728=6,1,IF(MATCH(P1728&\"/\"&R1728,読み替え表_クールビズ!$P$38:$P$59,0),1,0)),0))","v":""},"","",0,0,"*"]
[null,null,1719,null,null,null,null,null,null,null,null,null,null,null,null,null,null,null,null,null,null,null,null,null,null,null,null,null,null,null,null,null,"","",{"$f":"IF($N1729=\"\",\"\",IFERROR(IF(N1729=6,1,IF(MATCH(N1729&\"/\"&R1729,読み替え表_クールビズ!$P$38:$P$59,0),1,0)),0))","v":""},{"$f":"IF($P1729=\"\",\"\",IFERROR(IF(P1729=6,1,IF(MATCH(P1729&\"/\"&R1729,読み替え表_クールビズ!$P$38:$P$59,0),1,0)),0))","v":""},"","",0,0,"*"]
[null,null,1720,null,null,null,null,null,null,null,null,null,null,null,null,null,null,null,null,null,null,null,null,null,null,null,null,null,null,null,null,null,"","",{"$f":"IF($N1730=\"\",\"\",IFERROR(IF(N1730=6,1,IF(MATCH(N1730&\"/\"&R1730,読み替え表_クールビズ!$P$38:$P$59,0),1,0)),0))","v":""},{"$f":"IF($P1730=\"\",\"\",IFERROR(IF(P1730=6,1,IF(MATCH(P1730&\"/\"&R1730,読み替え表_クールビズ!$P$38:$P$59,0),1,0)),0))","v":""},"","",0,0,"*"]
[null,null,1721,null,null,null,null,null,null,null,null,null,null,null,null,null,null,null,null,null,null,null,null,null,null,null,null,null,null,null,null,null,"","",{"$f":"IF($N1731=\"\",\"\",IFERROR(IF(N1731=6,1,IF(MATCH(N1731&\"/\"&R1731,読み替え表_クールビズ!$P$38:$P$59,0),1,0)),0))","v":""},{"$f":"IF($P1731=\"\",\"\",IFERROR(IF(P1731=6,1,IF(MATCH(P1731&\"/\"&R1731,読み替え表_クールビズ!$P$38:$P$59,0),1,0)),0))","v":""},"","",0,0,"*"]
[null,null,1722,null,null,null,null,null,null,null,null,null,null,null,null,null,null,null,null,null,null,null,null,null,null,null,null,null,null,null,null,null,"","",{"$f":"IF($N1732=\"\",\"\",IFERROR(IF(N1732=6,1,IF(MATCH(N1732&\"/\"&R1732,読み替え表_クールビズ!$P$38:$P$59,0),1,0)),0))","v":""},{"$f":"IF($P1732=\"\",\"\",IFERROR(IF(P1732=6,1,IF(MATCH(P1732&\"/\"&R1732,読み替え表_クールビズ!$P$38:$P$59,0),1,0)),0))","v":""},"","",0,0,"*"]
[null,null,1723,null,null,null,null,null,null,null,null,null,null,null,null,null,null,null,null,null,null,null,null,null,null,null,null,null,null,null,null,null,"","",{"$f":"IF($N1733=\"\",\"\",IFERROR(IF(N1733=6,1,IF(MATCH(N1733&\"/\"&R1733,読み替え表_クールビズ!$P$38:$P$59,0),1,0)),0))","v":""},{"$f":"IF($P1733=\"\",\"\",IFERROR(IF(P1733=6,1,IF(MATCH(P1733&\"/\"&R1733,読み替え表_クールビズ!$P$38:$P$59,0),1,0)),0))","v":""},"","",0,0,"*"]
[null,null,1724,null,null,null,null,null,null,null,null,null,null,null,null,null,null,null,null,null,null,null,null,null,null,null,null,null,null,null,null,null,"","",{"$f":"IF($N1734=\"\",\"\",IFERROR(IF(N1734=6,1,IF(MATCH(N1734&\"/\"&R1734,読み替え表_クールビズ!$P$38:$P$59,0),1,0)),0))","v":""},{"$f":"IF($P1734=\"\",\"\",IFERROR(IF(P1734=6,1,IF(MATCH(P1734&\"/\"&R1734,読み替え表_クールビズ!$P$38:$P$59,0),1,0)),0))","v":""},"","",0,0,"*"]
[null,null,1725,null,null,null,null,null,null,null,null,null,null,null,null,null,null,null,null,null,null,null,null,null,null,null,null,null,null,null,null,null,"","",{"$f":"IF($N1735=\"\",\"\",IFERROR(IF(N1735=6,1,IF(MATCH(N1735&\"/\"&R1735,読み替え表_クールビズ!$P$38:$P$59,0),1,0)),0))","v":""},{"$f":"IF($P1735=\"\",\"\",IFERROR(IF(P1735=6,1,IF(MATCH(P1735&\"/\"&R1735,読み替え表_クールビズ!$P$38:$P$59,0),1,0)),0))","v":""},"","",0,0,"*"]
[null,null,1726,null,null,null,null,null,null,null,null,null,null,null,null,null,null,null,null,null,null,null,null,null,null,null,null,null,null,null,null,null,"","",{"$f":"IF($N1736=\"\",\"\",IFERROR(IF(N1736=6,1,IF(MATCH(N1736&\"/\"&R1736,読み替え表_クールビズ!$P$38:$P$59,0),1,0)),0))","v":""},{"$f":"IF($P1736=\"\",\"\",IFERROR(IF(P1736=6,1,IF(MATCH(P1736&\"/\"&R1736,読み替え表_クールビズ!$P$38:$P$59,0),1,0)),0))","v":""},"","",0,0,"*"]
[null,null,1727,null,null,null,null,null,null,null,null,null,null,null,null,null,null,null,null,null,null,null,null,null,null,null,null,null,null,null,null,null,"","",{"$f":"IF($N1737=\"\",\"\",IFERROR(IF(N1737=6,1,IF(MATCH(N1737&\"/\"&R1737,読み替え表_クールビズ!$P$38:$P$59,0),1,0)),0))","v":""},{"$f":"IF($P1737=\"\",\"\",IFERROR(IF(P1737=6,1,IF(MATCH(P1737&\"/\"&R1737,読み替え表_クールビズ!$P$38:$P$59,0),1,0)),0))","v":""},"","",0,0,"*"]
[null,null,1728,null,null,null,null,null,null,null,null,null,null,null,null,null,null,null,null,null,null,null,null,null,null,null,null,null,null,null,null,null,"","",{"$f":"IF($N1738=\"\",\"\",IFERROR(IF(N1738=6,1,IF(MATCH(N1738&\"/\"&R1738,読み替え表_クールビズ!$P$38:$P$59,0),1,0)),0))","v":""},{"$f":"IF($P1738=\"\",\"\",IFERROR(IF(P1738=6,1,IF(MATCH(P1738&\"/\"&R1738,読み替え表_クールビズ!$P$38:$P$59,0),1,0)),0))","v":""},"","",0,0,"*"]
[null,null,1729,null,null,null,null,null,null,null,null,null,null,null,null,null,null,null,null,null,null,null,null,null,null,null,null,null,null,null,null,null,"","",{"$f":"IF($N1739=\"\",\"\",IFERROR(IF(N1739=6,1,IF(MATCH(N1739&\"/\"&R1739,読み替え表_クールビズ!$P$38:$P$59,0),1,0)),0))","v":""},{"$f":"IF($P1739=\"\",\"\",IFERROR(IF(P1739=6,1,IF(MATCH(P1739&\"/\"&R1739,読み替え表_クールビズ!$P$38:$P$59,0),1,0)),0))","v":""},{"$f":"IF($N1739=\"\",\"\",IF(OR(CONCATENATE(N1739,$R1739)=\"22\",CONCATENATE(N1739,$R1739)=\"32\",CONCATENATE(N1739,$R1739)=\"42\",CONCATENATE(N1739,$R1739)=\"43\",CONCATENATE(N1739,$R1739)=\"51\",CONCATENATE(N1739,$R1739)=\"52\",CONCATENATE(N1739,$R1739)=\"53\"),1,0))","v":""},{"$f":"IF($P1739=\"\",\"\",IF(OR(CONCATENATE(P1739,$R1739)=\"22\",CONCATENATE(P1739,$R1739)=\"32\",CONCATENATE(P1739,$R1739)=\"42\",CONCATENATE(P1739,$R1739)=\"43\",CONCATENATE(P1739,$R1739)=\"51\",CONCATENATE(P1739,$R1739)=\"52\",CONCATENATE(P1739,$R1739)=\"53\"),1,0))","v":""},0,0,"*"]
[null,null,{"$f":"ROW()-10","v":1730},null,null,null,null,null,null,null,null,null,null,null,null,null,null,null,null,null,null,null,null,null,null,null,null,null,null,null,null,null,{"$f":"IF($J1740=\"\",\"\",IF(AND($J1740>=1,$J1740<=9),1,0))","v":""},{"$f":"IF($R1740=\"\",\"\",IF(OR($R1740=1,$R1740=2,$R1740=3),1,0))","v":""},{"$f":"IF($N1740=\"\",\"\",IFERROR(IF(N1740=6,1,IF(MATCH(N1740&\"/\"&R1740,読み替え表_クールビズ!$P$38:$P$59,0),1,0)),0))","v":""},{"$f":"IF($P1740=\"\",\"\",IFERROR(IF(P1740=6,1,IF(MATCH(P1740&\"/\"&R1740,読み替え表_クールビズ!$P$38:$P$59,0),1,0)),0))","v":""},"","",{"$f":"IF(OR(AK1740=1,AL1740=1),1,0)","v":0},{"$f":"IF(OR($AG1740=0,SUM(AI1740:AJ1740)=2),1,0)","v":0},"*"]
[null,null,1731,null,null,null,null,null,null,null,null,null,null,null,null,null,null,null,null,null,null,null,null,null,null,null,null,null,null,null,null,null,"","",{"$f":"IF($N1741=\"\",\"\",IFERROR(IF(N1741=6,1,IF(MATCH(N1741&\"/\"&R1741,読み替え表_クールビズ!$P$38:$P$59,0),1,0)),0))","v":""},{"$f":"IF($P1741=\"\",\"\",IFERROR(IF(P1741=6,1,IF(MATCH(P1741&\"/\"&R1741,読み替え表_クールビズ!$P$38:$P$59,0),1,0)),0))","v":""},"","",0,0,"*"]
[null,null,1732,null,null,null,null,null,null,null,null,null,null,null,null,null,null,null,null,null,null,null,null,null,null,null,null,null,null,null,null,null,"","",{"$f":"IF($N1742=\"\",\"\",IFERROR(IF(N1742=6,1,IF(MATCH(N1742&\"/\"&R1742,読み替え表_クールビズ!$P$38:$P$59,0),1,0)),0))","v":""},{"$f":"IF($P1742=\"\",\"\",IFERROR(IF(P1742=6,1,IF(MATCH(P1742&\"/\"&R1742,読み替え表_クールビズ!$P$38:$P$59,0),1,0)),0))","v":""},"","",0,0,"*"]
[null,null,1733,null,null,null,null,null,null,null,null,null,null,null,null,null,null,null,null,null,null,null,null,null,null,null,null,null,null,null,null,null,"","",{"$f":"IF($N1743=\"\",\"\",IFERROR(IF(N1743=6,1,IF(MATCH(N1743&\"/\"&R1743,読み替え表_クールビズ!$P$38:$P$59,0),1,0)),0))","v":""},{"$f":"IF($P1743=\"\",\"\",IFERROR(IF(P1743=6,1,IF(MATCH(P1743&\"/\"&R1743,読み替え表_クールビズ!$P$38:$P$59,0),1,0)),0))","v":""},"","",0,0,"*"]
[null,null,1734,null,null,null,null,null,null,null,null,null,null,null,null,null,null,null,null,null,null,null,null,null,null,null,null,null,null,null,null,null,"","",{"$f":"IF($N1744=\"\",\"\",IFERROR(IF(N1744=6,1,IF(MATCH(N1744&\"/\"&R1744,読み替え表_クールビズ!$P$38:$P$59,0),1,0)),0))","v":""},{"$f":"IF($P1744=\"\",\"\",IFERROR(IF(P1744=6,1,IF(MATCH(P1744&\"/\"&R1744,読み替え表_クールビズ!$P$38:$P$59,0),1,0)),0))","v":""},"","",0,0,"*"]
[null,null,1735,null,null,null,null,null,null,null,null,null,null,null,null,null,null,null,null,null,null,null,null,null,null,null,null,null,null,null,null,null,"","",{"$f":"IF($N1745=\"\",\"\",IFERROR(IF(N1745=6,1,IF(MATCH(N1745&\"/\"&R1745,読み替え表_クールビズ!$P$38:$P$59,0),1,0)),0))","v":""},{"$f":"IF($P1745=\"\",\"\",IFERROR(IF(P1745=6,1,IF(MATCH(P1745&\"/\"&R1745,読み替え表_クールビズ!$P$38:$P$59,0),1,0)),0))","v":""},"","",0,0,"*"]
[null,null,1736,null,null,null,null,null,null,null,null,null,null,null,null,null,null,null,null,null,null,null,null,null,null,null,null,null,null,null,null,null,"","",{"$f":"IF($N1746=\"\",\"\",IFERROR(IF(N1746=6,1,IF(MATCH(N1746&\"/\"&R1746,読み替え表_クールビズ!$P$38:$P$59,0),1,0)),0))","v":""},{"$f":"IF($P1746=\"\",\"\",IFERROR(IF(P1746=6,1,IF(MATCH(P1746&\"/\"&R1746,読み替え表_クールビズ!$P$38:$P$59,0),1,0)),0))","v":""},"","",0,0,"*"]
[null,null,1737,null,null,null,null,null,null,null,null,null,null,null,null,null,null,null,null,null,null,null,null,null,null,null,null,null,null,null,null,null,"","",{"$f":"IF($N1747=\"\",\"\",IFERROR(IF(N1747=6,1,IF(MATCH(N1747&\"/\"&R1747,読み替え表_クールビズ!$P$38:$P$59,0),1,0)),0))","v":""},{"$f":"IF($P1747=\"\",\"\",IFERROR(IF(P1747=6,1,IF(MATCH(P1747&\"/\"&R1747,読み替え表_クールビズ!$P$38:$P$59,0),1,0)),0))","v":""},"","",0,0,"*"]
[null,null,1738,null,null,null,null,null,null,null,null,null,null,null,null,null,null,null,null,null,null,null,null,null,null,null,null,null,null,null,null,null,"","",{"$f":"IF($N1748=\"\",\"\",IFERROR(IF(N1748=6,1,IF(MATCH(N1748&\"/\"&R1748,読み替え表_クールビズ!$P$38:$P$59,0),1,0)),0))","v":""},{"$f":"IF($P1748=\"\",\"\",IFERROR(IF(P1748=6,1,IF(MATCH(P1748&\"/\"&R1748,読み替え表_クールビズ!$P$38:$P$59,0),1,0)),0))","v":""},"","",0,0,"*"]
[null,null,1739,null,null,null,null,null,null,null,null,null,null,null,null,null,null,null,null,null,null,null,null,null,null,null,null,null,null,null,null,null,"","",{"$f":"IF($N1749=\"\",\"\",IFERROR(IF(N1749=6,1,IF(MATCH(N1749&\"/\"&R1749,読み替え表_クールビズ!$P$38:$P$59,0),1,0)),0))","v":""},{"$f":"IF($P1749=\"\",\"\",IFERROR(IF(P1749=6,1,IF(MATCH(P1749&\"/\"&R1749,読み替え表_クールビズ!$P$38:$P$59,0),1,0)),0))","v":""},"","",0,0,"*"]
[null,null,1740,null,null,null,null,null,null,null,null,null,null,null,null,null,null,null,null,null,null,null,null,null,null,null,null,null,null,null,null,null,"","",{"$f":"IF($N1750=\"\",\"\",IFERROR(IF(N1750=6,1,IF(MATCH(N1750&\"/\"&R1750,読み替え表_クールビズ!$P$38:$P$59,0),1,0)),0))","v":""},{"$f":"IF($P1750=\"\",\"\",IFERROR(IF(P1750=6,1,IF(MATCH(P1750&\"/\"&R1750,読み替え表_クールビズ!$P$38:$P$59,0),1,0)),0))","v":""},"","",0,0,"*"]
[null,null,1741,null,null,null,null,null,null,null,null,null,null,null,null,null,null,null,null,null,null,null,null,null,null,null,null,null,null,null,null,null,"","",{"$f":"IF($N1751=\"\",\"\",IFERROR(IF(N1751=6,1,IF(MATCH(N1751&\"/\"&R1751,読み替え表_クールビズ!$P$38:$P$59,0),1,0)),0))","v":""},{"$f":"IF($P1751=\"\",\"\",IFERROR(IF(P1751=6,1,IF(MATCH(P1751&\"/\"&R1751,読み替え表_クールビズ!$P$38:$P$59,0),1,0)),0))","v":""},"","",0,0,"*"]
[null,null,1742,null,null,null,null,null,null,null,null,null,null,null,null,null,null,null,null,null,null,null,null,null,null,null,null,null,null,null,null,null,"","",{"$f":"IF($N1752=\"\",\"\",IFERROR(IF(N1752=6,1,IF(MATCH(N1752&\"/\"&R1752,読み替え表_クールビズ!$P$38:$P$59,0),1,0)),0))","v":""},{"$f":"IF($P1752=\"\",\"\",IFERROR(IF(P1752=6,1,IF(MATCH(P1752&\"/\"&R1752,読み替え表_クールビズ!$P$38:$P$59,0),1,0)),0))","v":""},"","",0,0,"*"]
[null,null,1743,null,null,null,null,null,null,null,null,null,null,null,null,null,null,null,null,null,null,null,null,null,null,null,null,null,null,null,null,null,"","",{"$f":"IF($N1753=\"\",\"\",IFERROR(IF(N1753=6,1,IF(MATCH(N1753&\"/\"&R1753,読み替え表_クールビズ!$P$38:$P$59,0),1,0)),0))","v":""},{"$f":"IF($P1753=\"\",\"\",IFERROR(IF(P1753=6,1,IF(MATCH(P1753&\"/\"&R1753,読み替え表_クールビズ!$P$38:$P$59,0),1,0)),0))","v":""},"","",0,0,"*"]
[null,null,1744,null,null,null,null,null,null,null,null,null,null,null,null,null,null,null,null,null,null,null,null,null,null,null,null,null,null,null,null,null,"","",{"$f":"IF($N1754=\"\",\"\",IFERROR(IF(N1754=6,1,IF(MATCH(N1754&\"/\"&R1754,読み替え表_クールビズ!$P$38:$P$59,0),1,0)),0))","v":""},{"$f":"IF($P1754=\"\",\"\",IFERROR(IF(P1754=6,1,IF(MATCH(P1754&\"/\"&R1754,読み替え表_クールビズ!$P$38:$P$59,0),1,0)),0))","v":""},"","",0,0,"*"]
[null,null,1745,null,null,null,null,null,null,null,null,null,null,null,null,null,null,null,null,null,null,null,null,null,null,null,null,null,null,null,null,null,"","",{"$f":"IF($N1755=\"\",\"\",IFERROR(IF(N1755=6,1,IF(MATCH(N1755&\"/\"&R1755,読み替え表_クールビズ!$P$38:$P$59,0),1,0)),0))","v":""},{"$f":"IF($P1755=\"\",\"\",IFERROR(IF(P1755=6,1,IF(MATCH(P1755&\"/\"&R1755,読み替え表_クールビズ!$P$38:$P$59,0),1,0)),0))","v":""},"","",0,0,"*"]
[null,null,1746,null,null,null,null,null,null,null,null,null,null,null,null,null,null,null,null,null,null,null,null,null,null,null,null,null,null,null,null,null,"","",{"$f":"IF($N1756=\"\",\"\",IFERROR(IF(N1756=6,1,IF(MATCH(N1756&\"/\"&R1756,読み替え表_クールビズ!$P$38:$P$59,0),1,0)),0))","v":""},{"$f":"IF($P1756=\"\",\"\",IFERROR(IF(P1756=6,1,IF(MATCH(P1756&\"/\"&R1756,読み替え表_クールビズ!$P$38:$P$59,0),1,0)),0))","v":""},"","",0,0,"*"]
[null,null,1747,null,null,null,null,null,null,null,null,null,null,null,null,null,null,null,null,null,null,null,null,null,null,null,null,null,null,null,null,null,"","",{"$f":"IF($N1757=\"\",\"\",IFERROR(IF(N1757=6,1,IF(MATCH(N1757&\"/\"&R1757,読み替え表_クールビズ!$P$38:$P$59,0),1,0)),0))","v":""},{"$f":"IF($P1757=\"\",\"\",IFERROR(IF(P1757=6,1,IF(MATCH(P1757&\"/\"&R1757,読み替え表_クールビズ!$P$38:$P$59,0),1,0)),0))","v":""},"","",0,0,"*"]
[null,null,1748,null,null,null,null,null,null,null,null,null,null,null,null,null,null,null,null,null,null,null,null,null,null,null,null,null,null,null,null,null,"","",{"$f":"IF($N1758=\"\",\"\",IFERROR(IF(N1758=6,1,IF(MATCH(N1758&\"/\"&R1758,読み替え表_クールビズ!$P$38:$P$59,0),1,0)),0))","v":""},{"$f":"IF($P1758=\"\",\"\",IFERROR(IF(P1758=6,1,IF(MATCH(P1758&\"/\"&R1758,読み替え表_クールビズ!$P$38:$P$59,0),1,0)),0))","v":""},"","",0,0,"*"]
[null,null,1749,null,null,null,null,null,null,null,null,null,null,null,null,null,null,null,null,null,null,null,null,null,null,null,null,null,null,null,null,null,"","",{"$f":"IF($N1759=\"\",\"\",IFERROR(IF(N1759=6,1,IF(MATCH(N1759&\"/\"&R1759,読み替え表_クールビズ!$P$38:$P$59,0),1,0)),0))","v":""},{"$f":"IF($P1759=\"\",\"\",IFERROR(IF(P1759=6,1,IF(MATCH(P1759&\"/\"&R1759,読み替え表_クールビズ!$P$38:$P$59,0),1,0)),0))","v":""},"","",0,0,"*"]
[null,null,1750,null,null,null,null,null,null,null,null,null,null,null,null,null,null,null,null,null,null,null,null,null,null,null,null,null,null,null,null,null,"","",{"$f":"IF($N1760=\"\",\"\",IFERROR(IF(N1760=6,1,IF(MATCH(N1760&\"/\"&R1760,読み替え表_クールビズ!$P$38:$P$59,0),1,0)),0))","v":""},{"$f":"IF($P1760=\"\",\"\",IFERROR(IF(P1760=6,1,IF(MATCH(P1760&\"/\"&R1760,読み替え表_クールビズ!$P$38:$P$59,0),1,0)),0))","v":""},"","",0,0,"*"]
[null,null,1751,null,null,null,null,null,null,null,null,null,null,null,null,null,null,null,null,null,null,null,null,null,null,null,null,null,null,null,null,null,"","",{"$f":"IF($N1761=\"\",\"\",IFERROR(IF(N1761=6,1,IF(MATCH(N1761&\"/\"&R1761,読み替え表_クールビズ!$P$38:$P$59,0),1,0)),0))","v":""},{"$f":"IF($P1761=\"\",\"\",IFERROR(IF(P1761=6,1,IF(MATCH(P1761&\"/\"&R1761,読み替え表_クールビズ!$P$38:$P$59,0),1,0)),0))","v":""},"","",0,0,"*"]
[null,null,1752,null,null,null,null,null,null,null,null,null,null,null,null,null,null,null,null,null,null,null,null,null,null,null,null,null,null,null,null,null,"","",{"$f":"IF($N1762=\"\",\"\",IFERROR(IF(N1762=6,1,IF(MATCH(N1762&\"/\"&R1762,読み替え表_クールビズ!$P$38:$P$59,0),1,0)),0))","v":""},{"$f":"IF($P1762=\"\",\"\",IFERROR(IF(P1762=6,1,IF(MATCH(P1762&\"/\"&R1762,読み替え表_クールビズ!$P$38:$P$59,0),1,0)),0))","v":""},"","",0,0,"*"]
[null,null,1753,null,null,null,null,null,null,null,null,null,null,null,null,null,null,null,null,null,null,null,null,null,null,null,null,null,null,null,null,null,"","",{"$f":"IF($N1763=\"\",\"\",IFERROR(IF(N1763=6,1,IF(MATCH(N1763&\"/\"&R1763,読み替え表_クールビズ!$P$38:$P$59,0),1,0)),0))","v":""},{"$f":"IF($P1763=\"\",\"\",IFERROR(IF(P1763=6,1,IF(MATCH(P1763&\"/\"&R1763,読み替え表_クールビズ!$P$38:$P$59,0),1,0)),0))","v":""},"","",0,0,"*"]
[null,null,1754,null,null,null,null,null,null,null,null,null,null,null,null,null,null,null,null,null,null,null,null,null,null,null,null,null,null,null,null,null,"","",{"$f":"IF($N1764=\"\",\"\",IFERROR(IF(N1764=6,1,IF(MATCH(N1764&\"/\"&R1764,読み替え表_クールビズ!$P$38:$P$59,0),1,0)),0))","v":""},{"$f":"IF($P1764=\"\",\"\",IFERROR(IF(P1764=6,1,IF(MATCH(P1764&\"/\"&R1764,読み替え表_クールビズ!$P$38:$P$59,0),1,0)),0))","v":""},"","",0,0,"*"]
[null,null,1755,null,null,null,null,null,null,null,null,null,null,null,null,null,null,null,null,null,null,null,null,null,null,null,null,null,null,null,null,null,"","",{"$f":"IF($N1765=\"\",\"\",IFERROR(IF(N1765=6,1,IF(MATCH(N1765&\"/\"&R1765,読み替え表_クールビズ!$P$38:$P$59,0),1,0)),0))","v":""},{"$f":"IF($P1765=\"\",\"\",IFERROR(IF(P1765=6,1,IF(MATCH(P1765&\"/\"&R1765,読み替え表_クールビズ!$P$38:$P$59,0),1,0)),0))","v":""},"","",0,0,"*"]
[null,null,1756,null,null,null,null,null,null,null,null,null,null,null,null,null,null,null,null,null,null,null,null,null,null,null,null,null,null,null,null,null,"","",{"$f":"IF($N1766=\"\",\"\",IFERROR(IF(N1766=6,1,IF(MATCH(N1766&\"/\"&R1766,読み替え表_クールビズ!$P$38:$P$59,0),1,0)),0))","v":""},{"$f":"IF($P1766=\"\",\"\",IFERROR(IF(P1766=6,1,IF(MATCH(P1766&\"/\"&R1766,読み替え表_クールビズ!$P$38:$P$59,0),1,0)),0))","v":""},"","",0,0,"*"]
[null,null,1757,null,null,null,null,null,null,null,null,null,null,null,null,null,null,null,null,null,null,null,null,null,null,null,null,null,null,null,null,null,"","",{"$f":"IF($N1767=\"\",\"\",IFERROR(IF(N1767=6,1,IF(MATCH(N1767&\"/\"&R1767,読み替え表_クールビズ!$P$38:$P$59,0),1,0)),0))","v":""},{"$f":"IF($P1767=\"\",\"\",IFERROR(IF(P1767=6,1,IF(MATCH(P1767&\"/\"&R1767,読み替え表_クールビズ!$P$38:$P$59,0),1,0)),0))","v":""},"","",0,0,"*"]
[null,null,1758,null,null,null,null,null,null,null,null,null,null,null,null,null,null,null,null,null,null,null,null,null,null,null,null,null,null,null,null,null,"","",{"$f":"IF($N1768=\"\",\"\",IFERROR(IF(N1768=6,1,IF(MATCH(N1768&\"/\"&R1768,読み替え表_クールビズ!$P$38:$P$59,0),1,0)),0))","v":""},{"$f":"IF($P1768=\"\",\"\",IFERROR(IF(P1768=6,1,IF(MATCH(P1768&\"/\"&R1768,読み替え表_クールビズ!$P$38:$P$59,0),1,0)),0))","v":""},"","",0,0,"*"]
[null,null,1759,null,null,null,null,null,null,null,null,null,null,null,null,null,null,null,null,null,null,null,null,null,null,null,null,null,null,null,null,null,"","",{"$f":"IF($N1769=\"\",\"\",IFERROR(IF(N1769=6,1,IF(MATCH(N1769&\"/\"&R1769,読み替え表_クールビズ!$P$38:$P$59,0),1,0)),0))","v":""},{"$f":"IF($P1769=\"\",\"\",IFERROR(IF(P1769=6,1,IF(MATCH(P1769&\"/\"&R1769,読み替え表_クールビズ!$P$38:$P$59,0),1,0)),0))","v":""},"","",0,0,"*"]
[null,null,1760,null,null,null,null,null,null,null,null,null,null,null,null,null,null,null,null,null,null,null,null,null,null,null,null,null,null,null,null,null,"","",{"$f":"IF($N1770=\"\",\"\",IFERROR(IF(N1770=6,1,IF(MATCH(N1770&\"/\"&R1770,読み替え表_クールビズ!$P$38:$P$59,0),1,0)),0))","v":""},{"$f":"IF($P1770=\"\",\"\",IFERROR(IF(P1770=6,1,IF(MATCH(P1770&\"/\"&R1770,読み替え表_クールビズ!$P$38:$P$59,0),1,0)),0))","v":""},"","",0,0,"*"]
[null,null,1761,null,null,null,null,null,null,null,null,null,null,null,null,null,null,null,null,null,null,null,null,null,null,null,null,null,null,null,null,null,"","",{"$f":"IF($N1771=\"\",\"\",IFERROR(IF(N1771=6,1,IF(MATCH(N1771&\"/\"&R1771,読み替え表_クールビズ!$P$38:$P$59,0),1,0)),0))","v":""},{"$f":"IF($P1771=\"\",\"\",IFERROR(IF(P1771=6,1,IF(MATCH(P1771&\"/\"&R1771,読み替え表_クールビズ!$P$38:$P$59,0),1,0)),0))","v":""},"","",0,0,"*"]
[null,null,1762,null,null,null,null,null,null,null,null,null,null,null,null,null,null,null,null,null,null,null,null,null,null,null,null,null,null,null,null,null,"","",{"$f":"IF($N1772=\"\",\"\",IFERROR(IF(N1772=6,1,IF(MATCH(N1772&\"/\"&R1772,読み替え表_クールビズ!$P$38:$P$59,0),1,0)),0))","v":""},{"$f":"IF($P1772=\"\",\"\",IFERROR(IF(P1772=6,1,IF(MATCH(P1772&\"/\"&R1772,読み替え表_クールビズ!$P$38:$P$59,0),1,0)),0))","v":""},"","",0,0,"*"]
[null,null,1763,null,null,null,null,null,null,null,null,null,null,null,null,null,null,null,null,null,null,null,null,null,null,null,null,null,null,null,null,null,"","",{"$f":"IF($N1773=\"\",\"\",IFERROR(IF(N1773=6,1,IF(MATCH(N1773&\"/\"&R1773,読み替え表_クールビズ!$P$38:$P$59,0),1,0)),0))","v":""},{"$f":"IF($P1773=\"\",\"\",IFERROR(IF(P1773=6,1,IF(MATCH(P1773&\"/\"&R1773,読み替え表_クールビズ!$P$38:$P$59,0),1,0)),0))","v":""},"","",0,0,"*"]
[null,null,1764,null,null,null,null,null,null,null,null,null,null,null,null,null,null,null,null,null,null,null,null,null,null,null,null,null,null,null,null,null,"","",{"$f":"IF($N1774=\"\",\"\",IFERROR(IF(N1774=6,1,IF(MATCH(N1774&\"/\"&R1774,読み替え表_クールビズ!$P$38:$P$59,0),1,0)),0))","v":""},{"$f":"IF($P1774=\"\",\"\",IFERROR(IF(P1774=6,1,IF(MATCH(P1774&\"/\"&R1774,読み替え表_クールビズ!$P$38:$P$59,0),1,0)),0))","v":""},"","",0,0,"*"]
[null,null,1765,null,null,null,null,null,null,null,null,null,null,null,null,null,null,null,null,null,null,null,null,null,null,null,null,null,null,null,null,null,"","",{"$f":"IF($N1775=\"\",\"\",IFERROR(IF(N1775=6,1,IF(MATCH(N1775&\"/\"&R1775,読み替え表_クールビズ!$P$38:$P$59,0),1,0)),0))","v":""},{"$f":"IF($P1775=\"\",\"\",IFERROR(IF(P1775=6,1,IF(MATCH(P1775&\"/\"&R1775,読み替え表_クールビズ!$P$38:$P$59,0),1,0)),0))","v":""},"","",0,0,"*"]
[null,null,1766,null,null,null,null,null,null,null,null,null,null,null,null,null,null,null,null,null,null,null,null,null,null,null,null,null,null,null,null,null,"","",{"$f":"IF($N1776=\"\",\"\",IFERROR(IF(N1776=6,1,IF(MATCH(N1776&\"/\"&R1776,読み替え表_クールビズ!$P$38:$P$59,0),1,0)),0))","v":""},{"$f":"IF($P1776=\"\",\"\",IFERROR(IF(P1776=6,1,IF(MATCH(P1776&\"/\"&R1776,読み替え表_クールビズ!$P$38:$P$59,0),1,0)),0))","v":""},"","",0,0,"*"]
[null,null,1767,null,null,null,null,null,null,null,null,null,null,null,null,null,null,null,null,null,null,null,null,null,null,null,null,null,null,null,null,null,"","",{"$f":"IF($N1777=\"\",\"\",IFERROR(IF(N1777=6,1,IF(MATCH(N1777&\"/\"&R1777,読み替え表_クールビズ!$P$38:$P$59,0),1,0)),0))","v":""},{"$f":"IF($P1777=\"\",\"\",IFERROR(IF(P1777=6,1,IF(MATCH(P1777&\"/\"&R1777,読み替え表_クールビズ!$P$38:$P$59,0),1,0)),0))","v":""},"","",0,0,"*"]
[null,null,1768,null,null,null,null,null,null,null,null,null,null,null,null,null,null,null,null,null,null,null,null,null,null,null,null,null,null,null,null,null,"","",{"$f":"IF($N1778=\"\",\"\",IFERROR(IF(N1778=6,1,IF(MATCH(N1778&\"/\"&R1778,読み替え表_クールビズ!$P$38:$P$59,0),1,0)),0))","v":""},{"$f":"IF($P1778=\"\",\"\",IFERROR(IF(P1778=6,1,IF(MATCH(P1778&\"/\"&R1778,読み替え表_クールビズ!$P$38:$P$59,0),1,0)),0))","v":""},"","",0,0,"*"]
[null,null,1769,null,null,null,null,null,null,null,null,null,null,null,null,null,null,null,null,null,null,null,null,null,null,null,null,null,null,null,null,null,"","",{"$f":"IF($N1779=\"\",\"\",IFERROR(IF(N1779=6,1,IF(MATCH(N1779&\"/\"&R1779,読み替え表_クールビズ!$P$38:$P$59,0),1,0)),0))","v":""},{"$f":"IF($P1779=\"\",\"\",IFERROR(IF(P1779=6,1,IF(MATCH(P1779&\"/\"&R1779,読み替え表_クールビズ!$P$38:$P$59,0),1,0)),0))","v":""},"","",0,0,"*"]
[null,null,1770,null,null,null,null,null,null,null,null,null,null,null,null,null,null,null,null,null,null,null,null,null,null,null,null,null,null,null,null,null,"","",{"$f":"IF($N1780=\"\",\"\",IFERROR(IF(N1780=6,1,IF(MATCH(N1780&\"/\"&R1780,読み替え表_クールビズ!$P$38:$P$59,0),1,0)),0))","v":""},{"$f":"IF($P1780=\"\",\"\",IFERROR(IF(P1780=6,1,IF(MATCH(P1780&\"/\"&R1780,読み替え表_クールビズ!$P$38:$P$59,0),1,0)),0))","v":""},"","",0,0,"*"]
[null,null,1771,null,null,null,null,null,null,null,null,null,null,null,null,null,null,null,null,null,null,null,null,null,null,null,null,null,null,null,null,null,"","",{"$f":"IF($N1781=\"\",\"\",IFERROR(IF(N1781=6,1,IF(MATCH(N1781&\"/\"&R1781,読み替え表_クールビズ!$P$38:$P$59,0),1,0)),0))","v":""},{"$f":"IF($P1781=\"\",\"\",IFERROR(IF(P1781=6,1,IF(MATCH(P1781&\"/\"&R1781,読み替え表_クールビズ!$P$38:$P$59,0),1,0)),0))","v":""},"","",0,0,"*"]
[null,null,1772,null,null,null,null,null,null,null,null,null,null,null,null,null,null,null,null,null,null,null,null,null,null,null,null,null,null,null,null,null,"","",{"$f":"IF($N1782=\"\",\"\",IFERROR(IF(N1782=6,1,IF(MATCH(N1782&\"/\"&R1782,読み替え表_クールビズ!$P$38:$P$59,0),1,0)),0))","v":""},{"$f":"IF($P1782=\"\",\"\",IFERROR(IF(P1782=6,1,IF(MATCH(P1782&\"/\"&R1782,読み替え表_クールビズ!$P$38:$P$59,0),1,0)),0))","v":""},"","",0,0,"*"]
[null,null,1773,null,null,null,null,null,null,null,null,null,null,null,null,null,null,null,null,null,null,null,null,null,null,null,null,null,null,null,null,null,"","",{"$f":"IF($N1783=\"\",\"\",IFERROR(IF(N1783=6,1,IF(MATCH(N1783&\"/\"&R1783,読み替え表_クールビズ!$P$38:$P$59,0),1,0)),0))","v":""},{"$f":"IF($P1783=\"\",\"\",IFERROR(IF(P1783=6,1,IF(MATCH(P1783&\"/\"&R1783,読み替え表_クールビズ!$P$38:$P$59,0),1,0)),0))","v":""},"","",0,0,"*"]
[null,null,1774,null,null,null,null,null,null,null,null,null,null,null,null,null,null,null,null,null,null,null,null,null,null,null,null,null,null,null,null,null,"","",{"$f":"IF($N1784=\"\",\"\",IFERROR(IF(N1784=6,1,IF(MATCH(N1784&\"/\"&R1784,読み替え表_クールビズ!$P$38:$P$59,0),1,0)),0))","v":""},{"$f":"IF($P1784=\"\",\"\",IFERROR(IF(P1784=6,1,IF(MATCH(P1784&\"/\"&R1784,読み替え表_クールビズ!$P$38:$P$59,0),1,0)),0))","v":""},"","",0,0,"*"]
[null,null,1775,null,null,null,null,null,null,null,null,null,null,null,null,null,null,null,null,null,null,null,null,null,null,null,null,null,null,null,null,null,"","",{"$f":"IF($N1785=\"\",\"\",IFERROR(IF(N1785=6,1,IF(MATCH(N1785&\"/\"&R1785,読み替え表_クールビズ!$P$38:$P$59,0),1,0)),0))","v":""},{"$f":"IF($P1785=\"\",\"\",IFERROR(IF(P1785=6,1,IF(MATCH(P1785&\"/\"&R1785,読み替え表_クールビズ!$P$38:$P$59,0),1,0)),0))","v":""},"","",0,0,"*"]
[null,null,1776,null,null,null,null,null,null,null,null,null,null,null,null,null,null,null,null,null,null,null,null,null,null,null,null,null,null,null,null,null,"","",{"$f":"IF($N1786=\"\",\"\",IFERROR(IF(N1786=6,1,IF(MATCH(N1786&\"/\"&R1786,読み替え表_クールビズ!$P$38:$P$59,0),1,0)),0))","v":""},{"$f":"IF($P1786=\"\",\"\",IFERROR(IF(P1786=6,1,IF(MATCH(P1786&\"/\"&R1786,読み替え表_クールビズ!$P$38:$P$59,0),1,0)),0))","v":""},"","",0,0,"*"]
[null,null,1777,null,null,null,null,null,null,null,null,null,null,null,null,null,null,null,null,null,null,null,null,null,null,null,null,null,null,null,null,null,"","",{"$f":"IF($N1787=\"\",\"\",IFERROR(IF(N1787=6,1,IF(MATCH(N1787&\"/\"&R1787,読み替え表_クールビズ!$P$38:$P$59,0),1,0)),0))","v":""},{"$f":"IF($P1787=\"\",\"\",IFERROR(IF(P1787=6,1,IF(MATCH(P1787&\"/\"&R1787,読み替え表_クールビズ!$P$38:$P$59,0),1,0)),0))","v":""},"","",0,0,"*"]
[null,null,1778,null,null,null,null,null,null,null,null,null,null,null,null,null,null,null,null,null,null,null,null,null,null,null,null,null,null,null,null,null,"","",{"$f":"IF($N1788=\"\",\"\",IFERROR(IF(N1788=6,1,IF(MATCH(N1788&\"/\"&R1788,読み替え表_クールビズ!$P$38:$P$59,0),1,0)),0))","v":""},{"$f":"IF($P1788=\"\",\"\",IFERROR(IF(P1788=6,1,IF(MATCH(P1788&\"/\"&R1788,読み替え表_クールビズ!$P$38:$P$59,0),1,0)),0))","v":""},"","",0,0,"*"]
[null,null,1779,null,null,null,null,null,null,null,null,null,null,null,null,null,null,null,null,null,null,null,null,null,null,null,null,null,null,null,null,null,"","",{"$f":"IF($N1789=\"\",\"\",IFERROR(IF(N1789=6,1,IF(MATCH(N1789&\"/\"&R1789,読み替え表_クールビズ!$P$38:$P$59,0),1,0)),0))","v":""},{"$f":"IF($P1789=\"\",\"\",IFERROR(IF(P1789=6,1,IF(MATCH(P1789&\"/\"&R1789,読み替え表_クールビズ!$P$38:$P$59,0),1,0)),0))","v":""},"","",0,0,"*"]
[null,null,1780,null,null,null,null,null,null,null,null,null,null,null,null,null,null,null,null,null,null,null,null,null,null,null,null,null,null,null,null,null,"","",{"$f":"IF($N1790=\"\",\"\",IFERROR(IF(N1790=6,1,IF(MATCH(N1790&\"/\"&R1790,読み替え表_クールビズ!$P$38:$P$59,0),1,0)),0))","v":""},{"$f":"IF($P1790=\"\",\"\",IFERROR(IF(P1790=6,1,IF(MATCH(P1790&\"/\"&R1790,読み替え表_クールビズ!$P$38:$P$59,0),1,0)),0))","v":""},"","",0,0,"*"]
[null,null,1781,null,null,null,null,null,null,null,null,null,null,null,null,null,null,null,null,null,null,null,null,null,null,null,null,null,null,null,null,null,"","",{"$f":"IF($N1791=\"\",\"\",IFERROR(IF(N1791=6,1,IF(MATCH(N1791&\"/\"&R1791,読み替え表_クールビズ!$P$38:$P$59,0),1,0)),0))","v":""},{"$f":"IF($P1791=\"\",\"\",IFERROR(IF(P1791=6,1,IF(MATCH(P1791&\"/\"&R1791,読み替え表_クールビズ!$P$38:$P$59,0),1,0)),0))","v":""},"","",0,0,"*"]
[null,null,1782,null,null,null,null,null,null,null,null,null,null,null,null,null,null,null,null,null,null,null,null,null,null,null,null,null,null,null,null,null,"","",{"$f":"IF($N1792=\"\",\"\",IFERROR(IF(N1792=6,1,IF(MATCH(N1792&\"/\"&R1792,読み替え表_クールビズ!$P$38:$P$59,0),1,0)),0))","v":""},{"$f":"IF($P1792=\"\",\"\",IFERROR(IF(P1792=6,1,IF(MATCH(P1792&\"/\"&R1792,読み替え表_クールビズ!$P$38:$P$59,0),1,0)),0))","v":""},"","",0,0,"*"]
[null,null,1783,null,null,null,null,null,null,null,null,null,null,null,null,null,null,null,null,null,null,null,null,null,null,null,null,null,null,null,null,null,"","",{"$f":"IF($N1793=\"\",\"\",IFERROR(IF(N1793=6,1,IF(MATCH(N1793&\"/\"&R1793,読み替え表_クールビズ!$P$38:$P$59,0),1,0)),0))","v":""},{"$f":"IF($P1793=\"\",\"\",IFERROR(IF(P1793=6,1,IF(MATCH(P1793&\"/\"&R1793,読み替え表_クールビズ!$P$38:$P$59,0),1,0)),0))","v":""},"","",0,0,"*"]
[null,null,1784,null,null,null,null,null,null,null,null,null,null,null,null,null,null,null,null,null,null,null,null,null,null,null,null,null,null,null,null,null,"","",{"$f":"IF($N1794=\"\",\"\",IFERROR(IF(N1794=6,1,IF(MATCH(N1794&\"/\"&R1794,読み替え表_クールビズ!$P$38:$P$59,0),1,0)),0))","v":""},{"$f":"IF($P1794=\"\",\"\",IFERROR(IF(P1794=6,1,IF(MATCH(P1794&\"/\"&R1794,読み替え表_クールビズ!$P$38:$P$59,0),1,0)),0))","v":""},"","",0,0,"*"]
[null,null,1785,null,null,null,null,null,null,null,null,null,null,null,null,null,null,null,null,null,null,null,null,null,null,null,null,null,null,null,null,null,"","",{"$f":"IF($N1795=\"\",\"\",IFERROR(IF(N1795=6,1,IF(MATCH(N1795&\"/\"&R1795,読み替え表_クールビズ!$P$38:$P$59,0),1,0)),0))","v":""},{"$f":"IF($P1795=\"\",\"\",IFERROR(IF(P1795=6,1,IF(MATCH(P1795&\"/\"&R1795,読み替え表_クールビズ!$P$38:$P$59,0),1,0)),0))","v":""},"","",0,0,"*"]
[null,null,1786,null,null,null,null,null,null,null,null,null,null,null,null,null,null,null,null,null,null,null,null,null,null,null,null,null,null,null,null,null,"","",{"$f":"IF($N1796=\"\",\"\",IFERROR(IF(N1796=6,1,IF(MATCH(N1796&\"/\"&R1796,読み替え表_クールビズ!$P$38:$P$59,0),1,0)),0))","v":""},{"$f":"IF($P1796=\"\",\"\",IFERROR(IF(P1796=6,1,IF(MATCH(P1796&\"/\"&R1796,読み替え表_クールビズ!$P$38:$P$59,0),1,0)),0))","v":""},"","",0,0,"*"]
[null,null,1787,null,null,null,null,null,null,null,null,null,null,null,null,null,null,null,null,null,null,null,null,null,null,null,null,null,null,null,null,null,"","",{"$f":"IF($N1797=\"\",\"\",IFERROR(IF(N1797=6,1,IF(MATCH(N1797&\"/\"&R1797,読み替え表_クールビズ!$P$38:$P$59,0),1,0)),0))","v":""},{"$f":"IF($P1797=\"\",\"\",IFERROR(IF(P1797=6,1,IF(MATCH(P1797&\"/\"&R1797,読み替え表_クールビズ!$P$38:$P$59,0),1,0)),0))","v":""},"","",0,0,"*"]
[null,null,1788,null,null,null,null,null,null,null,null,null,null,null,null,null,null,null,null,null,null,null,null,null,null,null,null,null,null,null,null,null,"","",{"$f":"IF($N1798=\"\",\"\",IFERROR(IF(N1798=6,1,IF(MATCH(N1798&\"/\"&R1798,読み替え表_クールビズ!$P$38:$P$59,0),1,0)),0))","v":""},{"$f":"IF($P1798=\"\",\"\",IFERROR(IF(P1798=6,1,IF(MATCH(P1798&\"/\"&R1798,読み替え表_クールビズ!$P$38:$P$59,0),1,0)),0))","v":""},"","",0,0,"*"]
[null,null,1789,null,null,null,null,null,null,null,null,null,null,null,null,null,null,null,null,null,null,null,null,null,null,null,null,null,null,null,null,null,"","",{"$f":"IF($N1799=\"\",\"\",IFERROR(IF(N1799=6,1,IF(MATCH(N1799&\"/\"&R1799,読み替え表_クールビズ!$P$38:$P$59,0),1,0)),0))","v":""},{"$f":"IF($P1799=\"\",\"\",IFERROR(IF(P1799=6,1,IF(MATCH(P1799&\"/\"&R1799,読み替え表_クールビズ!$P$38:$P$59,0),1,0)),0))","v":""},"","",0,0,"*"]
[null,null,1790,null,null,null,null,null,null,null,null,null,null,null,null,null,null,null,null,null,null,null,null,null,null,null,null,null,null,null,null,null,"","",{"$f":"IF($N1800=\"\",\"\",IFERROR(IF(N1800=6,1,IF(MATCH(N1800&\"/\"&R1800,読み替え表_クールビズ!$P$38:$P$59,0),1,0)),0))","v":""},{"$f":"IF($P1800=\"\",\"\",IFERROR(IF(P1800=6,1,IF(MATCH(P1800&\"/\"&R1800,読み替え表_クールビズ!$P$38:$P$59,0),1,0)),0))","v":""},"","",0,0,"*"]
[null,null,1791,null,null,null,null,null,null,null,null,null,null,null,null,null,null,null,null,null,null,null,null,null,null,null,null,null,null,null,null,null,"","",{"$f":"IF($N1801=\"\",\"\",IFERROR(IF(N1801=6,1,IF(MATCH(N1801&\"/\"&R1801,読み替え表_クールビズ!$P$38:$P$59,0),1,0)),0))","v":""},{"$f":"IF($P1801=\"\",\"\",IFERROR(IF(P1801=6,1,IF(MATCH(P1801&\"/\"&R1801,読み替え表_クールビズ!$P$38:$P$59,0),1,0)),0))","v":""},"","",0,0,"*"]
[null,null,1792,null,null,null,null,null,null,null,null,null,null,null,null,null,null,null,null,null,null,null,null,null,null,null,null,null,null,null,null,null,"","",{"$f":"IF($N1802=\"\",\"\",IFERROR(IF(N1802=6,1,IF(MATCH(N1802&\"/\"&R1802,読み替え表_クールビズ!$P$38:$P$59,0),1,0)),0))","v":""},{"$f":"IF($P1802=\"\",\"\",IFERROR(IF(P1802=6,1,IF(MATCH(P1802&\"/\"&R1802,読み替え表_クールビズ!$P$38:$P$59,0),1,0)),0))","v":""},"","",0,0,"*"]
[null,null,1793,null,null,null,null,null,null,null,null,null,null,null,null,null,null,null,null,null,null,null,null,null,null,null,null,null,null,null,null,null,"","",{"$f":"IF($N1803=\"\",\"\",IFERROR(IF(N1803=6,1,IF(MATCH(N1803&\"/\"&R1803,読み替え表_クールビズ!$P$38:$P$59,0),1,0)),0))","v":""},{"$f":"IF($P1803=\"\",\"\",IFERROR(IF(P1803=6,1,IF(MATCH(P1803&\"/\"&R1803,読み替え表_クールビズ!$P$38:$P$59,0),1,0)),0))","v":""},{"$f":"IF($N1803=\"\",\"\",IF(OR(CONCATENATE(N1803,$R1803)=\"22\",CONCATENATE(N1803,$R1803)=\"32\",CONCATENATE(N1803,$R1803)=\"42\",CONCATENATE(N1803,$R1803)=\"43\",CONCATENATE(N1803,$R1803)=\"51\",CONCATENATE(N1803,$R1803)=\"52\",CONCATENATE(N1803,$R1803)=\"53\"),1,0))","v":""},{"$f":"IF($P1803=\"\",\"\",IF(OR(CONCATENATE(P1803,$R1803)=\"22\",CONCATENATE(P1803,$R1803)=\"32\",CONCATENATE(P1803,$R1803)=\"42\",CONCATENATE(P1803,$R1803)=\"43\",CONCATENATE(P1803,$R1803)=\"51\",CONCATENATE(P1803,$R1803)=\"52\",CONCATENATE(P1803,$R1803)=\"53\"),1,0))","v":""},0,0,"*"]
[null,null,{"$f":"ROW()-10","v":1794},null,null,null,null,null,null,null,null,null,null,null,null,null,null,null,null,null,null,null,null,null,null,null,null,null,null,null,null,null,{"$f":"IF($J1804=\"\",\"\",IF(AND($J1804>=1,$J1804<=9),1,0))","v":""},{"$f":"IF($R1804=\"\",\"\",IF(OR($R1804=1,$R1804=2,$R1804=3),1,0))","v":""},{"$f":"IF($N1804=\"\",\"\",IFERROR(IF(N1804=6,1,IF(MATCH(N1804&\"/\"&R1804,読み替え表_クールビズ!$P$38:$P$59,0),1,0)),0))","v":""},{"$f":"IF($P1804=\"\",\"\",IFERROR(IF(P1804=6,1,IF(MATCH(P1804&\"/\"&R1804,読み替え表_クールビズ!$P$38:$P$59,0),1,0)),0))","v":""},"","",{"$f":"IF(OR(AK1804=1,AL1804=1),1,0)","v":0},{"$f":"IF(OR($AG1804=0,SUM(AI1804:AJ1804)=2),1,0)","v":0},"*"]
[null,null,1795,null,null,null,null,null,null,null,null,null,null,null,null,null,null,null,null,null,null,null,null,null,null,null,null,null,null,null,null,null,"","",{"$f":"IF($N1805=\"\",\"\",IFERROR(IF(N1805=6,1,IF(MATCH(N1805&\"/\"&R1805,読み替え表_クールビズ!$P$38:$P$59,0),1,0)),0))","v":""},{"$f":"IF($P1805=\"\",\"\",IFERROR(IF(P1805=6,1,IF(MATCH(P1805&\"/\"&R1805,読み替え表_クールビズ!$P$38:$P$59,0),1,0)),0))","v":""},"","",0,0,"*"]
[null,null,1796,null,null,null,null,null,null,null,null,null,null,null,null,null,null,null,null,null,null,null,null,null,null,null,null,null,null,null,null,null,"","",{"$f":"IF($N1806=\"\",\"\",IFERROR(IF(N1806=6,1,IF(MATCH(N1806&\"/\"&R1806,読み替え表_クールビズ!$P$38:$P$59,0),1,0)),0))","v":""},{"$f":"IF($P1806=\"\",\"\",IFERROR(IF(P1806=6,1,IF(MATCH(P1806&\"/\"&R1806,読み替え表_クールビズ!$P$38:$P$59,0),1,0)),0))","v":""},"","",0,0,"*"]
[null,null,1797,null,null,null,null,null,null,null,null,null,null,null,null,null,null,null,null,null,null,null,null,null,null,null,null,null,null,null,null,null,"","",{"$f":"IF($N1807=\"\",\"\",IFERROR(IF(N1807=6,1,IF(MATCH(N1807&\"/\"&R1807,読み替え表_クールビズ!$P$38:$P$59,0),1,0)),0))","v":""},{"$f":"IF($P1807=\"\",\"\",IFERROR(IF(P1807=6,1,IF(MATCH(P1807&\"/\"&R1807,読み替え表_クールビズ!$P$38:$P$59,0),1,0)),0))","v":""},"","",0,0,"*"]
[null,null,1798,null,null,null,null,null,null,null,null,null,null,null,null,null,null,null,null,null,null,null,null,null,null,null,null,null,null,null,null,null,"","",{"$f":"IF($N1808=\"\",\"\",IFERROR(IF(N1808=6,1,IF(MATCH(N1808&\"/\"&R1808,読み替え表_クールビズ!$P$38:$P$59,0),1,0)),0))","v":""},{"$f":"IF($P1808=\"\",\"\",IFERROR(IF(P1808=6,1,IF(MATCH(P1808&\"/\"&R1808,読み替え表_クールビズ!$P$38:$P$59,0),1,0)),0))","v":""},"","",0,0,"*"]
[null,null,1799,null,null,null,null,null,null,null,null,null,null,null,null,null,null,null,null,null,null,null,null,null,null,null,null,null,null,null,null,null,"","",{"$f":"IF($N1809=\"\",\"\",IFERROR(IF(N1809=6,1,IF(MATCH(N1809&\"/\"&R1809,読み替え表_クールビズ!$P$38:$P$59,0),1,0)),0))","v":""},{"$f":"IF($P1809=\"\",\"\",IFERROR(IF(P1809=6,1,IF(MATCH(P1809&\"/\"&R1809,読み替え表_クールビズ!$P$38:$P$59,0),1,0)),0))","v":""},"","",0,0,"*"]
[null,null,1800,null,null,null,null,null,null,null,null,null,null,null,null,null,null,null,null,null,null,null,null,null,null,null,null,null,null,null,null,null,"","",{"$f":"IF($N1810=\"\",\"\",IFERROR(IF(N1810=6,1,IF(MATCH(N1810&\"/\"&R1810,読み替え表_クールビズ!$P$38:$P$59,0),1,0)),0))","v":""},{"$f":"IF($P1810=\"\",\"\",IFERROR(IF(P1810=6,1,IF(MATCH(P1810&\"/\"&R1810,読み替え表_クールビズ!$P$38:$P$59,0),1,0)),0))","v":""},"","",0,0,"*"]
[null,null,1801,null,null,null,null,null,null,null,null,null,null,null,null,null,null,null,null,null,null,null,null,null,null,null,null,null,null,null,null,null,"","",{"$f":"IF($N1811=\"\",\"\",IFERROR(IF(N1811=6,1,IF(MATCH(N1811&\"/\"&R1811,読み替え表_クールビズ!$P$38:$P$59,0),1,0)),0))","v":""},{"$f":"IF($P1811=\"\",\"\",IFERROR(IF(P1811=6,1,IF(MATCH(P1811&\"/\"&R1811,読み替え表_クールビズ!$P$38:$P$59,0),1,0)),0))","v":""},"","",0,0,"*"]
[null,null,1802,null,null,null,null,null,null,null,null,null,null,null,null,null,null,null,null,null,null,null,null,null,null,null,null,null,null,null,null,null,"","",{"$f":"IF($N1812=\"\",\"\",IFERROR(IF(N1812=6,1,IF(MATCH(N1812&\"/\"&R1812,読み替え表_クールビズ!$P$38:$P$59,0),1,0)),0))","v":""},{"$f":"IF($P1812=\"\",\"\",IFERROR(IF(P1812=6,1,IF(MATCH(P1812&\"/\"&R1812,読み替え表_クールビズ!$P$38:$P$59,0),1,0)),0))","v":""},"","",0,0,"*"]
[null,null,1803,null,null,null,null,null,null,null,null,null,null,null,null,null,null,null,null,null,null,null,null,null,null,null,null,null,null,null,null,null,"","",{"$f":"IF($N1813=\"\",\"\",IFERROR(IF(N1813=6,1,IF(MATCH(N1813&\"/\"&R1813,読み替え表_クールビズ!$P$38:$P$59,0),1,0)),0))","v":""},{"$f":"IF($P1813=\"\",\"\",IFERROR(IF(P1813=6,1,IF(MATCH(P1813&\"/\"&R1813,読み替え表_クールビズ!$P$38:$P$59,0),1,0)),0))","v":""},"","",0,0,"*"]
[null,null,1804,null,null,null,null,null,null,null,null,null,null,null,null,null,null,null,null,null,null,null,null,null,null,null,null,null,null,null,null,null,"","",{"$f":"IF($N1814=\"\",\"\",IFERROR(IF(N1814=6,1,IF(MATCH(N1814&\"/\"&R1814,読み替え表_クールビズ!$P$38:$P$59,0),1,0)),0))","v":""},{"$f":"IF($P1814=\"\",\"\",IFERROR(IF(P1814=6,1,IF(MATCH(P1814&\"/\"&R1814,読み替え表_クールビズ!$P$38:$P$59,0),1,0)),0))","v":""},"","",0,0,"*"]
[null,null,1805,null,null,null,null,null,null,null,null,null,null,null,null,null,null,null,null,null,null,null,null,null,null,null,null,null,null,null,null,null,"","",{"$f":"IF($N1815=\"\",\"\",IFERROR(IF(N1815=6,1,IF(MATCH(N1815&\"/\"&R1815,読み替え表_クールビズ!$P$38:$P$59,0),1,0)),0))","v":""},{"$f":"IF($P1815=\"\",\"\",IFERROR(IF(P1815=6,1,IF(MATCH(P1815&\"/\"&R1815,読み替え表_クールビズ!$P$38:$P$59,0),1,0)),0))","v":""},"","",0,0,"*"]
[null,null,1806,null,null,null,null,null,null,null,null,null,null,null,null,null,null,null,null,null,null,null,null,null,null,null,null,null,null,null,null,null,"","",{"$f":"IF($N1816=\"\",\"\",IFERROR(IF(N1816=6,1,IF(MATCH(N1816&\"/\"&R1816,読み替え表_クールビズ!$P$38:$P$59,0),1,0)),0))","v":""},{"$f":"IF($P1816=\"\",\"\",IFERROR(IF(P1816=6,1,IF(MATCH(P1816&\"/\"&R1816,読み替え表_クールビズ!$P$38:$P$59,0),1,0)),0))","v":""},"","",0,0,"*"]
[null,null,1807,null,null,null,null,null,null,null,null,null,null,null,null,null,null,null,null,null,null,null,null,null,null,null,null,null,null,null,null,null,"","",{"$f":"IF($N1817=\"\",\"\",IFERROR(IF(N1817=6,1,IF(MATCH(N1817&\"/\"&R1817,読み替え表_クールビズ!$P$38:$P$59,0),1,0)),0))","v":""},{"$f":"IF($P1817=\"\",\"\",IFERROR(IF(P1817=6,1,IF(MATCH(P1817&\"/\"&R1817,読み替え表_クールビズ!$P$38:$P$59,0),1,0)),0))","v":""},"","",0,0,"*"]
[null,null,1808,null,null,null,null,null,null,null,null,null,null,null,null,null,null,null,null,null,null,null,null,null,null,null,null,null,null,null,null,null,"","",{"$f":"IF($N1818=\"\",\"\",IFERROR(IF(N1818=6,1,IF(MATCH(N1818&\"/\"&R1818,読み替え表_クールビズ!$P$38:$P$59,0),1,0)),0))","v":""},{"$f":"IF($P1818=\"\",\"\",IFERROR(IF(P1818=6,1,IF(MATCH(P1818&\"/\"&R1818,読み替え表_クールビズ!$P$38:$P$59,0),1,0)),0))","v":""},"","",0,0,"*"]
[null,null,1809,null,null,null,null,null,null,null,null,null,null,null,null,null,null,null,null,null,null,null,null,null,null,null,null,null,null,null,null,null,"","",{"$f":"IF($N1819=\"\",\"\",IFERROR(IF(N1819=6,1,IF(MATCH(N1819&\"/\"&R1819,読み替え表_クールビズ!$P$38:$P$59,0),1,0)),0))","v":""},{"$f":"IF($P1819=\"\",\"\",IFERROR(IF(P1819=6,1,IF(MATCH(P1819&\"/\"&R1819,読み替え表_クールビズ!$P$38:$P$59,0),1,0)),0))","v":""},"","",0,0,"*"]
[null,null,1810,null,null,null,null,null,null,null,null,null,null,null,null,null,null,null,null,null,null,null,null,null,null,null,null,null,null,null,null,null,"","",{"$f":"IF($N1820=\"\",\"\",IFERROR(IF(N1820=6,1,IF(MATCH(N1820&\"/\"&R1820,読み替え表_クールビズ!$P$38:$P$59,0),1,0)),0))","v":""},{"$f":"IF($P1820=\"\",\"\",IFERROR(IF(P1820=6,1,IF(MATCH(P1820&\"/\"&R1820,読み替え表_クールビズ!$P$38:$P$59,0),1,0)),0))","v":""},"","",0,0,"*"]
[null,null,1811,null,null,null,null,null,null,null,null,null,null,null,null,null,null,null,null,null,null,null,null,null,null,null,null,null,null,null,null,null,"","",{"$f":"IF($N1821=\"\",\"\",IFERROR(IF(N1821=6,1,IF(MATCH(N1821&\"/\"&R1821,読み替え表_クールビズ!$P$38:$P$59,0),1,0)),0))","v":""},{"$f":"IF($P1821=\"\",\"\",IFERROR(IF(P1821=6,1,IF(MATCH(P1821&\"/\"&R1821,読み替え表_クールビズ!$P$38:$P$59,0),1,0)),0))","v":""},"","",0,0,"*"]
[null,null,1812,null,null,null,null,null,null,null,null,null,null,null,null,null,null,null,null,null,null,null,null,null,null,null,null,null,null,null,null,null,"","",{"$f":"IF($N1822=\"\",\"\",IFERROR(IF(N1822=6,1,IF(MATCH(N1822&\"/\"&R1822,読み替え表_クールビズ!$P$38:$P$59,0),1,0)),0))","v":""},{"$f":"IF($P1822=\"\",\"\",IFERROR(IF(P1822=6,1,IF(MATCH(P1822&\"/\"&R1822,読み替え表_クールビズ!$P$38:$P$59,0),1,0)),0))","v":""},"","",0,0,"*"]
[null,null,1813,null,null,null,null,null,null,null,null,null,null,null,null,null,null,null,null,null,null,null,null,null,null,null,null,null,null,null,null,null,"","",{"$f":"IF($N1823=\"\",\"\",IFERROR(IF(N1823=6,1,IF(MATCH(N1823&\"/\"&R1823,読み替え表_クールビズ!$P$38:$P$59,0),1,0)),0))","v":""},{"$f":"IF($P1823=\"\",\"\",IFERROR(IF(P1823=6,1,IF(MATCH(P1823&\"/\"&R1823,読み替え表_クールビズ!$P$38:$P$59,0),1,0)),0))","v":""},"","",0,0,"*"]
[null,null,1814,null,null,null,null,null,null,null,null,null,null,null,null,null,null,null,null,null,null,null,null,null,null,null,null,null,null,null,null,null,"","",{"$f":"IF($N1824=\"\",\"\",IFERROR(IF(N1824=6,1,IF(MATCH(N1824&\"/\"&R1824,読み替え表_クールビズ!$P$38:$P$59,0),1,0)),0))","v":""},{"$f":"IF($P1824=\"\",\"\",IFERROR(IF(P1824=6,1,IF(MATCH(P1824&\"/\"&R1824,読み替え表_クールビズ!$P$38:$P$59,0),1,0)),0))","v":""},"","",0,0,"*"]
[null,null,1815,null,null,null,null,null,null,null,null,null,null,null,null,null,null,null,null,null,null,null,null,null,null,null,null,null,null,null,null,null,"","",{"$f":"IF($N1825=\"\",\"\",IFERROR(IF(N1825=6,1,IF(MATCH(N1825&\"/\"&R1825,読み替え表_クールビズ!$P$38:$P$59,0),1,0)),0))","v":""},{"$f":"IF($P1825=\"\",\"\",IFERROR(IF(P1825=6,1,IF(MATCH(P1825&\"/\"&R1825,読み替え表_クールビズ!$P$38:$P$59,0),1,0)),0))","v":""},"","",0,0,"*"]
[null,null,1816,null,null,null,null,null,null,null,null,null,null,null,null,null,null,null,null,null,null,null,null,null,null,null,null,null,null,null,null,null,"","",{"$f":"IF($N1826=\"\",\"\",IFERROR(IF(N1826=6,1,IF(MATCH(N1826&\"/\"&R1826,読み替え表_クールビズ!$P$38:$P$59,0),1,0)),0))","v":""},{"$f":"IF($P1826=\"\",\"\",IFERROR(IF(P1826=6,1,IF(MATCH(P1826&\"/\"&R1826,読み替え表_クールビズ!$P$38:$P$59,0),1,0)),0))","v":""},"","",0,0,"*"]
[null,null,1817,null,null,null,null,null,null,null,null,null,null,null,null,null,null,null,null,null,null,null,null,null,null,null,null,null,null,null,null,null,"","",{"$f":"IF($N1827=\"\",\"\",IFERROR(IF(N1827=6,1,IF(MATCH(N1827&\"/\"&R1827,読み替え表_クールビズ!$P$38:$P$59,0),1,0)),0))","v":""},{"$f":"IF($P1827=\"\",\"\",IFERROR(IF(P1827=6,1,IF(MATCH(P1827&\"/\"&R1827,読み替え表_クールビズ!$P$38:$P$59,0),1,0)),0))","v":""},"","",0,0,"*"]
[null,null,1818,null,null,null,null,null,null,null,null,null,null,null,null,null,null,null,null,null,null,null,null,null,null,null,null,null,null,null,null,null,"","",{"$f":"IF($N1828=\"\",\"\",IFERROR(IF(N1828=6,1,IF(MATCH(N1828&\"/\"&R1828,読み替え表_クールビズ!$P$38:$P$59,0),1,0)),0))","v":""},{"$f":"IF($P1828=\"\",\"\",IFERROR(IF(P1828=6,1,IF(MATCH(P1828&\"/\"&R1828,読み替え表_クールビズ!$P$38:$P$59,0),1,0)),0))","v":""},"","",0,0,"*"]
[null,null,1819,null,null,null,null,null,null,null,null,null,null,null,null,null,null,null,null,null,null,null,null,null,null,null,null,null,null,null,null,null,"","",{"$f":"IF($N1829=\"\",\"\",IFERROR(IF(N1829=6,1,IF(MATCH(N1829&\"/\"&R1829,読み替え表_クールビズ!$P$38:$P$59,0),1,0)),0))","v":""},{"$f":"IF($P1829=\"\",\"\",IFERROR(IF(P1829=6,1,IF(MATCH(P1829&\"/\"&R1829,読み替え表_クールビズ!$P$38:$P$59,0),1,0)),0))","v":""},"","",0,0,"*"]
[null,null,1820,null,null,null,null,null,null,null,null,null,null,null,null,null,null,null,null,null,null,null,null,null,null,null,null,null,null,null,null,null,"","",{"$f":"IF($N1830=\"\",\"\",IFERROR(IF(N1830=6,1,IF(MATCH(N1830&\"/\"&R1830,読み替え表_クールビズ!$P$38:$P$59,0),1,0)),0))","v":""},{"$f":"IF($P1830=\"\",\"\",IFERROR(IF(P1830=6,1,IF(MATCH(P1830&\"/\"&R1830,読み替え表_クールビズ!$P$38:$P$59,0),1,0)),0))","v":""},"","",0,0,"*"]
[null,null,1821,null,null,null,null,null,null,null,null,null,null,null,null,null,null,null,null,null,null,null,null,null,null,null,null,null,null,null,null,null,"","",{"$f":"IF($N1831=\"\",\"\",IFERROR(IF(N1831=6,1,IF(MATCH(N1831&\"/\"&R1831,読み替え表_クールビズ!$P$38:$P$59,0),1,0)),0))","v":""},{"$f":"IF($P1831=\"\",\"\",IFERROR(IF(P1831=6,1,IF(MATCH(P1831&\"/\"&R1831,読み替え表_クールビズ!$P$38:$P$59,0),1,0)),0))","v":""},"","",0,0,"*"]
[null,null,1822,null,null,null,null,null,null,null,null,null,null,null,null,null,null,null,null,null,null,null,null,null,null,null,null,null,null,null,null,null,"","",{"$f":"IF($N1832=\"\",\"\",IFERROR(IF(N1832=6,1,IF(MATCH(N1832&\"/\"&R1832,読み替え表_クールビズ!$P$38:$P$59,0),1,0)),0))","v":""},{"$f":"IF($P1832=\"\",\"\",IFERROR(IF(P1832=6,1,IF(MATCH(P1832&\"/\"&R1832,読み替え表_クールビズ!$P$38:$P$59,0),1,0)),0))","v":""},"","",0,0,"*"]
[null,null,1823,null,null,null,null,null,null,null,null,null,null,null,null,null,null,null,null,null,null,null,null,null,null,null,null,null,null,null,null,null,"","",{"$f":"IF($N1833=\"\",\"\",IFERROR(IF(N1833=6,1,IF(MATCH(N1833&\"/\"&R1833,読み替え表_クールビズ!$P$38:$P$59,0),1,0)),0))","v":""},{"$f":"IF($P1833=\"\",\"\",IFERROR(IF(P1833=6,1,IF(MATCH(P1833&\"/\"&R1833,読み替え表_クールビズ!$P$38:$P$59,0),1,0)),0))","v":""},"","",0,0,"*"]
[null,null,1824,null,null,null,null,null,null,null,null,null,null,null,null,null,null,null,null,null,null,null,null,null,null,null,null,null,null,null,null,null,"","",{"$f":"IF($N1834=\"\",\"\",IFERROR(IF(N1834=6,1,IF(MATCH(N1834&\"/\"&R1834,読み替え表_クールビズ!$P$38:$P$59,0),1,0)),0))","v":""},{"$f":"IF($P1834=\"\",\"\",IFERROR(IF(P1834=6,1,IF(MATCH(P1834&\"/\"&R1834,読み替え表_クールビズ!$P$38:$P$59,0),1,0)),0))","v":""},"","",0,0,"*"]
[null,null,1825,null,null,null,null,null,null,null,null,null,null,null,null,null,null,null,null,null,null,null,null,null,null,null,null,null,null,null,null,null,"","",{"$f":"IF($N1835=\"\",\"\",IFERROR(IF(N1835=6,1,IF(MATCH(N1835&\"/\"&R1835,読み替え表_クールビズ!$P$38:$P$59,0),1,0)),0))","v":""},{"$f":"IF($P1835=\"\",\"\",IFERROR(IF(P1835=6,1,IF(MATCH(P1835&\"/\"&R1835,読み替え表_クールビズ!$P$38:$P$59,0),1,0)),0))","v":""},"","",0,0,"*"]
[null,null,1826,null,null,null,null,null,null,null,null,null,null,null,null,null,null,null,null,null,null,null,null,null,null,null,null,null,null,null,null,null,"","",{"$f":"IF($N1836=\"\",\"\",IFERROR(IF(N1836=6,1,IF(MATCH(N1836&\"/\"&R1836,読み替え表_クールビズ!$P$38:$P$59,0),1,0)),0))","v":""},{"$f":"IF($P1836=\"\",\"\",IFERROR(IF(P1836=6,1,IF(MATCH(P1836&\"/\"&R1836,読み替え表_クールビズ!$P$38:$P$59,0),1,0)),0))","v":""},"","",0,0,"*"]
[null,null,1827,null,null,null,null,null,null,null,null,null,null,null,null,null,null,null,null,null,null,null,null,null,null,null,null,null,null,null,null,null,"","",{"$f":"IF($N1837=\"\",\"\",IFERROR(IF(N1837=6,1,IF(MATCH(N1837&\"/\"&R1837,読み替え表_クールビズ!$P$38:$P$59,0),1,0)),0))","v":""},{"$f":"IF($P1837=\"\",\"\",IFERROR(IF(P1837=6,1,IF(MATCH(P1837&\"/\"&R1837,読み替え表_クールビズ!$P$38:$P$59,0),1,0)),0))","v":""},"","",0,0,"*"]
[null,null,1828,null,null,null,null,null,null,null,null,null,null,null,null,null,null,null,null,null,null,null,null,null,null,null,null,null,null,null,null,null,"","",{"$f":"IF($N1838=\"\",\"\",IFERROR(IF(N1838=6,1,IF(MATCH(N1838&\"/\"&R1838,読み替え表_クールビズ!$P$38:$P$59,0),1,0)),0))","v":""},{"$f":"IF($P1838=\"\",\"\",IFERROR(IF(P1838=6,1,IF(MATCH(P1838&\"/\"&R1838,読み替え表_クールビズ!$P$38:$P$59,0),1,0)),0))","v":""},"","",0,0,"*"]
[null,null,1829,null,null,null,null,null,null,null,null,null,null,null,null,null,null,null,null,null,null,null,null,null,null,null,null,null,null,null,null,null,"","",{"$f":"IF($N1839=\"\",\"\",IFERROR(IF(N1839=6,1,IF(MATCH(N1839&\"/\"&R1839,読み替え表_クールビズ!$P$38:$P$59,0),1,0)),0))","v":""},{"$f":"IF($P1839=\"\",\"\",IFERROR(IF(P1839=6,1,IF(MATCH(P1839&\"/\"&R1839,読み替え表_クールビズ!$P$38:$P$59,0),1,0)),0))","v":""},"","",0,0,"*"]
[null,null,1830,null,null,null,null,null,null,null,null,null,null,null,null,null,null,null,null,null,null,null,null,null,null,null,null,null,null,null,null,null,"","",{"$f":"IF($N1840=\"\",\"\",IFERROR(IF(N1840=6,1,IF(MATCH(N1840&\"/\"&R1840,読み替え表_クールビズ!$P$38:$P$59,0),1,0)),0))","v":""},{"$f":"IF($P1840=\"\",\"\",IFERROR(IF(P1840=6,1,IF(MATCH(P1840&\"/\"&R1840,読み替え表_クールビズ!$P$38:$P$59,0),1,0)),0))","v":""},"","",0,0,"*"]
[null,null,1831,null,null,null,null,null,null,null,null,null,null,null,null,null,null,null,null,null,null,null,null,null,null,null,null,null,null,null,null,null,"","",{"$f":"IF($N1841=\"\",\"\",IFERROR(IF(N1841=6,1,IF(MATCH(N1841&\"/\"&R1841,読み替え表_クールビズ!$P$38:$P$59,0),1,0)),0))","v":""},{"$f":"IF($P1841=\"\",\"\",IFERROR(IF(P1841=6,1,IF(MATCH(P1841&\"/\"&R1841,読み替え表_クールビズ!$P$38:$P$59,0),1,0)),0))","v":""},"","",0,0,"*"]
[null,null,1832,null,null,null,null,null,null,null,null,null,null,null,null,null,null,null,null,null,null,null,null,null,null,null,null,null,null,null,null,null,"","",{"$f":"IF($N1842=\"\",\"\",IFERROR(IF(N1842=6,1,IF(MATCH(N1842&\"/\"&R1842,読み替え表_クールビズ!$P$38:$P$59,0),1,0)),0))","v":""},{"$f":"IF($P1842=\"\",\"\",IFERROR(IF(P1842=6,1,IF(MATCH(P1842&\"/\"&R1842,読み替え表_クールビズ!$P$38:$P$59,0),1,0)),0))","v":""},"","",0,0,"*"]
[null,null,1833,null,null,null,null,null,null,null,null,null,null,null,null,null,null,null,null,null,null,null,null,null,null,null,null,null,null,null,null,null,"","",{"$f":"IF($N1843=\"\",\"\",IFERROR(IF(N1843=6,1,IF(MATCH(N1843&\"/\"&R1843,読み替え表_クールビズ!$P$38:$P$59,0),1,0)),0))","v":""},{"$f":"IF($P1843=\"\",\"\",IFERROR(IF(P1843=6,1,IF(MATCH(P1843&\"/\"&R1843,読み替え表_クールビズ!$P$38:$P$59,0),1,0)),0))","v":""},"","",0,0,"*"]
[null,null,1834,null,null,null,null,null,null,null,null,null,null,null,null,null,null,null,null,null,null,null,null,null,null,null,null,null,null,null,null,null,"","",{"$f":"IF($N1844=\"\",\"\",IFERROR(IF(N1844=6,1,IF(MATCH(N1844&\"/\"&R1844,読み替え表_クールビズ!$P$38:$P$59,0),1,0)),0))","v":""},{"$f":"IF($P1844=\"\",\"\",IFERROR(IF(P1844=6,1,IF(MATCH(P1844&\"/\"&R1844,読み替え表_クールビズ!$P$38:$P$59,0),1,0)),0))","v":""},"","",0,0,"*"]
[null,null,1835,null,null,null,null,null,null,null,null,null,null,null,null,null,null,null,null,null,null,null,null,null,null,null,null,null,null,null,null,null,"","",{"$f":"IF($N1845=\"\",\"\",IFERROR(IF(N1845=6,1,IF(MATCH(N1845&\"/\"&R1845,読み替え表_クールビズ!$P$38:$P$59,0),1,0)),0))","v":""},{"$f":"IF($P1845=\"\",\"\",IFERROR(IF(P1845=6,1,IF(MATCH(P1845&\"/\"&R1845,読み替え表_クールビズ!$P$38:$P$59,0),1,0)),0))","v":""},"","",0,0,"*"]
[null,null,1836,null,null,null,null,null,null,null,null,null,null,null,null,null,null,null,null,null,null,null,null,null,null,null,null,null,null,null,null,null,"","",{"$f":"IF($N1846=\"\",\"\",IFERROR(IF(N1846=6,1,IF(MATCH(N1846&\"/\"&R1846,読み替え表_クールビズ!$P$38:$P$59,0),1,0)),0))","v":""},{"$f":"IF($P1846=\"\",\"\",IFERROR(IF(P1846=6,1,IF(MATCH(P1846&\"/\"&R1846,読み替え表_クールビズ!$P$38:$P$59,0),1,0)),0))","v":""},"","",0,0,"*"]
[null,null,1837,null,null,null,null,null,null,null,null,null,null,null,null,null,null,null,null,null,null,null,null,null,null,null,null,null,null,null,null,null,"","",{"$f":"IF($N1847=\"\",\"\",IFERROR(IF(N1847=6,1,IF(MATCH(N1847&\"/\"&R1847,読み替え表_クールビズ!$P$38:$P$59,0),1,0)),0))","v":""},{"$f":"IF($P1847=\"\",\"\",IFERROR(IF(P1847=6,1,IF(MATCH(P1847&\"/\"&R1847,読み替え表_クールビズ!$P$38:$P$59,0),1,0)),0))","v":""},"","",0,0,"*"]
[null,null,1838,null,null,null,null,null,null,null,null,null,null,null,null,null,null,null,null,null,null,null,null,null,null,null,null,null,null,null,null,null,"","",{"$f":"IF($N1848=\"\",\"\",IFERROR(IF(N1848=6,1,IF(MATCH(N1848&\"/\"&R1848,読み替え表_クールビズ!$P$38:$P$59,0),1,0)),0))","v":""},{"$f":"IF($P1848=\"\",\"\",IFERROR(IF(P1848=6,1,IF(MATCH(P1848&\"/\"&R1848,読み替え表_クールビズ!$P$38:$P$59,0),1,0)),0))","v":""},"","",0,0,"*"]
[null,null,1839,null,null,null,null,null,null,null,null,null,null,null,null,null,null,null,null,null,null,null,null,null,null,null,null,null,null,null,null,null,"","",{"$f":"IF($N1849=\"\",\"\",IFERROR(IF(N1849=6,1,IF(MATCH(N1849&\"/\"&R1849,読み替え表_クールビズ!$P$38:$P$59,0),1,0)),0))","v":""},{"$f":"IF($P1849=\"\",\"\",IFERROR(IF(P1849=6,1,IF(MATCH(P1849&\"/\"&R1849,読み替え表_クールビズ!$P$38:$P$59,0),1,0)),0))","v":""},"","",0,0,"*"]
[null,null,1840,null,null,null,null,null,null,null,null,null,null,null,null,null,null,null,null,null,null,null,null,null,null,null,null,null,null,null,null,null,"","",{"$f":"IF($N1850=\"\",\"\",IFERROR(IF(N1850=6,1,IF(MATCH(N1850&\"/\"&R1850,読み替え表_クールビズ!$P$38:$P$59,0),1,0)),0))","v":""},{"$f":"IF($P1850=\"\",\"\",IFERROR(IF(P1850=6,1,IF(MATCH(P1850&\"/\"&R1850,読み替え表_クールビズ!$P$38:$P$59,0),1,0)),0))","v":""},"","",0,0,"*"]
[null,null,1841,null,null,null,null,null,null,null,null,null,null,null,null,null,null,null,null,null,null,null,null,null,null,null,null,null,null,null,null,null,"","",{"$f":"IF($N1851=\"\",\"\",IFERROR(IF(N1851=6,1,IF(MATCH(N1851&\"/\"&R1851,読み替え表_クールビズ!$P$38:$P$59,0),1,0)),0))","v":""},{"$f":"IF($P1851=\"\",\"\",IFERROR(IF(P1851=6,1,IF(MATCH(P1851&\"/\"&R1851,読み替え表_クールビズ!$P$38:$P$59,0),1,0)),0))","v":""},"","",0,0,"*"]
[null,null,1842,null,null,null,null,null,null,null,null,null,null,null,null,null,null,null,null,null,null,null,null,null,null,null,null,null,null,null,null,null,"","",{"$f":"IF($N1852=\"\",\"\",IFERROR(IF(N1852=6,1,IF(MATCH(N1852&\"/\"&R1852,読み替え表_クールビズ!$P$38:$P$59,0),1,0)),0))","v":""},{"$f":"IF($P1852=\"\",\"\",IFERROR(IF(P1852=6,1,IF(MATCH(P1852&\"/\"&R1852,読み替え表_クールビズ!$P$38:$P$59,0),1,0)),0))","v":""},"","",0,0,"*"]
[null,null,1843,null,null,null,null,null,null,null,null,null,null,null,null,null,null,null,null,null,null,null,null,null,null,null,null,null,null,null,null,null,"","",{"$f":"IF($N1853=\"\",\"\",IFERROR(IF(N1853=6,1,IF(MATCH(N1853&\"/\"&R1853,読み替え表_クールビズ!$P$38:$P$59,0),1,0)),0))","v":""},{"$f":"IF($P1853=\"\",\"\",IFERROR(IF(P1853=6,1,IF(MATCH(P1853&\"/\"&R1853,読み替え表_クールビズ!$P$38:$P$59,0),1,0)),0))","v":""},"","",0,0,"*"]
[null,null,1844,null,null,null,null,null,null,null,null,null,null,null,null,null,null,null,null,null,null,null,null,null,null,null,null,null,null,null,null,null,"","",{"$f":"IF($N1854=\"\",\"\",IFERROR(IF(N1854=6,1,IF(MATCH(N1854&\"/\"&R1854,読み替え表_クールビズ!$P$38:$P$59,0),1,0)),0))","v":""},{"$f":"IF($P1854=\"\",\"\",IFERROR(IF(P1854=6,1,IF(MATCH(P1854&\"/\"&R1854,読み替え表_クールビズ!$P$38:$P$59,0),1,0)),0))","v":""},"","",0,0,"*"]
[null,null,1845,null,null,null,null,null,null,null,null,null,null,null,null,null,null,null,null,null,null,null,null,null,null,null,null,null,null,null,null,null,"","",{"$f":"IF($N1855=\"\",\"\",IFERROR(IF(N1855=6,1,IF(MATCH(N1855&\"/\"&R1855,読み替え表_クールビズ!$P$38:$P$59,0),1,0)),0))","v":""},{"$f":"IF($P1855=\"\",\"\",IFERROR(IF(P1855=6,1,IF(MATCH(P1855&\"/\"&R1855,読み替え表_クールビズ!$P$38:$P$59,0),1,0)),0))","v":""},"","",0,0,"*"]
[null,null,1846,null,null,null,null,null,null,null,null,null,null,null,null,null,null,null,null,null,null,null,null,null,null,null,null,null,null,null,null,null,"","",{"$f":"IF($N1856=\"\",\"\",IFERROR(IF(N1856=6,1,IF(MATCH(N1856&\"/\"&R1856,読み替え表_クールビズ!$P$38:$P$59,0),1,0)),0))","v":""},{"$f":"IF($P1856=\"\",\"\",IFERROR(IF(P1856=6,1,IF(MATCH(P1856&\"/\"&R1856,読み替え表_クールビズ!$P$38:$P$59,0),1,0)),0))","v":""},"","",0,0,"*"]
[null,null,1847,null,null,null,null,null,null,null,null,null,null,null,null,null,null,null,null,null,null,null,null,null,null,null,null,null,null,null,null,null,"","",{"$f":"IF($N1857=\"\",\"\",IFERROR(IF(N1857=6,1,IF(MATCH(N1857&\"/\"&R1857,読み替え表_クールビズ!$P$38:$P$59,0),1,0)),0))","v":""},{"$f":"IF($P1857=\"\",\"\",IFERROR(IF(P1857=6,1,IF(MATCH(P1857&\"/\"&R1857,読み替え表_クールビズ!$P$38:$P$59,0),1,0)),0))","v":""},"","",0,0,"*"]
[null,null,1848,null,null,null,null,null,null,null,null,null,null,null,null,null,null,null,null,null,null,null,null,null,null,null,null,null,null,null,null,null,"","",{"$f":"IF($N1858=\"\",\"\",IFERROR(IF(N1858=6,1,IF(MATCH(N1858&\"/\"&R1858,読み替え表_クールビズ!$P$38:$P$59,0),1,0)),0))","v":""},{"$f":"IF($P1858=\"\",\"\",IFERROR(IF(P1858=6,1,IF(MATCH(P1858&\"/\"&R1858,読み替え表_クールビズ!$P$38:$P$59,0),1,0)),0))","v":""},"","",0,0,"*"]
[null,null,1849,null,null,null,null,null,null,null,null,null,null,null,null,null,null,null,null,null,null,null,null,null,null,null,null,null,null,null,null,null,"","",{"$f":"IF($N1859=\"\",\"\",IFERROR(IF(N1859=6,1,IF(MATCH(N1859&\"/\"&R1859,読み替え表_クールビズ!$P$38:$P$59,0),1,0)),0))","v":""},{"$f":"IF($P1859=\"\",\"\",IFERROR(IF(P1859=6,1,IF(MATCH(P1859&\"/\"&R1859,読み替え表_クールビズ!$P$38:$P$59,0),1,0)),0))","v":""},"","",0,0,"*"]
[null,null,1850,null,null,null,null,null,null,null,null,null,null,null,null,null,null,null,null,null,null,null,null,null,null,null,null,null,null,null,null,null,"","",{"$f":"IF($N1860=\"\",\"\",IFERROR(IF(N1860=6,1,IF(MATCH(N1860&\"/\"&R1860,読み替え表_クールビズ!$P$38:$P$59,0),1,0)),0))","v":""},{"$f":"IF($P1860=\"\",\"\",IFERROR(IF(P1860=6,1,IF(MATCH(P1860&\"/\"&R1860,読み替え表_クールビズ!$P$38:$P$59,0),1,0)),0))","v":""},"","",0,0,"*"]
[null,null,1851,null,null,null,null,null,null,null,null,null,null,null,null,null,null,null,null,null,null,null,null,null,null,null,null,null,null,null,null,null,"","",{"$f":"IF($N1861=\"\",\"\",IFERROR(IF(N1861=6,1,IF(MATCH(N1861&\"/\"&R1861,読み替え表_クールビズ!$P$38:$P$59,0),1,0)),0))","v":""},{"$f":"IF($P1861=\"\",\"\",IFERROR(IF(P1861=6,1,IF(MATCH(P1861&\"/\"&R1861,読み替え表_クールビズ!$P$38:$P$59,0),1,0)),0))","v":""},"","",0,0,"*"]
[null,null,1852,null,null,null,null,null,null,null,null,null,null,null,null,null,null,null,null,null,null,null,null,null,null,null,null,null,null,null,null,null,"","",{"$f":"IF($N1862=\"\",\"\",IFERROR(IF(N1862=6,1,IF(MATCH(N1862&\"/\"&R1862,読み替え表_クールビズ!$P$38:$P$59,0),1,0)),0))","v":""},{"$f":"IF($P1862=\"\",\"\",IFERROR(IF(P1862=6,1,IF(MATCH(P1862&\"/\"&R1862,読み替え表_クールビズ!$P$38:$P$59,0),1,0)),0))","v":""},"","",0,0,"*"]
[null,null,1853,null,null,null,null,null,null,null,null,null,null,null,null,null,null,null,null,null,null,null,null,null,null,null,null,null,null,null,null,null,"","",{"$f":"IF($N1863=\"\",\"\",IFERROR(IF(N1863=6,1,IF(MATCH(N1863&\"/\"&R1863,読み替え表_クールビズ!$P$38:$P$59,0),1,0)),0))","v":""},{"$f":"IF($P1863=\"\",\"\",IFERROR(IF(P1863=6,1,IF(MATCH(P1863&\"/\"&R1863,読み替え表_クールビズ!$P$38:$P$59,0),1,0)),0))","v":""},"","",0,0,"*"]
[null,null,1854,null,null,null,null,null,null,null,null,null,null,null,null,null,null,null,null,null,null,null,null,null,null,null,null,null,null,null,null,null,"","",{"$f":"IF($N1864=\"\",\"\",IFERROR(IF(N1864=6,1,IF(MATCH(N1864&\"/\"&R1864,読み替え表_クールビズ!$P$38:$P$59,0),1,0)),0))","v":""},{"$f":"IF($P1864=\"\",\"\",IFERROR(IF(P1864=6,1,IF(MATCH(P1864&\"/\"&R1864,読み替え表_クールビズ!$P$38:$P$59,0),1,0)),0))","v":""},"","",0,0,"*"]
[null,null,1855,null,null,null,null,null,null,null,null,null,null,null,null,null,null,null,null,null,null,null,null,null,null,null,null,null,null,null,null,null,"","",{"$f":"IF($N1865=\"\",\"\",IFERROR(IF(N1865=6,1,IF(MATCH(N1865&\"/\"&R1865,読み替え表_クールビズ!$P$38:$P$59,0),1,0)),0))","v":""},{"$f":"IF($P1865=\"\",\"\",IFERROR(IF(P1865=6,1,IF(MATCH(P1865&\"/\"&R1865,読み替え表_クールビズ!$P$38:$P$59,0),1,0)),0))","v":""},"","",0,0,"*"]
[null,null,1856,null,null,null,null,null,null,null,null,null,null,null,null,null,null,null,null,null,null,null,null,null,null,null,null,null,null,null,null,null,"","",{"$f":"IF($N1866=\"\",\"\",IFERROR(IF(N1866=6,1,IF(MATCH(N1866&\"/\"&R1866,読み替え表_クールビズ!$P$38:$P$59,0),1,0)),0))","v":""},{"$f":"IF($P1866=\"\",\"\",IFERROR(IF(P1866=6,1,IF(MATCH(P1866&\"/\"&R1866,読み替え表_クールビズ!$P$38:$P$59,0),1,0)),0))","v":""},"","",0,0,"*"]
[null,null,1857,null,null,null,null,null,null,null,null,null,null,null,null,null,null,null,null,null,null,null,null,null,null,null,null,null,null,null,null,null,"","",{"$f":"IF($N1867=\"\",\"\",IFERROR(IF(N1867=6,1,IF(MATCH(N1867&\"/\"&R1867,読み替え表_クールビズ!$P$38:$P$59,0),1,0)),0))","v":""},{"$f":"IF($P1867=\"\",\"\",IFERROR(IF(P1867=6,1,IF(MATCH(P1867&\"/\"&R1867,読み替え表_クールビズ!$P$38:$P$59,0),1,0)),0))","v":""},{"$f":"IF($N1867=\"\",\"\",IF(OR(CONCATENATE(N1867,$R1867)=\"22\",CONCATENATE(N1867,$R1867)=\"32\",CONCATENATE(N1867,$R1867)=\"42\",CONCATENATE(N1867,$R1867)=\"43\",CONCATENATE(N1867,$R1867)=\"51\",CONCATENATE(N1867,$R1867)=\"52\",CONCATENATE(N1867,$R1867)=\"53\"),1,0))","v":""},{"$f":"IF($P1867=\"\",\"\",IF(OR(CONCATENATE(P1867,$R1867)=\"22\",CONCATENATE(P1867,$R1867)=\"32\",CONCATENATE(P1867,$R1867)=\"42\",CONCATENATE(P1867,$R1867)=\"43\",CONCATENATE(P1867,$R1867)=\"51\",CONCATENATE(P1867,$R1867)=\"52\",CONCATENATE(P1867,$R1867)=\"53\"),1,0))","v":""},0,0,"*"]
[null,null,{"$f":"ROW()-10","v":1858},null,null,null,null,null,null,null,null,null,null,null,null,null,null,null,null,null,null,null,null,null,null,null,null,null,null,null,null,null,{"$f":"IF($J1868=\"\",\"\",IF(AND($J1868>=1,$J1868<=9),1,0))","v":""},{"$f":"IF($R1868=\"\",\"\",IF(OR($R1868=1,$R1868=2,$R1868=3),1,0))","v":""},{"$f":"IF($N1868=\"\",\"\",IFERROR(IF(N1868=6,1,IF(MATCH(N1868&\"/\"&R1868,読み替え表_クールビズ!$P$38:$P$59,0),1,0)),0))","v":""},{"$f":"IF($P1868=\"\",\"\",IFERROR(IF(P1868=6,1,IF(MATCH(P1868&\"/\"&R1868,読み替え表_クールビズ!$P$38:$P$59,0),1,0)),0))","v":""},"","",{"$f":"IF(OR(AK1868=1,AL1868=1),1,0)","v":0},{"$f":"IF(OR($AG1868=0,SUM(AI1868:AJ1868)=2),1,0)","v":0},"*"]
[null,null,1859,null,null,null,null,null,null,null,null,null,null,null,null,null,null,null,null,null,null,null,null,null,null,null,null,null,null,null,null,null,"","",{"$f":"IF($N1869=\"\",\"\",IFERROR(IF(N1869=6,1,IF(MATCH(N1869&\"/\"&R1869,読み替え表_クールビズ!$P$38:$P$59,0),1,0)),0))","v":""},{"$f":"IF($P1869=\"\",\"\",IFERROR(IF(P1869=6,1,IF(MATCH(P1869&\"/\"&R1869,読み替え表_クールビズ!$P$38:$P$59,0),1,0)),0))","v":""},"","",0,0,"*"]
[null,null,1860,null,null,null,null,null,null,null,null,null,null,null,null,null,null,null,null,null,null,null,null,null,null,null,null,null,null,null,null,null,"","",{"$f":"IF($N1870=\"\",\"\",IFERROR(IF(N1870=6,1,IF(MATCH(N1870&\"/\"&R1870,読み替え表_クールビズ!$P$38:$P$59,0),1,0)),0))","v":""},{"$f":"IF($P1870=\"\",\"\",IFERROR(IF(P1870=6,1,IF(MATCH(P1870&\"/\"&R1870,読み替え表_クールビズ!$P$38:$P$59,0),1,0)),0))","v":""},"","",0,0,"*"]
[null,null,1861,null,null,null,null,null,null,null,null,null,null,null,null,null,null,null,null,null,null,null,null,null,null,null,null,null,null,null,null,null,"","",{"$f":"IF($N1871=\"\",\"\",IFERROR(IF(N1871=6,1,IF(MATCH(N1871&\"/\"&R1871,読み替え表_クールビズ!$P$38:$P$59,0),1,0)),0))","v":""},{"$f":"IF($P1871=\"\",\"\",IFERROR(IF(P1871=6,1,IF(MATCH(P1871&\"/\"&R1871,読み替え表_クールビズ!$P$38:$P$59,0),1,0)),0))","v":""},"","",0,0,"*"]
[null,null,1862,null,null,null,null,null,null,null,null,null,null,null,null,null,null,null,null,null,null,null,null,null,null,null,null,null,null,null,null,null,"","",{"$f":"IF($N1872=\"\",\"\",IFERROR(IF(N1872=6,1,IF(MATCH(N1872&\"/\"&R1872,読み替え表_クールビズ!$P$38:$P$59,0),1,0)),0))","v":""},{"$f":"IF($P1872=\"\",\"\",IFERROR(IF(P1872=6,1,IF(MATCH(P1872&\"/\"&R1872,読み替え表_クールビズ!$P$38:$P$59,0),1,0)),0))","v":""},"","",0,0,"*"]
[null,null,1863,null,null,null,null,null,null,null,null,null,null,null,null,null,null,null,null,null,null,null,null,null,null,null,null,null,null,null,null,null,"","",{"$f":"IF($N1873=\"\",\"\",IFERROR(IF(N1873=6,1,IF(MATCH(N1873&\"/\"&R1873,読み替え表_クールビズ!$P$38:$P$59,0),1,0)),0))","v":""},{"$f":"IF($P1873=\"\",\"\",IFERROR(IF(P1873=6,1,IF(MATCH(P1873&\"/\"&R1873,読み替え表_クールビズ!$P$38:$P$59,0),1,0)),0))","v":""},"","",0,0,"*"]
[null,null,1864,null,null,null,null,null,null,null,null,null,null,null,null,null,null,null,null,null,null,null,null,null,null,null,null,null,null,null,null,null,"","",{"$f":"IF($N1874=\"\",\"\",IFERROR(IF(N1874=6,1,IF(MATCH(N1874&\"/\"&R1874,読み替え表_クールビズ!$P$38:$P$59,0),1,0)),0))","v":""},{"$f":"IF($P1874=\"\",\"\",IFERROR(IF(P1874=6,1,IF(MATCH(P1874&\"/\"&R1874,読み替え表_クールビズ!$P$38:$P$59,0),1,0)),0))","v":""},"","",0,0,"*"]
[null,null,1865,null,null,null,null,null,null,null,null,null,null,null,null,null,null,null,null,null,null,null,null,null,null,null,null,null,null,null,null,null,"","",{"$f":"IF($N1875=\"\",\"\",IFERROR(IF(N1875=6,1,IF(MATCH(N1875&\"/\"&R1875,読み替え表_クールビズ!$P$38:$P$59,0),1,0)),0))","v":""},{"$f":"IF($P1875=\"\",\"\",IFERROR(IF(P1875=6,1,IF(MATCH(P1875&\"/\"&R1875,読み替え表_クールビズ!$P$38:$P$59,0),1,0)),0))","v":""},"","",0,0,"*"]
[null,null,1866,null,null,null,null,null,null,null,null,null,null,null,null,null,null,null,null,null,null,null,null,null,null,null,null,null,null,null,null,null,"","",{"$f":"IF($N1876=\"\",\"\",IFERROR(IF(N1876=6,1,IF(MATCH(N1876&\"/\"&R1876,読み替え表_クールビズ!$P$38:$P$59,0),1,0)),0))","v":""},{"$f":"IF($P1876=\"\",\"\",IFERROR(IF(P1876=6,1,IF(MATCH(P1876&\"/\"&R1876,読み替え表_クールビズ!$P$38:$P$59,0),1,0)),0))","v":""},"","",0,0,"*"]
[null,null,1867,null,null,null,null,null,null,null,null,null,null,null,null,null,null,null,null,null,null,null,null,null,null,null,null,null,null,null,null,null,"","",{"$f":"IF($N1877=\"\",\"\",IFERROR(IF(N1877=6,1,IF(MATCH(N1877&\"/\"&R1877,読み替え表_クールビズ!$P$38:$P$59,0),1,0)),0))","v":""},{"$f":"IF($P1877=\"\",\"\",IFERROR(IF(P1877=6,1,IF(MATCH(P1877&\"/\"&R1877,読み替え表_クールビズ!$P$38:$P$59,0),1,0)),0))","v":""},"","",0,0,"*"]
[null,null,1868,null,null,null,null,null,null,null,null,null,null,null,null,null,null,null,null,null,null,null,null,null,null,null,null,null,null,null,null,null,"","",{"$f":"IF($N1878=\"\",\"\",IFERROR(IF(N1878=6,1,IF(MATCH(N1878&\"/\"&R1878,読み替え表_クールビズ!$P$38:$P$59,0),1,0)),0))","v":""},{"$f":"IF($P1878=\"\",\"\",IFERROR(IF(P1878=6,1,IF(MATCH(P1878&\"/\"&R1878,読み替え表_クールビズ!$P$38:$P$59,0),1,0)),0))","v":""},"","",0,0,"*"]
[null,null,1869,null,null,null,null,null,null,null,null,null,null,null,null,null,null,null,null,null,null,null,null,null,null,null,null,null,null,null,null,null,"","",{"$f":"IF($N1879=\"\",\"\",IFERROR(IF(N1879=6,1,IF(MATCH(N1879&\"/\"&R1879,読み替え表_クールビズ!$P$38:$P$59,0),1,0)),0))","v":""},{"$f":"IF($P1879=\"\",\"\",IFERROR(IF(P1879=6,1,IF(MATCH(P1879&\"/\"&R1879,読み替え表_クールビズ!$P$38:$P$59,0),1,0)),0))","v":""},"","",0,0,"*"]
[null,null,1870,null,null,null,null,null,null,null,null,null,null,null,null,null,null,null,null,null,null,null,null,null,null,null,null,null,null,null,null,null,"","",{"$f":"IF($N1880=\"\",\"\",IFERROR(IF(N1880=6,1,IF(MATCH(N1880&\"/\"&R1880,読み替え表_クールビズ!$P$38:$P$59,0),1,0)),0))","v":""},{"$f":"IF($P1880=\"\",\"\",IFERROR(IF(P1880=6,1,IF(MATCH(P1880&\"/\"&R1880,読み替え表_クールビズ!$P$38:$P$59,0),1,0)),0))","v":""},"","",0,0,"*"]
[null,null,1871,null,null,null,null,null,null,null,null,null,null,null,null,null,null,null,null,null,null,null,null,null,null,null,null,null,null,null,null,null,"","",{"$f":"IF($N1881=\"\",\"\",IFERROR(IF(N1881=6,1,IF(MATCH(N1881&\"/\"&R1881,読み替え表_クールビズ!$P$38:$P$59,0),1,0)),0))","v":""},{"$f":"IF($P1881=\"\",\"\",IFERROR(IF(P1881=6,1,IF(MATCH(P1881&\"/\"&R1881,読み替え表_クールビズ!$P$38:$P$59,0),1,0)),0))","v":""},"","",0,0,"*"]
[null,null,1872,null,null,null,null,null,null,null,null,null,null,null,null,null,null,null,null,null,null,null,null,null,null,null,null,null,null,null,null,null,"","",{"$f":"IF($N1882=\"\",\"\",IFERROR(IF(N1882=6,1,IF(MATCH(N1882&\"/\"&R1882,読み替え表_クールビズ!$P$38:$P$59,0),1,0)),0))","v":""},{"$f":"IF($P1882=\"\",\"\",IFERROR(IF(P1882=6,1,IF(MATCH(P1882&\"/\"&R1882,読み替え表_クールビズ!$P$38:$P$59,0),1,0)),0))","v":""},"","",0,0,"*"]
[null,null,1873,null,null,null,null,null,null,null,null,null,null,null,null,null,null,null,null,null,null,null,null,null,null,null,null,null,null,null,null,null,"","",{"$f":"IF($N1883=\"\",\"\",IFERROR(IF(N1883=6,1,IF(MATCH(N1883&\"/\"&R1883,読み替え表_クールビズ!$P$38:$P$59,0),1,0)),0))","v":""},{"$f":"IF($P1883=\"\",\"\",IFERROR(IF(P1883=6,1,IF(MATCH(P1883&\"/\"&R1883,読み替え表_クールビズ!$P$38:$P$59,0),1,0)),0))","v":""},"","",0,0,"*"]
[null,null,1874,null,null,null,null,null,null,null,null,null,null,null,null,null,null,null,null,null,null,null,null,null,null,null,null,null,null,null,null,null,"","",{"$f":"IF($N1884=\"\",\"\",IFERROR(IF(N1884=6,1,IF(MATCH(N1884&\"/\"&R1884,読み替え表_クールビズ!$P$38:$P$59,0),1,0)),0))","v":""},{"$f":"IF($P1884=\"\",\"\",IFERROR(IF(P1884=6,1,IF(MATCH(P1884&\"/\"&R1884,読み替え表_クールビズ!$P$38:$P$59,0),1,0)),0))","v":""},"","",0,0,"*"]
[null,null,1875,null,null,null,null,null,null,null,null,null,null,null,null,null,null,null,null,null,null,null,null,null,null,null,null,null,null,null,null,null,"","",{"$f":"IF($N1885=\"\",\"\",IFERROR(IF(N1885=6,1,IF(MATCH(N1885&\"/\"&R1885,読み替え表_クールビズ!$P$38:$P$59,0),1,0)),0))","v":""},{"$f":"IF($P1885=\"\",\"\",IFERROR(IF(P1885=6,1,IF(MATCH(P1885&\"/\"&R1885,読み替え表_クールビズ!$P$38:$P$59,0),1,0)),0))","v":""},"","",0,0,"*"]
[null,null,1876,null,null,null,null,null,null,null,null,null,null,null,null,null,null,null,null,null,null,null,null,null,null,null,null,null,null,null,null,null,"","",{"$f":"IF($N1886=\"\",\"\",IFERROR(IF(N1886=6,1,IF(MATCH(N1886&\"/\"&R1886,読み替え表_クールビズ!$P$38:$P$59,0),1,0)),0))","v":""},{"$f":"IF($P1886=\"\",\"\",IFERROR(IF(P1886=6,1,IF(MATCH(P1886&\"/\"&R1886,読み替え表_クールビズ!$P$38:$P$59,0),1,0)),0))","v":""},"","",0,0,"*"]
[null,null,1877,null,null,null,null,null,null,null,null,null,null,null,null,null,null,null,null,null,null,null,null,null,null,null,null,null,null,null,null,null,"","",{"$f":"IF($N1887=\"\",\"\",IFERROR(IF(N1887=6,1,IF(MATCH(N1887&\"/\"&R1887,読み替え表_クールビズ!$P$38:$P$59,0),1,0)),0))","v":""},{"$f":"IF($P1887=\"\",\"\",IFERROR(IF(P1887=6,1,IF(MATCH(P1887&\"/\"&R1887,読み替え表_クールビズ!$P$38:$P$59,0),1,0)),0))","v":""},"","",0,0,"*"]
[null,null,1878,null,null,null,null,null,null,null,null,null,null,null,null,null,null,null,null,null,null,null,null,null,null,null,null,null,null,null,null,null,"","",{"$f":"IF($N1888=\"\",\"\",IFERROR(IF(N1888=6,1,IF(MATCH(N1888&\"/\"&R1888,読み替え表_クールビズ!$P$38:$P$59,0),1,0)),0))","v":""},{"$f":"IF($P1888=\"\",\"\",IFERROR(IF(P1888=6,1,IF(MATCH(P1888&\"/\"&R1888,読み替え表_クールビズ!$P$38:$P$59,0),1,0)),0))","v":""},"","",0,0,"*"]
[null,null,1879,null,null,null,null,null,null,null,null,null,null,null,null,null,null,null,null,null,null,null,null,null,null,null,null,null,null,null,null,null,"","",{"$f":"IF($N1889=\"\",\"\",IFERROR(IF(N1889=6,1,IF(MATCH(N1889&\"/\"&R1889,読み替え表_クールビズ!$P$38:$P$59,0),1,0)),0))","v":""},{"$f":"IF($P1889=\"\",\"\",IFERROR(IF(P1889=6,1,IF(MATCH(P1889&\"/\"&R1889,読み替え表_クールビズ!$P$38:$P$59,0),1,0)),0))","v":""},"","",0,0,"*"]
[null,null,1880,null,null,null,null,null,null,null,null,null,null,null,null,null,null,null,null,null,null,null,null,null,null,null,null,null,null,null,null,null,"","",{"$f":"IF($N1890=\"\",\"\",IFERROR(IF(N1890=6,1,IF(MATCH(N1890&\"/\"&R1890,読み替え表_クールビズ!$P$38:$P$59,0),1,0)),0))","v":""},{"$f":"IF($P1890=\"\",\"\",IFERROR(IF(P1890=6,1,IF(MATCH(P1890&\"/\"&R1890,読み替え表_クールビズ!$P$38:$P$59,0),1,0)),0))","v":""},"","",0,0,"*"]
[null,null,1881,null,null,null,null,null,null,null,null,null,null,null,null,null,null,null,null,null,null,null,null,null,null,null,null,null,null,null,null,null,"","",{"$f":"IF($N1891=\"\",\"\",IFERROR(IF(N1891=6,1,IF(MATCH(N1891&\"/\"&R1891,読み替え表_クールビズ!$P$38:$P$59,0),1,0)),0))","v":""},{"$f":"IF($P1891=\"\",\"\",IFERROR(IF(P1891=6,1,IF(MATCH(P1891&\"/\"&R1891,読み替え表_クールビズ!$P$38:$P$59,0),1,0)),0))","v":""},"","",0,0,"*"]
[null,null,1882,null,null,null,null,null,null,null,null,null,null,null,null,null,null,null,null,null,null,null,null,null,null,null,null,null,null,null,null,null,"","",{"$f":"IF($N1892=\"\",\"\",IFERROR(IF(N1892=6,1,IF(MATCH(N1892&\"/\"&R1892,読み替え表_クールビズ!$P$38:$P$59,0),1,0)),0))","v":""},{"$f":"IF($P1892=\"\",\"\",IFERROR(IF(P1892=6,1,IF(MATCH(P1892&\"/\"&R1892,読み替え表_クールビズ!$P$38:$P$59,0),1,0)),0))","v":""},"","",0,0,"*"]
[null,null,1883,null,null,null,null,null,null,null,null,null,null,null,null,null,null,null,null,null,null,null,null,null,null,null,null,null,null,null,null,null,"","",{"$f":"IF($N1893=\"\",\"\",IFERROR(IF(N1893=6,1,IF(MATCH(N1893&\"/\"&R1893,読み替え表_クールビズ!$P$38:$P$59,0),1,0)),0))","v":""},{"$f":"IF($P1893=\"\",\"\",IFERROR(IF(P1893=6,1,IF(MATCH(P1893&\"/\"&R1893,読み替え表_クールビズ!$P$38:$P$59,0),1,0)),0))","v":""},"","",0,0,"*"]
[null,null,1884,null,null,null,null,null,null,null,null,null,null,null,null,null,null,null,null,null,null,null,null,null,null,null,null,null,null,null,null,null,"","",{"$f":"IF($N1894=\"\",\"\",IFERROR(IF(N1894=6,1,IF(MATCH(N1894&\"/\"&R1894,読み替え表_クールビズ!$P$38:$P$59,0),1,0)),0))","v":""},{"$f":"IF($P1894=\"\",\"\",IFERROR(IF(P1894=6,1,IF(MATCH(P1894&\"/\"&R1894,読み替え表_クールビズ!$P$38:$P$59,0),1,0)),0))","v":""},"","",0,0,"*"]
[null,null,1885,null,null,null,null,null,null,null,null,null,null,null,null,null,null,null,null,null,null,null,null,null,null,null,null,null,null,null,null,null,"","",{"$f":"IF($N1895=\"\",\"\",IFERROR(IF(N1895=6,1,IF(MATCH(N1895&\"/\"&R1895,読み替え表_クールビズ!$P$38:$P$59,0),1,0)),0))","v":""},{"$f":"IF($P1895=\"\",\"\",IFERROR(IF(P1895=6,1,IF(MATCH(P1895&\"/\"&R1895,読み替え表_クールビズ!$P$38:$P$59,0),1,0)),0))","v":""},"","",0,0,"*"]
[null,null,1886,null,null,null,null,null,null,null,null,null,null,null,null,null,null,null,null,null,null,null,null,null,null,null,null,null,null,null,null,null,"","",{"$f":"IF($N1896=\"\",\"\",IFERROR(IF(N1896=6,1,IF(MATCH(N1896&\"/\"&R1896,読み替え表_クールビズ!$P$38:$P$59,0),1,0)),0))","v":""},{"$f":"IF($P1896=\"\",\"\",IFERROR(IF(P1896=6,1,IF(MATCH(P1896&\"/\"&R1896,読み替え表_クールビズ!$P$38:$P$59,0),1,0)),0))","v":""},"","",0,0,"*"]
[null,null,1887,null,null,null,null,null,null,null,null,null,null,null,null,null,null,null,null,null,null,null,null,null,null,null,null,null,null,null,null,null,"","",{"$f":"IF($N1897=\"\",\"\",IFERROR(IF(N1897=6,1,IF(MATCH(N1897&\"/\"&R1897,読み替え表_クールビズ!$P$38:$P$59,0),1,0)),0))","v":""},{"$f":"IF($P1897=\"\",\"\",IFERROR(IF(P1897=6,1,IF(MATCH(P1897&\"/\"&R1897,読み替え表_クールビズ!$P$38:$P$59,0),1,0)),0))","v":""},"","",0,0,"*"]
[null,null,1888,null,null,null,null,null,null,null,null,null,null,null,null,null,null,null,null,null,null,null,null,null,null,null,null,null,null,null,null,null,"","",{"$f":"IF($N1898=\"\",\"\",IFERROR(IF(N1898=6,1,IF(MATCH(N1898&\"/\"&R1898,読み替え表_クールビズ!$P$38:$P$59,0),1,0)),0))","v":""},{"$f":"IF($P1898=\"\",\"\",IFERROR(IF(P1898=6,1,IF(MATCH(P1898&\"/\"&R1898,読み替え表_クールビズ!$P$38:$P$59,0),1,0)),0))","v":""},"","",0,0,"*"]
[null,null,1889,null,null,null,null,null,null,null,null,null,null,null,null,null,null,null,null,null,null,null,null,null,null,null,null,null,null,null,null,null,"","",{"$f":"IF($N1899=\"\",\"\",IFERROR(IF(N1899=6,1,IF(MATCH(N1899&\"/\"&R1899,読み替え表_クールビズ!$P$38:$P$59,0),1,0)),0))","v":""},{"$f":"IF($P1899=\"\",\"\",IFERROR(IF(P1899=6,1,IF(MATCH(P1899&\"/\"&R1899,読み替え表_クールビズ!$P$38:$P$59,0),1,0)),0))","v":""},"","",0,0,"*"]
[null,null,1890,null,null,null,null,null,null,null,null,null,null,null,null,null,null,null,null,null,null,null,null,null,null,null,null,null,null,null,null,null,"","",{"$f":"IF($N1900=\"\",\"\",IFERROR(IF(N1900=6,1,IF(MATCH(N1900&\"/\"&R1900,読み替え表_クールビズ!$P$38:$P$59,0),1,0)),0))","v":""},{"$f":"IF($P1900=\"\",\"\",IFERROR(IF(P1900=6,1,IF(MATCH(P1900&\"/\"&R1900,読み替え表_クールビズ!$P$38:$P$59,0),1,0)),0))","v":""},"","",0,0,"*"]
[null,null,1891,null,null,null,null,null,null,null,null,null,null,null,null,null,null,null,null,null,null,null,null,null,null,null,null,null,null,null,null,null,"","",{"$f":"IF($N1901=\"\",\"\",IFERROR(IF(N1901=6,1,IF(MATCH(N1901&\"/\"&R1901,読み替え表_クールビズ!$P$38:$P$59,0),1,0)),0))","v":""},{"$f":"IF($P1901=\"\",\"\",IFERROR(IF(P1901=6,1,IF(MATCH(P1901&\"/\"&R1901,読み替え表_クールビズ!$P$38:$P$59,0),1,0)),0))","v":""},"","",0,0,"*"]
[null,null,1892,null,null,null,null,null,null,null,null,null,null,null,null,null,null,null,null,null,null,null,null,null,null,null,null,null,null,null,null,null,"","",{"$f":"IF($N1902=\"\",\"\",IFERROR(IF(N1902=6,1,IF(MATCH(N1902&\"/\"&R1902,読み替え表_クールビズ!$P$38:$P$59,0),1,0)),0))","v":""},{"$f":"IF($P1902=\"\",\"\",IFERROR(IF(P1902=6,1,IF(MATCH(P1902&\"/\"&R1902,読み替え表_クールビズ!$P$38:$P$59,0),1,0)),0))","v":""},"","",0,0,"*"]
[null,null,1893,null,null,null,null,null,null,null,null,null,null,null,null,null,null,null,null,null,null,null,null,null,null,null,null,null,null,null,null,null,"","",{"$f":"IF($N1903=\"\",\"\",IFERROR(IF(N1903=6,1,IF(MATCH(N1903&\"/\"&R1903,読み替え表_クールビズ!$P$38:$P$59,0),1,0)),0))","v":""},{"$f":"IF($P1903=\"\",\"\",IFERROR(IF(P1903=6,1,IF(MATCH(P1903&\"/\"&R1903,読み替え表_クールビズ!$P$38:$P$59,0),1,0)),0))","v":""},"","",0,0,"*"]
[null,null,1894,null,null,null,null,null,null,null,null,null,null,null,null,null,null,null,null,null,null,null,null,null,null,null,null,null,null,null,null,null,"","",{"$f":"IF($N1904=\"\",\"\",IFERROR(IF(N1904=6,1,IF(MATCH(N1904&\"/\"&R1904,読み替え表_クールビズ!$P$38:$P$59,0),1,0)),0))","v":""},{"$f":"IF($P1904=\"\",\"\",IFERROR(IF(P1904=6,1,IF(MATCH(P1904&\"/\"&R1904,読み替え表_クールビズ!$P$38:$P$59,0),1,0)),0))","v":""},"","",0,0,"*"]
[null,null,1895,null,null,null,null,null,null,null,null,null,null,null,null,null,null,null,null,null,null,null,null,null,null,null,null,null,null,null,null,null,"","",{"$f":"IF($N1905=\"\",\"\",IFERROR(IF(N1905=6,1,IF(MATCH(N1905&\"/\"&R1905,読み替え表_クールビズ!$P$38:$P$59,0),1,0)),0))","v":""},{"$f":"IF($P1905=\"\",\"\",IFERROR(IF(P1905=6,1,IF(MATCH(P1905&\"/\"&R1905,読み替え表_クールビズ!$P$38:$P$59,0),1,0)),0))","v":""},"","",0,0,"*"]
[null,null,1896,null,null,null,null,null,null,null,null,null,null,null,null,null,null,null,null,null,null,null,null,null,null,null,null,null,null,null,null,null,"","",{"$f":"IF($N1906=\"\",\"\",IFERROR(IF(N1906=6,1,IF(MATCH(N1906&\"/\"&R1906,読み替え表_クールビズ!$P$38:$P$59,0),1,0)),0))","v":""},{"$f":"IF($P1906=\"\",\"\",IFERROR(IF(P1906=6,1,IF(MATCH(P1906&\"/\"&R1906,読み替え表_クールビズ!$P$38:$P$59,0),1,0)),0))","v":""},"","",0,0,"*"]
[null,null,1897,null,null,null,null,null,null,null,null,null,null,null,null,null,null,null,null,null,null,null,null,null,null,null,null,null,null,null,null,null,"","",{"$f":"IF($N1907=\"\",\"\",IFERROR(IF(N1907=6,1,IF(MATCH(N1907&\"/\"&R1907,読み替え表_クールビズ!$P$38:$P$59,0),1,0)),0))","v":""},{"$f":"IF($P1907=\"\",\"\",IFERROR(IF(P1907=6,1,IF(MATCH(P1907&\"/\"&R1907,読み替え表_クールビズ!$P$38:$P$59,0),1,0)),0))","v":""},"","",0,0,"*"]
[null,null,1898,null,null,null,null,null,null,null,null,null,null,null,null,null,null,null,null,null,null,null,null,null,null,null,null,null,null,null,null,null,"","",{"$f":"IF($N1908=\"\",\"\",IFERROR(IF(N1908=6,1,IF(MATCH(N1908&\"/\"&R1908,読み替え表_クールビズ!$P$38:$P$59,0),1,0)),0))","v":""},{"$f":"IF($P1908=\"\",\"\",IFERROR(IF(P1908=6,1,IF(MATCH(P1908&\"/\"&R1908,読み替え表_クールビズ!$P$38:$P$59,0),1,0)),0))","v":""},"","",0,0,"*"]
[null,null,1899,null,null,null,null,null,null,null,null,null,null,null,null,null,null,null,null,null,null,null,null,null,null,null,null,null,null,null,null,null,"","",{"$f":"IF($N1909=\"\",\"\",IFERROR(IF(N1909=6,1,IF(MATCH(N1909&\"/\"&R1909,読み替え表_クールビズ!$P$38:$P$59,0),1,0)),0))","v":""},{"$f":"IF($P1909=\"\",\"\",IFERROR(IF(P1909=6,1,IF(MATCH(P1909&\"/\"&R1909,読み替え表_クールビズ!$P$38:$P$59,0),1,0)),0))","v":""},"","",0,0,"*"]
[null,null,1900,null,null,null,null,null,null,null,null,null,null,null,null,null,null,null,null,null,null,null,null,null,null,null,null,null,null,null,null,null,"","",{"$f":"IF($N1910=\"\",\"\",IFERROR(IF(N1910=6,1,IF(MATCH(N1910&\"/\"&R1910,読み替え表_クールビズ!$P$38:$P$59,0),1,0)),0))","v":""},{"$f":"IF($P1910=\"\",\"\",IFERROR(IF(P1910=6,1,IF(MATCH(P1910&\"/\"&R1910,読み替え表_クールビズ!$P$38:$P$59,0),1,0)),0))","v":""},"","",0,0,"*"]
[null,null,1901,null,null,null,null,null,null,null,null,null,null,null,null,null,null,null,null,null,null,null,null,null,null,null,null,null,null,null,null,null,"","",{"$f":"IF($N1911=\"\",\"\",IFERROR(IF(N1911=6,1,IF(MATCH(N1911&\"/\"&R1911,読み替え表_クールビズ!$P$38:$P$59,0),1,0)),0))","v":""},{"$f":"IF($P1911=\"\",\"\",IFERROR(IF(P1911=6,1,IF(MATCH(P1911&\"/\"&R1911,読み替え表_クールビズ!$P$38:$P$59,0),1,0)),0))","v":""},"","",0,0,"*"]
[null,null,1902,null,null,null,null,null,null,null,null,null,null,null,null,null,null,null,null,null,null,null,null,null,null,null,null,null,null,null,null,null,"","",{"$f":"IF($N1912=\"\",\"\",IFERROR(IF(N1912=6,1,IF(MATCH(N1912&\"/\"&R1912,読み替え表_クールビズ!$P$38:$P$59,0),1,0)),0))","v":""},{"$f":"IF($P1912=\"\",\"\",IFERROR(IF(P1912=6,1,IF(MATCH(P1912&\"/\"&R1912,読み替え表_クールビズ!$P$38:$P$59,0),1,0)),0))","v":""},"","",0,0,"*"]
[null,null,1903,null,null,null,null,null,null,null,null,null,null,null,null,null,null,null,null,null,null,null,null,null,null,null,null,null,null,null,null,null,"","",{"$f":"IF($N1913=\"\",\"\",IFERROR(IF(N1913=6,1,IF(MATCH(N1913&\"/\"&R1913,読み替え表_クールビズ!$P$38:$P$59,0),1,0)),0))","v":""},{"$f":"IF($P1913=\"\",\"\",IFERROR(IF(P1913=6,1,IF(MATCH(P1913&\"/\"&R1913,読み替え表_クールビズ!$P$38:$P$59,0),1,0)),0))","v":""},"","",0,0,"*"]
[null,null,1904,null,null,null,null,null,null,null,null,null,null,null,null,null,null,null,null,null,null,null,null,null,null,null,null,null,null,null,null,null,"","",{"$f":"IF($N1914=\"\",\"\",IFERROR(IF(N1914=6,1,IF(MATCH(N1914&\"/\"&R1914,読み替え表_クールビズ!$P$38:$P$59,0),1,0)),0))","v":""},{"$f":"IF($P1914=\"\",\"\",IFERROR(IF(P1914=6,1,IF(MATCH(P1914&\"/\"&R1914,読み替え表_クールビズ!$P$38:$P$59,0),1,0)),0))","v":""},"","",0,0,"*"]
[null,null,1905,null,null,null,null,null,null,null,null,null,null,null,null,null,null,null,null,null,null,null,null,null,null,null,null,null,null,null,null,null,"","",{"$f":"IF($N1915=\"\",\"\",IFERROR(IF(N1915=6,1,IF(MATCH(N1915&\"/\"&R1915,読み替え表_クールビズ!$P$38:$P$59,0),1,0)),0))","v":""},{"$f":"IF($P1915=\"\",\"\",IFERROR(IF(P1915=6,1,IF(MATCH(P1915&\"/\"&R1915,読み替え表_クールビズ!$P$38:$P$59,0),1,0)),0))","v":""},"","",0,0,"*"]
[null,null,1906,null,null,null,null,null,null,null,null,null,null,null,null,null,null,null,null,null,null,null,null,null,null,null,null,null,null,null,null,null,"","",{"$f":"IF($N1916=\"\",\"\",IFERROR(IF(N1916=6,1,IF(MATCH(N1916&\"/\"&R1916,読み替え表_クールビズ!$P$38:$P$59,0),1,0)),0))","v":""},{"$f":"IF($P1916=\"\",\"\",IFERROR(IF(P1916=6,1,IF(MATCH(P1916&\"/\"&R1916,読み替え表_クールビズ!$P$38:$P$59,0),1,0)),0))","v":""},"","",0,0,"*"]
[null,null,1907,null,null,null,null,null,null,null,null,null,null,null,null,null,null,null,null,null,null,null,null,null,null,null,null,null,null,null,null,null,"","",{"$f":"IF($N1917=\"\",\"\",IFERROR(IF(N1917=6,1,IF(MATCH(N1917&\"/\"&R1917,読み替え表_クールビズ!$P$38:$P$59,0),1,0)),0))","v":""},{"$f":"IF($P1917=\"\",\"\",IFERROR(IF(P1917=6,1,IF(MATCH(P1917&\"/\"&R1917,読み替え表_クールビズ!$P$38:$P$59,0),1,0)),0))","v":""},"","",0,0,"*"]
[null,null,1908,null,null,null,null,null,null,null,null,null,null,null,null,null,null,null,null,null,null,null,null,null,null,null,null,null,null,null,null,null,"","",{"$f":"IF($N1918=\"\",\"\",IFERROR(IF(N1918=6,1,IF(MATCH(N1918&\"/\"&R1918,読み替え表_クールビズ!$P$38:$P$59,0),1,0)),0))","v":""},{"$f":"IF($P1918=\"\",\"\",IFERROR(IF(P1918=6,1,IF(MATCH(P1918&\"/\"&R1918,読み替え表_クールビズ!$P$38:$P$59,0),1,0)),0))","v":""},"","",0,0,"*"]
[null,null,1909,null,null,null,null,null,null,null,null,null,null,null,null,null,null,null,null,null,null,null,null,null,null,null,null,null,null,null,null,null,"","",{"$f":"IF($N1919=\"\",\"\",IFERROR(IF(N1919=6,1,IF(MATCH(N1919&\"/\"&R1919,読み替え表_クールビズ!$P$38:$P$59,0),1,0)),0))","v":""},{"$f":"IF($P1919=\"\",\"\",IFERROR(IF(P1919=6,1,IF(MATCH(P1919&\"/\"&R1919,読み替え表_クールビズ!$P$38:$P$59,0),1,0)),0))","v":""},"","",0,0,"*"]
[null,null,1910,null,null,null,null,null,null,null,null,null,null,null,null,null,null,null,null,null,null,null,null,null,null,null,null,null,null,null,null,null,"","",{"$f":"IF($N1920=\"\",\"\",IFERROR(IF(N1920=6,1,IF(MATCH(N1920&\"/\"&R1920,読み替え表_クールビズ!$P$38:$P$59,0),1,0)),0))","v":""},{"$f":"IF($P1920=\"\",\"\",IFERROR(IF(P1920=6,1,IF(MATCH(P1920&\"/\"&R1920,読み替え表_クールビズ!$P$38:$P$59,0),1,0)),0))","v":""},"","",0,0,"*"]
[null,null,1911,null,null,null,null,null,null,null,null,null,null,null,null,null,null,null,null,null,null,null,null,null,null,null,null,null,null,null,null,null,"","",{"$f":"IF($N1921=\"\",\"\",IFERROR(IF(N1921=6,1,IF(MATCH(N1921&\"/\"&R1921,読み替え表_クールビズ!$P$38:$P$59,0),1,0)),0))","v":""},{"$f":"IF($P1921=\"\",\"\",IFERROR(IF(P1921=6,1,IF(MATCH(P1921&\"/\"&R1921,読み替え表_クールビズ!$P$38:$P$59,0),1,0)),0))","v":""},"","",0,0,"*"]
[null,null,1912,null,null,null,null,null,null,null,null,null,null,null,null,null,null,null,null,null,null,null,null,null,null,null,null,null,null,null,null,null,"","",{"$f":"IF($N1922=\"\",\"\",IFERROR(IF(N1922=6,1,IF(MATCH(N1922&\"/\"&R1922,読み替え表_クールビズ!$P$38:$P$59,0),1,0)),0))","v":""},{"$f":"IF($P1922=\"\",\"\",IFERROR(IF(P1922=6,1,IF(MATCH(P1922&\"/\"&R1922,読み替え表_クールビズ!$P$38:$P$59,0),1,0)),0))","v":""},"","",0,0,"*"]
[null,null,1913,null,null,null,null,null,null,null,null,null,null,null,null,null,null,null,null,null,null,null,null,null,null,null,null,null,null,null,null,null,"","",{"$f":"IF($N1923=\"\",\"\",IFERROR(IF(N1923=6,1,IF(MATCH(N1923&\"/\"&R1923,読み替え表_クールビズ!$P$38:$P$59,0),1,0)),0))","v":""},{"$f":"IF($P1923=\"\",\"\",IFERROR(IF(P1923=6,1,IF(MATCH(P1923&\"/\"&R1923,読み替え表_クールビズ!$P$38:$P$59,0),1,0)),0))","v":""},"","",0,0,"*"]
[null,null,1914,null,null,null,null,null,null,null,null,null,null,null,null,null,null,null,null,null,null,null,null,null,null,null,null,null,null,null,null,null,"","",{"$f":"IF($N1924=\"\",\"\",IFERROR(IF(N1924=6,1,IF(MATCH(N1924&\"/\"&R1924,読み替え表_クールビズ!$P$38:$P$59,0),1,0)),0))","v":""},{"$f":"IF($P1924=\"\",\"\",IFERROR(IF(P1924=6,1,IF(MATCH(P1924&\"/\"&R1924,読み替え表_クールビズ!$P$38:$P$59,0),1,0)),0))","v":""},"","",0,0,"*"]
[null,null,1915,null,null,null,null,null,null,null,null,null,null,null,null,null,null,null,null,null,null,null,null,null,null,null,null,null,null,null,null,null,"","",{"$f":"IF($N1925=\"\",\"\",IFERROR(IF(N1925=6,1,IF(MATCH(N1925&\"/\"&R1925,読み替え表_クールビズ!$P$38:$P$59,0),1,0)),0))","v":""},{"$f":"IF($P1925=\"\",\"\",IFERROR(IF(P1925=6,1,IF(MATCH(P1925&\"/\"&R1925,読み替え表_クールビズ!$P$38:$P$59,0),1,0)),0))","v":""},"","",0,0,"*"]
[null,null,1916,null,null,null,null,null,null,null,null,null,null,null,null,null,null,null,null,null,null,null,null,null,null,null,null,null,null,null,null,null,"","",{"$f":"IF($N1926=\"\",\"\",IFERROR(IF(N1926=6,1,IF(MATCH(N1926&\"/\"&R1926,読み替え表_クールビズ!$P$38:$P$59,0),1,0)),0))","v":""},{"$f":"IF($P1926=\"\",\"\",IFERROR(IF(P1926=6,1,IF(MATCH(P1926&\"/\"&R1926,読み替え表_クールビズ!$P$38:$P$59,0),1,0)),0))","v":""},"","",0,0,"*"]
[null,null,1917,null,null,null,null,null,null,null,null,null,null,null,null,null,null,null,null,null,null,null,null,null,null,null,null,null,null,null,null,null,"","",{"$f":"IF($N1927=\"\",\"\",IFERROR(IF(N1927=6,1,IF(MATCH(N1927&\"/\"&R1927,読み替え表_クールビズ!$P$38:$P$59,0),1,0)),0))","v":""},{"$f":"IF($P1927=\"\",\"\",IFERROR(IF(P1927=6,1,IF(MATCH(P1927&\"/\"&R1927,読み替え表_クールビズ!$P$38:$P$59,0),1,0)),0))","v":""},"","",0,0,"*"]
[null,null,1918,null,null,null,null,null,null,null,null,null,null,null,null,null,null,null,null,null,null,null,null,null,null,null,null,null,null,null,null,null,"","",{"$f":"IF($N1928=\"\",\"\",IFERROR(IF(N1928=6,1,IF(MATCH(N1928&\"/\"&R1928,読み替え表_クールビズ!$P$38:$P$59,0),1,0)),0))","v":""},{"$f":"IF($P1928=\"\",\"\",IFERROR(IF(P1928=6,1,IF(MATCH(P1928&\"/\"&R1928,読み替え表_クールビズ!$P$38:$P$59,0),1,0)),0))","v":""},"","",0,0,"*"]
[null,null,1919,null,null,null,null,null,null,null,null,null,null,null,null,null,null,null,null,null,null,null,null,null,null,null,null,null,null,null,null,null,"","",{"$f":"IF($N1929=\"\",\"\",IFERROR(IF(N1929=6,1,IF(MATCH(N1929&\"/\"&R1929,読み替え表_クールビズ!$P$38:$P$59,0),1,0)),0))","v":""},{"$f":"IF($P1929=\"\",\"\",IFERROR(IF(P1929=6,1,IF(MATCH(P1929&\"/\"&R1929,読み替え表_クールビズ!$P$38:$P$59,0),1,0)),0))","v":""},"","",0,0,"*"]
[null,null,1920,null,null,null,null,null,null,null,null,null,null,null,null,null,null,null,null,null,null,null,null,null,null,null,null,null,null,null,null,null,"","",{"$f":"IF($N1930=\"\",\"\",IFERROR(IF(N1930=6,1,IF(MATCH(N1930&\"/\"&R1930,読み替え表_クールビズ!$P$38:$P$59,0),1,0)),0))","v":""},{"$f":"IF($P1930=\"\",\"\",IFERROR(IF(P1930=6,1,IF(MATCH(P1930&\"/\"&R1930,読み替え表_クールビズ!$P$38:$P$59,0),1,0)),0))","v":""},"","",0,0,"*"]
[null,null,1921,null,null,null,null,null,null,null,null,null,null,null,null,null,null,null,null,null,null,null,null,null,null,null,null,null,null,null,null,null,"","",{"$f":"IF($N1931=\"\",\"\",IFERROR(IF(N1931=6,1,IF(MATCH(N1931&\"/\"&R1931,読み替え表_クールビズ!$P$38:$P$59,0),1,0)),0))","v":""},{"$f":"IF($P1931=\"\",\"\",IFERROR(IF(P1931=6,1,IF(MATCH(P1931&\"/\"&R1931,読み替え表_クールビズ!$P$38:$P$59,0),1,0)),0))","v":""},{"$f":"IF($N1931=\"\",\"\",IF(OR(CONCATENATE(N1931,$R1931)=\"22\",CONCATENATE(N1931,$R1931)=\"32\",CONCATENATE(N1931,$R1931)=\"42\",CONCATENATE(N1931,$R1931)=\"43\",CONCATENATE(N1931,$R1931)=\"51\",CONCATENATE(N1931,$R1931)=\"52\",CONCATENATE(N1931,$R1931)=\"53\"),1,0))","v":""},{"$f":"IF($P1931=\"\",\"\",IF(OR(CONCATENATE(P1931,$R1931)=\"22\",CONCATENATE(P1931,$R1931)=\"32\",CONCATENATE(P1931,$R1931)=\"42\",CONCATENATE(P1931,$R1931)=\"43\",CONCATENATE(P1931,$R1931)=\"51\",CONCATENATE(P1931,$R1931)=\"52\",CONCATENATE(P1931,$R1931)=\"53\"),1,0))","v":""},0,0,"*"]
[null,null,{"$f":"ROW()-10","v":1922},null,null,null,null,null,null,null,null,null,null,null,null,null,null,null,null,null,null,null,null,null,null,null,null,null,null,null,null,null,{"$f":"IF($J1932=\"\",\"\",IF(AND($J1932>=1,$J1932<=9),1,0))","v":""},{"$f":"IF($R1932=\"\",\"\",IF(OR($R1932=1,$R1932=2,$R1932=3),1,0))","v":""},{"$f":"IF($N1932=\"\",\"\",IFERROR(IF(N1932=6,1,IF(MATCH(N1932&\"/\"&R1932,読み替え表_クールビズ!$P$38:$P$59,0),1,0)),0))","v":""},{"$f":"IF($P1932=\"\",\"\",IFERROR(IF(P1932=6,1,IF(MATCH(P1932&\"/\"&R1932,読み替え表_クールビズ!$P$38:$P$59,0),1,0)),0))","v":""},"","",{"$f":"IF(OR(AK1932=1,AL1932=1),1,0)","v":0},{"$f":"IF(OR($AG1932=0,SUM(AI1932:AJ1932)=2),1,0)","v":0},"*"]
[null,null,1923,null,null,null,null,null,null,null,null,null,null,null,null,null,null,null,null,null,null,null,null,null,null,null,null,null,null,null,null,null,"","",{"$f":"IF($N1933=\"\",\"\",IFERROR(IF(N1933=6,1,IF(MATCH(N1933&\"/\"&R1933,読み替え表_クールビズ!$P$38:$P$59,0),1,0)),0))","v":""},{"$f":"IF($P1933=\"\",\"\",IFERROR(IF(P1933=6,1,IF(MATCH(P1933&\"/\"&R1933,読み替え表_クールビズ!$P$38:$P$59,0),1,0)),0))","v":""},"","",0,0,"*"]
[null,null,1924,null,null,null,null,null,null,null,null,null,null,null,null,null,null,null,null,null,null,null,null,null,null,null,null,null,null,null,null,null,"","",{"$f":"IF($N1934=\"\",\"\",IFERROR(IF(N1934=6,1,IF(MATCH(N1934&\"/\"&R1934,読み替え表_クールビズ!$P$38:$P$59,0),1,0)),0))","v":""},{"$f":"IF($P1934=\"\",\"\",IFERROR(IF(P1934=6,1,IF(MATCH(P1934&\"/\"&R1934,読み替え表_クールビズ!$P$38:$P$59,0),1,0)),0))","v":""},"","",0,0,"*"]
[null,null,1925,null,null,null,null,null,null,null,null,null,null,null,null,null,null,null,null,null,null,null,null,null,null,null,null,null,null,null,null,null,"","",{"$f":"IF($N1935=\"\",\"\",IFERROR(IF(N1935=6,1,IF(MATCH(N1935&\"/\"&R1935,読み替え表_クールビズ!$P$38:$P$59,0),1,0)),0))","v":""},{"$f":"IF($P1935=\"\",\"\",IFERROR(IF(P1935=6,1,IF(MATCH(P1935&\"/\"&R1935,読み替え表_クールビズ!$P$38:$P$59,0),1,0)),0))","v":""},"","",0,0,"*"]
[null,null,1926,null,null,null,null,null,null,null,null,null,null,null,null,null,null,null,null,null,null,null,null,null,null,null,null,null,null,null,null,null,"","",{"$f":"IF($N1936=\"\",\"\",IFERROR(IF(N1936=6,1,IF(MATCH(N1936&\"/\"&R1936,読み替え表_クールビズ!$P$38:$P$59,0),1,0)),0))","v":""},{"$f":"IF($P1936=\"\",\"\",IFERROR(IF(P1936=6,1,IF(MATCH(P1936&\"/\"&R1936,読み替え表_クールビズ!$P$38:$P$59,0),1,0)),0))","v":""},"","",0,0,"*"]
[null,null,1927,null,null,null,null,null,null,null,null,null,null,null,null,null,null,null,null,null,null,null,null,null,null,null,null,null,null,null,null,null,"","",{"$f":"IF($N1937=\"\",\"\",IFERROR(IF(N1937=6,1,IF(MATCH(N1937&\"/\"&R1937,読み替え表_クールビズ!$P$38:$P$59,0),1,0)),0))","v":""},{"$f":"IF($P1937=\"\",\"\",IFERROR(IF(P1937=6,1,IF(MATCH(P1937&\"/\"&R1937,読み替え表_クールビズ!$P$38:$P$59,0),1,0)),0))","v":""},"","",0,0,"*"]
[null,null,1928,null,null,null,null,null,null,null,null,null,null,null,null,null,null,null,null,null,null,null,null,null,null,null,null,null,null,null,null,null,"","",{"$f":"IF($N1938=\"\",\"\",IFERROR(IF(N1938=6,1,IF(MATCH(N1938&\"/\"&R1938,読み替え表_クールビズ!$P$38:$P$59,0),1,0)),0))","v":""},{"$f":"IF($P1938=\"\",\"\",IFERROR(IF(P1938=6,1,IF(MATCH(P1938&\"/\"&R1938,読み替え表_クールビズ!$P$38:$P$59,0),1,0)),0))","v":""},"","",0,0,"*"]
[null,null,1929,null,null,null,null,null,null,null,null,null,null,null,null,null,null,null,null,null,null,null,null,null,null,null,null,null,null,null,null,null,"","",{"$f":"IF($N1939=\"\",\"\",IFERROR(IF(N1939=6,1,IF(MATCH(N1939&\"/\"&R1939,読み替え表_クールビズ!$P$38:$P$59,0),1,0)),0))","v":""},{"$f":"IF($P1939=\"\",\"\",IFERROR(IF(P1939=6,1,IF(MATCH(P1939&\"/\"&R1939,読み替え表_クールビズ!$P$38:$P$59,0),1,0)),0))","v":""},"","",0,0,"*"]
[null,null,1930,null,null,null,null,null,null,null,null,null,null,null,null,null,null,null,null,null,null,null,null,null,null,null,null,null,null,null,null,null,"","",{"$f":"IF($N1940=\"\",\"\",IFERROR(IF(N1940=6,1,IF(MATCH(N1940&\"/\"&R1940,読み替え表_クールビズ!$P$38:$P$59,0),1,0)),0))","v":""},{"$f":"IF($P1940=\"\",\"\",IFERROR(IF(P1940=6,1,IF(MATCH(P1940&\"/\"&R1940,読み替え表_クールビズ!$P$38:$P$59,0),1,0)),0))","v":""},"","",0,0,"*"]
[null,null,1931,null,null,null,null,null,null,null,null,null,null,null,null,null,null,null,null,null,null,null,null,null,null,null,null,null,null,null,null,null,"","",{"$f":"IF($N1941=\"\",\"\",IFERROR(IF(N1941=6,1,IF(MATCH(N1941&\"/\"&R1941,読み替え表_クールビズ!$P$38:$P$59,0),1,0)),0))","v":""},{"$f":"IF($P1941=\"\",\"\",IFERROR(IF(P1941=6,1,IF(MATCH(P1941&\"/\"&R1941,読み替え表_クールビズ!$P$38:$P$59,0),1,0)),0))","v":""},"","",0,0,"*"]
[null,null,1932,null,null,null,null,null,null,null,null,null,null,null,null,null,null,null,null,null,null,null,null,null,null,null,null,null,null,null,null,null,"","",{"$f":"IF($N1942=\"\",\"\",IFERROR(IF(N1942=6,1,IF(MATCH(N1942&\"/\"&R1942,読み替え表_クールビズ!$P$38:$P$59,0),1,0)),0))","v":""},{"$f":"IF($P1942=\"\",\"\",IFERROR(IF(P1942=6,1,IF(MATCH(P1942&\"/\"&R1942,読み替え表_クールビズ!$P$38:$P$59,0),1,0)),0))","v":""},"","",0,0,"*"]
[null,null,1933,null,null,null,null,null,null,null,null,null,null,null,null,null,null,null,null,null,null,null,null,null,null,null,null,null,null,null,null,null,"","",{"$f":"IF($N1943=\"\",\"\",IFERROR(IF(N1943=6,1,IF(MATCH(N1943&\"/\"&R1943,読み替え表_クールビズ!$P$38:$P$59,0),1,0)),0))","v":""},{"$f":"IF($P1943=\"\",\"\",IFERROR(IF(P1943=6,1,IF(MATCH(P1943&\"/\"&R1943,読み替え表_クールビズ!$P$38:$P$59,0),1,0)),0))","v":""},"","",0,0,"*"]
[null,null,1934,null,null,null,null,null,null,null,null,null,null,null,null,null,null,null,null,null,null,null,null,null,null,null,null,null,null,null,null,null,"","",{"$f":"IF($N1944=\"\",\"\",IFERROR(IF(N1944=6,1,IF(MATCH(N1944&\"/\"&R1944,読み替え表_クールビズ!$P$38:$P$59,0),1,0)),0))","v":""},{"$f":"IF($P1944=\"\",\"\",IFERROR(IF(P1944=6,1,IF(MATCH(P1944&\"/\"&R1944,読み替え表_クールビズ!$P$38:$P$59,0),1,0)),0))","v":""},"","",0,0,"*"]
[null,null,1935,null,null,null,null,null,null,null,null,null,null,null,null,null,null,null,null,null,null,null,null,null,null,null,null,null,null,null,null,null,"","",{"$f":"IF($N1945=\"\",\"\",IFERROR(IF(N1945=6,1,IF(MATCH(N1945&\"/\"&R1945,読み替え表_クールビズ!$P$38:$P$59,0),1,0)),0))","v":""},{"$f":"IF($P1945=\"\",\"\",IFERROR(IF(P1945=6,1,IF(MATCH(P1945&\"/\"&R1945,読み替え表_クールビズ!$P$38:$P$59,0),1,0)),0))","v":""},"","",0,0,"*"]
[null,null,1936,null,null,null,null,null,null,null,null,null,null,null,null,null,null,null,null,null,null,null,null,null,null,null,null,null,null,null,null,null,"","",{"$f":"IF($N1946=\"\",\"\",IFERROR(IF(N1946=6,1,IF(MATCH(N1946&\"/\"&R1946,読み替え表_クールビズ!$P$38:$P$59,0),1,0)),0))","v":""},{"$f":"IF($P1946=\"\",\"\",IFERROR(IF(P1946=6,1,IF(MATCH(P1946&\"/\"&R1946,読み替え表_クールビズ!$P$38:$P$59,0),1,0)),0))","v":""},"","",0,0,"*"]
[null,null,1937,null,null,null,null,null,null,null,null,null,null,null,null,null,null,null,null,null,null,null,null,null,null,null,null,null,null,null,null,null,"","",{"$f":"IF($N1947=\"\",\"\",IFERROR(IF(N1947=6,1,IF(MATCH(N1947&\"/\"&R1947,読み替え表_クールビズ!$P$38:$P$59,0),1,0)),0))","v":""},{"$f":"IF($P1947=\"\",\"\",IFERROR(IF(P1947=6,1,IF(MATCH(P1947&\"/\"&R1947,読み替え表_クールビズ!$P$38:$P$59,0),1,0)),0))","v":""},"","",0,0,"*"]
[null,null,1938,null,null,null,null,null,null,null,null,null,null,null,null,null,null,null,null,null,null,null,null,null,null,null,null,null,null,null,null,null,"","",{"$f":"IF($N1948=\"\",\"\",IFERROR(IF(N1948=6,1,IF(MATCH(N1948&\"/\"&R1948,読み替え表_クールビズ!$P$38:$P$59,0),1,0)),0))","v":""},{"$f":"IF($P1948=\"\",\"\",IFERROR(IF(P1948=6,1,IF(MATCH(P1948&\"/\"&R1948,読み替え表_クールビズ!$P$38:$P$59,0),1,0)),0))","v":""},"","",0,0,"*"]
[null,null,1939,null,null,null,null,null,null,null,null,null,null,null,null,null,null,null,null,null,null,null,null,null,null,null,null,null,null,null,null,null,"","",{"$f":"IF($N1949=\"\",\"\",IFERROR(IF(N1949=6,1,IF(MATCH(N1949&\"/\"&R1949,読み替え表_クールビズ!$P$38:$P$59,0),1,0)),0))","v":""},{"$f":"IF($P1949=\"\",\"\",IFERROR(IF(P1949=6,1,IF(MATCH(P1949&\"/\"&R1949,読み替え表_クールビズ!$P$38:$P$59,0),1,0)),0))","v":""},"","",0,0,"*"]
[null,null,1940,null,null,null,null,null,null,null,null,null,null,null,null,null,null,null,null,null,null,null,null,null,null,null,null,null,null,null,null,null,"","",{"$f":"IF($N1950=\"\",\"\",IFERROR(IF(N1950=6,1,IF(MATCH(N1950&\"/\"&R1950,読み替え表_クールビズ!$P$38:$P$59,0),1,0)),0))","v":""},{"$f":"IF($P1950=\"\",\"\",IFERROR(IF(P1950=6,1,IF(MATCH(P1950&\"/\"&R1950,読み替え表_クールビズ!$P$38:$P$59,0),1,0)),0))","v":""},"","",0,0,"*"]
[null,null,1941,null,null,null,null,null,null,null,null,null,null,null,null,null,null,null,null,null,null,null,null,null,null,null,null,null,null,null,null,null,"","",{"$f":"IF($N1951=\"\",\"\",IFERROR(IF(N1951=6,1,IF(MATCH(N1951&\"/\"&R1951,読み替え表_クールビズ!$P$38:$P$59,0),1,0)),0))","v":""},{"$f":"IF($P1951=\"\",\"\",IFERROR(IF(P1951=6,1,IF(MATCH(P1951&\"/\"&R1951,読み替え表_クールビズ!$P$38:$P$59,0),1,0)),0))","v":""},"","",0,0,"*"]
[null,null,1942,null,null,null,null,null,null,null,null,null,null,null,null,null,null,null,null,null,null,null,null,null,null,null,null,null,null,null,null,null,"","",{"$f":"IF($N1952=\"\",\"\",IFERROR(IF(N1952=6,1,IF(MATCH(N1952&\"/\"&R1952,読み替え表_クールビズ!$P$38:$P$59,0),1,0)),0))","v":""},{"$f":"IF($P1952=\"\",\"\",IFERROR(IF(P1952=6,1,IF(MATCH(P1952&\"/\"&R1952,読み替え表_クールビズ!$P$38:$P$59,0),1,0)),0))","v":""},"","",0,0,"*"]
[null,null,1943,null,null,null,null,null,null,null,null,null,null,null,null,null,null,null,null,null,null,null,null,null,null,null,null,null,null,null,null,null,"","",{"$f":"IF($N1953=\"\",\"\",IFERROR(IF(N1953=6,1,IF(MATCH(N1953&\"/\"&R1953,読み替え表_クールビズ!$P$38:$P$59,0),1,0)),0))","v":""},{"$f":"IF($P1953=\"\",\"\",IFERROR(IF(P1953=6,1,IF(MATCH(P1953&\"/\"&R1953,読み替え表_クールビズ!$P$38:$P$59,0),1,0)),0))","v":""},"","",0,0,"*"]
[null,null,1944,null,null,null,null,null,null,null,null,null,null,null,null,null,null,null,null,null,null,null,null,null,null,null,null,null,null,null,null,null,"","",{"$f":"IF($N1954=\"\",\"\",IFERROR(IF(N1954=6,1,IF(MATCH(N1954&\"/\"&R1954,読み替え表_クールビズ!$P$38:$P$59,0),1,0)),0))","v":""},{"$f":"IF($P1954=\"\",\"\",IFERROR(IF(P1954=6,1,IF(MATCH(P1954&\"/\"&R1954,読み替え表_クールビズ!$P$38:$P$59,0),1,0)),0))","v":""},"","",0,0,"*"]
[null,null,1945,null,null,null,null,null,null,null,null,null,null,null,null,null,null,null,null,null,null,null,null,null,null,null,null,null,null,null,null,null,"","",{"$f":"IF($N1955=\"\",\"\",IFERROR(IF(N1955=6,1,IF(MATCH(N1955&\"/\"&R1955,読み替え表_クールビズ!$P$38:$P$59,0),1,0)),0))","v":""},{"$f":"IF($P1955=\"\",\"\",IFERROR(IF(P1955=6,1,IF(MATCH(P1955&\"/\"&R1955,読み替え表_クールビズ!$P$38:$P$59,0),1,0)),0))","v":""},"","",0,0,"*"]
[null,null,1946,null,null,null,null,null,null,null,null,null,null,null,null,null,null,null,null,null,null,null,null,null,null,null,null,null,null,null,null,null,"","",{"$f":"IF($N1956=\"\",\"\",IFERROR(IF(N1956=6,1,IF(MATCH(N1956&\"/\"&R1956,読み替え表_クールビズ!$P$38:$P$59,0),1,0)),0))","v":""},{"$f":"IF($P1956=\"\",\"\",IFERROR(IF(P1956=6,1,IF(MATCH(P1956&\"/\"&R1956,読み替え表_クールビズ!$P$38:$P$59,0),1,0)),0))","v":""},"","",0,0,"*"]
[null,null,1947,null,null,null,null,null,null,null,null,null,null,null,null,null,null,null,null,null,null,null,null,null,null,null,null,null,null,null,null,null,"","",{"$f":"IF($N1957=\"\",\"\",IFERROR(IF(N1957=6,1,IF(MATCH(N1957&\"/\"&R1957,読み替え表_クールビズ!$P$38:$P$59,0),1,0)),0))","v":""},{"$f":"IF($P1957=\"\",\"\",IFERROR(IF(P1957=6,1,IF(MATCH(P1957&\"/\"&R1957,読み替え表_クールビズ!$P$38:$P$59,0),1,0)),0))","v":""},"","",0,0,"*"]
[null,null,1948,null,null,null,null,null,null,null,null,null,null,null,null,null,null,null,null,null,null,null,null,null,null,null,null,null,null,null,null,null,"","",{"$f":"IF($N1958=\"\",\"\",IFERROR(IF(N1958=6,1,IF(MATCH(N1958&\"/\"&R1958,読み替え表_クールビズ!$P$38:$P$59,0),1,0)),0))","v":""},{"$f":"IF($P1958=\"\",\"\",IFERROR(IF(P1958=6,1,IF(MATCH(P1958&\"/\"&R1958,読み替え表_クールビズ!$P$38:$P$59,0),1,0)),0))","v":""},"","",0,0,"*"]
[null,null,1949,null,null,null,null,null,null,null,null,null,null,null,null,null,null,null,null,null,null,null,null,null,null,null,null,null,null,null,null,null,"","",{"$f":"IF($N1959=\"\",\"\",IFERROR(IF(N1959=6,1,IF(MATCH(N1959&\"/\"&R1959,読み替え表_クールビズ!$P$38:$P$59,0),1,0)),0))","v":""},{"$f":"IF($P1959=\"\",\"\",IFERROR(IF(P1959=6,1,IF(MATCH(P1959&\"/\"&R1959,読み替え表_クールビズ!$P$38:$P$59,0),1,0)),0))","v":""},"","",0,0,"*"]
[null,null,1950,null,null,null,null,null,null,null,null,null,null,null,null,null,null,null,null,null,null,null,null,null,null,null,null,null,null,null,null,null,"","",{"$f":"IF($N1960=\"\",\"\",IFERROR(IF(N1960=6,1,IF(MATCH(N1960&\"/\"&R1960,読み替え表_クールビズ!$P$38:$P$59,0),1,0)),0))","v":""},{"$f":"IF($P1960=\"\",\"\",IFERROR(IF(P1960=6,1,IF(MATCH(P1960&\"/\"&R1960,読み替え表_クールビズ!$P$38:$P$59,0),1,0)),0))","v":""},"","",0,0,"*"]
[null,null,1951,null,null,null,null,null,null,null,null,null,null,null,null,null,null,null,null,null,null,null,null,null,null,null,null,null,null,null,null,null,"","",{"$f":"IF($N1961=\"\",\"\",IFERROR(IF(N1961=6,1,IF(MATCH(N1961&\"/\"&R1961,読み替え表_クールビズ!$P$38:$P$59,0),1,0)),0))","v":""},{"$f":"IF($P1961=\"\",\"\",IFERROR(IF(P1961=6,1,IF(MATCH(P1961&\"/\"&R1961,読み替え表_クールビズ!$P$38:$P$59,0),1,0)),0))","v":""},"","",0,0,"*"]
[null,null,1952,null,null,null,null,null,null,null,null,null,null,null,null,null,null,null,null,null,null,null,null,null,null,null,null,null,null,null,null,null,"","",{"$f":"IF($N1962=\"\",\"\",IFERROR(IF(N1962=6,1,IF(MATCH(N1962&\"/\"&R1962,読み替え表_クールビズ!$P$38:$P$59,0),1,0)),0))","v":""},{"$f":"IF($P1962=\"\",\"\",IFERROR(IF(P1962=6,1,IF(MATCH(P1962&\"/\"&R1962,読み替え表_クールビズ!$P$38:$P$59,0),1,0)),0))","v":""},"","",0,0,"*"]
[null,null,1953,null,null,null,null,null,null,null,null,null,null,null,null,null,null,null,null,null,null,null,null,null,null,null,null,null,null,null,null,null,"","",{"$f":"IF($N1963=\"\",\"\",IFERROR(IF(N1963=6,1,IF(MATCH(N1963&\"/\"&R1963,読み替え表_クールビズ!$P$38:$P$59,0),1,0)),0))","v":""},{"$f":"IF($P1963=\"\",\"\",IFERROR(IF(P1963=6,1,IF(MATCH(P1963&\"/\"&R1963,読み替え表_クールビズ!$P$38:$P$59,0),1,0)),0))","v":""},"","",0,0,"*"]
[null,null,1954,null,null,null,null,null,null,null,null,null,null,null,null,null,null,null,null,null,null,null,null,null,null,null,null,null,null,null,null,null,"","",{"$f":"IF($N1964=\"\",\"\",IFERROR(IF(N1964=6,1,IF(MATCH(N1964&\"/\"&R1964,読み替え表_クールビズ!$P$38:$P$59,0),1,0)),0))","v":""},{"$f":"IF($P1964=\"\",\"\",IFERROR(IF(P1964=6,1,IF(MATCH(P1964&\"/\"&R1964,読み替え表_クールビズ!$P$38:$P$59,0),1,0)),0))","v":""},"","",0,0,"*"]
[null,null,1955,null,null,null,null,null,null,null,null,null,null,null,null,null,null,null,null,null,null,null,null,null,null,null,null,null,null,null,null,null,"","",{"$f":"IF($N1965=\"\",\"\",IFERROR(IF(N1965=6,1,IF(MATCH(N1965&\"/\"&R1965,読み替え表_クールビズ!$P$38:$P$59,0),1,0)),0))","v":""},{"$f":"IF($P1965=\"\",\"\",IFERROR(IF(P1965=6,1,IF(MATCH(P1965&\"/\"&R1965,読み替え表_クールビズ!$P$38:$P$59,0),1,0)),0))","v":""},"","",0,0,"*"]
[null,null,1956,null,null,null,null,null,null,null,null,null,null,null,null,null,null,null,null,null,null,null,null,null,null,null,null,null,null,null,null,null,"","",{"$f":"IF($N1966=\"\",\"\",IFERROR(IF(N1966=6,1,IF(MATCH(N1966&\"/\"&R1966,読み替え表_クールビズ!$P$38:$P$59,0),1,0)),0))","v":""},{"$f":"IF($P1966=\"\",\"\",IFERROR(IF(P1966=6,1,IF(MATCH(P1966&\"/\"&R1966,読み替え表_クールビズ!$P$38:$P$59,0),1,0)),0))","v":""},"","",0,0,"*"]
[null,null,1957,null,null,null,null,null,null,null,null,null,null,null,null,null,null,null,null,null,null,null,null,null,null,null,null,null,null,null,null,null,"","",{"$f":"IF($N1967=\"\",\"\",IFERROR(IF(N1967=6,1,IF(MATCH(N1967&\"/\"&R1967,読み替え表_クールビズ!$P$38:$P$59,0),1,0)),0))","v":""},{"$f":"IF($P1967=\"\",\"\",IFERROR(IF(P1967=6,1,IF(MATCH(P1967&\"/\"&R1967,読み替え表_クールビズ!$P$38:$P$59,0),1,0)),0))","v":""},"","",0,0,"*"]
[null,null,1958,null,null,null,null,null,null,null,null,null,null,null,null,null,null,null,null,null,null,null,null,null,null,null,null,null,null,null,null,null,"","",{"$f":"IF($N1968=\"\",\"\",IFERROR(IF(N1968=6,1,IF(MATCH(N1968&\"/\"&R1968,読み替え表_クールビズ!$P$38:$P$59,0),1,0)),0))","v":""},{"$f":"IF($P1968=\"\",\"\",IFERROR(IF(P1968=6,1,IF(MATCH(P1968&\"/\"&R1968,読み替え表_クールビズ!$P$38:$P$59,0),1,0)),0))","v":""},"","",0,0,"*"]
[null,null,1959,null,null,null,null,null,null,null,null,null,null,null,null,null,null,null,null,null,null,null,null,null,null,null,null,null,null,null,null,null,"","",{"$f":"IF($N1969=\"\",\"\",IFERROR(IF(N1969=6,1,IF(MATCH(N1969&\"/\"&R1969,読み替え表_クールビズ!$P$38:$P$59,0),1,0)),0))","v":""},{"$f":"IF($P1969=\"\",\"\",IFERROR(IF(P1969=6,1,IF(MATCH(P1969&\"/\"&R1969,読み替え表_クールビズ!$P$38:$P$59,0),1,0)),0))","v":""},"","",0,0,"*"]
[null,null,1960,null,null,null,null,null,null,null,null,null,null,null,null,null,null,null,null,null,null,null,null,null,null,null,null,null,null,null,null,null,"","",{"$f":"IF($N1970=\"\",\"\",IFERROR(IF(N1970=6,1,IF(MATCH(N1970&\"/\"&R1970,読み替え表_クールビズ!$P$38:$P$59,0),1,0)),0))","v":""},{"$f":"IF($P1970=\"\",\"\",IFERROR(IF(P1970=6,1,IF(MATCH(P1970&\"/\"&R1970,読み替え表_クールビズ!$P$38:$P$59,0),1,0)),0))","v":""},"","",0,0,"*"]
[null,null,1961,null,null,null,null,null,null,null,null,null,null,null,null,null,null,null,null,null,null,null,null,null,null,null,null,null,null,null,null,null,"","",{"$f":"IF($N1971=\"\",\"\",IFERROR(IF(N1971=6,1,IF(MATCH(N1971&\"/\"&R1971,読み替え表_クールビズ!$P$38:$P$59,0),1,0)),0))","v":""},{"$f":"IF($P1971=\"\",\"\",IFERROR(IF(P1971=6,1,IF(MATCH(P1971&\"/\"&R1971,読み替え表_クールビズ!$P$38:$P$59,0),1,0)),0))","v":""},"","",0,0,"*"]
[null,null,1962,null,null,null,null,null,null,null,null,null,null,null,null,null,null,null,null,null,null,null,null,null,null,null,null,null,null,null,null,null,"","",{"$f":"IF($N1972=\"\",\"\",IFERROR(IF(N1972=6,1,IF(MATCH(N1972&\"/\"&R1972,読み替え表_クールビズ!$P$38:$P$59,0),1,0)),0))","v":""},{"$f":"IF($P1972=\"\",\"\",IFERROR(IF(P1972=6,1,IF(MATCH(P1972&\"/\"&R1972,読み替え表_クールビズ!$P$38:$P$59,0),1,0)),0))","v":""},"","",0,0,"*"]
[null,null,1963,null,null,null,null,null,null,null,null,null,null,null,null,null,null,null,null,null,null,null,null,null,null,null,null,null,null,null,null,null,"","",{"$f":"IF($N1973=\"\",\"\",IFERROR(IF(N1973=6,1,IF(MATCH(N1973&\"/\"&R1973,読み替え表_クールビズ!$P$38:$P$59,0),1,0)),0))","v":""},{"$f":"IF($P1973=\"\",\"\",IFERROR(IF(P1973=6,1,IF(MATCH(P1973&\"/\"&R1973,読み替え表_クールビズ!$P$38:$P$59,0),1,0)),0))","v":""},"","",0,0,"*"]
[null,null,1964,null,null,null,null,null,null,null,null,null,null,null,null,null,null,null,null,null,null,null,null,null,null,null,null,null,null,null,null,null,"","",{"$f":"IF($N1974=\"\",\"\",IFERROR(IF(N1974=6,1,IF(MATCH(N1974&\"/\"&R1974,読み替え表_クールビズ!$P$38:$P$59,0),1,0)),0))","v":""},{"$f":"IF($P1974=\"\",\"\",IFERROR(IF(P1974=6,1,IF(MATCH(P1974&\"/\"&R1974,読み替え表_クールビズ!$P$38:$P$59,0),1,0)),0))","v":""},"","",0,0,"*"]
[null,null,1965,null,null,null,null,null,null,null,null,null,null,null,null,null,null,null,null,null,null,null,null,null,null,null,null,null,null,null,null,null,"","",{"$f":"IF($N1975=\"\",\"\",IFERROR(IF(N1975=6,1,IF(MATCH(N1975&\"/\"&R1975,読み替え表_クールビズ!$P$38:$P$59,0),1,0)),0))","v":""},{"$f":"IF($P1975=\"\",\"\",IFERROR(IF(P1975=6,1,IF(MATCH(P1975&\"/\"&R1975,読み替え表_クールビズ!$P$38:$P$59,0),1,0)),0))","v":""},"","",0,0,"*"]
[null,null,1966,null,null,null,null,null,null,null,null,null,null,null,null,null,null,null,null,null,null,null,null,null,null,null,null,null,null,null,null,null,"","",{"$f":"IF($N1976=\"\",\"\",IFERROR(IF(N1976=6,1,IF(MATCH(N1976&\"/\"&R1976,読み替え表_クールビズ!$P$38:$P$59,0),1,0)),0))","v":""},{"$f":"IF($P1976=\"\",\"\",IFERROR(IF(P1976=6,1,IF(MATCH(P1976&\"/\"&R1976,読み替え表_クールビズ!$P$38:$P$59,0),1,0)),0))","v":""},"","",0,0,"*"]
[null,null,1967,null,null,null,null,null,null,null,null,null,null,null,null,null,null,null,null,null,null,null,null,null,null,null,null,null,null,null,null,null,"","",{"$f":"IF($N1977=\"\",\"\",IFERROR(IF(N1977=6,1,IF(MATCH(N1977&\"/\"&R1977,読み替え表_クールビズ!$P$38:$P$59,0),1,0)),0))","v":""},{"$f":"IF($P1977=\"\",\"\",IFERROR(IF(P1977=6,1,IF(MATCH(P1977&\"/\"&R1977,読み替え表_クールビズ!$P$38:$P$59,0),1,0)),0))","v":""},"","",0,0,"*"]
[null,null,1968,null,null,null,null,null,null,null,null,null,null,null,null,null,null,null,null,null,null,null,null,null,null,null,null,null,null,null,null,null,"","",{"$f":"IF($N1978=\"\",\"\",IFERROR(IF(N1978=6,1,IF(MATCH(N1978&\"/\"&R1978,読み替え表_クールビズ!$P$38:$P$59,0),1,0)),0))","v":""},{"$f":"IF($P1978=\"\",\"\",IFERROR(IF(P1978=6,1,IF(MATCH(P1978&\"/\"&R1978,読み替え表_クールビズ!$P$38:$P$59,0),1,0)),0))","v":""},"","",0,0,"*"]
[null,null,1969,null,null,null,null,null,null,null,null,null,null,null,null,null,null,null,null,null,null,null,null,null,null,null,null,null,null,null,null,null,"","",{"$f":"IF($N1979=\"\",\"\",IFERROR(IF(N1979=6,1,IF(MATCH(N1979&\"/\"&R1979,読み替え表_クールビズ!$P$38:$P$59,0),1,0)),0))","v":""},{"$f":"IF($P1979=\"\",\"\",IFERROR(IF(P1979=6,1,IF(MATCH(P1979&\"/\"&R1979,読み替え表_クールビズ!$P$38:$P$59,0),1,0)),0))","v":""},"","",0,0,"*"]
[null,null,1970,null,null,null,null,null,null,null,null,null,null,null,null,null,null,null,null,null,null,null,null,null,null,null,null,null,null,null,null,null,"","",{"$f":"IF($N1980=\"\",\"\",IFERROR(IF(N1980=6,1,IF(MATCH(N1980&\"/\"&R1980,読み替え表_クールビズ!$P$38:$P$59,0),1,0)),0))","v":""},{"$f":"IF($P1980=\"\",\"\",IFERROR(IF(P1980=6,1,IF(MATCH(P1980&\"/\"&R1980,読み替え表_クールビズ!$P$38:$P$59,0),1,0)),0))","v":""},"","",0,0,"*"]
[null,null,1971,null,null,null,null,null,null,null,null,null,null,null,null,null,null,null,null,null,null,null,null,null,null,null,null,null,null,null,null,null,"","",{"$f":"IF($N1981=\"\",\"\",IFERROR(IF(N1981=6,1,IF(MATCH(N1981&\"/\"&R1981,読み替え表_クールビズ!$P$38:$P$59,0),1,0)),0))","v":""},{"$f":"IF($P1981=\"\",\"\",IFERROR(IF(P1981=6,1,IF(MATCH(P1981&\"/\"&R1981,読み替え表_クールビズ!$P$38:$P$59,0),1,0)),0))","v":""},"","",0,0,"*"]
[null,null,1972,null,null,null,null,null,null,null,null,null,null,null,null,null,null,null,null,null,null,null,null,null,null,null,null,null,null,null,null,null,"","",{"$f":"IF($N1982=\"\",\"\",IFERROR(IF(N1982=6,1,IF(MATCH(N1982&\"/\"&R1982,読み替え表_クールビズ!$P$38:$P$59,0),1,0)),0))","v":""},{"$f":"IF($P1982=\"\",\"\",IFERROR(IF(P1982=6,1,IF(MATCH(P1982&\"/\"&R1982,読み替え表_クールビズ!$P$38:$P$59,0),1,0)),0))","v":""},"","",0,0,"*"]
[null,null,1973,null,null,null,null,null,null,null,null,null,null,null,null,null,null,null,null,null,null,null,null,null,null,null,null,null,null,null,null,null,"","",{"$f":"IF($N1983=\"\",\"\",IFERROR(IF(N1983=6,1,IF(MATCH(N1983&\"/\"&R1983,読み替え表_クールビズ!$P$38:$P$59,0),1,0)),0))","v":""},{"$f":"IF($P1983=\"\",\"\",IFERROR(IF(P1983=6,1,IF(MATCH(P1983&\"/\"&R1983,読み替え表_クールビズ!$P$38:$P$59,0),1,0)),0))","v":""},"","",0,0,"*"]
[null,null,1974,null,null,null,null,null,null,null,null,null,null,null,null,null,null,null,null,null,null,null,null,null,null,null,null,null,null,null,null,null,"","",{"$f":"IF($N1984=\"\",\"\",IFERROR(IF(N1984=6,1,IF(MATCH(N1984&\"/\"&R1984,読み替え表_クールビズ!$P$38:$P$59,0),1,0)),0))","v":""},{"$f":"IF($P1984=\"\",\"\",IFERROR(IF(P1984=6,1,IF(MATCH(P1984&\"/\"&R1984,読み替え表_クールビズ!$P$38:$P$59,0),1,0)),0))","v":""},"","",0,0,"*"]
[null,null,1975,null,null,null,null,null,null,null,null,null,null,null,null,null,null,null,null,null,null,null,null,null,null,null,null,null,null,null,null,null,"","",{"$f":"IF($N1985=\"\",\"\",IFERROR(IF(N1985=6,1,IF(MATCH(N1985&\"/\"&R1985,読み替え表_クールビズ!$P$38:$P$59,0),1,0)),0))","v":""},{"$f":"IF($P1985=\"\",\"\",IFERROR(IF(P1985=6,1,IF(MATCH(P1985&\"/\"&R1985,読み替え表_クールビズ!$P$38:$P$59,0),1,0)),0))","v":""},"","",0,0,"*"]
[null,null,1976,null,null,null,null,null,null,null,null,null,null,null,null,null,null,null,null,null,null,null,null,null,null,null,null,null,null,null,null,null,"","",{"$f":"IF($N1986=\"\",\"\",IFERROR(IF(N1986=6,1,IF(MATCH(N1986&\"/\"&R1986,読み替え表_クールビズ!$P$38:$P$59,0),1,0)),0))","v":""},{"$f":"IF($P1986=\"\",\"\",IFERROR(IF(P1986=6,1,IF(MATCH(P1986&\"/\"&R1986,読み替え表_クールビズ!$P$38:$P$59,0),1,0)),0))","v":""},"","",0,0,"*"]
[null,null,1977,null,null,null,null,null,null,null,null,null,null,null,null,null,null,null,null,null,null,null,null,null,null,null,null,null,null,null,null,null,"","",{"$f":"IF($N1987=\"\",\"\",IFERROR(IF(N1987=6,1,IF(MATCH(N1987&\"/\"&R1987,読み替え表_クールビズ!$P$38:$P$59,0),1,0)),0))","v":""},{"$f":"IF($P1987=\"\",\"\",IFERROR(IF(P1987=6,1,IF(MATCH(P1987&\"/\"&R1987,読み替え表_クールビズ!$P$38:$P$59,0),1,0)),0))","v":""},"","",0,0,"*"]
[null,null,1978,null,null,null,null,null,null,null,null,null,null,null,null,null,null,null,null,null,null,null,null,null,null,null,null,null,null,null,null,null,"","",{"$f":"IF($N1988=\"\",\"\",IFERROR(IF(N1988=6,1,IF(MATCH(N1988&\"/\"&R1988,読み替え表_クールビズ!$P$38:$P$59,0),1,0)),0))","v":""},{"$f":"IF($P1988=\"\",\"\",IFERROR(IF(P1988=6,1,IF(MATCH(P1988&\"/\"&R1988,読み替え表_クールビズ!$P$38:$P$59,0),1,0)),0))","v":""},"","",0,0,"*"]
[null,null,1979,null,null,null,null,null,null,null,null,null,null,null,null,null,null,null,null,null,null,null,null,null,null,null,null,null,null,null,null,null,"","",{"$f":"IF($N1989=\"\",\"\",IFERROR(IF(N1989=6,1,IF(MATCH(N1989&\"/\"&R1989,読み替え表_クールビズ!$P$38:$P$59,0),1,0)),0))","v":""},{"$f":"IF($P1989=\"\",\"\",IFERROR(IF(P1989=6,1,IF(MATCH(P1989&\"/\"&R1989,読み替え表_クールビズ!$P$38:$P$59,0),1,0)),0))","v":""},"","",0,0,"*"]
[null,null,1980,null,null,null,null,null,null,null,null,null,null,null,null,null,null,null,null,null,null,null,null,null,null,null,null,null,null,null,null,null,"","",{"$f":"IF($N1990=\"\",\"\",IFERROR(IF(N1990=6,1,IF(MATCH(N1990&\"/\"&R1990,読み替え表_クールビズ!$P$38:$P$59,0),1,0)),0))","v":""},{"$f":"IF($P1990=\"\",\"\",IFERROR(IF(P1990=6,1,IF(MATCH(P1990&\"/\"&R1990,読み替え表_クールビズ!$P$38:$P$59,0),1,0)),0))","v":""},"","",0,0,"*"]
[null,null,1981,null,null,null,null,null,null,null,null,null,null,null,null,null,null,null,null,null,null,null,null,null,null,null,null,null,null,null,null,null,"","",{"$f":"IF($N1991=\"\",\"\",IFERROR(IF(N1991=6,1,IF(MATCH(N1991&\"/\"&R1991,読み替え表_クールビズ!$P$38:$P$59,0),1,0)),0))","v":""},{"$f":"IF($P1991=\"\",\"\",IFERROR(IF(P1991=6,1,IF(MATCH(P1991&\"/\"&R1991,読み替え表_クールビズ!$P$38:$P$59,0),1,0)),0))","v":""},"","",0,0,"*"]
[null,null,1982,null,null,null,null,null,null,null,null,null,null,null,null,null,null,null,null,null,null,null,null,null,null,null,null,null,null,null,null,null,"","",{"$f":"IF($N1992=\"\",\"\",IFERROR(IF(N1992=6,1,IF(MATCH(N1992&\"/\"&R1992,読み替え表_クールビズ!$P$38:$P$59,0),1,0)),0))","v":""},{"$f":"IF($P1992=\"\",\"\",IFERROR(IF(P1992=6,1,IF(MATCH(P1992&\"/\"&R1992,読み替え表_クールビズ!$P$38:$P$59,0),1,0)),0))","v":""},"","",0,0,"*"]
[null,null,1983,null,null,null,null,null,null,null,null,null,null,null,null,null,null,null,null,null,null,null,null,null,null,null,null,null,null,null,null,null,"","",{"$f":"IF($N1993=\"\",\"\",IFERROR(IF(N1993=6,1,IF(MATCH(N1993&\"/\"&R1993,読み替え表_クールビズ!$P$38:$P$59,0),1,0)),0))","v":""},{"$f":"IF($P1993=\"\",\"\",IFERROR(IF(P1993=6,1,IF(MATCH(P1993&\"/\"&R1993,読み替え表_クールビズ!$P$38:$P$59,0),1,0)),0))","v":""},"","",0,0,"*"]
[null,null,1984,null,null,null,null,null,null,null,null,null,null,null,null,null,null,null,null,null,null,null,null,null,null,null,null,null,null,null,null,null,"","",{"$f":"IF($N1994=\"\",\"\",IFERROR(IF(N1994=6,1,IF(MATCH(N1994&\"/\"&R1994,読み替え表_クールビズ!$P$38:$P$59,0),1,0)),0))","v":""},{"$f":"IF($P1994=\"\",\"\",IFERROR(IF(P1994=6,1,IF(MATCH(P1994&\"/\"&R1994,読み替え表_クールビズ!$P$38:$P$59,0),1,0)),0))","v":""},"","",0,0,"*"]
[null,null,1985,null,null,null,null,null,null,null,null,null,null,null,null,null,null,null,null,null,null,null,null,null,null,null,null,null,null,null,null,null,"","",{"$f":"IF($N1995=\"\",\"\",IFERROR(IF(N1995=6,1,IF(MATCH(N1995&\"/\"&R1995,読み替え表_クールビズ!$P$38:$P$59,0),1,0)),0))","v":""},{"$f":"IF($P1995=\"\",\"\",IFERROR(IF(P1995=6,1,IF(MATCH(P1995&\"/\"&R1995,読み替え表_クールビズ!$P$38:$P$59,0),1,0)),0))","v":""},{"$f":"IF($N1995=\"\",\"\",IF(OR(CONCATENATE(N1995,$R1995)=\"22\",CONCATENATE(N1995,$R1995)=\"32\",CONCATENATE(N1995,$R1995)=\"42\",CONCATENATE(N1995,$R1995)=\"43\",CONCATENATE(N1995,$R1995)=\"51\",CONCATENATE(N1995,$R1995)=\"52\",CONCATENATE(N1995,$R1995)=\"53\"),1,0))","v":""},{"$f":"IF($P1995=\"\",\"\",IF(OR(CONCATENATE(P1995,$R1995)=\"22\",CONCATENATE(P1995,$R1995)=\"32\",CONCATENATE(P1995,$R1995)=\"42\",CONCATENATE(P1995,$R1995)=\"43\",CONCATENATE(P1995,$R1995)=\"51\",CONCATENATE(P1995,$R1995)=\"52\",CONCATENATE(P1995,$R1995)=\"53\"),1,0))","v":""},0,0,"*"]
[null,null,{"$f":"ROW()-10","v":1986},null,null,null,null,null,null,null,null,null,null,null,null,null,null,null,null,null,null,null,null,null,null,null,null,null,null,null,null,null,{"$f":"IF($J1996=\"\",\"\",IF(AND($J1996>=1,$J1996<=9),1,0))","v":""},{"$f":"IF($R1996=\"\",\"\",IF(OR($R1996=1,$R1996=2,$R1996=3),1,0))","v":""},{"$f":"IF($N1996=\"\",\"\",IFERROR(IF(N1996=6,1,IF(MATCH(N1996&\"/\"&R1996,読み替え表_クールビズ!$P$38:$P$59,0),1,0)),0))","v":""},{"$f":"IF($P1996=\"\",\"\",IFERROR(IF(P1996=6,1,IF(MATCH(P1996&\"/\"&R1996,読み替え表_クールビズ!$P$38:$P$59,0),1,0)),0))","v":""},"","",{"$f":"IF(OR(AK1996=1,AL1996=1),1,0)","v":0},{"$f":"IF(OR($AG1996=0,SUM(AI1996:AJ1996)=2),1,0)","v":0},"*"]
[null,null,1987,null,null,null,null,null,null,null,null,null,null,null,null,null,null,null,null,null,null,null,null,null,null,null,null,null,null,null,null,null,"","",{"$f":"IF($N1997=\"\",\"\",IFERROR(IF(N1997=6,1,IF(MATCH(N1997&\"/\"&R1997,読み替え表_クールビズ!$P$38:$P$59,0),1,0)),0))","v":""},{"$f":"IF($P1997=\"\",\"\",IFERROR(IF(P1997=6,1,IF(MATCH(P1997&\"/\"&R1997,読み替え表_クールビズ!$P$38:$P$59,0),1,0)),0))","v":""},"","",0,0,"*"]
[null,null,1988,null,null,null,null,null,null,null,null,null,null,null,null,null,null,null,null,null,null,null,null,null,null,null,null,null,null,null,null,null,"","",{"$f":"IF($N1998=\"\",\"\",IFERROR(IF(N1998=6,1,IF(MATCH(N1998&\"/\"&R1998,読み替え表_クールビズ!$P$38:$P$59,0),1,0)),0))","v":""},{"$f":"IF($P1998=\"\",\"\",IFERROR(IF(P1998=6,1,IF(MATCH(P1998&\"/\"&R1998,読み替え表_クールビズ!$P$38:$P$59,0),1,0)),0))","v":""},"","",0,0,"*"]
[null,null,1989,null,null,null,null,null,null,null,null,null,null,null,null,null,null,null,null,null,null,null,null,null,null,null,null,null,null,null,null,null,"","",{"$f":"IF($N1999=\"\",\"\",IFERROR(IF(N1999=6,1,IF(MATCH(N1999&\"/\"&R1999,読み替え表_クールビズ!$P$38:$P$59,0),1,0)),0))","v":""},{"$f":"IF($P1999=\"\",\"\",IFERROR(IF(P1999=6,1,IF(MATCH(P1999&\"/\"&R1999,読み替え表_クールビズ!$P$38:$P$59,0),1,0)),0))","v":""},"","",0,0,"*"]
[null,null,1990,null,null,null,null,null,null,null,null,null,null,null,null,null,null,null,null,null,null,null,null,null,null,null,null,null,null,null,null,null,"","",{"$f":"IF($N2000=\"\",\"\",IFERROR(IF(N2000=6,1,IF(MATCH(N2000&\"/\"&R2000,読み替え表_クールビズ!$P$38:$P$59,0),1,0)),0))","v":""},{"$f":"IF($P2000=\"\",\"\",IFERROR(IF(P2000=6,1,IF(MATCH(P2000&\"/\"&R2000,読み替え表_クールビズ!$P$38:$P$59,0),1,0)),0))","v":""},"","",0,0,"*"]
[null,null,1991,null,null,null,null,null,null,null,null,null,null,null,null,null,null,null,null,null,null,null,null,null,null,null,null,null,null,null,null,null,"","",{"$f":"IF($N2001=\"\",\"\",IFERROR(IF(N2001=6,1,IF(MATCH(N2001&\"/\"&R2001,読み替え表_クールビズ!$P$38:$P$59,0),1,0)),0))","v":""},{"$f":"IF($P2001=\"\",\"\",IFERROR(IF(P2001=6,1,IF(MATCH(P2001&\"/\"&R2001,読み替え表_クールビズ!$P$38:$P$59,0),1,0)),0))","v":""},"","",0,0,"*"]
[null,null,1992,null,null,null,null,null,null,null,null,null,null,null,null,null,null,null,null,null,null,null,null,null,null,null,null,null,null,null,null,null,"","",{"$f":"IF($N2002=\"\",\"\",IFERROR(IF(N2002=6,1,IF(MATCH(N2002&\"/\"&R2002,読み替え表_クールビズ!$P$38:$P$59,0),1,0)),0))","v":""},{"$f":"IF($P2002=\"\",\"\",IFERROR(IF(P2002=6,1,IF(MATCH(P2002&\"/\"&R2002,読み替え表_クールビズ!$P$38:$P$59,0),1,0)),0))","v":""},"","",0,0,"*"]
[null,null,1993,null,null,null,null,null,null,null,null,null,null,null,null,null,null,null,null,null,null,null,null,null,null,null,null,null,null,null,null,null,"","",{"$f":"IF($N2003=\"\",\"\",IFERROR(IF(N2003=6,1,IF(MATCH(N2003&\"/\"&R2003,読み替え表_クールビズ!$P$38:$P$59,0),1,0)),0))","v":""},{"$f":"IF($P2003=\"\",\"\",IFERROR(IF(P2003=6,1,IF(MATCH(P2003&\"/\"&R2003,読み替え表_クールビズ!$P$38:$P$59,0),1,0)),0))","v":""},"","",0,0,"*"]
[null,null,1994,null,null,null,null,null,null,null,null,null,null,null,null,null,null,null,null,null,null,null,null,null,null,null,null,null,null,null,null,null,"","",{"$f":"IF($N2004=\"\",\"\",IFERROR(IF(N2004=6,1,IF(MATCH(N2004&\"/\"&R2004,読み替え表_クールビズ!$P$38:$P$59,0),1,0)),0))","v":""},{"$f":"IF($P2004=\"\",\"\",IFERROR(IF(P2004=6,1,IF(MATCH(P2004&\"/\"&R2004,読み替え表_クールビズ!$P$38:$P$59,0),1,0)),0))","v":""},"","",0,0,"*"]
[null,null,1995,null,null,null,null,null,null,null,null,null,null,null,null,null,null,null,null,null,null,null,null,null,null,null,null,null,null,null,null,null,"","",{"$f":"IF($N2005=\"\",\"\",IFERROR(IF(N2005=6,1,IF(MATCH(N2005&\"/\"&R2005,読み替え表_クールビズ!$P$38:$P$59,0),1,0)),0))","v":""},{"$f":"IF($P2005=\"\",\"\",IFERROR(IF(P2005=6,1,IF(MATCH(P2005&\"/\"&R2005,読み替え表_クールビズ!$P$38:$P$59,0),1,0)),0))","v":""},"","",0,0,"*"]
[null,null,1996,null,null,null,null,null,null,null,null,null,null,null,null,null,null,null,null,null,null,null,null,null,null,null,null,null,null,null,null,null,"","",{"$f":"IF($N2006=\"\",\"\",IFERROR(IF(N2006=6,1,IF(MATCH(N2006&\"/\"&R2006,読み替え表_クールビズ!$P$38:$P$59,0),1,0)),0))","v":""},{"$f":"IF($P2006=\"\",\"\",IFERROR(IF(P2006=6,1,IF(MATCH(P2006&\"/\"&R2006,読み替え表_クールビズ!$P$38:$P$59,0),1,0)),0))","v":""},"","",0,0,"*"]
[null,null,1997,null,null,null,null,null,null,null,null,null,null,null,null,null,null,null,null,null,null,null,null,null,null,null,null,null,null,null,null,null,"","",{"$f":"IF($N2007=\"\",\"\",IFERROR(IF(N2007=6,1,IF(MATCH(N2007&\"/\"&R2007,読み替え表_クールビズ!$P$38:$P$59,0),1,0)),0))","v":""},{"$f":"IF($P2007=\"\",\"\",IFERROR(IF(P2007=6,1,IF(MATCH(P2007&\"/\"&R2007,読み替え表_クールビズ!$P$38:$P$59,0),1,0)),0))","v":""},"","",0,0,"*"]
[null,null,1998,null,null,null,null,null,null,null,null,null,null,null,null,null,null,null,null,null,null,null,null,null,null,null,null,null,null,null,null,null,"","",{"$f":"IF($N2008=\"\",\"\",IFERROR(IF(N2008=6,1,IF(MATCH(N2008&\"/\"&R2008,読み替え表_クールビズ!$P$38:$P$59,0),1,0)),0))","v":""},{"$f":"IF($P2008=\"\",\"\",IFERROR(IF(P2008=6,1,IF(MATCH(P2008&\"/\"&R2008,読み替え表_クールビズ!$P$38:$P$59,0),1,0)),0))","v":""},"","",0,0,"*"]
[null,null,1999,null,null,null,null,null,null,null,null,null,null,null,null,null,null,null,null,null,null,null,null,null,null,null,null,null,null,null,null,null,"","",{"$f":"IF($N2009=\"\",\"\",IFERROR(IF(N2009=6,1,IF(MATCH(N2009&\"/\"&R2009,読み替え表_クールビズ!$P$38:$P$59,0),1,0)),0))","v":""},{"$f":"IF($P2009=\"\",\"\",IFERROR(IF(P2009=6,1,IF(MATCH(P2009&\"/\"&R2009,読み替え表_クールビズ!$P$38:$P$59,0),1,0)),0))","v":""},"","",0,0,"*"]
[null,null,2000,null,null,null,null,null,null,null,null,null,null,null,null,null,null,null,null,null,null,null,null,null,null,null,null,null,null,null,null,null,"","",{"$f":"IF($N2010=\"\",\"\",IFERROR(IF(N2010=6,1,IF(MATCH(N2010&\"/\"&R2010,読み替え表_クールビズ!$P$38:$P$59,0),1,0)),0))","v":""},{"$f":"IF($P2010=\"\",\"\",IFERROR(IF(P2010=6,1,IF(MATCH(P2010&\"/\"&R2010,読み替え表_クールビズ!$P$38:$P$59,0),1,0)),0))","v":""},"","",0,0,"*"]
[null,null,"*","*","*","*","*","*","*","*","*","*","*","*","*","*","*","*","*","*","*","*","*","*","*","*","*","*","*","*","*","*","*","*","*","*",null,null,null,"*","*"]

{"sheet":"集計結果⇒","index":3,"n_rows":0,"n_cols":0,"rows_kept":0,"cut":false,"hidden":false,"merged":[]}

{"sheet":"②単純集計表 ","index":4,"n_rows":213,"n_cols":16,"rows_kept":213,"cut":false,"hidden":false,"merged":[[135,1,142,1],[105,1,110,1],[161,1,161,5],[180,4,180,6],[180,8,180,10],[176,1,180,2],[184,8,184,10],[184,4,184,6],[193,8,193,10],[193,4,193,6],[188,1,193,2],[168,4,168,6],[168,8,168,10],[167,1,168,2],[179,4,179,6],[176,4,176,6],[176,8,176,10],[178,4,178,6],[178,8,178,10],[179,8,179,10],[169,4,169,6],[169,8,169,10],[170,4,170,6],[170,8,170,10],[29,4,29,5],[30,4,30,5],[31,4,31,5],[32,4,32,5],[27,1,44,1],[27,3,27,5],[35,3,35,5],[44,4,44,5],[40,4,40,5],[37,4,37,5],[38,4,38,5],[39,4,39,5],[43,4,43,5],[1,3,1,5],[7,3,7,5],[6,3,6,5],[66,1,69,1],[5,1,5,2],[5,3,5,5],[41,4,41,5],[42,4,42,5],[34,4,34,5],[36,4,36,5],[33,4,33,5],[1,1,1,2],[18,1,25,1],[4,1,4,2],[4,3,4,5],[3,3,3,5],[2,3,2,5],[28,4,28,5],[2,1,2,2],[3,1,3,2],[13,1,16,1],[46,1,60,1],[6,1,6,2],[7,1,7,2],[166,3,166,6],[166,7,166,10],[167,4,167,6],[167,8,167,10],[155,1,155,5],[156,1,156,5],[157,1,157,5],[158,1,158,5],[159,1,159,5],[160,1,160,5],[172,8,172,10],[174,4,174,6],[175,4,175,6],[173,8,173,10],[174,8,174,10],[175,8,175,10],[169,1,175,2],[195,8,195,10],[196,4,196,6],[196,8,196,10],[194,1,198,2],[177,4,177,6],[177,8,177,10],[173,4,173,6],[171,4,171,6],[171,8,171,10],[172,4,172,6],[194,4,194,6],[194,8,194,10],[195,4,195,6],[190,4,190,6],[190,8,190,10],[181,1,187,2],[181,4,181,6],[199,1,209,2],[209,4,209,6],[209,8,209,10],[205,8,205,10],[206,4,206,6],[206,8,206,10],[207,4,207,6],[200,4,200,6],[200,8,200,10],[207,8,207,10],[203,4,203,6],[201,4,201,6],[201,8,201,10],[181,8,181,10],[182,4,182,6],[182,8,182,10],[183,4,183,6],[183,8,183,10],[185,4,185,6],[185,8,185,10],[186,4,186,6],[186,8,186,10],[187,4,187,6],[187,8,187,10],[203,8,203,10],[204,4,204,6],[204,8,204,10],[205,4,205,6],[208,4,208,6],[80,1,86,1],[202,4,202,6],[202,8,202,10],[197,4,197,6],[197,8,197,10],[198,4,198,6],[198,8,198,10],[199,4,199,6],[199,8,199,10],[188,8,188,10],[189,4,189,6],[189,8,189,10],[188,4,188,6],[191,4,191,6],[191,8,191,10],[192,4,192,6],[192,8,192,10]]}
[]
[null,"都道府県",null,{"$f":"①会場アンケート集計結果_クールビズ!D11","v":0}]
[null,"事業者名",null,{"$f":"①会場アンケート集計結果_クールビズ!E11","v":0}]
[null,"イベント名",null,{"$f":"①会場アンケート集計結果_クールビズ!F11","v":0}]
[null,"回収日付",null,{"$f":"①会場アンケート集計結果_クールビズ!G11","v":"00:00:00"}]
[null,"アンケート回収数",null,{"$f":"COUNTIFS(①会場アンケート集計結果_クールビズ!$H$11:$H$2010,\"<>\"&\"\")","v":0}]
[null,"有効アンケート数",null,{"$f":"COUNTIFS(①会場アンケート集計結果_クールビズ!$H$11:$H$2010,\"<>\"&\"\",①会場アンケート集計結果_クールビズ!$AG$11:$AG$2010,1,①会場アンケート集計結果_クールビズ!$AN$11:$AN$2010,0)","v":0},{"$f":"COUNTIFS(①会場アンケート集計結果_クールビズ!$H$11:$H$2010,\"<>\"&\"\",①会場アンケート集計結果_クールビズ!$AN$11:$AN$2010,0)","v":0},{"$f":"COUNTIFS(①会場アンケート集計結果_クールビズ!$H$11:$H$2010,\"<>\"&\"\",①会場アンケート集計結果_クールビズ!$AN$11:$AN$2010,0)","v":0}]
[null,"メールアドレス回収数",null,{"$f":"COUNTIFS(①会場アンケート集計結果_クールビズ!$H$11:$H$2010,\"<>\"&\"\",①会場アンケート集計結果_クールビズ!$AN$11:$AN$2010,0,①会場アンケート集計結果_クールビズ!$AC$11:$AC$2010,1)","v":0}]
[]
[null,"【設問1-1】性別・年代"]
[null,"※来場者層の把握のため、「有効回答数」ではなく「アンケート回収数」で集計"]
[]
[null,null,null,null,null,null,"アンケート\n回収者","有効\n回答者","%","検算用"]
[null,"性別",1,"男性",null,null,{"$f":"COUNTIFS(①会場アンケート集計結果_クールビズ!$H:$H,'②単純集計表 '!D14)","v":0},{"$f":"COUNTIFS(①会場アンケート集計結果_クールビズ!$H$11:$H$2010,'②単純集計表 '!D14,①会場アンケート集計結果_クールビズ!$AG$11:$AG$2010,1,①会場アンケート集計結果_クールビズ!$AN$11:$AN$2010,0)","v":0},{"$f":"G14/$D$6","v":{"$error":"#DIV/0!"}}]
[null,null,2,"女性",null,null,{"$f":"COUNTIFS(①会場アンケート集計結果_クールビズ!$H:$H,'②単純集計表 '!D15)","v":0},{"$f":"COUNTIFS(①会場アンケート集計結果_クールビズ!$H$11:$H$2010,'②単純集計表 '!D15,①会場アンケート集計結果_クールビズ!$AG$11:$AG$2010,1,①会場アンケート集計結果_クールビズ!$AN$11:$AN$2010,0)","v":0},{"$f":"G15/$D$6","v":{"$error":"#DIV/0!"}}]
[null,null,3,"その他",null,null,{"$f":"COUNTIFS(①会場アンケート集計結果_クールビズ!$H:$H,'②単純集計表 '!D16)","v":0},{"$f":"COUNTIFS(①会場アンケート集計結果_クールビズ!$H$11:$H$2010,'②単純集計表 '!D16,①会場アンケート集計結果_クールビズ!$AG$11:$AG$2010,1,①会場アンケート集計結果_クールビズ!$AN$11:$AN$2010,0)","v":0},{"$f":"G16/$D$6","v":{"$error":"#DIV/0!"}}]
[null,null,99,"未回答",null,null,{"$f":"COUNTIFS(①会場アンケート集計結果_クールビズ!$H:$H,'②単純集計表 '!D17)","v":0},{"$f":"COUNTIFS(①会場アンケート集計結果_クールビズ!$H$11:$H$2010,'②単純集計表 '!D17,①会場アンケート集計結果_クールビズ!$AG$11:$AG$2010,1,①会場アンケート集計結果_クールビズ!$AN$11:$AN$2010,0)","v":0},{"$f":"G17/$D$6","v":{"$error":"#DIV/0!"}},{"$f":"SUM(G14:G17)","v":0}]
[]
[null,"年代",1,"10代",null,null,{"$f":"COUNTIFS(①会場アンケート集計結果_クールビズ!$I:$I,'②単純集計表 '!D19)","v":0},{"$f":"COUNTIFS(①会場アンケート集計結果_クールビズ!$I$11:$I$2010,'②単純集計表 '!D19,①会場アンケート集計結果_クールビズ!$AG$11:$AG$2010,1,①会場アンケート集計結果_クールビズ!$AN$11:$AN$2010,0)","v":0},{"$f":"G19/$D$6","v":{"$error":"#DIV/0!"}}]
[null,null,2,"20代",null,null,{"$f":"COUNTIFS(①会場アンケート集計結果_クールビズ!$I:$I,'②単純集計表 '!D20)","v":0},{"$f":"COUNTIFS(①会場アンケート集計結果_クールビズ!$I$11:$I$2010,'②単純集計表 '!D20,①会場アンケート集計結果_クールビズ!$AG$11:$AG$2010,1,①会場アンケート集計結果_クールビズ!$AN$11:$AN$2010,0)","v":0},{"$f":"G20/$D$6","v":{"$error":"#DIV/0!"}}]
[null,null,3,"30代",null,null,{"$f":"COUNTIFS(①会場アンケート集計結果_クールビズ!$I:$I,'②単純集計表 '!D21)","v":0},{"$f":"COUNTIFS(①会場アンケート集計結果_クールビズ!$I$11:$I$2010,'②単純集計表 '!D21,①会場アンケート集計結果_クールビズ!$AG$11:$AG$2010,1,①会場アンケート集計結果_クールビズ!$AN$11:$AN$2010,0)","v":0},{"$error":"#DIV/0!"}]
[null,null,4,"40代",null,null,{"$f":"COUNTIFS(①会場アンケート集計結果_クールビズ!$I:$I,'②単純集計表 '!D22)","v":0},{"$f":"COUNTIFS(①会場アンケート集計結果_クールビズ!$I$11:$I$2010,'②単純集計表 '!D22,①会場アンケート集計結果_クールビズ!$AG$11:$AG$2010,1,①会場アンケート集計結果_クールビズ!$AN$11:$AN$2010,0)","v":0},{"$error":"#DIV/0!"}]
[null,null,5,"50代",null,null,{"$f":"COUNTIFS(①会場アンケート集計結果_クールビズ!$I:$I,'②単純集計表 '!D23)","v":0},{"$f":"COUNTIFS(①会場アンケート集計結果_クールビズ!$I$11:$I$2010,'②単純集計表 '!D23,①会場アンケート集計結果_クールビズ!$AG$11:$AG$2010,1,①会場アンケート集計結果_クールビズ!$AN$11:$AN$2010,0)","v":0},{"$error":"#DIV/0!"}]
[null,null,6,"60代",null,null,{"$f":"COUNTIFS(①会場アンケート集計結果_クールビズ!$I:$I,'②単純集計表 '!D24)","v":0},{"$f":"COUNTIFS(①会場アンケート集計結果_クールビズ!$I$11:$I$2010,'②単純集計表 '!D24,①会場アンケート集計結果_クールビズ!$AG$11:$AG$2010,1,①会場アンケート集計結果_クールビズ!$AN$11:$AN$2010,0)","v":0},{"$error":"#DIV/0!"}]
[null,null,7,"70代以上",null,null,{"$f":"COUNTIFS(①会場アンケート集計結果_クールビズ!$I:$I,'②単純集計表 '!D25)","v":0},{"$f":"COUNTIFS(①会場アンケート集計結果_クールビズ!$I$11:$I$2010,'②単純集計表 '!D25,①会場アンケート集計結果_クールビズ!$AG$11:$AG$2010,1,①会場アンケート集計結果_クールビズ!$AN$11:$AN$2010,0)","v":0},{"$error":"#DIV/0!"}]
[null,null,99,"未回答",null,null,{"$f":"COUNTIFS(①会場アンケート集計結果_クールビズ!$I:$I,'②単純集計表 '!D26)","v":0},{"$f":"COUNTIFS(①会場アンケート集計結果_クールビズ!$I$11:$I$2010,'②単純集計表 '!D26,①会場アンケート集計結果_クールビズ!$AG$11:$AG$2010,1,①会場アンケート集計結果_クールビズ!$AN$11:$AN$2010,0)","v":0},{"$error":"#DIV/0!"},{"$f":"SUM(G19:G26)","v":0}]
[]
[null,"性別・年代別",null,"男性",null,null,{"$f":"SUM(G29:G35)","v":0},{"$f":"SUM(H29:H35)","v":0},{"$f":"G28/$D$6","v":{"$error":"#DIV/0!"}}]
[null,null,null,"男性","10代",null,{"$f":"COUNTIFS(①会場アンケート集計結果_クールビズ!$H:$H,D29,①会場アンケート集計結果_クールビズ!$I:$I,E29)","v":0},{"$f":"COUNTIFS(①会場アンケート集計結果_クールビズ!$H$11:$H$2010,D29,①会場アンケート集計結果_クールビズ!$I$11:$I$2010,E29,①会場アンケート集計結果_クールビズ!$AG$11:$AG$2010,1,①会場アンケート集計結果_クールビズ!$AN$11:$AN$2010,0)","v":0},{"$f":"G29/$D$6","v":{"$error":"#DIV/0!"}}]
[null,null,null,"男性","20代",null,{"$f":"COUNTIFS(①会場アンケート集計結果_クールビズ!$H:$H,D30,①会場アンケート集計結果_クールビズ!$I:$I,E30)","v":0},{"$f":"COUNTIFS(①会場アンケート集計結果_クールビズ!$H$11:$H$2010,D30,①会場アンケート集計結果_クールビズ!$I$11:$I$2010,E30,①会場アンケート集計結果_クールビズ!$AG$11:$AG$2010,1,①会場アンケート集計結果_クールビズ!$AN$11:$AN$2010,0)","v":0},{"$error":"#DIV/0!"}]
[null,null,null,"男性","30代",null,{"$f":"COUNTIFS(①会場アンケート集計結果_クールビズ!$H:$H,D31,①会場アンケート集計結果_クールビズ!$I:$I,E31)","v":0},{"$f":"COUNTIFS(①会場アンケート集計結果_クールビズ!$H$11:$H$2010,D31,①会場アンケート集計結果_クールビズ!$I$11:$I$2010,E31,①会場アンケート集計結果_クールビズ!$AG$11:$AG$2010,1,①会場アンケート集計結果_クールビズ!$AN$11:$AN$2010,0)","v":0},{"$error":"#DIV/0!"}]
[null,null,null,"男性","40代",null,{"$f":"COUNTIFS(①会場アンケート集計結果_クールビズ!$H:$H,D32,①会場アンケート集計結果_クールビズ!$I:$I,E32)","v":0},{"$f":"COUNTIFS(①会場アンケート集計結果_クールビズ!$H$11:$H$2010,D32,①会場アンケート集計結果_クールビズ!$I$11:$I$2010,E32,①会場アンケート集計結果_クールビズ!$AG$11:$AG$2010,1,①会場アンケート集計結果_クールビズ!$AN$11:$AN$2010,0)","v":0},{"$error":"#DIV/0!"}]
[null,null,null,"男性","50代",null,{"$f":"COUNTIFS(①会場アンケート集計結果_クールビズ!$H:$H,D33,①会場アンケート集計結果_クールビズ!$I:$I,E33)","v":0},{"$f":"COUNTIFS(①会場アンケート集計結果_クールビズ!$H$11:$H$2010,D33,①会場アンケート集計結果_クールビズ!$I$11:$I$2010,E33,①会場アンケート集計結果_クールビズ!$AG$11:$AG$2010,1,①会場アンケート集計結果_クールビズ!$AN$11:$AN$2010,0)","v":0},{"$error":"#DIV/0!"}]
[null,null,null,"男性","60代",null,{"$f":"COUNTIFS(①会場アンケート集計結果_クールビズ!$H:$H,D34,①会場アンケート集計結果_クールビズ!$I:$I,E34)","v":0},{"$f":"COUNTIFS(①会場アンケート集計結果_クールビズ!$H$11:$H$2010,D34,①会場アンケート集計結果_クールビズ!$I$11:$I$2010,E34,①会場アンケート集計結果_クールビズ!$AG$11:$AG$2010,1,①会場アンケート集計結果_クールビズ!$AN$11:$AN$2010,0)","v":0},{"$error":"#DIV/0!"}]
[null,null,null,"男性","70代以上",null,{"$f":"COUNTIFS(①会場アンケート集計結果_クールビズ!$H:$H,D35,①会場アンケート集計結果_クールビズ!$I:$I,E35)","v":0},{"$f":"COUNTIFS(①会場アンケート集計結果_クールビズ!$H$11:$H$2010,D35,①会場アンケート集計結果_クールビズ!$I$11:$I$2010,E35,①会場アンケート集計結果_クールビズ!$AG$11:$AG$2010,1,①会場アンケート集計結果_クールビズ!$AN$11:$AN$2010,0)","v":0},{"$error":"#DIV/0!"}]
[null,null,null,"女性",null,null,{"$f":"SUM(G37:G43)","v":0},{"$f":"SUM(H37:H43)","v":0},{"$error":"#DIV/0!"}]
[null,null,null,"女性","10代",null,{"$f":"COUNTIFS(①会場アンケート集計結果_クールビズ!$H:$H,D37,①会場アンケート集計結果_クールビズ!$I:$I,E37)","v":0},{"$f":"COUNTIFS(①会場アンケート集計結果_クールビズ!$H$11:$H$2010,D37,①会場アンケート集計結果_クールビズ!$I$11:$I$2010,E37,①会場アンケート集計結果_クールビズ!$AG$11:$AG$2010,1,①会場アンケート集計結果_クールビズ!$AN$11:$AN$2010,0)","v":0},{"$error":"#DIV/0!"}]
[null,null,null,"女性","20代",null,{"$f":"COUNTIFS(①会場アンケート集計結果_クールビズ!$H:$H,D38,①会場アンケート集計結果_クールビズ!$I:$I,E38)","v":0},{"$f":"COUNTIFS(①会場アンケート集計結果_クールビズ!$H$11:$H$2010,D38,①会場アンケート集計結果_クールビズ!$I$11:$I$2010,E38,①会場アンケート集計結果_クールビズ!$AG$11:$AG$2010,1,①会場アンケート集計結果_クールビズ!$AN$11:$AN$2010,0)","v":0},{"$error":"#DIV/0!"}]
[null,null,null,"女性","30代",null,{"$f":"COUNTIFS(①会場アンケート集計結果_クールビズ!$H:$H,D39,①会場アンケート集計結果_クールビズ!$I:$I,E39)","v":0},{"$f":"COUNTIFS(①会場アンケート集計結果_クールビズ!$H$11:$H$2010,D39,①会場アンケート集計結果_クールビズ!$I$11:$I$2010,E39,①会場アンケート集計結果_クールビズ!$AG$11:$AG$2010,1,①会場アンケート集計結果_クールビズ!$AN$11:$AN$2010,0)","v":0},{"$error":"#DIV/0!"}]
[null,null,null,"女性","40代",null,{"$f":"COUNTIFS(①会場アンケート集計結果_クールビズ!$H:$H,D40,①会場アンケート集計結果_クールビズ!$I:$I,E40)","v":0},{"$f":"COUNTIFS(①会場アンケート集計結果_クールビズ!$H$11:$H$2010,D40,①会場アンケート集計結果_クールビズ!$I$11:$I$2010,E40,①会場アンケート集計結果_クールビズ!$AG$11:$AG$2010,1,①会場アンケート集計結果_クールビズ!$AN$11:$AN$2010,0)","v":0},{"$error":"#DIV/0!"}]
[null,null,null,"女性","50代",null,{"$f":"COUNTIFS(①会場アンケート集計結果_クールビズ!$H:$H,D41,①会場アンケート集計結果_クールビズ!$I:$I,E41)","v":0},{"$f":"COUNTIFS(①会場アンケート集計結果_クールビズ!$H$11:$H$2010,D41,①会場アンケート集計結果_クールビズ!$I$11:$I$2010,E41,①会場アンケート集計結果_クールビズ!$AG$11:$AG$2010,1,①会場アンケート集計結果_クールビズ!$AN$11:$AN$2010,0)","v":0},{"$error":"#DIV/0!"}]
[null,null,null,"女性","60代",null,{"$f":"COUNTIFS(①会場アンケート集計結果_クールビズ!$H:$H,D42,①会場アンケート集計結果_クールビズ!$I:$I,E42)","v":0},{"$f":"COUNTIFS(①会場アンケート集計結果_クールビズ!$H$11:$H$2010,D42,①会場アンケート集計結果_クールビズ!$I$11:$I$2010,E42,①会場アンケート集計結果_クールビズ!$AG$11:$AG$2010,1,①会場アンケート集計結果_クールビズ!$AN$11:$AN$2010,0)","v":0},{"$error":"#DIV/0!"}]
[null,null,null,"女性","70代以上",null,{"$f":"COUNTIFS(①会場アンケート集計結果_クールビズ!$H:$H,D43,①会場アンケート集計結果_クールビズ!$I:$I,E43)","v":0},{"$f":"COUNTIFS(①会場アンケート集計結果_クールビズ!$H$11:$H$2010,D43,①会場アンケート集計結果_クールビズ!$I$11:$I$2010,E43,①会場アンケート集計結果_クールビズ!$AG$11:$AG$2010,1,①会場アンケート集計結果_クールビズ!$AN$11:$AN$2010,0)","v":0},{"$error":"#DIV/0!"}]
[null,null,null,"その他","その他",null,{"$f":"COUNTIFS(①会場アンケート集計結果_クールビズ!$H:$H,D44,①会場アンケート集計結果_クールビズ!$I:$I,\"<>\"&D45)","v":0},{"$f":"COUNTIFS(①会場アンケート集計結果_クールビズ!$H11:$H2010,D44,①会場アンケート集計結果_クールビズ!$I$11:$I$2010,\"<>\"&D45,①会場アンケート集計結果_クールビズ!$AG$11:$AG$2010,1,①会場アンケート集計結果_クールビズ!$AN$11:$AN$2010,0)","v":0},{"$error":"#DIV/0!"}]
[null,null,null,"未回答","未回答",null,{"$f":"COUNTIFS(①会場アンケート集計結果_クールビズ!$H:$H,D45,①会場アンケート集計結果_クールビズ!$I:$I,\"<>\")\n+COUNTIFS(①会場アンケート集計結果_クールビズ!$H:$H,\"<>\",①会場アンケート集計結果_クールビズ!$I:$I,E45)\n-COUNTIFS(①会場アンケート集計結果_クールビズ!$H:$H,D45,①会場アンケート集計結果_クールビズ!$I:$I,E45)","v":0},{"$f":"COUNTIFS(①会場アンケート集計結果_クールビズ!$AG$11:$AG$2010,1,①会場アンケート集計結果_クールビズ!$AN$11:$AN$2010,0,①会場アンケート集計結果_クールビズ!$H11:$H2010,D45,①会場アンケート集計結果_クールビズ!$I11:$I2010,\"<>\")\n+COUNTIFS(①会場アンケート集計結果_クールビズ!$AG$11:$AG$2010,1,①会場アンケート集計結果_クールビズ!$AN$11:$AN$2010,0,①会場アンケート集計結果_クールビズ!$H11:$H2010,\"<>\",①会場アンケート集計結果_クールビズ!$I11:$I2010,E45)\n-COUNTIFS(①会場アンケート集計結果_クールビズ!$AG$11:$AG$2010,1,①会場アンケート集計結果_クールビズ!$AN$11:$AN$2010,0,①会場アンケート集計結果_クールビズ!$H11:$H2010,D45,①会場アンケート集計結果_クールビズ!$I11:$I2010,E45)","v":0},{"$error":"#DIV/0!"},{"$f":"SUM(G37:G45,G29:G35)","v":0}]
[]
[null,"職業",1,"自営業",null,null,{"$f":"COUNTIFS(①会場アンケート集計結果_クールビズ!$K$11:$K$2010,'②単純集計表 '!D47)","v":0},{"$f":"COUNTIFS(①会場アンケート集計結果_クールビズ!$K$11:$K$2010,'②単純集計表 '!D47,①会場アンケート集計結果_クールビズ!$AG$11:$AG$2010,1,①会場アンケート集計結果_クールビズ!$AN$11:$AN$2010,0)","v":0},{"$f":"G47/$D$6","v":{"$error":"#DIV/0!"}}]
[null,null,2,"公務員",null,null,{"$f":"COUNTIFS(①会場アンケート集計結果_クールビズ!$K$11:$K$2010,'②単純集計表 '!D48)","v":0},{"$f":"COUNTIFS(①会場アンケート集計結果_クールビズ!$K$11:$K$2010,'②単純集計表 '!D48,①会場アンケート集計結果_クールビズ!$AG$11:$AG$2010,1,①会場アンケート集計結果_クールビズ!$AN$11:$AN$2010,0)","v":0},{"$f":"G48/$D$6","v":{"$error":"#DIV/0!"}}]
[null,null,3,"教職員",null,null,{"$f":"COUNTIFS(①会場アンケート集計結果_クールビズ!$K$11:$K$2010,'②単純集計表 '!D49)","v":0},{"$f":"COUNTIFS(①会場アンケート集計結果_クールビズ!$K$11:$K$2010,'②単純集計表 '!D49,①会場アンケート集計結果_クールビズ!$AG$11:$AG$2010,1,①会場アンケート集計結果_クールビズ!$AN$11:$AN$2010,0)","v":0},{"$error":"#DIV/0!"}]
[null,null,4,"医師・医療",null,null,{"$f":"COUNTIFS(①会場アンケート集計結果_クールビズ!$K$11:$K$2010,'②単純集計表 '!D50)","v":0},{"$f":"COUNTIFS(①会場アンケート集計結果_クールビズ!$K$11:$K$2010,'②単純集計表 '!D50,①会場アンケート集計結果_クールビズ!$AG$11:$AG$2010,1,①会場アンケート集計結果_クールビズ!$AN$11:$AN$2010,0)","v":0},{"$error":"#DIV/0!"}]
[null,null,5,"会社経営",null,null,{"$f":"COUNTIFS(①会場アンケート集計結果_クールビズ!$K$11:$K$2010,'②単純集計表 '!D51)","v":0},{"$f":"COUNTIFS(①会場アンケート集計結果_クールビズ!$K$11:$K$2010,'②単純集計表 '!D51,①会場アンケート集計結果_クールビズ!$AG$11:$AG$2010,1,①会場アンケート集計結果_クールビズ!$AN$11:$AN$2010,0)","v":0},{"$error":"#DIV/0!"}]
[null,null,6,"会社役員",null,null,{"$f":"COUNTIFS(①会場アンケート集計結果_クールビズ!$K$11:$K$2010,'②単純集計表 '!D52)","v":0},{"$f":"COUNTIFS(①会場アンケート集計結果_クールビズ!$K$11:$K$2010,'②単純集計表 '!D52,①会場アンケート集計結果_クールビズ!$AG$11:$AG$2010,1,①会場アンケート集計結果_クールビズ!$AN$11:$AN$2010,0)","v":0},{"$error":"#DIV/0!"}]
[null,null,7,"会社員",null,null,{"$f":"COUNTIFS(①会場アンケート集計結果_クールビズ!$K$11:$K$2010,'②単純集計表 '!D53)","v":0},{"$f":"COUNTIFS(①会場アンケート集計結果_クールビズ!$K$11:$K$2010,'②単純集計表 '!D53,①会場アンケート集計結果_クールビズ!$AG$11:$AG$2010,1,①会場アンケート集計結果_クールビズ!$AN$11:$AN$2010,0)","v":0},{"$error":"#DIV/0!"}]
[null,null,8,"農林・水産",null,null,{"$f":"COUNTIFS(①会場アンケート集計結果_クールビズ!$K$11:$K$2010,'②単純集計表 '!D54)","v":0},{"$f":"COUNTIFS(①会場アンケート集計結果_クールビズ!$K$11:$K$2010,'②単純集計表 '!D54,①会場アンケート集計結果_クールビズ!$AG$11:$AG$2010,1,①会場アンケート集計結果_クールビズ!$AN$11:$AN$2010,0)","v":0},{"$error":"#DIV/0!"}]
[null,null,9,"弁護士・税理士",null,null,{"$f":"COUNTIFS(①会場アンケート集計結果_クールビズ!$K$11:$K$2010,'②単純集計表 '!D55)","v":0},{"$f":"COUNTIFS(①会場アンケート集計結果_クールビズ!$K$11:$K$2010,'②単純集計表 '!D55,①会場アンケート集計結果_クールビズ!$AG$11:$AG$2010,1,①会場アンケート集計結果_クールビズ!$AN$11:$AN$2010,0)","v":0},{"$error":"#DIV/0!"}]
[null,null,10,"学生",null,null,{"$f":"COUNTIFS(①会場アンケート集計結果_クールビズ!$K$11:$K$2010,'②単純集計表 '!D56)","v":0},{"$f":"COUNTIFS(①会場アンケート集計結果_クールビズ!$K$11:$K$2010,'②単純集計表 '!D56,①会場アンケート集計結果_クールビズ!$AG$11:$AG$2010,1,①会場アンケート集計結果_クールビズ!$AN$11:$AN$2010,0)","v":0},{"$error":"#DIV/0!"}]
[null,null,11,"専業主婦・主夫",null,null,{"$f":"COUNTIFS(①会場アンケート集計結果_クールビズ!$K$11:$K$2010,'②単純集計表 '!D57)","v":0},{"$f":"COUNTIFS(①会場アンケート集計結果_クールビズ!$K$11:$K$2010,'②単純集計表 '!D57,①会場アンケート集計結果_クールビズ!$AG$11:$AG$2010,1,①会場アンケート集計結果_クールビズ!$AN$11:$AN$2010,0)","v":0},{"$error":"#DIV/0!"}]
[null,null,12,"フリーター",null,null,{"$f":"COUNTIFS(①会場アンケート集計結果_クールビズ!$K$11:$K$2010,'②単純集計表 '!D58)","v":0},{"$f":"COUNTIFS(①会場アンケート集計結果_クールビズ!$K$11:$K$2010,'②単純集計表 '!D58,①会場アンケート集計結果_クールビズ!$AG$11:$AG$2010,1,①会場アンケート集計結果_クールビズ!$AN$11:$AN$2010,0)","v":0},{"$error":"#DIV/0!"}]
[null,null,13,"無職",null,null,{"$f":"COUNTIFS(①会場アンケート集計結果_クールビズ!$K$11:$K$2010,'②単純集計表 '!D59)","v":0},{"$f":"COUNTIFS(①会場アンケート集計結果_クールビズ!$K$11:$K$2010,'②単純集計表 '!D59,①会場アンケート集計結果_クールビズ!$AG$11:$AG$2010,1,①会場アンケート集計結果_クールビズ!$AN$11:$AN$2010,0)","v":0},{"$error":"#DIV/0!"}]
[null,null,14,"その他",null,null,{"$f":"COUNTIFS(①会場アンケート集計結果_クールビズ!$K$11:$K$2010,'②単純集計表 '!D60)","v":0},{"$f":"COUNTIFS(①会場アンケート集計結果_クールビズ!$K$11:$K$2010,'②単純集計表 '!D60,①会場アンケート集計結果_クールビズ!$AG$11:$AG$2010,1,①会場アンケート集計結果_クールビズ!$AN$11:$AN$2010,0)","v":0},{"$error":"#DIV/0!"}]
[null,null,99,"未回答",null,null,{"$f":"COUNTIFS(①会場アンケート集計結果_クールビズ!$K$11:$K$2010,'②単純集計表 '!D61)","v":0},{"$f":"COUNTIFS(①会場アンケート集計結果_クールビズ!$K$11:$K$2010,'②単純集計表 '!D61,①会場アンケート集計結果_クールビズ!$AG$11:$AG$2010,1,①会場アンケート集計結果_クールビズ!$AN$11:$AN$2010,0)","v":0},{"$error":"#DIV/0!"},{"$f":"SUM(G47:G61)","v":0}]
[]
[null,"【設問2】現在の就業場所についてお聞かせください"]
[]
[]
[null,null,null,null,null,null,"有効\n回答者","%"]
[null,"出社状況",1,"ほぼ／すべて在宅勤務",null,null,{"$f":"COUNTIFS(①会場アンケート集計結果_クールビズ!$L$11:$L$2010,'②単純集計表 '!$C67,①会場アンケート集計結果_クールビズ!$AG$11:$AG$2010,1,①会場アンケート集計結果_クールビズ!$AN$11:$AN$2010,0)","v":0},{"$f":"G67/$D$7","v":{"$error":"#DIV/0!"}}]
[null,null,2,"職場・在宅勤務を併用している",null,null,{"$f":"COUNTIFS(①会場アンケート集計結果_クールビズ!$L$11:$L$2010,'②単純集計表 '!$C68,①会場アンケート集計結果_クールビズ!$AG$11:$AG$2010,1,①会場アンケート集計結果_クールビズ!$AN$11:$AN$2010,0)","v":0},{"$f":"G68/$D$7","v":{"$error":"#DIV/0!"}}]
[null,null,3,"職場のみ（在宅勤務は実施していない）",null,null,{"$f":"COUNTIFS(①会場アンケート集計結果_クールビズ!$L$11:$L$2010,'②単純集計表 '!$C69,①会場アンケート集計結果_クールビズ!$AG$11:$AG$2010,1,①会場アンケート集計結果_クールビズ!$AN$11:$AN$2010,0)","v":0},{"$f":"G69/$D$7","v":{"$error":"#DIV/0!"}}]
[null,null,99,"未回答",null,null,{"$f":"COUNTIFS(①会場アンケート集計結果_クールビズ!$L$11:$L$2010,'②単純集計表 '!$C70,①会場アンケート集計結果_クールビズ!$AG$11:$AG$2010,1,①会場アンケート集計結果_クールビズ!$AN$11:$AN$2010,0)","v":0},{"$f":"G70/$D$7","v":{"$error":"#DIV/0!"}}]
[]
[]
[]
[]
[]
[]
[null,"【設問3】現在のクールビズ（就業時における冷房温度緩和（室温28℃）、その温度に適した軽装等）の実施状況についてお聞かせください。"]
[]
[null,null,null,null,null,null,null,null,null,"職場",null,null,"自宅"]
[null,null,null,null,null,null,null,null,null,"回答者数","有効回答者数","%","回答者数","有効回答者数","%"]
[null,"これまでのクールビズ実施状況",1,"常に行っている",null,null,null,null,null,{"$f":"COUNTIFS(①会場アンケート集計結果_クールビズ!$N$11:$N$2010,$C81)","v":0},{"$f":"COUNTIFS(①会場アンケート集計結果_クールビズ!$N$11:$N$2010,$C81,①会場アンケート集計結果_クールビズ!$AG$11:$AG$2010,1,①会場アンケート集計結果_クールビズ!$AN$11:$AN$2010,0)","v":0},{"$f":"K81/$D$7","v":{"$error":"#DIV/0!"}},{"$f":"COUNTIFS(①会場アンケート集計結果_クールビズ!$P$11:$P$2010,$C81)","v":0},{"$f":"COUNTIFS(①会場アンケート集計結果_クールビズ!$P$11:$P$2010,$C81,①会場アンケート集計結果_クールビズ!$AG$11:$AG$2010,1,①会場アンケート集計結果_クールビズ!$AN$11:$AN$2010,0)","v":0},{"$f":"N81/$D$7","v":{"$error":"#DIV/0!"}}]
[null,null,2,"気づいたときに行っている",null,null,null,null,null,{"$f":"COUNTIFS(①会場アンケート集計結果_クールビズ!$N$11:$N$2010,$C82)","v":0},{"$f":"COUNTIFS(①会場アンケート集計結果_クールビズ!$N$11:$N$2010,$C82,①会場アンケート集計結果_クールビズ!$AG$11:$AG$2010,1,①会場アンケート集計結果_クールビズ!$AN$11:$AN$2010,0)","v":0},{"$error":"#DIV/0!"},{"$f":"COUNTIFS(①会場アンケート集計結果_クールビズ!$P$11:$P$2010,$C82)","v":0},{"$f":"COUNTIFS(①会場アンケート集計結果_クールビズ!$P$11:$P$2010,$C82,①会場アンケート集計結果_クールビズ!$AG$11:$AG$2010,1,①会場アンケート集計結果_クールビズ!$AN$11:$AN$2010,0)","v":0},{"$f":"N82/$D$7","v":{"$error":"#DIV/0!"}}]
[null,null,3,"行っていないが、行いたいと思っている",null,null,null,null,null,{"$f":"COUNTIFS(①会場アンケート集計結果_クールビズ!$N$11:$N$2010,$C83)","v":0},{"$f":"COUNTIFS(①会場アンケート集計結果_クールビズ!$N$11:$N$2010,$C83,①会場アンケート集計結果_クールビズ!$AG$11:$AG$2010,1,①会場アンケート集計結果_クールビズ!$AN$11:$AN$2010,0)","v":0},{"$error":"#DIV/0!"},{"$f":"COUNTIFS(①会場アンケート集計結果_クールビズ!$P$11:$P$2010,$C83)","v":0},{"$f":"COUNTIFS(①会場アンケート集計結果_クールビズ!$P$11:$P$2010,$C83,①会場アンケート集計結果_クールビズ!$AG$11:$AG$2010,1,①会場アンケート集計結果_クールビズ!$AN$11:$AN$2010,0)","v":0},{"$error":"#DIV/0!"}]
[null,null,4,"行っておらず、行いたいとも思わない",null,null,null,null,null,{"$f":"COUNTIFS(①会場アンケート集計結果_クールビズ!$N$11:$N$2010,$C84)","v":0},{"$f":"COUNTIFS(①会場アンケート集計結果_クールビズ!$N$11:$N$2010,$C84,①会場アンケート集計結果_クールビズ!$AG$11:$AG$2010,1,①会場アンケート集計結果_クールビズ!$AN$11:$AN$2010,0)","v":0},{"$error":"#DIV/0!"},{"$f":"COUNTIFS(①会場アンケート集計結果_クールビズ!$P$11:$P$2010,$C84)","v":0},{"$f":"COUNTIFS(①会場アンケート集計結果_クールビズ!$P$11:$P$2010,$C84,①会場アンケート集計結果_クールビズ!$AG$11:$AG$2010,1,①会場アンケート集計結果_クールビズ!$AN$11:$AN$2010,0)","v":0},{"$error":"#DIV/0!"}]
[null,null,5,"クールビズを知らなかった",null,null,null,null,null,{"$f":"COUNTIFS(①会場アンケート集計結果_クールビズ!$N$11:$N$2010,$C85)","v":0},{"$f":"COUNTIFS(①会場アンケート集計結果_クールビズ!$N$11:$N$2010,$C85,①会場アンケート集計結果_クールビズ!$AG$11:$AG$2010,1,①会場アンケート集計結果_クールビズ!$AN$11:$AN$2010,0)","v":0},{"$error":"#DIV/0!"},{"$f":"COUNTIFS(①会場アンケート集計結果_クールビズ!$P$11:$P$2010,$C85)","v":0},{"$f":"COUNTIFS(①会場アンケート集計結果_クールビズ!$P$11:$P$2010,$C85,①会場アンケート集計結果_クールビズ!$AG$11:$AG$2010,1,①会場アンケート集計結果_クールビズ!$AN$11:$AN$2010,0)","v":0},{"$error":"#DIV/0!"}]
[null,null,6,"クールビズを行うことができない",null,null,null,null,null,{"$f":"COUNTIFS(①会場アンケート集計結果_クールビズ!$N$11:$N$2010,$C86)","v":0},{"$f":"COUNTIFS(①会場アンケート集計結果_クールビズ!$N$11:$N$2010,$C86,①会場アンケート集計結果_クールビズ!$AG$11:$AG$2010,1,①会場アンケート集計結果_クールビズ!$AN$11:$AN$2010,0)","v":0},{"$f":"K86/$D$7","v":{"$error":"#DIV/0!"}},{"$f":"COUNTIFS(①会場アンケート集計結果_クールビズ!$P$11:$P$2010,$C86)","v":0},{"$f":"COUNTIFS(①会場アンケート集計結果_クールビズ!$P$11:$P$2010,$C86,①会場アンケート集計結果_クールビズ!$AG$11:$AG$2010,1,①会場アンケート集計結果_クールビズ!$AN$11:$AN$2010,0)","v":0},{"$f":"N86/$D$7","v":{"$error":"#DIV/0!"}},"無効回答（対象外）"]
[null,null,99,"未回答",null,null,null,null,null,{"$f":"COUNTIFS(①会場アンケート集計結果_クールビズ!$N$11:$N$2010,$C87)","v":0},{"$f":"COUNTIFS(①会場アンケート集計結果_クールビズ!$N$11:$N$2010,$C87,①会場アンケート集計結果_クールビズ!$AG$11:$AG$2010,1,①会場アンケート集計結果_クールビズ!$AN$11:$AN$2010,0)","v":0},{"$error":"#DIV/0!"},{"$f":"COUNTIFS(①会場アンケート集計結果_クールビズ!$P$11:$P$2010,$C87)","v":0},{"$f":"COUNTIFS(①会場アンケート集計結果_クールビズ!$P$11:$P$2010,$C87,①会場アンケート集計結果_クールビズ!$AG$11:$AG$2010,1,①会場アンケート集計結果_クールビズ!$AN$11:$AN$2010,0)","v":0},{"$f":"N87/$D$7","v":{"$error":"#DIV/0!"}}]
[null,null,null,null,null,null,null,"検算用","回答者数",{"$f":"SUM(J81:J87)","v":0},null,null,{"$f":"SUM(M81:M87)","v":0}]
[null,null,null,null,null,null,null,null,"有効回答数",null,{"$f":"SUM(K81:K87)","v":0},null,null,{"$f":"SUM(N81:N87)","v":0}]
[]
[]
[]
[]
[]
[]
[]
[]
[]
[]
[]
[]
[]
[null,"【設問4】イベントに参加されて、クールビズを実施したいと思いましたか（1つ回答）。"]
[null,"※設問3で自宅・職場ともに「クールビズを行うことができない」以外と回答した人対象"]
[null,null,null,null,null,null,null,null,null,"回答者数","%"]
[null,"今後のクールビズ実施意向",1,"現在も常に行っており、今後も行いたい",null,null,null,null,null,{"$f":"COUNTIFS(①会場アンケート集計結果_クールビズ!$R$11:$R$2010,$C106,①会場アンケート集計結果_クールビズ!$AG$11:$AG$2010,1,①会場アンケート集計結果_クールビズ!$AN$11:$AN$2010,0)","v":0},{"$f":"J106/$D$7","v":{"$error":"#DIV/0!"}}]
[null,null,2,"これまで行う頻度は少なかったが、今後は常に行いたい",null,null,null,null,null,{"$f":"COUNTIFS(①会場アンケート集計結果_クールビズ!$R$11:$R$2010,$C107,①会場アンケート集計結果_クールビズ!$AG$11:$AG$2010,1,①会場アンケート集計結果_クールビズ!$AN$11:$AN$2010,0)","v":0},{"$error":"#DIV/0!"}]
[null,null,3,"機会があれば行いたい",null,null,null,null,null,{"$f":"COUNTIFS(①会場アンケート集計結果_クールビズ!$R$11:$R$2010,$C108,①会場アンケート集計結果_クールビズ!$AG$11:$AG$2010,1,①会場アンケート集計結果_クールビズ!$AN$11:$AN$2010,0)","v":0},{"$error":"#DIV/0!"}]
[null,null,4,"行いたいとは思わない",null,null,null,null,null,{"$f":"COUNTIFS(①会場アンケート集計結果_クールビズ!$R$11:$R$2010,$C109,①会場アンケート集計結果_クールビズ!$AG$11:$AG$2010,1,①会場アンケート集計結果_クールビズ!$AN$11:$AN$2010,0)","v":0},{"$error":"#DIV/0!"}]
[null,null,5,"わからない",null,null,null,null,null,{"$f":"COUNTIFS(①会場アンケート集計結果_クールビズ!$R$11:$R$2010,$C110,①会場アンケート集計結果_クールビズ!$AG$11:$AG$2010,1,①会場アンケート集計結果_クールビズ!$AN$11:$AN$2010,0)","v":0},{"$error":"#DIV/0!"}]
[null,null,99,"未回答",null,null,null,null,null,{"$f":"COUNTIFS(①会場アンケート集計結果_クールビズ!$R$11:$R$2010,$C111,①会場アンケート集計結果_クールビズ!$AG$11:$AG$2010,1,①会場アンケート集計結果_クールビズ!$AN$11:$AN$2010,0)","v":0},{"$error":"#DIV/0!"}]
[null,null,null,null,null,null,null,"検算用","有効回答数",{"$f":"SUM(J106:J111)","v":0}]
[]
[]
[]
[]
[]
[]
[]
[]
[]
[]
[]
[]
[]
[]
[]
[]
[]
[]
[]
[null,"【設問5】 なぜ、クールビズを実施していますか/実施したいと思いましたか（3つまで）。"]
[null,"※設問4で「現在も常に行っており、今後も行いたい」「これまで行う頻度は少なかったが、今後は常に行いたい」「機会があれば行いたい」と回答した人対象"]
[]
[null,null,null,null,null,null,null,null,null,"回答者数","%"]
[null,"実施意向の理由",1,"CO2の削減に貢献するため",null,null,null,null,null,{"$f":"COUNTIFS(①会場アンケート集計結果_クールビズ!$T$11:$T$2010,1,①会場アンケート集計結果_クールビズ!AG11:AG2010,1,①会場アンケート集計結果_クールビズ!$AN$11:$AN$2010,0,①会場アンケート集計結果_クールビズ!$AH$11:$AH$2010,1)","v":0},{"$f":"J136/$L$143","v":{"$error":"#DIV/0!"}}]
[null,null,2,"電気代が安くなると思ったため",null,null,null,null,null,{"$f":"COUNTIFS(①会場アンケート集計結果_クールビズ!$T$11:$T$2010,1,①会場アンケート集計結果_クールビズ!AG12:AG2011,1,①会場アンケート集計結果_クールビズ!$AN$11:$AN$2010,0,①会場アンケート集計結果_クールビズ!$AH$11:$AH$2010,1)","v":0},{"$f":"J137/$L$143","v":{"$error":"#DIV/0!"}}]
[null,null,3,"快適になると思ったため",null,null,null,null,null,{"$f":"COUNTIFS(①会場アンケート集計結果_クールビズ!$T$11:$T$2010,1,①会場アンケート集計結果_クールビズ!AG13:AG2012,1,①会場アンケート集計結果_クールビズ!$AN$11:$AN$2010,0,①会場アンケート集計結果_クールビズ!$AH$11:$AH$2010,1)","v":0},{"$error":"#DIV/0!"}]
[null,null,4,"会社で推奨されているため",null,null,null,null,null,{"$f":"COUNTIFS(①会場アンケート集計結果_クールビズ!$T$11:$T$2010,1,①会場アンケート集計結果_クールビズ!AG14:AG2013,1,①会場アンケート集計結果_クールビズ!$AN$11:$AN$2010,0,①会場アンケート集計結果_クールビズ!$AH$11:$AH$2010,1)","v":0},{"$f":"J139/$L$143","v":{"$error":"#DIV/0!"}}]
[null,null,5,"みんな（周りの人）がビジネスの場でクールビズを行っているため",null,null,null,null,null,{"$f":"COUNTIFS(①会場アンケート集計結果_クールビズ!$T$11:$T$2010,1,①会場アンケート集計結果_クールビズ!AG15:AG2014,1,①会場アンケート集計結果_クールビズ!$AN$11:$AN$2010,0,①会場アンケート集計結果_クールビズ!$AH$11:$AH$2010,1)","v":0},{"$error":"#DIV/0!"}]
[null,null,6,"その他",null,null,null,null,null,{"$f":"COUNTIFS(①会場アンケート集計結果_クールビズ!$T$11:$T$2010,1,①会場アンケート集計結果_クールビズ!AG16:AG2015,1,①会場アンケート集計結果_クールビズ!$AN$11:$AN$2010,0,①会場アンケート集計結果_クールビズ!$AH$11:$AH$2010,1)","v":0},{"$f":"J141/$L$143","v":{"$error":"#DIV/0!"}}]
[null,null,7,"特に理由はない・なんとなく",null,null,null,null,null,{"$f":"COUNTIFS(①会場アンケート集計結果_クールビズ!$T$11:$T$2010,1,①会場アンケート集計結果_クールビズ!AG17:AG2016,1,①会場アンケート集計結果_クールビズ!$AN$11:$AN$2010,0,①会場アンケート集計結果_クールビズ!$AH$11:$AH$2010,1)","v":0},{"$error":"#DIV/0!"}]
[null,null,99,"未回答",null,null,null,null,null,{"$f":"COUNTIFS(①会場アンケート集計結果_クールビズ!$T$11:$T$2010,1,①会場アンケート集計結果_クールビズ!AG18:AG2017,1,①会場アンケート集計結果_クールビズ!$AN$11:$AN$2010,0,①会場アンケート集計結果_クールビズ!$AH$11:$AH$2010,1)","v":0},{"$error":"#DIV/0!"},{"$f":"COUNTIFS(①会場アンケート集計結果_クールビズ!$AG$11:$AG$2010,1,①会場アンケート集計結果_クールビズ!$AN$11:$AN$2010,0,①会場アンケート集計結果_クールビズ!$AH$11:$AH$2010,1)","v":0}]
[]
[]
[]
[]
[]
[]
[]
[]
[null,"【設問2、3】行動変容・意識変容"]
[]
[null,null,null,null,null,null,"職場",null,"自宅",null,null,"どちらか"]
[null,null,null,null,null,null,"回答者数","%","回答者数","%",null,"回答者数","%"]
[null,"行動済み",null,null,null,null,{"$f":"SUM(L168:L169)","v":0},{"$f":"G156/$G$163","v":{"$error":"#DIV/0!"}},{"$f":"SUM(M168:M169)","v":0},{"$f":"I156/$I$163","v":{"$error":"#DIV/0!"}},"意識変容あり",{"$f":"SUM(①会場アンケート集計結果_クールビズ!$AM$11:$AM$2010)","v":0},{"$f":"L156/$G$164","v":{"$error":"#DIV/0!"}},"←PDCAシートに記入する数値"]
[null,"意識変容",null,null,null,null,{"$f":"SUM(L170:L176)","v":0},{"$f":"G157/$G$163","v":{"$error":"#DIV/0!"}},{"$f":"SUM(M170:M176)","v":0},{"$f":"I157/$I$163","v":{"$error":"#DIV/0!"}},"意識変容なし",{"$f":"G164-$L$156","v":0},{"$f":"L157/$G$164","v":{"$error":"#DIV/0!"}}]
[null,"現状維持",null,null,null,null,{"$f":"SUM(L177:L181)","v":0},{"$error":"#DIV/0!"},{"$f":"SUM(M177:M181)","v":0},{"$error":"#DIV/0!"}]
[null,"マイナス変容",null,null,null,null,{"$f":"SUM(L182:L188)","v":0},{"$error":"#DIV/0!"},{"$f":"SUM(M182:M188)","v":0},{"$error":"#DIV/0!"}]
[null,"＜無効回答＞回答に矛盾があるため除外",null,null,null,null,{"$f":"SUM(L189:L194)","v":0},{"$error":"#DIV/0!"},{"$f":"SUM(M189:M194)","v":0},{"$error":"#DIV/0!"}]
[null,"＜無効回答＞対象外（クールビズを行うことができない）",null,null,null,null,{"$f":"SUM(L195:L199)","v":0},{"$error":"#DIV/0!"},{"$f":"SUM(M195:M199)","v":0},{"$error":"#DIV/0!"}]
[null,"対象外（一部未回答）",null,null,null,null,{"$f":"SUM(L200:L210)","v":0},{"$error":"#DIV/0!"},{"$f":"SUM(M200:M210)","v":0},{"$error":"#DIV/0!"}]
[null,null,null,null,"検算用","有効回答→",{"$f":"SUM(G156:G159)","v":0},null,{"$f":"SUM(I156:I159)","v":0}]
[null,null,null,null,null,"回答者数→",{"$f":"SUM(G156:G162)","v":0},null,{"$f":"SUM(I156:I162)","v":0},null,null,{"$f":"SUM(L156:L157)","v":0}]
[null,"変容定義"]
[null,null,null,null,null,null,null,null,null,null,null,"職場","自宅","どちらか"]
[null,null,null,"イベント前",null,null,null,"今後",null,null,null,"回答者数","回答者数","回答者数"]
[{"$f":"D168&H168","v":"11"},"行動済み",null,1,"常に行っている",null,null,1,"現在も常に行っており、今後も行いたい",null,null,{"$f":"COUNTIFS(①会場アンケート集計結果_クールビズ!$N$11:$N$5010,$D168,①会場アンケート集計結果_クールビズ!$R$11:$R$5010,'②単純集計表 '!$H168,①会場アンケート集計結果_クールビズ!$AN$11:$AN$5010,0)","v":0},{"$f":"COUNTIFS(①会場アンケート集計結果_クールビズ!$P$11:$P$5010,$D168,①会場アンケート集計結果_クールビズ!$R$11:$R$5010,$H168,①会場アンケート集計結果_クールビズ!$AN$11:$AN$5010,0)","v":0}]
[{"$f":"D169&H169","v":"199"},null,null,1,"常に行っている",null,null,99,"未回答",null,null,{"$f":"COUNTIFS(①会場アンケート集計結果_クールビズ!$N$11:$N$5010,$D169,①会場アンケート集計結果_クールビズ!$R$11:$R$5010,'②単純集計表 '!$H169,①会場アンケート集計結果_クールビズ!$AN$11:$AN$5010,0)","v":0},{"$f":"COUNTIFS(①会場アンケート集計結果_クールビズ!$P$11:$P$5010,$D169,①会場アンケート集計結果_クールビズ!$R$11:$R$5010,$H169,①会場アンケート集計結果_クールビズ!$AN$11:$AN$5010,0)","v":0}]
["22","意識変容",null,2,"気づいたときに行っている",null,null,2,"これまで行う頻度は少なかったが、今後は常に行いたい",null,null,{"$f":"COUNTIFS(①会場アンケート集計結果_クールビズ!$N$11:$N$5010,$D170,①会場アンケート集計結果_クールビズ!$R$11:$R$5010,$H170,①会場アンケート集計結果_クールビズ!$AN$11:$AN$5010,0)","v":0},{"$f":"COUNTIFS(①会場アンケート集計結果_クールビズ!$P$11:$P$5010,$D170,①会場アンケート集計結果_クールビズ!$R$11:$R$5010,$H170,①会場アンケート集計結果_クールビズ!$AN$11:$AN$5010,0)","v":0}]
["32",null,null,3,"行っていないが、行いたいと思っている",null,null,2,"これまで行う頻度は少なかったが、今後は常に行いたい",null,null,{"$f":"COUNTIFS(①会場アンケート集計結果_クールビズ!$N$11:$N$5010,$D171,①会場アンケート集計結果_クールビズ!$R$11:$R$5010,'②単純集計表 '!$H171,①会場アンケート集計結果_クールビズ!$AN$11:$AN$5010,0)","v":0},{"$f":"COUNTIFS(①会場アンケート集計結果_クールビズ!$P$11:$P$5010,$D171,①会場アンケート集計結果_クールビズ!$R$11:$R$5010,$H171,①会場アンケート集計結果_クールビズ!$AN$11:$AN$5010,0)","v":0}]
["42",null,null,4,"行っておらず、行いたいとも思わない",null,null,2,"これまで行う頻度は少なかったが、今後は常に行いたい",null,null,{"$f":"COUNTIFS(①会場アンケート集計結果_クールビズ!$N$11:$N$5010,$D172,①会場アンケート集計結果_クールビズ!$R$11:$R$5010,$H172,①会場アンケート集計結果_クールビズ!$AN$11:$AN$5010,0)","v":0},{"$f":"COUNTIFS(①会場アンケート集計結果_クールビズ!$P$11:$P$5010,$D172,①会場アンケート集計結果_クールビズ!$R$11:$R$5010,$H172,①会場アンケート集計結果_クールビズ!$AN$11:$AN$5010,0)","v":0}]
["43",null,null,4,"行っておらず、行いたいとも思わない",null,null,3,"機会があれば行いたい",null,null,{"$f":"COUNTIFS(①会場アンケート集計結果_クールビズ!$N$11:$N$5010,$D173,①会場アンケート集計結果_クールビズ!$R$11:$R$5010,$H173,①会場アンケート集計結果_クールビズ!$AN$11:$AN$5010,0)","v":0},{"$f":"COUNTIFS(①会場アンケート集計結果_クールビズ!$P$11:$P$5010,$D173,①会場アンケート集計結果_クールビズ!$R$11:$R$5010,$H173,①会場アンケート集計結果_クールビズ!$AN$11:$AN$5010,0)","v":0}]
["51",null,null,5,"クールビズを知らなかった",null,null,1,"現在も常に行っており、今後も行いたい",null,null,{"$f":"COUNTIFS(①会場アンケート集計結果_クールビズ!$N$11:$N$5010,$D174,①会場アンケート集計結果_クールビズ!$R$11:$R$5010,$H174,①会場アンケート集計結果_クールビズ!$AN$11:$AN$5010,0)","v":0},{"$f":"COUNTIFS(①会場アンケート集計結果_クールビズ!$P$11:$P$5010,$D174,①会場アンケート集計結果_クールビズ!$R$11:$R$5010,$H174,①会場アンケート集計結果_クールビズ!$AN$11:$AN$5010,0)","v":0}]
["52",null,null,5,"クールビズを知らなかった",null,null,2,"これまで行う頻度は少なかったが、今後は常に行いたい",null,null,{"$f":"COUNTIFS(①会場アンケート集計結果_クールビズ!$N$11:$N$5010,$D175,①会場アンケート集計結果_クールビズ!$R$11:$R$5010,$H175,①会場アンケート集計結果_クールビズ!$AN$11:$AN$5010,0)","v":0},{"$f":"COUNTIFS(①会場アンケート集計結果_クールビズ!$P$11:$P$5010,$D175,①会場アンケート集計結果_クールビズ!$R$11:$R$5010,$H175,①会場アンケート集計結果_クールビズ!$AN$11:$AN$5010,0)","v":0}]
["53",null,null,5,"クールビズを知らなかった",null,null,3,"機会があれば行いたい",null,null,{"$f":"COUNTIFS(①会場アンケート集計結果_クールビズ!$N$11:$N$5010,$D176,①会場アンケート集計結果_クールビズ!$R$11:$R$5010,$H176,①会場アンケート集計結果_クールビズ!$AN$11:$AN$5010,0)","v":0},{"$f":"COUNTIFS(①会場アンケート集計結果_クールビズ!$P$11:$P$5010,$D176,①会場アンケート集計結果_クールビズ!$R$11:$R$5010,$H176,①会場アンケート集計結果_クールビズ!$AN$11:$AN$5010,0)","v":0}]
["23","現状維持",null,2,"気づいたときに行っている",null,null,3,"機会があれば行いたい",null,null,{"$f":"COUNTIFS(①会場アンケート集計結果_クールビズ!$N$11:$N$5010,$D177,①会場アンケート集計結果_クールビズ!$R$11:$R$5010,$H177,①会場アンケート集計結果_クールビズ!$AN$11:$AN$5010,0)","v":0},{"$f":"COUNTIFS(①会場アンケート集計結果_クールビズ!$P$11:$P$5010,$D177,①会場アンケート集計結果_クールビズ!$R$11:$R$5010,$H177,①会場アンケート集計結果_クールビズ!$AN$11:$AN$5010,0)","v":0}]
["33",null,null,3,"行っていないが、行いたいと思っている",null,null,3,"機会があれば行いたい",null,null,{"$f":"COUNTIFS(①会場アンケート集計結果_クールビズ!$N$11:$N$5010,$D178,①会場アンケート集計結果_クールビズ!$R$11:$R$5010,$H178,①会場アンケート集計結果_クールビズ!$AN$11:$AN$5010,0)","v":0},{"$f":"COUNTIFS(①会場アンケート集計結果_クールビズ!$P$11:$P$5010,$D178,①会場アンケート集計結果_クールビズ!$R$11:$R$5010,$H178,①会場アンケート集計結果_クールビズ!$AN$11:$AN$5010,0)","v":0}]
["44",null,null,4,"行っておらず、行いたいとも思わない",null,null,4,"行いたいとは思わない",null,null,{"$f":"COUNTIFS(①会場アンケート集計結果_クールビズ!$N$11:$N$5010,$D179,①会場アンケート集計結果_クールビズ!$R$11:$R$5010,$H179,①会場アンケート集計結果_クールビズ!$AN$11:$AN$5010,0)","v":0},{"$f":"COUNTIFS(①会場アンケート集計結果_クールビズ!$P$11:$P$5010,$D179,①会場アンケート集計結果_クールビズ!$R$11:$R$5010,$H179,①会場アンケート集計結果_クールビズ!$AN$11:$AN$5010,0)","v":0}]
["45",null,null,4,"行っておらず、行いたいとも思わない",null,null,5,"わからない",null,null,{"$f":"COUNTIFS(①会場アンケート集計結果_クールビズ!$N$11:$N$5010,$D180,①会場アンケート集計結果_クールビズ!$R$11:$R$5010,$H180,①会場アンケート集計結果_クールビズ!$AN$11:$AN$5010,0)","v":0},{"$f":"COUNTIFS(①会場アンケート集計結果_クールビズ!$P$11:$P$5010,$D180,①会場アンケート集計結果_クールビズ!$R$11:$R$5010,$H180,①会場アンケート集計結果_クールビズ!$AN$11:$AN$5010,0)","v":0}]
["55",null,null,5,"クールビズを知らなかった",null,null,5,"わからない",null,null,{"$f":"COUNTIFS(①会場アンケート集計結果_クールビズ!$N$11:$N$5010,$D181,①会場アンケート集計結果_クールビズ!$R$11:$R$5010,$H181,①会場アンケート集計結果_クールビズ!$AN$11:$AN$5010,0)","v":0},{"$f":"COUNTIFS(①会場アンケート集計結果_クールビズ!$P$11:$P$5010,$D181,①会場アンケート集計結果_クールビズ!$R$11:$R$5010,$H181,①会場アンケート集計結果_クールビズ!$AN$11:$AN$5010,0)","v":0}]
["14","マイナス変容",null,1,"常に行っている",null,null,4,"行いたいとは思わない",null,null,{"$f":"COUNTIFS(①会場アンケート集計結果_クールビズ!$N$11:$N$5010,$D182,①会場アンケート集計結果_クールビズ!$R$11:$R$5010,$H182,①会場アンケート集計結果_クールビズ!$AN$11:$AN$5010,0)","v":0},{"$f":"COUNTIFS(①会場アンケート集計結果_クールビズ!$P$11:$P$5010,$D182,①会場アンケート集計結果_クールビズ!$R$11:$R$5010,$H182,①会場アンケート集計結果_クールビズ!$AN$11:$AN$5010,0)","v":0}]
["24",null,null,2,"気づいたときに行っている",null,null,4,"行いたいとは思わない",null,null,{"$f":"COUNTIFS(①会場アンケート集計結果_クールビズ!$N$11:$N$5010,$D183,①会場アンケート集計結果_クールビズ!$R$11:$R$5010,$H183,①会場アンケート集計結果_クールビズ!$AN$11:$AN$5010,0)","v":0},{"$f":"COUNTIFS(①会場アンケート集計結果_クールビズ!$P$11:$P$5010,$D183,①会場アンケート集計結果_クールビズ!$R$11:$R$5010,$H183,①会場アンケート集計結果_クールビズ!$AN$11:$AN$5010,0)","v":0}]
["34",null,null,3,"行っていないが、行いたいと思っている",null,null,4,"行いたいとは思わない",null,null,{"$f":"COUNTIFS(①会場アンケート集計結果_クールビズ!$N$11:$N$5010,$D184,①会場アンケート集計結果_クールビズ!$R$11:$R$5010,$H184,①会場アンケート集計結果_クールビズ!$AN$11:$AN$5010,0)","v":0},{"$f":"COUNTIFS(①会場アンケート集計結果_クールビズ!$P$11:$P$5010,$D184,①会場アンケート集計結果_クールビズ!$R$11:$R$5010,$H184,①会場アンケート集計結果_クールビズ!$AN$11:$AN$5010,0)","v":0}]
["54",null,null,5,"クールビズを知らなかった",null,null,4,"行いたいとは思わない",null,null,{"$f":"COUNTIFS(①会場アンケート集計結果_クールビズ!$N$11:$N$5010,$D185,①会場アンケート集計結果_クールビズ!$R$11:$R$5010,$H185,①会場アンケート集計結果_クールビズ!$AN$11:$AN$5010,0)","v":0},{"$f":"COUNTIFS(①会場アンケート集計結果_クールビズ!$P$11:$P$5010,$D185,①会場アンケート集計結果_クールビズ!$R$11:$R$5010,$H185,①会場アンケート集計結果_クールビズ!$AN$11:$AN$5010,0)","v":0}]
["15",null,null,1,"常に行っている",null,null,5,"わからない",null,null,{"$f":"COUNTIFS(①会場アンケート集計結果_クールビズ!$N$11:$N$5010,$D186,①会場アンケート集計結果_クールビズ!$R$11:$R$5010,$H186,①会場アンケート集計結果_クールビズ!$AN$11:$AN$5010,0)","v":0},{"$f":"COUNTIFS(①会場アンケート集計結果_クールビズ!$P$11:$P$5010,$D186,①会場アンケート集計結果_クールビズ!$R$11:$R$5010,$H186,①会場アンケート集計結果_クールビズ!$AN$11:$AN$5010,0)","v":0}]
["25",null,null,2,"気づいたときに行っている",null,null,5,"わからない",null,null,{"$f":"COUNTIFS(①会場アンケート集計結果_クールビズ!$N$11:$N$5010,$D187,①会場アンケート集計結果_クールビズ!$R$11:$R$5010,$H187,①会場アンケート集計結果_クールビズ!$AN$11:$AN$5010,0)","v":0},{"$f":"COUNTIFS(①会場アンケート集計結果_クールビズ!$P$11:$P$5010,$D187,①会場アンケート集計結果_クールビズ!$R$11:$R$5010,$H187,①会場アンケート集計結果_クールビズ!$AN$11:$AN$5010,0)","v":0}]
["35",null,null,3,"行っていないが、行いたいと思っている",null,null,5,"わからない",null,null,{"$f":"COUNTIFS(①会場アンケート集計結果_クールビズ!$N$11:$N$5010,$D188,①会場アンケート集計結果_クールビズ!$R$11:$R$5010,$H188,①会場アンケート集計結果_クールビズ!$AN$11:$AN$5010,0)","v":0},{"$f":"COUNTIFS(①会場アンケート集計結果_クールビズ!$P$11:$P$5010,$D188,①会場アンケート集計結果_クールビズ!$R$11:$R$5010,$H188,①会場アンケート集計結果_クールビズ!$AN$11:$AN$5010,0)","v":0}]
["12","<無効回答>\n回答に矛盾があるため除外",null,1,"常に行っている",null,null,2,"これまで行う頻度は少なかったが、今後は常に行いたい",null,null,{"$f":"COUNTIFS(①会場アンケート集計結果_クールビズ!$N$11:$N$5010,$D189,①会場アンケート集計結果_クールビズ!$R$11:$R$5010,$H189,①会場アンケート集計結果_クールビズ!$AN$11:$AN$5010,0)","v":0},{"$f":"COUNTIFS(①会場アンケート集計結果_クールビズ!$P$11:$P$5010,$D189,①会場アンケート集計結果_クールビズ!$R$11:$R$5010,$H189,①会場アンケート集計結果_クールビズ!$AN$11:$AN$5010,0)","v":0}]
["13",null,null,1,"常に行っている",null,null,3,"機会があれば行いたい",null,null,{"$f":"COUNTIFS(①会場アンケート集計結果_クールビズ!$N$11:$N$5010,$D190,①会場アンケート集計結果_クールビズ!$R$11:$R$5010,$H190,①会場アンケート集計結果_クールビズ!$AN$11:$AN$5010,0)","v":0},{"$f":"COUNTIFS(①会場アンケート集計結果_クールビズ!$P$11:$P$5010,$D190,①会場アンケート集計結果_クールビズ!$R$11:$R$5010,$H190,①会場アンケート集計結果_クールビズ!$AN$11:$AN$5010,0)","v":0}]
["21",null,null,2,"気づいたときに行っている",null,null,1,"現在も常に行っており、今後も行いたい",null,null,{"$f":"COUNTIFS(①会場アンケート集計結果_クールビズ!$N$11:$N$5010,$D191,①会場アンケート集計結果_クールビズ!$R$11:$R$5010,$H191,①会場アンケート集計結果_クールビズ!$AN$11:$AN$5010,0)","v":0},{"$f":"COUNTIFS(①会場アンケート集計結果_クールビズ!$P$11:$P$5010,$D191,①会場アンケート集計結果_クールビズ!$R$11:$R$5010,$H191,①会場アンケート集計結果_クールビズ!$AN$11:$AN$5010,0)","v":0}]
["31",null,null,3,"行っていないが、行いたいと思っている",null,null,1,"現在も常に行っており、今後も行いたい",null,null,{"$f":"COUNTIFS(①会場アンケート集計結果_クールビズ!$N$11:$N$5010,$D192,①会場アンケート集計結果_クールビズ!$R$11:$R$5010,$H192,①会場アンケート集計結果_クールビズ!$AN$11:$AN$5010,0)","v":0},{"$f":"COUNTIFS(①会場アンケート集計結果_クールビズ!$P$11:$P$5010,$D192,①会場アンケート集計結果_クールビズ!$R$11:$R$5010,$H192,①会場アンケート集計結果_クールビズ!$AN$11:$AN$5010,0)","v":0}]
["41",null,null,4,"行っておらず、行いたいとも思わない",null,null,1,"現在も常に行っており、今後も行いたい",null,null,{"$f":"COUNTIFS(①会場アンケート集計結果_クールビズ!$N$11:$N$5010,$D193,①会場アンケート集計結果_クールビズ!$R$11:$R$5010,$H193,①会場アンケート集計結果_クールビズ!$AN$11:$AN$5010,0)","v":0},{"$f":"COUNTIFS(①会場アンケート集計結果_クールビズ!$P$11:$P$5010,$D193,①会場アンケート集計結果_クールビズ!$R$11:$R$5010,$H193,①会場アンケート集計結果_クールビズ!$AN$11:$AN$5010,0)","v":0}]
["51",null,null,5,"クールビズを知らなかった",null,null,1,"現在も常に行っており、今後も行いたい",null,null,{"$f":"COUNTIFS(①会場アンケート集計結果_クールビズ!$N$11:$N$5010,$D194,①会場アンケート集計結果_クールビズ!$R$11:$R$5010,$H194,①会場アンケート集計結果_クールビズ!$AN$11:$AN$5010,0)","v":0},{"$f":"COUNTIFS(①会場アンケート集計結果_クールビズ!$P$11:$P$5010,$D194,①会場アンケート集計結果_クールビズ!$R$11:$R$5010,$H194,①会場アンケート集計結果_クールビズ!$AN$11:$AN$5010,0)","v":0}]
["61","＜無効回答＞\n対象外（クールビズを行うことができない）",null,6,"クールビズを行うことができない",null,null,1,"現在も常に行っており、今後も行いたい",null,null,{"$f":"COUNTIFS(①会場アンケート集計結果_クールビズ!$N$11:$N$5010,$D195,①会場アンケート集計結果_クールビズ!$R$11:$R$5010,$H195,①会場アンケート集計結果_クールビズ!$AN$11:$AN$5010,0)","v":0},{"$f":"COUNTIFS(①会場アンケート集計結果_クールビズ!$P$11:$P$5010,$D195,①会場アンケート集計結果_クールビズ!$R$11:$R$5010,$H195,①会場アンケート集計結果_クールビズ!$AN$11:$AN$5010,0)","v":0}]
["62",null,null,6,"クールビズを行うことができない",null,null,2,"これまで行う頻度は少なかったが、今後は常に行いたい",null,null,{"$f":"COUNTIFS(①会場アンケート集計結果_クールビズ!$N$11:$N$5010,$D196,①会場アンケート集計結果_クールビズ!$R$11:$R$5010,$H196,①会場アンケート集計結果_クールビズ!$AN$11:$AN$5010,0)","v":0},{"$f":"COUNTIFS(①会場アンケート集計結果_クールビズ!$P$11:$P$5010,$D196,①会場アンケート集計結果_クールビズ!$R$11:$R$5010,$H196,①会場アンケート集計結果_クールビズ!$AN$11:$AN$5010,0)","v":0}]
["63",null,null,6,"クールビズを行うことができない",null,null,3,"機会があれば行いたい",null,null,{"$f":"COUNTIFS(①会場アンケート集計結果_クールビズ!$N$11:$N$5010,$D197,①会場アンケート集計結果_クールビズ!$R$11:$R$5010,$H197,①会場アンケート集計結果_クールビズ!$AN$11:$AN$5010,0)","v":0},{"$f":"COUNTIFS(①会場アンケート集計結果_クールビズ!$P$11:$P$5010,$D197,①会場アンケート集計結果_クールビズ!$R$11:$R$5010,$H197,①会場アンケート集計結果_クールビズ!$AN$11:$AN$5010,0)","v":0}]
["64",null,null,6,"クールビズを行うことができない",null,null,4,"行いたいとは思わない",null,null,{"$f":"COUNTIFS(①会場アンケート集計結果_クールビズ!$N$11:$N$5010,$D198,①会場アンケート集計結果_クールビズ!$R$11:$R$5010,$H198,①会場アンケート集計結果_クールビズ!$AN$11:$AN$5010,0)","v":0},{"$f":"COUNTIFS(①会場アンケート集計結果_クールビズ!$P$11:$P$5010,$D198,①会場アンケート集計結果_クールビズ!$R$11:$R$5010,$H198,①会場アンケート集計結果_クールビズ!$AN$11:$AN$5010,0)","v":0}]
["65",null,null,6,"クールビズを行うことができない",null,null,5,"わからない",null,null,{"$f":"COUNTIFS(①会場アンケート集計結果_クールビズ!$N$11:$N$5010,$D199,①会場アンケート集計結果_クールビズ!$R$11:$R$5010,$H199,①会場アンケート集計結果_クールビズ!$AN$11:$AN$5010,0)","v":0},{"$f":"COUNTIFS(①会場アンケート集計結果_クールビズ!$P$11:$P$5010,$D199,①会場アンケート集計結果_クールビズ!$R$11:$R$5010,$H199,①会場アンケート集計結果_クールビズ!$AN$11:$AN$5010,0)","v":0}]
["991","＜無効回答＞\n対象外（一部未回答）",null,99,"未回答",null,null,1,"現在も常に行っており、今後も行いたい",null,null,{"$f":"COUNTIFS(①会場アンケート集計結果_クールビズ!$N$11:$N$5010,$D200,①会場アンケート集計結果_クールビズ!$R$11:$R$5010,$H200,①会場アンケート集計結果_クールビズ!$AN$11:$AN$5010,0)","v":0},{"$f":"COUNTIFS(①会場アンケート集計結果_クールビズ!$P$11:$P$5010,$D200,①会場アンケート集計結果_クールビズ!$R$11:$R$5010,$H200,①会場アンケート集計結果_クールビズ!$AN$11:$AN$5010,0)","v":0}]
["992",null,null,99,"未回答",null,null,2,"これまで行う頻度は少なかったが、今後は常に行いたい",null,null,{"$f":"COUNTIFS(①会場アンケート集計結果_クールビズ!$N$11:$N$5010,$D201,①会場アンケート集計結果_クールビズ!$R$11:$R$5010,$H201,①会場アンケート集計結果_クールビズ!$AN$11:$AN$5010,0)","v":0},{"$f":"COUNTIFS(①会場アンケート集計結果_クールビズ!$P$11:$P$5010,$D201,①会場アンケート集計結果_クールビズ!$R$11:$R$5010,$H201,①会場アンケート集計結果_クールビズ!$AN$11:$AN$5010,0)","v":0}]
["993",null,null,99,"未回答",null,null,3,"機会があれば行いたい",null,null,{"$f":"COUNTIFS(①会場アンケート集計結果_クールビズ!$N$11:$N$5010,$D202,①会場アンケート集計結果_クールビズ!$R$11:$R$5010,$H202,①会場アンケート集計結果_クールビズ!$AN$11:$AN$5010,0)","v":0},{"$f":"COUNTIFS(①会場アンケート集計結果_クールビズ!$P$11:$P$5010,$D202,①会場アンケート集計結果_クールビズ!$R$11:$R$5010,$H202,①会場アンケート集計結果_クールビズ!$AN$11:$AN$5010,0)","v":0}]
["994",null,null,99,"未回答",null,null,4,"行いたいとは思わない",null,null,{"$f":"COUNTIFS(①会場アンケート集計結果_クールビズ!$N$11:$N$5010,$D203,①会場アンケート集計結果_クールビズ!$R$11:$R$5010,$H203,①会場アンケート集計結果_クールビズ!$AN$11:$AN$5010,0)","v":0},{"$f":"COUNTIFS(①会場アンケート集計結果_クールビズ!$P$11:$P$5010,$D203,①会場アンケート集計結果_クールビズ!$R$11:$R$5010,$H203,①会場アンケート集計結果_クールビズ!$AN$11:$AN$5010,0)","v":0}]
["995",null,null,99,"未回答",null,null,5,"わからない",null,null,{"$f":"COUNTIFS(①会場アンケート集計結果_クールビズ!$N$11:$N$5010,$D204,①会場アンケート集計結果_クールビズ!$R$11:$R$5010,$H204,①会場アンケート集計結果_クールビズ!$AN$11:$AN$5010,0)","v":0},{"$f":"COUNTIFS(①会場アンケート集計結果_クールビズ!$P$11:$P$5010,$D204,①会場アンケート集計結果_クールビズ!$R$11:$R$5010,$H204,①会場アンケート集計結果_クールビズ!$AN$11:$AN$5010,0)","v":0}]
["9999",null,null,99,"未回答",null,null,99,"未回答",null,null,{"$f":"COUNTIFS(①会場アンケート集計結果_クールビズ!$N$11:$N$5010,$D205,①会場アンケート集計結果_クールビズ!$R$11:$R$5010,$H205,①会場アンケート集計結果_クールビズ!$AN$11:$AN$5010,0)","v":0},{"$f":"COUNTIFS(①会場アンケート集計結果_クールビズ!$P$11:$P$5010,$D205,①会場アンケート集計結果_クールビズ!$R$11:$R$5010,$H205,①会場アンケート集計結果_クールビズ!$AN$11:$AN$5010,0)","v":0}]
["299",null,null,2,"気づいたときに行っている",null,null,99,"未回答",null,null,{"$f":"COUNTIFS(①会場アンケート集計結果_クールビズ!$N$11:$N$5010,$D206,①会場アンケート集計結果_クールビズ!$R$11:$R$5010,$H206,①会場アンケート集計結果_クールビズ!$AN$11:$AN$5010,0)","v":0},{"$f":"COUNTIFS(①会場アンケート集計結果_クールビズ!$P$11:$P$5010,$D206,①会場アンケート集計結果_クールビズ!$R$11:$R$5010,$H206,①会場アンケート集計結果_クールビズ!$AN$11:$AN$5010,0)","v":0}]
["399",null,null,3,"行っていないが、行いたいと思っている",null,null,99,"未回答",null,null,{"$f":"COUNTIFS(①会場アンケート集計結果_クールビズ!$N$11:$N$5010,$D207,①会場アンケート集計結果_クールビズ!$R$11:$R$5010,$H207,①会場アンケート集計結果_クールビズ!$AN$11:$AN$5010,0)","v":0},{"$f":"COUNTIFS(①会場アンケート集計結果_クールビズ!$P$11:$P$5010,$D207,①会場アンケート集計結果_クールビズ!$R$11:$R$5010,$H207,①会場アンケート集計結果_クールビズ!$AN$11:$AN$5010,0)","v":0}]
["499",null,null,4,"行っておらず、行いたいとも思わない",null,null,99,"未回答",null,null,{"$f":"COUNTIFS(①会場アンケート集計結果_クールビズ!$N$11:$N$5010,$D208,①会場アンケート集計結果_クールビズ!$R$11:$R$5010,$H208,①会場アンケート集計結果_クールビズ!$AN$11:$AN$5010,0)","v":0},{"$f":"COUNTIFS(①会場アンケート集計結果_クールビズ!$P$11:$P$5010,$D208,①会場アンケート集計結果_クールビズ!$R$11:$R$5010,$H208,①会場アンケート集計結果_クールビズ!$AN$11:$AN$5010,0)","v":0}]
["599",null,null,5,"クールビズを知らなかった",null,null,99,"未回答",null,null,{"$f":"COUNTIFS(①会場アンケート集計結果_クールビズ!$N$11:$N$5010,$D209,①会場アンケート集計結果_クールビズ!$R$11:$R$5010,$H209,①会場アンケート集計結果_クールビズ!$AN$11:$AN$5010,0)","v":0},{"$f":"COUNTIFS(①会場アンケート集計結果_クールビズ!$P$11:$P$5010,$D209,①会場アンケート集計結果_クールビズ!$R$11:$R$5010,$H209,①会場アンケート集計結果_クールビズ!$AN$11:$AN$5010,0)","v":0}]
["699",null,null,6,"クールビズを行うことができない",null,null,99,"未回答",null,null,{"$f":"COUNTIFS(①会場アンケート集計結果_クールビズ!$N$11:$N$5010,$D210,①会場アンケート集計結果_クールビズ!$R$11:$R$5010,$H210,①会場アンケート集計結果_クールビズ!$AN$11:$AN$5010,0)","v":0},{"$f":"COUNTIFS(①会場アンケート集計結果_クールビズ!$P$11:$P$5010,$D210,①会場アンケート集計結果_クールビズ!$R$11:$R$5010,$H210,①会場アンケート集計結果_クールビズ!$AN$11:$AN$5010,0)","v":0}]
[null,null,null,null,null,null,null,null,null,null,"＜検算用＞"]
[null,null,null,null,null,null,null,null,null,null,"有効回答（無効回答・対象外を除く）⇒",{"$f":"SUM(L168:L188)","v":0},{"$f":"SUM(M168:M188)","v":0},{"$f":"SUM(N168:N188)","v":0}]
[null,null,null,null,null,null,null,null,null,null,"アンケート回収数⇒",{"$f":"SUM(L168:L210)","v":0},{"$f":"SUM(M168:M210)","v":0},{"$f":"SUM(N168:N210)","v":0}]

{"sheet":"参照⇒","index":5,"n_rows":0,"n_cols":0,"rows_kept":0,"cut":false,"hidden":false,"merged":[]}

{"sheet":"読み替え表_クールビズ","index":6,"n_rows":66,"n_cols":17,"rows_kept":66,"cut":false,"hidden":false,"merged":[[58,4,58,7],[57,10,57,14],[58,10,58,14],[53,4,53,7],[55,4,55,7],[54,4,54,7],[56,4,56,7],[57,4,57,7],[51,10,51,14],[42,10,42,14],[43,10,43,14],[44,10,44,14],[45,10,45,14],[46,10,46,14],[47,10,47,14],[48,10,48,14],[49,10,49,14],[50,10,50,14],[52,10,52,14],[53,10,53,14],[54,10,54,14],[55,10,55,14],[56,10,56,14],[48,4,48,7],[49,4,49,7],[50,4,50,7],[51,4,51,7],[52,4,52,7],[47,4,47,7],[41,10,41,14],[41,4,41,7],[40,4,40,7],[39,4,39,7],[39,10,39,14],[40,10,40,14],[42,4,42,7],[43,4,43,7],[44,4,44,7],[45,4,45,7],[46,4,46,7],[38,4,38,7],[37,4,37,7],[36,4,36,7],[36,10,36,14],[37,10,37,14],[38,10,38,14]]}
[]
[null,"・出社状況"]
[null,null,1,"ほぼ／すべて在宅勤務"]
[null,null,2,"職場・在宅勤務を併用している"]
[null,null,3,"職場のみ（在宅勤務は実施していない）"]
[null,null,99,"未回答"]
[]
[null,"・これまでのクールビズ実施状況について"]
[null,null,1,"常に行っている"]
[null,null,2,"気づいたときに行っている"]
[null,null,3,"行っていないが、行いたいと思っている"]
[null,null,4,"行っておらず、行いたいとも思わない"]
[null,null,5,"クールビズを知らなかった"]
[null,null,6,"クールビズを行うことができない"]
[null,null,99,"未回答"]
[]
[null,"・今後のクールビズ実施意向について"]
[null,null,1,"現在も常に行っており、今後も行いたい"]
[null,null,2,"これまで行う頻度は少なかったが、今後は常に行いたい"]
[null,null,3,"機会があれば行いたい"]
[null,null,4,"行いたいとは思わない"]
[null,null,5,"わからない"]
[null,null,99,"未回答"]
[]
[null,"・実施意向の理由について"]
[null,null,1,"CO2の削減に貢献するため"]
[null,null,2,"電気代が安くなると思ったため"]
[null,null,3,"快適になると思ったため"]
[null,null,4,"会社で推奨されているため"]
[null,null,5,"みんな（周りの人）がビジネスの場でクールビズを行っているため"]
[null,null,6,"その他（具体的に　　　　　　　　　　　　　　　　　　　　　　　　　　　　　　　　　　　　）"]
[null,null,7,"特に理由はない・なんとなく"]
[null,null,99,"未回答"]
[]
[null,"・無効回答の定義：回答に矛盾があるため除外"]
[]
[null,null,null,"Q2の回答","普及啓発前（読替）",null,null,null,null,"Q3の回答","普及啓発後",null,null,null,null,"エラー参照用フラグ"]
[null,null,{"$f":"$D38&\"/\"&$J38","v":"1/2"},1,"常に行っている",null,null,null,"⇒",2,"これまで行う頻度は少なかったが、今後は常に行いたい",null,null,null,null,"1/2","※普及啓発前（アンケート回答時点）に「常に行っている」と回答しているにもかかわらず、普及啓発直後（アンケート回答時点）に常に行って「いない」と回答している"]
[null,null,{"$f":"$D39&\"/\"&$J39","v":"1/3"},1,"常に行っている",null,null,null,"⇒",3,"機会があれば行いたい",null,null,null,null,"1/3","※普及啓発前（アンケート回答時点）に「常に行っている」と回答しているにもかかわらず、普及啓発直後（アンケート回答時点）に常に行って「いない」と回答している"]
[null,null,"2/1",2,"気づいたときに行っている",null,null,null,"⇒",1,"現在も常に行っており、今後も行いたい",null,null,null,null,"2/1","※普及啓発前（アンケート回答時点）に「常に行っている」と回答していないにもかかわらず、普及啓発直後（アンケート回答時点）に「常に行っている」と回答している"]
[null,null,"3/1",3,"行っていないが、行いたいと思っている",null,null,null,"⇒",1,"現在も常に行っており、今後も行いたい",null,null,null,null,"3/1","※普及啓発前（アンケート回答時点）に「常に行っている」と回答していないにもかかわらず、普及啓発直後（アンケート回答時点）に「常に行っている」と回答している"]
[null,null,"4/1",4,"行っておらず、行いたいとも思わない",null,null,null,"⇒",1,"現在も常に行っており、今後も行いたい",null,null,null,null,"4/1","※普及啓発前（アンケート回答時点）に「常に行っている」と回答していないにもかかわらず、普及啓発直後（アンケート回答時点）に「常に行っている」と回答している"]
[null,null,"5/1",5,"クールビズを知らなかった",null,null,null,"⇒",1,"現在も常に行っており、今後も行いたい",null,null,null,null,"5/1","※普及啓発前（アンケート回答時点）に「常に行っている」と回答していないにもかかわらず、普及啓発直後（アンケート回答時点）に「常に行っている」と回答している"]
[null,null,"6/1",6,"クールビズを行うことができない",null,null,null,"⇒",1,"現在も常に行っており、今後も行いたい",null,null,null,null,"6/1","※何らかの理由でクールビズを行うことができないため"]
[null,null,"6/2",6,"クールビズを行うことができない",null,null,null,"⇒",2,"これまで行う頻度は少なかったが、今後は常に行いたい",null,null,null,null,"6/2","※何らかの理由でクールビズを行うことができないため"]
[null,null,"6/3",6,"クールビズを行うことができない",null,null,null,"⇒",3,"機会があれば行いたい",null,null,null,null,"6/3","※何らかの理由でクールビズを行うことができないため"]
[null,null,"6/4",6,"クールビズを行うことができない",null,null,null,"⇒",4,"行いたいとは思わない",null,null,null,null,"6/4","※何らかの理由でクールビズを行うことができないため"]
[null,null,"6/5",6,"クールビズを行うことができない",null,null,null,"⇒",5,"わからない",null,null,null,null,"6/5","※何らかの理由でクールビズを行うことができないため"]
[null,null,"99/1",99,"未回答",null,null,null,"⇒",1,"現在も常に行っており、今後も行いたい",null,null,null,null,"99/1","※一部設問が未回答であり、普及啓発効果が測定できないため"]
[null,null,"99/2",99,"未回答",null,null,null,"⇒",2,"これまで行う頻度は少なかったが、今後は常に行いたい",null,null,null,null,"99/2","※一部設問が未回答であり、普及啓発効果が測定できないため"]
[null,null,"99/3",99,"未回答",null,null,null,"⇒",3,"機会があれば行いたい",null,null,null,null,"99/3","※一部設問が未回答であり、普及啓発効果が測定できないため"]
[null,null,"99/4",99,"未回答",null,null,null,"⇒",4,"行いたいとは思わない",null,null,null,null,"99/4","※一部設問が未回答であり、普及啓発効果が測定できないため"]
[null,null,"99/5",99,"未回答",null,null,null,"⇒",5,"わからない",null,null,null,null,"99/5","※一部設問が未回答であり、普及啓発効果が測定できないため"]
[null,null,"99/99",99,"未回答",null,null,null,"⇒",99,"未回答",null,null,null,null,"99/99","※一部設問が未回答であり、普及啓発効果が測定できないため"]
[null,null,"2/99",2,"気づいたときに行っている",null,null,null,"⇒",99,"未回答",null,null,null,null,"2/99","※一部設問が未回答であり、普及啓発効果が測定できないため"]
[null,null,"3/99",3,"行っていないが、行いたいと思っている",null,null,null,"⇒",99,"未回答",null,null,null,null,"3/99","※一部設問が未回答であり、普及啓発効果が測定できないため"]
[null,null,"4/99",4,"行っておらず、行いたいとも思わない",null,null,null,"⇒",99,"未回答",null,null,null,null,"4/99","※一部設問が未回答であり、普及啓発効果が測定できないため"]
[null,null,{"$f":"$D58&\"/\"&$J58","v":"5/99"},5,"クールビズを知らなかった",null,null,null,null,99,"未回答",null,null,null,null,"5/99","※一部設問が未回答であり、普及啓発効果が測定できないため"]
[null,null,"6/99",6,"クールビズを行うことができない",null,null,null,null,99,"未回答",null,null,null,null,"6/99","※一部設問が未回答であり、普及啓発効果が測定できないため"]
[]
[]
[]
[null,"◆","アンケート配布状況オプション"]
[null,null,"普及啓発活動の実施前"]
[null,null,"普及啓発活動の実施直後"]
[null,null,"普及啓発活動実施の数日後"]