{"text_format":"1","workbook":"xlsx","n_sheets":7,"sheets":["入力手順","ローデータ⇒","①会場アンケート集計結果_エコドライブ","集計結果⇒","②単純集計表 ","参照⇒","読み替え表_エコドライブ"],"not_rendered":{"charts":6,"images":0,"macros":1,"external_links":0,"defined_names":2,"comments":0,"pivot_tables":0},"unopened":[],"bounds":{"document_bytes":16777216,"sheet_cells":100000,"rows_first":2000,"rows_last":500,"rows_between":2000,"halvings":0,"cell_chars":16384,"cell_head_chars":4096},"cells_cut":0,"cells_raw":0,"read":"whole","date_system":"1900"}

{"sheet":"入力手順","index":0,"n_rows":26,"n_cols":4,"rows_kept":26,"cut":false,"hidden":false,"merged":[[15,3,15,11],[16,3,16,11],[7,3,7,11],[8,3,8,11],[9,3,9,11],[10,3,10,11],[13,3,13,11],[14,3,14,11],[12,3,12,11],[11,3,11,11]]}
[]
[null,"会場アンケート入力ツール　シート構成・入力手順--------------------------------------------"]
[null,"◆エコドライブ"]
[]
[null,"①「会場アンケート集計結果_エコドライブ」シート"]
[null,"・講演会・イベント等で回収されたアンケート調査票を入力する（データ化する）ツール"]
[null,"＜手順＞"]
[null,null,"①","「表示」をクリックし、入力フォームを表示させる"]
[null,null,"②","「入力行」にアンケート結果の入力を開始する行番号を入力する（添付エクセルの場合は8行目から開始）"]
[null,null,"③","都道府県名、事業者名、アンケートを実施したイベント名、アンケート回収日付をそれぞれの欄に記入する"]
[null,null,"④"," 性別・年齢は入力フォームにしたがって選択する"]
[null,null,"⑤","「所有車」は回答と一致するものを選択する"]
[null,null,"⑥","「２．これまでのエコドライブ実施状況について」は回答と一致するものを選択する"]
[null,null,"⑦","「３．今後のエコドライブ実施意向について」は回答と一致するものを選択する"]
[null,null,"⑧","「4．実施意向の理由について」は回答と一致するものを選択する"]
[null,null,"⑦","「５．追跡アンケートへのご協力のお願い（メールアドレス）」では、アンケート下部を確認し、まずメールアドレスの有無を選択する。メールアドレスの記入があった場合は、メールアドレスを記入する"]
[null,null,"⑧","すべての入力が終わったら「【データ入力】」をクリック"]
[]
[]
[null,"②「単純集計表」シート"]
[null,"・「会場アンケート集計結果_エコドライブ」シートに入力されたデータを簡易的に集計したものである"]
[null,"・来場者の性別・年代別構成比、所有者の車種、現在のエコドライブ実施状況、各取組の認知度、実践状況を把握可能"]
[]
[null,"③「読み替え表_エコドライブ」シート"]
[null,"・本ファイルではアンケートの回答結果をデータ処理のため数字で代替している箇所がある"]
[null,"・その際のアンケート回答選択肢と数字の置換関係をまとめたシートである"]

{"sheet":"ローデータ⇒","index":1,"n_rows":0,"n_cols":0,"rows_kept":0,"cut":false,"hidden":false,"merged":[]}

{"sheet":"①会場アンケート集計結果_エコドライブ","index":2,"n_rows":2008,"n_cols":37,"rows_kept":2008,"cut":false,"hidden":false,"merged":[[4,7,4,8],[3,7,3,8],[4,9,4,18],[3,9,3,18],[3,19,3,20],[4,19,4,20],[4,21,4,22],[3,21,3,22],[3,23,3,30],[4,23,4,30],[3,31,3,33],[4,31,4,33]]}
[]
[null,null,null,null,null,null,null,null,null,null,null,null,null,null,null,null,null,null,null,null,null,null,null,null,null,null,null,null,null,null,null,null,null,null,null,null,"*"]
[null,null,{"$f":"COLUMN()","v":3},{"$f":"COLUMN()","v":4},{"$f":"COLUMN()","v":5},{"$f":"COLUMN()","v":6},{"$f":"COLUMN()","v":7},{"$f":"COLUMN()","v":8},{"$f":"COLUMN()","v":9},{"$f":"COLUMN()","v":10},{"$f":"COLUMN()","v":11},{"$f":"COLUMN()","v":12},{"$f":"COLUMN()","v":13},{"$f":"COLUMN()","v":14},{"$f":"COLUMN()","v":15},{"$f":"COLUMN()","v":16},{"$f":"COLUMN()","v":17},{"$f":"COLUMN()","v":18},{"$f":"COLUMN()","v":19},{"$f":"COLUMN()","v":20},{"$f":"COLUMN()","v":21},{"$f":"COLUMN()","v":22},{"$f":"COLUMN()","v":23},{"$f":"COLUMN()","v":24},{"$f":"COLUMN()","v":25},{"$f":"COLUMN()","v":26},{"$f":"COLUMN()","v":27},{"$f":"COLUMN()","v":28},{"$f":"COLUMN()","v":29},{"$f":"COLUMN()","v":30},{"$f":"COLUMN()","v":31},{"$f":"COLUMN()","v":32},{"$f":"COLUMN()","v":33},{"$f":"COLUMN()","v":34},{"$f":"COLUMN()","v":35},{"$f":"COLUMN()","v":36},"*"]
[null,null,null,null,null,null,null,"１．あなたご自身について",null,"１．あなたご自身について",null,null,null,null,null,null,null,null,null,"2．これまでのエコドライブ実施状況について",null,"３．今後のエコドライブ実施意向について",null,"４．実施意向の理由について",null,null,null,null,null,null,null,"５．追跡アンケートへのご協力のお願い（メールアドレス）",null,null,null,null,"*"]
[null,null,null,"事業者情報",null,"イベント情報",null,"性別・年代",null,"車の所有状況",null,null,null,null,null,null,null,null,null,"現在のエコドライブの実施状況についてお聞かせください。",null,"イベントに参加されて、エコドライブを実施したいと思いましたか",null,"なぜ、エコドライブを実施していますか／実施したいと思いましたか（3つまで）",null,null,null,null,null,null,null,"メールアドレス",null,null,null,null,"*"]
[null,null,"#","都道府県","事業者名","イベント名","回収日付","性別","年代","ガソリン車","ハイブリッド車","電気自動車","ディーゼル車","プラグインハイブリッド車","燃料電池車","その他","その他（）","持っていない","未回答","#","回答","#","回答","CO2の削減に貢献する","燃料代が安くなる","安全運転になる","みんながエコドライブを行っている","その他","その他（）","特に理由はない・なんとなく","未回答","記入\n有無","メールアドレス（@より前）","ドメイン","特定ID","error"]
[null,null,null,null,null,null,null,null,null,1,2,3,4,5,6,7,null,8,99,null,null,null,null,1,2,3,4,5,null,6,99,null,null,null,null,null,"*"]
[null,null,{"$f":"ROW()-7","v":1},null,null,null,null,null,null,null,null,null,null,null,null,null,null,null,null,null,null,null,null,null,null,null,null,null,null,null,null,null,null,null,null,{"$f":"IFERROR(IF(T8=5,1,IF(MATCH(T8&\"/\"&V8,読み替え表_エコドライブ!$P$33:$P$52,0),1,0)),0)","v":0},"*"]
[null,null,{"$f":"ROW()-7","v":2},null,null,null,null,null,null,null,null,null,null,null,null,null,null,null,null,null,null,null,null,null,null,null,null,null,null,null,null,null,null,null,null,{"$f":"IFERROR(IF(T9=5,1,IF(MATCH(T9&\"/\"&V9,読み替え表_エコドライブ!$P$33:$P$52,0),1,0)),0)","v":0},"*"]
[null,null,{"$f":"ROW()-7","v":3},null,null,null,null,null,null,null,null,null,null,null,null,null,null,null,null,null,null,null,null,null,null,null,null,null,null,null,null,null,null,null,null,{"$f":"IFERROR(IF(T10=5,1,IF(MATCH(T10&\"/\"&V10,読み替え表_エコドライブ!$P$33:$P$52,0),1,0)),0)","v":0},"*"]
[null,null,{"$f":"ROW()-7","v":4},null,null,null,null,null,null,null,null,null,null,null,null,null,null,null,null,null,null,null,null,null,null,null,null,null,null,null,null,null,null,null,null,{"$f":"IFERROR(IF(T11=5,1,IF(MATCH(T11&\"/\"&V11,読み替え表_エコドライブ!$P$33:$P$52,0),1,0)),0)","v":0},"*"]
[null,null,5,null,null,null,null,null,null,null,null,null,null,null,null,null,null,null,null,null,null,null,null,null,null,null,null,null,null,null,null,null,null,null,null,{"$f":"IFERROR(IF(T12=5,1,IF(MATCH(T12&\"/\"&V12,読み替え表_エコドライブ!$P$33:$P$52,0),1,0)),0)","v":0},"*"]
[null,null,6,null,null,null,null,null,null,null,null,null,null,null,null,null,null,null,null,null,null,null,null,null,null,null,null,null,null,null,null,null,null,null,null,{"$f":"IFERROR(IF(T13=5,1,IF(MATCH(T13&\"/\"&V13,読み替え表_エコドライブ!$P$33:$P$52,0),1,0)),0)","v":0},"*"]
[null,null,7,null,null,null,null,null,null,null,null,null,null,null,null,null,null,null,null,null,null,null,null,null,null,null,null,null,null,null,null,null,null,null,null,{"$f":"IFERROR(IF(T14=5,1,IF(MATCH(T14&\"/\"&V14,読み替え表_エコドライブ!$P$33:$P$52,0),1,0)),0)","v":0},"*"]
[null,null,8,null,null,null,null,null,null,null,null,null,null,null,null,null,null,null,null,null,null,null,null,null,null,null,null,null,null,null,null,null,null,null,null,{"$f":"IFERROR(IF(T15=5,1,IF(MATCH(T15&\"/\"&V15,読み替え表_エコドライブ!$P$33:$P$52,0),1,0)),0)","v":0},"*"]
[null,null,9,null,null,null,null,null,null,null,null,null,null,null,null,null,null,null,null,null,null,null,null,null,null,null,null,null,null,null,null,null,null,null,null,{"$f":"IFERROR(IF(T16=5,1,IF(MATCH(T16&\"/\"&V16,読み替え表_エコドライブ!$P$33:$P$52,0),1,0)),0)","v":0},"*"]
[null,null,10,null,null,null,null,null,null,null,null,null,null,null,null,null,null,null,null,null,null,null,null,null,null,null,null,null,null,null,null,null,null,null,null,{"$f":"IFERROR(IF(T17=5,1,IF(MATCH(T17&\"/\"&V17,読み替え表_エコドライブ!$P$33:$P$52,0),1,0)),0)","v":0},"*"]
[null,null,11,null,null,null,null,null,null,null,null,null,null,null,null,null,null,null,null,null,null,null,null,null,null,null,null,null,null,null,null,null,null,null,null,{"$f":"IFERROR(IF(T18=5,1,IF(MATCH(T18&\"/\"&V18,読み替え表_エコドライブ!$P$33:$P$52,0),1,0)),0)","v":0},"*"]
[null,null,12,null,null,null,null,null,null,null,null,null,null,null,null,null,null,null,null,null,null,null,null,null,null,null,null,null,null,null,null,null,null,null,null,{"$f":"IFERROR(IF(T19=5,1,IF(MATCH(T19&\"/\"&V19,読み替え表_エコドライブ!$P$33:$P$52,0),1,0)),0)","v":0},"*"]
[null,null,13,null,null,null,null,null,null,null,null,null,null,null,null,null,null,null,null,null,null,null,null,null,null,null,null,null,null,null,null,null,null,null,null,{"$f":"IFERROR(IF(T20=5,1,IF(MATCH(T20&\"/\"&V20,読み替え表_エコドライブ!$P$33:$P$52,0),1,0)),0)","v":0},"*"]
[null,null,14,null,null,null,null,null,null,null,null,null,null,null,null,null,null,null,null,null,null,null,null,null,null,null,null,null,null,null,null,null,null,null,null,{"$f":"IFERROR(IF(T21=5,1,IF(MATCH(T21&\"/\"&V21,読み替え表_エコドライブ!$P$33:$P$52,0),1,0)),0)","v":0},"*"]
[null,null,15,null,null,null,null,null,null,null,null,null,null,null,null,null,null,null,null,null,null,null,null,null,null,null,null,null,null,null,null,null,null,null,null,{"$f":"IFERROR(IF(T22=5,1,IF(MATCH(T22&\"/\"&V22,読み替え表_エコドライブ!$P$33:$P$52,0),1,0)),0)","v":0},"*"]
[null,null,16,null,null,null,null,null,null,null,null,null,null,null,null,null,null,null,null,null,null,null,null,null,null,null,null,null,null,null,null,null,null,null,null,{"$f":"IFERROR(IF(T23=5,1,IF(MATCH(T23&\"/\"&V23,読み替え表_エコドライブ!$P$33:$P$52,0),1,0)),0)","v":0},"*"]
[null,null,17,null,null,null,null,null,null,null,null,null,null,null,null,null,null,null,null,null,null,null,null,null,null,null,null,null,null,null,null,null,null,null,null,{"$f":"IFERROR(IF(T24=5,1,IF(MATCH(T24&\"/\"&V24,読み替え表_エコドライブ!$P$33:$P$52,0),1,0)),0)","v":0},"*"]
[null,null,18,null,null,null,null,null,null,null,null,null,null,null,null,null,null,null,null,null,null,null,null,null,null,null,null,null,null,null,null,null,null,null,null,{"$f":"IFERROR(IF(T25=5,1,IF(MATCH(T25&\"/\"&V25,読み替え表_エコドライブ!$P$33:$P$52,0),1,0)),0)","v":0},"*"]
[null,null,19,null,null,null,null,null,null,null,null,null,null,null,null,null,null,null,null,null,null,null,null,null,null,null,null,null,null,null,null,null,null,null,null,{"$f":"IFERROR(IF(T26=5,1,IF(MATCH(T26&\"/\"&V26,読み替え表_エコドライブ!$P$33:$P$52,0),1,0)),0)","v":0},"*"]
[null,null,20,null,null,null,null,null,null,null,null,null,null,null,null,null,null,null,null,null,null,null,null,null,null,null,null,null,null,null,null,null,null,null,null,{"$f":"IFERROR(IF(T27=5,1,IF(MATCH(T27&\"/\"&V27,読み替え表_エコドライブ!$P$33:$P$52,0),1,0)),0)","v":0},"*"]
[null,null,21,null,null,null,null,null,null,null,null,null,null,null,null,null,null,null,null,null,null,null,null,null,null,null,null,null,null,null,null,null,null,null,null,{"$f":"IFERROR(IF(T28=5,1,IF(MATCH(T28&\"/\"&V28,読み替え表_エコドライブ!$P$33:$P$52,0),1,0)),0)","v":0},"*"]
[null,null,22,null,null,null,null,null,null,null,null,null,null,null,null,null,null,null,null,null,null,null,null,null,null,null,null,null,null,null,null,null,null,null,null,{"$f":"IFERROR(IF(T29=5,1,IF(MATCH(T29&\"/\"&V29,読み替え表_エコドライブ!$P$33:$P$52,0),1,0)),0)","v":0},"*"]
[null,null,23,null,null,null,null,null,null,null,null,null,null,null,null,null,null,null,null,null,null,null,null,null,null,null,null,null,null,null,null,null,null,null,null,{"$f":"IFERROR(IF(T30=5,1,IF(MATCH(T30&\"/\"&V30,読み替え表_エコドライブ!$P$33:$P$52,0),1,0)),0)","v":0},"*"]
[null,null,24,null,null,null,null,null,null,null,null,null,null,null,null,null,null,null,null,null,null,null,null,null,null,null,null,null,null,null,null,null,null,null,null,{"$f":"IFERROR(IF(T31=5,1,IF(MATCH(T31&\"/\"&V31,読み替え表_エコドライブ!$P$33:$P$52,0),1,0)),0)","v":0},"*"]
[null,null,25,null,null,null,null,null,null,null,null,null,null,null,null,null,null,null,null,null,null,null,null,null,null,null,null,null,null,null,null,null,null,null,null,{"$f":"IFERROR(IF(T32=5,1,IF(MATCH(T32&\"/\"&V32,読み替え表_エコドライブ!$P$33:$P$52,0),1,0)),0)","v":0},"*"]
[null,null,26,null,null,null,null,null,null,null,null,null,null,null,null,null,null,null,null,null,null,null,null,null,null,null,null,null,null,null,null,null,null,null,null,{"$f":"IFERROR(IF(T33=5,1,IF(MATCH(T33&\"/\"&V33,読み替え表_エコドライブ!$P$33:$P$52,0),1,0)),0)","v":0},"*"]
[null,null,27,null,null,null,null,null,null,null,null,null,null,null,null,null,null,null,null,null,null,null,null,null,null,null,null,null,null,null,null,null,null,null,null,{"$f":"IFERROR(IF(T34=5,1,IF(MATCH(T34&\"/\"&V34,読み替え表_エコドライブ!$P$33:$P$52,0),1,0)),0)","v":0},"*"]
[null,null,28,null,null,null,null,null,null,null,null,null,null,null,null,null,null,null,null,null,null,null,null,null,null,null,null,null,null,null,null,null,null,null,null,{"$f":"IFERROR(IF(T35=5,1,IF(MATCH(T35&\"/\"&V35,読み替え表_エコドライブ!$P$33:$P$52,0),1,0)),0)","v":0},"*"]
[null,null,29,null,null,null,null,null,null,null,null,null,null,null,null,null,null,null,null,null,null,null,null,null,null,null,null,null,null,null,null,null,null,null,null,{"$f":"IFERROR(IF(T36=5,1,IF(MATCH(T36&\"/\"&V36,読み替え表_エコドライブ!$P$33:$P$52,0),1,0)),0)","v":0},"*"]
[null,null,30,null,null,null,null,null,null,null,null,null,null,null,null,null,null,null,null,null,null,null,null,null,null,null,null,null,null,null,null,null,null,null,null,{"$f":"IFERROR(IF(T37=5,1,IF(MATCH(T37&\"/\"&V37,読み替え表_エコドライブ!$P$33:$P$52,0),1,0)),0)","v":0},"*"]
[null,null,31,null,null,null,null,null,null,null,null,null,null,null,null,null,null,null,null,null,null,null,null,null,null,null,null,null,null,null,null,null,null,null,null,{"$f":"IFERROR(IF(T38=5,1,IF(MATCH(T38&\"/\"&V38,読み替え表_エコドライブ!$P$33:$P$52,0),1,0)),0)","v":0},"*"]
[null,null,32,null,null,null,null,null,null,null,null,null,null,null,null,null,null,null,null,null,null,null,null,null,null,null,null,null,null,null,null,null,null,null,null,{"$f":"IFERROR(IF(T39=5,1,IF(MATCH(T39&\"/\"&V39,読み替え表_エコドライブ!$P$33:$P$52,0),1,0)),0)","v":0},"*"]
[null,null,33,null,null,null,null,null,null,null,null,null,null,null,null,null,null,null,null,null,null,null,null,null,null,null,null,null,null,null,null,null,null,null,null,{"$f":"IFERROR(IF(T40=5,1,IF(MATCH(T40&\"/\"&V40,読み替え表_エコドライブ!$P$33:$P$52,0),1,0)),0)","v":0},"*"]
[null,null,34,null,null,null,null,null,null,null,null,null,null,null,null,null,null,null,null,null,null,null,null,null,null,null,null,null,null,null,null,null,null,null,null,{"$f":"IFERROR(IF(T41=5,1,IF(MATCH(T41&\"/\"&V41,読み替え表_エコドライブ!$P$33:$P$52,0),1,0)),0)","v":0},"*"]
[null,null,35,null,null,null,null,null,null,null,null,null,null,null,null,null,null,null,null,null,null,null,null,null,null,null,null,null,null,null,null,null,null,null,null,{"$f":"IFERROR(IF(T42=5,1,IF(MATCH(T42&\"/\"&V42,読み替え表_エコドライブ!$P$33:$P$52,0),1,0)),0)","v":0},"*"]
[null,null,36,null,null,null,null,null,null,null,null,null,null,null,null,null,null,null,null,null,null,null,null,null,null,null,null,null,null,null,null,null,null,null,null,{"$f":"IFERROR(IF(T43=5,1,IF(MATCH(T43&\"/\"&V43,読み替え表_エコドライブ!$P$33:$P$52,0),1,0)),0)","v":0},"*"]
[null,null,37,null,null,null,null,null,null,null,null,null,null,null,null,null,null,null,null,null,null,null,null,null,null,null,null,null,null,null,null,null,null,null,null,{"$f":"IFERROR(IF(T44=5,1,IF(MATCH(T44&\"/\"&V44,読み替え表_エコドライブ!$P$33:$P$52,0),1,0)),0)","v":0},"*"]
[null,null,38,null,null,null,null,null,null,null,null,null,null,null,null,null,null,null,null,null,null,null,null,null,null,null,null,null,null,null,null,null,null,null,null,{"$f":"IFERROR(IF(T45=5,1,IF(MATCH(T45&\"/\"&V45,読み替え表_エコドライブ!$P$33:$P$52,0),1,0)),0)","v":0},"*"]
[null,null,39,null,null,null,null,null,null,null,null,null,null,null,null,null,null,null,null,null,null,null,null,null,null,null,null,null,null,null,null,null,null,null,null,{"$f":"IFERROR(IF(T46=5,1,IF(MATCH(T46&\"/\"&V46,読み替え表_エコドライブ!$P$33:$P$52,0),1,0)),0)","v":0},"*"]
[null,null,40,null,null,null,null,null,null,null,null,null,null,null,null,null,null,null,null,null,null,null,null,null,null,null,null,null,null,null,null,null,null,null,null,{"$f":"IFERROR(IF(T47=5,1,IF(MATCH(T47&\"/\"&V47,読み替え表_エコドライブ!$P$33:$P$52,0),1,0)),0)","v":0},"*"]
[null,null,41,null,null,null,null,null,null,null,null,null,null,null,null,null,null,null,null,null,null,null,null,null,null,null,null,null,null,null,null,null,null,null,null,{"$f":"IFERROR(IF(T48=5,1,IF(MATCH(T48&\"/\"&V48,読み替え表_エコドライブ!$P$33:$P$52,0),1,0)),0)","v":0},"*"]
[null,null,42,null,null,null,null,null,null,null,null,null,null,null,null,null,null,null,null,null,null,null,null,null,null,null,null,null,null,null,null,null,null,null,null,{"$f":"IFERROR(IF(T49=5,1,IF(MATCH(T49&\"/\"&V49,読み替え表_エコドライブ!$P$33:$P$52,0),1,0)),0)","v":0},"*"]
[null,null,43,null,null,null,null,null,null,null,null,null,null,null,null,null,null,null,null,null,null,null,null,null,null,null,null,null,null,null,null,null,null,null,null,{"$f":"IFERROR(IF(T50=5,1,IF(MATCH(T50&\"/\"&V50,読み替え表_エコドライブ!$P$33:$P$52,0),1,0)),0)","v":0},"*"]
[null,null,44,null,null,null,null,null,null,null,null,null,null,null,null,null,null,null,null,null,null,null,null,null,null,null,null,null,null,null,null,null,null,null,null,{"$f":"IFERROR(IF(T51=5,1,IF(MATCH(T51&\"/\"&V51,読み替え表_エコドライブ!$P$33:$P$52,0),1,0)),0)","v":0},"*"]
[null,null,45,null,null,null,null,null,null,null,null,null,null,null,null,null,null,null,null,null,null,null,null,null,null,null,null,null,null,null,null,null,null,null,null,{"$f":"IFERROR(IF(T52=5,1,IF(MATCH(T52&\"/\"&V52,読み替え表_エコドライブ!$P$33:$P$52,0),1,0)),0)","v":0},"*"]
[null,null,46,null,null,null,null,null,null,null,null,null,null,null,null,null,null,null,null,null,null,null,null,null,null,null,null,null,null,null,null,null,null,null,null,{"$f":"IFERROR(IF(T53=5,1,IF(MATCH(T53&\"/\"&V53,読み替え表_エコドライブ!$P$33:$P$52,0),1,0)),0)","v":0},"*"]
[null,null,47,null,null,null,null,null,null,null,null,null,null,null,null,null,null,null,null,null,null,null,null,null,null,null,null,null,null,null,null,null,null,null,null,{"$f":"IFERROR(IF(T54=5,1,IF(MATCH(T54&\"/\"&V54,読み替え表_エコドライブ!$P$33:$P$52,0),1,0)),0)","v":0},"*"]
[null,null,48,null,null,null,null,null,null,null,null,null,null,null,null,null,null,null,null,null,null,null,null,null,null,null,null,null,null,null,null,null,null,null,null,{"$f":"IFERROR(IF(T55=5,1,IF(MATCH(T55&\"/\"&V55,読み替え表_エコドライブ!$P$33:$P$52,0),1,0)),0)","v":0},"*"]
[null,null,49,null,null,null,null,null,null,null,null,null,null,null,null,null,null,null,null,null,null,null,null,null,null,null,null,null,null,null,null,null,null,null,null,{"$f":"IFERROR(IF(T56=5,1,IF(MATCH(T56&\"/\"&V56,読み替え表_エコドライブ!$P$33:$P$52,0),1,0)),0)","v":0},"*"]
[null,null,50,null,null,null,null,null,null,null,null,null,null,null,null,null,null,null,null,null,null,null,null,null,null,null,null,null,null,null,null,null,null,null,null,{"$f":"IFERROR(IF(T57=5,1,IF(MATCH(T57&\"/\"&V57,読み替え表_エコドライブ!$P$33:$P$52,0),1,0)),0)","v":0},"*"]
[null,null,51,null,null,null,null,null,null,null,null,null,null,null,null,null,null,null,null,null,null,null,null,null,null,null,null,null,null,null,null,null,null,null,null,{"$f":"IFERROR(IF(T58=5,1,IF(MATCH(T58&\"/\"&V58,読み替え表_エコドライブ!$P$33:$P$52,0),1,0)),0)","v":0},"*"]
[null,null,52,null,null,null,null,null,null,null,null,null,null,null,null,null,null,null,null,null,null,null,null,null,null,null,null,null,null,null,null,null,null,null,null,{"$f":"IFERROR(IF(T59=5,1,IF(MATCH(T59&\"/\"&V59,読み替え表_エコドライブ!$P$33:$P$52,0),1,0)),0)","v":0},"*"]
[null,null,53,null,null,null,null,null,null,null,null,null,null,null,null,null,null,null,null,null,null,null,null,null,null,null,null,null,null,null,null,null,null,null,null,{"$f":"IFERROR(IF(T60=5,1,IF(MATCH(T60&\"/\"&V60,読み替え表_エコドライブ!$P$33:$P$52,0),1,0)),0)","v":0},"*"]
[null,null,54,null,null,null,null,null,null,null,null,null,null,null,null,null,null,null,null,null,null,null,null,null,null,null,null,null,null,null,null,null,null,null,null,{"$f":"IFERROR(IF(T61=5,1,IF(MATCH(T61&\"/\"&V61,読み替え表_エコドライブ!$P$33:$P$52,0),1,0)),0)","v":0},"*"]
[null,null,55,null,null,null,null,null,null,null,null,null,null,null,null,null,null,null,null,null,null,null,null,null,null,null,null,null,null,null,null,null,null,null,null,{"$f":"IFERROR(IF(T62=5,1,IF(MATCH(T62&\"/\"&V62,読み替え表_エコドライブ!$P$33:$P$52,0),1,0)),0)","v":0},"*"]
[null,null,56,null,null,null,null,null,null,null,null,null,null,null,null,null,null,null,null,null,null,null,null,null,null,null,null,null,null,null,null,null,null,null,null,{"$f":"IFERROR(IF(T63=5,1,IF(MATCH(T63&\"/\"&V63,読み替え表_エコドライブ!$P$33:$P$52,0),1,0)),0)","v":0},"*"]
[null,null,57,null,null,null,null,null,null,null,null,null,null,null,null,null,null,null,null,null,null,null,null,null,null,null,null,null,null,null,null,null,null,null,null,{"$f":"IFERROR(IF(T64=5,1,IF(MATCH(T64&\"/\"&V64,読み替え表_エコドライブ!$P$33:$P$52,0),1,0)),0)","v":0},"*"]
[null,null,58,null,null,null,null,null,null,null,null,null,null,null,null,null,null,null,null,null,null,null,null,null,null,null,null,null,null,null,null,null,null,null,null,{"$f":"IFERROR(IF(T65=5,1,IF(MATCH(T65&\"/\"&V65,読み替え表_エコドライブ!$P$33:$P$52,0),1,0)),0)","v":0},"*"]
[null,null,59,null,null,null,null,null,null,null,null,null,null,null,null,null,null,null,null,null,null,null,null,null,null,null,null,null,null,null,null,null,null,null,null,{"$f":"IFERROR(IF(T66=5,1,IF(MATCH(T66&\"/\"&V66,読み替え表_エコドライブ!$P$33:$P$52,0),1,0)),0)","v":0},"*"]
[null,null,60,null,null,null,null,null,null,null,null,null,null,null,null,null,null,null,null,null,null,null,null,null,null,null,null,null,null,null,null,null,null,null,null,{"$f":"IFERROR(IF(T67=5,1,IF(MATCH(T67&\"/\"&V67,読み替え表_エコドライブ!$P$33:$P$52,0),1,0)),0)","v":0},"*"]
[null,null,61,null,null,null,null,null,null,null,null,null,null,null,null,null,null,null,null,null,null,null,null,null,null,null,null,null,null,null,null,null,null,null,null,{"$f":"IFERROR(IF(T68=5,1,IF(MATCH(T68&\"/\"&V68,読み替え表_エコドライブ!$P$33:$P$52,0),1,0)),0)","v":0},"*"]
[null,null,62,null,null,null,null,null,null,null,null,null,null,null,null,null,null,null,null,null,null,null,null,null,null,null,null,null,null,null,null,null,null,null,null,{"$f":"IFERROR(IF(T69=5,1,IF(MATCH(T69&\"/\"&V69,読み替え表_エコドライブ!$P$33:$P$52,0),1,0)),0)","v":0},"*"]
[null,null,63,null,null,null,null,null,null,null,null,null,null,null,null,null,null,null,null,null,null,null,null,null,null,null,null,null,null,null,null,null,null,null,null,{"$f":"IFERROR(IF(T70=5,1,IF(MATCH(T70&\"/\"&V70,読み替え表_エコドライブ!$P$33:$P$52,0),1,0)),0)","v":0},"*"]
[null,null,64,null,null,null,null,null,null,null,null,null,null,null,null,null,null,null,null,null,null,null,null,null,null,null,null,null,null,null,null,null,null,null,null,{"$f":"IFERROR(IF(T71=5,1,IF(MATCH(T71&\"/\"&V71,読み替え表_エコドライブ!$P$33:$P$52,0),1,0)),0)","v":0},"*"]
[null,null,65,null,null,null,null,null,null,null,null,null,null,null,null,null,null,null,null,null,null,null,null,null,null,null,null,null,null,null,null,null,null,null,null,{"$f":"IFERROR(IF(T72=5,1,IF(MATCH(T72&\"/\"&V72,読み替え表_エコドライブ!$P$33:$P$52,0),1,0)),0)","v":0},"*"]
[null,null,{"$f":"ROW()-7","v":66},null,null,null,null,null,null,null,null,null,null,null,null,null,null,null,null,null,null,null,null,null,null,null,null,null,null,null,null,null,null,null,null,{"$f":"IFERROR(IF(T73=5,1,IF(MATCH(T73&\"/\"&V73,読み替え表_エコドライブ!$P$33:$P$52,0),1,0)),0)","v":0},"*"]
[null,null,67,null,null,null,null,null,null,null,null,null,null,null,null,null,null,null,null,null,null,null,null,null,null,null,null,null,null,null,null,null,null,null,null,{"$f":"IFERROR(IF(T74=5,1,IF(MATCH(T74&\"/\"&V74,読み替え表_エコドライブ!$P$33:$P$52,0),1,0)),0)","v":0},"*"]
[null,null,68,null,null,null,null,null,null,null,null,null,null,null,null,null,null,null,null,null,null,null,null,null,null,null,null,null,null,null,null,null,null,null,null,{"$f":"IFERROR(IF(T75=5,1,IF(MATCH(T75&\"/\"&V75,読み替え表_エコドライブ!$P$33:$P$52,0),1,0)),0)","v":0},"*"]
[null,null,69,null,null,null,null,null,null,null,null,null,null,null,null,null,null,null,null,null,null,null,null,null,null,null,null,null,null,null,null,null,null,null,null,{"$f":"IFERROR(IF(T76=5,1,IF(MATCH(T76&\"/\"&V76,読み替え表_エコドライブ!$P$33:$P$52,0),1,0)),0)","v":0},"*"]
[null,null,70,null,null,null,null,null,null,null,null,null,null,null,null,null,null,null,null,null,null,null,null,null,null,null,null,null,null,null,null,null,null,null,null,{"$f":"IFERROR(IF(T77=5,1,IF(MATCH(T77&\"/\"&V77,読み替え表_エコドライブ!$P$33:$P$52,0),1,0)),0)","v":0},"*"]
[null,null,71,null,null,null,null,null,null,null,null,null,null,null,null,null,null,null,null,null,null,null,null,null,null,null,null,null,null,null,null,null,null,null,null,{"$f":"IFERROR(IF(T78=5,1,IF(MATCH(T78&\"/\"&V78,読み替え表_エコドライブ!$P$33:$P$52,0),1,0)),0)","v":0},"*"]
[null,null,72,null,null,null,null,null,null,null,null,null,null,null,null,null,null,null,null,null,null,null,null,null,null,null,null,null,null,null,null,null,null,null,null,{"$f":"IFERROR(IF(T79=5,1,IF(MATCH(T79&\"/\"&V79,読み替え表_エコドライブ!$P$33:$P$52,0),1,0)),0)","v":0},"*"]
[null,null,73,null,null,null,null,null,null,null,null,null,null,null,null,null,null,null,null,null,null,null,null,null,null,null,null,null,null,null,null,null,null,null,null,{"$f":"IFERROR(IF(T80=5,1,IF(MATCH(T80&\"/\"&V80,読み替え表_エコドライブ!$P$33:$P$52,0),1,0)),0)","v":0},"*"]
[null,null,74,null,null,null,null,null,null,null,null,null,null,null,null,null,null,null,null,null,null,null,null,null,null,null,null,null,null,null,null,null,null,null,null,{"$f":"IFERROR(IF(T81=5,1,IF(MATCH(T81&\"/\"&V81,読み替え表_エコドライブ!$P$33:$P$52,0),1,0)),0)","v":0},"*"]
[null,null,75,null,null,null,null,null,null,null,null,null,null,null,null,null,null,null,null,null,null,null,null,null,null,null,null,null,null,null,null,null,null,null,null,{"$f":"IFERROR(IF(T82=5,1,IF(MATCH(T82&\"/\"&V82,読み替え表_エコドライブ!$P$33:$P$52,0),1,0)),0)","v":0},"*"]
[null,null,76,null,null,null,null,null,null,null,null,null,null,null,null,null,null,null,null,null,null,null,null,null,null,null,null,null,null,null,null,null,null,null,null,{"$f":"IFERROR(IF(T83=5,1,IF(MATCH(T83&\"/\"&V83,読み替え表_エコドライブ!$P$33:$P$52,0),1,0)),0)","v":0},"*"]
[null,null,77,null,null,null,null,null,null,null,null,null,null,null,null,null,null,null,null,null,null,null,null,null,null,null,null,null,null,null,null,null,null,null,null,{"$f":"IFERROR(IF(T84=5,1,IF(MATCH(T84&\"/\"&V84,読み替え表_エコドライブ!$P$33:$P$52,0),1,0)),0)","v":0},"*"]
[null,null,78,null,null,null,null,null,null,null,null,null,null,null,null,null,null,null,null,null,null,null,null,null,null,null,null,null,null,null,null,null,null,null,null,{"$f":"IFERROR(IF(T85=5,1,IF(MATCH(T85&\"/\"&V85,読み替え表_エコドライブ!$P$33:$P$52,0),1,0)),0)","v":0},"*"]
[null,null,79,null,null,null,null,null,null,null,null,null,null,null,null,null,null,null,null,null,null,null,null,null,null,null,null,null,null,null,null,null,null,null,null,{"$f":"IFERROR(IF(T86=5,1,IF(MATCH(T86&\"/\"&V86,読み替え表_エコドライブ!$P$33:$P$52,0),1,0)),0)","v":0},"*"]
[null,null,80,null,null,null,null,null,null,null,null,null,null,null,null,null,null,null,null,null,null,null,null,null,null,null,null,null,null,null,null,null,null,null,null,{"$f":"IFERROR(IF(T87=5,1,IF(MATCH(T87&\"/\"&V87,読み替え表_エコドライブ!$P$33:$P$52,0),1,0)),0)","v":0},"*"]
[null,null,81,null,null,null,null,null,null,null,null,null,null,null,null,null,null,null,null,null,null,null,null,null,null,null,null,null,null,null,null,null,null,null,null,{"$f":"IFERROR(IF(T88=5,1,IF(MATCH(T88&\"/\"&V88,読み替え表_エコドライブ!$P$33:$P$52,0),1,0)),0)","v":0},"*"]
[null,null,82,null,null,null,null,null,null,null,null,null,null,null,null,null,null,null,null,null,null,null,null,null,null,null,null,null,null,null,null,null,null,null,null,{"$f":"IFERROR(IF(T89=5,1,IF(MATCH(T89&\"/\"&V89,読み替え表_エコドライブ!$P$33:$P$52,0),1,0)),0)","v":0},"*"]
[null,null,83,null,null,null,null,null,null,null,null,null,null,null,null,null,null,null,null,null,null,null,null,null,null,null,null,null,null,null,null,null,null,null,null,{"$f":"IFERROR(IF(T90=5,1,IF(MATCH(T90&\"/\"&V90,読み替え表_エコドライブ!$P$33:$P$52,0),1,0)),0)","v":0},"*"]
[null,null,84,null,null,null,null,null,null,null,null,null,null,null,null,null,null,null,null,null,null,null,null,null,null,null,null,null,null,null,null,null,null,null,null,{"$f":"IFERROR(IF(T91=5,1,IF(MATCH(T91&\"/\"&V91,読み替え表_エコドライブ!$P$33:$P$52,0),1,0)),0)","v":0},"*"]
[null,null,85,null,null,null,null,null,null,null,null,null,null,null,null,null,null,null,null,null,null,null,null,null,null,null,null,null,null,null,null,null,null,null,null,{"$f":"IFERROR(IF(T92=5,1,IF(MATCH(T92&\"/\"&V92,読み替え表_エコドライブ!$P$33:$P$52,0),1,0)),0)","v":0},"*"]
[null,null,86,null,null,null,null,null,null,null,null,null,null,null,null,null,null,null,null,null,null,null,null,null,null,null,null,null,null,null,null,null,null,null,null,{"$f":"IFERROR(IF(T93=5,1,IF(MATCH(T93&\"/\"&V93,読み替え表_エコドライブ!$P$33:$P$52,0),1,0)),0)","v":0},"*"]
[null,null,87,null,null,null,null,null,null,null,null,null,null,null,null,null,null,null,null,null,null,null,null,null,null,null,null,null,null,null,null,null,null,null,null,{"$f":"IFERROR(IF(T94=5,1,IF(MATCH(T94&\"/\"&V94,読み替え表_エコドライブ!$P$33:$P$52,0),1,0)),0)","v":0},"*"]
[null,null,88,null,null,null,null,null,null,null,null,null,null,null,null,null,null,null,null,null,null,null,null,null,null,null,null,null,null,null,null,null,null,null,null,{"$f":"IFERROR(IF(T95=5,1,IF(MATCH(T95&\"/\"&V95,読み替え表_エコドライブ!$P$33:$P$52,0),1,0)),0)","v":0},"*"]
[null,null,89,null,null,null,null,null,null,null,null,null,null,null,null,null,null,null,null,null,null,null,null,null,null,null,null,null,null,null,null,null,null,null,null,{"$f":"IFERROR(IF(T96=5,1,IF(MATCH(T96&\"/\"&V96,読み替え表_エコドライブ!$P$33:$P$52,0),1,0)),0)","v":0},"*"]
[null,null,90,null,null,null,null,null,null,null,null,null,null,null,null,null,null,null,null,null,null,null,null,null,null,null,null,null,null,null,null,null,null,null,null,{"$f":"IFERROR(IF(T97=5,1,IF(MATCH(T97&\"/\"&V97,読み替え表_エコドライブ!$P$33:$P$52,0),1,0)),0)","v":0},"*"]
[null,null,91,null,null,null,null,null,null,null,null,null,null,null,null,null,null,null,null,null,null,null,null,null,null,null,null,null,null,null,null,null,null,null,null,{"$f":"IFERROR(IF(T98=5,1,IF(MATCH(T98&\"/\"&V98,読み替え表_エコドライブ!$P$33:$P$52,0),1,0)),0)","v":0},"*"]
[null,null,92,null,null,null,null,null,null,null,null,null,null,null,null,null,null,null,null,null,null,null,null,null,null,null,null,null,null,null,null,null,null,null,null,{"$f":"IFERROR(IF(T99=5,1,IF(MATCH(T99&\"/\"&V99,読み替え表_エコドライブ!$P$33:$P$52,0),1,0)),0)","v":0},"*"]
[null,null,93,null,null,null,null,null,null,null,null,null,null,null,null,null,null,null,null,null,null,null,null,null,null,null,null,null,null,null,null,null,null,null,null,{"$f":"IFERROR(IF(T100=5,1,IF(MATCH(T100&\"/\"&V100,読み替え表_エコドライブ!$P$33:$P$52,0),1,0)),0)","v":0},"*"]
[null,null,94,null,null,null,null,null,null,null,null,null,null,null,null,null,null,null,null,null,null,null,null,null,null,null,null,null,null,null,null,null,null,null,null,{"$f":"IFERROR(IF(T101=5,1,IF(MATCH(T101&\"/\"&V101,読み替え表_エコドライブ!$P$33:$P$52,0),1,0)),0)","v":0},"*"]
[null,null,95,null,null,null,null,null,null,null,null,null,null,null,null,null,null,null,null,null,null,null,null,null,null,null,null,null,null,null,null,null,null,null,null,{"$f":"IFERROR(IF(T102=5,1,IF(MATCH(T102&\"/\"&V102,読み替え表_エコドライブ!$P$33:$P$52,0),1,0)),0)","v":0},"*"]
[null,null,96,null,null,null,null,null,null,null,null,null,null,null,null,null,null,null,null,null,null,null,null,null,null,null,null,null,null,null,null,null,null,null,null,{"$f":"IFERROR(IF(T103=5,1,IF(MATCH(T103&\"/\"&V103,読み替え表_エコドライブ!$P$33:$P$52,0),1,0)),0)","v":0},"*"]
[null,null,97,null,null,null,null,null,null,null,null,null,null,null,null,null,null,null,null,null,null,null,null,null,null,null,null,null,null,null,null,null,null,null,null,{"$f":"IFERROR(IF(T104=5,1,IF(MATCH(T104&\"/\"&V104,読み替え表_エコドライブ!$P$33:$P$52,0),1,0)),0)","v":0},"*"]
[null,null,98,null,null,null,null,null,null,null,null,null,null,null,null,null,null,null,null,null,null,null,null,null,null,null,null,null,null,null,null,null,null,null,null,{"$f":"IFERROR(IF(T105=5,1,IF(MATCH(T105&\"/\"&V105,読み替え表_エコドライブ!$P$33:$P$52,0),1,0)),0)","v":0},"*"]
[null,null,99,null,null,null,null,null,null,null,null,null,null,null,null,null,null,null,null,null,null,null,null,null,null,null,null,null,null,null,null,null,null,null,null,{"$f":"IFERROR(IF(T106=5,1,IF(MATCH(T106&\"/\"&V106,読み替え表_エコドライブ!$P$33:$P$52,0),1,0)),0)","v":0},"*"]
[null,null,100,null,null,null,null,null,null,null,null,null,null,null,null,null,null,null,null,null,null,null,null,null,null,null,null,null,null,null,null,null,null,null,null,{"$f":"IFERROR(IF(T107=5,1,IF(MATCH(T107&\"/\"&V107,読み替え表_エコドライブ!$P$33:$P$52,0),1,0)),0)","v":0},"*"]
[null,null,101,null,null,null,null,null,null,null,null,null,null,null,null,null,null,null,null,null,null,null,null,null,null,null,null,null,null,null,null,null,null,null,null,{"$f":"IFERROR(IF(T108=5,1,IF(MATCH(T108&\"/\"&V108,読み替え表_エコドライブ!$P$33:$P$52,0),1,0)),0)","v":0},"*"]
[null,null,102,null,null,null,null,null,null,null,null,null,null,null,null,null,null,null,null,null,null,null,null,null,null,null,null,null,null,null,null,null,null,null,null,{"$f":"IFERROR(IF(T109=5,1,IF(MATCH(T109&\"/\"&V109,読み替え表_エコドライブ!$P$33:$P$52,0),1,0)),0)","v":0},"*"]
[null,null,103,null,null,null,null,null,null,null,null,null,null,null,null,null,null,null,null,null,null,null,null,null,null,null,null,null,null,null,null,null,null,null,null,{"$f":"IFERROR(IF(T110=5,1,IF(MATCH(T110&\"/\"&V110,読み替え表_エコドライブ!$P$33:$P$52,0),1,0)),0)","v":0},"*"]
[null,null,104,null,null,null,null,null,null,null,null,null,null,null,null,null,null,null,null,null,null,null,null,null,null,null,null,null,null,null,null,null,null,null,null,{"$f":"IFERROR(IF(T111=5,1,IF(MATCH(T111&\"/\"&V111,読み替え表_エコドライブ!$P$33:$P$52,0),1,0)),0)","v":0},"*"]
[null,null,105,null,null,null,null,null,null,null,null,null,null,null,null,null,null,null,null,null,null,null,null,null,null,null,null,null,null,null,null,null,null,null,null,{"$f":"IFERROR(IF(T112=5,1,IF(MATCH(T112&\"/\"&V112,読み替え表_エコドライブ!$P$33:$P$52,0),1,0)),0)","v":0},"*"]
[null,null,106,null,null,null,null,null,null,null,null,null,null,null,null,null,null,null,null,null,null,null,null,null,null,null,null,null,null,null,null,null,null,null,null,{"$f":"IFERROR(IF(T113=5,1,IF(MATCH(T113&\"/\"&V113,読み替え表_エコドライブ!$P$33:$P$52,0),1,0)),0)","v":0},"*"]
[null,null,107,null,null,null,null,null,null,null,null,null,null,null,null,null,null,null,null,null,null,null,null,null,null,null,null,null,null,null,null,null,null,null,null,{"$f":"IFERROR(IF(T114=5,1,IF(MATCH(T114&\"/\"&V114,読み替え表_エコドライブ!$P$33:$P$52,0),1,0)),0)","v":0},"*"]
[null,null,108,null,null,null,null,null,null,null,null,null,null,null,null,null,null,null,null,null,null,null,null,null,null,null,null,null,null,null,null,null,null,null,null,{"$f":"IFERROR(IF(T115=5,1,IF(MATCH(T115&\"/\"&V115,読み替え表_エコドライブ!$P$33:$P$52,0),1,0)),0)","v":0},"*"]
[null,null,109,null,null,null,null,null,null,null,null,null,null,null,null,null,null,null,null,null,null,null,null,null,null,null,null,null,null,null,null,null,null,null,null,{"$f":"IFERROR(IF(T116=5,1,IF(MATCH(T116&\"/\"&V116,読み替え表_エコドライブ!$P$33:$P$52,0),1,0)),0)","v":0},"*"]
[null,null,110,null,null,null,null,null,null,null,null,null,null,null,null,null,null,null,null,null,null,null,null,null,null,null,null,null,null,null,null,null,null,null,null,{"$f":"IFERROR(IF(T117=5,1,IF(MATCH(T117&\"/\"&V117,読み替え表_エコドライブ!$P$33:$P$52,0),1,0)),0)","v":0},"*"]
[null,null,111,null,null,null,null,null,null,null,null,null,null,null,null,null,null,null,null,null,null,null,null,null,null,null,null,null,null,null,null,null,null,null,null,{"$f":"IFERROR(IF(T118=5,1,IF(MATCH(T118&\"/\"&V118,読み替え表_エコドライブ!$P$33:$P$52,0),1,0)),0)","v":0},"*"]
[null,null,112,null,null,null,null,null,null,null,null,null,null,null,null,null,null,null,null,null,null,null,null,null,null,null,null,null,null,null,null,null,null,null,null,{"$f":"IFERROR(IF(T119=5,1,IF(MATCH(T119&\"/\"&V119,読み替え表_エコドライブ!$P$33:$P$52,0),1,0)),0)","v":0},"*"]
[null,null,113,null,null,null,null,null,null,null,null,null,null,null,null,null,null,null,null,null,null,null,null,null,null,null,null,null,null,null,null,null,null,null,null,{"$f":"IFERROR(IF(T120=5,1,IF(MATCH(T120&\"/\"&V120,読み替え表_エコドライブ!$P$33:$P$52,0),1,0)),0)","v":0},"*"]
[null,null,114,null,null,null,null,null,null,null,null,null,null,null,null,null,null,null,null,null,null,null,null,null,null,null,null,null,null,null,null,null,null,null,null,{"$f":"IFERROR(IF(T121=5,1,IF(MATCH(T121&\"/\"&V121,読み替え表_エコドライブ!$P$33:$P$52,0),1,0)),0)","v":0},"*"]
[null,null,115,null,null,null,null,null,null,null,null,null,null,null,null,null,null,null,null,null,null,null,null,null,null,null,null,null,null,null,null,null,null,null,null,{"$f":"IFERROR(IF(T122=5,1,IF(MATCH(T122&\"/\"&V122,読み替え表_エコドライブ!$P$33:$P$52,0),1,0)),0)","v":0},"*"]
[null,null,116,null,null,null,null,null,null,null,null,null,null,null,null,null,null,null,null,null,null,null,null,null,null,null,null,null,null,null,null,null,null,null,null,{"$f":"IFERROR(IF(T123=5,1,IF(MATCH(T123&\"/\"&V123,読み替え表_エコドライブ!$P$33:$P$52,0),1,0)),0)","v":0},"*"]
[null,null,117,null,null,null,null,null,null,null,null,null,null,null,null,null,null,null,null,null,null,null,null,null,null,null,null,null,null,null,null,null,null,null,null,{"$f":"IFERROR(IF(T124=5,1,IF(MATCH(T124&\"/\"&V124,読み替え表_エコドライブ!$P$33:$P$52,0),1,0)),0)","v":0},"*"]
[null,null,118,null,null,null,null,null,null,null,null,null,null,null,null,null,null,null,null,null,null,null,null,null,null,null,null,null,null,null,null,null,null,null,null,{"$f":"IFERROR(IF(T125=5,1,IF(MATCH(T125&\"/\"&V125,読み替え表_エコドライブ!$P$33:$P$52,0),1,0)),0)","v":0},"*"]
[null,null,119,null,null,null,null,null,null,null,null,null,null,null,null,null,null,null,null,null,null,null,null,null,null,null,null,null,null,null,null,null,null,null,null,{"$f":"IFERROR(IF(T126=5,1,IF(MATCH(T126&\"/\"&V126,読み替え表_エコドライブ!$P$33:$P$52,0),1,0)),0)","v":0},"*"]
[null,null,120,null,null,null,null,null,null,null,null,null,null,null,null,null,null,null,null,null,null,null,null,null,null,null,null,null,null,null,null,null,null,null,null,{"$f":"IFERROR(IF(T127=5,1,IF(MATCH(T127&\"/\"&V127,読み替え表_エコドライブ!$P$33:$P$52,0),1,0)),0)","v":0},"*"]
[null,null,121,null,null,null,null,null,null,null,null,null,null,null,null,null,null,null,null,null,null,null,null,null,null,null,null,null,null,null,null,null,null,null,null,{"$f":"IFERROR(IF(T128=5,1,IF(MATCH(T128&\"/\"&V128,読み替え表_エコドライブ!$P$33:$P$52,0),1,0)),0)","v":0},"*"]
[null,null,122,null,null,null,null,null,null,null,null,null,null,null,null,null,null,null,null,null,null,null,null,null,null,null,null,null,null,null,null,null,null,null,null,{"$f":"IFERROR(IF(T129=5,1,IF(MATCH(T129&\"/\"&V129,読み替え表_エコドライブ!$P$33:$P$52,0),1,0)),0)","v":0},"*"]
[null,null,123,null,null,null,null,null,null,null,null,null,null,null,null,null,null,null,null,null,null,null,null,null,null,null,null,null,null,null,null,null,null,null,null,{"$f":"IFERROR(IF(T130=5,1,IF(MATCH(T130&\"/\"&V130,読み替え表_エコドライブ!$P$33:$P$52,0),1,0)),0)","v":0},"*"]
[null,null,124,null,null,null,null,null,null,null,null,null,null,null,null,null,null,null,null,null,null,null,null,null,null,null,null,null,null,null,null,null,null,null,null,{"$f":"IFERROR(IF(T131=5,1,IF(MATCH(T131&\"/\"&V131,読み替え表_エコドライブ!$P$33:$P$52,0),1,0)),0)","v":0},"*"]
[null,null,125,null,null,null,null,null,null,null,null,null,null,null,null,null,null,null,null,null,null,null,null,null,null,null,null,null,null,null,null,null,null,null,null,{"$f":"IFERROR(IF(T132=5,1,IF(MATCH(T132&\"/\"&V132,読み替え表_エコドライブ!$P$33:$P$52,0),1,0)),0)","v":0},"*"]
[null,null,126,null,null,null,null,null,null,null,null,null,null,null,null,null,null,null,null,null,null,null,null,null,null,null,null,null,null,null,null,null,null,null,null,{"$f":"IFERROR(IF(T133=5,1,IF(MATCH(T133&\"/\"&V133,読み替え表_エコドライブ!$P$33:$P$52,0),1,0)),0)","v":0},"*"]
[null,null,127,null,null,null,null,null,null,null,null,null,null,null,null,null,null,null,null,null,null,null,null,null,null,null,null,null,null,null,null,null,null,null,null,{"$f":"IFERROR(IF(T134=5,1,IF(MATCH(T134&\"/\"&V134,読み替え表_エコドライブ!$P$33:$P$52,0),1,0)),0)","v":0},"*"]
[null,null,128,null,null,null,null,null,null,null,null,null,null,null,null,null,null,null,null,null,null,null,null,null,null,null,null,null,null,null,null,null,null,null,null,{"$f":"IFERROR(IF(T135=5,1,IF(MATCH(T135&\"/\"&V135,読み替え表_エコドライブ!$P$33:$P$52,0),1,0)),0)","v":0},"*"]
[null,null,129,null,null,null,null,null,null,null,null,null,null,null,null,null,null,null,null,null,null,null,null,null,null,null,null,null,null,null,null,null,null,null,null,{"$f":"IFERROR(IF(T136=5,1,IF(MATCH(T136&\"/\"&V136,読み替え表_エコドライブ!$P$33:$P$52,0),1,0)),0)","v":0},"*"]
[null,null,{"$f":"ROW()-7","v":130},null,null,null,null,null,null,null,null,null,null,null,null,null,null,null,null,null,null,null,null,null,null,null,null,null,null,null,null,null,null,null,null,{"$f":"IFERROR(IF(T137=5,1,IF(MATCH(T137&\"/\"&V137,読み替え表_エコドライブ!$P$33:$P$52,0),1,0)),0)","v":0},"*"]
[null,null,131,null,null,null,null,null,null,null,null,null,null,null,null,null,null,null,null,null,null,null,null,null,null,null,null,null,null,null,null,null,null,null,null,{"$f":"IFERROR(IF(T138=5,1,IF(MATCH(T138&\"/\"&V138,読み替え表_エコドライブ!$P$33:$P$52,0),1,0)),0)","v":0},"*"]
[null,null,132,null,null,null,null,null,null,null,null,null,null,null,null,null,null,null,null,null,null,null,null,null,null,null,null,null,null,null,null,null,null,null,null,{"$f":"IFERROR(IF(T139=5,1,IF(MATCH(T139&\"/\"&V139,読み替え表_エコドライブ!$P$33:$P$52,0),1,0)),0)","v":0},"*"]
[null,null,133,null,null,null,null,null,null,null,null,null,null,null,null,null,null,null,null,null,null,null,null,null,null,null,null,null,null,null,null,null,null,null,null,{"$f":"IFERROR(IF(T140=5,1,IF(MATCH(T140&\"/\"&V140,読み替え表_エコドライブ!$P$33:$P$52,0),1,0)),0)","v":0},"*"]
[null,null,134,null,null,null,null,null,null,null,null,null,null,null,null,null,null,null,null,null,null,null,null,null,null,null,null,null,null,null,null,null,null,null,null,{"$f":"IFERROR(IF(T141=5,1,IF(MATCH(T141&\"/\"&V141,読み替え表_エコドライブ!$P$33:$P$52,0),1,0)),0)","v":0},"*"]
[null,null,135,null,null,null,null,null,null,null,null,null,null,null,null,null,null,null,null,null,null,null,null,null,null,null,null,null,null,null,null,null,null,null,null,{"$f":"IFERROR(IF(T142=5,1,IF(MATCH(T142&\"/\"&V142,読み替え表_エコドライブ!$P$33:$P$52,0),1,0)),0)","v":0},"*"]
[null,null,136,null,null,null,null,null,null,null,null,null,null,null,null,null,null,null,null,null,null,null,null,null,null,null,null,null,null,null,null,null,null,null,null,{"$f":"IFERROR(IF(T143=5,1,IF(MATCH(T143&\"/\"&V143,読み替え表_エコドライブ!$P$33:$P$52,0),1,0)),0)","v":0},"*"]
[null,null,137,null,null,null,null,null,null,null,null,null,null,null,null,null,null,null,null,null,null,null,null,null,null,null,null,null,null,null,null,null,null,null,null,{"$f":"IFERROR(IF(T144=5,1,IF(MATCH(T144&\"/\"&V144,読み替え表_エコドライブ!$P$33:$P$52,0),1,0)),0)","v":0},"*"]
[null,null,138,null,null,null,null,null,null,null,null,null,null,null,null,null,null,null,null,null,null,null,null,null,null,null,null,null,null,null,null,null,null,null,null,{"$f":"IFERROR(IF(T145=5,1,IF(MATCH(T145&\"/\"&V145,読み替え表_エコドライブ!$P$33:$P$52,0),1,0)),0)","v":0},"*"]
[null,null,139,null,null,null,null,null,null,null,null,null,null,null,null,null,null,null,null,null,null,null,null,null,null,null,null,null,null,null,null,null,null,null,null,{"$f":"IFERROR(IF(T146=5,1,IF(MATCH(T146&\"/\"&V146,読み替え表_エコドライブ!$P$33:$P$52,0),1,0)),0)","v":0},"*"]
[null,null,140,null,null,null,null,null,null,null,null,null,null,null,null,null,null,null,null,null,null,null,null,null,null,null,null,null,null,null,null,null,null,null,null,{"$f":"IFERROR(IF(T147=5,1,IF(MATCH(T147&\"/\"&V147,読み替え表_エコドライブ!$P$33:$P$52,0),1,0)),0)","v":0},"*"]
[null,null,141,null,null,null,null,null,null,null,null,null,null,null,null,null,null,null,null,null,null,null,null,null,null,null,null,null,null,null,null,null,null,null,null,{"$f":"IFERROR(IF(T148=5,1,IF(MATCH(T148&\"/\"&V148,読み替え表_エコドライブ!$P$33:$P$52,0),1,0)),0)","v":0},"*"]
[null,null,142,null,null,null,null,null,null,null,null,null,null,null,null,null,null,null,null,null,null,null,null,null,null,null,null,null,null,null,null,null,null,null,null,{"$f":"IFERROR(IF(T149=5,1,IF(MATCH(T149&\"/\"&V149,読み替え表_エコドライブ!$P$33:$P$52,0),1,0)),0)","v":0},"*"]
[null,null,143,null,null,null,null,null,null,null,null,null,null,null,null,null,null,null,null,null,null,null,null,null,null,null,null,null,null,null,null,null,null,null,null,{"$f":"IFERROR(IF(T150=5,1,IF(MATCH(T150&\"/\"&V150,読み替え表_エコドライブ!$P$33:$P$52,0),1,0)),0)","v":0},"*"]
[null,null,144,null,null,null,null,null,null,null,null,null,null,null,null,null,null,null,null,null,null,null,null,null,null,null,null,null,null,null,null,null,null,null,null,{"$f":"IFERROR(IF(T151=5,1,IF(MATCH(T151&\"/\"&V151,読み替え表_エコドライブ!$P$33:$P$52,0),1,0)),0)","v":0},"*"]
[null,null,145,null,null,null,null,null,null,null,null,null,null,null,null,null,null,null,null,null,null,null,null,null,null,null,null,null,null,null,null,null,null,null,null,{"$f":"IFERROR(IF(T152=5,1,IF(MATCH(T152&\"/\"&V152,読み替え表_エコドライブ!$P$33:$P$52,0),1,0)),0)","v":0},"*"]
[null,null,146,null,null,null,null,null,null,null,null,null,null,null,null,null,null,null,null,null,null,null,null,null,null,null,null,null,null,null,null,null,null,null,null,{"$f":"IFERROR(IF(T153=5,1,IF(MATCH(T153&\"/\"&V153,読み替え表_エコドライブ!$P$33:$P$52,0),1,0)),0)","v":0},"*"]
[null,null,147,null,null,null,null,null,null,null,null,null,null,null,null,null,null,null,null,null,null,null,null,null,null,null,null,null,null,null,null,null,null,null,null,{"$f":"IFERROR(IF(T154=5,1,IF(MATCH(T154&\"/\"&V154,読み替え表_エコドライブ!$P$33:$P$52,0),1,0)),0)","v":0},"*"]
[null,null,148,null,null,null,null,null,null,null,null,null,null,null,null,null,null,null,null,null,null,null,null,null,null,null,null,null,null,null,null,null,null,null,null,{"$f":"IFERROR(IF(T155=5,1,IF(MATCH(T155&\"/\"&V155,読み替え表_エコドライブ!$P$33:$P$52,0),1,0)),0)","v":0},"*"]
[null,null,149,null,null,null,null,null,null,null,null,null,null,null,null,null,null,null,null,null,null,null,null,null,null,null,null,null,null,null,null,null,null,null,null,{"$f":"IFERROR(IF(T156=5,1,IF(MATCH(T156&\"/\"&V156,読み替え表_エコドライブ!$P$33:$P$52,0),1,0)),0)","v":0},"*"]
[null,null,150,null,null,null,null,null,null,null,null,null,null,null,null,null,null,null,null,null,null,null,null,null,null,null,null,null,null,null,null,null,null,null,null,{"$f":"IFERROR(IF(T157=5,1,IF(MATCH(T157&\"/\"&V157,読み替え表_エコドライブ!$P$33:$P$52,0),1,0)),0)","v":0},"*"]
[null,null,151,null,null,null,null,null,null,null,null,null,null,null,null,null,null,null,null,null,null,null,null,null,null,null,null,null,null,null,null,null,null,null,null,{"$f":"IFERROR(IF(T158=5,1,IF(MATCH(T158&\"/\"&V158,読み替え表_エコドライブ!$P$33:$P$52,0),1,0)),0)","v":0},"*"]
[null,null,152,null,null,null,null,null,null,null,null,null,null,null,null,null,null,null,null,null,null,null,null,null,null,null,null,null,null,null,null,null,null,null,null,{"$f":"IFERROR(IF(T159=5,1,IF(MATCH(T159&\"/\"&V159,読み替え表_エコドライブ!$P$33:$P$52,0),1,0)),0)","v":0},"*"]
[null,null,153,null,null,null,null,null,null,null,null,null,null,null,null,null,null,null,null,null,null,null,null,null,null,null,null,null,null,null,null,null,null,null,null,{"$f":"IFERROR(IF(T160=5,1,IF(MATCH(T160&\"/\"&V160,読み替え表_エコドライブ!$P$33:$P$52,0),1,0)),0)","v":0},"*"]
[null,null,154,null,null,null,null,null,null,null,null,null,null,null,null,null,null,null,null,null,null,null,null,null,null,null,null,null,null,null,null,null,null,null,null,{"$f":"IFERROR(IF(T161=5,1,IF(MATCH(T161&\"/\"&V161,読み替え表_エコドライブ!$P$33:$P$52,0),1,0)),0)","v":0},"*"]
[null,null,155,null,null,null,null,null,null,null,null,null,null,null,null,null,null,null,null,null,null,null,null,null,null,null,null,null,null,null,null,null,null,null,null,{"$f":"IFERROR(IF(T162=5,1,IF(MATCH(T162&\"/\"&V162,読み替え表_エコドライブ!$P$33:$P$52,0),1,0)),0)","v":0},"*"]
[null,null,156,null,null,null,null,null,null,null,null,null,null,null,null,null,null,null,null,null,null,null,null,null,null,null,null,null,null,null,null,null,null,null,null,{"$f":"IFERROR(IF(T163=5,1,IF(MATCH(T163&\"/\"&V163,読み替え表_エコドライブ!$P$33:$P$52,0),1,0)),0)","v":0},"*"]
[null,null,157,null,null,null,null,null,null,null,null,null,null,null,null,null,null,null,null,null,null,null,null,null,null,null,null,null,null,null,null,null,null,null,null,{"$f":"IFERROR(IF(T164=5,1,IF(MATCH(T164&\"/\"&V164,読み替え表_エコドライブ!$P$33:$P$52,0),1,0)),0)","v":0},"*"]
[null,null,158,null,null,null,null,null,null,null,null,null,null,null,null,null,null,null,null,null,null,null,null,null,null,null,null,null,null,null,null,null,null,null,null,{"$f":"IFERROR(IF(T165=5,1,IF(MATCH(T165&\"/\"&V165,読み替え表_エコドライブ!$P$33:$P$52,0),1,0)),0)","v":0},"*"]
[null,null,159,null,null,null,null,null,null,null,null,null,null,null,null,null,null,null,null,null,null,null,null,null,null,null,null,null,null,null,null,null,null,null,null,{"$f":"IFERROR(IF(T166=5,1,IF(MATCH(T166&\"/\"&V166,読み替え表_エコドライブ!$P$33:$P$52,0),1,0)),0)","v":0},"*"]
[null,null,160,null,null,null,null,null,null,null,null,null,null,null,null,null,null,null,null,null,null,null,null,null,null,null,null,null,null,null,null,null,null,null,null,{"$f":"IFERROR(IF(T167=5,1,IF(MATCH(T167&\"/\"&V167,読み替え表_エコドライブ!$P$33:$P$52,0),1,0)),0)","v":0},"*"]
[null,null,161,null,null,null,null,null,null,null,null,null,null,null,null,null,null,null,null,null,null,null,null,null,null,null,null,null,null,null,null,null,null,null,null,{"$f":"IFERROR(IF(T168=5,1,IF(MATCH(T168&\"/\"&V168,読み替え表_エコドライブ!$P$33:$P$52,0),1,0)),0)","v":0},"*"]
[null,null,162,null,null,null,null,null,null,null,null,null,null,null,null,null,null,null,null,null,null,null,null,null,null,null,null,null,null,null,null,null,null,null,null,{"$f":"IFERROR(IF(T169=5,1,IF(MATCH(T169&\"/\"&V169,読み替え表_エコドライブ!$P$33:$P$52,0),1,0)),0)","v":0},"*"]
[null,null,163,null,null,null,null,null,null,null,null,null,null,null,null,null,null,null,null,null,null,null,null,null,null,null,null,null,null,null,null,null,null,null,null,{"$f":"IFERROR(IF(T170=5,1,IF(MATCH(T170&\"/\"&V170,読み替え表_エコドライブ!$P$33:$P$52,0),1,0)),0)","v":0},"*"]
[null,null,164,null,null,null,null,null,null,null,null,null,null,null,null,null,null,null,null,null,null,null,null,null,null,null,null,null,null,null,null,null,null,null,null,{"$f":"IFERROR(IF(T171=5,1,IF(MATCH(T171&\"/\"&V171,読み替え表_エコドライブ!$P$33:$P$52,0),1,0)),0)","v":0},"*"]
[null,null,165,null,null,null,null,null,null,null,null,null,null,null,null,null,null,null,null,null,null,null,null,null,null,null,null,null,null,null,null,null,null,null,null,{"$f":"IFERROR(IF(T172=5,1,IF(MATCH(T172&\"/\"&V172,読み替え表_エコドライブ!$P$33:$P$52,0),1,0)),0)","v":0},"*"]
[null,null,166,null,null,null,null,null,null,null,null,null,null,null,null,null,null,null,null,null,null,null,null,null,null,null,null,null,null,null,null,null,null,null,null,{"$f":"IFERROR(IF(T173=5,1,IF(MATCH(T173&\"/\"&V173,読み替え表_エコドライブ!$P$33:$P$52,0),1,0)),0)","v":0},"*"]
[null,null,167,null,null,null,null,null,null,null,null,null,null,null,null,null,null,null,null,null,null,null,null,null,null,null,null,null,null,null,null,null,null,null,null,{"$f":"IFERROR(IF(T174=5,1,IF(MATCH(T174&\"/\"&V174,読み替え表_エコドライブ!$P$33:$P$52,0),1,0)),0)","v":0},"*"]
[null,null,168,null,null,null,null,null,null,null,null,null,null,null,null,null,null,null,null,null,null,null,null,null,null,null,null,null,null,null,null,null,null,null,null,{"$f":"IFERROR(IF(T175=5,1,IF(MATCH(T175&\"/\"&V175,読み替え表_エコドライブ!$P$33:$P$52,0),1,0)),0)","v":0},"*"]
[null,null,169,null,null,null,null,null,null,null,null,null,null,null,null,null,null,null,null,null,null,null,null,null,null,null,null,null,null,null,null,null,null,null,null,{"$f":"IFERROR(IF(T176=5,1,IF(MATCH(T176&\"/\"&V176,読み替え表_エコドライブ!$P$33:$P$52,0),1,0)),0)","v":0},"*"]
[null,null,170,null,null,null,null,null,null,null,null,null,null,null,null,null,null,null,null,null,null,null,null,null,null,null,null,null,null,null,null,null,null,null,null,{"$f":"IFERROR(IF(T177=5,1,IF(MATCH(T177&\"/\"&V177,読み替え表_エコドライブ!$P$33:$P$52,0),1,0)),0)","v":0},"*"]
[null,null,171,null,null,null,null,null,null,null,null,null,null,null,null,null,null,null,null,null,null,null,null,null,null,null,null,null,null,null,null,null,null,null,null,{"$f":"IFERROR(IF(T178=5,1,IF(MATCH(T178&\"/\"&V178,読み替え表_エコドライブ!$P$33:$P$52,0),1,0)),0)","v":0},"*"]
[null,null,172,null,null,null,null,null,null,null,null,null,null,null,null,null,null,null,null,null,null,null,null,null,null,null,null,null,null,null,null,null,null,null,null,{"$f":"IFERROR(IF(T179=5,1,IF(MATCH(T179&\"/\"&V179,読み替え表_エコドライブ!$P$33:$P$52,0),1,0)),0)","v":0},"*"]
[null,null,173,null,null,null,null,null,null,null,null,null,null,null,null,null,null,null,null,null,null,null,null,null,null,null,null,null,null,null,null,null,null,null,null,{"$f":"IFERROR(IF(T180=5,1,IF(MATCH(T180&\"/\"&V180,読み替え表_エコドライブ!$P$33:$P$52,0),1,0)),0)","v":0},"*"]
[null,null,174,null,null,null,null,null,null,null,null,null,null,null,null,null,null,null,null,null,null,null,null,null,null,null,null,null,null,null,null,null,null,null,null,{"$f":"IFERROR(IF(T181=5,1,IF(MATCH(T181&\"/\"&V181,読み替え表_エコドライブ!$P$33:$P$52,0),1,0)),0)","v":0},"*"]
[null,null,175,null,null,null,null,null,null,null,null,null,null,null,null,null,null,null,null,null,null,null,null,null,null,null,null,null,null,null,null,null,null,null,null,{"$f":"IFERROR(IF(T182=5,1,IF(MATCH(T182&\"/\"&V182,読み替え表_エコドライブ!$P$33:$P$52,0),1,0)),0)","v":0},"*"]
[null,null,176,null,null,null,null,null,null,null,null,null,null,null,null,null,null,null,null,null,null,null,null,null,null,null,null,null,null,null,null,null,null,null,null,{"$f":"IFERROR(IF(T183=5,1,IF(MATCH(T183&\"/\"&V183,読み替え表_エコドライブ!$P$33:$P$52,0),1,0)),0)","v":0},"*"]
[null,null,177,null,null,null,null,null,null,null,null,null,null,null,null,null,null,null,null,null,null,null,null,null,null,null,null,null,null,null,null,null,null,null,null,{"$f":"IFERROR(IF(T184=5,1,IF(MATCH(T184&\"/\"&V184,読み替え表_エコドライブ!$P$33:$P$52,0),1,0)),0)","v":0},"*"]
[null,null,178,null,null,null,null,null,null,null,null,null,null,null,null,null,null,null,null,null,null,null,null,null,null,null,null,null,null,null,null,null,null,null,null,{"$f":"IFERROR(IF(T185=5,1,IF(MATCH(T185&\"/\"&V185,読み替え表_エコドライブ!$P$33:$P$52,0),1,0)),0)","v":0},"*"]
[null,null,179,null,null,null,null,null,null,null,null,null,null,null,null,null,null,null,null,null,null,null,null,null,null,null,null,null,null,null,null,null,null,null,null,{"$f":"IFERROR(IF(T186=5,1,IF(MATCH(T186&\"/\"&V186,読み替え表_エコドライブ!$P$33:$P$52,0),1,0)),0)","v":0},"*"]
[null,null,180,null,null,null,null,null,null,null,null,null,null,null,null,null,null,null,null,null,null,null,null,null,null,null,null,null,null,null,null,null,null,null,null,{"$f":"IFERROR(IF(T187=5,1,IF(MATCH(T187&\"/\"&V187,読み替え表_エコドライブ!$P$33:$P$52,0),1,0)),0)","v":0},"*"]
[null,null,181,null,null,null,null,null,null,null,null,null,null,null,null,null,null,null,null,null,null,null,null,null,null,null,null,null,null,null,null,null,null,null,null,{"$f":"IFERROR(IF(T188=5,1,IF(MATCH(T188&\"/\"&V188,読み替え表_エコドライブ!$P$33:$P$52,0),1,0)),0)","v":0},"*"]
[null,null,182,null,null,null,null,null,null,null,null,null,null,null,null,null,null,null,null,null,null,null,null,null,null,null,null,null,null,null,null,null,null,null,null,{"$f":"IFERROR(IF(T189=5,1,IF(MATCH(T189&\"/\"&V189,読み替え表_エコドライブ!$P$33:$P$52,0),1,0)),0)","v":0},"*"]
[null,null,183,null,null,null,null,null,null,null,null,null,null,null,null,null,null,null,null,null,null,null,null,null,null,null,null,null,null,null,null,null,null,null,null,{"$f":"IFERROR(IF(T190=5,1,IF(MATCH(T190&\"/\"&V190,読み替え表_エコドライブ!$P$33:$P$52,0),1,0)),0)","v":0},"*"]
[null,null,184,null,null,null,null,null,null,null,null,null,null,null,null,null,null,null,null,null,null,null,null,null,null,null,null,null,null,null,null,null,null,null,null,{"$f":"IFERROR(IF(T191=5,1,IF(MATCH(T191&\"/\"&V191,読み替え表_エコドライブ!$P$33:$P$52,0),1,0)),0)","v":0},"*"]
[null,null,185,null,null,null,null,null,null,null,null,null,null,null,null,null,null,null,null,null,null,null,null,null,null,null,null,null,null,null,null,null,null,null,null,{"$f":"IFERROR(IF(T192=5,1,IF(MATCH(T192&\"/\"&V192,読み替え表_エコドライブ!$P$33:$P$52,0),1,0)),0)","v":0},"*"]
[null,null,186,null,null,null,null,null,null,null,null,null,null,null,null,null,null,null,null,null,null,null,null,null,null,null,null,null,null,null,null,null,null,null,null,{"$f":"IFERROR(IF(T193=5,1,IF(MATCH(T193&\"/\"&V193,読み替え表_エコドライブ!$P$33:$P$52,0),1,0)),0)","v":0},"*"]
[null,null,187,null,null,null,null,null,null,null,null,null,null,null,null,null,null,null,null,null,null,null,null,null,null,null,null,null,null,null,null,null,null,null,null,{"$f":"IFERROR(IF(T194=5,1,IF(MATCH(T194&\"/\"&V194,読み替え表_エコドライブ!$P$33:$P$52,0),1,0)),0)","v":0},"*"]
[null,null,188,null,null,null,null,null,null,null,null,null,null,null,null,null,null,null,null,null,null,null,null,null,null,null,null,null,null,null,null,null,null,null,null,{"$f":"IFERROR(IF(T195=5,1,IF(MATCH(T195&\"/\"&V195,読み替え表_エコドライブ!$P$33:$P$52,0),1,0)),0)","v":0},"*"]
[null,null,189,null,null,null,null,null,null,null,null,null,null,null,null,null,null,null,null,null,null,null,null,null,null,null,null,null,null,null,null,null,null,null,null,{"$f":"IFERROR(IF(T196=5,1,IF(MATCH(T196&\"/\"&V196,読み替え表_エコドライブ!$P$33:$P$52,0),1,0)),0)","v":0},"*"]
[null,null,190,null,null,null,null,null,null,null,null,null,null,null,null,null,null,null,null,null,null,null,null,null,null,null,null,null,null,null,null,null,null,null,null,{"$f":"IFERROR(IF(T197=5,1,IF(MATCH(T197&\"/\"&V197,読み替え表_エコドライブ!$P$33:$P$52,0),1,0)),0)","v":0},"*"]
[null,null,191,null,null,null,null,null,null,null,null,null,null,null,null,null,null,null,null,null,null,null,null,null,null,null,null,null,null,null,null,null,null,null,null,{"$f":"IFERROR(IF(T198=5,1,IF(MATCH(T198&\"/\"&V198,読み替え表_エコドライブ!$P$33:$P$52,0),1,0)),0)","v":0},"*"]
[null,null,192,null,null,null,null,null,null,null,null,null,null,null,null,null,null,null,null,null,null,null,null,null,null,null,null,null,null,null,null,null,null,null,null,{"$f":"IFERROR(IF(T199=5,1,IF(MATCH(T199&\"/\"&V199,読み替え表_エコドライブ!$P$33:$P$52,0),1,0)),0)","v":0},"*"]
[null,null,193,null,null,null,null,null,null,null,null,null,null,null,null,null,null,null,null,null,null,null,null,null,null,null,null,null,null,null,null,null,null,null,null,{"$f":"IFERROR(IF(T200=5,1,IF(MATCH(T200&\"/\"&V200,読み替え表_エコドライブ!$P$33:$P$52,0),1,0)),0)","v":0},"*"]
[null,null,{"$f":"ROW()-7","v":194},null,null,null,null,null,null,null,null,null,null,null,null,null,null,null,null,null,null,null,null,null,null,null,null,null,null,null,null,null,null,null,null,{"$f":"IFERROR(IF(T201=5,1,IF(MATCH(T201&\"/\"&V201,読み替え表_エコドライブ!$P$33:$P$52,0),1,0)),0)","v":0},"*"]
[null,null,195,null,null,null,null,null,null,null,null,null,null,null,null,null,null,null,null,null,null,null,null,null,null,null,null,null,null,null,null,null,null,null,null,{"$f":"IFERROR(IF(T202=5,1,IF(MATCH(T202&\"/\"&V202,読み替え表_エコドライブ!$P$33:$P$52,0),1,0)),0)","v":0},"*"]
[null,null,196,null,null,null,null,null,null,null,null,null,null,null,null,null,null,null,null,null,null,null,null,null,null,null,null,null,null,null,null,null,null,null,null,{"$f":"IFERROR(IF(T203=5,1,IF(MATCH(T203&\"/\"&V203,読み替え表_エコドライブ!$P$33:$P$52,0),1,0)),0)","v":0},"*"]
[null,null,197,null,null,null,null,null,null,null,null,null,null,null,null,null,null,null,null,null,null,null,null,null,null,null,null,null,null,null,null,null,null,null,null,{"$f":"IFERROR(IF(T204=5,1,IF(MATCH(T204&\"/\"&V204,読み替え表_エコドライブ!$P$33:$P$52,0),1,0)),0)","v":0},"*"]
[null,null,198,null,null,null,null,null,null,null,null,null,null,null,null,null,null,null,null,null,null,null,null,null,null,null,null,null,null,null,null,null,null,null,null,{"$f":"IFERROR(IF(T205=5,1,IF(MATCH(T205&\"/\"&V205,読み替え表_エコドライブ!$P$33:$P$52,0),1,0)),0)","v":0},"*"]
[null,null,199,null,null,null,null,null,null,null,null,null,null,null,null,null,null,null,null,null,null,null,null,null,null,null,null,null,null,null,null,null,null,null,null,{"$f":"IFERROR(IF(T206=5,1,IF(MATCH(T206&\"/\"&V206,読み替え表_エコドライブ!$P$33:$P$52,0),1,0)),0)","v":0},"*"]
[null,null,200,null,null,null,null,null,null,null,null,null,null,null,null,null,null,null,null,null,null,null,null,null,null,null,null,null,null,null,null,null,null,null,null,{"$f":"IFERROR(IF(T207=5,1,IF(MATCH(T207&\"/\"&V207,読み替え表_エコドライブ!$P$33:$P$52,0),1,0)),0)","v":0},"*"]
[null,null,201,null,null,null,null,null,null,null,null,null,null,null,null,null,null,null,null,null,null,null,null,null,null,null,null,null,null,null,null,null,null,null,null,{"$f":"IFERROR(IF(T208=5,1,IF(MATCH(T208&\"/\"&V208,読み替え表_エコドライブ!$P$33:$P$52,0),1,0)),0)","v":0},"*"]
[null,null,202,null,null,null,null,null,null,null,null,null,null,null,null,null,null,null,null,null,null,null,null,null,null,null,null,null,null,null,null,null,null,null,null,{"$f":"IFERROR(IF(T209=5,1,IF(MATCH(T209&\"/\"&V209,読み替え表_エコドライブ!$P$33:$P$52,0),1,0)),0)","v":0},"*"]
[null,null,203,null,null,null,null,null,null,null,null,null,null,null,null,null,null,null,null,null,null,null,null,null,null,null,null,null,null,null,null,null,null,null,null,{"$f":"IFERROR(IF(T210=5,1,IF(MATCH(T210&\"/\"&V210,読み替え表_エコドライブ!$P$33:$P$52,0),1,0)),0)","v":0},"*"]
[null,null,204,null,null,null,null,null,null,null,null,null,null,null,null,null,null,null,null,null,null,null,null,null,null,null,null,null,null,null,null,null,null,null,null,{"$f":"IFERROR(IF(T211=5,1,IF(MATCH(T211&\"/\"&V211,読み替え表_エコドライブ!$P$33:$P$52,0),1,0)),0)","v":0},"*"]
[null,null,205,null,null,null,null,null,null,null,null,null,null,null,null,null,null,null,null,null,null,null,null,null,null,null,null,null,null,null,null,null,null,null,null,{"$f":"IFERROR(IF(T212=5,1,IF(MATCH(T212&\"/\"&V212,読み替え表_エコドライブ!$P$33:$P$52,0),1,0)),0)","v":0},"*"]
[null,null,206,null,null,null,null,null,null,null,null,null,null,null,null,null,null,null,null,null,null,null,null,null,null,null,null,null,null,null,null,null,null,null,null,{"$f":"IFERROR(IF(T213=5,1,IF(MATCH(T213&\"/\"&V213,読み替え表_エコドライブ!$P$33:$P$52,0),1,0)),0)","v":0},"*"]
[null,null,207,null,null,null,null,null,null,null,null,null,null,null,null,null,null,null,null,null,null,null,null,null,null,null,null,null,null,null,null,null,null,null,null,{"$f":"IFERROR(IF(T214=5,1,IF(MATCH(T214&\"/\"&V214,読み替え表_エコドライブ!$P$33:$P$52,0),1,0)),0)","v":0},"*"]
[null,null,208,null,null,null,null,null,null,null,null,null,null,null,null,null,null,null,null,null,null,null,null,null,null,null,null,null,null,null,null,null,null,null,null,{"$f":"IFERROR(IF(T215=5,1,IF(MATCH(T215&\"/\"&V215,読み替え表_エコドライブ!$P$33:$P$52,0),1,0)),0)","v":0},"*"]
[null,null,209,null,null,null,null,null,null,null,null,null,null,null,null,null,null,null,null,null,null,null,null,null,null,null,null,null,null,null,null,null,null,null,null,{"$f":"IFERROR(IF(T216=5,1,IF(MATCH(T216&\"/\"&V216,読み替え表_エコドライブ!$P$33:$P$52,0),1,0)),0)","v":0},"*"]
[null,null,210,null,null,null,null,null,null,null,null,null,null,null,null,null,null,null,null,null,null,null,null,null,null,null,null,null,null,null,null,null,null,null,null,{"$f":"IFERROR(IF(T217=5,1,IF(MATCH(T217&\"/\"&V217,読み替え表_エコドライブ!$P$33:$P$52,0),1,0)),0)","v":0},"*"]
[null,null,211,null,null,null,null,null,null,null,null,null,null,null,null,null,null,null,null,null,null,null,null,null,null,null,null,null,null,null,null,null,null,null,null,{"$f":"IFERROR(IF(T218=5,1,IF(MATCH(T218&\"/\"&V218,読み替え表_エコドライブ!$P$33:$P$52,0),1,0)),0)","v":0},"*"]
[null,null,212,null,null,null,null,null,null,null,null,null,null,null,null,null,null,null,null,null,null,null,null,null,null,null,null,null,null,null,null,null,null,null,null,{"$f":"IFERROR(IF(T219=5,1,IF(MATCH(T219&\"/\"&V219,読み替え表_エコドライブ!$P$33:$P$52,0),1,0)),0)","v":0},"*"]
[null,null,213,null,null,null,null,null,null,null,null,null,null,null,null,null,null,null,null,null,null,null,null,null,null,null,null,null,null,null,null,null,null,null,null,{"$f":"IFERROR(IF(T220=5,1,IF(MATCH(T220&\"/\"&V220,読み替え表_エコドライブ!$P$33:$P$52,0),1,0)),0)","v":0},"*"]
[null,null,214,null,null,null,null,null,null,null,null,null,null,null,null,null,null,null,null,null,null,null,null,null,null,null,null,null,null,null,null,null,null,null,null,{"$f":"IFERROR(IF(T221=5,1,IF(MATCH(T221&\"/\"&V221,読み替え表_エコドライブ!$P$33:$P$52,0),1,0)),0)","v":0},"*"]
[null,null,215,null,null,null,null,null,null,null,null,null,null,null,null,null,null,null,null,null,null,null,null,null,null,null,null,null,null,null,null,null,null,null,null,{"$f":"IFERROR(IF(T222=5,1,IF(MATCH(T222&\"/\"&V222,読み替え表_エコドライブ!$P$33:$P$52,0),1,0)),0)","v":0},"*"]
[null,null,216,null,null,null,null,null,null,null,null,null,null,null,null,null,null,null,null,null,null,null,null,null,null,null,null,null,null,null,null,null,null,null,null,{"$f":"IFERROR(IF(T223=5,1,IF(MATCH(T223&\"/\"&V223,読み替え表_エコドライブ!$P$33:$P$52,0),1,0)),0)","v":0},"*"]
[null,null,217,null,null,null,null,null,null,null,null,null,null,null,null,null,null,null,null,null,null,null,null,null,null,null,null,null,null,null,null,null,null,null,null,{"$f":"IFERROR(IF(T224=5,1,IF(MATCH(T224&\"/\"&V224,読み替え表_エコドライブ!$P$33:$P$52,0),1,0)),0)","v":0},"*"]
[null,null,218,null,null,null,null,null,null,null,null,null,null,null,null,null,null,null,null,null,null,null,null,null,null,null,null,null,null,null,null,null,null,null,null,{"$f":"IFERROR(IF(T225=5,1,IF(MATCH(T225&\"/\"&V225,読み替え表_エコドライブ!$P$33:$P$52,0),1,0)),0)","v":0},"*"]
[null,null,219,null,null,null,null,null,null,null,null,null,null,null,null,null,null,null,null,null,null,null,null,null,null,null,null,null,null,null,null,null,null,null,null,{"$f":"IFERROR(IF(T226=5,1,IF(MATCH(T226&\"/\"&V226,読み替え表_エコドライブ!$P$33:$P$52,0),1,0)),0)","v":0},"*"]
[null,null,220,null,null,null,null,null,null,null,null,null,null,null,null,null,null,null,null,null,null,null,null,null,null,null,null,null,null,null,null,null,null,null,null,{"$f":"IFERROR(IF(T227=5,1,IF(MATCH(T227&\"/\"&V227,読み替え表_エコドライブ!$P$33:$P$52,0),1,0)),0)","v":0},"*"]
[null,null,221,null,null,null,null,null,null,null,null,null,null,null,null,null,null,null,null,null,null,null,null,null,null,null,null,null,null,null,null,null,null,null,null,{"$f":"IFERROR(IF(T228=5,1,IF(MATCH(T228&\"/\"&V228,読み替え表_エコドライブ!$P$33:$P$52,0),1,0)),0)","v":0},"*"]
[null,null,222,null,null,null,null,null,null,null,null,null,null,null,null,null,null,null,null,null,null,null,null,null,null,null,null,null,null,null,null,null,null,null,null,{"$f":"IFERROR(IF(T229=5,1,IF(MATCH(T229&\"/\"&V229,読み替え表_エコドライブ!$P$33:$P$52,0),1,0)),0)","v":0},"*"]
[null,null,223,null,null,null,null,null,null,null,null,null,null,null,null,null,null,null,null,null,null,null,null,null,null,null,null,null,null,null,null,null,null,null,null,{"$f":"IFERROR(IF(T230=5,1,IF(MATCH(T230&\"/\"&V230,読み替え表_エコドライブ!$P$33:$P$52,0),1,0)),0)","v":0},"*"]
[null,null,224,null,null,null,null,null,null,null,null,null,null,null,null,null,null,null,null,null,null,null,null,null,null,null,null,null,null,null,null,null,null,null,null,{"$f":"IFERROR(IF(T231=5,1,IF(MATCH(T231&\"/\"&V231,読み替え表_エコドライブ!$P$33:$P$52,0),1,0)),0)","v":0},"*"]
[null,null,225,null,null,null,null,null,null,null,null,null,null,null,null,null,null,null,null,null,null,null,null,null,null,null,null,null,null,null,null,null,null,null,null,{"$f":"IFERROR(IF(T232=5,1,IF(MATCH(T232&\"/\"&V232,読み替え表_エコドライブ!$P$33:$P$52,0),1,0)),0)","v":0},"*"]
[null,null,226,null,null,null,null,null,null,null,null,null,null,null,null,null,null,null,null,null,null,null,null,null,null,null,null,null,null,null,null,null,null,null,null,{"$f":"IFERROR(IF(T233=5,1,IF(MATCH(T233&\"/\"&V233,読み替え表_エコドライブ!$P$33:$P$52,0),1,0)),0)","v":0},"*"]
[null,null,227,null,null,null,null,null,null,null,null,null,null,null,null,null,null,null,null,null,null,null,null,null,null,null,null,null,null,null,null,null,null,null,null,{"$f":"IFERROR(IF(T234=5,1,IF(MATCH(T234&\"/\"&V234,読み替え表_エコドライブ!$P$33:$P$52,0),1,0)),0)","v":0},"*"]
[null,null,228,null,null,null,null,null,null,null,null,null,null,null,null,null,null,null,null,null,null,null,null,null,null,null,null,null,null,null,null,null,null,null,null,{"$f":"IFERROR(IF(T235=5,1,IF(MATCH(T235&\"/\"&V235,読み替え表_エコドライブ!$P$33:$P$52,0),1,0)),0)","v":0},"*"]
[null,null,229,null,null,null,null,null,null,null,null,null,null,null,null,null,null,null,null,null,null,null,null,null,null,null,null,null,null,null,null,null,null,null,null,{"$f":"IFERROR(IF(T236=5,1,IF(MATCH(T236&\"/\"&V236,読み替え表_エコドライブ!$P$33:$P$52,0),1,0)),0)","v":0},"*"]
[null,null,230,null,null,null,null,null,null,null,null,null,null,null,null,null,null,null,null,null,null,null,null,null,null,null,null,null,null,null,null,null,null,null,null,{"$f":"IFERROR(IF(T237=5,1,IF(MATCH(T237&\"/\"&V237,読み替え表_エコドライブ!$P$33:$P$52,0),1,0)),0)","v":0},"*"]
[null,null,231,null,null,null,null,null,null,null,null,null,null,null,null,null,null,null,null,null,null,null,null,null,null,null,null,null,null,null,null,null,null,null,null,{"$f":"IFERROR(IF(T238=5,1,IF(MATCH(T238&\"/\"&V238,読み替え表_エコドライブ!$P$33:$P$52,0),1,0)),0)","v":0},"*"]
[null,null,232,null,null,null,null,null,null,null,null,null,null,null,null,null,null,null,null,null,null,null,null,null,null,null,null,null,null,null,null,null,null,null,null,{"$f":"IFERROR(IF(T239=5,1,IF(MATCH(T239&\"/\"&V239,読み替え表_エコドライブ!$P$33:$P$52,0),1,0)),0)","v":0},"*"]
[null,null,233,null,null,null,null,null,null,null,null,null,null,null,null,null,null,null,null,null,null,null,null,null,null,null,null,null,null,null,null,null,null,null,null,{"$f":"IFERROR(IF(T240=5,1,IF(MATCH(T240&\"/\"&V240,読み替え表_エコドライブ!$P$33:$P$52,0),1,0)),0)","v":0},"*"]
[null,null,234,null,null,null,null,null,null,null,null,null,null,null,null,null,null,null,null,null,null,null,null,null,null,null,null,null,null,null,null,null,null,null,null,{"$f":"IFERROR(IF(T241=5,1,IF(MATCH(T241&\"/\"&V241,読み替え表_エコドライブ!$P$33:$P$52,0),1,0)),0)","v":0},"*"]
[null,null,235,null,null,null,null,null,null,null,null,null,null,null,null,null,null,null,null,null,null,null,null,null,null,null,null,null,null,null,null,null,null,null,null,{"$f":"IFERROR(IF(T242=5,1,IF(MATCH(T242&\"/\"&V242,読み替え表_エコドライブ!$P$33:$P$52,0),1,0)),0)","v":0},"*"]
[null,null,236,null,null,null,null,null,null,null,null,null,null,null,null,null,null,null,null,null,null,null,null,null,null,null,null,null,null,null,null,null,null,null,null,{"$f":"IFERROR(IF(T243=5,1,IF(MATCH(T243&\"/\"&V243,読み替え表_エコドライブ!$P$33:$P$52,0),1,0)),0)","v":0},"*"]
[null,null,237,null,null,null,null,null,null,null,null,null,null,null,null,null,null,null,null,null,null,null,null,null,null,null,null,null,null,null,null,null,null,null,null,{"$f":"IFERROR(IF(T244=5,1,IF(MATCH(T244&\"/\"&V244,読み替え表_エコドライブ!$P$33:$P$52,0),1,0)),0)","v":0},"*"]
[null,null,238,null,null,null,null,null,null,null,null,null,null,null,null,null,null,null,null,null,null,null,null,null,null,null,null,null,null,null,null,null,null,null,null,{"$f":"IFERROR(IF(T245=5,1,IF(MATCH(T245&\"/\"&V245,読み替え表_エコドライブ!$P$33:$P$52,0),1,0)),0)","v":0},"*"]
[null,null,239,null,null,null,null,null,null,null,null,null,null,null,null,null,null,null,null,null,null,null,null,null,null,null,null,null,null,null,null,null,null,null,null,{"$f":"IFERROR(IF(T246=5,1,IF(MATCH(T246&\"/\"&V246,読み替え表_エコドライブ!$P$33:$P$52,0),1,0)),0)","v":0},"*"]
[null,null,240,null,null,null,null,null,null,null,null,null,null,null,null,null,null,null,null,null,null,null,null,null,null,null,null,null,null,null,null,null,null,null,null,{"$f":"IFERROR(IF(T247=5,1,IF(MATCH(T247&\"/\"&V247,読み替え表_エコドライブ!$P$33:$P$52,0),1,0)),0)","v":0},"*"]
[null,null,241,null,null,null,null,null,null,null,null,null,null,null,null,null,null,null,null,null,null,null,null,null,null,null,null,null,null,null,null,null,null,null,null,{"$f":"IFERROR(IF(T248=5,1,IF(MATCH(T248&\"/\"&V248,読み替え表_エコドライブ!$P$33:$P$52,0),1,0)),0)","v":0},"*"]
[null,null,242,null,null,null,null,null,null,null,null,null,null,null,null,null,null,null,null,null,null,null,null,null,null,null,null,null,null,null,null,null,null,null,null,{"$f":"IFERROR(IF(T249=5,1,IF(MATCH(T249&\"/\"&V249,読み替え表_エコドライブ!$P$33:$P$52,0),1,0)),0)","v":0},"*"]
[null,null,243,null,null,null,null,null,null,null,null,null,null,null,null,null,null,null,null,null,null,null,null,null,null,null,null,null,null,null,null,null,null,null,null,{"$f":"IFERROR(IF(T250=5,1,IF(MATCH(T250&\"/\"&V250,読み替え表_エコドライブ!$P$33:$P$52,0),1,0)),0)","v":0},"*"]
[null,null,244,null,null,null,null,null,null,null,null,null,null,null,null,null,null,null,null,null,null,null,null,null,null,null,null,null,null,null,null,null,null,null,null,{"$f":"IFERROR(IF(T251=5,1,IF(MATCH(T251&\"/\"&V251,読み替え表_エコドライブ!$P$33:$P$52,0),1,0)),0)","v":0},"*"]
[null,null,245,null,null,null,null,null,null,null,null,null,null,null,null,null,null,null,null,null,null,null,null,null,null,null,null,null,null,null,null,null,null,null,null,{"$f":"IFERROR(IF(T252=5,1,IF(MATCH(T252&\"/\"&V252,読み替え表_エコドライブ!$P$33:$P$52,0),1,0)),0)","v":0},"*"]
[null,null,246,null,null,null,null,null,null,null,null,null,null,null,null,null,null,null,null,null,null,null,null,null,null,null,null,null,null,null,null,null,null,null,null,{"$f":"IFERROR(IF(T253=5,1,IF(MATCH(T253&\"/\"&V253,読み替え表_エコドライブ!$P$33:$P$52,0),1,0)),0)","v":0},"*"]
[null,null,247,null,null,null,null,null,null,null,null,null,null,null,null,null,null,null,null,null,null,null,null,null,null,null,null,null,null,null,null,null,null,null,null,{"$f":"IFERROR(IF(T254=5,1,IF(MATCH(T254&\"/\"&V254,読み替え表_エコドライブ!$P$33:$P$52,0),1,0)),0)","v":0},"*"]
[null,null,248,null,null,null,null,null,null,null,null,null,null,null,null,null,null,null,null,null,null,null,null,null,null,null,null,null,null,null,null,null,null,null,null,{"$f":"IFERROR(IF(T255=5,1,IF(MATCH(T255&\"/\"&V255,読み替え表_エコドライブ!$P$33:$P$52,0),1,0)),0)","v":0},"*"]
[null,null,249,null,null,null,null,null,null,null,null,null,null,null,null,null,null,null,null,null,null,null,null,null,null,null,null,null,null,null,null,null,null,null,null,{"$f":"IFERROR(IF(T256=5,1,IF(MATCH(T256&\"/\"&V256,読み替え表_エコドライブ!$P$33:$P$52,0),1,0)),0)","v":0},"*"]
[null,null,250,null,null,null,null,null,null,null,null,null,null,null,null,null,null,null,null,null,null,null,null,null,null,null,null,null,null,null,null,null,null,null,null,{"$f":"IFERROR(IF(T257=5,1,IF(MATCH(T257&\"/\"&V257,読み替え表_エコドライブ!$P$33:$P$52,0),1,0)),0)","v":0},"*"]
[null,null,251,null,null,null,null,null,null,null,null,null,null,null,null,null,null,null,null,null,null,null,null,null,null,null,null,null,null,null,null,null,null,null,null,{"$f":"IFERROR(IF(T258=5,1,IF(MATCH(T258&\"/\"&V258,読み替え表_エコドライブ!$P$33:$P$52,0),1,0)),0)","v":0},"*"]
[null,null,252,null,null,null,null,null,null,null,null,null,null,null,null,null,null,null,null,null,null,null,null,null,null,null,null,null,null,null,null,null,null,null,null,{"$f":"IFERROR(IF(T259=5,1,IF(MATCH(T259&\"/\"&V259,読み替え表_エコドライブ!$P$33:$P$52,0),1,0)),0)","v":0},"*"]
[null,null,253,null,null,null,null,null,null,null,null,null,null,null,null,null,null,null,null,null,null,null,null,null,null,null,null,null,null,null,null,null,null,null,null,{"$f":"IFERROR(IF(T260=5,1,IF(MATCH(T260&\"/\"&V260,読み替え表_エコドライブ!$P$33:$P$52,0),1,0)),0)","v":0},"*"]
[null,null,254,null,null,null,null,null,null,null,null,null,null,null,null,null,null,null,null,null,null,null,null,null,null,null,null,null,null,null,null,null,null,null,null,{"$f":"IFERROR(IF(T261=5,1,IF(MATCH(T261&\"/\"&V261,読み替え表_エコドライブ!$P$33:$P$52,0),1,0)),0)","v":0},"*"]
[null,null,255,null,null,null,null,null,null,null,null,null,null,null,null,null,null,null,null,null,null,null,null,null,null,null,null,null,null,null,null,null,null,null,null,{"$f":"IFERROR(IF(T262=5,1,IF(MATCH(T262&\"/\"&V262,読み替え表_エコドライブ!$P$33:$P$52,0),1,0)),0)","v":0},"*"]
[null,null,256,null,null,null,null,null,null,null,null,null,null,null,null,null,null,null,null,null,null,null,null,null,null,null,null,null,null,null,null,null,null,null,null,{"$f":"IFERROR(IF(T263=5,1,IF(MATCH(T263&\"/\"&V263,読み替え表_エコドライブ!$P$33:$P$52,0),1,0)),0)","v":0},"*"]
[null,null,257,null,null,null,null,null,null,null,null,null,null,null,null,null,null,null,null,null,null,null,null,null,null,null,null,null,null,null,null,null,null,null,null,{"$f":"IFERROR(IF(T264=5,1,IF(MATCH(T264&\"/\"&V264,読み替え表_エコドライブ!$P$33:$P$52,0),1,0)),0)","v":0},"*"]
[null,null,{"$f":"ROW()-7","v":258},null,null,null,null,null,null,null,null,null,null,null,null,null,null,null,null,null,null,null,null,null,null,null,null,null,null,null,null,null,null,null,null,{"$f":"IFERROR(IF(T265=5,1,IF(MATCH(T265&\"/\"&V265,読み替え表_エコドライブ!$P$33:$P$52,0),1,0)),0)","v":0},"*"]
[null,null,259,null,null,null,null,null,null,null,null,null,null,null,null,null,null,null,null,null,null,null,null,null,null,null,null,null,null,null,null,null,null,null,null,{"$f":"IFERROR(IF(T266=5,1,IF(MATCH(T266&\"/\"&V266,読み替え表_エコドライブ!$P$33:$P$52,0),1,0)),0)","v":0},"*"]
[null,null,260,null,null,null,null,null,null,null,null,null,null,null,null,null,null,null,null,null,null,null,null,null,null,null,null,null,null,null,null,null,null,null,null,{"$f":"IFERROR(IF(T267=5,1,IF(MATCH(T267&\"/\"&V267,読み替え表_エコドライブ!$P$33:$P$52,0),1,0)),0)","v":0},"*"]
[null,null,261,null,null,null,null,null,null,null,null,null,null,null,null,null,null,null,null,null,null,null,null,null,null,null,null,null,null,null,null,null,null,null,null,{"$f":"IFERROR(IF(T268=5,1,IF(MATCH(T268&\"/\"&V268,読み替え表_エコドライブ!$P$33:$P$52,0),1,0)),0)","v":0},"*"]
[null,null,262,null,null,null,null,null,null,null,null,null,null,null,null,null,null,null,null,null,null,null,null,null,null,null,null,null,null,null,null,null,null,null,null,{"$f":"IFERROR(IF(T269=5,1,IF(MATCH(T269&\"/\"&V269,読み替え表_エコドライブ!$P$33:$P$52,0),1,0)),0)","v":0},"*"]
[null,null,263,null,null,null,null,null,null,null,null,null,null,null,null,null,null,null,null,null,null,null,null,null,null,null,null,null,null,null,null,null,null,null,null,{"$f":"IFERROR(IF(T270=5,1,IF(MATCH(T270&\"/\"&V270,読み替え表_エコドライブ!$P$33:$P$52,0),1,0)),0)","v":0},"*"]
[null,null,264,null,null,null,null,null,null,null,null,null,null,null,null,null,null,null,null,null,null,null,null,null,null,null,null,null,null,null,null,null,null,null,null,{"$f":"IFERROR(IF(T271=5,1,IF(MATCH(T271&\"/\"&V271,読み替え表_エコドライブ!$P$33:$P$52,0),1,0)),0)","v":0},"*"]
[null,null,265,null,null,null,null,null,null,null,null,null,null,null,null,null,null,null,null,null,null,null,null,null,null,null,null,null,null,null,null,null,null,null,null,{"$f":"IFERROR(IF(T272=5,1,IF(MATCH(T272&\"/\"&V272,読み替え表_エコドライブ!$P$33:$P$52,0),1,0)),0)","v":0},"*"]
[null,null,266,null,null,null,null,null,null,null,null,null,null,null,null,null,null,null,null,null,null,null,null,null,null,null,null,null,null,null,null,null,null,null,null,{"$f":"IFERROR(IF(T273=5,1,IF(MATCH(T273&\"/\"&V273,読み替え表_エコドライブ!$P$33:$P$52,0),1,0)),0)","v":0},"*"]
[null,null,267,null,null,null,null,null,null,null,null,null,null,null,null,null,null,null,null,null,null,null,null,null,null,null,null,null,null,null,null,null,null,null,null,{"$f":"IFERROR(IF(T274=5,1,IF(MATCH(T274&\"/\"&V274,読み替え表_エコドライブ!$P$33:$P$52,0),1,0)),0)","v":0},"*"]
[null,null,268,null,null,null,null,null,null,null,null,null,null,null,null,null,null,null,null,null,null,null,null,null,null,null,null,null,null,null,null,null,null,null,null,{"$f":"IFERROR(IF(T275=5,1,IF(MATCH(T275&\"/\"&V275,読み替え表_エコドライブ!$P$33:$P$52,0),1,0)),0)","v":0},"*"]
[null,null,269,null,null,null,null,null,null,null,null,null,null,null,null,null,null,null,null,null,null,null,null,null,null,null,null,null,null,null,null,null,null,null,null,{"$f":"IFERROR(IF(T276=5,1,IF(MATCH(T276&\"/\"&V276,読み替え表_エコドライブ!$P$33:$P$52,0),1,0)),0)","v":0},"*"]
[null,null,270,null,null,null,null,null,null,null,null,null,null,null,null,null,null,null,null,null,null,null,null,null,null,null,null,null,null,null,null,null,null,null,null,{"$f":"IFERROR(IF(T277=5,1,IF(MATCH(T277&\"/\"&V277,読み替え表_エコドライブ!$P$33:$P$52,0),1,0)),0)","v":0},"*"]
[null,null,271,null,null,null,null,null,null,null,null,null,null,null,null,null,null,null,null,null,null,null,null,null,null,null,null,null,null,null,null,null,null,null,null,{"$f":"IFERROR(IF(T278=5,1,IF(MATCH(T278&\"/\"&V278,読み替え表_エコドライブ!$P$33:$P$52,0),1,0)),0)","v":0},"*"]
[null,null,272,null,null,null,null,null,null,null,null,null,null,null,null,null,null,null,null,null,null,null,null,null,null,null,null,null,null,null,null,null,null,null,null,{"$f":"IFERROR(IF(T279=5,1,IF(MATCH(T279&\"/\"&V279,読み替え表_エコドライブ!$P$33:$P$52,0),1,0)),0)","v":0},"*"]
[null,null,273,null,null,null,null,null,null,null,null,null,null,null,null,null,null,null,null,null,null,null,null,null,null,null,null,null,null,null,null,null,null,null,null,{"$f":"IFERROR(IF(T280=5,1,IF(MATCH(T280&\"/\"&V280,読み替え表_エコドライブ!$P$33:$P$52,0),1,0)),0)","v":0},"*"]
[null,null,274,null,null,null,null,null,null,null,null,null,null,null,null,null,null,null,null,null,null,null,null,null,null,null,null,null,null,null,null,null,null,null,null,{"$f":"IFERROR(IF(T281=5,1,IF(MATCH(T281&\"/\"&V281,読み替え表_エコドライブ!$P$33:$P$52,0),1,0)),0)","v":0},"*"]
[null,null,275,null,null,null,null,null,null,null,null,null,null,null,null,null,null,null,null,null,null,null,null,null,null,null,null,null,null,null,null,null,null,null,null,{"$f":"IFERROR(IF(T282=5,1,IF(MATCH(T282&\"/\"&V282,読み替え表_エコドライブ!$P$33:$P$52,0),1,0)),0)","v":0},"*"]
[null,null,276,null,null,null,null,null,null,null,null,null,null,null,null,null,null,null,null,null,null,null,null,null,null,null,null,null,null,null,null,null,null,null,null,{"$f":"IFERROR(IF(T283=5,1,IF(MATCH(T283&\"/\"&V283,読み替え表_エコドライブ!$P$33:$P$52,0),1,0)),0)","v":0},"*"]
[null,null,277,null,null,null,null,null,null,null,null,null,null,null,null,null,null,null,null,null,null,null,null,null,null,null,null,null,null,null,null,null,null,null,null,{"$f":"IFERROR(IF(T284=5,1,IF(MATCH(T284&\"/\"&V284,読み替え表_エコドライブ!$P$33:$P$52,0),1,0)),0)","v":0},"*"]
[null,null,278,null,null,null,null,null,null,null,null,null,null,null,null,null,null,null,null,null,null,null,null,null,null,null,null,null,null,null,null,null,null,null,null,{"$f":"IFERROR(IF(T285=5,1,IF(MATCH(T285&\"/\"&V285,読み替え表_エコドライブ!$P$33:$P$52,0),1,0)),0)","v":0},"*"]
[null,null,279,null,null,null,null,null,null,null,null,null,null,null,null,null,null,null,null,null,null,null,null,null,null,null,null,null,null,null,null,null,null,null,null,{"$f":"IFERROR(IF(T286=5,1,IF(MATCH(T286&\"/\"&V286,読み替え表_エコドライブ!$P$33:$P$52,0),1,0)),0)","v":0},"*"]
[null,null,280,null,null,null,null,null,null,null,null,null,null,null,null,null,null,null,null,null,null,null,null,null,null,null,null,null,null,null,null,null,null,null,null,{"$f":"IFERROR(IF(T287=5,1,IF(MATCH(T287&\"/\"&V287,読み替え表_エコドライブ!$P$33:$P$52,0),1,0)),0)","v":0},"*"]
[null,null,281,null,null,null,null,null,null,null,null,null,null,null,null,null,null,null,null,null,null,null,null,null,null,null,null,null,null,null,null,null,null,null,null,{"$f":"IFERROR(IF(T288=5,1,IF(MATCH(T288&\"/\"&V288,読み替え表_エコドライブ!$P$33:$P$52,0),1,0)),0)","v":0},"*"]
[null,null,282,null,null,null,null,null,null,null,null,null,null,null,null,null,null,null,null,null,null,null,null,null,null,null,null,null,null,null,null,null,null,null,null,{"$f":"IFERROR(IF(T289=5,1,IF(MATCH(T289&\"/\"&V289,読み替え表_エコドライブ!$P$33:$P$52,0),1,0)),0)","v":0},"*"]
[null,null,283,null,null,null,null,null,null,null,null,null,null,null,null,null,null,null,null,null,null,null,null,null,null,null,null,null,null,null,null,null,null,null,null,{"$f":"IFERROR(IF(T290=5,1,IF(MATCH(T290&\"/\"&V290,読み替え表_エコドライブ!$P$33:$P$52,0),1,0)),0)","v":0},"*"]
[null,null,284,null,null,null,null,null,null,null,null,null,null,null,null,null,null,null,null,null,null,null,null,null,null,null,null,null,null,null,null,null,null,null,null,{"$f":"IFERROR(IF(T291=5,1,IF(MATCH(T291&\"/\"&V291,読み替え表_エコドライブ!$P$33:$P$52,0),1,0)),0)","v":0},"*"]
[null,null,285,null,null,null,null,null,null,null,null,null,null,null,null,null,null,null,null,null,null,null,null,null,null,null,null,null,null,null,null,null,null,null,null,{"$f":"IFERROR(IF(T292=5,1,IF(MATCH(T292&\"/\"&V292,読み替え表_エコドライブ!$P$33:$P$52,0),1,0)),0)","v":0},"*"]
[null,null,286,null,null,null,null,null,null,null,null,null,null,null,null,null,null,null,null,null,null,null,null,null,null,null,null,null,null,null,null,null,null,null,null,{"$f":"IFERROR(IF(T293=5,1,IF(MATCH(T293&\"/\"&V293,読み替え表_エコドライブ!$P$33:$P$52,0),1,0)),0)","v":0},"*"]
[null,null,287,null,null,null,null,null,null,null,null,null,null,null,null,null,null,null,null,null,null,null,null,null,null,null,null,null,null,null,null,null,null,null,null,{"$f":"IFERROR(IF(T294=5,1,IF(MATCH(T294&\"/\"&V294,読み替え表_エコドライブ!$P$33:$P$52,0),1,0)),0)","v":0},"*"]
[null,null,288,null,null,null,null,null,null,null,null,null,null,null,null,null,null,null,null,null,null,null,null,null,null,null,null,null,null,null,null,null,null,null,null,{"$f":"IFERROR(IF(T295=5,1,IF(MATCH(T295&\"/\"&V295,読み替え表_エコドライブ!$P$33:$P$52,0),1,0)),0)","v":0},"*"]
[null,null,289,null,null,null,null,null,null,null,null,null,null,null,null,null,null,null,null,null,null,null,null,null,null,null,null,null,null,null,null,null,null,null,null,{"$f":"IFERROR(IF(T296=5,1,IF(MATCH(T296&\"/\"&V296,読み替え表_エコドライブ!$P$33:$P$52,0),1,0)),0)","v":0},"*"]
[null,null,290,null,null,null,null,null,null,null,null,null,null,null,null,null,null,null,null,null,null,null,null,null,null,null,null,null,null,null,null,null,null,null,null,{"$f":"IFERROR(IF(T297=5,1,IF(MATCH(T297&\"/\"&V297,読み替え表_エコドライブ!$P$33:$P$52,0),1,0)),0)","v":0},"*"]
[null,null,291,null,null,null,null,null,null,null,null,null,null,null,null,null,null,null,null,null,null,null,null,null,null,null,null,null,null,null,null,null,null,null,null,{"$f":"IFERROR(IF(T298=5,1,IF(MATCH(T298&\"/\"&V298,読み替え表_エコドライブ!$P$33:$P$52,0),1,0)),0)","v":0},"*"]
[null,null,292,null,null,null,null,null,null,null,null,null,null,null,null,null,null,null,null,null,null,null,null,null,null,null,null,null,null,null,null,null,null,null,null,{"$f":"IFERROR(IF(T299=5,1,IF(MATCH(T299&\"/\"&V299,読み替え表_エコドライブ!$P$33:$P$52,0),1,0)),0)","v":0},"*"]
[null,null,293,null,null,null,null,null,null,null,null,null,null,null,null,null,null,null,null,null,null,null,null,null,null,null,null,null,null,null,null,null,null,null,null,{"$f":"IFERROR(IF(T300=5,1,IF(MATCH(T300&\"/\"&V300,読み替え表_エコドライブ!$P$33:$P$52,0),1,0)),0)","v":0},"*"]
[null,null,294,null,null,null,null,null,null,null,null,null,null,null,null,null,null,null,null,null,null,null,null,null,null,null,null,null,null,null,null,null,null,null,null,{"$f":"IFERROR(IF(T301=5,1,IF(MATCH(T301&\"/\"&V301,読み替え表_エコドライブ!$P$33:$P$52,0),1,0)),0)","v":0},"*"]
[null,null,295,null,null,null,null,null,null,null,null,null,null,null,null,null,null,null,null,null,null,null,null,null,null,null,null,null,null,null,null,null,null,null,null,{"$f":"IFERROR(IF(T302=5,1,IF(MATCH(T302&\"/\"&V302,読み替え表_エコドライブ!$P$33:$P$52,0),1,0)),0)","v":0},"*"]
[null,null,296,null,null,null,null,null,null,null,null,null,null,null,null,null,null,null,null,null,null,null,null,null,null,null,null,null,null,null,null,null,null,null,null,{"$f":"IFERROR(IF(T303=5,1,IF(MATCH(T303&\"/\"&V303,読み替え表_エコドライブ!$P$33:$P$52,0),1,0)),0)","v":0},"*"]
[null,null,297,null,null,null,null,null,null,null,null,null,null,null,null,null,null,null,null,null,null,null,null,null,null,null,null,null,null,null,null,null,null,null,null,{"$f":"IFERROR(IF(T304=5,1,IF(MATCH(T304&\"/\"&V304,読み替え表_エコドライブ!$P$33:$P$52,0),1,0)),0)","v":0},"*"]
[null,null,298,null,null,null,null,null,null,null,null,null,null,null,null,null,null,null,null,null,null,null,null,null,null,null,null,null,null,null,null,null,null,null,null,{"$f":"IFERROR(IF(T305=5,1,IF(MATCH(T305&\"/\"&V305,読み替え表_エコドライブ!$P$33:$P$52,0),1,0)),0)","v":0},"*"]
[null,null,299,null,null,null,null,null,null,null,null,null,null,null,null,null,null,null,null,null,null,null,null,null,null,null,null,null,null,null,null,null,null,null,null,{"$f":"IFERROR(IF(T306=5,1,IF(MATCH(T306&\"/\"&V306,読み替え表_エコドライブ!$P$33:$P$52,0),1,0)),0)","v":0},"*"]
[null,null,300,null,null,null,null,null,null,null,null,null,null,null,null,null,null,null,null,null,null,null,null,null,null,null,null,null,null,null,null,null,null,null,null,{"$f":"IFERROR(IF(T307=5,1,IF(MATCH(T307&\"/\"&V307,読み替え表_エコドライブ!$P$33:$P$52,0),1,0)),0)","v":0},"*"]
[null,null,301,null,null,null,null,null,null,null,null,null,null,null,null,null,null,null,null,null,null,null,null,null,null,null,null,null,null,null,null,null,null,null,null,{"$f":"IFERROR(IF(T308=5,1,IF(MATCH(T308&\"/\"&V308,読み替え表_エコドライブ!$P$33:$P$52,0),1,0)),0)","v":0},"*"]
[null,null,302,null,null,null,null,null,null,null,null,null,null,null,null,null,null,null,null,null,null,null,null,null,null,null,null,null,null,null,null,null,null,null,null,{"$f":"IFERROR(IF(T309=5,1,IF(MATCH(T309&\"/\"&V309,読み替え表_エコドライブ!$P$33:$P$52,0),1,0)),0)","v":0},"*"]
[null,null,303,null,null,null,null,null,null,null,null,null,null,null,null,null,null,null,null,null,null,null,null,null,null,null,null,null,null,null,null,null,null,null,null,{"$f":"IFERROR(IF(T310=5,1,IF(MATCH(T310&\"/\"&V310,読み替え表_エコドライブ!$P$33:$P$52,0),1,0)),0)","v":0},"*"]
[null,null,304,null,null,null,null,null,null,null,null,null,null,null,null,null,null,null,null,null,null,null,null,null,null,null,null,null,null,null,null,null,null,null,null,{"$f":"IFERROR(IF(T311=5,1,IF(MATCH(T311&\"/\"&V311,読み替え表_エコドライブ!$P$33:$P$52,0),1,0)),0)","v":0},"*"]
[null,null,305,null,null,null,null,null,null,null,null,null,null,null,null,null,null,null,null,null,null,null,null,null,null,null,null,null,null,null,null,null,null,null,null,{"$f":"IFERROR(IF(T312=5,1,IF(MATCH(T312&\"/\"&V312,読み替え表_エコドライブ!$P$33:$P$52,0),1,0)),0)","v":0},"*"]
[null,null,306,null,null,null,null,null,null,null,null,null,null,null,null,null,null,null,null,null,null,null,null,null,null,null,null,null,null,null,null,null,null,null,null,{"$f":"IFERROR(IF(T313=5,1,IF(MATCH(T313&\"/\"&V313,読み替え表_エコドライブ!$P$33:$P$52,0),1,0)),0)","v":0},"*"]
[null,null,307,null,null,null,null,null,null,null,null,null,null,null,null,null,null,null,null,null,null,null,null,null,null,null,null,null,null,null,null,null,null,null,null,{"$f":"IFERROR(IF(T314=5,1,IF(MATCH(T314&\"/\"&V314,読み替え表_エコドライブ!$P$33:$P$52,0),1,0)),0)","v":0},"*"]
[null,null,308,null,null,null,null,null,null,null,null,null,null,null,null,null,null,null,null,null,null,null,null,null,null,null,null,null,null,null,null,null,null,null,null,{"$f":"IFERROR(IF(T315=5,1,IF(MATCH(T315&\"/\"&V315,読み替え表_エコドライブ!$P$33:$P$52,0),1,0)),0)","v":0},"*"]
[null,null,309,null,null,null,null,null,null,null,null,null,null,null,null,null,null,null,null,null,null,null,null,null,null,null,null,null,null,null,null,null,null,null,null,{"$f":"IFERROR(IF(T316=5,1,IF(MATCH(T316&\"/\"&V316,読み替え表_エコドライブ!$P$33:$P$52,0),1,0)),0)","v":0},"*"]
[null,null,310,null,null,null,null,null,null,null,null,null,null,null,null,null,null,null,null,null,null,null,null,null,null,null,null,null,null,null,null,null,null,null,null,{"$f":"IFERROR(IF(T317=5,1,IF(MATCH(T317&\"/\"&V317,読み替え表_エコドライブ!$P$33:$P$52,0),1,0)),0)","v":0},"*"]
[null,null,311,null,null,null,null,null,null,null,null,null,null,null,null,null,null,null,null,null,null,null,null,null,null,null,null,null,null,null,null,null,null,null,null,{"$f":"IFERROR(IF(T318=5,1,IF(MATCH(T318&\"/\"&V318,読み替え表_エコドライブ!$P$33:$P$52,0),1,0)),0)","v":0},"*"]
[null,null,312,null,null,null,null,null,null,null,null,null,null,null,null,null,null,null,null,null,null,null,null,null,null,null,null,null,null,null,null,null,null,null,null,{"$f":"IFERROR(IF(T319=5,1,IF(MATCH(T319&\"/\"&V319,読み替え表_エコドライブ!$P$33:$P$52,0),1,0)),0)","v":0},"*"]
[null,null,313,null,null,null,null,null,null,null,null,null,null,null,null,null,null,null,null,null,null,null,null,null,null,null,null,null,null,null,null,null,null,null,null,{"$f":"IFERROR(IF(T320=5,1,IF(MATCH(T320&\"/\"&V320,読み替え表_エコドライブ!$P$33:$P$52,0),1,0)),0)","v":0},"*"]
[null,null,314,null,null,null,null,null,null,null,null,null,null,null,null,null,null,null,null,null,null,null,null,null,null,null,null,null,null,null,null,null,null,null,null,{"$f":"IFERROR(IF(T321=5,1,IF(MATCH(T321&\"/\"&V321,読み替え表_エコドライブ!$P$33:$P$52,0),1,0)),0)","v":0},"*"]
[null,null,315,null,null,null,null,null,null,null,null,null,null,null,null,null,null,null,null,null,null,null,null,null,null,null,null,null,null,null,null,null,null,null,null,{"$f":"IFERROR(IF(T322=5,1,IF(MATCH(T322&\"/\"&V322,読み替え表_エコドライブ!$P$33:$P$52,0),1,0)),0)","v":0},"*"]
[null,null,316,null,null,null,null,null,null,null,null,null,null,null,null,null,null,null,null,null,null,null,null,null,null,null,null,null,null,null,null,null,null,null,null,{"$f":"IFERROR(IF(T323=5,1,IF(MATCH(T323&\"/\"&V323,読み替え表_エコドライブ!$P$33:$P$52,0),1,0)),0)","v":0},"*"]
[null,null,317,null,null,null,null,null,null,null,null,null,null,null,null,null,null,null,null,null,null,null,null,null,null,null,null,null,null,null,null,null,null,null,null,{"$f":"IFERROR(IF(T324=5,1,IF(MATCH(T324&\"/\"&V324,読み替え表_エコドライブ!$P$33:$P$52,0),1,0)),0)","v":0},"*"]
[null,null,318,null,null,null,null,null,null,null,null,null,null,null,null,null,null,null,null,null,null,null,null,null,null,null,null,null,null,null,null,null,null,null,null,{"$f":"IFERROR(IF(T325=5,1,IF(MATCH(T325&\"/\"&V325,読み替え表_エコドライブ!$P$33:$P$52,0),1,0)),0)","v":0},"*"]
[null,null,319,null,null,null,null,null,null,null,null,null,null,null,null,null,null,null,null,null,null,null,null,null,null,null,null,null,null,null,null,null,null,null,null,{"$f":"IFERROR(IF(T326=5,1,IF(MATCH(T326&\"/\"&V326,読み替え表_エコドライブ!$P$33:$P$52,0),1,0)),0)","v":0},"*"]
[null,null,320,null,null,null,null,null,null,null,null,null,null,null,null,null,null,null,null,null,null,null,null,null,null,null,null,null,null,null,null,null,null,null,null,{"$f":"IFERROR(IF(T327=5,1,IF(MATCH(T327&\"/\"&V327,読み替え表_エコドライブ!$P$33:$P$52,0),1,0)),0)","v":0},"*"]
[null,null,321,null,null,null,null,null,null,null,null,null,null,null,null,null,null,null,null,null,null,null,null,null,null,null,null,null,null,null,null,null,null,null,null,{"$f":"IFERROR(IF(T328=5,1,IF(MATCH(T328&\"/\"&V328,読み替え表_エコドライブ!$P$33:$P$52,0),1,0)),0)","v":0},"*"]
[null,null,{"$f":"ROW()-7","v":322},null,null,null,null,null,null,null,null,null,null,null,null,null,null,null,null,null,null,null,null,null,null,null,null,null,null,null,null,null,null,null,null,{"$f":"IFERROR(IF(T329=5,1,IF(MATCH(T329&\"/\"&V329,読み替え表_エコドライブ!$P$33:$P$52,0),1,0)),0)","v":0},"*"]
[null,null,323,null,null,null,null,null,null,null,null,null,null,null,null,null,null,null,null,null,null,null,null,null,null,null,null,null,null,null,null,null,null,null,null,{"$f":"IFERROR(IF(T330=5,1,IF(MATCH(T330&\"/\"&V330,読み替え表_エコドライブ!$P$33:$P$52,0),1,0)),0)","v":0},"*"]
[null,null,324,null,null,null,null,null,null,null,null,null,null,null,null,null,null,null,null,null,null,null,null,null,null,null,null,null,null,null,null,null,null,null,null,{"$f":"IFERROR(IF(T331=5,1,IF(MATCH(T331&\"/\"&V331,読み替え表_エコドライブ!$P$33:$P$52,0),1,0)),0)","v":0},"*"]
[null,null,325,null,null,null,null,null,null,null,null,null,null,null,null,null,null,null,null,null,null,null,null,null,null,null,null,null,null,null,null,null,null,null,null,{"$f":"IFERROR(IF(T332=5,1,IF(MATCH(T332&\"/\"&V332,読み替え表_エコドライブ!$P$33:$P$52,0),1,0)),0)","v":0},"*"]
[null,null,326,null,null,null,null,null,null,null,null,null,null,null,null,null,null,null,null,null,null,null,null,null,null,null,null,null,null,null,null,null,null,null,null,{"$f":"IFERROR(IF(T333=5,1,IF(MATCH(T333&\"/\"&V333,読み替え表_エコドライブ!$P$33:$P$52,0),1,0)),0)","v":0},"*"]
[null,null,327,null,null,null,null,null,null,null,null,null,null,null,null,null,null,null,null,null,null,null,null,null,null,null,null,null,null,null,null,null,null,null,null,{"$f":"IFERROR(IF(T334=5,1,IF(MATCH(T334&\"/\"&V334,読み替え表_エコドライブ!$P$33:$P$52,0),1,0)),0)","v":0},"*"]
[null,null,328,null,null,null,null,null,null,null,null,null,null,null,null,null,null,null,null,null,null,null,null,null,null,null,null,null,null,null,null,null,null,null,null,{"$f":"IFERROR(IF(T335=5,1,IF(MATCH(T335&\"/\"&V335,読み替え表_エコドライブ!$P$33:$P$52,0),1,0)),0)","v":0},"*"]
[null,null,329,null,null,null,null,null,null,null,null,null,null,null,null,null,null,null,null,null,null,null,null,null,null,null,null,null,null,null,null,null,null,null,null,{"$f":"IFERROR(IF(T336=5,1,IF(MATCH(T336&\"/\"&V336,読み替え表_エコドライブ!$P$33:$P$52,0),1,0)),0)","v":0},"*"]
[null,null,330,null,null,null,null,null,null,null,null,null,null,null,null,null,null,null,null,null,null,null,null,null,null,null,null,null,null,null,null,null,null,null,null,{"$f":"IFERROR(IF(T337=5,1,IF(MATCH(T337&\"/\"&V337,読み替え表_エコドライブ!$P$33:$P$52,0),1,0)),0)","v":0},"*"]
[null,null,331,null,null,null,null,null,null,null,null,null,null,null,null,null,null,null,null,null,null,null,null,null,null,null,null,null,null,null,null,null,null,null,null,{"$f":"IFERROR(IF(T338=5,1,IF(MATCH(T338&\"/\"&V338,読み替え表_エコドライブ!$P$33:$P$52,0),1,0)),0)","v":0},"*"]
[null,null,332,null,null,null,null,null,null,null,null,null,null,null,null,null,null,null,null,null,null,null,null,null,null,null,null,null,null,null,null,null,null,null,null,{"$f":"IFERROR(IF(T339=5,1,IF(MATCH(T339&\"/\"&V339,読み替え表_エコドライブ!$P$33:$P$52,0),1,0)),0)","v":0},"*"]
[null,null,333,null,null,null,null,null,null,null,null,null,null,null,null,null,null,null,null,null,null,null,null,null,null,null,null,null,null,null,null,null,null,null,null,{"$f":"IFERROR(IF(T340=5,1,IF(MATCH(T340&\"/\"&V340,読み替え表_エコドライブ!$P$33:$P$52,0),1,0)),0)","v":0},"*"]
[null,null,334,null,null,null,null,null,null,null,null,null,null,null,null,null,null,null,null,null,null,null,null,null,null,null,null,null,null,null,null,null,null,null,null,{"$f":"IFERROR(IF(T341=5,1,IF(MATCH(T341&\"/\"&V341,読み替え表_エコドライブ!$P$33:$P$52,0),1,0)),0)","v":0},"*"]
[null,null,335,null,null,null,null,null,null,null,null,null,null,null,null,null,null,null,null,null,null,null,null,null,null,null,null,null,null,null,null,null,null,null,null,{"$f":"IFERROR(IF(T342=5,1,IF(MATCH(T342&\"/\"&V342,読み替え表_エコドライブ!$P$33:$P$52,0),1,0)),0)","v":0},"*"]
[null,null,336,null,null,null,null,null,null,null,null,null,null,null,null,null,null,null,null,null,null,null,null,null,null,null,null,null,null,null,null,null,null,null,null,{"$f":"IFERROR(IF(T343=5,1,IF(MATCH(T343&\"/\"&V343,読み替え表_エコドライブ!$P$33:$P$52,0),1,0)),0)","v":0},"*"]
[null,null,337,null,null,null,null,null,null,null,null,null,null,null,null,null,null,null,null,null,null,null,null,null,null,null,null,null,null,null,null,null,null,null,null,{"$f":"IFERROR(IF(T344=5,1,IF(MATCH(T344&\"/\"&V344,読み替え表_エコドライブ!$P$33:$P$52,0),1,0)),0)","v":0},"*"]
[null,null,338,null,null,null,null,null,null,null,null,null,null,null,null,null,null,null,null,null,null,null,null,null,null,null,null,null,null,null,null,null,null,null,null,{"$f":"IFERROR(IF(T345=5,1,IF(MATCH(T345&\"/\"&V345,読み替え表_エコドライブ!$P$33:$P$52,0),1,0)),0)","v":0},"*"]
[null,null,339,null,null,null,null,null,null,null,null,null,null,null,null,null,null,null,null,null,null,null,null,null,null,null,null,null,null,null,null,null,null,null,null,{"$f":"IFERROR(IF(T346=5,1,IF(MATCH(T346&\"/\"&V346,読み替え表_エコドライブ!$P$33:$P$52,0),1,0)),0)","v":0},"*"]
[null,null,340,null,null,null,null,null,null,null,null,null,null,null,null,null,null,null,null,null,null,null,null,null,null,null,null,null,null,null,null,null,null,null,null,{"$f":"IFERROR(IF(T347=5,1,IF(MATCH(T347&\"/\"&V347,読み替え表_エコドライブ!$P$33:$P$52,0),1,0)),0)","v":0},"*"]
[null,null,341,null,null,null,null,null,null,null,null,null,null,null,null,null,null,null,null,null,null,null,null,null,null,null,null,null,null,null,null,null,null,null,null,{"$f":"IFERROR(IF(T348=5,1,IF(MATCH(T348&\"/\"&V348,読み替え表_エコドライブ!$P$33:$P$52,0),1,0)),0)","v":0},"*"]
[null,null,342,null,null,null,null,null,null,null,null,null,null,null,null,null,null,null,null,null,null,null,null,null,null,null,null,null,null,null,null,null,null,null,null,{"$f":"IFERROR(IF(T349=5,1,IF(MATCH(T349&\"/\"&V349,読み替え表_エコドライブ!$P$33:$P$52,0),1,0)),0)","v":0},"*"]
[null,null,343,null,null,null,null,null,null,null,null,null,null,null,null,null,null,null,null,null,null,null,null,null,null,null,null,null,null,null,null,null,null,null,null,{"$f":"IFERROR(IF(T350=5,1,IF(MATCH(T350&\"/\"&V350,読み替え表_エコドライブ!$P$33:$P$52,0),1,0)),0)","v":0},"*"]
[null,null,344,null,null,null,null,null,null,null,null,null,null,null,null,null,null,null,null,null,null,null,null,null,null,null,null,null,null,null,null,null,null,null,null,{"$f":"IFERROR(IF(T351=5,1,IF(MATCH(T351&\"/\"&V351,読み替え表_エコドライブ!$P$33:$P$52,0),1,0)),0)","v":0},"*"]
[null,null,345,null,null,null,null,null,null,null,null,null,null,null,null,null,null,null,null,null,null,null,null,null,null,null,null,null,null,null,null,null,null,null,null,{"$f":"IFERROR(IF(T352=5,1,IF(MATCH(T352&\"/\"&V352,読み替え表_エコドライブ!$P$33:$P$52,0),1,0)),0)","v":0},"*"]
[null,null,346,null,null,null,null,null,null,null,null,null,null,null,null,null,null,null,null,null,null,null,null,null,null,null,null,null,null,null,null,null,null,null,null,{"$f":"IFERROR(IF(T353=5,1,IF(MATCH(T353&\"/\"&V353,読み替え表_エコドライブ!$P$33:$P$52,0),1,0)),0)","v":0},"*"]
[null,null,347,null,null,null,null,null,null,null,null,null,null,null,null,null,null,null,null,null,null,null,null,null,null,null,null,null,null,null,null,null,null,null,null,{"$f":"IFERROR(IF(T354=5,1,IF(MATCH(T354&\"/\"&V354,読み替え表_エコドライブ!$P$33:$P$52,0),1,0)),0)","v":0},"*"]
[null,null,348,null,null,null,null,null,null,null,null,null,null,null,null,null,null,null,null,null,null,null,null,null,null,null,null,null,null,null,null,null,null,null,null,{"$f":"IFERROR(IF(T355=5,1,IF(MATCH(T355&\"/\"&V355,読み替え表_エコドライブ!$P$33:$P$52,0),1,0)),0)","v":0},"*"]
[null,null,349,null,null,null,null,null,null,null,null,null,null,null,null,null,null,null,null,null,null,null,null,null,null,null,null,null,null,null,null,null,null,null,null,{"$f":"IFERROR(IF(T356=5,1,IF(MATCH(T356&\"/\"&V356,読み替え表_エコドライブ!$P$33:$P$52,0),1,0)),0)","v":0},"*"]
[null,null,350,null,null,null,null,null,null,null,null,null,null,null,null,null,null,null,null,null,null,null,null,null,null,null,null,null,null,null,null,null,null,null,null,{"$f":"IFERROR(IF(T357=5,1,IF(MATCH(T357&\"/\"&V357,読み替え表_エコドライブ!$P$33:$P$52,0),1,0)),0)","v":0},"*"]
[null,null,351,null,null,null,null,null,null,null,null,null,null,null,null,null,null,null,null,null,null,null,null,null,null,null,null,null,null,null,null,null,null,null,null,{"$f":"IFERROR(IF(T358=5,1,IF(MATCH(T358&\"/\"&V358,読み替え表_エコドライブ!$P$33:$P$52,0),1,0)),0)","v":0},"*"]
[null,null,352,null,null,null,null,null,null,null,null,null,null,null,null,null,null,null,null,null,null,null,null,null,null,null,null,null,null,null,null,null,null,null,null,{"$f":"IFERROR(IF(T359=5,1,IF(MATCH(T359&\"/\"&V359,読み替え表_エコドライブ!$P$33:$P$52,0),1,0)),0)","v":0},"*"]
[null,null,353,null,null,null,null,null,null,null,null,null,null,null,null,null,null,null,null,null,null,null,null,null,null,null,null,null,null,null,null,null,null,null,null,{"$f":"IFERROR(IF(T360=5,1,IF(MATCH(T360&\"/\"&V360,読み替え表_エコドライブ!$P$33:$P$52,0),1,0)),0)","v":0},"*"]
[null,null,354,null,null,null,null,null,null,null,null,null,null,null,null,null,null,null,null,null,null,null,null,null,null,null,null,null,null,null,null,null,null,null,null,{"$f":"IFERROR(IF(T361=5,1,IF(MATCH(T361&\"/\"&V361,読み替え表_エコドライブ!$P$33:$P$52,0),1,0)),0)","v":0},"*"]
[null,null,355,null,null,null,null,null,null,null,null,null,null,null,null,null,null,null,null,null,null,null,null,null,null,null,null,null,null,null,null,null,null,null,null,{"$f":"IFERROR(IF(T362=5,1,IF(MATCH(T362&\"/\"&V362,読み替え表_エコドライブ!$P$33:$P$52,0),1,0)),0)","v":0},"*"]
[null,null,356,null,null,null,null,null,null,null,null,null,null,null,null,null,null,null,null,null,null,null,null,null,null,null,null,null,null,null,null,null,null,null,null,{"$f":"IFERROR(IF(T363=5,1,IF(MATCH(T363&\"/\"&V363,読み替え表_エコドライブ!$P$33:$P$52,0),1,0)),0)","v":0},"*"]
[null,null,357,null,null,null,null,null,null,null,null,null,null,null,null,null,null,null,null,null,null,null,null,null,null,null,null,null,null,null,null,null,null,null,null,{"$f":"IFERROR(IF(T364=5,1,IF(MATCH(T364&\"/\"&V364,読み替え表_エコドライブ!$P$33:$P$52,0),1,0)),0)","v":0},"*"]
[null,null,358,null,null,null,null,null,null,null,null,null,null,null,null,null,null,null,null,null,null,null,null,null,null,null,null,null,null,null,null,null,null,null,null,{"$f":"IFERROR(IF(T365=5,1,IF(MATCH(T365&\"/\"&V365,読み替え表_エコドライブ!$P$33:$P$52,0),1,0)),0)","v":0},"*"]
[null,null,359,null,null,null,null,null,null,null,null,null,null,null,null,null,null,null,null,null,null,null,null,null,null,null,null,null,null,null,null,null,null,null,null,{"$f":"IFERROR(IF(T366=5,1,IF(MATCH(T366&\"/\"&V366,読み替え表_エコドライブ!$P$33:$P$52,0),1,0)),0)","v":0},"*"]
[null,null,360,null,null,null,null,null,null,null,null,null,null,null,null,null,null,null,null,null,null,null,null,null,null,null,null,null,null,null,null,null,null,null,null,{"$f":"IFERROR(IF(T367=5,1,IF(MATCH(T367&\"/\"&V367,読み替え表_エコドライブ!$P$33:$P$52,0),1,0)),0)","v":0},"*"]
[null,null,361,null,null,null,null,null,null,null,null,null,null,null,null,null,null,null,null,null,null,null,null,null,null,null,null,null,null,null,null,null,null,null,null,{"$f":"IFERROR(IF(T368=5,1,IF(MATCH(T368&\"/\"&V368,読み替え表_エコドライブ!$P$33:$P$52,0),1,0)),0)","v":0},"*"]
[null,null,362,null,null,null,null,null,null,null,null,null,null,null,null,null,null,null,null,null,null,null,null,null,null,null,null,null,null,null,null,null,null,null,null,{"$f":"IFERROR(IF(T369=5,1,IF(MATCH(T369&\"/\"&V369,読み替え表_エコドライブ!$P$33:$P$52,0),1,0)),0)","v":0},"*"]
[null,null,363,null,null,null,null,null,null,null,null,null,null,null,null,null,null,null,null,null,null,null,null,null,null,null,null,null,null,null,null,null,null,null,null,{"$f":"IFERROR(IF(T370=5,1,IF(MATCH(T370&\"/\"&V370,読み替え表_エコドライブ!$P$33:$P$52,0),1,0)),0)","v":0},"*"]
[null,null,364,null,null,null,null,null,null,null,null,null,null,null,null,null,null,null,null,null,null,null,null,null,null,null,null,null,null,null,null,null,null,null,null,{"$f":"IFERROR(IF(T371=5,1,IF(MATCH(T371&\"/\"&V371,読み替え表_エコドライブ!$P$33:$P$52,0),1,0)),0)","v":0},"*"]
[null,null,365,null,null,null,null,null,null,null,null,null,null,null,null,null,null,null,null,null,null,null,null,null,null,null,null,null,null,null,null,null,null,null,null,{"$f":"IFERROR(IF(T372=5,1,IF(MATCH(T372&\"/\"&V372,読み替え表_エコドライブ!$P$33:$P$52,0),1,0)),0)","v":0},"*"]
[null,null,366,null,null,null,null,null,null,null,null,null,null,null,null,null,null,null,null,null,null,null,null,null,null,null,null,null,null,null,null,null,null,null,null,{"$f":"IFERROR(IF(T373=5,1,IF(MATCH(T373&\"/\"&V373,読み替え表_エコドライブ!$P$33:$P$52,0),1,0)),0)","v":0},"*"]
[null,null,367,null,null,null,null,null,null,null,null,null,null,null,null,null,null,null,null,null,null,null,null,null,null,null,null,null,null,null,null,null,null,null,null,{"$f":"IFERROR(IF(T374=5,1,IF(MATCH(T374&\"/\"&V374,読み替え表_エコドライブ!$P$33:$P$52,0),1,0)),0)","v":0},"*"]
[null,null,368,null,null,null,null,null,null,null,null,null,null,null,null,null,null,null,null,null,null,null,null,null,null,null,null,null,null,null,null,null,null,null,null,{"$f":"IFERROR(IF(T375=5,1,IF(MATCH(T375&\"/\"&V375,読み替え表_エコドライブ!$P$33:$P$52,0),1,0)),0)","v":0},"*"]
[null,null,369,null,null,null,null,null,null,null,null,null,null,null,null,null,null,null,null,null,null,null,null,null,null,null,null,null,null,null,null,null,null,null,null,{"$f":"IFERROR(IF(T376=5,1,IF(MATCH(T376&\"/\"&V376,読み替え表_エコドライブ!$P$33:$P$52,0),1,0)),0)","v":0},"*"]
[null,null,370,null,null,null,null,null,null,null,null,null,null,null,null,null,null,null,null,null,null,null,null,null,null,null,null,null,null,null,null,null,null,null,null,{"$f":"IFERROR(IF(T377=5,1,IF(MATCH(T377&\"/\"&V377,読み替え表_エコドライブ!$P$33:$P$52,0),1,0)),0)","v":0},"*"]
[null,null,371,null,null,null,null,null,null,null,null,null,null,null,null,null,null,null,null,null,null,null,null,null,null,null,null,null,null,null,null,null,null,null,null,{"$f":"IFERROR(IF(T378=5,1,IF(MATCH(T378&\"/\"&V378,読み替え表_エコドライブ!$P$33:$P$52,0),1,0)),0)","v":0},"*"]
[null,null,372,null,null,null,null,null,null,null,null,null,null,null,null,null,null,null,null,null,null,null,null,null,null,null,null,null,null,null,null,null,null,null,null,{"$f":"IFERROR(IF(T379=5,1,IF(MATCH(T379&\"/\"&V379,読み替え表_エコドライブ!$P$33:$P$52,0),1,0)),0)","v":0},"*"]
[null,null,373,null,null,null,null,null,null,null,null,null,null,null,null,null,null,null,null,null,null,null,null,null,null,null,null,null,null,null,null,null,null,null,null,{"$f":"IFERROR(IF(T380=5,1,IF(MATCH(T380&\"/\"&V380,読み替え表_エコドライブ!$P$33:$P$52,0),1,0)),0)","v":0},"*"]
[null,null,374,null,null,null,null,null,null,null,null,null,null,null,null,null,null,null,null,null,null,null,null,null,null,null,null,null,null,null,null,null,null,null,null,{"$f":"IFERROR(IF(T381=5,1,IF(MATCH(T381&\"/\"&V381,読み替え表_エコドライブ!$P$33:$P$52,0),1,0)),0)","v":0},"*"]
[null,null,375,null,null,null,null,null,null,null,null,null,null,null,null,null,null,null,null,null,null,null,null,null,null,null,null,null,null,null,null,null,null,null,null,{"$f":"IFERROR(IF(T382=5,1,IF(MATCH(T382&\"/\"&V382,読み替え表_エコドライブ!$P$33:$P$52,0),1,0)),0)","v":0},"*"]
[null,null,376,null,null,null,null,null,null,null,null,null,null,null,null,null,null,null,null,null,null,null,null,null,null,null,null,null,null,null,null,null,null,null,null,{"$f":"IFERROR(IF(T383=5,1,IF(MATCH(T383&\"/\"&V383,読み替え表_エコドライブ!$P$33:$P$52,0),1,0)),0)","v":0},"*"]
[null,null,377,null,null,null,null,null,null,null,null,null,null,null,null,null,null,null,null,null,null,null,null,null,null,null,null,null,null,null,null,null,null,null,null,{"$f":"IFERROR(IF(T384=5,1,IF(MATCH(T384&\"/\"&V384,読み替え表_エコドライブ!$P$33:$P$52,0),1,0)),0)","v":0},"*"]
[null,null,378,null,null,null,null,null,null,null,null,null,null,null,null,null,null,null,null,null,null,null,null,null,null,null,null,null,null,null,null,null,null,null,null,{"$f":"IFERROR(IF(T385=5,1,IF(MATCH(T385&\"/\"&V385,読み替え表_エコドライブ!$P$33:$P$52,0),1,0)),0)","v":0},"*"]
[null,null,379,null,null,null,null,null,null,null,null,null,null,null,null,null,null,null,null,null,null,null,null,null,null,null,null,null,null,null,null,null,null,null,null,{"$f":"IFERROR(IF(T386=5,1,IF(MATCH(T386&\"/\"&V386,読み替え表_エコドライブ!$P$33:$P$52,0),1,0)),0)","v":0},"*"]
[null,null,380,null,null,null,null,null,null,null,null,null,null,null,null,null,null,null,null,null,null,null,null,null,null,null,null,null,null,null,null,null,null,null,null,{"$f":"IFERROR(IF(T387=5,1,IF(MATCH(T387&\"/\"&V387,読み替え表_エコドライブ!$P$33:$P$52,0),1,0)),0)","v":0},"*"]
[null,null,381,null,null,null,null,null,null,null,null,null,null,null,null,null,null,null,null,null,null,null,null,null,null,null,null,null,null,null,null,null,null,null,null,{"$f":"IFERROR(IF(T388=5,1,IF(MATCH(T388&\"/\"&V388,読み替え表_エコドライブ!$P$33:$P$52,0),1,0)),0)","v":0},"*"]
[null,null,382,null,null,null,null,null,null,null,null,null,null,null,null,null,null,null,null,null,null,null,null,null,null,null,null,null,null,null,null,null,null,null,null,{"$f":"IFERROR(IF(T389=5,1,IF(MATCH(T389&\"/\"&V389,読み替え表_エコドライブ!$P$33:$P$52,0),1,0)),0)","v":0},"*"]
[null,null,383,null,null,null,null,null,null,null,null,null,null,null,null,null,null,null,null,null,null,null,null,null,null,null,null,null,null,null,null,null,null,null,null,{"$f":"IFERROR(IF(T390=5,1,IF(MATCH(T390&\"/\"&V390,読み替え表_エコドライブ!$P$33:$P$52,0),1,0)),0)","v":0},"*"]
[null,null,384,null,null,null,null,null,null,null,null,null,null,null,null,null,null,null,null,null,null,null,null,null,null,null,null,null,null,null,null,null,null,null,null,{"$f":"IFERROR(IF(T391=5,1,IF(MATCH(T391&\"/\"&V391,読み替え表_エコドライブ!$P$33:$P$52,0),1,0)),0)","v":0},"*"]
[null,null,385,null,null,null,null,null,null,null,null,null,null,null,null,null,null,null,null,null,null,null,null,null,null,null,null,null,null,null,null,null,null,null,null,{"$f":"IFERROR(IF(T392=5,1,IF(MATCH(T392&\"/\"&V392,読み替え表_エコドライブ!$P$33:$P$52,0),1,0)),0)","v":0},"*"]
[null,null,{"$f":"ROW()-7","v":386},null,null,null,null,null,null,null,null,null,null,null,null,null,null,null,null,null,null,null,null,null,null,null,null,null,null,null,null,null,null,null,null,{"$f":"IFERROR(IF(T393=5,1,IF(MATCH(T393&\"/\"&V393,読み替え表_エコドライブ!$P$33:$P$52,0),1,0)),0)","v":0},"*"]
[null,null,387,null,null,null,null,null,null,null,null,null,null,null,null,null,null,null,null,null,null,null,null,null,null,null,null,null,null,null,null,null,null,null,null,{"$f":"IFERROR(IF(T394=5,1,IF(MATCH(T394&\"/\"&V394,読み替え表_エコドライブ!$P$33:$P$52,0),1,0)),0)","v":0},"*"]
[null,null,388,null,null,null,null,null,null,null,null,null,null,null,null,null,null,null,null,null,null,null,null,null,null,null,null,null,null,null,null,null,null,null,null,{"$f":"IFERROR(IF(T395=5,1,IF(MATCH(T395&\"/\"&V395,読み替え表_エコドライブ!$P$33:$P$52,0),1,0)),0)","v":0},"*"]
[null,null,389,null,null,null,null,null,null,null,null,null,null,null,null,null,null,null,null,null,null,null,null,null,null,null,null,null,null,null,null,null,null,null,null,{"$f":"IFERROR(IF(T396=5,1,IF(MATCH(T396&\"/\"&V396,読み替え表_エコドライブ!$P$33:$P$52,0),1,0)),0)","v":0},"*"]
[null,null,390,null,null,null,null,null,null,null,null,null,null,null,null,null,null,null,null,null,null,null,null,null,null,null,null,null,null,null,null,null,null,null,null,{"$f":"IFERROR(IF(T397=5,1,IF(MATCH(T397&\"/\"&V397,読み替え表_エコドライブ!$P$33:$P$52,0),1,0)),0)","v":0},"*"]
[null,null,391,null,null,null,null,null,null,null,null,null,null,null,null,null,null,null,null,null,null,null,null,null,null,null,null,null,null,null,null,null,null,null,null,{"$f":"IFERROR(IF(T398=5,1,IF(MATCH(T398&\"/\"&V398,読み替え表_エコドライブ!$P$33:$P$52,0),1,0)),0)","v":0},"*"]
[null,null,392,null,null,null,null,null,null,null,null,null,null,null,null,null,null,null,null,null,null,null,null,null,null,null,null,null,null,null,null,null,null,null,null,{"$f":"IFERROR(IF(T399=5,1,IF(MATCH(T399&\"/\"&V399,読み替え表_エコドライブ!$P$33:$P$52,0),1,0)),0)","v":0},"*"]
[null,null,393,null,null,null,null,null,null,null,null,null,null,null,null,null,null,null,null,null,null,null,null,null,null,null,null,null,null,null,null,null,null,null,null,{"$f":"IFERROR(IF(T400=5,1,IF(MATCH(T400&\"/\"&V400,読み替え表_エコドライブ!$P$33:$P$52,0),1,0)),0)","v":0},"*"]
[null,null,394,null,null,null,null,null,null,null,null,null,null,null,null,null,null,null,null,null,null,null,null,null,null,null,null,null,null,null,null,null,null,null,null,{"$f":"IFERROR(IF(T401=5,1,IF(MATCH(T401&\"/\"&V401,読み替え表_エコドライブ!$P$33:$P$52,0),1,0)),0)","v":0},"*"]
[null,null,395,null,null,null,null,null,null,null,null,null,null,null,null,null,null,null,null,null,null,null,null,null,null,null,null,null,null,null,null,null,null,null,null,{"$f":"IFERROR(IF(T402=5,1,IF(MATCH(T402&\"/\"&V402,読み替え表_エコドライブ!$P$33:$P$52,0),1,0)),0)","v":0},"*"]
[null,null,396,null,null,null,null,null,null,null,null,null,null,null,null,null,null,null,null,null,null,null,null,null,null,null,null,null,null,null,null,null,null,null,null,{"$f":"IFERROR(IF(T403=5,1,IF(MATCH(T403&\"/\"&V403,読み替え表_エコドライブ!$P$33:$P$52,0),1,0)),0)","v":0},"*"]
[null,null,397,null,null,null,null,null,null,null,null,null,null,null,null,null,null,null,null,null,null,null,null,null,null,null,null,null,null,null,null,null,null,null,null,{"$f":"IFERROR(IF(T404=5,1,IF(MATCH(T404&\"/\"&V404,読み替え表_エコドライブ!$P$33:$P$52,0),1,0)),0)","v":0},"*"]
[null,null,398,null,null,null,null,null,null,null,null,null,null,null,null,null,null,null,null,null,null,null,null,null,null,null,null,null,null,null,null,null,null,null,null,{"$f":"IFERROR(IF(T405=5,1,IF(MATCH(T405&\"/\"&V405,読み替え表_エコドライブ!$P$33:$P$52,0),1,0)),0)","v":0},"*"]
[null,null,399,null,null,null,null,null,null,null,null,null,null,null,null,null,null,null,null,null,null,null,null,null,null,null,null,null,null,null,null,null,null,null,null,{"$f":"IFERROR(IF(T406=5,1,IF(MATCH(T406&\"/\"&V406,読み替え表_エコドライブ!$P$33:$P$52,0),1,0)),0)","v":0},"*"]
[null,null,400,null,null,null,null,null,null,null,null,null,null,null,null,null,null,null,null,null,null,null,null,null,null,null,null,null,null,null,null,null,null,null,null,{"$f":"IFERROR(IF(T407=5,1,IF(MATCH(T407&\"/\"&V407,読み替え表_エコドライブ!$P$33:$P$52,0),1,0)),0)","v":0},"*"]
[null,null,401,null,null,null,null,null,null,null,null,null,null,null,null,null,null,null,null,null,null,null,null,null,null,null,null,null,null,null,null,null,null,null,null,{"$f":"IFERROR(IF(T408=5,1,IF(MATCH(T408&\"/\"&V408,読み替え表_エコドライブ!$P$33:$P$52,0),1,0)),0)","v":0},"*"]
[null,null,402,null,null,null,null,null,null,null,null,null,null,null,null,null,null,null,null,null,null,null,null,null,null,null,null,null,null,null,null,null,null,null,null,{"$f":"IFERROR(IF(T409=5,1,IF(MATCH(T409&\"/\"&V409,読み替え表_エコドライブ!$P$33:$P$52,0),1,0)),0)","v":0},"*"]
[null,null,403,null,null,null,null,null,null,null,null,null,null,null,null,null,null,null,null,null,null,null,null,null,null,null,null,null,null,null,null,null,null,null,null,{"$f":"IFERROR(IF(T410=5,1,IF(MATCH(T410&\"/\"&V410,読み替え表_エコドライブ!$P$33:$P$52,0),1,0)),0)","v":0},"*"]
[null,null,404,null,null,null,null,null,null,null,null,null,null,null,null,null,null,null,null,null,null,null,null,null,null,null,null,null,null,null,null,null,null,null,null,{"$f":"IFERROR(IF(T411=5,1,IF(MATCH(T411&\"/\"&V411,読み替え表_エコドライブ!$P$33:$P$52,0),1,0)),0)","v":0},"*"]
[null,null,405,null,null,null,null,null,null,null,null,null,null,null,null,null,null,null,null,null,null,null,null,null,null,null,null,null,null,null,null,null,null,null,null,{"$f":"IFERROR(IF(T412=5,1,IF(MATCH(T412&\"/\"&V412,読み替え表_エコドライブ!$P$33:$P$52,0),1,0)),0)","v":0},"*"]
[null,null,406,null,null,null,null,null,null,null,null,null,null,null,null,null,null,null,null,null,null,null,null,null,null,null,null,null,null,null,null,null,null,null,null,{"$f":"IFERROR(IF(T413=5,1,IF(MATCH(T413&\"/\"&V413,読み替え表_エコドライブ!$P$33:$P$52,0),1,0)),0)","v":0},"*"]
[null,null,407,null,null,null,null,null,null,null,null,null,null,null,null,null,null,null,null,null,null,null,null,null,null,null,null,null,null,null,null,null,null,null,null,{"$f":"IFERROR(IF(T414=5,1,IF(MATCH(T414&\"/\"&V414,読み替え表_エコドライブ!$P$33:$P$52,0),1,0)),0)","v":0},"*"]
[null,null,408,null,null,null,null,null,null,null,null,null,null,null,null,null,null,null,null,null,null,null,null,null,null,null,null,null,null,null,null,null,null,null,null,{"$f":"IFERROR(IF(T415=5,1,IF(MATCH(T415&\"/\"&V415,読み替え表_エコドライブ!$P$33:$P$52,0),1,0)),0)","v":0},"*"]
[null,null,409,null,null,null,null,null,null,null,null,null,null,null,null,null,null,null,null,null,null,null,null,null,null,null,null,null,null,null,null,null,null,null,null,{"$f":"IFERROR(IF(T416=5,1,IF(MATCH(T416&\"/\"&V416,読み替え表_エコドライブ!$P$33:$P$52,0),1,0)),0)","v":0},"*"]
[null,null,410,null,null,null,null,null,null,null,null,null,null,null,null,null,null,null,null,null,null,null,null,null,null,null,null,null,null,null,null,null,null,null,null,{"$f":"IFERROR(IF(T417=5,1,IF(MATCH(T417&\"/\"&V417,読み替え表_エコドライブ!$P$33:$P$52,0),1,0)),0)","v":0},"*"]
[null,null,411,null,null,null,null,null,null,null,null,null,null,null,null,null,null,null,null,null,null,null,null,null,null,null,null,null,null,null,null,null,null,null,null,{"$f":"IFERROR(IF(T418=5,1,IF(MATCH(T418&\"/\"&V418,読み替え表_エコドライブ!$P$33:$P$52,0),1,0)),0)","v":0},"*"]
[null,null,412,null,null,null,null,null,null,null,null,null,null,null,null,null,null,null,null,null,null,null,null,null,null,null,null,null,null,null,null,null,null,null,null,{"$f":"IFERROR(IF(T419=5,1,IF(MATCH(T419&\"/\"&V419,読み替え表_エコドライブ!$P$33:$P$52,0),1,0)),0)","v":0},"*"]
[null,null,413,null,null,null,null,null,null,null,null,null,null,null,null,null,null,null,null,null,null,null,null,null,null,null,null,null,null,null,null,null,null,null,null,{"$f":"IFERROR(IF(T420=5,1,IF(MATCH(T420&\"/\"&V420,読み替え表_エコドライブ!$P$33:$P$52,0),1,0)),0)","v":0},"*"]
[null,null,414,null,null,null,null,null,null,null,null,null,null,null,null,null,null,null,null,null,null,null,null,null,null,null,null,null,null,null,null,null,null,null,null,{"$f":"IFERROR(IF(T421=5,1,IF(MATCH(T421&\"/\"&V421,読み替え表_エコドライブ!$P$33:$P$52,0),1,0)),0)","v":0},"*"]
[null,null,415,null,null,null,null,null,null,null,null,null,null,null,null,null,null,null,null,null,null,null,null,null,null,null,null,null,null,null,null,null,null,null,null,{"$f":"IFERROR(IF(T422=5,1,IF(MATCH(T422&\"/\"&V422,読み替え表_エコドライブ!$P$33:$P$52,0),1,0)),0)","v":0},"*"]
[null,null,416,null,null,null,null,null,null,null,null,null,null,null,null,null,null,null,null,null,null,null,null,null,null,null,null,null,null,null,null,null,null,null,null,{"$f":"IFERROR(IF(T423=5,1,IF(MATCH(T423&\"/\"&V423,読み替え表_エコドライブ!$P$33:$P$52,0),1,0)),0)","v":0},"*"]
[null,null,417,null,null,null,null,null,null,null,null,null,null,null,null,null,null,null,null,null,null,null,null,null,null,null,null,null,null,null,null,null,null,null,null,{"$f":"IFERROR(IF(T424=5,1,IF(MATCH(T424&\"/\"&V424,読み替え表_エコドライブ!$P$33:$P$52,0),1,0)),0)","v":0},"*"]
[null,null,418,null,null,null,null,null,null,null,null,null,null,null,null,null,null,null,null,null,null,null,null,null,null,null,null,null,null,null,null,null,null,null,null,{"$f":"IFERROR(IF(T425=5,1,IF(MATCH(T425&\"/\"&V425,読み替え表_エコドライブ!$P$33:$P$52,0),1,0)),0)","v":0},"*"]
[null,null,419,null,null,null,null,null,null,null,null,null,null,null,null,null,null,null,null,null,null,null,null,null,null,null,null,null,null,null,null,null,null,null,null,{"$f":"IFERROR(IF(T426=5,1,IF(MATCH(T426&\"/\"&V426,読み替え表_エコドライブ!$P$33:$P$52,0),1,0)),0)","v":0},"*"]
[null,null,420,null,null,null,null,null,null,null,null,null,null,null,null,null,null,null,null,null,null,null,null,null,null,null,null,null,null,null,null,null,null,null,null,{"$f":"IFERROR(IF(T427=5,1,IF(MATCH(T427&\"/\"&V427,読み替え表_エコドライブ!$P$33:$P$52,0),1,0)),0)","v":0},"*"]
[null,null,421,null,null,null,null,null,null,null,null,null,null,null,null,null,null,null,null,null,null,null,null,null,null,null,null,null,null,null,null,null,null,null,null,{"$f":"IFERROR(IF(T428=5,1,IF(MATCH(T428&\"/\"&V428,読み替え表_エコドライブ!$P$33:$P$52,0),1,0)),0)","v":0},"*"]
[null,null,422,null,null,null,null,null,null,null,null,null,null,null,null,null,null,null,null,null,null,null,null,null,null,null,null,null,null,null,null,null,null,null,null,{"$f":"IFERROR(IF(T429=5,1,IF(MATCH(T429&\"/\"&V429,読み替え表_エコドライブ!$P$33:$P$52,0),1,0)),0)","v":0},"*"]
[null,null,423,null,null,null,null,null,null,null,null,null,null,null,null,null,null,null,null,null,null,null,null,null,null,null,null,null,null,null,null,null,null,null,null,{"$f":"IFERROR(IF(T430=5,1,IF(MATCH(T430&\"/\"&V430,読み替え表_エコドライブ!$P$33:$P$52,0),1,0)),0)","v":0},"*"]
[null,null,424,null,null,null,null,null,null,null,null,null,null,null,null,null,null,null,null,null,null,null,null,null,null,null,null,null,null,null,null,null,null,null,null,{"$f":"IFERROR(IF(T431=5,1,IF(MATCH(T431&\"/\"&V431,読み替え表_エコドライブ!$P$33:$P$52,0),1,0)),0)","v":0},"*"]
[null,null,425,null,null,null,null,null,null,null,null,null,null,null,null,null,null,null,null,null,null,null,null,null,null,null,null,null,null,null,null,null,null,null,null,{"$f":"IFERROR(IF(T432=5,1,IF(MATCH(T432&\"/\"&V432,読み替え表_エコドライブ!$P$33:$P$52,0),1,0)),0)","v":0},"*"]
[null,null,426,null,null,null,null,null,null,null,null,null,null,null,null,null,null,null,null,null,null,null,null,null,null,null,null,null,null,null,null,null,null,null,null,{"$f":"IFERROR(IF(T433=5,1,IF(MATCH(T433&\"/\"&V433,読み替え表_エコドライブ!$P$33:$P$52,0),1,0)),0)","v":0},"*"]
[null,null,427,null,null,null,null,null,null,null,null,null,null,null,null,null,null,null,null,null,null,null,null,null,null,null,null,null,null,null,null,null,null,null,null,{"$f":"IFERROR(IF(T434=5,1,IF(MATCH(T434&\"/\"&V434,読み替え表_エコドライブ!$P$33:$P$52,0),1,0)),0)","v":0},"*"]
[null,null,428,null,null,null,null,null,null,null,null,null,null,null,null,null,null,null,null,null,null,null,null,null,null,null,null,null,null,null,null,null,null,null,null,{"$f":"IFERROR(IF(T435=5,1,IF(MATCH(T435&\"/\"&V435,読み替え表_エコドライブ!$P$33:$P$52,0),1,0)),0)","v":0},"*"]
[null,null,429,null,null,null,null,null,null,null,null,null,null,null,null,null,null,null,null,null,null,null,null,null,null,null,null,null,null,null,null,null,null,null,null,{"$f":"IFERROR(IF(T436=5,1,IF(MATCH(T436&\"/\"&V436,読み替え表_エコドライブ!$P$33:$P$52,0),1,0)),0)","v":0},"*"]
[null,null,430,null,null,null,null,null,null,null,null,null,null,null,null,null,null,null,null,null,null,null,null,null,null,null,null,null,null,null,null,null,null,null,null,{"$f":"IFERROR(IF(T437=5,1,IF(MATCH(T437&\"/\"&V437,読み替え表_エコドライブ!$P$33:$P$52,0),1,0)),0)","v":0},"*"]
[null,null,431,null,null,null,null,null,null,null,null,null,null,null,null,null,null,null,null,null,null,null,null,null,null,null,null,null,null,null,null,null,null,null,null,{"$f":"IFERROR(IF(T438=5,1,IF(MATCH(T438&\"/\"&V438,読み替え表_エコドライブ!$P$33:$P$52,0),1,0)),0)","v":0},"*"]
[null,null,432,null,null,null,null,null,null,null,null,null,null,null,null,null,null,null,null,null,null,null,null,null,null,null,null,null,null,null,null,null,null,null,null,{"$f":"IFERROR(IF(T439=5,1,IF(MATCH(T439&\"/\"&V439,読み替え表_エコドライブ!$P$33:$P$52,0),1,0)),0)","v":0},"*"]
[null,null,433,null,null,null,null,null,null,null,null,null,null,null,null,null,null,null,null,null,null,null,null,null,null,null,null,null,null,null,null,null,null,null,null,{"$f":"IFERROR(IF(T440=5,1,IF(MATCH(T440&\"/\"&V440,読み替え表_エコドライブ!$P$33:$P$52,0),1,0)),0)","v":0},"*"]
[null,null,434,null,null,null,null,null,null,null,null,null,null,null,null,null,null,null,null,null,null,null,null,null,null,null,null,null,null,null,null,null,null,null,null,{"$f":"IFERROR(IF(T441=5,1,IF(MATCH(T441&\"/\"&V441,読み替え表_エコドライブ!$P$33:$P$52,0),1,0)),0)","v":0},"*"]
[null,null,435,null,null,null,null,null,null,null,null,null,null,null,null,null,null,null,null,null,null,null,null,null,null,null,null,null,null,null,null,null,null,null,null,{"$f":"IFERROR(IF(T442=5,1,IF(MATCH(T442&\"/\"&V442,読み替え表_エコドライブ!$P$33:$P$52,0),1,0)),0)","v":0},"*"]
[null,null,436,null,null,null,null,null,null,null,null,null,null,null,null,null,null,null,null,null,null,null,null,null,null,null,null,null,null,null,null,null,null,null,null,{"$f":"IFERROR(IF(T443=5,1,IF(MATCH(T443&\"/\"&V443,読み替え表_エコドライブ!$P$33:$P$52,0),1,0)),0)","v":0},"*"]
[null,null,437,null,null,null,null,null,null,null,null,null,null,null,null,null,null,null,null,null,null,null,null,null,null,null,null,null,null,null,null,null,null,null,null,{"$f":"IFERROR(IF(T444=5,1,IF(MATCH(T444&\"/\"&V444,読み替え表_エコドライブ!$P$33:$P$52,0),1,0)),0)","v":0},"*"]
[null,null,438,null,null,null,null,null,null,null,null,null,null,null,null,null,null,null,null,null,null,null,null,null,null,null,null,null,null,null,null,null,null,null,null,{"$f":"IFERROR(IF(T445=5,1,IF(MATCH(T445&\"/\"&V445,読み替え表_エコドライブ!$P$33:$P$52,0),1,0)),0)","v":0},"*"]
[null,null,439,null,null,null,null,null,null,null,null,null,null,null,null,null,null,null,null,null,null,null,null,null,null,null,null,null,null,null,null,null,null,null,null,{"$f":"IFERROR(IF(T446=5,1,IF(MATCH(T446&\"/\"&V446,読み替え表_エコドライブ!$P$33:$P$52,0),1,0)),0)","v":0},"*"]
[null,null,440,null,null,null,null,null,null,null,null,null,null,null,null,null,null,null,null,null,null,null,null,null,null,null,null,null,null,null,null,null,null,null,null,{"$f":"IFERROR(IF(T447=5,1,IF(MATCH(T447&\"/\"&V447,読み替え表_エコドライブ!$P$33:$P$52,0),1,0)),0)","v":0},"*"]
[null,null,441,null,null,null,null,null,null,null,null,null,null,null,null,null,null,null,null,null,null,null,null,null,null,null,null,null,null,null,null,null,null,null,null,{"$f":"IFERROR(IF(T448=5,1,IF(MATCH(T448&\"/\"&V448,読み替え表_エコドライブ!$P$33:$P$52,0),1,0)),0)","v":0},"*"]
[null,null,442,null,null,null,null,null,null,null,null,null,null,null,null,null,null,null,null,null,null,null,null,null,null,null,null,null,null,null,null,null,null,null,null,{"$f":"IFERROR(IF(T449=5,1,IF(MATCH(T449&\"/\"&V449,読み替え表_エコドライブ!$P$33:$P$52,0),1,0)),0)","v":0},"*"]
[null,null,443,null,null,null,null,null,null,null,null,null,null,null,null,null,null,null,null,null,null,null,null,null,null,null,null,null,null,null,null,null,null,null,null,{"$f":"IFERROR(IF(T450=5,1,IF(MATCH(T450&\"/\"&V450,読み替え表_エコドライブ!$P$33:$P$52,0),1,0)),0)","v":0},"*"]
[null,null,444,null,null,null,null,null,null,null,null,null,null,null,null,null,null,null,null,null,null,null,null,null,null,null,null,null,null,null,null,null,null,null,null,{"$f":"IFERROR(IF(T451=5,1,IF(MATCH(T451&\"/\"&V451,読み替え表_エコドライブ!$P$33:$P$52,0),1,0)),0)","v":0},"*"]
[null,null,445,null,null,null,null,null,null,null,null,null,null,null,null,null,null,null,null,null,null,null,null,null,null,null,null,null,null,null,null,null,null,null,null,{"$f":"IFERROR(IF(T452=5,1,IF(MATCH(T452&\"/\"&V452,読み替え表_エコドライブ!$P$33:$P$52,0),1,0)),0)","v":0},"*"]
[null,null,446,null,null,null,null,null,null,null,null,null,null,null,null,null,null,null,null,null,null,null,null,null,null,null,null,null,null,null,null,null,null,null,null,{"$f":"IFERROR(IF(T453=5,1,IF(MATCH(T453&\"/\"&V453,読み替え表_エコドライブ!$P$33:$P$52,0),1,0)),0)","v":0},"*"]
[null,null,447,null,null,null,null,null,null,null,null,null,null,null,null,null,null,null,null,null,null,null,null,null,null,null,null,null,null,null,null,null,null,null,null,{"$f":"IFERROR(IF(T454=5,1,IF(MATCH(T454&\"/\"&V454,読み替え表_エコドライブ!$P$33:$P$52,0),1,0)),0)","v":0},"*"]
[null,null,448,null,null,null,null,null,null,null,null,null,null,null,null,null,null,null,null,null,null,null,null,null,null,null,null,null,null,null,null,null,null,null,null,{"$f":"IFERROR(IF(T455=5,1,IF(MATCH(T455&\"/\"&V455,読み替え表_エコドライブ!$P$33:$P$52,0),1,0)),0)","v":0},"*"]
[null,null,449,null,null,null,null,null,null,null,null,null,null,null,null,null,null,null,null,null,null,null,null,null,null,null,null,null,null,null,null,null,null,null,null,{"$f":"IFERROR(IF(T456=5,1,IF(MATCH(T456&\"/\"&V456,読み替え表_エコドライブ!$P$33:$P$52,0),1,0)),0)","v":0},"*"]
[null,null,{"$f":"ROW()-7","v":450},null,null,null,null,null,null,null,null,null,null,null,null,null,null,null,null,null,null,null,null,null,null,null,null,null,null,null,null,null,null,null,null,{"$f":"IFERROR(IF(T457=5,1,IF(MATCH(T457&\"/\"&V457,読み替え表_エコドライブ!$P$33:$P$52,0),1,0)),0)","v":0},"*"]
[null,null,451,null,null,null,null,null,null,null,null,null,null,null,null,null,null,null,null,null,null,null,null,null,null,null,null,null,null,null,null,null,null,null,null,{"$f":"IFERROR(IF(T458=5,1,IF(MATCH(T458&\"/\"&V458,読み替え表_エコドライブ!$P$33:$P$52,0),1,0)),0)","v":0},"*"]
[null,null,452,null,null,null,null,null,null,null,null,null,null,null,null,null,null,null,null,null,null,null,null,null,null,null,null,null,null,null,null,null,null,null,null,{"$f":"IFERROR(IF(T459=5,1,IF(MATCH(T459&\"/\"&V459,読み替え表_エコドライブ!$P$33:$P$52,0),1,0)),0)","v":0},"*"]
[null,null,453,null,null,null,null,null,null,null,null,null,null,null,null,null,null,null,null,null,null,null,null,null,null,null,null,null,null,null,null,null,null,null,null,{"$f":"IFERROR(IF(T460=5,1,IF(MATCH(T460&\"/\"&V460,読み替え表_エコドライブ!$P$33:$P$52,0),1,0)),0)","v":0},"*"]
[null,null,454,null,null,null,null,null,null,null,null,null,null,null,null,null,null,null,null,null,null,null,null,null,null,null,null,null,null,null,null,null,null,null,null,{"$f":"IFERROR(IF(T461=5,1,IF(MATCH(T461&\"/\"&V461,読み替え表_エコドライブ!$P$33:$P$52,0),1,0)),0)","v":0},"*"]
[null,null,455,null,null,null,null,null,null,null,null,null,null,null,null,null,null,null,null,null,null,null,null,null,null,null,null,null,null,null,null,null,null,null,null,{"$f":"IFERROR(IF(T462=5,1,IF(MATCH(T462&\"/\"&V462,読み替え表_エコドライブ!$P$33:$P$52,0),1,0)),0)","v":0},"*"]
[null,null,456,null,null,null,null,null,null,null,null,null,null,null,null,null,null,null,null,null,null,null,null,null,null,null,null,null,null,null,null,null,null,null,null,{"$f":"IFERROR(IF(T463=5,1,IF(MATCH(T463&\"/\"&V463,読み替え表_エコドライブ!$P$33:$P$52,0),1,0)),0)","v":0},"*"]
[null,null,457,null,null,null,null,null,null,null,null,null,null,null,null,null,null,null,null,null,null,null,null,null,null,null,null,null,null,null,null,null,null,null,null,{"$f":"IFERROR(IF(T464=5,1,IF(MATCH(T464&\"/\"&V464,読み替え表_エコドライブ!$P$33:$P$52,0),1,0)),0)","v":0},"*"]
[null,null,458,null,null,null,null,null,null,null,null,null,null,null,null,null,null,null,null,null,null,null,null,null,null,null,null,null,null,null,null,null,null,null,null,{"$f":"IFERROR(IF(T465=5,1,IF(MATCH(T465&\"/\"&V465,読み替え表_エコドライブ!$P$33:$P$52,0),1,0)),0)","v":0},"*"]
[null,null,459,null,null,null,null,null,null,null,null,null,null,null,null,null,null,null,null,null,null,null,null,null,null,null,null,null,null,null,null,null,null,null,null,{"$f":"IFERROR(IF(T466=5,1,IF(MATCH(T466&\"/\"&V466,読み替え表_エコドライブ!$P$33:$P$52,0),1,0)),0)","v":0},"*"]
[null,null,460,null,null,null,null,null,null,null,null,null,null,null,null,null,null,null,null,null,null,null,null,null,null,null,null,null,null,null,null,null,null,null,null,{"$f":"IFERROR(IF(T467=5,1,IF(MATCH(T467&\"/\"&V467,読み替え表_エコドライブ!$P$33:$P$52,0),1,0)),0)","v":0},"*"]
[null,null,461,null,null,null,null,null,null,null,null,null,null,null,null,null,null,null,null,null,null,null,null,null,null,null,null,null,null,null,null,null,null,null,null,{"$f":"IFERROR(IF(T468=5,1,IF(MATCH(T468&\"/\"&V468,読み替え表_エコドライブ!$P$33:$P$52,0),1,0)),0)","v":0},"*"]
[null,null,462,null,null,null,null,null,null,null,null,null,null,null,null,null,null,null,null,null,null,null,null,null,null,null,null,null,null,null,null,null,null,null,null,{"$f":"IFERROR(IF(T469=5,1,IF(MATCH(T469&\"/\"&V469,読み替え表_エコドライブ!$P$33:$P$52,0),1,0)),0)","v":0},"*"]
[null,null,463,null,null,null,null,null,null,null,null,null,null,null,null,null,null,null,null,null,null,null,null,null,null,null,null,null,null,null,null,null,null,null,null,{"$f":"IFERROR(IF(T470=5,1,IF(MATCH(T470&\"/\"&V470,読み替え表_エコドライブ!$P$33:$P$52,0),1,0)),0)","v":0},"*"]
[null,null,464,null,null,null,null,null,null,null,null,null,null,null,null,null,null,null,null,null,null,null,null,null,null,null,null,null,null,null,null,null,null,null,null,{"$f":"IFERROR(IF(T471=5,1,IF(MATCH(T471&\"/\"&V471,読み替え表_エコドライブ!$P$33:$P$52,0),1,0)),0)","v":0},"*"]
[null,null,465,null,null,null,null,null,null,null,null,null,null,null,null,null,null,null,null,null,null,null,null,null,null,null,null,null,null,null,null,null,null,null,null,{"$f":"IFERROR(IF(T472=5,1,IF(MATCH(T472&\"/\"&V472,読み替え表_エコドライブ!$P$33:$P$52,0),1,0)),0)","v":0},"*"]
[null,null,466,null,null,null,null,null,null,null,null,null,null,null,null,null,null,null,null,null,null,null,null,null,null,null,null,null,null,null,null,null,null,null,null,{"$f":"IFERROR(IF(T473=5,1,IF(MATCH(T473&\"/\"&V473,読み替え表_エコドライブ!$P$33:$P$52,0),1,0)),0)","v":0},"*"]
[null,null,467,null,null,null,null,null,null,null,null,null,null,null,null,null,null,null,null,null,null,null,null,null,null,null,null,null,null,null,null,null,null,null,null,{"$f":"IFERROR(IF(T474=5,1,IF(MATCH(T474&\"/\"&V474,読み替え表_エコドライブ!$P$33:$P$52,0),1,0)),0)","v":0},"*"]
[null,null,468,null,null,null,null,null,null,null,null,null,null,null,null,null,null,null,null,null,null,null,null,null,null,null,null,null,null,null,null,null,null,null,null,{"$f":"IFERROR(IF(T475=5,1,IF(MATCH(T475&\"/\"&V475,読み替え表_エコドライブ!$P$33:$P$52,0),1,0)),0)","v":0},"*"]
[null,null,469,null,null,null,null,null,null,null,null,null,null,null,null,null,null,null,null,null,null,null,null,null,null,null,null,null,null,null,null,null,null,null,null,{"$f":"IFERROR(IF(T476=5,1,IF(MATCH(T476&\"/\"&V476,読み替え表_エコドライブ!$P$33:$P$52,0),1,0)),0)","v":0},"*"]
[null,null,470,null,null,null,null,null,null,null,null,null,null,null,null,null,null,null,null,null,null,null,null,null,null,null,null,null,null,null,null,null,null,null,null,{"$f":"IFERROR(IF(T477=5,1,IF(MATCH(T477&\"/\"&V477,読み替え表_エコドライブ!$P$33:$P$52,0),1,0)),0)","v":0},"*"]
[null,null,471,null,null,null,null,null,null,null,null,null,null,null,null,null,null,null,null,null,null,null,null,null,null,null,null,null,null,null,null,null,null,null,null,{"$f":"IFERROR(IF(T478=5,1,IF(MATCH(T478&\"/\"&V478,読み替え表_エコドライブ!$P$33:$P$52,0),1,0)),0)","v":0},"*"]
[null,null,472,null,null,null,null,null,null,null,null,null,null,null,null,null,null,null,null,null,null,null,null,null,null,null,null,null,null,null,null,null,null,null,null,{"$f":"IFERROR(IF(T479=5,1,IF(MATCH(T479&\"/\"&V479,読み替え表_エコドライブ!$P$33:$P$52,0),1,0)),0)","v":0},"*"]
[null,null,473,null,null,null,null,null,null,null,null,null,null,null,null,null,null,null,null,null,null,null,null,null,null,null,null,null,null,null,null,null,null,null,null,{"$f":"IFERROR(IF(T480=5,1,IF(MATCH(T480&\"/\"&V480,読み替え表_エコドライブ!$P$33:$P$52,0),1,0)),0)","v":0},"*"]
[null,null,474,null,null,null,null,null,null,null,null,null,null,null,null,null,null,null,null,null,null,null,null,null,null,null,null,null,null,null,null,null,null,null,null,{"$f":"IFERROR(IF(T481=5,1,IF(MATCH(T481&\"/\"&V481,読み替え表_エコドライブ!$P$33:$P$52,0),1,0)),0)","v":0},"*"]
[null,null,475,null,null,null,null,null,null,null,null,null,null,null,null,null,null,null,null,null,null,null,null,null,null,null,null,null,null,null,null,null,null,null,null,{"$f":"IFERROR(IF(T482=5,1,IF(MATCH(T482&\"/\"&V482,読み替え表_エコドライブ!$P$33:$P$52,0),1,0)),0)","v":0},"*"]
[null,null,476,null,null,null,null,null,null,null,null,null,null,null,null,null,null,null,null,null,null,null,null,null,null,null,null,null,null,null,null,null,null,null,null,{"$f":"IFERROR(IF(T483=5,1,IF(MATCH(T483&\"/\"&V483,読み替え表_エコドライブ!$P$33:$P$52,0),1,0)),0)","v":0},"*"]
[null,null,477,null,null,null,null,null,null,null,null,null,null,null,null,null,null,null,null,null,null,null,null,null,null,null,null,null,null,null,null,null,null,null,null,{"$f":"IFERROR(IF(T484=5,1,IF(MATCH(T484&\"/\"&V484,読み替え表_エコドライブ!$P$33:$P$52,0),1,0)),0)","v":0},"*"]
[null,null,478,null,null,null,null,null,null,null,null,null,null,null,null,null,null,null,null,null,null,null,null,null,null,null,null,null,null,null,null,null,null,null,null,{"$f":"IFERROR(IF(T485=5,1,IF(MATCH(T485&\"/\"&V485,読み替え表_エコドライブ!$P$33:$P$52,0),1,0)),0)","v":0},"*"]
[null,null,479,null,null,null,null,null,null,null,null,null,null,null,null,null,null,null,null,null,null,null,null,null,null,null,null,null,null,null,null,null,null,null,null,{"$f":"IFERROR(IF(T486=5,1,IF(MATCH(T486&\"/\"&V486,読み替え表_エコドライブ!$P$33:$P$52,0),1,0)),0)","v":0},"*"]
[null,null,480,null,null,null,null,null,null,null,null,null,null,null,null,null,null,null,null,null,null,null,null,null,null,null,null,null,null,null,null,null,null,null,null,{"$f":"IFERROR(IF(T487=5,1,IF(MATCH(T487&\"/\"&V487,読み替え表_エコドライブ!$P$33:$P$52,0),1,0)),0)","v":0},"*"]
[null,null,481,null,null,null,null,null,null,null,null,null,null,null,null,null,null,null,null,null,null,null,null,null,null,null,null,null,null,null,null,null,null,null,null,{"$f":"IFERROR(IF(T488=5,1,IF(MATCH(T488&\"/\"&V488,読み替え表_エコドライブ!$P$33:$P$52,0),1,0)),0)","v":0},"*"]
[null,null,482,null,null,null,null,null,null,null,null,null,null,null,null,null,null,null,null,null,null,null,null,null,null,null,null,null,null,null,null,null,null,null,null,{"$f":"IFERROR(IF(T489=5,1,IF(MATCH(T489&\"/\"&V489,読み替え表_エコドライブ!$P$33:$P$52,0),1,0)),0)","v":0},"*"]
[null,null,483,null,null,null,null,null,null,null,null,null,null,null,null,null,null,null,null,null,null,null,null,null,null,null,null,null,null,null,null,null,null,null,null,{"$f":"IFERROR(IF(T490=5,1,IF(MATCH(T490&\"/\"&V490,読み替え表_エコドライブ!$P$33:$P$52,0),1,0)),0)","v":0},"*"]
[null,null,484,null,null,null,null,null,null,null,null,null,null,null,null,null,null,null,null,null,null,null,null,null,null,null,null,null,null,null,null,null,null,null,null,{"$f":"IFERROR(IF(T491=5,1,IF(MATCH(T491&\"/\"&V491,読み替え表_エコドライブ!$P$33:$P$52,0),1,0)),0)","v":0},"*"]
[null,null,485,null,null,null,null,null,null,null,null,null,null,null,null,null,null,null,null,null,null,null,null,null,null,null,null,null,null,null,null,null,null,null,null,{"$f":"IFERROR(IF(T492=5,1,IF(MATCH(T492&\"/\"&V492,読み替え表_エコドライブ!$P$33:$P$52,0),1,0)),0)","v":0},"*"]
[null,null,486,null,null,null,null,null,null,null,null,null,null,null,null,null,null,null,null,null,null,null,null,null,null,null,null,null,null,null,null,null,null,null,null,{"$f":"IFERROR(IF(T493=5,1,IF(MATCH(T493&\"/\"&V493,読み替え表_エコドライブ!$P$33:$P$52,0),1,0)),0)","v":0},"*"]
[null,null,487,null,null,null,null,null,null,null,null,null,null,null,null,null,null,null,null,null,null,null,null,null,null,null,null,null,null,null,null,null,null,null,null,{"$f":"IFERROR(IF(T494=5,1,IF(MATCH(T494&\"/\"&V494,読み替え表_エコドライブ!$P$33:$P$52,0),1,0)),0)","v":0},"*"]
[null,null,488,null,null,null,null,null,null,null,null,null,null,null,null,null,null,null,null,null,null,null,null,null,null,null,null,null,null,null,null,null,null,null,null,{"$f":"IFERROR(IF(T495=5,1,IF(MATCH(T495&\"/\"&V495,読み替え表_エコドライブ!$P$33:$P$52,0),1,0)),0)","v":0},"*"]
[null,null,489,null,null,null,null,null,null,null,null,null,null,null,null,null,null,null,null,null,null,null,null,null,null,null,null,null,null,null,null,null,null,null,null,{"$f":"IFERROR(IF(T496=5,1,IF(MATCH(T496&\"/\"&V496,読み替え表_エコドライブ!$P$33:$P$52,0),1,0)),0)","v":0},"*"]
[null,null,490,null,null,null,null,null,null,null,null,null,null,null,null,null,null,null,null,null,null,null,null,null,null,null,null,null,null,null,null,null,null,null,null,{"$f":"IFERROR(IF(T497=5,1,IF(MATCH(T497&\"/\"&V497,読み替え表_エコドライブ!$P$33:$P$52,0),1,0)),0)","v":0},"*"]
[null,null,491,null,null,null,null,null,null,null,null,null,null,null,null,null,null,null,null,null,null,null,null,null,null,null,null,null,null,null,null,null,null,null,null,{"$f":"IFERROR(IF(T498=5,1,IF(MATCH(T498&\"/\"&V498,読み替え表_エコドライブ!$P$33:$P$52,0),1,0)),0)","v":0},"*"]
[null,null,492,null,null,null,null,null,null,null,null,null,null,null,null,null,null,null,null,null,null,null,null,null,null,null,null,null,null,null,null,null,null,null,null,{"$f":"IFERROR(IF(T499=5,1,IF(MATCH(T499&\"/\"&V499,読み替え表_エコドライブ!$P$33:$P$52,0),1,0)),0)","v":0},"*"]
[null,null,493,null,null,null,null,null,null,null,null,null,null,null,null,null,null,null,null,null,null,null,null,null,null,null,null,null,null,null,null,null,null,null,null,{"$f":"IFERROR(IF(T500=5,1,IF(MATCH(T500&\"/\"&V500,読み替え表_エコドライブ!$P$33:$P$52,0),1,0)),0)","v":0},"*"]
[null,null,494,null,null,null,null,null,null,null,null,null,null,null,null,null,null,null,null,null,null,null,null,null,null,null,null,null,null,null,null,null,null,null,null,{"$f":"IFERROR(IF(T501=5,1,IF(MATCH(T501&\"/\"&V501,読み替え表_エコドライブ!$P$33:$P$52,0),1,0)),0)","v":0},"*"]
[null,null,495,null,null,null,null,null,null,null,null,null,null,null,null,null,null,null,null,null,null,null,null,null,null,null,null,null,null,null,null,null,null,null,null,{"$f":"IFERROR(IF(T502=5,1,IF(MATCH(T502&\"/\"&V502,読み替え表_エコドライブ!$P$33:$P$52,0),1,0)),0)","v":0},"*"]
[null,null,496,null,null,null,null,null,null,null,null,null,null,null,null,null,null,null,null,null,null,null,null,null,null,null,null,null,null,null,null,null,null,null,null,{"$f":"IFERROR(IF(T503=5,1,IF(MATCH(T503&\"/\"&V503,読み替え表_エコドライブ!$P$33:$P$52,0),1,0)),0)","v":0},"*"]
[null,null,497,null,null,null,null,null,null,null,null,null,null,null,null,null,null,null,null,null,null,null,null,null,null,null,null,null,null,null,null,null,null,null,null,{"$f":"IFERROR(IF(T504=5,1,IF(MATCH(T504&\"/\"&V504,読み替え表_エコドライブ!$P$33:$P$52,0),1,0)),0)","v":0},"*"]
[null,null,498,null,null,null,null,null,null,null,null,null,null,null,null,null,null,null,null,null,null,null,null,null,null,null,null,null,null,null,null,null,null,null,null,{"$f":"IFERROR(IF(T505=5,1,IF(MATCH(T505&\"/\"&V505,読み替え表_エコドライブ!$P$33:$P$52,0),1,0)),0)","v":0},"*"]
[null,null,499,null,null,null,null,null,null,null,null,null,null,null,null,null,null,null,null,null,null,null,null,null,null,null,null,null,null,null,null,null,null,null,null,{"$f":"IFERROR(IF(T506=5,1,IF(MATCH(T506&\"/\"&V506,読み替え表_エコドライブ!$P$33:$P$52,0),1,0)),0)","v":0},"*"]
[null,null,500,null,null,null,null,null,null,null,null,null,null,null,null,null,null,null,null,null,null,null,null,null,null,null,null,null,null,null,null,null,null,null,null,{"$f":"IFERROR(IF(T507=5,1,IF(MATCH(T507&\"/\"&V507,読み替え表_エコドライブ!$P$33:$P$52,0),1,0)),0)","v":0},"*"]
[null,null,501,null,null,null,null,null,null,null,null,null,null,null,null,null,null,null,null,null,null,null,null,null,null,null,null,null,null,null,null,null,null,null,null,{"$f":"IFERROR(IF(T508=5,1,IF(MATCH(T508&\"/\"&V508,読み替え表_エコドライブ!$P$33:$P$52,0),1,0)),0)","v":0},"*"]
[null,null,502,null,null,null,null,null,null,null,null,null,null,null,null,null,null,null,null,null,null,null,null,null,null,null,null,null,null,null,null,null,null,null,null,{"$f":"IFERROR(IF(T509=5,1,IF(MATCH(T509&\"/\"&V509,読み替え表_エコドライブ!$P$33:$P$52,0),1,0)),0)","v":0},"*"]
[null,null,503,null,null,null,null,null,null,null,null,null,null,null,null,null,null,null,null,null,null,null,null,null,null,null,null,null,null,null,null,null,null,null,null,{"$f":"IFERROR(IF(T510=5,1,IF(MATCH(T510&\"/\"&V510,読み替え表_エコドライブ!$P$33:$P$52,0),1,0)),0)","v":0},"*"]
[null,null,504,null,null,null,null,null,null,null,null,null,null,null,null,null,null,null,null,null,null,null,null,null,null,null,null,null,null,null,null,null,null,null,null,{"$f":"IFERROR(IF(T511=5,1,IF(MATCH(T511&\"/\"&V511,読み替え表_エコドライブ!$P$33:$P$52,0),1,0)),0)","v":0},"*"]
[null,null,505,null,null,null,null,null,null,null,null,null,null,null,null,null,null,null,null,null,null,null,null,null,null,null,null,null,null,null,null,null,null,null,null,{"$f":"IFERROR(IF(T512=5,1,IF(MATCH(T512&\"/\"&V512,読み替え表_エコドライブ!$P$33:$P$52,0),1,0)),0)","v":0},"*"]
[null,null,506,null,null,null,null,null,null,null,null,null,null,null,null,null,null,null,null,null,null,null,null,null,null,null,null,null,null,null,null,null,null,null,null,{"$f":"IFERROR(IF(T513=5,1,IF(MATCH(T513&\"/\"&V513,読み替え表_エコドライブ!$P$33:$P$52,0),1,0)),0)","v":0},"*"]
[null,null,507,null,null,null,null,null,null,null,null,null,null,null,null,null,null,null,null,null,null,null,null,null,null,null,null,null,null,null,null,null,null,null,null,{"$f":"IFERROR(IF(T514=5,1,IF(MATCH(T514&\"/\"&V514,読み替え表_エコドライブ!$P$33:$P$52,0),1,0)),0)","v":0},"*"]
[null,null,508,null,null,null,null,null,null,null,null,null,null,null,null,null,null,null,null,null,null,null,null,null,null,null,null,null,null,null,null,null,null,null,null,{"$f":"IFERROR(IF(T515=5,1,IF(MATCH(T515&\"/\"&V515,読み替え表_エコドライブ!$P$33:$P$52,0),1,0)),0)","v":0},"*"]
[null,null,509,null,null,null,null,null,null,null,null,null,null,null,null,null,null,null,null,null,null,null,null,null,null,null,null,null,null,null,null,null,null,null,null,{"$f":"IFERROR(IF(T516=5,1,IF(MATCH(T516&\"/\"&V516,読み替え表_エコドライブ!$P$33:$P$52,0),1,0)),0)","v":0},"*"]
[null,null,510,null,null,null,null,null,null,null,null,null,null,null,null,null,null,null,null,null,null,null,null,null,null,null,null,null,null,null,null,null,null,null,null,{"$f":"IFERROR(IF(T517=5,1,IF(MATCH(T517&\"/\"&V517,読み替え表_エコドライブ!$P$33:$P$52,0),1,0)),0)","v":0},"*"]
[null,null,511,null,null,null,null,null,null,null,null,null,null,null,null,null,null,null,null,null,null,null,null,null,null,null,null,null,null,null,null,null,null,null,null,{"$f":"IFERROR(IF(T518=5,1,IF(MATCH(T518&\"/\"&V518,読み替え表_エコドライブ!$P$33:$P$52,0),1,0)),0)","v":0},"*"]
[null,null,512,null,null,null,null,null,null,null,null,null,null,null,null,null,null,null,null,null,null,null,null,null,null,null,null,null,null,null,null,null,null,null,null,{"$f":"IFERROR(IF(T519=5,1,IF(MATCH(T519&\"/\"&V519,読み替え表_エコドライブ!$P$33:$P$52,0),1,0)),0)","v":0},"*"]
[null,null,513,null,null,null,null,null,null,null,null,null,null,null,null,null,null,null,null,null,null,null,null,null,null,null,null,null,null,null,null,null,null,null,null,{"$f":"IFERROR(IF(T520=5,1,IF(MATCH(T520&\"/\"&V520,読み替え表_エコドライブ!$P$33:$P$52,0),1,0)),0)","v":0},"*"]
[null,null,{"$f":"ROW()-7","v":514},null,null,null,null,null,null,null,null,null,null,null,null,null,null,null,null,null,null,null,null,null,null,null,null,null,null,null,null,null,null,null,null,{"$f":"IFERROR(IF(T521=5,1,IF(MATCH(T521&\"/\"&V521,読み替え表_エコドライブ!$P$33:$P$52,0),1,0)),0)","v":0},"*"]
[null,null,515,null,null,null,null,null,null,null,null,null,null,null,null,null,null,null,null,null,null,null,null,null,null,null,null,null,null,null,null,null,null,null,null,{"$f":"IFERROR(IF(T522=5,1,IF(MATCH(T522&\"/\"&V522,読み替え表_エコドライブ!$P$33:$P$52,0),1,0)),0)","v":0},"*"]
[null,null,516,null,null,null,null,null,null,null,null,null,null,null,null,null,null,null,null,null,null,null,null,null,null,null,null,null,null,null,null,null,null,null,null,{"$f":"IFERROR(IF(T523=5,1,IF(MATCH(T523&\"/\"&V523,読み替え表_エコドライブ!$P$33:$P$52,0),1,0)),0)","v":0},"*"]
[null,null,517,null,null,null,null,null,null,null,null,null,null,null,null,null,null,null,null,null,null,null,null,null,null,null,null,null,null,null,null,null,null,null,null,{"$f":"IFERROR(IF(T524=5,1,IF(MATCH(T524&\"/\"&V524,読み替え表_エコドライブ!$P$33:$P$52,0),1,0)),0)","v":0},"*"]
[null,null,518,null,null,null,null,null,null,null,null,null,null,null,null,null,null,null,null,null,null,null,null,null,null,null,null,null,null,null,null,null,null,null,null,{"$f":"IFERROR(IF(T525=5,1,IF(MATCH(T525&\"/\"&V525,読み替え表_エコドライブ!$P$33:$P$52,0),1,0)),0)","v":0},"*"]
[null,null,519,null,null,null,null,null,null,null,null,null,null,null,null,null,null,null,null,null,null,null,null,null,null,null,null,null,null,null,null,null,null,null,null,{"$f":"IFERROR(IF(T526=5,1,IF(MATCH(T526&\"/\"&V526,読み替え表_エコドライブ!$P$33:$P$52,0),1,0)),0)","v":0},"*"]
[null,null,520,null,null,null,null,null,null,null,null,null,null,null,null,null,null,null,null,null,null,null,null,null,null,null,null,null,null,null,null,null,null,null,null,{"$f":"IFERROR(IF(T527=5,1,IF(MATCH(T527&\"/\"&V527,読み替え表_エコドライブ!$P$33:$P$52,0),1,0)),0)","v":0},"*"]
[null,null,521,null,null,null,null,null,null,null,null,null,null,null,null,null,null,null,null,null,null,null,null,null,null,null,null,null,null,null,null,null,null,null,null,{"$f":"IFERROR(IF(T528=5,1,IF(MATCH(T528&\"/\"&V528,読み替え表_エコドライブ!$P$33:$P$52,0),1,0)),0)","v":0},"*"]
[null,null,522,null,null,null,null,null,null,null,null,null,null,null,null,null,null,null,null,null,null,null,null,null,null,null,null,null,null,null,null,null,null,null,null,{"$f":"IFERROR(IF(T529=5,1,IF(MATCH(T529&\"/\"&V529,読み替え表_エコドライブ!$P$33:$P$52,0),1,0)),0)","v":0},"*"]
[null,null,523,null,null,null,null,null,null,null,null,null,null,null,null,null,null,null,null,null,null,null,null,null,null,null,null,null,null,null,null,null,null,null,null,{"$f":"IFERROR(IF(T530=5,1,IF(MATCH(T530&\"/\"&V530,読み替え表_エコドライブ!$P$33:$P$52,0),1,0)),0)","v":0},"*"]
[null,null,524,null,null,null,null,null,null,null,null,null,null,null,null,null,null,null,null,null,null,null,null,null,null,null,null,null,null,null,null,null,null,null,null,{"$f":"IFERROR(IF(T531=5,1,IF(MATCH(T531&\"/\"&V531,読み替え表_エコドライブ!$P$33:$P$52,0),1,0)),0)","v":0},"*"]
[null,null,525,null,null,null,null,null,null,null,null,null,null,null,null,null,null,null,null,null,null,null,null,null,null,null,null,null,null,null,null,null,null,null,null,{"$f":"IFERROR(IF(T532=5,1,IF(MATCH(T532&\"/\"&V532,読み替え表_エコドライブ!$P$33:$P$52,0),1,0)),0)","v":0},"*"]
[null,null,526,null,null,null,null,null,null,null,null,null,null,null,null,null,null,null,null,null,null,null,null,null,null,null,null,null,null,null,null,null,null,null,null,{"$f":"IFERROR(IF(T533=5,1,IF(MATCH(T533&\"/\"&V533,読み替え表_エコドライブ!$P$33:$P$52,0),1,0)),0)","v":0},"*"]
[null,null,527,null,null,null,null,null,null,null,null,null,null,null,null,null,null,null,null,null,null,null,null,null,null,null,null,null,null,null,null,null,null,null,null,{"$f":"IFERROR(IF(T534=5,1,IF(MATCH(T534&\"/\"&V534,読み替え表_エコドライブ!$P$33:$P$52,0),1,0)),0)","v":0},"*"]
[null,null,528,null,null,null,null,null,null,null,null,null,null,null,null,null,null,null,null,null,null,null,null,null,null,null,null,null,null,null,null,null,null,null,null,{"$f":"IFERROR(IF(T535=5,1,IF(MATCH(T535&\"/\"&V535,読み替え表_エコドライブ!$P$33:$P$52,0),1,0)),0)","v":0},"*"]
[null,null,529,null,null,null,null,null,null,null,null,null,null,null,null,null,null,null,null,null,null,null,null,null,null,null,null,null,null,null,null,null,null,null,null,{"$f":"IFERROR(IF(T536=5,1,IF(MATCH(T536&\"/\"&V536,読み替え表_エコドライブ!$P$33:$P$52,0),1,0)),0)","v":0},"*"]
[null,null,530,null,null,null,null,null,null,null,null,null,null,null,null,null,null,null,null,null,null,null,null,null,null,null,null,null,null,null,null,null,null,null,null,{"$f":"IFERROR(IF(T537=5,1,IF(MATCH(T537&\"/\"&V537,読み替え表_エコドライブ!$P$33:$P$52,0),1,0)),0)","v":0},"*"]
[null,null,531,null,null,null,null,null,null,null,null,null,null,null,null,null,null,null,null,null,null,null,null,null,null,null,null,null,null,null,null,null,null,null,null,{"$f":"IFERROR(IF(T538=5,1,IF(MATCH(T538&\"/\"&V538,読み替え表_エコドライブ!$P$33:$P$52,0),1,0)),0)","v":0},"*"]
[null,null,532,null,null,null,null,null,null,null,null,null,null,null,null,null,null,null,null,null,null,null,null,null,null,null,null,null,null,null,null,null,null,null,null,{"$f":"IFERROR(IF(T539=5,1,IF(MATCH(T539&\"/\"&V539,読み替え表_エコドライブ!$P$33:$P$52,0),1,0)),0)","v":0},"*"]
[null,null,533,null,null,null,null,null,null,null,null,null,null,null,null,null,null,null,null,null,null,null,null,null,null,null,null,null,null,null,null,null,null,null,null,{"$f":"IFERROR(IF(T540=5,1,IF(MATCH(T540&\"/\"&V540,読み替え表_エコドライブ!$P$33:$P$52,0),1,0)),0)","v":0},"*"]
[null,null,534,null,null,null,null,null,null,null,null,null,null,null,null,null,null,null,null,null,null,null,null,null,null,null,null,null,null,null,null,null,null,null,null,{"$f":"IFERROR(IF(T541=5,1,IF(MATCH(T541&\"/\"&V541,読み替え表_エコドライブ!$P$33:$P$52,0),1,0)),0)","v":0},"*"]
[null,null,535,null,null,null,null,null,null,null,null,null,null,null,null,null,null,null,null,null,null,null,null,null,null,null,null,null,null,null,null,null,null,null,null,{"$f":"IFERROR(IF(T542=5,1,IF(MATCH(T542&\"/\"&V542,読み替え表_エコドライブ!$P$33:$P$52,0),1,0)),0)","v":0},"*"]
[null,null,536,null,null,null,null,null,null,null,null,null,null,null,null,null,null,null,null,null,null,null,null,null,null,null,null,null,null,null,null,null,null,null,null,{"$f":"IFERROR(IF(T543=5,1,IF(MATCH(T543&\"/\"&V543,読み替え表_エコドライブ!$P$33:$P$52,0),1,0)),0)","v":0},"*"]
[null,null,537,null,null,null,null,null,null,null,null,null,null,null,null,null,null,null,null,null,null,null,null,null,null,null,null,null,null,null,null,null,null,null,null,{"$f":"IFERROR(IF(T544=5,1,IF(MATCH(T544&\"/\"&V544,読み替え表_エコドライブ!$P$33:$P$52,0),1,0)),0)","v":0},"*"]
[null,null,538,null,null,null,null,null,null,null,null,null,null,null,null,null,null,null,null,null,null,null,null,null,null,null,null,null,null,null,null,null,null,null,null,{"$f":"IFERROR(IF(T545=5,1,IF(MATCH(T545&\"/\"&V545,読み替え表_エコドライブ!$P$33:$P$52,0),1,0)),0)","v":0},"*"]
[null,null,539,null,null,null,null,null,null,null,null,null,null,null,null,null,null,null,null,null,null,null,null,null,null,null,null,null,null,null,null,null,null,null,null,{"$f":"IFERROR(IF(T546=5,1,IF(MATCH(T546&\"/\"&V546,読み替え表_エコドライブ!$P$33:$P$52,0),1,0)),0)","v":0},"*"]
[null,null,540,null,null,null,null,null,null,null,null,null,null,null,null,null,null,null,null,null,null,null,null,null,null,null,null,null,null,null,null,null,null,null,null,{"$f":"IFERROR(IF(T547=5,1,IF(MATCH(T547&\"/\"&V547,読み替え表_エコドライブ!$P$33:$P$52,0),1,0)),0)","v":0},"*"]
[null,null,541,null,null,null,null,null,null,null,null,null,null,null,null,null,null,null,null,null,null,null,null,null,null,null,null,null,null,null,null,null,null,null,null,{"$f":"IFERROR(IF(T548=5,1,IF(MATCH(T548&\"/\"&V548,読み替え表_エコドライブ!$P$33:$P$52,0),1,0)),0)","v":0},"*"]
[null,null,542,null,null,null,null,null,null,null,null,null,null,null,null,null,null,null,null,null,null,null,null,null,null,null,null,null,null,null,null,null,null,null,null,{"$f":"IFERROR(IF(T549=5,1,IF(MATCH(T549&\"/\"&V549,読み替え表_エコドライブ!$P$33:$P$52,0),1,0)),0)","v":0},"*"]
[null,null,543,null,null,null,null,null,null,null,null,null,null,null,null,null,null,null,null,null,null,null,null,null,null,null,null,null,null,null,null,null,null,null,null,{"$f":"IFERROR(IF(T550=5,1,IF(MATCH(T550&\"/\"&V550,読み替え表_エコドライブ!$P$33:$P$52,0),1,0)),0)","v":0},"*"]
[null,null,544,null,null,null,null,null,null,null,null,null,null,null,null,null,null,null,null,null,null,null,null,null,null,null,null,null,null,null,null,null,null,null,null,{"$f":"IFERROR(IF(T551=5,1,IF(MATCH(T551&\"/\"&V551,読み替え表_エコドライブ!$P$33:$P$52,0),1,0)),0)","v":0},"*"]
[null,null,545,null,null,null,null,null,null,null,null,null,null,null,null,null,null,null,null,null,null,null,null,null,null,null,null,null,null,null,null,null,null,null,null,{"$f":"IFERROR(IF(T552=5,1,IF(MATCH(T552&\"/\"&V552,読み替え表_エコドライブ!$P$33:$P$52,0),1,0)),0)","v":0},"*"]
[null,null,546,null,null,null,null,null,null,null,null,null,null,null,null,null,null,null,null,null,null,null,null,null,null,null,null,null,null,null,null,null,null,null,null,{"$f":"IFERROR(IF(T553=5,1,IF(MATCH(T553&\"/\"&V553,読み替え表_エコドライブ!$P$33:$P$52,0),1,0)),0)","v":0},"*"]
[null,null,547,null,null,null,null,null,null,null,null,null,null,null,null,null,null,null,null,null,null,null,null,null,null,null,null,null,null,null,null,null,null,null,null,{"$f":"IFERROR(IF(T554=5,1,IF(MATCH(T554&\"/\"&V554,読み替え表_エコドライブ!$P$33:$P$52,0),1,0)),0)","v":0},"*"]
[null,null,548,null,null,null,null,null,null,null,null,null,null,null,null,null,null,null,null,null,null,null,null,null,null,null,null,null,null,null,null,null,null,null,null,{"$f":"IFERROR(IF(T555=5,1,IF(MATCH(T555&\"/\"&V555,読み替え表_エコドライブ!$P$33:$P$52,0),1,0)),0)","v":0},"*"]
[null,null,549,null,null,null,null,null,null,null,null,null,null,null,null,null,null,null,null,null,null,null,null,null,null,null,null,null,null,null,null,null,null,null,null,{"$f":"IFERROR(IF(T556=5,1,IF(MATCH(T556&\"/\"&V556,読み替え表_エコドライブ!$P$33:$P$52,0),1,0)),0)","v":0},"*"]
[null,null,550,null,null,null,null,null,null,null,null,null,null,null,null,null,null,null,null,null,null,null,null,null,null,null,null,null,null,null,null,null,null,null,null,{"$f":"IFERROR(IF(T557=5,1,IF(MATCH(T557&\"/\"&V557,読み替え表_エコドライブ!$P$33:$P$52,0),1,0)),0)","v":0},"*"]
[null,null,551,null,null,null,null,null,null,null,null,null,null,null,null,null,null,null,null,null,null,null,null,null,null,null,null,null,null,null,null,null,null,null,null,{"$f":"IFERROR(IF(T558=5,1,IF(MATCH(T558&\"/\"&V558,読み替え表_エコドライブ!$P$33:$P$52,0),1,0)),0)","v":0},"*"]
[null,null,552,null,null,null,null,null,null,null,null,null,null,null,null,null,null,null,null,null,null,null,null,null,null,null,null,null,null,null,null,null,null,null,null,{"$f":"IFERROR(IF(T559=5,1,IF(MATCH(T559&\"/\"&V559,読み替え表_エコドライブ!$P$33:$P$52,0),1,0)),0)","v":0},"*"]
[null,null,553,null,null,null,null,null,null,null,null,null,null,null,null,null,null,null,null,null,null,null,null,null,null,null,null,null,null,null,null,null,null,null,null,{"$f":"IFERROR(IF(T560=5,1,IF(MATCH(T560&\"/\"&V560,読み替え表_エコドライブ!$P$33:$P$52,0),1,0)),0)","v":0},"*"]
[null,null,554,null,null,null,null,null,null,null,null,null,null,null,null,null,null,null,null,null,null,null,null,null,null,null,null,null,null,null,null,null,null,null,null,{"$f":"IFERROR(IF(T561=5,1,IF(MATCH(T561&\"/\"&V561,読み替え表_エコドライブ!$P$33:$P$52,0),1,0)),0)","v":0},"*"]
[null,null,555,null,null,null,null,null,null,null,null,null,null,null,null,null,null,null,null,null,null,null,null,null,null,null,null,null,null,null,null,null,null,null,null,{"$f":"IFERROR(IF(T562=5,1,IF(MATCH(T562&\"/\"&V562,読み替え表_エコドライブ!$P$33:$P$52,0),1,0)),0)","v":0},"*"]
[null,null,556,null,null,null,null,null,null,null,null,null,null,null,null,null,null,null,null,null,null,null,null,null,null,null,null,null,null,null,null,null,null,null,null,{"$f":"IFERROR(IF(T563=5,1,IF(MATCH(T563&\"/\"&V563,読み替え表_エコドライブ!$P$33:$P$52,0),1,0)),0)","v":0},"*"]
[null,null,557,null,null,null,null,null,null,null,null,null,null,null,null,null,null,null,null,null,null,null,null,null,null,null,null,null,null,null,null,null,null,null,null,{"$f":"IFERROR(IF(T564=5,1,IF(MATCH(T564&\"/\"&V564,読み替え表_エコドライブ!$P$33:$P$52,0),1,0)),0)","v":0},"*"]
[null,null,558,null,null,null,null,null,null,null,null,null,null,null,null,null,null,null,null,null,null,null,null,null,null,null,null,null,null,null,null,null,null,null,null,{"$f":"IFERROR(IF(T565=5,1,IF(MATCH(T565&\"/\"&V565,読み替え表_エコドライブ!$P$33:$P$52,0),1,0)),0)","v":0},"*"]
[null,null,559,null,null,null,null,null,null,null,null,null,null,null,null,null,null,null,null,null,null,null,null,null,null,null,null,null,null,null,null,null,null,null,null,{"$f":"IFERROR(IF(T566=5,1,IF(MATCH(T566&\"/\"&V566,読み替え表_エコドライブ!$P$33:$P$52,0),1,0)),0)","v":0},"*"]
[null,null,560,null,null,null,null,null,null,null,null,null,null,null,null,null,null,null,null,null,null,null,null,null,null,null,null,null,null,null,null,null,null,null,null,{"$f":"IFERROR(IF(T567=5,1,IF(MATCH(T567&\"/\"&V567,読み替え表_エコドライブ!$P$33:$P$52,0),1,0)),0)","v":0},"*"]
[null,null,561,null,null,null,null,null,null,null,null,null,null,null,null,null,null,null,null,null,null,null,null,null,null,null,null,null,null,null,null,null,null,null,null,{"$f":"IFERROR(IF(T568=5,1,IF(MATCH(T568&\"/\"&V568,読み替え表_エコドライブ!$P$33:$P$52,0),1,0)),0)","v":0},"*"]
[null,null,562,null,null,null,null,null,null,null,null,null,null,null,null,null,null,null,null,null,null,null,null,null,null,null,null,null,null,null,null,null,null,null,null,{"$f":"IFERROR(IF(T569=5,1,IF(MATCH(T569&\"/\"&V569,読み替え表_エコドライブ!$P$33:$P$52,0),1,0)),0)","v":0},"*"]
[null,null,563,null,null,null,null,null,null,null,null,null,null,null,null,null,null,null,null,null,null,null,null,null,null,null,null,null,null,null,null,null,null,null,null,{"$f":"IFERROR(IF(T570=5,1,IF(MATCH(T570&\"/\"&V570,読み替え表_エコドライブ!$P$33:$P$52,0),1,0)),0)","v":0},"*"]
[null,null,564,null,null,null,null,null,null,null,null,null,null,null,null,null,null,null,null,null,null,null,null,null,null,null,null,null,null,null,null,null,null,null,null,{"$f":"IFERROR(IF(T571=5,1,IF(MATCH(T571&\"/\"&V571,読み替え表_エコドライブ!$P$33:$P$52,0),1,0)),0)","v":0},"*"]
[null,null,565,null,null,null,null,null,null,null,null,null,null,null,null,null,null,null,null,null,null,null,null,null,null,null,null,null,null,null,null,null,null,null,null,{"$f":"IFERROR(IF(T572=5,1,IF(MATCH(T572&\"/\"&V572,読み替え表_エコドライブ!$P$33:$P$52,0),1,0)),0)","v":0},"*"]
[null,null,566,null,null,null,null,null,null,null,null,null,null,null,null,null,null,null,null,null,null,null,null,null,null,null,null,null,null,null,null,null,null,null,null,{"$f":"IFERROR(IF(T573=5,1,IF(MATCH(T573&\"/\"&V573,読み替え表_エコドライブ!$P$33:$P$52,0),1,0)),0)","v":0},"*"]
[null,null,567,null,null,null,null,null,null,null,null,null,null,null,null,null,null,null,null,null,null,null,null,null,null,null,null,null,null,null,null,null,null,null,null,{"$f":"IFERROR(IF(T574=5,1,IF(MATCH(T574&\"/\"&V574,読み替え表_エコドライブ!$P$33:$P$52,0),1,0)),0)","v":0},"*"]
[null,null,568,null,null,null,null,null,null,null,null,null,null,null,null,null,null,null,null,null,null,null,null,null,null,null,null,null,null,null,null,null,null,null,null,{"$f":"IFERROR(IF(T575=5,1,IF(MATCH(T575&\"/\"&V575,読み替え表_エコドライブ!$P$33:$P$52,0),1,0)),0)","v":0},"*"]
[null,null,569,null,null,null,null,null,null,null,null,null,null,null,null,null,null,null,null,null,null,null,null,null,null,null,null,null,null,null,null,null,null,null,null,{"$f":"IFERROR(IF(T576=5,1,IF(MATCH(T576&\"/\"&V576,読み替え表_エコドライブ!$P$33:$P$52,0),1,0)),0)","v":0},"*"]
[null,null,570,null,null,null,null,null,null,null,null,null,null,null,null,null,null,null,null,null,null,null,null,null,null,null,null,null,null,null,null,null,null,null,null,{"$f":"IFERROR(IF(T577=5,1,IF(MATCH(T577&\"/\"&V577,読み替え表_エコドライブ!$P$33:$P$52,0),1,0)),0)","v":0},"*"]
[null,null,571,null,null,null,null,null,null,null,null,null,null,null,null,null,null,null,null,null,null,null,null,null,null,null,null,null,null,null,null,null,null,null,null,{"$f":"IFERROR(IF(T578=5,1,IF(MATCH(T578&\"/\"&V578,読み替え表_エコドライブ!$P$33:$P$52,0),1,0)),0)","v":0},"*"]
[null,null,572,null,null,null,null,null,null,null,null,null,null,null,null,null,null,null,null,null,null,null,null,null,null,null,null,null,null,null,null,null,null,null,null,{"$f":"IFERROR(IF(T579=5,1,IF(MATCH(T579&\"/\"&V579,読み替え表_エコドライブ!$P$33:$P$52,0),1,0)),0)","v":0},"*"]
[null,null,573,null,null,null,null,null,null,null,null,null,null,null,null,null,null,null,null,null,null,null,null,null,null,null,null,null,null,null,null,null,null,null,null,{"$f":"IFERROR(IF(T580=5,1,IF(MATCH(T580&\"/\"&V580,読み替え表_エコドライブ!$P$33:$P$52,0),1,0)),0)","v":0},"*"]
[null,null,574,null,null,null,null,null,null,null,null,null,null,null,null,null,null,null,null,null,null,null,null,null,null,null,null,null,null,null,null,null,null,null,null,{"$f":"IFERROR(IF(T581=5,1,IF(MATCH(T581&\"/\"&V581,読み替え表_エコドライブ!$P$33:$P$52,0),1,0)),0)","v":0},"*"]
[null,null,575,null,null,null,null,null,null,null,null,null,null,null,null,null,null,null,null,null,null,null,null,null,null,null,null,null,null,null,null,null,null,null,null,{"$f":"IFERROR(IF(T582=5,1,IF(MATCH(T582&\"/\"&V582,読み替え表_エコドライブ!$P$33:$P$52,0),1,0)),0)","v":0},"*"]
[null,null,576,null,null,null,null,null,null,null,null,null,null,null,null,null,null,null,null,null,null,null,null,null,null,null,null,null,null,null,null,null,null,null,null,{"$f":"IFERROR(IF(T583=5,1,IF(MATCH(T583&\"/\"&V583,読み替え表_エコドライブ!$P$33:$P$52,0),1,0)),0)","v":0},"*"]
[null,null,577,null,null,null,null,null,null,null,null,null,null,null,null,null,null,null,null,null,null,null,null,null,null,null,null,null,null,null,null,null,null,null,null,{"$f":"IFERROR(IF(T584=5,1,IF(MATCH(T584&\"/\"&V584,読み替え表_エコドライブ!$P$33:$P$52,0),1,0)),0)","v":0},"*"]
[null,null,{"$f":"ROW()-7","v":578},null,null,null,null,null,null,null,null,null,null,null,null,null,null,null,null,null,null,null,null,null,null,null,null,null,null,null,null,null,null,null,null,{"$f":"IFERROR(IF(T585=5,1,IF(MATCH(T585&\"/\"&V585,読み替え表_エコドライブ!$P$33:$P$52,0),1,0)),0)","v":0},"*"]
[null,null,579,null,null,null,null,null,null,null,null,null,null,null,null,null,null,null,null,null,null,null,null,null,null,null,null,null,null,null,null,null,null,null,null,{"$f":"IFERROR(IF(T586=5,1,IF(MATCH(T586&\"/\"&V586,読み替え表_エコドライブ!$P$33:$P$52,0),1,0)),0)","v":0},"*"]
[null,null,580,null,null,null,null,null,null,null,null,null,null,null,null,null,null,null,null,null,null,null,null,null,null,null,null,null,null,null,null,null,null,null,null,{"$f":"IFERROR(IF(T587=5,1,IF(MATCH(T587&\"/\"&V587,読み替え表_エコドライブ!$P$33:$P$52,0),1,0)),0)","v":0},"*"]
[null,null,581,null,null,null,null,null,null,null,null,null,null,null,null,null,null,null,null,null,null,null,null,null,null,null,null,null,null,null,null,null,null,null,null,{"$f":"IFERROR(IF(T588=5,1,IF(MATCH(T588&\"/\"&V588,読み替え表_エコドライブ!$P$33:$P$52,0),1,0)),0)","v":0},"*"]
[null,null,582,null,null,null,null,null,null,null,null,null,null,null,null,null,null,null,null,null,null,null,null,null,null,null,null,null,null,null,null,null,null,null,null,{"$f":"IFERROR(IF(T589=5,1,IF(MATCH(T589&\"/\"&V589,読み替え表_エコドライブ!$P$33:$P$52,0),1,0)),0)","v":0},"*"]
[null,null,583,null,null,null,null,null,null,null,null,null,null,null,null,null,null,null,null,null,null,null,null,null,null,null,null,null,null,null,null,null,null,null,null,{"$f":"IFERROR(IF(T590=5,1,IF(MATCH(T590&\"/\"&V590,読み替え表_エコドライブ!$P$33:$P$52,0),1,0)),0)","v":0},"*"]
[null,null,584,null,null,null,null,null,null,null,null,null,null,null,null,null,null,null,null,null,null,null,null,null,null,null,null,null,null,null,null,null,null,null,null,{"$f":"IFERROR(IF(T591=5,1,IF(MATCH(T591&\"/\"&V591,読み替え表_エコドライブ!$P$33:$P$52,0),1,0)),0)","v":0},"*"]
[null,null,585,null,null,null,null,null,null,null,null,null,null,null,null,null,null,null,null,null,null,null,null,null,null,null,null,null,null,null,null,null,null,null,null,{"$f":"IFERROR(IF(T592=5,1,IF(MATCH(T592&\"/\"&V592,読み替え表_エコドライブ!$P$33:$P$52,0),1,0)),0)","v":0},"*"]
[null,null,586,null,null,null,null,null,null,null,null,null,null,null,null,null,null,null,null,null,null,null,null,null,null,null,null,null,null,null,null,null,null,null,null,{"$f":"IFERROR(IF(T593=5,1,IF(MATCH(T593&\"/\"&V593,読み替え表_エコドライブ!$P$33:$P$52,0),1,0)),0)","v":0},"*"]
[null,null,587,null,null,null,null,null,null,null,null,null,null,null,null,null,null,null,null,null,null,null,null,null,null,null,null,null,null,null,null,null,null,null,null,{"$f":"IFERROR(IF(T594=5,1,IF(MATCH(T594&\"/\"&V594,読み替え表_エコドライブ!$P$33:$P$52,0),1,0)),0)","v":0},"*"]
[null,null,588,null,null,null,null,null,null,null,null,null,null,null,null,null,null,null,null,null,null,null,null,null,null,null,null,null,null,null,null,null,null,null,null,{"$f":"IFERROR(IF(T595=5,1,IF(MATCH(T595&\"/\"&V595,読み替え表_エコドライブ!$P$33:$P$52,0),1,0)),0)","v":0},"*"]
[null,null,589,null,null,null,null,null,null,null,null,null,null,null,null,null,null,null,null,null,null,null,null,null,null,null,null,null,null,null,null,null,null,null,null,{"$f":"IFERROR(IF(T596=5,1,IF(MATCH(T596&\"/\"&V596,読み替え表_エコドライブ!$P$33:$P$52,0),1,0)),0)","v":0},"*"]
[null,null,590,null,null,null,null,null,null,null,null,null,null,null,null,null,null,null,null,null,null,null,null,null,null,null,null,null,null,null,null,null,null,null,null,{"$f":"IFERROR(IF(T597=5,1,IF(MATCH(T597&\"/\"&V597,読み替え表_エコドライブ!$P$33:$P$52,0),1,0)),0)","v":0},"*"]
[null,null,591,null,null,null,null,null,null,null,null,null,null,null,null,null,null,null,null,null,null,null,null,null,null,null,null,null,null,null,null,null,null,null,null,{"$f":"IFERROR(IF(T598=5,1,IF(MATCH(T598&\"/\"&V598,読み替え表_エコドライブ!$P$33:$P$52,0),1,0)),0)","v":0},"*"]
[null,null,592,null,null,null,null,null,null,null,null,null,null,null,null,null,null,null,null,null,null,null,null,null,null,null,null,null,null,null,null,null,null,null,null,{"$f":"IFERROR(IF(T599=5,1,IF(MATCH(T599&\"/\"&V599,読み替え表_エコドライブ!$P$33:$P$52,0),1,0)),0)","v":0},"*"]
[null,null,593,null,null,null,null,null,null,null,null,null,null,null,null,null,null,null,null,null,null,null,null,null,null,null,null,null,null,null,null,null,null,null,null,{"$f":"IFERROR(IF(T600=5,1,IF(MATCH(T600&\"/\"&V600,読み替え表_エコドライブ!$P$33:$P$52,0),1,0)),0)","v":0},"*"]
[null,null,594,null,null,null,null,null,null,null,null,null,null,null,null,null,null,null,null,null,null,null,null,null,null,null,null,null,null,null,null,null,null,null,null,{"$f":"IFERROR(IF(T601=5,1,IF(MATCH(T601&\"/\"&V601,読み替え表_エコドライブ!$P$33:$P$52,0),1,0)),0)","v":0},"*"]
[null,null,595,null,null,null,null,null,null,null,null,null,null,null,null,null,null,null,null,null,null,null,null,null,null,null,null,null,null,null,null,null,null,null,null,{"$f":"IFERROR(IF(T602=5,1,IF(MATCH(T602&\"/\"&V602,読み替え表_エコドライブ!$P$33:$P$52,0),1,0)),0)","v":0},"*"]
[null,null,596,null,null,null,null,null,null,null,null,null,null,null,null,null,null,null,null,null,null,null,null,null,null,null,null,null,null,null,null,null,null,null,null,{"$f":"IFERROR(IF(T603=5,1,IF(MATCH(T603&\"/\"&V603,読み替え表_エコドライブ!$P$33:$P$52,0),1,0)),0)","v":0},"*"]
[null,null,597,null,null,null,null,null,null,null,null,null,null,null,null,null,null,null,null,null,null,null,null,null,null,null,null,null,null,null,null,null,null,null,null,{"$f":"IFERROR(IF(T604=5,1,IF(MATCH(T604&\"/\"&V604,読み替え表_エコドライブ!$P$33:$P$52,0),1,0)),0)","v":0},"*"]
[null,null,598,null,null,null,null,null,null,null,null,null,null,null,null,null,null,null,null,null,null,null,null,null,null,null,null,null,null,null,null,null,null,null,null,{"$f":"IFERROR(IF(T605=5,1,IF(MATCH(T605&\"/\"&V605,読み替え表_エコドライブ!$P$33:$P$52,0),1,0)),0)","v":0},"*"]
[null,null,599,null,null,null,null,null,null,null,null,null,null,null,null,null,null,null,null,null,null,null,null,null,null,null,null,null,null,null,null,null,null,null,null,{"$f":"IFERROR(IF(T606=5,1,IF(MATCH(T606&\"/\"&V606,読み替え表_エコドライブ!$P$33:$P$52,0),1,0)),0)","v":0},"*"]
[null,null,600,null,null,null,null,null,null,null,null,null,null,null,null,null,null,null,null,null,null,null,null,null,null,null,null,null,null,null,null,null,null,null,null,{"$f":"IFERROR(IF(T607=5,1,IF(MATCH(T607&\"/\"&V607,読み替え表_エコドライブ!$P$33:$P$52,0),1,0)),0)","v":0},"*"]
[null,null,601,null,null,null,null,null,null,null,null,null,null,null,null,null,null,null,null,null,null,null,null,null,null,null,null,null,null,null,null,null,null,null,null,{"$f":"IFERROR(IF(T608=5,1,IF(MATCH(T608&\"/\"&V608,読み替え表_エコドライブ!$P$33:$P$52,0),1,0)),0)","v":0},"*"]
[null,null,602,null,null,null,null,null,null,null,null,null,null,null,null,null,null,null,null,null,null,null,null,null,null,null,null,null,null,null,null,null,null,null,null,{"$f":"IFERROR(IF(T609=5,1,IF(MATCH(T609&\"/\"&V609,読み替え表_エコドライブ!$P$33:$P$52,0),1,0)),0)","v":0},"*"]
[null,null,603,null,null,null,null,null,null,null,null,null,null,null,null,null,null,null,null,null,null,null,null,null,null,null,null,null,null,null,null,null,null,null,null,{"$f":"IFERROR(IF(T610=5,1,IF(MATCH(T610&\"/\"&V610,読み替え表_エコドライブ!$P$33:$P$52,0),1,0)),0)","v":0},"*"]
[null,null,604,null,null,null,null,null,null,null,null,null,null,null,null,null,null,null,null,null,null,null,null,null,null,null,null,null,null,null,null,null,null,null,null,{"$f":"IFERROR(IF(T611=5,1,IF(MATCH(T611&\"/\"&V611,読み替え表_エコドライブ!$P$33:$P$52,0),1,0)),0)","v":0},"*"]
[null,null,605,null,null,null,null,null,null,null,null,null,null,null,null,null,null,null,null,null,null,null,null,null,null,null,null,null,null,null,null,null,null,null,null,{"$f":"IFERROR(IF(T612=5,1,IF(MATCH(T612&\"/\"&V612,読み替え表_エコドライブ!$P$33:$P$52,0),1,0)),0)","v":0},"*"]
[null,null,606,null,null,null,null,null,null,null,null,null,null,null,null,null,null,null,null,null,null,null,null,null,null,null,null,null,null,null,null,null,null,null,null,{"$f":"IFERROR(IF(T613=5,1,IF(MATCH(T613&\"/\"&V613,読み替え表_エコドライブ!$P$33:$P$52,0),1,0)),0)","v":0},"*"]
[null,null,607,null,null,null,null,null,null,null,null,null,null,null,null,null,null,null,null,null,null,null,null,null,null,null,null,null,null,null,null,null,null,null,null,{"$f":"IFERROR(IF(T614=5,1,IF(MATCH(T614&\"/\"&V614,読み替え表_エコドライブ!$P$33:$P$52,0),1,0)),0)","v":0},"*"]
[null,null,608,null,null,null,null,null,null,null,null,null,null,null,null,null,null,null,null,null,null,null,null,null,null,null,null,null,null,null,null,null,null,null,null,{"$f":"IFERROR(IF(T615=5,1,IF(MATCH(T615&\"/\"&V615,読み替え表_エコドライブ!$P$33:$P$52,0),1,0)),0)","v":0},"*"]
[null,null,609,null,null,null,null,null,null,null,null,null,null,null,null,null,null,null,null,null,null,null,null,null,null,null,null,null,null,null,null,null,null,null,null,{"$f":"IFERROR(IF(T616=5,1,IF(MATCH(T616&\"/\"&V616,読み替え表_エコドライブ!$P$33:$P$52,0),1,0)),0)","v":0},"*"]
[null,null,610,null,null,null,null,null,null,null,null,null,null,null,null,null,null,null,null,null,null,null,null,null,null,null,null,null,null,null,null,null,null,null,null,{"$f":"IFERROR(IF(T617=5,1,IF(MATCH(T617&\"/\"&V617,読み替え表_エコドライブ!$P$33:$P$52,0),1,0)),0)","v":0},"*"]
[null,null,611,null,null,null,null,null,null,null,null,null,null,null,null,null,null,null,null,null,null,null,null,null,null,null,null,null,null,null,null,null,null,null,null,{"$f":"IFERROR(IF(T618=5,1,IF(MATCH(T618&\"/\"&V618,読み替え表_エコドライブ!$P$33:$P$52,0),1,0)),0)","v":0},"*"]
[null,null,612,null,null,null,null,null,null,null,null,null,null,null,null,null,null,null,null,null,null,null,null,null,null,null,null,null,null,null,null,null,null,null,null,{"$f":"IFERROR(IF(T619=5,1,IF(MATCH(T619&\"/\"&V619,読み替え表_エコドライブ!$P$33:$P$52,0),1,0)),0)","v":0},"*"]
[null,null,613,null,null,null,null,null,null,null,null,null,null,null,null,null,null,null,null,null,null,null,null,null,null,null,null,null,null,null,null,null,null,null,null,{"$f":"IFERROR(IF(T620=5,1,IF(MATCH(T620&\"/\"&V620,読み替え表_エコドライブ!$P$33:$P$52,0),1,0)),0)","v":0},"*"]
[null,null,614,null,null,null,null,null,null,null,null,null,null,null,null,null,null,null,null,null,null,null,null,null,null,null,null,null,null,null,null,null,null,null,null,{"$f":"IFERROR(IF(T621=5,1,IF(MATCH(T621&\"/\"&V621,読み替え表_エコドライブ!$P$33:$P$52,0),1,0)),0)","v":0},"*"]
[null,null,615,null,null,null,null,null,null,null,null,null,null,null,null,null,null,null,null,null,null,null,null,null,null,null,null,null,null,null,null,null,null,null,null,{"$f":"IFERROR(IF(T622=5,1,IF(MATCH(T622&\"/\"&V622,読み替え表_エコドライブ!$P$33:$P$52,0),1,0)),0)","v":0},"*"]
[null,null,616,null,null,null,null,null,null,null,null,null,null,null,null,null,null,null,null,null,null,null,null,null,null,null,null,null,null,null,null,null,null,null,null,{"$f":"IFERROR(IF(T623=5,1,IF(MATCH(T623&\"/\"&V623,読み替え表_エコドライブ!$P$33:$P$52,0),1,0)),0)","v":0},"*"]
[null,null,617,null,null,null,null,null,null,null,null,null,null,null,null,null,null,null,null,null,null,null,null,null,null,null,null,null,null,null,null,null,null,null,null,{"$f":"IFERROR(IF(T624=5,1,IF(MATCH(T624&\"/\"&V624,読み替え表_エコドライブ!$P$33:$P$52,0),1,0)),0)","v":0},"*"]
[null,null,618,null,null,null,null,null,null,null,null,null,null,null,null,null,null,null,null,null,null,null,null,null,null,null,null,null,null,null,null,null,null,null,null,{"$f":"IFERROR(IF(T625=5,1,IF(MATCH(T625&\"/\"&V625,読み替え表_エコドライブ!$P$33:$P$52,0),1,0)),0)","v":0},"*"]
[null,null,619,null,null,null,null,null,null,null,null,null,null,null,null,null,null,null,null,null,null,null,null,null,null,null,null,null,null,null,null,null,null,null,null,{"$f":"IFERROR(IF(T626=5,1,IF(MATCH(T626&\"/\"&V626,読み替え表_エコドライブ!$P$33:$P$52,0),1,0)),0)","v":0},"*"]
[null,null,620,null,null,null,null,null,null,null,null,null,null,null,null,null,null,null,null,null,null,null,null,null,null,null,null,null,null,null,null,null,null,null,null,{"$f":"IFERROR(IF(T627=5,1,IF(MATCH(T627&\"/\"&V627,読み替え表_エコドライブ!$P$33:$P$52,0),1,0)),0)","v":0},"*"]
[null,null,621,null,null,null,null,null,null,null,null,null,null,null,null,null,null,null,null,null,null,null,null,null,null,null,null,null,null,null,null,null,null,null,null,{"$f":"IFERROR(IF(T628=5,1,IF(MATCH(T628&\"/\"&V628,読み替え表_エコドライブ!$P$33:$P$52,0),1,0)),0)","v":0},"*"]
[null,null,622,null,null,null,null,null,null,null,null,null,null,null,null,null,null,null,null,null,null,null,null,null,null,null,null,null,null,null,null,null,null,null,null,{"$f":"IFERROR(IF(T629=5,1,IF(MATCH(T629&\"/\"&V629,読み替え表_エコドライブ!$P$33:$P$52,0),1,0)),0)","v":0},"*"]
[null,null,623,null,null,null,null,null,null,null,null,null,null,null,null,null,null,null,null,null,null,null,null,null,null,null,null,null,null,null,null,null,null,null,null,{"$f":"IFERROR(IF(T630=5,1,IF(MATCH(T630&\"/\"&V630,読み替え表_エコドライブ!$P$33:$P$52,0),1,0)),0)","v":0},"*"]
[null,null,624,null,null,null,null,null,null,null,null,null,null,null,null,null,null,null,null,null,null,null,null,null,null,null,null,null,null,null,null,null,null,null,null,{"$f":"IFERROR(IF(T631=5,1,IF(MATCH(T631&\"/\"&V631,読み替え表_エコドライブ!$P$33:$P$52,0),1,0)),0)","v":0},"*"]
[null,null,625,null,null,null,null,null,null,null,null,null,null,null,null,null,null,null,null,null,null,null,null,null,null,null,null,null,null,null,null,null,null,null,null,{"$f":"IFERROR(IF(T632=5,1,IF(MATCH(T632&\"/\"&V632,読み替え表_エコドライブ!$P$33:$P$52,0),1,0)),0)","v":0},"*"]
[null,null,626,null,null,null,null,null,null,null,null,null,null,null,null,null,null,null,null,null,null,null,null,null,null,null,null,null,null,null,null,null,null,null,null,{"$f":"IFERROR(IF(T633=5,1,IF(MATCH(T633&\"/\"&V633,読み替え表_エコドライブ!$P$33:$P$52,0),1,0)),0)","v":0},"*"]
[null,null,627,null,null,null,null,null,null,null,null,null,null,null,null,null,null,null,null,null,null,null,null,null,null,null,null,null,null,null,null,null,null,null,null,{"$f":"IFERROR(IF(T634=5,1,IF(MATCH(T634&\"/\"&V634,読み替え表_エコドライブ!$P$33:$P$52,0),1,0)),0)","v":0},"*"]
[null,null,628,null,null,null,null,null,null,null,null,null,null,null,null,null,null,null,null,null,null,null,null,null,null,null,null,null,null,null,null,null,null,null,null,{"$f":"IFERROR(IF(T635=5,1,IF(MATCH(T635&\"/\"&V635,読み替え表_エコドライブ!$P$33:$P$52,0),1,0)),0)","v":0},"*"]
[null,null,629,null,null,null,null,null,null,null,null,null,null,null,null,null,null,null,null,null,null,null,null,null,null,null,null,null,null,null,null,null,null,null,null,{"$f":"IFERROR(IF(T636=5,1,IF(MATCH(T636&\"/\"&V636,読み替え表_エコドライブ!$P$33:$P$52,0),1,0)),0)","v":0},"*"]
[null,null,630,null,null,null,null,null,null,null,null,null,null,null,null,null,null,null,null,null,null,null,null,null,null,null,null,null,null,null,null,null,null,null,null,{"$f":"IFERROR(IF(T637=5,1,IF(MATCH(T637&\"/\"&V637,読み替え表_エコドライブ!$P$33:$P$52,0),1,0)),0)","v":0},"*"]
[null,null,631,null,null,null,null,null,null,null,null,null,null,null,null,null,null,null,null,null,null,null,null,null,null,null,null,null,null,null,null,null,null,null,null,{"$f":"IFERROR(IF(T638=5,1,IF(MATCH(T638&\"/\"&V638,読み替え表_エコドライブ!$P$33:$P$52,0),1,0)),0)","v":0},"*"]
[null,null,632,null,null,null,null,null,null,null,null,null,null,null,null,null,null,null,null,null,null,null,null,null,null,null,null,null,null,null,null,null,null,null,null,{"$f":"IFERROR(IF(T639=5,1,IF(MATCH(T639&\"/\"&V639,読み替え表_エコドライブ!$P$33:$P$52,0),1,0)),0)","v":0},"*"]
[null,null,633,null,null,null,null,null,null,null,null,null,null,null,null,null,null,null,null,null,null,null,null,null,null,null,null,null,null,null,null,null,null,null,null,{"$f":"IFERROR(IF(T640=5,1,IF(MATCH(T640&\"/\"&V640,読み替え表_エコドライブ!$P$33:$P$52,0),1,0)),0)","v":0},"*"]
[null,null,634,null,null,null,null,null,null,null,null,null,null,null,null,null,null,null,null,null,null,null,null,null,null,null,null,null,null,null,null,null,null,null,null,{"$f":"IFERROR(IF(T641=5,1,IF(MATCH(T641&\"/\"&V641,読み替え表_エコドライブ!$P$33:$P$52,0),1,0)),0)","v":0},"*"]
[null,null,635,null,null,null,null,null,null,null,null,null,null,null,null,null,null,null,null,null,null,null,null,null,null,null,null,null,null,null,null,null,null,null,null,{"$f":"IFERROR(IF(T642=5,1,IF(MATCH(T642&\"/\"&V642,読み替え表_エコドライブ!$P$33:$P$52,0),1,0)),0)","v":0},"*"]
[null,null,636,null,null,null,null,null,null,null,null,null,null,null,null,null,null,null,null,null,null,null,null,null,null,null,null,null,null,null,null,null,null,null,null,{"$f":"IFERROR(IF(T643=5,1,IF(MATCH(T643&\"/\"&V643,読み替え表_エコドライブ!$P$33:$P$52,0),1,0)),0)","v":0},"*"]
[null,null,637,null,null,null,null,null,null,null,null,null,null,null,null,null,null,null,null,null,null,null,null,null,null,null,null,null,null,null,null,null,null,null,null,{"$f":"IFERROR(IF(T644=5,1,IF(MATCH(T644&\"/\"&V644,読み替え表_エコドライブ!$P$33:$P$52,0),1,0)),0)","v":0},"*"]
[null,null,638,null,null,null,null,null,null,null,null,null,null,null,null,null,null,null,null,null,null,null,null,null,null,null,null,null,null,null,null,null,null,null,null,{"$f":"IFERROR(IF(T645=5,1,IF(MATCH(T645&\"/\"&V645,読み替え表_エコドライブ!$P$33:$P$52,0),1,0)),0)","v":0},"*"]
[null,null,639,null,null,null,null,null,null,null,null,null,null,null,null,null,null,null,null,null,null,null,null,null,null,null,null,null,null,null,null,null,null,null,null,{"$f":"IFERROR(IF(T646=5,1,IF(MATCH(T646&\"/\"&V646,読み替え表_エコドライブ!$P$33:$P$52,0),1,0)),0)","v":0},"*"]
[null,null,640,null,null,null,null,null,null,null,null,null,null,null,null,null,null,null,null,null,null,null,null,null,null,null,null,null,null,null,null,null,null,null,null,{"$f":"IFERROR(IF(T647=5,1,IF(MATCH(T647&\"/\"&V647,読み替え表_エコドライブ!$P$33:$P$52,0),1,0)),0)","v":0},"*"]
[null,null,641,null,null,null,null,null,null,null,null,null,null,null,null,null,null,null,null,null,null,null,null,null,null,null,null,null,null,null,null,null,null,null,null,{"$f":"IFERROR(IF(T648=5,1,IF(MATCH(T648&\"/\"&V648,読み替え表_エコドライブ!$P$33:$P$52,0),1,0)),0)","v":0},"*"]
[null,null,{"$f":"ROW()-7","v":642},null,null,null,null,null,null,null,null,null,null,null,null,null,null,null,null,null,null,null,null,null,null,null,null,null,null,null,null,null,null,null,null,{"$f":"IFERROR(IF(T649=5,1,IF(MATCH(T649&\"/\"&V649,読み替え表_エコドライブ!$P$33:$P$52,0),1,0)),0)","v":0},"*"]
[null,null,643,null,null,null,null,null,null,null,null,null,null,null,null,null,null,null,null,null,null,null,null,null,null,null,null,null,null,null,null,null,null,null,null,{"$f":"IFERROR(IF(T650=5,1,IF(MATCH(T650&\"/\"&V650,読み替え表_エコドライブ!$P$33:$P$52,0),1,0)),0)","v":0},"*"]
[null,null,644,null,null,null,null,null,null,null,null,null,null,null,null,null,null,null,null,null,null,null,null,null,null,null,null,null,null,null,null,null,null,null,null,{"$f":"IFERROR(IF(T651=5,1,IF(MATCH(T651&\"/\"&V651,読み替え表_エコドライブ!$P$33:$P$52,0),1,0)),0)","v":0},"*"]
[null,null,645,null,null,null,null,null,null,null,null,null,null,null,null,null,null,null,null,null,null,null,null,null,null,null,null,null,null,null,null,null,null,null,null,{"$f":"IFERROR(IF(T652=5,1,IF(MATCH(T652&\"/\"&V652,読み替え表_エコドライブ!$P$33:$P$52,0),1,0)),0)","v":0},"*"]
[null,null,646,null,null,null,null,null,null,null,null,null,null,null,null,null,null,null,null,null,null,null,null,null,null,null,null,null,null,null,null,null,null,null,null,{"$f":"IFERROR(IF(T653=5,1,IF(MATCH(T653&\"/\"&V653,読み替え表_エコドライブ!$P$33:$P$52,0),1,0)),0)","v":0},"*"]
[null,null,647,null,null,null,null,null,null,null,null,null,null,null,null,null,null,null,null,null,null,null,null,null,null,null,null,null,null,null,null,null,null,null,null,{"$f":"IFERROR(IF(T654=5,1,IF(MATCH(T654&\"/\"&V654,読み替え表_エコドライブ!$P$33:$P$52,0),1,0)),0)","v":0},"*"]
[null,null,648,null,null,null,null,null,null,null,null,null,null,null,null,null,null,null,null,null,null,null,null,null,null,null,null,null,null,null,null,null,null,null,null,{"$f":"IFERROR(IF(T655=5,1,IF(MATCH(T655&\"/\"&V655,読み替え表_エコドライブ!$P$33:$P$52,0),1,0)),0)","v":0},"*"]
[null,null,649,null,null,null,null,null,null,null,null,null,null,null,null,null,null,null,null,null,null,null,null,null,null,null,null,null,null,null,null,null,null,null,null,{"$f":"IFERROR(IF(T656=5,1,IF(MATCH(T656&\"/\"&V656,読み替え表_エコドライブ!$P$33:$P$52,0),1,0)),0)","v":0},"*"]
[null,null,650,null,null,null,null,null,null,null,null,null,null,null,null,null,null,null,null,null,null,null,null,null,null,null,null,null,null,null,null,null,null,null,null,{"$f":"IFERROR(IF(T657=5,1,IF(MATCH(T657&\"/\"&V657,読み替え表_エコドライブ!$P$33:$P$52,0),1,0)),0)","v":0},"*"]
[null,null,651,null,null,null,null,null,null,null,null,null,null,null,null,null,null,null,null,null,null,null,null,null,null,null,null,null,null,null,null,null,null,null,null,{"$f":"IFERROR(IF(T658=5,1,IF(MATCH(T658&\"/\"&V658,読み替え表_エコドライブ!$P$33:$P$52,0),1,0)),0)","v":0},"*"]
[null,null,652,null,null,null,null,null,null,null,null,null,null,null,null,null,null,null,null,null,null,null,null,null,null,null,null,null,null,null,null,null,null,null,null,{"$f":"IFERROR(IF(T659=5,1,IF(MATCH(T659&\"/\"&V659,読み替え表_エコドライブ!$P$33:$P$52,0),1,0)),0)","v":0},"*"]
[null,null,653,null,null,null,null,null,null,null,null,null,null,null,null,null,null,null,null,null,null,null,null,null,null,null,null,null,null,null,null,null,null,null,null,{"$f":"IFERROR(IF(T660=5,1,IF(MATCH(T660&\"/\"&V660,読み替え表_エコドライブ!$P$33:$P$52,0),1,0)),0)","v":0},"*"]
[null,null,654,null,null,null,null,null,null,null,null,null,null,null,null,null,null,null,null,null,null,null,null,null,null,null,null,null,null,null,null,null,null,null,null,{"$f":"IFERROR(IF(T661=5,1,IF(MATCH(T661&\"/\"&V661,読み替え表_エコドライブ!$P$33:$P$52,0),1,0)),0)","v":0},"*"]
[null,null,655,null,null,null,null,null,null,null,null,null,null,null,null,null,null,null,null,null,null,null,null,null,null,null,null,null,null,null,null,null,null,null,null,{"$f":"IFERROR(IF(T662=5,1,IF(MATCH(T662&\"/\"&V662,読み替え表_エコドライブ!$P$33:$P$52,0),1,0)),0)","v":0},"*"]
[null,null,656,null,null,null,null,null,null,null,null,null,null,null,null,null,null,null,null,null,null,null,null,null,null,null,null,null,null,null,null,null,null,null,null,{"$f":"IFERROR(IF(T663=5,1,IF(MATCH(T663&\"/\"&V663,読み替え表_エコドライブ!$P$33:$P$52,0),1,0)),0)","v":0},"*"]
[null,null,657,null,null,null,null,null,null,null,null,null,null,null,null,null,null,null,null,null,null,null,null,null,null,null,null,null,null,null,null,null,null,null,null,{"$f":"IFERROR(IF(T664=5,1,IF(MATCH(T664&\"/\"&V664,読み替え表_エコドライブ!$P$33:$P$52,0),1,0)),0)","v":0},"*"]
[null,null,658,null,null,null,null,null,null,null,null,null,null,null,null,null,null,null,null,null,null,null,null,null,null,null,null,null,null,null,null,null,null,null,null,{"$f":"IFERROR(IF(T665=5,1,IF(MATCH(T665&\"/\"&V665,読み替え表_エコドライブ!$P$33:$P$52,0),1,0)),0)","v":0},"*"]
[null,null,659,null,null,null,null,null,null,null,null,null,null,null,null,null,null,null,null,null,null,null,null,null,null,null,null,null,null,null,null,null,null,null,null,{"$f":"IFERROR(IF(T666=5,1,IF(MATCH(T666&\"/\"&V666,読み替え表_エコドライブ!$P$33:$P$52,0),1,0)),0)","v":0},"*"]
[null,null,660,null,null,null,null,null,null,null,null,null,null,null,null,null,null,null,null,null,null,null,null,null,null,null,null,null,null,null,null,null,null,null,null,{"$f":"IFERROR(IF(T667=5,1,IF(MATCH(T667&\"/\"&V667,読み替え表_エコドライブ!$P$33:$P$52,0),1,0)),0)","v":0},"*"]
[null,null,661,null,null,null,null,null,null,null,null,null,null,null,null,null,null,null,null,null,null,null,null,null,null,null,null,null,null,null,null,null,null,null,null,{"$f":"IFERROR(IF(T668=5,1,IF(MATCH(T668&\"/\"&V668,読み替え表_エコドライブ!$P$33:$P$52,0),1,0)),0)","v":0},"*"]
[null,null,662,null,null,null,null,null,null,null,null,null,null,null,null,null,null,null,null,null,null,null,null,null,null,null,null,null,null,null,null,null,null,null,null,{"$f":"IFERROR(IF(T669=5,1,IF(MATCH(T669&\"/\"&V669,読み替え表_エコドライブ!$P$33:$P$52,0),1,0)),0)","v":0},"*"]
[null,null,663,null,null,null,null,null,null,null,null,null,null,null,null,null,null,null,null,null,null,null,null,null,null,null,null,null,null,null,null,null,null,null,null,{"$f":"IFERROR(IF(T670=5,1,IF(MATCH(T670&\"/\"&V670,読み替え表_エコドライブ!$P$33:$P$52,0),1,0)),0)","v":0},"*"]
[null,null,664,null,null,null,null,null,null,null,null,null,null,null,null,null,null,null,null,null,null,null,null,null,null,null,null,null,null,null,null,null,null,null,null,{"$f":"IFERROR(IF(T671=5,1,IF(MATCH(T671&\"/\"&V671,読み替え表_エコドライブ!$P$33:$P$52,0),1,0)),0)","v":0},"*"]
[null,null,665,null,null,null,null,null,null,null,null,null,null,null,null,null,null,null,null,null,null,null,null,null,null,null,null,null,null,null,null,null,null,null,null,{"$f":"IFERROR(IF(T672=5,1,IF(MATCH(T672&\"/\"&V672,読み替え表_エコドライブ!$P$33:$P$52,0),1,0)),0)","v":0},"*"]
[null,null,666,null,null,null,null,null,null,null,null,null,null,null,null,null,null,null,null,null,null,null,null,null,null,null,null,null,null,null,null,null,null,null,null,{"$f":"IFERROR(IF(T673=5,1,IF(MATCH(T673&\"/\"&V673,読み替え表_エコドライブ!$P$33:$P$52,0),1,0)),0)","v":0},"*"]
[null,null,667,null,null,null,null,null,null,null,null,null,null,null,null,null,null,null,null,null,null,null,null,null,null,null,null,null,null,null,null,null,null,null,null,{"$f":"IFERROR(IF(T674=5,1,IF(MATCH(T674&\"/\"&V674,読み替え表_エコドライブ!$P$33:$P$52,0),1,0)),0)","v":0},"*"]
[null,null,668,null,null,null,null,null,null,null,null,null,null,null,null,null,null,null,null,null,null,null,null,null,null,null,null,null,null,null,null,null,null,null,null,{"$f":"IFERROR(IF(T675=5,1,IF(MATCH(T675&\"/\"&V675,読み替え表_エコドライブ!$P$33:$P$52,0),1,0)),0)","v":0},"*"]
[null,null,669,null,null,null,null,null,null,null,null,null,null,null,null,null,null,null,null,null,null,null,null,null,null,null,null,null,null,null,null,null,null,null,null,{"$f":"IFERROR(IF(T676=5,1,IF(MATCH(T676&\"/\"&V676,読み替え表_エコドライブ!$P$33:$P$52,0),1,0)),0)","v":0},"*"]
[null,null,670,null,null,null,null,null,null,null,null,null,null,null,null,null,null,null,null,null,null,null,null,null,null,null,null,null,null,null,null,null,null,null,null,{"$f":"IFERROR(IF(T677=5,1,IF(MATCH(T677&\"/\"&V677,読み替え表_エコドライブ!$P$33:$P$52,0),1,0)),0)","v":0},"*"]
[null,null,671,null,null,null,null,null,null,null,null,null,null,null,null,null,null,null,null,null,null,null,null,null,null,null,null,null,null,null,null,null,null,null,null,{"$f":"IFERROR(IF(T678=5,1,IF(MATCH(T678&\"/\"&V678,読み替え表_エコドライブ!$P$33:$P$52,0),1,0)),0)","v":0},"*"]
[null,null,672,null,null,null,null,null,null,null,null,null,null,null,null,null,null,null,null,null,null,null,null,null,null,null,null,null,null,null,null,null,null,null,null,{"$f":"IFERROR(IF(T679=5,1,IF(MATCH(T679&\"/\"&V679,読み替え表_エコドライブ!$P$33:$P$52,0),1,0)),0)","v":0},"*"]
[null,null,673,null,null,null,null,null,null,null,null,null,null,null,null,null,null,null,null,null,null,null,null,null,null,null,null,null,null,null,null,null,null,null,null,{"$f":"IFERROR(IF(T680=5,1,IF(MATCH(T680&\"/\"&V680,読み替え表_エコドライブ!$P$33:$P$52,0),1,0)),0)","v":0},"*"]
[null,null,674,null,null,null,null,null,null,null,null,null,null,null,null,null,null,null,null,null,null,null,null,null,null,null,null,null,null,null,null,null,null,null,null,{"$f":"IFERROR(IF(T681=5,1,IF(MATCH(T681&\"/\"&V681,読み替え表_エコドライブ!$P$33:$P$52,0),1,0)),0)","v":0},"*"]
[null,null,675,null,null,null,null,null,null,null,null,null,null,null,null,null,null,null,null,null,null,null,null,null,null,null,null,null,null,null,null,null,null,null,null,{"$f":"IFERROR(IF(T682=5,1,IF(MATCH(T682&\"/\"&V682,読み替え表_エコドライブ!$P$33:$P$52,0),1,0)),0)","v":0},"*"]
[null,null,676,null,null,null,null,null,null,null,null,null,null,null,null,null,null,null,null,null,null,null,null,null,null,null,null,null,null,null,null,null,null,null,null,{"$f":"IFERROR(IF(T683=5,1,IF(MATCH(T683&\"/\"&V683,読み替え表_エコドライブ!$P$33:$P$52,0),1,0)),0)","v":0},"*"]
[null,null,677,null,null,null,null,null,null,null,null,null,null,null,null,null,null,null,null,null,null,null,null,null,null,null,null,null,null,null,null,null,null,null,null,{"$f":"IFERROR(IF(T684=5,1,IF(MATCH(T684&\"/\"&V684,読み替え表_エコドライブ!$P$33:$P$52,0),1,0)),0)","v":0},"*"]
[null,null,678,null,null,null,null,null,null,null,null,null,null,null,null,null,null,null,null,null,null,null,null,null,null,null,null,null,null,null,null,null,null,null,null,{"$f":"IFERROR(IF(T685=5,1,IF(MATCH(T685&\"/\"&V685,読み替え表_エコドライブ!$P$33:$P$52,0),1,0)),0)","v":0},"*"]
[null,null,679,null,null,null,null,null,null,null,null,null,null,null,null,null,null,null,null,null,null,null,null,null,null,null,null,null,null,null,null,null,null,null,null,{"$f":"IFERROR(IF(T686=5,1,IF(MATCH(T686&\"/\"&V686,読み替え表_エコドライブ!$P$33:$P$52,0),1,0)),0)","v":0},"*"]
[null,null,680,null,null,null,null,null,null,null,null,null,null,null,null,null,null,null,null,null,null,null,null,null,null,null,null,null,null,null,null,null,null,null,null,{"$f":"IFERROR(IF(T687=5,1,IF(MATCH(T687&\"/\"&V687,読み替え表_エコドライブ!$P$33:$P$52,0),1,0)),0)","v":0},"*"]
[null,null,681,null,null,null,null,null,null,null,null,null,null,null,null,null,null,null,null,null,null,null,null,null,null,null,null,null,null,null,null,null,null,null,null,{"$f":"IFERROR(IF(T688=5,1,IF(MATCH(T688&\"/\"&V688,読み替え表_エコドライブ!$P$33:$P$52,0),1,0)),0)","v":0},"*"]
[null,null,682,null,null,null,null,null,null,null,null,null,null,null,null,null,null,null,null,null,null,null,null,null,null,null,null,null,null,null,null,null,null,null,null,{"$f":"IFERROR(IF(T689=5,1,IF(MATCH(T689&\"/\"&V689,読み替え表_エコドライブ!$P$33:$P$52,0),1,0)),0)","v":0},"*"]
[null,null,683,null,null,null,null,null,null,null,null,null,null,null,null,null,null,null,null,null,null,null,null,null,null,null,null,null,null,null,null,null,null,null,null,{"$f":"IFERROR(IF(T690=5,1,IF(MATCH(T690&\"/\"&V690,読み替え表_エコドライブ!$P$33:$P$52,0),1,0)),0)","v":0},"*"]
[null,null,684,null,null,null,null,null,null,null,null,null,null,null,null,null,null,null,null,null,null,null,null,null,null,null,null,null,null,null,null,null,null,null,null,{"$f":"IFERROR(IF(T691=5,1,IF(MATCH(T691&\"/\"&V691,読み替え表_エコドライブ!$P$33:$P$52,0),1,0)),0)","v":0},"*"]
[null,null,685,null,null,null,null,null,null,null,null,null,null,null,null,null,null,null,null,null,null,null,null,null,null,null,null,null,null,null,null,null,null,null,null,{"$f":"IFERROR(IF(T692=5,1,IF(MATCH(T692&\"/\"&V692,読み替え表_エコドライブ!$P$33:$P$52,0),1,0)),0)","v":0},"*"]
[null,null,686,null,null,null,null,null,null,null,null,null,null,null,null,null,null,null,null,null,null,null,null,null,null,null,null,null,null,null,null,null,null,null,null,{"$f":"IFERROR(IF(T693=5,1,IF(MATCH(T693&\"/\"&V693,読み替え表_エコドライブ!$P$33:$P$52,0),1,0)),0)","v":0},"*"]
[null,null,687,null,null,null,null,null,null,null,null,null,null,null,null,null,null,null,null,null,null,null,null,null,null,null,null,null,null,null,null,null,null,null,null,{"$f":"IFERROR(IF(T694=5,1,IF(MATCH(T694&\"/\"&V694,読み替え表_エコドライブ!$P$33:$P$52,0),1,0)),0)","v":0},"*"]
[null,null,688,null,null,null,null,null,null,null,null,null,null,null,null,null,null,null,null,null,null,null,null,null,null,null,null,null,null,null,null,null,null,null,null,{"$f":"IFERROR(IF(T695=5,1,IF(MATCH(T695&\"/\"&V695,読み替え表_エコドライブ!$P$33:$P$52,0),1,0)),0)","v":0},"*"]
[null,null,689,null,null,null,null,null,null,null,null,null,null,null,null,null,null,null,null,null,null,null,null,null,null,null,null,null,null,null,null,null,null,null,null,{"$f":"IFERROR(IF(T696=5,1,IF(MATCH(T696&\"/\"&V696,読み替え表_エコドライブ!$P$33:$P$52,0),1,0)),0)","v":0},"*"]
[null,null,690,null,null,null,null,null,null,null,null,null,null,null,null,null,null,null,null,null,null,null,null,null,null,null,null,null,null,null,null,null,null,null,null,{"$f":"IFERROR(IF(T697=5,1,IF(MATCH(T697&\"/\"&V697,読み替え表_エコドライブ!$P$33:$P$52,0),1,0)),0)","v":0},"*"]
[null,null,691,null,null,null,null,null,null,null,null,null,null,null,null,null,null,null,null,null,null,null,null,null,null,null,null,null,null,null,null,null,null,null,null,{"$f":"IFERROR(IF(T698=5,1,IF(MATCH(T698&\"/\"&V698,読み替え表_エコドライブ!$P$33:$P$52,0),1,0)),0)","v":0},"*"]
[null,null,692,null,null,null,null,null,null,null,null,null,null,null,null,null,null,null,null,null,null,null,null,null,null,null,null,null,null,null,null,null,null,null,null,{"$f":"IFERROR(IF(T699=5,1,IF(MATCH(T699&\"/\"&V699,読み替え表_エコドライブ!$P$33:$P$52,0),1,0)),0)","v":0},"*"]
[null,null,693,null,null,null,null,null,null,null,null,null,null,null,null,null,null,null,null,null,null,null,null,null,null,null,null,null,null,null,null,null,null,null,null,{"$f":"IFERROR(IF(T700=5,1,IF(MATCH(T700&\"/\"&V700,読み替え表_エコドライブ!$P$33:$P$52,0),1,0)),0)","v":0},"*"]
[null,null,694,null,null,null,null,null,null,null,null,null,null,null,null,null,null,null,null,null,null,null,null,null,null,null,null,null,null,null,null,null,null,null,null,{"$f":"IFERROR(IF(T701=5,1,IF(MATCH(T701&\"/\"&V701,読み替え表_エコドライブ!$P$33:$P$52,0),1,0)),0)","v":0},"*"]
[null,null,695,null,null,null,null,null,null,null,null,null,null,null,null,null,null,null,null,null,null,null,null,null,null,null,null,null,null,null,null,null,null,null,null,{"$f":"IFERROR(IF(T702=5,1,IF(MATCH(T702&\"/\"&V702,読み替え表_エコドライブ!$P$33:$P$52,0),1,0)),0)","v":0},"*"]
[null,null,696,null,null,null,null,null,null,null,null,null,null,null,null,null,null,null,null,null,null,null,null,null,null,null,null,null,null,null,null,null,null,null,null,{"$f":"IFERROR(IF(T703=5,1,IF(MATCH(T703&\"/\"&V703,読み替え表_エコドライブ!$P$33:$P$52,0),1,0)),0)","v":0},"*"]
[null,null,697,null,null,null,null,null,null,null,null,null,null,null,null,null,null,null,null,null,null,null,null,null,null,null,null,null,null,null,null,null,null,null,null,{"$f":"IFERROR(IF(T704=5,1,IF(MATCH(T704&\"/\"&V704,読み替え表_エコドライブ!$P$33:$P$52,0),1,0)),0)","v":0},"*"]
[null,null,698,null,null,null,null,null,null,null,null,null,null,null,null,null,null,null,null,null,null,null,null,null,null,null,null,null,null,null,null,null,null,null,null,{"$f":"IFERROR(IF(T705=5,1,IF(MATCH(T705&\"/\"&V705,読み替え表_エコドライブ!$P$33:$P$52,0),1,0)),0)","v":0},"*"]
[null,null,699,null,null,null,null,null,null,null,null,null,null,null,null,null,null,null,null,null,null,null,null,null,null,null,null,null,null,null,null,null,null,null,null,{"$f":"IFERROR(IF(T706=5,1,IF(MATCH(T706&\"/\"&V706,読み替え表_エコドライブ!$P$33:$P$52,0),1,0)),0)","v":0},"*"]
[null,null,700,null,null,null,null,null,null,null,null,null,null,null,null,null,null,null,null,null,null,null,null,null,null,null,null,null,null,null,null,null,null,null,null,{"$f":"IFERROR(IF(T707=5,1,IF(MATCH(T707&\"/\"&V707,読み替え表_エコドライブ!$P$33:$P$52,0),1,0)),0)","v":0},"*"]
[null,null,701,null,null,null,null,null,null,null,null,null,null,null,null,null,null,null,null,null,null,null,null,null,null,null,null,null,null,null,null,null,null,null,null,{"$f":"IFERROR(IF(T708=5,1,IF(MATCH(T708&\"/\"&V708,読み替え表_エコドライブ!$P$33:$P$52,0),1,0)),0)","v":0},"*"]
[null,null,702,null,null,null,null,null,null,null,null,null,null,null,null,null,null,null,null,null,null,null,null,null,null,null,null,null,null,null,null,null,null,null,null,{"$f":"IFERROR(IF(T709=5,1,IF(MATCH(T709&\"/\"&V709,読み替え表_エコドライブ!$P$33:$P$52,0),1,0)),0)","v":0},"*"]
[null,null,703,null,null,null,null,null,null,null,null,null,null,null,null,null,null,null,null,null,null,null,null,null,null,null,null,null,null,null,null,null,null,null,null,{"$f":"IFERROR(IF(T710=5,1,IF(MATCH(T710&\"/\"&V710,読み替え表_エコドライブ!$P$33:$P$52,0),1,0)),0)","v":0},"*"]
[null,null,704,null,null,null,null,null,null,null,null,null,null,null,null,null,null,null,null,null,null,null,null,null,null,null,null,null,null,null,null,null,null,null,null,{"$f":"IFERROR(IF(T711=5,1,IF(MATCH(T711&\"/\"&V711,読み替え表_エコドライブ!$P$33:$P$52,0),1,0)),0)","v":0},"*"]
[null,null,705,null,null,null,null,null,null,null,null,null,null,null,null,null,null,null,null,null,null,null,null,null,null,null,null,null,null,null,null,null,null,null,null,{"$f":"IFERROR(IF(T712=5,1,IF(MATCH(T712&\"/\"&V712,読み替え表_エコドライブ!$P$33:$P$52,0),1,0)),0)","v":0},"*"]
[null,null,{"$f":"ROW()-7","v":706},null,null,null,null,null,null,null,null,null,null,null,null,null,null,null,null,null,null,null,null,null,null,null,null,null,null,null,null,null,null,null,null,{"$f":"IFERROR(IF(T713=5,1,IF(MATCH(T713&\"/\"&V713,読み替え表_エコドライブ!$P$33:$P$52,0),1,0)),0)","v":0},"*"]
[null,null,707,null,null,null,null,null,null,null,null,null,null,null,null,null,null,null,null,null,null,null,null,null,null,null,null,null,null,null,null,null,null,null,null,{"$f":"IFERROR(IF(T714=5,1,IF(MATCH(T714&\"/\"&V714,読み替え表_エコドライブ!$P$33:$P$52,0),1,0)),0)","v":0},"*"]
[null,null,708,null,null,null,null,null,null,null,null,null,null,null,null,null,null,null,null,null,null,null,null,null,null,null,null,null,null,null,null,null,null,null,null,{"$f":"IFERROR(IF(T715=5,1,IF(MATCH(T715&\"/\"&V715,読み替え表_エコドライブ!$P$33:$P$52,0),1,0)),0)","v":0},"*"]
[null,null,709,null,null,null,null,null,null,null,null,null,null,null,null,null,null,null,null,null,null,null,null,null,null,null,null,null,null,null,null,null,null,null,null,{"$f":"IFERROR(IF(T716=5,1,IF(MATCH(T716&\"/\"&V716,読み替え表_エコドライブ!$P$33:$P$52,0),1,0)),0)","v":0},"*"]
[null,null,710,null,null,null,null,null,null,null,null,null,null,null,null,null,null,null,null,null,null,null,null,null,null,null,null,null,null,null,null,null,null,null,null,{"$f":"IFERROR(IF(T717=5,1,IF(MATCH(T717&\"/\"&V717,読み替え表_エコドライブ!$P$33:$P$52,0),1,0)),0)","v":0},"*"]
[null,null,711,null,null,null,null,null,null,null,null,null,null,null,null,null,null,null,null,null,null,null,null,null,null,null,null,null,null,null,null,null,null,null,null,{"$f":"IFERROR(IF(T718=5,1,IF(MATCH(T718&\"/\"&V718,読み替え表_エコドライブ!$P$33:$P$52,0),1,0)),0)","v":0},"*"]
[null,null,712,null,null,null,null,null,null,null,null,null,null,null,null,null,null,null,null,null,null,null,null,null,null,null,null,null,null,null,null,null,null,null,null,{"$f":"IFERROR(IF(T719=5,1,IF(MATCH(T719&\"/\"&V719,読み替え表_エコドライブ!$P$33:$P$52,0),1,0)),0)","v":0},"*"]
[null,null,713,null,null,null,null,null,null,null,null,null,null,null,null,null,null,null,null,null,null,null,null,null,null,null,null,null,null,null,null,null,null,null,null,{"$f":"IFERROR(IF(T720=5,1,IF(MATCH(T720&\"/\"&V720,読み替え表_エコドライブ!$P$33:$P$52,0),1,0)),0)","v":0},"*"]
[null,null,714,null,null,null,null,null,null,null,null,null,null,null,null,null,null,null,null,null,null,null,null,null,null,null,null,null,null,null,null,null,null,null,null,{"$f":"IFERROR(IF(T721=5,1,IF(MATCH(T721&\"/\"&V721,読み替え表_エコドライブ!$P$33:$P$52,0),1,0)),0)","v":0},"*"]
[null,null,715,null,null,null,null,null,null,null,null,null,null,null,null,null,null,null,null,null,null,null,null,null,null,null,null,null,null,null,null,null,null,null,null,{"$f":"IFERROR(IF(T722=5,1,IF(MATCH(T722&\"/\"&V722,読み替え表_エコドライブ!$P$33:$P$52,0),1,0)),0)","v":0},"*"]
[null,null,716,null,null,null,null,null,null,null,null,null,null,null,null,null,null,null,null,null,null,null,null,null,null,null,null,null,null,null,null,null,null,null,null,{"$f":"IFERROR(IF(T723=5,1,IF(MATCH(T723&\"/\"&V723,読み替え表_エコドライブ!$P$33:$P$52,0),1,0)),0)","v":0},"*"]
[null,null,717,null,null,null,null,null,null,null,null,null,null,null,null,null,null,null,null,null,null,null,null,null,null,null,null,null,null,null,null,null,null,null,null,{"$f":"IFERROR(IF(T724=5,1,IF(MATCH(T724&\"/\"&V724,読み替え表_エコドライブ!$P$33:$P$52,0),1,0)),0)","v":0},"*"]
[null,null,718,null,null,null,null,null,null,null,null,null,null,null,null,null,null,null,null,null,null,null,null,null,null,null,null,null,null,null,null,null,null,null,null,{"$f":"IFERROR(IF(T725=5,1,IF(MATCH(T725&\"/\"&V725,読み替え表_エコドライブ!$P$33:$P$52,0),1,0)),0)","v":0},"*"]
[null,null,719,null,null,null,null,null,null,null,null,null,null,null,null,null,null,null,null,null,null,null,null,null,null,null,null,null,null,null,null,null,null,null,null,{"$f":"IFERROR(IF(T726=5,1,IF(MATCH(T726&\"/\"&V726,読み替え表_エコドライブ!$P$33:$P$52,0),1,0)),0)","v":0},"*"]
[null,null,720,null,null,null,null,null,null,null,null,null,null,null,null,null,null,null,null,null,null,null,null,null,null,null,null,null,null,null,null,null,null,null,null,{"$f":"IFERROR(IF(T727=5,1,IF(MATCH(T727&\"/\"&V727,読み替え表_エコドライブ!$P$33:$P$52,0),1,0)),0)","v":0},"*"]
[null,null,721,null,null,null,null,null,null,null,null,null,null,null,null,null,null,null,null,null,null,null,null,null,null,null,null,null,null,null,null,null,null,null,null,{"$f":"IFERROR(IF(T728=5,1,IF(MATCH(T728&\"/\"&V728,読み替え表_エコドライブ!$P$33:$P$52,0),1,0)),0)","v":0},"*"]
[null,null,722,null,null,null,null,null,null,null,null,null,null,null,null,null,null,null,null,null,null,null,null,null,null,null,null,null,null,null,null,null,null,null,null,{"$f":"IFERROR(IF(T729=5,1,IF(MATCH(T729&\"/\"&V729,読み替え表_エコドライブ!$P$33:$P$52,0),1,0)),0)","v":0},"*"]
[null,null,723,null,null,null,null,null,null,null,null,null,null,null,null,null,null,null,null,null,null,null,null,null,null,null,null,null,null,null,null,null,null,null,null,{"$f":"IFERROR(IF(T730=5,1,IF(MATCH(T730&\"/\"&V730,読み替え表_エコドライブ!$P$33:$P$52,0),1,0)),0)","v":0},"*"]
[null,null,724,null,null,null,null,null,null,null,null,null,null,null,null,null,null,null,null,null,null,null,null,null,null,null,null,null,null,null,null,null,null,null,null,{"$f":"IFERROR(IF(T731=5,1,IF(MATCH(T731&\"/\"&V731,読み替え表_エコドライブ!$P$33:$P$52,0),1,0)),0)","v":0},"*"]
[null,null,725,null,null,null,null,null,null,null,null,null,null,null,null,null,null,null,null,null,null,null,null,null,null,null,null,null,null,null,null,null,null,null,null,{"$f":"IFERROR(IF(T732=5,1,IF(MATCH(T732&\"/\"&V732,読み替え表_エコドライブ!$P$33:$P$52,0),1,0)),0)","v":0},"*"]
[null,null,726,null,null,null,null,null,null,null,null,null,null,null,null,null,null,null,null,null,null,null,null,null,null,null,null,null,null,null,null,null,null,null,null,{"$f":"IFERROR(IF(T733=5,1,IF(MATCH(T733&\"/\"&V733,読み替え表_エコドライブ!$P$33:$P$52,0),1,0)),0)","v":0},"*"]
[null,null,727,null,null,null,null,null,null,null,null,null,null,null,null,null,null,null,null,null,null,null,null,null,null,null,null,null,null,null,null,null,null,null,null,{"$f":"IFERROR(IF(T734=5,1,IF(MATCH(T734&\"/\"&V734,読み替え表_エコドライブ!$P$33:$P$52,0),1,0)),0)","v":0},"*"]
[null,null,728,null,null,null,null,null,null,null,null,null,null,null,null,null,null,null,null,null,null,null,null,null,null,null,null,null,null,null,null,null,null,null,null,{"$f":"IFERROR(IF(T735=5,1,IF(MATCH(T735&\"/\"&V735,読み替え表_エコドライブ!$P$33:$P$52,0),1,0)),0)","v":0},"*"]
[null,null,729,null,null,null,null,null,null,null,null,null,null,null,null,null,null,null,null,null,null,null,null,null,null,null,null,null,null,null,null,null,null,null,null,{"$f":"IFERROR(IF(T736=5,1,IF(MATCH(T736&\"/\"&V736,読み替え表_エコドライブ!$P$33:$P$52,0),1,0)),0)","v":0},"*"]
[null,null,730,null,null,null,null,null,null,null,null,null,null,null,null,null,null,null,null,null,null,null,null,null,null,null,null,null,null,null,null,null,null,null,null,{"$f":"IFERROR(IF(T737=5,1,IF(MATCH(T737&\"/\"&V737,読み替え表_エコドライブ!$P$33:$P$52,0),1,0)),0)","v":0},"*"]
[null,null,731,null,null,null,null,null,null,null,null,null,null,null,null,null,null,null,null,null,null,null,null,null,null,null,null,null,null,null,null,null,null,null,null,{"$f":"IFERROR(IF(T738=5,1,IF(MATCH(T738&\"/\"&V738,読み替え表_エコドライブ!$P$33:$P$52,0),1,0)),0)","v":0},"*"]
[null,null,732,null,null,null,null,null,null,null,null,null,null,null,null,null,null,null,null,null,null,null,null,null,null,null,null,null,null,null,null,null,null,null,null,{"$f":"IFERROR(IF(T739=5,1,IF(MATCH(T739&\"/\"&V739,読み替え表_エコドライブ!$P$33:$P$52,0),1,0)),0)","v":0},"*"]
[null,null,733,null,null,null,null,null,null,null,null,null,null,null,null,null,null,null,null,null,null,null,null,null,null,null,null,null,null,null,null,null,null,null,null,{"$f":"IFERROR(IF(T740=5,1,IF(MATCH(T740&\"/\"&V740,読み替え表_エコドライブ!$P$33:$P$52,0),1,0)),0)","v":0},"*"]
[null,null,734,null,null,null,null,null,null,null,null,null,null,null,null,null,null,null,null,null,null,null,null,null,null,null,null,null,null,null,null,null,null,null,null,{"$f":"IFERROR(IF(T741=5,1,IF(MATCH(T741&\"/\"&V741,読み替え表_エコドライブ!$P$33:$P$52,0),1,0)),0)","v":0},"*"]
[null,null,735,null,null,null,null,null,null,null,null,null,null,null,null,null,null,null,null,null,null,null,null,null,null,null,null,null,null,null,null,null,null,null,null,{"$f":"IFERROR(IF(T742=5,1,IF(MATCH(T742&\"/\"&V742,読み替え表_エコドライブ!$P$33:$P$52,0),1,0)),0)","v":0},"*"]
[null,null,736,null,null,null,null,null,null,null,null,null,null,null,null,null,null,null,null,null,null,null,null,null,null,null,null,null,null,null,null,null,null,null,null,{"$f":"IFERROR(IF(T743=5,1,IF(MATCH(T743&\"/\"&V743,読み替え表_エコドライブ!$P$33:$P$52,0),1,0)),0)","v":0},"*"]
[null,null,737,null,null,null,null,null,null,null,null,null,null,null,null,null,null,null,null,null,null,null,null,null,null,null,null,null,null,null,null,null,null,null,null,{"$f":"IFERROR(IF(T744=5,1,IF(MATCH(T744&\"/\"&V744,読み替え表_エコドライブ!$P$33:$P$52,0),1,0)),0)","v":0},"*"]
[null,null,738,null,null,null,null,null,null,null,null,null,null,null,null,null,null,null,null,null,null,null,null,null,null,null,null,null,null,null,null,null,null,null,null,{"$f":"IFERROR(IF(T745=5,1,IF(MATCH(T745&\"/\"&V745,読み替え表_エコドライブ!$P$33:$P$52,0),1,0)),0)","v":0},"*"]
[null,null,739,null,null,null,null,null,null,null,null,null,null,null,null,null,null,null,null,null,null,null,null,null,null,null,null,null,null,null,null,null,null,null,null,{"$f":"IFERROR(IF(T746=5,1,IF(MATCH(T746&\"/\"&V746,読み替え表_エコドライブ!$P$33:$P$52,0),1,0)),0)","v":0},"*"]
[null,null,740,null,null,null,null,null,null,null,null,null,null,null,null,null,null,null,null,null,null,null,null,null,null,null,null,null,null,null,null,null,null,null,null,{"$f":"IFERROR(IF(T747=5,1,IF(MATCH(T747&\"/\"&V747,読み替え表_エコドライブ!$P$33:$P$52,0),1,0)),0)","v":0},"*"]
[null,null,741,null,null,null,null,null,null,null,null,null,null,null,null,null,null,null,null,null,null,null,null,null,null,null,null,null,null,null,null,null,null,null,null,{"$f":"IFERROR(IF(T748=5,1,IF(MATCH(T748&\"/\"&V748,読み替え表_エコドライブ!$P$33:$P$52,0),1,0)),0)","v":0},"*"]
[null,null,742,null,null,null,null,null,null,null,null,null,null,null,null,null,null,null,null,null,null,null,null,null,null,null,null,null,null,null,null,null,null,null,null,{"$f":"IFERROR(IF(T749=5,1,IF(MATCH(T749&\"/\"&V749,読み替え表_エコドライブ!$P$33:$P$52,0),1,0)),0)","v":0},"*"]
[null,null,743,null,null,null,null,null,null,null,null,null,null,null,null,null,null,null,null,null,null,null,null,null,null,null,null,null,null,null,null,null,null,null,null,{"$f":"IFERROR(IF(T750=5,1,IF(MATCH(T750&\"/\"&V750,読み替え表_エコドライブ!$P$33:$P$52,0),1,0)),0)","v":0},"*"]
[null,null,744,null,null,null,null,null,null,null,null,null,null,null,null,null,null,null,null,null,null,null,null,null,null,null,null,null,null,null,null,null,null,null,null,{"$f":"IFERROR(IF(T751=5,1,IF(MATCH(T751&\"/\"&V751,読み替え表_エコドライブ!$P$33:$P$52,0),1,0)),0)","v":0},"*"]
[null,null,745,null,null,null,null,null,null,null,null,null,null,null,null,null,null,null,null,null,null,null,null,null,null,null,null,null,null,null,null,null,null,null,null,{"$f":"IFERROR(IF(T752=5,1,IF(MATCH(T752&\"/\"&V752,読み替え表_エコドライブ!$P$33:$P$52,0),1,0)),0)","v":0},"*"]
[null,null,746,null,null,null,null,null,null,null,null,null,null,null,null,null,null,null,null,null,null,null,null,null,null,null,null,null,null,null,null,null,null,null,null,{"$f":"IFERROR(IF(T753=5,1,IF(MATCH(T753&\"/\"&V753,読み替え表_エコドライブ!$P$33:$P$52,0),1,0)),0)","v":0},"*"]
[null,null,747,null,null,null,null,null,null,null,null,null,null,null,null,null,null,null,null,null,null,null,null,null,null,null,null,null,null,null,null,null,null,null,null,{"$f":"IFERROR(IF(T754=5,1,IF(MATCH(T754&\"/\"&V754,読み替え表_エコドライブ!$P$33:$P$52,0),1,0)),0)","v":0},"*"]
[null,null,748,null,null,null,null,null,null,null,null,null,null,null,null,null,null,null,null,null,null,null,null,null,null,null,null,null,null,null,null,null,null,null,null,{"$f":"IFERROR(IF(T755=5,1,IF(MATCH(T755&\"/\"&V755,読み替え表_エコドライブ!$P$33:$P$52,0),1,0)),0)","v":0},"*"]
[null,null,749,null,null,null,null,null,null,null,null,null,null,null,null,null,null,null,null,null,null,null,null,null,null,null,null,null,null,null,null,null,null,null,null,{"$f":"IFERROR(IF(T756=5,1,IF(MATCH(T756&\"/\"&V756,読み替え表_エコドライブ!$P$33:$P$52,0),1,0)),0)","v":0},"*"]
[null,null,750,null,null,null,null,null,null,null,null,null,null,null,null,null,null,null,null,null,null,null,null,null,null,null,null,null,null,null,null,null,null,null,null,{"$f":"IFERROR(IF(T757=5,1,IF(MATCH(T757&\"/\"&V757,読み替え表_エコドライブ!$P$33:$P$52,0),1,0)),0)","v":0},"*"]
[null,null,751,null,null,null,null,null,null,null,null,null,null,null,null,null,null,null,null,null,null,null,null,null,null,null,null,null,null,null,null,null,null,null,null,{"$f":"IFERROR(IF(T758=5,1,IF(MATCH(T758&\"/\"&V758,読み替え表_エコドライブ!$P$33:$P$52,0),1,0)),0)","v":0},"*"]
[null,null,752,null,null,null,null,null,null,null,null,null,null,null,null,null,null,null,null,null,null,null,null,null,null,null,null,null,null,null,null,null,null,null,null,{"$f":"IFERROR(IF(T759=5,1,IF(MATCH(T759&\"/\"&V759,読み替え表_エコドライブ!$P$33:$P$52,0),1,0)),0)","v":0},"*"]
[null,null,753,null,null,null,null,null,null,null,null,null,null,null,null,null,null,null,null,null,null,null,null,null,null,null,null,null,null,null,null,null,null,null,null,{"$f":"IFERROR(IF(T760=5,1,IF(MATCH(T760&\"/\"&V760,読み替え表_エコドライブ!$P$33:$P$52,0),1,0)),0)","v":0},"*"]
[null,null,754,null,null,null,null,null,null,null,null,null,null,null,null,null,null,null,null,null,null,null,null,null,null,null,null,null,null,null,null,null,null,null,null,{"$f":"IFERROR(IF(T761=5,1,IF(MATCH(T761&\"/\"&V761,読み替え表_エコドライブ!$P$33:$P$52,0),1,0)),0)","v":0},"*"]
[null,null,755,null,null,null,null,null,null,null,null,null,null,null,null,null,null,null,null,null,null,null,null,null,null,null,null,null,null,null,null,null,null,null,null,{"$f":"IFERROR(IF(T762=5,1,IF(MATCH(T762&\"/\"&V762,読み替え表_エコドライブ!$P$33:$P$52,0),1,0)),0)","v":0},"*"]
[null,null,756,null,null,null,null,null,null,null,null,null,null,null,null,null,null,null,null,null,null,null,null,null,null,null,null,null,null,null,null,null,null,null,null,{"$f":"IFERROR(IF(T763=5,1,IF(MATCH(T763&\"/\"&V763,読み替え表_エコドライブ!$P$33:$P$52,0),1,0)),0)","v":0},"*"]
[null,null,757,null,null,null,null,null,null,null,null,null,null,null,null,null,null,null,null,null,null,null,null,null,null,null,null,null,null,null,null,null,null,null,null,{"$f":"IFERROR(IF(T764=5,1,IF(MATCH(T764&\"/\"&V764,読み替え表_エコドライブ!$P$33:$P$52,0),1,0)),0)","v":0},"*"]
[null,null,758,null,null,null,null,null,null,null,null,null,null,null,null,null,null,null,null,null,null,null,null,null,null,null,null,null,null,null,null,null,null,null,null,{"$f":"IFERROR(IF(T765=5,1,IF(MATCH(T765&\"/\"&V765,読み替え表_エコドライブ!$P$33:$P$52,0),1,0)),0)","v":0},"*"]
[null,null,759,null,null,null,null,null,null,null,null,null,null,null,null,null,null,null,null,null,null,null,null,null,null,null,null,null,null,null,null,null,null,null,null,{"$f":"IFERROR(IF(T766=5,1,IF(MATCH(T766&\"/\"&V766,読み替え表_エコドライブ!$P$33:$P$52,0),1,0)),0)","v":0},"*"]
[null,null,760,null,null,null,null,null,null,null,null,null,null,null,null,null,null,null,null,null,null,null,null,null,null,null,null,null,null,null,null,null,null,null,null,{"$f":"IFERROR(IF(T767=5,1,IF(MATCH(T767&\"/\"&V767,読み替え表_エコドライブ!$P$33:$P$52,0),1,0)),0)","v":0},"*"]
[null,null,761,null,null,null,null,null,null,null,null,null,null,null,null,null,null,null,null,null,null,null,null,null,null,null,null,null,null,null,null,null,null,null,null,{"$f":"IFERROR(IF(T768=5,1,IF(MATCH(T768&\"/\"&V768,読み替え表_エコドライブ!$P$33:$P$52,0),1,0)),0)","v":0},"*"]
[null,null,762,null,null,null,null,null,null,null,null,null,null,null,null,null,null,null,null,null,null,null,null,null,null,null,null,null,null,null,null,null,null,null,null,{"$f":"IFERROR(IF(T769=5,1,IF(MATCH(T769&\"/\"&V769,読み替え表_エコドライブ!$P$33:$P$52,0),1,0)),0)","v":0},"*"]
[null,null,763,null,null,null,null,null,null,null,null,null,null,null,null,null,null,null,null,null,null,null,null,null,null,null,null,null,null,null,null,null,null,null,null,{"$f":"IFERROR(IF(T770=5,1,IF(MATCH(T770&\"/\"&V770,読み替え表_エコドライブ!$P$33:$P$52,0),1,0)),0)","v":0},"*"]
[null,null,764,null,null,null,null,null,null,null,null,null,null,null,null,null,null,null,null,null,null,null,null,null,null,null,null,null,null,null,null,null,null,null,null,{"$f":"IFERROR(IF(T771=5,1,IF(MATCH(T771&\"/\"&V771,読み替え表_エコドライブ!$P$33:$P$52,0),1,0)),0)","v":0},"*"]
[null,null,765,null,null,null,null,null,null,null,null,null,null,null,null,null,null,null,null,null,null,null,null,null,null,null,null,null,null,null,null,null,null,null,null,{"$f":"IFERROR(IF(T772=5,1,IF(MATCH(T772&\"/\"&V772,読み替え表_エコドライブ!$P$33:$P$52,0),1,0)),0)","v":0},"*"]
[null,null,766,null,null,null,null,null,null,null,null,null,null,null,null,null,null,null,null,null,null,null,null,null,null,null,null,null,null,null,null,null,null,null,null,{"$f":"IFERROR(IF(T773=5,1,IF(MATCH(T773&\"/\"&V773,読み替え表_エコドライブ!$P$33:$P$52,0),1,0)),0)","v":0},"*"]
[null,null,767,null,null,null,null,null,null,null,null,null,null,null,null,null,null,null,null,null,null,null,null,null,null,null,null,null,null,null,null,null,null,null,null,{"$f":"IFERROR(IF(T774=5,1,IF(MATCH(T774&\"/\"&V774,読み替え表_エコドライブ!$P$33:$P$52,0),1,0)),0)","v":0},"*"]
[null,null,768,null,null,null,null,null,null,null,null,null,null,null,null,null,null,null,null,null,null,null,null,null,null,null,null,null,null,null,null,null,null,null,null,{"$f":"IFERROR(IF(T775=5,1,IF(MATCH(T775&\"/\"&V775,読み替え表_エコドライブ!$P$33:$P$52,0),1,0)),0)","v":0},"*"]
[null,null,769,null,null,null,null,null,null,null,null,null,null,null,null,null,null,null,null,null,null,null,null,null,null,null,null,null,null,null,null,null,null,null,null,{"$f":"IFERROR(IF(T776=5,1,IF(MATCH(T776&\"/\"&V776,読み替え表_エコドライブ!$P$33:$P$52,0),1,0)),0)","v":0},"*"]
[null,null,{"$f":"ROW()-7","v":770},null,null,null,null,null,null,null,null,null,null,null,null,null,null,null,null,null,null,null,null,null,null,null,null,null,null,null,null,null,null,null,null,{"$f":"IFERROR(IF(T777=5,1,IF(MATCH(T777&\"/\"&V777,読み替え表_エコドライブ!$P$33:$P$52,0),1,0)),0)","v":0},"*"]
[null,null,771,null,null,null,null,null,null,null,null,null,null,null,null,null,null,null,null,null,null,null,null,null,null,null,null,null,null,null,null,null,null,null,null,{"$f":"IFERROR(IF(T778=5,1,IF(MATCH(T778&\"/\"&V778,読み替え表_エコドライブ!$P$33:$P$52,0),1,0)),0)","v":0},"*"]
[null,null,772,null,null,null,null,null,null,null,null,null,null,null,null,null,null,null,null,null,null,null,null,null,null,null,null,null,null,null,null,null,null,null,null,{"$f":"IFERROR(IF(T779=5,1,IF(MATCH(T779&\"/\"&V779,読み替え表_エコドライブ!$P$33:$P$52,0),1,0)),0)","v":0},"*"]
[null,null,773,null,null,null,null,null,null,null,null,null,null,null,null,null,null,null,null,null,null,null,null,null,null,null,null,null,null,null,null,null,null,null,null,{"$f":"IFERROR(IF(T780=5,1,IF(MATCH(T780&\"/\"&V780,読み替え表_エコドライブ!$P$33:$P$52,0),1,0)),0)","v":0},"*"]
[null,null,774,null,null,null,null,null,null,null,null,null,null,null,null,null,null,null,null,null,null,null,null,null,null,null,null,null,null,null,null,null,null,null,null,{"$f":"IFERROR(IF(T781=5,1,IF(MATCH(T781&\"/\"&V781,読み替え表_エコドライブ!$P$33:$P$52,0),1,0)),0)","v":0},"*"]
[null,null,775,null,null,null,null,null,null,null,null,null,null,null,null,null,null,null,null,null,null,null,null,null,null,null,null,null,null,null,null,null,null,null,null,{"$f":"IFERROR(IF(T782=5,1,IF(MATCH(T782&\"/\"&V782,読み替え表_エコドライブ!$P$33:$P$52,0),1,0)),0)","v":0},"*"]
[null,null,776,null,null,null,null,null,null,null,null,null,null,null,null,null,null,null,null,null,null,null,null,null,null,null,null,null,null,null,null,null,null,null,null,{"$f":"IFERROR(IF(T783=5,1,IF(MATCH(T783&\"/\"&V783,読み替え表_エコドライブ!$P$33:$P$52,0),1,0)),0)","v":0},"*"]
[null,null,777,null,null,null,null,null,null,null,null,null,null,null,null,null,null,null,null,null,null,null,null,null,null,null,null,null,null,null,null,null,null,null,null,{"$f":"IFERROR(IF(T784=5,1,IF(MATCH(T784&\"/\"&V784,読み替え表_エコドライブ!$P$33:$P$52,0),1,0)),0)","v":0},"*"]
[null,null,778,null,null,null,null,null,null,null,null,null,null,null,null,null,null,null,null,null,null,null,null,null,null,null,null,null,null,null,null,null,null,null,null,{"$f":"IFERROR(IF(T785=5,1,IF(MATCH(T785&\"/\"&V785,読み替え表_エコドライブ!$P$33:$P$52,0),1,0)),0)","v":0},"*"]
[null,null,779,null,null,null,null,null,null,null,null,null,null,null,null,null,null,null,null,null,null,null,null,null,null,null,null,null,null,null,null,null,null,null,null,{"$f":"IFERROR(IF(T786=5,1,IF(MATCH(T786&\"/\"&V786,読み替え表_エコドライブ!$P$33:$P$52,0),1,0)),0)","v":0},"*"]
[null,null,780,null,null,null,null,null,null,null,null,null,null,null,null,null,null,null,null,null,null,null,null,null,null,null,null,null,null,null,null,null,null,null,null,{"$f":"IFERROR(IF(T787=5,1,IF(MATCH(T787&\"/\"&V787,読み替え表_エコドライブ!$P$33:$P$52,0),1,0)),0)","v":0},"*"]
[null,null,781,null,null,null,null,null,null,null,null,null,null,null,null,null,null,null,null,null,null,null,null,null,null,null,null,null,null,null,null,null,null,null,null,{"$f":"IFERROR(IF(T788=5,1,IF(MATCH(T788&\"/\"&V788,読み替え表_エコドライブ!$P$33:$P$52,0),1,0)),0)","v":0},"*"]
[null,null,782,null,null,null,null,null,null,null,null,null,null,null,null,null,null,null,null,null,null,null,null,null,null,null,null,null,null,null,null,null,null,null,null,{"$f":"IFERROR(IF(T789=5,1,IF(MATCH(T789&\"/\"&V789,読み替え表_エコドライブ!$P$33:$P$52,0),1,0)),0)","v":0},"*"]
[null,null,783,null,null,null,null,null,null,null,null,null,null,null,null,null,null,null,null,null,null,null,null,null,null,null,null,null,null,null,null,null,null,null,null,{"$f":"IFERROR(IF(T790=5,1,IF(MATCH(T790&\"/\"&V790,読み替え表_エコドライブ!$P$33:$P$52,0),1,0)),0)","v":0},"*"]
[null,null,784,null,null,null,null,null,null,null,null,null,null,null,null,null,null,null,null,null,null,null,null,null,null,null,null,null,null,null,null,null,null,null,null,{"$f":"IFERROR(IF(T791=5,1,IF(MATCH(T791&\"/\"&V791,読み替え表_エコドライブ!$P$33:$P$52,0),1,0)),0)","v":0},"*"]
[null,null,785,null,null,null,null,null,null,null,null,null,null,null,null,null,null,null,null,null,null,null,null,null,null,null,null,null,null,null,null,null,null,null,null,{"$f":"IFERROR(IF(T792=5,1,IF(MATCH(T792&\"/\"&V792,読み替え表_エコドライブ!$P$33:$P$52,0),1,0)),0)","v":0},"*"]
[null,null,786,null,null,null,null,null,null,null,null,null,null,null,null,null,null,null,null,null,null,null,null,null,null,null,null,null,null,null,null,null,null,null,null,{"$f":"IFERROR(IF(T793=5,1,IF(MATCH(T793&\"/\"&V793,読み替え表_エコドライブ!$P$33:$P$52,0),1,0)),0)","v":0},"*"]
[null,null,787,null,null,null,null,null,null,null,null,null,null,null,null,null,null,null,null,null,null,null,null,null,null,null,null,null,null,null,null,null,null,null,null,{"$f":"IFERROR(IF(T794=5,1,IF(MATCH(T794&\"/\"&V794,読み替え表_エコドライブ!$P$33:$P$52,0),1,0)),0)","v":0},"*"]
[null,null,788,null,null,null,null,null,null,null,null,null,null,null,null,null,null,null,null,null,null,null,null,null,null,null,null,null,null,null,null,null,null,null,null,{"$f":"IFERROR(IF(T795=5,1,IF(MATCH(T795&\"/\"&V795,読み替え表_エコドライブ!$P$33:$P$52,0),1,0)),0)","v":0},"*"]
[null,null,789,null,null,null,null,null,null,null,null,null,null,null,null,null,null,null,null,null,null,null,null,null,null,null,null,null,null,null,null,null,null,null,null,{"$f":"IFERROR(IF(T796=5,1,IF(MATCH(T796&\"/\"&V796,読み替え表_エコドライブ!$P$33:$P$52,0),1,0)),0)","v":0},"*"]
[null,null,790,null,null,null,null,null,null,null,null,null,null,null,null,null,null,null,null,null,null,null,null,null,null,null,null,null,null,null,null,null,null,null,null,{"$f":"IFERROR(IF(T797=5,1,IF(MATCH(T797&\"/\"&V797,読み替え表_エコドライブ!$P$33:$P$52,0),1,0)),0)","v":0},"*"]
[null,null,791,null,null,null,null,null,null,null,null,null,null,null,null,null,null,null,null,null,null,null,null,null,null,null,null,null,null,null,null,null,null,null,null,{"$f":"IFERROR(IF(T798=5,1,IF(MATCH(T798&\"/\"&V798,読み替え表_エコドライブ!$P$33:$P$52,0),1,0)),0)","v":0},"*"]
[null,null,792,null,null,null,null,null,null,null,null,null,null,null,null,null,null,null,null,null,null,null,null,null,null,null,null,null,null,null,null,null,null,null,null,{"$f":"IFERROR(IF(T799=5,1,IF(MATCH(T799&\"/\"&V799,読み替え表_エコドライブ!$P$33:$P$52,0),1,0)),0)","v":0},"*"]
[null,null,793,null,null,null,null,null,null,null,null,null,null,null,null,null,null,null,null,null,null,null,null,null,null,null,null,null,null,null,null,null,null,null,null,{"$f":"IFERROR(IF(T800=5,1,IF(MATCH(T800&\"/\"&V800,読み替え表_エコドライブ!$P$33:$P$52,0),1,0)),0)","v":0},"*"]
[null,null,794,null,null,null,null,null,null,null,null,null,null,null,null,null,null,null,null,null,null,null,null,null,null,null,null,null,null,null,null,null,null,null,null,{"$f":"IFERROR(IF(T801=5,1,IF(MATCH(T801&\"/\"&V801,読み替え表_エコドライブ!$P$33:$P$52,0),1,0)),0)","v":0},"*"]
[null,null,795,null,null,null,null,null,null,null,null,null,null,null,null,null,null,null,null,null,null,null,null,null,null,null,null,null,null,null,null,null,null,null,null,{"$f":"IFERROR(IF(T802=5,1,IF(MATCH(T802&\"/\"&V802,読み替え表_エコドライブ!$P$33:$P$52,0),1,0)),0)","v":0},"*"]
[null,null,796,null,null,null,null,null,null,null,null,null,null,null,null,null,null,null,null,null,null,null,null,null,null,null,null,null,null,null,null,null,null,null,null,{"$f":"IFERROR(IF(T803=5,1,IF(MATCH(T803&\"/\"&V803,読み替え表_エコドライブ!$P$33:$P$52,0),1,0)),0)","v":0},"*"]
[null,null,797,null,null,null,null,null,null,null,null,null,null,null,null,null,null,null,null,null,null,null,null,null,null,null,null,null,null,null,null,null,null,null,null,{"$f":"IFERROR(IF(T804=5,1,IF(MATCH(T804&\"/\"&V804,読み替え表_エコドライブ!$P$33:$P$52,0),1,0)),0)","v":0},"*"]
[null,null,798,null,null,null,null,null,null,null,null,null,null,null,null,null,null,null,null,null,null,null,null,null,null,null,null,null,null,null,null,null,null,null,null,{"$f":"IFERROR(IF(T805=5,1,IF(MATCH(T805&\"/\"&V805,読み替え表_エコドライブ!$P$33:$P$52,0),1,0)),0)","v":0},"*"]
[null,null,799,null,null,null,null,null,null,null,null,null,null,null,null,null,null,null,null,null,null,null,null,null,null,null,null,null,null,null,null,null,null,null,null,{"$f":"IFERROR(IF(T806=5,1,IF(MATCH(T806&\"/\"&V806,読み替え表_エコドライブ!$P$33:$P$52,0),1,0)),0)","v":0},"*"]
[null,null,800,null,null,null,null,null,null,null,null,null,null,null,null,null,null,null,null,null,null,null,null,null,null,null,null,null,null,null,null,null,null,null,null,{"$f":"IFERROR(IF(T807=5,1,IF(MATCH(T807&\"/\"&V807,読み替え表_エコドライブ!$P$33:$P$52,0),1,0)),0)","v":0},"*"]
[null,null,801,null,null,null,null,null,null,null,null,null,null,null,null,null,null,null,null,null,null,null,null,null,null,null,null,null,null,null,null,null,null,null,null,{"$f":"IFERROR(IF(T808=5,1,IF(MATCH(T808&\"/\"&V808,読み替え表_エコドライブ!$P$33:$P$52,0),1,0)),0)","v":0},"*"]
[null,null,802,null,null,null,null,null,null,null,null,null,null,null,null,null,null,null,null,null,null,null,null,null,null,null,null,null,null,null,null,null,null,null,null,{"$f":"IFERROR(IF(T809=5,1,IF(MATCH(T809&\"/\"&V809,読み替え表_エコドライブ!$P$33:$P$52,0),1,0)),0)","v":0},"*"]
[null,null,803,null,null,null,null,null,null,null,null,null,null,null,null,null,null,null,null,null,null,null,null,null,null,null,null,null,null,null,null,null,null,null,null,{"$f":"IFERROR(IF(T810=5,1,IF(MATCH(T810&\"/\"&V810,読み替え表_エコドライブ!$P$33:$P$52,0),1,0)),0)","v":0},"*"]
[null,null,804,null,null,null,null,null,null,null,null,null,null,null,null,null,null,null,null,null,null,null,null,null,null,null,null,null,null,null,null,null,null,null,null,{"$f":"IFERROR(IF(T811=5,1,IF(MATCH(T811&\"/\"&V811,読み替え表_エコドライブ!$P$33:$P$52,0),1,0)),0)","v":0},"*"]
[null,null,805,null,null,null,null,null,null,null,null,null,null,null,null,null,null,null,null,null,null,null,null,null,null,null,null,null,null,null,null,null,null,null,null,{"$f":"IFERROR(IF(T812=5,1,IF(MATCH(T812&\"/\"&V812,読み替え表_エコドライブ!$P$33:$P$52,0),1,0)),0)","v":0},"*"]
[null,null,806,null,null,null,null,null,null,null,null,null,null,null,null,null,null,null,null,null,null,null,null,null,null,null,null,null,null,null,null,null,null,null,null,{"$f":"IFERROR(IF(T813=5,1,IF(MATCH(T813&\"/\"&V813,読み替え表_エコドライブ!$P$33:$P$52,0),1,0)),0)","v":0},"*"]
[null,null,807,null,null,null,null,null,null,null,null,null,null,null,null,null,null,null,null,null,null,null,null,null,null,null,null,null,null,null,null,null,null,null,null,{"$f":"IFERROR(IF(T814=5,1,IF(MATCH(T814&\"/\"&V814,読み替え表_エコドライブ!$P$33:$P$52,0),1,0)),0)","v":0},"*"]
[null,null,808,null,null,null,null,null,null,null,null,null,null,null,null,null,null,null,null,null,null,null,null,null,null,null,null,null,null,null,null,null,null,null,null,{"$f":"IFERROR(IF(T815=5,1,IF(MATCH(T815&\"/\"&V815,読み替え表_エコドライブ!$P$33:$P$52,0),1,0)),0)","v":0},"*"]
[null,null,809,null,null,null,null,null,null,null,null,null,null,null,null,null,null,null,null,null,null,null,null,null,null,null,null,null,null,null,null,null,null,null,null,{"$f":"IFERROR(IF(T816=5,1,IF(MATCH(T816&\"/\"&V816,読み替え表_エコドライブ!$P$33:$P$52,0),1,0)),0)","v":0},"*"]
[null,null,810,null,null,null,null,null,null,null,null,null,null,null,null,null,null,null,null,null,null,null,null,null,null,null,null,null,null,null,null,null,null,null,null,{"$f":"IFERROR(IF(T817=5,1,IF(MATCH(T817&\"/\"&V817,読み替え表_エコドライブ!$P$33:$P$52,0),1,0)),0)","v":0},"*"]
[null,null,811,null,null,null,null,null,null,null,null,null,null,null,null,null,null,null,null,null,null,null,null,null,null,null,null,null,null,null,null,null,null,null,null,{"$f":"IFERROR(IF(T818=5,1,IF(MATCH(T818&\"/\"&V818,読み替え表_エコドライブ!$P$33:$P$52,0),1,0)),0)","v":0},"*"]
[null,null,812,null,null,null,null,null,null,null,null,null,null,null,null,null,null,null,null,null,null,null,null,null,null,null,null,null,null,null,null,null,null,null,null,{"$f":"IFERROR(IF(T819=5,1,IF(MATCH(T819&\"/\"&V819,読み替え表_エコドライブ!$P$33:$P$52,0),1,0)),0)","v":0},"*"]
[null,null,813,null,null,null,null,null,null,null,null,null,null,null,null,null,null,null,null,null,null,null,null,null,null,null,null,null,null,null,null,null,null,null,null,{"$f":"IFERROR(IF(T820=5,1,IF(MATCH(T820&\"/\"&V820,読み替え表_エコドライブ!$P$33:$P$52,0),1,0)),0)","v":0},"*"]
[null,null,814,null,null,null,null,null,null,null,null,null,null,null,null,null,null,null,null,null,null,null,null,null,null,null,null,null,null,null,null,null,null,null,null,{"$f":"IFERROR(IF(T821=5,1,IF(MATCH(T821&\"/\"&V821,読み替え表_エコドライブ!$P$33:$P$52,0),1,0)),0)","v":0},"*"]
[null,null,815,null,null,null,null,null,null,null,null,null,null,null,null,null,null,null,null,null,null,null,null,null,null,null,null,null,null,null,null,null,null,null,null,{"$f":"IFERROR(IF(T822=5,1,IF(MATCH(T822&\"/\"&V822,読み替え表_エコドライブ!$P$33:$P$52,0),1,0)),0)","v":0},"*"]
[null,null,816,null,null,null,null,null,null,null,null,null,null,null,null,null,null,null,null,null,null,null,null,null,null,null,null,null,null,null,null,null,null,null,null,{"$f":"IFERROR(IF(T823=5,1,IF(MATCH(T823&\"/\"&V823,読み替え表_エコドライブ!$P$33:$P$52,0),1,0)),0)","v":0},"*"]
[null,null,817,null,null,null,null,null,null,null,null,null,null,null,null,null,null,null,null,null,null,null,null,null,null,null,null,null,null,null,null,null,null,null,null,{"$f":"IFERROR(IF(T824=5,1,IF(MATCH(T824&\"/\"&V824,読み替え表_エコドライブ!$P$33:$P$52,0),1,0)),0)","v":0},"*"]
[null,null,818,null,null,null,null,null,null,null,null,null,null,null,null,null,null,null,null,null,null,null,null,null,null,null,null,null,null,null,null,null,null,null,null,{"$f":"IFERROR(IF(T825=5,1,IF(MATCH(T825&\"/\"&V825,読み替え表_エコドライブ!$P$33:$P$52,0),1,0)),0)","v":0},"*"]
[null,null,819,null,null,null,null,null,null,null,null,null,null,null,null,null,null,null,null,null,null,null,null,null,null,null,null,null,null,null,null,null,null,null,null,{"$f":"IFERROR(IF(T826=5,1,IF(MATCH(T826&\"/\"&V826,読み替え表_エコドライブ!$P$33:$P$52,0),1,0)),0)","v":0},"*"]
[null,null,820,null,null,null,null,null,null,null,null,null,null,null,null,null,null,null,null,null,null,null,null,null,null,null,null,null,null,null,null,null,null,null,null,{"$f":"IFERROR(IF(T827=5,1,IF(MATCH(T827&\"/\"&V827,読み替え表_エコドライブ!$P$33:$P$52,0),1,0)),0)","v":0},"*"]
[null,null,821,null,null,null,null,null,null,null,null,null,null,null,null,null,null,null,null,null,null,null,null,null,null,null,null,null,null,null,null,null,null,null,null,{"$f":"IFERROR(IF(T828=5,1,IF(MATCH(T828&\"/\"&V828,読み替え表_エコドライブ!$P$33:$P$52,0),1,0)),0)","v":0},"*"]
[null,null,822,null,null,null,null,null,null,null,null,null,null,null,null,null,null,null,null,null,null,null,null,null,null,null,null,null,null,null,null,null,null,null,null,{"$f":"IFERROR(IF(T829=5,1,IF(MATCH(T829&\"/\"&V829,読み替え表_エコドライブ!$P$33:$P$52,0),1,0)),0)","v":0},"*"]
[null,null,823,null,null,null,null,null,null,null,null,null,null,null,null,null,null,null,null,null,null,null,null,null,null,null,null,null,null,null,null,null,null,null,null,{"$f":"IFERROR(IF(T830=5,1,IF(MATCH(T830&\"/\"&V830,読み替え表_エコドライブ!$P$33:$P$52,0),1,0)),0)","v":0},"*"]
[null,null,824,null,null,null,null,null,null,null,null,null,null,null,null,null,null,null,null,null,null,null,null,null,null,null,null,null,null,null,null,null,null,null,null,{"$f":"IFERROR(IF(T831=5,1,IF(MATCH(T831&\"/\"&V831,読み替え表_エコドライブ!$P$33:$P$52,0),1,0)),0)","v":0},"*"]
[null,null,825,null,null,null,null,null,null,null,null,null,null,null,null,null,null,null,null,null,null,null,null,null,null,null,null,null,null,null,null,null,null,null,null,{"$f":"IFERROR(IF(T832=5,1,IF(MATCH(T832&\"/\"&V832,読み替え表_エコドライブ!$P$33:$P$52,0),1,0)),0)","v":0},"*"]
[null,null,826,null,null,null,null,null,null,null,null,null,null,null,null,null,null,null,null,null,null,null,null,null,null,null,null,null,null,null,null,null,null,null,null,{"$f":"IFERROR(IF(T833=5,1,IF(MATCH(T833&\"/\"&V833,読み替え表_エコドライブ!$P$33:$P$52,0),1,0)),0)","v":0},"*"]
[null,null,827,null,null,null,null,null,null,null,null,null,null,null,null,null,null,null,null,null,null,null,null,null,null,null,null,null,null,null,null,null,null,null,null,{"$f":"IFERROR(IF(T834=5,1,IF(MATCH(T834&\"/\"&V834,読み替え表_エコドライブ!$P$33:$P$52,0),1,0)),0)","v":0},"*"]
[null,null,828,null,null,null,null,null,null,null,null,null,null,null,null,null,null,null,null,null,null,null,null,null,null,null,null,null,null,null,null,null,null,null,null,{"$f":"IFERROR(IF(T835=5,1,IF(MATCH(T835&\"/\"&V835,読み替え表_エコドライブ!$P$33:$P$52,0),1,0)),0)","v":0},"*"]
[null,null,829,null,null,null,null,null,null,null,null,null,null,null,null,null,null,null,null,null,null,null,null,null,null,null,null,null,null,null,null,null,null,null,null,{"$f":"IFERROR(IF(T836=5,1,IF(MATCH(T836&\"/\"&V836,読み替え表_エコドライブ!$P$33:$P$52,0),1,0)),0)","v":0},"*"]
[null,null,830,null,null,null,null,null,null,null,null,null,null,null,null,null,null,null,null,null,null,null,null,null,null,null,null,null,null,null,null,null,null,null,null,{"$f":"IFERROR(IF(T837=5,1,IF(MATCH(T837&\"/\"&V837,読み替え表_エコドライブ!$P$33:$P$52,0),1,0)),0)","v":0},"*"]
[null,null,831,null,null,null,null,null,null,null,null,null,null,null,null,null,null,null,null,null,null,null,null,null,null,null,null,null,null,null,null,null,null,null,null,{"$f":"IFERROR(IF(T838=5,1,IF(MATCH(T838&\"/\"&V838,読み替え表_エコドライブ!$P$33:$P$52,0),1,0)),0)","v":0},"*"]
[null,null,832,null,null,null,null,null,null,null,null,null,null,null,null,null,null,null,null,null,null,null,null,null,null,null,null,null,null,null,null,null,null,null,null,{"$f":"IFERROR(IF(T839=5,1,IF(MATCH(T839&\"/\"&V839,読み替え表_エコドライブ!$P$33:$P$52,0),1,0)),0)","v":0},"*"]
[null,null,833,null,null,null,null,null,null,null,null,null,null,null,null,null,null,null,null,null,null,null,null,null,null,null,null,null,null,null,null,null,null,null,null,{"$f":"IFERROR(IF(T840=5,1,IF(MATCH(T840&\"/\"&V840,読み替え表_エコドライブ!$P$33:$P$52,0),1,0)),0)","v":0},"*"]
[null,null,{"$f":"ROW()-7","v":834},null,null,null,null,null,null,null,null,null,null,null,null,null,null,null,null,null,null,null,null,null,null,null,null,null,null,null,null,null,null,null,null,{"$f":"IFERROR(IF(T841=5,1,IF(MATCH(T841&\"/\"&V841,読み替え表_エコドライブ!$P$33:$P$52,0),1,0)),0)","v":0},"*"]
[null,null,835,null,null,null,null,null,null,null,null,null,null,null,null,null,null,null,null,null,null,null,null,null,null,null,null,null,null,null,null,null,null,null,null,{"$f":"IFERROR(IF(T842=5,1,IF(MATCH(T842&\"/\"&V842,読み替え表_エコドライブ!$P$33:$P$52,0),1,0)),0)","v":0},"*"]
[null,null,836,null,null,null,null,null,null,null,null,null,null,null,null,null,null,null,null,null,null,null,null,null,null,null,null,null,null,null,null,null,null,null,null,{"$f":"IFERROR(IF(T843=5,1,IF(MATCH(T843&\"/\"&V843,読み替え表_エコドライブ!$P$33:$P$52,0),1,0)),0)","v":0},"*"]
[null,null,837,null,null,null,null,null,null,null,null,null,null,null,null,null,null,null,null,null,null,null,null,null,null,null,null,null,null,null,null,null,null,null,null,{"$f":"IFERROR(IF(T844=5,1,IF(MATCH(T844&\"/\"&V844,読み替え表_エコドライブ!$P$33:$P$52,0),1,0)),0)","v":0},"*"]
[null,null,838,null,null,null,null,null,null,null,null,null,null,null,null,null,null,null,null,null,null,null,null,null,null,null,null,null,null,null,null,null,null,null,null,{"$f":"IFERROR(IF(T845=5,1,IF(MATCH(T845&\"/\"&V845,読み替え表_エコドライブ!$P$33:$P$52,0),1,0)),0)","v":0},"*"]
[null,null,839,null,null,null,null,null,null,null,null,null,null,null,null,null,null,null,null,null,null,null,null,null,null,null,null,null,null,null,null,null,null,null,null,{"$f":"IFERROR(IF(T846=5,1,IF(MATCH(T846&\"/\"&V846,読み替え表_エコドライブ!$P$33:$P$52,0),1,0)),0)","v":0},"*"]
[null,null,840,null,null,null,null,null,null,null,null,null,null,null,null,null,null,null,null,null,null,null,null,null,null,null,null,null,null,null,null,null,null,null,null,{"$f":"IFERROR(IF(T847=5,1,IF(MATCH(T847&\"/\"&V847,読み替え表_エコドライブ!$P$33:$P$52,0),1,0)),0)","v":0},"*"]
[null,null,841,null,null,null,null,null,null,null,null,null,null,null,null,null,null,null,null,null,null,null,null,null,null,null,null,null,null,null,null,null,null,null,null,{"$f":"IFERROR(IF(T848=5,1,IF(MATCH(T848&\"/\"&V848,読み替え表_エコドライブ!$P$33:$P$52,0),1,0)),0)","v":0},"*"]
[null,null,842,null,null,null,null,null,null,null,null,null,null,null,null,null,null,null,null,null,null,null,null,null,null,null,null,null,null,null,null,null,null,null,null,{"$f":"IFERROR(IF(T849=5,1,IF(MATCH(T849&\"/\"&V849,読み替え表_エコドライブ!$P$33:$P$52,0),1,0)),0)","v":0},"*"]
[null,null,843,null,null,null,null,null,null,null,null,null,null,null,null,null,null,null,null,null,null,null,null,null,null,null,null,null,null,null,null,null,null,null,null,{"$f":"IFERROR(IF(T850=5,1,IF(MATCH(T850&\"/\"&V850,読み替え表_エコドライブ!$P$33:$P$52,0),1,0)),0)","v":0},"*"]
[null,null,844,null,null,null,null,null,null,null,null,null,null,null,null,null,null,null,null,null,null,null,null,null,null,null,null,null,null,null,null,null,null,null,null,{"$f":"IFERROR(IF(T851=5,1,IF(MATCH(T851&\"/\"&V851,読み替え表_エコドライブ!$P$33:$P$52,0),1,0)),0)","v":0},"*"]
[null,null,845,null,null,null,null,null,null,null,null,null,null,null,null,null,null,null,null,null,null,null,null,null,null,null,null,null,null,null,null,null,null,null,null,{"$f":"IFERROR(IF(T852=5,1,IF(MATCH(T852&\"/\"&V852,読み替え表_エコドライブ!$P$33:$P$52,0),1,0)),0)","v":0},"*"]
[null,null,846,null,null,null,null,null,null,null,null,null,null,null,null,null,null,null,null,null,null,null,null,null,null,null,null,null,null,null,null,null,null,null,null,{"$f":"IFERROR(IF(T853=5,1,IF(MATCH(T853&\"/\"&V853,読み替え表_エコドライブ!$P$33:$P$52,0),1,0)),0)","v":0},"*"]
[null,null,847,null,null,null,null,null,null,null,null,null,null,null,null,null,null,null,null,null,null,null,null,null,null,null,null,null,null,null,null,null,null,null,null,{"$f":"IFERROR(IF(T854=5,1,IF(MATCH(T854&\"/\"&V854,読み替え表_エコドライブ!$P$33:$P$52,0),1,0)),0)","v":0},"*"]
[null,null,848,null,null,null,null,null,null,null,null,null,null,null,null,null,null,null,null,null,null,null,null,null,null,null,null,null,null,null,null,null,null,null,null,{"$f":"IFERROR(IF(T855=5,1,IF(MATCH(T855&\"/\"&V855,読み替え表_エコドライブ!$P$33:$P$52,0),1,0)),0)","v":0},"*"]
[null,null,849,null,null,null,null,null,null,null,null,null,null,null,null,null,null,null,null,null,null,null,null,null,null,null,null,null,null,null,null,null,null,null,null,{"$f":"IFERROR(IF(T856=5,1,IF(MATCH(T856&\"/\"&V856,読み替え表_エコドライブ!$P$33:$P$52,0),1,0)),0)","v":0},"*"]
[null,null,850,null,null,null,null,null,null,null,null,null,null,null,null,null,null,null,null,null,null,null,null,null,null,null,null,null,null,null,null,null,null,null,null,{"$f":"IFERROR(IF(T857=5,1,IF(MATCH(T857&\"/\"&V857,読み替え表_エコドライブ!$P$33:$P$52,0),1,0)),0)","v":0},"*"]
[null,null,851,null,null,null,null,null,null,null,null,null,null,null,null,null,null,null,null,null,null,null,null,null,null,null,null,null,null,null,null,null,null,null,null,{"$f":"IFERROR(IF(T858=5,1,IF(MATCH(T858&\"/\"&V858,読み替え表_エコドライブ!$P$33:$P$52,0),1,0)),0)","v":0},"*"]
[null,null,852,null,null,null,null,null,null,null,null,null,null,null,null,null,null,null,null,null,null,null,null,null,null,null,null,null,null,null,null,null,null,null,null,{"$f":"IFERROR(IF(T859=5,1,IF(MATCH(T859&\"/\"&V859,読み替え表_エコドライブ!$P$33:$P$52,0),1,0)),0)","v":0},"*"]
[null,null,853,null,null,null,null,null,null,null,null,null,null,null,null,null,null,null,null,null,null,null,null,null,null,null,null,null,null,null,null,null,null,null,null,{"$f":"IFERROR(IF(T860=5,1,IF(MATCH(T860&\"/\"&V860,読み替え表_エコドライブ!$P$33:$P$52,0),1,0)),0)","v":0},"*"]
[null,null,854,null,null,null,null,null,null,null,null,null,null,null,null,null,null,null,null,null,null,null,null,null,null,null,null,null,null,null,null,null,null,null,null,{"$f":"IFERROR(IF(T861=5,1,IF(MATCH(T861&\"/\"&V861,読み替え表_エコドライブ!$P$33:$P$52,0),1,0)),0)","v":0},"*"]
[null,null,855,null,null,null,null,null,null,null,null,null,null,null,null,null,null,null,null,null,null,null,null,null,null,null,null,null,null,null,null,null,null,null,null,{"$f":"IFERROR(IF(T862=5,1,IF(MATCH(T862&\"/\"&V862,読み替え表_エコドライブ!$P$33:$P$52,0),1,0)),0)","v":0},"*"]
[null,null,856,null,null,null,null,null,null,null,null,null,null,null,null,null,null,null,null,null,null,null,null,null,null,null,null,null,null,null,null,null,null,null,null,{"$f":"IFERROR(IF(T863=5,1,IF(MATCH(T863&\"/\"&V863,読み替え表_エコドライブ!$P$33:$P$52,0),1,0)),0)","v":0},"*"]
[null,null,857,null,null,null,null,null,null,null,null,null,null,null,null,null,null,null,null,null,null,null,null,null,null,null,null,null,null,null,null,null,null,null,null,{"$f":"IFERROR(IF(T864=5,1,IF(MATCH(T864&\"/\"&V864,読み替え表_エコドライブ!$P$33:$P$52,0),1,0)),0)","v":0},"*"]
[null,null,858,null,null,null,null,null,null,null,null,null,null,null,null,null,null,null,null,null,null,null,null,null,null,null,null,null,null,null,null,null,null,null,null,{"$f":"IFERROR(IF(T865=5,1,IF(MATCH(T865&\"/\"&V865,読み替え表_エコドライブ!$P$33:$P$52,0),1,0)),0)","v":0},"*"]
[null,null,859,null,null,null,null,null,null,null,null,null,null,null,null,null,null,null,null,null,null,null,null,null,null,null,null,null,null,null,null,null,null,null,null,{"$f":"IFERROR(IF(T866=5,1,IF(MATCH(T866&\"/\"&V866,読み替え表_エコドライブ!$P$33:$P$52,0),1,0)),0)","v":0},"*"]
[null,null,860,null,null,null,null,null,null,null,null,null,null,null,null,null,null,null,null,null,null,null,null,null,null,null,null,null,null,null,null,null,null,null,null,{"$f":"IFERROR(IF(T867=5,1,IF(MATCH(T867&\"/\"&V867,読み替え表_エコドライブ!$P$33:$P$52,0),1,0)),0)","v":0},"*"]
[null,null,861,null,null,null,null,null,null,null,null,null,null,null,null,null,null,null,null,null,null,null,null,null,null,null,null,null,null,null,null,null,null,null,null,{"$f":"IFERROR(IF(T868=5,1,IF(MATCH(T868&\"/\"&V868,読み替え表_エコドライブ!$P$33:$P$52,0),1,0)),0)","v":0},"*"]
[null,null,862,null,null,null,null,null,null,null,null,null,null,null,null,null,null,null,null,null,null,null,null,null,null,null,null,null,null,null,null,null,null,null,null,{"$f":"IFERROR(IF(T869=5,1,IF(MATCH(T869&\"/\"&V869,読み替え表_エコドライブ!$P$33:$P$52,0),1,0)),0)","v":0},"*"]
[null,null,863,null,null,null,null,null,null,null,null,null,null,null,null,null,null,null,null,null,null,null,null,null,null,null,null,null,null,null,null,null,null,null,null,{"$f":"IFERROR(IF(T870=5,1,IF(MATCH(T870&\"/\"&V870,読み替え表_エコドライブ!$P$33:$P$52,0),1,0)),0)","v":0},"*"]
[null,null,864,null,null,null,null,null,null,null,null,null,null,null,null,null,null,null,null,null,null,null,null,null,null,null,null,null,null,null,null,null,null,null,null,{"$f":"IFERROR(IF(T871=5,1,IF(MATCH(T871&\"/\"&V871,読み替え表_エコドライブ!$P$33:$P$52,0),1,0)),0)","v":0},"*"]
[null,null,865,null,null,null,null,null,null,null,null,null,null,null,null,null,null,null,null,null,null,null,null,null,null,null,null,null,null,null,null,null,null,null,null,{"$f":"IFERROR(IF(T872=5,1,IF(MATCH(T872&\"/\"&V872,読み替え表_エコドライブ!$P$33:$P$52,0),1,0)),0)","v":0},"*"]
[null,null,866,null,null,null,null,null,null,null,null,null,null,null,null,null,null,null,null,null,null,null,null,null,null,null,null,null,null,null,null,null,null,null,null,{"$f":"IFERROR(IF(T873=5,1,IF(MATCH(T873&\"/\"&V873,読み替え表_エコドライブ!$P$33:$P$52,0),1,0)),0)","v":0},"*"]
[null,null,867,null,null,null,null,null,null,null,null,null,null,null,null,null,null,null,null,null,null,null,null,null,null,null,null,null,null,null,null,null,null,null,null,{"$f":"IFERROR(IF(T874=5,1,IF(MATCH(T874&\"/\"&V874,読み替え表_エコドライブ!$P$33:$P$52,0),1,0)),0)","v":0},"*"]
[null,null,868,null,null,null,null,null,null,null,null,null,null,null,null,null,null,null,null,null,null,null,null,null,null,null,null,null,null,null,null,null,null,null,null,{"$f":"IFERROR(IF(T875=5,1,IF(MATCH(T875&\"/\"&V875,読み替え表_エコドライブ!$P$33:$P$52,0),1,0)),0)","v":0},"*"]
[null,null,869,null,null,null,null,null,null,null,null,null,null,null,null,null,null,null,null,null,null,null,null,null,null,null,null,null,null,null,null,null,null,null,null,{"$f":"IFERROR(IF(T876=5,1,IF(MATCH(T876&\"/\"&V876,読み替え表_エコドライブ!$P$33:$P$52,0),1,0)),0)","v":0},"*"]
[null,null,870,null,null,null,null,null,null,null,null,null,null,null,null,null,null,null,null,null,null,null,null,null,null,null,null,null,null,null,null,null,null,null,null,{"$f":"IFERROR(IF(T877=5,1,IF(MATCH(T877&\"/\"&V877,読み替え表_エコドライブ!$P$33:$P$52,0),1,0)),0)","v":0},"*"]
[null,null,871,null,null,null,null,null,null,null,null,null,null,null,null,null,null,null,null,null,null,null,null,null,null,null,null,null,null,null,null,null,null,null,null,{"$f":"IFERROR(IF(T878=5,1,IF(MATCH(T878&\"/\"&V878,読み替え表_エコドライブ!$P$33:$P$52,0),1,0)),0)","v":0},"*"]
[null,null,872,null,null,null,null,null,null,null,null,null,null,null,null,null,null,null,null,null,null,null,null,null,null,null,null,null,null,null,null,null,null,null,null,{"$f":"IFERROR(IF(T879=5,1,IF(MATCH(T879&\"/\"&V879,読み替え表_エコドライブ!$P$33:$P$52,0),1,0)),0)","v":0},"*"]
[null,null,873,null,null,null,null,null,null,null,null,null,null,null,null,null,null,null,null,null,null,null,null,null,null,null,null,null,null,null,null,null,null,null,null,{"$f":"IFERROR(IF(T880=5,1,IF(MATCH(T880&\"/\"&V880,読み替え表_エコドライブ!$P$33:$P$52,0),1,0)),0)","v":0},"*"]
[null,null,874,null,null,null,null,null,null,null,null,null,null,null,null,null,null,null,null,null,null,null,null,null,null,null,null,null,null,null,null,null,null,null,null,{"$f":"IFERROR(IF(T881=5,1,IF(MATCH(T881&\"/\"&V881,読み替え表_エコドライブ!$P$33:$P$52,0),1,0)),0)","v":0},"*"]
[null,null,875,null,null,null,null,null,null,null,null,null,null,null,null,null,null,null,null,null,null,null,null,null,null,null,null,null,null,null,null,null,null,null,null,{"$f":"IFERROR(IF(T882=5,1,IF(MATCH(T882&\"/\"&V882,読み替え表_エコドライブ!$P$33:$P$52,0),1,0)),0)","v":0},"*"]
[null,null,876,null,null,null,null,null,null,null,null,null,null,null,null,null,null,null,null,null,null,null,null,null,null,null,null,null,null,null,null,null,null,null,null,{"$f":"IFERROR(IF(T883=5,1,IF(MATCH(T883&\"/\"&V883,読み替え表_エコドライブ!$P$33:$P$52,0),1,0)),0)","v":0},"*"]
[null,null,877,null,null,null,null,null,null,null,null,null,null,null,null,null,null,null,null,null,null,null,null,null,null,null,null,null,null,null,null,null,null,null,null,{"$f":"IFERROR(IF(T884=5,1,IF(MATCH(T884&\"/\"&V884,読み替え表_エコドライブ!$P$33:$P$52,0),1,0)),0)","v":0},"*"]
[null,null,878,null,null,null,null,null,null,null,null,null,null,null,null,null,null,null,null,null,null,null,null,null,null,null,null,null,null,null,null,null,null,null,null,{"$f":"IFERROR(IF(T885=5,1,IF(MATCH(T885&\"/\"&V885,読み替え表_エコドライブ!$P$33:$P$52,0),1,0)),0)","v":0},"*"]
[null,null,879,null,null,null,null,null,null,null,null,null,null,null,null,null,null,null,null,null,null,null,null,null,null,null,null,null,null,null,null,null,null,null,null,{"$f":"IFERROR(IF(T886=5,1,IF(MATCH(T886&\"/\"&V886,読み替え表_エコドライブ!$P$33:$P$52,0),1,0)),0)","v":0},"*"]
[null,null,880,null,null,null,null,null,null,null,null,null,null,null,null,null,null,null,null,null,null,null,null,null,null,null,null,null,null,null,null,null,null,null,null,{"$f":"IFERROR(IF(T887=5,1,IF(MATCH(T887&\"/\"&V887,読み替え表_エコドライブ!$P$33:$P$52,0),1,0)),0)","v":0},"*"]
[null,null,881,null,null,null,null,null,null,null,null,null,null,null,null,null,null,null,null,null,null,null,null,null,null,null,null,null,null,null,null,null,null,null,null,{"$f":"IFERROR(IF(T888=5,1,IF(MATCH(T888&\"/\"&V888,読み替え表_エコドライブ!$P$33:$P$52,0),1,0)),0)","v":0},"*"]
[null,null,882,null,null,null,null,null,null,null,null,null,null,null,null,null,null,null,null,null,null,null,null,null,null,null,null,null,null,null,null,null,null,null,null,{"$f":"IFERROR(IF(T889=5,1,IF(MATCH(T889&\"/\"&V889,読み替え表_エコドライブ!$P$33:$P$52,0),1,0)),0)","v":0},"*"]
[null,null,883,null,null,null,null,null,null,null,null,null,null,null,null,null,null,null,null,null,null,null,null,null,null,null,null,null,null,null,null,null,null,null,null,{"$f":"IFERROR(IF(T890=5,1,IF(MATCH(T890&\"/\"&V890,読み替え表_エコドライブ!$P$33:$P$52,0),1,0)),0)","v":0},"*"]
[null,null,884,null,null,null,null,null,null,null,null,null,null,null,null,null,null,null,null,null,null,null,null,null,null,null,null,null,null,null,null,null,null,null,null,{"$f":"IFERROR(IF(T891=5,1,IF(MATCH(T891&\"/\"&V891,読み替え表_エコドライブ!$P$33:$P$52,0),1,0)),0)","v":0},"*"]
[null,null,885,null,null,null,null,null,null,null,null,null,null,null,null,null,null,null,null,null,null,null,null,null,null,null,null,null,null,null,null,null,null,null,null,{"$f":"IFERROR(IF(T892=5,1,IF(MATCH(T892&\"/\"&V892,読み替え表_エコドライブ!$P$33:$P$52,0),1,0)),0)","v":0},"*"]
[null,null,886,null,null,null,null,null,null,null,null,null,null,null,null,null,null,null,null,null,null,null,null,null,null,null,null,null,null,null,null,null,null,null,null,{"$f":"IFERROR(IF(T893=5,1,IF(MATCH(T893&\"/\"&V893,読み替え表_エコドライブ!$P$33:$P$52,0),1,0)),0)","v":0},"*"]
[null,null,887,null,null,null,null,null,null,null,null,null,null,null,null,null,null,null,null,null,null,null,null,null,null,null,null,null,null,null,null,null,null,null,null,{"$f":"IFERROR(IF(T894=5,1,IF(MATCH(T894&\"/\"&V894,読み替え表_エコドライブ!$P$33:$P$52,0),1,0)),0)","v":0},"*"]
[null,null,888,null,null,null,null,null,null,null,null,null,null,null,null,null,null,null,null,null,null,null,null,null,null,null,null,null,null,null,null,null,null,null,null,{"$f":"IFERROR(IF(T895=5,1,IF(MATCH(T895&\"/\"&V895,読み替え表_エコドライブ!$P$33:$P$52,0),1,0)),0)","v":0},"*"]
[null,null,889,null,null,null,null,null,null,null,null,null,null,null,null,null,null,null,null,null,null,null,null,null,null,null,null,null,null,null,null,null,null,null,null,{"$f":"IFERROR(IF(T896=5,1,IF(MATCH(T896&\"/\"&V896,読み替え表_エコドライブ!$P$33:$P$52,0),1,0)),0)","v":0},"*"]
[null,null,890,null,null,null,null,null,null,null,null,null,null,null,null,null,null,null,null,null,null,null,null,null,null,null,null,null,null,null,null,null,null,null,null,{"$f":"IFERROR(IF(T897=5,1,IF(MATCH(T897&\"/\"&V897,読み替え表_エコドライブ!$P$33:$P$52,0),1,0)),0)","v":0},"*"]
[null,null,891,null,null,null,null,null,null,null,null,null,null,null,null,null,null,null,null,null,null,null,null,null,null,null,null,null,null,null,null,null,null,null,null,{"$f":"IFERROR(IF(T898=5,1,IF(MATCH(T898&\"/\"&V898,読み替え表_エコドライブ!$P$33:$P$52,0),1,0)),0)","v":0},"*"]
[null,null,892,null,null,null,null,null,null,null,null,null,null,null,null,null,null,null,null,null,null,null,null,null,null,null,null,null,null,null,null,null,null,null,null,{"$f":"IFERROR(IF(T899=5,1,IF(MATCH(T899&\"/\"&V899,読み替え表_エコドライブ!$P$33:$P$52,0),1,0)),0)","v":0},"*"]
[null,null,893,null,null,null,null,null,null,null,null,null,null,null,null,null,null,null,null,null,null,null,null,null,null,null,null,null,null,null,null,null,null,null,null,{"$f":"IFERROR(IF(T900=5,1,IF(MATCH(T900&\"/\"&V900,読み替え表_エコドライブ!$P$33:$P$52,0),1,0)),0)","v":0},"*"]
[null,null,894,null,null,null,null,null,null,null,null,null,null,null,null,null,null,null,null,null,null,null,null,null,null,null,null,null,null,null,null,null,null,null,null,{"$f":"IFERROR(IF(T901=5,1,IF(MATCH(T901&\"/\"&V901,読み替え表_エコドライブ!$P$33:$P$52,0),1,0)),0)","v":0},"*"]
[null,null,895,null,null,null,null,null,null,null,null,null,null,null,null,null,null,null,null,null,null,null,null,null,null,null,null,null,null,null,null,null,null,null,null,{"$f":"IFERROR(IF(T902=5,1,IF(MATCH(T902&\"/\"&V902,読み替え表_エコドライブ!$P$33:$P$52,0),1,0)),0)","v":0},"*"]
[null,null,896,null,null,null,null,null,null,null,null,null,null,null,null,null,null,null,null,null,null,null,null,null,null,null,null,null,null,null,null,null,null,null,null,{"$f":"IFERROR(IF(T903=5,1,IF(MATCH(T903&\"/\"&V903,読み替え表_エコドライブ!$P$33:$P$52,0),1,0)),0)","v":0},"*"]
[null,null,897,null,null,null,null,null,null,null,null,null,null,null,null,null,null,null,null,null,null,null,null,null,null,null,null,null,null,null,null,null,null,null,null,{"$f":"IFERROR(IF(T904=5,1,IF(MATCH(T904&\"/\"&V904,読み替え表_エコドライブ!$P$33:$P$52,0),1,0)),0)","v":0},"*"]
[null,null,{"$f":"ROW()-7","v":898},null,null,null,null,null,null,null,null,null,null,null,null,null,null,null,null,null,null,null,null,null,null,null,null,null,null,null,null,null,null,null,null,{"$f":"IFERROR(IF(T905=5,1,IF(MATCH(T905&\"/\"&V905,読み替え表_エコドライブ!$P$33:$P$52,0),1,0)),0)","v":0},"*"]
[null,null,899,null,null,null,null,null,null,null,null,null,null,null,null,null,null,null,null,null,null,null,null,null,null,null,null,null,null,null,null,null,null,null,null,{"$f":"IFERROR(IF(T906=5,1,IF(MATCH(T906&\"/\"&V906,読み替え表_エコドライブ!$P$33:$P$52,0),1,0)),0)","v":0},"*"]
[null,null,900,null,null,null,null,null,null,null,null,null,null,null,null,null,null,null,null,null,null,null,null,null,null,null,null,null,null,null,null,null,null,null,null,{"$f":"IFERROR(IF(T907=5,1,IF(MATCH(T907&\"/\"&V907,読み替え表_エコドライブ!$P$33:$P$52,0),1,0)),0)","v":0},"*"]
[null,null,901,null,null,null,null,null,null,null,null,null,null,null,null,null,null,null,null,null,null,null,null,null,null,null,null,null,null,null,null,null,null,null,null,{"$f":"IFERROR(IF(T908=5,1,IF(MATCH(T908&\"/\"&V908,読み替え表_エコドライブ!$P$33:$P$52,0),1,0)),0)","v":0},"*"]
[null,null,902,null,null,null,null,null,null,null,null,null,null,null,null,null,null,null,null,null,null,null,null,null,null,null,null,null,null,null,null,null,null,null,null,{"$f":"IFERROR(IF(T909=5,1,IF(MATCH(T909&\"/\"&V909,読み替え表_エコドライブ!$P$33:$P$52,0),1,0)),0)","v":0},"*"]
[null,null,903,null,null,null,null,null,null,null,null,null,null,null,null,null,null,null,null,null,null,null,null,null,null,null,null,null,null,null,null,null,null,null,null,{"$f":"IFERROR(IF(T910=5,1,IF(MATCH(T910&\"/\"&V910,読み替え表_エコドライブ!$P$33:$P$52,0),1,0)),0)","v":0},"*"]
[null,null,904,null,null,null,null,null,null,null,null,null,null,null,null,null,null,null,null,null,null,null,null,null,null,null,null,null,null,null,null,null,null,null,null,{"$f":"IFERROR(IF(T911=5,1,IF(MATCH(T911&\"/\"&V911,読み替え表_エコドライブ!$P$33:$P$52,0),1,0)),0)","v":0},"*"]
[null,null,905,null,null,null,null,null,null,null,null,null,null,null,null,null,null,null,null,null,null,null,null,null,null,null,null,null,null,null,null,null,null,null,null,{"$f":"IFERROR(IF(T912=5,1,IF(MATCH(T912&\"/\"&V912,読み替え表_エコドライブ!$P$33:$P$52,0),1,0)),0)","v":0},"*"]
[null,null,906,null,null,null,null,null,null,null,null,null,null,null,null,null,null,null,null,null,null,null,null,null,null,null,null,null,null,null,null,null,null,null,null,{"$f":"IFERROR(IF(T913=5,1,IF(MATCH(T913&\"/\"&V913,読み替え表_エコドライブ!$P$33:$P$52,0),1,0)),0)","v":0},"*"]
[null,null,907,null,null,null,null,null,null,null,null,null,null,null,null,null,null,null,null,null,null,null,null,null,null,null,null,null,null,null,null,null,null,null,null,{"$f":"IFERROR(IF(T914=5,1,IF(MATCH(T914&\"/\"&V914,読み替え表_エコドライブ!$P$33:$P$52,0),1,0)),0)","v":0},"*"]
[null,null,908,null,null,null,null,null,null,null,null,null,null,null,null,null,null,null,null,null,null,null,null,null,null,null,null,null,null,null,null,null,null,null,null,{"$f":"IFERROR(IF(T915=5,1,IF(MATCH(T915&\"/\"&V915,読み替え表_エコドライブ!$P$33:$P$52,0),1,0)),0)","v":0},"*"]
[null,null,909,null,null,null,null,null,null,null,null,null,null,null,null,null,null,null,null,null,null,null,null,null,null,null,null,null,null,null,null,null,null,null,null,{"$f":"IFERROR(IF(T916=5,1,IF(MATCH(T916&\"/\"&V916,読み替え表_エコドライブ!$P$33:$P$52,0),1,0)),0)","v":0},"*"]
[null,null,910,null,null,null,null,null,null,null,null,null,null,null,null,null,null,null,null,null,null,null,null,null,null,null,null,null,null,null,null,null,null,null,null,{"$f":"IFERROR(IF(T917=5,1,IF(MATCH(T917&\"/\"&V917,読み替え表_エコドライブ!$P$33:$P$52,0),1,0)),0)","v":0},"*"]
[null,null,911,null,null,null,null,null,null,null,null,null,null,null,null,null,null,null,null,null,null,null,null,null,null,null,null,null,null,null,null,null,null,null,null,{"$f":"IFERROR(IF(T918=5,1,IF(MATCH(T918&\"/\"&V918,読み替え表_エコドライブ!$P$33:$P$52,0),1,0)),0)","v":0},"*"]
[null,null,912,null,null,null,null,null,null,null,null,null,null,null,null,null,null,null,null,null,null,null,null,null,null,null,null,null,null,null,null,null,null,null,null,{"$f":"IFERROR(IF(T919=5,1,IF(MATCH(T919&\"/\"&V919,読み替え表_エコドライブ!$P$33:$P$52,0),1,0)),0)","v":0},"*"]
[null,null,913,null,null,null,null,null,null,null,null,null,null,null,null,null,null,null,null,null,null,null,null,null,null,null,null,null,null,null,null,null,null,null,null,{"$f":"IFERROR(IF(T920=5,1,IF(MATCH(T920&\"/\"&V920,読み替え表_エコドライブ!$P$33:$P$52,0),1,0)),0)","v":0},"*"]
[null,null,914,null,null,null,null,null,null,null,null,null,null,null,null,null,null,null,null,null,null,null,null,null,null,null,null,null,null,null,null,null,null,null,null,{"$f":"IFERROR(IF(T921=5,1,IF(MATCH(T921&\"/\"&V921,読み替え表_エコドライブ!$P$33:$P$52,0),1,0)),0)","v":0},"*"]
[null,null,915,null,null,null,null,null,null,null,null,null,null,null,null,null,null,null,null,null,null,null,null,null,null,null,null,null,null,null,null,null,null,null,null,{"$f":"IFERROR(IF(T922=5,1,IF(MATCH(T922&\"/\"&V922,読み替え表_エコドライブ!$P$33:$P$52,0),1,0)),0)","v":0},"*"]
[null,null,916,null,null,null,null,null,null,null,null,null,null,null,null,null,null,null,null,null,null,null,null,null,null,null,null,null,null,null,null,null,null,null,null,{"$f":"IFERROR(IF(T923=5,1,IF(MATCH(T923&\"/\"&V923,読み替え表_エコドライブ!$P$33:$P$52,0),1,0)),0)","v":0},"*"]
[null,null,917,null,null,null,null,null,null,null,null,null,null,null,null,null,null,null,null,null,null,null,null,null,null,null,null,null,null,null,null,null,null,null,null,{"$f":"IFERROR(IF(T924=5,1,IF(MATCH(T924&\"/\"&V924,読み替え表_エコドライブ!$P$33:$P$52,0),1,0)),0)","v":0},"*"]
[null,null,918,null,null,null,null,null,null,null,null,null,null,null,null,null,null,null,null,null,null,null,null,null,null,null,null,null,null,null,null,null,null,null,null,{"$f":"IFERROR(IF(T925=5,1,IF(MATCH(T925&\"/\"&V925,読み替え表_エコドライブ!$P$33:$P$52,0),1,0)),0)","v":0},"*"]
[null,null,919,null,null,null,null,null,null,null,null,null,null,null,null,null,null,null,null,null,null,null,null,null,null,null,null,null,null,null,null,null,null,null,null,{"$f":"IFERROR(IF(T926=5,1,IF(MATCH(T926&\"/\"&V926,読み替え表_エコドライブ!$P$33:$P$52,0),1,0)),0)","v":0},"*"]
[null,null,920,null,null,null,null,null,null,null,null,null,null,null,null,null,null,null,null,null,null,null,null,null,null,null,null,null,null,null,null,null,null,null,null,{"$f":"IFERROR(IF(T927=5,1,IF(MATCH(T927&\"/\"&V927,読み替え表_エコドライブ!$P$33:$P$52,0),1,0)),0)","v":0},"*"]
[null,null,921,null,null,null,null,null,null,null,null,null,null,null,null,null,null,null,null,null,null,null,null,null,null,null,null,null,null,null,null,null,null,null,null,{"$f":"IFERROR(IF(T928=5,1,IF(MATCH(T928&\"/\"&V928,読み替え表_エコドライブ!$P$33:$P$52,0),1,0)),0)","v":0},"*"]
[null,null,922,null,null,null,null,null,null,null,null,null,null,null,null,null,null,null,null,null,null,null,null,null,null,null,null,null,null,null,null,null,null,null,null,{"$f":"IFERROR(IF(T929=5,1,IF(MATCH(T929&\"/\"&V929,読み替え表_エコドライブ!$P$33:$P$52,0),1,0)),0)","v":0},"*"]
[null,null,923,null,null,null,null,null,null,null,null,null,null,null,null,null,null,null,null,null,null,null,null,null,null,null,null,null,null,null,null,null,null,null,null,{"$f":"IFERROR(IF(T930=5,1,IF(MATCH(T930&\"/\"&V930,読み替え表_エコドライブ!$P$33:$P$52,0),1,0)),0)","v":0},"*"]
[null,null,924,null,null,null,null,null,null,null,null,null,null,null,null,null,null,null,null,null,null,null,null,null,null,null,null,null,null,null,null,null,null,null,null,{"$f":"IFERROR(IF(T931=5,1,IF(MATCH(T931&\"/\"&V931,読み替え表_エコドライブ!$P$33:$P$52,0),1,0)),0)","v":0},"*"]
[null,null,925,null,null,null,null,null,null,null,null,null,null,null,null,null,null,null,null,null,null,null,null,null,null,null,null,null,null,null,null,null,null,null,null,{"$f":"IFERROR(IF(T932=5,1,IF(MATCH(T932&\"/\"&V932,読み替え表_エコドライブ!$P$33:$P$52,0),1,0)),0)","v":0},"*"]
[null,null,926,null,null,null,null,null,null,null,null,null,null,null,null,null,null,null,null,null,null,null,null,null,null,null,null,null,null,null,null,null,null,null,null,{"$f":"IFERROR(IF(T933=5,1,IF(MATCH(T933&\"/\"&V933,読み替え表_エコドライブ!$P$33:$P$52,0),1,0)),0)","v":0},"*"]
[null,null,927,null,null,null,null,null,null,null,null,null,null,null,null,null,null,null,null,null,null,null,null,null,null,null,null,null,null,null,null,null,null,null,null,{"$f":"IFERROR(IF(T934=5,1,IF(MATCH(T934&\"/\"&V934,読み替え表_エコドライブ!$P$33:$P$52,0),1,0)),0)","v":0},"*"]
[null,null,928,null,null,null,null,null,null,null,null,null,null,null,null,null,null,null,null,null,null,null,null,null,null,null,null,null,null,null,null,null,null,null,null,{"$f":"IFERROR(IF(T935=5,1,IF(MATCH(T935&\"/\"&V935,読み替え表_エコドライブ!$P$33:$P$52,0),1,0)),0)","v":0},"*"]
[null,null,929,null,null,null,null,null,null,null,null,null,null,null,null,null,null,null,null,null,null,null,null,null,null,null,null,null,null,null,null,null,null,null,null,{"$f":"IFERROR(IF(T936=5,1,IF(MATCH(T936&\"/\"&V936,読み替え表_エコドライブ!$P$33:$P$52,0),1,0)),0)","v":0},"*"]
[null,null,930,null,null,null,null,null,null,null,null,null,null,null,null,null,null,null,null,null,null,null,null,null,null,null,null,null,null,null,null,null,null,null,null,{"$f":"IFERROR(IF(T937=5,1,IF(MATCH(T937&\"/\"&V937,読み替え表_エコドライブ!$P$33:$P$52,0),1,0)),0)","v":0},"*"]
[null,null,931,null,null,null,null,null,null,null,null,null,null,null,null,null,null,null,null,null,null,null,null,null,null,null,null,null,null,null,null,null,null,null,null,{"$f":"IFERROR(IF(T938=5,1,IF(MATCH(T938&\"/\"&V938,読み替え表_エコドライブ!$P$33:$P$52,0),1,0)),0)","v":0},"*"]
[null,null,932,null,null,null,null,null,null,null,null,null,null,null,null,null,null,null,null,null,null,null,null,null,null,null,null,null,null,null,null,null,null,null,null,{"$f":"IFERROR(IF(T939=5,1,IF(MATCH(T939&\"/\"&V939,読み替え表_エコドライブ!$P$33:$P$52,0),1,0)),0)","v":0},"*"]
[null,null,933,null,null,null,null,null,null,null,null,null,null,null,null,null,null,null,null,null,null,null,null,null,null,null,null,null,null,null,null,null,null,null,null,{"$f":"IFERROR(IF(T940=5,1,IF(MATCH(T940&\"/\"&V940,読み替え表_エコドライブ!$P$33:$P$52,0),1,0)),0)","v":0},"*"]
[null,null,934,null,null,null,null,null,null,null,null,null,null,null,null,null,null,null,null,null,null,null,null,null,null,null,null,null,null,null,null,null,null,null,null,{"$f":"IFERROR(IF(T941=5,1,IF(MATCH(T941&\"/\"&V941,読み替え表_エコドライブ!$P$33:$P$52,0),1,0)),0)","v":0},"*"]
[null,null,935,null,null,null,null,null,null,null,null,null,null,null,null,null,null,null,null,null,null,null,null,null,null,null,null,null,null,null,null,null,null,null,null,{"$f":"IFERROR(IF(T942=5,1,IF(MATCH(T942&\"/\"&V942,読み替え表_エコドライブ!$P$33:$P$52,0),1,0)),0)","v":0},"*"]
[null,null,936,null,null,null,null,null,null,null,null,null,null,null,null,null,null,null,null,null,null,null,null,null,null,null,null,null,null,null,null,null,null,null,null,{"$f":"IFERROR(IF(T943=5,1,IF(MATCH(T943&\"/\"&V943,読み替え表_エコドライブ!$P$33:$P$52,0),1,0)),0)","v":0},"*"]
[null,null,937,null,null,null,null,null,null,null,null,null,null,null,null,null,null,null,null,null,null,null,null,null,null,null,null,null,null,null,null,null,null,null,null,{"$f":"IFERROR(IF(T944=5,1,IF(MATCH(T944&\"/\"&V944,読み替え表_エコドライブ!$P$33:$P$52,0),1,0)),0)","v":0},"*"]
[null,null,938,null,null,null,null,null,null,null,null,null,null,null,null,null,null,null,null,null,null,null,null,null,null,null,null,null,null,null,null,null,null,null,null,{"$f":"IFERROR(IF(T945=5,1,IF(MATCH(T945&\"/\"&V945,読み替え表_エコドライブ!$P$33:$P$52,0),1,0)),0)","v":0},"*"]
[null,null,939,null,null,null,null,null,null,null,null,null,null,null,null,null,null,null,null,null,null,null,null,null,null,null,null,null,null,null,null,null,null,null,null,{"$f":"IFERROR(IF(T946=5,1,IF(MATCH(T946&\"/\"&V946,読み替え表_エコドライブ!$P$33:$P$52,0),1,0)),0)","v":0},"*"]
[null,null,940,null,null,null,null,null,null,null,null,null,null,null,null,null,null,null,null,null,null,null,null,null,null,null,null,null,null,null,null,null,null,null,null,{"$f":"IFERROR(IF(T947=5,1,IF(MATCH(T947&\"/\"&V947,読み替え表_エコドライブ!$P$33:$P$52,0),1,0)),0)","v":0},"*"]
[null,null,941,null,null,null,null,null,null,null,null,null,null,null,null,null,null,null,null,null,null,null,null,null,null,null,null,null,null,null,null,null,null,null,null,{"$f":"IFERROR(IF(T948=5,1,IF(MATCH(T948&\"/\"&V948,読み替え表_エコドライブ!$P$33:$P$52,0),1,0)),0)","v":0},"*"]
[null,null,942,null,null,null,null,null,null,null,null,null,null,null,null,null,null,null,null,null,null,null,null,null,null,null,null,null,null,null,null,null,null,null,null,{"$f":"IFERROR(IF(T949=5,1,IF(MATCH(T949&\"/\"&V949,読み替え表_エコドライブ!$P$33:$P$52,0),1,0)),0)","v":0},"*"]
[null,null,943,null,null,null,null,null,null,null,null,null,null,null,null,null,null,null,null,null,null,null,null,null,null,null,null,null,null,null,null,null,null,null,null,{"$f":"IFERROR(IF(T950=5,1,IF(MATCH(T950&\"/\"&V950,読み替え表_エコドライブ!$P$33:$P$52,0),1,0)),0)","v":0},"*"]
[null,null,944,null,null,null,null,null,null,null,null,null,null,null,null,null,null,null,null,null,null,null,null,null,null,null,null,null,null,null,null,null,null,null,null,{"$f":"IFERROR(IF(T951=5,1,IF(MATCH(T951&\"/\"&V951,読み替え表_エコドライブ!$P$33:$P$52,0),1,0)),0)","v":0},"*"]
[null,null,945,null,null,null,null,null,null,null,null,null,null,null,null,null,null,null,null,null,null,null,null,null,null,null,null,null,null,null,null,null,null,null,null,{"$f":"IFERROR(IF(T952=5,1,IF(MATCH(T952&\"/\"&V952,読み替え表_エコドライブ!$P$33:$P$52,0),1,0)),0)","v":0},"*"]
[null,null,946,null,null,null,null,null,null,null,null,null,null,null,null,null,null,null,null,null,null,null,null,null,null,null,null,null,null,null,null,null,null,null,null,{"$f":"IFERROR(IF(T953=5,1,IF(MATCH(T953&\"/\"&V953,読み替え表_エコドライブ!$P$33:$P$52,0),1,0)),0)","v":0},"*"]
[null,null,947,null,null,null,null,null,null,null,null,null,null,null,null,null,null,null,null,null,null,null,null,null,null,null,null,null,null,null,null,null,null,null,null,{"$f":"IFERROR(IF(T954=5,1,IF(MATCH(T954&\"/\"&V954,読み替え表_エコドライブ!$P$33:$P$52,0),1,0)),0)","v":0},"*"]
[null,null,948,null,null,null,null,null,null,null,null,null,null,null,null,null,null,null,null,null,null,null,null,null,null,null,null,null,null,null,null,null,null,null,null,{"$f":"IFERROR(IF(T955=5,1,IF(MATCH(T955&\"/\"&V955,読み替え表_エコドライブ!$P$33:$P$52,0),1,0)),0)","v":0},"*"]
[null,null,949,null,null,null,null,null,null,null,null,null,null,null,null,null,null,null,null,null,null,null,null,null,null,null,null,null,null,null,null,null,null,null,null,{"$f":"IFERROR(IF(T956=5,1,IF(MATCH(T956&\"/\"&V956,読み替え表_エコドライブ!$P$33:$P$52,0),1,0)),0)","v":0},"*"]
[null,null,950,null,null,null,null,null,null,null,null,null,null,null,null,null,null,null,null,null,null,null,null,null,null,null,null,null,null,null,null,null,null,null,null,{"$f":"IFERROR(IF(T957=5,1,IF(MATCH(T957&\"/\"&V957,読み替え表_エコドライブ!$P$33:$P$52,0),1,0)),0)","v":0},"*"]
[null,null,951,null,null,null,null,null,null,null,null,null,null,null,null,null,null,null,null,null,null,null,null,null,null,null,null,null,null,null,null,null,null,null,null,{"$f":"IFERROR(IF(T958=5,1,IF(MATCH(T958&\"/\"&V958,読み替え表_エコドライブ!$P$33:$P$52,0),1,0)),0)","v":0},"*"]
[null,null,952,null,null,null,null,null,null,null,null,null,null,null,null,null,null,null,null,null,null,null,null,null,null,null,null,null,null,null,null,null,null,null,null,{"$f":"IFERROR(IF(T959=5,1,IF(MATCH(T959&\"/\"&V959,読み替え表_エコドライブ!$P$33:$P$52,0),1,0)),0)","v":0},"*"]
[null,null,953,null,null,null,null,null,null,null,null,null,null,null,null,null,null,null,null,null,null,null,null,null,null,null,null,null,null,null,null,null,null,null,null,{"$f":"IFERROR(IF(T960=5,1,IF(MATCH(T960&\"/\"&V960,読み替え表_エコドライブ!$P$33:$P$52,0),1,0)),0)","v":0},"*"]
[null,null,954,null,null,null,null,null,null,null,null,null,null,null,null,null,null,null,null,null,null,null,null,null,null,null,null,null,null,null,null,null,null,null,null,{"$f":"IFERROR(IF(T961=5,1,IF(MATCH(T961&\"/\"&V961,読み替え表_エコドライブ!$P$33:$P$52,0),1,0)),0)","v":0},"*"]
[null,null,955,null,null,null,null,null,null,null,null,null,null,null,null,null,null,null,null,null,null,null,null,null,null,null,null,null,null,null,null,null,null,null,null,{"$f":"IFERROR(IF(T962=5,1,IF(MATCH(T962&\"/\"&V962,読み替え表_エコドライブ!$P$33:$P$52,0),1,0)),0)","v":0},"*"]
[null,null,956,null,null,null,null,null,null,null,null,null,null,null,null,null,null,null,null,null,null,null,null,null,null,null,null,null,null,null,null,null,null,null,null,{"$f":"IFERROR(IF(T963=5,1,IF(MATCH(T963&\"/\"&V963,読み替え表_エコドライブ!$P$33:$P$52,0),1,0)),0)","v":0},"*"]
[null,null,957,null,null,null,null,null,null,null,null,null,null,null,null,null,null,null,null,null,null,null,null,null,null,null,null,null,null,null,null,null,null,null,null,{"$f":"IFERROR(IF(T964=5,1,IF(MATCH(T964&\"/\"&V964,読み替え表_エコドライブ!$P$33:$P$52,0),1,0)),0)","v":0},"*"]
[null,null,958,null,null,null,null,null,null,null,null,null,null,null,null,null,null,null,null,null,null,null,null,null,null,null,null,null,null,null,null,null,null,null,null,{"$f":"IFERROR(IF(T965=5,1,IF(MATCH(T965&\"/\"&V965,読み替え表_エコドライブ!$P$33:$P$52,0),1,0)),0)","v":0},"*"]
[null,null,959,null,null,null,null,null,null,null,null,null,null,null,null,null,null,null,null,null,null,null,null,null,null,null,null,null,null,null,null,null,null,null,null,{"$f":"IFERROR(IF(T966=5,1,IF(MATCH(T966&\"/\"&V966,読み替え表_エコドライブ!$P$33:$P$52,0),1,0)),0)","v":0},"*"]
[null,null,960,null,null,null,null,null,null,null,null,null,null,null,null,null,null,null,null,null,null,null,null,null,null,null,null,null,null,null,null,null,null,null,null,{"$f":"IFERROR(IF(T967=5,1,IF(MATCH(T967&\"/\"&V967,読み替え表_エコドライブ!$P$33:$P$52,0),1,0)),0)","v":0},"*"]
[null,null,961,null,null,null,null,null,null,null,null,null,null,null,null,null,null,null,null,null,null,null,null,null,null,null,null,null,null,null,null,null,null,null,null,{"$f":"IFERROR(IF(T968=5,1,IF(MATCH(T968&\"/\"&V968,読み替え表_エコドライブ!$P$33:$P$52,0),1,0)),0)","v":0},"*"]
[null,null,{"$f":"ROW()-7","v":962},null,null,null,null,null,null,null,null,null,null,null,null,null,null,null,null,null,null,null,null,null,null,null,null,null,null,null,null,null,null,null,null,{"$f":"IFERROR(IF(T969=5,1,IF(MATCH(T969&\"/\"&V969,読み替え表_エコドライブ!$P$33:$P$52,0),1,0)),0)","v":0},"*"]
[null,null,963,null,null,null,null,null,null,null,null,null,null,null,null,null,null,null,null,null,null,null,null,null,null,null,null,null,null,null,null,null,null,null,null,{"$f":"IFERROR(IF(T970=5,1,IF(MATCH(T970&\"/\"&V970,読み替え表_エコドライブ!$P$33:$P$52,0),1,0)),0)","v":0},"*"]
[null,null,964,null,null,null,null,null,null,null,null,null,null,null,null,null,null,null,null,null,null,null,null,null,null,null,null,null,null,null,null,null,null,null,null,{"$f":"IFERROR(IF(T971=5,1,IF(MATCH(T971&\"/\"&V971,読み替え表_エコドライブ!$P$33:$P$52,0),1,0)),0)","v":0},"*"]
[null,null,965,null,null,null,null,null,null,null,null,null,null,null,null,null,null,null,null,null,null,null,null,null,null,null,null,null,null,null,null,null,null,null,null,{"$f":"IFERROR(IF(T972=5,1,IF(MATCH(T972&\"/\"&V972,読み替え表_エコドライブ!$P$33:$P$52,0),1,0)),0)","v":0},"*"]
[null,null,966,null,null,null,null,null,null,null,null,null,null,null,null,null,null,null,null,null,null,null,null,null,null,null,null,null,null,null,null,null,null,null,null,{"$f":"IFERROR(IF(T973=5,1,IF(MATCH(T973&\"/\"&V973,読み替え表_エコドライブ!$P$33:$P$52,0),1,0)),0)","v":0},"*"]
[null,null,967,null,null,null,null,null,null,null,null,null,null,null,null,null,null,null,null,null,null,null,null,null,null,null,null,null,null,null,null,null,null,null,null,{"$f":"IFERROR(IF(T974=5,1,IF(MATCH(T974&\"/\"&V974,読み替え表_エコドライブ!$P$33:$P$52,0),1,0)),0)","v":0},"*"]
[null,null,968,null,null,null,null,null,null,null,null,null,null,null,null,null,null,null,null,null,null,null,null,null,null,null,null,null,null,null,null,null,null,null,null,{"$f":"IFERROR(IF(T975=5,1,IF(MATCH(T975&\"/\"&V975,読み替え表_エコドライブ!$P$33:$P$52,0),1,0)),0)","v":0},"*"]
[null,null,969,null,null,null,null,null,null,null,null,null,null,null,null,null,null,null,null,null,null,null,null,null,null,null,null,null,null,null,null,null,null,null,null,{"$f":"IFERROR(IF(T976=5,1,IF(MATCH(T976&\"/\"&V976,読み替え表_エコドライブ!$P$33:$P$52,0),1,0)),0)","v":0},"*"]
[null,null,970,null,null,null,null,null,null,null,null,null,null,null,null,null,null,null,null,null,null,null,null,null,null,null,null,null,null,null,null,null,null,null,null,{"$f":"IFERROR(IF(T977=5,1,IF(MATCH(T977&\"/\"&V977,読み替え表_エコドライブ!$P$33:$P$52,0),1,0)),0)","v":0},"*"]
[null,null,971,null,null,null,null,null,null,null,null,null,null,null,null,null,null,null,null,null,null,null,null,null,null,null,null,null,null,null,null,null,null,null,null,{"$f":"IFERROR(IF(T978=5,1,IF(MATCH(T978&\"/\"&V978,読み替え表_エコドライブ!$P$33:$P$52,0),1,0)),0)","v":0},"*"]
[null,null,972,null,null,null,null,null,null,null,null,null,null,null,null,null,null,null,null,null,null,null,null,null,null,null,null,null,null,null,null,null,null,null,null,{"$f":"IFERROR(IF(T979=5,1,IF(MATCH(T979&\"/\"&V979,読み替え表_エコドライブ!$P$33:$P$52,0),1,0)),0)","v":0},"*"]
[null,null,973,null,null,null,null,null,null,null,null,null,null,null,null,null,null,null,null,null,null,null,null,null,null,null,null,null,null,null,null,null,null,null,null,{"$f":"IFERROR(IF(T980=5,1,IF(MATCH(T980&\"/\"&V980,読み替え表_エコドライブ!$P$33:$P$52,0),1,0)),0)","v":0},"*"]
[null,null,974,null,null,null,null,null,null,null,null,null,null,null,null,null,null,null,null,null,null,null,null,null,null,null,null,null,null,null,null,null,null,null,null,{"$f":"IFERROR(IF(T981=5,1,IF(MATCH(T981&\"/\"&V981,読み替え表_エコドライブ!$P$33:$P$52,0),1,0)),0)","v":0},"*"]
[null,null,975,null,null,null,null,null,null,null,null,null,null,null,null,null,null,null,null,null,null,null,null,null,null,null,null,null,null,null,null,null,null,null,null,{"$f":"IFERROR(IF(T982=5,1,IF(MATCH(T982&\"/\"&V982,読み替え表_エコドライブ!$P$33:$P$52,0),1,0)),0)","v":0},"*"]
[null,null,976,null,null,null,null,null,null,null,null,null,null,null,null,null,null,null,null,null,null,null,null,null,null,null,null,null,null,null,null,null,null,null,null,{"$f":"IFERROR(IF(T983=5,1,IF(MATCH(T983&\"/\"&V983,読み替え表_エコドライブ!$P$33:$P$52,0),1,0)),0)","v":0},"*"]
[null,null,977,null,null,null,null,null,null,null,null,null,null,null,null,null,null,null,null,null,null,null,null,null,null,null,null,null,null,null,null,null,null,null,null,{"$f":"IFERROR(IF(T984=5,1,IF(MATCH(T984&\"/\"&V984,読み替え表_エコドライブ!$P$33:$P$52,0),1,0)),0)","v":0},"*"]
[null,null,978,null,null,null,null,null,null,null,null,null,null,null,null,null,null,null,null,null,null,null,null,null,null,null,null,null,null,null,null,null,null,null,null,{"$f":"IFERROR(IF(T985=5,1,IF(MATCH(T985&\"/\"&V985,読み替え表_エコドライブ!$P$33:$P$52,0),1,0)),0)","v":0},"*"]
[null,null,979,null,null,null,null,null,null,null,null,null,null,null,null,null,null,null,null,null,null,null,null,null,null,null,null,null,null,null,null,null,null,null,null,{"$f":"IFERROR(IF(T986=5,1,IF(MATCH(T986&\"/\"&V986,読み替え表_エコドライブ!$P$33:$P$52,0),1,0)),0)","v":0},"*"]
[null,null,980,null,null,null,null,null,null,null,null,null,null,null,null,null,null,null,null,null,null,null,null,null,null,null,null,null,null,null,null,null,null,null,null,{"$f":"IFERROR(IF(T987=5,1,IF(MATCH(T987&\"/\"&V987,読み替え表_エコドライブ!$P$33:$P$52,0),1,0)),0)","v":0},"*"]
[null,null,981,null,null,null,null,null,null,null,null,null,null,null,null,null,null,null,null,null,null,null,null,null,null,null,null,null,null,null,null,null,null,null,null,{"$f":"IFERROR(IF(T988=5,1,IF(MATCH(T988&\"/\"&V988,読み替え表_エコドライブ!$P$33:$P$52,0),1,0)),0)","v":0},"*"]
[null,null,982,null,null,null,null,null,null,null,null,null,null,null,null,null,null,null,null,null,null,null,null,null,null,null,null,null,null,null,null,null,null,null,null,{"$f":"IFERROR(IF(T989=5,1,IF(MATCH(T989&\"/\"&V989,読み替え表_エコドライブ!$P$33:$P$52,0),1,0)),0)","v":0},"*"]
[null,null,983,null,null,null,null,null,null,null,null,null,null,null,null,null,null,null,null,null,null,null,null,null,null,null,null,null,null,null,null,null,null,null,null,{"$f":"IFERROR(IF(T990=5,1,IF(MATCH(T990&\"/\"&V990,読み替え表_エコドライブ!$P$33:$P$52,0),1,0)),0)","v":0},"*"]
[null,null,984,null,null,null,null,null,null,null,null,null,null,null,null,null,null,null,null,null,null,null,null,null,null,null,null,null,null,null,null,null,null,null,null,{"$f":"IFERROR(IF(T991=5,1,IF(MATCH(T991&\"/\"&V991,読み替え表_エコドライブ!$P$33:$P$52,0),1,0)),0)","v":0},"*"]
[null,null,985,null,null,null,null,null,null,null,null,null,null,null,null,null,null,null,null,null,null,null,null,null,null,null,null,null,null,null,null,null,null,null,null,{"$f":"IFERROR(IF(T992=5,1,IF(MATCH(T992&\"/\"&V992,読み替え表_エコドライブ!$P$33:$P$52,0),1,0)),0)","v":0},"*"]
[null,null,986,null,null,null,null,null,null,null,null,null,null,null,null,null,null,null,null,null,null,null,null,null,null,null,null,null,null,null,null,null,null,null,null,{"$f":"IFERROR(IF(T993=5,1,IF(MATCH(T993&\"/\"&V993,読み替え表_エコドライブ!$P$33:$P$52,0),1,0)),0)","v":0},"*"]
[null,null,987,null,null,null,null,null,null,null,null,null,null,null,null,null,null,null,null,null,null,null,null,null,null,null,null,null,null,null,null,null,null,null,null,{"$f":"IFERROR(IF(T994=5,1,IF(MATCH(T994&\"/\"&V994,読み替え表_エコドライブ!$P$33:$P$52,0),1,0)),0)","v":0},"*"]
[null,null,988,null,null,null,null,null,null,null,null,null,null,null,null,null,null,null,null,null,null,null,null,null,null,null,null,null,null,null,null,null,null,null,null,{"$f":"IFERROR(IF(T995=5,1,IF(MATCH(T995&\"/\"&V995,読み替え表_エコドライブ!$P$33:$P$52,0),1,0)),0)","v":0},"*"]
[null,null,989,null,null,null,null,null,null,null,null,null,null,null,null,null,null,null,null,null,null,null,null,null,null,null,null,null,null,null,null,null,null,null,null,{"$f":"IFERROR(IF(T996=5,1,IF(MATCH(T996&\"/\"&V996,読み替え表_エコドライブ!$P$33:$P$52,0),1,0)),0)","v":0},"*"]
[null,null,990,null,null,null,null,null,null,null,null,null,null,null,null,null,null,null,null,null,null,null,null,null,null,null,null,null,null,null,null,null,null,null,null,{"$f":"IFERROR(IF(T997=5,1,IF(MATCH(T997&\"/\"&V997,読み替え表_エコドライブ!$P$33:$P$52,0),1,0)),0)","v":0},"*"]
[null,null,991,null,null,null,null,null,null,null,null,null,null,null,null,null,null,null,null,null,null,null,null,null,null,null,null,null,null,null,null,null,null,null,null,{"$f":"IFERROR(IF(T998=5,1,IF(MATCH(T998&\"/\"&V998,読み替え表_エコドライブ!$P$33:$P$52,0),1,0)),0)","v":0},"*"]
[null,null,992,null,null,null,null,null,null,null,null,null,null,null,null,null,null,null,null,null,null,null,null,null,null,null,null,null,null,null,null,null,null,null,null,{"$f":"IFERROR(IF(T999=5,1,IF(MATCH(T999&\"/\"&V999,読み替え表_エコドライブ!$P$33:$P$52,0),1,0)),0)","v":0},"*"]
[null,null,993,null,null,null,null,null,null,null,null,null,null,null,null,null,null,null,null,null,null,null,null,null,null,null,null,null,null,null,null,null,null,null,null,{"$f":"IFERROR(IF(T1000=5,1,IF(MATCH(T1000&\"/\"&V1000,読み替え表_エコドライブ!$P$33:$P$52,0),1,0)),0)","v":0},"*"]
[null,null,994,null,null,null,null,null,null,null,null,null,null,null,null,null,null,null,null,null,null,null,null,null,null,null,null,null,null,null,null,null,null,null,null,{"$f":"IFERROR(IF(T1001=5,1,IF(MATCH(T1001&\"/\"&V1001,読み替え表_エコドライブ!$P$33:$P$52,0),1,0)),0)","v":0},"*"]
[null,null,995,null,null,null,null,null,null,null,null,null,null,null,null,null,null,null,null,null,null,null,null,null,null,null,null,null,null,null,null,null,null,null,null,{"$f":"IFERROR(IF(T1002=5,1,IF(MATCH(T1002&\"/\"&V1002,読み替え表_エコドライブ!$P$33:$P$52,0),1,0)),0)","v":0},"*"]
[null,null,996,null,null,null,null,null,null,null,null,null,null,null,null,null,null,null,null,null,null,null,null,null,null,null,null,null,null,null,null,null,null,null,null,{"$f":"IFERROR(IF(T1003=5,1,IF(MATCH(T1003&\"/\"&V1003,読み替え表_エコドライブ!$P$33:$P$52,0),1,0)),0)","v":0},"*"]
[null,null,997,null,null,null,null,null,null,null,null,null,null,null,null,null,null,null,null,null,null,null,null,null,null,null,null,null,null,null,null,null,null,null,null,{"$f":"IFERROR(IF(T1004=5,1,IF(MATCH(T1004&\"/\"&V1004,読み替え表_エコドライブ!$P$33:$P$52,0),1,0)),0)","v":0},"*"]
[null,null,998,null,null,null,null,null,null,null,null,null,null,null,null,null,null,null,null,null,null,null,null,null,null,null,null,null,null,null,null,null,null,null,null,{"$f":"IFERROR(IF(T1005=5,1,IF(MATCH(T1005&\"/\"&V1005,読み替え表_エコドライブ!$P$33:$P$52,0),1,0)),0)","v":0},"*"]
[null,null,999,null,null,null,null,null,null,null,null,null,null,null,null,null,null,null,null,null,null,null,null,null,null,null,null,null,null,null,null,null,null,null,null,{"$f":"IFERROR(IF(T1006=5,1,IF(MATCH(T1006&\"/\"&V1006,読み替え表_エコドライブ!$P$33:$P$52,0),1,0)),0)","v":0},"*"]
[null,null,1000,null,null,null,null,null,null,null,null,null,null,null,null,null,null,null,null,null,null,null,null,null,null,null,null,null,null,null,null,null,null,null,null,{"$f":"IFERROR(IF(T1007=5,1,IF(MATCH(T1007&\"/\"&V1007,読み替え表_エコドライブ!$P$33:$P$52,0),1,0)),0)","v":0},"*"]
[null,null,1001,null,null,null,null,null,null,null,null,null,null,null,null,null,null,null,null,null,null,null,null,null,null,null,null,null,null,null,null,null,null,null,null,{"$f":"IFERROR(IF(T1008=5,1,IF(MATCH(T1008&\"/\"&V1008,読み替え表_エコドライブ!$P$33:$P$52,0),1,0)),0)","v":0},"*"]
[null,null,1002,null,null,null,null,null,null,null,null,null,null,null,null,null,null,null,null,null,null,null,null,null,null,null,null,null,null,null,null,null,null,null,null,{"$f":"IFERROR(IF(T1009=5,1,IF(MATCH(T1009&\"/\"&V1009,読み替え表_エコドライブ!$P$33:$P$52,0),1,0)),0)","v":0},"*"]
[null,null,1003,null,null,null,null,null,null,null,null,null,null,null,null,null,null,null,null,null,null,null,null,null,null,null,null,null,null,null,null,null,null,null,null,{"$f":"IFERROR(IF(T1010=5,1,IF(MATCH(T1010&\"/\"&V1010,読み替え表_エコドライブ!$P$33:$P$52,0),1,0)),0)","v":0},"*"]
[null,null,1004,null,null,null,null,null,null,null,null,null,null,null,null,null,null,null,null,null,null,null,null,null,null,null,null,null,null,null,null,null,null,null,null,{"$f":"IFERROR(IF(T1011=5,1,IF(MATCH(T1011&\"/\"&V1011,読み替え表_エコドライブ!$P$33:$P$52,0),1,0)),0)","v":0},"*"]
[null,null,1005,null,null,null,null,null,null,null,null,null,null,null,null,null,null,null,null,null,null,null,null,null,null,null,null,null,null,null,null,null,null,null,null,{"$f":"IFERROR(IF(T1012=5,1,IF(MATCH(T1012&\"/\"&V1012,読み替え表_エコドライブ!$P$33:$P$52,0),1,0)),0)","v":0},"*"]
[null,null,1006,null,null,null,null,null,null,null,null,null,null,null,null,null,null,null,null,null,null,null,null,null,null,null,null,null,null,null,null,null,null,null,null,{"$f":"IFERROR(IF(T1013=5,1,IF(MATCH(T1013&\"/\"&V1013,読み替え表_エコドライブ!$P$33:$P$52,0),1,0)),0)","v":0},"*"]
[null,null,1007,null,null,null,null,null,null,null,null,null,null,null,null,null,null,null,null,null,null,null,null,null,null,null,null,null,null,null,null,null,null,null,null,{"$f":"IFERROR(IF(T1014=5,1,IF(MATCH(T1014&\"/\"&V1014,読み替え表_エコドライブ!$P$33:$P$52,0),1,0)),0)","v":0},"*"]
[null,null,1008,null,null,null,null,null,null,null,null,null,null,null,null,null,null,null,null,null,null,null,null,null,null,null,null,null,null,null,null,null,null,null,null,{"$f":"IFERROR(IF(T1015=5,1,IF(MATCH(T1015&\"/\"&V1015,読み替え表_エコドライブ!$P$33:$P$52,0),1,0)),0)","v":0},"*"]
[null,null,1009,null,null,null,null,null,null,null,null,null,null,null,null,null,null,null,null,null,null,null,null,null,null,null,null,null,null,null,null,null,null,null,null,{"$f":"IFERROR(IF(T1016=5,1,IF(MATCH(T1016&\"/\"&V1016,読み替え表_エコドライブ!$P$33:$P$52,0),1,0)),0)","v":0},"*"]
[null,null,1010,null,null,null,null,null,null,null,null,null,null,null,null,null,null,null,null,null,null,null,null,null,null,null,null,null,null,null,null,null,null,null,null,{"$f":"IFERROR(IF(T1017=5,1,IF(MATCH(T1017&\"/\"&V1017,読み替え表_エコドライブ!$P$33:$P$52,0),1,0)),0)","v":0},"*"]
[null,null,1011,null,null,null,null,null,null,null,null,null,null,null,null,null,null,null,null,null,null,null,null,null,null,null,null,null,null,null,null,null,null,null,null,{"$f":"IFERROR(IF(T1018=5,1,IF(MATCH(T1018&\"/\"&V1018,読み替え表_エコドライブ!$P$33:$P$52,0),1,0)),0)","v":0},"*"]
[null,null,1012,null,null,null,null,null,null,null,null,null,null,null,null,null,null,null,null,null,null,null,null,null,null,null,null,null,null,null,null,null,null,null,null,{"$f":"IFERROR(IF(T1019=5,1,IF(MATCH(T1019&\"/\"&V1019,読み替え表_エコドライブ!$P$33:$P$52,0),1,0)),0)","v":0},"*"]
[null,null,1013,null,null,null,null,null,null,null,null,null,null,null,null,null,null,null,null,null,null,null,null,null,null,null,null,null,null,null,null,null,null,null,null,{"$f":"IFERROR(IF(T1020=5,1,IF(MATCH(T1020&\"/\"&V1020,読み替え表_エコドライブ!$P$33:$P$52,0),1,0)),0)","v":0},"*"]
[null,null,1014,null,null,null,null,null,null,null,null,null,null,null,null,null,null,null,null,null,null,null,null,null,null,null,null,null,null,null,null,null,null,null,null,{"$f":"IFERROR(IF(T1021=5,1,IF(MATCH(T1021&\"/\"&V1021,読み替え表_エコドライブ!$P$33:$P$52,0),1,0)),0)","v":0},"*"]
[null,null,1015,null,null,null,null,null,null,null,null,null,null,null,null,null,null,null,null,null,null,null,null,null,null,null,null,null,null,null,null,null,null,null,null,{"$f":"IFERROR(IF(T1022=5,1,IF(MATCH(T1022&\"/\"&V1022,読み替え表_エコドライブ!$P$33:$P$52,0),1,0)),0)","v":0},"*"]
[null,null,1016,null,null,null,null,null,null,null,null,null,null,null,null,null,null,null,null,null,null,null,null,null,null,null,null,null,null,null,null,null,null,null,null,{"$f":"IFERROR(IF(T1023=5,1,IF(MATCH(T1023&\"/\"&V1023,読み替え表_エコドライブ!$P$33:$P$52,0),1,0)),0)","v":0},"*"]
[null,null,1017,null,null,null,null,null,null,null,null,null,null,null,null,null,null,null,null,null,null,null,null,null,null,null,null,null,null,null,null,null,null,null,null,{"$f":"IFERROR(IF(T1024=5,1,IF(MATCH(T1024&\"/\"&V1024,読み替え表_エコドライブ!$P$33:$P$52,0),1,0)),0)","v":0},"*"]
[null,null,1018,null,null,null,null,null,null,null,null,null,null,null,null,null,null,null,null,null,null,null,null,null,null,null,null,null,null,null,null,null,null,null,null,{"$f":"IFERROR(IF(T1025=5,1,IF(MATCH(T1025&\"/\"&V1025,読み替え表_エコドライブ!$P$33:$P$52,0),1,0)),0)","v":0},"*"]
[null,null,1019,null,null,null,null,null,null,null,null,null,null,null,null,null,null,null,null,null,null,null,null,null,null,null,null,null,null,null,null,null,null,null,null,{"$f":"IFERROR(IF(T1026=5,1,IF(MATCH(T1026&\"/\"&V1026,読み替え表_エコドライブ!$P$33:$P$52,0),1,0)),0)","v":0},"*"]
[null,null,1020,null,null,null,null,null,null,null,null,null,null,null,null,null,null,null,null,null,null,null,null,null,null,null,null,null,null,null,null,null,null,null,null,{"$f":"IFERROR(IF(T1027=5,1,IF(MATCH(T1027&\"/\"&V1027,読み替え表_エコドライブ!$P$33:$P$52,0),1,0)),0)","v":0},"*"]
[null,null,1021,null,null,null,null,null,null,null,null,null,null,null,null,null,null,null,null,null,null,null,null,null,null,null,null,null,null,null,null,null,null,null,null,{"$f":"IFERROR(IF(T1028=5,1,IF(MATCH(T1028&\"/\"&V1028,読み替え表_エコドライブ!$P$33:$P$52,0),1,0)),0)","v":0},"*"]
[null,null,1022,null,null,null,null,null,null,null,null,null,null,null,null,null,null,null,null,null,null,null,null,null,null,null,null,null,null,null,null,null,null,null,null,{"$f":"IFERROR(IF(T1029=5,1,IF(MATCH(T1029&\"/\"&V1029,読み替え表_エコドライブ!$P$33:$P$52,0),1,0)),0)","v":0},"*"]
[null,null,1023,null,null,null,null,null,null,null,null,null,null,null,null,null,null,null,null,null,null,null,null,null,null,null,null,null,null,null,null,null,null,null,null,{"$f":"IFERROR(IF(T1030=5,1,IF(MATCH(T1030&\"/\"&V1030,読み替え表_エコドライブ!$P$33:$P$52,0),1,0)),0)","v":0},"*"]
[null,null,1024,null,null,null,null,null,null,null,null,null,null,null,null,null,null,null,null,null,null,null,null,null,null,null,null,null,null,null,null,null,null,null,null,{"$f":"IFERROR(IF(T1031=5,1,IF(MATCH(T1031&\"/\"&V1031,読み替え表_エコドライブ!$P$33:$P$52,0),1,0)),0)","v":0},"*"]
[null,null,1025,null,null,null,null,null,null,null,null,null,null,null,null,null,null,null,null,null,null,null,null,null,null,null,null,null,null,null,null,null,null,null,null,{"$f":"IFERROR(IF(T1032=5,1,IF(MATCH(T1032&\"/\"&V1032,読み替え表_エコドライブ!$P$33:$P$52,0),1,0)),0)","v":0},"*"]
[null,null,{"$f":"ROW()-7","v":1026},null,null,null,null,null,null,null,null,null,null,null,null,null,null,null,null,null,null,null,null,null,null,null,null,null,null,null,null,null,null,null,null,{"$f":"IFERROR(IF(T1033=5,1,IF(MATCH(T1033&\"/\"&V1033,読み替え表_エコドライブ!$P$33:$P$52,0),1,0)),0)","v":0},"*"]
[null,null,1027,null,null,null,null,null,null,null,null,null,null,null,null,null,null,null,null,null,null,null,null,null,null,null,null,null,null,null,null,null,null,null,null,{"$f":"IFERROR(IF(T1034=5,1,IF(MATCH(T1034&\"/\"&V1034,読み替え表_エコドライブ!$P$33:$P$52,0),1,0)),0)","v":0},"*"]
[null,null,1028,null,null,null,null,null,null,null,null,null,null,null,null,null,null,null,null,null,null,null,null,null,null,null,null,null,null,null,null,null,null,null,null,{"$f":"IFERROR(IF(T1035=5,1,IF(MATCH(T1035&\"/\"&V1035,読み替え表_エコドライブ!$P$33:$P$52,0),1,0)),0)","v":0},"*"]
[null,null,1029,null,null,null,null,null,null,null,null,null,null,null,null,null,null,null,null,null,null,null,null,null,null,null,null,null,null,null,null,null,null,null,null,{"$f":"IFERROR(IF(T1036=5,1,IF(MATCH(T1036&\"/\"&V1036,読み替え表_エコドライブ!$P$33:$P$52,0),1,0)),0)","v":0},"*"]
[null,null,1030,null,null,null,null,null,null,null,null,null,null,null,null,null,null,null,null,null,null,null,null,null,null,null,null,null,null,null,null,null,null,null,null,{"$f":"IFERROR(IF(T1037=5,1,IF(MATCH(T1037&\"/\"&V1037,読み替え表_エコドライブ!$P$33:$P$52,0),1,0)),0)","v":0},"*"]
[null,null,1031,null,null,null,null,null,null,null,null,null,null,null,null,null,null,null,null,null,null,null,null,null,null,null,null,null,null,null,null,null,null,null,null,{"$f":"IFERROR(IF(T1038=5,1,IF(MATCH(T1038&\"/\"&V1038,読み替え表_エコドライブ!$P$33:$P$52,0),1,0)),0)","v":0},"*"]
[null,null,1032,null,null,null,null,null,null,null,null,null,null,null,null,null,null,null,null,null,null,null,null,null,null,null,null,null,null,null,null,null,null,null,null,{"$f":"IFERROR(IF(T1039=5,1,IF(MATCH(T1039&\"/\"&V1039,読み替え表_エコドライブ!$P$33:$P$52,0),1,0)),0)","v":0},"*"]
[null,null,1033,null,null,null,null,null,null,null,null,null,null,null,null,null,null,null,null,null,null,null,null,null,null,null,null,null,null,null,null,null,null,null,null,{"$f":"IFERROR(IF(T1040=5,1,IF(MATCH(T1040&\"/\"&V1040,読み替え表_エコドライブ!$P$33:$P$52,0),1,0)),0)","v":0},"*"]
[null,null,1034,null,null,null,null,null,null,null,null,null,null,null,null,null,null,null,null,null,null,null,null,null,null,null,null,null,null,null,null,null,null,null,null,{"$f":"IFERROR(IF(T1041=5,1,IF(MATCH(T1041&\"/\"&V1041,読み替え表_エコドライブ!$P$33:$P$52,0),1,0)),0)","v":0},"*"]
[null,null,1035,null,null,null,null,null,null,null,null,null,null,null,null,null,null,null,null,null,null,null,null,null,null,null,null,null,null,null,null,null,null,null,null,{"$f":"IFERROR(IF(T1042=5,1,IF(MATCH(T1042&\"/\"&V1042,読み替え表_エコドライブ!$P$33:$P$52,0),1,0)),0)","v":0},"*"]
[null,null,1036,null,null,null,null,null,null,null,null,null,null,null,null,null,null,null,null,null,null,null,null,null,null,null,null,null,null,null,null,null,null,null,null,{"$f":"IFERROR(IF(T1043=5,1,IF(MATCH(T1043&\"/\"&V1043,読み替え表_エコドライブ!$P$33:$P$52,0),1,0)),0)","v":0},"*"]
[null,null,1037,null,null,null,null,null,null,null,null,null,null,null,null,null,null,null,null,null,null,null,null,null,null,null,null,null,null,null,null,null,null,null,null,{"$f":"IFERROR(IF(T1044=5,1,IF(MATCH(T1044&\"/\"&V1044,読み替え表_エコドライブ!$P$33:$P$52,0),1,0)),0)","v":0},"*"]
[null,null,1038,null,null,null,null,null,null,null,null,null,null,null,null,null,null,null,null,null,null,null,null,null,null,null,null,null,null,null,null,null,null,null,null,{"$f":"IFERROR(IF(T1045=5,1,IF(MATCH(T1045&\"/\"&V1045,読み替え表_エコドライブ!$P$33:$P$52,0),1,0)),0)","v":0},"*"]
[null,null,1039,null,null,null,null,null,null,null,null,null,null,null,null,null,null,null,null,null,null,null,null,null,null,null,null,null,null,null,null,null,null,null,null,{"$f":"IFERROR(IF(T1046=5,1,IF(MATCH(T1046&\"/\"&V1046,読み替え表_エコドライブ!$P$33:$P$52,0),1,0)),0)","v":0},"*"]
[null,null,1040,null,null,null,null,null,null,null,null,null,null,null,null,null,null,null,null,null,null,null,null,null,null,null,null,null,null,null,null,null,null,null,null,{"$f":"IFERROR(IF(T1047=5,1,IF(MATCH(T1047&\"/\"&V1047,読み替え表_エコドライブ!$P$33:$P$52,0),1,0)),0)","v":0},"*"]
[null,null,1041,null,null,null,null,null,null,null,null,null,null,null,null,null,null,null,null,null,null,null,null,null,null,null,null,null,null,null,null,null,null,null,null,{"$f":"IFERROR(IF(T1048=5,1,IF(MATCH(T1048&\"/\"&V1048,読み替え表_エコドライブ!$P$33:$P$52,0),1,0)),0)","v":0},"*"]
[null,null,1042,null,null,null,null,null,null,null,null,null,null,null,null,null,null,null,null,null,null,null,null,null,null,null,null,null,null,null,null,null,null,null,null,{"$f":"IFERROR(IF(T1049=5,1,IF(MATCH(T1049&\"/\"&V1049,読み替え表_エコドライブ!$P$33:$P$52,0),1,0)),0)","v":0},"*"]
[null,null,1043,null,null,null,null,null,null,null,null,null,null,null,null,null,null,null,null,null,null,null,null,null,null,null,null,null,null,null,null,null,null,null,null,{"$f":"IFERROR(IF(T1050=5,1,IF(MATCH(T1050&\"/\"&V1050,読み替え表_エコドライブ!$P$33:$P$52,0),1,0)),0)","v":0},"*"]
[null,null,1044,null,null,null,null,null,null,null,null,null,null,null,null,null,null,null,null,null,null,null,null,null,null,null,null,null,null,null,null,null,null,null,null,{"$f":"IFERROR(IF(T1051=5,1,IF(MATCH(T1051&\"/\"&V1051,読み替え表_エコドライブ!$P$33:$P$52,0),1,0)),0)","v":0},"*"]
[null,null,1045,null,null,null,null,null,null,null,null,null,null,null,null,null,null,null,null,null,null,null,null,null,null,null,null,null,null,null,null,null,null,null,null,{"$f":"IFERROR(IF(T1052=5,1,IF(MATCH(T1052&\"/\"&V1052,読み替え表_エコドライブ!$P$33:$P$52,0),1,0)),0)","v":0},"*"]
[null,null,1046,null,null,null,null,null,null,null,null,null,null,null,null,null,null,null,null,null,null,null,null,null,null,null,null,null,null,null,null,null,null,null,null,{"$f":"IFERROR(IF(T1053=5,1,IF(MATCH(T1053&\"/\"&V1053,読み替え表_エコドライブ!$P$33:$P$52,0),1,0)),0)","v":0},"*"]
[null,null,1047,null,null,null,null,null,null,null,null,null,null,null,null,null,null,null,null,null,null,null,null,null,null,null,null,null,null,null,null,null,null,null,null,{"$f":"IFERROR(IF(T1054=5,1,IF(MATCH(T1054&\"/\"&V1054,読み替え表_エコドライブ!$P$33:$P$52,0),1,0)),0)","v":0},"*"]
[null,null,1048,null,null,null,null,null,null,null,null,null,null,null,null,null,null,null,null,null,null,null,null,null,null,null,null,null,null,null,null,null,null,null,null,{"$f":"IFERROR(IF(T1055=5,1,IF(MATCH(T1055&\"/\"&V1055,読み替え表_エコドライブ!$P$33:$P$52,0),1,0)),0)","v":0},"*"]
[null,null,1049,null,null,null,null,null,null,null,null,null,null,null,null,null,null,null,null,null,null,null,null,null,null,null,null,null,null,null,null,null,null,null,null,{"$f":"IFERROR(IF(T1056=5,1,IF(MATCH(T1056&\"/\"&V1056,読み替え表_エコドライブ!$P$33:$P$52,0),1,0)),0)","v":0},"*"]
[null,null,1050,null,null,null,null,null,null,null,null,null,null,null,null,null,null,null,null,null,null,null,null,null,null,null,null,null,null,null,null,null,null,null,null,{"$f":"IFERROR(IF(T1057=5,1,IF(MATCH(T1057&\"/\"&V1057,読み替え表_エコドライブ!$P$33:$P$52,0),1,0)),0)","v":0},"*"]
[null,null,1051,null,null,null,null,null,null,null,null,null,null,null,null,null,null,null,null,null,null,null,null,null,null,null,null,null,null,null,null,null,null,null,null,{"$f":"IFERROR(IF(T1058=5,1,IF(MATCH(T1058&\"/\"&V1058,読み替え表_エコドライブ!$P$33:$P$52,0),1,0)),0)","v":0},"*"]
[null,null,1052,null,null,null,null,null,null,null,null,null,null,null,null,null,null,null,null,null,null,null,null,null,null,null,null,null,null,null,null,null,null,null,null,{"$f":"IFERROR(IF(T1059=5,1,IF(MATCH(T1059&\"/\"&V1059,読み替え表_エコドライブ!$P$33:$P$52,0),1,0)),0)","v":0},"*"]
[null,null,1053,null,null,null,null,null,null,null,null,null,null,null,null,null,null,null,null,null,null,null,null,null,null,null,null,null,null,null,null,null,null,null,null,{"$f":"IFERROR(IF(T1060=5,1,IF(MATCH(T1060&\"/\"&V1060,読み替え表_エコドライブ!$P$33:$P$52,0),1,0)),0)","v":0},"*"]
[null,null,1054,null,null,null,null,null,null,null,null,null,null,null,null,null,null,null,null,null,null,null,null,null,null,null,null,null,null,null,null,null,null,null,null,{"$f":"IFERROR(IF(T1061=5,1,IF(MATCH(T1061&\"/\"&V1061,読み替え表_エコドライブ!$P$33:$P$52,0),1,0)),0)","v":0},"*"]
[null,null,1055,null,null,null,null,null,null,null,null,null,null,null,null,null,null,null,null,null,null,null,null,null,null,null,null,null,null,null,null,null,null,null,null,{"$f":"IFERROR(IF(T1062=5,1,IF(MATCH(T1062&\"/\"&V1062,読み替え表_エコドライブ!$P$33:$P$52,0),1,0)),0)","v":0},"*"]
[null,null,1056,null,null,null,null,null,null,null,null,null,null,null,null,null,null,null,null,null,null,null,null,null,null,null,null,null,null,null,null,null,null,null,null,{"$f":"IFERROR(IF(T1063=5,1,IF(MATCH(T1063&\"/\"&V1063,読み替え表_エコドライブ!$P$33:$P$52,0),1,0)),0)","v":0},"*"]
[null,null,1057,null,null,null,null,null,null,null,null,null,null,null,null,null,null,null,null,null,null,null,null,null,null,null,null,null,null,null,null,null,null,null,null,{"$f":"IFERROR(IF(T1064=5,1,IF(MATCH(T1064&\"/\"&V1064,読み替え表_エコドライブ!$P$33:$P$52,0),1,0)),0)","v":0},"*"]
[null,null,1058,null,null,null,null,null,null,null,null,null,null,null,null,null,null,null,null,null,null,null,null,null,null,null,null,null,null,null,null,null,null,null,null,{"$f":"IFERROR(IF(T1065=5,1,IF(MATCH(T1065&\"/\"&V1065,読み替え表_エコドライブ!$P$33:$P$52,0),1,0)),0)","v":0},"*"]
[null,null,1059,null,null,null,null,null,null,null,null,null,null,null,null,null,null,null,null,null,null,null,null,null,null,null,null,null,null,null,null,null,null,null,null,{"$f":"IFERROR(IF(T1066=5,1,IF(MATCH(T1066&\"/\"&V1066,読み替え表_エコドライブ!$P$33:$P$52,0),1,0)),0)","v":0},"*"]
[null,null,1060,null,null,null,null,null,null,null,null,null,null,null,null,null,null,null,null,null,null,null,null,null,null,null,null,null,null,null,null,null,null,null,null,{"$f":"IFERROR(IF(T1067=5,1,IF(MATCH(T1067&\"/\"&V1067,読み替え表_エコドライブ!$P$33:$P$52,0),1,0)),0)","v":0},"*"]
[null,null,1061,null,null,null,null,null,null,null,null,null,null,null,null,null,null,null,null,null,null,null,null,null,null,null,null,null,null,null,null,null,null,null,null,{"$f":"IFERROR(IF(T1068=5,1,IF(MATCH(T1068&\"/\"&V1068,読み替え表_エコドライブ!$P$33:$P$52,0),1,0)),0)","v":0},"*"]
[null,null,1062,null,null,null,null,null,null,null,null,null,null,null,null,null,null,null,null,null,null,null,null,null,null,null,null,null,null,null,null,null,null,null,null,{"$f":"IFERROR(IF(T1069=5,1,IF(MATCH(T1069&\"/\"&V1069,読み替え表_エコドライブ!$P$33:$P$52,0),1,0)),0)","v":0},"*"]
[null,null,1063,null,null,null,null,null,null,null,null,null,null,null,null,null,null,null,null,null,null,null,null,null,null,null,null,null,null,null,null,null,null,null,null,{"$f":"IFERROR(IF(T1070=5,1,IF(MATCH(T1070&\"/\"&V1070,読み替え表_エコドライブ!$P$33:$P$52,0),1,0)),0)","v":0},"*"]
[null,null,1064,null,null,null,null,null,null,null,null,null,null,null,null,null,null,null,null,null,null,null,null,null,null,null,null,null,null,null,null,null,null,null,null,{"$f":"IFERROR(IF(T1071=5,1,IF(MATCH(T1071&\"/\"&V1071,読み替え表_エコドライブ!$P$33:$P$52,0),1,0)),0)","v":0},"*"]
[null,null,1065,null,null,null,null,null,null,null,null,null,null,null,null,null,null,null,null,null,null,null,null,null,null,null,null,null,null,null,null,null,null,null,null,{"$f":"IFERROR(IF(T1072=5,1,IF(MATCH(T1072&\"/\"&V1072,読み替え表_エコドライブ!$P$33:$P$52,0),1,0)),0)","v":0},"*"]
[null,null,1066,null,null,null,null,null,null,null,null,null,null,null,null,null,null,null,null,null,null,null,null,null,null,null,null,null,null,null,null,null,null,null,null,{"$f":"IFERROR(IF(T1073=5,1,IF(MATCH(T1073&\"/\"&V1073,読み替え表_エコドライブ!$P$33:$P$52,0),1,0)),0)","v":0},"*"]
[null,null,1067,null,null,null,null,null,null,null,null,null,null,null,null,null,null,null,null,null,null,null,null,null,null,null,null,null,null,null,null,null,null,null,null,{"$f":"IFERROR(IF(T1074=5,1,IF(MATCH(T1074&\"/\"&V1074,読み替え表_エコドライブ!$P$33:$P$52,0),1,0)),0)","v":0},"*"]
[null,null,1068,null,null,null,null,null,null,null,null,null,null,null,null,null,null,null,null,null,null,null,null,null,null,null,null,null,null,null,null,null,null,null,null,{"$f":"IFERROR(IF(T1075=5,1,IF(MATCH(T1075&\"/\"&V1075,読み替え表_エコドライブ!$P$33:$P$52,0),1,0)),0)","v":0},"*"]
[null,null,1069,null,null,null,null,null,null,null,null,null,null,null,null,null,null,null,null,null,null,null,null,null,null,null,null,null,null,null,null,null,null,null,null,{"$f":"IFERROR(IF(T1076=5,1,IF(MATCH(T1076&\"/\"&V1076,読み替え表_エコドライブ!$P$33:$P$52,0),1,0)),0)","v":0},"*"]
[null,null,1070,null,null,null,null,null,null,null,null,null,null,null,null,null,null,null,null,null,null,null,null,null,null,null,null,null,null,null,null,null,null,null,null,{"$f":"IFERROR(IF(T1077=5,1,IF(MATCH(T1077&\"/\"&V1077,読み替え表_エコドライブ!$P$33:$P$52,0),1,0)),0)","v":0},"*"]
[null,null,1071,null,null,null,null,null,null,null,null,null,null,null,null,null,null,null,null,null,null,null,null,null,null,null,null,null,null,null,null,null,null,null,null,{"$f":"IFERROR(IF(T1078=5,1,IF(MATCH(T1078&\"/\"&V1078,読み替え表_エコドライブ!$P$33:$P$52,0),1,0)),0)","v":0},"*"]
[null,null,1072,null,null,null,null,null,null,null,null,null,null,null,null,null,null,null,null,null,null,null,null,null,null,null,null,null,null,null,null,null,null,null,null,{"$f":"IFERROR(IF(T1079=5,1,IF(MATCH(T1079&\"/\"&V1079,読み替え表_エコドライブ!$P$33:$P$52,0),1,0)),0)","v":0},"*"]
[null,null,1073,null,null,null,null,null,null,null,null,null,null,null,null,null,null,null,null,null,null,null,null,null,null,null,null,null,null,null,null,null,null,null,null,{"$f":"IFERROR(IF(T1080=5,1,IF(MATCH(T1080&\"/\"&V1080,読み替え表_エコドライブ!$P$33:$P$52,0),1,0)),0)","v":0},"*"]
[null,null,1074,null,null,null,null,null,null,null,null,null,null,null,null,null,null,null,null,null,null,null,null,null,null,null,null,null,null,null,null,null,null,null,null,{"$f":"IFERROR(IF(T1081=5,1,IF(MATCH(T1081&\"/\"&V1081,読み替え表_エコドライブ!$P$33:$P$52,0),1,0)),0)","v":0},"*"]
[null,null,1075,null,null,null,null,null,null,null,null,null,null,null,null,null,null,null,null,null,null,null,null,null,null,null,null,null,null,null,null,null,null,null,null,{"$f":"IFERROR(IF(T1082=5,1,IF(MATCH(T1082&\"/\"&V1082,読み替え表_エコドライブ!$P$33:$P$52,0),1,0)),0)","v":0},"*"]
[null,null,1076,null,null,null,null,null,null,null,null,null,null,null,null,null,null,null,null,null,null,null,null,null,null,null,null,null,null,null,null,null,null,null,null,{"$f":"IFERROR(IF(T1083=5,1,IF(MATCH(T1083&\"/\"&V1083,読み替え表_エコドライブ!$P$33:$P$52,0),1,0)),0)","v":0},"*"]
[null,null,1077,null,null,null,null,null,null,null,null,null,null,null,null,null,null,null,null,null,null,null,null,null,null,null,null,null,null,null,null,null,null,null,null,{"$f":"IFERROR(IF(T1084=5,1,IF(MATCH(T1084&\"/\"&V1084,読み替え表_エコドライブ!$P$33:$P$52,0),1,0)),0)","v":0},"*"]
[null,null,1078,null,null,null,null,null,null,null,null,null,null,null,null,null,null,null,null,null,null,null,null,null,null,null,null,null,null,null,null,null,null,null,null,{"$f":"IFERROR(IF(T1085=5,1,IF(MATCH(T1085&\"/\"&V1085,読み替え表_エコドライブ!$P$33:$P$52,0),1,0)),0)","v":0},"*"]
[null,null,1079,null,null,null,null,null,null,null,null,null,null,null,null,null,null,null,null,null,null,null,null,null,null,null,null,null,null,null,null,null,null,null,null,{"$f":"IFERROR(IF(T1086=5,1,IF(MATCH(T1086&\"/\"&V1086,読み替え表_エコドライブ!$P$33:$P$52,0),1,0)),0)","v":0},"*"]
[null,null,1080,null,null,null,null,null,null,null,null,null,null,null,null,null,null,null,null,null,null,null,null,null,null,null,null,null,null,null,null,null,null,null,null,{"$f":"IFERROR(IF(T1087=5,1,IF(MATCH(T1087&\"/\"&V1087,読み替え表_エコドライブ!$P$33:$P$52,0),1,0)),0)","v":0},"*"]
[null,null,1081,null,null,null,null,null,null,null,null,null,null,null,null,null,null,null,null,null,null,null,null,null,null,null,null,null,null,null,null,null,null,null,null,{"$f":"IFERROR(IF(T1088=5,1,IF(MATCH(T1088&\"/\"&V1088,読み替え表_エコドライブ!$P$33:$P$52,0),1,0)),0)","v":0},"*"]
[null,null,1082,null,null,null,null,null,null,null,null,null,null,null,null,null,null,null,null,null,null,null,null,null,null,null,null,null,null,null,null,null,null,null,null,{"$f":"IFERROR(IF(T1089=5,1,IF(MATCH(T1089&\"/\"&V1089,読み替え表_エコドライブ!$P$33:$P$52,0),1,0)),0)","v":0},"*"]
[null,null,1083,null,null,null,null,null,null,null,null,null,null,null,null,null,null,null,null,null,null,null,null,null,null,null,null,null,null,null,null,null,null,null,null,{"$f":"IFERROR(IF(T1090=5,1,IF(MATCH(T1090&\"/\"&V1090,読み替え表_エコドライブ!$P$33:$P$52,0),1,0)),0)","v":0},"*"]
[null,null,1084,null,null,null,null,null,null,null,null,null,null,null,null,null,null,null,null,null,null,null,null,null,null,null,null,null,null,null,null,null,null,null,null,{"$f":"IFERROR(IF(T1091=5,1,IF(MATCH(T1091&\"/\"&V1091,読み替え表_エコドライブ!$P$33:$P$52,0),1,0)),0)","v":0},"*"]
[null,null,1085,null,null,null,null,null,null,null,null,null,null,null,null,null,null,null,null,null,null,null,null,null,null,null,null,null,null,null,null,null,null,null,null,{"$f":"IFERROR(IF(T1092=5,1,IF(MATCH(T1092&\"/\"&V1092,読み替え表_エコドライブ!$P$33:$P$52,0),1,0)),0)","v":0},"*"]
[null,null,1086,null,null,null,null,null,null,null,null,null,null,null,null,null,null,null,null,null,null,null,null,null,null,null,null,null,null,null,null,null,null,null,null,{"$f":"IFERROR(IF(T1093=5,1,IF(MATCH(T1093&\"/\"&V1093,読み替え表_エコドライブ!$P$33:$P$52,0),1,0)),0)","v":0},"*"]
[null,null,1087,null,null,null,null,null,null,null,null,null,null,null,null,null,null,null,null,null,null,null,null,null,null,null,null,null,null,null,null,null,null,null,null,{"$f":"IFERROR(IF(T1094=5,1,IF(MATCH(T1094&\"/\"&V1094,読み替え表_エコドライブ!$P$33:$P$52,0),1,0)),0)","v":0},"*"]
[null,null,1088,null,null,null,null,null,null,null,null,null,null,null,null,null,null,null,null,null,null,null,null,null,null,null,null,null,null,null,null,null,null,null,null,{"$f":"IFERROR(IF(T1095=5,1,IF(MATCH(T1095&\"/\"&V1095,読み替え表_エコドライブ!$P$33:$P$52,0),1,0)),0)","v":0},"*"]
[null,null,1089,null,null,null,null,null,null,null,null,null,null,null,null,null,null,null,null,null,null,null,null,null,null,null,null,null,null,null,null,null,null,null,null,{"$f":"IFERROR(IF(T1096=5,1,IF(MATCH(T1096&\"/\"&V1096,読み替え表_エコドライブ!$P$33:$P$52,0),1,0)),0)","v":0},"*"]
[null,null,{"$f":"ROW()-7","v":1090},null,null,null,null,null,null,null,null,null,null,null,null,null,null,null,null,null,null,null,null,null,null,null,null,null,null,null,null,null,null,null,null,{"$f":"IFERROR(IF(T1097=5,1,IF(MATCH(T1097&\"/\"&V1097,読み替え表_エコドライブ!$P$33:$P$52,0),1,0)),0)","v":0},"*"]
[null,null,1091,null,null,null,null,null,null,null,null,null,null,null,null,null,null,null,null,null,null,null,null,null,null,null,null,null,null,null,null,null,null,null,null,{"$f":"IFERROR(IF(T1098=5,1,IF(MATCH(T1098&\"/\"&V1098,読み替え表_エコドライブ!$P$33:$P$52,0),1,0)),0)","v":0},"*"]
[null,null,1092,null,null,null,null,null,null,null,null,null,null,null,null,null,null,null,null,null,null,null,null,null,null,null,null,null,null,null,null,null,null,null,null,{"$f":"IFERROR(IF(T1099=5,1,IF(MATCH(T1099&\"/\"&V1099,読み替え表_エコドライブ!$P$33:$P$52,0),1,0)),0)","v":0},"*"]
[null,null,1093,null,null,null,null,null,null,null,null,null,null,null,null,null,null,null,null,null,null,null,null,null,null,null,null,null,null,null,null,null,null,null,null,{"$f":"IFERROR(IF(T1100=5,1,IF(MATCH(T1100&\"/\"&V1100,読み替え表_エコドライブ!$P$33:$P$52,0),1,0)),0)","v":0},"*"]
[null,null,1094,null,null,null,null,null,null,null,null,null,null,null,null,null,null,null,null,null,null,null,null,null,null,null,null,null,null,null,null,null,null,null,null,{"$f":"IFERROR(IF(T1101=5,1,IF(MATCH(T1101&\"/\"&V1101,読み替え表_エコドライブ!$P$33:$P$52,0),1,0)),0)","v":0},"*"]
[null,null,1095,null,null,null,null,null,null,null,null,null,null,null,null,null,null,null,null,null,null,null,null,null,null,null,null,null,null,null,null,null,null,null,null,{"$f":"IFERROR(IF(T1102=5,1,IF(MATCH(T1102&\"/\"&V1102,読み替え表_エコドライブ!$P$33:$P$52,0),1,0)),0)","v":0},"*"]
[null,null,1096,null,null,null,null,null,null,null,null,null,null,null,null,null,null,null,null,null,null,null,null,null,null,null,null,null,null,null,null,null,null,null,null,{"$f":"IFERROR(IF(T1103=5,1,IF(MATCH(T1103&\"/\"&V1103,読み替え表_エコドライブ!$P$33:$P$52,0),1,0)),0)","v":0},"*"]
[null,null,1097,null,null,null,null,null,null,null,null,null,null,null,null,null,null,null,null,null,null,null,null,null,null,null,null,null,null,null,null,null,null,null,null,{"$f":"IFERROR(IF(T1104=5,1,IF(MATCH(T1104&\"/\"&V1104,読み替え表_エコドライブ!$P$33:$P$52,0),1,0)),0)","v":0},"*"]
[null,null,1098,null,null,null,null,null,null,null,null,null,null,null,null,null,null,null,null,null,null,null,null,null,null,null,null,null,null,null,null,null,null,null,null,{"$f":"IFERROR(IF(T1105=5,1,IF(MATCH(T1105&\"/\"&V1105,読み替え表_エコドライブ!$P$33:$P$52,0),1,0)),0)","v":0},"*"]
[null,null,1099,null,null,null,null,null,null,null,null,null,null,null,null,null,null,null,null,null,null,null,null,null,null,null,null,null,null,null,null,null,null,null,null,{"$f":"IFERROR(IF(T1106=5,1,IF(MATCH(T1106&\"/\"&V1106,読み替え表_エコドライブ!$P$33:$P$52,0),1,0)),0)","v":0},"*"]
[null,null,1100,null,null,null,null,null,null,null,null,null,null,null,null,null,null,null,null,null,null,null,null,null,null,null,null,null,null,null,null,null,null,null,null,{"$f":"IFERROR(IF(T1107=5,1,IF(MATCH(T1107&\"/\"&V1107,読み替え表_エコドライブ!$P$33:$P$52,0),1,0)),0)","v":0},"*"]
[null,null,1101,null,null,null,null,null,null,null,null,null,null,null,null,null,null,null,null,null,null,null,null,null,null,null,null,null,null,null,null,null,null,null,null,{"$f":"IFERROR(IF(T1108=5,1,IF(MATCH(T1108&\"/\"&V1108,読み替え表_エコドライブ!$P$33:$P$52,0),1,0)),0)","v":0},"*"]
[null,null,1102,null,null,null,null,null,null,null,null,null,null,null,null,null,null,null,null,null,null,null,null,null,null,null,null,null,null,null,null,null,null,null,null,{"$f":"IFERROR(IF(T1109=5,1,IF(MATCH(T1109&\"/\"&V1109,読み替え表_エコドライブ!$P$33:$P$52,0),1,0)),0)","v":0},"*"]
[null,null,1103,null,null,null,null,null,null,null,null,null,null,null,null,null,null,null,null,null,null,null,null,null,null,null,null,null,null,null,null,null,null,null,null,{"$f":"IFERROR(IF(T1110=5,1,IF(MATCH(T1110&\"/\"&V1110,読み替え表_エコドライブ!$P$33:$P$52,0),1,0)),0)","v":0},"*"]
[null,null,1104,null,null,null,null,null,null,null,null,null,null,null,null,null,null,null,null,null,null,null,null,null,null,null,null,null,null,null,null,null,null,null,null,{"$f":"IFERROR(IF(T1111=5,1,IF(MATCH(T1111&\"/\"&V1111,読み替え表_エコドライブ!$P$33:$P$52,0),1,0)),0)","v":0},"*"]
[null,null,1105,null,null,null,null,null,null,null,null,null,null,null,null,null,null,null,null,null,null,null,null,null,null,null,null,null,null,null,null,null,null,null,null,{"$f":"IFERROR(IF(T1112=5,1,IF(MATCH(T1112&\"/\"&V1112,読み替え表_エコドライブ!$P$33:$P$52,0),1,0)),0)","v":0},"*"]
[null,null,1106,null,null,null,null,null,null,null,null,null,null,null,null,null,null,null,null,null,null,null,null,null,null,null,null,null,null,null,null,null,null,null,null,{"$f":"IFERROR(IF(T1113=5,1,IF(MATCH(T1113&\"/\"&V1113,読み替え表_エコドライブ!$P$33:$P$52,0),1,0)),0)","v":0},"*"]
[null,null,1107,null,null,null,null,null,null,null,null,null,null,null,null,null,null,null,null,null,null,null,null,null,null,null,null,null,null,null,null,null,null,null,null,{"$f":"IFERROR(IF(T1114=5,1,IF(MATCH(T1114&\"/\"&V1114,読み替え表_エコドライブ!$P$33:$P$52,0),1,0)),0)","v":0},"*"]
[null,null,1108,null,null,null,null,null,null,null,null,null,null,null,null,null,null,null,null,null,null,null,null,null,null,null,null,null,null,null,null,null,null,null,null,{"$f":"IFERROR(IF(T1115=5,1,IF(MATCH(T1115&\"/\"&V1115,読み替え表_エコドライブ!$P$33:$P$52,0),1,0)),0)","v":0},"*"]
[null,null,1109,null,null,null,null,null,null,null,null,null,null,null,null,null,null,null,null,null,null,null,null,null,null,null,null,null,null,null,null,null,null,null,null,{"$f":"IFERROR(IF(T1116=5,1,IF(MATCH(T1116&\"/\"&V1116,読み替え表_エコドライブ!$P$33:$P$52,0),1,0)),0)","v":0},"*"]
[null,null,1110,null,null,null,null,null,null,null,null,null,null,null,null,null,null,null,null,null,null,null,null,null,null,null,null,null,null,null,null,null,null,null,null,{"$f":"IFERROR(IF(T1117=5,1,IF(MATCH(T1117&\"/\"&V1117,読み替え表_エコドライブ!$P$33:$P$52,0),1,0)),0)","v":0},"*"]
[null,null,1111,null,null,null,null,null,null,null,null,null,null,null,null,null,null,null,null,null,null,null,null,null,null,null,null,null,null,null,null,null,null,null,null,{"$f":"IFERROR(IF(T1118=5,1,IF(MATCH(T1118&\"/\"&V1118,読み替え表_エコドライブ!$P$33:$P$52,0),1,0)),0)","v":0},"*"]
[null,null,1112,null,null,null,null,null,null,null,null,null,null,null,null,null,null,null,null,null,null,null,null,null,null,null,null,null,null,null,null,null,null,null,null,{"$f":"IFERROR(IF(T1119=5,1,IF(MATCH(T1119&\"/\"&V1119,読み替え表_エコドライブ!$P$33:$P$52,0),1,0)),0)","v":0},"*"]
[null,null,1113,null,null,null,null,null,null,null,null,null,null,null,null,null,null,null,null,null,null,null,null,null,null,null,null,null,null,null,null,null,null,null,null,{"$f":"IFERROR(IF(T1120=5,1,IF(MATCH(T1120&\"/\"&V1120,読み替え表_エコドライブ!$P$33:$P$52,0),1,0)),0)","v":0},"*"]
[null,null,1114,null,null,null,null,null,null,null,null,null,null,null,null,null,null,null,null,null,null,null,null,null,null,null,null,null,null,null,null,null,null,null,null,{"$f":"IFERROR(IF(T1121=5,1,IF(MATCH(T1121&\"/\"&V1121,読み替え表_エコドライブ!$P$33:$P$52,0),1,0)),0)","v":0},"*"]
[null,null,1115,null,null,null,null,null,null,null,null,null,null,null,null,null,null,null,null,null,null,null,null,null,null,null,null,null,null,null,null,null,null,null,null,{"$f":"IFERROR(IF(T1122=5,1,IF(MATCH(T1122&\"/\"&V1122,読み替え表_エコドライブ!$P$33:$P$52,0),1,0)),0)","v":0},"*"]
[null,null,1116,null,null,null,null,null,null,null,null,null,null,null,null,null,null,null,null,null,null,null,null,null,null,null,null,null,null,null,null,null,null,null,null,{"$f":"IFERROR(IF(T1123=5,1,IF(MATCH(T1123&\"/\"&V1123,読み替え表_エコドライブ!$P$33:$P$52,0),1,0)),0)","v":0},"*"]
[null,null,1117,null,null,null,null,null,null,null,null,null,null,null,null,null,null,null,null,null,null,null,null,null,null,null,null,null,null,null,null,null,null,null,null,{"$f":"IFERROR(IF(T1124=5,1,IF(MATCH(T1124&\"/\"&V1124,読み替え表_エコドライブ!$P$33:$P$52,0),1,0)),0)","v":0},"*"]
[null,null,1118,null,null,null,null,null,null,null,null,null,null,null,null,null,null,null,null,null,null,null,null,null,null,null,null,null,null,null,null,null,null,null,null,{"$f":"IFERROR(IF(T1125=5,1,IF(MATCH(T1125&\"/\"&V1125,読み替え表_エコドライブ!$P$33:$P$52,0),1,0)),0)","v":0},"*"]
[null,null,1119,null,null,null,null,null,null,null,null,null,null,null,null,null,null,null,null,null,null,null,null,null,null,null,null,null,null,null,null,null,null,null,null,{"$f":"IFERROR(IF(T1126=5,1,IF(MATCH(T1126&\"/\"&V1126,読み替え表_エコドライブ!$P$33:$P$52,0),1,0)),0)","v":0},"*"]
[null,null,1120,null,null,null,null,null,null,null,null,null,null,null,null,null,null,null,null,null,null,null,null,null,null,null,null,null,null,null,null,null,null,null,null,{"$f":"IFERROR(IF(T1127=5,1,IF(MATCH(T1127&\"/\"&V1127,読み替え表_エコドライブ!$P$33:$P$52,0),1,0)),0)","v":0},"*"]
[null,null,1121,null,null,null,null,null,null,null,null,null,null,null,null,null,null,null,null,null,null,null,null,null,null,null,null,null,null,null,null,null,null,null,null,{"$f":"IFERROR(IF(T1128=5,1,IF(MATCH(T1128&\"/\"&V1128,読み替え表_エコドライブ!$P$33:$P$52,0),1,0)),0)","v":0},"*"]
[null,null,1122,null,null,null,null,null,null,null,null,null,null,null,null,null,null,null,null,null,null,null,null,null,null,null,null,null,null,null,null,null,null,null,null,{"$f":"IFERROR(IF(T1129=5,1,IF(MATCH(T1129&\"/\"&V1129,読み替え表_エコドライブ!$P$33:$P$52,0),1,0)),0)","v":0},"*"]
[null,null,1123,null,null,null,null,null,null,null,null,null,null,null,null,null,null,null,null,null,null,null,null,null,null,null,null,null,null,null,null,null,null,null,null,{"$f":"IFERROR(IF(T1130=5,1,IF(MATCH(T1130&\"/\"&V1130,読み替え表_エコドライブ!$P$33:$P$52,0),1,0)),0)","v":0},"*"]
[null,null,1124,null,null,null,null,null,null,null,null,null,null,null,null,null,null,null,null,null,null,null,null,null,null,null,null,null,null,null,null,null,null,null,null,{"$f":"IFERROR(IF(T1131=5,1,IF(MATCH(T1131&\"/\"&V1131,読み替え表_エコドライブ!$P$33:$P$52,0),1,0)),0)","v":0},"*"]
[null,null,1125,null,null,null,null,null,null,null,null,null,null,null,null,null,null,null,null,null,null,null,null,null,null,null,null,null,null,null,null,null,null,null,null,{"$f":"IFERROR(IF(T1132=5,1,IF(MATCH(T1132&\"/\"&V1132,読み替え表_エコドライブ!$P$33:$P$52,0),1,0)),0)","v":0},"*"]
[null,null,1126,null,null,null,null,null,null,null,null,null,null,null,null,null,null,null,null,null,null,null,null,null,null,null,null,null,null,null,null,null,null,null,null,{"$f":"IFERROR(IF(T1133=5,1,IF(MATCH(T1133&\"/\"&V1133,読み替え表_エコドライブ!$P$33:$P$52,0),1,0)),0)","v":0},"*"]
[null,null,1127,null,null,null,null,null,null,null,null,null,null,null,null,null,null,null,null,null,null,null,null,null,null,null,null,null,null,null,null,null,null,null,null,{"$f":"IFERROR(IF(T1134=5,1,IF(MATCH(T1134&\"/\"&V1134,読み替え表_エコドライブ!$P$33:$P$52,0),1,0)),0)","v":0},"*"]
[null,null,1128,null,null,null,null,null,null,null,null,null,null,null,null,null,null,null,null,null,null,null,null,null,null,null,null,null,null,null,null,null,null,null,null,{"$f":"IFERROR(IF(T1135=5,1,IF(MATCH(T1135&\"/\"&V1135,読み替え表_エコドライブ!$P$33:$P$52,0),1,0)),0)","v":0},"*"]
[null,null,1129,null,null,null,null,null,null,null,null,null,null,null,null,null,null,null,null,null,null,null,null,null,null,null,null,null,null,null,null,null,null,null,null,{"$f":"IFERROR(IF(T1136=5,1,IF(MATCH(T1136&\"/\"&V1136,読み替え表_エコドライブ!$P$33:$P$52,0),1,0)),0)","v":0},"*"]
[null,null,1130,null,null,null,null,null,null,null,null,null,null,null,null,null,null,null,null,null,null,null,null,null,null,null,null,null,null,null,null,null,null,null,null,{"$f":"IFERROR(IF(T1137=5,1,IF(MATCH(T1137&\"/\"&V1137,読み替え表_エコドライブ!$P$33:$P$52,0),1,0)),0)","v":0},"*"]
[null,null,1131,null,null,null,null,null,null,null,null,null,null,null,null,null,null,null,null,null,null,null,null,null,null,null,null,null,null,null,null,null,null,null,null,{"$f":"IFERROR(IF(T1138=5,1,IF(MATCH(T1138&\"/\"&V1138,読み替え表_エコドライブ!$P$33:$P$52,0),1,0)),0)","v":0},"*"]
[null,null,1132,null,null,null,null,null,null,null,null,null,null,null,null,null,null,null,null,null,null,null,null,null,null,null,null,null,null,null,null,null,null,null,null,{"$f":"IFERROR(IF(T1139=5,1,IF(MATCH(T1139&\"/\"&V1139,読み替え表_エコドライブ!$P$33:$P$52,0),1,0)),0)","v":0},"*"]
[null,null,1133,null,null,null,null,null,null,null,null,null,null,null,null,null,null,null,null,null,null,null,null,null,null,null,null,null,null,null,null,null,null,null,null,{"$f":"IFERROR(IF(T1140=5,1,IF(MATCH(T1140&\"/\"&V1140,読み替え表_エコドライブ!$P$33:$P$52,0),1,0)),0)","v":0},"*"]
[null,null,1134,null,null,null,null,null,null,null,null,null,null,null,null,null,null,null,null,null,null,null,null,null,null,null,null,null,null,null,null,null,null,null,null,{"$f":"IFERROR(IF(T1141=5,1,IF(MATCH(T1141&\"/\"&V1141,読み替え表_エコドライブ!$P$33:$P$52,0),1,0)),0)","v":0},"*"]
[null,null,1135,null,null,null,null,null,null,null,null,null,null,null,null,null,null,null,null,null,null,null,null,null,null,null,null,null,null,null,null,null,null,null,null,{"$f":"IFERROR(IF(T1142=5,1,IF(MATCH(T1142&\"/\"&V1142,読み替え表_エコドライブ!$P$33:$P$52,0),1,0)),0)","v":0},"*"]
[null,null,1136,null,null,null,null,null,null,null,null,null,null,null,null,null,null,null,null,null,null,null,null,null,null,null,null,null,null,null,null,null,null,null,null,{"$f":"IFERROR(IF(T1143=5,1,IF(MATCH(T1143&\"/\"&V1143,読み替え表_エコドライブ!$P$33:$P$52,0),1,0)),0)","v":0},"*"]
[null,null,1137,null,null,null,null,null,null,null,null,null,null,null,null,null,null,null,null,null,null,null,null,null,null,null,null,null,null,null,null,null,null,null,null,{"$f":"IFERROR(IF(T1144=5,1,IF(MATCH(T1144&\"/\"&V1144,読み替え表_エコドライブ!$P$33:$P$52,0),1,0)),0)","v":0},"*"]
[null,null,1138,null,null,null,null,null,null,null,null,null,null,null,null,null,null,null,null,null,null,null,null,null,null,null,null,null,null,null,null,null,null,null,null,{"$f":"IFERROR(IF(T1145=5,1,IF(MATCH(T1145&\"/\"&V1145,読み替え表_エコドライブ!$P$33:$P$52,0),1,0)),0)","v":0},"*"]
[null,null,1139,null,null,null,null,null,null,null,null,null,null,null,null,null,null,null,null,null,null,null,null,null,null,null,null,null,null,null,null,null,null,null,null,{"$f":"IFERROR(IF(T1146=5,1,IF(MATCH(T1146&\"/\"&V1146,読み替え表_エコドライブ!$P$33:$P$52,0),1,0)),0)","v":0},"*"]
[null,null,1140,null,null,null,null,null,null,null,null,null,null,null,null,null,null,null,null,null,null,null,null,null,null,null,null,null,null,null,null,null,null,null,null,{"$f":"IFERROR(IF(T1147=5,1,IF(MATCH(T1147&\"/\"&V1147,読み替え表_エコドライブ!$P$33:$P$52,0),1,0)),0)","v":0},"*"]
[null,null,1141,null,null,null,null,null,null,null,null,null,null,null,null,null,null,null,null,null,null,null,null,null,null,null,null,null,null,null,null,null,null,null,null,{"$f":"IFERROR(IF(T1148=5,1,IF(MATCH(T1148&\"/\"&V1148,読み替え表_エコドライブ!$P$33:$P$52,0),1,0)),0)","v":0},"*"]
[null,null,1142,null,null,null,null,null,null,null,null,null,null,null,null,null,null,null,null,null,null,null,null,null,null,null,null,null,null,null,null,null,null,null,null,{"$f":"IFERROR(IF(T1149=5,1,IF(MATCH(T1149&\"/\"&V1149,読み替え表_エコドライブ!$P$33:$P$52,0),1,0)),0)","v":0},"*"]
[null,null,1143,null,null,null,null,null,null,null,null,null,null,null,null,null,null,null,null,null,null,null,null,null,null,null,null,null,null,null,null,null,null,null,null,{"$f":"IFERROR(IF(T1150=5,1,IF(MATCH(T1150&\"/\"&V1150,読み替え表_エコドライブ!$P$33:$P$52,0),1,0)),0)","v":0},"*"]
[null,null,1144,null,null,null,null,null,null,null,null,null,null,null,null,null,null,null,null,null,null,null,null,null,null,null,null,null,null,null,null,null,null,null,null,{"$f":"IFERROR(IF(T1151=5,1,IF(MATCH(T1151&\"/\"&V1151,読み替え表_エコドライブ!$P$33:$P$52,0),1,0)),0)","v":0},"*"]
[null,null,1145,null,null,null,null,null,null,null,null,null,null,null,null,null,null,null,null,null,null,null,null,null,null,null,null,null,null,null,null,null,null,null,null,{"$f":"IFERROR(IF(T1152=5,1,IF(MATCH(T1152&\"/\"&V1152,読み替え表_エコドライブ!$P$33:$P$52,0),1,0)),0)","v":0},"*"]
[null,null,1146,null,null,null,null,null,null,null,null,null,null,null,null,null,null,null,null,null,null,null,null,null,null,null,null,null,null,null,null,null,null,null,null,{"$f":"IFERROR(IF(T1153=5,1,IF(MATCH(T1153&\"/\"&V1153,読み替え表_エコドライブ!$P$33:$P$52,0),1,0)),0)","v":0},"*"]
[null,null,1147,null,null,null,null,null,null,null,null,null,null,null,null,null,null,null,null,null,null,null,null,null,null,null,null,null,null,null,null,null,null,null,null,{"$f":"IFERROR(IF(T1154=5,1,IF(MATCH(T1154&\"/\"&V1154,読み替え表_エコドライブ!$P$33:$P$52,0),1,0)),0)","v":0},"*"]
[null,null,1148,null,null,null,null,null,null,null,null,null,null,null,null,null,null,null,null,null,null,null,null,null,null,null,null,null,null,null,null,null,null,null,null,{"$f":"IFERROR(IF(T1155=5,1,IF(MATCH(T1155&\"/\"&V1155,読み替え表_エコドライブ!$P$33:$P$52,0),1,0)),0)","v":0},"*"]
[null,null,1149,null,null,null,null,null,null,null,null,null,null,null,null,null,null,null,null,null,null,null,null,null,null,null,null,null,null,null,null,null,null,null,null,{"$f":"IFERROR(IF(T1156=5,1,IF(MATCH(T1156&\"/\"&V1156,読み替え表_エコドライブ!$P$33:$P$52,0),1,0)),0)","v":0},"*"]
[null,null,1150,null,null,null,null,null,null,null,null,null,null,null,null,null,null,null,null,null,null,null,null,null,null,null,null,null,null,null,null,null,null,null,null,{"$f":"IFERROR(IF(T1157=5,1,IF(MATCH(T1157&\"/\"&V1157,読み替え表_エコドライブ!$P$33:$P$52,0),1,0)),0)","v":0},"*"]
[null,null,1151,null,null,null,null,null,null,null,null,null,null,null,null,null,null,null,null,null,null,null,null,null,null,null,null,null,null,null,null,null,null,null,null,{"$f":"IFERROR(IF(T1158=5,1,IF(MATCH(T1158&\"/\"&V1158,読み替え表_エコドライブ!$P$33:$P$52,0),1,0)),0)","v":0},"*"]
[null,null,1152,null,null,null,null,null,null,null,null,null,null,null,null,null,null,null,null,null,null,null,null,null,null,null,null,null,null,null,null,null,null,null,null,{"$f":"IFERROR(IF(T1159=5,1,IF(MATCH(T1159&\"/\"&V1159,読み替え表_エコドライブ!$P$33:$P$52,0),1,0)),0)","v":0},"*"]
[null,null,1153,null,null,null,null,null,null,null,null,null,null,null,null,null,null,null,null,null,null,null,null,null,null,null,null,null,null,null,null,null,null,null,null,{"$f":"IFERROR(IF(T1160=5,1,IF(MATCH(T1160&\"/\"&V1160,読み替え表_エコドライブ!$P$33:$P$52,0),1,0)),0)","v":0},"*"]
[null,null,{"$f":"ROW()-7","v":1154},null,null,null,null,null,null,null,null,null,null,null,null,null,null,null,null,null,null,null,null,null,null,null,null,null,null,null,null,null,null,null,null,{"$f":"IFERROR(IF(T1161=5,1,IF(MATCH(T1161&\"/\"&V1161,読み替え表_エコドライブ!$P$33:$P$52,0),1,0)),0)","v":0},"*"]
[null,null,1155,null,null,null,null,null,null,null,null,null,null,null,null,null,null,null,null,null,null,null,null,null,null,null,null,null,null,null,null,null,null,null,null,{"$f":"IFERROR(IF(T1162=5,1,IF(MATCH(T1162&\"/\"&V1162,読み替え表_エコドライブ!$P$33:$P$52,0),1,0)),0)","v":0},"*"]
[null,null,1156,null,null,null,null,null,null,null,null,null,null,null,null,null,null,null,null,null,null,null,null,null,null,null,null,null,null,null,null,null,null,null,null,{"$f":"IFERROR(IF(T1163=5,1,IF(MATCH(T1163&\"/\"&V1163,読み替え表_エコドライブ!$P$33:$P$52,0),1,0)),0)","v":0},"*"]
[null,null,1157,null,null,null,null,null,null,null,null,null,null,null,null,null,null,null,null,null,null,null,null,null,null,null,null,null,null,null,null,null,null,null,null,{"$f":"IFERROR(IF(T1164=5,1,IF(MATCH(T1164&\"/\"&V1164,読み替え表_エコドライブ!$P$33:$P$52,0),1,0)),0)","v":0},"*"]
[null,null,1158,null,null,null,null,null,null,null,null,null,null,null,null,null,null,null,null,null,null,null,null,null,null,null,null,null,null,null,null,null,null,null,null,{"$f":"IFERROR(IF(T1165=5,1,IF(MATCH(T1165&\"/\"&V1165,読み替え表_エコドライブ!$P$33:$P$52,0),1,0)),0)","v":0},"*"]
[null,null,1159,null,null,null,null,null,null,null,null,null,null,null,null,null,null,null,null,null,null,null,null,null,null,null,null,null,null,null,null,null,null,null,null,{"$f":"IFERROR(IF(T1166=5,1,IF(MATCH(T1166&\"/\"&V1166,読み替え表_エコドライブ!$P$33:$P$52,0),1,0)),0)","v":0},"*"]
[null,null,1160,null,null,null,null,null,null,null,null,null,null,null,null,null,null,null,null,null,null,null,null,null,null,null,null,null,null,null,null,null,null,null,null,{"$f":"IFERROR(IF(T1167=5,1,IF(MATCH(T1167&\"/\"&V1167,読み替え表_エコドライブ!$P$33:$P$52,0),1,0)),0)","v":0},"*"]
[null,null,1161,null,null,null,null,null,null,null,null,null,null,null,null,null,null,null,null,null,null,null,null,null,null,null,null,null,null,null,null,null,null,null,null,{"$f":"IFERROR(IF(T1168=5,1,IF(MATCH(T1168&\"/\"&V1168,読み替え表_エコドライブ!$P$33:$P$52,0),1,0)),0)","v":0},"*"]
[null,null,1162,null,null,null,null,null,null,null,null,null,null,null,null,null,null,null,null,null,null,null,null,null,null,null,null,null,null,null,null,null,null,null,null,{"$f":"IFERROR(IF(T1169=5,1,IF(MATCH(T1169&\"/\"&V1169,読み替え表_エコドライブ!$P$33:$P$52,0),1,0)),0)","v":0},"*"]
[null,null,1163,null,null,null,null,null,null,null,null,null,null,null,null,null,null,null,null,null,null,null,null,null,null,null,null,null,null,null,null,null,null,null,null,{"$f":"IFERROR(IF(T1170=5,1,IF(MATCH(T1170&\"/\"&V1170,読み替え表_エコドライブ!$P$33:$P$52,0),1,0)),0)","v":0},"*"]
[null,null,1164,null,null,null,null,null,null,null,null,null,null,null,null,null,null,null,null,null,null,null,null,null,null,null,null,null,null,null,null,null,null,null,null,{"$f":"IFERROR(IF(T1171=5,1,IF(MATCH(T1171&\"/\"&V1171,読み替え表_エコドライブ!$P$33:$P$52,0),1,0)),0)","v":0},"*"]
[null,null,1165,null,null,null,null,null,null,null,null,null,null,null,null,null,null,null,null,null,null,null,null,null,null,null,null,null,null,null,null,null,null,null,null,{"$f":"IFERROR(IF(T1172=5,1,IF(MATCH(T1172&\"/\"&V1172,読み替え表_エコドライブ!$P$33:$P$52,0),1,0)),0)","v":0},"*"]
[null,null,1166,null,null,null,null,null,null,null,null,null,null,null,null,null,null,null,null,null,null,null,null,null,null,null,null,null,null,null,null,null,null,null,null,{"$f":"IFERROR(IF(T1173=5,1,IF(MATCH(T1173&\"/\"&V1173,読み替え表_エコドライブ!$P$33:$P$52,0),1,0)),0)","v":0},"*"]
[null,null,1167,null,null,null,null,null,null,null,null,null,null,null,null,null,null,null,null,null,null,null,null,null,null,null,null,null,null,null,null,null,null,null,null,{"$f":"IFERROR(IF(T1174=5,1,IF(MATCH(T1174&\"/\"&V1174,読み替え表_エコドライブ!$P$33:$P$52,0),1,0)),0)","v":0},"*"]
[null,null,1168,null,null,null,null,null,null,null,null,null,null,null,null,null,null,null,null,null,null,null,null,null,null,null,null,null,null,null,null,null,null,null,null,{"$f":"IFERROR(IF(T1175=5,1,IF(MATCH(T1175&\"/\"&V1175,読み替え表_エコドライブ!$P$33:$P$52,0),1,0)),0)","v":0},"*"]
[null,null,1169,null,null,null,null,null,null,null,null,null,null,null,null,null,null,null,null,null,null,null,null,null,null,null,null,null,null,null,null,null,null,null,null,{"$f":"IFERROR(IF(T1176=5,1,IF(MATCH(T1176&\"/\"&V1176,読み替え表_エコドライブ!$P$33:$P$52,0),1,0)),0)","v":0},"*"]
[null,null,1170,null,null,null,null,null,null,null,null,null,null,null,null,null,null,null,null,null,null,null,null,null,null,null,null,null,null,null,null,null,null,null,null,{"$f":"IFERROR(IF(T1177=5,1,IF(MATCH(T1177&\"/\"&V1177,読み替え表_エコドライブ!$P$33:$P$52,0),1,0)),0)","v":0},"*"]
[null,null,1171,null,null,null,null,null,null,null,null,null,null,null,null,null,null,null,null,null,null,null,null,null,null,null,null,null,null,null,null,null,null,null,null,{"$f":"IFERROR(IF(T1178=5,1,IF(MATCH(T1178&\"/\"&V1178,読み替え表_エコドライブ!$P$33:$P$52,0),1,0)),0)","v":0},"*"]
[null,null,1172,null,null,null,null,null,null,null,null,null,null,null,null,null,null,null,null,null,null,null,null,null,null,null,null,null,null,null,null,null,null,null,null,{"$f":"IFERROR(IF(T1179=5,1,IF(MATCH(T1179&\"/\"&V1179,読み替え表_エコドライブ!$P$33:$P$52,0),1,0)),0)","v":0},"*"]
[null,null,1173,null,null,null,null,null,null,null,null,null,null,null,null,null,null,null,null,null,null,null,null,null,null,null,null,null,null,null,null,null,null,null,null,{"$f":"IFERROR(IF(T1180=5,1,IF(MATCH(T1180&\"/\"&V1180,読み替え表_エコドライブ!$P$33:$P$52,0),1,0)),0)","v":0},"*"]
[null,null,1174,null,null,null,null,null,null,null,null,null,null,null,null,null,null,null,null,null,null,null,null,null,null,null,null,null,null,null,null,null,null,null,null,{"$f":"IFERROR(IF(T1181=5,1,IF(MATCH(T1181&\"/\"&V1181,読み替え表_エコドライブ!$P$33:$P$52,0),1,0)),0)","v":0},"*"]
[null,null,1175,null,null,null,null,null,null,null,null,null,null,null,null,null,null,null,null,null,null,null,null,null,null,null,null,null,null,null,null,null,null,null,null,{"$f":"IFERROR(IF(T1182=5,1,IF(MATCH(T1182&\"/\"&V1182,読み替え表_エコドライブ!$P$33:$P$52,0),1,0)),0)","v":0},"*"]
[null,null,1176,null,null,null,null,null,null,null,null,null,null,null,null,null,null,null,null,null,null,null,null,null,null,null,null,null,null,null,null,null,null,null,null,{"$f":"IFERROR(IF(T1183=5,1,IF(MATCH(T1183&\"/\"&V1183,読み替え表_エコドライブ!$P$33:$P$52,0),1,0)),0)","v":0},"*"]
[null,null,1177,null,null,null,null,null,null,null,null,null,null,null,null,null,null,null,null,null,null,null,null,null,null,null,null,null,null,null,null,null,null,null,null,{"$f":"IFERROR(IF(T1184=5,1,IF(MATCH(T1184&\"/\"&V1184,読み替え表_エコドライブ!$P$33:$P$52,0),1,0)),0)","v":0},"*"]
[null,null,1178,null,null,null,null,null,null,null,null,null,null,null,null,null,null,null,null,null,null,null,null,null,null,null,null,null,null,null,null,null,null,null,null,{"$f":"IFERROR(IF(T1185=5,1,IF(MATCH(T1185&\"/\"&V1185,読み替え表_エコドライブ!$P$33:$P$52,0),1,0)),0)","v":0},"*"]
[null,null,1179,null,null,null,null,null,null,null,null,null,null,null,null,null,null,null,null,null,null,null,null,null,null,null,null,null,null,null,null,null,null,null,null,{"$f":"IFERROR(IF(T1186=5,1,IF(MATCH(T1186&\"/\"&V1186,読み替え表_エコドライブ!$P$33:$P$52,0),1,0)),0)","v":0},"*"]
[null,null,1180,null,null,null,null,null,null,null,null,null,null,null,null,null,null,null,null,null,null,null,null,null,null,null,null,null,null,null,null,null,null,null,null,{"$f":"IFERROR(IF(T1187=5,1,IF(MATCH(T1187&\"/\"&V1187,読み替え表_エコドライブ!$P$33:$P$52,0),1,0)),0)","v":0},"*"]
[null,null,1181,null,null,null,null,null,null,null,null,null,null,null,null,null,null,null,null,null,null,null,null,null,null,null,null,null,null,null,null,null,null,null,null,{"$f":"IFERROR(IF(T1188=5,1,IF(MATCH(T1188&\"/\"&V1188,読み替え表_エコドライブ!$P$33:$P$52,0),1,0)),0)","v":0},"*"]
[null,null,1182,null,null,null,null,null,null,null,null,null,null,null,null,null,null,null,null,null,null,null,null,null,null,null,null,null,null,null,null,null,null,null,null,{"$f":"IFERROR(IF(T1189=5,1,IF(MATCH(T1189&\"/\"&V1189,読み替え表_エコドライブ!$P$33:$P$52,0),1,0)),0)","v":0},"*"]
[null,null,1183,null,null,null,null,null,null,null,null,null,null,null,null,null,null,null,null,null,null,null,null,null,null,null,null,null,null,null,null,null,null,null,null,{"$f":"IFERROR(IF(T1190=5,1,IF(MATCH(T1190&\"/\"&V1190,読み替え表_エコドライブ!$P$33:$P$52,0),1,0)),0)","v":0},"*"]
[null,null,1184,null,null,null,null,null,null,null,null,null,null,null,null,null,null,null,null,null,null,null,null,null,null,null,null,null,null,null,null,null,null,null,null,{"$f":"IFERROR(IF(T1191=5,1,IF(MATCH(T1191&\"/\"&V1191,読み替え表_エコドライブ!$P$33:$P$52,0),1,0)),0)","v":0},"*"]
[null,null,1185,null,null,null,null,null,null,null,null,null,null,null,null,null,null,null,null,null,null,null,null,null,null,null,null,null,null,null,null,null,null,null,null,{"$f":"IFERROR(IF(T1192=5,1,IF(MATCH(T1192&\"/\"&V1192,読み替え表_エコドライブ!$P$33:$P$52,0),1,0)),0)","v":0},"*"]
[null,null,1186,null,null,null,null,null,null,null,null,null,null,null,null,null,null,null,null,null,null,null,null,null,null,null,null,null,null,null,null,null,null,null,null,{"$f":"IFERROR(IF(T1193=5,1,IF(MATCH(T1193&\"/\"&V1193,読み替え表_エコドライブ!$P$33:$P$52,0),1,0)),0)","v":0},"*"]
[null,null,1187,null,null,null,null,null,null,null,null,null,null,null,null,null,null,null,null,null,null,null,null,null,null,null,null,null,null,null,null,null,null,null,null,{"$f":"IFERROR(IF(T1194=5,1,IF(MATCH(T1194&\"/\"&V1194,読み替え表_エコドライブ!$P$33:$P$52,0),1,0)),0)","v":0},"*"]
[null,null,1188,null,null,null,null,null,null,null,null,null,null,null,null,null,null,null,null,null,null,null,null,null,null,null,null,null,null,null,null,null,null,null,null,{"$f":"IFERROR(IF(T1195=5,1,IF(MATCH(T1195&\"/\"&V1195,読み替え表_エコドライブ!$P$33:$P$52,0),1,0)),0)","v":0},"*"]
[null,null,1189,null,null,null,null,null,null,null,null,null,null,null,null,null,null,null,null,null,null,null,null,null,null,null,null,null,null,null,null,null,null,null,null,{"$f":"IFERROR(IF(T1196=5,1,IF(MATCH(T1196&\"/\"&V1196,読み替え表_エコドライブ!$P$33:$P$52,0),1,0)),0)","v":0},"*"]
[null,null,1190,null,null,null,null,null,null,null,null,null,null,null,null,null,null,null,null,null,null,null,null,null,null,null,null,null,null,null,null,null,null,null,null,{"$f":"IFERROR(IF(T1197=5,1,IF(MATCH(T1197&\"/\"&V1197,読み替え表_エコドライブ!$P$33:$P$52,0),1,0)),0)","v":0},"*"]
[null,null,1191,null,null,null,null,null,null,null,null,null,null,null,null,null,null,null,null,null,null,null,null,null,null,null,null,null,null,null,null,null,null,null,null,{"$f":"IFERROR(IF(T1198=5,1,IF(MATCH(T1198&\"/\"&V1198,読み替え表_エコドライブ!$P$33:$P$52,0),1,0)),0)","v":0},"*"]
[null,null,1192,null,null,null,null,null,null,null,null,null,null,null,null,null,null,null,null,null,null,null,null,null,null,null,null,null,null,null,null,null,null,null,null,{"$f":"IFERROR(IF(T1199=5,1,IF(MATCH(T1199&\"/\"&V1199,読み替え表_エコドライブ!$P$33:$P$52,0),1,0)),0)","v":0},"*"]
[null,null,1193,null,null,null,null,null,null,null,null,null,null,null,null,null,null,null,null,null,null,null,null,null,null,null,null,null,null,null,null,null,null,null,null,{"$f":"IFERROR(IF(T1200=5,1,IF(MATCH(T1200&\"/\"&V1200,読み替え表_エコドライブ!$P$33:$P$52,0),1,0)),0)","v":0},"*"]
[null,null,1194,null,null,null,null,null,null,null,null,null,null,null,null,null,null,null,null,null,null,null,null,null,null,null,null,null,null,null,null,null,null,null,null,{"$f":"IFERROR(IF(T1201=5,1,IF(MATCH(T1201&\"/\"&V1201,読み替え表_エコドライブ!$P$33:$P$52,0),1,0)),0)","v":0},"*"]
[null,null,1195,null,null,null,null,null,null,null,null,null,null,null,null,null,null,null,null,null,null,null,null,null,null,null,null,null,null,null,null,null,null,null,null,{"$f":"IFERROR(IF(T1202=5,1,IF(MATCH(T1202&\"/\"&V1202,読み替え表_エコドライブ!$P$33:$P$52,0),1,0)),0)","v":0},"*"]
[null,null,1196,null,null,null,null,null,null,null,null,null,null,null,null,null,null,null,null,null,null,null,null,null,null,null,null,null,null,null,null,null,null,null,null,{"$f":"IFERROR(IF(T1203=5,1,IF(MATCH(T1203&\"/\"&V1203,読み替え表_エコドライブ!$P$33:$P$52,0),1,0)),0)","v":0},"*"]
[null,null,1197,null,null,null,null,null,null,null,null,null,null,null,null,null,null,null,null,null,null,null,null,null,null,null,null,null,null,null,null,null,null,null,null,{"$f":"IFERROR(IF(T1204=5,1,IF(MATCH(T1204&\"/\"&V1204,読み替え表_エコドライブ!$P$33:$P$52,0),1,0)),0)","v":0},"*"]
[null,null,1198,null,null,null,null,null,null,null,null,null,null,null,null,null,null,null,null,null,null,null,null,null,null,null,null,null,null,null,null,null,null,null,null,{"$f":"IFERROR(IF(T1205=5,1,IF(MATCH(T1205&\"/\"&V1205,読み替え表_エコドライブ!$P$33:$P$52,0),1,0)),0)","v":0},"*"]
[null,null,1199,null,null,null,null,null,null,null,null,null,null,null,null,null,null,null,null,null,null,null,null,null,null,null,null,null,null,null,null,null,null,null,null,{"$f":"IFERROR(IF(T1206=5,1,IF(MATCH(T1206&\"/\"&V1206,読み替え表_エコドライブ!$P$33:$P$52,0),1,0)),0)","v":0},"*"]
[null,null,1200,null,null,null,null,null,null,null,null,null,null,null,null,null,null,null,null,null,null,null,null,null,null,null,null,null,null,null,null,null,null,null,null,{"$f":"IFERROR(IF(T1207=5,1,IF(MATCH(T1207&\"/\"&V1207,読み替え表_エコドライブ!$P$33:$P$52,0),1,0)),0)","v":0},"*"]
[null,null,1201,null,null,null,null,null,null,null,null,null,null,null,null,null,null,null,null,null,null,null,null,null,null,null,null,null,null,null,null,null,null,null,null,{"$f":"IFERROR(IF(T1208=5,1,IF(MATCH(T1208&\"/\"&V1208,読み替え表_エコドライブ!$P$33:$P$52,0),1,0)),0)","v":0},"*"]
[null,null,1202,null,null,null,null,null,null,null,null,null,null,null,null,null,null,null,null,null,null,null,null,null,null,null,null,null,null,null,null,null,null,null,null,{"$f":"IFERROR(IF(T1209=5,1,IF(MATCH(T1209&\"/\"&V1209,読み替え表_エコドライブ!$P$33:$P$52,0),1,0)),0)","v":0},"*"]
[null,null,1203,null,null,null,null,null,null,null,null,null,null,null,null,null,null,null,null,null,null,null,null,null,null,null,null,null,null,null,null,null,null,null,null,{"$f":"IFERROR(IF(T1210=5,1,IF(MATCH(T1210&\"/\"&V1210,読み替え表_エコドライブ!$P$33:$P$52,0),1,0)),0)","v":0},"*"]
[null,null,1204,null,null,null,null,null,null,null,null,null,null,null,null,null,null,null,null,null,null,null,null,null,null,null,null,null,null,null,null,null,null,null,null,{"$f":"IFERROR(IF(T1211=5,1,IF(MATCH(T1211&\"/\"&V1211,読み替え表_エコドライブ!$P$33:$P$52,0),1,0)),0)","v":0},"*"]
[null,null,1205,null,null,null,null,null,null,null,null,null,null,null,null,null,null,null,null,null,null,null,null,null,null,null,null,null,null,null,null,null,null,null,null,{"$f":"IFERROR(IF(T1212=5,1,IF(MATCH(T1212&\"/\"&V1212,読み替え表_エコドライブ!$P$33:$P$52,0),1,0)),0)","v":0},"*"]
[null,null,1206,null,null,null,null,null,null,null,null,null,null,null,null,null,null,null,null,null,null,null,null,null,null,null,null,null,null,null,null,null,null,null,null,{"$f":"IFERROR(IF(T1213=5,1,IF(MATCH(T1213&\"/\"&V1213,読み替え表_エコドライブ!$P$33:$P$52,0),1,0)),0)","v":0},"*"]
[null,null,1207,null,null,null,null,null,null,null,null,null,null,null,null,null,null,null,null,null,null,null,null,null,null,null,null,null,null,null,null,null,null,null,null,{"$f":"IFERROR(IF(T1214=5,1,IF(MATCH(T1214&\"/\"&V1214,読み替え表_エコドライブ!$P$33:$P$52,0),1,0)),0)","v":0},"*"]
[null,null,1208,null,null,null,null,null,null,null,null,null,null,null,null,null,null,null,null,null,null,null,null,null,null,null,null,null,null,null,null,null,null,null,null,{"$f":"IFERROR(IF(T1215=5,1,IF(MATCH(T1215&\"/\"&V1215,読み替え表_エコドライブ!$P$33:$P$52,0),1,0)),0)","v":0},"*"]
[null,null,1209,null,null,null,null,null,null,null,null,null,null,null,null,null,null,null,null,null,null,null,null,null,null,null,null,null,null,null,null,null,null,null,null,{"$f":"IFERROR(IF(T1216=5,1,IF(MATCH(T1216&\"/\"&V1216,読み替え表_エコドライブ!$P$33:$P$52,0),1,0)),0)","v":0},"*"]
[null,null,1210,null,null,null,null,null,null,null,null,null,null,null,null,null,null,null,null,null,null,null,null,null,null,null,null,null,null,null,null,null,null,null,null,{"$f":"IFERROR(IF(T1217=5,1,IF(MATCH(T1217&\"/\"&V1217,読み替え表_エコドライブ!$P$33:$P$52,0),1,0)),0)","v":0},"*"]
[null,null,1211,null,null,null,null,null,null,null,null,null,null,null,null,null,null,null,null,null,null,null,null,null,null,null,null,null,null,null,null,null,null,null,null,{"$f":"IFERROR(IF(T1218=5,1,IF(MATCH(T1218&\"/\"&V1218,読み替え表_エコドライブ!$P$33:$P$52,0),1,0)),0)","v":0},"*"]
[null,null,1212,null,null,null,null,null,null,null,null,null,null,null,null,null,null,null,null,null,null,null,null,null,null,null,null,null,null,null,null,null,null,null,null,{"$f":"IFERROR(IF(T1219=5,1,IF(MATCH(T1219&\"/\"&V1219,読み替え表_エコドライブ!$P$33:$P$52,0),1,0)),0)","v":0},"*"]
[null,null,1213,null,null,null,null,null,null,null,null,null,null,null,null,null,null,null,null,null,null,null,null,null,null,null,null,null,null,null,null,null,null,null,null,{"$f":"IFERROR(IF(T1220=5,1,IF(MATCH(T1220&\"/\"&V1220,読み替え表_エコドライブ!$P$33:$P$52,0),1,0)),0)","v":0},"*"]
[null,null,1214,null,null,null,null,null,null,null,null,null,null,null,null,null,null,null,null,null,null,null,null,null,null,null,null,null,null,null,null,null,null,null,null,{"$f":"IFERROR(IF(T1221=5,1,IF(MATCH(T1221&\"/\"&V1221,読み替え表_エコドライブ!$P$33:$P$52,0),1,0)),0)","v":0},"*"]
[null,null,1215,null,null,null,null,null,null,null,null,null,null,null,null,null,null,null,null,null,null,null,null,null,null,null,null,null,null,null,null,null,null,null,null,{"$f":"IFERROR(IF(T1222=5,1,IF(MATCH(T1222&\"/\"&V1222,読み替え表_エコドライブ!$P$33:$P$52,0),1,0)),0)","v":0},"*"]
[null,null,1216,null,null,null,null,null,null,null,null,null,null,null,null,null,null,null,null,null,null,null,null,null,null,null,null,null,null,null,null,null,null,null,null,{"$f":"IFERROR(IF(T1223=5,1,IF(MATCH(T1223&\"/\"&V1223,読み替え表_エコドライブ!$P$33:$P$52,0),1,0)),0)","v":0},"*"]
[null,null,1217,null,null,null,null,null,null,null,null,null,null,null,null,null,null,null,null,null,null,null,null,null,null,null,null,null,null,null,null,null,null,null,null,{"$f":"IFERROR(IF(T1224=5,1,IF(MATCH(T1224&\"/\"&V1224,読み替え表_エコドライブ!$P$33:$P$52,0),1,0)),0)","v":0},"*"]
[null,null,{"$f":"ROW()-7","v":1218},null,null,null,null,null,null,null,null,null,null,null,null,null,null,null,null,null,null,null,null,null,null,null,null,null,null,null,null,null,null,null,null,{"$f":"IFERROR(IF(T1225=5,1,IF(MATCH(T1225&\"/\"&V1225,読み替え表_エコドライブ!$P$33:$P$52,0),1,0)),0)","v":0},"*"]
[null,null,1219,null,null,null,null,null,null,null,null,null,null,null,null,null,null,null,null,null,null,null,null,null,null,null,null,null,null,null,null,null,null,null,null,{"$f":"IFERROR(IF(T1226=5,1,IF(MATCH(T1226&\"/\"&V1226,読み替え表_エコドライブ!$P$33:$P$52,0),1,0)),0)","v":0},"*"]
[null,null,1220,null,null,null,null,null,null,null,null,null,null,null,null,null,null,null,null,null,null,null,null,null,null,null,null,null,null,null,null,null,null,null,null,{"$f":"IFERROR(IF(T1227=5,1,IF(MATCH(T1227&\"/\"&V1227,読み替え表_エコドライブ!$P$33:$P$52,0),1,0)),0)","v":0},"*"]
[null,null,1221,null,null,null,null,null,null,null,null,null,null,null,null,null,null,null,null,null,null,null,null,null,null,null,null,null,null,null,null,null,null,null,null,{"$f":"IFERROR(IF(T1228=5,1,IF(MATCH(T1228&\"/\"&V1228,読み替え表_エコドライブ!$P$33:$P$52,0),1,0)),0)","v":0},"*"]
[null,null,1222,null,null,null,null,null,null,null,null,null,null,null,null,null,null,null,null,null,null,null,null,null,null,null,null,null,null,null,null,null,null,null,null,{"$f":"IFERROR(IF(T1229=5,1,IF(MATCH(T1229&\"/\"&V1229,読み替え表_エコドライブ!$P$33:$P$52,0),1,0)),0)","v":0},"*"]
[null,null,1223,null,null,null,null,null,null,null,null,null,null,null,null,null,null,null,null,null,null,null,null,null,null,null,null,null,null,null,null,null,null,null,null,{"$f":"IFERROR(IF(T1230=5,1,IF(MATCH(T1230&\"/\"&V1230,読み替え表_エコドライブ!$P$33:$P$52,0),1,0)),0)","v":0},"*"]
[null,null,1224,null,null,null,null,null,null,null,null,null,null,null,null,null,null,null,null,null,null,null,null,null,null,null,null,null,null,null,null,null,null,null,null,{"$f":"IFERROR(IF(T1231=5,1,IF(MATCH(T1231&\"/\"&V1231,読み替え表_エコドライブ!$P$33:$P$52,0),1,0)),0)","v":0},"*"]
[null,null,1225,null,null,null,null,null,null,null,null,null,null,null,null,null,null,null,null,null,null,null,null,null,null,null,null,null,null,null,null,null,null,null,null,{"$f":"IFERROR(IF(T1232=5,1,IF(MATCH(T1232&\"/\"&V1232,読み替え表_エコドライブ!$P$33:$P$52,0),1,0)),0)","v":0},"*"]
[null,null,1226,null,null,null,null,null,null,null,null,null,null,null,null,null,null,null,null,null,null,null,null,null,null,null,null,null,null,null,null,null,null,null,null,{"$f":"IFERROR(IF(T1233=5,1,IF(MATCH(T1233&\"/\"&V1233,読み替え表_エコドライブ!$P$33:$P$52,0),1,0)),0)","v":0},"*"]
[null,null,1227,null,null,null,null,null,null,null,null,null,null,null,null,null,null,null,null,null,null,null,null,null,null,null,null,null,null,null,null,null,null,null,null,{"$f":"IFERROR(IF(T1234=5,1,IF(MATCH(T1234&\"/\"&V1234,読み替え表_エコドライブ!$P$33:$P$52,0),1,0)),0)","v":0},"*"]
[null,null,1228,null,null,null,null,null,null,null,null,null,null,null,null,null,null,null,null,null,null,null,null,null,null,null,null,null,null,null,null,null,null,null,null,{"$f":"IFERROR(IF(T1235=5,1,IF(MATCH(T1235&\"/\"&V1235,読み替え表_エコドライブ!$P$33:$P$52,0),1,0)),0)","v":0},"*"]
[null,null,1229,null,null,null,null,null,null,null,null,null,null,null,null,null,null,null,null,null,null,null,null,null,null,null,null,null,null,null,null,null,null,null,null,{"$f":"IFERROR(IF(T1236=5,1,IF(MATCH(T1236&\"/\"&V1236,読み替え表_エコドライブ!$P$33:$P$52,0),1,0)),0)","v":0},"*"]
[null,null,1230,null,null,null,null,null,null,null,null,null,null,null,null,null,null,null,null,null,null,null,null,null,null,null,null,null,null,null,null,null,null,null,null,{"$f":"IFERROR(IF(T1237=5,1,IF(MATCH(T1237&\"/\"&V1237,読み替え表_エコドライブ!$P$33:$P$52,0),1,0)),0)","v":0},"*"]
[null,null,1231,null,null,null,null,null,null,null,null,null,null,null,null,null,null,null,null,null,null,null,null,null,null,null,null,null,null,null,null,null,null,null,null,{"$f":"IFERROR(IF(T1238=5,1,IF(MATCH(T1238&\"/\"&V1238,読み替え表_エコドライブ!$P$33:$P$52,0),1,0)),0)","v":0},"*"]
[null,null,1232,null,null,null,null,null,null,null,null,null,null,null,null,null,null,null,null,null,null,null,null,null,null,null,null,null,null,null,null,null,null,null,null,{"$f":"IFERROR(IF(T1239=5,1,IF(MATCH(T1239&\"/\"&V1239,読み替え表_エコドライブ!$P$33:$P$52,0),1,0)),0)","v":0},"*"]
[null,null,1233,null,null,null,null,null,null,null,null,null,null,null,null,null,null,null,null,null,null,null,null,null,null,null,null,null,null,null,null,null,null,null,null,{"$f":"IFERROR(IF(T1240=5,1,IF(MATCH(T1240&\"/\"&V1240,読み替え表_エコドライブ!$P$33:$P$52,0),1,0)),0)","v":0},"*"]
[null,null,1234,null,null,null,null,null,null,null,null,null,null,null,null,null,null,null,null,null,null,null,null,null,null,null,null,null,null,null,null,null,null,null,null,{"$f":"IFERROR(IF(T1241=5,1,IF(MATCH(T1241&\"/\"&V1241,読み替え表_エコドライブ!$P$33:$P$52,0),1,0)),0)","v":0},"*"]
[null,null,1235,null,null,null,null,null,null,null,null,null,null,null,null,null,null,null,null,null,null,null,null,null,null,null,null,null,null,null,null,null,null,null,null,{"$f":"IFERROR(IF(T1242=5,1,IF(MATCH(T1242&\"/\"&V1242,読み替え表_エコドライブ!$P$33:$P$52,0),1,0)),0)","v":0},"*"]
[null,null,1236,null,null,null,null,null,null,null,null,null,null,null,null,null,null,null,null,null,null,null,null,null,null,null,null,null,null,null,null,null,null,null,null,{"$f":"IFERROR(IF(T1243=5,1,IF(MATCH(T1243&\"/\"&V1243,読み替え表_エコドライブ!$P$33:$P$52,0),1,0)),0)","v":0},"*"]
[null,null,1237,null,null,null,null,null,null,null,null,null,null,null,null,null,null,null,null,null,null,null,null,null,null,null,null,null,null,null,null,null,null,null,null,{"$f":"IFERROR(IF(T1244=5,1,IF(MATCH(T1244&\"/\"&V1244,読み替え表_エコドライブ!$P$33:$P$52,0),1,0)),0)","v":0},"*"]
[null,null,1238,null,null,null,null,null,null,null,null,null,null,null,null,null,null,null,null,null,null,null,null,null,null,null,null,null,null,null,null,null,null,null,null,{"$f":"IFERROR(IF(T1245=5,1,IF(MATCH(T1245&\"/\"&V1245,読み替え表_エコドライブ!$P$33:$P$52,0),1,0)),0)","v":0},"*"]
[null,null,1239,null,null,null,null,null,null,null,null,null,null,null,null,null,null,null,null,null,null,null,null,null,null,null,null,null,null,null,null,null,null,null,null,{"$f":"IFERROR(IF(T1246=5,1,IF(MATCH(T1246&\"/\"&V1246,読み替え表_エコドライブ!$P$33:$P$52,0),1,0)),0)","v":0},"*"]
[null,null,1240,null,null,null,null,null,null,null,null,null,null,null,null,null,null,null,null,null,null,null,null,null,null,null,null,null,null,null,null,null,null,null,null,{"$f":"IFERROR(IF(T1247=5,1,IF(MATCH(T1247&\"/\"&V1247,読み替え表_エコドライブ!$P$33:$P$52,0),1,0)),0)","v":0},"*"]
[null,null,1241,null,null,null,null,null,null,null,null,null,null,null,null,null,null,null,null,null,null,null,null,null,null,null,null,null,null,null,null,null,null,null,null,{"$f":"IFERROR(IF(T1248=5,1,IF(MATCH(T1248&\"/\"&V1248,読み替え表_エコドライブ!$P$33:$P$52,0),1,0)),0)","v":0},"*"]
[null,null,1242,null,null,null,null,null,null,null,null,null,null,null,null,null,null,null,null,null,null,null,null,null,null,null,null,null,null,null,null,null,null,null,null,{"$f":"IFERROR(IF(T1249=5,1,IF(MATCH(T1249&\"/\"&V1249,読み替え表_エコドライブ!$P$33:$P$52,0),1,0)),0)","v":0},"*"]
[null,null,1243,null,null,null,null,null,null,null,null,null,null,null,null,null,null,null,null,null,null,null,null,null,null,null,null,null,null,null,null,null,null,null,null,{"$f":"IFERROR(IF(T1250=5,1,IF(MATCH(T1250&\"/\"&V1250,読み替え表_エコドライブ!$P$33:$P$52,0),1,0)),0)","v":0},"*"]
[null,null,1244,null,null,null,null,null,null,null,null,null,null,null,null,null,null,null,null,null,null,null,null,null,null,null,null,null,null,null,null,null,null,null,null,{"$f":"IFERROR(IF(T1251=5,1,IF(MATCH(T1251&\"/\"&V1251,読み替え表_エコドライブ!$P$33:$P$52,0),1,0)),0)","v":0},"*"]
[null,null,1245,null,null,null,null,null,null,null,null,null,null,null,null,null,null,null,null,null,null,null,null,null,null,null,null,null,null,null,null,null,null,null,null,{"$f":"IFERROR(IF(T1252=5,1,IF(MATCH(T1252&\"/\"&V1252,読み替え表_エコドライブ!$P$33:$P$52,0),1,0)),0)","v":0},"*"]
[null,null,1246,null,null,null,null,null,null,null,null,null,null,null,null,null,null,null,null,null,null,null,null,null,null,null,null,null,null,null,null,null,null,null,null,{"$f":"IFERROR(IF(T1253=5,1,IF(MATCH(T1253&\"/\"&V1253,読み替え表_エコドライブ!$P$33:$P$52,0),1,0)),0)","v":0},"*"]
[null,null,1247,null,null,null,null,null,null,null,null,null,null,null,null,null,null,null,null,null,null,null,null,null,null,null,null,null,null,null,null,null,null,null,null,{"$f":"IFERROR(IF(T1254=5,1,IF(MATCH(T1254&\"/\"&V1254,読み替え表_エコドライブ!$P$33:$P$52,0),1,0)),0)","v":0},"*"]
[null,null,1248,null,null,null,null,null,null,null,null,null,null,null,null,null,null,null,null,null,null,null,null,null,null,null,null,null,null,null,null,null,null,null,null,{"$f":"IFERROR(IF(T1255=5,1,IF(MATCH(T1255&\"/\"&V1255,読み替え表_エコドライブ!$P$33:$P$52,0),1,0)),0)","v":0},"*"]
[null,null,1249,null,null,null,null,null,null,null,null,null,null,null,null,null,null,null,null,null,null,null,null,null,null,null,null,null,null,null,null,null,null,null,null,{"$f":"IFERROR(IF(T1256=5,1,IF(MATCH(T1256&\"/\"&V1256,読み替え表_エコドライブ!$P$33:$P$52,0),1,0)),0)","v":0},"*"]
[null,null,1250,null,null,null,null,null,null,null,null,null,null,null,null,null,null,null,null,null,null,null,null,null,null,null,null,null,null,null,null,null,null,null,null,{"$f":"IFERROR(IF(T1257=5,1,IF(MATCH(T1257&\"/\"&V1257,読み替え表_エコドライブ!$P$33:$P$52,0),1,0)),0)","v":0},"*"]
[null,null,1251,null,null,null,null,null,null,null,null,null,null,null,null,null,null,null,null,null,null,null,null,null,null,null,null,null,null,null,null,null,null,null,null,{"$f":"IFERROR(IF(T1258=5,1,IF(MATCH(T1258&\"/\"&V1258,読み替え表_エコドライブ!$P$33:$P$52,0),1,0)),0)","v":0},"*"]
[null,null,1252,null,null,null,null,null,null,null,null,null,null,null,null,null,null,null,null,null,null,null,null,null,null,null,null,null,null,null,null,null,null,null,null,{"$f":"IFERROR(IF(T1259=5,1,IF(MATCH(T1259&\"/\"&V1259,読み替え表_エコドライブ!$P$33:$P$52,0),1,0)),0)","v":0},"*"]
[null,null,1253,null,null,null,null,null,null,null,null,null,null,null,null,null,null,null,null,null,null,null,null,null,null,null,null,null,null,null,null,null,null,null,null,{"$f":"IFERROR(IF(T1260=5,1,IF(MATCH(T1260&\"/\"&V1260,読み替え表_エコドライブ!$P$33:$P$52,0),1,0)),0)","v":0},"*"]
[null,null,1254,null,null,null,null,null,null,null,null,null,null,null,null,null,null,null,null,null,null,null,null,null,null,null,null,null,null,null,null,null,null,null,null,{"$f":"IFERROR(IF(T1261=5,1,IF(MATCH(T1261&\"/\"&V1261,読み替え表_エコドライブ!$P$33:$P$52,0),1,0)),0)","v":0},"*"]
[null,null,1255,null,null,null,null,null,null,null,null,null,null,null,null,null,null,null,null,null,null,null,null,null,null,null,null,null,null,null,null,null,null,null,null,{"$f":"IFERROR(IF(T1262=5,1,IF(MATCH(T1262&\"/\"&V1262,読み替え表_エコドライブ!$P$33:$P$52,0),1,0)),0)","v":0},"*"]
[null,null,1256,null,null,null,null,null,null,null,null,null,null,null,null,null,null,null,null,null,null,null,null,null,null,null,null,null,null,null,null,null,null,null,null,{"$f":"IFERROR(IF(T1263=5,1,IF(MATCH(T1263&\"/\"&V1263,読み替え表_エコドライブ!$P$33:$P$52,0),1,0)),0)","v":0},"*"]
[null,null,1257,null,null,null,null,null,null,null,null,null,null,null,null,null,null,null,null,null,null,null,null,null,null,null,null,null,null,null,null,null,null,null,null,{"$f":"IFERROR(IF(T1264=5,1,IF(MATCH(T1264&\"/\"&V1264,読み替え表_エコドライブ!$P$33:$P$52,0),1,0)),0)","v":0},"*"]
[null,null,1258,null,null,null,null,null,null,null,null,null,null,null,null,null,null,null,null,null,null,null,null,null,null,null,null,null,null,null,null,null,null,null,null,{"$f":"IFERROR(IF(T1265=5,1,IF(MATCH(T1265&\"/\"&V1265,読み替え表_エコドライブ!$P$33:$P$52,0),1,0)),0)","v":0},"*"]
[null,null,1259,null,null,null,null,null,null,null,null,null,null,null,null,null,null,null,null,null,null,null,null,null,null,null,null,null,null,null,null,null,null,null,null,{"$f":"IFERROR(IF(T1266=5,1,IF(MATCH(T1266&\"/\"&V1266,読み替え表_エコドライブ!$P$33:$P$52,0),1,0)),0)","v":0},"*"]
[null,null,1260,null,null,null,null,null,null,null,null,null,null,null,null,null,null,null,null,null,null,null,null,null,null,null,null,null,null,null,null,null,null,null,null,{"$f":"IFERROR(IF(T1267=5,1,IF(MATCH(T1267&\"/\"&V1267,読み替え表_エコドライブ!$P$33:$P$52,0),1,0)),0)","v":0},"*"]
[null,null,1261,null,null,null,null,null,null,null,null,null,null,null,null,null,null,null,null,null,null,null,null,null,null,null,null,null,null,null,null,null,null,null,null,{"$f":"IFERROR(IF(T1268=5,1,IF(MATCH(T1268&\"/\"&V1268,読み替え表_エコドライブ!$P$33:$P$52,0),1,0)),0)","v":0},"*"]
[null,null,1262,null,null,null,null,null,null,null,null,null,null,null,null,null,null,null,null,null,null,null,null,null,null,null,null,null,null,null,null,null,null,null,null,{"$f":"IFERROR(IF(T1269=5,1,IF(MATCH(T1269&\"/\"&V1269,読み替え表_エコドライブ!$P$33:$P$52,0),1,0)),0)","v":0},"*"]
[null,null,1263,null,null,null,null,null,null,null,null,null,null,null,null,null,null,null,null,null,null,null,null,null,null,null,null,null,null,null,null,null,null,null,null,{"$f":"IFERROR(IF(T1270=5,1,IF(MATCH(T1270&\"/\"&V1270,読み替え表_エコドライブ!$P$33:$P$52,0),1,0)),0)","v":0},"*"]
[null,null,1264,null,null,null,null,null,null,null,null,null,null,null,null,null,null,null,null,null,null,null,null,null,null,null,null,null,null,null,null,null,null,null,null,{"$f":"IFERROR(IF(T1271=5,1,IF(MATCH(T1271&\"/\"&V1271,読み替え表_エコドライブ!$P$33:$P$52,0),1,0)),0)","v":0},"*"]
[null,null,1265,null,null,null,null,null,null,null,null,null,null,null,null,null,null,null,null,null,null,null,null,null,null,null,null,null,null,null,null,null,null,null,null,{"$f":"IFERROR(IF(T1272=5,1,IF(MATCH(T1272&\"/\"&V1272,読み替え表_エコドライブ!$P$33:$P$52,0),1,0)),0)","v":0},"*"]
[null,null,1266,null,null,null,null,null,null,null,null,null,null,null,null,null,null,null,null,null,null,null,null,null,null,null,null,null,null,null,null,null,null,null,null,{"$f":"IFERROR(IF(T1273=5,1,IF(MATCH(T1273&\"/\"&V1273,読み替え表_エコドライブ!$P$33:$P$52,0),1,0)),0)","v":0},"*"]
[null,null,1267,null,null,null,null,null,null,null,null,null,null,null,null,null,null,null,null,null,null,null,null,null,null,null,null,null,null,null,null,null,null,null,null,{"$f":"IFERROR(IF(T1274=5,1,IF(MATCH(T1274&\"/\"&V1274,読み替え表_エコドライブ!$P$33:$P$52,0),1,0)),0)","v":0},"*"]
[null,null,1268,null,null,null,null,null,null,null,null,null,null,null,null,null,null,null,null,null,null,null,null,null,null,null,null,null,null,null,null,null,null,null,null,{"$f":"IFERROR(IF(T1275=5,1,IF(MATCH(T1275&\"/\"&V1275,読み替え表_エコドライブ!$P$33:$P$52,0),1,0)),0)","v":0},"*"]
[null,null,1269,null,null,null,null,null,null,null,null,null,null,null,null,null,null,null,null,null,null,null,null,null,null,null,null,null,null,null,null,null,null,null,null,{"$f":"IFERROR(IF(T1276=5,1,IF(MATCH(T1276&\"/\"&V1276,読み替え表_エコドライブ!$P$33:$P$52,0),1,0)),0)","v":0},"*"]
[null,null,1270,null,null,null,null,null,null,null,null,null,null,null,null,null,null,null,null,null,null,null,null,null,null,null,null,null,null,null,null,null,null,null,null,{"$f":"IFERROR(IF(T1277=5,1,IF(MATCH(T1277&\"/\"&V1277,読み替え表_エコドライブ!$P$33:$P$52,0),1,0)),0)","v":0},"*"]
[null,null,1271,null,null,null,null,null,null,null,null,null,null,null,null,null,null,null,null,null,null,null,null,null,null,null,null,null,null,null,null,null,null,null,null,{"$f":"IFERROR(IF(T1278=5,1,IF(MATCH(T1278&\"/\"&V1278,読み替え表_エコドライブ!$P$33:$P$52,0),1,0)),0)","v":0},"*"]
[null,null,1272,null,null,null,null,null,null,null,null,null,null,null,null,null,null,null,null,null,null,null,null,null,null,null,null,null,null,null,null,null,null,null,null,{"$f":"IFERROR(IF(T1279=5,1,IF(MATCH(T1279&\"/\"&V1279,読み替え表_エコドライブ!$P$33:$P$52,0),1,0)),0)","v":0},"*"]
[null,null,1273,null,null,null,null,null,null,null,null,null,null,null,null,null,null,null,null,null,null,null,null,null,null,null,null,null,null,null,null,null,null,null,null,{"$f":"IFERROR(IF(T1280=5,1,IF(MATCH(T1280&\"/\"&V1280,読み替え表_エコドライブ!$P$33:$P$52,0),1,0)),0)","v":0},"*"]
[null,null,1274,null,null,null,null,null,null,null,null,null,null,null,null,null,null,null,null,null,null,null,null,null,null,null,null,null,null,null,null,null,null,null,null,{"$f":"IFERROR(IF(T1281=5,1,IF(MATCH(T1281&\"/\"&V1281,読み替え表_エコドライブ!$P$33:$P$52,0),1,0)),0)","v":0},"*"]
[null,null,1275,null,null,null,null,null,null,null,null,null,null,null,null,null,null,null,null,null,null,null,null,null,null,null,null,null,null,null,null,null,null,null,null,{"$f":"IFERROR(IF(T1282=5,1,IF(MATCH(T1282&\"/\"&V1282,読み替え表_エコドライブ!$P$33:$P$52,0),1,0)),0)","v":0},"*"]
[null,null,1276,null,null,null,null,null,null,null,null,null,null,null,null,null,null,null,null,null,null,null,null,null,null,null,null,null,null,null,null,null,null,null,null,{"$f":"IFERROR(IF(T1283=5,1,IF(MATCH(T1283&\"/\"&V1283,読み替え表_エコドライブ!$P$33:$P$52,0),1,0)),0)","v":0},"*"]
[null,null,1277,null,null,null,null,null,null,null,null,null,null,null,null,null,null,null,null,null,null,null,null,null,null,null,null,null,null,null,null,null,null,null,null,{"$f":"IFERROR(IF(T1284=5,1,IF(MATCH(T1284&\"/\"&V1284,読み替え表_エコドライブ!$P$33:$P$52,0),1,0)),0)","v":0},"*"]
[null,null,1278,null,null,null,null,null,null,null,null,null,null,null,null,null,null,null,null,null,null,null,null,null,null,null,null,null,null,null,null,null,null,null,null,{"$f":"IFERROR(IF(T1285=5,1,IF(MATCH(T1285&\"/\"&V1285,読み替え表_エコドライブ!$P$33:$P$52,0),1,0)),0)","v":0},"*"]
[null,null,1279,null,null,null,null,null,null,null,null,null,null,null,null,null,null,null,null,null,null,null,null,null,null,null,null,null,null,null,null,null,null,null,null,{"$f":"IFERROR(IF(T1286=5,1,IF(MATCH(T1286&\"/\"&V1286,読み替え表_エコドライブ!$P$33:$P$52,0),1,0)),0)","v":0},"*"]
[null,null,1280,null,null,null,null,null,null,null,null,null,null,null,null,null,null,null,null,null,null,null,null,null,null,null,null,null,null,null,null,null,null,null,null,{"$f":"IFERROR(IF(T1287=5,1,IF(MATCH(T1287&\"/\"&V1287,読み替え表_エコドライブ!$P$33:$P$52,0),1,0)),0)","v":0},"*"]
[null,null,1281,null,null,null,null,null,null,null,null,null,null,null,null,null,null,null,null,null,null,null,null,null,null,null,null,null,null,null,null,null,null,null,null,{"$f":"IFERROR(IF(T1288=5,1,IF(MATCH(T1288&\"/\"&V1288,読み替え表_エコドライブ!$P$33:$P$52,0),1,0)),0)","v":0},"*"]
[null,null,{"$f":"ROW()-7","v":1282},null,null,null,null,null,null,null,null,null,null,null,null,null,null,null,null,null,null,null,null,null,null,null,null,null,null,null,null,null,null,null,null,{"$f":"IFERROR(IF(T1289=5,1,IF(MATCH(T1289&\"/\"&V1289,読み替え表_エコドライブ!$P$33:$P$52,0),1,0)),0)","v":0},"*"]
[null,null,1283,null,null,null,null,null,null,null,null,null,null,null,null,null,null,null,null,null,null,null,null,null,null,null,null,null,null,null,null,null,null,null,null,{"$f":"IFERROR(IF(T1290=5,1,IF(MATCH(T1290&\"/\"&V1290,読み替え表_エコドライブ!$P$33:$P$52,0),1,0)),0)","v":0},"*"]
[null,null,1284,null,null,null,null,null,null,null,null,null,null,null,null,null,null,null,null,null,null,null,null,null,null,null,null,null,null,null,null,null,null,null,null,{"$f":"IFERROR(IF(T1291=5,1,IF(MATCH(T1291&\"/\"&V1291,読み替え表_エコドライブ!$P$33:$P$52,0),1,0)),0)","v":0},"*"]
[null,null,1285,null,null,null,null,null,null,null,null,null,null,null,null,null,null,null,null,null,null,null,null,null,null,null,null,null,null,null,null,null,null,null,null,{"$f":"IFERROR(IF(T1292=5,1,IF(MATCH(T1292&\"/\"&V1292,読み替え表_エコドライブ!$P$33:$P$52,0),1,0)),0)","v":0},"*"]
[null,null,1286,null,null,null,null,null,null,null,null,null,null,null,null,null,null,null,null,null,null,null,null,null,null,null,null,null,null,null,null,null,null,null,null,{"$f":"IFERROR(IF(T1293=5,1,IF(MATCH(T1293&\"/\"&V1293,読み替え表_エコドライブ!$P$33:$P$52,0),1,0)),0)","v":0},"*"]
[null,null,1287,null,null,null,null,null,null,null,null,null,null,null,null,null,null,null,null,null,null,null,null,null,null,null,null,null,null,null,null,null,null,null,null,{"$f":"IFERROR(IF(T1294=5,1,IF(MATCH(T1294&\"/\"&V1294,読み替え表_エコドライブ!$P$33:$P$52,0),1,0)),0)","v":0},"*"]
[null,null,1288,null,null,null,null,null,null,null,null,null,null,null,null,null,null,null,null,null,null,null,null,null,null,null,null,null,null,null,null,null,null,null,null,{"$f":"IFERROR(IF(T1295=5,1,IF(MATCH(T1295&\"/\"&V1295,読み替え表_エコドライブ!$P$33:$P$52,0),1,0)),0)","v":0},"*"]
[null,null,1289,null,null,null,null,null,null,null,null,null,null,null,null,null,null,null,null,null,null,null,null,null,null,null,null,null,null,null,null,null,null,null,null,{"$f":"IFERROR(IF(T1296=5,1,IF(MATCH(T1296&\"/\"&V1296,読み替え表_エコドライブ!$P$33:$P$52,0),1,0)),0)","v":0},"*"]
[null,null,1290,null,null,null,null,null,null,null,null,null,null,null,null,null,null,null,null,null,null,null,null,null,null,null,null,null,null,null,null,null,null,null,null,{"$f":"IFERROR(IF(T1297=5,1,IF(MATCH(T1297&\"/\"&V1297,読み替え表_エコドライブ!$P$33:$P$52,0),1,0)),0)","v":0},"*"]
[null,null,1291,null,null,null,null,null,null,null,null,null,null,null,null,null,null,null,null,null,null,null,null,null,null,null,null,null,null,null,null,null,null,null,null,{"$f":"IFERROR(IF(T1298=5,1,IF(MATCH(T1298&\"/\"&V1298,読み替え表_エコドライブ!$P$33:$P$52,0),1,0)),0)","v":0},"*"]
[null,null,1292,null,null,null,null,null,null,null,null,null,null,null,null,null,null,null,null,null,null,null,null,null,null,null,null,null,null,null,null,null,null,null,null,{"$f":"IFERROR(IF(T1299=5,1,IF(MATCH(T1299&\"/\"&V1299,読み替え表_エコドライブ!$P$33:$P$52,0),1,0)),0)","v":0},"*"]
[null,null,1293,null,null,null,null,null,null,null,null,null,null,null,null,null,null,null,null,null,null,null,null,null,null,null,null,null,null,null,null,null,null,null,null,{"$f":"IFERROR(IF(T1300=5,1,IF(MATCH(T1300&\"/\"&V1300,読み替え表_エコドライブ!$P$33:$P$52,0),1,0)),0)","v":0},"*"]
[null,null,1294,null,null,null,null,null,null,null,null,null,null,null,null,null,null,null,null,null,null,null,null,null,null,null,null,null,null,null,null,null,null,null,null,{"$f":"IFERROR(IF(T1301=5,1,IF(MATCH(T1301&\"/\"&V1301,読み替え表_エコドライブ!$P$33:$P$52,0),1,0)),0)","v":0},"*"]
[null,null,1295,null,null,null,null,null,null,null,null,null,null,null,null,null,null,null,null,null,null,null,null,null,null,null,null,null,null,null,null,null,null,null,null,{"$f":"IFERROR(IF(T1302=5,1,IF(MATCH(T1302&\"/\"&V1302,読み替え表_エコドライブ!$P$33:$P$52,0),1,0)),0)","v":0},"*"]
[null,null,1296,null,null,null,null,null,null,null,null,null,null,null,null,null,null,null,null,null,null,null,null,null,null,null,null,null,null,null,null,null,null,null,null,{"$f":"IFERROR(IF(T1303=5,1,IF(MATCH(T1303&\"/\"&V1303,読み替え表_エコドライブ!$P$33:$P$52,0),1,0)),0)","v":0},"*"]
[null,null,1297,null,null,null,null,null,null,null,null,null,null,null,null,null,null,null,null,null,null,null,null,null,null,null,null,null,null,null,null,null,null,null,null,{"$f":"IFERROR(IF(T1304=5,1,IF(MATCH(T1304&\"/\"&V1304,読み替え表_エコドライブ!$P$33:$P$52,0),1,0)),0)","v":0},"*"]
[null,null,1298,null,null,null,null,null,null,null,null,null,null,null,null,null,null,null,null,null,null,null,null,null,null,null,null,null,null,null,null,null,null,null,null,{"$f":"IFERROR(IF(T1305=5,1,IF(MATCH(T1305&\"/\"&V1305,読み替え表_エコドライブ!$P$33:$P$52,0),1,0)),0)","v":0},"*"]
[null,null,1299,null,null,null,null,null,null,null,null,null,null,null,null,null,null,null,null,null,null,null,null,null,null,null,null,null,null,null,null,null,null,null,null,{"$f":"IFERROR(IF(T1306=5,1,IF(MATCH(T1306&\"/\"&V1306,読み替え表_エコドライブ!$P$33:$P$52,0),1,0)),0)","v":0},"*"]
[null,null,1300,null,null,null,null,null,null,null,null,null,null,null,null,null,null,null,null,null,null,null,null,null,null,null,null,null,null,null,null,null,null,null,null,{"$f":"IFERROR(IF(T1307=5,1,IF(MATCH(T1307&\"/\"&V1307,読み替え表_エコドライブ!$P$33:$P$52,0),1,0)),0)","v":0},"*"]
[null,null,1301,null,null,null,null,null,null,null,null,null,null,null,null,null,null,null,null,null,null,null,null,null,null,null,null,null,null,null,null,null,null,null,null,{"$f":"IFERROR(IF(T1308=5,1,IF(MATCH(T1308&\"/\"&V1308,読み替え表_エコドライブ!$P$33:$P$52,0),1,0)),0)","v":0},"*"]
[null,null,1302,null,null,null,null,null,null,null,null,null,null,null,null,null,null,null,null,null,null,null,null,null,null,null,null,null,null,null,null,null,null,null,null,{"$f":"IFERROR(IF(T1309=5,1,IF(MATCH(T1309&\"/\"&V1309,読み替え表_エコドライブ!$P$33:$P$52,0),1,0)),0)","v":0},"*"]
[null,null,1303,null,null,null,null,null,null,null,null,null,null,null,null,null,null,null,null,null,null,null,null,null,null,null,null,null,null,null,null,null,null,null,null,{"$f":"IFERROR(IF(T1310=5,1,IF(MATCH(T1310&\"/\"&V1310,読み替え表_エコドライブ!$P$33:$P$52,0),1,0)),0)","v":0},"*"]
[null,null,1304,null,null,null,null,null,null,null,null,null,null,null,null,null,null,null,null,null,null,null,null,null,null,null,null,null,null,null,null,null,null,null,null,{"$f":"IFERROR(IF(T1311=5,1,IF(MATCH(T1311&\"/\"&V1311,読み替え表_エコドライブ!$P$33:$P$52,0),1,0)),0)","v":0},"*"]
[null,null,1305,null,null,null,null,null,null,null,null,null,null,null,null,null,null,null,null,null,null,null,null,null,null,null,null,null,null,null,null,null,null,null,null,{"$f":"IFERROR(IF(T1312=5,1,IF(MATCH(T1312&\"/\"&V1312,読み替え表_エコドライブ!$P$33:$P$52,0),1,0)),0)","v":0},"*"]
[null,null,1306,null,null,null,null,null,null,null,null,null,null,null,null,null,null,null,null,null,null,null,null,null,null,null,null,null,null,null,null,null,null,null,null,{"$f":"IFERROR(IF(T1313=5,1,IF(MATCH(T1313&\"/\"&V1313,読み替え表_エコドライブ!$P$33:$P$52,0),1,0)),0)","v":0},"*"]
[null,null,1307,null,null,null,null,null,null,null,null,null,null,null,null,null,null,null,null,null,null,null,null,null,null,null,null,null,null,null,null,null,null,null,null,{"$f":"IFERROR(IF(T1314=5,1,IF(MATCH(T1314&\"/\"&V1314,読み替え表_エコドライブ!$P$33:$P$52,0),1,0)),0)","v":0},"*"]
[null,null,1308,null,null,null,null,null,null,null,null,null,null,null,null,null,null,null,null,null,null,null,null,null,null,null,null,null,null,null,null,null,null,null,null,{"$f":"IFERROR(IF(T1315=5,1,IF(MATCH(T1315&\"/\"&V1315,読み替え表_エコドライブ!$P$33:$P$52,0),1,0)),0)","v":0},"*"]
[null,null,1309,null,null,null,null,null,null,null,null,null,null,null,null,null,null,null,null,null,null,null,null,null,null,null,null,null,null,null,null,null,null,null,null,{"$f":"IFERROR(IF(T1316=5,1,IF(MATCH(T1316&\"/\"&V1316,読み替え表_エコドライブ!$P$33:$P$52,0),1,0)),0)","v":0},"*"]
[null,null,1310,null,null,null,null,null,null,null,null,null,null,null,null,null,null,null,null,null,null,null,null,null,null,null,null,null,null,null,null,null,null,null,null,{"$f":"IFERROR(IF(T1317=5,1,IF(MATCH(T1317&\"/\"&V1317,読み替え表_エコドライブ!$P$33:$P$52,0),1,0)),0)","v":0},"*"]
[null,null,1311,null,null,null,null,null,null,null,null,null,null,null,null,null,null,null,null,null,null,null,null,null,null,null,null,null,null,null,null,null,null,null,null,{"$f":"IFERROR(IF(T1318=5,1,IF(MATCH(T1318&\"/\"&V1318,読み替え表_エコドライブ!$P$33:$P$52,0),1,0)),0)","v":0},"*"]
[null,null,1312,null,null,null,null,null,null,null,null,null,null,null,null,null,null,null,null,null,null,null,null,null,null,null,null,null,null,null,null,null,null,null,null,{"$f":"IFERROR(IF(T1319=5,1,IF(MATCH(T1319&\"/\"&V1319,読み替え表_エコドライブ!$P$33:$P$52,0),1,0)),0)","v":0},"*"]
[null,null,1313,null,null,null,null,null,null,null,null,null,null,null,null,null,null,null,null,null,null,null,null,null,null,null,null,null,null,null,null,null,null,null,null,{"$f":"IFERROR(IF(T1320=5,1,IF(MATCH(T1320&\"/\"&V1320,読み替え表_エコドライブ!$P$33:$P$52,0),1,0)),0)","v":0},"*"]
[null,null,1314,null,null,null,null,null,null,null,null,null,null,null,null,null,null,null,null,null,null,null,null,null,null,null,null,null,null,null,null,null,null,null,null,{"$f":"IFERROR(IF(T1321=5,1,IF(MATCH(T1321&\"/\"&V1321,読み替え表_エコドライブ!$P$33:$P$52,0),1,0)),0)","v":0},"*"]
[null,null,1315,null,null,null,null,null,null,null,null,null,null,null,null,null,null,null,null,null,null,null,null,null,null,null,null,null,null,null,null,null,null,null,null,{"$f":"IFERROR(IF(T1322=5,1,IF(MATCH(T1322&\"/\"&V1322,読み替え表_エコドライブ!$P$33:$P$52,0),1,0)),0)","v":0},"*"]
[null,null,1316,null,null,null,null,null,null,null,null,null,null,null,null,null,null,null,null,null,null,null,null,null,null,null,null,null,null,null,null,null,null,null,null,{"$f":"IFERROR(IF(T1323=5,1,IF(MATCH(T1323&\"/\"&V1323,読み替え表_エコドライブ!$P$33:$P$52,0),1,0)),0)","v":0},"*"]
[null,null,1317,null,null,null,null,null,null,null,null,null,null,null,null,null,null,null,null,null,null,null,null,null,null,null,null,null,null,null,null,null,null,null,null,{"$f":"IFERROR(IF(T1324=5,1,IF(MATCH(T1324&\"/\"&V1324,読み替え表_エコドライブ!$P$33:$P$52,0),1,0)),0)","v":0},"*"]
[null,null,1318,null,null,null,null,null,null,null,null,null,null,null,null,null,null,null,null,null,null,null,null,null,null,null,null,null,null,null,null,null,null,null,null,{"$f":"IFERROR(IF(T1325=5,1,IF(MATCH(T1325&\"/\"&V1325,読み替え表_エコドライブ!$P$33:$P$52,0),1,0)),0)","v":0},"*"]
[null,null,1319,null,null,null,null,null,null,null,null,null,null,null,null,null,null,null,null,null,null,null,null,null,null,null,null,null,null,null,null,null,null,null,null,{"$f":"IFERROR(IF(T1326=5,1,IF(MATCH(T1326&\"/\"&V1326,読み替え表_エコドライブ!$P$33:$P$52,0),1,0)),0)","v":0},"*"]
[null,null,1320,null,null,null,null,null,null,null,null,null,null,null,null,null,null,null,null,null,null,null,null,null,null,null,null,null,null,null,null,null,null,null,null,{"$f":"IFERROR(IF(T1327=5,1,IF(MATCH(T1327&\"/\"&V1327,読み替え表_エコドライブ!$P$33:$P$52,0),1,0)),0)","v":0},"*"]
[null,null,1321,null,null,null,null,null,null,null,null,null,null,null,null,null,null,null,null,null,null,null,null,null,null,null,null,null,null,null,null,null,null,null,null,{"$f":"IFERROR(IF(T1328=5,1,IF(MATCH(T1328&\"/\"&V1328,読み替え表_エコドライブ!$P$33:$P$52,0),1,0)),0)","v":0},"*"]
[null,null,1322,null,null,null,null,null,null,null,null,null,null,null,null,null,null,null,null,null,null,null,null,null,null,null,null,null,null,null,null,null,null,null,null,{"$f":"IFERROR(IF(T1329=5,1,IF(MATCH(T1329&\"/\"&V1329,読み替え表_エコドライブ!$P$33:$P$52,0),1,0)),0)","v":0},"*"]
[null,null,1323,null,null,null,null,null,null,null,null,null,null,null,null,null,null,null,null,null,null,null,null,null,null,null,null,null,null,null,null,null,null,null,null,{"$f":"IFERROR(IF(T1330=5,1,IF(MATCH(T1330&\"/\"&V1330,読み替え表_エコドライブ!$P$33:$P$52,0),1,0)),0)","v":0},"*"]
[null,null,1324,null,null,null,null,null,null,null,null,null,null,null,null,null,null,null,null,null,null,null,null,null,null,null,null,null,null,null,null,null,null,null,null,{"$f":"IFERROR(IF(T1331=5,1,IF(MATCH(T1331&\"/\"&V1331,読み替え表_エコドライブ!$P$33:$P$52,0),1,0)),0)","v":0},"*"]
[null,null,1325,null,null,null,null,null,null,null,null,null,null,null,null,null,null,null,null,null,null,null,null,null,null,null,null,null,null,null,null,null,null,null,null,{"$f":"IFERROR(IF(T1332=5,1,IF(MATCH(T1332&\"/\"&V1332,読み替え表_エコドライブ!$P$33:$P$52,0),1,0)),0)","v":0},"*"]
[null,null,1326,null,null,null,null,null,null,null,null,null,null,null,null,null,null,null,null,null,null,null,null,null,null,null,null,null,null,null,null,null,null,null,null,{"$f":"IFERROR(IF(T1333=5,1,IF(MATCH(T1333&\"/\"&V1333,読み替え表_エコドライブ!$P$33:$P$52,0),1,0)),0)","v":0},"*"]
[null,null,1327,null,null,null,null,null,null,null,null,null,null,null,null,null,null,null,null,null,null,null,null,null,null,null,null,null,null,null,null,null,null,null,null,{"$f":"IFERROR(IF(T1334=5,1,IF(MATCH(T1334&\"/\"&V1334,読み替え表_エコドライブ!$P$33:$P$52,0),1,0)),0)","v":0},"*"]
[null,null,1328,null,null,null,null,null,null,null,null,null,null,null,null,null,null,null,null,null,null,null,null,null,null,null,null,null,null,null,null,null,null,null,null,{"$f":"IFERROR(IF(T1335=5,1,IF(MATCH(T1335&\"/\"&V1335,読み替え表_エコドライブ!$P$33:$P$52,0),1,0)),0)","v":0},"*"]
[null,null,1329,null,null,null,null,null,null,null,null,null,null,null,null,null,null,null,null,null,null,null,null,null,null,null,null,null,null,null,null,null,null,null,null,{"$f":"IFERROR(IF(T1336=5,1,IF(MATCH(T1336&\"/\"&V1336,読み替え表_エコドライブ!$P$33:$P$52,0),1,0)),0)","v":0},"*"]
[null,null,1330,null,null,null,null,null,null,null,null,null,null,null,null,null,null,null,null,null,null,null,null,null,null,null,null,null,null,null,null,null,null,null,null,{"$f":"IFERROR(IF(T1337=5,1,IF(MATCH(T1337&\"/\"&V1337,読み替え表_エコドライブ!$P$33:$P$52,0),1,0)),0)","v":0},"*"]
[null,null,1331,null,null,null,null,null,null,null,null,null,null,null,null,null,null,null,null,null,null,null,null,null,null,null,null,null,null,null,null,null,null,null,null,{"$f":"IFERROR(IF(T1338=5,1,IF(MATCH(T1338&\"/\"&V1338,読み替え表_エコドライブ!$P$33:$P$52,0),1,0)),0)","v":0},"*"]
[null,null,1332,null,null,null,null,null,null,null,null,null,null,null,null,null,null,null,null,null,null,null,null,null,null,null,null,null,null,null,null,null,null,null,null,{"$f":"IFERROR(IF(T1339=5,1,IF(MATCH(T1339&\"/\"&V1339,読み替え表_エコドライブ!$P$33:$P$52,0),1,0)),0)","v":0},"*"]
[null,null,1333,null,null,null,null,null,null,null,null,null,null,null,null,null,null,null,null,null,null,null,null,null,null,null,null,null,null,null,null,null,null,null,null,{"$f":"IFERROR(IF(T1340=5,1,IF(MATCH(T1340&\"/\"&V1340,読み替え表_エコドライブ!$P$33:$P$52,0),1,0)),0)","v":0},"*"]
[null,null,1334,null,null,null,null,null,null,null,null,null,null,null,null,null,null,null,null,null,null,null,null,null,null,null,null,null,null,null,null,null,null,null,null,{"$f":"IFERROR(IF(T1341=5,1,IF(MATCH(T1341&\"/\"&V1341,読み替え表_エコドライブ!$P$33:$P$52,0),1,0)),0)","v":0},"*"]
[null,null,1335,null,null,null,null,null,null,null,null,null,null,null,null,null,null,null,null,null,null,null,null,null,null,null,null,null,null,null,null,null,null,null,null,{"$f":"IFERROR(IF(T1342=5,1,IF(MATCH(T1342&\"/\"&V1342,読み替え表_エコドライブ!$P$33:$P$52,0),1,0)),0)","v":0},"*"]
[null,null,1336,null,null,null,null,null,null,null,null,null,null,null,null,null,null,null,null,null,null,null,null,null,null,null,null,null,null,null,null,null,null,null,null,{"$f":"IFERROR(IF(T1343=5,1,IF(MATCH(T1343&\"/\"&V1343,読み替え表_エコドライブ!$P$33:$P$52,0),1,0)),0)","v":0},"*"]
[null,null,1337,null,null,null,null,null,null,null,null,null,null,null,null,null,null,null,null,null,null,null,null,null,null,null,null,null,null,null,null,null,null,null,null,{"$f":"IFERROR(IF(T1344=5,1,IF(MATCH(T1344&\"/\"&V1344,読み替え表_エコドライブ!$P$33:$P$52,0),1,0)),0)","v":0},"*"]
[null,null,1338,null,null,null,null,null,null,null,null,null,null,null,null,null,null,null,null,null,null,null,null,null,null,null,null,null,null,null,null,null,null,null,null,{"$f":"IFERROR(IF(T1345=5,1,IF(MATCH(T1345&\"/\"&V1345,読み替え表_エコドライブ!$P$33:$P$52,0),1,0)),0)","v":0},"*"]
[null,null,1339,null,null,null,null,null,null,null,null,null,null,null,null,null,null,null,null,null,null,null,null,null,null,null,null,null,null,null,null,null,null,null,null,{"$f":"IFERROR(IF(T1346=5,1,IF(MATCH(T1346&\"/\"&V1346,読み替え表_エコドライブ!$P$33:$P$52,0),1,0)),0)","v":0},"*"]
[null,null,1340,null,null,null,null,null,null,null,null,null,null,null,null,null,null,null,null,null,null,null,null,null,null,null,null,null,null,null,null,null,null,null,null,{"$f":"IFERROR(IF(T1347=5,1,IF(MATCH(T1347&\"/\"&V1347,読み替え表_エコドライブ!$P$33:$P$52,0),1,0)),0)","v":0},"*"]
[null,null,1341,null,null,null,null,null,null,null,null,null,null,null,null,null,null,null,null,null,null,null,null,null,null,null,null,null,null,null,null,null,null,null,null,{"$f":"IFERROR(IF(T1348=5,1,IF(MATCH(T1348&\"/\"&V1348,読み替え表_エコドライブ!$P$33:$P$52,0),1,0)),0)","v":0},"*"]
[null,null,1342,null,null,null,null,null,null,null,null,null,null,null,null,null,null,null,null,null,null,null,null,null,null,null,null,null,null,null,null,null,null,null,null,{"$f":"IFERROR(IF(T1349=5,1,IF(MATCH(T1349&\"/\"&V1349,読み替え表_エコドライブ!$P$33:$P$52,0),1,0)),0)","v":0},"*"]
[null,null,1343,null,null,null,null,null,null,null,null,null,null,null,null,null,null,null,null,null,null,null,null,null,null,null,null,null,null,null,null,null,null,null,null,{"$f":"IFERROR(IF(T1350=5,1,IF(MATCH(T1350&\"/\"&V1350,読み替え表_エコドライブ!$P$33:$P$52,0),1,0)),0)","v":0},"*"]
[null,null,1344,null,null,null,null,null,null,null,null,null,null,null,null,null,null,null,null,null,null,null,null,null,null,null,null,null,null,null,null,null,null,null,null,{"$f":"IFERROR(IF(T1351=5,1,IF(MATCH(T1351&\"/\"&V1351,読み替え表_エコドライブ!$P$33:$P$52,0),1,0)),0)","v":0},"*"]
[null,null,1345,null,null,null,null,null,null,null,null,null,null,null,null,null,null,null,null,null,null,null,null,null,null,null,null,null,null,null,null,null,null,null,null,{"$f":"IFERROR(IF(T1352=5,1,IF(MATCH(T1352&\"/\"&V1352,読み替え表_エコドライブ!$P$33:$P$52,0),1,0)),0)","v":0},"*"]
[null,null,{"$f":"ROW()-7","v":1346},null,null,null,null,null,null,null,null,null,null,null,null,null,null,null,null,null,null,null,null,null,null,null,null,null,null,null,null,null,null,null,null,{"$f":"IFERROR(IF(T1353=5,1,IF(MATCH(T1353&\"/\"&V1353,読み替え表_エコドライブ!$P$33:$P$52,0),1,0)),0)","v":0},"*"]
[null,null,1347,null,null,null,null,null,null,null,null,null,null,null,null,null,null,null,null,null,null,null,null,null,null,null,null,null,null,null,null,null,null,null,null,{"$f":"IFERROR(IF(T1354=5,1,IF(MATCH(T1354&\"/\"&V1354,読み替え表_エコドライブ!$P$33:$P$52,0),1,0)),0)","v":0},"*"]
[null,null,1348,null,null,null,null,null,null,null,null,null,null,null,null,null,null,null,null,null,null,null,null,null,null,null,null,null,null,null,null,null,null,null,null,{"$f":"IFERROR(IF(T1355=5,1,IF(MATCH(T1355&\"/\"&V1355,読み替え表_エコドライブ!$P$33:$P$52,0),1,0)),0)","v":0},"*"]
[null,null,1349,null,null,null,null,null,null,null,null,null,null,null,null,null,null,null,null,null,null,null,null,null,null,null,null,null,null,null,null,null,null,null,null,{"$f":"IFERROR(IF(T1356=5,1,IF(MATCH(T1356&\"/\"&V1356,読み替え表_エコドライブ!$P$33:$P$52,0),1,0)),0)","v":0},"*"]
[null,null,1350,null,null,null,null,null,null,null,null,null,null,null,null,null,null,null,null,null,null,null,null,null,null,null,null,null,null,null,null,null,null,null,null,{"$f":"IFERROR(IF(T1357=5,1,IF(MATCH(T1357&\"/\"&V1357,読み替え表_エコドライブ!$P$33:$P$52,0),1,0)),0)","v":0},"*"]
[null,null,1351,null,null,null,null,null,null,null,null,null,null,null,null,null,null,null,null,null,null,null,null,null,null,null,null,null,null,null,null,null,null,null,null,{"$f":"IFERROR(IF(T1358=5,1,IF(MATCH(T1358&\"/\"&V1358,読み替え表_エコドライブ!$P$33:$P$52,0),1,0)),0)","v":0},"*"]
[null,null,1352,null,null,null,null,null,null,null,null,null,null,null,null,null,null,null,null,null,null,null,null,null,null,null,null,null,null,null,null,null,null,null,null,{"$f":"IFERROR(IF(T1359=5,1,IF(MATCH(T1359&\"/\"&V1359,読み替え表_エコドライブ!$P$33:$P$52,0),1,0)),0)","v":0},"*"]
[null,null,1353,null,null,null,null,null,null,null,null,null,null,null,null,null,null,null,null,null,null,null,null,null,null,null,null,null,null,null,null,null,null,null,null,{"$f":"IFERROR(IF(T1360=5,1,IF(MATCH(T1360&\"/\"&V1360,読み替え表_エコドライブ!$P$33:$P$52,0),1,0)),0)","v":0},"*"]
[null,null,1354,null,null,null,null,null,null,null,null,null,null,null,null,null,null,null,null,null,null,null,null,null,null,null,null,null,null,null,null,null,null,null,null,{"$f":"IFERROR(IF(T1361=5,1,IF(MATCH(T1361&\"/\"&V1361,読み替え表_エコドライブ!$P$33:$P$52,0),1,0)),0)","v":0},"*"]
[null,null,1355,null,null,null,null,null,null,null,null,null,null,null,null,null,null,null,null,null,null,null,null,null,null,null,null,null,null,null,null,null,null,null,null,{"$f":"IFERROR(IF(T1362=5,1,IF(MATCH(T1362&\"/\"&V1362,読み替え表_エコドライブ!$P$33:$P$52,0),1,0)),0)","v":0},"*"]
[null,null,1356,null,null,null,null,null,null,null,null,null,null,null,null,null,null,null,null,null,null,null,null,null,null,null,null,null,null,null,null,null,null,null,null,{"$f":"IFERROR(IF(T1363=5,1,IF(MATCH(T1363&\"/\"&V1363,読み替え表_エコドライブ!$P$33:$P$52,0),1,0)),0)","v":0},"*"]
[null,null,1357,null,null,null,null,null,null,null,null,null,null,null,null,null,null,null,null,null,null,null,null,null,null,null,null,null,null,null,null,null,null,null,null,{"$f":"IFERROR(IF(T1364=5,1,IF(MATCH(T1364&\"/\"&V1364,読み替え表_エコドライブ!$P$33:$P$52,0),1,0)),0)","v":0},"*"]
[null,null,1358,null,null,null,null,null,null,null,null,null,null,null,null,null,null,null,null,null,null,null,null,null,null,null,null,null,null,null,null,null,null,null,null,{"$f":"IFERROR(IF(T1365=5,1,IF(MATCH(T1365&\"/\"&V1365,読み替え表_エコドライブ!$P$33:$P$52,0),1,0)),0)","v":0},"*"]
[null,null,1359,null,null,null,null,null,null,null,null,null,null,null,null,null,null,null,null,null,null,null,null,null,null,null,null,null,null,null,null,null,null,null,null,{"$f":"IFERROR(IF(T1366=5,1,IF(MATCH(T1366&\"/\"&V1366,読み替え表_エコドライブ!$P$33:$P$52,0),1,0)),0)","v":0},"*"]
[null,null,1360,null,null,null,null,null,null,null,null,null,null,null,null,null,null,null,null,null,null,null,null,null,null,null,null,null,null,null,null,null,null,null,null,{"$f":"IFERROR(IF(T1367=5,1,IF(MATCH(T1367&\"/\"&V1367,読み替え表_エコドライブ!$P$33:$P$52,0),1,0)),0)","v":0},"*"]
[null,null,1361,null,null,null,null,null,null,null,null,null,null,null,null,null,null,null,null,null,null,null,null,null,null,null,null,null,null,null,null,null,null,null,null,{"$f":"IFERROR(IF(T1368=5,1,IF(MATCH(T1368&\"/\"&V1368,読み替え表_エコドライブ!$P$33:$P$52,0),1,0)),0)","v":0},"*"]
[null,null,1362,null,null,null,null,null,null,null,null,null,null,null,null,null,null,null,null,null,null,null,null,null,null,null,null,null,null,null,null,null,null,null,null,{"$f":"IFERROR(IF(T1369=5,1,IF(MATCH(T1369&\"/\"&V1369,読み替え表_エコドライブ!$P$33:$P$52,0),1,0)),0)","v":0},"*"]
[null,null,1363,null,null,null,null,null,null,null,null,null,null,null,null,null,null,null,null,null,null,null,null,null,null,null,null,null,null,null,null,null,null,null,null,{"$f":"IFERROR(IF(T1370=5,1,IF(MATCH(T1370&\"/\"&V1370,読み替え表_エコドライブ!$P$33:$P$52,0),1,0)),0)","v":0},"*"]
[null,null,1364,null,null,null,null,null,null,null,null,null,null,null,null,null,null,null,null,null,null,null,null,null,null,null,null,null,null,null,null,null,null,null,null,{"$f":"IFERROR(IF(T1371=5,1,IF(MATCH(T1371&\"/\"&V1371,読み替え表_エコドライブ!$P$33:$P$52,0),1,0)),0)","v":0},"*"]
[null,null,1365,null,null,null,null,null,null,null,null,null,null,null,null,null,null,null,null,null,null,null,null,null,null,null,null,null,null,null,null,null,null,null,null,{"$f":"IFERROR(IF(T1372=5,1,IF(MATCH(T1372&\"/\"&V1372,読み替え表_エコドライブ!$P$33:$P$52,0),1,0)),0)","v":0},"*"]
[null,null,1366,null,null,null,null,null,null,null,null,null,null,null,null,null,null,null,null,null,null,null,null,null,null,null,null,null,null,null,null,null,null,null,null,{"$f":"IFERROR(IF(T1373=5,1,IF(MATCH(T1373&\"/\"&V1373,読み替え表_エコドライブ!$P$33:$P$52,0),1,0)),0)","v":0},"*"]
[null,null,1367,null,null,null,null,null,null,null,null,null,null,null,null,null,null,null,null,null,null,null,null,null,null,null,null,null,null,null,null,null,null,null,null,{"$f":"IFERROR(IF(T1374=5,1,IF(MATCH(T1374&\"/\"&V1374,読み替え表_エコドライブ!$P$33:$P$52,0),1,0)),0)","v":0},"*"]
[null,null,1368,null,null,null,null,null,null,null,null,null,null,null,null,null,null,null,null,null,null,null,null,null,null,null,null,null,null,null,null,null,null,null,null,{"$f":"IFERROR(IF(T1375=5,1,IF(MATCH(T1375&\"/\"&V1375,読み替え表_エコドライブ!$P$33:$P$52,0),1,0)),0)","v":0},"*"]
[null,null,1369,null,null,null,null,null,null,null,null,null,null,null,null,null,null,null,null,null,null,null,null,null,null,null,null,null,null,null,null,null,null,null,null,{"$f":"IFERROR(IF(T1376=5,1,IF(MATCH(T1376&\"/\"&V1376,読み替え表_エコドライブ!$P$33:$P$52,0),1,0)),0)","v":0},"*"]
[null,null,1370,null,null,null,null,null,null,null,null,null,null,null,null,null,null,null,null,null,null,null,null,null,null,null,null,null,null,null,null,null,null,null,null,{"$f":"IFERROR(IF(T1377=5,1,IF(MATCH(T1377&\"/\"&V1377,読み替え表_エコドライブ!$P$33:$P$52,0),1,0)),0)","v":0},"*"]
[null,null,1371,null,null,null,null,null,null,null,null,null,null,null,null,null,null,null,null,null,null,null,null,null,null,null,null,null,null,null,null,null,null,null,null,{"$f":"IFERROR(IF(T1378=5,1,IF(MATCH(T1378&\"/\"&V1378,読み替え表_エコドライブ!$P$33:$P$52,0),1,0)),0)","v":0},"*"]
[null,null,1372,null,null,null,null,null,null,null,null,null,null,null,null,null,null,null,null,null,null,null,null,null,null,null,null,null,null,null,null,null,null,null,null,{"$f":"IFERROR(IF(T1379=5,1,IF(MATCH(T1379&\"/\"&V1379,読み替え表_エコドライブ!$P$33:$P$52,0),1,0)),0)","v":0},"*"]
[null,null,1373,null,null,null,null,null,null,null,null,null,null,null,null,null,null,null,null,null,null,null,null,null,null,null,null,null,null,null,null,null,null,null,null,{"$f":"IFERROR(IF(T1380=5,1,IF(MATCH(T1380&\"/\"&V1380,読み替え表_エコドライブ!$P$33:$P$52,0),1,0)),0)","v":0},"*"]
[null,null,1374,null,null,null,null,null,null,null,null,null,null,null,null,null,null,null,null,null,null,null,null,null,null,null,null,null,null,null,null,null,null,null,null,{"$f":"IFERROR(IF(T1381=5,1,IF(MATCH(T1381&\"/\"&V1381,読み替え表_エコドライブ!$P$33:$P$52,0),1,0)),0)","v":0},"*"]
[null,null,1375,null,null,null,null,null,null,null,null,null,null,null,null,null,null,null,null,null,null,null,null,null,null,null,null,null,null,null,null,null,null,null,null,{"$f":"IFERROR(IF(T1382=5,1,IF(MATCH(T1382&\"/\"&V1382,読み替え表_エコドライブ!$P$33:$P$52,0),1,0)),0)","v":0},"*"]
[null,null,1376,null,null,null,null,null,null,null,null,null,null,null,null,null,null,null,null,null,null,null,null,null,null,null,null,null,null,null,null,null,null,null,null,{"$f":"IFERROR(IF(T1383=5,1,IF(MATCH(T1383&\"/\"&V1383,読み替え表_エコドライブ!$P$33:$P$52,0),1,0)),0)","v":0},"*"]
[null,null,1377,null,null,null,null,null,null,null,null,null,null,null,null,null,null,null,null,null,null,null,null,null,null,null,null,null,null,null,null,null,null,null,null,{"$f":"IFERROR(IF(T1384=5,1,IF(MATCH(T1384&\"/\"&V1384,読み替え表_エコドライブ!$P$33:$P$52,0),1,0)),0)","v":0},"*"]
[null,null,1378,null,null,null,null,null,null,null,null,null,null,null,null,null,null,null,null,null,null,null,null,null,null,null,null,null,null,null,null,null,null,null,null,{"$f":"IFERROR(IF(T1385=5,1,IF(MATCH(T1385&\"/\"&V1385,読み替え表_エコドライブ!$P$33:$P$52,0),1,0)),0)","v":0},"*"]
[null,null,1379,null,null,null,null,null,null,null,null,null,null,null,null,null,null,null,null,null,null,null,null,null,null,null,null,null,null,null,null,null,null,null,null,{"$f":"IFERROR(IF(T1386=5,1,IF(MATCH(T1386&\"/\"&V1386,読み替え表_エコドライブ!$P$33:$P$52,0),1,0)),0)","v":0},"*"]
[null,null,1380,null,null,null,null,null,null,null,null,null,null,null,null,null,null,null,null,null,null,null,null,null,null,null,null,null,null,null,null,null,null,null,null,{"$f":"IFERROR(IF(T1387=5,1,IF(MATCH(T1387&\"/\"&V1387,読み替え表_エコドライブ!$P$33:$P$52,0),1,0)),0)","v":0},"*"]
[null,null,1381,null,null,null,null,null,null,null,null,null,null,null,null,null,null,null,null,null,null,null,null,null,null,null,null,null,null,null,null,null,null,null,null,{"$f":"IFERROR(IF(T1388=5,1,IF(MATCH(T1388&\"/\"&V1388,読み替え表_エコドライブ!$P$33:$P$52,0),1,0)),0)","v":0},"*"]
[null,null,1382,null,null,null,null,null,null,null,null,null,null,null,null,null,null,null,null,null,null,null,null,null,null,null,null,null,null,null,null,null,null,null,null,{"$f":"IFERROR(IF(T1389=5,1,IF(MATCH(T1389&\"/\"&V1389,読み替え表_エコドライブ!$P$33:$P$52,0),1,0)),0)","v":0},"*"]
[null,null,1383,null,null,null,null,null,null,null,null,null,null,null,null,null,null,null,null,null,null,null,null,null,null,null,null,null,null,null,null,null,null,null,null,{"$f":"IFERROR(IF(T1390=5,1,IF(MATCH(T1390&\"/\"&V1390,読み替え表_エコドライブ!$P$33:$P$52,0),1,0)),0)","v":0},"*"]
[null,null,1384,null,null,null,null,null,null,null,null,null,null,null,null,null,null,null,null,null,null,null,null,null,null,null,null,null,null,null,null,null,null,null,null,{"$f":"IFERROR(IF(T1391=5,1,IF(MATCH(T1391&\"/\"&V1391,読み替え表_エコドライブ!$P$33:$P$52,0),1,0)),0)","v":0},"*"]
[null,null,1385,null,null,null,null,null,null,null,null,null,null,null,null,null,null,null,null,null,null,null,null,null,null,null,null,null,null,null,null,null,null,null,null,{"$f":"IFERROR(IF(T1392=5,1,IF(MATCH(T1392&\"/\"&V1392,読み替え表_エコドライブ!$P$33:$P$52,0),1,0)),0)","v":0},"*"]
[null,null,1386,null,null,null,null,null,null,null,null,null,null,null,null,null,null,null,null,null,null,null,null,null,null,null,null,null,null,null,null,null,null,null,null,{"$f":"IFERROR(IF(T1393=5,1,IF(MATCH(T1393&\"/\"&V1393,読み替え表_エコドライブ!$P$33:$P$52,0),1,0)),0)","v":0},"*"]
[null,null,1387,null,null,null,null,null,null,null,null,null,null,null,null,null,null,null,null,null,null,null,null,null,null,null,null,null,null,null,null,null,null,null,null,{"$f":"IFERROR(IF(T1394=5,1,IF(MATCH(T1394&\"/\"&V1394,読み替え表_エコドライブ!$P$33:$P$52,0),1,0)),0)","v":0},"*"]
[null,null,1388,null,null,null,null,null,null,null,null,null,null,null,null,null,null,null,null,null,null,null,null,null,null,null,null,null,null,null,null,null,null,null,null,{"$f":"IFERROR(IF(T1395=5,1,IF(MATCH(T1395&\"/\"&V1395,読み替え表_エコドライブ!$P$33:$P$52,0),1,0)),0)","v":0},"*"]
[null,null,1389,null,null,null,null,null,null,null,null,null,null,null,null,null,null,null,null,null,null,null,null,null,null,null,null,null,null,null,null,null,null,null,null,{"$f":"IFERROR(IF(T1396=5,1,IF(MATCH(T1396&\"/\"&V1396,読み替え表_エコドライブ!$P$33:$P$52,0),1,0)),0)","v":0},"*"]
[null,null,1390,null,null,null,null,null,null,null,null,null,null,null,null,null,null,null,null,null,null,null,null,null,null,null,null,null,null,null,null,null,null,null,null,{"$f":"IFERROR(IF(T1397=5,1,IF(MATCH(T1397&\"/\"&V1397,読み替え表_エコドライブ!$P$33:$P$52,0),1,0)),0)","v":0},"*"]
[null,null,1391,null,null,null,null,null,null,null,null,null,null,null,null,null,null,null,null,null,null,null,null,null,null,null,null,null,null,null,null,null,null,null,null,{"$f":"IFERROR(IF(T1398=5,1,IF(MATCH(T1398&\"/\"&V1398,読み替え表_エコドライブ!$P$33:$P$52,0),1,0)),0)","v":0},"*"]
[null,null,1392,null,null,null,null,null,null,null,null,null,null,null,null,null,null,null,null,null,null,null,null,null,null,null,null,null,null,null,null,null,null,null,null,{"$f":"IFERROR(IF(T1399=5,1,IF(MATCH(T1399&\"/\"&V1399,読み替え表_エコドライブ!$P$33:$P$52,0),1,0)),0)","v":0},"*"]
[null,null,1393,null,null,null,null,null,null,null,null,null,null,null,null,null,null,null,null,null,null,null,null,null,null,null,null,null,null,null,null,null,null,null,null,{"$f":"IFERROR(IF(T1400=5,1,IF(MATCH(T1400&\"/\"&V1400,読み替え表_エコドライブ!$P$33:$P$52,0),1,0)),0)","v":0},"*"]
[null,null,1394,null,null,null,null,null,null,null,null,null,null,null,null,null,null,null,null,null,null,null,null,null,null,null,null,null,null,null,null,null,null,null,null,{"$f":"IFERROR(IF(T1401=5,1,IF(MATCH(T1401&\"/\"&V1401,読み替え表_エコドライブ!$P$33:$P$52,0),1,0)),0)","v":0},"*"]
[null,null,1395,null,null,null,null,null,null,null,null,null,null,null,null,null,null,null,null,null,null,null,null,null,null,null,null,null,null,null,null,null,null,null,null,{"$f":"IFERROR(IF(T1402=5,1,IF(MATCH(T1402&\"/\"&V1402,読み替え表_エコドライブ!$P$33:$P$52,0),1,0)),0)","v":0},"*"]
[null,null,1396,null,null,null,null,null,null,null,null,null,null,null,null,null,null,null,null,null,null,null,null,null,null,null,null,null,null,null,null,null,null,null,null,{"$f":"IFERROR(IF(T1403=5,1,IF(MATCH(T1403&\"/\"&V1403,読み替え表_エコドライブ!$P$33:$P$52,0),1,0)),0)","v":0},"*"]
[null,null,1397,null,null,null,null,null,null,null,null,null,null,null,null,null,null,null,null,null,null,null,null,null,null,null,null,null,null,null,null,null,null,null,null,{"$f":"IFERROR(IF(T1404=5,1,IF(MATCH(T1404&\"/\"&V1404,読み替え表_エコドライブ!$P$33:$P$52,0),1,0)),0)","v":0},"*"]
[null,null,1398,null,null,null,null,null,null,null,null,null,null,null,null,null,null,null,null,null,null,null,null,null,null,null,null,null,null,null,null,null,null,null,null,{"$f":"IFERROR(IF(T1405=5,1,IF(MATCH(T1405&\"/\"&V1405,読み替え表_エコドライブ!$P$33:$P$52,0),1,0)),0)","v":0},"*"]
[null,null,1399,null,null,null,null,null,null,null,null,null,null,null,null,null,null,null,null,null,null,null,null,null,null,null,null,null,null,null,null,null,null,null,null,{"$f":"IFERROR(IF(T1406=5,1,IF(MATCH(T1406&\"/\"&V1406,読み替え表_エコドライブ!$P$33:$P$52,0),1,0)),0)","v":0},"*"]
[null,null,1400,null,null,null,null,null,null,null,null,null,null,null,null,null,null,null,null,null,null,null,null,null,null,null,null,null,null,null,null,null,null,null,null,{"$f":"IFERROR(IF(T1407=5,1,IF(MATCH(T1407&\"/\"&V1407,読み替え表_エコドライブ!$P$33:$P$52,0),1,0)),0)","v":0},"*"]
[null,null,1401,null,null,null,null,null,null,null,null,null,null,null,null,null,null,null,null,null,null,null,null,null,null,null,null,null,null,null,null,null,null,null,null,{"$f":"IFERROR(IF(T1408=5,1,IF(MATCH(T1408&\"/\"&V1408,読み替え表_エコドライブ!$P$33:$P$52,0),1,0)),0)","v":0},"*"]
[null,null,1402,null,null,null,null,null,null,null,null,null,null,null,null,null,null,null,null,null,null,null,null,null,null,null,null,null,null,null,null,null,null,null,null,{"$f":"IFERROR(IF(T1409=5,1,IF(MATCH(T1409&\"/\"&V1409,読み替え表_エコドライブ!$P$33:$P$52,0),1,0)),0)","v":0},"*"]
[null,null,1403,null,null,null,null,null,null,null,null,null,null,null,null,null,null,null,null,null,null,null,null,null,null,null,null,null,null,null,null,null,null,null,null,{"$f":"IFERROR(IF(T1410=5,1,IF(MATCH(T1410&\"/\"&V1410,読み替え表_エコドライブ!$P$33:$P$52,0),1,0)),0)","v":0},"*"]
[null,null,1404,null,null,null,null,null,null,null,null,null,null,null,null,null,null,null,null,null,null,null,null,null,null,null,null,null,null,null,null,null,null,null,null,{"$f":"IFERROR(IF(T1411=5,1,IF(MATCH(T1411&\"/\"&V1411,読み替え表_エコドライブ!$P$33:$P$52,0),1,0)),0)","v":0},"*"]
[null,null,1405,null,null,null,null,null,null,null,null,null,null,null,null,null,null,null,null,null,null,null,null,null,null,null,null,null,null,null,null,null,null,null,null,{"$f":"IFERROR(IF(T1412=5,1,IF(MATCH(T1412&\"/\"&V1412,読み替え表_エコドライブ!$P$33:$P$52,0),1,0)),0)","v":0},"*"]
[null,null,1406,null,null,null,null,null,null,null,null,null,null,null,null,null,null,null,null,null,null,null,null,null,null,null,null,null,null,null,null,null,null,null,null,{"$f":"IFERROR(IF(T1413=5,1,IF(MATCH(T1413&\"/\"&V1413,読み替え表_エコドライブ!$P$33:$P$52,0),1,0)),0)","v":0},"*"]
[null,null,1407,null,null,null,null,null,null,null,null,null,null,null,null,null,null,null,null,null,null,null,null,null,null,null,null,null,null,null,null,null,null,null,null,{"$f":"IFERROR(IF(T1414=5,1,IF(MATCH(T1414&\"/\"&V1414,読み替え表_エコドライブ!$P$33:$P$52,0),1,0)),0)","v":0},"*"]
[null,null,1408,null,null,null,null,null,null,null,null,null,null,null,null,null,null,null,null,null,null,null,null,null,null,null,null,null,null,null,null,null,null,null,null,{"$f":"IFERROR(IF(T1415=5,1,IF(MATCH(T1415&\"/\"&V1415,読み替え表_エコドライブ!$P$33:$P$52,0),1,0)),0)","v":0},"*"]
[null,null,1409,null,null,null,null,null,null,null,null,null,null,null,null,null,null,null,null,null,null,null,null,null,null,null,null,null,null,null,null,null,null,null,null,{"$f":"IFERROR(IF(T1416=5,1,IF(MATCH(T1416&\"/\"&V1416,読み替え表_エコドライブ!$P$33:$P$52,0),1,0)),0)","v":0},"*"]
[null,null,{"$f":"ROW()-7","v":1410},null,null,null,null,null,null,null,null,null,null,null,null,null,null,null,null,null,null,null,null,null,null,null,null,null,null,null,null,null,null,null,null,{"$f":"IFERROR(IF(T1417=5,1,IF(MATCH(T1417&\"/\"&V1417,読み替え表_エコドライブ!$P$33:$P$52,0),1,0)),0)","v":0},"*"]
[null,null,1411,null,null,null,null,null,null,null,null,null,null,null,null,null,null,null,null,null,null,null,null,null,null,null,null,null,null,null,null,null,null,null,null,{"$f":"IFERROR(IF(T1418=5,1,IF(MATCH(T1418&\"/\"&V1418,読み替え表_エコドライブ!$P$33:$P$52,0),1,0)),0)","v":0},"*"]
[null,null,1412,null,null,null,null,null,null,null,null,null,null,null,null,null,null,null,null,null,null,null,null,null,null,null,null,null,null,null,null,null,null,null,null,{"$f":"IFERROR(IF(T1419=5,1,IF(MATCH(T1419&\"/\"&V1419,読み替え表_エコドライブ!$P$33:$P$52,0),1,0)),0)","v":0},"*"]
[null,null,1413,null,null,null,null,null,null,null,null,null,null,null,null,null,null,null,null,null,null,null,null,null,null,null,null,null,null,null,null,null,null,null,null,{"$f":"IFERROR(IF(T1420=5,1,IF(MATCH(T1420&\"/\"&V1420,読み替え表_エコドライブ!$P$33:$P$52,0),1,0)),0)","v":0},"*"]
[null,null,1414,null,null,null,null,null,null,null,null,null,null,null,null,null,null,null,null,null,null,null,null,null,null,null,null,null,null,null,null,null,null,null,null,{"$f":"IFERROR(IF(T1421=5,1,IF(MATCH(T1421&\"/\"&V1421,読み替え表_エコドライブ!$P$33:$P$52,0),1,0)),0)","v":0},"*"]
[null,null,1415,null,null,null,null,null,null,null,null,null,null,null,null,null,null,null,null,null,null,null,null,null,null,null,null,null,null,null,null,null,null,null,null,{"$f":"IFERROR(IF(T1422=5,1,IF(MATCH(T1422&\"/\"&V1422,読み替え表_エコドライブ!$P$33:$P$52,0),1,0)),0)","v":0},"*"]
[null,null,1416,null,null,null,null,null,null,null,null,null,null,null,null,null,null,null,null,null,null,null,null,null,null,null,null,null,null,null,null,null,null,null,null,{"$f":"IFERROR(IF(T1423=5,1,IF(MATCH(T1423&\"/\"&V1423,読み替え表_エコドライブ!$P$33:$P$52,0),1,0)),0)","v":0},"*"]
[null,null,1417,null,null,null,null,null,null,null,null,null,null,null,null,null,null,null,null,null,null,null,null,null,null,null,null,null,null,null,null,null,null,null,null,{"$f":"IFERROR(IF(T1424=5,1,IF(MATCH(T1424&\"/\"&V1424,読み替え表_エコドライブ!$P$33:$P$52,0),1,0)),0)","v":0},"*"]
[null,null,1418,null,null,null,null,null,null,null,null,null,null,null,null,null,null,null,null,null,null,null,null,null,null,null,null,null,null,null,null,null,null,null,null,{"$f":"IFERROR(IF(T1425=5,1,IF(MATCH(T1425&\"/\"&V1425,読み替え表_エコドライブ!$P$33:$P$52,0),1,0)),0)","v":0},"*"]
[null,null,1419,null,null,null,null,null,null,null,null,null,null,null,null,null,null,null,null,null,null,null,null,null,null,null,null,null,null,null,null,null,null,null,null,{"$f":"IFERROR(IF(T1426=5,1,IF(MATCH(T1426&\"/\"&V1426,読み替え表_エコドライブ!$P$33:$P$52,0),1,0)),0)","v":0},"*"]
[null,null,1420,null,null,null,null,null,null,null,null,null,null,null,null,null,null,null,null,null,null,null,null,null,null,null,null,null,null,null,null,null,null,null,null,{"$f":"IFERROR(IF(T1427=5,1,IF(MATCH(T1427&\"/\"&V1427,読み替え表_エコドライブ!$P$33:$P$52,0),1,0)),0)","v":0},"*"]
[null,null,1421,null,null,null,null,null,null,null,null,null,null,null,null,null,null,null,null,null,null,null,null,null,null,null,null,null,null,null,null,null,null,null,null,{"$f":"IFERROR(IF(T1428=5,1,IF(MATCH(T1428&\"/\"&V1428,読み替え表_エコドライブ!$P$33:$P$52,0),1,0)),0)","v":0},"*"]
[null,null,1422,null,null,null,null,null,null,null,null,null,null,null,null,null,null,null,null,null,null,null,null,null,null,null,null,null,null,null,null,null,null,null,null,{"$f":"IFERROR(IF(T1429=5,1,IF(MATCH(T1429&\"/\"&V1429,読み替え表_エコドライブ!$P$33:$P$52,0),1,0)),0)","v":0},"*"]
[null,null,1423,null,null,null,null,null,null,null,null,null,null,null,null,null,null,null,null,null,null,null,null,null,null,null,null,null,null,null,null,null,null,null,null,{"$f":"IFERROR(IF(T1430=5,1,IF(MATCH(T1430&\"/\"&V1430,読み替え表_エコドライブ!$P$33:$P$52,0),1,0)),0)","v":0},"*"]
[null,null,1424,null,null,null,null,null,null,null,null,null,null,null,null,null,null,null,null,null,null,null,null,null,null,null,null,null,null,null,null,null,null,null,null,{"$f":"IFERROR(IF(T1431=5,1,IF(MATCH(T1431&\"/\"&V1431,読み替え表_エコドライブ!$P$33:$P$52,0),1,0)),0)","v":0},"*"]
[null,null,1425,null,null,null,null,null,null,null,null,null,null,null,null,null,null,null,null,null,null,null,null,null,null,null,null,null,null,null,null,null,null,null,null,{"$f":"IFERROR(IF(T1432=5,1,IF(MATCH(T1432&\"/\"&V1432,読み替え表_エコドライブ!$P$33:$P$52,0),1,0)),0)","v":0},"*"]
[null,null,1426,null,null,null,null,null,null,null,null,null,null,null,null,null,null,null,null,null,null,null,null,null,null,null,null,null,null,null,null,null,null,null,null,{"$f":"IFERROR(IF(T1433=5,1,IF(MATCH(T1433&\"/\"&V1433,読み替え表_エコドライブ!$P$33:$P$52,0),1,0)),0)","v":0},"*"]
[null,null,1427,null,null,null,null,null,null,null,null,null,null,null,null,null,null,null,null,null,null,null,null,null,null,null,null,null,null,null,null,null,null,null,null,{"$f":"IFERROR(IF(T1434=5,1,IF(MATCH(T1434&\"/\"&V1434,読み替え表_エコドライブ!$P$33:$P$52,0),1,0)),0)","v":0},"*"]
[null,null,1428,null,null,null,null,null,null,null,null,null,null,null,null,null,null,null,null,null,null,null,null,null,null,null,null,null,null,null,null,null,null,null,null,{"$f":"IFERROR(IF(T1435=5,1,IF(MATCH(T1435&\"/\"&V1435,読み替え表_エコドライブ!$P$33:$P$52,0),1,0)),0)","v":0},"*"]
[null,null,1429,null,null,null,null,null,null,null,null,null,null,null,null,null,null,null,null,null,null,null,null,null,null,null,null,null,null,null,null,null,null,null,null,{"$f":"IFERROR(IF(T1436=5,1,IF(MATCH(T1436&\"/\"&V1436,読み替え表_エコドライブ!$P$33:$P$52,0),1,0)),0)","v":0},"*"]
[null,null,1430,null,null,null,null,null,null,null,null,null,null,null,null,null,null,null,null,null,null,null,null,null,null,null,null,null,null,null,null,null,null,null,null,{"$f":"IFERROR(IF(T1437=5,1,IF(MATCH(T1437&\"/\"&V1437,読み替え表_エコドライブ!$P$33:$P$52,0),1,0)),0)","v":0},"*"]
[null,null,1431,null,null,null,null,null,null,null,null,null,null,null,null,null,null,null,null,null,null,null,null,null,null,null,null,null,null,null,null,null,null,null,null,{"$f":"IFERROR(IF(T1438=5,1,IF(MATCH(T1438&\"/\"&V1438,読み替え表_エコドライブ!$P$33:$P$52,0),1,0)),0)","v":0},"*"]
[null,null,1432,null,null,null,null,null,null,null,null,null,null,null,null,null,null,null,null,null,null,null,null,null,null,null,null,null,null,null,null,null,null,null,null,{"$f":"IFERROR(IF(T1439=5,1,IF(MATCH(T1439&\"/\"&V1439,読み替え表_エコドライブ!$P$33:$P$52,0),1,0)),0)","v":0},"*"]
[null,null,1433,null,null,null,null,null,null,null,null,null,null,null,null,null,null,null,null,null,null,null,null,null,null,null,null,null,null,null,null,null,null,null,null,{"$f":"IFERROR(IF(T1440=5,1,IF(MATCH(T1440&\"/\"&V1440,読み替え表_エコドライブ!$P$33:$P$52,0),1,0)),0)","v":0},"*"]
[null,null,1434,null,null,null,null,null,null,null,null,null,null,null,null,null,null,null,null,null,null,null,null,null,null,null,null,null,null,null,null,null,null,null,null,{"$f":"IFERROR(IF(T1441=5,1,IF(MATCH(T1441&\"/\"&V1441,読み替え表_エコドライブ!$P$33:$P$52,0),1,0)),0)","v":0},"*"]
[null,null,1435,null,null,null,null,null,null,null,null,null,null,null,null,null,null,null,null,null,null,null,null,null,null,null,null,null,null,null,null,null,null,null,null,{"$f":"IFERROR(IF(T1442=5,1,IF(MATCH(T1442&\"/\"&V1442,読み替え表_エコドライブ!$P$33:$P$52,0),1,0)),0)","v":0},"*"]
[null,null,1436,null,null,null,null,null,null,null,null,null,null,null,null,null,null,null,null,null,null,null,null,null,null,null,null,null,null,null,null,null,null,null,null,{"$f":"IFERROR(IF(T1443=5,1,IF(MATCH(T1443&\"/\"&V1443,読み替え表_エコドライブ!$P$33:$P$52,0),1,0)),0)","v":0},"*"]
[null,null,1437,null,null,null,null,null,null,null,null,null,null,null,null,null,null,null,null,null,null,null,null,null,null,null,null,null,null,null,null,null,null,null,null,{"$f":"IFERROR(IF(T1444=5,1,IF(MATCH(T1444&\"/\"&V1444,読み替え表_エコドライブ!$P$33:$P$52,0),1,0)),0)","v":0},"*"]
[null,null,1438,null,null,null,null,null,null,null,null,null,null,null,null,null,null,null,null,null,null,null,null,null,null,null,null,null,null,null,null,null,null,null,null,{"$f":"IFERROR(IF(T1445=5,1,IF(MATCH(T1445&\"/\"&V1445,読み替え表_エコドライブ!$P$33:$P$52,0),1,0)),0)","v":0},"*"]
[null,null,1439,null,null,null,null,null,null,null,null,null,null,null,null,null,null,null,null,null,null,null,null,null,null,null,null,null,null,null,null,null,null,null,null,{"$f":"IFERROR(IF(T1446=5,1,IF(MATCH(T1446&\"/\"&V1446,読み替え表_エコドライブ!$P$33:$P$52,0),1,0)),0)","v":0},"*"]
[null,null,1440,null,null,null,null,null,null,null,null,null,null,null,null,null,null,null,null,null,null,null,null,null,null,null,null,null,null,null,null,null,null,null,null,{"$f":"IFERROR(IF(T1447=5,1,IF(MATCH(T1447&\"/\"&V1447,読み替え表_エコドライブ!$P$33:$P$52,0),1,0)),0)","v":0},"*"]
[null,null,1441,null,null,null,null,null,null,null,null,null,null,null,null,null,null,null,null,null,null,null,null,null,null,null,null,null,null,null,null,null,null,null,null,{"$f":"IFERROR(IF(T1448=5,1,IF(MATCH(T1448&\"/\"&V1448,読み替え表_エコドライブ!$P$33:$P$52,0),1,0)),0)","v":0},"*"]
[null,null,1442,null,null,null,null,null,null,null,null,null,null,null,null,null,null,null,null,null,null,null,null,null,null,null,null,null,null,null,null,null,null,null,null,{"$f":"IFERROR(IF(T1449=5,1,IF(MATCH(T1449&\"/\"&V1449,読み替え表_エコドライブ!$P$33:$P$52,0),1,0)),0)","v":0},"*"]
[null,null,1443,null,null,null,null,null,null,null,null,null,null,null,null,null,null,null,null,null,null,null,null,null,null,null,null,null,null,null,null,null,null,null,null,{"$f":"IFERROR(IF(T1450=5,1,IF(MATCH(T1450&\"/\"&V1450,読み替え表_エコドライブ!$P$33:$P$52,0),1,0)),0)","v":0},"*"]
[null,null,1444,null,null,null,null,null,null,null,null,null,null,null,null,null,null,null,null,null,null,null,null,null,null,null,null,null,null,null,null,null,null,null,null,{"$f":"IFERROR(IF(T1451=5,1,IF(MATCH(T1451&\"/\"&V1451,読み替え表_エコドライブ!$P$33:$P$52,0),1,0)),0)","v":0},"*"]
[null,null,1445,null,null,null,null,null,null,null,null,null,null,null,null,null,null,null,null,null,null,null,null,null,null,null,null,null,null,null,null,null,null,null,null,{"$f":"IFERROR(IF(T1452=5,1,IF(MATCH(T1452&\"/\"&V1452,読み替え表_エコドライブ!$P$33:$P$52,0),1,0)),0)","v":0},"*"]
[null,null,1446,null,null,null,null,null,null,null,null,null,null,null,null,null,null,null,null,null,null,null,null,null,null,null,null,null,null,null,null,null,null,null,null,{"$f":"IFERROR(IF(T1453=5,1,IF(MATCH(T1453&\"/\"&V1453,読み替え表_エコドライブ!$P$33:$P$52,0),1,0)),0)","v":0},"*"]
[null,null,1447,null,null,null,null,null,null,null,null,null,null,null,null,null,null,null,null,null,null,null,null,null,null,null,null,null,null,null,null,null,null,null,null,{"$f":"IFERROR(IF(T1454=5,1,IF(MATCH(T1454&\"/\"&V1454,読み替え表_エコドライブ!$P$33:$P$52,0),1,0)),0)","v":0},"*"]
[null,null,1448,null,null,null,null,null,null,null,null,null,null,null,null,null,null,null,null,null,null,null,null,null,null,null,null,null,null,null,null,null,null,null,null,{"$f":"IFERROR(IF(T1455=5,1,IF(MATCH(T1455&\"/\"&V1455,読み替え表_エコドライブ!$P$33:$P$52,0),1,0)),0)","v":0},"*"]
[null,null,1449,null,null,null,null,null,null,null,null,null,null,null,null,null,null,null,null,null,null,null,null,null,null,null,null,null,null,null,null,null,null,null,null,{"$f":"IFERROR(IF(T1456=5,1,IF(MATCH(T1456&\"/\"&V1456,読み替え表_エコドライブ!$P$33:$P$52,0),1,0)),0)","v":0},"*"]
[null,null,1450,null,null,null,null,null,null,null,null,null,null,null,null,null,null,null,null,null,null,null,null,null,null,null,null,null,null,null,null,null,null,null,null,{"$f":"IFERROR(IF(T1457=5,1,IF(MATCH(T1457&\"/\"&V1457,読み替え表_エコドライブ!$P$33:$P$52,0),1,0)),0)","v":0},"*"]
[null,null,1451,null,null,null,null,null,null,null,null,null,null,null,null,null,null,null,null,null,null,null,null,null,null,null,null,null,null,null,null,null,null,null,null,{"$f":"IFERROR(IF(T1458=5,1,IF(MATCH(T1458&\"/\"&V1458,読み替え表_エコドライブ!$P$33:$P$52,0),1,0)),0)","v":0},"*"]
[null,null,1452,null,null,null,null,null,null,null,null,null,null,null,null,null,null,null,null,null,null,null,null,null,null,null,null,null,null,null,null,null,null,null,null,{"$f":"IFERROR(IF(T1459=5,1,IF(MATCH(T1459&\"/\"&V1459,読み替え表_エコドライブ!$P$33:$P$52,0),1,0)),0)","v":0},"*"]
[null,null,1453,null,null,null,null,null,null,null,null,null,null,null,null,null,null,null,null,null,null,null,null,null,null,null,null,null,null,null,null,null,null,null,null,{"$f":"IFERROR(IF(T1460=5,1,IF(MATCH(T1460&\"/\"&V1460,読み替え表_エコドライブ!$P$33:$P$52,0),1,0)),0)","v":0},"*"]
[null,null,1454,null,null,null,null,null,null,null,null,null,null,null,null,null,null,null,null,null,null,null,null,null,null,null,null,null,null,null,null,null,null,null,null,{"$f":"IFERROR(IF(T1461=5,1,IF(MATCH(T1461&\"/\"&V1461,読み替え表_エコドライブ!$P$33:$P$52,0),1,0)),0)","v":0},"*"]
[null,null,1455,null,null,null,null,null,null,null,null,null,null,null,null,null,null,null,null,null,null,null,null,null,null,null,null,null,null,null,null,null,null,null,null,{"$f":"IFERROR(IF(T1462=5,1,IF(MATCH(T1462&\"/\"&V1462,読み替え表_エコドライブ!$P$33:$P$52,0),1,0)),0)","v":0},"*"]
[null,null,1456,null,null,null,null,null,null,null,null,null,null,null,null,null,null,null,null,null,null,null,null,null,null,null,null,null,null,null,null,null,null,null,null,{"$f":"IFERROR(IF(T1463=5,1,IF(MATCH(T1463&\"/\"&V1463,読み替え表_エコドライブ!$P$33:$P$52,0),1,0)),0)","v":0},"*"]
[null,null,1457,null,null,null,null,null,null,null,null,null,null,null,null,null,null,null,null,null,null,null,null,null,null,null,null,null,null,null,null,null,null,null,null,{"$f":"IFERROR(IF(T1464=5,1,IF(MATCH(T1464&\"/\"&V1464,読み替え表_エコドライブ!$P$33:$P$52,0),1,0)),0)","v":0},"*"]
[null,null,1458,null,null,null,null,null,null,null,null,null,null,null,null,null,null,null,null,null,null,null,null,null,null,null,null,null,null,null,null,null,null,null,null,{"$f":"IFERROR(IF(T1465=5,1,IF(MATCH(T1465&\"/\"&V1465,読み替え表_エコドライブ!$P$33:$P$52,0),1,0)),0)","v":0},"*"]
[null,null,1459,null,null,null,null,null,null,null,null,null,null,null,null,null,null,null,null,null,null,null,null,null,null,null,null,null,null,null,null,null,null,null,null,{"$f":"IFERROR(IF(T1466=5,1,IF(MATCH(T1466&\"/\"&V1466,読み替え表_エコドライブ!$P$33:$P$52,0),1,0)),0)","v":0},"*"]
[null,null,1460,null,null,null,null,null,null,null,null,null,null,null,null,null,null,null,null,null,null,null,null,null,null,null,null,null,null,null,null,null,null,null,null,{"$f":"IFERROR(IF(T1467=5,1,IF(MATCH(T1467&\"/\"&V1467,読み替え表_エコドライブ!$P$33:$P$52,0),1,0)),0)","v":0},"*"]
[null,null,1461,null,null,null,null,null,null,null,null,null,null,null,null,null,null,null,null,null,null,null,null,null,null,null,null,null,null,null,null,null,null,null,null,{"$f":"IFERROR(IF(T1468=5,1,IF(MATCH(T1468&\"/\"&V1468,読み替え表_エコドライブ!$P$33:$P$52,0),1,0)),0)","v":0},"*"]
[null,null,1462,null,null,null,null,null,null,null,null,null,null,null,null,null,null,null,null,null,null,null,null,null,null,null,null,null,null,null,null,null,null,null,null,{"$f":"IFERROR(IF(T1469=5,1,IF(MATCH(T1469&\"/\"&V1469,読み替え表_エコドライブ!$P$33:$P$52,0),1,0)),0)","v":0},"*"]
[null,null,1463,null,null,null,null,null,null,null,null,null,null,null,null,null,null,null,null,null,null,null,null,null,null,null,null,null,null,null,null,null,null,null,null,{"$f":"IFERROR(IF(T1470=5,1,IF(MATCH(T1470&\"/\"&V1470,読み替え表_エコドライブ!$P$33:$P$52,0),1,0)),0)","v":0},"*"]
[null,null,1464,null,null,null,null,null,null,null,null,null,null,null,null,null,null,null,null,null,null,null,null,null,null,null,null,null,null,null,null,null,null,null,null,{"$f":"IFERROR(IF(T1471=5,1,IF(MATCH(T1471&\"/\"&V1471,読み替え表_エコドライブ!$P$33:$P$52,0),1,0)),0)","v":0},"*"]
[null,null,1465,null,null,null,null,null,null,null,null,null,null,null,null,null,null,null,null,null,null,null,null,null,null,null,null,null,null,null,null,null,null,null,null,{"$f":"IFERROR(IF(T1472=5,1,IF(MATCH(T1472&\"/\"&V1472,読み替え表_エコドライブ!$P$33:$P$52,0),1,0)),0)","v":0},"*"]
[null,null,1466,null,null,null,null,null,null,null,null,null,null,null,null,null,null,null,null,null,null,null,null,null,null,null,null,null,null,null,null,null,null,null,null,{"$f":"IFERROR(IF(T1473=5,1,IF(MATCH(T1473&\"/\"&V1473,読み替え表_エコドライブ!$P$33:$P$52,0),1,0)),0)","v":0},"*"]
[null,null,1467,null,null,null,null,null,null,null,null,null,null,null,null,null,null,null,null,null,null,null,null,null,null,null,null,null,null,null,null,null,null,null,null,{"$f":"IFERROR(IF(T1474=5,1,IF(MATCH(T1474&\"/\"&V1474,読み替え表_エコドライブ!$P$33:$P$52,0),1,0)),0)","v":0},"*"]
[null,null,1468,null,null,null,null,null,null,null,null,null,null,null,null,null,null,null,null,null,null,null,null,null,null,null,null,null,null,null,null,null,null,null,null,{"$f":"IFERROR(IF(T1475=5,1,IF(MATCH(T1475&\"/\"&V1475,読み替え表_エコドライブ!$P$33:$P$52,0),1,0)),0)","v":0},"*"]
[null,null,1469,null,null,null,null,null,null,null,null,null,null,null,null,null,null,null,null,null,null,null,null,null,null,null,null,null,null,null,null,null,null,null,null,{"$f":"IFERROR(IF(T1476=5,1,IF(MATCH(T1476&\"/\"&V1476,読み替え表_エコドライブ!$P$33:$P$52,0),1,0)),0)","v":0},"*"]
[null,null,1470,null,null,null,null,null,null,null,null,null,null,null,null,null,null,null,null,null,null,null,null,null,null,null,null,null,null,null,null,null,null,null,null,{"$f":"IFERROR(IF(T1477=5,1,IF(MATCH(T1477&\"/\"&V1477,読み替え表_エコドライブ!$P$33:$P$52,0),1,0)),0)","v":0},"*"]
[null,null,1471,null,null,null,null,null,null,null,null,null,null,null,null,null,null,null,null,null,null,null,null,null,null,null,null,null,null,null,null,null,null,null,null,{"$f":"IFERROR(IF(T1478=5,1,IF(MATCH(T1478&\"/\"&V1478,読み替え表_エコドライブ!$P$33:$P$52,0),1,0)),0)","v":0},"*"]
[null,null,1472,null,null,null,null,null,null,null,null,null,null,null,null,null,null,null,null,null,null,null,null,null,null,null,null,null,null,null,null,null,null,null,null,{"$f":"IFERROR(IF(T1479=5,1,IF(MATCH(T1479&\"/\"&V1479,読み替え表_エコドライブ!$P$33:$P$52,0),1,0)),0)","v":0},"*"]
[null,null,1473,null,null,null,null,null,null,null,null,null,null,null,null,null,null,null,null,null,null,null,null,null,null,null,null,null,null,null,null,null,null,null,null,{"$f":"IFERROR(IF(T1480=5,1,IF(MATCH(T1480&\"/\"&V1480,読み替え表_エコドライブ!$P$33:$P$52,0),1,0)),0)","v":0},"*"]
[null,null,{"$f":"ROW()-7","v":1474},null,null,null,null,null,null,null,null,null,null,null,null,null,null,null,null,null,null,null,null,null,null,null,null,null,null,null,null,null,null,null,null,{"$f":"IFERROR(IF(T1481=5,1,IF(MATCH(T1481&\"/\"&V1481,読み替え表_エコドライブ!$P$33:$P$52,0),1,0)),0)","v":0},"*"]
[null,null,1475,null,null,null,null,null,null,null,null,null,null,null,null,null,null,null,null,null,null,null,null,null,null,null,null,null,null,null,null,null,null,null,null,{"$f":"IFERROR(IF(T1482=5,1,IF(MATCH(T1482&\"/\"&V1482,読み替え表_エコドライブ!$P$33:$P$52,0),1,0)),0)","v":0},"*"]
[null,null,1476,null,null,null,null,null,null,null,null,null,null,null,null,null,null,null,null,null,null,null,null,null,null,null,null,null,null,null,null,null,null,null,null,{"$f":"IFERROR(IF(T1483=5,1,IF(MATCH(T1483&\"/\"&V1483,読み替え表_エコドライブ!$P$33:$P$52,0),1,0)),0)","v":0},"*"]
[null,null,1477,null,null,null,null,null,null,null,null,null,null,null,null,null,null,null,null,null,null,null,null,null,null,null,null,null,null,null,null,null,null,null,null,{"$f":"IFERROR(IF(T1484=5,1,IF(MATCH(T1484&\"/\"&V1484,読み替え表_エコドライブ!$P$33:$P$52,0),1,0)),0)","v":0},"*"]
[null,null,1478,null,null,null,null,null,null,null,null,null,null,null,null,null,null,null,null,null,null,null,null,null,null,null,null,null,null,null,null,null,null,null,null,{"$f":"IFERROR(IF(T1485=5,1,IF(MATCH(T1485&\"/\"&V1485,読み替え表_エコドライブ!$P$33:$P$52,0),1,0)),0)","v":0},"*"]
[null,null,1479,null,null,null,null,null,null,null,null,null,null,null,null,null,null,null,null,null,null,null,null,null,null,null,null,null,null,null,null,null,null,null,null,{"$f":"IFERROR(IF(T1486=5,1,IF(MATCH(T1486&\"/\"&V1486,読み替え表_エコドライブ!$P$33:$P$52,0),1,0)),0)","v":0},"*"]
[null,null,1480,null,null,null,null,null,null,null,null,null,null,null,null,null,null,null,null,null,null,null,null,null,null,null,null,null,null,null,null,null,null,null,null,{"$f":"IFERROR(IF(T1487=5,1,IF(MATCH(T1487&\"/\"&V1487,読み替え表_エコドライブ!$P$33:$P$52,0),1,0)),0)","v":0},"*"]
[null,null,1481,null,null,null,null,null,null,null,null,null,null,null,null,null,null,null,null,null,null,null,null,null,null,null,null,null,null,null,null,null,null,null,null,{"$f":"IFERROR(IF(T1488=5,1,IF(MATCH(T1488&\"/\"&V1488,読み替え表_エコドライブ!$P$33:$P$52,0),1,0)),0)","v":0},"*"]
[null,null,1482,null,null,null,null,null,null,null,null,null,null,null,null,null,null,null,null,null,null,null,null,null,null,null,null,null,null,null,null,null,null,null,null,{"$f":"IFERROR(IF(T1489=5,1,IF(MATCH(T1489&\"/\"&V1489,読み替え表_エコドライブ!$P$33:$P$52,0),1,0)),0)","v":0},"*"]
[null,null,1483,null,null,null,null,null,null,null,null,null,null,null,null,null,null,null,null,null,null,null,null,null,null,null,null,null,null,null,null,null,null,null,null,{"$f":"IFERROR(IF(T1490=5,1,IF(MATCH(T1490&\"/\"&V1490,読み替え表_エコドライブ!$P$33:$P$52,0),1,0)),0)","v":0},"*"]
[null,null,1484,null,null,null,null,null,null,null,null,null,null,null,null,null,null,null,null,null,null,null,null,null,null,null,null,null,null,null,null,null,null,null,null,{"$f":"IFERROR(IF(T1491=5,1,IF(MATCH(T1491&\"/\"&V1491,読み替え表_エコドライブ!$P$33:$P$52,0),1,0)),0)","v":0},"*"]
[null,null,1485,null,null,null,null,null,null,null,null,null,null,null,null,null,null,null,null,null,null,null,null,null,null,null,null,null,null,null,null,null,null,null,null,{"$f":"IFERROR(IF(T1492=5,1,IF(MATCH(T1492&\"/\"&V1492,読み替え表_エコドライブ!$P$33:$P$52,0),1,0)),0)","v":0},"*"]
[null,null,1486,null,null,null,null,null,null,null,null,null,null,null,null,null,null,null,null,null,null,null,null,null,null,null,null,null,null,null,null,null,null,null,null,{"$f":"IFERROR(IF(T1493=5,1,IF(MATCH(T1493&\"/\"&V1493,読み替え表_エコドライブ!$P$33:$P$52,0),1,0)),0)","v":0},"*"]
[null,null,1487,null,null,null,null,null,null,null,null,null,null,null,null,null,null,null,null,null,null,null,null,null,null,null,null,null,null,null,null,null,null,null,null,{"$f":"IFERROR(IF(T1494=5,1,IF(MATCH(T1494&\"/\"&V1494,読み替え表_エコドライブ!$P$33:$P$52,0),1,0)),0)","v":0},"*"]
[null,null,1488,null,null,null,null,null,null,null,null,null,null,null,null,null,null,null,null,null,null,null,null,null,null,null,null,null,null,null,null,null,null,null,null,{"$f":"IFERROR(IF(T1495=5,1,IF(MATCH(T1495&\"/\"&V1495,読み替え表_エコドライブ!$P$33:$P$52,0),1,0)),0)","v":0},"*"]
[null,null,1489,null,null,null,null,null,null,null,null,null,null,null,null,null,null,null,null,null,null,null,null,null,null,null,null,null,null,null,null,null,null,null,null,{"$f":"IFERROR(IF(T1496=5,1,IF(MATCH(T1496&\"/\"&V1496,読み替え表_エコドライブ!$P$33:$P$52,0),1,0)),0)","v":0},"*"]
[null,null,1490,null,null,null,null,null,null,null,null,null,null,null,null,null,null,null,null,null,null,null,null,null,null,null,null,null,null,null,null,null,null,null,null,{"$f":"IFERROR(IF(T1497=5,1,IF(MATCH(T1497&\"/\"&V1497,読み替え表_エコドライブ!$P$33:$P$52,0),1,0)),0)","v":0},"*"]
[null,null,1491,null,null,null,null,null,null,null,null,null,null,null,null,null,null,null,null,null,null,null,null,null,null,null,null,null,null,null,null,null,null,null,null,{"$f":"IFERROR(IF(T1498=5,1,IF(MATCH(T1498&\"/\"&V1498,読み替え表_エコドライブ!$P$33:$P$52,0),1,0)),0)","v":0},"*"]
[null,null,1492,null,null,null,null,null,null,null,null,null,null,null,null,null,null,null,null,null,null,null,null,null,null,null,null,null,null,null,null,null,null,null,null,{"$f":"IFERROR(IF(T1499=5,1,IF(MATCH(T1499&\"/\"&V1499,読み替え表_エコドライブ!$P$33:$P$52,0),1,0)),0)","v":0},"*"]
[null,null,1493,null,null,null,null,null,null,null,null,null,null,null,null,null,null,null,null,null,null,null,null,null,null,null,null,null,null,null,null,null,null,null,null,{"$f":"IFERROR(IF(T1500=5,1,IF(MATCH(T1500&\"/\"&V1500,読み替え表_エコドライブ!$P$33:$P$52,0),1,0)),0)","v":0},"*"]
[null,null,1494,null,null,null,null,null,null,null,null,null,null,null,null,null,null,null,null,null,null,null,null,null,null,null,null,null,null,null,null,null,null,null,null,{"$f":"IFERROR(IF(T1501=5,1,IF(MATCH(T1501&\"/\"&V1501,読み替え表_エコドライブ!$P$33:$P$52,0),1,0)),0)","v":0},"*"]
[null,null,1495,null,null,null,null,null,null,null,null,null,null,null,null,null,null,null,null,null,null,null,null,null,null,null,null,null,null,null,null,null,null,null,null,{"$f":"IFERROR(IF(T1502=5,1,IF(MATCH(T1502&\"/\"&V1502,読み替え表_エコドライブ!$P$33:$P$52,0),1,0)),0)","v":0},"*"]
[null,null,1496,null,null,null,null,null,null,null,null,null,null,null,null,null,null,null,null,null,null,null,null,null,null,null,null,null,null,null,null,null,null,null,null,{"$f":"IFERROR(IF(T1503=5,1,IF(MATCH(T1503&\"/\"&V1503,読み替え表_エコドライブ!$P$33:$P$52,0),1,0)),0)","v":0},"*"]
[null,null,1497,null,null,null,null,null,null,null,null,null,null,null,null,null,null,null,null,null,null,null,null,null,null,null,null,null,null,null,null,null,null,null,null,{"$f":"IFERROR(IF(T1504=5,1,IF(MATCH(T1504&\"/\"&V1504,読み替え表_エコドライブ!$P$33:$P$52,0),1,0)),0)","v":0},"*"]
[null,null,1498,null,null,null,null,null,null,null,null,null,null,null,null,null,null,null,null,null,null,null,null,null,null,null,null,null,null,null,null,null,null,null,null,{"$f":"IFERROR(IF(T1505=5,1,IF(MATCH(T1505&\"/\"&V1505,読み替え表_エコドライブ!$P$33:$P$52,0),1,0)),0)","v":0},"*"]
[null,null,1499,null,null,null,null,null,null,null,null,null,null,null,null,null,null,null,null,null,null,null,null,null,null,null,null,null,null,null,null,null,null,null,null,{"$f":"IFERROR(IF(T1506=5,1,IF(MATCH(T1506&\"/\"&V1506,読み替え表_エコドライブ!$P$33:$P$52,0),1,0)),0)","v":0},"*"]
[null,null,1500,null,null,null,null,null,null,null,null,null,null,null,null,null,null,null,null,null,null,null,null,null,null,null,null,null,null,null,null,null,null,null,null,{"$f":"IFERROR(IF(T1507=5,1,IF(MATCH(T1507&\"/\"&V1507,読み替え表_エコドライブ!$P$33:$P$52,0),1,0)),0)","v":0},"*"]
[null,null,1501,null,null,null,null,null,null,null,null,null,null,null,null,null,null,null,null,null,null,null,null,null,null,null,null,null,null,null,null,null,null,null,null,{"$f":"IFERROR(IF(T1508=5,1,IF(MATCH(T1508&\"/\"&V1508,読み替え表_エコドライブ!$P$33:$P$52,0),1,0)),0)","v":0},"*"]
[null,null,1502,null,null,null,null,null,null,null,null,null,null,null,null,null,null,null,null,null,null,null,null,null,null,null,null,null,null,null,null,null,null,null,null,{"$f":"IFERROR(IF(T1509=5,1,IF(MATCH(T1509&\"/\"&V1509,読み替え表_エコドライブ!$P$33:$P$52,0),1,0)),0)","v":0},"*"]
[null,null,1503,null,null,null,null,null,null,null,null,null,null,null,null,null,null,null,null,null,null,null,null,null,null,null,null,null,null,null,null,null,null,null,null,{"$f":"IFERROR(IF(T1510=5,1,IF(MATCH(T1510&\"/\"&V1510,読み替え表_エコドライブ!$P$33:$P$52,0),1,0)),0)","v":0},"*"]
[null,null,1504,null,null,null,null,null,null,null,null,null,null,null,null,null,null,null,null,null,null,null,null,null,null,null,null,null,null,null,null,null,null,null,null,{"$f":"IFERROR(IF(T1511=5,1,IF(MATCH(T1511&\"/\"&V1511,読み替え表_エコドライブ!$P$33:$P$52,0),1,0)),0)","v":0},"*"]
[null,null,1505,null,null,null,null,null,null,null,null,null,null,null,null,null,null,null,null,null,null,null,null,null,null,null,null,null,null,null,null,null,null,null,null,{"$f":"IFERROR(IF(T1512=5,1,IF(MATCH(T1512&\"/\"&V1512,読み替え表_エコドライブ!$P$33:$P$52,0),1,0)),0)","v":0},"*"]
[null,null,1506,null,null,null,null,null,null,null,null,null,null,null,null,null,null,null,null,null,null,null,null,null,null,null,null,null,null,null,null,null,null,null,null,{"$f":"IFERROR(IF(T1513=5,1,IF(MATCH(T1513&\"/\"&V1513,読み替え表_エコドライブ!$P$33:$P$52,0),1,0)),0)","v":0},"*"]
[null,null,1507,null,null,null,null,null,null,null,null,null,null,null,null,null,null,null,null,null,null,null,null,null,null,null,null,null,null,null,null,null,null,null,null,{"$f":"IFERROR(IF(T1514=5,1,IF(MATCH(T1514&\"/\"&V1514,読み替え表_エコドライブ!$P$33:$P$52,0),1,0)),0)","v":0},"*"]
[null,null,1508,null,null,null,null,null,null,null,null,null,null,null,null,null,null,null,null,null,null,null,null,null,null,null,null,null,null,null,null,null,null,null,null,{"$f":"IFERROR(IF(T1515=5,1,IF(MATCH(T1515&\"/\"&V1515,読み替え表_エコドライブ!$P$33:$P$52,0),1,0)),0)","v":0},"*"]
[null,null,1509,null,null,null,null,null,null,null,null,null,null,null,null,null,null,null,null,null,null,null,null,null,null,null,null,null,null,null,null,null,null,null,null,{"$f":"IFERROR(IF(T1516=5,1,IF(MATCH(T1516&\"/\"&V1516,読み替え表_エコドライブ!$P$33:$P$52,0),1,0)),0)","v":0},"*"]
[null,null,1510,null,null,null,null,null,null,null,null,null,null,null,null,null,null,null,null,null,null,null,null,null,null,null,null,null,null,null,null,null,null,null,null,{"$f":"IFERROR(IF(T1517=5,1,IF(MATCH(T1517&\"/\"&V1517,読み替え表_エコドライブ!$P$33:$P$52,0),1,0)),0)","v":0},"*"]
[null,null,1511,null,null,null,null,null,null,null,null,null,null,null,null,null,null,null,null,null,null,null,null,null,null,null,null,null,null,null,null,null,null,null,null,{"$f":"IFERROR(IF(T1518=5,1,IF(MATCH(T1518&\"/\"&V1518,読み替え表_エコドライブ!$P$33:$P$52,0),1,0)),0)","v":0},"*"]
[null,null,1512,null,null,null,null,null,null,null,null,null,null,null,null,null,null,null,null,null,null,null,null,null,null,null,null,null,null,null,null,null,null,null,null,{"$f":"IFERROR(IF(T1519=5,1,IF(MATCH(T1519&\"/\"&V1519,読み替え表_エコドライブ!$P$33:$P$52,0),1,0)),0)","v":0},"*"]
[null,null,1513,null,null,null,null,null,null,null,null,null,null,null,null,null,null,null,null,null,null,null,null,null,null,null,null,null,null,null,null,null,null,null,null,{"$f":"IFERROR(IF(T1520=5,1,IF(MATCH(T1520&\"/\"&V1520,読み替え表_エコドライブ!$P$33:$P$52,0),1,0)),0)","v":0},"*"]
[null,null,1514,null,null,null,null,null,null,null,null,null,null,null,null,null,null,null,null,null,null,null,null,null,null,null,null,null,null,null,null,null,null,null,null,{"$f":"IFERROR(IF(T1521=5,1,IF(MATCH(T1521&\"/\"&V1521,読み替え表_エコドライブ!$P$33:$P$52,0),1,0)),0)","v":0},"*"]
[null,null,1515,null,null,null,null,null,null,null,null,null,null,null,null,null,null,null,null,null,null,null,null,null,null,null,null,null,null,null,null,null,null,null,null,{"$f":"IFERROR(IF(T1522=5,1,IF(MATCH(T1522&\"/\"&V1522,読み替え表_エコドライブ!$P$33:$P$52,0),1,0)),0)","v":0},"*"]
[null,null,1516,null,null,null,null,null,null,null,null,null,null,null,null,null,null,null,null,null,null,null,null,null,null,null,null,null,null,null,null,null,null,null,null,{"$f":"IFERROR(IF(T1523=5,1,IF(MATCH(T1523&\"/\"&V1523,読み替え表_エコドライブ!$P$33:$P$52,0),1,0)),0)","v":0},"*"]
[null,null,1517,null,null,null,null,null,null,null,null,null,null,null,null,null,null,null,null,null,null,null,null,null,null,null,null,null,null,null,null,null,null,null,null,{"$f":"IFERROR(IF(T1524=5,1,IF(MATCH(T1524&\"/\"&V1524,読み替え表_エコドライブ!$P$33:$P$52,0),1,0)),0)","v":0},"*"]
[null,null,1518,null,null,null,null,null,null,null,null,null,null,null,null,null,null,null,null,null,null,null,null,null,null,null,null,null,null,null,null,null,null,null,null,{"$f":"IFERROR(IF(T1525=5,1,IF(MATCH(T1525&\"/\"&V1525,読み替え表_エコドライブ!$P$33:$P$52,0),1,0)),0)","v":0},"*"]
[null,null,1519,null,null,null,null,null,null,null,null,null,null,null,null,null,null,null,null,null,null,null,null,null,null,null,null,null,null,null,null,null,null,null,null,{"$f":"IFERROR(IF(T1526=5,1,IF(MATCH(T1526&\"/\"&V1526,読み替え表_エコドライブ!$P$33:$P$52,0),1,0)),0)","v":0},"*"]
[null,null,1520,null,null,null,null,null,null,null,null,null,null,null,null,null,null,null,null,null,null,null,null,null,null,null,null,null,null,null,null,null,null,null,null,{"$f":"IFERROR(IF(T1527=5,1,IF(MATCH(T1527&\"/\"&V1527,読み替え表_エコドライブ!$P$33:$P$52,0),1,0)),0)","v":0},"*"]
[null,null,1521,null,null,null,null,null,null,null,null,null,null,null,null,null,null,null,null,null,null,null,null,null,null,null,null,null,null,null,null,null,null,null,null,{"$f":"IFERROR(IF(T1528=5,1,IF(MATCH(T1528&\"/\"&V1528,読み替え表_エコドライブ!$P$33:$P$52,0),1,0)),0)","v":0},"*"]
[null,null,1522,null,null,null,null,null,null,null,null,null,null,null,null,null,null,null,null,null,null,null,null,null,null,null,null,null,null,null,null,null,null,null,null,{"$f":"IFERROR(IF(T1529=5,1,IF(MATCH(T1529&\"/\"&V1529,読み替え表_エコドライブ!$P$33:$P$52,0),1,0)),0)","v":0},"*"]
[null,null,1523,null,null,null,null,null,null,null,null,null,null,null,null,null,null,null,null,null,null,null,null,null,null,null,null,null,null,null,null,null,null,null,null,{"$f":"IFERROR(IF(T1530=5,1,IF(MATCH(T1530&\"/\"&V1530,読み替え表_エコドライブ!$P$33:$P$52,0),1,0)),0)","v":0},"*"]
[null,null,1524,null,null,null,null,null,null,null,null,null,null,null,null,null,null,null,null,null,null,null,null,null,null,null,null,null,null,null,null,null,null,null,null,{"$f":"IFERROR(IF(T1531=5,1,IF(MATCH(T1531&\"/\"&V1531,読み替え表_エコドライブ!$P$33:$P$52,0),1,0)),0)","v":0},"*"]
[null,null,1525,null,null,null,null,null,null,null,null,null,null,null,null,null,null,null,null,null,null,null,null,null,null,null,null,null,null,null,null,null,null,null,null,{"$f":"IFERROR(IF(T1532=5,1,IF(MATCH(T1532&\"/\"&V1532,読み替え表_エコドライブ!$P$33:$P$52,0),1,0)),0)","v":0},"*"]
[null,null,1526,null,null,null,null,null,null,null,null,null,null,null,null,null,null,null,null,null,null,null,null,null,null,null,null,null,null,null,null,null,null,null,null,{"$f":"IFERROR(IF(T1533=5,1,IF(MATCH(T1533&\"/\"&V1533,読み替え表_エコドライブ!$P$33:$P$52,0),1,0)),0)","v":0},"*"]
[null,null,1527,null,null,null,null,null,null,null,null,null,null,null,null,null,null,null,null,null,null,null,null,null,null,null,null,null,null,null,null,null,null,null,null,{"$f":"IFERROR(IF(T1534=5,1,IF(MATCH(T1534&\"/\"&V1534,読み替え表_エコドライブ!$P$33:$P$52,0),1,0)),0)","v":0},"*"]
[null,null,1528,null,null,null,null,null,null,null,null,null,null,null,null,null,null,null,null,null,null,null,null,null,null,null,null,null,null,null,null,null,null,null,null,{"$f":"IFERROR(IF(T1535=5,1,IF(MATCH(T1535&\"/\"&V1535,読み替え表_エコドライブ!$P$33:$P$52,0),1,0)),0)","v":0},"*"]
[null,null,1529,null,null,null,null,null,null,null,null,null,null,null,null,null,null,null,null,null,null,null,null,null,null,null,null,null,null,null,null,null,null,null,null,{"$f":"IFERROR(IF(T1536=5,1,IF(MATCH(T1536&\"/\"&V1536,読み替え表_エコドライブ!$P$33:$P$52,0),1,0)),0)","v":0},"*"]
[null,null,1530,null,null,null,null,null,null,null,null,null,null,null,null,null,null,null,null,null,null,null,null,null,null,null,null,null,null,null,null,null,null,null,null,{"$f":"IFERROR(IF(T1537=5,1,IF(MATCH(T1537&\"/\"&V1537,読み替え表_エコドライブ!$P$33:$P$52,0),1,0)),0)","v":0},"*"]
[null,null,1531,null,null,null,null,null,null,null,null,null,null,null,null,null,null,null,null,null,null,null,null,null,null,null,null,null,null,null,null,null,null,null,null,{"$f":"IFERROR(IF(T1538=5,1,IF(MATCH(T1538&\"/\"&V1538,読み替え表_エコドライブ!$P$33:$P$52,0),1,0)),0)","v":0},"*"]
[null,null,1532,null,null,null,null,null,null,null,null,null,null,null,null,null,null,null,null,null,null,null,null,null,null,null,null,null,null,null,null,null,null,null,null,{"$f":"IFERROR(IF(T1539=5,1,IF(MATCH(T1539&\"/\"&V1539,読み替え表_エコドライブ!$P$33:$P$52,0),1,0)),0)","v":0},"*"]
[null,null,1533,null,null,null,null,null,null,null,null,null,null,null,null,null,null,null,null,null,null,null,null,null,null,null,null,null,null,null,null,null,null,null,null,{"$f":"IFERROR(IF(T1540=5,1,IF(MATCH(T1540&\"/\"&V1540,読み替え表_エコドライブ!$P$33:$P$52,0),1,0)),0)","v":0},"*"]
[null,null,1534,null,null,null,null,null,null,null,null,null,null,null,null,null,null,null,null,null,null,null,null,null,null,null,null,null,null,null,null,null,null,null,null,{"$f":"IFERROR(IF(T1541=5,1,IF(MATCH(T1541&\"/\"&V1541,読み替え表_エコドライブ!$P$33:$P$52,0),1,0)),0)","v":0},"*"]
[null,null,1535,null,null,null,null,null,null,null,null,null,null,null,null,null,null,null,null,null,null,null,null,null,null,null,null,null,null,null,null,null,null,null,null,{"$f":"IFERROR(IF(T1542=5,1,IF(MATCH(T1542&\"/\"&V1542,読み替え表_エコドライブ!$P$33:$P$52,0),1,0)),0)","v":0},"*"]
[null,null,1536,null,null,null,null,null,null,null,null,null,null,null,null,null,null,null,null,null,null,null,null,null,null,null,null,null,null,null,null,null,null,null,null,{"$f":"IFERROR(IF(T1543=5,1,IF(MATCH(T1543&\"/\"&V1543,読み替え表_エコドライブ!$P$33:$P$52,0),1,0)),0)","v":0},"*"]
[null,null,1537,null,null,null,null,null,null,null,null,null,null,null,null,null,null,null,null,null,null,null,null,null,null,null,null,null,null,null,null,null,null,null,null,{"$f":"IFERROR(IF(T1544=5,1,IF(MATCH(T1544&\"/\"&V1544,読み替え表_エコドライブ!$P$33:$P$52,0),1,0)),0)","v":0},"*"]
[null,null,{"$f":"ROW()-7","v":1538},null,null,null,null,null,null,null,null,null,null,null,null,null,null,null,null,null,null,null,null,null,null,null,null,null,null,null,null,null,null,null,null,{"$f":"IFERROR(IF(T1545=5,1,IF(MATCH(T1545&\"/\"&V1545,読み替え表_エコドライブ!$P$33:$P$52,0),1,0)),0)","v":0},"*"]
[null,null,1539,null,null,null,null,null,null,null,null,null,null,null,null,null,null,null,null,null,null,null,null,null,null,null,null,null,null,null,null,null,null,null,null,{"$f":"IFERROR(IF(T1546=5,1,IF(MATCH(T1546&\"/\"&V1546,読み替え表_エコドライブ!$P$33:$P$52,0),1,0)),0)","v":0},"*"]
[null,null,1540,null,null,null,null,null,null,null,null,null,null,null,null,null,null,null,null,null,null,null,null,null,null,null,null,null,null,null,null,null,null,null,null,{"$f":"IFERROR(IF(T1547=5,1,IF(MATCH(T1547&\"/\"&V1547,読み替え表_エコドライブ!$P$33:$P$52,0),1,0)),0)","v":0},"*"]
[null,null,1541,null,null,null,null,null,null,null,null,null,null,null,null,null,null,null,null,null,null,null,null,null,null,null,null,null,null,null,null,null,null,null,null,{"$f":"IFERROR(IF(T1548=5,1,IF(MATCH(T1548&\"/\"&V1548,読み替え表_エコドライブ!$P$33:$P$52,0),1,0)),0)","v":0},"*"]
[null,null,1542,null,null,null,null,null,null,null,null,null,null,null,null,null,null,null,null,null,null,null,null,null,null,null,null,null,null,null,null,null,null,null,null,{"$f":"IFERROR(IF(T1549=5,1,IF(MATCH(T1549&\"/\"&V1549,読み替え表_エコドライブ!$P$33:$P$52,0),1,0)),0)","v":0},"*"]
[null,null,1543,null,null,null,null,null,null,null,null,null,null,null,null,null,null,null,null,null,null,null,null,null,null,null,null,null,null,null,null,null,null,null,null,{"$f":"IFERROR(IF(T1550=5,1,IF(MATCH(T1550&\"/\"&V1550,読み替え表_エコドライブ!$P$33:$P$52,0),1,0)),0)","v":0},"*"]
[null,null,1544,null,null,null,null,null,null,null,null,null,null,null,null,null,null,null,null,null,null,null,null,null,null,null,null,null,null,null,null,null,null,null,null,{"$f":"IFERROR(IF(T1551=5,1,IF(MATCH(T1551&\"/\"&V1551,読み替え表_エコドライブ!$P$33:$P$52,0),1,0)),0)","v":0},"*"]
[null,null,1545,null,null,null,null,null,null,null,null,null,null,null,null,null,null,null,null,null,null,null,null,null,null,null,null,null,null,null,null,null,null,null,null,{"$f":"IFERROR(IF(T1552=5,1,IF(MATCH(T1552&\"/\"&V1552,読み替え表_エコドライブ!$P$33:$P$52,0),1,0)),0)","v":0},"*"]
[null,null,1546,null,null,null,null,null,null,null,null,null,null,null,null,null,null,null,null,null,null,null,null,null,null,null,null,null,null,null,null,null,null,null,null,{"$f":"IFERROR(IF(T1553=5,1,IF(MATCH(T1553&\"/\"&V1553,読み替え表_エコドライブ!$P$33:$P$52,0),1,0)),0)","v":0},"*"]
[null,null,1547,null,null,null,null,null,null,null,null,null,null,null,null,null,null,null,null,null,null,null,null,null,null,null,null,null,null,null,null,null,null,null,null,{"$f":"IFERROR(IF(T1554=5,1,IF(MATCH(T1554&\"/\"&V1554,読み替え表_エコドライブ!$P$33:$P$52,0),1,0)),0)","v":0},"*"]
[null,null,1548,null,null,null,null,null,null,null,null,null,null,null,null,null,null,null,null,null,null,null,null,null,null,null,null,null,null,null,null,null,null,null,null,{"$f":"IFERROR(IF(T1555=5,1,IF(MATCH(T1555&\"/\"&V1555,読み替え表_エコドライブ!$P$33:$P$52,0),1,0)),0)","v":0},"*"]
[null,null,1549,null,null,null,null,null,null,null,null,null,null,null,null,null,null,null,null,null,null,null,null,null,null,null,null,null,null,null,null,null,null,null,null,{"$f":"IFERROR(IF(T1556=5,1,IF(MATCH(T1556&\"/\"&V1556,読み替え表_エコドライブ!$P$33:$P$52,0),1,0)),0)","v":0},"*"]
[null,null,1550,null,null,null,null,null,null,null,null,null,null,null,null,null,null,null,null,null,null,null,null,null,null,null,null,null,null,null,null,null,null,null,null,{"$f":"IFERROR(IF(T1557=5,1,IF(MATCH(T1557&\"/\"&V1557,読み替え表_エコドライブ!$P$33:$P$52,0),1,0)),0)","v":0},"*"]
[null,null,1551,null,null,null,null,null,null,null,null,null,null,null,null,null,null,null,null,null,null,null,null,null,null,null,null,null,null,null,null,null,null,null,null,{"$f":"IFERROR(IF(T1558=5,1,IF(MATCH(T1558&\"/\"&V1558,読み替え表_エコドライブ!$P$33:$P$52,0),1,0)),0)","v":0},"*"]
[null,null,1552,null,null,null,null,null,null,null,null,null,null,null,null,null,null,null,null,null,null,null,null,null,null,null,null,null,null,null,null,null,null,null,null,{"$f":"IFERROR(IF(T1559=5,1,IF(MATCH(T1559&\"/\"&V1559,読み替え表_エコドライブ!$P$33:$P$52,0),1,0)),0)","v":0},"*"]
[null,null,1553,null,null,null,null,null,null,null,null,null,null,null,null,null,null,null,null,null,null,null,null,null,null,null,null,null,null,null,null,null,null,null,null,{"$f":"IFERROR(IF(T1560=5,1,IF(MATCH(T1560&\"/\"&V1560,読み替え表_エコドライブ!$P$33:$P$52,0),1,0)),0)","v":0},"*"]
[null,null,1554,null,null,null,null,null,null,null,null,null,null,null,null,null,null,null,null,null,null,null,null,null,null,null,null,null,null,null,null,null,null,null,null,{"$f":"IFERROR(IF(T1561=5,1,IF(MATCH(T1561&\"/\"&V1561,読み替え表_エコドライブ!$P$33:$P$52,0),1,0)),0)","v":0},"*"]
[null,null,1555,null,null,null,null,null,null,null,null,null,null,null,null,null,null,null,null,null,null,null,null,null,null,null,null,null,null,null,null,null,null,null,null,{"$f":"IFERROR(IF(T1562=5,1,IF(MATCH(T1562&\"/\"&V1562,読み替え表_エコドライブ!$P$33:$P$52,0),1,0)),0)","v":0},"*"]
[null,null,1556,null,null,null,null,null,null,null,null,null,null,null,null,null,null,null,null,null,null,null,null,null,null,null,null,null,null,null,null,null,null,null,null,{"$f":"IFERROR(IF(T1563=5,1,IF(MATCH(T1563&\"/\"&V1563,読み替え表_エコドライブ!$P$33:$P$52,0),1,0)),0)","v":0},"*"]
[null,null,1557,null,null,null,null,null,null,null,null,null,null,null,null,null,null,null,null,null,null,null,null,null,null,null,null,null,null,null,null,null,null,null,null,{"$f":"IFERROR(IF(T1564=5,1,IF(MATCH(T1564&\"/\"&V1564,読み替え表_エコドライブ!$P$33:$P$52,0),1,0)),0)","v":0},"*"]
[null,null,1558,null,null,null,null,null,null,null,null,null,null,null,null,null,null,null,null,null,null,null,null,null,null,null,null,null,null,null,null,null,null,null,null,{"$f":"IFERROR(IF(T1565=5,1,IF(MATCH(T1565&\"/\"&V1565,読み替え表_エコドライブ!$P$33:$P$52,0),1,0)),0)","v":0},"*"]
[null,null,1559,null,null,null,null,null,null,null,null,null,null,null,null,null,null,null,null,null,null,null,null,null,null,null,null,null,null,null,null,null,null,null,null,{"$f":"IFERROR(IF(T1566=5,1,IF(MATCH(T1566&\"/\"&V1566,読み替え表_エコドライブ!$P$33:$P$52,0),1,0)),0)","v":0},"*"]
[null,null,1560,null,null,null,null,null,null,null,null,null,null,null,null,null,null,null,null,null,null,null,null,null,null,null,null,null,null,null,null,null,null,null,null,{"$f":"IFERROR(IF(T1567=5,1,IF(MATCH(T1567&\"/\"&V1567,読み替え表_エコドライブ!$P$33:$P$52,0),1,0)),0)","v":0},"*"]
[null,null,1561,null,null,null,null,null,null,null,null,null,null,null,null,null,null,null,null,null,null,null,null,null,null,null,null,null,null,null,null,null,null,null,null,{"$f":"IFERROR(IF(T1568=5,1,IF(MATCH(T1568&\"/\"&V1568,読み替え表_エコドライブ!$P$33:$P$52,0),1,0)),0)","v":0},"*"]
[null,null,1562,null,null,null,null,null,null,null,null,null,null,null,null,null,null,null,null,null,null,null,null,null,null,null,null,null,null,null,null,null,null,null,null,{"$f":"IFERROR(IF(T1569=5,1,IF(MATCH(T1569&\"/\"&V1569,読み替え表_エコドライブ!$P$33:$P$52,0),1,0)),0)","v":0},"*"]
[null,null,1563,null,null,null,null,null,null,null,null,null,null,null,null,null,null,null,null,null,null,null,null,null,null,null,null,null,null,null,null,null,null,null,null,{"$f":"IFERROR(IF(T1570=5,1,IF(MATCH(T1570&\"/\"&V1570,読み替え表_エコドライブ!$P$33:$P$52,0),1,0)),0)","v":0},"*"]
[null,null,1564,null,null,null,null,null,null,null,null,null,null,null,null,null,null,null,null,null,null,null,null,null,null,null,null,null,null,null,null,null,null,null,null,{"$f":"IFERROR(IF(T1571=5,1,IF(MATCH(T1571&\"/\"&V1571,読み替え表_エコドライブ!$P$33:$P$52,0),1,0)),0)","v":0},"*"]
[null,null,1565,null,null,null,null,null,null,null,null,null,null,null,null,null,null,null,null,null,null,null,null,null,null,null,null,null,null,null,null,null,null,null,null,{"$f":"IFERROR(IF(T1572=5,1,IF(MATCH(T1572&\"/\"&V1572,読み替え表_エコドライブ!$P$33:$P$52,0),1,0)),0)","v":0},"*"]
[null,null,1566,null,null,null,null,null,null,null,null,null,null,null,null,null,null,null,null,null,null,null,null,null,null,null,null,null,null,null,null,null,null,null,null,{"$f":"IFERROR(IF(T1573=5,1,IF(MATCH(T1573&\"/\"&V1573,読み替え表_エコドライブ!$P$33:$P$52,0),1,0)),0)","v":0},"*"]
[null,null,1567,null,null,null,null,null,null,null,null,null,null,null,null,null,null,null,null,null,null,null,null,null,null,null,null,null,null,null,null,null,null,null,null,{"$f":"IFERROR(IF(T1574=5,1,IF(MATCH(T1574&\"/\"&V1574,読み替え表_エコドライブ!$P$33:$P$52,0),1,0)),0)","v":0},"*"]
[null,null,1568,null,null,null,null,null,null,null,null,null,null,null,null,null,null,null,null,null,null,null,null,null,null,null,null,null,null,null,null,null,null,null,null,{"$f":"IFERROR(IF(T1575=5,1,IF(MATCH(T1575&\"/\"&V1575,読み替え表_エコドライブ!$P$33:$P$52,0),1,0)),0)","v":0},"*"]
[null,null,1569,null,null,null,null,null,null,null,null,null,null,null,null,null,null,null,null,null,null,null,null,null,null,null,null,null,null,null,null,null,null,null,null,{"$f":"IFERROR(IF(T1576=5,1,IF(MATCH(T1576&\"/\"&V1576,読み替え表_エコドライブ!$P$33:$P$52,0),1,0)),0)","v":0},"*"]
[null,null,1570,null,null,null,null,null,null,null,null,null,null,null,null,null,null,null,null,null,null,null,null,null,null,null,null,null,null,null,null,null,null,null,null,{"$f":"IFERROR(IF(T1577=5,1,IF(MATCH(T1577&\"/\"&V1577,読み替え表_エコドライブ!$P$33:$P$52,0),1,0)),0)","v":0},"*"]
[null,null,1571,null,null,null,null,null,null,null,null,null,null,null,null,null,null,null,null,null,null,null,null,null,null,null,null,null,null,null,null,null,null,null,null,{"$f":"IFERROR(IF(T1578=5,1,IF(MATCH(T1578&\"/\"&V1578,読み替え表_エコドライブ!$P$33:$P$52,0),1,0)),0)","v":0},"*"]
[null,null,1572,null,null,null,null,null,null,null,null,null,null,null,null,null,null,null,null,null,null,null,null,null,null,null,null,null,null,null,null,null,null,null,null,{"$f":"IFERROR(IF(T1579=5,1,IF(MATCH(T1579&\"/\"&V1579,読み替え表_エコドライブ!$P$33:$P$52,0),1,0)),0)","v":0},"*"]
[null,null,1573,null,null,null,null,null,null,null,null,null,null,null,null,null,null,null,null,null,null,null,null,null,null,null,null,null,null,null,null,null,null,null,null,{"$f":"IFERROR(IF(T1580=5,1,IF(MATCH(T1580&\"/\"&V1580,読み替え表_エコドライブ!$P$33:$P$52,0),1,0)),0)","v":0},"*"]
[null,null,1574,null,null,null,null,null,null,null,null,null,null,null,null,null,null,null,null,null,null,null,null,null,null,null,null,null,null,null,null,null,null,null,null,{"$f":"IFERROR(IF(T1581=5,1,IF(MATCH(T1581&\"/\"&V1581,読み替え表_エコドライブ!$P$33:$P$52,0),1,0)),0)","v":0},"*"]
[null,null,1575,null,null,null,null,null,null,null,null,null,null,null,null,null,null,null,null,null,null,null,null,null,null,null,null,null,null,null,null,null,null,null,null,{"$f":"IFERROR(IF(T1582=5,1,IF(MATCH(T1582&\"/\"&V1582,読み替え表_エコドライブ!$P$33:$P$52,0),1,0)),0)","v":0},"*"]
[null,null,1576,null,null,null,null,null,null,null,null,null,null,null,null,null,null,null,null,null,null,null,null,null,null,null,null,null,null,null,null,null,null,null,null,{"$f":"IFERROR(IF(T1583=5,1,IF(MATCH(T1583&\"/\"&V1583,読み替え表_エコドライブ!$P$33:$P$52,0),1,0)),0)","v":0},"*"]
[null,null,1577,null,null,null,null,null,null,null,null,null,null,null,null,null,null,null,null,null,null,null,null,null,null,null,null,null,null,null,null,null,null,null,null,{"$f":"IFERROR(IF(T1584=5,1,IF(MATCH(T1584&\"/\"&V1584,読み替え表_エコドライブ!$P$33:$P$52,0),1,0)),0)","v":0},"*"]
[null,null,1578,null,null,null,null,null,null,null,null,null,null,null,null,null,null,null,null,null,null,null,null,null,null,null,null,null,null,null,null,null,null,null,null,{"$f":"IFERROR(IF(T1585=5,1,IF(MATCH(T1585&\"/\"&V1585,読み替え表_エコドライブ!$P$33:$P$52,0),1,0)),0)","v":0},"*"]
[null,null,1579,null,null,null,null,null,null,null,null,null,null,null,null,null,null,null,null,null,null,null,null,null,null,null,null,null,null,null,null,null,null,null,null,{"$f":"IFERROR(IF(T1586=5,1,IF(MATCH(T1586&\"/\"&V1586,読み替え表_エコドライブ!$P$33:$P$52,0),1,0)),0)","v":0},"*"]
[null,null,1580,null,null,null,null,null,null,null,null,null,null,null,null,null,null,null,null,null,null,null,null,null,null,null,null,null,null,null,null,null,null,null,null,{"$f":"IFERROR(IF(T1587=5,1,IF(MATCH(T1587&\"/\"&V1587,読み替え表_エコドライブ!$P$33:$P$52,0),1,0)),0)","v":0},"*"]
[null,null,1581,null,null,null,null,null,null,null,null,null,null,null,null,null,null,null,null,null,null,null,null,null,null,null,null,null,null,null,null,null,null,null,null,{"$f":"IFERROR(IF(T1588=5,1,IF(MATCH(T1588&\"/\"&V1588,読み替え表_エコドライブ!$P$33:$P$52,0),1,0)),0)","v":0},"*"]
[null,null,1582,null,null,null,null,null,null,null,null,null,null,null,null,null,null,null,null,null,null,null,null,null,null,null,null,null,null,null,null,null,null,null,null,{"$f":"IFERROR(IF(T1589=5,1,IF(MATCH(T1589&\"/\"&V1589,読み替え表_エコドライブ!$P$33:$P$52,0),1,0)),0)","v":0},"*"]
[null,null,1583,null,null,null,null,null,null,null,null,null,null,null,null,null,null,null,null,null,null,null,null,null,null,null,null,null,null,null,null,null,null,null,null,{"$f":"IFERROR(IF(T1590=5,1,IF(MATCH(T1590&\"/\"&V1590,読み替え表_エコドライブ!$P$33:$P$52,0),1,0)),0)","v":0},"*"]
[null,null,1584,null,null,null,null,null,null,null,null,null,null,null,null,null,null,null,null,null,null,null,null,null,null,null,null,null,null,null,null,null,null,null,null,{"$f":"IFERROR(IF(T1591=5,1,IF(MATCH(T1591&\"/\"&V1591,読み替え表_エコドライブ!$P$33:$P$52,0),1,0)),0)","v":0},"*"]
[null,null,1585,null,null,null,null,null,null,null,null,null,null,null,null,null,null,null,null,null,null,null,null,null,null,null,null,null,null,null,null,null,null,null,null,{"$f":"IFERROR(IF(T1592=5,1,IF(MATCH(T1592&\"/\"&V1592,読み替え表_エコドライブ!$P$33:$P$52,0),1,0)),0)","v":0},"*"]
[null,null,1586,null,null,null,null,null,null,null,null,null,null,null,null,null,null,null,null,null,null,null,null,null,null,null,null,null,null,null,null,null,null,null,null,{"$f":"IFERROR(IF(T1593=5,1,IF(MATCH(T1593&\"/\"&V1593,読み替え表_エコドライブ!$P$33:$P$52,0),1,0)),0)","v":0},"*"]
[null,null,1587,null,null,null,null,null,null,null,null,null,null,null,null,null,null,null,null,null,null,null,null,null,null,null,null,null,null,null,null,null,null,null,null,{"$f":"IFERROR(IF(T1594=5,1,IF(MATCH(T1594&\"/\"&V1594,読み替え表_エコドライブ!$P$33:$P$52,0),1,0)),0)","v":0},"*"]
[null,null,1588,null,null,null,null,null,null,null,null,null,null,null,null,null,null,null,null,null,null,null,null,null,null,null,null,null,null,null,null,null,null,null,null,{"$f":"IFERROR(IF(T1595=5,1,IF(MATCH(T1595&\"/\"&V1595,読み替え表_エコドライブ!$P$33:$P$52,0),1,0)),0)","v":0},"*"]
[null,null,1589,null,null,null,null,null,null,null,null,null,null,null,null,null,null,null,null,null,null,null,null,null,null,null,null,null,null,null,null,null,null,null,null,{"$f":"IFERROR(IF(T1596=5,1,IF(MATCH(T1596&\"/\"&V1596,読み替え表_エコドライブ!$P$33:$P$52,0),1,0)),0)","v":0},"*"]
[null,null,1590,null,null,null,null,null,null,null,null,null,null,null,null,null,null,null,null,null,null,null,null,null,null,null,null,null,null,null,null,null,null,null,null,{"$f":"IFERROR(IF(T1597=5,1,IF(MATCH(T1597&\"/\"&V1597,読み替え表_エコドライブ!$P$33:$P$52,0),1,0)),0)","v":0},"*"]
[null,null,1591,null,null,null,null,null,null,null,null,null,null,null,null,null,null,null,null,null,null,null,null,null,null,null,null,null,null,null,null,null,null,null,null,{"$f":"IFERROR(IF(T1598=5,1,IF(MATCH(T1598&\"/\"&V1598,読み替え表_エコドライブ!$P$33:$P$52,0),1,0)),0)","v":0},"*"]
[null,null,1592,null,null,null,null,null,null,null,null,null,null,null,null,null,null,null,null,null,null,null,null,null,null,null,null,null,null,null,null,null,null,null,null,{"$f":"IFERROR(IF(T1599=5,1,IF(MATCH(T1599&\"/\"&V1599,読み替え表_エコドライブ!$P$33:$P$52,0),1,0)),0)","v":0},"*"]
[null,null,1593,null,null,null,null,null,null,null,null,null,null,null,null,null,null,null,null,null,null,null,null,null,null,null,null,null,null,null,null,null,null,null,null,{"$f":"IFERROR(IF(T1600=5,1,IF(MATCH(T1600&\"/\"&V1600,読み替え表_エコドライブ!$P$33:$P$52,0),1,0)),0)","v":0},"*"]
[null,null,1594,null,null,null,null,null,null,null,null,null,null,null,null,null,null,null,null,null,null,null,null,null,null,null,null,null,null,null,null,null,null,null,null,{"$f":"IFERROR(IF(T1601=5,1,IF(MATCH(T1601&\"/\"&V1601,読み替え表_エコドライブ!$P$33:$P$52,0),1,0)),0)","v":0},"*"]
[null,null,1595,null,null,null,null,null,null,null,null,null,null,null,null,null,null,null,null,null,null,null,null,null,null,null,null,null,null,null,null,null,null,null,null,{"$f":"IFERROR(IF(T1602=5,1,IF(MATCH(T1602&\"/\"&V1602,読み替え表_エコドライブ!$P$33:$P$52,0),1,0)),0)","v":0},"*"]
[null,null,1596,null,null,null,null,null,null,null,null,null,null,null,null,null,null,null,null,null,null,null,null,null,null,null,null,null,null,null,null,null,null,null,null,{"$f":"IFERROR(IF(T1603=5,1,IF(MATCH(T1603&\"/\"&V1603,読み替え表_エコドライブ!$P$33:$P$52,0),1,0)),0)","v":0},"*"]
[null,null,1597,null,null,null,null,null,null,null,null,null,null,null,null,null,null,null,null,null,null,null,null,null,null,null,null,null,null,null,null,null,null,null,null,{"$f":"IFERROR(IF(T1604=5,1,IF(MATCH(T1604&\"/\"&V1604,読み替え表_エコドライブ!$P$33:$P$52,0),1,0)),0)","v":0},"*"]
[null,null,1598,null,null,null,null,null,null,null,null,null,null,null,null,null,null,null,null,null,null,null,null,null,null,null,null,null,null,null,null,null,null,null,null,{"$f":"IFERROR(IF(T1605=5,1,IF(MATCH(T1605&\"/\"&V1605,読み替え表_エコドライブ!$P$33:$P$52,0),1,0)),0)","v":0},"*"]
[null,null,1599,null,null,null,null,null,null,null,null,null,null,null,null,null,null,null,null,null,null,null,null,null,null,null,null,null,null,null,null,null,null,null,null,{"$f":"IFERROR(IF(T1606=5,1,IF(MATCH(T1606&\"/\"&V1606,読み替え表_エコドライブ!$P$33:$P$52,0),1,0)),0)","v":0},"*"]
[null,null,1600,null,null,null,null,null,null,null,null,null,null,null,null,null,null,null,null,null,null,null,null,null,null,null,null,null,null,null,null,null,null,null,null,{"$f":"IFERROR(IF(T1607=5,1,IF(MATCH(T1607&\"/\"&V1607,読み替え表_エコドライブ!$P$33:$P$52,0),1,0)),0)","v":0},"*"]
[null,null,1601,null,null,null,null,null,null,null,null,null,null,null,null,null,null,null,null,null,null,null,null,null,null,null,null,null,null,null,null,null,null,null,null,{"$f":"IFERROR(IF(T1608=5,1,IF(MATCH(T1608&\"/\"&V1608,読み替え表_エコドライブ!$P$33:$P$52,0),1,0)),0)","v":0},"*"]
[null,null,{"$f":"ROW()-7","v":1602},null,null,null,null,null,null,null,null,null,null,null,null,null,null,null,null,null,null,null,null,null,null,null,null,null,null,null,null,null,null,null,null,{"$f":"IFERROR(IF(T1609=5,1,IF(MATCH(T1609&\"/\"&V1609,読み替え表_エコドライブ!$P$33:$P$52,0),1,0)),0)","v":0},"*"]
[null,null,1603,null,null,null,null,null,null,null,null,null,null,null,null,null,null,null,null,null,null,null,null,null,null,null,null,null,null,null,null,null,null,null,null,{"$f":"IFERROR(IF(T1610=5,1,IF(MATCH(T1610&\"/\"&V1610,読み替え表_エコドライブ!$P$33:$P$52,0),1,0)),0)","v":0},"*"]
[null,null,1604,null,null,null,null,null,null,null,null,null,null,null,null,null,null,null,null,null,null,null,null,null,null,null,null,null,null,null,null,null,null,null,null,{"$f":"IFERROR(IF(T1611=5,1,IF(MATCH(T1611&\"/\"&V1611,読み替え表_エコドライブ!$P$33:$P$52,0),1,0)),0)","v":0},"*"]
[null,null,1605,null,null,null,null,null,null,null,null,null,null,null,null,null,null,null,null,null,null,null,null,null,null,null,null,null,null,null,null,null,null,null,null,{"$f":"IFERROR(IF(T1612=5,1,IF(MATCH(T1612&\"/\"&V1612,読み替え表_エコドライブ!$P$33:$P$52,0),1,0)),0)","v":0},"*"]
[null,null,1606,null,null,null,null,null,null,null,null,null,null,null,null,null,null,null,null,null,null,null,null,null,null,null,null,null,null,null,null,null,null,null,null,{"$f":"IFERROR(IF(T1613=5,1,IF(MATCH(T1613&\"/\"&V1613,読み替え表_エコドライブ!$P$33:$P$52,0),1,0)),0)","v":0},"*"]
[null,null,1607,null,null,null,null,null,null,null,null,null,null,null,null,null,null,null,null,null,null,null,null,null,null,null,null,null,null,null,null,null,null,null,null,{"$f":"IFERROR(IF(T1614=5,1,IF(MATCH(T1614&\"/\"&V1614,読み替え表_エコドライブ!$P$33:$P$52,0),1,0)),0)","v":0},"*"]
[null,null,1608,null,null,null,null,null,null,null,null,null,null,null,null,null,null,null,null,null,null,null,null,null,null,null,null,null,null,null,null,null,null,null,null,{"$f":"IFERROR(IF(T1615=5,1,IF(MATCH(T1615&\"/\"&V1615,読み替え表_エコドライブ!$P$33:$P$52,0),1,0)),0)","v":0},"*"]
[null,null,1609,null,null,null,null,null,null,null,null,null,null,null,null,null,null,null,null,null,null,null,null,null,null,null,null,null,null,null,null,null,null,null,null,{"$f":"IFERROR(IF(T1616=5,1,IF(MATCH(T1616&\"/\"&V1616,読み替え表_エコドライブ!$P$33:$P$52,0),1,0)),0)","v":0},"*"]
[null,null,1610,null,null,null,null,null,null,null,null,null,null,null,null,null,null,null,null,null,null,null,null,null,null,null,null,null,null,null,null,null,null,null,null,{"$f":"IFERROR(IF(T1617=5,1,IF(MATCH(T1617&\"/\"&V1617,読み替え表_エコドライブ!$P$33:$P$52,0),1,0)),0)","v":0},"*"]
[null,null,1611,null,null,null,null,null,null,null,null,null,null,null,null,null,null,null,null,null,null,null,null,null,null,null,null,null,null,null,null,null,null,null,null,{"$f":"IFERROR(IF(T1618=5,1,IF(MATCH(T1618&\"/\"&V1618,読み替え表_エコドライブ!$P$33:$P$52,0),1,0)),0)","v":0},"*"]
[null,null,1612,null,null,null,null,null,null,null,null,null,null,null,null,null,null,null,null,null,null,null,null,null,null,null,null,null,null,null,null,null,null,null,null,{"$f":"IFERROR(IF(T1619=5,1,IF(MATCH(T1619&\"/\"&V1619,読み替え表_エコドライブ!$P$33:$P$52,0),1,0)),0)","v":0},"*"]
[null,null,1613,null,null,null,null,null,null,null,null,null,null,null,null,null,null,null,null,null,null,null,null,null,null,null,null,null,null,null,null,null,null,null,null,{"$f":"IFERROR(IF(T1620=5,1,IF(MATCH(T1620&\"/\"&V1620,読み替え表_エコドライブ!$P$33:$P$52,0),1,0)),0)","v":0},"*"]
[null,null,1614,null,null,null,null,null,null,null,null,null,null,null,null,null,null,null,null,null,null,null,null,null,null,null,null,null,null,null,null,null,null,null,null,{"$f":"IFERROR(IF(T1621=5,1,IF(MATCH(T1621&\"/\"&V1621,読み替え表_エコドライブ!$P$33:$P$52,0),1,0)),0)","v":0},"*"]
[null,null,1615,null,null,null,null,null,null,null,null,null,null,null,null,null,null,null,null,null,null,null,null,null,null,null,null,null,null,null,null,null,null,null,null,{"$f":"IFERROR(IF(T1622=5,1,IF(MATCH(T1622&\"/\"&V1622,読み替え表_エコドライブ!$P$33:$P$52,0),1,0)),0)","v":0},"*"]
[null,null,1616,null,null,null,null,null,null,null,null,null,null,null,null,null,null,null,null,null,null,null,null,null,null,null,null,null,null,null,null,null,null,null,null,{"$f":"IFERROR(IF(T1623=5,1,IF(MATCH(T1623&\"/\"&V1623,読み替え表_エコドライブ!$P$33:$P$52,0),1,0)),0)","v":0},"*"]
[null,null,1617,null,null,null,null,null,null,null,null,null,null,null,null,null,null,null,null,null,null,null,null,null,null,null,null,null,null,null,null,null,null,null,null,{"$f":"IFERROR(IF(T1624=5,1,IF(MATCH(T1624&\"/\"&V1624,読み替え表_エコドライブ!$P$33:$P$52,0),1,0)),0)","v":0},"*"]
[null,null,1618,null,null,null,null,null,null,null,null,null,null,null,null,null,null,null,null,null,null,null,null,null,null,null,null,null,null,null,null,null,null,null,null,{"$f":"IFERROR(IF(T1625=5,1,IF(MATCH(T1625&\"/\"&V1625,読み替え表_エコドライブ!$P$33:$P$52,0),1,0)),0)","v":0},"*"]
[null,null,1619,null,null,null,null,null,null,null,null,null,null,null,null,null,null,null,null,null,null,null,null,null,null,null,null,null,null,null,null,null,null,null,null,{"$f":"IFERROR(IF(T1626=5,1,IF(MATCH(T1626&\"/\"&V1626,読み替え表_エコドライブ!$P$33:$P$52,0),1,0)),0)","v":0},"*"]
[null,null,1620,null,null,null,null,null,null,null,null,null,null,null,null,null,null,null,null,null,null,null,null,null,null,null,null,null,null,null,null,null,null,null,null,{"$f":"IFERROR(IF(T1627=5,1,IF(MATCH(T1627&\"/\"&V1627,読み替え表_エコドライブ!$P$33:$P$52,0),1,0)),0)","v":0},"*"]
[null,null,1621,null,null,null,null,null,null,null,null,null,null,null,null,null,null,null,null,null,null,null,null,null,null,null,null,null,null,null,null,null,null,null,null,{"$f":"IFERROR(IF(T1628=5,1,IF(MATCH(T1628&\"/\"&V1628,読み替え表_エコドライブ!$P$33:$P$52,0),1,0)),0)","v":0},"*"]
[null,null,1622,null,null,null,null,null,null,null,null,null,null,null,null,null,null,null,null,null,null,null,null,null,null,null,null,null,null,null,null,null,null,null,null,{"$f":"IFERROR(IF(T1629=5,1,IF(MATCH(T1629&\"/\"&V1629,読み替え表_エコドライブ!$P$33:$P$52,0),1,0)),0)","v":0},"*"]
[null,null,1623,null,null,null,null,null,null,null,null,null,null,null,null,null,null,null,null,null,null,null,null,null,null,null,null,null,null,null,null,null,null,null,null,{"$f":"IFERROR(IF(T1630=5,1,IF(MATCH(T1630&\"/\"&V1630,読み替え表_エコドライブ!$P$33:$P$52,0),1,0)),0)","v":0},"*"]
[null,null,1624,null,null,null,null,null,null,null,null,null,null,null,null,null,null,null,null,null,null,null,null,null,null,null,null,null,null,null,null,null,null,null,null,{"$f":"IFERROR(IF(T1631=5,1,IF(MATCH(T1631&\"/\"&V1631,読み替え表_エコドライブ!$P$33:$P$52,0),1,0)),0)","v":0},"*"]
[null,null,1625,null,null,null,null,null,null,null,null,null,null,null,null,null,null,null,null,null,null,null,null,null,null,null,null,null,null,null,null,null,null,null,null,{"$f":"IFERROR(IF(T1632=5,1,IF(MATCH(T1632&\"/\"&V1632,読み替え表_エコドライブ!$P$33:$P$52,0),1,0)),0)","v":0},"*"]
[null,null,1626,null,null,null,null,null,null,null,null,null,null,null,null,null,null,null,null,null,null,null,null,null,null,null,null,null,null,null,null,null,null,null,null,{"$f":"IFERROR(IF(T1633=5,1,IF(MATCH(T1633&\"/\"&V1633,読み替え表_エコドライブ!$P$33:$P$52,0),1,0)),0)","v":0},"*"]
[null,null,1627,null,null,null,null,null,null,null,null,null,null,null,null,null,null,null,null,null,null,null,null,null,null,null,null,null,null,null,null,null,null,null,null,{"$f":"IFERROR(IF(T1634=5,1,IF(MATCH(T1634&\"/\"&V1634,読み替え表_エコドライブ!$P$33:$P$52,0),1,0)),0)","v":0},"*"]
[null,null,1628,null,null,null,null,null,null,null,null,null,null,null,null,null,null,null,null,null,null,null,null,null,null,null,null,null,null,null,null,null,null,null,null,{"$f":"IFERROR(IF(T1635=5,1,IF(MATCH(T1635&\"/\"&V1635,読み替え表_エコドライブ!$P$33:$P$52,0),1,0)),0)","v":0},"*"]
[null,null,1629,null,null,null,null,null,null,null,null,null,null,null,null,null,null,null,null,null,null,null,null,null,null,null,null,null,null,null,null,null,null,null,null,{"$f":"IFERROR(IF(T1636=5,1,IF(MATCH(T1636&\"/\"&V1636,読み替え表_エコドライブ!$P$33:$P$52,0),1,0)),0)","v":0},"*"]
[null,null,1630,null,null,null,null,null,null,null,null,null,null,null,null,null,null,null,null,null,null,null,null,null,null,null,null,null,null,null,null,null,null,null,null,{"$f":"IFERROR(IF(T1637=5,1,IF(MATCH(T1637&\"/\"&V1637,読み替え表_エコドライブ!$P$33:$P$52,0),1,0)),0)","v":0},"*"]
[null,null,1631,null,null,null,null,null,null,null,null,null,null,null,null,null,null,null,null,null,null,null,null,null,null,null,null,null,null,null,null,null,null,null,null,{"$f":"IFERROR(IF(T1638=5,1,IF(MATCH(T1638&\"/\"&V1638,読み替え表_エコドライブ!$P$33:$P$52,0),1,0)),0)","v":0},"*"]
[null,null,1632,null,null,null,null,null,null,null,null,null,null,null,null,null,null,null,null,null,null,null,null,null,null,null,null,null,null,null,null,null,null,null,null,{"$f":"IFERROR(IF(T1639=5,1,IF(MATCH(T1639&\"/\"&V1639,読み替え表_エコドライブ!$P$33:$P$52,0),1,0)),0)","v":0},"*"]
[null,null,1633,null,null,null,null,null,null,null,null,null,null,null,null,null,null,null,null,null,null,null,null,null,null,null,null,null,null,null,null,null,null,null,null,{"$f":"IFERROR(IF(T1640=5,1,IF(MATCH(T1640&\"/\"&V1640,読み替え表_エコドライブ!$P$33:$P$52,0),1,0)),0)","v":0},"*"]
[null,null,1634,null,null,null,null,null,null,null,null,null,null,null,null,null,null,null,null,null,null,null,null,null,null,null,null,null,null,null,null,null,null,null,null,{"$f":"IFERROR(IF(T1641=5,1,IF(MATCH(T1641&\"/\"&V1641,読み替え表_エコドライブ!$P$33:$P$52,0),1,0)),0)","v":0},"*"]
[null,null,1635,null,null,null,null,null,null,null,null,null,null,null,null,null,null,null,null,null,null,null,null,null,null,null,null,null,null,null,null,null,null,null,null,{"$f":"IFERROR(IF(T1642=5,1,IF(MATCH(T1642&\"/\"&V1642,読み替え表_エコドライブ!$P$33:$P$52,0),1,0)),0)","v":0},"*"]
[null,null,1636,null,null,null,null,null,null,null,null,null,null,null,null,null,null,null,null,null,null,null,null,null,null,null,null,null,null,null,null,null,null,null,null,{"$f":"IFERROR(IF(T1643=5,1,IF(MATCH(T1643&\"/\"&V1643,読み替え表_エコドライブ!$P$33:$P$52,0),1,0)),0)","v":0},"*"]
[null,null,1637,null,null,null,null,null,null,null,null,null,null,null,null,null,null,null,null,null,null,null,null,null,null,null,null,null,null,null,null,null,null,null,null,{"$f":"IFERROR(IF(T1644=5,1,IF(MATCH(T1644&\"/\"&V1644,読み替え表_エコドライブ!$P$33:$P$52,0),1,0)),0)","v":0},"*"]
[null,null,1638,null,null,null,null,null,null,null,null,null,null,null,null,null,null,null,null,null,null,null,null,null,null,null,null,null,null,null,null,null,null,null,null,{"$f":"IFERROR(IF(T1645=5,1,IF(MATCH(T1645&\"/\"&V1645,読み替え表_エコドライブ!$P$33:$P$52,0),1,0)),0)","v":0},"*"]
[null,null,1639,null,null,null,null,null,null,null,null,null,null,null,null,null,null,null,null,null,null,null,null,null,null,null,null,null,null,null,null,null,null,null,null,{"$f":"IFERROR(IF(T1646=5,1,IF(MATCH(T1646&\"/\"&V1646,読み替え表_エコドライブ!$P$33:$P$52,0),1,0)),0)","v":0},"*"]
[null,null,1640,null,null,null,null,null,null,null,null,null,null,null,null,null,null,null,null,null,null,null,null,null,null,null,null,null,null,null,null,null,null,null,null,{"$f":"IFERROR(IF(T1647=5,1,IF(MATCH(T1647&\"/\"&V1647,読み替え表_エコドライブ!$P$33:$P$52,0),1,0)),0)","v":0},"*"]
[null,null,1641,null,null,null,null,null,null,null,null,null,null,null,null,null,null,null,null,null,null,null,null,null,null,null,null,null,null,null,null,null,null,null,null,{"$f":"IFERROR(IF(T1648=5,1,IF(MATCH(T1648&\"/\"&V1648,読み替え表_エコドライブ!$P$33:$P$52,0),1,0)),0)","v":0},"*"]
[null,null,1642,null,null,null,null,null,null,null,null,null,null,null,null,null,null,null,null,null,null,null,null,null,null,null,null,null,null,null,null,null,null,null,null,{"$f":"IFERROR(IF(T1649=5,1,IF(MATCH(T1649&\"/\"&V1649,読み替え表_エコドライブ!$P$33:$P$52,0),1,0)),0)","v":0},"*"]
[null,null,1643,null,null,null,null,null,null,null,null,null,null,null,null,null,null,null,null,null,null,null,null,null,null,null,null,null,null,null,null,null,null,null,null,{"$f":"IFERROR(IF(T1650=5,1,IF(MATCH(T1650&\"/\"&V1650,読み替え表_エコドライブ!$P$33:$P$52,0),1,0)),0)","v":0},"*"]
[null,null,1644,null,null,null,null,null,null,null,null,null,null,null,null,null,null,null,null,null,null,null,null,null,null,null,null,null,null,null,null,null,null,null,null,{"$f":"IFERROR(IF(T1651=5,1,IF(MATCH(T1651&\"/\"&V1651,読み替え表_エコドライブ!$P$33:$P$52,0),1,0)),0)","v":0},"*"]
[null,null,1645,null,null,null,null,null,null,null,null,null,null,null,null,null,null,null,null,null,null,null,null,null,null,null,null,null,null,null,null,null,null,null,null,{"$f":"IFERROR(IF(T1652=5,1,IF(MATCH(T1652&\"/\"&V1652,読み替え表_エコドライブ!$P$33:$P$52,0),1,0)),0)","v":0},"*"]
[null,null,1646,null,null,null,null,null,null,null,null,null,null,null,null,null,null,null,null,null,null,null,null,null,null,null,null,null,null,null,null,null,null,null,null,{"$f":"IFERROR(IF(T1653=5,1,IF(MATCH(T1653&\"/\"&V1653,読み替え表_エコドライブ!$P$33:$P$52,0),1,0)),0)","v":0},"*"]
[null,null,1647,null,null,null,null,null,null,null,null,null,null,null,null,null,null,null,null,null,null,null,null,null,null,null,null,null,null,null,null,null,null,null,null,{"$f":"IFERROR(IF(T1654=5,1,IF(MATCH(T1654&\"/\"&V1654,読み替え表_エコドライブ!$P$33:$P$52,0),1,0)),0)","v":0},"*"]
[null,null,1648,null,null,null,null,null,null,null,null,null,null,null,null,null,null,null,null,null,null,null,null,null,null,null,null,null,null,null,null,null,null,null,null,{"$f":"IFERROR(IF(T1655=5,1,IF(MATCH(T1655&\"/\"&V1655,読み替え表_エコドライブ!$P$33:$P$52,0),1,0)),0)","v":0},"*"]
[null,null,1649,null,null,null,null,null,null,null,null,null,null,null,null,null,null,null,null,null,null,null,null,null,null,null,null,null,null,null,null,null,null,null,null,{"$f":"IFERROR(IF(T1656=5,1,IF(MATCH(T1656&\"/\"&V1656,読み替え表_エコドライブ!$P$33:$P$52,0),1,0)),0)","v":0},"*"]
[null,null,1650,null,null,null,null,null,null,null,null,null,null,null,null,null,null,null,null,null,null,null,null,null,null,null,null,null,null,null,null,null,null,null,null,{"$f":"IFERROR(IF(T1657=5,1,IF(MATCH(T1657&\"/\"&V1657,読み替え表_エコドライブ!$P$33:$P$52,0),1,0)),0)","v":0},"*"]
[null,null,1651,null,null,null,null,null,null,null,null,null,null,null,null,null,null,null,null,null,null,null,null,null,null,null,null,null,null,null,null,null,null,null,null,{"$f":"IFERROR(IF(T1658=5,1,IF(MATCH(T1658&\"/\"&V1658,読み替え表_エコドライブ!$P$33:$P$52,0),1,0)),0)","v":0},"*"]
[null,null,1652,null,null,null,null,null,null,null,null,null,null,null,null,null,null,null,null,null,null,null,null,null,null,null,null,null,null,null,null,null,null,null,null,{"$f":"IFERROR(IF(T1659=5,1,IF(MATCH(T1659&\"/\"&V1659,読み替え表_エコドライブ!$P$33:$P$52,0),1,0)),0)","v":0},"*"]
[null,null,1653,null,null,null,null,null,null,null,null,null,null,null,null,null,null,null,null,null,null,null,null,null,null,null,null,null,null,null,null,null,null,null,null,{"$f":"IFERROR(IF(T1660=5,1,IF(MATCH(T1660&\"/\"&V1660,読み替え表_エコドライブ!$P$33:$P$52,0),1,0)),0)","v":0},"*"]
[null,null,1654,null,null,null,null,null,null,null,null,null,null,null,null,null,null,null,null,null,null,null,null,null,null,null,null,null,null,null,null,null,null,null,null,{"$f":"IFERROR(IF(T1661=5,1,IF(MATCH(T1661&\"/\"&V1661,読み替え表_エコドライブ!$P$33:$P$52,0),1,0)),0)","v":0},"*"]
[null,null,1655,null,null,null,null,null,null,null,null,null,null,null,null,null,null,null,null,null,null,null,null,null,null,null,null,null,null,null,null,null,null,null,null,{"$f":"IFERROR(IF(T1662=5,1,IF(MATCH(T1662&\"/\"&V1662,読み替え表_エコドライブ!$P$33:$P$52,0),1,0)),0)","v":0},"*"]
[null,null,1656,null,null,null,null,null,null,null,null,null,null,null,null,null,null,null,null,null,null,null,null,null,null,null,null,null,null,null,null,null,null,null,null,{"$f":"IFERROR(IF(T1663=5,1,IF(MATCH(T1663&\"/\"&V1663,読み替え表_エコドライブ!$P$33:$P$52,0),1,0)),0)","v":0},"*"]
[null,null,1657,null,null,null,null,null,null,null,null,null,null,null,null,null,null,null,null,null,null,null,null,null,null,null,null,null,null,null,null,null,null,null,null,{"$f":"IFERROR(IF(T1664=5,1,IF(MATCH(T1664&\"/\"&V1664,読み替え表_エコドライブ!$P$33:$P$52,0),1,0)),0)","v":0},"*"]
[null,null,1658,null,null,null,null,null,null,null,null,null,null,null,null,null,null,null,null,null,null,null,null,null,null,null,null,null,null,null,null,null,null,null,null,{"$f":"IFERROR(IF(T1665=5,1,IF(MATCH(T1665&\"/\"&V1665,読み替え表_エコドライブ!$P$33:$P$52,0),1,0)),0)","v":0},"*"]
[null,null,1659,null,null,null,null,null,null,null,null,null,null,null,null,null,null,null,null,null,null,null,null,null,null,null,null,null,null,null,null,null,null,null,null,{"$f":"IFERROR(IF(T1666=5,1,IF(MATCH(T1666&\"/\"&V1666,読み替え表_エコドライブ!$P$33:$P$52,0),1,0)),0)","v":0},"*"]
[null,null,1660,null,null,null,null,null,null,null,null,null,null,null,null,null,null,null,null,null,null,null,null,null,null,null,null,null,null,null,null,null,null,null,null,{"$f":"IFERROR(IF(T1667=5,1,IF(MATCH(T1667&\"/\"&V1667,読み替え表_エコドライブ!$P$33:$P$52,0),1,0)),0)","v":0},"*"]
[null,null,1661,null,null,null,null,null,null,null,null,null,null,null,null,null,null,null,null,null,null,null,null,null,null,null,null,null,null,null,null,null,null,null,null,{"$f":"IFERROR(IF(T1668=5,1,IF(MATCH(T1668&\"/\"&V1668,読み替え表_エコドライブ!$P$33:$P$52,0),1,0)),0)","v":0},"*"]
[null,null,1662,null,null,null,null,null,null,null,null,null,null,null,null,null,null,null,null,null,null,null,null,null,null,null,null,null,null,null,null,null,null,null,null,{"$f":"IFERROR(IF(T1669=5,1,IF(MATCH(T1669&\"/\"&V1669,読み替え表_エコドライブ!$P$33:$P$52,0),1,0)),0)","v":0},"*"]
[null,null,1663,null,null,null,null,null,null,null,null,null,null,null,null,null,null,null,null,null,null,null,null,null,null,null,null,null,null,null,null,null,null,null,null,{"$f":"IFERROR(IF(T1670=5,1,IF(MATCH(T1670&\"/\"&V1670,読み替え表_エコドライブ!$P$33:$P$52,0),1,0)),0)","v":0},"*"]
[null,null,1664,null,null,null,null,null,null,null,null,null,null,null,null,null,null,null,null,null,null,null,null,null,null,null,null,null,null,null,null,null,null,null,null,{"$f":"IFERROR(IF(T1671=5,1,IF(MATCH(T1671&\"/\"&V1671,読み替え表_エコドライブ!$P$33:$P$52,0),1,0)),0)","v":0},"*"]
[null,null,1665,null,null,null,null,null,null,null,null,null,null,null,null,null,null,null,null,null,null,null,null,null,null,null,null,null,null,null,null,null,null,null,null,{"$f":"IFERROR(IF(T1672=5,1,IF(MATCH(T1672&\"/\"&V1672,読み替え表_エコドライブ!$P$33:$P$52,0),1,0)),0)","v":0},"*"]
[null,null,{"$f":"ROW()-7","v":1666},null,null,null,null,null,null,null,null,null,null,null,null,null,null,null,null,null,null,null,null,null,null,null,null,null,null,null,null,null,null,null,null,{"$f":"IFERROR(IF(T1673=5,1,IF(MATCH(T1673&\"/\"&V1673,読み替え表_エコドライブ!$P$33:$P$52,0),1,0)),0)","v":0},"*"]
[null,null,1667,null,null,null,null,null,null,null,null,null,null,null,null,null,null,null,null,null,null,null,null,null,null,null,null,null,null,null,null,null,null,null,null,{"$f":"IFERROR(IF(T1674=5,1,IF(MATCH(T1674&\"/\"&V1674,読み替え表_エコドライブ!$P$33:$P$52,0),1,0)),0)","v":0},"*"]
[null,null,1668,null,null,null,null,null,null,null,null,null,null,null,null,null,null,null,null,null,null,null,null,null,null,null,null,null,null,null,null,null,null,null,null,{"$f":"IFERROR(IF(T1675=5,1,IF(MATCH(T1675&\"/\"&V1675,読み替え表_エコドライブ!$P$33:$P$52,0),1,0)),0)","v":0},"*"]
[null,null,1669,null,null,null,null,null,null,null,null,null,null,null,null,null,null,null,null,null,null,null,null,null,null,null,null,null,null,null,null,null,null,null,null,{"$f":"IFERROR(IF(T1676=5,1,IF(MATCH(T1676&\"/\"&V1676,読み替え表_エコドライブ!$P$33:$P$52,0),1,0)),0)","v":0},"*"]
[null,null,1670,null,null,null,null,null,null,null,null,null,null,null,null,null,null,null,null,null,null,null,null,null,null,null,null,null,null,null,null,null,null,null,null,{"$f":"IFERROR(IF(T1677=5,1,IF(MATCH(T1677&\"/\"&V1677,読み替え表_エコドライブ!$P$33:$P$52,0),1,0)),0)","v":0},"*"]
[null,null,1671,null,null,null,null,null,null,null,null,null,null,null,null,null,null,null,null,null,null,null,null,null,null,null,null,null,null,null,null,null,null,null,null,{"$f":"IFERROR(IF(T1678=5,1,IF(MATCH(T1678&\"/\"&V1678,読み替え表_エコドライブ!$P$33:$P$52,0),1,0)),0)","v":0},"*"]
[null,null,1672,null,null,null,null,null,null,null,null,null,null,null,null,null,null,null,null,null,null,null,null,null,null,null,null,null,null,null,null,null,null,null,null,{"$f":"IFERROR(IF(T1679=5,1,IF(MATCH(T1679&\"/\"&V1679,読み替え表_エコドライブ!$P$33:$P$52,0),1,0)),0)","v":0},"*"]
[null,null,1673,null,null,null,null,null,null,null,null,null,null,null,null,null,null,null,null,null,null,null,null,null,null,null,null,null,null,null,null,null,null,null,null,{"$f":"IFERROR(IF(T1680=5,1,IF(MATCH(T1680&\"/\"&V1680,読み替え表_エコドライブ!$P$33:$P$52,0),1,0)),0)","v":0},"*"]
[null,null,1674,null,null,null,null,null,null,null,null,null,null,null,null,null,null,null,null,null,null,null,null,null,null,null,null,null,null,null,null,null,null,null,null,{"$f":"IFERROR(IF(T1681=5,1,IF(MATCH(T1681&\"/\"&V1681,読み替え表_エコドライブ!$P$33:$P$52,0),1,0)),0)","v":0},"*"]
[null,null,1675,null,null,null,null,null,null,null,null,null,null,null,null,null,null,null,null,null,null,null,null,null,null,null,null,null,null,null,null,null,null,null,null,{"$f":"IFERROR(IF(T1682=5,1,IF(MATCH(T1682&\"/\"&V1682,読み替え表_エコドライブ!$P$33:$P$52,0),1,0)),0)","v":0},"*"]
[null,null,1676,null,null,null,null,null,null,null,null,null,null,null,null,null,null,null,null,null,null,null,null,null,null,null,null,null,null,null,null,null,null,null,null,{"$f":"IFERROR(IF(T1683=5,1,IF(MATCH(T1683&\"/\"&V1683,読み替え表_エコドライブ!$P$33:$P$52,0),1,0)),0)","v":0},"*"]
[null,null,1677,null,null,null,null,null,null,null,null,null,null,null,null,null,null,null,null,null,null,null,null,null,null,null,null,null,null,null,null,null,null,null,null,{"$f":"IFERROR(IF(T1684=5,1,IF(MATCH(T1684&\"/\"&V1684,読み替え表_エコドライブ!$P$33:$P$52,0),1,0)),0)","v":0},"*"]
[null,null,1678,null,null,null,null,null,null,null,null,null,null,null,null,null,null,null,null,null,null,null,null,null,null,null,null,null,null,null,null,null,null,null,null,{"$f":"IFERROR(IF(T1685=5,1,IF(MATCH(T1685&\"/\"&V1685,読み替え表_エコドライブ!$P$33:$P$52,0),1,0)),0)","v":0},"*"]
[null,null,1679,null,null,null,null,null,null,null,null,null,null,null,null,null,null,null,null,null,null,null,null,null,null,null,null,null,null,null,null,null,null,null,null,{"$f":"IFERROR(IF(T1686=5,1,IF(MATCH(T1686&\"/\"&V1686,読み替え表_エコドライブ!$P$33:$P$52,0),1,0)),0)","v":0},"*"]
[null,null,1680,null,null,null,null,null,null,null,null,null,null,null,null,null,null,null,null,null,null,null,null,null,null,null,null,null,null,null,null,null,null,null,null,{"$f":"IFERROR(IF(T1687=5,1,IF(MATCH(T1687&\"/\"&V1687,読み替え表_エコドライブ!$P$33:$P$52,0),1,0)),0)","v":0},"*"]
[null,null,1681,null,null,null,null,null,null,null,null,null,null,null,null,null,null,null,null,null,null,null,null,null,null,null,null,null,null,null,null,null,null,null,null,{"$f":"IFERROR(IF(T1688=5,1,IF(MATCH(T1688&\"/\"&V1688,読み替え表_エコドライブ!$P$33:$P$52,0),1,0)),0)","v":0},"*"]
[null,null,1682,null,null,null,null,null,null,null,null,null,null,null,null,null,null,null,null,null,null,null,null,null,null,null,null,null,null,null,null,null,null,null,null,{"$f":"IFERROR(IF(T1689=5,1,IF(MATCH(T1689&\"/\"&V1689,読み替え表_エコドライブ!$P$33:$P$52,0),1,0)),0)","v":0},"*"]
[null,null,1683,null,null,null,null,null,null,null,null,null,null,null,null,null,null,null,null,null,null,null,null,null,null,null,null,null,null,null,null,null,null,null,null,{"$f":"IFERROR(IF(T1690=5,1,IF(MATCH(T1690&\"/\"&V1690,読み替え表_エコドライブ!$P$33:$P$52,0),1,0)),0)","v":0},"*"]
[null,null,1684,null,null,null,null,null,null,null,null,null,null,null,null,null,null,null,null,null,null,null,null,null,null,null,null,null,null,null,null,null,null,null,null,{"$f":"IFERROR(IF(T1691=5,1,IF(MATCH(T1691&\"/\"&V1691,読み替え表_エコドライブ!$P$33:$P$52,0),1,0)),0)","v":0},"*"]
[null,null,1685,null,null,null,null,null,null,null,null,null,null,null,null,null,null,null,null,null,null,null,null,null,null,null,null,null,null,null,null,null,null,null,null,{"$f":"IFERROR(IF(T1692=5,1,IF(MATCH(T1692&\"/\"&V1692,読み替え表_エコドライブ!$P$33:$P$52,0),1,0)),0)","v":0},"*"]
[null,null,1686,null,null,null,null,null,null,null,null,null,null,null,null,null,null,null,null,null,null,null,null,null,null,null,null,null,null,null,null,null,null,null,null,{"$f":"IFERROR(IF(T1693=5,1,IF(MATCH(T1693&\"/\"&V1693,読み替え表_エコドライブ!$P$33:$P$52,0),1,0)),0)","v":0},"*"]
[null,null,1687,null,null,null,null,null,null,null,null,null,null,null,null,null,null,null,null,null,null,null,null,null,null,null,null,null,null,null,null,null,null,null,null,{"$f":"IFERROR(IF(T1694=5,1,IF(MATCH(T1694&\"/\"&V1694,読み替え表_エコドライブ!$P$33:$P$52,0),1,0)),0)","v":0},"*"]
[null,null,1688,null,null,null,null,null,null,null,null,null,null,null,null,null,null,null,null,null,null,null,null,null,null,null,null,null,null,null,null,null,null,null,null,{"$f":"IFERROR(IF(T1695=5,1,IF(MATCH(T1695&\"/\"&V1695,読み替え表_エコドライブ!$P$33:$P$52,0),1,0)),0)","v":0},"*"]
[null,null,1689,null,null,null,null,null,null,null,null,null,null,null,null,null,null,null,null,null,null,null,null,null,null,null,null,null,null,null,null,null,null,null,null,{"$f":"IFERROR(IF(T1696=5,1,IF(MATCH(T1696&\"/\"&V1696,読み替え表_エコドライブ!$P$33:$P$52,0),1,0)),0)","v":0},"*"]
[null,null,1690,null,null,null,null,null,null,null,null,null,null,null,null,null,null,null,null,null,null,null,null,null,null,null,null,null,null,null,null,null,null,null,null,{"$f":"IFERROR(IF(T1697=5,1,IF(MATCH(T1697&\"/\"&V1697,読み替え表_エコドライブ!$P$33:$P$52,0),1,0)),0)","v":0},"*"]
[null,null,1691,null,null,null,null,null,null,null,null,null,null,null,null,null,null,null,null,null,null,null,null,null,null,null,null,null,null,null,null,null,null,null,null,{"$f":"IFERROR(IF(T1698=5,1,IF(MATCH(T1698&\"/\"&V1698,読み替え表_エコドライブ!$P$33:$P$52,0),1,0)),0)","v":0},"*"]
[null,null,1692,null,null,null,null,null,null,null,null,null,null,null,null,null,null,null,null,null,null,null,null,null,null,null,null,null,null,null,null,null,null,null,null,{"$f":"IFERROR(IF(T1699=5,1,IF(MATCH(T1699&\"/\"&V1699,読み替え表_エコドライブ!$P$33:$P$52,0),1,0)),0)","v":0},"*"]
[null,null,1693,null,null,null,null,null,null,null,null,null,null,null,null,null,null,null,null,null,null,null,null,null,null,null,null,null,null,null,null,null,null,null,null,{"$f":"IFERROR(IF(T1700=5,1,IF(MATCH(T1700&\"/\"&V1700,読み替え表_エコドライブ!$P$33:$P$52,0),1,0)),0)","v":0},"*"]
[null,null,1694,null,null,null,null,null,null,null,null,null,null,null,null,null,null,null,null,null,null,null,null,null,null,null,null,null,null,null,null,null,null,null,null,{"$f":"IFERROR(IF(T1701=5,1,IF(MATCH(T1701&\"/\"&V1701,読み替え表_エコドライブ!$P$33:$P$52,0),1,0)),0)","v":0},"*"]
[null,null,1695,null,null,null,null,null,null,null,null,null,null,null,null,null,null,null,null,null,null,null,null,null,null,null,null,null,null,null,null,null,null,null,null,{"$f":"IFERROR(IF(T1702=5,1,IF(MATCH(T1702&\"/\"&V1702,読み替え表_エコドライブ!$P$33:$P$52,0),1,0)),0)","v":0},"*"]
[null,null,1696,null,null,null,null,null,null,null,null,null,null,null,null,null,null,null,null,null,null,null,null,null,null,null,null,null,null,null,null,null,null,null,null,{"$f":"IFERROR(IF(T1703=5,1,IF(MATCH(T1703&\"/\"&V1703,読み替え表_エコドライブ!$P$33:$P$52,0),1,0)),0)","v":0},"*"]
[null,null,1697,null,null,null,null,null,null,null,null,null,null,null,null,null,null,null,null,null,null,null,null,null,null,null,null,null,null,null,null,null,null,null,null,{"$f":"IFERROR(IF(T1704=5,1,IF(MATCH(T1704&\"/\"&V1704,読み替え表_エコドライブ!$P$33:$P$52,0),1,0)),0)","v":0},"*"]
[null,null,1698,null,null,null,null,null,null,null,null,null,null,null,null,null,null,null,null,null,null,null,null,null,null,null,null,null,null,null,null,null,null,null,null,{"$f":"IFERROR(IF(T1705=5,1,IF(MATCH(T1705&\"/\"&V1705,読み替え表_エコドライブ!$P$33:$P$52,0),1,0)),0)","v":0},"*"]
[null,null,1699,null,null,null,null,null,null,null,null,null,null,null,null,null,null,null,null,null,null,null,null,null,null,null,null,null,null,null,null,null,null,null,null,{"$f":"IFERROR(IF(T1706=5,1,IF(MATCH(T1706&\"/\"&V1706,読み替え表_エコドライブ!$P$33:$P$52,0),1,0)),0)","v":0},"*"]
[null,null,1700,null,null,null,null,null,null,null,null,null,null,null,null,null,null,null,null,null,null,null,null,null,null,null,null,null,null,null,null,null,null,null,null,{"$f":"IFERROR(IF(T1707=5,1,IF(MATCH(T1707&\"/\"&V1707,読み替え表_エコドライブ!$P$33:$P$52,0),1,0)),0)","v":0},"*"]
[null,null,1701,null,null,null,null,null,null,null,null,null,null,null,null,null,null,null,null,null,null,null,null,null,null,null,null,null,null,null,null,null,null,null,null,{"$f":"IFERROR(IF(T1708=5,1,IF(MATCH(T1708&\"/\"&V1708,読み替え表_エコドライブ!$P$33:$P$52,0),1,0)),0)","v":0},"*"]
[null,null,1702,null,null,null,null,null,null,null,null,null,null,null,null,null,null,null,null,null,null,null,null,null,null,null,null,null,null,null,null,null,null,null,null,{"$f":"IFERROR(IF(T1709=5,1,IF(MATCH(T1709&\"/\"&V1709,読み替え表_エコドライブ!$P$33:$P$52,0),1,0)),0)","v":0},"*"]
[null,null,1703,null,null,null,null,null,null,null,null,null,null,null,null,null,null,null,null,null,null,null,null,null,null,null,null,null,null,null,null,null,null,null,null,{"$f":"IFERROR(IF(T1710=5,1,IF(MATCH(T1710&\"/\"&V1710,読み替え表_エコドライブ!$P$33:$P$52,0),1,0)),0)","v":0},"*"]
[null,null,1704,null,null,null,null,null,null,null,null,null,null,null,null,null,null,null,null,null,null,null,null,null,null,null,null,null,null,null,null,null,null,null,null,{"$f":"IFERROR(IF(T1711=5,1,IF(MATCH(T1711&\"/\"&V1711,読み替え表_エコドライブ!$P$33:$P$52,0),1,0)),0)","v":0},"*"]
[null,null,1705,null,null,null,null,null,null,null,null,null,null,null,null,null,null,null,null,null,null,null,null,null,null,null,null,null,null,null,null,null,null,null,null,{"$f":"IFERROR(IF(T1712=5,1,IF(MATCH(T1712&\"/\"&V1712,読み替え表_エコドライブ!$P$33:$P$52,0),1,0)),0)","v":0},"*"]
[null,null,1706,null,null,null,null,null,null,null,null,null,null,null,null,null,null,null,null,null,null,null,null,null,null,null,null,null,null,null,null,null,null,null,null,{"$f":"IFERROR(IF(T1713=5,1,IF(MATCH(T1713&\"/\"&V1713,読み替え表_エコドライブ!$P$33:$P$52,0),1,0)),0)","v":0},"*"]
[null,null,1707,null,null,null,null,null,null,null,null,null,null,null,null,null,null,null,null,null,null,null,null,null,null,null,null,null,null,null,null,null,null,null,null,{"$f":"IFERROR(IF(T1714=5,1,IF(MATCH(T1714&\"/\"&V1714,読み替え表_エコドライブ!$P$33:$P$52,0),1,0)),0)","v":0},"*"]
[null,null,1708,null,null,null,null,null,null,null,null,null,null,null,null,null,null,null,null,null,null,null,null,null,null,null,null,null,null,null,null,null,null,null,null,{"$f":"IFERROR(IF(T1715=5,1,IF(MATCH(T1715&\"/\"&V1715,読み替え表_エコドライブ!$P$33:$P$52,0),1,0)),0)","v":0},"*"]
[null,null,1709,null,null,null,null,null,null,null,null,null,null,null,null,null,null,null,null,null,null,null,null,null,null,null,null,null,null,null,null,null,null,null,null,{"$f":"IFERROR(IF(T1716=5,1,IF(MATCH(T1716&\"/\"&V1716,読み替え表_エコドライブ!$P$33:$P$52,0),1,0)),0)","v":0},"*"]
[null,null,1710,null,null,null,null,null,null,null,null,null,null,null,null,null,null,null,null,null,null,null,null,null,null,null,null,null,null,null,null,null,null,null,null,{"$f":"IFERROR(IF(T1717=5,1,IF(MATCH(T1717&\"/\"&V1717,読み替え表_エコドライブ!$P$33:$P$52,0),1,0)),0)","v":0},"*"]
[null,null,1711,null,null,null,null,null,null,null,null,null,null,null,null,null,null,null,null,null,null,null,null,null,null,null,null,null,null,null,null,null,null,null,null,{"$f":"IFERROR(IF(T1718=5,1,IF(MATCH(T1718&\"/\"&V1718,読み替え表_エコドライブ!$P$33:$P$52,0),1,0)),0)","v":0},"*"]
[null,null,1712,null,null,null,null,null,null,null,null,null,null,null,null,null,null,null,null,null,null,null,null,null,null,null,null,null,null,null,null,null,null,null,null,{"$f":"IFERROR(IF(T1719=5,1,IF(MATCH(T1719&\"/\"&V1719,読み替え表_エコドライブ!$P$33:$P$52,0),1,0)),0)","v":0},"*"]
[null,null,1713,null,null,null,null,null,null,null,null,null,null,null,null,null,null,null,null,null,null,null,null,null,null,null,null,null,null,null,null,null,null,null,null,{"$f":"IFERROR(IF(T1720=5,1,IF(MATCH(T1720&\"/\"&V1720,読み替え表_エコドライブ!$P$33:$P$52,0),1,0)),0)","v":0},"*"]
[null,null,1714,null,null,null,null,null,null,null,null,null,null,null,null,null,null,null,null,null,null,null,null,null,null,null,null,null,null,null,null,null,null,null,null,{"$f":"IFERROR(IF(T1721=5,1,IF(MATCH(T1721&\"/\"&V1721,読み替え表_エコドライブ!$P$33:$P$52,0),1,0)),0)","v":0},"*"]
[null,null,1715,null,null,null,null,null,null,null,null,null,null,null,null,null,null,null,null,null,null,null,null,null,null,null,null,null,null,null,null,null,null,null,null,{"$f":"IFERROR(IF(T1722=5,1,IF(MATCH(T1722&\"/\"&V1722,読み替え表_エコドライブ!$P$33:$P$52,0),1,0)),0)","v":0},"*"]
[null,null,1716,null,null,null,null,null,null,null,null,null,null,null,null,null,null,null,null,null,null,null,null,null,null,null,null,null,null,null,null,null,null,null,null,{"$f":"IFERROR(IF(T1723=5,1,IF(MATCH(T1723&\"/\"&V1723,読み替え表_エコドライブ!$P$33:$P$52,0),1,0)),0)","v":0},"*"]
[null,null,1717,null,null,null,null,null,null,null,null,null,null,null,null,null,null,null,null,null,null,null,null,null,null,null,null,null,null,null,null,null,null,null,null,{"$f":"IFERROR(IF(T1724=5,1,IF(MATCH(T1724&\"/\"&V1724,読み替え表_エコドライブ!$P$33:$P$52,0),1,0)),0)","v":0},"*"]
[null,null,1718,null,null,null,null,null,null,null,null,null,null,null,null,null,null,null,null,null,null,null,null,null,null,null,null,null,null,null,null,null,null,null,null,{"$f":"IFERROR(IF(T1725=5,1,IF(MATCH(T1725&\"/\"&V1725,読み替え表_エコドライブ!$P$33:$P$52,0),1,0)),0)","v":0},"*"]
[null,null,1719,null,null,null,null,null,null,null,null,null,null,null,null,null,null,null,null,null,null,null,null,null,null,null,null,null,null,null,null,null,null,null,null,{"$f":"IFERROR(IF(T1726=5,1,IF(MATCH(T1726&\"/\"&V1726,読み替え表_エコドライブ!$P$33:$P$52,0),1,0)),0)","v":0},"*"]
[null,null,1720,null,null,null,null,null,null,null,null,null,null,null,null,null,null,null,null,null,null,null,null,null,null,null,null,null,null,null,null,null,null,null,null,{"$f":"IFERROR(IF(T1727=5,1,IF(MATCH(T1727&\"/\"&V1727,読み替え表_エコドライブ!$P$33:$P$52,0),1,0)),0)","v":0},"*"]
[null,null,1721,null,null,null,null,null,null,null,null,null,null,null,null,null,null,null,null,null,null,null,null,null,null,null,null,null,null,null,null,null,null,null,null,{"$f":"IFERROR(IF(T1728=5,1,IF(MATCH(T1728&\"/\"&V1728,読み替え表_エコドライブ!$P$33:$P$52,0),1,0)),0)","v":0},"*"]
[null,null,1722,null,null,null,null,null,null,null,null,null,null,null,null,null,null,null,null,null,null,null,null,null,null,null,null,null,null,null,null,null,null,null,null,{"$f":"IFERROR(IF(T1729=5,1,IF(MATCH(T1729&\"/\"&V1729,読み替え表_エコドライブ!$P$33:$P$52,0),1,0)),0)","v":0},"*"]
[null,null,1723,null,null,null,null,null,null,null,null,null,null,null,null,null,null,null,null,null,null,null,null,null,null,null,null,null,null,null,null,null,null,null,null,{"$f":"IFERROR(IF(T1730=5,1,IF(MATCH(T1730&\"/\"&V1730,読み替え表_エコドライブ!$P$33:$P$52,0),1,0)),0)","v":0},"*"]
[null,null,1724,null,null,null,null,null,null,null,null,null,null,null,null,null,null,null,null,null,null,null,null,null,null,null,null,null,null,null,null,null,null,null,null,{"$f":"IFERROR(IF(T1731=5,1,IF(MATCH(T1731&\"/\"&V1731,読み替え表_エコドライブ!$P$33:$P$52,0),1,0)),0)","v":0},"*"]
[null,null,1725,null,null,null,null,null,null,null,null,null,null,null,null,null,null,null,null,null,null,null,null,null,null,null,null,null,null,null,null,null,null,null,null,{"$f":"IFERROR(IF(T1732=5,1,IF(MATCH(T1732&\"/\"&V1732,読み替え表_エコドライブ!$P$33:$P$52,0),1,0)),0)","v":0},"*"]
[null,null,1726,null,null,null,null,null,null,null,null,null,null,null,null,null,null,null,null,null,null,null,null,null,null,null,null,null,null,null,null,null,null,null,null,{"$f":"IFERROR(IF(T1733=5,1,IF(MATCH(T1733&\"/\"&V1733,読み替え表_エコドライブ!$P$33:$P$52,0),1,0)),0)","v":0},"*"]
[null,null,1727,null,null,null,null,null,null,null,null,null,null,null,null,null,null,null,null,null,null,null,null,null,null,null,null,null,null,null,null,null,null,null,null,{"$f":"IFERROR(IF(T1734=5,1,IF(MATCH(T1734&\"/\"&V1734,読み替え表_エコドライブ!$P$33:$P$52,0),1,0)),0)","v":0},"*"]
[null,null,1728,null,null,null,null,null,null,null,null,null,null,null,null,null,null,null,null,null,null,null,null,null,null,null,null,null,null,null,null,null,null,null,null,{"$f":"IFERROR(IF(T1735=5,1,IF(MATCH(T1735&\"/\"&V1735,読み替え表_エコドライブ!$P$33:$P$52,0),1,0)),0)","v":0},"*"]
[null,null,1729,null,null,null,null,null,null,null,null,null,null,null,null,null,null,null,null,null,null,null,null,null,null,null,null,null,null,null,null,null,null,null,null,{"$f":"IFERROR(IF(T1736=5,1,IF(MATCH(T1736&\"/\"&V1736,読み替え表_エコドライブ!$P$33:$P$52,0),1,0)),0)","v":0},"*"]
[null,null,{"$f":"ROW()-7","v":1730},null,null,null,null,null,null,null,null,null,null,null,null,null,null,null,null,null,null,null,null,null,null,null,null,null,null,null,null,null,null,null,null,{"$f":"IFERROR(IF(T1737=5,1,IF(MATCH(T1737&\"/\"&V1737,読み替え表_エコドライブ!$P$33:$P$52,0),1,0)),0)","v":0},"*"]
[null,null,1731,null,null,null,null,null,null,null,null,null,null,null,null,null,null,null,null,null,null,null,null,null,null,null,null,null,null,null,null,null,null,null,null,{"$f":"IFERROR(IF(T1738=5,1,IF(MATCH(T1738&\"/\"&V1738,読み替え表_エコドライブ!$P$33:$P$52,0),1,0)),0)","v":0},"*"]
[null,null,1732,null,null,null,null,null,null,null,null,null,null,null,null,null,null,null,null,null,null,null,null,null,null,null,null,null,null,null,null,null,null,null,null,{"$f":"IFERROR(IF(T1739=5,1,IF(MATCH(T1739&\"/\"&V1739,読み替え表_エコドライブ!$P$33:$P$52,0),1,0)),0)","v":0},"*"]
[null,null,1733,null,null,null,null,null,null,null,null,null,null,null,null,null,null,null,null,null,null,null,null,null,null,null,null,null,null,null,null,null,null,null,null,{"$f":"IFERROR(IF(T1740=5,1,IF(MATCH(T1740&\"/\"&V1740,読み替え表_エコドライブ!$P$33:$P$52,0),1,0)),0)","v":0},"*"]
[null,null,1734,null,null,null,null,null,null,null,null,null,null,null,null,null,null,null,null,null,null,null,null,null,null,null,null,null,null,null,null,null,null,null,null,{"$f":"IFERROR(IF(T1741=5,1,IF(MATCH(T1741&\"/\"&V1741,読み替え表_エコドライブ!$P$33:$P$52,0),1,0)),0)","v":0},"*"]
[null,null,1735,null,null,null,null,null,null,null,null,null,null,null,null,null,null,null,null,null,null,null,null,null,null,null,null,null,null,null,null,null,null,null,null,{"$f":"IFERROR(IF(T1742=5,1,IF(MATCH(T1742&\"/\"&V1742,読み替え表_エコドライブ!$P$33:$P$52,0),1,0)),0)","v":0},"*"]
[null,null,1736,null,null,null,null,null,null,null,null,null,null,null,null,null,null,null,null,null,null,null,null,null,null,null,null,null,null,null,null,null,null,null,null,{"$f":"IFERROR(IF(T1743=5,1,IF(MATCH(T1743&\"/\"&V1743,読み替え表_エコドライブ!$P$33:$P$52,0),1,0)),0)","v":0},"*"]
[null,null,1737,null,null,null,null,null,null,null,null,null,null,null,null,null,null,null,null,null,null,null,null,null,null,null,null,null,null,null,null,null,null,null,null,{"$f":"IFERROR(IF(T1744=5,1,IF(MATCH(T1744&\"/\"&V1744,読み替え表_エコドライブ!$P$33:$P$52,0),1,0)),0)","v":0},"*"]
[null,null,1738,null,null,null,null,null,null,null,null,null,null,null,null,null,null,null,null,null,null,null,null,null,null,null,null,null,null,null,null,null,null,null,null,{"$f":"IFERROR(IF(T1745=5,1,IF(MATCH(T1745&\"/\"&V1745,読み替え表_エコドライブ!$P$33:$P$52,0),1,0)),0)","v":0},"*"]
[null,null,1739,null,null,null,null,null,null,null,null,null,null,null,null,null,null,null,null,null,null,null,null,null,null,null,null,null,null,null,null,null,null,null,null,{"$f":"IFERROR(IF(T1746=5,1,IF(MATCH(T1746&\"/\"&V1746,読み替え表_エコドライブ!$P$33:$P$52,0),1,0)),0)","v":0},"*"]
[null,null,1740,null,null,null,null,null,null,null,null,null,null,null,null,null,null,null,null,null,null,null,null,null,null,null,null,null,null,null,null,null,null,null,null,{"$f":"IFERROR(IF(T1747=5,1,IF(MATCH(T1747&\"/\"&V1747,読み替え表_エコドライブ!$P$33:$P$52,0),1,0)),0)","v":0},"*"]
[null,null,1741,null,null,null,null,null,null,null,null,null,null,null,null,null,null,null,null,null,null,null,null,null,null,null,null,null,null,null,null,null,null,null,null,{"$f":"IFERROR(IF(T1748=5,1,IF(MATCH(T1748&\"/\"&V1748,読み替え表_エコドライブ!$P$33:$P$52,0),1,0)),0)","v":0},"*"]
[null,null,1742,null,null,null,null,null,null,null,null,null,null,null,null,null,null,null,null,null,null,null,null,null,null,null,null,null,null,null,null,null,null,null,null,{"$f":"IFERROR(IF(T1749=5,1,IF(MATCH(T1749&\"/\"&V1749,読み替え表_エコドライブ!$P$33:$P$52,0),1,0)),0)","v":0},"*"]
[null,null,1743,null,null,null,null,null,null,null,null,null,null,null,null,null,null,null,null,null,null,null,null,null,null,null,null,null,null,null,null,null,null,null,null,{"$f":"IFERROR(IF(T1750=5,1,IF(MATCH(T1750&\"/\"&V1750,読み替え表_エコドライブ!$P$33:$P$52,0),1,0)),0)","v":0},"*"]
[null,null,1744,null,null,null,null,null,null,null,null,null,null,null,null,null,null,null,null,null,null,null,null,null,null,null,null,null,null,null,null,null,null,null,null,{"$f":"IFERROR(IF(T1751=5,1,IF(MATCH(T1751&\"/\"&V1751,読み替え表_エコドライブ!$P$33:$P$52,0),1,0)),0)","v":0},"*"]
[null,null,1745,null,null,null,null,null,null,null,null,null,null,null,null,null,null,null,null,null,null,null,null,null,null,null,null,null,null,null,null,null,null,null,null,{"$f":"IFERROR(IF(T1752=5,1,IF(MATCH(T1752&\"/\"&V1752,読み替え表_エコドライブ!$P$33:$P$52,0),1,0)),0)","v":0},"*"]
[null,null,1746,null,null,null,null,null,null,null,null,null,null,null,null,null,null,null,null,null,null,null,null,null,null,null,null,null,null,null,null,null,null,null,null,{"$f":"IFERROR(IF(T1753=5,1,IF(MATCH(T1753&\"/\"&V1753,読み替え表_エコドライブ!$P$33:$P$52,0),1,0)),0)","v":0},"*"]
[null,null,1747,null,null,null,null,null,null,null,null,null,null,null,null,null,null,null,null,null,null,null,null,null,null,null,null,null,null,null,null,null,null,null,null,{"$f":"IFERROR(IF(T1754=5,1,IF(MATCH(T1754&\"/\"&V1754,読み替え表_エコドライブ!$P$33:$P$52,0),1,0)),0)","v":0},"*"]
[null,null,1748,null,null,null,null,null,null,null,null,null,null,null,null,null,null,null,null,null,null,null,null,null,null,null,null,null,null,null,null,null,null,null,null,{"$f":"IFERROR(IF(T1755=5,1,IF(MATCH(T1755&\"/\"&V1755,読み替え表_エコドライブ!$P$33:$P$52,0),1,0)),0)","v":0},"*"]
[null,null,1749,null,null,null,null,null,null,null,null,null,null,null,null,null,null,null,null,null,null,null,null,null,null,null,null,null,null,null,null,null,null,null,null,{"$f":"IFERROR(IF(T1756=5,1,IF(MATCH(T1756&\"/\"&V1756,読み替え表_エコドライブ!$P$33:$P$52,0),1,0)),0)","v":0},"*"]
[null,null,1750,null,null,null,null,null,null,null,null,null,null,null,null,null,null,null,null,null,null,null,null,null,null,null,null,null,null,null,null,null,null,null,null,{"$f":"IFERROR(IF(T1757=5,1,IF(MATCH(T1757&\"/\"&V1757,読み替え表_エコドライブ!$P$33:$P$52,0),1,0)),0)","v":0},"*"]
[null,null,1751,null,null,null,null,null,null,null,null,null,null,null,null,null,null,null,null,null,null,null,null,null,null,null,null,null,null,null,null,null,null,null,null,{"$f":"IFERROR(IF(T1758=5,1,IF(MATCH(T1758&\"/\"&V1758,読み替え表_エコドライブ!$P$33:$P$52,0),1,0)),0)","v":0},"*"]
[null,null,1752,null,null,null,null,null,null,null,null,null,null,null,null,null,null,null,null,null,null,null,null,null,null,null,null,null,null,null,null,null,null,null,null,{"$f":"IFERROR(IF(T1759=5,1,IF(MATCH(T1759&\"/\"&V1759,読み替え表_エコドライブ!$P$33:$P$52,0),1,0)),0)","v":0},"*"]
[null,null,1753,null,null,null,null,null,null,null,null,null,null,null,null,null,null,null,null,null,null,null,null,null,null,null,null,null,null,null,null,null,null,null,null,{"$f":"IFERROR(IF(T1760=5,1,IF(MATCH(T1760&\"/\"&V1760,読み替え表_エコドライブ!$P$33:$P$52,0),1,0)),0)","v":0},"*"]
[null,null,1754,null,null,null,null,null,null,null,null,null,null,null,null,null,null,null,null,null,null,null,null,null,null,null,null,null,null,null,null,null,null,null,null,{"$f":"IFERROR(IF(T1761=5,1,IF(MATCH(T1761&\"/\"&V1761,読み替え表_エコドライブ!$P$33:$P$52,0),1,0)),0)","v":0},"*"]
[null,null,1755,null,null,null,null,null,null,null,null,null,null,null,null,null,null,null,null,null,null,null,null,null,null,null,null,null,null,null,null,null,null,null,null,{"$f":"IFERROR(IF(T1762=5,1,IF(MATCH(T1762&\"/\"&V1762,読み替え表_エコドライブ!$P$33:$P$52,0),1,0)),0)","v":0},"*"]
[null,null,1756,null,null,null,null,null,null,null,null,null,null,null,null,null,null,null,null,null,null,null,null,null,null,null,null,null,null,null,null,null,null,null,null,{"$f":"IFERROR(IF(T1763=5,1,IF(MATCH(T1763&\"/\"&V1763,読み替え表_エコドライブ!$P$33:$P$52,0),1,0)),0)","v":0},"*"]
[null,null,1757,null,null,null,null,null,null,null,null,null,null,null,null,null,null,null,null,null,null,null,null,null,null,null,null,null,null,null,null,null,null,null,null,{"$f":"IFERROR(IF(T1764=5,1,IF(MATCH(T1764&\"/\"&V1764,読み替え表_エコドライブ!$P$33:$P$52,0),1,0)),0)","v":0},"*"]
[null,null,1758,null,null,null,null,null,null,null,null,null,null,null,null,null,null,null,null,null,null,null,null,null,null,null,null,null,null,null,null,null,null,null,null,{"$f":"IFERROR(IF(T1765=5,1,IF(MATCH(T1765&\"/\"&V1765,読み替え表_エコドライブ!$P$33:$P$52,0),1,0)),0)","v":0},"*"]
[null,null,1759,null,null,null,null,null,null,null,null,null,null,null,null,null,null,null,null,null,null,null,null,null,null,null,null,null,null,null,null,null,null,null,null,{"$f":"IFERROR(IF(T1766=5,1,IF(MATCH(T1766&\"/\"&V1766,読み替え表_エコドライブ!$P$33:$P$52,0),1,0)),0)","v":0},"*"]
[null,null,1760,null,null,null,null,null,null,null,null,null,null,null,null,null,null,null,null,null,null,null,null,null,null,null,null,null,null,null,null,null,null,null,null,{"$f":"IFERROR(IF(T1767=5,1,IF(MATCH(T1767&\"/\"&V1767,読み替え表_エコドライブ!$P$33:$P$52,0),1,0)),0)","v":0},"*"]
[null,null,1761,null,null,null,null,null,null,null,null,null,null,null,null,null,null,null,null,null,null,null,null,null,null,null,null,null,null,null,null,null,null,null,null,{"$f":"IFERROR(IF(T1768=5,1,IF(MATCH(T1768&\"/\"&V1768,読み替え表_エコドライブ!$P$33:$P$52,0),1,0)),0)","v":0},"*"]
[null,null,1762,null,null,null,null,null,null,null,null,null,null,null,null,null,null,null,null,null,null,null,null,null,null,null,null,null,null,null,null,null,null,null,null,{"$f":"IFERROR(IF(T1769=5,1,IF(MATCH(T1769&\"/\"&V1769,読み替え表_エコドライブ!$P$33:$P$52,0),1,0)),0)","v":0},"*"]
[null,null,1763,null,null,null,null,null,null,null,null,null,null,null,null,null,null,null,null,null,null,null,null,null,null,null,null,null,null,null,null,null,null,null,null,{"$f":"IFERROR(IF(T1770=5,1,IF(MATCH(T1770&\"/\"&V1770,読み替え表_エコドライブ!$P$33:$P$52,0),1,0)),0)","v":0},"*"]
[null,null,1764,null,null,null,null,null,null,null,null,null,null,null,null,null,null,null,null,null,null,null,null,null,null,null,null,null,null,null,null,null,null,null,null,{"$f":"IFERROR(IF(T1771=5,1,IF(MATCH(T1771&\"/\"&V1771,読み替え表_エコドライブ!$P$33:$P$52,0),1,0)),0)","v":0},"*"]
[null,null,1765,null,null,null,null,null,null,null,null,null,null,null,null,null,null,null,null,null,null,null,null,null,null,null,null,null,null,null,null,null,null,null,null,{"$f":"IFERROR(IF(T1772=5,1,IF(MATCH(T1772&\"/\"&V1772,読み替え表_エコドライブ!$P$33:$P$52,0),1,0)),0)","v":0},"*"]
[null,null,1766,null,null,null,null,null,null,null,null,null,null,null,null,null,null,null,null,null,null,null,null,null,null,null,null,null,null,null,null,null,null,null,null,{"$f":"IFERROR(IF(T1773=5,1,IF(MATCH(T1773&\"/\"&V1773,読み替え表_エコドライブ!$P$33:$P$52,0),1,0)),0)","v":0},"*"]
[null,null,1767,null,null,null,null,null,null,null,null,null,null,null,null,null,null,null,null,null,null,null,null,null,null,null,null,null,null,null,null,null,null,null,null,{"$f":"IFERROR(IF(T1774=5,1,IF(MATCH(T1774&\"/\"&V1774,読み替え表_エコドライブ!$P$33:$P$52,0),1,0)),0)","v":0},"*"]
[null,null,1768,null,null,null,null,null,null,null,null,null,null,null,null,null,null,null,null,null,null,null,null,null,null,null,null,null,null,null,null,null,null,null,null,{"$f":"IFERROR(IF(T1775=5,1,IF(MATCH(T1775&\"/\"&V1775,読み替え表_エコドライブ!$P$33:$P$52,0),1,0)),0)","v":0},"*"]
[null,null,1769,null,null,null,null,null,null,null,null,null,null,null,null,null,null,null,null,null,null,null,null,null,null,null,null,null,null,null,null,null,null,null,null,{"$f":"IFERROR(IF(T1776=5,1,IF(MATCH(T1776&\"/\"&V1776,読み替え表_エコドライブ!$P$33:$P$52,0),1,0)),0)","v":0},"*"]
[null,null,1770,null,null,null,null,null,null,null,null,null,null,null,null,null,null,null,null,null,null,null,null,null,null,null,null,null,null,null,null,null,null,null,null,{"$f":"IFERROR(IF(T1777=5,1,IF(MATCH(T1777&\"/\"&V1777,読み替え表_エコドライブ!$P$33:$P$52,0),1,0)),0)","v":0},"*"]
[null,null,1771,null,null,null,null,null,null,null,null,null,null,null,null,null,null,null,null,null,null,null,null,null,null,null,null,null,null,null,null,null,null,null,null,{"$f":"IFERROR(IF(T1778=5,1,IF(MATCH(T1778&\"/\"&V1778,読み替え表_エコドライブ!$P$33:$P$52,0),1,0)),0)","v":0},"*"]
[null,null,1772,null,null,null,null,null,null,null,null,null,null,null,null,null,null,null,null,null,null,null,null,null,null,null,null,null,null,null,null,null,null,null,null,{"$f":"IFERROR(IF(T1779=5,1,IF(MATCH(T1779&\"/\"&V1779,読み替え表_エコドライブ!$P$33:$P$52,0),1,0)),0)","v":0},"*"]
[null,null,1773,null,null,null,null,null,null,null,null,null,null,null,null,null,null,null,null,null,null,null,null,null,null,null,null,null,null,null,null,null,null,null,null,{"$f":"IFERROR(IF(T1780=5,1,IF(MATCH(T1780&\"/\"&V1780,読み替え表_エコドライブ!$P$33:$P$52,0),1,0)),0)","v":0},"*"]
[null,null,1774,null,null,null,null,null,null,null,null,null,null,null,null,null,null,null,null,null,null,null,null,null,null,null,null,null,null,null,null,null,null,null,null,{"$f":"IFERROR(IF(T1781=5,1,IF(MATCH(T1781&\"/\"&V1781,読み替え表_エコドライブ!$P$33:$P$52,0),1,0)),0)","v":0},"*"]
[null,null,1775,null,null,null,null,null,null,null,null,null,null,null,null,null,null,null,null,null,null,null,null,null,null,null,null,null,null,null,null,null,null,null,null,{"$f":"IFERROR(IF(T1782=5,1,IF(MATCH(T1782&\"/\"&V1782,読み替え表_エコドライブ!$P$33:$P$52,0),1,0)),0)","v":0},"*"]
[null,null,1776,null,null,null,null,null,null,null,null,null,null,null,null,null,null,null,null,null,null,null,null,null,null,null,null,null,null,null,null,null,null,null,null,{"$f":"IFERROR(IF(T1783=5,1,IF(MATCH(T1783&\"/\"&V1783,読み替え表_エコドライブ!$P$33:$P$52,0),1,0)),0)","v":0},"*"]
[null,null,1777,null,null,null,null,null,null,null,null,null,null,null,null,null,null,null,null,null,null,null,null,null,null,null,null,null,null,null,null,null,null,null,null,{"$f":"IFERROR(IF(T1784=5,1,IF(MATCH(T1784&\"/\"&V1784,読み替え表_エコドライブ!$P$33:$P$52,0),1,0)),0)","v":0},"*"]
[null,null,1778,null,null,null,null,null,null,null,null,null,null,null,null,null,null,null,null,null,null,null,null,null,null,null,null,null,null,null,null,null,null,null,null,{"$f":"IFERROR(IF(T1785=5,1,IF(MATCH(T1785&\"/\"&V1785,読み替え表_エコドライブ!$P$33:$P$52,0),1,0)),0)","v":0},"*"]
[null,null,1779,null,null,null,null,null,null,null,null,null,null,null,null,null,null,null,null,null,null,null,null,null,null,null,null,null,null,null,null,null,null,null,null,{"$f":"IFERROR(IF(T1786=5,1,IF(MATCH(T1786&\"/\"&V1786,読み替え表_エコドライブ!$P$33:$P$52,0),1,0)),0)","v":0},"*"]
[null,null,1780,null,null,null,null,null,null,null,null,null,null,null,null,null,null,null,null,null,null,null,null,null,null,null,null,null,null,null,null,null,null,null,null,{"$f":"IFERROR(IF(T1787=5,1,IF(MATCH(T1787&\"/\"&V1787,読み替え表_エコドライブ!$P$33:$P$52,0),1,0)),0)","v":0},"*"]
[null,null,1781,null,null,null,null,null,null,null,null,null,null,null,null,null,null,null,null,null,null,null,null,null,null,null,null,null,null,null,null,null,null,null,null,{"$f":"IFERROR(IF(T1788=5,1,IF(MATCH(T1788&\"/\"&V1788,読み替え表_エコドライブ!$P$33:$P$52,0),1,0)),0)","v":0},"*"]
[null,null,1782,null,null,null,null,null,null,null,null,null,null,null,null,null,null,null,null,null,null,null,null,null,null,null,null,null,null,null,null,null,null,null,null,{"$f":"IFERROR(IF(T1789=5,1,IF(MATCH(T1789&\"/\"&V1789,読み替え表_エコドライブ!$P$33:$P$52,0),1,0)),0)","v":0},"*"]
[null,null,1783,null,null,null,null,null,null,null,null,null,null,null,null,null,null,null,null,null,null,null,null,null,null,null,null,null,null,null,null,null,null,null,null,{"$f":"IFERROR(IF(T1790=5,1,IF(MATCH(T1790&\"/\"&V1790,読み替え表_エコドライブ!$P$33:$P$52,0),1,0)),0)","v":0},"*"]
[null,null,1784,null,null,null,null,null,null,null,null,null,null,null,null,null,null,null,null,null,null,null,null,null,null,null,null,null,null,null,null,null,null,null,null,{"$f":"IFERROR(IF(T1791=5,1,IF(MATCH(T1791&\"/\"&V1791,読み替え表_エコドライブ!$P$33:$P$52,0),1,0)),0)","v":0},"*"]
[null,null,1785,null,null,null,null,null,null,null,null,null,null,null,null,null,null,null,null,null,null,null,null,null,null,null,null,null,null,null,null,null,null,null,null,{"$f":"IFERROR(IF(T1792=5,1,IF(MATCH(T1792&\"/\"&V1792,読み替え表_エコドライブ!$P$33:$P$52,0),1,0)),0)","v":0},"*"]
[null,null,1786,null,null,null,null,null,null,null,null,null,null,null,null,null,null,null,null,null,null,null,null,null,null,null,null,null,null,null,null,null,null,null,null,{"$f":"IFERROR(IF(T1793=5,1,IF(MATCH(T1793&\"/\"&V1793,読み替え表_エコドライブ!$P$33:$P$52,0),1,0)),0)","v":0},"*"]
[null,null,1787,null,null,null,null,null,null,null,null,null,null,null,null,null,null,null,null,null,null,null,null,null,null,null,null,null,null,null,null,null,null,null,null,{"$f":"IFERROR(IF(T1794=5,1,IF(MATCH(T1794&\"/\"&V1794,読み替え表_エコドライブ!$P$33:$P$52,0),1,0)),0)","v":0},"*"]
[null,null,1788,null,null,null,null,null,null,null,null,null,null,null,null,null,null,null,null,null,null,null,null,null,null,null,null,null,null,null,null,null,null,null,null,{"$f":"IFERROR(IF(T1795=5,1,IF(MATCH(T1795&\"/\"&V1795,読み替え表_エコドライブ!$P$33:$P$52,0),1,0)),0)","v":0},"*"]
[null,null,1789,null,null,null,null,null,null,null,null,null,null,null,null,null,null,null,null,null,null,null,null,null,null,null,null,null,null,null,null,null,null,null,null,{"$f":"IFERROR(IF(T1796=5,1,IF(MATCH(T1796&\"/\"&V1796,読み替え表_エコドライブ!$P$33:$P$52,0),1,0)),0)","v":0},"*"]
[null,null,1790,null,null,null,null,null,null,null,null,null,null,null,null,null,null,null,null,null,null,null,null,null,null,null,null,null,null,null,null,null,null,null,null,{"$f":"IFERROR(IF(T1797=5,1,IF(MATCH(T1797&\"/\"&V1797,読み替え表_エコドライブ!$P$33:$P$52,0),1,0)),0)","v":0},"*"]
[null,null,1791,null,null,null,null,null,null,null,null,null,null,null,null,null,null,null,null,null,null,null,null,null,null,null,null,null,null,null,null,null,null,null,null,{"$f":"IFERROR(IF(T1798=5,1,IF(MATCH(T1798&\"/\"&V1798,読み替え表_エコドライブ!$P$33:$P$52,0),1,0)),0)","v":0},"*"]
[null,null,1792,null,null,null,null,null,null,null,null,null,null,null,null,null,null,null,null,null,null,null,null,null,null,null,null,null,null,null,null,null,null,null,null,{"$f":"IFERROR(IF(T1799=5,1,IF(MATCH(T1799&\"/\"&V1799,読み替え表_エコドライブ!$P$33:$P$52,0),1,0)),0)","v":0},"*"]
[null,null,1793,null,null,null,null,null,null,null,null,null,null,null,null,null,null,null,null,null,null,null,null,null,null,null,null,null,null,null,null,null,null,null,null,{"$f":"IFERROR(IF(T1800=5,1,IF(MATCH(T1800&\"/\"&V1800,読み替え表_エコドライブ!$P$33:$P$52,0),1,0)),0)","v":0},"*"]
[null,null,{"$f":"ROW()-7","v":1794},null,null,null,null,null,null,null,null,null,null,null,null,null,null,null,null,null,null,null,null,null,null,null,null,null,null,null,null,null,null,null,null,{"$f":"IFERROR(IF(T1801=5,1,IF(MATCH(T1801&\"/\"&V1801,読み替え表_エコドライブ!$P$33:$P$52,0),1,0)),0)","v":0},"*"]
[null,null,1795,null,null,null,null,null,null,null,null,null,null,null,null,null,null,null,null,null,null,null,null,null,null,null,null,null,null,null,null,null,null,null,null,{"$f":"IFERROR(IF(T1802=5,1,IF(MATCH(T1802&\"/\"&V1802,読み替え表_エコドライブ!$P$33:$P$52,0),1,0)),0)","v":0},"*"]
[null,null,1796,null,null,null,null,null,null,null,null,null,null,null,null,null,null,null,null,null,null,null,null,null,null,null,null,null,null,null,null,null,null,null,null,{"$f":"IFERROR(IF(T1803=5,1,IF(MATCH(T1803&\"/\"&V1803,読み替え表_エコドライブ!$P$33:$P$52,0),1,0)),0)","v":0},"*"]
[null,null,1797,null,null,null,null,null,null,null,null,null,null,null,null,null,null,null,null,null,null,null,null,null,null,null,null,null,null,null,null,null,null,null,null,{"$f":"IFERROR(IF(T1804=5,1,IF(MATCH(T1804&\"/\"&V1804,読み替え表_エコドライブ!$P$33:$P$52,0),1,0)),0)","v":0},"*"]
[null,null,1798,null,null,null,null,null,null,null,null,null,null,null,null,null,null,null,null,null,null,null,null,null,null,null,null,null,null,null,null,null,null,null,null,{"$f":"IFERROR(IF(T1805=5,1,IF(MATCH(T1805&\"/\"&V1805,読み替え表_エコドライブ!$P$33:$P$52,0),1,0)),0)","v":0},"*"]
[null,null,1799,null,null,null,null,null,null,null,null,null,null,null,null,null,null,null,null,null,null,null,null,null,null,null,null,null,null,null,null,null,null,null,null,{"$f":"IFERROR(IF(T1806=5,1,IF(MATCH(T1806&\"/\"&V1806,読み替え表_エコドライブ!$P$33:$P$52,0),1,0)),0)","v":0},"*"]
[null,null,1800,null,null,null,null,null,null,null,null,null,null,null,null,null,null,null,null,null,null,null,null,null,null,null,null,null,null,null,null,null,null,null,null,{"$f":"IFERROR(IF(T1807=5,1,IF(MATCH(T1807&\"/\"&V1807,読み替え表_エコドライブ!$P$33:$P$52,0),1,0)),0)","v":0},"*"]
[null,null,1801,null,null,null,null,null,null,null,null,null,null,null,null,null,null,null,null,null,null,null,null,null,null,null,null,null,null,null,null,null,null,null,null,{"$f":"IFERROR(IF(T1808=5,1,IF(MATCH(T1808&\"/\"&V1808,読み替え表_エコドライブ!$P$33:$P$52,0),1,0)),0)","v":0},"*"]
[null,null,1802,null,null,null,null,null,null,null,null,null,null,null,null,null,null,null,null,null,null,null,null,null,null,null,null,null,null,null,null,null,null,null,null,{"$f":"IFERROR(IF(T1809=5,1,IF(MATCH(T1809&\"/\"&V1809,読み替え表_エコドライブ!$P$33:$P$52,0),1,0)),0)","v":0},"*"]
[null,null,1803,null,null,null,null,null,null,null,null,null,null,null,null,null,null,null,null,null,null,null,null,null,null,null,null,null,null,null,null,null,null,null,null,{"$f":"IFERROR(IF(T1810=5,1,IF(MATCH(T1810&\"/\"&V1810,読み替え表_エコドライブ!$P$33:$P$52,0),1,0)),0)","v":0},"*"]
[null,null,1804,null,null,null,null,null,null,null,null,null,null,null,null,null,null,null,null,null,null,null,null,null,null,null,null,null,null,null,null,null,null,null,null,{"$f":"IFERROR(IF(T1811=5,1,IF(MATCH(T1811&\"/\"&V1811,読み替え表_エコドライブ!$P$33:$P$52,0),1,0)),0)","v":0},"*"]
[null,null,1805,null,null,null,null,null,null,null,null,null,null,null,null,null,null,null,null,null,null,null,null,null,null,null,null,null,null,null,null,null,null,null,null,{"$f":"IFERROR(IF(T1812=5,1,IF(MATCH(T1812&\"/\"&V1812,読み替え表_エコドライブ!$P$33:$P$52,0),1,0)),0)","v":0},"*"]
[null,null,1806,null,null,null,null,null,null,null,null,null,null,null,null,null,null,null,null,null,null,null,null,null,null,null,null,null,null,null,null,null,null,null,null,{"$f":"IFERROR(IF(T1813=5,1,IF(MATCH(T1813&\"/\"&V1813,読み替え表_エコドライブ!$P$33:$P$52,0),1,0)),0)","v":0},"*"]
[null,null,1807,null,null,null,null,null,null,null,null,null,null,null,null,null,null,null,null,null,null,null,null,null,null,null,null,null,null,null,null,null,null,null,null,{"$f":"IFERROR(IF(T1814=5,1,IF(MATCH(T1814&\"/\"&V1814,読み替え表_エコドライブ!$P$33:$P$52,0),1,0)),0)","v":0},"*"]
[null,null,1808,null,null,null,null,null,null,null,null,null,null,null,null,null,null,null,null,null,null,null,null,null,null,null,null,null,null,null,null,null,null,null,null,{"$f":"IFERROR(IF(T1815=5,1,IF(MATCH(T1815&\"/\"&V1815,読み替え表_エコドライブ!$P$33:$P$52,0),1,0)),0)","v":0},"*"]
[null,null,1809,null,null,null,null,null,null,null,null,null,null,null,null,null,null,null,null,null,null,null,null,null,null,null,null,null,null,null,null,null,null,null,null,{"$f":"IFERROR(IF(T1816=5,1,IF(MATCH(T1816&\"/\"&V1816,読み替え表_エコドライブ!$P$33:$P$52,0),1,0)),0)","v":0},"*"]
[null,null,1810,null,null,null,null,null,null,null,null,null,null,null,null,null,null,null,null,null,null,null,null,null,null,null,null,null,null,null,null,null,null,null,null,{"$f":"IFERROR(IF(T1817=5,1,IF(MATCH(T1817&\"/\"&V1817,読み替え表_エコドライブ!$P$33:$P$52,0),1,0)),0)","v":0},"*"]
[null,null,1811,null,null,null,null,null,null,null,null,null,null,null,null,null,null,null,null,null,null,null,null,null,null,null,null,null,null,null,null,null,null,null,null,{"$f":"IFERROR(IF(T1818=5,1,IF(MATCH(T1818&\"/\"&V1818,読み替え表_エコドライブ!$P$33:$P$52,0),1,0)),0)","v":0},"*"]
[null,null,1812,null,null,null,null,null,null,null,null,null,null,null,null,null,null,null,null,null,null,null,null,null,null,null,null,null,null,null,null,null,null,null,null,{"$f":"IFERROR(IF(T1819=5,1,IF(MATCH(T1819&\"/\"&V1819,読み替え表_エコドライブ!$P$33:$P$52,0),1,0)),0)","v":0},"*"]
[null,null,1813,null,null,null,null,null,null,null,null,null,null,null,null,null,null,null,null,null,null,null,null,null,null,null,null,null,null,null,null,null,null,null,null,{"$f":"IFERROR(IF(T1820=5,1,IF(MATCH(T1820&\"/\"&V1820,読み替え表_エコドライブ!$P$33:$P$52,0),1,0)),0)","v":0},"*"]
[null,null,1814,null,null,null,null,null,null,null,null,null,null,null,null,null,null,null,null,null,null,null,null,null,null,null,null,null,null,null,null,null,null,null,null,{"$f":"IFERROR(IF(T1821=5,1,IF(MATCH(T1821&\"/\"&V1821,読み替え表_エコドライブ!$P$33:$P$52,0),1,0)),0)","v":0},"*"]
[null,null,1815,null,null,null,null,null,null,null,null,null,null,null,null,null,null,null,null,null,null,null,null,null,null,null,null,null,null,null,null,null,null,null,null,{"$f":"IFERROR(IF(T1822=5,1,IF(MATCH(T1822&\"/\"&V1822,読み替え表_エコドライブ!$P$33:$P$52,0),1,0)),0)","v":0},"*"]
[null,null,1816,null,null,null,null,null,null,null,null,null,null,null,null,null,null,null,null,null,null,null,null,null,null,null,null,null,null,null,null,null,null,null,null,{"$f":"IFERROR(IF(T1823=5,1,IF(MATCH(T1823&\"/\"&V1823,読み替え表_エコドライブ!$P$33:$P$52,0),1,0)),0)","v":0},"*"]
[null,null,1817,null,null,null,null,null,null,null,null,null,null,null,null,null,null,null,null,null,null,null,null,null,null,null,null,null,null,null,null,null,null,null,null,{"$f":"IFERROR(IF(T1824=5,1,IF(MATCH(T1824&\"/\"&V1824,読み替え表_エコドライブ!$P$33:$P$52,0),1,0)),0)","v":0},"*"]
[null,null,1818,null,null,null,null,null,null,null,null,null,null,null,null,null,null,null,null,null,null,null,null,null,null,null,null,null,null,null,null,null,null,null,null,{"$f":"IFERROR(IF(T1825=5,1,IF(MATCH(T1825&\"/\"&V1825,読み替え表_エコドライブ!$P$33:$P$52,0),1,0)),0)","v":0},"*"]
[null,null,1819,null,null,null,null,null,null,null,null,null,null,null,null,null,null,null,null,null,null,null,null,null,null,null,null,null,null,null,null,null,null,null,null,{"$f":"IFERROR(IF(T1826=5,1,IF(MATCH(T1826&\"/\"&V1826,読み替え表_エコドライブ!$P$33:$P$52,0),1,0)),0)","v":0},"*"]
[null,null,1820,null,null,null,null,null,null,null,null,null,null,null,null,null,null,null,null,null,null,null,null,null,null,null,null,null,null,null,null,null,null,null,null,{"$f":"IFERROR(IF(T1827=5,1,IF(MATCH(T1827&\"/\"&V1827,読み替え表_エコドライブ!$P$33:$P$52,0),1,0)),0)","v":0},"*"]
[null,null,1821,null,null,null,null,null,null,null,null,null,null,null,null,null,null,null,null,null,null,null,null,null,null,null,null,null,null,null,null,null,null,null,null,{"$f":"IFERROR(IF(T1828=5,1,IF(MATCH(T1828&\"/\"&V1828,読み替え表_エコドライブ!$P$33:$P$52,0),1,0)),0)","v":0},"*"]
[null,null,1822,null,null,null,null,null,null,null,null,null,null,null,null,null,null,null,null,null,null,null,null,null,null,null,null,null,null,null,null,null,null,null,null,{"$f":"IFERROR(IF(T1829=5,1,IF(MATCH(T1829&\"/\"&V1829,読み替え表_エコドライブ!$P$33:$P$52,0),1,0)),0)","v":0},"*"]
[null,null,1823,null,null,null,null,null,null,null,null,null,null,null,null,null,null,null,null,null,null,null,null,null,null,null,null,null,null,null,null,null,null,null,null,{"$f":"IFERROR(IF(T1830=5,1,IF(MATCH(T1830&\"/\"&V1830,読み替え表_エコドライブ!$P$33:$P$52,0),1,0)),0)","v":0},"*"]
[null,null,1824,null,null,null,null,null,null,null,null,null,null,null,null,null,null,null,null,null,null,null,null,null,null,null,null,null,null,null,null,null,null,null,null,{"$f":"IFERROR(IF(T1831=5,1,IF(MATCH(T1831&\"/\"&V1831,読み替え表_エコドライブ!$P$33:$P$52,0),1,0)),0)","v":0},"*"]
[null,null,1825,null,null,null,null,null,null,null,null,null,null,null,null,null,null,null,null,null,null,null,null,null,null,null,null,null,null,null,null,null,null,null,null,{"$f":"IFERROR(IF(T1832=5,1,IF(MATCH(T1832&\"/\"&V1832,読み替え表_エコドライブ!$P$33:$P$52,0),1,0)),0)","v":0},"*"]
[null,null,1826,null,null,null,null,null,null,null,null,null,null,null,null,null,null,null,null,null,null,null,null,null,null,null,null,null,null,null,null,null,null,null,null,{"$f":"IFERROR(IF(T1833=5,1,IF(MATCH(T1833&\"/\"&V1833,読み替え表_エコドライブ!$P$33:$P$52,0),1,0)),0)","v":0},"*"]
[null,null,1827,null,null,null,null,null,null,null,null,null,null,null,null,null,null,null,null,null,null,null,null,null,null,null,null,null,null,null,null,null,null,null,null,{"$f":"IFERROR(IF(T1834=5,1,IF(MATCH(T1834&\"/\"&V1834,読み替え表_エコドライブ!$P$33:$P$52,0),1,0)),0)","v":0},"*"]
[null,null,1828,null,null,null,null,null,null,null,null,null,null,null,null,null,null,null,null,null,null,null,null,null,null,null,null,null,null,null,null,null,null,null,null,{"$f":"IFERROR(IF(T1835=5,1,IF(MATCH(T1835&\"/\"&V1835,読み替え表_エコドライブ!$P$33:$P$52,0),1,0)),0)","v":0},"*"]
[null,null,1829,null,null,null,null,null,null,null,null,null,null,null,null,null,null,null,null,null,null,null,null,null,null,null,null,null,null,null,null,null,null,null,null,{"$f":"IFERROR(IF(T1836=5,1,IF(MATCH(T1836&\"/\"&V1836,読み替え表_エコドライブ!$P$33:$P$52,0),1,0)),0)","v":0},"*"]
[null,null,1830,null,null,null,null,null,null,null,null,null,null,null,null,null,null,null,null,null,null,null,null,null,null,null,null,null,null,null,null,null,null,null,null,{"$f":"IFERROR(IF(T1837=5,1,IF(MATCH(T1837&\"/\"&V1837,読み替え表_エコドライブ!$P$33:$P$52,0),1,0)),0)","v":0},"*"]
[null,null,1831,null,null,null,null,null,null,null,null,null,null,null,null,null,null,null,null,null,null,null,null,null,null,null,null,null,null,null,null,null,null,null,null,{"$f":"IFERROR(IF(T1838=5,1,IF(MATCH(T1838&\"/\"&V1838,読み替え表_エコドライブ!$P$33:$P$52,0),1,0)),0)","v":0},"*"]
[null,null,1832,null,null,null,null,null,null,null,null,null,null,null,null,null,null,null,null,null,null,null,null,null,null,null,null,null,null,null,null,null,null,null,null,{"$f":"IFERROR(IF(T1839=5,1,IF(MATCH(T1839&\"/\"&V1839,読み替え表_エコドライブ!$P$33:$P$52,0),1,0)),0)","v":0},"*"]
[null,null,1833,null,null,null,null,null,null,null,null,null,null,null,null,null,null,null,null,null,null,null,null,null,null,null,null,null,null,null,null,null,null,null,null,{"$f":"IFERROR(IF(T1840=5,1,IF(MATCH(T1840&\"/\"&V1840,読み替え表_エコドライブ!$P$33:$P$52,0),1,0)),0)","v":0},"*"]
[null,null,1834,null,null,null,null,null,null,null,null,null,null,null,null,null,null,null,null,null,null,null,null,null,null,null,null,null,null,null,null,null,null,null,null,{"$f":"IFERROR(IF(T1841=5,1,IF(MATCH(T1841&\"/\"&V1841,読み替え表_エコドライブ!$P$33:$P$52,0),1,0)),0)","v":0},"*"]
[null,null,1835,null,null,null,null,null,null,null,null,null,null,null,null,null,null,null,null,null,null,null,null,null,null,null,null,null,null,null,null,null,null,null,null,{"$f":"IFERROR(IF(T1842=5,1,IF(MATCH(T1842&\"/\"&V1842,読み替え表_エコドライブ!$P$33:$P$52,0),1,0)),0)","v":0},"*"]
[null,null,1836,null,null,null,null,null,null,null,null,null,null,null,null,null,null,null,null,null,null,null,null,null,null,null,null,null,null,null,null,null,null,null,null,{"$f":"IFERROR(IF(T1843=5,1,IF(MATCH(T1843&\"/\"&V1843,読み替え表_エコドライブ!$P$33:$P$52,0),1,0)),0)","v":0},"*"]
[null,null,1837,null,null,null,null,null,null,null,null,null,null,null,null,null,null,null,null,null,null,null,null,null,null,null,null,null,null,null,null,null,null,null,null,{"$f":"IFERROR(IF(T1844=5,1,IF(MATCH(T1844&\"/\"&V1844,読み替え表_エコドライブ!$P$33:$P$52,0),1,0)),0)","v":0},"*"]
[null,null,1838,null,null,null,null,null,null,null,null,null,null,null,null,null,null,null,null,null,null,null,null,null,null,null,null,null,null,null,null,null,null,null,null,{"$f":"IFERROR(IF(T1845=5,1,IF(MATCH(T1845&\"/\"&V1845,読み替え表_エコドライブ!$P$33:$P$52,0),1,0)),0)","v":0},"*"]
[null,null,1839,null,null,null,null,null,null,null,null,null,null,null,null,null,null,null,null,null,null,null,null,null,null,null,null,null,null,null,null,null,null,null,null,{"$f":"IFERROR(IF(T1846=5,1,IF(MATCH(T1846&\"/\"&V1846,読み替え表_エコドライブ!$P$33:$P$52,0),1,0)),0)","v":0},"*"]
[null,null,1840,null,null,null,null,null,null,null,null,null,null,null,null,null,null,null,null,null,null,null,null,null,null,null,null,null,null,null,null,null,null,null,null,{"$f":"IFERROR(IF(T1847=5,1,IF(MATCH(T1847&\"/\"&V1847,読み替え表_エコドライブ!$P$33:$P$52,0),1,0)),0)","v":0},"*"]
[null,null,1841,null,null,null,null,null,null,null,null,null,null,null,null,null,null,null,null,null,null,null,null,null,null,null,null,null,null,null,null,null,null,null,null,{"$f":"IFERROR(IF(T1848=5,1,IF(MATCH(T1848&\"/\"&V1848,読み替え表_エコドライブ!$P$33:$P$52,0),1,0)),0)","v":0},"*"]
[null,null,1842,null,null,null,null,null,null,null,null,null,null,null,null,null,null,null,null,null,null,null,null,null,null,null,null,null,null,null,null,null,null,null,null,{"$f":"IFERROR(IF(T1849=5,1,IF(MATCH(T1849&\"/\"&V1849,読み替え表_エコドライブ!$P$33:$P$52,0),1,0)),0)","v":0},"*"]
[null,null,1843,null,null,null,null,null,null,null,null,null,null,null,null,null,null,null,null,null,null,null,null,null,null,null,null,null,null,null,null,null,null,null,null,{"$f":"IFERROR(IF(T1850=5,1,IF(MATCH(T1850&\"/\"&V1850,読み替え表_エコドライブ!$P$33:$P$52,0),1,0)),0)","v":0},"*"]
[null,null,1844,null,null,null,null,null,null,null,null,null,null,null,null,null,null,null,null,null,null,null,null,null,null,null,null,null,null,null,null,null,null,null,null,{"$f":"IFERROR(IF(T1851=5,1,IF(MATCH(T1851&\"/\"&V1851,読み替え表_エコドライブ!$P$33:$P$52,0),1,0)),0)","v":0},"*"]
[null,null,1845,null,null,null,null,null,null,null,null,null,null,null,null,null,null,null,null,null,null,null,null,null,null,null,null,null,null,null,null,null,null,null,null,{"$f":"IFERROR(IF(T1852=5,1,IF(MATCH(T1852&\"/\"&V1852,読み替え表_エコドライブ!$P$33:$P$52,0),1,0)),0)","v":0},"*"]
[null,null,1846,null,null,null,null,null,null,null,null,null,null,null,null,null,null,null,null,null,null,null,null,null,null,null,null,null,null,null,null,null,null,null,null,{"$f":"IFERROR(IF(T1853=5,1,IF(MATCH(T1853&\"/\"&V1853,読み替え表_エコドライブ!$P$33:$P$52,0),1,0)),0)","v":0},"*"]
[null,null,1847,null,null,null,null,null,null,null,null,null,null,null,null,null,null,null,null,null,null,null,null,null,null,null,null,null,null,null,null,null,null,null,null,{"$f":"IFERROR(IF(T1854=5,1,IF(MATCH(T1854&\"/\"&V1854,読み替え表_エコドライブ!$P$33:$P$52,0),1,0)),0)","v":0},"*"]
[null,null,1848,null,null,null,null,null,null,null,null,null,null,null,null,null,null,null,null,null,null,null,null,null,null,null,null,null,null,null,null,null,null,null,null,{"$f":"IFERROR(IF(T1855=5,1,IF(MATCH(T1855&\"/\"&V1855,読み替え表_エコドライブ!$P$33:$P$52,0),1,0)),0)","v":0},"*"]
[null,null,1849,null,null,null,null,null,null,null,null,null,null,null,null,null,null,null,null,null,null,null,null,null,null,null,null,null,null,null,null,null,null,null,null,{"$f":"IFERROR(IF(T1856=5,1,IF(MATCH(T1856&\"/\"&V1856,読み替え表_エコドライブ!$P$33:$P$52,0),1,0)),0)","v":0},"*"]
[null,null,1850,null,null,null,null,null,null,null,null,null,null,null,null,null,null,null,null,null,null,null,null,null,null,null,null,null,null,null,null,null,null,null,null,{"$f":"IFERROR(IF(T1857=5,1,IF(MATCH(T1857&\"/\"&V1857,読み替え表_エコドライブ!$P$33:$P$52,0),1,0)),0)","v":0},"*"]
[null,null,1851,null,null,null,null,null,null,null,null,null,null,null,null,null,null,null,null,null,null,null,null,null,null,null,null,null,null,null,null,null,null,null,null,{"$f":"IFERROR(IF(T1858=5,1,IF(MATCH(T1858&\"/\"&V1858,読み替え表_エコドライブ!$P$33:$P$52,0),1,0)),0)","v":0},"*"]
[null,null,1852,null,null,null,null,null,null,null,null,null,null,null,null,null,null,null,null,null,null,null,null,null,null,null,null,null,null,null,null,null,null,null,null,{"$f":"IFERROR(IF(T1859=5,1,IF(MATCH(T1859&\"/\"&V1859,読み替え表_エコドライブ!$P$33:$P$52,0),1,0)),0)","v":0},"*"]
[null,null,1853,null,null,null,null,null,null,null,null,null,null,null,null,null,null,null,null,null,null,null,null,null,null,null,null,null,null,null,null,null,null,null,null,{"$f":"IFERROR(IF(T1860=5,1,IF(MATCH(T1860&\"/\"&V1860,読み替え表_エコドライブ!$P$33:$P$52,0),1,0)),0)","v":0},"*"]
[null,null,1854,null,null,null,null,null,null,null,null,null,null,null,null,null,null,null,null,null,null,null,null,null,null,null,null,null,null,null,null,null,null,null,null,{"$f":"IFERROR(IF(T1861=5,1,IF(MATCH(T1861&\"/\"&V1861,読み替え表_エコドライブ!$P$33:$P$52,0),1,0)),0)","v":0},"*"]
[null,null,1855,null,null,null,null,null,null,null,null,null,null,null,null,null,null,null,null,null,null,null,null,null,null,null,null,null,null,null,null,null,null,null,null,{"$f":"IFERROR(IF(T1862=5,1,IF(MATCH(T1862&\"/\"&V1862,読み替え表_エコドライブ!$P$33:$P$52,0),1,0)),0)","v":0},"*"]
[null,null,1856,null,null,null,null,null,null,null,null,null,null,null,null,null,null,null,null,null,null,null,null,null,null,null,null,null,null,null,null,null,null,null,null,{"$f":"IFERROR(IF(T1863=5,1,IF(MATCH(T1863&\"/\"&V1863,読み替え表_エコドライブ!$P$33:$P$52,0),1,0)),0)","v":0},"*"]
[null,null,1857,null,null,null,null,null,null,null,null,null,null,null,null,null,null,null,null,null,null,null,null,null,null,null,null,null,null,null,null,null,null,null,null,{"$f":"IFERROR(IF(T1864=5,1,IF(MATCH(T1864&\"/\"&V1864,読み替え表_エコドライブ!$P$33:$P$52,0),1,0)),0)","v":0},"*"]
[null,null,{"$f":"ROW()-7","v":1858},null,null,null,null,null,null,null,null,null,null,null,null,null,null,null,null,null,null,null,null,null,null,null,null,null,null,null,null,null,null,null,null,{"$f":"IFERROR(IF(T1865=5,1,IF(MATCH(T1865&\"/\"&V1865,読み替え表_エコドライブ!$P$33:$P$52,0),1,0)),0)","v":0},"*"]
[null,null,1859,null,null,null,null,null,null,null,null,null,null,null,null,null,null,null,null,null,null,null,null,null,null,null,null,null,null,null,null,null,null,null,null,{"$f":"IFERROR(IF(T1866=5,1,IF(MATCH(T1866&\"/\"&V1866,読み替え表_エコドライブ!$P$33:$P$52,0),1,0)),0)","v":0},"*"]
[null,null,1860,null,null,null,null,null,null,null,null,null,null,null,null,null,null,null,null,null,null,null,null,null,null,null,null,null,null,null,null,null,null,null,null,{"$f":"IFERROR(IF(T1867=5,1,IF(MATCH(T1867&\"/\"&V1867,読み替え表_エコドライブ!$P$33:$P$52,0),1,0)),0)","v":0},"*"]
[null,null,1861,null,null,null,null,null,null,null,null,null,null,null,null,null,null,null,null,null,null,null,null,null,null,null,null,null,null,null,null,null,null,null,null,{"$f":"IFERROR(IF(T1868=5,1,IF(MATCH(T1868&\"/\"&V1868,読み替え表_エコドライブ!$P$33:$P$52,0),1,0)),0)","v":0},"*"]
[null,null,1862,null,null,null,null,null,null,null,null,null,null,null,null,null,null,null,null,null,null,null,null,null,null,null,null,null,null,null,null,null,null,null,null,{"$f":"IFERROR(IF(T1869=5,1,IF(MATCH(T1869&\"/\"&V1869,読み替え表_エコドライブ!$P$33:$P$52,0),1,0)),0)","v":0},"*"]
[null,null,1863,null,null,null,null,null,null,null,null,null,null,null,null,null,null,null,null,null,null,null,null,null,null,null,null,null,null,null,null,null,null,null,null,{"$f":"IFERROR(IF(T1870=5,1,IF(MATCH(T1870&\"/\"&V1870,読み替え表_エコドライブ!$P$33:$P$52,0),1,0)),0)","v":0},"*"]
[null,null,1864,null,null,null,null,null,null,null,null,null,null,null,null,null,null,null,null,null,null,null,null,null,null,null,null,null,null,null,null,null,null,null,null,{"$f":"IFERROR(IF(T1871=5,1,IF(MATCH(T1871&\"/\"&V1871,読み替え表_エコドライブ!$P$33:$P$52,0),1,0)),0)","v":0},"*"]
[null,null,1865,null,null,null,null,null,null,null,null,null,null,null,null,null,null,null,null,null,null,null,null,null,null,null,null,null,null,null,null,null,null,null,null,{"$f":"IFERROR(IF(T1872=5,1,IF(MATCH(T1872&\"/\"&V1872,読み替え表_エコドライブ!$P$33:$P$52,0),1,0)),0)","v":0},"*"]
[null,null,1866,null,null,null,null,null,null,null,null,null,null,null,null,null,null,null,null,null,null,null,null,null,null,null,null,null,null,null,null,null,null,null,null,{"$f":"IFERROR(IF(T1873=5,1,IF(MATCH(T1873&\"/\"&V1873,読み替え表_エコドライブ!$P$33:$P$52,0),1,0)),0)","v":0},"*"]
[null,null,1867,null,null,null,null,null,null,null,null,null,null,null,null,null,null,null,null,null,null,null,null,null,null,null,null,null,null,null,null,null,null,null,null,{"$f":"IFERROR(IF(T1874=5,1,IF(MATCH(T1874&\"/\"&V1874,読み替え表_エコドライブ!$P$33:$P$52,0),1,0)),0)","v":0},"*"]
[null,null,1868,null,null,null,null,null,null,null,null,null,null,null,null,null,null,null,null,null,null,null,null,null,null,null,null,null,null,null,null,null,null,null,null,{"$f":"IFERROR(IF(T1875=5,1,IF(MATCH(T1875&\"/\"&V1875,読み替え表_エコドライブ!$P$33:$P$52,0),1,0)),0)","v":0},"*"]
[null,null,1869,null,null,null,null,null,null,null,null,null,null,null,null,null,null,null,null,null,null,null,null,null,null,null,null,null,null,null,null,null,null,null,null,{"$f":"IFERROR(IF(T1876=5,1,IF(MATCH(T1876&\"/\"&V1876,読み替え表_エコドライブ!$P$33:$P$52,0),1,0)),0)","v":0},"*"]
[null,null,1870,null,null,null,null,null,null,null,null,null,null,null,null,null,null,null,null,null,null,null,null,null,null,null,null,null,null,null,null,null,null,null,null,{"$f":"IFERROR(IF(T1877=5,1,IF(MATCH(T1877&\"/\"&V1877,読み替え表_エコドライブ!$P$33:$P$52,0),1,0)),0)","v":0},"*"]
[null,null,1871,null,null,null,null,null,null,null,null,null,null,null,null,null,null,null,null,null,null,null,null,null,null,null,null,null,null,null,null,null,null,null,null,{"$f":"IFERROR(IF(T1878=5,1,IF(MATCH(T1878&\"/\"&V1878,読み替え表_エコドライブ!$P$33:$P$52,0),1,0)),0)","v":0},"*"]
[null,null,1872,null,null,null,null,null,null,null,null,null,null,null,null,null,null,null,null,null,null,null,null,null,null,null,null,null,null,null,null,null,null,null,null,{"$f":"IFERROR(IF(T1879=5,1,IF(MATCH(T1879&\"/\"&V1879,読み替え表_エコドライブ!$P$33:$P$52,0),1,0)),0)","v":0},"*"]
[null,null,1873,null,null,null,null,null,null,null,null,null,null,null,null,null,null,null,null,null,null,null,null,null,null,null,null,null,null,null,null,null,null,null,null,{"$f":"IFERROR(IF(T1880=5,1,IF(MATCH(T1880&\"/\"&V1880,読み替え表_エコドライブ!$P$33:$P$52,0),1,0)),0)","v":0},"*"]
[null,null,1874,null,null,null,null,null,null,null,null,null,null,null,null,null,null,null,null,null,null,null,null,null,null,null,null,null,null,null,null,null,null,null,null,{"$f":"IFERROR(IF(T1881=5,1,IF(MATCH(T1881&\"/\"&V1881,読み替え表_エコドライブ!$P$33:$P$52,0),1,0)),0)","v":0},"*"]
[null,null,1875,null,null,null,null,null,null,null,null,null,null,null,null,null,null,null,null,null,null,null,null,null,null,null,null,null,null,null,null,null,null,null,null,{"$f":"IFERROR(IF(T1882=5,1,IF(MATCH(T1882&\"/\"&V1882,読み替え表_エコドライブ!$P$33:$P$52,0),1,0)),0)","v":0},"*"]
[null,null,1876,null,null,null,null,null,null,null,null,null,null,null,null,null,null,null,null,null,null,null,null,null,null,null,null,null,null,null,null,null,null,null,null,{"$f":"IFERROR(IF(T1883=5,1,IF(MATCH(T1883&\"/\"&V1883,読み替え表_エコドライブ!$P$33:$P$52,0),1,0)),0)","v":0},"*"]
[null,null,1877,null,null,null,null,null,null,null,null,null,null,null,null,null,null,null,null,null,null,null,null,null,null,null,null,null,null,null,null,null,null,null,null,{"$f":"IFERROR(IF(T1884=5,1,IF(MATCH(T1884&\"/\"&V1884,読み替え表_エコドライブ!$P$33:$P$52,0),1,0)),0)","v":0},"*"]
[null,null,1878,null,null,null,null,null,null,null,null,null,null,null,null,null,null,null,null,null,null,null,null,null,null,null,null,null,null,null,null,null,null,null,null,{"$f":"IFERROR(IF(T1885=5,1,IF(MATCH(T1885&\"/\"&V1885,読み替え表_エコドライブ!$P$33:$P$52,0),1,0)),0)","v":0},"*"]
[null,null,1879,null,null,null,null,null,null,null,null,null,null,null,null,null,null,null,null,null,null,null,null,null,null,null,null,null,null,null,null,null,null,null,null,{"$f":"IFERROR(IF(T1886=5,1,IF(MATCH(T1886&\"/\"&V1886,読み替え表_エコドライブ!$P$33:$P$52,0),1,0)),0)","v":0},"*"]
[null,null,1880,null,null,null,null,null,null,null,null,null,null,null,null,null,null,null,null,null,null,null,null,null,null,null,null,null,null,null,null,null,null,null,null,{"$f":"IFERROR(IF(T1887=5,1,IF(MATCH(T1887&\"/\"&V1887,読み替え表_エコドライブ!$P$33:$P$52,0),1,0)),0)","v":0},"*"]
[null,null,1881,null,null,null,null,null,null,null,null,null,null,null,null,null,null,null,null,null,null,null,null,null,null,null,null,null,null,null,null,null,null,null,null,{"$f":"IFERROR(IF(T1888=5,1,IF(MATCH(T1888&\"/\"&V1888,読み替え表_エコドライブ!$P$33:$P$52,0),1,0)),0)","v":0},"*"]
[null,null,1882,null,null,null,null,null,null,null,null,null,null,null,null,null,null,null,null,null,null,null,null,null,null,null,null,null,null,null,null,null,null,null,null,{"$f":"IFERROR(IF(T1889=5,1,IF(MATCH(T1889&\"/\"&V1889,読み替え表_エコドライブ!$P$33:$P$52,0),1,0)),0)","v":0},"*"]
[null,null,1883,null,null,null,null,null,null,null,null,null,null,null,null,null,null,null,null,null,null,null,null,null,null,null,null,null,null,null,null,null,null,null,null,{"$f":"IFERROR(IF(T1890=5,1,IF(MATCH(T1890&\"/\"&V1890,読み替え表_エコドライブ!$P$33:$P$52,0),1,0)),0)","v":0},"*"]
[null,null,1884,null,null,null,null,null,null,null,null,null,null,null,null,null,null,null,null,null,null,null,null,null,null,null,null,null,null,null,null,null,null,null,null,{"$f":"IFERROR(IF(T1891=5,1,IF(MATCH(T1891&\"/\"&V1891,読み替え表_エコドライブ!$P$33:$P$52,0),1,0)),0)","v":0},"*"]
[null,null,1885,null,null,null,null,null,null,null,null,null,null,null,null,null,null,null,null,null,null,null,null,null,null,null,null,null,null,null,null,null,null,null,null,{"$f":"IFERROR(IF(T1892=5,1,IF(MATCH(T1892&\"/\"&V1892,読み替え表_エコドライブ!$P$33:$P$52,0),1,0)),0)","v":0},"*"]
[null,null,1886,null,null,null,null,null,null,null,null,null,null,null,null,null,null,null,null,null,null,null,null,null,null,null,null,null,null,null,null,null,null,null,null,{"$f":"IFERROR(IF(T1893=5,1,IF(MATCH(T1893&\"/\"&V1893,読み替え表_エコドライブ!$P$33:$P$52,0),1,0)),0)","v":0},"*"]
[null,null,1887,null,null,null,null,null,null,null,null,null,null,null,null,null,null,null,null,null,null,null,null,null,null,null,null,null,null,null,null,null,null,null,null,{"$f":"IFERROR(IF(T1894=5,1,IF(MATCH(T1894&\"/\"&V1894,読み替え表_エコドライブ!$P$33:$P$52,0),1,0)),0)","v":0},"*"]
[null,null,1888,null,null,null,null,null,null,null,null,null,null,null,null,null,null,null,null,null,null,null,null,null,null,null,null,null,null,null,null,null,null,null,null,{"$f":"IFERROR(IF(T1895=5,1,IF(MATCH(T1895&\"/\"&V1895,読み替え表_エコドライブ!$P$33:$P$52,0),1,0)),0)","v":0},"*"]
[null,null,1889,null,null,null,null,null,null,null,null,null,null,null,null,null,null,null,null,null,null,null,null,null,null,null,null,null,null,null,null,null,null,null,null,{"$f":"IFERROR(IF(T1896=5,1,IF(MATCH(T1896&\"/\"&V1896,読み替え表_エコドライブ!$P$33:$P$52,0),1,0)),0)","v":0},"*"]
[null,null,1890,null,null,null,null,null,null,null,null,null,null,null,null,null,null,null,null,null,null,null,null,null,null,null,null,null,null,null,null,null,null,null,null,{"$f":"IFERROR(IF(T1897=5,1,IF(MATCH(T1897&\"/\"&V1897,読み替え表_エコドライブ!$P$33:$P$52,0),1,0)),0)","v":0},"*"]
[null,null,1891,null,null,null,null,null,null,null,null,null,null,null,null,null,null,null,null,null,null,null,null,null,null,null,null,null,null,null,null,null,null,null,null,{"$f":"IFERROR(IF(T1898=5,1,IF(MATCH(T1898&\"/\"&V1898,読み替え表_エコドライブ!$P$33:$P$52,0),1,0)),0)","v":0},"*"]
[null,null,1892,null,null,null,null,null,null,null,null,null,null,null,null,null,null,null,null,null,null,null,null,null,null,null,null,null,null,null,null,null,null,null,null,{"$f":"IFERROR(IF(T1899=5,1,IF(MATCH(T1899&\"/\"&V1899,読み替え表_エコドライブ!$P$33:$P$52,0),1,0)),0)","v":0},"*"]
[null,null,1893,null,null,null,null,null,null,null,null,null,null,null,null,null,null,null,null,null,null,null,null,null,null,null,null,null,null,null,null,null,null,null,null,{"$f":"IFERROR(IF(T1900=5,1,IF(MATCH(T1900&\"/\"&V1900,読み替え表_エコドライブ!$P$33:$P$52,0),1,0)),0)","v":0},"*"]
[null,null,1894,null,null,null,null,null,null,null,null,null,null,null,null,null,null,null,null,null,null,null,null,null,null,null,null,null,null,null,null,null,null,null,null,{"$f":"IFERROR(IF(T1901=5,1,IF(MATCH(T1901&\"/\"&V1901,読み替え表_エコドライブ!$P$33:$P$52,0),1,0)),0)","v":0},"*"]
[null,null,1895,null,null,null,null,null,null,null,null,null,null,null,null,null,null,null,null,null,null,null,null,null,null,null,null,null,null,null,null,null,null,null,null,{"$f":"IFERROR(IF(T1902=5,1,IF(MATCH(T1902&\"/\"&V1902,読み替え表_エコドライブ!$P$33:$P$52,0),1,0)),0)","v":0},"*"]
[null,null,1896,null,null,null,null,null,null,null,null,null,null,null,null,null,null,null,null,null,null,null,null,null,null,null,null,null,null,null,null,null,null,null,null,{"$f":"IFERROR(IF(T1903=5,1,IF(MATCH(T1903&\"/\"&V1903,読み替え表_エコドライブ!$P$33:$P$52,0),1,0)),0)","v":0},"*"]
[null,null,1897,null,null,null,null,null,null,null,null,null,null,null,null,null,null,null,null,null,null,null,null,null,null,null,null,null,null,null,null,null,null,null,null,{"$f":"IFERROR(IF(T1904=5,1,IF(MATCH(T1904&\"/\"&V1904,読み替え表_エコドライブ!$P$33:$P$52,0),1,0)),0)","v":0},"*"]
[null,null,1898,null,null,null,null,null,null,null,null,null,null,null,null,null,null,null,null,null,null,null,null,null,null,null,null,null,null,null,null,null,null,null,null,{"$f":"IFERROR(IF(T1905=5,1,IF(MATCH(T1905&\"/\"&V1905,読み替え表_エコドライブ!$P$33:$P$52,0),1,0)),0)","v":0},"*"]
[null,null,1899,null,null,null,null,null,null,null,null,null,null,null,null,null,null,null,null,null,null,null,null,null,null,null,null,null,null,null,null,null,null,null,null,{"$f":"IFERROR(IF(T1906=5,1,IF(MATCH(T1906&\"/\"&V1906,読み替え表_エコドライブ!$P$33:$P$52,0),1,0)),0)","v":0},"*"]
[null,null,1900,null,null,null,null,null,null,null,null,null,null,null,null,null,null,null,null,null,null,null,null,null,null,null,null,null,null,null,null,null,null,null,null,{"$f":"IFERROR(IF(T1907=5,1,IF(MATCH(T1907&\"/\"&V1907,読み替え表_エコドライブ!$P$33:$P$52,0),1,0)),0)","v":0},"*"]
[null,null,1901,null,null,null,null,null,null,null,null,null,null,null,null,null,null,null,null,null,null,null,null,null,null,null,null,null,null,null,null,null,null,null,null,{"$f":"IFERROR(IF(T1908=5,1,IF(MATCH(T1908&\"/\"&V1908,読み替え表_エコドライブ!$P$33:$P$52,0),1,0)),0)","v":0},"*"]
[null,null,1902,null,null,null,null,null,null,null,null,null,null,null,null,null,null,null,null,null,null,null,null,null,null,null,null,null,null,null,null,null,null,null,null,{"$f":"IFERROR(IF(T1909=5,1,IF(MATCH(T1909&\"/\"&V1909,読み替え表_エコドライブ!$P$33:$P$52,0),1,0)),0)","v":0},"*"]
[null,null,1903,null,null,null,null,null,null,null,null,null,null,null,null,null,null,null,null,null,null,null,null,null,null,null,null,null,null,null,null,null,null,null,null,{"$f":"IFERROR(IF(T1910=5,1,IF(MATCH(T1910&\"/\"&V1910,読み替え表_エコドライブ!$P$33:$P$52,0),1,0)),0)","v":0},"*"]
[null,null,1904,null,null,null,null,null,null,null,null,null,null,null,null,null,null,null,null,null,null,null,null,null,null,null,null,null,null,null,null,null,null,null,null,{"$f":"IFERROR(IF(T1911=5,1,IF(MATCH(T1911&\"/\"&V1911,読み替え表_エコドライブ!$P$33:$P$52,0),1,0)),0)","v":0},"*"]
[null,null,1905,null,null,null,null,null,null,null,null,null,null,null,null,null,null,null,null,null,null,null,null,null,null,null,null,null,null,null,null,null,null,null,null,{"$f":"IFERROR(IF(T1912=5,1,IF(MATCH(T1912&\"/\"&V1912,読み替え表_エコドライブ!$P$33:$P$52,0),1,0)),0)","v":0},"*"]
[null,null,1906,null,null,null,null,null,null,null,null,null,null,null,null,null,null,null,null,null,null,null,null,null,null,null,null,null,null,null,null,null,null,null,null,{"$f":"IFERROR(IF(T1913=5,1,IF(MATCH(T1913&\"/\"&V1913,読み替え表_エコドライブ!$P$33:$P$52,0),1,0)),0)","v":0},"*"]
[null,null,1907,null,null,null,null,null,null,null,null,null,null,null,null,null,null,null,null,null,null,null,null,null,null,null,null,null,null,null,null,null,null,null,null,{"$f":"IFERROR(IF(T1914=5,1,IF(MATCH(T1914&\"/\"&V1914,読み替え表_エコドライブ!$P$33:$P$52,0),1,0)),0)","v":0},"*"]
[null,null,1908,null,null,null,null,null,null,null,null,null,null,null,null,null,null,null,null,null,null,null,null,null,null,null,null,null,null,null,null,null,null,null,null,{"$f":"IFERROR(IF(T1915=5,1,IF(MATCH(T1915&\"/\"&V1915,読み替え表_エコドライブ!$P$33:$P$52,0),1,0)),0)","v":0},"*"]
[null,null,1909,null,null,null,null,null,null,null,null,null,null,null,null,null,null,null,null,null,null,null,null,null,null,null,null,null,null,null,null,null,null,null,null,{"$f":"IFERROR(IF(T1916=5,1,IF(MATCH(T1916&\"/\"&V1916,読み替え表_エコドライブ!$P$33:$P$52,0),1,0)),0)","v":0},"*"]
[null,null,1910,null,null,null,null,null,null,null,null,null,null,null,null,null,null,null,null,null,null,null,null,null,null,null,null,null,null,null,null,null,null,null,null,{"$f":"IFERROR(IF(T1917=5,1,IF(MATCH(T1917&\"/\"&V1917,読み替え表_エコドライブ!$P$33:$P$52,0),1,0)),0)","v":0},"*"]
[null,null,1911,null,null,null,null,null,null,null,null,null,null,null,null,null,null,null,null,null,null,null,null,null,null,null,null,null,null,null,null,null,null,null,null,{"$f":"IFERROR(IF(T1918=5,1,IF(MATCH(T1918&\"/\"&V1918,読み替え表_エコドライブ!$P$33:$P$52,0),1,0)),0)","v":0},"*"]
[null,null,1912,null,null,null,null,null,null,null,null,null,null,null,null,null,null,null,null,null,null,null,null,null,null,null,null,null,null,null,null,null,null,null,null,{"$f":"IFERROR(IF(T1919=5,1,IF(MATCH(T1919&\"/\"&V1919,読み替え表_エコドライブ!$P$33:$P$52,0),1,0)),0)","v":0},"*"]
[null,null,1913,null,null,null,null,null,null,null,null,null,null,null,null,null,null,null,null,null,null,null,null,null,null,null,null,null,null,null,null,null,null,null,null,{"$f":"IFERROR(IF(T1920=5,1,IF(MATCH(T1920&\"/\"&V1920,読み替え表_エコドライブ!$P$33:$P$52,0),1,0)),0)","v":0},"*"]
[null,null,1914,null,null,null,null,null,null,null,null,null,null,null,null,null,null,null,null,null,null,null,null,null,null,null,null,null,null,null,null,null,null,null,null,{"$f":"IFERROR(IF(T1921=5,1,IF(MATCH(T1921&\"/\"&V1921,読み替え表_エコドライブ!$P$33:$P$52,0),1,0)),0)","v":0},"*"]
[null,null,1915,null,null,null,null,null,null,null,null,null,null,null,null,null,null,null,null,null,null,null,null,null,null,null,null,null,null,null,null,null,null,null,null,{"$f":"IFERROR(IF(T1922=5,1,IF(MATCH(T1922&\"/\"&V1922,読み替え表_エコドライブ!$P$33:$P$52,0),1,0)),0)","v":0},"*"]
[null,null,1916,null,null,null,null,null,null,null,null,null,null,null,null,null,null,null,null,null,null,null,null,null,null,null,null,null,null,null,null,null,null,null,null,{"$f":"IFERROR(IF(T1923=5,1,IF(MATCH(T1923&\"/\"&V1923,読み替え表_エコドライブ!$P$33:$P$52,0),1,0)),0)","v":0},"*"]
[null,null,1917,null,null,null,null,null,null,null,null,null,null,null,null,null,null,null,null,null,null,null,null,null,null,null,null,null,null,null,null,null,null,null,null,{"$f":"IFERROR(IF(T1924=5,1,IF(MATCH(T1924&\"/\"&V1924,読み替え表_エコドライブ!$P$33:$P$52,0),1,0)),0)","v":0},"*"]
[null,null,1918,null,null,null,null,null,null,null,null,null,null,null,null,null,null,null,null,null,null,null,null,null,null,null,null,null,null,null,null,null,null,null,null,{"$f":"IFERROR(IF(T1925=5,1,IF(MATCH(T1925&\"/\"&V1925,読み替え表_エコドライブ!$P$33:$P$52,0),1,0)),0)","v":0},"*"]
[null,null,1919,null,null,null,null,null,null,null,null,null,null,null,null,null,null,null,null,null,null,null,null,null,null,null,null,null,null,null,null,null,null,null,null,{"$f":"IFERROR(IF(T1926=5,1,IF(MATCH(T1926&\"/\"&V1926,読み替え表_エコドライブ!$P$33:$P$52,0),1,0)),0)","v":0},"*"]
[null,null,1920,null,null,null,null,null,null,null,null,null,null,null,null,null,null,null,null,null,null,null,null,null,null,null,null,null,null,null,null,null,null,null,null,{"$f":"IFERROR(IF(T1927=5,1,IF(MATCH(T1927&\"/\"&V1927,読み替え表_エコドライブ!$P$33:$P$52,0),1,0)),0)","v":0},"*"]
[null,null,1921,null,null,null,null,null,null,null,null,null,null,null,null,null,null,null,null,null,null,null,null,null,null,null,null,null,null,null,null,null,null,null,null,{"$f":"IFERROR(IF(T1928=5,1,IF(MATCH(T1928&\"/\"&V1928,読み替え表_エコドライブ!$P$33:$P$52,0),1,0)),0)","v":0},"*"]
[null,null,{"$f":"ROW()-7","v":1922},null,null,null,null,null,null,null,null,null,null,null,null,null,null,null,null,null,null,null,null,null,null,null,null,null,null,null,null,null,null,null,null,{"$f":"IFERROR(IF(T1929=5,1,IF(MATCH(T1929&\"/\"&V1929,読み替え表_エコドライブ!$P$33:$P$52,0),1,0)),0)","v":0},"*"]
[null,null,1923,null,null,null,null,null,null,null,null,null,null,null,null,null,null,null,null,null,null,null,null,null,null,null,null,null,null,null,null,null,null,null,null,{"$f":"IFERROR(IF(T1930=5,1,IF(MATCH(T1930&\"/\"&V1930,読み替え表_エコドライブ!$P$33:$P$52,0),1,0)),0)","v":0},"*"]
[null,null,1924,null,null,null,null,null,null,null,null,null,null,null,null,null,null,null,null,null,null,null,null,null,null,null,null,null,null,null,null,null,null,null,null,{"$f":"IFERROR(IF(T1931=5,1,IF(MATCH(T1931&\"/\"&V1931,読み替え表_エコドライブ!$P$33:$P$52,0),1,0)),0)","v":0},"*"]
[null,null,1925,null,null,null,null,null,null,null,null,null,null,null,null,null,null,null,null,null,null,null,null,null,null,null,null,null,null,null,null,null,null,null,null,{"$f":"IFERROR(IF(T1932=5,1,IF(MATCH(T1932&\"/\"&V1932,読み替え表_エコドライブ!$P$33:$P$52,0),1,0)),0)","v":0},"*"]
[null,null,1926,null,null,null,null,null,null,null,null,null,null,null,null,null,null,null,null,null,null,null,null,null,null,null,null,null,null,null,null,null,null,null,null,{"$f":"IFERROR(IF(T1933=5,1,IF(MATCH(T1933&\"/\"&V1933,読み替え表_エコドライブ!$P$33:$P$52,0),1,0)),0)","v":0},"*"]
[null,null,1927,null,null,null,null,null,null,null,null,null,null,null,null,null,null,null,null,null,null,null,null,null,null,null,null,null,null,null,null,null,null,null,null,{"$f":"IFERROR(IF(T1934=5,1,IF(MATCH(T1934&\"/\"&V1934,読み替え表_エコドライブ!$P$33:$P$52,0),1,0)),0)","v":0},"*"]
[null,null,1928,null,null,null,null,null,null,null,null,null,null,null,null,null,null,null,null,null,null,null,null,null,null,null,null,null,null,null,null,null,null,null,null,{"$f":"IFERROR(IF(T1935=5,1,IF(MATCH(T1935&\"/\"&V1935,読み替え表_エコドライブ!$P$33:$P$52,0),1,0)),0)","v":0},"*"]
[null,null,1929,null,null,null,null,null,null,null,null,null,null,null,null,null,null,null,null,null,null,null,null,null,null,null,null,null,null,null,null,null,null,null,null,{"$f":"IFERROR(IF(T1936=5,1,IF(MATCH(T1936&\"/\"&V1936,読み替え表_エコドライブ!$P$33:$P$52,0),1,0)),0)","v":0},"*"]
[null,null,1930,null,null,null,null,null,null,null,null,null,null,null,null,null,null,null,null,null,null,null,null,null,null,null,null,null,null,null,null,null,null,null,null,{"$f":"IFERROR(IF(T1937=5,1,IF(MATCH(T1937&\"/\"&V1937,読み替え表_エコドライブ!$P$33:$P$52,0),1,0)),0)","v":0},"*"]
[null,null,1931,null,null,null,null,null,null,null,null,null,null,null,null,null,null,null,null,null,null,null,null,null,null,null,null,null,null,null,null,null,null,null,null,{"$f":"IFERROR(IF(T1938=5,1,IF(MATCH(T1938&\"/\"&V1938,読み替え表_エコドライブ!$P$33:$P$52,0),1,0)),0)","v":0},"*"]
[null,null,1932,null,null,null,null,null,null,null,null,null,null,null,null,null,null,null,null,null,null,null,null,null,null,null,null,null,null,null,null,null,null,null,null,{"$f":"IFERROR(IF(T1939=5,1,IF(MATCH(T1939&\"/\"&V1939,読み替え表_エコドライブ!$P$33:$P$52,0),1,0)),0)","v":0},"*"]
[null,null,1933,null,null,null,null,null,null,null,null,null,null,null,null,null,null,null,null,null,null,null,null,null,null,null,null,null,null,null,null,null,null,null,null,{"$f":"IFERROR(IF(T1940=5,1,IF(MATCH(T1940&\"/\"&V1940,読み替え表_エコドライブ!$P$33:$P$52,0),1,0)),0)","v":0},"*"]
[null,null,1934,null,null,null,null,null,null,null,null,null,null,null,null,null,null,null,null,null,null,null,null,null,null,null,null,null,null,null,null,null,null,null,null,{"$f":"IFERROR(IF(T1941=5,1,IF(MATCH(T1941&\"/\"&V1941,読み替え表_エコドライブ!$P$33:$P$52,0),1,0)),0)","v":0},"*"]
[null,null,1935,null,null,null,null,null,null,null,null,null,null,null,null,null,null,null,null,null,null,null,null,null,null,null,null,null,null,null,null,null,null,null,null,{"$f":"IFERROR(IF(T1942=5,1,IF(MATCH(T1942&\"/\"&V1942,読み替え表_エコドライブ!$P$33:$P$52,0),1,0)),0)","v":0},"*"]
[null,null,1936,null,null,null,null,null,null,null,null,null,null,null,null,null,null,null,null,null,null,null,null,null,null,null,null,null,null,null,null,null,null,null,null,{"$f":"IFERROR(IF(T1943=5,1,IF(MATCH(T1943&\"/\"&V1943,読み替え表_エコドライブ!$P$33:$P$52,0),1,0)),0)","v":0},"*"]
[null,null,1937,null,null,null,null,null,null,null,null,null,null,null,null,null,null,null,null,null,null,null,null,null,null,null,null,null,null,null,null,null,null,null,null,{"$f":"IFERROR(IF(T1944=5,1,IF(MATCH(T1944&\"/\"&V1944,読み替え表_エコドライブ!$P$33:$P$52,0),1,0)),0)","v":0},"*"]
[null,null,1938,null,null,null,null,null,null,null,null,null,null,null,null,null,null,null,null,null,null,null,null,null,null,null,null,null,null,null,null,null,null,null,null,{"$f":"IFERROR(IF(T1945=5,1,IF(MATCH(T1945&\"/\"&V1945,読み替え表_エコドライブ!$P$33:$P$52,0),1,0)),0)","v":0},"*"]
[null,null,1939,null,null,null,null,null,null,null,null,null,null,null,null,null,null,null,null,null,null,null,null,null,null,null,null,null,null,null,null,null,null,null,null,{"$f":"IFERROR(IF(T1946=5,1,IF(MATCH(T1946&\"/\"&V1946,読み替え表_エコドライブ!$P$33:$P$52,0),1,0)),0)","v":0},"*"]
[null,null,1940,null,null,null,null,null,null,null,null,null,null,null,null,null,null,null,null,null,null,null,null,null,null,null,null,null,null,null,null,null,null,null,null,{"$f":"IFERROR(IF(T1947=5,1,IF(MATCH(T1947&\"/\"&V1947,読み替え表_エコドライブ!$P$33:$P$52,0),1,0)),0)","v":0},"*"]
[null,null,1941,null,null,null,null,null,null,null,null,null,null,null,null,null,null,null,null,null,null,null,null,null,null,null,null,null,null,null,null,null,null,null,null,{"$f":"IFERROR(IF(T1948=5,1,IF(MATCH(T1948&\"/\"&V1948,読み替え表_エコドライブ!$P$33:$P$52,0),1,0)),0)","v":0},"*"]
[null,null,1942,null,null,null,null,null,null,null,null,null,null,null,null,null,null,null,null,null,null,null,null,null,null,null,null,null,null,null,null,null,null,null,null,{"$f":"IFERROR(IF(T1949=5,1,IF(MATCH(T1949&\"/\"&V1949,読み替え表_エコドライブ!$P$33:$P$52,0),1,0)),0)","v":0},"*"]
[null,null,1943,null,null,null,null,null,null,null,null,null,null,null,null,null,null,null,null,null,null,null,null,null,null,null,null,null,null,null,null,null,null,null,null,{"$f":"IFERROR(IF(T1950=5,1,IF(MATCH(T1950&\"/\"&V1950,読み替え表_エコドライブ!$P$33:$P$52,0),1,0)),0)","v":0},"*"]
[null,null,1944,null,null,null,null,null,null,null,null,null,null,null,null,null,null,null,null,null,null,null,null,null,null,null,null,null,null,null,null,null,null,null,null,{"$f":"IFERROR(IF(T1951=5,1,IF(MATCH(T1951&\"/\"&V1951,読み替え表_エコドライブ!$P$33:$P$52,0),1,0)),0)","v":0},"*"]
[null,null,1945,null,null,null,null,null,null,null,null,null,null,null,null,null,null,null,null,null,null,null,null,null,null,null,null,null,null,null,null,null,null,null,null,{"$f":"IFERROR(IF(T1952=5,1,IF(MATCH(T1952&\"/\"&V1952,読み替え表_エコドライブ!$P$33:$P$52,0),1,0)),0)","v":0},"*"]
[null,null,1946,null,null,null,null,null,null,null,null,null,null,null,null,null,null,null,null,null,null,null,null,null,null,null,null,null,null,null,null,null,null,null,null,{"$f":"IFERROR(IF(T1953=5,1,IF(MATCH(T1953&\"/\"&V1953,読み替え表_エコドライブ!$P$33:$P$52,0),1,0)),0)","v":0},"*"]
[null,null,1947,null,null,null,null,null,null,null,null,null,null,null,null,null,null,null,null,null,null,null,null,null,null,null,null,null,null,null,null,null,null,null,null,{"$f":"IFERROR(IF(T1954=5,1,IF(MATCH(T1954&\"/\"&V1954,読み替え表_エコドライブ!$P$33:$P$52,0),1,0)),0)","v":0},"*"]
[null,null,1948,null,null,null,null,null,null,null,null,null,null,null,null,null,null,null,null,null,null,null,null,null,null,null,null,null,null,null,null,null,null,null,null,{"$f":"IFERROR(IF(T1955=5,1,IF(MATCH(T1955&\"/\"&V1955,読み替え表_エコドライブ!$P$33:$P$52,0),1,0)),0)","v":0},"*"]
[null,null,1949,null,null,null,null,null,null,null,null,null,null,null,null,null,null,null,null,null,null,null,null,null,null,null,null,null,null,null,null,null,null,null,null,{"$f":"IFERROR(IF(T1956=5,1,IF(MATCH(T1956&\"/\"&V1956,読み替え表_エコドライブ!$P$33:$P$52,0),1,0)),0)","v":0},"*"]
[null,null,1950,null,null,null,null,null,null,null,null,null,null,null,null,null,null,null,null,null,null,null,null,null,null,null,null,null,null,null,null,null,null,null,null,{"$f":"IFERROR(IF(T1957=5,1,IF(MATCH(T1957&\"/\"&V1957,読み替え表_エコドライブ!$P$33:$P$52,0),1,0)),0)","v":0},"*"]
[null,null,1951,null,null,null,null,null,null,null,null,null,null,null,null,null,null,null,null,null,null,null,null,null,null,null,null,null,null,null,null,null,null,null,null,{"$f":"IFERROR(IF(T1958=5,1,IF(MATCH(T1958&\"/\"&V1958,読み替え表_エコドライブ!$P$33:$P$52,0),1,0)),0)","v":0},"*"]
[null,null,1952,null,null,null,null,null,null,null,null,null,null,null,null,null,null,null,null,null,null,null,null,null,null,null,null,null,null,null,null,null,null,null,null,{"$f":"IFERROR(IF(T1959=5,1,IF(MATCH(T1959&\"/\"&V1959,読み替え表_エコドライブ!$P$33:$P$52,0),1,0)),0)","v":0},"*"]
[null,null,1953,null,null,null,null,null,null,null,null,null,null,null,null,null,null,null,null,null,null,null,null,null,null,null,null,null,null,null,null,null,null,null,null,{"$f":"IFERROR(IF(T1960=5,1,IF(MATCH(T1960&\"/\"&V1960,読み替え表_エコドライブ!$P$33:$P$52,0),1,0)),0)","v":0},"*"]
[null,null,1954,null,null,null,null,null,null,null,null,null,null,null,null,null,null,null,null,null,null,null,null,null,null,null,null,null,null,null,null,null,null,null,null,{"$f":"IFERROR(IF(T1961=5,1,IF(MATCH(T1961&\"/\"&V1961,読み替え表_エコドライブ!$P$33:$P$52,0),1,0)),0)","v":0},"*"]
[null,null,1955,null,null,null,null,null,null,null,null,null,null,null,null,null,null,null,null,null,null,null,null,null,null,null,null,null,null,null,null,null,null,null,null,{"$f":"IFERROR(IF(T1962=5,1,IF(MATCH(T1962&\"/\"&V1962,読み替え表_エコドライブ!$P$33:$P$52,0),1,0)),0)","v":0},"*"]
[null,null,1956,null,null,null,null,null,null,null,null,null,null,null,null,null,null,null,null,null,null,null,null,null,null,null,null,null,null,null,null,null,null,null,null,{"$f":"IFERROR(IF(T1963=5,1,IF(MATCH(T1963&\"/\"&V1963,読み替え表_エコドライブ!$P$33:$P$52,0),1,0)),0)","v":0},"*"]
[null,null,1957,null,null,null,null,null,null,null,null,null,null,null,null,null,null,null,null,null,null,null,null,null,null,null,null,null,null,null,null,null,null,null,null,{"$f":"IFERROR(IF(T1964=5,1,IF(MATCH(T1964&\"/\"&V1964,読み替え表_エコドライブ!$P$33:$P$52,0),1,0)),0)","v":0},"*"]
[null,null,1958,null,null,null,null,null,null,null,null,null,null,null,null,null,null,null,null,null,null,null,null,null,null,null,null,null,null,null,null,null,null,null,null,{"$f":"IFERROR(IF(T1965=5,1,IF(MATCH(T1965&\"/\"&V1965,読み替え表_エコドライブ!$P$33:$P$52,0),1,0)),0)","v":0},"*"]
[null,null,1959,null,null,null,null,null,null,null,null,null,null,null,null,null,null,null,null,null,null,null,null,null,null,null,null,null,null,null,null,null,null,null,null,{"$f":"IFERROR(IF(T1966=5,1,IF(MATCH(T1966&\"/\"&V1966,読み替え表_エコドライブ!$P$33:$P$52,0),1,0)),0)","v":0},"*"]
[null,null,1960,null,null,null,null,null,null,null,null,null,null,null,null,null,null,null,null,null,null,null,null,null,null,null,null,null,null,null,null,null,null,null,null,{"$f":"IFERROR(IF(T1967=5,1,IF(MATCH(T1967&\"/\"&V1967,読み替え表_エコドライブ!$P$33:$P$52,0),1,0)),0)","v":0},"*"]
[null,null,1961,null,null,null,null,null,null,null,null,null,null,null,null,null,null,null,null,null,null,null,null,null,null,null,null,null,null,null,null,null,null,null,null,{"$f":"IFERROR(IF(T1968=5,1,IF(MATCH(T1968&\"/\"&V1968,読み替え表_エコドライブ!$P$33:$P$52,0),1,0)),0)","v":0},"*"]
[null,null,1962,null,null,null,null,null,null,null,null,null,null,null,null,null,null,null,null,null,null,null,null,null,null,null,null,null,null,null,null,null,null,null,null,{"$f":"IFERROR(IF(T1969=5,1,IF(MATCH(T1969&\"/\"&V1969,読み替え表_エコドライブ!$P$33:$P$52,0),1,0)),0)","v":0},"*"]
[null,null,1963,null,null,null,null,null,null,null,null,null,null,null,null,null,null,null,null,null,null,null,null,null,null,null,null,null,null,null,null,null,null,null,null,{"$f":"IFERROR(IF(T1970=5,1,IF(MATCH(T1970&\"/\"&V1970,読み替え表_エコドライブ!$P$33:$P$52,0),1,0)),0)","v":0},"*"]
[null,null,1964,null,null,null,null,null,null,null,null,null,null,null,null,null,null,null,null,null,null,null,null,null,null,null,null,null,null,null,null,null,null,null,null,{"$f":"IFERROR(IF(T1971=5,1,IF(MATCH(T1971&\"/\"&V1971,読み替え表_エコドライブ!$P$33:$P$52,0),1,0)),0)","v":0},"*"]
[null,null,1965,null,null,null,null,null,null,null,null,null,null,null,null,null,null,null,null,null,null,null,null,null,null,null,null,null,null,null,null,null,null,null,null,{"$f":"IFERROR(IF(T1972=5,1,IF(MATCH(T1972&\"/\"&V1972,読み替え表_エコドライブ!$P$33:$P$52,0),1,0)),0)","v":0},"*"]
[null,null,1966,null,null,null,null,null,null,null,null,null,null,null,null,null,null,null,null,null,null,null,null,null,null,null,null,null,null,null,null,null,null,null,null,{"$f":"IFERROR(IF(T1973=5,1,IF(MATCH(T1973&\"/\"&V1973,読み替え表_エコドライブ!$P$33:$P$52,0),1,0)),0)","v":0},"*"]
[null,null,1967,null,null,null,null,null,null,null,null,null,null,null,null,null,null,null,null,null,null,null,null,null,null,null,null,null,null,null,null,null,null,null,null,{"$f":"IFERROR(IF(T1974=5,1,IF(MATCH(T1974&\"/\"&V1974,読み替え表_エコドライブ!$P$33:$P$52,0),1,0)),0)","v":0},"*"]
[null,null,1968,null,null,null,null,null,null,null,null,null,null,null,null,null,null,null,null,null,null,null,null,null,null,null,null,null,null,null,null,null,null,null,null,{"$f":"IFERROR(IF(T1975=5,1,IF(MATCH(T1975&\"/\"&V1975,読み替え表_エコドライブ!$P$33:$P$52,0),1,0)),0)","v":0},"*"]
[null,null,1969,null,null,null,null,null,null,null,null,null,null,null,null,null,null,null,null,null,null,null,null,null,null,null,null,null,null,null,null,null,null,null,null,{"$f":"IFERROR(IF(T1976=5,1,IF(MATCH(T1976&\"/\"&V1976,読み替え表_エコドライブ!$P$33:$P$52,0),1,0)),0)","v":0},"*"]
[null,null,1970,null,null,null,null,null,null,null,null,null,null,null,null,null,null,null,null,null,null,null,null,null,null,null,null,null,null,null,null,null,null,null,null,{"$f":"IFERROR(IF(T1977=5,1,IF(MATCH(T1977&\"/\"&V1977,読み替え表_エコドライブ!$P$33:$P$52,0),1,0)),0)","v":0},"*"]
[null,null,1971,null,null,null,null,null,null,null,null,null,null,null,null,null,null,null,null,null,null,null,null,null,null,null,null,null,null,null,null,null,null,null,null,{"$f":"IFERROR(IF(T1978=5,1,IF(MATCH(T1978&\"/\"&V1978,読み替え表_エコドライブ!$P$33:$P$52,0),1,0)),0)","v":0},"*"]
[null,null,1972,null,null,null,null,null,null,null,null,null,null,null,null,null,null,null,null,null,null,null,null,null,null,null,null,null,null,null,null,null,null,null,null,{"$f":"IFERROR(IF(T1979=5,1,IF(MATCH(T1979&\"/\"&V1979,読み替え表_エコドライブ!$P$33:$P$52,0),1,0)),0)","v":0},"*"]
[null,null,1973,null,null,null,null,null,null,null,null,null,null,null,null,null,null,null,null,null,null,null,null,null,null,null,null,null,null,null,null,null,null,null,null,{"$f":"IFERROR(IF(T1980=5,1,IF(MATCH(T1980&\"/\"&V1980,読み替え表_エコドライブ!$P$33:$P$52,0),1,0)),0)","v":0},"*"]
[null,null,1974,null,null,null,null,null,null,null,null,null,null,null,null,null,null,null,null,null,null,null,null,null,null,null,null,null,null,null,null,null,null,null,null,{"$f":"IFERROR(IF(T1981=5,1,IF(MATCH(T1981&\"/\"&V1981,読み替え表_エコドライブ!$P$33:$P$52,0),1,0)),0)","v":0},"*"]
[null,null,1975,null,null,null,null,null,null,null,null,null,null,null,null,null,null,null,null,null,null,null,null,null,null,null,null,null,null,null,null,null,null,null,null,{"$f":"IFERROR(IF(T1982=5,1,IF(MATCH(T1982&\"/\"&V1982,読み替え表_エコドライブ!$P$33:$P$52,0),1,0)),0)","v":0},"*"]
[null,null,1976,null,null,null,null,null,null,null,null,null,null,null,null,null,null,null,null,null,null,null,null,null,null,null,null,null,null,null,null,null,null,null,null,{"$f":"IFERROR(IF(T1983=5,1,IF(MATCH(T1983&\"/\"&V1983,読み替え表_エコドライブ!$P$33:$P$52,0),1,0)),0)","v":0},"*"]
[null,null,1977,null,null,null,null,null,null,null,null,null,null,null,null,null,null,null,null,null,null,null,null,null,null,null,null,null,null,null,null,null,null,null,null,{"$f":"IFERROR(IF(T1984=5,1,IF(MATCH(T1984&\"/\"&V1984,読み替え表_エコドライブ!$P$33:$P$52,0),1,0)),0)","v":0},"*"]
[null,null,1978,null,null,null,null,null,null,null,null,null,null,null,null,null,null,null,null,null,null,null,null,null,null,null,null,null,null,null,null,null,null,null,null,{"$f":"IFERROR(IF(T1985=5,1,IF(MATCH(T1985&\"/\"&V1985,読み替え表_エコドライブ!$P$33:$P$52,0),1,0)),0)","v":0},"*"]
[null,null,1979,null,null,null,null,null,null,null,null,null,null,null,null,null,null,null,null,null,null,null,null,null,null,null,null,null,null,null,null,null,null,null,null,{"$f":"IFERROR(IF(T1986=5,1,IF(MATCH(T1986&\"/\"&V1986,読み替え表_エコドライブ!$P$33:$P$52,0),1,0)),0)","v":0},"*"]
[null,null,1980,null,null,null,null,null,null,null,null,null,null,null,null,null,null,null,null,null,null,null,null,null,null,null,null,null,null,null,null,null,null,null,null,{"$f":"IFERROR(IF(T1987=5,1,IF(MATCH(T1987&\"/\"&V1987,読み替え表_エコドライブ!$P$33:$P$52,0),1,0)),0)","v":0},"*"]
[null,null,1981,null,null,null,null,null,null,null,null,null,null,null,null,null,null,null,null,null,null,null,null,null,null,null,null,null,null,null,null,null,null,null,null,{"$f":"IFERROR(IF(T1988=5,1,IF(MATCH(T1988&\"/\"&V1988,読み替え表_エコドライブ!$P$33:$P$52,0),1,0)),0)","v":0},"*"]
[null,null,1982,null,null,null,null,null,null,null,null,null,null,null,null,null,null,null,null,null,null,null,null,null,null,null,null,null,null,null,null,null,null,null,null,{"$f":"IFERROR(IF(T1989=5,1,IF(MATCH(T1989&\"/\"&V1989,読み替え表_エコドライブ!$P$33:$P$52,0),1,0)),0)","v":0},"*"]
[null,null,1983,null,null,null,null,null,null,null,null,null,null,null,null,null,null,null,null,null,null,null,null,null,null,null,null,null,null,null,null,null,null,null,null,{"$f":"IFERROR(IF(T1990=5,1,IF(MATCH(T1990&\"/\"&V1990,読み替え表_エコドライブ!$P$33:$P$52,0),1,0)),0)","v":0},"*"]
[null,null,1984,null,null,null,null,null,null,null,null,null,null,null,null,null,null,null,null,null,null,null,null,null,null,null,null,null,null,null,null,null,null,null,null,{"$f":"IFERROR(IF(T1991=5,1,IF(MATCH(T1991&\"/\"&V1991,読み替え表_エコドライブ!$P$33:$P$52,0),1,0)),0)","v":0},"*"]
[null,null,1985,null,null,null,null,null,null,null,null,null,null,null,null,null,null,null,null,null,null,null,null,null,null,null,null,null,null,null,null,null,null,null,null,{"$f":"IFERROR(IF(T1992=5,1,IF(MATCH(T1992&\"/\"&V1992,読み替え表_エコドライブ!$P$33:$P$52,0),1,0)),0)","v":0},"*"]
[null,null,{"$f":"ROW()-7","v":1986},null,null,null,null,null,null,null,null,null,null,null,null,null,null,null,null,null,null,null,null,null,null,null,null,null,null,null,null,null,null,null,null,{"$f":"IFERROR(IF(T1993=5,1,IF(MATCH(T1993&\"/\"&V1993,読み替え表_エコドライブ!$P$33:$P$52,0),1,0)),0)","v":0},"*"]
[null,null,1987,null,null,null,null,null,null,null,null,null,null,null,null,null,null,null,null,null,null,null,null,null,null,null,null,null,null,null,null,null,null,null,null,{"$f":"IFERROR(IF(T1994=5,1,IF(MATCH(T1994&\"/\"&V1994,読み替え表_エコドライブ!$P$33:$P$52,0),1,0)),0)","v":0},"*"]
[null,null,1988,null,null,null,null,null,null,null,null,null,null,null,null,null,null,null,null,null,null,null,null,null,null,null,null,null,null,null,null,null,null,null,null,{"$f":"IFERROR(IF(T1995=5,1,IF(MATCH(T1995&\"/\"&V1995,読み替え表_エコドライブ!$P$33:$P$52,0),1,0)),0)","v":0},"*"]
[null,null,1989,null,null,null,null,null,null,null,null,null,null,null,null,null,null,null,null,null,null,null,null,null,null,null,null,null,null,null,null,null,null,null,null,{"$f":"IFERROR(IF(T1996=5,1,IF(MATCH(T1996&\"/\"&V1996,読み替え表_エコドライブ!$P$33:$P$52,0),1,0)),0)","v":0},"*"]
[null,null,1990,null,null,null,null,null,null,null,null,null,null,null,null,null,null,null,null,null,null,null,null,null,null,null,null,null,null,null,null,null,null,null,null,{"$f":"IFERROR(IF(T1997=5,1,IF(MATCH(T1997&\"/\"&V1997,読み替え表_エコドライブ!$P$33:$P$52,0),1,0)),0)","v":0},"*"]
[null,null,1991,null,null,null,null,null,null,null,null,null,null,null,null,null,null,null,null,null,null,null,null,null,null,null,null,null,null,null,null,null,null,null,null,{"$f":"IFERROR(IF(T1998=5,1,IF(MATCH(T1998&\"/\"&V1998,読み替え表_エコドライブ!$P$33:$P$52,0),1,0)),0)","v":0},"*"]
[null,null,1992,null,null,null,null,null,null,null,null,null,null,null,null,null,null,null,null,null,null,null,null,null,null,null,null,null,null,null,null,null,null,null,null,{"$f":"IFERROR(IF(T1999=5,1,IF(MATCH(T1999&\"/\"&V1999,読み替え表_エコドライブ!$P$33:$P$52,0),1,0)),0)","v":0},"*"]
[null,null,1993,null,null,null,null,null,null,null,null,null,null,null,null,null,null,null,null,null,null,null,null,null,null,null,null,null,null,null,null,null,null,null,null,{"$f":"IFERROR(IF(T2000=5,1,IF(MATCH(T2000&\"/\"&V2000,読み替え表_エコドライブ!$P$33:$P$52,0),1,0)),0)","v":0},"*"]
[null,null,1994,null,null,null,null,null,null,null,null,null,null,null,null,null,null,null,null,null,null,null,null,null,null,null,null,null,null,null,null,null,null,null,null,{"$f":"IFERROR(IF(T2001=5,1,IF(MATCH(T2001&\"/\"&V2001,読み替え表_エコドライブ!$P$33:$P$52,0),1,0)),0)","v":0},"*"]
[null,null,1995,null,null,null,null,null,null,null,null,null,null,null,null,null,null,null,null,null,null,null,null,null,null,null,null,null,null,null,null,null,null,null,null,{"$f":"IFERROR(IF(T2002=5,1,IF(MATCH(T2002&\"/\"&V2002,読み替え表_エコドライブ!$P$33:$P$52,0),1,0)),0)","v":0},"*"]
[null,null,1996,null,null,null,null,null,null,null,null,null,null,null,null,null,null,null,null,null,null,null,null,null,null,null,null,null,null,null,null,null,null,null,null,{"$f":"IFERROR(IF(T2003=5,1,IF(MATCH(T2003&\"/\"&V2003,読み替え表_エコドライブ!$P$33:$P$52,0),1,0)),0)","v":0},"*"]
[null,null,1997,null,null,null,null,null,null,null,null,null,null,null,null,null,null,null,null,null,null,null,null,null,null,null,null,null,null,null,null,null,null,null,null,{"$f":"IFERROR(IF(T2004=5,1,IF(MATCH(T2004&\"/\"&V2004,読み替え表_エコドライブ!$P$33:$P$52,0),1,0)),0)","v":0},"*"]
[null,null,1998,null,null,null,null,null,null,null,null,null,null,null,null,null,null,null,null,null,null,null,null,null,null,null,null,null,null,null,null,null,null,null,null,{"$f":"IFERROR(IF(T2005=5,1,IF(MATCH(T2005&\"/\"&V2005,読み替え表_エコドライブ!$P$33:$P$52,0),1,0)),0)","v":0},"*"]
[null,null,1999,null,null,null,null,null,null,null,null,null,null,null,null,null,null,null,null,null,null,null,null,null,null,null,null,null,null,null,null,null,null,null,null,{"$f":"IFERROR(IF(T2006=5,1,IF(MATCH(T2006&\"/\"&V2006,読み替え表_エコドライブ!$P$33:$P$52,0),1,0)),0)","v":0},"*"]
[null,null,2000,null,null,null,null,null,null,null,null,null,null,null,null,null,null,null,null,null,null,null,null,null,null,null,null,null,null,null,null,null,null,null,null,{"$f":"IFERROR(IF(T2007=5,1,IF(MATCH(T2007&\"/\"&V2007,読み替え表_エコドライブ!$P$33:$P$52,0),1,0)),0)","v":0},"*"]
["*","*","*","*","*","*","*","*","*","*","*","*","*","*","*","*","*","*","*","*","*","*","*","*","*","*","*","*","*","*","*","*","*","*","*","*","*"]

{"sheet":"集計結果⇒","index":3,"n_rows":0,"n_cols":0,"rows_kept":0,"cut":false,"hidden":false,"merged":[]}

{"sheet":"②単純集計表 ","index":4,"n_rows":205,"n_cols":13,"rows_kept":205,"cut":false,"hidden":false,"merged":[[195,4,195,6],[195,8,195,10],[190,4,190,6],[190,8,190,10],[191,4,191,6],[191,8,191,10],[192,4,192,6],[192,8,192,10],[201,4,201,6],[201,8,201,10],[198,8,198,10],[199,4,199,6],[199,8,199,10],[200,4,200,6],[200,8,200,10],[196,4,196,6],[196,8,196,10],[197,4,197,6],[197,8,197,10],[198,4,198,6],[182,8,182,10],[183,4,183,6],[183,8,183,10],[182,1,186,2],[182,4,182,6],[185,4,185,6],[185,8,185,10],[186,4,186,6],[186,8,186,10],[184,4,184,6],[184,8,184,10],[187,4,187,6],[187,8,187,10],[188,4,188,6],[188,8,188,10],[189,4,189,6],[189,8,189,10],[193,4,193,6],[193,8,193,10],[194,4,194,6],[194,8,194,10],[176,1,181,2],[176,4,176,6],[176,8,176,10],[177,4,177,6],[177,8,177,10],[178,4,178,6],[178,8,178,10],[179,4,179,6],[179,8,179,10],[180,4,180,6],[180,8,180,10],[181,4,181,6],[181,8,181,10],[175,4,175,6],[172,1,175,2],[172,4,172,6],[172,8,172,10],[174,4,174,6],[174,8,174,10],[175,8,175,10],[168,1,171,2],[168,4,168,6],[168,8,168,10],[169,4,169,6],[169,8,169,10],[170,4,170,6],[170,8,170,10],[171,4,171,6],[171,8,171,10],[161,1,161,5],[165,3,165,6],[165,7,165,10],[166,4,166,6],[166,8,166,10],[155,1,155,5],[156,1,156,5],[157,1,157,5],[158,1,158,5],[159,1,159,5],[123,1,129,1],[94,1,99,1],[1,3,1,5],[7,3,7,5],[6,3,6,5],[51,1,59,1],[5,1,5,2],[5,3,5,5],[40,4,40,5],[41,4,41,5],[33,4,33,5],[35,4,35,5],[32,4,32,5],[1,1,1,2],[17,1,24,1],[4,1,4,2],[4,3,4,5],[3,3,3,5],[2,3,2,5],[27,4,27,5],[2,1,2,2],[3,1,3,2],[12,1,15,1],[167,4,167,6],[167,8,167,10],[166,1,167,2],[192,1,201,2],[187,1,191,2],[160,1,160,5],[173,4,173,6],[173,8,173,10],[6,1,6,2],[7,1,7,2],[28,4,28,5],[29,4,29,5],[30,4,30,5],[31,4,31,5],[26,1,43,1],[26,3,26,5],[34,3,34,5],[43,4,43,5],[39,4,39,5],[36,4,36,5],[37,4,37,5],[38,4,38,5],[42,4,42,5],[69,1,74,1]]}
[]
[null,"都道府県",null,{"$f":"①会場アンケート集計結果_エコドライブ!D8","v":0}]
[null,"事業者名",null,{"$f":"①会場アンケート集計結果_エコドライブ!E8","v":0}]
[null,"イベント名",null,{"$f":"①会場アンケート集計結果_エコドライブ!F8","v":0}]
[null,"回収日付",null,{"$f":"①会場アンケート集計結果_エコドライブ!G8","v":"00:00:00"}]
[null,"アンケート回収数",null,{"$f":"COUNTIFS(①会場アンケート集計結果_エコドライブ!$H$8:$H$2007,\"<>\"&\"\")","v":0}]
[null,"有効アンケート数",null,{"$f":"COUNTIFS(①会場アンケート集計結果_エコドライブ!$H$8:$H$2007,\"<>\"&\"\",①会場アンケート集計結果_エコドライブ!$AJ$8:$AJ$2007,0)","v":0},{"$f":"COUNTIFS(①会場アンケート集計結果_エコドライブ!$H$8:$H$2007,\"<>\"&\"\",①会場アンケート集計結果_エコドライブ!$AJ$8:$AJ$2007,0)","v":0},{"$f":"COUNTIFS(①会場アンケート集計結果_エコドライブ!$H$8:$H$2007,\"<>\"&\"\",①会場アンケート集計結果_エコドライブ!$AJ$8:$AJ$2007,0)","v":0}]
[null,"メールアドレス回収数",null,{"$f":"COUNTIFS(①会場アンケート集計結果_エコドライブ!$H$8:$H$2007,\"<>\"&\"\",①会場アンケート集計結果_エコドライブ!$AJ$8:$AJ$2007,0,①会場アンケート集計結果_エコドライブ!$AF$8:$AF$2007,1)","v":0}]
[]
[null,"【設問1-1】性別・年代"]
[]
[null,null,null,null,null,null,"回答者数","%","検算用"]
[null,"性別",1,"男性",null,null,{"$f":"COUNTIFS(①会場アンケート集計結果_エコドライブ!$AJ:$AJ,0,①会場アンケート集計結果_エコドライブ!$H:$H,'②単純集計表 '!D13)","v":0},{"$f":"G13/$D$7","v":{"$error":"#DIV/0!"}}]
[null,null,2,"女性",null,null,{"$f":"COUNTIFS(①会場アンケート集計結果_エコドライブ!$AJ:$AJ,0,①会場アンケート集計結果_エコドライブ!$H:$H,'②単純集計表 '!D14)","v":0},{"$f":"G14/$D$7","v":{"$error":"#DIV/0!"}}]
[null,null,3,"その他",null,null,{"$f":"COUNTIFS(①会場アンケート集計結果_エコドライブ!$AJ:$AJ,0,①会場アンケート集計結果_エコドライブ!$H:$H,'②単純集計表 '!D15)","v":0},{"$f":"G15/$D$7","v":{"$error":"#DIV/0!"}}]
[null,null,99,"未回答",null,null,{"$f":"COUNTIFS(①会場アンケート集計結果_エコドライブ!$AJ:$AJ,0,①会場アンケート集計結果_エコドライブ!$H:$H,'②単純集計表 '!D16)","v":0},{"$f":"G16/$D$7","v":{"$error":"#DIV/0!"}},{"$f":"SUM(G13:G16)","v":0}]
[]
[null,"年代",1,"10代",null,null,{"$f":"COUNTIFS(①会場アンケート集計結果_エコドライブ!$AJ:$AJ,0,①会場アンケート集計結果_エコドライブ!$I:$I,'②単純集計表 '!D18)","v":0},{"$f":"G18/$D$7","v":{"$error":"#DIV/0!"}}]
[null,null,2,"20代",null,null,{"$f":"COUNTIFS(①会場アンケート集計結果_エコドライブ!$AJ:$AJ,0,①会場アンケート集計結果_エコドライブ!$I:$I,'②単純集計表 '!D19)","v":0},{"$error":"#DIV/0!"}]
[null,null,3,"30代",null,null,{"$f":"COUNTIFS(①会場アンケート集計結果_エコドライブ!$AJ:$AJ,0,①会場アンケート集計結果_エコドライブ!$I:$I,'②単純集計表 '!D20)","v":0},{"$error":"#DIV/0!"}]
[null,null,4,"40代",null,null,{"$f":"COUNTIFS(①会場アンケート集計結果_エコドライブ!$AJ:$AJ,0,①会場アンケート集計結果_エコドライブ!$I:$I,'②単純集計表 '!D21)","v":0},{"$error":"#DIV/0!"}]
[null,null,5,"50代",null,null,{"$f":"COUNTIFS(①会場アンケート集計結果_エコドライブ!$AJ:$AJ,0,①会場アンケート集計結果_エコドライブ!$I:$I,'②単純集計表 '!D22)","v":0},{"$error":"#DIV/0!"}]
[null,null,6,"60代",null,null,{"$f":"COUNTIFS(①会場アンケート集計結果_エコドライブ!$AJ:$AJ,0,①会場アンケート集計結果_エコドライブ!$I:$I,'②単純集計表 '!D23)","v":0},{"$error":"#DIV/0!"}]
[null,null,7,"70代以上",null,null,{"$f":"COUNTIFS(①会場アンケート集計結果_エコドライブ!$AJ:$AJ,0,①会場アンケート集計結果_エコドライブ!$I:$I,'②単純集計表 '!D24)","v":0},{"$error":"#DIV/0!"}]
[null,null,99,"未回答",null,null,{"$f":"COUNTIFS(①会場アンケート集計結果_エコドライブ!$AJ:$AJ,0,①会場アンケート集計結果_エコドライブ!$I:$I,'②単純集計表 '!D25)","v":0},{"$error":"#DIV/0!"},{"$f":"SUM(G18:G25)","v":0}]
[]
[null,"性別・年代別",null,"男性",null,null,{"$f":"SUM(G28:G34)","v":0},{"$f":"G27/$D$7","v":{"$error":"#DIV/0!"}}]
[null,null,null,"男性","10代",null,{"$f":"COUNTIFS(①会場アンケート集計結果_エコドライブ!$AJ:$AJ,0,①会場アンケート集計結果_エコドライブ!$H:$H,D28,①会場アンケート集計結果_エコドライブ!$I:$I,E28)","v":0},{"$error":"#DIV/0!"}]
[null,null,null,"男性","20代",null,{"$f":"COUNTIFS(①会場アンケート集計結果_エコドライブ!$AJ:$AJ,0,①会場アンケート集計結果_エコドライブ!$H:$H,D29,①会場アンケート集計結果_エコドライブ!$I:$I,E29)","v":0},{"$error":"#DIV/0!"}]
[null,null,null,"男性","30代",null,{"$f":"COUNTIFS(①会場アンケート集計結果_エコドライブ!$AJ:$AJ,0,①会場アンケート集計結果_エコドライブ!$H:$H,D30,①会場アンケート集計結果_エコドライブ!$I:$I,E30)","v":0},{"$error":"#DIV/0!"}]
[null,null,null,"男性","40代",null,{"$f":"COUNTIFS(①会場アンケート集計結果_エコドライブ!$AJ:$AJ,0,①会場アンケート集計結果_エコドライブ!$H:$H,D31,①会場アンケート集計結果_エコドライブ!$I:$I,E31)","v":0},{"$error":"#DIV/0!"}]
[null,null,null,"男性","50代",null,{"$f":"COUNTIFS(①会場アンケート集計結果_エコドライブ!$AJ:$AJ,0,①会場アンケート集計結果_エコドライブ!$H:$H,D32,①会場アンケート集計結果_エコドライブ!$I:$I,E32)","v":0},{"$error":"#DIV/0!"}]
[null,null,null,"男性","60代",null,{"$f":"COUNTIFS(①会場アンケート集計結果_エコドライブ!$AJ:$AJ,0,①会場アンケート集計結果_エコドライブ!$H:$H,D33,①会場アンケート集計結果_エコドライブ!$I:$I,E33)","v":0},{"$error":"#DIV/0!"}]
[null,null,null,"男性","70代以上",null,{"$f":"COUNTIFS(①会場アンケート集計結果_エコドライブ!$AJ:$AJ,0,①会場アンケート集計結果_エコドライブ!$H:$H,D34,①会場アンケート集計結果_エコドライブ!$I:$I,E34)","v":0},{"$error":"#DIV/0!"}]
[null,null,null,"女性",null,null,{"$f":"SUM(G36:G42)","v":0},{"$error":"#DIV/0!"}]
[null,null,null,"女性","10代",null,{"$f":"COUNTIFS(①会場アンケート集計結果_エコドライブ!$AJ:$AJ,0,①会場アンケート集計結果_エコドライブ!$H:$H,D36,①会場アンケート集計結果_エコドライブ!$I:$I,E36)","v":0},{"$error":"#DIV/0!"}]
[null,null,null,"女性","20代",null,{"$f":"COUNTIFS(①会場アンケート集計結果_エコドライブ!$AJ:$AJ,0,①会場アンケート集計結果_エコドライブ!$H:$H,D37,①会場アンケート集計結果_エコドライブ!$I:$I,E37)","v":0},{"$error":"#DIV/0!"}]
[null,null,null,"女性","30代",null,{"$f":"COUNTIFS(①会場アンケート集計結果_エコドライブ!$AJ:$AJ,0,①会場アンケート集計結果_エコドライブ!$H:$H,D38,①会場アンケート集計結果_エコドライブ!$I:$I,E38)","v":0},{"$error":"#DIV/0!"}]
[null,null,null,"女性","40代",null,{"$f":"COUNTIFS(①会場アンケート集計結果_エコドライブ!$AJ:$AJ,0,①会場アンケート集計結果_エコドライブ!$H:$H,D39,①会場アンケート集計結果_エコドライブ!$I:$I,E39)","v":0},{"$error":"#DIV/0!"}]
[null,null,null,"女性","50代",null,{"$f":"COUNTIFS(①会場アンケート集計結果_エコドライブ!$AJ:$AJ,0,①会場アンケート集計結果_エコドライブ!$H:$H,D40,①会場アンケート集計結果_エコドライブ!$I:$I,E40)","v":0},{"$error":"#DIV/0!"}]
[null,null,null,"女性","60代",null,{"$f":"COUNTIFS(①会場アンケート集計結果_エコドライブ!$AJ:$AJ,0,①会場アンケート集計結果_エコドライブ!$H:$H,D41,①会場アンケート集計結果_エコドライブ!$I:$I,E41)","v":0},{"$error":"#DIV/0!"}]
[null,null,null,"女性","70代以上",null,{"$f":"COUNTIFS(①会場アンケート集計結果_エコドライブ!$AJ:$AJ,0,①会場アンケート集計結果_エコドライブ!$H:$H,D42,①会場アンケート集計結果_エコドライブ!$I:$I,E42)","v":0},{"$error":"#DIV/0!"}]
[null,null,null,"その他","その他",null,{"$f":"COUNTIFS(①会場アンケート集計結果_エコドライブ!$AJ:$AJ,0,①会場アンケート集計結果_エコドライブ!$H:$H,D43,①会場アンケート集計結果_エコドライブ!$I:$I,\"<>\"&D44)","v":0},{"$f":"G43/$D$7","v":{"$error":"#DIV/0!"}}]
[null,null,null,"未回答","未回答",null,{"$f":"COUNTIFS(①会場アンケート集計結果_エコドライブ!$AJ:$AJ,0,①会場アンケート集計結果_エコドライブ!$H:$H,D44,①会場アンケート集計結果_エコドライブ!$I:$I,\"<>\")\n+COUNTIFS(①会場アンケート集計結果_エコドライブ!$AJ:$AJ,0,①会場アンケート集計結果_エコドライブ!$H:$H,\"<>\",①会場アンケート集計結果_エコドライブ!$I:$I,E44)\n-COUNTIFS(①会場アンケート集計結果_エコドライブ!$AJ:$AJ,0,①会場アンケート集計結果_エコドライブ!$H:$H,D44,①会場アンケート集計結果_エコドライブ!$I:$I,E44)","v":0},{"$error":"#DIV/0!"},{"$f":"SUM(G36:G44,G28:G34)","v":0}]
[]
[]
[]
[null,"【設問1-2】車を所有していますか。（いくつでも）"]
[]
[]
[null,null,null,null,null,null,"回答者数","%"]
[null,"車の所有状況",1,"ガソリン車",null,null,{"$f":"COUNTIFS(①会場アンケート集計結果_エコドライブ!$AJ:$AJ,0,①会場アンケート集計結果_エコドライブ!$J:$J,1)","v":0},{"$f":"G52/$D$7","v":{"$error":"#DIV/0!"}}]
[null,null,2,"ハイブリッド車",null,null,{"$f":"COUNTIFS(①会場アンケート集計結果_エコドライブ!$AJ:$AJ,0,①会場アンケート集計結果_エコドライブ!$K:$K,1)","v":0},{"$f":"G53/$D$7","v":{"$error":"#DIV/0!"}}]
[null,null,3,"電気自動車",null,null,{"$f":"COUNTIFS(①会場アンケート集計結果_エコドライブ!$AJ:$AJ,0,①会場アンケート集計結果_エコドライブ!$L:$L,1)","v":0},{"$error":"#DIV/0!"}]
[null,null,4,"ディーゼル車",null,null,{"$f":"COUNTIFS(①会場アンケート集計結果_エコドライブ!$AJ:$AJ,0,①会場アンケート集計結果_エコドライブ!$M:$M,1)","v":0},{"$error":"#DIV/0!"}]
[null,null,5,"プラグインハイブリッド車",null,null,{"$f":"COUNTIFS(①会場アンケート集計結果_エコドライブ!$AJ:$AJ,0,①会場アンケート集計結果_エコドライブ!$N:$N,1)","v":0},{"$error":"#DIV/0!"}]
[null,null,6,"燃料電池車",null,null,{"$f":"COUNTIFS(①会場アンケート集計結果_エコドライブ!$AJ:$AJ,0,①会場アンケート集計結果_エコドライブ!$O:$O,1)","v":0},{"$error":"#DIV/0!"}]
[null,null,7,"その他",null,null,{"$f":"COUNTIFS(①会場アンケート集計結果_エコドライブ!$AJ:$AJ,0,①会場アンケート集計結果_エコドライブ!$P:$P,1)","v":0},{"$error":"#DIV/0!"}]
[null,null,8,"持っていない",null,null,{"$f":"COUNTIFS(①会場アンケート集計結果_エコドライブ!$AJ:$AJ,0,①会場アンケート集計結果_エコドライブ!$S:$S,1)","v":0},{"$error":"#DIV/0!"}]
[null,null,99,"未回答",null,null,{"$f":"COUNTIFS(①会場アンケート集計結果_エコドライブ!$AJ:$AJ,0,①会場アンケート集計結果_エコドライブ!$J:$J,99)","v":0},{"$error":"#DIV/0!"}]
[]
[]
[]
[]
[]
[]
[null,"【設問2】現在のエコドライブの実施状況についてお聞かせください（1つ回答）。"]
[]
[null,null,null,null,null,null,null,null,null,"回答者数","有効回答者数","%"]
[null,"これまでのエコドライブ実施状況",1,"常に行っている",null,null,null,null,null,{"$f":"COUNTIFS(①会場アンケート集計結果_エコドライブ!$T$8:$T$2007,$C70)","v":0},{"$f":"COUNTIFS(①会場アンケート集計結果_エコドライブ!$T$8:$T$2007,$C70,①会場アンケート集計結果_エコドライブ!$AJ$8:$AJ$2007,)","v":0},{"$f":"K70/$D$7","v":{"$error":"#DIV/0!"}}]
[null,null,2,"気づいたときに行っている",null,null,null,null,null,{"$f":"COUNTIFS(①会場アンケート集計結果_エコドライブ!$T$8:$T$2007,$C71)","v":0},{"$f":"COUNTIFS(①会場アンケート集計結果_エコドライブ!$T$8:$T$2007,$C71,①会場アンケート集計結果_エコドライブ!$AJ$8:$AJ$2007,)","v":0},{"$f":"K71/$D$7","v":{"$error":"#DIV/0!"}}]
[null,null,3,"行っていないが、行いたいと思っている",null,null,null,null,null,{"$f":"COUNTIFS(①会場アンケート集計結果_エコドライブ!$T$8:$T$2007,$C72)","v":0},{"$f":"COUNTIFS(①会場アンケート集計結果_エコドライブ!$T$8:$T$2007,$C72,①会場アンケート集計結果_エコドライブ!$AJ$8:$AJ$2007,)","v":0},{"$error":"#DIV/0!"}]
[null,null,4,"行っておらず、行いたいとも思わない",null,null,null,null,null,{"$f":"COUNTIFS(①会場アンケート集計結果_エコドライブ!$T$8:$T$2007,$C73)","v":0},{"$f":"COUNTIFS(①会場アンケート集計結果_エコドライブ!$T$8:$T$2007,$C73,①会場アンケート集計結果_エコドライブ!$AJ$8:$AJ$2007,)","v":0},{"$error":"#DIV/0!"}]
[null,null,5,"当てはまらない（自動車運転免許を持っていない／普段運転しないなど）",null,null,null,null,null,{"$f":"COUNTIFS(①会場アンケート集計結果_エコドライブ!$T$8:$T$2007,$C74)","v":0},{"$f":"COUNTIFS(①会場アンケート集計結果_エコドライブ!$T$8:$T$2007,$C74,①会場アンケート集計結果_エコドライブ!$AJ$8:$AJ$2007,)","v":0},{"$error":"#DIV/0!"},"無効回答（対象外）"]
[null,null,99,"未回答",null,null,null,null,null,{"$f":"COUNTIFS(①会場アンケート集計結果_エコドライブ!$T$8:$T$2007,$C75)","v":0},{"$f":"COUNTIFS(①会場アンケート集計結果_エコドライブ!$T$8:$T$2007,$C75,①会場アンケート集計結果_エコドライブ!$AJ$8:$AJ$2007,)","v":0},{"$error":"#DIV/0!"}]
[null,null,null,null,null,null,null,"検算用","回答者数",{"$f":"SUM(J70:J75)","v":0}]
[null,null,null,null,null,null,null,null,"有効回答数",null,{"$f":"SUM(K70:K75)","v":0}]
[]
[]
[]
[]
[]
[]
[]
[]
[]
[]
[]
[]
[]
[]
[null,"【設問3】イベントに参加されて、エコドライブを実施したいと思いましたか（1つ回答）。"]
[]
[null,null,null,null,null,null,null,null,null,"回答者数","%"]
[null,"今後のエコドライブ実施意向",1,"現在も常に行っており、今後も行いたい",null,null,null,null,null,{"$f":"COUNTIFS(①会場アンケート集計結果_エコドライブ!$AJ$8:$AJ$2007,0,①会場アンケート集計結果_エコドライブ!$V$8:$V$2007,$C95)","v":0},{"$f":"J95/$D$7","v":{"$error":"#DIV/0!"}}]
[null,null,2,"これまで行う頻度は少なかったが、今後は常に行いたい",null,null,null,null,null,{"$f":"COUNTIFS(①会場アンケート集計結果_エコドライブ!$AJ$8:$AJ$2007,0,①会場アンケート集計結果_エコドライブ!$V$8:$V$2007,$C96)","v":0},{"$error":"#DIV/0!"}]
[null,null,3,"機会があれば行いたい",null,null,null,null,null,{"$f":"COUNTIFS(①会場アンケート集計結果_エコドライブ!$AJ$8:$AJ$2007,0,①会場アンケート集計結果_エコドライブ!$V$8:$V$2007,$C97)","v":0},{"$error":"#DIV/0!"}]
[null,null,4,"行いたいとは思わない",null,null,null,null,null,{"$f":"COUNTIFS(①会場アンケート集計結果_エコドライブ!$AJ$8:$AJ$2007,0,①会場アンケート集計結果_エコドライブ!$V$8:$V$2007,$C98)","v":0},{"$error":"#DIV/0!"}]
[null,null,5,"わからない",null,null,null,null,null,{"$f":"COUNTIFS(①会場アンケート集計結果_エコドライブ!$AJ$8:$AJ$2007,0,①会場アンケート集計結果_エコドライブ!$V$8:$V$2007,$C99)","v":0},{"$error":"#DIV/0!"}]
[null,null,99,"未回答",null,null,null,null,null,{"$f":"COUNTIFS(①会場アンケート集計結果_エコドライブ!$AJ$8:$AJ$2007,0,①会場アンケート集計結果_エコドライブ!$V$8:$V$2007,$C100)","v":0},{"$error":"#DIV/0!"}]
[null,null,null,null,null,null,null,"検算用","有効回答数",{"$f":"SUM(J95:J100)","v":0}]
[]
[]
[]
[]
[]
[]
[]
[]
[]
[]
[]
[]
[]
[]
[]
[]
[]
[]
[]
[null,"【設問4】なぜ、エコドライブを実施していますか/実施したいと思いましたか（3つまで）。"]
[]
[null,null,null,null,null,null,null,null,null,"回答者数","%"]
[null,"実施意向の理由",1,"CO2の削減に貢献するため",null,null,null,null,null,{"$f":"COUNTIFS(①会場アンケート集計結果_エコドライブ!$AJ$8:$AJ$2007,0,①会場アンケート集計結果_エコドライブ!$X$8:$X$2007,1)","v":0},{"$f":"J124/$D$7","v":{"$error":"#DIV/0!"}}]
[null,null,2,"これまでの運転よりもガソリン代などの燃料代が安くなると思ったため",null,null,null,null,null,{"$f":"COUNTIFS(①会場アンケート集計結果_エコドライブ!$AJ$8:$AJ$2007,0,①会場アンケート集計結果_エコドライブ!$Y$8:$Y$2007,1)","v":0},{"$error":"#DIV/0!"}]
[null,null,3,"これまでの運転よりも安全運転になると思ったため",null,null,null,null,null,{"$f":"COUNTIFS(①会場アンケート集計結果_エコドライブ!$AJ$8:$AJ$2007,0,①会場アンケート集計結果_エコドライブ!$Z$8:$Z$2007,1)","v":0},{"$error":"#DIV/0!"}]
[null,null,4,"みんな（周りの人）がエコドライブを行っているため",null,null,null,null,null,{"$f":"COUNTIFS(①会場アンケート集計結果_エコドライブ!$AJ$8:$AJ$2007,0,①会場アンケート集計結果_エコドライブ!$AA$8:$AA$2007,1)","v":0},{"$f":"J127/$D$7","v":{"$error":"#DIV/0!"}}]
[null,null,5,"その他",null,null,null,null,null,{"$f":"COUNTIFS(①会場アンケート集計結果_エコドライブ!$AJ$8:$AJ$2007,0,①会場アンケート集計結果_エコドライブ!$AB$8:$AB$2007,1)","v":0},{"$error":"#DIV/0!"}]
[null,null,6,"特に理由はない・なんとなく",null,null,null,null,null,{"$f":"COUNTIFS(①会場アンケート集計結果_エコドライブ!$AJ$8:$AJ$2007,0,①会場アンケート集計結果_エコドライブ!$AD$8:$AD$2007,1)","v":0},{"$error":"#DIV/0!"}]
[null,null,99,"未回答",null,null,null,null,null,{"$f":"COUNTIFS(①会場アンケート集計結果_エコドライブ!$AJ$8:$AJ$2007,0,①会場アンケート集計結果_エコドライブ!$AE$8:$AE$2007,1)","v":0},{"$error":"#DIV/0!"}]
[]
[]
[]
[]
[]
[]
[]
[]
[]
[]
[]
[]
[]
[]
[]
[]
[]
[]
[]
[]
[]
[]
[null,"【設問2、3】行動変容・意識変容"]
[]
[null,null,null,null,null,null,"回答者数","%","検算用"]
[null,"行動済み",null,null,null,null,{"$f":"SUM(L167:L168)","v":0},{"$f":"G156/$D$7","v":{"$error":"#DIV/0!"}}]
[null,"意識変容",null,null,null,null,{"$f":"SUM(L169:L172)","v":0},{"$f":"G157/$D$7","v":{"$error":"#DIV/0!"}}]
[null,"現状維持",null,null,null,null,{"$f":"SUM(L173:L176)","v":0},{"$error":"#DIV/0!"}]
[null,"マイナス変容",null,null,null,null,{"$f":"SUM(L177:L182)","v":0},{"$error":"#DIV/0!"}]
[null,"＜無効回答＞回答に矛盾があるため除外",null,null,null,null,{"$f":"SUM(L183:L187)","v":0},{"$error":"#DIV/0!"}]
[null,"＜無効回答＞対象外（自動車運転免許を保有していない等）",null,null,null,null,{"$f":"SUM(L188:L192)","v":0},{"$error":"#DIV/0!"},{"$f":"SUM(G156:G159)","v":0},"←有効回答"]
[null,"対象外（一部未回答）",null,null,null,null,{"$f":"SUM(L193:L202)","v":0},{"$error":"#DIV/0!"},{"$f":"SUM(G156:G162)","v":0}]
[]
[]
[null,"変容定義"]
[null,null,null,"イベント前",null,null,null,"今後",null,null,null,"回答者数"]
[null,"行動済み",null,1,"常に行っている",null,null,1,"現在も常に行っており、今後も行いたい",null,null,{"$f":"COUNTIFS(①会場アンケート集計結果_エコドライブ!$T$8:$T$5007,'②単純集計表 '!$D167,①会場アンケート集計結果_エコドライブ!$V$8:$V$5007,'②単純集計表 '!$H167)","v":0}]
[null,null,null,1,"常に行っている",null,null,99,"未回答",null,null,0]
[null,"意識変容",null,2,"気づいたときに行っている",null,null,2,"これまで行う頻度は少なかったが、今後は常に行いたい",null,null,{"$f":"COUNTIFS(①会場アンケート集計結果_エコドライブ!$T$8:$T$5007,'②単純集計表 '!$D169,①会場アンケート集計結果_エコドライブ!$V$8:$V$5007,'②単純集計表 '!$H169)","v":0}]
[null,null,null,3,"行っていないが、行いたいと思っている",null,null,2,"これまで行う頻度は少なかったが、今後は常に行いたい",null,null,{"$f":"COUNTIFS(①会場アンケート集計結果_エコドライブ!$T$8:$T$5007,'②単純集計表 '!$D170,①会場アンケート集計結果_エコドライブ!$V$8:$V$5007,'②単純集計表 '!$H170)","v":0}]
[null,null,null,4,"行っておらず、行いたいとも思わない",null,null,2,"これまで行う頻度は少なかったが、今後は常に行いたい",null,null,{"$f":"COUNTIFS(①会場アンケート集計結果_エコドライブ!$T$8:$T$5007,'②単純集計表 '!$D171,①会場アンケート集計結果_エコドライブ!$V$8:$V$5007,'②単純集計表 '!$H171)","v":0}]
[null,null,null,4,"行っておらず、行いたいとも思わない",null,null,3,"機会があれば行いたい",null,null,{"$f":"COUNTIFS(①会場アンケート集計結果_エコドライブ!$T$8:$T$5007,'②単純集計表 '!$D172,①会場アンケート集計結果_エコドライブ!$V$8:$V$5007,'②単純集計表 '!$H172)","v":0}]
[null,"現状維持",null,2,"気づいたときに行っている",null,null,3,"機会があれば行いたい",null,null,{"$f":"COUNTIFS(①会場アンケート集計結果_エコドライブ!$T$8:$T$5007,'②単純集計表 '!$D173,①会場アンケート集計結果_エコドライブ!$V$8:$V$5007,'②単純集計表 '!$H173)","v":0}]
[null,null,null,3,"行っていないが、行いたいと思っている",null,null,3,"機会があれば行いたい",null,null,{"$f":"COUNTIFS(①会場アンケート集計結果_エコドライブ!$T$8:$T$5007,'②単純集計表 '!$D174,①会場アンケート集計結果_エコドライブ!$V$8:$V$5007,'②単純集計表 '!$H174)","v":0}]
[null,null,null,4,"行っておらず、行いたいとも思わない",null,null,4,"行いたいとは思わない",null,null,{"$f":"COUNTIFS(①会場アンケート集計結果_エコドライブ!$T$8:$T$5007,'②単純集計表 '!$D175,①会場アンケート集計結果_エコドライブ!$V$8:$V$5007,'②単純集計表 '!$H175)","v":0}]
[null,null,null,4,"興味がなかった",null,null,5,"わからない",null,null,{"$f":"COUNTIFS(①会場アンケート集計結果_エコドライブ!$T$8:$T$5007,'②単純集計表 '!$D176,①会場アンケート集計結果_エコドライブ!$V$8:$V$5007,'②単純集計表 '!$H176)","v":0}]
[null,"マイナス変容",null,1,"常に行っている",null,null,4,"行いたいとは思わない",null,null,{"$f":"COUNTIFS(①会場アンケート集計結果_エコドライブ!$T$8:$T$5007,'②単純集計表 '!$D177,①会場アンケート集計結果_エコドライブ!$V$8:$V$5007,'②単純集計表 '!$H177)","v":0}]
[null,null,null,2,"気づいたときに行っている",null,null,4,"行いたいとは思わない",null,null,{"$f":"COUNTIFS(①会場アンケート集計結果_エコドライブ!$T$8:$T$5007,'②単純集計表 '!$D178,①会場アンケート集計結果_エコドライブ!$V$8:$V$5007,'②単純集計表 '!$H178)","v":0}]
[null,null,null,3,"行っていないが、行いたいと思っている",null,null,4,"行いたいとは思わない",null,null,{"$f":"COUNTIFS(①会場アンケート集計結果_エコドライブ!$T$8:$T$5007,'②単純集計表 '!$D179,①会場アンケート集計結果_エコドライブ!$V$8:$V$5007,'②単純集計表 '!$H179)","v":0}]
[null,null,null,1,"常に行っている",null,null,5,"わからない",null,null,{"$f":"COUNTIFS(①会場アンケート集計結果_エコドライブ!$T$8:$T$5007,'②単純集計表 '!$D180,①会場アンケート集計結果_エコドライブ!$V$8:$V$5007,'②単純集計表 '!$H180)","v":0}]
[null,null,null,2,"気づいたときに行っている",null,null,5,"わからない",null,null,{"$f":"COUNTIFS(①会場アンケート集計結果_エコドライブ!$T$8:$T$5007,'②単純集計表 '!$D181,①会場アンケート集計結果_エコドライブ!$V$8:$V$5007,'②単純集計表 '!$H181)","v":0}]
[null,null,null,3,"行っていないが、行いたいと思っている",null,null,5,"わからない",null,null,{"$f":"COUNTIFS(①会場アンケート集計結果_エコドライブ!$T$8:$T$5007,'②単純集計表 '!$D182,①会場アンケート集計結果_エコドライブ!$V$8:$V$5007,'②単純集計表 '!$H182)","v":0}]
[null,"<無効回答>\n回答に矛盾があるため除外",null,1,"常に行っている",null,null,2,"これまで行う頻度は少なかったが、今後は常に行いたい",null,null,{"$f":"COUNTIFS(①会場アンケート集計結果_エコドライブ!$T$8:$T$5007,'②単純集計表 '!$D183,①会場アンケート集計結果_エコドライブ!$V$8:$V$5007,'②単純集計表 '!$H183)","v":0}]
[null,null,null,1,"常に行っている",null,null,3,"機会があれば行いたい",null,null,{"$f":"COUNTIFS(①会場アンケート集計結果_エコドライブ!$T$8:$T$5007,'②単純集計表 '!$D184,①会場アンケート集計結果_エコドライブ!$V$8:$V$5007,'②単純集計表 '!$H184)","v":0}]
[null,null,null,2,"気づいたときに行っている",null,null,1,"現在も常に行っており、今後も行いたい",null,null,{"$f":"COUNTIFS(①会場アンケート集計結果_エコドライブ!$T$8:$T$5007,'②単純集計表 '!$D185,①会場アンケート集計結果_エコドライブ!$V$8:$V$5007,'②単純集計表 '!$H185)","v":0}]
[null,null,null,3,"行っていないが、行いたいと思っている",null,null,1,"現在も常に行っており、今後も行いたい",null,null,{"$f":"COUNTIFS(①会場アンケート集計結果_エコドライブ!$T$8:$T$5007,'②単純集計表 '!$D186,①会場アンケート集計結果_エコドライブ!$V$8:$V$5007,'②単純集計表 '!$H186)","v":0}]
[null,null,null,4,"行っておらず、行いたいとも思わない",null,null,1,"現在も常に行っており、今後も行いたい",null,null,{"$f":"COUNTIFS(①会場アンケート集計結果_エコドライブ!$T$8:$T$5007,'②単純集計表 '!$D187,①会場アンケート集計結果_エコドライブ!$V$8:$V$5007,'②単純集計表 '!$H187)","v":0}]
[null,"＜無効回答＞\n対象外（自動車運転免許を保有していない等）",null,5,"当てはまらない（自動車運転免許を持っていない／普段運転しないなど）",null,null,1,"現在も常に行っており、今後も行いたい",null,null,{"$f":"COUNTIFS(①会場アンケート集計結果_エコドライブ!$T$8:$T$5007,'②単純集計表 '!$D188,①会場アンケート集計結果_エコドライブ!$V$8:$V$5007,'②単純集計表 '!$H188)","v":0}]
[null,null,null,5,"当てはまらない（自動車運転免許を持っていない／普段運転しないなど）",null,null,2,"これまで行う頻度は少なかったが、今後は常に行いたい",null,null,{"$f":"COUNTIFS(①会場アンケート集計結果_エコドライブ!$T$8:$T$5007,'②単純集計表 '!$D189,①会場アンケート集計結果_エコドライブ!$V$8:$V$5007,'②単純集計表 '!$H189)","v":0}]
[null,null,null,5,"当てはまらない（自動車運転免許を持っていない／普段運転しないなど）",null,null,3,"機会があれば行いたい",null,null,{"$f":"COUNTIFS(①会場アンケート集計結果_エコドライブ!$T$8:$T$5007,'②単純集計表 '!$D190,①会場アンケート集計結果_エコドライブ!$V$8:$V$5007,'②単純集計表 '!$H190)","v":0}]
[null,null,null,5,"当てはまらない（自動車運転免許を持っていない／普段運転しないなど）",null,null,4,"行いたいとは思わない",null,null,{"$f":"COUNTIFS(①会場アンケート集計結果_エコドライブ!$T$8:$T$5007,'②単純集計表 '!$D191,①会場アンケート集計結果_エコドライブ!$V$8:$V$5007,'②単純集計表 '!$H191)","v":0}]
[null,null,null,5,"当てはまらない（自動車運転免許を持っていない／普段運転しないなど）",null,null,5,"わからない",null,null,{"$f":"COUNTIFS(①会場アンケート集計結果_エコドライブ!$T$8:$T$5007,'②単純集計表 '!$D192,①会場アンケート集計結果_エコドライブ!$V$8:$V$5007,'②単純集計表 '!$H192)","v":0}]
[null,"＜無効回答＞\n対象外（一部未回答）",null,99,"未回答",null,null,1,"現在も常に行っており、今後も行いたい",null,null,{"$f":"COUNTIFS(①会場アンケート集計結果_エコドライブ!$T$8:$T$5007,'②単純集計表 '!$D193,①会場アンケート集計結果_エコドライブ!$V$8:$V$5007,'②単純集計表 '!$H193)","v":0}]
[null,null,null,99,"未回答",null,null,2,"これまで行う頻度は少なかったが、今後は常に行いたい",null,null,{"$f":"COUNTIFS(①会場アンケート集計結果_エコドライブ!$T$8:$T$5007,'②単純集計表 '!$D194,①会場アンケート集計結果_エコドライブ!$V$8:$V$5007,'②単純集計表 '!$H194)","v":0}]
[null,null,null,99,"未回答",null,null,3,"機会があれば行いたい",null,null,{"$f":"COUNTIFS(①会場アンケート集計結果_エコドライブ!$T$8:$T$5007,'②単純集計表 '!$D195,①会場アンケート集計結果_エコドライブ!$V$8:$V$5007,'②単純集計表 '!$H195)","v":0}]
[null,null,null,99,"未回答",null,null,4,"行いたいとは思わない",null,null,{"$f":"COUNTIFS(①会場アンケート集計結果_エコドライブ!$T$8:$T$5007,'②単純集計表 '!$D196,①会場アンケート集計結果_エコドライブ!$V$8:$V$5007,'②単純集計表 '!$H196)","v":0}]
[null,null,null,99,"未回答",null,null,5,"わからない",null,null,{"$f":"COUNTIFS(①会場アンケート集計結果_エコドライブ!$T$8:$T$5007,'②単純集計表 '!$D197,①会場アンケート集計結果_エコドライブ!$V$8:$V$5007,'②単純集計表 '!$H197)","v":0}]
[null,null,null,99,"未回答",null,null,99,"未回答",null,null,{"$f":"COUNTIFS(①会場アンケート集計結果_エコドライブ!$T$8:$T$5007,'②単純集計表 '!$D198,①会場アンケート集計結果_エコドライブ!$V$8:$V$5007,'②単純集計表 '!$H198)","v":0}]
[null,null,null,2,"気づいたときに行っている",null,null,99,"未回答",null,null,{"$f":"COUNTIFS(①会場アンケート集計結果_エコドライブ!$T$8:$T$5007,'②単純集計表 '!$D199,①会場アンケート集計結果_エコドライブ!$V$8:$V$5007,'②単純集計表 '!$H199)","v":0}]
[null,null,null,3,"行っていないが、行いたいと思っている",null,null,99,"未回答",null,null,{"$f":"COUNTIFS(①会場アンケート集計結果_エコドライブ!$T$8:$T$5007,'②単純集計表 '!$D200,①会場アンケート集計結果_エコドライブ!$V$8:$V$5007,'②単純集計表 '!$H200)","v":0}]
[null,null,null,4,"行っておらず、行いたいとも思わない",null,null,99,"未回答",null,null,{"$f":"COUNTIFS(①会場アンケート集計結果_エコドライブ!$T$8:$T$5007,'②単純集計表 '!$D201,①会場アンケート集計結果_エコドライブ!$V$8:$V$5007,'②単純集計表 '!$H201)","v":0}]
[null,null,null,5,"当てはまらない（自動車運転免許を持っていない／普段運転しないなど）",null,null,99,"未回答",null,null,{"$f":"COUNTIFS(①会場アンケート集計結果_エコドライブ!$T$8:$T$5007,'②単純集計表 '!$D202,①会場アンケート集計結果_エコドライブ!$V$8:$V$5007,'②単純集計表 '!$H202)","v":0}]
[null,null,null,null,null,null,null,null,null,null,"＜検算用＞"]
[null,null,null,null,null,null,null,null,null,null,"合計⇒",{"$f":"SUM(L167:L202)","v":0}]
[null,null,null,null,null,null,null,null,null,null,"有効回答（無効回答・対象外を除く）⇒",{"$f":"SUM(L167:L182)","v":0}]

{"sheet":"参照⇒","index":5,"n_rows":0,"n_cols":0,"rows_kept":0,"cut":false,"hidden":false,"merged":[]}

{"sheet":"読み替え表_エコドライブ","index":6,"n_rows":52,"n_cols":17,"rows_kept":52,"cut":false,"hidden":false,"merged":[[33,4,33,7],[32,4,32,7],[31,4,31,7],[31,10,31,14],[32,10,32,14],[33,10,33,14],[42,4,42,7],[36,10,36,14],[36,4,36,7],[35,4,35,7],[34,4,34,7],[34,10,34,14],[35,10,35,14],[37,4,37,7],[38,4,38,7],[39,4,39,7],[40,4,40,7],[41,4,41,7],[43,4,43,7],[44,4,44,7],[45,4,45,7],[46,4,46,7],[47,4,47,7],[47,10,47,14],[48,10,48,14],[49,4,49,7],[50,4,50,7],[51,4,51,7],[49,10,49,14],[50,10,50,14],[51,10,51,14],[48,4,48,7],[46,10,46,14],[37,10,37,14],[38,10,38,14],[39,10,39,14],[40,10,40,14],[41,10,41,14],[42,10,42,14],[43,10,43,14],[44,10,44,14],[45,10,45,14]]}
[]
[null,"・車の所有状況"]
[null,null,1,"所持している/該当する"]
[]
[null,"・これまでのエコドライブ実施状況について"]
[null,null,1,"常に行っている"]
[null,null,2,"気づいたときに行っている"]
[null,null,3,"行っていないが、行いたいと思っている"]
[null,null,4,"行っておらず、行いたいとも思わない"]
[null,null,5,"当てはまらない（自動車運転免許を持っていない／普段運転しないなど）"]
[null,null,99,"未回答"]
[]
[null,"・今後のエコドライブ実施意向について"]
[null,null,1,"現在も常に行っており、今後も行いたい"]
[null,null,2,"これまで行う頻度は少なかったが、今後は常に行いたい"]
[null,null,3,"機会があれば行いたい"]
[null,null,4,"行いたいとは思わない"]
[null,null,5,"わからない"]
[null,null,99,"未回答"]
[]
[null,"・実施意向の理由について"]
[null,null,1,"CO2の削減に貢献するため"]
[null,null,2,"これまでの運転よりもガソリン代などの燃料代が安くなると思ったため"]
[null,null,3,"これまでの運転よりも安全運転になると思ったため"]
[null,null,4,"みんな（周りの人）がエコドライブを行っているため"]
[null,null,5,"その他"]
[null,null,6,"特に理由はない・なんとなく"]
[null,null,99,"未回答"]
[]
[null,"・無効回答の定義：回答に矛盾があるため除外"]
[]
[null,null,null,"Q2の回答","普及啓発前（読替）",null,null,null,null,"Q3の回答","普及啓発後",null,null,null,null,"エラー参照用フラグ"]
[null,null,{"$f":"'②単純集計表 '!D183&\"/\"&'②単純集計表 '!H183","v":"1/2"},1,"常に行っている",null,null,null,"⇒",2,"これまで行う頻度は少なかったが、今後は常に行いたい",null,null,null,null,"1/2","※普及啓発前（アンケート回答時点）に「常に行っている」と回答しているにもかかわらず、普及啓発直後（アンケート回答時点）に常に行って「いない」と回答している"]
[null,null,{"$f":"'②単純集計表 '!D184&\"/\"&'②単純集計表 '!H184","v":"1/3"},1,"常に行っている",null,null,null,"⇒",3,"機会があれば行いたい",null,null,null,null,"1/3","※普及啓発前（アンケート回答時点）に「常に行っている」と回答しているにもかかわらず、普及啓発直後（アンケート回答時点）に常に行って「いない」と回答している"]
[null,null,{"$f":"'②単純集計表 '!D185&\"/\"&'②単純集計表 '!H185","v":"2/1"},2,"気づいたときに行っている",null,null,null,"⇒",1,"現在も常に行っており、今後も行いたい",null,null,null,null,"2/1","※普及啓発前（アンケート回答時点）に「常に行っている」と回答していないにもかかわらず、普及啓発直後（アンケート回答時点）に「常に行っている」と回答している"]
[null,null,{"$f":"'②単純集計表 '!D186&\"/\"&'②単純集計表 '!H186","v":"3/1"},3,"行っていないが、行いたいと思っている",null,null,null,"⇒",1,"現在も常に行っており、今後も行いたい",null,null,null,null,"3/1","※普及啓発前（アンケート回答時点）に「常に行っている」と回答していないにもかかわらず、普及啓発直後（アンケート回答時点）に「常に行っている」と回答している"]
[null,null,{"$f":"'②単純集計表 '!D187&\"/\"&'②単純集計表 '!H187","v":"4/1"},4,"行っておらず、行いたいとも思わない",null,null,null,"⇒",1,"現在も常に行っており、今後も行いたい",null,null,null,null,"4/1","※普及啓発前（アンケート回答時点）に「常に行っている」と回答していないにもかかわらず、普及啓発直後（アンケート回答時点）に「常に行っている」と回答している"]
[null,null,"5/1",5,"当てはまらない（自動車運転免許を持っていない／普段運転しないなど）",null,null,null,"⇒",1,"現在も常に行っており、今後も行いたい",null,null,null,null,"5/1","※自動車運転免許を持っていないなど、自動車を利用しないため"]
[null,null,"5/2",5,"当てはまらない（自動車運転免許を持っていない／普段運転しないなど）",null,null,null,"⇒",2,"これまで行う頻度は少なかったが、今後は常に行いたい",null,null,null,null,"5/2","※自動車運転免許を持っていないなど、自動車を利用しないため"]
[null,null,"5/3",5,"当てはまらない（自動車運転免許を持っていない／普段運転しないなど）",null,null,null,"⇒",3,"機会があれば行いたい",null,null,null,null,"5/3","※自動車運転免許を持っていないなど、自動車を利用しないため"]
[null,null,"5/4",5,"当てはまらない（自動車運転免許を持っていない／普段運転しないなど）",null,null,null,"⇒",4,"行いたいとは思わない",null,null,null,null,"5/4","※自動車運転免許を持っていないなど、自動車を利用しないため"]
[null,null,"5/5",5,"当てはまらない（自動車運転免許を持っていない／普段運転しないなど）",null,null,null,"⇒",5,"わからない",null,null,null,null,"5/5","※自動車運転免許を持っていないなど、自動車を利用しないため"]
[null,null,"99/1",99,"未回答",null,null,null,"⇒",1,"現在も常に行っており、今後も行いたい",null,null,null,null,"99/1","※一部設問が未回答であり、普及啓発効果が測定できないため"]
[null,null,"99/2",99,"未回答",null,null,null,"⇒",2,"これまで行う頻度は少なかったが、今後は常に行いたい",null,null,null,null,"99/2","※一部設問が未回答であり、普及啓発効果が測定できないため"]
[null,null,"99/3",99,"未回答",null,null,null,"⇒",3,"機会があれば行いたい",null,null,null,null,"99/3","※一部設問が未回答であり、普及啓発効果が測定できないため"]
[null,null,"99/4",99,"未回答",null,null,null,"⇒",4,"行いたいとは思わない",null,null,null,null,"99/4","※一部設問が未回答であり、普及啓発効果が測定できないため"]
[null,null,"99/5",99,"未回答",null,null,null,"⇒",5,"わからない",null,null,null,null,"99/5","※一部設問が未回答であり、普及啓発効果が測定できないため"]
[null,null,"99/99",99,"未回答",null,null,null,"⇒",99,"未回答",null,null,null,null,"99/99","※一部設問が未回答であり、普及啓発効果が測定できないため"]
[null,null,"2/99",2,"気づいたときに行っている",null,null,null,"⇒",99,"未回答",null,null,null,null,"2/99","※一部設問が未回答であり、普及啓発効果が測定できないため"]
[null,null,"3/99",3,"行っていないが、行いたいと思っている",null,null,null,"⇒",99,"未回答",null,null,null,null,"3/99","※一部設問が未回答であり、普及啓発効果が測定できないため"]
[null,null,"4/99",4,"行っておらず、行いたいとも思わない",null,null,null,"⇒",99,"未回答",null,null,null,null,"4/99","※一部設問が未回答であり、普及啓発効果が測定できないため"]
[null,null,"5/99",5,"当てはまらない（自動車運転免許を持っていない／普段運転しないなど）",null,null,null,"⇒",99,"未回答",null,null,null,null,"5/99","※一部設問が未回答であり、普及啓発効果が測定できないため"]