{"text_format":"1","workbook":"xlsx","n_sheets":7,"sheets":["入力手順","ローデータ⇒","①会場アンケート集計結果_省エネ住宅","集計結果⇒","②単純集計表 ","参照⇒","③読み替え表_省エネ住宅"],"not_rendered":{"charts":6,"images":0,"macros":1,"external_links":0,"defined_names":1,"comments":0,"pivot_tables":0},"unopened":[],"bounds":{"document_bytes":16777216,"sheet_cells":100000,"rows_first":2000,"rows_last":500,"rows_between":2000,"halvings":0,"cell_chars":16384,"cell_head_chars":4096},"cells_cut":0,"cells_raw":0,"read":"whole","date_system":"1900"}

{"sheet":"入力手順","index":0,"n_rows":36,"n_cols":5,"rows_kept":36,"cut":false,"hidden":false,"merged":[[31,1,31,12],[15,4,15,11],[17,2,17,11],[18,4,18,11],[19,4,19,11],[20,4,20,11],[24,3,24,11],[25,3,25,11],[26,2,26,11],[7,3,7,11],[8,3,8,11],[9,3,9,11],[10,3,10,11],[23,3,23,11],[11,2,11,11],[12,4,12,11],[13,4,13,11],[14,4,14,11],[21,4,21,11]]}
[]
[null,"会場アンケート入力ツール　シート構成・入力手順--------------------------------------------"]
[null,"◆省エネ住宅"]
[]
[null,"①「会場アンケート集計結果_省エネ住宅」シート"]
[null,"・講演会・イベント等で回収されたアンケート調査票を入力する（データ化する）ツール"]
[null,"＜手順＞"]
[null,null,"①","「表示」をクリックし、入力フォームを表示させる"]
[null,null,"②","「入力行」にアンケート結果の入力を開始する行番号を入力する（添付エクセルの場合は6行目から開始）"]
[null,null,"③","都道府県名、事業者名、アンケートを実施したイベント名、アンケート回収日付をそれぞれの欄に記入する"]
[null,null,"④"," 性別・年齢は入力フォームにしたがって選択する"]
[null,null,"⑤ZEHに関連するイベントの場合"]
[null,null,null,"①","「２．住宅の購入意向・予定について」の回答と一致するものを選択する"]
[null,null,null,"②","「３．これまでの検討状況について」の回答と一致するものを選択する"]
[null,null,null,"③","「４．今後の購入意向について」の回答と一致するものを選択する"]
[null,null,null,"④","「５．購入意向の理由について」の回答と一致するものを選択する"]
[]
[null,null,"⑤断熱リフォームに関連するイベントの場合"]
[null,null,null,"①","「２．リフォームの実施意向・予定について」の回答と一致するものを選択する"]
[null,null,null,"②","「３．これまでの検討状況について」の回答と一致するものを選択する"]
[null,null,null,"③","「４．今後の実施意向について」の回答と一致するものを選択する"]
[null,null,null,"④","「５．実施意向の理由について」の回答と一致するものを選択する"]
[]
[null,null,"⑤","ZEH、断熱リフォーム両方に関連するイベントの場合は、それぞれの設問の回答を選択する"]
[null,null,"⑥","「６．追跡アンケートへのご協力のお願い（メールアドレス）」では、アンケート下部を確認し、まずメールアドレスの有無を選択する。メールアドレスの記入があった場合は、メールアドレスを記入する"]
[null,null,"⑦","すべての入力が終わったら「【データ入力】」をクリック"]
[null,null,"⑤～⑦を繰り返す"]
[]
[]
[null,"②「単純集計表」シート"]
[null,"・「会場アンケート集計結果_省エネ住宅」シートに入力されたデータを簡易的に集計したものである"]
["\n","・来場者の性別・年代別構成比、住宅購入・リフォームの意向、イベント参加前後の省エネ住宅（ZEH、断熱リフォーム）の関心度、その理由を把握可能"]
[]
[null,"③「読み替え表_省エネ住宅」シート"]
[null,"・本ファイルではアンケートの回答結果をデータ処理のため数字で代替している箇所がある"]
[null,"・その際のアンケート回答選択肢と数字の置換関係をまとめたシートである"]

{"sheet":"ローデータ⇒","index":1,"n_rows":0,"n_cols":0,"rows_kept":0,"cut":false,"hidden":false,"merged":[]}

{"sheet":"①会場アンケート集計結果_省エネ住宅","index":2,"n_rows":2006,"n_cols":63,"rows_kept":1125,"cut":true,"hidden":false,"merged":[[1,6,1,7],[1,54,1,57],[1,59,1,61],[1,36,1,49],[1,50,1,52],[1,26,1,35],[1,16,1,25],[1,8,1,15],[2,59,2,61],[2,6,2,7],[3,50,4,50],[3,51,4,51],[3,52,4,52],[2,54,2,57],[3,56,3,57],[3,54,3,55]],"bounds":{"rows_first":500,"rows_last":125,"rows_between":500,"halvings":2}}
[{"$f":"COLUMN()","v":1},{"$f":"COLUMN()","v":2},{"$f":"COLUMN()","v":3},{"$f":"COLUMN()","v":4},{"$f":"COLUMN()","v":5},{"$f":"COLUMN()","v":6},{"$f":"COLUMN()","v":7},{"$f":"COLUMN()","v":8},{"$f":"COLUMN()","v":9},{"$f":"COLUMN()","v":10},{"$f":"COLUMN()","v":11},{"$f":"COLUMN()","v":12},{"$f":"COLUMN()","v":13},{"$f":"COLUMN()","v":14},{"$f":"COLUMN()","v":15},{"$f":"COLUMN()","v":16},{"$f":"COLUMN()","v":17},{"$f":"COLUMN()","v":18},{"$f":"COLUMN()","v":19},{"$f":"COLUMN()","v":20},{"$f":"COLUMN()","v":21},{"$f":"COLUMN()","v":22},{"$f":"COLUMN()","v":23},{"$f":"COLUMN()","v":24},{"$f":"COLUMN()","v":25},{"$f":"COLUMN()","v":26},{"$f":"COLUMN()","v":27},{"$f":"COLUMN()","v":28},{"$f":"COLUMN()","v":29},{"$f":"COLUMN()","v":30},{"$f":"COLUMN()","v":31},{"$f":"COLUMN()","v":32},{"$f":"COLUMN()","v":33},{"$f":"COLUMN()","v":34},{"$f":"COLUMN()","v":35},{"$f":"COLUMN()","v":36},{"$f":"COLUMN()","v":37},{"$f":"COLUMN()","v":38},{"$f":"COLUMN()","v":39},{"$f":"COLUMN()","v":40},null,{"$f":"COLUMN()","v":42},{"$f":"COLUMN()","v":43},{"$f":"COLUMN()","v":44},{"$f":"COLUMN()","v":45},{"$f":"COLUMN()","v":46},null,{"$f":"COLUMN()","v":48},{"$f":"COLUMN()","v":49},{"$f":"COLUMN()","v":50},{"$f":"COLUMN()","v":51},{"$f":"COLUMN()","v":52},{"$f":"COLUMN()","v":53},{"$f":"COLUMN()","v":54},null,null,null,null,null,{"$f":"COLUMN()","v":60},null,{"$f":"COLUMN()","v":62},"*"]
[null,null,null,null,null,null,"１．あなたご自身について",null,"２．住宅の購入/リフォームの実施意向・予定",null,null,null,null,null,null,null,"３．これまでの検討状況について",null,null,null,null,null,null,null,null,null,"４．今後の実施意向について",null,null,null,null,null,null,null,null,null,"５．購入意向の理由について",null,null,null,null,null,null,null,null,null,null,null,null,null,"６．追跡アンケートへのご協力のお願い"]
[null,null,null,null,null,null,"【設問1】",null,"【設問2】今後の家の購入/\nリフォームの実施意向・予定",null,null,null,null,null,null,null,"【設問3】イベント前、下記の省エネ住宅について\n興味があったか",null,null,null,null,null,null,null,null,null,"【設問4】今後、ZEHを購入/省エネリフォームを\n実施したいと思うか",null,null,null,null,null,null,null,null,null,"【設問5】なぜ、ZEH/省エネリフォームに\n興味を持ったか",null,null,null,null,null,null,null,null,null,null,null,"【設問4】その他記入",null,"メールアドレス",null,null,null,"作業用",null,null,null,null,"error",null,null,"*"]
[null,null,"事業者情報",null,"イベント情報",null,"性別・年代",null,"家の購入",null,null,null,"リフォームの実施",null,null,null,"ZEH",null,null,null,null,"断熱リフォーム",null,null,null,null,"ZEH",null,null,null,null,"断熱リフォーム",null,null,null,null,"ZEH",null,null,null,null,null,"断熱リフォーム",null,null,null,null,null,"ZEH","断熱リフォーム","記入\n有無","メールアドレス（＠より前）","ドメイン",null,"ZEH",null,"断熱リフォーム",null,"複数回答","ZEH","断熱",null,"*"]
[null,"#","都道府県","事業者名","イベント名","回収日付","性別","年代",1,2,3,99,1,2,3,99,1,2,3,4,99,1,2,3,4,99,1,2,3,4,99,1,2,3,4,99,1,2,3,4,5,99,1,2,3,4,5,99,"その他","その他",null,null,null,"特定ID","イベント前","イベント後","イベント前","イベント後","error","error","error",null,"*"]
[null,{"$f":"ROW()-5","v":1},null,null,null,null,null,null,null,null,null,null,null,null,null,null,null,null,null,null,null,null,null,null,null,null,null,null,null,null,null,null,null,null,null,null,null,null,null,null,null,null,null,null,null,null,null,null,null,null,null,null,null,null,{"$f":"IFERROR(IF(SUM($Q6:$U6)>1,\"複数回答\",INDEX($Q$5:$U$5,,MATCH(1,$Q6:$U6,0))),\"未\")","v":"未"},{"$f":"IFERROR(IF(SUM($AA6:$AE6)>1,\"複数回答\",INDEX($AA$5:$AE$5,,MATCH(1,$AA6:$AE6,0))),\"未\")","v":"未"},{"$f":"IFERROR(IF(SUM($V6:$Z6)>1,\"複数回答\",INDEX($V$5:$Z$5,,MATCH(1,$V6:$Z6,0))),\"未\")","v":"未"},{"$f":"IFERROR(IF(SUM($AF6:$AJ6)>1,\"複数回答\",INDEX($AF$5:$AJ$5,,MATCH(1,$AF6:$AJ6,0))),\"未\")","v":"未"},{"$f":"IF(BC6=\"複数回答\",1,IF(BD6=\"複数回答\",1,IF(BE6=\"複数回答\",1,IF(BF6=\"複数回答\",1,0))))","v":0},{"$f":"IFERROR(IF(MATCH(BC6&\"/\"&BD6,③読み替え表_省エネ住宅!$G$48:$G$57,0),1,0),0)","v":0},{"$f":"IFERROR(IF(MATCH(BE6&\"/\"&BF6,③読み替え表_省エネ住宅!$G$48:$G$57,0),1,0),0)","v":0},{"$f":"IF(SUM(BG6:BI6)>0,1,0)","v":0},"*"]
[null,{"$f":"ROW()-5","v":2},null,null,null,null,null,null,null,null,null,null,null,null,null,null,null,null,null,null,null,null,null,null,null,null,null,null,null,null,null,null,null,null,null,null,null,null,null,null,null,null,null,null,null,null,null,null,null,null,null,null,null,null,"未","未","未","未",{"$f":"IF(BC7=\"複数回答\",1,IF(BD7=\"複数回答\",1,IF(BE7=\"複数回答\",1,IF(BF7=\"複数回答\",1,0))))","v":0},{"$f":"IFERROR(IF(MATCH(BC7&\"/\"&BD7,③読み替え表_省エネ住宅!$G$48:$G$57,0),1,0),0)","v":0},{"$f":"IFERROR(IF(MATCH(BE7&\"/\"&BF7,③読み替え表_省エネ住宅!$G$48:$G$57,0),1,0),0)","v":0},{"$f":"IF(SUM(BG7:BI7)>0,1,0)","v":0},"*"]
[null,3,null,null,null,null,null,null,null,null,null,null,null,null,null,null,null,null,null,null,null,null,null,null,null,null,null,null,null,null,null,null,null,null,null,null,null,null,null,null,null,null,null,null,null,null,null,null,null,null,null,null,null,null,"未","未","未","未",0,{"$f":"IFERROR(IF(MATCH(BC8&\"/\"&BD8,③読み替え表_省エネ住宅!$G$48:$G$57,0),1,0),0)","v":0},{"$f":"IFERROR(IF(MATCH(BE8&\"/\"&BF8,③読み替え表_省エネ住宅!$G$48:$G$57,0),1,0),0)","v":0},0,"*"]
[null,{"$f":"ROW()-5","v":4},null,null,null,null,null,null,null,null,null,null,null,null,null,null,null,null,null,null,null,null,null,null,null,null,null,null,null,null,null,null,null,null,null,null,null,null,null,null,null,null,null,null,null,null,null,null,null,null,null,null,null,null,"未","未","未","未",0,{"$f":"IFERROR(IF(MATCH(BC9&\"/\"&BD9,③読み替え表_省エネ住宅!$G$48:$G$57,0),1,0),0)","v":0},{"$f":"IFERROR(IF(MATCH(BE9&\"/\"&BF9,③読み替え表_省エネ住宅!$G$48:$G$57,0),1,0),0)","v":0},0,"*"]
[null,{"$f":"ROW()-5","v":5},null,null,null,null,null,null,null,null,null,null,null,null,null,null,null,null,null,null,null,null,null,null,null,null,null,null,null,null,null,null,null,null,null,null,null,null,null,null,null,null,null,null,null,null,null,null,null,null,null,null,null,null,"未","未","未","未",0,{"$f":"IFERROR(IF(MATCH(BC10&\"/\"&BD10,③読み替え表_省エネ住宅!$G$48:$G$57,0),1,0),0)","v":0},{"$f":"IFERROR(IF(MATCH(BE10&\"/\"&BF10,③読み替え表_省エネ住宅!$G$48:$G$57,0),1,0),0)","v":0},0,"*"]
[null,6,null,null,null,null,null,null,null,null,null,null,null,null,null,null,null,null,null,null,null,null,null,null,null,null,null,null,null,null,null,null,null,null,null,null,null,null,null,null,null,null,null,null,null,null,null,null,null,null,null,null,null,null,"未","未","未","未",0,{"$f":"IFERROR(IF(MATCH(BC11&\"/\"&BD11,③読み替え表_省エネ住宅!$G$48:$G$57,0),1,0),0)","v":0},{"$f":"IFERROR(IF(MATCH(BE11&\"/\"&BF11,③読み替え表_省エネ住宅!$G$48:$G$57,0),1,0),0)","v":0},0,"*"]
[null,7,null,null,null,null,null,null,null,null,null,null,null,null,null,null,null,null,null,null,null,null,null,null,null,null,null,null,null,null,null,null,null,null,null,null,null,null,null,null,null,null,null,null,null,null,null,null,null,null,null,null,null,null,"未","未","未","未",0,{"$f":"IFERROR(IF(MATCH(BC12&\"/\"&BD12,③読み替え表_省エネ住宅!$G$48:$G$57,0),1,0),0)","v":0},{"$f":"IFERROR(IF(MATCH(BE12&\"/\"&BF12,③読み替え表_省エネ住宅!$G$48:$G$57,0),1,0),0)","v":0},0,"*"]
[null,8,null,null,null,null,null,null,null,null,null,null,null,null,null,null,null,null,null,null,null,null,null,null,null,null,null,null,null,null,null,null,null,null,null,null,null,null,null,null,null,null,null,null,null,null,null,null,null,null,null,null,null,null,"未","未","未","未",0,{"$f":"IFERROR(IF(MATCH(BC13&\"/\"&BD13,③読み替え表_省エネ住宅!$G$48:$G$57,0),1,0),0)","v":0},{"$f":"IFERROR(IF(MATCH(BE13&\"/\"&BF13,③読み替え表_省エネ住宅!$G$48:$G$57,0),1,0),0)","v":0},0,"*"]
[null,9,null,null,null,null,null,null,null,null,null,null,null,null,null,null,null,null,null,null,null,null,null,null,null,null,null,null,null,null,null,null,null,null,null,null,null,null,null,null,null,null,null,null,null,null,null,null,null,null,null,null,null,null,"未","未","未","未",0,{"$f":"IFERROR(IF(MATCH(BC14&\"/\"&BD14,③読み替え表_省エネ住宅!$G$48:$G$57,0),1,0),0)","v":0},{"$f":"IFERROR(IF(MATCH(BE14&\"/\"&BF14,③読み替え表_省エネ住宅!$G$48:$G$57,0),1,0),0)","v":0},0,"*"]
[null,10,null,null,null,null,null,null,null,null,null,null,null,null,null,null,null,null,null,null,null,null,null,null,null,null,null,null,null,null,null,null,null,null,null,null,null,null,null,null,null,null,null,null,null,null,null,null,null,null,null,null,null,null,"未","未","未","未",0,{"$f":"IFERROR(IF(MATCH(BC15&\"/\"&BD15,③読み替え表_省エネ住宅!$G$48:$G$57,0),1,0),0)","v":0},{"$f":"IFERROR(IF(MATCH(BE15&\"/\"&BF15,③読み替え表_省エネ住宅!$G$48:$G$57,0),1,0),0)","v":0},0,"*"]
[null,11,null,null,null,null,null,null,null,null,null,null,null,null,null,null,null,null,null,null,null,null,null,null,null,null,null,null,null,null,null,null,null,null,null,null,null,null,null,null,null,null,null,null,null,null,null,null,null,null,null,null,null,null,"未","未","未","未",0,{"$f":"IFERROR(IF(MATCH(BC16&\"/\"&BD16,③読み替え表_省エネ住宅!$G$48:$G$57,0),1,0),0)","v":0},{"$f":"IFERROR(IF(MATCH(BE16&\"/\"&BF16,③読み替え表_省エネ住宅!$G$48:$G$57,0),1,0),0)","v":0},0,"*"]
[null,12,null,null,null,null,null,null,null,null,null,null,null,null,null,null,null,null,null,null,null,null,null,null,null,null,null,null,null,null,null,null,null,null,null,null,null,null,null,null,null,null,null,null,null,null,null,null,null,null,null,null,null,null,"未","未","未","未",0,{"$f":"IFERROR(IF(MATCH(BC17&\"/\"&BD17,③読み替え表_省エネ住宅!$G$48:$G$57,0),1,0),0)","v":0},{"$f":"IFERROR(IF(MATCH(BE17&\"/\"&BF17,③読み替え表_省エネ住宅!$G$48:$G$57,0),1,0),0)","v":0},0,"*"]
[null,13,null,null,null,null,null,null,null,null,null,null,null,null,null,null,null,null,null,null,null,null,null,null,null,null,null,null,null,null,null,null,null,null,null,null,null,null,null,null,null,null,null,null,null,null,null,null,null,null,null,null,null,null,"未","未","未","未",0,{"$f":"IFERROR(IF(MATCH(BC18&\"/\"&BD18,③読み替え表_省エネ住宅!$G$48:$G$57,0),1,0),0)","v":0},{"$f":"IFERROR(IF(MATCH(BE18&\"/\"&BF18,③読み替え表_省エネ住宅!$G$48:$G$57,0),1,0),0)","v":0},0,"*"]
[null,14,null,null,null,null,null,null,null,null,null,null,null,null,null,null,null,null,null,null,null,null,null,null,null,null,null,null,null,null,null,null,null,null,null,null,null,null,null,null,null,null,null,null,null,null,null,null,null,null,null,null,null,null,"未","未","未","未",0,{"$f":"IFERROR(IF(MATCH(BC19&\"/\"&BD19,③読み替え表_省エネ住宅!$G$48:$G$57,0),1,0),0)","v":0},{"$f":"IFERROR(IF(MATCH(BE19&\"/\"&BF19,③読み替え表_省エネ住宅!$G$48:$G$57,0),1,0),0)","v":0},0,"*"]
[null,15,null,null,null,null,null,null,null,null,null,null,null,null,null,null,null,null,null,null,null,null,null,null,null,null,null,null,null,null,null,null,null,null,null,null,null,null,null,null,null,null,null,null,null,null,null,null,null,null,null,null,null,null,"未","未","未","未",0,{"$f":"IFERROR(IF(MATCH(BC20&\"/\"&BD20,③読み替え表_省エネ住宅!$G$48:$G$57,0),1,0),0)","v":0},{"$f":"IFERROR(IF(MATCH(BE20&\"/\"&BF20,③読み替え表_省エネ住宅!$G$48:$G$57,0),1,0),0)","v":0},0,"*"]
[null,16,null,null,null,null,null,null,null,null,null,null,null,null,null,null,null,null,null,null,null,null,null,null,null,null,null,null,null,null,null,null,null,null,null,null,null,null,null,null,null,null,null,null,null,null,null,null,null,null,null,null,null,null,"未","未","未","未",0,{"$f":"IFERROR(IF(MATCH(BC21&\"/\"&BD21,③読み替え表_省エネ住宅!$G$48:$G$57,0),1,0),0)","v":0},{"$f":"IFERROR(IF(MATCH(BE21&\"/\"&BF21,③読み替え表_省エネ住宅!$G$48:$G$57,0),1,0),0)","v":0},0,"*"]
[null,17,null,null,null,null,null,null,null,null,null,null,null,null,null,null,null,null,null,null,null,null,null,null,null,null,null,null,null,null,null,null,null,null,null,null,null,null,null,null,null,null,null,null,null,null,null,null,null,null,null,null,null,null,"未","未","未","未",0,{"$f":"IFERROR(IF(MATCH(BC22&\"/\"&BD22,③読み替え表_省エネ住宅!$G$48:$G$57,0),1,0),0)","v":0},{"$f":"IFERROR(IF(MATCH(BE22&\"/\"&BF22,③読み替え表_省エネ住宅!$G$48:$G$57,0),1,0),0)","v":0},0,"*"]
[null,18,null,null,null,null,null,null,null,null,null,null,null,null,null,null,null,null,null,null,null,null,null,null,null,null,null,null,null,null,null,null,null,null,null,null,null,null,null,null,null,null,null,null,null,null,null,null,null,null,null,null,null,null,"未","未","未","未",0,{"$f":"IFERROR(IF(MATCH(BC23&\"/\"&BD23,③読み替え表_省エネ住宅!$G$48:$G$57,0),1,0),0)","v":0},{"$f":"IFERROR(IF(MATCH(BE23&\"/\"&BF23,③読み替え表_省エネ住宅!$G$48:$G$57,0),1,0),0)","v":0},0,"*"]
[null,19,null,null,null,null,null,null,null,null,null,null,null,null,null,null,null,null,null,null,null,null,null,null,null,null,null,null,null,null,null,null,null,null,null,null,null,null,null,null,null,null,null,null,null,null,null,null,null,null,null,null,null,null,"未","未","未","未",0,{"$f":"IFERROR(IF(MATCH(BC24&\"/\"&BD24,③読み替え表_省エネ住宅!$G$48:$G$57,0),1,0),0)","v":0},{"$f":"IFERROR(IF(MATCH(BE24&\"/\"&BF24,③読み替え表_省エネ住宅!$G$48:$G$57,0),1,0),0)","v":0},0,"*"]
[null,20,null,null,null,null,null,null,null,null,null,null,null,null,null,null,null,null,null,null,null,null,null,null,null,null,null,null,null,null,null,null,null,null,null,null,null,null,null,null,null,null,null,null,null,null,null,null,null,null,null,null,null,null,"未","未","未","未",0,{"$f":"IFERROR(IF(MATCH(BC25&\"/\"&BD25,③読み替え表_省エネ住宅!$G$48:$G$57,0),1,0),0)","v":0},{"$f":"IFERROR(IF(MATCH(BE25&\"/\"&BF25,③読み替え表_省エネ住宅!$G$48:$G$57,0),1,0),0)","v":0},0,"*"]
[null,21,null,null,null,null,null,null,null,null,null,null,null,null,null,null,null,null,null,null,null,null,null,null,null,null,null,null,null,null,null,null,null,null,null,null,null,null,null,null,null,null,null,null,null,null,null,null,null,null,null,null,null,null,"未","未","未","未",0,{"$f":"IFERROR(IF(MATCH(BC26&\"/\"&BD26,③読み替え表_省エネ住宅!$G$48:$G$57,0),1,0),0)","v":0},{"$f":"IFERROR(IF(MATCH(BE26&\"/\"&BF26,③読み替え表_省エネ住宅!$G$48:$G$57,0),1,0),0)","v":0},0,"*"]
[null,22,null,null,null,null,null,null,null,null,null,null,null,null,null,null,null,null,null,null,null,null,null,null,null,null,null,null,null,null,null,null,null,null,null,null,null,null,null,null,null,null,null,null,null,null,null,null,null,null,null,null,null,null,"未","未","未","未",0,{"$f":"IFERROR(IF(MATCH(BC27&\"/\"&BD27,③読み替え表_省エネ住宅!$G$48:$G$57,0),1,0),0)","v":0},{"$f":"IFERROR(IF(MATCH(BE27&\"/\"&BF27,③読み替え表_省エネ住宅!$G$48:$G$57,0),1,0),0)","v":0},0,"*"]
[null,23,null,null,null,null,null,null,null,null,null,null,null,null,null,null,null,null,null,null,null,null,null,null,null,null,null,null,null,null,null,null,null,null,null,null,null,null,null,null,null,null,null,null,null,null,null,null,null,null,null,null,null,null,"未","未","未","未",0,{"$f":"IFERROR(IF(MATCH(BC28&\"/\"&BD28,③読み替え表_省エネ住宅!$G$48:$G$57,0),1,0),0)","v":0},{"$f":"IFERROR(IF(MATCH(BE28&\"/\"&BF28,③読み替え表_省エネ住宅!$G$48:$G$57,0),1,0),0)","v":0},0,"*"]
[null,24,null,null,null,null,null,null,null,null,null,null,null,null,null,null,null,null,null,null,null,null,null,null,null,null,null,null,null,null,null,null,null,null,null,null,null,null,null,null,null,null,null,null,null,null,null,null,null,null,null,null,null,null,"未","未","未","未",0,{"$f":"IFERROR(IF(MATCH(BC29&\"/\"&BD29,③読み替え表_省エネ住宅!$G$48:$G$57,0),1,0),0)","v":0},{"$f":"IFERROR(IF(MATCH(BE29&\"/\"&BF29,③読み替え表_省エネ住宅!$G$48:$G$57,0),1,0),0)","v":0},0,"*"]
[null,25,null,null,null,null,null,null,null,null,null,null,null,null,null,null,null,null,null,null,null,null,null,null,null,null,null,null,null,null,null,null,null,null,null,null,null,null,null,null,null,null,null,null,null,null,null,null,null,null,null,null,null,null,"未","未","未","未",0,{"$f":"IFERROR(IF(MATCH(BC30&\"/\"&BD30,③読み替え表_省エネ住宅!$G$48:$G$57,0),1,0),0)","v":0},{"$f":"IFERROR(IF(MATCH(BE30&\"/\"&BF30,③読み替え表_省エネ住宅!$G$48:$G$57,0),1,0),0)","v":0},0,"*"]
[null,26,null,null,null,null,null,null,null,null,null,null,null,null,null,null,null,null,null,null,null,null,null,null,null,null,null,null,null,null,null,null,null,null,null,null,null,null,null,null,null,null,null,null,null,null,null,null,null,null,null,null,null,null,"未","未","未","未",0,{"$f":"IFERROR(IF(MATCH(BC31&\"/\"&BD31,③読み替え表_省エネ住宅!$G$48:$G$57,0),1,0),0)","v":0},{"$f":"IFERROR(IF(MATCH(BE31&\"/\"&BF31,③読み替え表_省エネ住宅!$G$48:$G$57,0),1,0),0)","v":0},0,"*"]
[null,27,null,null,null,null,null,null,null,null,null,null,null,null,null,null,null,null,null,null,null,null,null,null,null,null,null,null,null,null,null,null,null,null,null,null,null,null,null,null,null,null,null,null,null,null,null,null,null,null,null,null,null,null,"未","未","未","未",0,{"$f":"IFERROR(IF(MATCH(BC32&\"/\"&BD32,③読み替え表_省エネ住宅!$G$48:$G$57,0),1,0),0)","v":0},{"$f":"IFERROR(IF(MATCH(BE32&\"/\"&BF32,③読み替え表_省エネ住宅!$G$48:$G$57,0),1,0),0)","v":0},0,"*"]
[null,28,null,null,null,null,null,null,null,null,null,null,null,null,null,null,null,null,null,null,null,null,null,null,null,null,null,null,null,null,null,null,null,null,null,null,null,null,null,null,null,null,null,null,null,null,null,null,null,null,null,null,null,null,"未","未","未","未",0,{"$f":"IFERROR(IF(MATCH(BC33&\"/\"&BD33,③読み替え表_省エネ住宅!$G$48:$G$57,0),1,0),0)","v":0},{"$f":"IFERROR(IF(MATCH(BE33&\"/\"&BF33,③読み替え表_省エネ住宅!$G$48:$G$57,0),1,0),0)","v":0},0,"*"]
[null,29,null,null,null,null,null,null,null,null,null,null,null,null,null,null,null,null,null,null,null,null,null,null,null,null,null,null,null,null,null,null,null,null,null,null,null,null,null,null,null,null,null,null,null,null,null,null,null,null,null,null,null,null,"未","未","未","未",0,{"$f":"IFERROR(IF(MATCH(BC34&\"/\"&BD34,③読み替え表_省エネ住宅!$G$48:$G$57,0),1,0),0)","v":0},{"$f":"IFERROR(IF(MATCH(BE34&\"/\"&BF34,③読み替え表_省エネ住宅!$G$48:$G$57,0),1,0),0)","v":0},0,"*"]
[null,30,null,null,null,null,null,null,null,null,null,null,null,null,null,null,null,null,null,null,null,null,null,null,null,null,null,null,null,null,null,null,null,null,null,null,null,null,null,null,null,null,null,null,null,null,null,null,null,null,null,null,null,null,"未","未","未","未",0,{"$f":"IFERROR(IF(MATCH(BC35&\"/\"&BD35,③読み替え表_省エネ住宅!$G$48:$G$57,0),1,0),0)","v":0},{"$f":"IFERROR(IF(MATCH(BE35&\"/\"&BF35,③読み替え表_省エネ住宅!$G$48:$G$57,0),1,0),0)","v":0},0,"*"]
[null,31,null,null,null,null,null,null,null,null,null,null,null,null,null,null,null,null,null,null,null,null,null,null,null,null,null,null,null,null,null,null,null,null,null,null,null,null,null,null,null,null,null,null,null,null,null,null,null,null,null,null,null,null,"未","未","未","未",0,{"$f":"IFERROR(IF(MATCH(BC36&\"/\"&BD36,③読み替え表_省エネ住宅!$G$48:$G$57,0),1,0),0)","v":0},{"$f":"IFERROR(IF(MATCH(BE36&\"/\"&BF36,③読み替え表_省エネ住宅!$G$48:$G$57,0),1,0),0)","v":0},0,"*"]
[null,32,null,null,null,null,null,null,null,null,null,null,null,null,null,null,null,null,null,null,null,null,null,null,null,null,null,null,null,null,null,null,null,null,null,null,null,null,null,null,null,null,null,null,null,null,null,null,null,null,null,null,null,null,"未","未","未","未",0,{"$f":"IFERROR(IF(MATCH(BC37&\"/\"&BD37,③読み替え表_省エネ住宅!$G$48:$G$57,0),1,0),0)","v":0},{"$f":"IFERROR(IF(MATCH(BE37&\"/\"&BF37,③読み替え表_省エネ住宅!$G$48:$G$57,0),1,0),0)","v":0},0,"*"]
[null,33,null,null,null,null,null,null,null,null,null,null,null,null,null,null,null,null,null,null,null,null,null,null,null,null,null,null,null,null,null,null,null,null,null,null,null,null,null,null,null,null,null,null,null,null,null,null,null,null,null,null,null,null,"未","未","未","未",0,{"$f":"IFERROR(IF(MATCH(BC38&\"/\"&BD38,③読み替え表_省エネ住宅!$G$48:$G$57,0),1,0),0)","v":0},{"$f":"IFERROR(IF(MATCH(BE38&\"/\"&BF38,③読み替え表_省エネ住宅!$G$48:$G$57,0),1,0),0)","v":0},0,"*"]
[null,34,null,null,null,null,null,null,null,null,null,null,null,null,null,null,null,null,null,null,null,null,null,null,null,null,null,null,null,null,null,null,null,null,null,null,null,null,null,null,null,null,null,null,null,null,null,null,null,null,null,null,null,null,"未","未","未","未",0,{"$f":"IFERROR(IF(MATCH(BC39&\"/\"&BD39,③読み替え表_省エネ住宅!$G$48:$G$57,0),1,0),0)","v":0},{"$f":"IFERROR(IF(MATCH(BE39&\"/\"&BF39,③読み替え表_省エネ住宅!$G$48:$G$57,0),1,0),0)","v":0},0,"*"]
[null,35,null,null,null,null,null,null,null,null,null,null,null,null,null,null,null,null,null,null,null,null,null,null,null,null,null,null,null,null,null,null,null,null,null,null,null,null,null,null,null,null,null,null,null,null,null,null,null,null,null,null,null,null,"未","未","未","未",0,{"$f":"IFERROR(IF(MATCH(BC40&\"/\"&BD40,③読み替え表_省エネ住宅!$G$48:$G$57,0),1,0),0)","v":0},{"$f":"IFERROR(IF(MATCH(BE40&\"/\"&BF40,③読み替え表_省エネ住宅!$G$48:$G$57,0),1,0),0)","v":0},0,"*"]
[null,36,null,null,null,null,null,null,null,null,null,null,null,null,null,null,null,null,null,null,null,null,null,null,null,null,null,null,null,null,null,null,null,null,null,null,null,null,null,null,null,null,null,null,null,null,null,null,null,null,null,null,null,null,"未","未","未","未",0,{"$f":"IFERROR(IF(MATCH(BC41&\"/\"&BD41,③読み替え表_省エネ住宅!$G$48:$G$57,0),1,0),0)","v":0},{"$f":"IFERROR(IF(MATCH(BE41&\"/\"&BF41,③読み替え表_省エネ住宅!$G$48:$G$57,0),1,0),0)","v":0},0,"*"]
[null,37,null,null,null,null,null,null,null,null,null,null,null,null,null,null,null,null,null,null,null,null,null,null,null,null,null,null,null,null,null,null,null,null,null,null,null,null,null,null,null,null,null,null,null,null,null,null,null,null,null,null,null,null,"未","未","未","未",0,{"$f":"IFERROR(IF(MATCH(BC42&\"/\"&BD42,③読み替え表_省エネ住宅!$G$48:$G$57,0),1,0),0)","v":0},{"$f":"IFERROR(IF(MATCH(BE42&\"/\"&BF42,③読み替え表_省エネ住宅!$G$48:$G$57,0),1,0),0)","v":0},0,"*"]
[null,38,null,null,null,null,null,null,null,null,null,null,null,null,null,null,null,null,null,null,null,null,null,null,null,null,null,null,null,null,null,null,null,null,null,null,null,null,null,null,null,null,null,null,null,null,null,null,null,null,null,null,null,null,"未","未","未","未",0,{"$f":"IFERROR(IF(MATCH(BC43&\"/\"&BD43,③読み替え表_省エネ住宅!$G$48:$G$57,0),1,0),0)","v":0},{"$f":"IFERROR(IF(MATCH(BE43&\"/\"&BF43,③読み替え表_省エネ住宅!$G$48:$G$57,0),1,0),0)","v":0},0,"*"]
[null,39,null,null,null,null,null,null,null,null,null,null,null,null,null,null,null,null,null,null,null,null,null,null,null,null,null,null,null,null,null,null,null,null,null,null,null,null,null,null,null,null,null,null,null,null,null,null,null,null,null,null,null,null,"未","未","未","未",0,{"$f":"IFERROR(IF(MATCH(BC44&\"/\"&BD44,③読み替え表_省エネ住宅!$G$48:$G$57,0),1,0),0)","v":0},{"$f":"IFERROR(IF(MATCH(BE44&\"/\"&BF44,③読み替え表_省エネ住宅!$G$48:$G$57,0),1,0),0)","v":0},0,"*"]
[null,40,null,null,null,null,null,null,null,null,null,null,null,null,null,null,null,null,null,null,null,null,null,null,null,null,null,null,null,null,null,null,null,null,null,null,null,null,null,null,null,null,null,null,null,null,null,null,null,null,null,null,null,null,"未","未","未","未",0,{"$f":"IFERROR(IF(MATCH(BC45&\"/\"&BD45,③読み替え表_省エネ住宅!$G$48:$G$57,0),1,0),0)","v":0},{"$f":"IFERROR(IF(MATCH(BE45&\"/\"&BF45,③読み替え表_省エネ住宅!$G$48:$G$57,0),1,0),0)","v":0},0,"*"]
[null,41,null,null,null,null,null,null,null,null,null,null,null,null,null,null,null,null,null,null,null,null,null,null,null,null,null,null,null,null,null,null,null,null,null,null,null,null,null,null,null,null,null,null,null,null,null,null,null,null,null,null,null,null,"未","未","未","未",0,{"$f":"IFERROR(IF(MATCH(BC46&\"/\"&BD46,③読み替え表_省エネ住宅!$G$48:$G$57,0),1,0),0)","v":0},{"$f":"IFERROR(IF(MATCH(BE46&\"/\"&BF46,③読み替え表_省エネ住宅!$G$48:$G$57,0),1,0),0)","v":0},0,"*"]
[null,42,null,null,null,null,null,null,null,null,null,null,null,null,null,null,null,null,null,null,null,null,null,null,null,null,null,null,null,null,null,null,null,null,null,null,null,null,null,null,null,null,null,null,null,null,null,null,null,null,null,null,null,null,"未","未","未","未",0,{"$f":"IFERROR(IF(MATCH(BC47&\"/\"&BD47,③読み替え表_省エネ住宅!$G$48:$G$57,0),1,0),0)","v":0},{"$f":"IFERROR(IF(MATCH(BE47&\"/\"&BF47,③読み替え表_省エネ住宅!$G$48:$G$57,0),1,0),0)","v":0},0,"*"]
[null,43,null,null,null,null,null,null,null,null,null,null,null,null,null,null,null,null,null,null,null,null,null,null,null,null,null,null,null,null,null,null,null,null,null,null,null,null,null,null,null,null,null,null,null,null,null,null,null,null,null,null,null,null,"未","未","未","未",0,{"$f":"IFERROR(IF(MATCH(BC48&\"/\"&BD48,③読み替え表_省エネ住宅!$G$48:$G$57,0),1,0),0)","v":0},{"$f":"IFERROR(IF(MATCH(BE48&\"/\"&BF48,③読み替え表_省エネ住宅!$G$48:$G$57,0),1,0),0)","v":0},0,"*"]
[null,44,null,null,null,null,null,null,null,null,null,null,null,null,null,null,null,null,null,null,null,null,null,null,null,null,null,null,null,null,null,null,null,null,null,null,null,null,null,null,null,null,null,null,null,null,null,null,null,null,null,null,null,null,"未","未","未","未",0,{"$f":"IFERROR(IF(MATCH(BC49&\"/\"&BD49,③読み替え表_省エネ住宅!$G$48:$G$57,0),1,0),0)","v":0},{"$f":"IFERROR(IF(MATCH(BE49&\"/\"&BF49,③読み替え表_省エネ住宅!$G$48:$G$57,0),1,0),0)","v":0},0,"*"]
[null,45,null,null,null,null,null,null,null,null,null,null,null,null,null,null,null,null,null,null,null,null,null,null,null,null,null,null,null,null,null,null,null,null,null,null,null,null,null,null,null,null,null,null,null,null,null,null,null,null,null,null,null,null,"未","未","未","未",0,{"$f":"IFERROR(IF(MATCH(BC50&\"/\"&BD50,③読み替え表_省エネ住宅!$G$48:$G$57,0),1,0),0)","v":0},{"$f":"IFERROR(IF(MATCH(BE50&\"/\"&BF50,③読み替え表_省エネ住宅!$G$48:$G$57,0),1,0),0)","v":0},0,"*"]
[null,46,null,null,null,null,null,null,null,null,null,null,null,null,null,null,null,null,null,null,null,null,null,null,null,null,null,null,null,null,null,null,null,null,null,null,null,null,null,null,null,null,null,null,null,null,null,null,null,null,null,null,null,null,"未","未","未","未",0,{"$f":"IFERROR(IF(MATCH(BC51&\"/\"&BD51,③読み替え表_省エネ住宅!$G$48:$G$57,0),1,0),0)","v":0},{"$f":"IFERROR(IF(MATCH(BE51&\"/\"&BF51,③読み替え表_省エネ住宅!$G$48:$G$57,0),1,0),0)","v":0},0,"*"]
[null,47,null,null,null,null,null,null,null,null,null,null,null,null,null,null,null,null,null,null,null,null,null,null,null,null,null,null,null,null,null,null,null,null,null,null,null,null,null,null,null,null,null,null,null,null,null,null,null,null,null,null,null,null,"未","未","未","未",0,{"$f":"IFERROR(IF(MATCH(BC52&\"/\"&BD52,③読み替え表_省エネ住宅!$G$48:$G$57,0),1,0),0)","v":0},{"$f":"IFERROR(IF(MATCH(BE52&\"/\"&BF52,③読み替え表_省エネ住宅!$G$48:$G$57,0),1,0),0)","v":0},0,"*"]
[null,48,null,null,null,null,null,null,null,null,null,null,null,null,null,null,null,null,null,null,null,null,null,null,null,null,null,null,null,null,null,null,null,null,null,null,null,null,null,null,null,null,null,null,null,null,null,null,null,null,null,null,null,null,"未","未","未","未",0,{"$f":"IFERROR(IF(MATCH(BC53&\"/\"&BD53,③読み替え表_省エネ住宅!$G$48:$G$57,0),1,0),0)","v":0},{"$f":"IFERROR(IF(MATCH(BE53&\"/\"&BF53,③読み替え表_省エネ住宅!$G$48:$G$57,0),1,0),0)","v":0},0,"*"]
[null,49,null,null,null,null,null,null,null,null,null,null,null,null,null,null,null,null,null,null,null,null,null,null,null,null,null,null,null,null,null,null,null,null,null,null,null,null,null,null,null,null,null,null,null,null,null,null,null,null,null,null,null,null,"未","未","未","未",0,{"$f":"IFERROR(IF(MATCH(BC54&\"/\"&BD54,③読み替え表_省エネ住宅!$G$48:$G$57,0),1,0),0)","v":0},{"$f":"IFERROR(IF(MATCH(BE54&\"/\"&BF54,③読み替え表_省エネ住宅!$G$48:$G$57,0),1,0),0)","v":0},0,"*"]
[null,50,null,null,null,null,null,null,null,null,null,null,null,null,null,null,null,null,null,null,null,null,null,null,null,null,null,null,null,null,null,null,null,null,null,null,null,null,null,null,null,null,null,null,null,null,null,null,null,null,null,null,null,null,"未","未","未","未",0,{"$f":"IFERROR(IF(MATCH(BC55&\"/\"&BD55,③読み替え表_省エネ住宅!$G$48:$G$57,0),1,0),0)","v":0},{"$f":"IFERROR(IF(MATCH(BE55&\"/\"&BF55,③読み替え表_省エネ住宅!$G$48:$G$57,0),1,0),0)","v":0},0,"*"]
[null,51,null,null,null,null,null,null,null,null,null,null,null,null,null,null,null,null,null,null,null,null,null,null,null,null,null,null,null,null,null,null,null,null,null,null,null,null,null,null,null,null,null,null,null,null,null,null,null,null,null,null,null,null,"未","未","未","未",0,{"$f":"IFERROR(IF(MATCH(BC56&\"/\"&BD56,③読み替え表_省エネ住宅!$G$48:$G$57,0),1,0),0)","v":0},{"$f":"IFERROR(IF(MATCH(BE56&\"/\"&BF56,③読み替え表_省エネ住宅!$G$48:$G$57,0),1,0),0)","v":0},0,"*"]
[null,52,null,null,null,null,null,null,null,null,null,null,null,null,null,null,null,null,null,null,null,null,null,null,null,null,null,null,null,null,null,null,null,null,null,null,null,null,null,null,null,null,null,null,null,null,null,null,null,null,null,null,null,null,"未","未","未","未",0,{"$f":"IFERROR(IF(MATCH(BC57&\"/\"&BD57,③読み替え表_省エネ住宅!$G$48:$G$57,0),1,0),0)","v":0},{"$f":"IFERROR(IF(MATCH(BE57&\"/\"&BF57,③読み替え表_省エネ住宅!$G$48:$G$57,0),1,0),0)","v":0},0,"*"]
[null,53,null,null,null,null,null,null,null,null,null,null,null,null,null,null,null,null,null,null,null,null,null,null,null,null,null,null,null,null,null,null,null,null,null,null,null,null,null,null,null,null,null,null,null,null,null,null,null,null,null,null,null,null,"未","未","未","未",0,{"$f":"IFERROR(IF(MATCH(BC58&\"/\"&BD58,③読み替え表_省エネ住宅!$G$48:$G$57,0),1,0),0)","v":0},{"$f":"IFERROR(IF(MATCH(BE58&\"/\"&BF58,③読み替え表_省エネ住宅!$G$48:$G$57,0),1,0),0)","v":0},0,"*"]
[null,54,null,null,null,null,null,null,null,null,null,null,null,null,null,null,null,null,null,null,null,null,null,null,null,null,null,null,null,null,null,null,null,null,null,null,null,null,null,null,null,null,null,null,null,null,null,null,null,null,null,null,null,null,"未","未","未","未",0,{"$f":"IFERROR(IF(MATCH(BC59&\"/\"&BD59,③読み替え表_省エネ住宅!$G$48:$G$57,0),1,0),0)","v":0},{"$f":"IFERROR(IF(MATCH(BE59&\"/\"&BF59,③読み替え表_省エネ住宅!$G$48:$G$57,0),1,0),0)","v":0},0,"*"]
[null,55,null,null,null,null,null,null,null,null,null,null,null,null,null,null,null,null,null,null,null,null,null,null,null,null,null,null,null,null,null,null,null,null,null,null,null,null,null,null,null,null,null,null,null,null,null,null,null,null,null,null,null,null,"未","未","未","未",0,{"$f":"IFERROR(IF(MATCH(BC60&\"/\"&BD60,③読み替え表_省エネ住宅!$G$48:$G$57,0),1,0),0)","v":0},{"$f":"IFERROR(IF(MATCH(BE60&\"/\"&BF60,③読み替え表_省エネ住宅!$G$48:$G$57,0),1,0),0)","v":0},0,"*"]
[null,56,null,null,null,null,null,null,null,null,null,null,null,null,null,null,null,null,null,null,null,null,null,null,null,null,null,null,null,null,null,null,null,null,null,null,null,null,null,null,null,null,null,null,null,null,null,null,null,null,null,null,null,null,"未","未","未","未",0,{"$f":"IFERROR(IF(MATCH(BC61&\"/\"&BD61,③読み替え表_省エネ住宅!$G$48:$G$57,0),1,0),0)","v":0},{"$f":"IFERROR(IF(MATCH(BE61&\"/\"&BF61,③読み替え表_省エネ住宅!$G$48:$G$57,0),1,0),0)","v":0},0,"*"]
[null,57,null,null,null,null,null,null,null,null,null,null,null,null,null,null,null,null,null,null,null,null,null,null,null,null,null,null,null,null,null,null,null,null,null,null,null,null,null,null,null,null,null,null,null,null,null,null,null,null,null,null,null,null,"未","未","未","未",0,{"$f":"IFERROR(IF(MATCH(BC62&\"/\"&BD62,③読み替え表_省エネ住宅!$G$48:$G$57,0),1,0),0)","v":0},{"$f":"IFERROR(IF(MATCH(BE62&\"/\"&BF62,③読み替え表_省エネ住宅!$G$48:$G$57,0),1,0),0)","v":0},0,"*"]
[null,58,null,null,null,null,null,null,null,null,null,null,null,null,null,null,null,null,null,null,null,null,null,null,null,null,null,null,null,null,null,null,null,null,null,null,null,null,null,null,null,null,null,null,null,null,null,null,null,null,null,null,null,null,"未","未","未","未",0,{"$f":"IFERROR(IF(MATCH(BC63&\"/\"&BD63,③読み替え表_省エネ住宅!$G$48:$G$57,0),1,0),0)","v":0},{"$f":"IFERROR(IF(MATCH(BE63&\"/\"&BF63,③読み替え表_省エネ住宅!$G$48:$G$57,0),1,0),0)","v":0},0,"*"]
[null,59,null,null,null,null,null,null,null,null,null,null,null,null,null,null,null,null,null,null,null,null,null,null,null,null,null,null,null,null,null,null,null,null,null,null,null,null,null,null,null,null,null,null,null,null,null,null,null,null,null,null,null,null,"未","未","未","未",0,{"$f":"IFERROR(IF(MATCH(BC64&\"/\"&BD64,③読み替え表_省エネ住宅!$G$48:$G$57,0),1,0),0)","v":0},{"$f":"IFERROR(IF(MATCH(BE64&\"/\"&BF64,③読み替え表_省エネ住宅!$G$48:$G$57,0),1,0),0)","v":0},0,"*"]
[null,60,null,null,null,null,null,null,null,null,null,null,null,null,null,null,null,null,null,null,null,null,null,null,null,null,null,null,null,null,null,null,null,null,null,null,null,null,null,null,null,null,null,null,null,null,null,null,null,null,null,null,null,null,"未","未","未","未",0,{"$f":"IFERROR(IF(MATCH(BC65&\"/\"&BD65,③読み替え表_省エネ住宅!$G$48:$G$57,0),1,0),0)","v":0},{"$f":"IFERROR(IF(MATCH(BE65&\"/\"&BF65,③読み替え表_省エネ住宅!$G$48:$G$57,0),1,0),0)","v":0},0,"*"]
[null,61,null,null,null,null,null,null,null,null,null,null,null,null,null,null,null,null,null,null,null,null,null,null,null,null,null,null,null,null,null,null,null,null,null,null,null,null,null,null,null,null,null,null,null,null,null,null,null,null,null,null,null,null,"未","未","未","未",0,{"$f":"IFERROR(IF(MATCH(BC66&\"/\"&BD66,③読み替え表_省エネ住宅!$G$48:$G$57,0),1,0),0)","v":0},{"$f":"IFERROR(IF(MATCH(BE66&\"/\"&BF66,③読み替え表_省エネ住宅!$G$48:$G$57,0),1,0),0)","v":0},0,"*"]
[null,62,null,null,null,null,null,null,null,null,null,null,null,null,null,null,null,null,null,null,null,null,null,null,null,null,null,null,null,null,null,null,null,null,null,null,null,null,null,null,null,null,null,null,null,null,null,null,null,null,null,null,null,null,"未","未","未","未",0,{"$f":"IFERROR(IF(MATCH(BC67&\"/\"&BD67,③読み替え表_省エネ住宅!$G$48:$G$57,0),1,0),0)","v":0},{"$f":"IFERROR(IF(MATCH(BE67&\"/\"&BF67,③読み替え表_省エネ住宅!$G$48:$G$57,0),1,0),0)","v":0},0,"*"]
[null,63,null,null,null,null,null,null,null,null,null,null,null,null,null,null,null,null,null,null,null,null,null,null,null,null,null,null,null,null,null,null,null,null,null,null,null,null,null,null,null,null,null,null,null,null,null,null,null,null,null,null,null,null,"未","未","未","未",0,{"$f":"IFERROR(IF(MATCH(BC68&\"/\"&BD68,③読み替え表_省エネ住宅!$G$48:$G$57,0),1,0),0)","v":0},{"$f":"IFERROR(IF(MATCH(BE68&\"/\"&BF68,③読み替え表_省エネ住宅!$G$48:$G$57,0),1,0),0)","v":0},0,"*"]
[null,64,null,null,null,null,null,null,null,null,null,null,null,null,null,null,null,null,null,null,null,null,null,null,null,null,null,null,null,null,null,null,null,null,null,null,null,null,null,null,null,null,null,null,null,null,null,null,null,null,null,null,null,null,"未","未","未","未",0,{"$f":"IFERROR(IF(MATCH(BC69&\"/\"&BD69,③読み替え表_省エネ住宅!$G$48:$G$57,0),1,0),0)","v":0},{"$f":"IFERROR(IF(MATCH(BE69&\"/\"&BF69,③読み替え表_省エネ住宅!$G$48:$G$57,0),1,0),0)","v":0},0,"*"]
[null,65,null,null,null,null,null,null,null,null,null,null,null,null,null,null,null,null,null,null,null,null,null,null,null,null,null,null,null,null,null,null,null,null,null,null,null,null,null,null,null,null,null,null,null,null,null,null,null,null,null,null,null,null,"未","未","未","未",0,{"$f":"IFERROR(IF(MATCH(BC70&\"/\"&BD70,③読み替え表_省エネ住宅!$G$48:$G$57,0),1,0),0)","v":0},{"$f":"IFERROR(IF(MATCH(BE70&\"/\"&BF70,③読み替え表_省エネ住宅!$G$48:$G$57,0),1,0),0)","v":0},0,"*"]
[null,{"$f":"ROW()-5","v":66},null,null,null,null,null,null,null,null,null,null,null,null,null,null,null,null,null,null,null,null,null,null,null,null,null,null,null,null,null,null,null,null,null,null,null,null,null,null,null,null,null,null,null,null,null,null,null,null,null,null,null,null,{"$f":"IFERROR(IF(SUM($Q71:$U71)>1,\"複数回答\",INDEX($Q$5:$U$5,,MATCH(1,$Q71:$U71,0))),\"未\")","v":"未"},{"$f":"IFERROR(IF(SUM($AA71:$AE71)>1,\"複数回答\",INDEX($AA$5:$AE$5,,MATCH(1,$AA71:$AE71,0))),\"未\")","v":"未"},{"$f":"IFERROR(IF(SUM($V71:$Z71)>1,\"複数回答\",INDEX($V$5:$Z$5,,MATCH(1,$V71:$Z71,0))),\"未\")","v":"未"},{"$f":"IFERROR(IF(SUM($AF71:$AJ71)>1,\"複数回答\",INDEX($AF$5:$AJ$5,,MATCH(1,$AF71:$AJ71,0))),\"未\")","v":"未"},{"$f":"IF(BC71=\"複数回答\",1,IF(BD71=\"複数回答\",1,IF(BE71=\"複数回答\",1,IF(BF71=\"複数回答\",1,0))))","v":0},{"$f":"IFERROR(IF(MATCH(BC71&\"/\"&BD71,③読み替え表_省エネ住宅!$G$48:$G$57,0),1,0),0)","v":0},{"$f":"IFERROR(IF(MATCH(BE71&\"/\"&BF71,③読み替え表_省エネ住宅!$G$48:$G$57,0),1,0),0)","v":0},{"$f":"IF(SUM(BG71:BI71)>0,1,0)","v":0},"*"]
[null,67,null,null,null,null,null,null,null,null,null,null,null,null,null,null,null,null,null,null,null,null,null,null,null,null,null,null,null,null,null,null,null,null,null,null,null,null,null,null,null,null,null,null,null,null,null,null,null,null,null,null,null,null,"未","未","未","未",0,{"$f":"IFERROR(IF(MATCH(BC72&\"/\"&BD72,③読み替え表_省エネ住宅!$G$48:$G$57,0),1,0),0)","v":0},{"$f":"IFERROR(IF(MATCH(BE72&\"/\"&BF72,③読み替え表_省エネ住宅!$G$48:$G$57,0),1,0),0)","v":0},0,"*"]
[null,68,null,null,null,null,null,null,null,null,null,null,null,null,null,null,null,null,null,null,null,null,null,null,null,null,null,null,null,null,null,null,null,null,null,null,null,null,null,null,null,null,null,null,null,null,null,null,null,null,null,null,null,null,"未","未","未","未",0,{"$f":"IFERROR(IF(MATCH(BC73&\"/\"&BD73,③読み替え表_省エネ住宅!$G$48:$G$57,0),1,0),0)","v":0},{"$f":"IFERROR(IF(MATCH(BE73&\"/\"&BF73,③読み替え表_省エネ住宅!$G$48:$G$57,0),1,0),0)","v":0},0,"*"]
[null,69,null,null,null,null,null,null,null,null,null,null,null,null,null,null,null,null,null,null,null,null,null,null,null,null,null,null,null,null,null,null,null,null,null,null,null,null,null,null,null,null,null,null,null,null,null,null,null,null,null,null,null,null,"未","未","未","未",0,{"$f":"IFERROR(IF(MATCH(BC74&\"/\"&BD74,③読み替え表_省エネ住宅!$G$48:$G$57,0),1,0),0)","v":0},{"$f":"IFERROR(IF(MATCH(BE74&\"/\"&BF74,③読み替え表_省エネ住宅!$G$48:$G$57,0),1,0),0)","v":0},0,"*"]
[null,70,null,null,null,null,null,null,null,null,null,null,null,null,null,null,null,null,null,null,null,null,null,null,null,null,null,null,null,null,null,null,null,null,null,null,null,null,null,null,null,null,null,null,null,null,null,null,null,null,null,null,null,null,"未","未","未","未",0,{"$f":"IFERROR(IF(MATCH(BC75&\"/\"&BD75,③読み替え表_省エネ住宅!$G$48:$G$57,0),1,0),0)","v":0},{"$f":"IFERROR(IF(MATCH(BE75&\"/\"&BF75,③読み替え表_省エネ住宅!$G$48:$G$57,0),1,0),0)","v":0},0,"*"]
[null,71,null,null,null,null,null,null,null,null,null,null,null,null,null,null,null,null,null,null,null,null,null,null,null,null,null,null,null,null,null,null,null,null,null,null,null,null,null,null,null,null,null,null,null,null,null,null,null,null,null,null,null,null,"未","未","未","未",0,{"$f":"IFERROR(IF(MATCH(BC76&\"/\"&BD76,③読み替え表_省エネ住宅!$G$48:$G$57,0),1,0),0)","v":0},{"$f":"IFERROR(IF(MATCH(BE76&\"/\"&BF76,③読み替え表_省エネ住宅!$G$48:$G$57,0),1,0),0)","v":0},0,"*"]
[null,72,null,null,null,null,null,null,null,null,null,null,null,null,null,null,null,null,null,null,null,null,null,null,null,null,null,null,null,null,null,null,null,null,null,null,null,null,null,null,null,null,null,null,null,null,null,null,null,null,null,null,null,null,"未","未","未","未",0,{"$f":"IFERROR(IF(MATCH(BC77&\"/\"&BD77,③読み替え表_省エネ住宅!$G$48:$G$57,0),1,0),0)","v":0},{"$f":"IFERROR(IF(MATCH(BE77&\"/\"&BF77,③読み替え表_省エネ住宅!$G$48:$G$57,0),1,0),0)","v":0},0,"*"]
[null,73,null,null,null,null,null,null,null,null,null,null,null,null,null,null,null,null,null,null,null,null,null,null,null,null,null,null,null,null,null,null,null,null,null,null,null,null,null,null,null,null,null,null,null,null,null,null,null,null,null,null,null,null,"未","未","未","未",0,{"$f":"IFERROR(IF(MATCH(BC78&\"/\"&BD78,③読み替え表_省エネ住宅!$G$48:$G$57,0),1,0),0)","v":0},{"$f":"IFERROR(IF(MATCH(BE78&\"/\"&BF78,③読み替え表_省エネ住宅!$G$48:$G$57,0),1,0),0)","v":0},0,"*"]
[null,74,null,null,null,null,null,null,null,null,null,null,null,null,null,null,null,null,null,null,null,null,null,null,null,null,null,null,null,null,null,null,null,null,null,null,null,null,null,null,null,null,null,null,null,null,null,null,null,null,null,null,null,null,"未","未","未","未",0,{"$f":"IFERROR(IF(MATCH(BC79&\"/\"&BD79,③読み替え表_省エネ住宅!$G$48:$G$57,0),1,0),0)","v":0},{"$f":"IFERROR(IF(MATCH(BE79&\"/\"&BF79,③読み替え表_省エネ住宅!$G$48:$G$57,0),1,0),0)","v":0},0,"*"]
[null,75,null,null,null,null,null,null,null,null,null,null,null,null,null,null,null,null,null,null,null,null,null,null,null,null,null,null,null,null,null,null,null,null,null,null,null,null,null,null,null,null,null,null,null,null,null,null,null,null,null,null,null,null,"未","未","未","未",0,{"$f":"IFERROR(IF(MATCH(BC80&\"/\"&BD80,③読み替え表_省エネ住宅!$G$48:$G$57,0),1,0),0)","v":0},{"$f":"IFERROR(IF(MATCH(BE80&\"/\"&BF80,③読み替え表_省エネ住宅!$G$48:$G$57,0),1,0),0)","v":0},0,"*"]
[null,76,null,null,null,null,null,null,null,null,null,null,null,null,null,null,null,null,null,null,null,null,null,null,null,null,null,null,null,null,null,null,null,null,null,null,null,null,null,null,null,null,null,null,null,null,null,null,null,null,null,null,null,null,"未","未","未","未",0,{"$f":"IFERROR(IF(MATCH(BC81&\"/\"&BD81,③読み替え表_省エネ住宅!$G$48:$G$57,0),1,0),0)","v":0},{"$f":"IFERROR(IF(MATCH(BE81&\"/\"&BF81,③読み替え表_省エネ住宅!$G$48:$G$57,0),1,0),0)","v":0},0,"*"]
[null,77,null,null,null,null,null,null,null,null,null,null,null,null,null,null,null,null,null,null,null,null,null,null,null,null,null,null,null,null,null,null,null,null,null,null,null,null,null,null,null,null,null,null,null,null,null,null,null,null,null,null,null,null,"未","未","未","未",0,{"$f":"IFERROR(IF(MATCH(BC82&\"/\"&BD82,③読み替え表_省エネ住宅!$G$48:$G$57,0),1,0),0)","v":0},{"$f":"IFERROR(IF(MATCH(BE82&\"/\"&BF82,③読み替え表_省エネ住宅!$G$48:$G$57,0),1,0),0)","v":0},0,"*"]
[null,78,null,null,null,null,null,null,null,null,null,null,null,null,null,null,null,null,null,null,null,null,null,null,null,null,null,null,null,null,null,null,null,null,null,null,null,null,null,null,null,null,null,null,null,null,null,null,null,null,null,null,null,null,"未","未","未","未",0,{"$f":"IFERROR(IF(MATCH(BC83&\"/\"&BD83,③読み替え表_省エネ住宅!$G$48:$G$57,0),1,0),0)","v":0},{"$f":"IFERROR(IF(MATCH(BE83&\"/\"&BF83,③読み替え表_省エネ住宅!$G$48:$G$57,0),1,0),0)","v":0},0,"*"]
[null,79,null,null,null,null,null,null,null,null,null,null,null,null,null,null,null,null,null,null,null,null,null,null,null,null,null,null,null,null,null,null,null,null,null,null,null,null,null,null,null,null,null,null,null,null,null,null,null,null,null,null,null,null,"未","未","未","未",0,{"$f":"IFERROR(IF(MATCH(BC84&\"/\"&BD84,③読み替え表_省エネ住宅!$G$48:$G$57,0),1,0),0)","v":0},{"$f":"IFERROR(IF(MATCH(BE84&\"/\"&BF84,③読み替え表_省エネ住宅!$G$48:$G$57,0),1,0),0)","v":0},0,"*"]
[null,80,null,null,null,null,null,null,null,null,null,null,null,null,null,null,null,null,null,null,null,null,null,null,null,null,null,null,null,null,null,null,null,null,null,null,null,null,null,null,null,null,null,null,null,null,null,null,null,null,null,null,null,null,"未","未","未","未",0,{"$f":"IFERROR(IF(MATCH(BC85&\"/\"&BD85,③読み替え表_省エネ住宅!$G$48:$G$57,0),1,0),0)","v":0},{"$f":"IFERROR(IF(MATCH(BE85&\"/\"&BF85,③読み替え表_省エネ住宅!$G$48:$G$57,0),1,0),0)","v":0},0,"*"]
[null,81,null,null,null,null,null,null,null,null,null,null,null,null,null,null,null,null,null,null,null,null,null,null,null,null,null,null,null,null,null,null,null,null,null,null,null,null,null,null,null,null,null,null,null,null,null,null,null,null,null,null,null,null,"未","未","未","未",0,{"$f":"IFERROR(IF(MATCH(BC86&\"/\"&BD86,③読み替え表_省エネ住宅!$G$48:$G$57,0),1,0),0)","v":0},{"$f":"IFERROR(IF(MATCH(BE86&\"/\"&BF86,③読み替え表_省エネ住宅!$G$48:$G$57,0),1,0),0)","v":0},0,"*"]
[null,82,null,null,null,null,null,null,null,null,null,null,null,null,null,null,null,null,null,null,null,null,null,null,null,null,null,null,null,null,null,null,null,null,null,null,null,null,null,null,null,null,null,null,null,null,null,null,null,null,null,null,null,null,"未","未","未","未",0,{"$f":"IFERROR(IF(MATCH(BC87&\"/\"&BD87,③読み替え表_省エネ住宅!$G$48:$G$57,0),1,0),0)","v":0},{"$f":"IFERROR(IF(MATCH(BE87&\"/\"&BF87,③読み替え表_省エネ住宅!$G$48:$G$57,0),1,0),0)","v":0},0,"*"]
[null,83,null,null,null,null,null,null,null,null,null,null,null,null,null,null,null,null,null,null,null,null,null,null,null,null,null,null,null,null,null,null,null,null,null,null,null,null,null,null,null,null,null,null,null,null,null,null,null,null,null,null,null,null,"未","未","未","未",0,{"$f":"IFERROR(IF(MATCH(BC88&\"/\"&BD88,③読み替え表_省エネ住宅!$G$48:$G$57,0),1,0),0)","v":0},{"$f":"IFERROR(IF(MATCH(BE88&\"/\"&BF88,③読み替え表_省エネ住宅!$G$48:$G$57,0),1,0),0)","v":0},0,"*"]
[null,84,null,null,null,null,null,null,null,null,null,null,null,null,null,null,null,null,null,null,null,null,null,null,null,null,null,null,null,null,null,null,null,null,null,null,null,null,null,null,null,null,null,null,null,null,null,null,null,null,null,null,null,null,"未","未","未","未",0,{"$f":"IFERROR(IF(MATCH(BC89&\"/\"&BD89,③読み替え表_省エネ住宅!$G$48:$G$57,0),1,0),0)","v":0},{"$f":"IFERROR(IF(MATCH(BE89&\"/\"&BF89,③読み替え表_省エネ住宅!$G$48:$G$57,0),1,0),0)","v":0},0,"*"]
[null,85,null,null,null,null,null,null,null,null,null,null,null,null,null,null,null,null,null,null,null,null,null,null,null,null,null,null,null,null,null,null,null,null,null,null,null,null,null,null,null,null,null,null,null,null,null,null,null,null,null,null,null,null,"未","未","未","未",0,{"$f":"IFERROR(IF(MATCH(BC90&\"/\"&BD90,③読み替え表_省エネ住宅!$G$48:$G$57,0),1,0),0)","v":0},{"$f":"IFERROR(IF(MATCH(BE90&\"/\"&BF90,③読み替え表_省エネ住宅!$G$48:$G$57,0),1,0),0)","v":0},0,"*"]
[null,86,null,null,null,null,null,null,null,null,null,null,null,null,null,null,null,null,null,null,null,null,null,null,null,null,null,null,null,null,null,null,null,null,null,null,null,null,null,null,null,null,null,null,null,null,null,null,null,null,null,null,null,null,"未","未","未","未",0,{"$f":"IFERROR(IF(MATCH(BC91&\"/\"&BD91,③読み替え表_省エネ住宅!$G$48:$G$57,0),1,0),0)","v":0},{"$f":"IFERROR(IF(MATCH(BE91&\"/\"&BF91,③読み替え表_省エネ住宅!$G$48:$G$57,0),1,0),0)","v":0},0,"*"]
[null,87,null,null,null,null,null,null,null,null,null,null,null,null,null,null,null,null,null,null,null,null,null,null,null,null,null,null,null,null,null,null,null,null,null,null,null,null,null,null,null,null,null,null,null,null,null,null,null,null,null,null,null,null,"未","未","未","未",0,{"$f":"IFERROR(IF(MATCH(BC92&\"/\"&BD92,③読み替え表_省エネ住宅!$G$48:$G$57,0),1,0),0)","v":0},{"$f":"IFERROR(IF(MATCH(BE92&\"/\"&BF92,③読み替え表_省エネ住宅!$G$48:$G$57,0),1,0),0)","v":0},0,"*"]
[null,88,null,null,null,null,null,null,null,null,null,null,null,null,null,null,null,null,null,null,null,null,null,null,null,null,null,null,null,null,null,null,null,null,null,null,null,null,null,null,null,null,null,null,null,null,null,null,null,null,null,null,null,null,"未","未","未","未",0,{"$f":"IFERROR(IF(MATCH(BC93&\"/\"&BD93,③読み替え表_省エネ住宅!$G$48:$G$57,0),1,0),0)","v":0},{"$f":"IFERROR(IF(MATCH(BE93&\"/\"&BF93,③読み替え表_省エネ住宅!$G$48:$G$57,0),1,0),0)","v":0},0,"*"]
[null,89,null,null,null,null,null,null,null,null,null,null,null,null,null,null,null,null,null,null,null,null,null,null,null,null,null,null,null,null,null,null,null,null,null,null,null,null,null,null,null,null,null,null,null,null,null,null,null,null,null,null,null,null,"未","未","未","未",0,{"$f":"IFERROR(IF(MATCH(BC94&\"/\"&BD94,③読み替え表_省エネ住宅!$G$48:$G$57,0),1,0),0)","v":0},{"$f":"IFERROR(IF(MATCH(BE94&\"/\"&BF94,③読み替え表_省エネ住宅!$G$48:$G$57,0),1,0),0)","v":0},0,"*"]
[null,90,null,null,null,null,null,null,null,null,null,null,null,null,null,null,null,null,null,null,null,null,null,null,null,null,null,null,null,null,null,null,null,null,null,null,null,null,null,null,null,null,null,null,null,null,null,null,null,null,null,null,null,null,"未","未","未","未",0,{"$f":"IFERROR(IF(MATCH(BC95&\"/\"&BD95,③読み替え表_省エネ住宅!$G$48:$G$57,0),1,0),0)","v":0},{"$f":"IFERROR(IF(MATCH(BE95&\"/\"&BF95,③読み替え表_省エネ住宅!$G$48:$G$57,0),1,0),0)","v":0},0,"*"]
[null,91,null,null,null,null,null,null,null,null,null,null,null,null,null,null,null,null,null,null,null,null,null,null,null,null,null,null,null,null,null,null,null,null,null,null,null,null,null,null,null,null,null,null,null,null,null,null,null,null,null,null,null,null,"未","未","未","未",0,{"$f":"IFERROR(IF(MATCH(BC96&\"/\"&BD96,③読み替え表_省エネ住宅!$G$48:$G$57,0),1,0),0)","v":0},{"$f":"IFERROR(IF(MATCH(BE96&\"/\"&BF96,③読み替え表_省エネ住宅!$G$48:$G$57,0),1,0),0)","v":0},0,"*"]
[null,92,null,null,null,null,null,null,null,null,null,null,null,null,null,null,null,null,null,null,null,null,null,null,null,null,null,null,null,null,null,null,null,null,null,null,null,null,null,null,null,null,null,null,null,null,null,null,null,null,null,null,null,null,"未","未","未","未",0,{"$f":"IFERROR(IF(MATCH(BC97&\"/\"&BD97,③読み替え表_省エネ住宅!$G$48:$G$57,0),1,0),0)","v":0},{"$f":"IFERROR(IF(MATCH(BE97&\"/\"&BF97,③読み替え表_省エネ住宅!$G$48:$G$57,0),1,0),0)","v":0},0,"*"]
[null,93,null,null,null,null,null,null,null,null,null,null,null,null,null,null,null,null,null,null,null,null,null,null,null,null,null,null,null,null,null,null,null,null,null,null,null,null,null,null,null,null,null,null,null,null,null,null,null,null,null,null,null,null,"未","未","未","未",0,{"$f":"IFERROR(IF(MATCH(BC98&\"/\"&BD98,③読み替え表_省エネ住宅!$G$48:$G$57,0),1,0),0)","v":0},{"$f":"IFERROR(IF(MATCH(BE98&\"/\"&BF98,③読み替え表_省エネ住宅!$G$48:$G$57,0),1,0),0)","v":0},0,"*"]
[null,94,null,null,null,null,null,null,null,null,null,null,null,null,null,null,null,null,null,null,null,null,null,null,null,null,null,null,null,null,null,null,null,null,null,null,null,null,null,null,null,null,null,null,null,null,null,null,null,null,null,null,null,null,"未","未","未","未",0,{"$f":"IFERROR(IF(MATCH(BC99&\"/\"&BD99,③読み替え表_省エネ住宅!$G$48:$G$57,0),1,0),0)","v":0},{"$f":"IFERROR(IF(MATCH(BE99&\"/\"&BF99,③読み替え表_省エネ住宅!$G$48:$G$57,0),1,0),0)","v":0},0,"*"]
[null,95,null,null,null,null,null,null,null,null,null,null,null,null,null,null,null,null,null,null,null,null,null,null,null,null,null,null,null,null,null,null,null,null,null,null,null,null,null,null,null,null,null,null,null,null,null,null,null,null,null,null,null,null,"未","未","未","未",0,{"$f":"IFERROR(IF(MATCH(BC100&\"/\"&BD100,③読み替え表_省エネ住宅!$G$48:$G$57,0),1,0),0)","v":0},{"$f":"IFERROR(IF(MATCH(BE100&\"/\"&BF100,③読み替え表_省エネ住宅!$G$48:$G$57,0),1,0),0)","v":0},0,"*"]
[null,96,null,null,null,null,null,null,null,null,null,null,null,null,null,null,null,null,null,null,null,null,null,null,null,null,null,null,null,null,null,null,null,null,null,null,null,null,null,null,null,null,null,null,null,null,null,null,null,null,null,null,null,null,"未","未","未","未",0,{"$f":"IFERROR(IF(MATCH(BC101&\"/\"&BD101,③読み替え表_省エネ住宅!$G$48:$G$57,0),1,0),0)","v":0},{"$f":"IFERROR(IF(MATCH(BE101&\"/\"&BF101,③読み替え表_省エネ住宅!$G$48:$G$57,0),1,0),0)","v":0},0,"*"]
[null,97,null,null,null,null,null,null,null,null,null,null,null,null,null,null,null,null,null,null,null,null,null,null,null,null,null,null,null,null,null,null,null,null,null,null,null,null,null,null,null,null,null,null,null,null,null,null,null,null,null,null,null,null,"未","未","未","未",0,{"$f":"IFERROR(IF(MATCH(BC102&\"/\"&BD102,③読み替え表_省エネ住宅!$G$48:$G$57,0),1,0),0)","v":0},{"$f":"IFERROR(IF(MATCH(BE102&\"/\"&BF102,③読み替え表_省エネ住宅!$G$48:$G$57,0),1,0),0)","v":0},0,"*"]
[null,98,null,null,null,null,null,null,null,null,null,null,null,null,null,null,null,null,null,null,null,null,null,null,null,null,null,null,null,null,null,null,null,null,null,null,null,null,null,null,null,null,null,null,null,null,null,null,null,null,null,null,null,null,"未","未","未","未",0,{"$f":"IFERROR(IF(MATCH(BC103&\"/\"&BD103,③読み替え表_省エネ住宅!$G$48:$G$57,0),1,0),0)","v":0},{"$f":"IFERROR(IF(MATCH(BE103&\"/\"&BF103,③読み替え表_省エネ住宅!$G$48:$G$57,0),1,0),0)","v":0},0,"*"]
[null,99,null,null,null,null,null,null,null,null,null,null,null,null,null,null,null,null,null,null,null,null,null,null,null,null,null,null,null,null,null,null,null,null,null,null,null,null,null,null,null,null,null,null,null,null,null,null,null,null,null,null,null,null,"未","未","未","未",0,{"$f":"IFERROR(IF(MATCH(BC104&\"/\"&BD104,③読み替え表_省エネ住宅!$G$48:$G$57,0),1,0),0)","v":0},{"$f":"IFERROR(IF(MATCH(BE104&\"/\"&BF104,③読み替え表_省エネ住宅!$G$48:$G$57,0),1,0),0)","v":0},0,"*"]
[null,100,null,null,null,null,null,null,null,null,null,null,null,null,null,null,null,null,null,null,null,null,null,null,null,null,null,null,null,null,null,null,null,null,null,null,null,null,null,null,null,null,null,null,null,null,null,null,null,null,null,null,null,null,"未","未","未","未",0,{"$f":"IFERROR(IF(MATCH(BC105&\"/\"&BD105,③読み替え表_省エネ住宅!$G$48:$G$57,0),1,0),0)","v":0},{"$f":"IFERROR(IF(MATCH(BE105&\"/\"&BF105,③読み替え表_省エネ住宅!$G$48:$G$57,0),1,0),0)","v":0},0,"*"]
[null,101,null,null,null,null,null,null,null,null,null,null,null,null,null,null,null,null,null,null,null,null,null,null,null,null,null,null,null,null,null,null,null,null,null,null,null,null,null,null,null,null,null,null,null,null,null,null,null,null,null,null,null,null,"未","未","未","未",0,{"$f":"IFERROR(IF(MATCH(BC106&\"/\"&BD106,③読み替え表_省エネ住宅!$G$48:$G$57,0),1,0),0)","v":0},{"$f":"IFERROR(IF(MATCH(BE106&\"/\"&BF106,③読み替え表_省エネ住宅!$G$48:$G$57,0),1,0),0)","v":0},0,"*"]
[null,102,null,null,null,null,null,null,null,null,null,null,null,null,null,null,null,null,null,null,null,null,null,null,null,null,null,null,null,null,null,null,null,null,null,null,null,null,null,null,null,null,null,null,null,null,null,null,null,null,null,null,null,null,"未","未","未","未",0,{"$f":"IFERROR(IF(MATCH(BC107&\"/\"&BD107,③読み替え表_省エネ住宅!$G$48:$G$57,0),1,0),0)","v":0},{"$f":"IFERROR(IF(MATCH(BE107&\"/\"&BF107,③読み替え表_省エネ住宅!$G$48:$G$57,0),1,0),0)","v":0},0,"*"]
[null,103,null,null,null,null,null,null,null,null,null,null,null,null,null,null,null,null,null,null,null,null,null,null,null,null,null,null,null,null,null,null,null,null,null,null,null,null,null,null,null,null,null,null,null,null,null,null,null,null,null,null,null,null,"未","未","未","未",0,{"$f":"IFERROR(IF(MATCH(BC108&\"/\"&BD108,③読み替え表_省エネ住宅!$G$48:$G$57,0),1,0),0)","v":0},{"$f":"IFERROR(IF(MATCH(BE108&\"/\"&BF108,③読み替え表_省エネ住宅!$G$48:$G$57,0),1,0),0)","v":0},0,"*"]
[null,104,null,null,null,null,null,null,null,null,null,null,null,null,null,null,null,null,null,null,null,null,null,null,null,null,null,null,null,null,null,null,null,null,null,null,null,null,null,null,null,null,null,null,null,null,null,null,null,null,null,null,null,null,"未","未","未","未",0,{"$f":"IFERROR(IF(MATCH(BC109&\"/\"&BD109,③読み替え表_省エネ住宅!$G$48:$G$57,0),1,0),0)","v":0},{"$f":"IFERROR(IF(MATCH(BE109&\"/\"&BF109,③読み替え表_省エネ住宅!$G$48:$G$57,0),1,0),0)","v":0},0,"*"]
[null,105,null,null,null,null,null,null,null,null,null,null,null,null,null,null,null,null,null,null,null,null,null,null,null,null,null,null,null,null,null,null,null,null,null,null,null,null,null,null,null,null,null,null,null,null,null,null,null,null,null,null,null,null,"未","未","未","未",0,{"$f":"IFERROR(IF(MATCH(BC110&\"/\"&BD110,③読み替え表_省エネ住宅!$G$48:$G$57,0),1,0),0)","v":0},{"$f":"IFERROR(IF(MATCH(BE110&\"/\"&BF110,③読み替え表_省エネ住宅!$G$48:$G$57,0),1,0),0)","v":0},0,"*"]
[null,106,null,null,null,null,null,null,null,null,null,null,null,null,null,null,null,null,null,null,null,null,null,null,null,null,null,null,null,null,null,null,null,null,null,null,null,null,null,null,null,null,null,null,null,null,null,null,null,null,null,null,null,null,"未","未","未","未",0,{"$f":"IFERROR(IF(MATCH(BC111&\"/\"&BD111,③読み替え表_省エネ住宅!$G$48:$G$57,0),1,0),0)","v":0},{"$f":"IFERROR(IF(MATCH(BE111&\"/\"&BF111,③読み替え表_省エネ住宅!$G$48:$G$57,0),1,0),0)","v":0},0,"*"]
[null,107,null,null,null,null,null,null,null,null,null,null,null,null,null,null,null,null,null,null,null,null,null,null,null,null,null,null,null,null,null,null,null,null,null,null,null,null,null,null,null,null,null,null,null,null,null,null,null,null,null,null,null,null,"未","未","未","未",0,{"$f":"IFERROR(IF(MATCH(BC112&\"/\"&BD112,③読み替え表_省エネ住宅!$G$48:$G$57,0),1,0),0)","v":0},{"$f":"IFERROR(IF(MATCH(BE112&\"/\"&BF112,③読み替え表_省エネ住宅!$G$48:$G$57,0),1,0),0)","v":0},0,"*"]
[null,108,null,null,null,null,null,null,null,null,null,null,null,null,null,null,null,null,null,null,null,null,null,null,null,null,null,null,null,null,null,null,null,null,null,null,null,null,null,null,null,null,null,null,null,null,null,null,null,null,null,null,null,null,"未","未","未","未",0,{"$f":"IFERROR(IF(MATCH(BC113&\"/\"&BD113,③読み替え表_省エネ住宅!$G$48:$G$57,0),1,0),0)","v":0},{"$f":"IFERROR(IF(MATCH(BE113&\"/\"&BF113,③読み替え表_省エネ住宅!$G$48:$G$57,0),1,0),0)","v":0},0,"*"]
[null,109,null,null,null,null,null,null,null,null,null,null,null,null,null,null,null,null,null,null,null,null,null,null,null,null,null,null,null,null,null,null,null,null,null,null,null,null,null,null,null,null,null,null,null,null,null,null,null,null,null,null,null,null,"未","未","未","未",0,{"$f":"IFERROR(IF(MATCH(BC114&\"/\"&BD114,③読み替え表_省エネ住宅!$G$48:$G$57,0),1,0),0)","v":0},{"$f":"IFERROR(IF(MATCH(BE114&\"/\"&BF114,③読み替え表_省エネ住宅!$G$48:$G$57,0),1,0),0)","v":0},0,"*"]
[null,110,null,null,null,null,null,null,null,null,null,null,null,null,null,null,null,null,null,null,null,null,null,null,null,null,null,null,null,null,null,null,null,null,null,null,null,null,null,null,null,null,null,null,null,null,null,null,null,null,null,null,null,null,"未","未","未","未",0,{"$f":"IFERROR(IF(MATCH(BC115&\"/\"&BD115,③読み替え表_省エネ住宅!$G$48:$G$57,0),1,0),0)","v":0},{"$f":"IFERROR(IF(MATCH(BE115&\"/\"&BF115,③読み替え表_省エネ住宅!$G$48:$G$57,0),1,0),0)","v":0},0,"*"]
[null,111,null,null,null,null,null,null,null,null,null,null,null,null,null,null,null,null,null,null,null,null,null,null,null,null,null,null,null,null,null,null,null,null,null,null,null,null,null,null,null,null,null,null,null,null,null,null,null,null,null,null,null,null,"未","未","未","未",0,{"$f":"IFERROR(IF(MATCH(BC116&\"/\"&BD116,③読み替え表_省エネ住宅!$G$48:$G$57,0),1,0),0)","v":0},{"$f":"IFERROR(IF(MATCH(BE116&\"/\"&BF116,③読み替え表_省エネ住宅!$G$48:$G$57,0),1,0),0)","v":0},0,"*"]
[null,112,null,null,null,null,null,null,null,null,null,null,null,null,null,null,null,null,null,null,null,null,null,null,null,null,null,null,null,null,null,null,null,null,null,null,null,null,null,null,null,null,null,null,null,null,null,null,null,null,null,null,null,null,"未","未","未","未",0,{"$f":"IFERROR(IF(MATCH(BC117&\"/\"&BD117,③読み替え表_省エネ住宅!$G$48:$G$57,0),1,0),0)","v":0},{"$f":"IFERROR(IF(MATCH(BE117&\"/\"&BF117,③読み替え表_省エネ住宅!$G$48:$G$57,0),1,0),0)","v":0},0,"*"]
[null,113,null,null,null,null,null,null,null,null,null,null,null,null,null,null,null,null,null,null,null,null,null,null,null,null,null,null,null,null,null,null,null,null,null,null,null,null,null,null,null,null,null,null,null,null,null,null,null,null,null,null,null,null,"未","未","未","未",0,{"$f":"IFERROR(IF(MATCH(BC118&\"/\"&BD118,③読み替え表_省エネ住宅!$G$48:$G$57,0),1,0),0)","v":0},{"$f":"IFERROR(IF(MATCH(BE118&\"/\"&BF118,③読み替え表_省エネ住宅!$G$48:$G$57,0),1,0),0)","v":0},0,"*"]
[null,114,null,null,null,null,null,null,null,null,null,null,null,null,null,null,null,null,null,null,null,null,null,null,null,null,null,null,null,null,null,null,null,null,null,null,null,null,null,null,null,null,null,null,null,null,null,null,null,null,null,null,null,null,"未","未","未","未",0,{"$f":"IFERROR(IF(MATCH(BC119&\"/\"&BD119,③読み替え表_省エネ住宅!$G$48:$G$57,0),1,0),0)","v":0},{"$f":"IFERROR(IF(MATCH(BE119&\"/\"&BF119,③読み替え表_省エネ住宅!$G$48:$G$57,0),1,0),0)","v":0},0,"*"]
[null,115,null,null,null,null,null,null,null,null,null,null,null,null,null,null,null,null,null,null,null,null,null,null,null,null,null,null,null,null,null,null,null,null,null,null,null,null,null,null,null,null,null,null,null,null,null,null,null,null,null,null,null,null,"未","未","未","未",0,{"$f":"IFERROR(IF(MATCH(BC120&\"/\"&BD120,③読み替え表_省エネ住宅!$G$48:$G$57,0),1,0),0)","v":0},{"$f":"IFERROR(IF(MATCH(BE120&\"/\"&BF120,③読み替え表_省エネ住宅!$G$48:$G$57,0),1,0),0)","v":0},0,"*"]
[null,116,null,null,null,null,null,null,null,null,null,null,null,null,null,null,null,null,null,null,null,null,null,null,null,null,null,null,null,null,null,null,null,null,null,null,null,null,null,null,null,null,null,null,null,null,null,null,null,null,null,null,null,null,"未","未","未","未",0,{"$f":"IFERROR(IF(MATCH(BC121&\"/\"&BD121,③読み替え表_省エネ住宅!$G$48:$G$57,0),1,0),0)","v":0},{"$f":"IFERROR(IF(MATCH(BE121&\"/\"&BF121,③読み替え表_省エネ住宅!$G$48:$G$57,0),1,0),0)","v":0},0,"*"]
[null,117,null,null,null,null,null,null,null,null,null,null,null,null,null,null,null,null,null,null,null,null,null,null,null,null,null,null,null,null,null,null,null,null,null,null,null,null,null,null,null,null,null,null,null,null,null,null,null,null,null,null,null,null,"未","未","未","未",0,{"$f":"IFERROR(IF(MATCH(BC122&\"/\"&BD122,③読み替え表_省エネ住宅!$G$48:$G$57,0),1,0),0)","v":0},{"$f":"IFERROR(IF(MATCH(BE122&\"/\"&BF122,③読み替え表_省エネ住宅!$G$48:$G$57,0),1,0),0)","v":0},0,"*"]
[null,118,null,null,null,null,null,null,null,null,null,null,null,null,null,null,null,null,null,null,null,null,null,null,null,null,null,null,null,null,null,null,null,null,null,null,null,null,null,null,null,null,null,null,null,null,null,null,null,null,null,null,null,null,"未","未","未","未",0,{"$f":"IFERROR(IF(MATCH(BC123&\"/\"&BD123,③読み替え表_省エネ住宅!$G$48:$G$57,0),1,0),0)","v":0},{"$f":"IFERROR(IF(MATCH(BE123&\"/\"&BF123,③読み替え表_省エネ住宅!$G$48:$G$57,0),1,0),0)","v":0},0,"*"]
[null,119,null,null,null,null,null,null,null,null,null,null,null,null,null,null,null,null,null,null,null,null,null,null,null,null,null,null,null,null,null,null,null,null,null,null,null,null,null,null,null,null,null,null,null,null,null,null,null,null,null,null,null,null,"未","未","未","未",0,{"$f":"IFERROR(IF(MATCH(BC124&\"/\"&BD124,③読み替え表_省エネ住宅!$G$48:$G$57,0),1,0),0)","v":0},{"$f":"IFERROR(IF(MATCH(BE124&\"/\"&BF124,③読み替え表_省エネ住宅!$G$48:$G$57,0),1,0),0)","v":0},0,"*"]
[null,120,null,null,null,null,null,null,null,null,null,null,null,null,null,null,null,null,null,null,null,null,null,null,null,null,null,null,null,null,null,null,null,null,null,null,null,null,null,null,null,null,null,null,null,null,null,null,null,null,null,null,null,null,"未","未","未","未",0,{"$f":"IFERROR(IF(MATCH(BC125&\"/\"&BD125,③読み替え表_省エネ住宅!$G$48:$G$57,0),1,0),0)","v":0},{"$f":"IFERROR(IF(MATCH(BE125&\"/\"&BF125,③読み替え表_省エネ住宅!$G$48:$G$57,0),1,0),0)","v":0},0,"*"]
[null,121,null,null,null,null,null,null,null,null,null,null,null,null,null,null,null,null,null,null,null,null,null,null,null,null,null,null,null,null,null,null,null,null,null,null,null,null,null,null,null,null,null,null,null,null,null,null,null,null,null,null,null,null,"未","未","未","未",0,{"$f":"IFERROR(IF(MATCH(BC126&\"/\"&BD126,③読み替え表_省エネ住宅!$G$48:$G$57,0),1,0),0)","v":0},{"$f":"IFERROR(IF(MATCH(BE126&\"/\"&BF126,③読み替え表_省エネ住宅!$G$48:$G$57,0),1,0),0)","v":0},0,"*"]
[null,122,null,null,null,null,null,null,null,null,null,null,null,null,null,null,null,null,null,null,null,null,null,null,null,null,null,null,null,null,null,null,null,null,null,null,null,null,null,null,null,null,null,null,null,null,null,null,null,null,null,null,null,null,"未","未","未","未",0,{"$f":"IFERROR(IF(MATCH(BC127&\"/\"&BD127,③読み替え表_省エネ住宅!$G$48:$G$57,0),1,0),0)","v":0},{"$f":"IFERROR(IF(MATCH(BE127&\"/\"&BF127,③読み替え表_省エネ住宅!$G$48:$G$57,0),1,0),0)","v":0},0,"*"]
[null,123,null,null,null,null,null,null,null,null,null,null,null,null,null,null,null,null,null,null,null,null,null,null,null,null,null,null,null,null,null,null,null,null,null,null,null,null,null,null,null,null,null,null,null,null,null,null,null,null,null,null,null,null,"未","未","未","未",0,{"$f":"IFERROR(IF(MATCH(BC128&\"/\"&BD128,③読み替え表_省エネ住宅!$G$48:$G$57,0),1,0),0)","v":0},{"$f":"IFERROR(IF(MATCH(BE128&\"/\"&BF128,③読み替え表_省エネ住宅!$G$48:$G$57,0),1,0),0)","v":0},0,"*"]
[null,124,null,null,null,null,null,null,null,null,null,null,null,null,null,null,null,null,null,null,null,null,null,null,null,null,null,null,null,null,null,null,null,null,null,null,null,null,null,null,null,null,null,null,null,null,null,null,null,null,null,null,null,null,"未","未","未","未",0,{"$f":"IFERROR(IF(MATCH(BC129&\"/\"&BD129,③読み替え表_省エネ住宅!$G$48:$G$57,0),1,0),0)","v":0},{"$f":"IFERROR(IF(MATCH(BE129&\"/\"&BF129,③読み替え表_省エネ住宅!$G$48:$G$57,0),1,0),0)","v":0},0,"*"]
[null,125,null,null,null,null,null,null,null,null,null,null,null,null,null,null,null,null,null,null,null,null,null,null,null,null,null,null,null,null,null,null,null,null,null,null,null,null,null,null,null,null,null,null,null,null,null,null,null,null,null,null,null,null,"未","未","未","未",0,{"$f":"IFERROR(IF(MATCH(BC130&\"/\"&BD130,③読み替え表_省エネ住宅!$G$48:$G$57,0),1,0),0)","v":0},{"$f":"IFERROR(IF(MATCH(BE130&\"/\"&BF130,③読み替え表_省エネ住宅!$G$48:$G$57,0),1,0),0)","v":0},0,"*"]
[null,126,null,null,null,null,null,null,null,null,null,null,null,null,null,null,null,null,null,null,null,null,null,null,null,null,null,null,null,null,null,null,null,null,null,null,null,null,null,null,null,null,null,null,null,null,null,null,null,null,null,null,null,null,"未","未","未","未",0,{"$f":"IFERROR(IF(MATCH(BC131&\"/\"&BD131,③読み替え表_省エネ住宅!$G$48:$G$57,0),1,0),0)","v":0},{"$f":"IFERROR(IF(MATCH(BE131&\"/\"&BF131,③読み替え表_省エネ住宅!$G$48:$G$57,0),1,0),0)","v":0},0,"*"]
[null,127,null,null,null,null,null,null,null,null,null,null,null,null,null,null,null,null,null,null,null,null,null,null,null,null,null,null,null,null,null,null,null,null,null,null,null,null,null,null,null,null,null,null,null,null,null,null,null,null,null,null,null,null,"未","未","未","未",0,{"$f":"IFERROR(IF(MATCH(BC132&\"/\"&BD132,③読み替え表_省エネ住宅!$G$48:$G$57,0),1,0),0)","v":0},{"$f":"IFERROR(IF(MATCH(BE132&\"/\"&BF132,③読み替え表_省エネ住宅!$G$48:$G$57,0),1,0),0)","v":0},0,"*"]
[null,128,null,null,null,null,null,null,null,null,null,null,null,null,null,null,null,null,null,null,null,null,null,null,null,null,null,null,null,null,null,null,null,null,null,null,null,null,null,null,null,null,null,null,null,null,null,null,null,null,null,null,null,null,"未","未","未","未",0,{"$f":"IFERROR(IF(MATCH(BC133&\"/\"&BD133,③読み替え表_省エネ住宅!$G$48:$G$57,0),1,0),0)","v":0},{"$f":"IFERROR(IF(MATCH(BE133&\"/\"&BF133,③読み替え表_省エネ住宅!$G$48:$G$57,0),1,0),0)","v":0},0,"*"]
[null,129,null,null,null,null,null,null,null,null,null,null,null,null,null,null,null,null,null,null,null,null,null,null,null,null,null,null,null,null,null,null,null,null,null,null,null,null,null,null,null,null,null,null,null,null,null,null,null,null,null,null,null,null,"未","未","未","未",0,{"$f":"IFERROR(IF(MATCH(BC134&\"/\"&BD134,③読み替え表_省エネ住宅!$G$48:$G$57,0),1,0),0)","v":0},{"$f":"IFERROR(IF(MATCH(BE134&\"/\"&BF134,③読み替え表_省エネ住宅!$G$48:$G$57,0),1,0),0)","v":0},0,"*"]
[null,{"$f":"ROW()-5","v":130},null,null,null,null,null,null,null,null,null,null,null,null,null,null,null,null,null,null,null,null,null,null,null,null,null,null,null,null,null,null,null,null,null,null,null,null,null,null,null,null,null,null,null,null,null,null,null,null,null,null,null,null,{"$f":"IFERROR(IF(SUM($Q135:$U135)>1,\"複数回答\",INDEX($Q$5:$U$5,,MATCH(1,$Q135:$U135,0))),\"未\")","v":"未"},{"$f":"IFERROR(IF(SUM($AA135:$AE135)>1,\"複数回答\",INDEX($AA$5:$AE$5,,MATCH(1,$AA135:$AE135,0))),\"未\")","v":"未"},{"$f":"IFERROR(IF(SUM($V135:$Z135)>1,\"複数回答\",INDEX($V$5:$Z$5,,MATCH(1,$V135:$Z135,0))),\"未\")","v":"未"},{"$f":"IFERROR(IF(SUM($AF135:$AJ135)>1,\"複数回答\",INDEX($AF$5:$AJ$5,,MATCH(1,$AF135:$AJ135,0))),\"未\")","v":"未"},{"$f":"IF(BC135=\"複数回答\",1,IF(BD135=\"複数回答\",1,IF(BE135=\"複数回答\",1,IF(BF135=\"複数回答\",1,0))))","v":0},{"$f":"IFERROR(IF(MATCH(BC135&\"/\"&BD135,③読み替え表_省エネ住宅!$G$48:$G$57,0),1,0),0)","v":0},{"$f":"IFERROR(IF(MATCH(BE135&\"/\"&BF135,③読み替え表_省エネ住宅!$G$48:$G$57,0),1,0),0)","v":0},{"$f":"IF(SUM(BG135:BI135)>0,1,0)","v":0},"*"]
[null,131,null,null,null,null,null,null,null,null,null,null,null,null,null,null,null,null,null,null,null,null,null,null,null,null,null,null,null,null,null,null,null,null,null,null,null,null,null,null,null,null,null,null,null,null,null,null,null,null,null,null,null,null,"未","未","未","未",0,{"$f":"IFERROR(IF(MATCH(BC136&\"/\"&BD136,③読み替え表_省エネ住宅!$G$48:$G$57,0),1,0),0)","v":0},{"$f":"IFERROR(IF(MATCH(BE136&\"/\"&BF136,③読み替え表_省エネ住宅!$G$48:$G$57,0),1,0),0)","v":0},0,"*"]
[null,132,null,null,null,null,null,null,null,null,null,null,null,null,null,null,null,null,null,null,null,null,null,null,null,null,null,null,null,null,null,null,null,null,null,null,null,null,null,null,null,null,null,null,null,null,null,null,null,null,null,null,null,null,"未","未","未","未",0,{"$f":"IFERROR(IF(MATCH(BC137&\"/\"&BD137,③読み替え表_省エネ住宅!$G$48:$G$57,0),1,0),0)","v":0},{"$f":"IFERROR(IF(MATCH(BE137&\"/\"&BF137,③読み替え表_省エネ住宅!$G$48:$G$57,0),1,0),0)","v":0},0,"*"]
[null,133,null,null,null,null,null,null,null,null,null,null,null,null,null,null,null,null,null,null,null,null,null,null,null,null,null,null,null,null,null,null,null,null,null,null,null,null,null,null,null,null,null,null,null,null,null,null,null,null,null,null,null,null,"未","未","未","未",0,{"$f":"IFERROR(IF(MATCH(BC138&\"/\"&BD138,③読み替え表_省エネ住宅!$G$48:$G$57,0),1,0),0)","v":0},{"$f":"IFERROR(IF(MATCH(BE138&\"/\"&BF138,③読み替え表_省エネ住宅!$G$48:$G$57,0),1,0),0)","v":0},0,"*"]
[null,134,null,null,null,null,null,null,null,null,null,null,null,null,null,null,null,null,null,null,null,null,null,null,null,null,null,null,null,null,null,null,null,null,null,null,null,null,null,null,null,null,null,null,null,null,null,null,null,null,null,null,null,null,"未","未","未","未",0,{"$f":"IFERROR(IF(MATCH(BC139&\"/\"&BD139,③読み替え表_省エネ住宅!$G$48:$G$57,0),1,0),0)","v":0},{"$f":"IFERROR(IF(MATCH(BE139&\"/\"&BF139,③読み替え表_省エネ住宅!$G$48:$G$57,0),1,0),0)","v":0},0,"*"]
[null,135,null,null,null,null,null,null,null,null,null,null,null,null,null,null,null,null,null,null,null,null,null,null,null,null,null,null,null,null,null,null,null,null,null,null,null,null,null,null,null,null,null,null,null,null,null,null,null,null,null,null,null,null,"未","未","未","未",0,{"$f":"IFERROR(IF(MATCH(BC140&\"/\"&BD140,③読み替え表_省エネ住宅!$G$48:$G$57,0),1,0),0)","v":0},{"$f":"IFERROR(IF(MATCH(BE140&\"/\"&BF140,③読み替え表_省エネ住宅!$G$48:$G$57,0),1,0),0)","v":0},0,"*"]
[null,136,null,null,null,null,null,null,null,null,null,null,null,null,null,null,null,null,null,null,null,null,null,null,null,null,null,null,null,null,null,null,null,null,null,null,null,null,null,null,null,null,null,null,null,null,null,null,null,null,null,null,null,null,"未","未","未","未",0,{"$f":"IFERROR(IF(MATCH(BC141&\"/\"&BD141,③読み替え表_省エネ住宅!$G$48:$G$57,0),1,0),0)","v":0},{"$f":"IFERROR(IF(MATCH(BE141&\"/\"&BF141,③読み替え表_省エネ住宅!$G$48:$G$57,0),1,0),0)","v":0},0,"*"]
[null,137,null,null,null,null,null,null,null,null,null,null,null,null,null,null,null,null,null,null,null,null,null,null,null,null,null,null,null,null,null,null,null,null,null,null,null,null,null,null,null,null,null,null,null,null,null,null,null,null,null,null,null,null,"未","未","未","未",0,{"$f":"IFERROR(IF(MATCH(BC142&\"/\"&BD142,③読み替え表_省エネ住宅!$G$48:$G$57,0),1,0),0)","v":0},{"$f":"IFERROR(IF(MATCH(BE142&\"/\"&BF142,③読み替え表_省エネ住宅!$G$48:$G$57,0),1,0),0)","v":0},0,"*"]
[null,138,null,null,null,null,null,null,null,null,null,null,null,null,null,null,null,null,null,null,null,null,null,null,null,null,null,null,null,null,null,null,null,null,null,null,null,null,null,null,null,null,null,null,null,null,null,null,null,null,null,null,null,null,"未","未","未","未",0,{"$f":"IFERROR(IF(MATCH(BC143&\"/\"&BD143,③読み替え表_省エネ住宅!$G$48:$G$57,0),1,0),0)","v":0},{"$f":"IFERROR(IF(MATCH(BE143&\"/\"&BF143,③読み替え表_省エネ住宅!$G$48:$G$57,0),1,0),0)","v":0},0,"*"]
[null,139,null,null,null,null,null,null,null,null,null,null,null,null,null,null,null,null,null,null,null,null,null,null,null,null,null,null,null,null,null,null,null,null,null,null,null,null,null,null,null,null,null,null,null,null,null,null,null,null,null,null,null,null,"未","未","未","未",0,{"$f":"IFERROR(IF(MATCH(BC144&\"/\"&BD144,③読み替え表_省エネ住宅!$G$48:$G$57,0),1,0),0)","v":0},{"$f":"IFERROR(IF(MATCH(BE144&\"/\"&BF144,③読み替え表_省エネ住宅!$G$48:$G$57,0),1,0),0)","v":0},0,"*"]
[null,140,null,null,null,null,null,null,null,null,null,null,null,null,null,null,null,null,null,null,null,null,null,null,null,null,null,null,null,null,null,null,null,null,null,null,null,null,null,null,null,null,null,null,null,null,null,null,null,null,null,null,null,null,"未","未","未","未",0,{"$f":"IFERROR(IF(MATCH(BC145&\"/\"&BD145,③読み替え表_省エネ住宅!$G$48:$G$57,0),1,0),0)","v":0},{"$f":"IFERROR(IF(MATCH(BE145&\"/\"&BF145,③読み替え表_省エネ住宅!$G$48:$G$57,0),1,0),0)","v":0},0,"*"]
[null,141,null,null,null,null,null,null,null,null,null,null,null,null,null,null,null,null,null,null,null,null,null,null,null,null,null,null,null,null,null,null,null,null,null,null,null,null,null,null,null,null,null,null,null,null,null,null,null,null,null,null,null,null,"未","未","未","未",0,{"$f":"IFERROR(IF(MATCH(BC146&\"/\"&BD146,③読み替え表_省エネ住宅!$G$48:$G$57,0),1,0),0)","v":0},{"$f":"IFERROR(IF(MATCH(BE146&\"/\"&BF146,③読み替え表_省エネ住宅!$G$48:$G$57,0),1,0),0)","v":0},0,"*"]
[null,142,null,null,null,null,null,null,null,null,null,null,null,null,null,null,null,null,null,null,null,null,null,null,null,null,null,null,null,null,null,null,null,null,null,null,null,null,null,null,null,null,null,null,null,null,null,null,null,null,null,null,null,null,"未","未","未","未",0,{"$f":"IFERROR(IF(MATCH(BC147&\"/\"&BD147,③読み替え表_省エネ住宅!$G$48:$G$57,0),1,0),0)","v":0},{"$f":"IFERROR(IF(MATCH(BE147&\"/\"&BF147,③読み替え表_省エネ住宅!$G$48:$G$57,0),1,0),0)","v":0},0,"*"]
[null,143,null,null,null,null,null,null,null,null,null,null,null,null,null,null,null,null,null,null,null,null,null,null,null,null,null,null,null,null,null,null,null,null,null,null,null,null,null,null,null,null,null,null,null,null,null,null,null,null,null,null,null,null,"未","未","未","未",0,{"$f":"IFERROR(IF(MATCH(BC148&\"/\"&BD148,③読み替え表_省エネ住宅!$G$48:$G$57,0),1,0),0)","v":0},{"$f":"IFERROR(IF(MATCH(BE148&\"/\"&BF148,③読み替え表_省エネ住宅!$G$48:$G$57,0),1,0),0)","v":0},0,"*"]
[null,144,null,null,null,null,null,null,null,null,null,null,null,null,null,null,null,null,null,null,null,null,null,null,null,null,null,null,null,null,null,null,null,null,null,null,null,null,null,null,null,null,null,null,null,null,null,null,null,null,null,null,null,null,"未","未","未","未",0,{"$f":"IFERROR(IF(MATCH(BC149&\"/\"&BD149,③読み替え表_省エネ住宅!$G$48:$G$57,0),1,0),0)","v":0},{"$f":"IFERROR(IF(MATCH(BE149&\"/\"&BF149,③読み替え表_省エネ住宅!$G$48:$G$57,0),1,0),0)","v":0},0,"*"]
[null,145,null,null,null,null,null,null,null,null,null,null,null,null,null,null,null,null,null,null,null,null,null,null,null,null,null,null,null,null,null,null,null,null,null,null,null,null,null,null,null,null,null,null,null,null,null,null,null,null,null,null,null,null,"未","未","未","未",0,{"$f":"IFERROR(IF(MATCH(BC150&\"/\"&BD150,③読み替え表_省エネ住宅!$G$48:$G$57,0),1,0),0)","v":0},{"$f":"IFERROR(IF(MATCH(BE150&\"/\"&BF150,③読み替え表_省エネ住宅!$G$48:$G$57,0),1,0),0)","v":0},0,"*"]
[null,146,null,null,null,null,null,null,null,null,null,null,null,null,null,null,null,null,null,null,null,null,null,null,null,null,null,null,null,null,null,null,null,null,null,null,null,null,null,null,null,null,null,null,null,null,null,null,null,null,null,null,null,null,"未","未","未","未",0,{"$f":"IFERROR(IF(MATCH(BC151&\"/\"&BD151,③読み替え表_省エネ住宅!$G$48:$G$57,0),1,0),0)","v":0},{"$f":"IFERROR(IF(MATCH(BE151&\"/\"&BF151,③読み替え表_省エネ住宅!$G$48:$G$57,0),1,0),0)","v":0},0,"*"]
[null,147,null,null,null,null,null,null,null,null,null,null,null,null,null,null,null,null,null,null,null,null,null,null,null,null,null,null,null,null,null,null,null,null,null,null,null,null,null,null,null,null,null,null,null,null,null,null,null,null,null,null,null,null,"未","未","未","未",0,{"$f":"IFERROR(IF(MATCH(BC152&\"/\"&BD152,③読み替え表_省エネ住宅!$G$48:$G$57,0),1,0),0)","v":0},{"$f":"IFERROR(IF(MATCH(BE152&\"/\"&BF152,③読み替え表_省エネ住宅!$G$48:$G$57,0),1,0),0)","v":0},0,"*"]
[null,148,null,null,null,null,null,null,null,null,null,null,null,null,null,null,null,null,null,null,null,null,null,null,null,null,null,null,null,null,null,null,null,null,null,null,null,null,null,null,null,null,null,null,null,null,null,null,null,null,null,null,null,null,"未","未","未","未",0,{"$f":"IFERROR(IF(MATCH(BC153&\"/\"&BD153,③読み替え表_省エネ住宅!$G$48:$G$57,0),1,0),0)","v":0},{"$f":"IFERROR(IF(MATCH(BE153&\"/\"&BF153,③読み替え表_省エネ住宅!$G$48:$G$57,0),1,0),0)","v":0},0,"*"]
[null,149,null,null,null,null,null,null,null,null,null,null,null,null,null,null,null,null,null,null,null,null,null,null,null,null,null,null,null,null,null,null,null,null,null,null,null,null,null,null,null,null,null,null,null,null,null,null,null,null,null,null,null,null,"未","未","未","未",0,{"$f":"IFERROR(IF(MATCH(BC154&\"/\"&BD154,③読み替え表_省エネ住宅!$G$48:$G$57,0),1,0),0)","v":0},{"$f":"IFERROR(IF(MATCH(BE154&\"/\"&BF154,③読み替え表_省エネ住宅!$G$48:$G$57,0),1,0),0)","v":0},0,"*"]
[null,150,null,null,null,null,null,null,null,null,null,null,null,null,null,null,null,null,null,null,null,null,null,null,null,null,null,null,null,null,null,null,null,null,null,null,null,null,null,null,null,null,null,null,null,null,null,null,null,null,null,null,null,null,"未","未","未","未",0,{"$f":"IFERROR(IF(MATCH(BC155&\"/\"&BD155,③読み替え表_省エネ住宅!$G$48:$G$57,0),1,0),0)","v":0},{"$f":"IFERROR(IF(MATCH(BE155&\"/\"&BF155,③読み替え表_省エネ住宅!$G$48:$G$57,0),1,0),0)","v":0},0,"*"]
[null,151,null,null,null,null,null,null,null,null,null,null,null,null,null,null,null,null,null,null,null,null,null,null,null,null,null,null,null,null,null,null,null,null,null,null,null,null,null,null,null,null,null,null,null,null,null,null,null,null,null,null,null,null,"未","未","未","未",0,{"$f":"IFERROR(IF(MATCH(BC156&\"/\"&BD156,③読み替え表_省エネ住宅!$G$48:$G$57,0),1,0),0)","v":0},{"$f":"IFERROR(IF(MATCH(BE156&\"/\"&BF156,③読み替え表_省エネ住宅!$G$48:$G$57,0),1,0),0)","v":0},0,"*"]
[null,152,null,null,null,null,null,null,null,null,null,null,null,null,null,null,null,null,null,null,null,null,null,null,null,null,null,null,null,null,null,null,null,null,null,null,null,null,null,null,null,null,null,null,null,null,null,null,null,null,null,null,null,null,"未","未","未","未",0,{"$f":"IFERROR(IF(MATCH(BC157&\"/\"&BD157,③読み替え表_省エネ住宅!$G$48:$G$57,0),1,0),0)","v":0},{"$f":"IFERROR(IF(MATCH(BE157&\"/\"&BF157,③読み替え表_省エネ住宅!$G$48:$G$57,0),1,0),0)","v":0},0,"*"]
[null,153,null,null,null,null,null,null,null,null,null,null,null,null,null,null,null,null,null,null,null,null,null,null,null,null,null,null,null,null,null,null,null,null,null,null,null,null,null,null,null,null,null,null,null,null,null,null,null,null,null,null,null,null,"未","未","未","未",0,{"$f":"IFERROR(IF(MATCH(BC158&\"/\"&BD158,③読み替え表_省エネ住宅!$G$48:$G$57,0),1,0),0)","v":0},{"$f":"IFERROR(IF(MATCH(BE158&\"/\"&BF158,③読み替え表_省エネ住宅!$G$48:$G$57,0),1,0),0)","v":0},0,"*"]
[null,154,null,null,null,null,null,null,null,null,null,null,null,null,null,null,null,null,null,null,null,null,null,null,null,null,null,null,null,null,null,null,null,null,null,null,null,null,null,null,null,null,null,null,null,null,null,null,null,null,null,null,null,null,"未","未","未","未",0,{"$f":"IFERROR(IF(MATCH(BC159&\"/\"&BD159,③読み替え表_省エネ住宅!$G$48:$G$57,0),1,0),0)","v":0},{"$f":"IFERROR(IF(MATCH(BE159&\"/\"&BF159,③読み替え表_省エネ住宅!$G$48:$G$57,0),1,0),0)","v":0},0,"*"]
[null,155,null,null,null,null,null,null,null,null,null,null,null,null,null,null,null,null,null,null,null,null,null,null,null,null,null,null,null,null,null,null,null,null,null,null,null,null,null,null,null,null,null,null,null,null,null,null,null,null,null,null,null,null,"未","未","未","未",0,{"$f":"IFERROR(IF(MATCH(BC160&\"/\"&BD160,③読み替え表_省エネ住宅!$G$48:$G$57,0),1,0),0)","v":0},{"$f":"IFERROR(IF(MATCH(BE160&\"/\"&BF160,③読み替え表_省エネ住宅!$G$48:$G$57,0),1,0),0)","v":0},0,"*"]
[null,156,null,null,null,null,null,null,null,null,null,null,null,null,null,null,null,null,null,null,null,null,null,null,null,null,null,null,null,null,null,null,null,null,null,null,null,null,null,null,null,null,null,null,null,null,null,null,null,null,null,null,null,null,"未","未","未","未",0,{"$f":"IFERROR(IF(MATCH(BC161&\"/\"&BD161,③読み替え表_省エネ住宅!$G$48:$G$57,0),1,0),0)","v":0},{"$f":"IFERROR(IF(MATCH(BE161&\"/\"&BF161,③読み替え表_省エネ住宅!$G$48:$G$57,0),1,0),0)","v":0},0,"*"]
[null,157,null,null,null,null,null,null,null,null,null,null,null,null,null,null,null,null,null,null,null,null,null,null,null,null,null,null,null,null,null,null,null,null,null,null,null,null,null,null,null,null,null,null,null,null,null,null,null,null,null,null,null,null,"未","未","未","未",0,{"$f":"IFERROR(IF(MATCH(BC162&\"/\"&BD162,③読み替え表_省エネ住宅!$G$48:$G$57,0),1,0),0)","v":0},{"$f":"IFERROR(IF(MATCH(BE162&\"/\"&BF162,③読み替え表_省エネ住宅!$G$48:$G$57,0),1,0),0)","v":0},0,"*"]
[null,158,null,null,null,null,null,null,null,null,null,null,null,null,null,null,null,null,null,null,null,null,null,null,null,null,null,null,null,null,null,null,null,null,null,null,null,null,null,null,null,null,null,null,null,null,null,null,null,null,null,null,null,null,"未","未","未","未",0,{"$f":"IFERROR(IF(MATCH(BC163&\"/\"&BD163,③読み替え表_省エネ住宅!$G$48:$G$57,0),1,0),0)","v":0},{"$f":"IFERROR(IF(MATCH(BE163&\"/\"&BF163,③読み替え表_省エネ住宅!$G$48:$G$57,0),1,0),0)","v":0},0,"*"]
[null,159,null,null,null,null,null,null,null,null,null,null,null,null,null,null,null,null,null,null,null,null,null,null,null,null,null,null,null,null,null,null,null,null,null,null,null,null,null,null,null,null,null,null,null,null,null,null,null,null,null,null,null,null,"未","未","未","未",0,{"$f":"IFERROR(IF(MATCH(BC164&\"/\"&BD164,③読み替え表_省エネ住宅!$G$48:$G$57,0),1,0),0)","v":0},{"$f":"IFERROR(IF(MATCH(BE164&\"/\"&BF164,③読み替え表_省エネ住宅!$G$48:$G$57,0),1,0),0)","v":0},0,"*"]
[null,160,null,null,null,null,null,null,null,null,null,null,null,null,null,null,null,null,null,null,null,null,null,null,null,null,null,null,null,null,null,null,null,null,null,null,null,null,null,null,null,null,null,null,null,null,null,null,null,null,null,null,null,null,"未","未","未","未",0,{"$f":"IFERROR(IF(MATCH(BC165&\"/\"&BD165,③読み替え表_省エネ住宅!$G$48:$G$57,0),1,0),0)","v":0},{"$f":"IFERROR(IF(MATCH(BE165&\"/\"&BF165,③読み替え表_省エネ住宅!$G$48:$G$57,0),1,0),0)","v":0},0,"*"]
[null,161,null,null,null,null,null,null,null,null,null,null,null,null,null,null,null,null,null,null,null,null,null,null,null,null,null,null,null,null,null,null,null,null,null,null,null,null,null,null,null,null,null,null,null,null,null,null,null,null,null,null,null,null,"未","未","未","未",0,{"$f":"IFERROR(IF(MATCH(BC166&\"/\"&BD166,③読み替え表_省エネ住宅!$G$48:$G$57,0),1,0),0)","v":0},{"$f":"IFERROR(IF(MATCH(BE166&\"/\"&BF166,③読み替え表_省エネ住宅!$G$48:$G$57,0),1,0),0)","v":0},0,"*"]
[null,162,null,null,null,null,null,null,null,null,null,null,null,null,null,null,null,null,null,null,null,null,null,null,null,null,null,null,null,null,null,null,null,null,null,null,null,null,null,null,null,null,null,null,null,null,null,null,null,null,null,null,null,null,"未","未","未","未",0,{"$f":"IFERROR(IF(MATCH(BC167&\"/\"&BD167,③読み替え表_省エネ住宅!$G$48:$G$57,0),1,0),0)","v":0},{"$f":"IFERROR(IF(MATCH(BE167&\"/\"&BF167,③読み替え表_省エネ住宅!$G$48:$G$57,0),1,0),0)","v":0},0,"*"]
[null,163,null,null,null,null,null,null,null,null,null,null,null,null,null,null,null,null,null,null,null,null,null,null,null,null,null,null,null,null,null,null,null,null,null,null,null,null,null,null,null,null,null,null,null,null,null,null,null,null,null,null,null,null,"未","未","未","未",0,{"$f":"IFERROR(IF(MATCH(BC168&\"/\"&BD168,③読み替え表_省エネ住宅!$G$48:$G$57,0),1,0),0)","v":0},{"$f":"IFERROR(IF(MATCH(BE168&\"/\"&BF168,③読み替え表_省エネ住宅!$G$48:$G$57,0),1,0),0)","v":0},0,"*"]
[null,164,null,null,null,null,null,null,null,null,null,null,null,null,null,null,null,null,null,null,null,null,null,null,null,null,null,null,null,null,null,null,null,null,null,null,null,null,null,null,null,null,null,null,null,null,null,null,null,null,null,null,null,null,"未","未","未","未",0,{"$f":"IFERROR(IF(MATCH(BC169&\"/\"&BD169,③読み替え表_省エネ住宅!$G$48:$G$57,0),1,0),0)","v":0},{"$f":"IFERROR(IF(MATCH(BE169&\"/\"&BF169,③読み替え表_省エネ住宅!$G$48:$G$57,0),1,0),0)","v":0},0,"*"]
[null,165,null,null,null,null,null,null,null,null,null,null,null,null,null,null,null,null,null,null,null,null,null,null,null,null,null,null,null,null,null,null,null,null,null,null,null,null,null,null,null,null,null,null,null,null,null,null,null,null,null,null,null,null,"未","未","未","未",0,{"$f":"IFERROR(IF(MATCH(BC170&\"/\"&BD170,③読み替え表_省エネ住宅!$G$48:$G$57,0),1,0),0)","v":0},{"$f":"IFERROR(IF(MATCH(BE170&\"/\"&BF170,③読み替え表_省エネ住宅!$G$48:$G$57,0),1,0),0)","v":0},0,"*"]
[null,166,null,null,null,null,null,null,null,null,null,null,null,null,null,null,null,null,null,null,null,null,null,null,null,null,null,null,null,null,null,null,null,null,null,null,null,null,null,null,null,null,null,null,null,null,null,null,null,null,null,null,null,null,"未","未","未","未",0,{"$f":"IFERROR(IF(MATCH(BC171&\"/\"&BD171,③読み替え表_省エネ住宅!$G$48:$G$57,0),1,0),0)","v":0},{"$f":"IFERROR(IF(MATCH(BE171&\"/\"&BF171,③読み替え表_省エネ住宅!$G$48:$G$57,0),1,0),0)","v":0},0,"*"]
[null,167,null,null,null,null,null,null,null,null,null,null,null,null,null,null,null,null,null,null,null,null,null,null,null,null,null,null,null,null,null,null,null,null,null,null,null,null,null,null,null,null,null,null,null,null,null,null,null,null,null,null,null,null,"未","未","未","未",0,{"$f":"IFERROR(IF(MATCH(BC172&\"/\"&BD172,③読み替え表_省エネ住宅!$G$48:$G$57,0),1,0),0)","v":0},{"$f":"IFERROR(IF(MATCH(BE172&\"/\"&BF172,③読み替え表_省エネ住宅!$G$48:$G$57,0),1,0),0)","v":0},0,"*"]
[null,168,null,null,null,null,null,null,null,null,null,null,null,null,null,null,null,null,null,null,null,null,null,null,null,null,null,null,null,null,null,null,null,null,null,null,null,null,null,null,null,null,null,null,null,null,null,null,null,null,null,null,null,null,"未","未","未","未",0,{"$f":"IFERROR(IF(MATCH(BC173&\"/\"&BD173,③読み替え表_省エネ住宅!$G$48:$G$57,0),1,0),0)","v":0},{"$f":"IFERROR(IF(MATCH(BE173&\"/\"&BF173,③読み替え表_省エネ住宅!$G$48:$G$57,0),1,0),0)","v":0},0,"*"]
[null,169,null,null,null,null,null,null,null,null,null,null,null,null,null,null,null,null,null,null,null,null,null,null,null,null,null,null,null,null,null,null,null,null,null,null,null,null,null,null,null,null,null,null,null,null,null,null,null,null,null,null,null,null,"未","未","未","未",0,{"$f":"IFERROR(IF(MATCH(BC174&\"/\"&BD174,③読み替え表_省エネ住宅!$G$48:$G$57,0),1,0),0)","v":0},{"$f":"IFERROR(IF(MATCH(BE174&\"/\"&BF174,③読み替え表_省エネ住宅!$G$48:$G$57,0),1,0),0)","v":0},0,"*"]
[null,170,null,null,null,null,null,null,null,null,null,null,null,null,null,null,null,null,null,null,null,null,null,null,null,null,null,null,null,null,null,null,null,null,null,null,null,null,null,null,null,null,null,null,null,null,null,null,null,null,null,null,null,null,"未","未","未","未",0,{"$f":"IFERROR(IF(MATCH(BC175&\"/\"&BD175,③読み替え表_省エネ住宅!$G$48:$G$57,0),1,0),0)","v":0},{"$f":"IFERROR(IF(MATCH(BE175&\"/\"&BF175,③読み替え表_省エネ住宅!$G$48:$G$57,0),1,0),0)","v":0},0,"*"]
[null,171,null,null,null,null,null,null,null,null,null,null,null,null,null,null,null,null,null,null,null,null,null,null,null,null,null,null,null,null,null,null,null,null,null,null,null,null,null,null,null,null,null,null,null,null,null,null,null,null,null,null,null,null,"未","未","未","未",0,{"$f":"IFERROR(IF(MATCH(BC176&\"/\"&BD176,③読み替え表_省エネ住宅!$G$48:$G$57,0),1,0),0)","v":0},{"$f":"IFERROR(IF(MATCH(BE176&\"/\"&BF176,③読み替え表_省エネ住宅!$G$48:$G$57,0),1,0),0)","v":0},0,"*"]
[null,172,null,null,null,null,null,null,null,null,null,null,null,null,null,null,null,null,null,null,null,null,null,null,null,null,null,null,null,null,null,null,null,null,null,null,null,null,null,null,null,null,null,null,null,null,null,null,null,null,null,null,null,null,"未","未","未","未",0,{"$f":"IFERROR(IF(MATCH(BC177&\"/\"&BD177,③読み替え表_省エネ住宅!$G$48:$G$57,0),1,0),0)","v":0},{"$f":"IFERROR(IF(MATCH(BE177&\"/\"&BF177,③読み替え表_省エネ住宅!$G$48:$G$57,0),1,0),0)","v":0},0,"*"]
[null,173,null,null,null,null,null,null,null,null,null,null,null,null,null,null,null,null,null,null,null,null,null,null,null,null,null,null,null,null,null,null,null,null,null,null,null,null,null,null,null,null,null,null,null,null,null,null,null,null,null,null,null,null,"未","未","未","未",0,{"$f":"IFERROR(IF(MATCH(BC178&\"/\"&BD178,③読み替え表_省エネ住宅!$G$48:$G$57,0),1,0),0)","v":0},{"$f":"IFERROR(IF(MATCH(BE178&\"/\"&BF178,③読み替え表_省エネ住宅!$G$48:$G$57,0),1,0),0)","v":0},0,"*"]
[null,174,null,null,null,null,null,null,null,null,null,null,null,null,null,null,null,null,null,null,null,null,null,null,null,null,null,null,null,null,null,null,null,null,null,null,null,null,null,null,null,null,null,null,null,null,null,null,null,null,null,null,null,null,"未","未","未","未",0,{"$f":"IFERROR(IF(MATCH(BC179&\"/\"&BD179,③読み替え表_省エネ住宅!$G$48:$G$57,0),1,0),0)","v":0},{"$f":"IFERROR(IF(MATCH(BE179&\"/\"&BF179,③読み替え表_省エネ住宅!$G$48:$G$57,0),1,0),0)","v":0},0,"*"]
[null,175,null,null,null,null,null,null,null,null,null,null,null,null,null,null,null,null,null,null,null,null,null,null,null,null,null,null,null,null,null,null,null,null,null,null,null,null,null,null,null,null,null,null,null,null,null,null,null,null,null,null,null,null,"未","未","未","未",0,{"$f":"IFERROR(IF(MATCH(BC180&\"/\"&BD180,③読み替え表_省エネ住宅!$G$48:$G$57,0),1,0),0)","v":0},{"$f":"IFERROR(IF(MATCH(BE180&\"/\"&BF180,③読み替え表_省エネ住宅!$G$48:$G$57,0),1,0),0)","v":0},0,"*"]
[null,176,null,null,null,null,null,null,null,null,null,null,null,null,null,null,null,null,null,null,null,null,null,null,null,null,null,null,null,null,null,null,null,null,null,null,null,null,null,null,null,null,null,null,null,null,null,null,null,null,null,null,null,null,"未","未","未","未",0,{"$f":"IFERROR(IF(MATCH(BC181&\"/\"&BD181,③読み替え表_省エネ住宅!$G$48:$G$57,0),1,0),0)","v":0},{"$f":"IFERROR(IF(MATCH(BE181&\"/\"&BF181,③読み替え表_省エネ住宅!$G$48:$G$57,0),1,0),0)","v":0},0,"*"]
[null,177,null,null,null,null,null,null,null,null,null,null,null,null,null,null,null,null,null,null,null,null,null,null,null,null,null,null,null,null,null,null,null,null,null,null,null,null,null,null,null,null,null,null,null,null,null,null,null,null,null,null,null,null,"未","未","未","未",0,{"$f":"IFERROR(IF(MATCH(BC182&\"/\"&BD182,③読み替え表_省エネ住宅!$G$48:$G$57,0),1,0),0)","v":0},{"$f":"IFERROR(IF(MATCH(BE182&\"/\"&BF182,③読み替え表_省エネ住宅!$G$48:$G$57,0),1,0),0)","v":0},0,"*"]
[null,178,null,null,null,null,null,null,null,null,null,null,null,null,null,null,null,null,null,null,null,null,null,null,null,null,null,null,null,null,null,null,null,null,null,null,null,null,null,null,null,null,null,null,null,null,null,null,null,null,null,null,null,null,"未","未","未","未",0,{"$f":"IFERROR(IF(MATCH(BC183&\"/\"&BD183,③読み替え表_省エネ住宅!$G$48:$G$57,0),1,0),0)","v":0},{"$f":"IFERROR(IF(MATCH(BE183&\"/\"&BF183,③読み替え表_省エネ住宅!$G$48:$G$57,0),1,0),0)","v":0},0,"*"]
[null,179,null,null,null,null,null,null,null,null,null,null,null,null,null,null,null,null,null,null,null,null,null,null,null,null,null,null,null,null,null,null,null,null,null,null,null,null,null,null,null,null,null,null,null,null,null,null,null,null,null,null,null,null,"未","未","未","未",0,{"$f":"IFERROR(IF(MATCH(BC184&\"/\"&BD184,③読み替え表_省エネ住宅!$G$48:$G$57,0),1,0),0)","v":0},{"$f":"IFERROR(IF(MATCH(BE184&\"/\"&BF184,③読み替え表_省エネ住宅!$G$48:$G$57,0),1,0),0)","v":0},0,"*"]
[null,180,null,null,null,null,null,null,null,null,null,null,null,null,null,null,null,null,null,null,null,null,null,null,null,null,null,null,null,null,null,null,null,null,null,null,null,null,null,null,null,null,null,null,null,null,null,null,null,null,null,null,null,null,"未","未","未","未",0,{"$f":"IFERROR(IF(MATCH(BC185&\"/\"&BD185,③読み替え表_省エネ住宅!$G$48:$G$57,0),1,0),0)","v":0},{"$f":"IFERROR(IF(MATCH(BE185&\"/\"&BF185,③読み替え表_省エネ住宅!$G$48:$G$57,0),1,0),0)","v":0},0,"*"]
[null,181,null,null,null,null,null,null,null,null,null,null,null,null,null,null,null,null,null,null,null,null,null,null,null,null,null,null,null,null,null,null,null,null,null,null,null,null,null,null,null,null,null,null,null,null,null,null,null,null,null,null,null,null,"未","未","未","未",0,{"$f":"IFERROR(IF(MATCH(BC186&\"/\"&BD186,③読み替え表_省エネ住宅!$G$48:$G$57,0),1,0),0)","v":0},{"$f":"IFERROR(IF(MATCH(BE186&\"/\"&BF186,③読み替え表_省エネ住宅!$G$48:$G$57,0),1,0),0)","v":0},0,"*"]
[null,182,null,null,null,null,null,null,null,null,null,null,null,null,null,null,null,null,null,null,null,null,null,null,null,null,null,null,null,null,null,null,null,null,null,null,null,null,null,null,null,null,null,null,null,null,null,null,null,null,null,null,null,null,"未","未","未","未",0,{"$f":"IFERROR(IF(MATCH(BC187&\"/\"&BD187,③読み替え表_省エネ住宅!$G$48:$G$57,0),1,0),0)","v":0},{"$f":"IFERROR(IF(MATCH(BE187&\"/\"&BF187,③読み替え表_省エネ住宅!$G$48:$G$57,0),1,0),0)","v":0},0,"*"]
[null,183,null,null,null,null,null,null,null,null,null,null,null,null,null,null,null,null,null,null,null,null,null,null,null,null,null,null,null,null,null,null,null,null,null,null,null,null,null,null,null,null,null,null,null,null,null,null,null,null,null,null,null,null,"未","未","未","未",0,{"$f":"IFERROR(IF(MATCH(BC188&\"/\"&BD188,③読み替え表_省エネ住宅!$G$48:$G$57,0),1,0),0)","v":0},{"$f":"IFERROR(IF(MATCH(BE188&\"/\"&BF188,③読み替え表_省エネ住宅!$G$48:$G$57,0),1,0),0)","v":0},0,"*"]
[null,184,null,null,null,null,null,null,null,null,null,null,null,null,null,null,null,null,null,null,null,null,null,null,null,null,null,null,null,null,null,null,null,null,null,null,null,null,null,null,null,null,null,null,null,null,null,null,null,null,null,null,null,null,"未","未","未","未",0,{"$f":"IFERROR(IF(MATCH(BC189&\"/\"&BD189,③読み替え表_省エネ住宅!$G$48:$G$57,0),1,0),0)","v":0},{"$f":"IFERROR(IF(MATCH(BE189&\"/\"&BF189,③読み替え表_省エネ住宅!$G$48:$G$57,0),1,0),0)","v":0},0,"*"]
[null,185,null,null,null,null,null,null,null,null,null,null,null,null,null,null,null,null,null,null,null,null,null,null,null,null,null,null,null,null,null,null,null,null,null,null,null,null,null,null,null,null,null,null,null,null,null,null,null,null,null,null,null,null,"未","未","未","未",0,{"$f":"IFERROR(IF(MATCH(BC190&\"/\"&BD190,③読み替え表_省エネ住宅!$G$48:$G$57,0),1,0),0)","v":0},{"$f":"IFERROR(IF(MATCH(BE190&\"/\"&BF190,③読み替え表_省エネ住宅!$G$48:$G$57,0),1,0),0)","v":0},0,"*"]
[null,186,null,null,null,null,null,null,null,null,null,null,null,null,null,null,null,null,null,null,null,null,null,null,null,null,null,null,null,null,null,null,null,null,null,null,null,null,null,null,null,null,null,null,null,null,null,null,null,null,null,null,null,null,"未","未","未","未",0,{"$f":"IFERROR(IF(MATCH(BC191&\"/\"&BD191,③読み替え表_省エネ住宅!$G$48:$G$57,0),1,0),0)","v":0},{"$f":"IFERROR(IF(MATCH(BE191&\"/\"&BF191,③読み替え表_省エネ住宅!$G$48:$G$57,0),1,0),0)","v":0},0,"*"]
[null,187,null,null,null,null,null,null,null,null,null,null,null,null,null,null,null,null,null,null,null,null,null,null,null,null,null,null,null,null,null,null,null,null,null,null,null,null,null,null,null,null,null,null,null,null,null,null,null,null,null,null,null,null,"未","未","未","未",0,{"$f":"IFERROR(IF(MATCH(BC192&\"/\"&BD192,③読み替え表_省エネ住宅!$G$48:$G$57,0),1,0),0)","v":0},{"$f":"IFERROR(IF(MATCH(BE192&\"/\"&BF192,③読み替え表_省エネ住宅!$G$48:$G$57,0),1,0),0)","v":0},0,"*"]
[null,188,null,null,null,null,null,null,null,null,null,null,null,null,null,null,null,null,null,null,null,null,null,null,null,null,null,null,null,null,null,null,null,null,null,null,null,null,null,null,null,null,null,null,null,null,null,null,null,null,null,null,null,null,"未","未","未","未",0,{"$f":"IFERROR(IF(MATCH(BC193&\"/\"&BD193,③読み替え表_省エネ住宅!$G$48:$G$57,0),1,0),0)","v":0},{"$f":"IFERROR(IF(MATCH(BE193&\"/\"&BF193,③読み替え表_省エネ住宅!$G$48:$G$57,0),1,0),0)","v":0},0,"*"]
[null,189,null,null,null,null,null,null,null,null,null,null,null,null,null,null,null,null,null,null,null,null,null,null,null,null,null,null,null,null,null,null,null,null,null,null,null,null,null,null,null,null,null,null,null,null,null,null,null,null,null,null,null,null,"未","未","未","未",0,{"$f":"IFERROR(IF(MATCH(BC194&\"/\"&BD194,③読み替え表_省エネ住宅!$G$48:$G$57,0),1,0),0)","v":0},{"$f":"IFERROR(IF(MATCH(BE194&\"/\"&BF194,③読み替え表_省エネ住宅!$G$48:$G$57,0),1,0),0)","v":0},0,"*"]
[null,190,null,null,null,null,null,null,null,null,null,null,null,null,null,null,null,null,null,null,null,null,null,null,null,null,null,null,null,null,null,null,null,null,null,null,null,null,null,null,null,null,null,null,null,null,null,null,null,null,null,null,null,null,"未","未","未","未",0,{"$f":"IFERROR(IF(MATCH(BC195&\"/\"&BD195,③読み替え表_省エネ住宅!$G$48:$G$57,0),1,0),0)","v":0},{"$f":"IFERROR(IF(MATCH(BE195&\"/\"&BF195,③読み替え表_省エネ住宅!$G$48:$G$57,0),1,0),0)","v":0},0,"*"]
[null,191,null,null,null,null,null,null,null,null,null,null,null,null,null,null,null,null,null,null,null,null,null,null,null,null,null,null,null,null,null,null,null,null,null,null,null,null,null,null,null,null,null,null,null,null,null,null,null,null,null,null,null,null,"未","未","未","未",0,{"$f":"IFERROR(IF(MATCH(BC196&\"/\"&BD196,③読み替え表_省エネ住宅!$G$48:$G$57,0),1,0),0)","v":0},{"$f":"IFERROR(IF(MATCH(BE196&\"/\"&BF196,③読み替え表_省エネ住宅!$G$48:$G$57,0),1,0),0)","v":0},0,"*"]
[null,192,null,null,null,null,null,null,null,null,null,null,null,null,null,null,null,null,null,null,null,null,null,null,null,null,null,null,null,null,null,null,null,null,null,null,null,null,null,null,null,null,null,null,null,null,null,null,null,null,null,null,null,null,"未","未","未","未",0,{"$f":"IFERROR(IF(MATCH(BC197&\"/\"&BD197,③読み替え表_省エネ住宅!$G$48:$G$57,0),1,0),0)","v":0},{"$f":"IFERROR(IF(MATCH(BE197&\"/\"&BF197,③読み替え表_省エネ住宅!$G$48:$G$57,0),1,0),0)","v":0},0,"*"]
[null,193,null,null,null,null,null,null,null,null,null,null,null,null,null,null,null,null,null,null,null,null,null,null,null,null,null,null,null,null,null,null,null,null,null,null,null,null,null,null,null,null,null,null,null,null,null,null,null,null,null,null,null,null,"未","未","未","未",0,{"$f":"IFERROR(IF(MATCH(BC198&\"/\"&BD198,③読み替え表_省エネ住宅!$G$48:$G$57,0),1,0),0)","v":0},{"$f":"IFERROR(IF(MATCH(BE198&\"/\"&BF198,③読み替え表_省エネ住宅!$G$48:$G$57,0),1,0),0)","v":0},0,"*"]
[null,{"$f":"ROW()-5","v":194},null,null,null,null,null,null,null,null,null,null,null,null,null,null,null,null,null,null,null,null,null,null,null,null,null,null,null,null,null,null,null,null,null,null,null,null,null,null,null,null,null,null,null,null,null,null,null,null,null,null,null,null,{"$f":"IFERROR(IF(SUM($Q199:$U199)>1,\"複数回答\",INDEX($Q$5:$U$5,,MATCH(1,$Q199:$U199,0))),\"未\")","v":"未"},{"$f":"IFERROR(IF(SUM($AA199:$AE199)>1,\"複数回答\",INDEX($AA$5:$AE$5,,MATCH(1,$AA199:$AE199,0))),\"未\")","v":"未"},{"$f":"IFERROR(IF(SUM($V199:$Z199)>1,\"複数回答\",INDEX($V$5:$Z$5,,MATCH(1,$V199:$Z199,0))),\"未\")","v":"未"},{"$f":"IFERROR(IF(SUM($AF199:$AJ199)>1,\"複数回答\",INDEX($AF$5:$AJ$5,,MATCH(1,$AF199:$AJ199,0))),\"未\")","v":"未"},{"$f":"IF(BC199=\"複数回答\",1,IF(BD199=\"複数回答\",1,IF(BE199=\"複数回答\",1,IF(BF199=\"複数回答\",1,0))))","v":0},{"$f":"IFERROR(IF(MATCH(BC199&\"/\"&BD199,③読み替え表_省エネ住宅!$G$48:$G$57,0),1,0),0)","v":0},{"$f":"IFERROR(IF(MATCH(BE199&\"/\"&BF199,③読み替え表_省エネ住宅!$G$48:$G$57,0),1,0),0)","v":0},{"$f":"IF(SUM(BG199:BI199)>0,1,0)","v":0},"*"]
[null,195,null,null,null,null,null,null,null,null,null,null,null,null,null,null,null,null,null,null,null,null,null,null,null,null,null,null,null,null,null,null,null,null,null,null,null,null,null,null,null,null,null,null,null,null,null,null,null,null,null,null,null,null,"未","未","未","未",0,{"$f":"IFERROR(IF(MATCH(BC200&\"/\"&BD200,③読み替え表_省エネ住宅!$G$48:$G$57,0),1,0),0)","v":0},{"$f":"IFERROR(IF(MATCH(BE200&\"/\"&BF200,③読み替え表_省エネ住宅!$G$48:$G$57,0),1,0),0)","v":0},0,"*"]
[null,196,null,null,null,null,null,null,null,null,null,null,null,null,null,null,null,null,null,null,null,null,null,null,null,null,null,null,null,null,null,null,null,null,null,null,null,null,null,null,null,null,null,null,null,null,null,null,null,null,null,null,null,null,"未","未","未","未",0,{"$f":"IFERROR(IF(MATCH(BC201&\"/\"&BD201,③読み替え表_省エネ住宅!$G$48:$G$57,0),1,0),0)","v":0},{"$f":"IFERROR(IF(MATCH(BE201&\"/\"&BF201,③読み替え表_省エネ住宅!$G$48:$G$57,0),1,0),0)","v":0},0,"*"]
[null,197,null,null,null,null,null,null,null,null,null,null,null,null,null,null,null,null,null,null,null,null,null,null,null,null,null,null,null,null,null,null,null,null,null,null,null,null,null,null,null,null,null,null,null,null,null,null,null,null,null,null,null,null,"未","未","未","未",0,{"$f":"IFERROR(IF(MATCH(BC202&\"/\"&BD202,③読み替え表_省エネ住宅!$G$48:$G$57,0),1,0),0)","v":0},{"$f":"IFERROR(IF(MATCH(BE202&\"/\"&BF202,③読み替え表_省エネ住宅!$G$48:$G$57,0),1,0),0)","v":0},0,"*"]
[null,198,null,null,null,null,null,null,null,null,null,null,null,null,null,null,null,null,null,null,null,null,null,null,null,null,null,null,null,null,null,null,null,null,null,null,null,null,null,null,null,null,null,null,null,null,null,null,null,null,null,null,null,null,"未","未","未","未",0,{"$f":"IFERROR(IF(MATCH(BC203&\"/\"&BD203,③読み替え表_省エネ住宅!$G$48:$G$57,0),1,0),0)","v":0},{"$f":"IFERROR(IF(MATCH(BE203&\"/\"&BF203,③読み替え表_省エネ住宅!$G$48:$G$57,0),1,0),0)","v":0},0,"*"]
[null,199,null,null,null,null,null,null,null,null,null,null,null,null,null,null,null,null,null,null,null,null,null,null,null,null,null,null,null,null,null,null,null,null,null,null,null,null,null,null,null,null,null,null,null,null,null,null,null,null,null,null,null,null,"未","未","未","未",0,{"$f":"IFERROR(IF(MATCH(BC204&\"/\"&BD204,③読み替え表_省エネ住宅!$G$48:$G$57,0),1,0),0)","v":0},{"$f":"IFERROR(IF(MATCH(BE204&\"/\"&BF204,③読み替え表_省エネ住宅!$G$48:$G$57,0),1,0),0)","v":0},0,"*"]
[null,200,null,null,null,null,null,null,null,null,null,null,null,null,null,null,null,null,null,null,null,null,null,null,null,null,null,null,null,null,null,null,null,null,null,null,null,null,null,null,null,null,null,null,null,null,null,null,null,null,null,null,null,null,"未","未","未","未",0,{"$f":"IFERROR(IF(MATCH(BC205&\"/\"&BD205,③読み替え表_省エネ住宅!$G$48:$G$57,0),1,0),0)","v":0},{"$f":"IFERROR(IF(MATCH(BE205&\"/\"&BF205,③読み替え表_省エネ住宅!$G$48:$G$57,0),1,0),0)","v":0},0,"*"]
[null,201,null,null,null,null,null,null,null,null,null,null,null,null,null,null,null,null,null,null,null,null,null,null,null,null,null,null,null,null,null,null,null,null,null,null,null,null,null,null,null,null,null,null,null,null,null,null,null,null,null,null,null,null,"未","未","未","未",0,{"$f":"IFERROR(IF(MATCH(BC206&\"/\"&BD206,③読み替え表_省エネ住宅!$G$48:$G$57,0),1,0),0)","v":0},{"$f":"IFERROR(IF(MATCH(BE206&\"/\"&BF206,③読み替え表_省エネ住宅!$G$48:$G$57,0),1,0),0)","v":0},0,"*"]
[null,202,null,null,null,null,null,null,null,null,null,null,null,null,null,null,null,null,null,null,null,null,null,null,null,null,null,null,null,null,null,null,null,null,null,null,null,null,null,null,null,null,null,null,null,null,null,null,null,null,null,null,null,null,"未","未","未","未",0,{"$f":"IFERROR(IF(MATCH(BC207&\"/\"&BD207,③読み替え表_省エネ住宅!$G$48:$G$57,0),1,0),0)","v":0},{"$f":"IFERROR(IF(MATCH(BE207&\"/\"&BF207,③読み替え表_省エネ住宅!$G$48:$G$57,0),1,0),0)","v":0},0,"*"]
[null,203,null,null,null,null,null,null,null,null,null,null,null,null,null,null,null,null,null,null,null,null,null,null,null,null,null,null,null,null,null,null,null,null,null,null,null,null,null,null,null,null,null,null,null,null,null,null,null,null,null,null,null,null,"未","未","未","未",0,{"$f":"IFERROR(IF(MATCH(BC208&\"/\"&BD208,③読み替え表_省エネ住宅!$G$48:$G$57,0),1,0),0)","v":0},{"$f":"IFERROR(IF(MATCH(BE208&\"/\"&BF208,③読み替え表_省エネ住宅!$G$48:$G$57,0),1,0),0)","v":0},0,"*"]
[null,204,null,null,null,null,null,null,null,null,null,null,null,null,null,null,null,null,null,null,null,null,null,null,null,null,null,null,null,null,null,null,null,null,null,null,null,null,null,null,null,null,null,null,null,null,null,null,null,null,null,null,null,null,"未","未","未","未",0,{"$f":"IFERROR(IF(MATCH(BC209&\"/\"&BD209,③読み替え表_省エネ住宅!$G$48:$G$57,0),1,0),0)","v":0},{"$f":"IFERROR(IF(MATCH(BE209&\"/\"&BF209,③読み替え表_省エネ住宅!$G$48:$G$57,0),1,0),0)","v":0},0,"*"]
[null,205,null,null,null,null,null,null,null,null,null,null,null,null,null,null,null,null,null,null,null,null,null,null,null,null,null,null,null,null,null,null,null,null,null,null,null,null,null,null,null,null,null,null,null,null,null,null,null,null,null,null,null,null,"未","未","未","未",0,{"$f":"IFERROR(IF(MATCH(BC210&\"/\"&BD210,③読み替え表_省エネ住宅!$G$48:$G$57,0),1,0),0)","v":0},{"$f":"IFERROR(IF(MATCH(BE210&\"/\"&BF210,③読み替え表_省エネ住宅!$G$48:$G$57,0),1,0),0)","v":0},0,"*"]
[null,206,null,null,null,null,null,null,null,null,null,null,null,null,null,null,null,null,null,null,null,null,null,null,null,null,null,null,null,null,null,null,null,null,null,null,null,null,null,null,null,null,null,null,null,null,null,null,null,null,null,null,null,null,"未","未","未","未",0,{"$f":"IFERROR(IF(MATCH(BC211&\"/\"&BD211,③読み替え表_省エネ住宅!$G$48:$G$57,0),1,0),0)","v":0},{"$f":"IFERROR(IF(MATCH(BE211&\"/\"&BF211,③読み替え表_省エネ住宅!$G$48:$G$57,0),1,0),0)","v":0},0,"*"]
[null,207,null,null,null,null,null,null,null,null,null,null,null,null,null,null,null,null,null,null,null,null,null,null,null,null,null,null,null,null,null,null,null,null,null,null,null,null,null,null,null,null,null,null,null,null,null,null,null,null,null,null,null,null,"未","未","未","未",0,{"$f":"IFERROR(IF(MATCH(BC212&\"/\"&BD212,③読み替え表_省エネ住宅!$G$48:$G$57,0),1,0),0)","v":0},{"$f":"IFERROR(IF(MATCH(BE212&\"/\"&BF212,③読み替え表_省エネ住宅!$G$48:$G$57,0),1,0),0)","v":0},0,"*"]
[null,208,null,null,null,null,null,null,null,null,null,null,null,null,null,null,null,null,null,null,null,null,null,null,null,null,null,null,null,null,null,null,null,null,null,null,null,null,null,null,null,null,null,null,null,null,null,null,null,null,null,null,null,null,"未","未","未","未",0,{"$f":"IFERROR(IF(MATCH(BC213&\"/\"&BD213,③読み替え表_省エネ住宅!$G$48:$G$57,0),1,0),0)","v":0},{"$f":"IFERROR(IF(MATCH(BE213&\"/\"&BF213,③読み替え表_省エネ住宅!$G$48:$G$57,0),1,0),0)","v":0},0,"*"]
[null,209,null,null,null,null,null,null,null,null,null,null,null,null,null,null,null,null,null,null,null,null,null,null,null,null,null,null,null,null,null,null,null,null,null,null,null,null,null,null,null,null,null,null,null,null,null,null,null,null,null,null,null,null,"未","未","未","未",0,{"$f":"IFERROR(IF(MATCH(BC214&\"/\"&BD214,③読み替え表_省エネ住宅!$G$48:$G$57,0),1,0),0)","v":0},{"$f":"IFERROR(IF(MATCH(BE214&\"/\"&BF214,③読み替え表_省エネ住宅!$G$48:$G$57,0),1,0),0)","v":0},0,"*"]
[null,210,null,null,null,null,null,null,null,null,null,null,null,null,null,null,null,null,null,null,null,null,null,null,null,null,null,null,null,null,null,null,null,null,null,null,null,null,null,null,null,null,null,null,null,null,null,null,null,null,null,null,null,null,"未","未","未","未",0,{"$f":"IFERROR(IF(MATCH(BC215&\"/\"&BD215,③読み替え表_省エネ住宅!$G$48:$G$57,0),1,0),0)","v":0},{"$f":"IFERROR(IF(MATCH(BE215&\"/\"&BF215,③読み替え表_省エネ住宅!$G$48:$G$57,0),1,0),0)","v":0},0,"*"]
[null,211,null,null,null,null,null,null,null,null,null,null,null,null,null,null,null,null,null,null,null,null,null,null,null,null,null,null,null,null,null,null,null,null,null,null,null,null,null,null,null,null,null,null,null,null,null,null,null,null,null,null,null,null,"未","未","未","未",0,{"$f":"IFERROR(IF(MATCH(BC216&\"/\"&BD216,③読み替え表_省エネ住宅!$G$48:$G$57,0),1,0),0)","v":0},{"$f":"IFERROR(IF(MATCH(BE216&\"/\"&BF216,③読み替え表_省エネ住宅!$G$48:$G$57,0),1,0),0)","v":0},0,"*"]
[null,212,null,null,null,null,null,null,null,null,null,null,null,null,null,null,null,null,null,null,null,null,null,null,null,null,null,null,null,null,null,null,null,null,null,null,null,null,null,null,null,null,null,null,null,null,null,null,null,null,null,null,null,null,"未","未","未","未",0,{"$f":"IFERROR(IF(MATCH(BC217&\"/\"&BD217,③読み替え表_省エネ住宅!$G$48:$G$57,0),1,0),0)","v":0},{"$f":"IFERROR(IF(MATCH(BE217&\"/\"&BF217,③読み替え表_省エネ住宅!$G$48:$G$57,0),1,0),0)","v":0},0,"*"]
[null,213,null,null,null,null,null,null,null,null,null,null,null,null,null,null,null,null,null,null,null,null,null,null,null,null,null,null,null,null,null,null,null,null,null,null,null,null,null,null,null,null,null,null,null,null,null,null,null,null,null,null,null,null,"未","未","未","未",0,{"$f":"IFERROR(IF(MATCH(BC218&\"/\"&BD218,③読み替え表_省エネ住宅!$G$48:$G$57,0),1,0),0)","v":0},{"$f":"IFERROR(IF(MATCH(BE218&\"/\"&BF218,③読み替え表_省エネ住宅!$G$48:$G$57,0),1,0),0)","v":0},0,"*"]
[null,214,null,null,null,null,null,null,null,null,null,null,null,null,null,null,null,null,null,null,null,null,null,null,null,null,null,null,null,null,null,null,null,null,null,null,null,null,null,null,null,null,null,null,null,null,null,null,null,null,null,null,null,null,"未","未","未","未",0,{"$f":"IFERROR(IF(MATCH(BC219&\"/\"&BD219,③読み替え表_省エネ住宅!$G$48:$G$57,0),1,0),0)","v":0},{"$f":"IFERROR(IF(MATCH(BE219&\"/\"&BF219,③読み替え表_省エネ住宅!$G$48:$G$57,0),1,0),0)","v":0},0,"*"]
[null,215,null,null,null,null,null,null,null,null,null,null,null,null,null,null,null,null,null,null,null,null,null,null,null,null,null,null,null,null,null,null,null,null,null,null,null,null,null,null,null,null,null,null,null,null,null,null,null,null,null,null,null,null,"未","未","未","未",0,{"$f":"IFERROR(IF(MATCH(BC220&\"/\"&BD220,③読み替え表_省エネ住宅!$G$48:$G$57,0),1,0),0)","v":0},{"$f":"IFERROR(IF(MATCH(BE220&\"/\"&BF220,③読み替え表_省エネ住宅!$G$48:$G$57,0),1,0),0)","v":0},0,"*"]
[null,216,null,null,null,null,null,null,null,null,null,null,null,null,null,null,null,null,null,null,null,null,null,null,null,null,null,null,null,null,null,null,null,null,null,null,null,null,null,null,null,null,null,null,null,null,null,null,null,null,null,null,null,null,"未","未","未","未",0,{"$f":"IFERROR(IF(MATCH(BC221&\"/\"&BD221,③読み替え表_省エネ住宅!$G$48:$G$57,0),1,0),0)","v":0},{"$f":"IFERROR(IF(MATCH(BE221&\"/\"&BF221,③読み替え表_省エネ住宅!$G$48:$G$57,0),1,0),0)","v":0},0,"*"]
[null,217,null,null,null,null,null,null,null,null,null,null,null,null,null,null,null,null,null,null,null,null,null,null,null,null,null,null,null,null,null,null,null,null,null,null,null,null,null,null,null,null,null,null,null,null,null,null,null,null,null,null,null,null,"未","未","未","未",0,{"$f":"IFERROR(IF(MATCH(BC222&\"/\"&BD222,③読み替え表_省エネ住宅!$G$48:$G$57,0),1,0),0)","v":0},{"$f":"IFERROR(IF(MATCH(BE222&\"/\"&BF222,③読み替え表_省エネ住宅!$G$48:$G$57,0),1,0),0)","v":0},0,"*"]
[null,218,null,null,null,null,null,null,null,null,null,null,null,null,null,null,null,null,null,null,null,null,null,null,null,null,null,null,null,null,null,null,null,null,null,null,null,null,null,null,null,null,null,null,null,null,null,null,null,null,null,null,null,null,"未","未","未","未",0,{"$f":"IFERROR(IF(MATCH(BC223&\"/\"&BD223,③読み替え表_省エネ住宅!$G$48:$G$57,0),1,0),0)","v":0},{"$f":"IFERROR(IF(MATCH(BE223&\"/\"&BF223,③読み替え表_省エネ住宅!$G$48:$G$57,0),1,0),0)","v":0},0,"*"]
[null,219,null,null,null,null,null,null,null,null,null,null,null,null,null,null,null,null,null,null,null,null,null,null,null,null,null,null,null,null,null,null,null,null,null,null,null,null,null,null,null,null,null,null,null,null,null,null,null,null,null,null,null,null,"未","未","未","未",0,{"$f":"IFERROR(IF(MATCH(BC224&\"/\"&BD224,③読み替え表_省エネ住宅!$G$48:$G$57,0),1,0),0)","v":0},{"$f":"IFERROR(IF(MATCH(BE224&\"/\"&BF224,③読み替え表_省エネ住宅!$G$48:$G$57,0),1,0),0)","v":0},0,"*"]
[null,220,null,null,null,null,null,null,null,null,null,null,null,null,null,null,null,null,null,null,null,null,null,null,null,null,null,null,null,null,null,null,null,null,null,null,null,null,null,null,null,null,null,null,null,null,null,null,null,null,null,null,null,null,"未","未","未","未",0,{"$f":"IFERROR(IF(MATCH(BC225&\"/\"&BD225,③読み替え表_省エネ住宅!$G$48:$G$57,0),1,0),0)","v":0},{"$f":"IFERROR(IF(MATCH(BE225&\"/\"&BF225,③読み替え表_省エネ住宅!$G$48:$G$57,0),1,0),0)","v":0},0,"*"]
[null,221,null,null,null,null,null,null,null,null,null,null,null,null,null,null,null,null,null,null,null,null,null,null,null,null,null,null,null,null,null,null,null,null,null,null,null,null,null,null,null,null,null,null,null,null,null,null,null,null,null,null,null,null,"未","未","未","未",0,{"$f":"IFERROR(IF(MATCH(BC226&\"/\"&BD226,③読み替え表_省エネ住宅!$G$48:$G$57,0),1,0),0)","v":0},{"$f":"IFERROR(IF(MATCH(BE226&\"/\"&BF226,③読み替え表_省エネ住宅!$G$48:$G$57,0),1,0),0)","v":0},0,"*"]
[null,222,null,null,null,null,null,null,null,null,null,null,null,null,null,null,null,null,null,null,null,null,null,null,null,null,null,null,null,null,null,null,null,null,null,null,null,null,null,null,null,null,null,null,null,null,null,null,null,null,null,null,null,null,"未","未","未","未",0,{"$f":"IFERROR(IF(MATCH(BC227&\"/\"&BD227,③読み替え表_省エネ住宅!$G$48:$G$57,0),1,0),0)","v":0},{"$f":"IFERROR(IF(MATCH(BE227&\"/\"&BF227,③読み替え表_省エネ住宅!$G$48:$G$57,0),1,0),0)","v":0},0,"*"]
[null,223,null,null,null,null,null,null,null,null,null,null,null,null,null,null,null,null,null,null,null,null,null,null,null,null,null,null,null,null,null,null,null,null,null,null,null,null,null,null,null,null,null,null,null,null,null,null,null,null,null,null,null,null,"未","未","未","未",0,{"$f":"IFERROR(IF(MATCH(BC228&\"/\"&BD228,③読み替え表_省エネ住宅!$G$48:$G$57,0),1,0),0)","v":0},{"$f":"IFERROR(IF(MATCH(BE228&\"/\"&BF228,③読み替え表_省エネ住宅!$G$48:$G$57,0),1,0),0)","v":0},0,"*"]
[null,224,null,null,null,null,null,null,null,null,null,null,null,null,null,null,null,null,null,null,null,null,null,null,null,null,null,null,null,null,null,null,null,null,null,null,null,null,null,null,null,null,null,null,null,null,null,null,null,null,null,null,null,null,"未","未","未","未",0,{"$f":"IFERROR(IF(MATCH(BC229&\"/\"&BD229,③読み替え表_省エネ住宅!$G$48:$G$57,0),1,0),0)","v":0},{"$f":"IFERROR(IF(MATCH(BE229&\"/\"&BF229,③読み替え表_省エネ住宅!$G$48:$G$57,0),1,0),0)","v":0},0,"*"]
[null,225,null,null,null,null,null,null,null,null,null,null,null,null,null,null,null,null,null,null,null,null,null,null,null,null,null,null,null,null,null,null,null,null,null,null,null,null,null,null,null,null,null,null,null,null,null,null,null,null,null,null,null,null,"未","未","未","未",0,{"$f":"IFERROR(IF(MATCH(BC230&\"/\"&BD230,③読み替え表_省エネ住宅!$G$48:$G$57,0),1,0),0)","v":0},{"$f":"IFERROR(IF(MATCH(BE230&\"/\"&BF230,③読み替え表_省エネ住宅!$G$48:$G$57,0),1,0),0)","v":0},0,"*"]
[null,226,null,null,null,null,null,null,null,null,null,null,null,null,null,null,null,null,null,null,null,null,null,null,null,null,null,null,null,null,null,null,null,null,null,null,null,null,null,null,null,null,null,null,null,null,null,null,null,null,null,null,null,null,"未","未","未","未",0,{"$f":"IFERROR(IF(MATCH(BC231&\"/\"&BD231,③読み替え表_省エネ住宅!$G$48:$G$57,0),1,0),0)","v":0},{"$f":"IFERROR(IF(MATCH(BE231&\"/\"&BF231,③読み替え表_省エネ住宅!$G$48:$G$57,0),1,0),0)","v":0},0,"*"]
[null,227,null,null,null,null,null,null,null,null,null,null,null,null,null,null,null,null,null,null,null,null,null,null,null,null,null,null,null,null,null,null,null,null,null,null,null,null,null,null,null,null,null,null,null,null,null,null,null,null,null,null,null,null,"未","未","未","未",0,{"$f":"IFERROR(IF(MATCH(BC232&\"/\"&BD232,③読み替え表_省エネ住宅!$G$48:$G$57,0),1,0),0)","v":0},{"$f":"IFERROR(IF(MATCH(BE232&\"/\"&BF232,③読み替え表_省エネ住宅!$G$48:$G$57,0),1,0),0)","v":0},0,"*"]
[null,228,null,null,null,null,null,null,null,null,null,null,null,null,null,null,null,null,null,null,null,null,null,null,null,null,null,null,null,null,null,null,null,null,null,null,null,null,null,null,null,null,null,null,null,null,null,null,null,null,null,null,null,null,"未","未","未","未",0,{"$f":"IFERROR(IF(MATCH(BC233&\"/\"&BD233,③読み替え表_省エネ住宅!$G$48:$G$57,0),1,0),0)","v":0},{"$f":"IFERROR(IF(MATCH(BE233&\"/\"&BF233,③読み替え表_省エネ住宅!$G$48:$G$57,0),1,0),0)","v":0},0,"*"]
[null,229,null,null,null,null,null,null,null,null,null,null,null,null,null,null,null,null,null,null,null,null,null,null,null,null,null,null,null,null,null,null,null,null,null,null,null,null,null,null,null,null,null,null,null,null,null,null,null,null,null,null,null,null,"未","未","未","未",0,{"$f":"IFERROR(IF(MATCH(BC234&\"/\"&BD234,③読み替え表_省エネ住宅!$G$48:$G$57,0),1,0),0)","v":0},{"$f":"IFERROR(IF(MATCH(BE234&\"/\"&BF234,③読み替え表_省エネ住宅!$G$48:$G$57,0),1,0),0)","v":0},0,"*"]
[null,230,null,null,null,null,null,null,null,null,null,null,null,null,null,null,null,null,null,null,null,null,null,null,null,null,null,null,null,null,null,null,null,null,null,null,null,null,null,null,null,null,null,null,null,null,null,null,null,null,null,null,null,null,"未","未","未","未",0,{"$f":"IFERROR(IF(MATCH(BC235&\"/\"&BD235,③読み替え表_省エネ住宅!$G$48:$G$57,0),1,0),0)","v":0},{"$f":"IFERROR(IF(MATCH(BE235&\"/\"&BF235,③読み替え表_省エネ住宅!$G$48:$G$57,0),1,0),0)","v":0},0,"*"]
[null,231,null,null,null,null,null,null,null,null,null,null,null,null,null,null,null,null,null,null,null,null,null,null,null,null,null,null,null,null,null,null,null,null,null,null,null,null,null,null,null,null,null,null,null,null,null,null,null,null,null,null,null,null,"未","未","未","未",0,{"$f":"IFERROR(IF(MATCH(BC236&\"/\"&BD236,③読み替え表_省エネ住宅!$G$48:$G$57,0),1,0),0)","v":0},{"$f":"IFERROR(IF(MATCH(BE236&\"/\"&BF236,③読み替え表_省エネ住宅!$G$48:$G$57,0),1,0),0)","v":0},0,"*"]
[null,232,null,null,null,null,null,null,null,null,null,null,null,null,null,null,null,null,null,null,null,null,null,null,null,null,null,null,null,null,null,null,null,null,null,null,null,null,null,null,null,null,null,null,null,null,null,null,null,null,null,null,null,null,"未","未","未","未",0,{"$f":"IFERROR(IF(MATCH(BC237&\"/\"&BD237,③読み替え表_省エネ住宅!$G$48:$G$57,0),1,0),0)","v":0},{"$f":"IFERROR(IF(MATCH(BE237&\"/\"&BF237,③読み替え表_省エネ住宅!$G$48:$G$57,0),1,0),0)","v":0},0,"*"]
[null,233,null,null,null,null,null,null,null,null,null,null,null,null,null,null,null,null,null,null,null,null,null,null,null,null,null,null,null,null,null,null,null,null,null,null,null,null,null,null,null,null,null,null,null,null,null,null,null,null,null,null,null,null,"未","未","未","未",0,{"$f":"IFERROR(IF(MATCH(BC238&\"/\"&BD238,③読み替え表_省エネ住宅!$G$48:$G$57,0),1,0),0)","v":0},{"$f":"IFERROR(IF(MATCH(BE238&\"/\"&BF238,③読み替え表_省エネ住宅!$G$48:$G$57,0),1,0),0)","v":0},0,"*"]
[null,234,null,null,null,null,null,null,null,null,null,null,null,null,null,null,null,null,null,null,null,null,null,null,null,null,null,null,null,null,null,null,null,null,null,null,null,null,null,null,null,null,null,null,null,null,null,null,null,null,null,null,null,null,"未","未","未","未",0,{"$f":"IFERROR(IF(MATCH(BC239&\"/\"&BD239,③読み替え表_省エネ住宅!$G$48:$G$57,0),1,0),0)","v":0},{"$f":"IFERROR(IF(MATCH(BE239&\"/\"&BF239,③読み替え表_省エネ住宅!$G$48:$G$57,0),1,0),0)","v":0},0,"*"]
[null,235,null,null,null,null,null,null,null,null,null,null,null,null,null,null,null,null,null,null,null,null,null,null,null,null,null,null,null,null,null,null,null,null,null,null,null,null,null,null,null,null,null,null,null,null,null,null,null,null,null,null,null,null,"未","未","未","未",0,{"$f":"IFERROR(IF(MATCH(BC240&\"/\"&BD240,③読み替え表_省エネ住宅!$G$48:$G$57,0),1,0),0)","v":0},{"$f":"IFERROR(IF(MATCH(BE240&\"/\"&BF240,③読み替え表_省エネ住宅!$G$48:$G$57,0),1,0),0)","v":0},0,"*"]
[null,236,null,null,null,null,null,null,null,null,null,null,null,null,null,null,null,null,null,null,null,null,null,null,null,null,null,null,null,null,null,null,null,null,null,null,null,null,null,null,null,null,null,null,null,null,null,null,null,null,null,null,null,null,"未","未","未","未",0,{"$f":"IFERROR(IF(MATCH(BC241&\"/\"&BD241,③読み替え表_省エネ住宅!$G$48:$G$57,0),1,0),0)","v":0},{"$f":"IFERROR(IF(MATCH(BE241&\"/\"&BF241,③読み替え表_省エネ住宅!$G$48:$G$57,0),1,0),0)","v":0},0,"*"]
[null,237,null,null,null,null,null,null,null,null,null,null,null,null,null,null,null,null,null,null,null,null,null,null,null,null,null,null,null,null,null,null,null,null,null,null,null,null,null,null,null,null,null,null,null,null,null,null,null,null,null,null,null,null,"未","未","未","未",0,{"$f":"IFERROR(IF(MATCH(BC242&\"/\"&BD242,③読み替え表_省エネ住宅!$G$48:$G$57,0),1,0),0)","v":0},{"$f":"IFERROR(IF(MATCH(BE242&\"/\"&BF242,③読み替え表_省エネ住宅!$G$48:$G$57,0),1,0),0)","v":0},0,"*"]
[null,238,null,null,null,null,null,null,null,null,null,null,null,null,null,null,null,null,null,null,null,null,null,null,null,null,null,null,null,null,null,null,null,null,null,null,null,null,null,null,null,null,null,null,null,null,null,null,null,null,null,null,null,null,"未","未","未","未",0,{"$f":"IFERROR(IF(MATCH(BC243&\"/\"&BD243,③読み替え表_省エネ住宅!$G$48:$G$57,0),1,0),0)","v":0},{"$f":"IFERROR(IF(MATCH(BE243&\"/\"&BF243,③読み替え表_省エネ住宅!$G$48:$G$57,0),1,0),0)","v":0},0,"*"]
[null,239,null,null,null,null,null,null,null,null,null,null,null,null,null,null,null,null,null,null,null,null,null,null,null,null,null,null,null,null,null,null,null,null,null,null,null,null,null,null,null,null,null,null,null,null,null,null,null,null,null,null,null,null,"未","未","未","未",0,{"$f":"IFERROR(IF(MATCH(BC244&\"/\"&BD244,③読み替え表_省エネ住宅!$G$48:$G$57,0),1,0),0)","v":0},{"$f":"IFERROR(IF(MATCH(BE244&\"/\"&BF244,③読み替え表_省エネ住宅!$G$48:$G$57,0),1,0),0)","v":0},0,"*"]
[null,240,null,null,null,null,null,null,null,null,null,null,null,null,null,null,null,null,null,null,null,null,null,null,null,null,null,null,null,null,null,null,null,null,null,null,null,null,null,null,null,null,null,null,null,null,null,null,null,null,null,null,null,null,"未","未","未","未",0,{"$f":"IFERROR(IF(MATCH(BC245&\"/\"&BD245,③読み替え表_省エネ住宅!$G$48:$G$57,0),1,0),0)","v":0},{"$f":"IFERROR(IF(MATCH(BE245&\"/\"&BF245,③読み替え表_省エネ住宅!$G$48:$G$57,0),1,0),0)","v":0},0,"*"]
[null,241,null,null,null,null,null,null,null,null,null,null,null,null,null,null,null,null,null,null,null,null,null,null,null,null,null,null,null,null,null,null,null,null,null,null,null,null,null,null,null,null,null,null,null,null,null,null,null,null,null,null,null,null,"未","未","未","未",0,{"$f":"IFERROR(IF(MATCH(BC246&\"/\"&BD246,③読み替え表_省エネ住宅!$G$48:$G$57,0),1,0),0)","v":0},{"$f":"IFERROR(IF(MATCH(BE246&\"/\"&BF246,③読み替え表_省エネ住宅!$G$48:$G$57,0),1,0),0)","v":0},0,"*"]
[null,242,null,null,null,null,null,null,null,null,null,null,null,null,null,null,null,null,null,null,null,null,null,null,null,null,null,null,null,null,null,null,null,null,null,null,null,null,null,null,null,null,null,null,null,null,null,null,null,null,null,null,null,null,"未","未","未","未",0,{"$f":"IFERROR(IF(MATCH(BC247&\"/\"&BD247,③読み替え表_省エネ住宅!$G$48:$G$57,0),1,0),0)","v":0},{"$f":"IFERROR(IF(MATCH(BE247&\"/\"&BF247,③読み替え表_省エネ住宅!$G$48:$G$57,0),1,0),0)","v":0},0,"*"]
[null,243,null,null,null,null,null,null,null,null,null,null,null,null,null,null,null,null,null,null,null,null,null,null,null,null,null,null,null,null,null,null,null,null,null,null,null,null,null,null,null,null,null,null,null,null,null,null,null,null,null,null,null,null,"未","未","未","未",0,{"$f":"IFERROR(IF(MATCH(BC248&\"/\"&BD248,③読み替え表_省エネ住宅!$G$48:$G$57,0),1,0),0)","v":0},{"$f":"IFERROR(IF(MATCH(BE248&\"/\"&BF248,③読み替え表_省エネ住宅!$G$48:$G$57,0),1,0),0)","v":0},0,"*"]
[null,244,null,null,null,null,null,null,null,null,null,null,null,null,null,null,null,null,null,null,null,null,null,null,null,null,null,null,null,null,null,null,null,null,null,null,null,null,null,null,null,null,null,null,null,null,null,null,null,null,null,null,null,null,"未","未","未","未",0,{"$f":"IFERROR(IF(MATCH(BC249&\"/\"&BD249,③読み替え表_省エネ住宅!$G$48:$G$57,0),1,0),0)","v":0},{"$f":"IFERROR(IF(MATCH(BE249&\"/\"&BF249,③読み替え表_省エネ住宅!$G$48:$G$57,0),1,0),0)","v":0},0,"*"]
[null,245,null,null,null,null,null,null,null,null,null,null,null,null,null,null,null,null,null,null,null,null,null,null,null,null,null,null,null,null,null,null,null,null,null,null,null,null,null,null,null,null,null,null,null,null,null,null,null,null,null,null,null,null,"未","未","未","未",0,{"$f":"IFERROR(IF(MATCH(BC250&\"/\"&BD250,③読み替え表_省エネ住宅!$G$48:$G$57,0),1,0),0)","v":0},{"$f":"IFERROR(IF(MATCH(BE250&\"/\"&BF250,③読み替え表_省エネ住宅!$G$48:$G$57,0),1,0),0)","v":0},0,"*"]
[null,246,null,null,null,null,null,null,null,null,null,null,null,null,null,null,null,null,null,null,null,null,null,null,null,null,null,null,null,null,null,null,null,null,null,null,null,null,null,null,null,null,null,null,null,null,null,null,null,null,null,null,null,null,"未","未","未","未",0,{"$f":"IFERROR(IF(MATCH(BC251&\"/\"&BD251,③読み替え表_省エネ住宅!$G$48:$G$57,0),1,0),0)","v":0},{"$f":"IFERROR(IF(MATCH(BE251&\"/\"&BF251,③読み替え表_省エネ住宅!$G$48:$G$57,0),1,0),0)","v":0},0,"*"]
[null,247,null,null,null,null,null,null,null,null,null,null,null,null,null,null,null,null,null,null,null,null,null,null,null,null,null,null,null,null,null,null,null,null,null,null,null,null,null,null,null,null,null,null,null,null,null,null,null,null,null,null,null,null,"未","未","未","未",0,{"$f":"IFERROR(IF(MATCH(BC252&\"/\"&BD252,③読み替え表_省エネ住宅!$G$48:$G$57,0),1,0),0)","v":0},{"$f":"IFERROR(IF(MATCH(BE252&\"/\"&BF252,③読み替え表_省エネ住宅!$G$48:$G$57,0),1,0),0)","v":0},0,"*"]
[null,248,null,null,null,null,null,null,null,null,null,null,null,null,null,null,null,null,null,null,null,null,null,null,null,null,null,null,null,null,null,null,null,null,null,null,null,null,null,null,null,null,null,null,null,null,null,null,null,null,null,null,null,null,"未","未","未","未",0,{"$f":"IFERROR(IF(MATCH(BC253&\"/\"&BD253,③読み替え表_省エネ住宅!$G$48:$G$57,0),1,0),0)","v":0},{"$f":"IFERROR(IF(MATCH(BE253&\"/\"&BF253,③読み替え表_省エネ住宅!$G$48:$G$57,0),1,0),0)","v":0},0,"*"]
[null,249,null,null,null,null,null,null,null,null,null,null,null,null,null,null,null,null,null,null,null,null,null,null,null,null,null,null,null,null,null,null,null,null,null,null,null,null,null,null,null,null,null,null,null,null,null,null,null,null,null,null,null,null,"未","未","未","未",0,{"$f":"IFERROR(IF(MATCH(BC254&\"/\"&BD254,③読み替え表_省エネ住宅!$G$48:$G$57,0),1,0),0)","v":0},{"$f":"IFERROR(IF(MATCH(BE254&\"/\"&BF254,③読み替え表_省エネ住宅!$G$48:$G$57,0),1,0),0)","v":0},0,"*"]
[null,250,null,null,null,null,null,null,null,null,null,null,null,null,null,null,null,null,null,null,null,null,null,null,null,null,null,null,null,null,null,null,null,null,null,null,null,null,null,null,null,null,null,null,null,null,null,null,null,null,null,null,null,null,"未","未","未","未",0,{"$f":"IFERROR(IF(MATCH(BC255&\"/\"&BD255,③読み替え表_省エネ住宅!$G$48:$G$57,0),1,0),0)","v":0},{"$f":"IFERROR(IF(MATCH(BE255&\"/\"&BF255,③読み替え表_省エネ住宅!$G$48:$G$57,0),1,0),0)","v":0},0,"*"]
[null,251,null,null,null,null,null,null,null,null,null,null,null,null,null,null,null,null,null,null,null,null,null,null,null,null,null,null,null,null,null,null,null,null,null,null,null,null,null,null,null,null,null,null,null,null,null,null,null,null,null,null,null,null,"未","未","未","未",0,{"$f":"IFERROR(IF(MATCH(BC256&\"/\"&BD256,③読み替え表_省エネ住宅!$G$48:$G$57,0),1,0),0)","v":0},{"$f":"IFERROR(IF(MATCH(BE256&\"/\"&BF256,③読み替え表_省エネ住宅!$G$48:$G$57,0),1,0),0)","v":0},0,"*"]
[null,252,null,null,null,null,null,null,null,null,null,null,null,null,null,null,null,null,null,null,null,null,null,null,null,null,null,null,null,null,null,null,null,null,null,null,null,null,null,null,null,null,null,null,null,null,null,null,null,null,null,null,null,null,"未","未","未","未",0,{"$f":"IFERROR(IF(MATCH(BC257&\"/\"&BD257,③読み替え表_省エネ住宅!$G$48:$G$57,0),1,0),0)","v":0},{"$f":"IFERROR(IF(MATCH(BE257&\"/\"&BF257,③読み替え表_省エネ住宅!$G$48:$G$57,0),1,0),0)","v":0},0,"*"]
[null,253,null,null,null,null,null,null,null,null,null,null,null,null,null,null,null,null,null,null,null,null,null,null,null,null,null,null,null,null,null,null,null,null,null,null,null,null,null,null,null,null,null,null,null,null,null,null,null,null,null,null,null,null,"未","未","未","未",0,{"$f":"IFERROR(IF(MATCH(BC258&\"/\"&BD258,③読み替え表_省エネ住宅!$G$48:$G$57,0),1,0),0)","v":0},{"$f":"IFERROR(IF(MATCH(BE258&\"/\"&BF258,③読み替え表_省エネ住宅!$G$48:$G$57,0),1,0),0)","v":0},0,"*"]
[null,254,null,null,null,null,null,null,null,null,null,null,null,null,null,null,null,null,null,null,null,null,null,null,null,null,null,null,null,null,null,null,null,null,null,null,null,null,null,null,null,null,null,null,null,null,null,null,null,null,null,null,null,null,"未","未","未","未",0,{"$f":"IFERROR(IF(MATCH(BC259&\"/\"&BD259,③読み替え表_省エネ住宅!$G$48:$G$57,0),1,0),0)","v":0},{"$f":"IFERROR(IF(MATCH(BE259&\"/\"&BF259,③読み替え表_省エネ住宅!$G$48:$G$57,0),1,0),0)","v":0},0,"*"]
[null,255,null,null,null,null,null,null,null,null,null,null,null,null,null,null,null,null,null,null,null,null,null,null,null,null,null,null,null,null,null,null,null,null,null,null,null,null,null,null,null,null,null,null,null,null,null,null,null,null,null,null,null,null,"未","未","未","未",0,{"$f":"IFERROR(IF(MATCH(BC260&\"/\"&BD260,③読み替え表_省エネ住宅!$G$48:$G$57,0),1,0),0)","v":0},{"$f":"IFERROR(IF(MATCH(BE260&\"/\"&BF260,③読み替え表_省エネ住宅!$G$48:$G$57,0),1,0),0)","v":0},0,"*"]
[null,256,null,null,null,null,null,null,null,null,null,null,null,null,null,null,null,null,null,null,null,null,null,null,null,null,null,null,null,null,null,null,null,null,null,null,null,null,null,null,null,null,null,null,null,null,null,null,null,null,null,null,null,null,"未","未","未","未",0,{"$f":"IFERROR(IF(MATCH(BC261&\"/\"&BD261,③読み替え表_省エネ住宅!$G$48:$G$57,0),1,0),0)","v":0},{"$f":"IFERROR(IF(MATCH(BE261&\"/\"&BF261,③読み替え表_省エネ住宅!$G$48:$G$57,0),1,0),0)","v":0},0,"*"]
[null,257,null,null,null,null,null,null,null,null,null,null,null,null,null,null,null,null,null,null,null,null,null,null,null,null,null,null,null,null,null,null,null,null,null,null,null,null,null,null,null,null,null,null,null,null,null,null,null,null,null,null,null,null,"未","未","未","未",0,{"$f":"IFERROR(IF(MATCH(BC262&\"/\"&BD262,③読み替え表_省エネ住宅!$G$48:$G$57,0),1,0),0)","v":0},{"$f":"IFERROR(IF(MATCH(BE262&\"/\"&BF262,③読み替え表_省エネ住宅!$G$48:$G$57,0),1,0),0)","v":0},0,"*"]
[null,{"$f":"ROW()-5","v":258},null,null,null,null,null,null,null,null,null,null,null,null,null,null,null,null,null,null,null,null,null,null,null,null,null,null,null,null,null,null,null,null,null,null,null,null,null,null,null,null,null,null,null,null,null,null,null,null,null,null,null,null,{"$f":"IFERROR(IF(SUM($Q263:$U263)>1,\"複数回答\",INDEX($Q$5:$U$5,,MATCH(1,$Q263:$U263,0))),\"未\")","v":"未"},{"$f":"IFERROR(IF(SUM($AA263:$AE263)>1,\"複数回答\",INDEX($AA$5:$AE$5,,MATCH(1,$AA263:$AE263,0))),\"未\")","v":"未"},{"$f":"IFERROR(IF(SUM($V263:$Z263)>1,\"複数回答\",INDEX($V$5:$Z$5,,MATCH(1,$V263:$Z263,0))),\"未\")","v":"未"},{"$f":"IFERROR(IF(SUM($AF263:$AJ263)>1,\"複数回答\",INDEX($AF$5:$AJ$5,,MATCH(1,$AF263:$AJ263,0))),\"未\")","v":"未"},{"$f":"IF(BC263=\"複数回答\",1,IF(BD263=\"複数回答\",1,IF(BE263=\"複数回答\",1,IF(BF263=\"複数回答\",1,0))))","v":0},{"$f":"IFERROR(IF(MATCH(BC263&\"/\"&BD263,③読み替え表_省エネ住宅!$G$48:$G$57,0),1,0),0)","v":0},{"$f":"IFERROR(IF(MATCH(BE263&\"/\"&BF263,③読み替え表_省エネ住宅!$G$48:$G$57,0),1,0),0)","v":0},{"$f":"IF(SUM(BG263:BI263)>0,1,0)","v":0},"*"]
[null,259,null,null,null,null,null,null,null,null,null,null,null,null,null,null,null,null,null,null,null,null,null,null,null,null,null,null,null,null,null,null,null,null,null,null,null,null,null,null,null,null,null,null,null,null,null,null,null,null,null,null,null,null,"未","未","未","未",0,{"$f":"IFERROR(IF(MATCH(BC264&\"/\"&BD264,③読み替え表_省エネ住宅!$G$48:$G$57,0),1,0),0)","v":0},{"$f":"IFERROR(IF(MATCH(BE264&\"/\"&BF264,③読み替え表_省エネ住宅!$G$48:$G$57,0),1,0),0)","v":0},0,"*"]
[null,260,null,null,null,null,null,null,null,null,null,null,null,null,null,null,null,null,null,null,null,null,null,null,null,null,null,null,null,null,null,null,null,null,null,null,null,null,null,null,null,null,null,null,null,null,null,null,null,null,null,null,null,null,"未","未","未","未",0,{"$f":"IFERROR(IF(MATCH(BC265&\"/\"&BD265,③読み替え表_省エネ住宅!$G$48:$G$57,0),1,0),0)","v":0},{"$f":"IFERROR(IF(MATCH(BE265&\"/\"&BF265,③読み替え表_省エネ住宅!$G$48:$G$57,0),1,0),0)","v":0},0,"*"]
[null,261,null,null,null,null,null,null,null,null,null,null,null,null,null,null,null,null,null,null,null,null,null,null,null,null,null,null,null,null,null,null,null,null,null,null,null,null,null,null,null,null,null,null,null,null,null,null,null,null,null,null,null,null,"未","未","未","未",0,{"$f":"IFERROR(IF(MATCH(BC266&\"/\"&BD266,③読み替え表_省エネ住宅!$G$48:$G$57,0),1,0),0)","v":0},{"$f":"IFERROR(IF(MATCH(BE266&\"/\"&BF266,③読み替え表_省エネ住宅!$G$48:$G$57,0),1,0),0)","v":0},0,"*"]
[null,262,null,null,null,null,null,null,null,null,null,null,null,null,null,null,null,null,null,null,null,null,null,null,null,null,null,null,null,null,null,null,null,null,null,null,null,null,null,null,null,null,null,null,null,null,null,null,null,null,null,null,null,null,"未","未","未","未",0,{"$f":"IFERROR(IF(MATCH(BC267&\"/\"&BD267,③読み替え表_省エネ住宅!$G$48:$G$57,0),1,0),0)","v":0},{"$f":"IFERROR(IF(MATCH(BE267&\"/\"&BF267,③読み替え表_省エネ住宅!$G$48:$G$57,0),1,0),0)","v":0},0,"*"]
[null,263,null,null,null,null,null,null,null,null,null,null,null,null,null,null,null,null,null,null,null,null,null,null,null,null,null,null,null,null,null,null,null,null,null,null,null,null,null,null,null,null,null,null,null,null,null,null,null,null,null,null,null,null,"未","未","未","未",0,{"$f":"IFERROR(IF(MATCH(BC268&\"/\"&BD268,③読み替え表_省エネ住宅!$G$48:$G$57,0),1,0),0)","v":0},{"$f":"IFERROR(IF(MATCH(BE268&\"/\"&BF268,③読み替え表_省エネ住宅!$G$48:$G$57,0),1,0),0)","v":0},0,"*"]
[null,264,null,null,null,null,null,null,null,null,null,null,null,null,null,null,null,null,null,null,null,null,null,null,null,null,null,null,null,null,null,null,null,null,null,null,null,null,null,null,null,null,null,null,null,null,null,null,null,null,null,null,null,null,"未","未","未","未",0,{"$f":"IFERROR(IF(MATCH(BC269&\"/\"&BD269,③読み替え表_省エネ住宅!$G$48:$G$57,0),1,0),0)","v":0},{"$f":"IFERROR(IF(MATCH(BE269&\"/\"&BF269,③読み替え表_省エネ住宅!$G$48:$G$57,0),1,0),0)","v":0},0,"*"]
[null,265,null,null,null,null,null,null,null,null,null,null,null,null,null,null,null,null,null,null,null,null,null,null,null,null,null,null,null,null,null,null,null,null,null,null,null,null,null,null,null,null,null,null,null,null,null,null,null,null,null,null,null,null,"未","未","未","未",0,{"$f":"IFERROR(IF(MATCH(BC270&\"/\"&BD270,③読み替え表_省エネ住宅!$G$48:$G$57,0),1,0),0)","v":0},{"$f":"IFERROR(IF(MATCH(BE270&\"/\"&BF270,③読み替え表_省エネ住宅!$G$48:$G$57,0),1,0),0)","v":0},0,"*"]
[null,266,null,null,null,null,null,null,null,null,null,null,null,null,null,null,null,null,null,null,null,null,null,null,null,null,null,null,null,null,null,null,null,null,null,null,null,null,null,null,null,null,null,null,null,null,null,null,null,null,null,null,null,null,"未","未","未","未",0,{"$f":"IFERROR(IF(MATCH(BC271&\"/\"&BD271,③読み替え表_省エネ住宅!$G$48:$G$57,0),1,0),0)","v":0},{"$f":"IFERROR(IF(MATCH(BE271&\"/\"&BF271,③読み替え表_省エネ住宅!$G$48:$G$57,0),1,0),0)","v":0},0,"*"]
[null,267,null,null,null,null,null,null,null,null,null,null,null,null,null,null,null,null,null,null,null,null,null,null,null,null,null,null,null,null,null,null,null,null,null,null,null,null,null,null,null,null,null,null,null,null,null,null,null,null,null,null,null,null,"未","未","未","未",0,{"$f":"IFERROR(IF(MATCH(BC272&\"/\"&BD272,③読み替え表_省エネ住宅!$G$48:$G$57,0),1,0),0)","v":0},{"$f":"IFERROR(IF(MATCH(BE272&\"/\"&BF272,③読み替え表_省エネ住宅!$G$48:$G$57,0),1,0),0)","v":0},0,"*"]
[null,268,null,null,null,null,null,null,null,null,null,null,null,null,null,null,null,null,null,null,null,null,null,null,null,null,null,null,null,null,null,null,null,null,null,null,null,null,null,null,null,null,null,null,null,null,null,null,null,null,null,null,null,null,"未","未","未","未",0,{"$f":"IFERROR(IF(MATCH(BC273&\"/\"&BD273,③読み替え表_省エネ住宅!$G$48:$G$57,0),1,0),0)","v":0},{"$f":"IFERROR(IF(MATCH(BE273&\"/\"&BF273,③読み替え表_省エネ住宅!$G$48:$G$57,0),1,0),0)","v":0},0,"*"]
[null,269,null,null,null,null,null,null,null,null,null,null,null,null,null,null,null,null,null,null,null,null,null,null,null,null,null,null,null,null,null,null,null,null,null,null,null,null,null,null,null,null,null,null,null,null,null,null,null,null,null,null,null,null,"未","未","未","未",0,{"$f":"IFERROR(IF(MATCH(BC274&\"/\"&BD274,③読み替え表_省エネ住宅!$G$48:$G$57,0),1,0),0)","v":0},{"$f":"IFERROR(IF(MATCH(BE274&\"/\"&BF274,③読み替え表_省エネ住宅!$G$48:$G$57,0),1,0),0)","v":0},0,"*"]
[null,270,null,null,null,null,null,null,null,null,null,null,null,null,null,null,null,null,null,null,null,null,null,null,null,null,null,null,null,null,null,null,null,null,null,null,null,null,null,null,null,null,null,null,null,null,null,null,null,null,null,null,null,null,"未","未","未","未",0,{"$f":"IFERROR(IF(MATCH(BC275&\"/\"&BD275,③読み替え表_省エネ住宅!$G$48:$G$57,0),1,0),0)","v":0},{"$f":"IFERROR(IF(MATCH(BE275&\"/\"&BF275,③読み替え表_省エネ住宅!$G$48:$G$57,0),1,0),0)","v":0},0,"*"]
[null,271,null,null,null,null,null,null,null,null,null,null,null,null,null,null,null,null,null,null,null,null,null,null,null,null,null,null,null,null,null,null,null,null,null,null,null,null,null,null,null,null,null,null,null,null,null,null,null,null,null,null,null,null,"未","未","未","未",0,{"$f":"IFERROR(IF(MATCH(BC276&\"/\"&BD276,③読み替え表_省エネ住宅!$G$48:$G$57,0),1,0),0)","v":0},{"$f":"IFERROR(IF(MATCH(BE276&\"/\"&BF276,③読み替え表_省エネ住宅!$G$48:$G$57,0),1,0),0)","v":0},0,"*"]
[null,272,null,null,null,null,null,null,null,null,null,null,null,null,null,null,null,null,null,null,null,null,null,null,null,null,null,null,null,null,null,null,null,null,null,null,null,null,null,null,null,null,null,null,null,null,null,null,null,null,null,null,null,null,"未","未","未","未",0,{"$f":"IFERROR(IF(MATCH(BC277&\"/\"&BD277,③読み替え表_省エネ住宅!$G$48:$G$57,0),1,0),0)","v":0},{"$f":"IFERROR(IF(MATCH(BE277&\"/\"&BF277,③読み替え表_省エネ住宅!$G$48:$G$57,0),1,0),0)","v":0},0,"*"]
[null,273,null,null,null,null,null,null,null,null,null,null,null,null,null,null,null,null,null,null,null,null,null,null,null,null,null,null,null,null,null,null,null,null,null,null,null,null,null,null,null,null,null,null,null,null,null,null,null,null,null,null,null,null,"未","未","未","未",0,{"$f":"IFERROR(IF(MATCH(BC278&\"/\"&BD278,③読み替え表_省エネ住宅!$G$48:$G$57,0),1,0),0)","v":0},{"$f":"IFERROR(IF(MATCH(BE278&\"/\"&BF278,③読み替え表_省エネ住宅!$G$48:$G$57,0),1,0),0)","v":0},0,"*"]
[null,274,null,null,null,null,null,null,null,null,null,null,null,null,null,null,null,null,null,null,null,null,null,null,null,null,null,null,null,null,null,null,null,null,null,null,null,null,null,null,null,null,null,null,null,null,null,null,null,null,null,null,null,null,"未","未","未","未",0,{"$f":"IFERROR(IF(MATCH(BC279&\"/\"&BD279,③読み替え表_省エネ住宅!$G$48:$G$57,0),1,0),0)","v":0},{"$f":"IFERROR(IF(MATCH(BE279&\"/\"&BF279,③読み替え表_省エネ住宅!$G$48:$G$57,0),1,0),0)","v":0},0,"*"]
[null,275,null,null,null,null,null,null,null,null,null,null,null,null,null,null,null,null,null,null,null,null,null,null,null,null,null,null,null,null,null,null,null,null,null,null,null,null,null,null,null,null,null,null,null,null,null,null,null,null,null,null,null,null,"未","未","未","未",0,{"$f":"IFERROR(IF(MATCH(BC280&\"/\"&BD280,③読み替え表_省エネ住宅!$G$48:$G$57,0),1,0),0)","v":0},{"$f":"IFERROR(IF(MATCH(BE280&\"/\"&BF280,③読み替え表_省エネ住宅!$G$48:$G$57,0),1,0),0)","v":0},0,"*"]
[null,276,null,null,null,null,null,null,null,null,null,null,null,null,null,null,null,null,null,null,null,null,null,null,null,null,null,null,null,null,null,null,null,null,null,null,null,null,null,null,null,null,null,null,null,null,null,null,null,null,null,null,null,null,"未","未","未","未",0,{"$f":"IFERROR(IF(MATCH(BC281&\"/\"&BD281,③読み替え表_省エネ住宅!$G$48:$G$57,0),1,0),0)","v":0},{"$f":"IFERROR(IF(MATCH(BE281&\"/\"&BF281,③読み替え表_省エネ住宅!$G$48:$G$57,0),1,0),0)","v":0},0,"*"]
[null,277,null,null,null,null,null,null,null,null,null,null,null,null,null,null,null,null,null,null,null,null,null,null,null,null,null,null,null,null,null,null,null,null,null,null,null,null,null,null,null,null,null,null,null,null,null,null,null,null,null,null,null,null,"未","未","未","未",0,{"$f":"IFERROR(IF(MATCH(BC282&\"/\"&BD282,③読み替え表_省エネ住宅!$G$48:$G$57,0),1,0),0)","v":0},{"$f":"IFERROR(IF(MATCH(BE282&\"/\"&BF282,③読み替え表_省エネ住宅!$G$48:$G$57,0),1,0),0)","v":0},0,"*"]
[null,278,null,null,null,null,null,null,null,null,null,null,null,null,null,null,null,null,null,null,null,null,null,null,null,null,null,null,null,null,null,null,null,null,null,null,null,null,null,null,null,null,null,null,null,null,null,null,null,null,null,null,null,null,"未","未","未","未",0,{"$f":"IFERROR(IF(MATCH(BC283&\"/\"&BD283,③読み替え表_省エネ住宅!$G$48:$G$57,0),1,0),0)","v":0},{"$f":"IFERROR(IF(MATCH(BE283&\"/\"&BF283,③読み替え表_省エネ住宅!$G$48:$G$57,0),1,0),0)","v":0},0,"*"]
[null,279,null,null,null,null,null,null,null,null,null,null,null,null,null,null,null,null,null,null,null,null,null,null,null,null,null,null,null,null,null,null,null,null,null,null,null,null,null,null,null,null,null,null,null,null,null,null,null,null,null,null,null,null,"未","未","未","未",0,{"$f":"IFERROR(IF(MATCH(BC284&\"/\"&BD284,③読み替え表_省エネ住宅!$G$48:$G$57,0),1,0),0)","v":0},{"$f":"IFERROR(IF(MATCH(BE284&\"/\"&BF284,③読み替え表_省エネ住宅!$G$48:$G$57,0),1,0),0)","v":0},0,"*"]
[null,280,null,null,null,null,null,null,null,null,null,null,null,null,null,null,null,null,null,null,null,null,null,null,null,null,null,null,null,null,null,null,null,null,null,null,null,null,null,null,null,null,null,null,null,null,null,null,null,null,null,null,null,null,"未","未","未","未",0,{"$f":"IFERROR(IF(MATCH(BC285&\"/\"&BD285,③読み替え表_省エネ住宅!$G$48:$G$57,0),1,0),0)","v":0},{"$f":"IFERROR(IF(MATCH(BE285&\"/\"&BF285,③読み替え表_省エネ住宅!$G$48:$G$57,0),1,0),0)","v":0},0,"*"]
[null,281,null,null,null,null,null,null,null,null,null,null,null,null,null,null,null,null,null,null,null,null,null,null,null,null,null,null,null,null,null,null,null,null,null,null,null,null,null,null,null,null,null,null,null,null,null,null,null,null,null,null,null,null,"未","未","未","未",0,{"$f":"IFERROR(IF(MATCH(BC286&\"/\"&BD286,③読み替え表_省エネ住宅!$G$48:$G$57,0),1,0),0)","v":0},{"$f":"IFERROR(IF(MATCH(BE286&\"/\"&BF286,③読み替え表_省エネ住宅!$G$48:$G$57,0),1,0),0)","v":0},0,"*"]
[null,282,null,null,null,null,null,null,null,null,null,null,null,null,null,null,null,null,null,null,null,null,null,null,null,null,null,null,null,null,null,null,null,null,null,null,null,null,null,null,null,null,null,null,null,null,null,null,null,null,null,null,null,null,"未","未","未","未",0,{"$f":"IFERROR(IF(MATCH(BC287&\"/\"&BD287,③読み替え表_省エネ住宅!$G$48:$G$57,0),1,0),0)","v":0},{"$f":"IFERROR(IF(MATCH(BE287&\"/\"&BF287,③読み替え表_省エネ住宅!$G$48:$G$57,0),1,0),0)","v":0},0,"*"]
[null,283,null,null,null,null,null,null,null,null,null,null,null,null,null,null,null,null,null,null,null,null,null,null,null,null,null,null,null,null,null,null,null,null,null,null,null,null,null,null,null,null,null,null,null,null,null,null,null,null,null,null,null,null,"未","未","未","未",0,{"$f":"IFERROR(IF(MATCH(BC288&\"/\"&BD288,③読み替え表_省エネ住宅!$G$48:$G$57,0),1,0),0)","v":0},{"$f":"IFERROR(IF(MATCH(BE288&\"/\"&BF288,③読み替え表_省エネ住宅!$G$48:$G$57,0),1,0),0)","v":0},0,"*"]
[null,284,null,null,null,null,null,null,null,null,null,null,null,null,null,null,null,null,null,null,null,null,null,null,null,null,null,null,null,null,null,null,null,null,null,null,null,null,null,null,null,null,null,null,null,null,null,null,null,null,null,null,null,null,"未","未","未","未",0,{"$f":"IFERROR(IF(MATCH(BC289&\"/\"&BD289,③読み替え表_省エネ住宅!$G$48:$G$57,0),1,0),0)","v":0},{"$f":"IFERROR(IF(MATCH(BE289&\"/\"&BF289,③読み替え表_省エネ住宅!$G$48:$G$57,0),1,0),0)","v":0},0,"*"]
[null,285,null,null,null,null,null,null,null,null,null,null,null,null,null,null,null,null,null,null,null,null,null,null,null,null,null,null,null,null,null,null,null,null,null,null,null,null,null,null,null,null,null,null,null,null,null,null,null,null,null,null,null,null,"未","未","未","未",0,{"$f":"IFERROR(IF(MATCH(BC290&\"/\"&BD290,③読み替え表_省エネ住宅!$G$48:$G$57,0),1,0),0)","v":0},{"$f":"IFERROR(IF(MATCH(BE290&\"/\"&BF290,③読み替え表_省エネ住宅!$G$48:$G$57,0),1,0),0)","v":0},0,"*"]
[null,286,null,null,null,null,null,null,null,null,null,null,null,null,null,null,null,null,null,null,null,null,null,null,null,null,null,null,null,null,null,null,null,null,null,null,null,null,null,null,null,null,null,null,null,null,null,null,null,null,null,null,null,null,"未","未","未","未",0,{"$f":"IFERROR(IF(MATCH(BC291&\"/\"&BD291,③読み替え表_省エネ住宅!$G$48:$G$57,0),1,0),0)","v":0},{"$f":"IFERROR(IF(MATCH(BE291&\"/\"&BF291,③読み替え表_省エネ住宅!$G$48:$G$57,0),1,0),0)","v":0},0,"*"]
[null,287,null,null,null,null,null,null,null,null,null,null,null,null,null,null,null,null,null,null,null,null,null,null,null,null,null,null,null,null,null,null,null,null,null,null,null,null,null,null,null,null,null,null,null,null,null,null,null,null,null,null,null,null,"未","未","未","未",0,{"$f":"IFERROR(IF(MATCH(BC292&\"/\"&BD292,③読み替え表_省エネ住宅!$G$48:$G$57,0),1,0),0)","v":0},{"$f":"IFERROR(IF(MATCH(BE292&\"/\"&BF292,③読み替え表_省エネ住宅!$G$48:$G$57,0),1,0),0)","v":0},0,"*"]
[null,288,null,null,null,null,null,null,null,null,null,null,null,null,null,null,null,null,null,null,null,null,null,null,null,null,null,null,null,null,null,null,null,null,null,null,null,null,null,null,null,null,null,null,null,null,null,null,null,null,null,null,null,null,"未","未","未","未",0,{"$f":"IFERROR(IF(MATCH(BC293&\"/\"&BD293,③読み替え表_省エネ住宅!$G$48:$G$57,0),1,0),0)","v":0},{"$f":"IFERROR(IF(MATCH(BE293&\"/\"&BF293,③読み替え表_省エネ住宅!$G$48:$G$57,0),1,0),0)","v":0},0,"*"]
[null,289,null,null,null,null,null,null,null,null,null,null,null,null,null,null,null,null,null,null,null,null,null,null,null,null,null,null,null,null,null,null,null,null,null,null,null,null,null,null,null,null,null,null,null,null,null,null,null,null,null,null,null,null,"未","未","未","未",0,{"$f":"IFERROR(IF(MATCH(BC294&\"/\"&BD294,③読み替え表_省エネ住宅!$G$48:$G$57,0),1,0),0)","v":0},{"$f":"IFERROR(IF(MATCH(BE294&\"/\"&BF294,③読み替え表_省エネ住宅!$G$48:$G$57,0),1,0),0)","v":0},0,"*"]
[null,290,null,null,null,null,null,null,null,null,null,null,null,null,null,null,null,null,null,null,null,null,null,null,null,null,null,null,null,null,null,null,null,null,null,null,null,null,null,null,null,null,null,null,null,null,null,null,null,null,null,null,null,null,"未","未","未","未",0,{"$f":"IFERROR(IF(MATCH(BC295&\"/\"&BD295,③読み替え表_省エネ住宅!$G$48:$G$57,0),1,0),0)","v":0},{"$f":"IFERROR(IF(MATCH(BE295&\"/\"&BF295,③読み替え表_省エネ住宅!$G$48:$G$57,0),1,0),0)","v":0},0,"*"]
[null,291,null,null,null,null,null,null,null,null,null,null,null,null,null,null,null,null,null,null,null,null,null,null,null,null,null,null,null,null,null,null,null,null,null,null,null,null,null,null,null,null,null,null,null,null,null,null,null,null,null,null,null,null,"未","未","未","未",0,{"$f":"IFERROR(IF(MATCH(BC296&\"/\"&BD296,③読み替え表_省エネ住宅!$G$48:$G$57,0),1,0),0)","v":0},{"$f":"IFERROR(IF(MATCH(BE296&\"/\"&BF296,③読み替え表_省エネ住宅!$G$48:$G$57,0),1,0),0)","v":0},0,"*"]
[null,292,null,null,null,null,null,null,null,null,null,null,null,null,null,null,null,null,null,null,null,null,null,null,null,null,null,null,null,null,null,null,null,null,null,null,null,null,null,null,null,null,null,null,null,null,null,null,null,null,null,null,null,null,"未","未","未","未",0,{"$f":"IFERROR(IF(MATCH(BC297&\"/\"&BD297,③読み替え表_省エネ住宅!$G$48:$G$57,0),1,0),0)","v":0},{"$f":"IFERROR(IF(MATCH(BE297&\"/\"&BF297,③読み替え表_省エネ住宅!$G$48:$G$57,0),1,0),0)","v":0},0,"*"]
[null,293,null,null,null,null,null,null,null,null,null,null,null,null,null,null,null,null,null,null,null,null,null,null,null,null,null,null,null,null,null,null,null,null,null,null,null,null,null,null,null,null,null,null,null,null,null,null,null,null,null,null,null,null,"未","未","未","未",0,{"$f":"IFERROR(IF(MATCH(BC298&\"/\"&BD298,③読み替え表_省エネ住宅!$G$48:$G$57,0),1,0),0)","v":0},{"$f":"IFERROR(IF(MATCH(BE298&\"/\"&BF298,③読み替え表_省エネ住宅!$G$48:$G$57,0),1,0),0)","v":0},0,"*"]
[null,294,null,null,null,null,null,null,null,null,null,null,null,null,null,null,null,null,null,null,null,null,null,null,null,null,null,null,null,null,null,null,null,null,null,null,null,null,null,null,null,null,null,null,null,null,null,null,null,null,null,null,null,null,"未","未","未","未",0,{"$f":"IFERROR(IF(MATCH(BC299&\"/\"&BD299,③読み替え表_省エネ住宅!$G$48:$G$57,0),1,0),0)","v":0},{"$f":"IFERROR(IF(MATCH(BE299&\"/\"&BF299,③読み替え表_省エネ住宅!$G$48:$G$57,0),1,0),0)","v":0},0,"*"]
[null,295,null,null,null,null,null,null,null,null,null,null,null,null,null,null,null,null,null,null,null,null,null,null,null,null,null,null,null,null,null,null,null,null,null,null,null,null,null,null,null,null,null,null,null,null,null,null,null,null,null,null,null,null,"未","未","未","未",0,{"$f":"IFERROR(IF(MATCH(BC300&\"/\"&BD300,③読み替え表_省エネ住宅!$G$48:$G$57,0),1,0),0)","v":0},{"$f":"IFERROR(IF(MATCH(BE300&\"/\"&BF300,③読み替え表_省エネ住宅!$G$48:$G$57,0),1,0),0)","v":0},0,"*"]
[null,296,null,null,null,null,null,null,null,null,null,null,null,null,null,null,null,null,null,null,null,null,null,null,null,null,null,null,null,null,null,null,null,null,null,null,null,null,null,null,null,null,null,null,null,null,null,null,null,null,null,null,null,null,"未","未","未","未",0,{"$f":"IFERROR(IF(MATCH(BC301&\"/\"&BD301,③読み替え表_省エネ住宅!$G$48:$G$57,0),1,0),0)","v":0},{"$f":"IFERROR(IF(MATCH(BE301&\"/\"&BF301,③読み替え表_省エネ住宅!$G$48:$G$57,0),1,0),0)","v":0},0,"*"]
[null,297,null,null,null,null,null,null,null,null,null,null,null,null,null,null,null,null,null,null,null,null,null,null,null,null,null,null,null,null,null,null,null,null,null,null,null,null,null,null,null,null,null,null,null,null,null,null,null,null,null,null,null,null,"未","未","未","未",0,{"$f":"IFERROR(IF(MATCH(BC302&\"/\"&BD302,③読み替え表_省エネ住宅!$G$48:$G$57,0),1,0),0)","v":0},{"$f":"IFERROR(IF(MATCH(BE302&\"/\"&BF302,③読み替え表_省エネ住宅!$G$48:$G$57,0),1,0),0)","v":0},0,"*"]
[null,298,null,null,null,null,null,null,null,null,null,null,null,null,null,null,null,null,null,null,null,null,null,null,null,null,null,null,null,null,null,null,null,null,null,null,null,null,null,null,null,null,null,null,null,null,null,null,null,null,null,null,null,null,"未","未","未","未",0,{"$f":"IFERROR(IF(MATCH(BC303&\"/\"&BD303,③読み替え表_省エネ住宅!$G$48:$G$57,0),1,0),0)","v":0},{"$f":"IFERROR(IF(MATCH(BE303&\"/\"&BF303,③読み替え表_省エネ住宅!$G$48:$G$57,0),1,0),0)","v":0},0,"*"]
[null,299,null,null,null,null,null,null,null,null,null,null,null,null,null,null,null,null,null,null,null,null,null,null,null,null,null,null,null,null,null,null,null,null,null,null,null,null,null,null,null,null,null,null,null,null,null,null,null,null,null,null,null,null,"未","未","未","未",0,{"$f":"IFERROR(IF(MATCH(BC304&\"/\"&BD304,③読み替え表_省エネ住宅!$G$48:$G$57,0),1,0),0)","v":0},{"$f":"IFERROR(IF(MATCH(BE304&\"/\"&BF304,③読み替え表_省エネ住宅!$G$48:$G$57,0),1,0),0)","v":0},0,"*"]
[null,300,null,null,null,null,null,null,null,null,null,null,null,null,null,null,null,null,null,null,null,null,null,null,null,null,null,null,null,null,null,null,null,null,null,null,null,null,null,null,null,null,null,null,null,null,null,null,null,null,null,null,null,null,"未","未","未","未",0,{"$f":"IFERROR(IF(MATCH(BC305&\"/\"&BD305,③読み替え表_省エネ住宅!$G$48:$G$57,0),1,0),0)","v":0},{"$f":"IFERROR(IF(MATCH(BE305&\"/\"&BF305,③読み替え表_省エネ住宅!$G$48:$G$57,0),1,0),0)","v":0},0,"*"]
[null,301,null,null,null,null,null,null,null,null,null,null,null,null,null,null,null,null,null,null,null,null,null,null,null,null,null,null,null,null,null,null,null,null,null,null,null,null,null,null,null,null,null,null,null,null,null,null,null,null,null,null,null,null,"未","未","未","未",0,{"$f":"IFERROR(IF(MATCH(BC306&\"/\"&BD306,③読み替え表_省エネ住宅!$G$48:$G$57,0),1,0),0)","v":0},{"$f":"IFERROR(IF(MATCH(BE306&\"/\"&BF306,③読み替え表_省エネ住宅!$G$48:$G$57,0),1,0),0)","v":0},0,"*"]
[null,302,null,null,null,null,null,null,null,null,null,null,null,null,null,null,null,null,null,null,null,null,null,null,null,null,null,null,null,null,null,null,null,null,null,null,null,null,null,null,null,null,null,null,null,null,null,null,null,null,null,null,null,null,"未","未","未","未",0,{"$f":"IFERROR(IF(MATCH(BC307&\"/\"&BD307,③読み替え表_省エネ住宅!$G$48:$G$57,0),1,0),0)","v":0},{"$f":"IFERROR(IF(MATCH(BE307&\"/\"&BF307,③読み替え表_省エネ住宅!$G$48:$G$57,0),1,0),0)","v":0},0,"*"]
[null,303,null,null,null,null,null,null,null,null,null,null,null,null,null,null,null,null,null,null,null,null,null,null,null,null,null,null,null,null,null,null,null,null,null,null,null,null,null,null,null,null,null,null,null,null,null,null,null,null,null,null,null,null,"未","未","未","未",0,{"$f":"IFERROR(IF(MATCH(BC308&\"/\"&BD308,③読み替え表_省エネ住宅!$G$48:$G$57,0),1,0),0)","v":0},{"$f":"IFERROR(IF(MATCH(BE308&\"/\"&BF308,③読み替え表_省エネ住宅!$G$48:$G$57,0),1,0),0)","v":0},0,"*"]
[null,304,null,null,null,null,null,null,null,null,null,null,null,null,null,null,null,null,null,null,null,null,null,null,null,null,null,null,null,null,null,null,null,null,null,null,null,null,null,null,null,null,null,null,null,null,null,null,null,null,null,null,null,null,"未","未","未","未",0,{"$f":"IFERROR(IF(MATCH(BC309&\"/\"&BD309,③読み替え表_省エネ住宅!$G$48:$G$57,0),1,0),0)","v":0},{"$f":"IFERROR(IF(MATCH(BE309&\"/\"&BF309,③読み替え表_省エネ住宅!$G$48:$G$57,0),1,0),0)","v":0},0,"*"]
[null,305,null,null,null,null,null,null,null,null,null,null,null,null,null,null,null,null,null,null,null,null,null,null,null,null,null,null,null,null,null,null,null,null,null,null,null,null,null,null,null,null,null,null,null,null,null,null,null,null,null,null,null,null,"未","未","未","未",0,{"$f":"IFERROR(IF(MATCH(BC310&\"/\"&BD310,③読み替え表_省エネ住宅!$G$48:$G$57,0),1,0),0)","v":0},{"$f":"IFERROR(IF(MATCH(BE310&\"/\"&BF310,③読み替え表_省エネ住宅!$G$48:$G$57,0),1,0),0)","v":0},0,"*"]
[null,306,null,null,null,null,null,null,null,null,null,null,null,null,null,null,null,null,null,null,null,null,null,null,null,null,null,null,null,null,null,null,null,null,null,null,null,null,null,null,null,null,null,null,null,null,null,null,null,null,null,null,null,null,"未","未","未","未",0,{"$f":"IFERROR(IF(MATCH(BC311&\"/\"&BD311,③読み替え表_省エネ住宅!$G$48:$G$57,0),1,0),0)","v":0},{"$f":"IFERROR(IF(MATCH(BE311&\"/\"&BF311,③読み替え表_省エネ住宅!$G$48:$G$57,0),1,0),0)","v":0},0,"*"]
[null,307,null,null,null,null,null,null,null,null,null,null,null,null,null,null,null,null,null,null,null,null,null,null,null,null,null,null,null,null,null,null,null,null,null,null,null,null,null,null,null,null,null,null,null,null,null,null,null,null,null,null,null,null,"未","未","未","未",0,{"$f":"IFERROR(IF(MATCH(BC312&\"/\"&BD312,③読み替え表_省エネ住宅!$G$48:$G$57,0),1,0),0)","v":0},{"$f":"IFERROR(IF(MATCH(BE312&\"/\"&BF312,③読み替え表_省エネ住宅!$G$48:$G$57,0),1,0),0)","v":0},0,"*"]
[null,308,null,null,null,null,null,null,null,null,null,null,null,null,null,null,null,null,null,null,null,null,null,null,null,null,null,null,null,null,null,null,null,null,null,null,null,null,null,null,null,null,null,null,null,null,null,null,null,null,null,null,null,null,"未","未","未","未",0,{"$f":"IFERROR(IF(MATCH(BC313&\"/\"&BD313,③読み替え表_省エネ住宅!$G$48:$G$57,0),1,0),0)","v":0},{"$f":"IFERROR(IF(MATCH(BE313&\"/\"&BF313,③読み替え表_省エネ住宅!$G$48:$G$57,0),1,0),0)","v":0},0,"*"]
[null,309,null,null,null,null,null,null,null,null,null,null,null,null,null,null,null,null,null,null,null,null,null,null,null,null,null,null,null,null,null,null,null,null,null,null,null,null,null,null,null,null,null,null,null,null,null,null,null,null,null,null,null,null,"未","未","未","未",0,{"$f":"IFERROR(IF(MATCH(BC314&\"/\"&BD314,③読み替え表_省エネ住宅!$G$48:$G$57,0),1,0),0)","v":0},{"$f":"IFERROR(IF(MATCH(BE314&\"/\"&BF314,③読み替え表_省エネ住宅!$G$48:$G$57,0),1,0),0)","v":0},0,"*"]
[null,310,null,null,null,null,null,null,null,null,null,null,null,null,null,null,null,null,null,null,null,null,null,null,null,null,null,null,null,null,null,null,null,null,null,null,null,null,null,null,null,null,null,null,null,null,null,null,null,null,null,null,null,null,"未","未","未","未",0,{"$f":"IFERROR(IF(MATCH(BC315&\"/\"&BD315,③読み替え表_省エネ住宅!$G$48:$G$57,0),1,0),0)","v":0},{"$f":"IFERROR(IF(MATCH(BE315&\"/\"&BF315,③読み替え表_省エネ住宅!$G$48:$G$57,0),1,0),0)","v":0},0,"*"]
[null,311,null,null,null,null,null,null,null,null,null,null,null,null,null,null,null,null,null,null,null,null,null,null,null,null,null,null,null,null,null,null,null,null,null,null,null,null,null,null,null,null,null,null,null,null,null,null,null,null,null,null,null,null,"未","未","未","未",0,{"$f":"IFERROR(IF(MATCH(BC316&\"/\"&BD316,③読み替え表_省エネ住宅!$G$48:$G$57,0),1,0),0)","v":0},{"$f":"IFERROR(IF(MATCH(BE316&\"/\"&BF316,③読み替え表_省エネ住宅!$G$48:$G$57,0),1,0),0)","v":0},0,"*"]
[null,312,null,null,null,null,null,null,null,null,null,null,null,null,null,null,null,null,null,null,null,null,null,null,null,null,null,null,null,null,null,null,null,null,null,null,null,null,null,null,null,null,null,null,null,null,null,null,null,null,null,null,null,null,"未","未","未","未",0,{"$f":"IFERROR(IF(MATCH(BC317&\"/\"&BD317,③読み替え表_省エネ住宅!$G$48:$G$57,0),1,0),0)","v":0},{"$f":"IFERROR(IF(MATCH(BE317&\"/\"&BF317,③読み替え表_省エネ住宅!$G$48:$G$57,0),1,0),0)","v":0},0,"*"]
[null,313,null,null,null,null,null,null,null,null,null,null,null,null,null,null,null,null,null,null,null,null,null,null,null,null,null,null,null,null,null,null,null,null,null,null,null,null,null,null,null,null,null,null,null,null,null,null,null,null,null,null,null,null,"未","未","未","未",0,{"$f":"IFERROR(IF(MATCH(BC318&\"/\"&BD318,③読み替え表_省エネ住宅!$G$48:$G$57,0),1,0),0)","v":0},{"$f":"IFERROR(IF(MATCH(BE318&\"/\"&BF318,③読み替え表_省エネ住宅!$G$48:$G$57,0),1,0),0)","v":0},0,"*"]
[null,314,null,null,null,null,null,null,null,null,null,null,null,null,null,null,null,null,null,null,null,null,null,null,null,null,null,null,null,null,null,null,null,null,null,null,null,null,null,null,null,null,null,null,null,null,null,null,null,null,null,null,null,null,"未","未","未","未",0,{"$f":"IFERROR(IF(MATCH(BC319&\"/\"&BD319,③読み替え表_省エネ住宅!$G$48:$G$57,0),1,0),0)","v":0},{"$f":"IFERROR(IF(MATCH(BE319&\"/\"&BF319,③読み替え表_省エネ住宅!$G$48:$G$57,0),1,0),0)","v":0},0,"*"]
[null,315,null,null,null,null,null,null,null,null,null,null,null,null,null,null,null,null,null,null,null,null,null,null,null,null,null,null,null,null,null,null,null,null,null,null,null,null,null,null,null,null,null,null,null,null,null,null,null,null,null,null,null,null,"未","未","未","未",0,{"$f":"IFERROR(IF(MATCH(BC320&\"/\"&BD320,③読み替え表_省エネ住宅!$G$48:$G$57,0),1,0),0)","v":0},{"$f":"IFERROR(IF(MATCH(BE320&\"/\"&BF320,③読み替え表_省エネ住宅!$G$48:$G$57,0),1,0),0)","v":0},0,"*"]
[null,316,null,null,null,null,null,null,null,null,null,null,null,null,null,null,null,null,null,null,null,null,null,null,null,null,null,null,null,null,null,null,null,null,null,null,null,null,null,null,null,null,null,null,null,null,null,null,null,null,null,null,null,null,"未","未","未","未",0,{"$f":"IFERROR(IF(MATCH(BC321&\"/\"&BD321,③読み替え表_省エネ住宅!$G$48:$G$57,0),1,0),0)","v":0},{"$f":"IFERROR(IF(MATCH(BE321&\"/\"&BF321,③読み替え表_省エネ住宅!$G$48:$G$57,0),1,0),0)","v":0},0,"*"]
[null,317,null,null,null,null,null,null,null,null,null,null,null,null,null,null,null,null,null,null,null,null,null,null,null,null,null,null,null,null,null,null,null,null,null,null,null,null,null,null,null,null,null,null,null,null,null,null,null,null,null,null,null,null,"未","未","未","未",0,{"$f":"IFERROR(IF(MATCH(BC322&\"/\"&BD322,③読み替え表_省エネ住宅!$G$48:$G$57,0),1,0),0)","v":0},{"$f":"IFERROR(IF(MATCH(BE322&\"/\"&BF322,③読み替え表_省エネ住宅!$G$48:$G$57,0),1,0),0)","v":0},0,"*"]
[null,318,null,null,null,null,null,null,null,null,null,null,null,null,null,null,null,null,null,null,null,null,null,null,null,null,null,null,null,null,null,null,null,null,null,null,null,null,null,null,null,null,null,null,null,null,null,null,null,null,null,null,null,null,"未","未","未","未",0,{"$f":"IFERROR(IF(MATCH(BC323&\"/\"&BD323,③読み替え表_省エネ住宅!$G$48:$G$57,0),1,0),0)","v":0},{"$f":"IFERROR(IF(MATCH(BE323&\"/\"&BF323,③読み替え表_省エネ住宅!$G$48:$G$57,0),1,0),0)","v":0},0,"*"]
[null,319,null,null,null,null,null,null,null,null,null,null,null,null,null,null,null,null,null,null,null,null,null,null,null,null,null,null,null,null,null,null,null,null,null,null,null,null,null,null,null,null,null,null,null,null,null,null,null,null,null,null,null,null,"未","未","未","未",0,{"$f":"IFERROR(IF(MATCH(BC324&\"/\"&BD324,③読み替え表_省エネ住宅!$G$48:$G$57,0),1,0),0)","v":0},{"$f":"IFERROR(IF(MATCH(BE324&\"/\"&BF324,③読み替え表_省エネ住宅!$G$48:$G$57,0),1,0),0)","v":0},0,"*"]
[null,320,null,null,null,null,null,null,null,null,null,null,null,null,null,null,null,null,null,null,null,null,null,null,null,null,null,null,null,null,null,null,null,null,null,null,null,null,null,null,null,null,null,null,null,null,null,null,null,null,null,null,null,null,"未","未","未","未",0,{"$f":"IFERROR(IF(MATCH(BC325&\"/\"&BD325,③読み替え表_省エネ住宅!$G$48:$G$57,0),1,0),0)","v":0},{"$f":"IFERROR(IF(MATCH(BE325&\"/\"&BF325,③読み替え表_省エネ住宅!$G$48:$G$57,0),1,0),0)","v":0},0,"*"]
[null,321,null,null,null,null,null,null,null,null,null,null,null,null,null,null,null,null,null,null,null,null,null,null,null,null,null,null,null,null,null,null,null,null,null,null,null,null,null,null,null,null,null,null,null,null,null,null,null,null,null,null,null,null,"未","未","未","未",0,{"$f":"IFERROR(IF(MATCH(BC326&\"/\"&BD326,③読み替え表_省エネ住宅!$G$48:$G$57,0),1,0),0)","v":0},{"$f":"IFERROR(IF(MATCH(BE326&\"/\"&BF326,③読み替え表_省エネ住宅!$G$48:$G$57,0),1,0),0)","v":0},0,"*"]
[null,{"$f":"ROW()-5","v":322},null,null,null,null,null,null,null,null,null,null,null,null,null,null,null,null,null,null,null,null,null,null,null,null,null,null,null,null,null,null,null,null,null,null,null,null,null,null,null,null,null,null,null,null,null,null,null,null,null,null,null,null,{"$f":"IFERROR(IF(SUM($Q327:$U327)>1,\"複数回答\",INDEX($Q$5:$U$5,,MATCH(1,$Q327:$U327,0))),\"未\")","v":"未"},{"$f":"IFERROR(IF(SUM($AA327:$AE327)>1,\"複数回答\",INDEX($AA$5:$AE$5,,MATCH(1,$AA327:$AE327,0))),\"未\")","v":"未"},{"$f":"IFERROR(IF(SUM($V327:$Z327)>1,\"複数回答\",INDEX($V$5:$Z$5,,MATCH(1,$V327:$Z327,0))),\"未\")","v":"未"},{"$f":"IFERROR(IF(SUM($AF327:$AJ327)>1,\"複数回答\",INDEX($AF$5:$AJ$5,,MATCH(1,$AF327:$AJ327,0))),\"未\")","v":"未"},{"$f":"IF(BC327=\"複数回答\",1,IF(BD327=\"複数回答\",1,IF(BE327=\"複数回答\",1,IF(BF327=\"複数回答\",1,0))))","v":0},{"$f":"IFERROR(IF(MATCH(BC327&\"/\"&BD327,③読み替え表_省エネ住宅!$G$48:$G$57,0),1,0),0)","v":0},{"$f":"IFERROR(IF(MATCH(BE327&\"/\"&BF327,③読み替え表_省エネ住宅!$G$48:$G$57,0),1,0),0)","v":0},{"$f":"IF(SUM(BG327:BI327)>0,1,0)","v":0},"*"]
[null,323,null,null,null,null,null,null,null,null,null,null,null,null,null,null,null,null,null,null,null,null,null,null,null,null,null,null,null,null,null,null,null,null,null,null,null,null,null,null,null,null,null,null,null,null,null,null,null,null,null,null,null,null,"未","未","未","未",0,{"$f":"IFERROR(IF(MATCH(BC328&\"/\"&BD328,③読み替え表_省エネ住宅!$G$48:$G$57,0),1,0),0)","v":0},{"$f":"IFERROR(IF(MATCH(BE328&\"/\"&BF328,③読み替え表_省エネ住宅!$G$48:$G$57,0),1,0),0)","v":0},0,"*"]
[null,324,null,null,null,null,null,null,null,null,null,null,null,null,null,null,null,null,null,null,null,null,null,null,null,null,null,null,null,null,null,null,null,null,null,null,null,null,null,null,null,null,null,null,null,null,null,null,null,null,null,null,null,null,"未","未","未","未",0,{"$f":"IFERROR(IF(MATCH(BC329&\"/\"&BD329,③読み替え表_省エネ住宅!$G$48:$G$57,0),1,0),0)","v":0},{"$f":"IFERROR(IF(MATCH(BE329&\"/\"&BF329,③読み替え表_省エネ住宅!$G$48:$G$57,0),1,0),0)","v":0},0,"*"]
[null,325,null,null,null,null,null,null,null,null,null,null,null,null,null,null,null,null,null,null,null,null,null,null,null,null,null,null,null,null,null,null,null,null,null,null,null,null,null,null,null,null,null,null,null,null,null,null,null,null,null,null,null,null,"未","未","未","未",0,{"$f":"IFERROR(IF(MATCH(BC330&\"/\"&BD330,③読み替え表_省エネ住宅!$G$48:$G$57,0),1,0),0)","v":0},{"$f":"IFERROR(IF(MATCH(BE330&\"/\"&BF330,③読み替え表_省エネ住宅!$G$48:$G$57,0),1,0),0)","v":0},0,"*"]
[null,326,null,null,null,null,null,null,null,null,null,null,null,null,null,null,null,null,null,null,null,null,null,null,null,null,null,null,null,null,null,null,null,null,null,null,null,null,null,null,null,null,null,null,null,null,null,null,null,null,null,null,null,null,"未","未","未","未",0,{"$f":"IFERROR(IF(MATCH(BC331&\"/\"&BD331,③読み替え表_省エネ住宅!$G$48:$G$57,0),1,0),0)","v":0},{"$f":"IFERROR(IF(MATCH(BE331&\"/\"&BF331,③読み替え表_省エネ住宅!$G$48:$G$57,0),1,0),0)","v":0},0,"*"]
[null,327,null,null,null,null,null,null,null,null,null,null,null,null,null,null,null,null,null,null,null,null,null,null,null,null,null,null,null,null,null,null,null,null,null,null,null,null,null,null,null,null,null,null,null,null,null,null,null,null,null,null,null,null,"未","未","未","未",0,{"$f":"IFERROR(IF(MATCH(BC332&\"/\"&BD332,③読み替え表_省エネ住宅!$G$48:$G$57,0),1,0),0)","v":0},{"$f":"IFERROR(IF(MATCH(BE332&\"/\"&BF332,③読み替え表_省エネ住宅!$G$48:$G$57,0),1,0),0)","v":0},0,"*"]
[null,328,null,null,null,null,null,null,null,null,null,null,null,null,null,null,null,null,null,null,null,null,null,null,null,null,null,null,null,null,null,null,null,null,null,null,null,null,null,null,null,null,null,null,null,null,null,null,null,null,null,null,null,null,"未","未","未","未",0,{"$f":"IFERROR(IF(MATCH(BC333&\"/\"&BD333,③読み替え表_省エネ住宅!$G$48:$G$57,0),1,0),0)","v":0},{"$f":"IFERROR(IF(MATCH(BE333&\"/\"&BF333,③読み替え表_省エネ住宅!$G$48:$G$57,0),1,0),0)","v":0},0,"*"]
[null,329,null,null,null,null,null,null,null,null,null,null,null,null,null,null,null,null,null,null,null,null,null,null,null,null,null,null,null,null,null,null,null,null,null,null,null,null,null,null,null,null,null,null,null,null,null,null,null,null,null,null,null,null,"未","未","未","未",0,{"$f":"IFERROR(IF(MATCH(BC334&\"/\"&BD334,③読み替え表_省エネ住宅!$G$48:$G$57,0),1,0),0)","v":0},{"$f":"IFERROR(IF(MATCH(BE334&\"/\"&BF334,③読み替え表_省エネ住宅!$G$48:$G$57,0),1,0),0)","v":0},0,"*"]
[null,330,null,null,null,null,null,null,null,null,null,null,null,null,null,null,null,null,null,null,null,null,null,null,null,null,null,null,null,null,null,null,null,null,null,null,null,null,null,null,null,null,null,null,null,null,null,null,null,null,null,null,null,null,"未","未","未","未",0,{"$f":"IFERROR(IF(MATCH(BC335&\"/\"&BD335,③読み替え表_省エネ住宅!$G$48:$G$57,0),1,0),0)","v":0},{"$f":"IFERROR(IF(MATCH(BE335&\"/\"&BF335,③読み替え表_省エネ住宅!$G$48:$G$57,0),1,0),0)","v":0},0,"*"]
[null,331,null,null,null,null,null,null,null,null,null,null,null,null,null,null,null,null,null,null,null,null,null,null,null,null,null,null,null,null,null,null,null,null,null,null,null,null,null,null,null,null,null,null,null,null,null,null,null,null,null,null,null,null,"未","未","未","未",0,{"$f":"IFERROR(IF(MATCH(BC336&\"/\"&BD336,③読み替え表_省エネ住宅!$G$48:$G$57,0),1,0),0)","v":0},{"$f":"IFERROR(IF(MATCH(BE336&\"/\"&BF336,③読み替え表_省エネ住宅!$G$48:$G$57,0),1,0),0)","v":0},0,"*"]
[null,332,null,null,null,null,null,null,null,null,null,null,null,null,null,null,null,null,null,null,null,null,null,null,null,null,null,null,null,null,null,null,null,null,null,null,null,null,null,null,null,null,null,null,null,null,null,null,null,null,null,null,null,null,"未","未","未","未",0,{"$f":"IFERROR(IF(MATCH(BC337&\"/\"&BD337,③読み替え表_省エネ住宅!$G$48:$G$57,0),1,0),0)","v":0},{"$f":"IFERROR(IF(MATCH(BE337&\"/\"&BF337,③読み替え表_省エネ住宅!$G$48:$G$57,0),1,0),0)","v":0},0,"*"]
[null,333,null,null,null,null,null,null,null,null,null,null,null,null,null,null,null,null,null,null,null,null,null,null,null,null,null,null,null,null,null,null,null,null,null,null,null,null,null,null,null,null,null,null,null,null,null,null,null,null,null,null,null,null,"未","未","未","未",0,{"$f":"IFERROR(IF(MATCH(BC338&\"/\"&BD338,③読み替え表_省エネ住宅!$G$48:$G$57,0),1,0),0)","v":0},{"$f":"IFERROR(IF(MATCH(BE338&\"/\"&BF338,③読み替え表_省エネ住宅!$G$48:$G$57,0),1,0),0)","v":0},0,"*"]
[null,334,null,null,null,null,null,null,null,null,null,null,null,null,null,null,null,null,null,null,null,null,null,null,null,null,null,null,null,null,null,null,null,null,null,null,null,null,null,null,null,null,null,null,null,null,null,null,null,null,null,null,null,null,"未","未","未","未",0,{"$f":"IFERROR(IF(MATCH(BC339&\"/\"&BD339,③読み替え表_省エネ住宅!$G$48:$G$57,0),1,0),0)","v":0},{"$f":"IFERROR(IF(MATCH(BE339&\"/\"&BF339,③読み替え表_省エネ住宅!$G$48:$G$57,0),1,0),0)","v":0},0,"*"]
[null,335,null,null,null,null,null,null,null,null,null,null,null,null,null,null,null,null,null,null,null,null,null,null,null,null,null,null,null,null,null,null,null,null,null,null,null,null,null,null,null,null,null,null,null,null,null,null,null,null,null,null,null,null,"未","未","未","未",0,{"$f":"IFERROR(IF(MATCH(BC340&\"/\"&BD340,③読み替え表_省エネ住宅!$G$48:$G$57,0),1,0),0)","v":0},{"$f":"IFERROR(IF(MATCH(BE340&\"/\"&BF340,③読み替え表_省エネ住宅!$G$48:$G$57,0),1,0),0)","v":0},0,"*"]
[null,336,null,null,null,null,null,null,null,null,null,null,null,null,null,null,null,null,null,null,null,null,null,null,null,null,null,null,null,null,null,null,null,null,null,null,null,null,null,null,null,null,null,null,null,null,null,null,null,null,null,null,null,null,"未","未","未","未",0,{"$f":"IFERROR(IF(MATCH(BC341&\"/\"&BD341,③読み替え表_省エネ住宅!$G$48:$G$57,0),1,0),0)","v":0},{"$f":"IFERROR(IF(MATCH(BE341&\"/\"&BF341,③読み替え表_省エネ住宅!$G$48:$G$57,0),1,0),0)","v":0},0,"*"]
[null,337,null,null,null,null,null,null,null,null,null,null,null,null,null,null,null,null,null,null,null,null,null,null,null,null,null,null,null,null,null,null,null,null,null,null,null,null,null,null,null,null,null,null,null,null,null,null,null,null,null,null,null,null,"未","未","未","未",0,{"$f":"IFERROR(IF(MATCH(BC342&\"/\"&BD342,③読み替え表_省エネ住宅!$G$48:$G$57,0),1,0),0)","v":0},{"$f":"IFERROR(IF(MATCH(BE342&\"/\"&BF342,③読み替え表_省エネ住宅!$G$48:$G$57,0),1,0),0)","v":0},0,"*"]
[null,338,null,null,null,null,null,null,null,null,null,null,null,null,null,null,null,null,null,null,null,null,null,null,null,null,null,null,null,null,null,null,null,null,null,null,null,null,null,null,null,null,null,null,null,null,null,null,null,null,null,null,null,null,"未","未","未","未",0,{"$f":"IFERROR(IF(MATCH(BC343&\"/\"&BD343,③読み替え表_省エネ住宅!$G$48:$G$57,0),1,0),0)","v":0},{"$f":"IFERROR(IF(MATCH(BE343&\"/\"&BF343,③読み替え表_省エネ住宅!$G$48:$G$57,0),1,0),0)","v":0},0,"*"]
[null,339,null,null,null,null,null,null,null,null,null,null,null,null,null,null,null,null,null,null,null,null,null,null,null,null,null,null,null,null,null,null,null,null,null,null,null,null,null,null,null,null,null,null,null,null,null,null,null,null,null,null,null,null,"未","未","未","未",0,{"$f":"IFERROR(IF(MATCH(BC344&\"/\"&BD344,③読み替え表_省エネ住宅!$G$48:$G$57,0),1,0),0)","v":0},{"$f":"IFERROR(IF(MATCH(BE344&\"/\"&BF344,③読み替え表_省エネ住宅!$G$48:$G$57,0),1,0),0)","v":0},0,"*"]
[null,340,null,null,null,null,null,null,null,null,null,null,null,null,null,null,null,null,null,null,null,null,null,null,null,null,null,null,null,null,null,null,null,null,null,null,null,null,null,null,null,null,null,null,null,null,null,null,null,null,null,null,null,null,"未","未","未","未",0,{"$f":"IFERROR(IF(MATCH(BC345&\"/\"&BD345,③読み替え表_省エネ住宅!$G$48:$G$57,0),1,0),0)","v":0},{"$f":"IFERROR(IF(MATCH(BE345&\"/\"&BF345,③読み替え表_省エネ住宅!$G$48:$G$57,0),1,0),0)","v":0},0,"*"]
[null,341,null,null,null,null,null,null,null,null,null,null,null,null,null,null,null,null,null,null,null,null,null,null,null,null,null,null,null,null,null,null,null,null,null,null,null,null,null,null,null,null,null,null,null,null,null,null,null,null,null,null,null,null,"未","未","未","未",0,{"$f":"IFERROR(IF(MATCH(BC346&\"/\"&BD346,③読み替え表_省エネ住宅!$G$48:$G$57,0),1,0),0)","v":0},{"$f":"IFERROR(IF(MATCH(BE346&\"/\"&BF346,③読み替え表_省エネ住宅!$G$48:$G$57,0),1,0),0)","v":0},0,"*"]
[null,342,null,null,null,null,null,null,null,null,null,null,null,null,null,null,null,null,null,null,null,null,null,null,null,null,null,null,null,null,null,null,null,null,null,null,null,null,null,null,null,null,null,null,null,null,null,null,null,null,null,null,null,null,"未","未","未","未",0,{"$f":"IFERROR(IF(MATCH(BC347&\"/\"&BD347,③読み替え表_省エネ住宅!$G$48:$G$57,0),1,0),0)","v":0},{"$f":"IFERROR(IF(MATCH(BE347&\"/\"&BF347,③読み替え表_省エネ住宅!$G$48:$G$57,0),1,0),0)","v":0},0,"*"]
[null,343,null,null,null,null,null,null,null,null,null,null,null,null,null,null,null,null,null,null,null,null,null,null,null,null,null,null,null,null,null,null,null,null,null,null,null,null,null,null,null,null,null,null,null,null,null,null,null,null,null,null,null,null,"未","未","未","未",0,{"$f":"IFERROR(IF(MATCH(BC348&\"/\"&BD348,③読み替え表_省エネ住宅!$G$48:$G$57,0),1,0),0)","v":0},{"$f":"IFERROR(IF(MATCH(BE348&\"/\"&BF348,③読み替え表_省エネ住宅!$G$48:$G$57,0),1,0),0)","v":0},0,"*"]
[null,344,null,null,null,null,null,null,null,null,null,null,null,null,null,null,null,null,null,null,null,null,null,null,null,null,null,null,null,null,null,null,null,null,null,null,null,null,null,null,null,null,null,null,null,null,null,null,null,null,null,null,null,null,"未","未","未","未",0,{"$f":"IFERROR(IF(MATCH(BC349&\"/\"&BD349,③読み替え表_省エネ住宅!$G$48:$G$57,0),1,0),0)","v":0},{"$f":"IFERROR(IF(MATCH(BE349&\"/\"&BF349,③読み替え表_省エネ住宅!$G$48:$G$57,0),1,0),0)","v":0},0,"*"]
[null,345,null,null,null,null,null,null,null,null,null,null,null,null,null,null,null,null,null,null,null,null,null,null,null,null,null,null,null,null,null,null,null,null,null,null,null,null,null,null,null,null,null,null,null,null,null,null,null,null,null,null,null,null,"未","未","未","未",0,{"$f":"IFERROR(IF(MATCH(BC350&\"/\"&BD350,③読み替え表_省エネ住宅!$G$48:$G$57,0),1,0),0)","v":0},{"$f":"IFERROR(IF(MATCH(BE350&\"/\"&BF350,③読み替え表_省エネ住宅!$G$48:$G$57,0),1,0),0)","v":0},0,"*"]
[null,346,null,null,null,null,null,null,null,null,null,null,null,null,null,null,null,null,null,null,null,null,null,null,null,null,null,null,null,null,null,null,null,null,null,null,null,null,null,null,null,null,null,null,null,null,null,null,null,null,null,null,null,null,"未","未","未","未",0,{"$f":"IFERROR(IF(MATCH(BC351&\"/\"&BD351,③読み替え表_省エネ住宅!$G$48:$G$57,0),1,0),0)","v":0},{"$f":"IFERROR(IF(MATCH(BE351&\"/\"&BF351,③読み替え表_省エネ住宅!$G$48:$G$57,0),1,0),0)","v":0},0,"*"]
[null,347,null,null,null,null,null,null,null,null,null,null,null,null,null,null,null,null,null,null,null,null,null,null,null,null,null,null,null,null,null,null,null,null,null,null,null,null,null,null,null,null,null,null,null,null,null,null,null,null,null,null,null,null,"未","未","未","未",0,{"$f":"IFERROR(IF(MATCH(BC352&\"/\"&BD352,③読み替え表_省エネ住宅!$G$48:$G$57,0),1,0),0)","v":0},{"$f":"IFERROR(IF(MATCH(BE352&\"/\"&BF352,③読み替え表_省エネ住宅!$G$48:$G$57,0),1,0),0)","v":0},0,"*"]
[null,348,null,null,null,null,null,null,null,null,null,null,null,null,null,null,null,null,null,null,null,null,null,null,null,null,null,null,null,null,null,null,null,null,null,null,null,null,null,null,null,null,null,null,null,null,null,null,null,null,null,null,null,null,"未","未","未","未",0,{"$f":"IFERROR(IF(MATCH(BC353&\"/\"&BD353,③読み替え表_省エネ住宅!$G$48:$G$57,0),1,0),0)","v":0},{"$f":"IFERROR(IF(MATCH(BE353&\"/\"&BF353,③読み替え表_省エネ住宅!$G$48:$G$57,0),1,0),0)","v":0},0,"*"]
[null,349,null,null,null,null,null,null,null,null,null,null,null,null,null,null,null,null,null,null,null,null,null,null,null,null,null,null,null,null,null,null,null,null,null,null,null,null,null,null,null,null,null,null,null,null,null,null,null,null,null,null,null,null,"未","未","未","未",0,{"$f":"IFERROR(IF(MATCH(BC354&\"/\"&BD354,③読み替え表_省エネ住宅!$G$48:$G$57,0),1,0),0)","v":0},{"$f":"IFERROR(IF(MATCH(BE354&\"/\"&BF354,③読み替え表_省エネ住宅!$G$48:$G$57,0),1,0),0)","v":0},0,"*"]
[null,350,null,null,null,null,null,null,null,null,null,null,null,null,null,null,null,null,null,null,null,null,null,null,null,null,null,null,null,null,null,null,null,null,null,null,null,null,null,null,null,null,null,null,null,null,null,null,null,null,null,null,null,null,"未","未","未","未",0,{"$f":"IFERROR(IF(MATCH(BC355&\"/\"&BD355,③読み替え表_省エネ住宅!$G$48:$G$57,0),1,0),0)","v":0},{"$f":"IFERROR(IF(MATCH(BE355&\"/\"&BF355,③読み替え表_省エネ住宅!$G$48:$G$57,0),1,0),0)","v":0},0,"*"]
[null,351,null,null,null,null,null,null,null,null,null,null,null,null,null,null,null,null,null,null,null,null,null,null,null,null,null,null,null,null,null,null,null,null,null,null,null,null,null,null,null,null,null,null,null,null,null,null,null,null,null,null,null,null,"未","未","未","未",0,{"$f":"IFERROR(IF(MATCH(BC356&\"/\"&BD356,③読み替え表_省エネ住宅!$G$48:$G$57,0),1,0),0)","v":0},{"$f":"IFERROR(IF(MATCH(BE356&\"/\"&BF356,③読み替え表_省エネ住宅!$G$48:$G$57,0),1,0),0)","v":0},0,"*"]
[null,352,null,null,null,null,null,null,null,null,null,null,null,null,null,null,null,null,null,null,null,null,null,null,null,null,null,null,null,null,null,null,null,null,null,null,null,null,null,null,null,null,null,null,null,null,null,null,null,null,null,null,null,null,"未","未","未","未",0,{"$f":"IFERROR(IF(MATCH(BC357&\"/\"&BD357,③読み替え表_省エネ住宅!$G$48:$G$57,0),1,0),0)","v":0},{"$f":"IFERROR(IF(MATCH(BE357&\"/\"&BF357,③読み替え表_省エネ住宅!$G$48:$G$57,0),1,0),0)","v":0},0,"*"]
[null,353,null,null,null,null,null,null,null,null,null,null,null,null,null,null,null,null,null,null,null,null,null,null,null,null,null,null,null,null,null,null,null,null,null,null,null,null,null,null,null,null,null,null,null,null,null,null,null,null,null,null,null,null,"未","未","未","未",0,{"$f":"IFERROR(IF(MATCH(BC358&\"/\"&BD358,③読み替え表_省エネ住宅!$G$48:$G$57,0),1,0),0)","v":0},{"$f":"IFERROR(IF(MATCH(BE358&\"/\"&BF358,③読み替え表_省エネ住宅!$G$48:$G$57,0),1,0),0)","v":0},0,"*"]
[null,354,null,null,null,null,null,null,null,null,null,null,null,null,null,null,null,null,null,null,null,null,null,null,null,null,null,null,null,null,null,null,null,null,null,null,null,null,null,null,null,null,null,null,null,null,null,null,null,null,null,null,null,null,"未","未","未","未",0,{"$f":"IFERROR(IF(MATCH(BC359&\"/\"&BD359,③読み替え表_省エネ住宅!$G$48:$G$57,0),1,0),0)","v":0},{"$f":"IFERROR(IF(MATCH(BE359&\"/\"&BF359,③読み替え表_省エネ住宅!$G$48:$G$57,0),1,0),0)","v":0},0,"*"]
[null,355,null,null,null,null,null,null,null,null,null,null,null,null,null,null,null,null,null,null,null,null,null,null,null,null,null,null,null,null,null,null,null,null,null,null,null,null,null,null,null,null,null,null,null,null,null,null,null,null,null,null,null,null,"未","未","未","未",0,{"$f":"IFERROR(IF(MATCH(BC360&\"/\"&BD360,③読み替え表_省エネ住宅!$G$48:$G$57,0),1,0),0)","v":0},{"$f":"IFERROR(IF(MATCH(BE360&\"/\"&BF360,③読み替え表_省エネ住宅!$G$48:$G$57,0),1,0),0)","v":0},0,"*"]
[null,356,null,null,null,null,null,null,null,null,null,null,null,null,null,null,null,null,null,null,null,null,null,null,null,null,null,null,null,null,null,null,null,null,null,null,null,null,null,null,null,null,null,null,null,null,null,null,null,null,null,null,null,null,"未","未","未","未",0,{"$f":"IFERROR(IF(MATCH(BC361&\"/\"&BD361,③読み替え表_省エネ住宅!$G$48:$G$57,0),1,0),0)","v":0},{"$f":"IFERROR(IF(MATCH(BE361&\"/\"&BF361,③読み替え表_省エネ住宅!$G$48:$G$57,0),1,0),0)","v":0},0,"*"]
[null,357,null,null,null,null,null,null,null,null,null,null,null,null,null,null,null,null,null,null,null,null,null,null,null,null,null,null,null,null,null,null,null,null,null,null,null,null,null,null,null,null,null,null,null,null,null,null,null,null,null,null,null,null,"未","未","未","未",0,{"$f":"IFERROR(IF(MATCH(BC362&\"/\"&BD362,③読み替え表_省エネ住宅!$G$48:$G$57,0),1,0),0)","v":0},{"$f":"IFERROR(IF(MATCH(BE362&\"/\"&BF362,③読み替え表_省エネ住宅!$G$48:$G$57,0),1,0),0)","v":0},0,"*"]
[null,358,null,null,null,null,null,null,null,null,null,null,null,null,null,null,null,null,null,null,null,null,null,null,null,null,null,null,null,null,null,null,null,null,null,null,null,null,null,null,null,null,null,null,null,null,null,null,null,null,null,null,null,null,"未","未","未","未",0,{"$f":"IFERROR(IF(MATCH(BC363&\"/\"&BD363,③読み替え表_省エネ住宅!$G$48:$G$57,0),1,0),0)","v":0},{"$f":"IFERROR(IF(MATCH(BE363&\"/\"&BF363,③読み替え表_省エネ住宅!$G$48:$G$57,0),1,0),0)","v":0},0,"*"]
[null,359,null,null,null,null,null,null,null,null,null,null,null,null,null,null,null,null,null,null,null,null,null,null,null,null,null,null,null,null,null,null,null,null,null,null,null,null,null,null,null,null,null,null,null,null,null,null,null,null,null,null,null,null,"未","未","未","未",0,{"$f":"IFERROR(IF(MATCH(BC364&\"/\"&BD364,③読み替え表_省エネ住宅!$G$48:$G$57,0),1,0),0)","v":0},{"$f":"IFERROR(IF(MATCH(BE364&\"/\"&BF364,③読み替え表_省エネ住宅!$G$48:$G$57,0),1,0),0)","v":0},0,"*"]
[null,360,null,null,null,null,null,null,null,null,null,null,null,null,null,null,null,null,null,null,null,null,null,null,null,null,null,null,null,null,null,null,null,null,null,null,null,null,null,null,null,null,null,null,null,null,null,null,null,null,null,null,null,null,"未","未","未","未",0,{"$f":"IFERROR(IF(MATCH(BC365&\"/\"&BD365,③読み替え表_省エネ住宅!$G$48:$G$57,0),1,0),0)","v":0},{"$f":"IFERROR(IF(MATCH(BE365&\"/\"&BF365,③読み替え表_省エネ住宅!$G$48:$G$57,0),1,0),0)","v":0},0,"*"]
[null,361,null,null,null,null,null,null,null,null,null,null,null,null,null,null,null,null,null,null,null,null,null,null,null,null,null,null,null,null,null,null,null,null,null,null,null,null,null,null,null,null,null,null,null,null,null,null,null,null,null,null,null,null,"未","未","未","未",0,{"$f":"IFERROR(IF(MATCH(BC366&\"/\"&BD366,③読み替え表_省エネ住宅!$G$48:$G$57,0),1,0),0)","v":0},{"$f":"IFERROR(IF(MATCH(BE366&\"/\"&BF366,③読み替え表_省エネ住宅!$G$48:$G$57,0),1,0),0)","v":0},0,"*"]
[null,362,null,null,null,null,null,null,null,null,null,null,null,null,null,null,null,null,null,null,null,null,null,null,null,null,null,null,null,null,null,null,null,null,null,null,null,null,null,null,null,null,null,null,null,null,null,null,null,null,null,null,null,null,"未","未","未","未",0,{"$f":"IFERROR(IF(MATCH(BC367&\"/\"&BD367,③読み替え表_省エネ住宅!$G$48:$G$57,0),1,0),0)","v":0},{"$f":"IFERROR(IF(MATCH(BE367&\"/\"&BF367,③読み替え表_省エネ住宅!$G$48:$G$57,0),1,0),0)","v":0},0,"*"]
[null,363,null,null,null,null,null,null,null,null,null,null,null,null,null,null,null,null,null,null,null,null,null,null,null,null,null,null,null,null,null,null,null,null,null,null,null,null,null,null,null,null,null,null,null,null,null,null,null,null,null,null,null,null,"未","未","未","未",0,{"$f":"IFERROR(IF(MATCH(BC368&\"/\"&BD368,③読み替え表_省エネ住宅!$G$48:$G$57,0),1,0),0)","v":0},{"$f":"IFERROR(IF(MATCH(BE368&\"/\"&BF368,③読み替え表_省エネ住宅!$G$48:$G$57,0),1,0),0)","v":0},0,"*"]
[null,364,null,null,null,null,null,null,null,null,null,null,null,null,null,null,null,null,null,null,null,null,null,null,null,null,null,null,null,null,null,null,null,null,null,null,null,null,null,null,null,null,null,null,null,null,null,null,null,null,null,null,null,null,"未","未","未","未",0,{"$f":"IFERROR(IF(MATCH(BC369&\"/\"&BD369,③読み替え表_省エネ住宅!$G$48:$G$57,0),1,0),0)","v":0},{"$f":"IFERROR(IF(MATCH(BE369&\"/\"&BF369,③読み替え表_省エネ住宅!$G$48:$G$57,0),1,0),0)","v":0},0,"*"]
[null,365,null,null,null,null,null,null,null,null,null,null,null,null,null,null,null,null,null,null,null,null,null,null,null,null,null,null,null,null,null,null,null,null,null,null,null,null,null,null,null,null,null,null,null,null,null,null,null,null,null,null,null,null,"未","未","未","未",0,{"$f":"IFERROR(IF(MATCH(BC370&\"/\"&BD370,③読み替え表_省エネ住宅!$G$48:$G$57,0),1,0),0)","v":0},{"$f":"IFERROR(IF(MATCH(BE370&\"/\"&BF370,③読み替え表_省エネ住宅!$G$48:$G$57,0),1,0),0)","v":0},0,"*"]
[null,366,null,null,null,null,null,null,null,null,null,null,null,null,null,null,null,null,null,null,null,null,null,null,null,null,null,null,null,null,null,null,null,null,null,null,null,null,null,null,null,null,null,null,null,null,null,null,null,null,null,null,null,null,"未","未","未","未",0,{"$f":"IFERROR(IF(MATCH(BC371&\"/\"&BD371,③読み替え表_省エネ住宅!$G$48:$G$57,0),1,0),0)","v":0},{"$f":"IFERROR(IF(MATCH(BE371&\"/\"&BF371,③読み替え表_省エネ住宅!$G$48:$G$57,0),1,0),0)","v":0},0,"*"]
[null,367,null,null,null,null,null,null,null,null,null,null,null,null,null,null,null,null,null,null,null,null,null,null,null,null,null,null,null,null,null,null,null,null,null,null,null,null,null,null,null,null,null,null,null,null,null,null,null,null,null,null,null,null,"未","未","未","未",0,{"$f":"IFERROR(IF(MATCH(BC372&\"/\"&BD372,③読み替え表_省エネ住宅!$G$48:$G$57,0),1,0),0)","v":0},{"$f":"IFERROR(IF(MATCH(BE372&\"/\"&BF372,③読み替え表_省エネ住宅!$G$48:$G$57,0),1,0),0)","v":0},0,"*"]
[null,368,null,null,null,null,null,null,null,null,null,null,null,null,null,null,null,null,null,null,null,null,null,null,null,null,null,null,null,null,null,null,null,null,null,null,null,null,null,null,null,null,null,null,null,null,null,null,null,null,null,null,null,null,"未","未","未","未",0,{"$f":"IFERROR(IF(MATCH(BC373&\"/\"&BD373,③読み替え表_省エネ住宅!$G$48:$G$57,0),1,0),0)","v":0},{"$f":"IFERROR(IF(MATCH(BE373&\"/\"&BF373,③読み替え表_省エネ住宅!$G$48:$G$57,0),1,0),0)","v":0},0,"*"]
[null,369,null,null,null,null,null,null,null,null,null,null,null,null,null,null,null,null,null,null,null,null,null,null,null,null,null,null,null,null,null,null,null,null,null,null,null,null,null,null,null,null,null,null,null,null,null,null,null,null,null,null,null,null,"未","未","未","未",0,{"$f":"IFERROR(IF(MATCH(BC374&\"/\"&BD374,③読み替え表_省エネ住宅!$G$48:$G$57,0),1,0),0)","v":0},{"$f":"IFERROR(IF(MATCH(BE374&\"/\"&BF374,③読み替え表_省エネ住宅!$G$48:$G$57,0),1,0),0)","v":0},0,"*"]
[null,370,null,null,null,null,null,null,null,null,null,null,null,null,null,null,null,null,null,null,null,null,null,null,null,null,null,null,null,null,null,null,null,null,null,null,null,null,null,null,null,null,null,null,null,null,null,null,null,null,null,null,null,null,"未","未","未","未",0,{"$f":"IFERROR(IF(MATCH(BC375&\"/\"&BD375,③読み替え表_省エネ住宅!$G$48:$G$57,0),1,0),0)","v":0},{"$f":"IFERROR(IF(MATCH(BE375&\"/\"&BF375,③読み替え表_省エネ住宅!$G$48:$G$57,0),1,0),0)","v":0},0,"*"]
[null,371,null,null,null,null,null,null,null,null,null,null,null,null,null,null,null,null,null,null,null,null,null,null,null,null,null,null,null,null,null,null,null,null,null,null,null,null,null,null,null,null,null,null,null,null,null,null,null,null,null,null,null,null,"未","未","未","未",0,{"$f":"IFERROR(IF(MATCH(BC376&\"/\"&BD376,③読み替え表_省エネ住宅!$G$48:$G$57,0),1,0),0)","v":0},{"$f":"IFERROR(IF(MATCH(BE376&\"/\"&BF376,③読み替え表_省エネ住宅!$G$48:$G$57,0),1,0),0)","v":0},0,"*"]
[null,372,null,null,null,null,null,null,null,null,null,null,null,null,null,null,null,null,null,null,null,null,null,null,null,null,null,null,null,null,null,null,null,null,null,null,null,null,null,null,null,null,null,null,null,null,null,null,null,null,null,null,null,null,"未","未","未","未",0,{"$f":"IFERROR(IF(MATCH(BC377&\"/\"&BD377,③読み替え表_省エネ住宅!$G$48:$G$57,0),1,0),0)","v":0},{"$f":"IFERROR(IF(MATCH(BE377&\"/\"&BF377,③読み替え表_省エネ住宅!$G$48:$G$57,0),1,0),0)","v":0},0,"*"]
[null,373,null,null,null,null,null,null,null,null,null,null,null,null,null,null,null,null,null,null,null,null,null,null,null,null,null,null,null,null,null,null,null,null,null,null,null,null,null,null,null,null,null,null,null,null,null,null,null,null,null,null,null,null,"未","未","未","未",0,{"$f":"IFERROR(IF(MATCH(BC378&\"/\"&BD378,③読み替え表_省エネ住宅!$G$48:$G$57,0),1,0),0)","v":0},{"$f":"IFERROR(IF(MATCH(BE378&\"/\"&BF378,③読み替え表_省エネ住宅!$G$48:$G$57,0),1,0),0)","v":0},0,"*"]
[null,374,null,null,null,null,null,null,null,null,null,null,null,null,null,null,null,null,null,null,null,null,null,null,null,null,null,null,null,null,null,null,null,null,null,null,null,null,null,null,null,null,null,null,null,null,null,null,null,null,null,null,null,null,"未","未","未","未",0,{"$f":"IFERROR(IF(MATCH(BC379&\"/\"&BD379,③読み替え表_省エネ住宅!$G$48:$G$57,0),1,0),0)","v":0},{"$f":"IFERROR(IF(MATCH(BE379&\"/\"&BF379,③読み替え表_省エネ住宅!$G$48:$G$57,0),1,0),0)","v":0},0,"*"]
[null,375,null,null,null,null,null,null,null,null,null,null,null,null,null,null,null,null,null,null,null,null,null,null,null,null,null,null,null,null,null,null,null,null,null,null,null,null,null,null,null,null,null,null,null,null,null,null,null,null,null,null,null,null,"未","未","未","未",0,{"$f":"IFERROR(IF(MATCH(BC380&\"/\"&BD380,③読み替え表_省エネ住宅!$G$48:$G$57,0),1,0),0)","v":0},{"$f":"IFERROR(IF(MATCH(BE380&\"/\"&BF380,③読み替え表_省エネ住宅!$G$48:$G$57,0),1,0),0)","v":0},0,"*"]
[null,376,null,null,null,null,null,null,null,null,null,null,null,null,null,null,null,null,null,null,null,null,null,null,null,null,null,null,null,null,null,null,null,null,null,null,null,null,null,null,null,null,null,null,null,null,null,null,null,null,null,null,null,null,"未","未","未","未",0,{"$f":"IFERROR(IF(MATCH(BC381&\"/\"&BD381,③読み替え表_省エネ住宅!$G$48:$G$57,0),1,0),0)","v":0},{"$f":"IFERROR(IF(MATCH(BE381&\"/\"&BF381,③読み替え表_省エネ住宅!$G$48:$G$57,0),1,0),0)","v":0},0,"*"]
[null,377,null,null,null,null,null,null,null,null,null,null,null,null,null,null,null,null,null,null,null,null,null,null,null,null,null,null,null,null,null,null,null,null,null,null,null,null,null,null,null,null,null,null,null,null,null,null,null,null,null,null,null,null,"未","未","未","未",0,{"$f":"IFERROR(IF(MATCH(BC382&\"/\"&BD382,③読み替え表_省エネ住宅!$G$48:$G$57,0),1,0),0)","v":0},{"$f":"IFERROR(IF(MATCH(BE382&\"/\"&BF382,③読み替え表_省エネ住宅!$G$48:$G$57,0),1,0),0)","v":0},0,"*"]
[null,378,null,null,null,null,null,null,null,null,null,null,null,null,null,null,null,null,null,null,null,null,null,null,null,null,null,null,null,null,null,null,null,null,null,null,null,null,null,null,null,null,null,null,null,null,null,null,null,null,null,null,null,null,"未","未","未","未",0,{"$f":"IFERROR(IF(MATCH(BC383&\"/\"&BD383,③読み替え表_省エネ住宅!$G$48:$G$57,0),1,0),0)","v":0},{"$f":"IFERROR(IF(MATCH(BE383&\"/\"&BF383,③読み替え表_省エネ住宅!$G$48:$G$57,0),1,0),0)","v":0},0,"*"]
[null,379,null,null,null,null,null,null,null,null,null,null,null,null,null,null,null,null,null,null,null,null,null,null,null,null,null,null,null,null,null,null,null,null,null,null,null,null,null,null,null,null,null,null,null,null,null,null,null,null,null,null,null,null,"未","未","未","未",0,{"$f":"IFERROR(IF(MATCH(BC384&\"/\"&BD384,③読み替え表_省エネ住宅!$G$48:$G$57,0),1,0),0)","v":0},{"$f":"IFERROR(IF(MATCH(BE384&\"/\"&BF384,③読み替え表_省エネ住宅!$G$48:$G$57,0),1,0),0)","v":0},0,"*"]
[null,380,null,null,null,null,null,null,null,null,null,null,null,null,null,null,null,null,null,null,null,null,null,null,null,null,null,null,null,null,null,null,null,null,null,null,null,null,null,null,null,null,null,null,null,null,null,null,null,null,null,null,null,null,"未","未","未","未",0,{"$f":"IFERROR(IF(MATCH(BC385&\"/\"&BD385,③読み替え表_省エネ住宅!$G$48:$G$57,0),1,0),0)","v":0},{"$f":"IFERROR(IF(MATCH(BE385&\"/\"&BF385,③読み替え表_省エネ住宅!$G$48:$G$57,0),1,0),0)","v":0},0,"*"]
[null,381,null,null,null,null,null,null,null,null,null,null,null,null,null,null,null,null,null,null,null,null,null,null,null,null,null,null,null,null,null,null,null,null,null,null,null,null,null,null,null,null,null,null,null,null,null,null,null,null,null,null,null,null,"未","未","未","未",0,{"$f":"IFERROR(IF(MATCH(BC386&\"/\"&BD386,③読み替え表_省エネ住宅!$G$48:$G$57,0),1,0),0)","v":0},{"$f":"IFERROR(IF(MATCH(BE386&\"/\"&BF386,③読み替え表_省エネ住宅!$G$48:$G$57,0),1,0),0)","v":0},0,"*"]
[null,382,null,null,null,null,null,null,null,null,null,null,null,null,null,null,null,null,null,null,null,null,null,null,null,null,null,null,null,null,null,null,null,null,null,null,null,null,null,null,null,null,null,null,null,null,null,null,null,null,null,null,null,null,"未","未","未","未",0,{"$f":"IFERROR(IF(MATCH(BC387&\"/\"&BD387,③読み替え表_省エネ住宅!$G$48:$G$57,0),1,0),0)","v":0},{"$f":"IFERROR(IF(MATCH(BE387&\"/\"&BF387,③読み替え表_省エネ住宅!$G$48:$G$57,0),1,0),0)","v":0},0,"*"]
[null,383,null,null,null,null,null,null,null,null,null,null,null,null,null,null,null,null,null,null,null,null,null,null,null,null,null,null,null,null,null,null,null,null,null,null,null,null,null,null,null,null,null,null,null,null,null,null,null,null,null,null,null,null,"未","未","未","未",0,{"$f":"IFERROR(IF(MATCH(BC388&\"/\"&BD388,③読み替え表_省エネ住宅!$G$48:$G$57,0),1,0),0)","v":0},{"$f":"IFERROR(IF(MATCH(BE388&\"/\"&BF388,③読み替え表_省エネ住宅!$G$48:$G$57,0),1,0),0)","v":0},0,"*"]
[null,384,null,null,null,null,null,null,null,null,null,null,null,null,null,null,null,null,null,null,null,null,null,null,null,null,null,null,null,null,null,null,null,null,null,null,null,null,null,null,null,null,null,null,null,null,null,null,null,null,null,null,null,null,"未","未","未","未",0,{"$f":"IFERROR(IF(MATCH(BC389&\"/\"&BD389,③読み替え表_省エネ住宅!$G$48:$G$57,0),1,0),0)","v":0},{"$f":"IFERROR(IF(MATCH(BE389&\"/\"&BF389,③読み替え表_省エネ住宅!$G$48:$G$57,0),1,0),0)","v":0},0,"*"]
[null,385,null,null,null,null,null,null,null,null,null,null,null,null,null,null,null,null,null,null,null,null,null,null,null,null,null,null,null,null,null,null,null,null,null,null,null,null,null,null,null,null,null,null,null,null,null,null,null,null,null,null,null,null,"未","未","未","未",0,{"$f":"IFERROR(IF(MATCH(BC390&\"/\"&BD390,③読み替え表_省エネ住宅!$G$48:$G$57,0),1,0),0)","v":0},{"$f":"IFERROR(IF(MATCH(BE390&\"/\"&BF390,③読み替え表_省エネ住宅!$G$48:$G$57,0),1,0),0)","v":0},0,"*"]
[null,{"$f":"ROW()-5","v":386},null,null,null,null,null,null,null,null,null,null,null,null,null,null,null,null,null,null,null,null,null,null,null,null,null,null,null,null,null,null,null,null,null,null,null,null,null,null,null,null,null,null,null,null,null,null,null,null,null,null,null,null,{"$f":"IFERROR(IF(SUM($Q391:$U391)>1,\"複数回答\",INDEX($Q$5:$U$5,,MATCH(1,$Q391:$U391,0))),\"未\")","v":"未"},{"$f":"IFERROR(IF(SUM($AA391:$AE391)>1,\"複数回答\",INDEX($AA$5:$AE$5,,MATCH(1,$AA391:$AE391,0))),\"未\")","v":"未"},{"$f":"IFERROR(IF(SUM($V391:$Z391)>1,\"複数回答\",INDEX($V$5:$Z$5,,MATCH(1,$V391:$Z391,0))),\"未\")","v":"未"},{"$f":"IFERROR(IF(SUM($AF391:$AJ391)>1,\"複数回答\",INDEX($AF$5:$AJ$5,,MATCH(1,$AF391:$AJ391,0))),\"未\")","v":"未"},{"$f":"IF(BC391=\"複数回答\",1,IF(BD391=\"複数回答\",1,IF(BE391=\"複数回答\",1,IF(BF391=\"複数回答\",1,0))))","v":0},{"$f":"IFERROR(IF(MATCH(BC391&\"/\"&BD391,③読み替え表_省エネ住宅!$G$48:$G$57,0),1,0),0)","v":0},{"$f":"IFERROR(IF(MATCH(BE391&\"/\"&BF391,③読み替え表_省エネ住宅!$G$48:$G$57,0),1,0),0)","v":0},{"$f":"IF(SUM(BG391:BI391)>0,1,0)","v":0},"*"]
[null,387,null,null,null,null,null,null,null,null,null,null,null,null,null,null,null,null,null,null,null,null,null,null,null,null,null,null,null,null,null,null,null,null,null,null,null,null,null,null,null,null,null,null,null,null,null,null,null,null,null,null,null,null,"未","未","未","未",0,{"$f":"IFERROR(IF(MATCH(BC392&\"/\"&BD392,③読み替え表_省エネ住宅!$G$48:$G$57,0),1,0),0)","v":0},{"$f":"IFERROR(IF(MATCH(BE392&\"/\"&BF392,③読み替え表_省エネ住宅!$G$48:$G$57,0),1,0),0)","v":0},0,"*"]
[null,388,null,null,null,null,null,null,null,null,null,null,null,null,null,null,null,null,null,null,null,null,null,null,null,null,null,null,null,null,null,null,null,null,null,null,null,null,null,null,null,null,null,null,null,null,null,null,null,null,null,null,null,null,"未","未","未","未",0,{"$f":"IFERROR(IF(MATCH(BC393&\"/\"&BD393,③読み替え表_省エネ住宅!$G$48:$G$57,0),1,0),0)","v":0},{"$f":"IFERROR(IF(MATCH(BE393&\"/\"&BF393,③読み替え表_省エネ住宅!$G$48:$G$57,0),1,0),0)","v":0},0,"*"]
[null,389,null,null,null,null,null,null,null,null,null,null,null,null,null,null,null,null,null,null,null,null,null,null,null,null,null,null,null,null,null,null,null,null,null,null,null,null,null,null,null,null,null,null,null,null,null,null,null,null,null,null,null,null,"未","未","未","未",0,{"$f":"IFERROR(IF(MATCH(BC394&\"/\"&BD394,③読み替え表_省エネ住宅!$G$48:$G$57,0),1,0),0)","v":0},{"$f":"IFERROR(IF(MATCH(BE394&\"/\"&BF394,③読み替え表_省エネ住宅!$G$48:$G$57,0),1,0),0)","v":0},0,"*"]
[null,390,null,null,null,null,null,null,null,null,null,null,null,null,null,null,null,null,null,null,null,null,null,null,null,null,null,null,null,null,null,null,null,null,null,null,null,null,null,null,null,null,null,null,null,null,null,null,null,null,null,null,null,null,"未","未","未","未",0,{"$f":"IFERROR(IF(MATCH(BC395&\"/\"&BD395,③読み替え表_省エネ住宅!$G$48:$G$57,0),1,0),0)","v":0},{"$f":"IFERROR(IF(MATCH(BE395&\"/\"&BF395,③読み替え表_省エネ住宅!$G$48:$G$57,0),1,0),0)","v":0},0,"*"]
[null,391,null,null,null,null,null,null,null,null,null,null,null,null,null,null,null,null,null,null,null,null,null,null,null,null,null,null,null,null,null,null,null,null,null,null,null,null,null,null,null,null,null,null,null,null,null,null,null,null,null,null,null,null,"未","未","未","未",0,{"$f":"IFERROR(IF(MATCH(BC396&\"/\"&BD396,③読み替え表_省エネ住宅!$G$48:$G$57,0),1,0),0)","v":0},{"$f":"IFERROR(IF(MATCH(BE396&\"/\"&BF396,③読み替え表_省エネ住宅!$G$48:$G$57,0),1,0),0)","v":0},0,"*"]
[null,392,null,null,null,null,null,null,null,null,null,null,null,null,null,null,null,null,null,null,null,null,null,null,null,null,null,null,null,null,null,null,null,null,null,null,null,null,null,null,null,null,null,null,null,null,null,null,null,null,null,null,null,null,"未","未","未","未",0,{"$f":"IFERROR(IF(MATCH(BC397&\"/\"&BD397,③読み替え表_省エネ住宅!$G$48:$G$57,0),1,0),0)","v":0},{"$f":"IFERROR(IF(MATCH(BE397&\"/\"&BF397,③読み替え表_省エネ住宅!$G$48:$G$57,0),1,0),0)","v":0},0,"*"]
[null,393,null,null,null,null,null,null,null,null,null,null,null,null,null,null,null,null,null,null,null,null,null,null,null,null,null,null,null,null,null,null,null,null,null,null,null,null,null,null,null,null,null,null,null,null,null,null,null,null,null,null,null,null,"未","未","未","未",0,{"$f":"IFERROR(IF(MATCH(BC398&\"/\"&BD398,③読み替え表_省エネ住宅!$G$48:$G$57,0),1,0),0)","v":0},{"$f":"IFERROR(IF(MATCH(BE398&\"/\"&BF398,③読み替え表_省エネ住宅!$G$48:$G$57,0),1,0),0)","v":0},0,"*"]
[null,394,null,null,null,null,null,null,null,null,null,null,null,null,null,null,null,null,null,null,null,null,null,null,null,null,null,null,null,null,null,null,null,null,null,null,null,null,null,null,null,null,null,null,null,null,null,null,null,null,null,null,null,null,"未","未","未","未",0,{"$f":"IFERROR(IF(MATCH(BC399&\"/\"&BD399,③読み替え表_省エネ住宅!$G$48:$G$57,0),1,0),0)","v":0},{"$f":"IFERROR(IF(MATCH(BE399&\"/\"&BF399,③読み替え表_省エネ住宅!$G$48:$G$57,0),1,0),0)","v":0},0,"*"]
[null,395,null,null,null,null,null,null,null,null,null,null,null,null,null,null,null,null,null,null,null,null,null,null,null,null,null,null,null,null,null,null,null,null,null,null,null,null,null,null,null,null,null,null,null,null,null,null,null,null,null,null,null,null,"未","未","未","未",0,{"$f":"IFERROR(IF(MATCH(BC400&\"/\"&BD400,③読み替え表_省エネ住宅!$G$48:$G$57,0),1,0),0)","v":0},{"$f":"IFERROR(IF(MATCH(BE400&\"/\"&BF400,③読み替え表_省エネ住宅!$G$48:$G$57,0),1,0),0)","v":0},0,"*"]
[null,396,null,null,null,null,null,null,null,null,null,null,null,null,null,null,null,null,null,null,null,null,null,null,null,null,null,null,null,null,null,null,null,null,null,null,null,null,null,null,null,null,null,null,null,null,null,null,null,null,null,null,null,null,"未","未","未","未",0,{"$f":"IFERROR(IF(MATCH(BC401&\"/\"&BD401,③読み替え表_省エネ住宅!$G$48:$G$57,0),1,0),0)","v":0},{"$f":"IFERROR(IF(MATCH(BE401&\"/\"&BF401,③読み替え表_省エネ住宅!$G$48:$G$57,0),1,0),0)","v":0},0,"*"]
[null,397,null,null,null,null,null,null,null,null,null,null,null,null,null,null,null,null,null,null,null,null,null,null,null,null,null,null,null,null,null,null,null,null,null,null,null,null,null,null,null,null,null,null,null,null,null,null,null,null,null,null,null,null,"未","未","未","未",0,{"$f":"IFERROR(IF(MATCH(BC402&\"/\"&BD402,③読み替え表_省エネ住宅!$G$48:$G$57,0),1,0),0)","v":0},{"$f":"IFERROR(IF(MATCH(BE402&\"/\"&BF402,③読み替え表_省エネ住宅!$G$48:$G$57,0),1,0),0)","v":0},0,"*"]
[null,398,null,null,null,null,null,null,null,null,null,null,null,null,null,null,null,null,null,null,null,null,null,null,null,null,null,null,null,null,null,null,null,null,null,null,null,null,null,null,null,null,null,null,null,null,null,null,null,null,null,null,null,null,"未","未","未","未",0,{"$f":"IFERROR(IF(MATCH(BC403&\"/\"&BD403,③読み替え表_省エネ住宅!$G$48:$G$57,0),1,0),0)","v":0},{"$f":"IFERROR(IF(MATCH(BE403&\"/\"&BF403,③読み替え表_省エネ住宅!$G$48:$G$57,0),1,0),0)","v":0},0,"*"]
[null,399,null,null,null,null,null,null,null,null,null,null,null,null,null,null,null,null,null,null,null,null,null,null,null,null,null,null,null,null,null,null,null,null,null,null,null,null,null,null,null,null,null,null,null,null,null,null,null,null,null,null,null,null,"未","未","未","未",0,{"$f":"IFERROR(IF(MATCH(BC404&\"/\"&BD404,③読み替え表_省エネ住宅!$G$48:$G$57,0),1,0),0)","v":0},{"$f":"IFERROR(IF(MATCH(BE404&\"/\"&BF404,③読み替え表_省エネ住宅!$G$48:$G$57,0),1,0),0)","v":0},0,"*"]
[null,400,null,null,null,null,null,null,null,null,null,null,null,null,null,null,null,null,null,null,null,null,null,null,null,null,null,null,null,null,null,null,null,null,null,null,null,null,null,null,null,null,null,null,null,null,null,null,null,null,null,null,null,null,"未","未","未","未",0,{"$f":"IFERROR(IF(MATCH(BC405&\"/\"&BD405,③読み替え表_省エネ住宅!$G$48:$G$57,0),1,0),0)","v":0},{"$f":"IFERROR(IF(MATCH(BE405&\"/\"&BF405,③読み替え表_省エネ住宅!$G$48:$G$57,0),1,0),0)","v":0},0,"*"]
[null,401,null,null,null,null,null,null,null,null,null,null,null,null,null,null,null,null,null,null,null,null,null,null,null,null,null,null,null,null,null,null,null,null,null,null,null,null,null,null,null,null,null,null,null,null,null,null,null,null,null,null,null,null,"未","未","未","未",0,{"$f":"IFERROR(IF(MATCH(BC406&\"/\"&BD406,③読み替え表_省エネ住宅!$G$48:$G$57,0),1,0),0)","v":0},{"$f":"IFERROR(IF(MATCH(BE406&\"/\"&BF406,③読み替え表_省エネ住宅!$G$48:$G$57,0),1,0),0)","v":0},0,"*"]
[null,402,null,null,null,null,null,null,null,null,null,null,null,null,null,null,null,null,null,null,null,null,null,null,null,null,null,null,null,null,null,null,null,null,null,null,null,null,null,null,null,null,null,null,null,null,null,null,null,null,null,null,null,null,"未","未","未","未",0,{"$f":"IFERROR(IF(MATCH(BC407&\"/\"&BD407,③読み替え表_省エネ住宅!$G$48:$G$57,0),1,0),0)","v":0},{"$f":"IFERROR(IF(MATCH(BE407&\"/\"&BF407,③読み替え表_省エネ住宅!$G$48:$G$57,0),1,0),0)","v":0},0,"*"]
[null,403,null,null,null,null,null,null,null,null,null,null,null,null,null,null,null,null,null,null,null,null,null,null,null,null,null,null,null,null,null,null,null,null,null,null,null,null,null,null,null,null,null,null,null,null,null,null,null,null,null,null,null,null,"未","未","未","未",0,{"$f":"IFERROR(IF(MATCH(BC408&\"/\"&BD408,③読み替え表_省エネ住宅!$G$48:$G$57,0),1,0),0)","v":0},{"$f":"IFERROR(IF(MATCH(BE408&\"/\"&BF408,③読み替え表_省エネ住宅!$G$48:$G$57,0),1,0),0)","v":0},0,"*"]
[null,404,null,null,null,null,null,null,null,null,null,null,null,null,null,null,null,null,null,null,null,null,null,null,null,null,null,null,null,null,null,null,null,null,null,null,null,null,null,null,null,null,null,null,null,null,null,null,null,null,null,null,null,null,"未","未","未","未",0,{"$f":"IFERROR(IF(MATCH(BC409&\"/\"&BD409,③読み替え表_省エネ住宅!$G$48:$G$57,0),1,0),0)","v":0},{"$f":"IFERROR(IF(MATCH(BE409&\"/\"&BF409,③読み替え表_省エネ住宅!$G$48:$G$57,0),1,0),0)","v":0},0,"*"]
[null,405,null,null,null,null,null,null,null,null,null,null,null,null,null,null,null,null,null,null,null,null,null,null,null,null,null,null,null,null,null,null,null,null,null,null,null,null,null,null,null,null,null,null,null,null,null,null,null,null,null,null,null,null,"未","未","未","未",0,{"$f":"IFERROR(IF(MATCH(BC410&\"/\"&BD410,③読み替え表_省エネ住宅!$G$48:$G$57,0),1,0),0)","v":0},{"$f":"IFERROR(IF(MATCH(BE410&\"/\"&BF410,③読み替え表_省エネ住宅!$G$48:$G$57,0),1,0),0)","v":0},0,"*"]
[null,406,null,null,null,null,null,null,null,null,null,null,null,null,null,null,null,null,null,null,null,null,null,null,null,null,null,null,null,null,null,null,null,null,null,null,null,null,null,null,null,null,null,null,null,null,null,null,null,null,null,null,null,null,"未","未","未","未",0,{"$f":"IFERROR(IF(MATCH(BC411&\"/\"&BD411,③読み替え表_省エネ住宅!$G$48:$G$57,0),1,0),0)","v":0},{"$f":"IFERROR(IF(MATCH(BE411&\"/\"&BF411,③読み替え表_省エネ住宅!$G$48:$G$57,0),1,0),0)","v":0},0,"*"]
[null,407,null,null,null,null,null,null,null,null,null,null,null,null,null,null,null,null,null,null,null,null,null,null,null,null,null,null,null,null,null,null,null,null,null,null,null,null,null,null,null,null,null,null,null,null,null,null,null,null,null,null,null,null,"未","未","未","未",0,{"$f":"IFERROR(IF(MATCH(BC412&\"/\"&BD412,③読み替え表_省エネ住宅!$G$48:$G$57,0),1,0),0)","v":0},{"$f":"IFERROR(IF(MATCH(BE412&\"/\"&BF412,③読み替え表_省エネ住宅!$G$48:$G$57,0),1,0),0)","v":0},0,"*"]
[null,408,null,null,null,null,null,null,null,null,null,null,null,null,null,null,null,null,null,null,null,null,null,null,null,null,null,null,null,null,null,null,null,null,null,null,null,null,null,null,null,null,null,null,null,null,null,null,null,null,null,null,null,null,"未","未","未","未",0,{"$f":"IFERROR(IF(MATCH(BC413&\"/\"&BD413,③読み替え表_省エネ住宅!$G$48:$G$57,0),1,0),0)","v":0},{"$f":"IFERROR(IF(MATCH(BE413&\"/\"&BF413,③読み替え表_省エネ住宅!$G$48:$G$57,0),1,0),0)","v":0},0,"*"]
[null,409,null,null,null,null,null,null,null,null,null,null,null,null,null,null,null,null,null,null,null,null,null,null,null,null,null,null,null,null,null,null,null,null,null,null,null,null,null,null,null,null,null,null,null,null,null,null,null,null,null,null,null,null,"未","未","未","未",0,{"$f":"IFERROR(IF(MATCH(BC414&\"/\"&BD414,③読み替え表_省エネ住宅!$G$48:$G$57,0),1,0),0)","v":0},{"$f":"IFERROR(IF(MATCH(BE414&\"/\"&BF414,③読み替え表_省エネ住宅!$G$48:$G$57,0),1,0),0)","v":0},0,"*"]
[null,410,null,null,null,null,null,null,null,null,null,null,null,null,null,null,null,null,null,null,null,null,null,null,null,null,null,null,null,null,null,null,null,null,null,null,null,null,null,null,null,null,null,null,null,null,null,null,null,null,null,null,null,null,"未","未","未","未",0,{"$f":"IFERROR(IF(MATCH(BC415&\"/\"&BD415,③読み替え表_省エネ住宅!$G$48:$G$57,0),1,0),0)","v":0},{"$f":"IFERROR(IF(MATCH(BE415&\"/\"&BF415,③読み替え表_省エネ住宅!$G$48:$G$57,0),1,0),0)","v":0},0,"*"]
[null,411,null,null,null,null,null,null,null,null,null,null,null,null,null,null,null,null,null,null,null,null,null,null,null,null,null,null,null,null,null,null,null,null,null,null,null,null,null,null,null,null,null,null,null,null,null,null,null,null,null,null,null,null,"未","未","未","未",0,{"$f":"IFERROR(IF(MATCH(BC416&\"/\"&BD416,③読み替え表_省エネ住宅!$G$48:$G$57,0),1,0),0)","v":0},{"$f":"IFERROR(IF(MATCH(BE416&\"/\"&BF416,③読み替え表_省エネ住宅!$G$48:$G$57,0),1,0),0)","v":0},0,"*"]
[null,412,null,null,null,null,null,null,null,null,null,null,null,null,null,null,null,null,null,null,null,null,null,null,null,null,null,null,null,null,null,null,null,null,null,null,null,null,null,null,null,null,null,null,null,null,null,null,null,null,null,null,null,null,"未","未","未","未",0,{"$f":"IFERROR(IF(MATCH(BC417&\"/\"&BD417,③読み替え表_省エネ住宅!$G$48:$G$57,0),1,0),0)","v":0},{"$f":"IFERROR(IF(MATCH(BE417&\"/\"&BF417,③読み替え表_省エネ住宅!$G$48:$G$57,0),1,0),0)","v":0},0,"*"]
[null,413,null,null,null,null,null,null,null,null,null,null,null,null,null,null,null,null,null,null,null,null,null,null,null,null,null,null,null,null,null,null,null,null,null,null,null,null,null,null,null,null,null,null,null,null,null,null,null,null,null,null,null,null,"未","未","未","未",0,{"$f":"IFERROR(IF(MATCH(BC418&\"/\"&BD418,③読み替え表_省エネ住宅!$G$48:$G$57,0),1,0),0)","v":0},{"$f":"IFERROR(IF(MATCH(BE418&\"/\"&BF418,③読み替え表_省エネ住宅!$G$48:$G$57,0),1,0),0)","v":0},0,"*"]
[null,414,null,null,null,null,null,null,null,null,null,null,null,null,null,null,null,null,null,null,null,null,null,null,null,null,null,null,null,null,null,null,null,null,null,null,null,null,null,null,null,null,null,null,null,null,null,null,null,null,null,null,null,null,"未","未","未","未",0,{"$f":"IFERROR(IF(MATCH(BC419&\"/\"&BD419,③読み替え表_省エネ住宅!$G$48:$G$57,0),1,0),0)","v":0},{"$f":"IFERROR(IF(MATCH(BE419&\"/\"&BF419,③読み替え表_省エネ住宅!$G$48:$G$57,0),1,0),0)","v":0},0,"*"]
[null,415,null,null,null,null,null,null,null,null,null,null,null,null,null,null,null,null,null,null,null,null,null,null,null,null,null,null,null,null,null,null,null,null,null,null,null,null,null,null,null,null,null,null,null,null,null,null,null,null,null,null,null,null,"未","未","未","未",0,{"$f":"IFERROR(IF(MATCH(BC420&\"/\"&BD420,③読み替え表_省エネ住宅!$G$48:$G$57,0),1,0),0)","v":0},{"$f":"IFERROR(IF(MATCH(BE420&\"/\"&BF420,③読み替え表_省エネ住宅!$G$48:$G$57,0),1,0),0)","v":0},0,"*"]
[null,416,null,null,null,null,null,null,null,null,null,null,null,null,null,null,null,null,null,null,null,null,null,null,null,null,null,null,null,null,null,null,null,null,null,null,null,null,null,null,null,null,null,null,null,null,null,null,null,null,null,null,null,null,"未","未","未","未",0,{"$f":"IFERROR(IF(MATCH(BC421&\"/\"&BD421,③読み替え表_省エネ住宅!$G$48:$G$57,0),1,0),0)","v":0},{"$f":"IFERROR(IF(MATCH(BE421&\"/\"&BF421,③読み替え表_省エネ住宅!$G$48:$G$57,0),1,0),0)","v":0},0,"*"]
[null,417,null,null,null,null,null,null,null,null,null,null,null,null,null,null,null,null,null,null,null,null,null,null,null,null,null,null,null,null,null,null,null,null,null,null,null,null,null,null,null,null,null,null,null,null,null,null,null,null,null,null,null,null,"未","未","未","未",0,{"$f":"IFERROR(IF(MATCH(BC422&\"/\"&BD422,③読み替え表_省エネ住宅!$G$48:$G$57,0),1,0),0)","v":0},{"$f":"IFERROR(IF(MATCH(BE422&\"/\"&BF422,③読み替え表_省エネ住宅!$G$48:$G$57,0),1,0),0)","v":0},0,"*"]
[null,418,null,null,null,null,null,null,null,null,null,null,null,null,null,null,null,null,null,null,null,null,null,null,null,null,null,null,null,null,null,null,null,null,null,null,null,null,null,null,null,null,null,null,null,null,null,null,null,null,null,null,null,null,"未","未","未","未",0,{"$f":"IFERROR(IF(MATCH(BC423&\"/\"&BD423,③読み替え表_省エネ住宅!$G$48:$G$57,0),1,0),0)","v":0},{"$f":"IFERROR(IF(MATCH(BE423&\"/\"&BF423,③読み替え表_省エネ住宅!$G$48:$G$57,0),1,0),0)","v":0},0,"*"]
[null,419,null,null,null,null,null,null,null,null,null,null,null,null,null,null,null,null,null,null,null,null,null,null,null,null,null,null,null,null,null,null,null,null,null,null,null,null,null,null,null,null,null,null,null,null,null,null,null,null,null,null,null,null,"未","未","未","未",0,{"$f":"IFERROR(IF(MATCH(BC424&\"/\"&BD424,③読み替え表_省エネ住宅!$G$48:$G$57,0),1,0),0)","v":0},{"$f":"IFERROR(IF(MATCH(BE424&\"/\"&BF424,③読み替え表_省エネ住宅!$G$48:$G$57,0),1,0),0)","v":0},0,"*"]
[null,420,null,null,null,null,null,null,null,null,null,null,null,null,null,null,null,null,null,null,null,null,null,null,null,null,null,null,null,null,null,null,null,null,null,null,null,null,null,null,null,null,null,null,null,null,null,null,null,null,null,null,null,null,"未","未","未","未",0,{"$f":"IFERROR(IF(MATCH(BC425&\"/\"&BD425,③読み替え表_省エネ住宅!$G$48:$G$57,0),1,0),0)","v":0},{"$f":"IFERROR(IF(MATCH(BE425&\"/\"&BF425,③読み替え表_省エネ住宅!$G$48:$G$57,0),1,0),0)","v":0},0,"*"]
[null,421,null,null,null,null,null,null,null,null,null,null,null,null,null,null,null,null,null,null,null,null,null,null,null,null,null,null,null,null,null,null,null,null,null,null,null,null,null,null,null,null,null,null,null,null,null,null,null,null,null,null,null,null,"未","未","未","未",0,{"$f":"IFERROR(IF(MATCH(BC426&\"/\"&BD426,③読み替え表_省エネ住宅!$G$48:$G$57,0),1,0),0)","v":0},{"$f":"IFERROR(IF(MATCH(BE426&\"/\"&BF426,③読み替え表_省エネ住宅!$G$48:$G$57,0),1,0),0)","v":0},0,"*"]
[null,422,null,null,null,null,null,null,null,null,null,null,null,null,null,null,null,null,null,null,null,null,null,null,null,null,null,null,null,null,null,null,null,null,null,null,null,null,null,null,null,null,null,null,null,null,null,null,null,null,null,null,null,null,"未","未","未","未",0,{"$f":"IFERROR(IF(MATCH(BC427&\"/\"&BD427,③読み替え表_省エネ住宅!$G$48:$G$57,0),1,0),0)","v":0},{"$f":"IFERROR(IF(MATCH(BE427&\"/\"&BF427,③読み替え表_省エネ住宅!$G$48:$G$57,0),1,0),0)","v":0},0,"*"]
[null,423,null,null,null,null,null,null,null,null,null,null,null,null,null,null,null,null,null,null,null,null,null,null,null,null,null,null,null,null,null,null,null,null,null,null,null,null,null,null,null,null,null,null,null,null,null,null,null,null,null,null,null,null,"未","未","未","未",0,{"$f":"IFERROR(IF(MATCH(BC428&\"/\"&BD428,③読み替え表_省エネ住宅!$G$48:$G$57,0),1,0),0)","v":0},{"$f":"IFERROR(IF(MATCH(BE428&\"/\"&BF428,③読み替え表_省エネ住宅!$G$48:$G$57,0),1,0),0)","v":0},0,"*"]
[null,424,null,null,null,null,null,null,null,null,null,null,null,null,null,null,null,null,null,null,null,null,null,null,null,null,null,null,null,null,null,null,null,null,null,null,null,null,null,null,null,null,null,null,null,null,null,null,null,null,null,null,null,null,"未","未","未","未",0,{"$f":"IFERROR(IF(MATCH(BC429&\"/\"&BD429,③読み替え表_省エネ住宅!$G$48:$G$57,0),1,0),0)","v":0},{"$f":"IFERROR(IF(MATCH(BE429&\"/\"&BF429,③読み替え表_省エネ住宅!$G$48:$G$57,0),1,0),0)","v":0},0,"*"]
[null,425,null,null,null,null,null,null,null,null,null,null,null,null,null,null,null,null,null,null,null,null,null,null,null,null,null,null,null,null,null,null,null,null,null,null,null,null,null,null,null,null,null,null,null,null,null,null,null,null,null,null,null,null,"未","未","未","未",0,{"$f":"IFERROR(IF(MATCH(BC430&\"/\"&BD430,③読み替え表_省エネ住宅!$G$48:$G$57,0),1,0),0)","v":0},{"$f":"IFERROR(IF(MATCH(BE430&\"/\"&BF430,③読み替え表_省エネ住宅!$G$48:$G$57,0),1,0),0)","v":0},0,"*"]
[null,426,null,null,null,null,null,null,null,null,null,null,null,null,null,null,null,null,null,null,null,null,null,null,null,null,null,null,null,null,null,null,null,null,null,null,null,null,null,null,null,null,null,null,null,null,null,null,null,null,null,null,null,null,"未","未","未","未",0,{"$f":"IFERROR(IF(MATCH(BC431&\"/\"&BD431,③読み替え表_省エネ住宅!$G$48:$G$57,0),1,0),0)","v":0},{"$f":"IFERROR(IF(MATCH(BE431&\"/\"&BF431,③読み替え表_省エネ住宅!$G$48:$G$57,0),1,0),0)","v":0},0,"*"]
[null,427,null,null,null,null,null,null,null,null,null,null,null,null,null,null,null,null,null,null,null,null,null,null,null,null,null,null,null,null,null,null,null,null,null,null,null,null,null,null,null,null,null,null,null,null,null,null,null,null,null,null,null,null,"未","未","未","未",0,{"$f":"IFERROR(IF(MATCH(BC432&\"/\"&BD432,③読み替え表_省エネ住宅!$G$48:$G$57,0),1,0),0)","v":0},{"$f":"IFERROR(IF(MATCH(BE432&\"/\"&BF432,③読み替え表_省エネ住宅!$G$48:$G$57,0),1,0),0)","v":0},0,"*"]
[null,428,null,null,null,null,null,null,null,null,null,null,null,null,null,null,null,null,null,null,null,null,null,null,null,null,null,null,null,null,null,null,null,null,null,null,null,null,null,null,null,null,null,null,null,null,null,null,null,null,null,null,null,null,"未","未","未","未",0,{"$f":"IFERROR(IF(MATCH(BC433&\"/\"&BD433,③読み替え表_省エネ住宅!$G$48:$G$57,0),1,0),0)","v":0},{"$f":"IFERROR(IF(MATCH(BE433&\"/\"&BF433,③読み替え表_省エネ住宅!$G$48:$G$57,0),1,0),0)","v":0},0,"*"]
[null,429,null,null,null,null,null,null,null,null,null,null,null,null,null,null,null,null,null,null,null,null,null,null,null,null,null,null,null,null,null,null,null,null,null,null,null,null,null,null,null,null,null,null,null,null,null,null,null,null,null,null,null,null,"未","未","未","未",0,{"$f":"IFERROR(IF(MATCH(BC434&\"/\"&BD434,③読み替え表_省エネ住宅!$G$48:$G$57,0),1,0),0)","v":0},{"$f":"IFERROR(IF(MATCH(BE434&\"/\"&BF434,③読み替え表_省エネ住宅!$G$48:$G$57,0),1,0),0)","v":0},0,"*"]
[null,430,null,null,null,null,null,null,null,null,null,null,null,null,null,null,null,null,null,null,null,null,null,null,null,null,null,null,null,null,null,null,null,null,null,null,null,null,null,null,null,null,null,null,null,null,null,null,null,null,null,null,null,null,"未","未","未","未",0,{"$f":"IFERROR(IF(MATCH(BC435&\"/\"&BD435,③読み替え表_省エネ住宅!$G$48:$G$57,0),1,0),0)","v":0},{"$f":"IFERROR(IF(MATCH(BE435&\"/\"&BF435,③読み替え表_省エネ住宅!$G$48:$G$57,0),1,0),0)","v":0},0,"*"]
[null,431,null,null,null,null,null,null,null,null,null,null,null,null,null,null,null,null,null,null,null,null,null,null,null,null,null,null,null,null,null,null,null,null,null,null,null,null,null,null,null,null,null,null,null,null,null,null,null,null,null,null,null,null,"未","未","未","未",0,{"$f":"IFERROR(IF(MATCH(BC436&\"/\"&BD436,③読み替え表_省エネ住宅!$G$48:$G$57,0),1,0),0)","v":0},{"$f":"IFERROR(IF(MATCH(BE436&\"/\"&BF436,③読み替え表_省エネ住宅!$G$48:$G$57,0),1,0),0)","v":0},0,"*"]
[null,432,null,null,null,null,null,null,null,null,null,null,null,null,null,null,null,null,null,null,null,null,null,null,null,null,null,null,null,null,null,null,null,null,null,null,null,null,null,null,null,null,null,null,null,null,null,null,null,null,null,null,null,null,"未","未","未","未",0,{"$f":"IFERROR(IF(MATCH(BC437&\"/\"&BD437,③読み替え表_省エネ住宅!$G$48:$G$57,0),1,0),0)","v":0},{"$f":"IFERROR(IF(MATCH(BE437&\"/\"&BF437,③読み替え表_省エネ住宅!$G$48:$G$57,0),1,0),0)","v":0},0,"*"]
[null,433,null,null,null,null,null,null,null,null,null,null,null,null,null,null,null,null,null,null,null,null,null,null,null,null,null,null,null,null,null,null,null,null,null,null,null,null,null,null,null,null,null,null,null,null,null,null,null,null,null,null,null,null,"未","未","未","未",0,{"$f":"IFERROR(IF(MATCH(BC438&\"/\"&BD438,③読み替え表_省エネ住宅!$G$48:$G$57,0),1,0),0)","v":0},{"$f":"IFERROR(IF(MATCH(BE438&\"/\"&BF438,③読み替え表_省エネ住宅!$G$48:$G$57,0),1,0),0)","v":0},0,"*"]
[null,434,null,null,null,null,null,null,null,null,null,null,null,null,null,null,null,null,null,null,null,null,null,null,null,null,null,null,null,null,null,null,null,null,null,null,null,null,null,null,null,null,null,null,null,null,null,null,null,null,null,null,null,null,"未","未","未","未",0,{"$f":"IFERROR(IF(MATCH(BC439&\"/\"&BD439,③読み替え表_省エネ住宅!$G$48:$G$57,0),1,0),0)","v":0},{"$f":"IFERROR(IF(MATCH(BE439&\"/\"&BF439,③読み替え表_省エネ住宅!$G$48:$G$57,0),1,0),0)","v":0},0,"*"]
[null,435,null,null,null,null,null,null,null,null,null,null,null,null,null,null,null,null,null,null,null,null,null,null,null,null,null,null,null,null,null,null,null,null,null,null,null,null,null,null,null,null,null,null,null,null,null,null,null,null,null,null,null,null,"未","未","未","未",0,{"$f":"IFERROR(IF(MATCH(BC440&\"/\"&BD440,③読み替え表_省エネ住宅!$G$48:$G$57,0),1,0),0)","v":0},{"$f":"IFERROR(IF(MATCH(BE440&\"/\"&BF440,③読み替え表_省エネ住宅!$G$48:$G$57,0),1,0),0)","v":0},0,"*"]
[null,436,null,null,null,null,null,null,null,null,null,null,null,null,null,null,null,null,null,null,null,null,null,null,null,null,null,null,null,null,null,null,null,null,null,null,null,null,null,null,null,null,null,null,null,null,null,null,null,null,null,null,null,null,"未","未","未","未",0,{"$f":"IFERROR(IF(MATCH(BC441&\"/\"&BD441,③読み替え表_省エネ住宅!$G$48:$G$57,0),1,0),0)","v":0},{"$f":"IFERROR(IF(MATCH(BE441&\"/\"&BF441,③読み替え表_省エネ住宅!$G$48:$G$57,0),1,0),0)","v":0},0,"*"]
[null,437,null,null,null,null,null,null,null,null,null,null,null,null,null,null,null,null,null,null,null,null,null,null,null,null,null,null,null,null,null,null,null,null,null,null,null,null,null,null,null,null,null,null,null,null,null,null,null,null,null,null,null,null,"未","未","未","未",0,{"$f":"IFERROR(IF(MATCH(BC442&\"/\"&BD442,③読み替え表_省エネ住宅!$G$48:$G$57,0),1,0),0)","v":0},{"$f":"IFERROR(IF(MATCH(BE442&\"/\"&BF442,③読み替え表_省エネ住宅!$G$48:$G$57,0),1,0),0)","v":0},0,"*"]
[null,438,null,null,null,null,null,null,null,null,null,null,null,null,null,null,null,null,null,null,null,null,null,null,null,null,null,null,null,null,null,null,null,null,null,null,null,null,null,null,null,null,null,null,null,null,null,null,null,null,null,null,null,null,"未","未","未","未",0,{"$f":"IFERROR(IF(MATCH(BC443&\"/\"&BD443,③読み替え表_省エネ住宅!$G$48:$G$57,0),1,0),0)","v":0},{"$f":"IFERROR(IF(MATCH(BE443&\"/\"&BF443,③読み替え表_省エネ住宅!$G$48:$G$57,0),1,0),0)","v":0},0,"*"]
[null,439,null,null,null,null,null,null,null,null,null,null,null,null,null,null,null,null,null,null,null,null,null,null,null,null,null,null,null,null,null,null,null,null,null,null,null,null,null,null,null,null,null,null,null,null,null,null,null,null,null,null,null,null,"未","未","未","未",0,{"$f":"IFERROR(IF(MATCH(BC444&\"/\"&BD444,③読み替え表_省エネ住宅!$G$48:$G$57,0),1,0),0)","v":0},{"$f":"IFERROR(IF(MATCH(BE444&\"/\"&BF444,③読み替え表_省エネ住宅!$G$48:$G$57,0),1,0),0)","v":0},0,"*"]
[null,440,null,null,null,null,null,null,null,null,null,null,null,null,null,null,null,null,null,null,null,null,null,null,null,null,null,null,null,null,null,null,null,null,null,null,null,null,null,null,null,null,null,null,null,null,null,null,null,null,null,null,null,null,"未","未","未","未",0,{"$f":"IFERROR(IF(MATCH(BC445&\"/\"&BD445,③読み替え表_省エネ住宅!$G$48:$G$57,0),1,0),0)","v":0},{"$f":"IFERROR(IF(MATCH(BE445&\"/\"&BF445,③読み替え表_省エネ住宅!$G$48:$G$57,0),1,0),0)","v":0},0,"*"]
[null,441,null,null,null,null,null,null,null,null,null,null,null,null,null,null,null,null,null,null,null,null,null,null,null,null,null,null,null,null,null,null,null,null,null,null,null,null,null,null,null,null,null,null,null,null,null,null,null,null,null,null,null,null,"未","未","未","未",0,{"$f":"IFERROR(IF(MATCH(BC446&\"/\"&BD446,③読み替え表_省エネ住宅!$G$48:$G$57,0),1,0),0)","v":0},{"$f":"IFERROR(IF(MATCH(BE446&\"/\"&BF446,③読み替え表_省エネ住宅!$G$48:$G$57,0),1,0),0)","v":0},0,"*"]
[null,442,null,null,null,null,null,null,null,null,null,null,null,null,null,null,null,null,null,null,null,null,null,null,null,null,null,null,null,null,null,null,null,null,null,null,null,null,null,null,null,null,null,null,null,null,null,null,null,null,null,null,null,null,"未","未","未","未",0,{"$f":"IFERROR(IF(MATCH(BC447&\"/\"&BD447,③読み替え表_省エネ住宅!$G$48:$G$57,0),1,0),0)","v":0},{"$f":"IFERROR(IF(MATCH(BE447&\"/\"&BF447,③読み替え表_省エネ住宅!$G$48:$G$57,0),1,0),0)","v":0},0,"*"]
[null,443,null,null,null,null,null,null,null,null,null,null,null,null,null,null,null,null,null,null,null,null,null,null,null,null,null,null,null,null,null,null,null,null,null,null,null,null,null,null,null,null,null,null,null,null,null,null,null,null,null,null,null,null,"未","未","未","未",0,{"$f":"IFERROR(IF(MATCH(BC448&\"/\"&BD448,③読み替え表_省エネ住宅!$G$48:$G$57,0),1,0),0)","v":0},{"$f":"IFERROR(IF(MATCH(BE448&\"/\"&BF448,③読み替え表_省エネ住宅!$G$48:$G$57,0),1,0),0)","v":0},0,"*"]
[null,444,null,null,null,null,null,null,null,null,null,null,null,null,null,null,null,null,null,null,null,null,null,null,null,null,null,null,null,null,null,null,null,null,null,null,null,null,null,null,null,null,null,null,null,null,null,null,null,null,null,null,null,null,"未","未","未","未",0,{"$f":"IFERROR(IF(MATCH(BC449&\"/\"&BD449,③読み替え表_省エネ住宅!$G$48:$G$57,0),1,0),0)","v":0},{"$f":"IFERROR(IF(MATCH(BE449&\"/\"&BF449,③読み替え表_省エネ住宅!$G$48:$G$57,0),1,0),0)","v":0},0,"*"]
[null,445,null,null,null,null,null,null,null,null,null,null,null,null,null,null,null,null,null,null,null,null,null,null,null,null,null,null,null,null,null,null,null,null,null,null,null,null,null,null,null,null,null,null,null,null,null,null,null,null,null,null,null,null,"未","未","未","未",0,{"$f":"IFERROR(IF(MATCH(BC450&\"/\"&BD450,③読み替え表_省エネ住宅!$G$48:$G$57,0),1,0),0)","v":0},{"$f":"IFERROR(IF(MATCH(BE450&\"/\"&BF450,③読み替え表_省エネ住宅!$G$48:$G$57,0),1,0),0)","v":0},0,"*"]
[null,446,null,null,null,null,null,null,null,null,null,null,null,null,null,null,null,null,null,null,null,null,null,null,null,null,null,null,null,null,null,null,null,null,null,null,null,null,null,null,null,null,null,null,null,null,null,null,null,null,null,null,null,null,"未","未","未","未",0,{"$f":"IFERROR(IF(MATCH(BC451&\"/\"&BD451,③読み替え表_省エネ住宅!$G$48:$G$57,0),1,0),0)","v":0},{"$f":"IFERROR(IF(MATCH(BE451&\"/\"&BF451,③読み替え表_省エネ住宅!$G$48:$G$57,0),1,0),0)","v":0},0,"*"]
[null,447,null,null,null,null,null,null,null,null,null,null,null,null,null,null,null,null,null,null,null,null,null,null,null,null,null,null,null,null,null,null,null,null,null,null,null,null,null,null,null,null,null,null,null,null,null,null,null,null,null,null,null,null,"未","未","未","未",0,{"$f":"IFERROR(IF(MATCH(BC452&\"/\"&BD452,③読み替え表_省エネ住宅!$G$48:$G$57,0),1,0),0)","v":0},{"$f":"IFERROR(IF(MATCH(BE452&\"/\"&BF452,③読み替え表_省エネ住宅!$G$48:$G$57,0),1,0),0)","v":0},0,"*"]
[null,448,null,null,null,null,null,null,null,null,null,null,null,null,null,null,null,null,null,null,null,null,null,null,null,null,null,null,null,null,null,null,null,null,null,null,null,null,null,null,null,null,null,null,null,null,null,null,null,null,null,null,null,null,"未","未","未","未",0,{"$f":"IFERROR(IF(MATCH(BC453&\"/\"&BD453,③読み替え表_省エネ住宅!$G$48:$G$57,0),1,0),0)","v":0},{"$f":"IFERROR(IF(MATCH(BE453&\"/\"&BF453,③読み替え表_省エネ住宅!$G$48:$G$57,0),1,0),0)","v":0},0,"*"]
[null,449,null,null,null,null,null,null,null,null,null,null,null,null,null,null,null,null,null,null,null,null,null,null,null,null,null,null,null,null,null,null,null,null,null,null,null,null,null,null,null,null,null,null,null,null,null,null,null,null,null,null,null,null,"未","未","未","未",0,{"$f":"IFERROR(IF(MATCH(BC454&\"/\"&BD454,③読み替え表_省エネ住宅!$G$48:$G$57,0),1,0),0)","v":0},{"$f":"IFERROR(IF(MATCH(BE454&\"/\"&BF454,③読み替え表_省エネ住宅!$G$48:$G$57,0),1,0),0)","v":0},0,"*"]
[null,{"$f":"ROW()-5","v":450},null,null,null,null,null,null,null,null,null,null,null,null,null,null,null,null,null,null,null,null,null,null,null,null,null,null,null,null,null,null,null,null,null,null,null,null,null,null,null,null,null,null,null,null,null,null,null,null,null,null,null,null,{"$f":"IFERROR(IF(SUM($Q455:$U455)>1,\"複数回答\",INDEX($Q$5:$U$5,,MATCH(1,$Q455:$U455,0))),\"未\")","v":"未"},{"$f":"IFERROR(IF(SUM($AA455:$AE455)>1,\"複数回答\",INDEX($AA$5:$AE$5,,MATCH(1,$AA455:$AE455,0))),\"未\")","v":"未"},{"$f":"IFERROR(IF(SUM($V455:$Z455)>1,\"複数回答\",INDEX($V$5:$Z$5,,MATCH(1,$V455:$Z455,0))),\"未\")","v":"未"},{"$f":"IFERROR(IF(SUM($AF455:$AJ455)>1,\"複数回答\",INDEX($AF$5:$AJ$5,,MATCH(1,$AF455:$AJ455,0))),\"未\")","v":"未"},{"$f":"IF(BC455=\"複数回答\",1,IF(BD455=\"複数回答\",1,IF(BE455=\"複数回答\",1,IF(BF455=\"複数回答\",1,0))))","v":0},{"$f":"IFERROR(IF(MATCH(BC455&\"/\"&BD455,③読み替え表_省エネ住宅!$G$48:$G$57,0),1,0),0)","v":0},{"$f":"IFERROR(IF(MATCH(BE455&\"/\"&BF455,③読み替え表_省エネ住宅!$G$48:$G$57,0),1,0),0)","v":0},{"$f":"IF(SUM(BG455:BI455)>0,1,0)","v":0},"*"]
[null,451,null,null,null,null,null,null,null,null,null,null,null,null,null,null,null,null,null,null,null,null,null,null,null,null,null,null,null,null,null,null,null,null,null,null,null,null,null,null,null,null,null,null,null,null,null,null,null,null,null,null,null,null,"未","未","未","未",0,{"$f":"IFERROR(IF(MATCH(BC456&\"/\"&BD456,③読み替え表_省エネ住宅!$G$48:$G$57,0),1,0),0)","v":0},{"$f":"IFERROR(IF(MATCH(BE456&\"/\"&BF456,③読み替え表_省エネ住宅!$G$48:$G$57,0),1,0),0)","v":0},0,"*"]
[null,452,null,null,null,null,null,null,null,null,null,null,null,null,null,null,null,null,null,null,null,null,null,null,null,null,null,null,null,null,null,null,null,null,null,null,null,null,null,null,null,null,null,null,null,null,null,null,null,null,null,null,null,null,"未","未","未","未",0,{"$f":"IFERROR(IF(MATCH(BC457&\"/\"&BD457,③読み替え表_省エネ住宅!$G$48:$G$57,0),1,0),0)","v":0},{"$f":"IFERROR(IF(MATCH(BE457&\"/\"&BF457,③読み替え表_省エネ住宅!$G$48:$G$57,0),1,0),0)","v":0},0,"*"]
[null,453,null,null,null,null,null,null,null,null,null,null,null,null,null,null,null,null,null,null,null,null,null,null,null,null,null,null,null,null,null,null,null,null,null,null,null,null,null,null,null,null,null,null,null,null,null,null,null,null,null,null,null,null,"未","未","未","未",0,{"$f":"IFERROR(IF(MATCH(BC458&\"/\"&BD458,③読み替え表_省エネ住宅!$G$48:$G$57,0),1,0),0)","v":0},{"$f":"IFERROR(IF(MATCH(BE458&\"/\"&BF458,③読み替え表_省エネ住宅!$G$48:$G$57,0),1,0),0)","v":0},0,"*"]
[null,454,null,null,null,null,null,null,null,null,null,null,null,null,null,null,null,null,null,null,null,null,null,null,null,null,null,null,null,null,null,null,null,null,null,null,null,null,null,null,null,null,null,null,null,null,null,null,null,null,null,null,null,null,"未","未","未","未",0,{"$f":"IFERROR(IF(MATCH(BC459&\"/\"&BD459,③読み替え表_省エネ住宅!$G$48:$G$57,0),1,0),0)","v":0},{"$f":"IFERROR(IF(MATCH(BE459&\"/\"&BF459,③読み替え表_省エネ住宅!$G$48:$G$57,0),1,0),0)","v":0},0,"*"]
[null,455,null,null,null,null,null,null,null,null,null,null,null,null,null,null,null,null,null,null,null,null,null,null,null,null,null,null,null,null,null,null,null,null,null,null,null,null,null,null,null,null,null,null,null,null,null,null,null,null,null,null,null,null,"未","未","未","未",0,{"$f":"IFERROR(IF(MATCH(BC460&\"/\"&BD460,③読み替え表_省エネ住宅!$G$48:$G$57,0),1,0),0)","v":0},{"$f":"IFERROR(IF(MATCH(BE460&\"/\"&BF460,③読み替え表_省エネ住宅!$G$48:$G$57,0),1,0),0)","v":0},0,"*"]
[null,456,null,null,null,null,null,null,null,null,null,null,null,null,null,null,null,null,null,null,null,null,null,null,null,null,null,null,null,null,null,null,null,null,null,null,null,null,null,null,null,null,null,null,null,null,null,null,null,null,null,null,null,null,"未","未","未","未",0,{"$f":"IFERROR(IF(MATCH(BC461&\"/\"&BD461,③読み替え表_省エネ住宅!$G$48:$G$57,0),1,0),0)","v":0},{"$f":"IFERROR(IF(MATCH(BE461&\"/\"&BF461,③読み替え表_省エネ住宅!$G$48:$G$57,0),1,0),0)","v":0},0,"*"]
[null,457,null,null,null,null,null,null,null,null,null,null,null,null,null,null,null,null,null,null,null,null,null,null,null,null,null,null,null,null,null,null,null,null,null,null,null,null,null,null,null,null,null,null,null,null,null,null,null,null,null,null,null,null,"未","未","未","未",0,{"$f":"IFERROR(IF(MATCH(BC462&\"/\"&BD462,③読み替え表_省エネ住宅!$G$48:$G$57,0),1,0),0)","v":0},{"$f":"IFERROR(IF(MATCH(BE462&\"/\"&BF462,③読み替え表_省エネ住宅!$G$48:$G$57,0),1,0),0)","v":0},0,"*"]
[null,458,null,null,null,null,null,null,null,null,null,null,null,null,null,null,null,null,null,null,null,null,null,null,null,null,null,null,null,null,null,null,null,null,null,null,null,null,null,null,null,null,null,null,null,null,null,null,null,null,null,null,null,null,"未","未","未","未",0,{"$f":"IFERROR(IF(MATCH(BC463&\"/\"&BD463,③読み替え表_省エネ住宅!$G$48:$G$57,0),1,0),0)","v":0},{"$f":"IFERROR(IF(MATCH(BE463&\"/\"&BF463,③読み替え表_省エネ住宅!$G$48:$G$57,0),1,0),0)","v":0},0,"*"]
[null,459,null,null,null,null,null,null,null,null,null,null,null,null,null,null,null,null,null,null,null,null,null,null,null,null,null,null,null,null,null,null,null,null,null,null,null,null,null,null,null,null,null,null,null,null,null,null,null,null,null,null,null,null,"未","未","未","未",0,{"$f":"IFERROR(IF(MATCH(BC464&\"/\"&BD464,③読み替え表_省エネ住宅!$G$48:$G$57,0),1,0),0)","v":0},{"$f":"IFERROR(IF(MATCH(BE464&\"/\"&BF464,③読み替え表_省エネ住宅!$G$48:$G$57,0),1,0),0)","v":0},0,"*"]
[null,460,null,null,null,null,null,null,null,null,null,null,null,null,null,null,null,null,null,null,null,null,null,null,null,null,null,null,null,null,null,null,null,null,null,null,null,null,null,null,null,null,null,null,null,null,null,null,null,null,null,null,null,null,"未","未","未","未",0,{"$f":"IFERROR(IF(MATCH(BC465&\"/\"&BD465,③読み替え表_省エネ住宅!$G$48:$G$57,0),1,0),0)","v":0},{"$f":"IFERROR(IF(MATCH(BE465&\"/\"&BF465,③読み替え表_省エネ住宅!$G$48:$G$57,0),1,0),0)","v":0},0,"*"]
[null,461,null,null,null,null,null,null,null,null,null,null,null,null,null,null,null,null,null,null,null,null,null,null,null,null,null,null,null,null,null,null,null,null,null,null,null,null,null,null,null,null,null,null,null,null,null,null,null,null,null,null,null,null,"未","未","未","未",0,{"$f":"IFERROR(IF(MATCH(BC466&\"/\"&BD466,③読み替え表_省エネ住宅!$G$48:$G$57,0),1,0),0)","v":0},{"$f":"IFERROR(IF(MATCH(BE466&\"/\"&BF466,③読み替え表_省エネ住宅!$G$48:$G$57,0),1,0),0)","v":0},0,"*"]
[null,462,null,null,null,null,null,null,null,null,null,null,null,null,null,null,null,null,null,null,null,null,null,null,null,null,null,null,null,null,null,null,null,null,null,null,null,null,null,null,null,null,null,null,null,null,null,null,null,null,null,null,null,null,"未","未","未","未",0,{"$f":"IFERROR(IF(MATCH(BC467&\"/\"&BD467,③読み替え表_省エネ住宅!$G$48:$G$57,0),1,0),0)","v":0},{"$f":"IFERROR(IF(MATCH(BE467&\"/\"&BF467,③読み替え表_省エネ住宅!$G$48:$G$57,0),1,0),0)","v":0},0,"*"]
[null,463,null,null,null,null,null,null,null,null,null,null,null,null,null,null,null,null,null,null,null,null,null,null,null,null,null,null,null,null,null,null,null,null,null,null,null,null,null,null,null,null,null,null,null,null,null,null,null,null,null,null,null,null,"未","未","未","未",0,{"$f":"IFERROR(IF(MATCH(BC468&\"/\"&BD468,③読み替え表_省エネ住宅!$G$48:$G$57,0),1,0),0)","v":0},{"$f":"IFERROR(IF(MATCH(BE468&\"/\"&BF468,③読み替え表_省エネ住宅!$G$48:$G$57,0),1,0),0)","v":0},0,"*"]
[null,464,null,null,null,null,null,null,null,null,null,null,null,null,null,null,null,null,null,null,null,null,null,null,null,null,null,null,null,null,null,null,null,null,null,null,null,null,null,null,null,null,null,null,null,null,null,null,null,null,null,null,null,null,"未","未","未","未",0,{"$f":"IFERROR(IF(MATCH(BC469&\"/\"&BD469,③読み替え表_省エネ住宅!$G$48:$G$57,0),1,0),0)","v":0},{"$f":"IFERROR(IF(MATCH(BE469&\"/\"&BF469,③読み替え表_省エネ住宅!$G$48:$G$57,0),1,0),0)","v":0},0,"*"]
[null,465,null,null,null,null,null,null,null,null,null,null,null,null,null,null,null,null,null,null,null,null,null,null,null,null,null,null,null,null,null,null,null,null,null,null,null,null,null,null,null,null,null,null,null,null,null,null,null,null,null,null,null,null,"未","未","未","未",0,{"$f":"IFERROR(IF(MATCH(BC470&\"/\"&BD470,③読み替え表_省エネ住宅!$G$48:$G$57,0),1,0),0)","v":0},{"$f":"IFERROR(IF(MATCH(BE470&\"/\"&BF470,③読み替え表_省エネ住宅!$G$48:$G$57,0),1,0),0)","v":0},0,"*"]
[null,466,null,null,null,null,null,null,null,null,null,null,null,null,null,null,null,null,null,null,null,null,null,null,null,null,null,null,null,null,null,null,null,null,null,null,null,null,null,null,null,null,null,null,null,null,null,null,null,null,null,null,null,null,"未","未","未","未",0,{"$f":"IFERROR(IF(MATCH(BC471&\"/\"&BD471,③読み替え表_省エネ住宅!$G$48:$G$57,0),1,0),0)","v":0},{"$f":"IFERROR(IF(MATCH(BE471&\"/\"&BF471,③読み替え表_省エネ住宅!$G$48:$G$57,0),1,0),0)","v":0},0,"*"]
[null,467,null,null,null,null,null,null,null,null,null,null,null,null,null,null,null,null,null,null,null,null,null,null,null,null,null,null,null,null,null,null,null,null,null,null,null,null,null,null,null,null,null,null,null,null,null,null,null,null,null,null,null,null,"未","未","未","未",0,{"$f":"IFERROR(IF(MATCH(BC472&\"/\"&BD472,③読み替え表_省エネ住宅!$G$48:$G$57,0),1,0),0)","v":0},{"$f":"IFERROR(IF(MATCH(BE472&\"/\"&BF472,③読み替え表_省エネ住宅!$G$48:$G$57,0),1,0),0)","v":0},0,"*"]
[null,468,null,null,null,null,null,null,null,null,null,null,null,null,null,null,null,null,null,null,null,null,null,null,null,null,null,null,null,null,null,null,null,null,null,null,null,null,null,null,null,null,null,null,null,null,null,null,null,null,null,null,null,null,"未","未","未","未",0,{"$f":"IFERROR(IF(MATCH(BC473&\"/\"&BD473,③読み替え表_省エネ住宅!$G$48:$G$57,0),1,0),0)","v":0},{"$f":"IFERROR(IF(MATCH(BE473&\"/\"&BF473,③読み替え表_省エネ住宅!$G$48:$G$57,0),1,0),0)","v":0},0,"*"]
[null,469,null,null,null,null,null,null,null,null,null,null,null,null,null,null,null,null,null,null,null,null,null,null,null,null,null,null,null,null,null,null,null,null,null,null,null,null,null,null,null,null,null,null,null,null,null,null,null,null,null,null,null,null,"未","未","未","未",0,{"$f":"IFERROR(IF(MATCH(BC474&\"/\"&BD474,③読み替え表_省エネ住宅!$G$48:$G$57,0),1,0),0)","v":0},{"$f":"IFERROR(IF(MATCH(BE474&\"/\"&BF474,③読み替え表_省エネ住宅!$G$48:$G$57,0),1,0),0)","v":0},0,"*"]
[null,470,null,null,null,null,null,null,null,null,null,null,null,null,null,null,null,null,null,null,null,null,null,null,null,null,null,null,null,null,null,null,null,null,null,null,null,null,null,null,null,null,null,null,null,null,null,null,null,null,null,null,null,null,"未","未","未","未",0,{"$f":"IFERROR(IF(MATCH(BC475&\"/\"&BD475,③読み替え表_省エネ住宅!$G$48:$G$57,0),1,0),0)","v":0},{"$f":"IFERROR(IF(MATCH(BE475&\"/\"&BF475,③読み替え表_省エネ住宅!$G$48:$G$57,0),1,0),0)","v":0},0,"*"]
[null,471,null,null,null,null,null,null,null,null,null,null,null,null,null,null,null,null,null,null,null,null,null,null,null,null,null,null,null,null,null,null,null,null,null,null,null,null,null,null,null,null,null,null,null,null,null,null,null,null,null,null,null,null,"未","未","未","未",0,{"$f":"IFERROR(IF(MATCH(BC476&\"/\"&BD476,③読み替え表_省エネ住宅!$G$48:$G$57,0),1,0),0)","v":0},{"$f":"IFERROR(IF(MATCH(BE476&\"/\"&BF476,③読み替え表_省エネ住宅!$G$48:$G$57,0),1,0),0)","v":0},0,"*"]
[null,472,null,null,null,null,null,null,null,null,null,null,null,null,null,null,null,null,null,null,null,null,null,null,null,null,null,null,null,null,null,null,null,null,null,null,null,null,null,null,null,null,null,null,null,null,null,null,null,null,null,null,null,null,"未","未","未","未",0,{"$f":"IFERROR(IF(MATCH(BC477&\"/\"&BD477,③読み替え表_省エネ住宅!$G$48:$G$57,0),1,0),0)","v":0},{"$f":"IFERROR(IF(MATCH(BE477&\"/\"&BF477,③読み替え表_省エネ住宅!$G$48:$G$57,0),1,0),0)","v":0},0,"*"]
[null,473,null,null,null,null,null,null,null,null,null,null,null,null,null,null,null,null,null,null,null,null,null,null,null,null,null,null,null,null,null,null,null,null,null,null,null,null,null,null,null,null,null,null,null,null,null,null,null,null,null,null,null,null,"未","未","未","未",0,{"$f":"IFERROR(IF(MATCH(BC478&\"/\"&BD478,③読み替え表_省エネ住宅!$G$48:$G$57,0),1,0),0)","v":0},{"$f":"IFERROR(IF(MATCH(BE478&\"/\"&BF478,③読み替え表_省エネ住宅!$G$48:$G$57,0),1,0),0)","v":0},0,"*"]
[null,474,null,null,null,null,null,null,null,null,null,null,null,null,null,null,null,null,null,null,null,null,null,null,null,null,null,null,null,null,null,null,null,null,null,null,null,null,null,null,null,null,null,null,null,null,null,null,null,null,null,null,null,null,"未","未","未","未",0,{"$f":"IFERROR(IF(MATCH(BC479&\"/\"&BD479,③読み替え表_省エネ住宅!$G$48:$G$57,0),1,0),0)","v":0},{"$f":"IFERROR(IF(MATCH(BE479&\"/\"&BF479,③読み替え表_省エネ住宅!$G$48:$G$57,0),1,0),0)","v":0},0,"*"]
[null,475,null,null,null,null,null,null,null,null,null,null,null,null,null,null,null,null,null,null,null,null,null,null,null,null,null,null,null,null,null,null,null,null,null,null,null,null,null,null,null,null,null,null,null,null,null,null,null,null,null,null,null,null,"未","未","未","未",0,{"$f":"IFERROR(IF(MATCH(BC480&\"/\"&BD480,③読み替え表_省エネ住宅!$G$48:$G$57,0),1,0),0)","v":0},{"$f":"IFERROR(IF(MATCH(BE480&\"/\"&BF480,③読み替え表_省エネ住宅!$G$48:$G$57,0),1,0),0)","v":0},0,"*"]
[null,476,null,null,null,null,null,null,null,null,null,null,null,null,null,null,null,null,null,null,null,null,null,null,null,null,null,null,null,null,null,null,null,null,null,null,null,null,null,null,null,null,null,null,null,null,null,null,null,null,null,null,null,null,"未","未","未","未",0,{"$f":"IFERROR(IF(MATCH(BC481&\"/\"&BD481,③読み替え表_省エネ住宅!$G$48:$G$57,0),1,0),0)","v":0},{"$f":"IFERROR(IF(MATCH(BE481&\"/\"&BF481,③読み替え表_省エネ住宅!$G$48:$G$57,0),1,0),0)","v":0},0,"*"]
[null,477,null,null,null,null,null,null,null,null,null,null,null,null,null,null,null,null,null,null,null,null,null,null,null,null,null,null,null,null,null,null,null,null,null,null,null,null,null,null,null,null,null,null,null,null,null,null,null,null,null,null,null,null,"未","未","未","未",0,{"$f":"IFERROR(IF(MATCH(BC482&\"/\"&BD482,③読み替え表_省エネ住宅!$G$48:$G$57,0),1,0),0)","v":0},{"$f":"IFERROR(IF(MATCH(BE482&\"/\"&BF482,③読み替え表_省エネ住宅!$G$48:$G$57,0),1,0),0)","v":0},0,"*"]
[null,478,null,null,null,null,null,null,null,null,null,null,null,null,null,null,null,null,null,null,null,null,null,null,null,null,null,null,null,null,null,null,null,null,null,null,null,null,null,null,null,null,null,null,null,null,null,null,null,null,null,null,null,null,"未","未","未","未",0,{"$f":"IFERROR(IF(MATCH(BC483&\"/\"&BD483,③読み替え表_省エネ住宅!$G$48:$G$57,0),1,0),0)","v":0},{"$f":"IFERROR(IF(MATCH(BE483&\"/\"&BF483,③読み替え表_省エネ住宅!$G$48:$G$57,0),1,0),0)","v":0},0,"*"]
[null,479,null,null,null,null,null,null,null,null,null,null,null,null,null,null,null,null,null,null,null,null,null,null,null,null,null,null,null,null,null,null,null,null,null,null,null,null,null,null,null,null,null,null,null,null,null,null,null,null,null,null,null,null,"未","未","未","未",0,{"$f":"IFERROR(IF(MATCH(BC484&\"/\"&BD484,③読み替え表_省エネ住宅!$G$48:$G$57,0),1,0),0)","v":0},{"$f":"IFERROR(IF(MATCH(BE484&\"/\"&BF484,③読み替え表_省エネ住宅!$G$48:$G$57,0),1,0),0)","v":0},0,"*"]
[null,480,null,null,null,null,null,null,null,null,null,null,null,null,null,null,null,null,null,null,null,null,null,null,null,null,null,null,null,null,null,null,null,null,null,null,null,null,null,null,null,null,null,null,null,null,null,null,null,null,null,null,null,null,"未","未","未","未",0,{"$f":"IFERROR(IF(MATCH(BC485&\"/\"&BD485,③読み替え表_省エネ住宅!$G$48:$G$57,0),1,0),0)","v":0},{"$f":"IFERROR(IF(MATCH(BE485&\"/\"&BF485,③読み替え表_省エネ住宅!$G$48:$G$57,0),1,0),0)","v":0},0,"*"]
[null,481,null,null,null,null,null,null,null,null,null,null,null,null,null,null,null,null,null,null,null,null,null,null,null,null,null,null,null,null,null,null,null,null,null,null,null,null,null,null,null,null,null,null,null,null,null,null,null,null,null,null,null,null,"未","未","未","未",0,{"$f":"IFERROR(IF(MATCH(BC486&\"/\"&BD486,③読み替え表_省エネ住宅!$G$48:$G$57,0),1,0),0)","v":0},{"$f":"IFERROR(IF(MATCH(BE486&\"/\"&BF486,③読み替え表_省エネ住宅!$G$48:$G$57,0),1,0),0)","v":0},0,"*"]
[null,482,null,null,null,null,null,null,null,null,null,null,null,null,null,null,null,null,null,null,null,null,null,null,null,null,null,null,null,null,null,null,null,null,null,null,null,null,null,null,null,null,null,null,null,null,null,null,null,null,null,null,null,null,"未","未","未","未",0,{"$f":"IFERROR(IF(MATCH(BC487&\"/\"&BD487,③読み替え表_省エネ住宅!$G$48:$G$57,0),1,0),0)","v":0},{"$f":"IFERROR(IF(MATCH(BE487&\"/\"&BF487,③読み替え表_省エネ住宅!$G$48:$G$57,0),1,0),0)","v":0},0,"*"]
[null,483,null,null,null,null,null,null,null,null,null,null,null,null,null,null,null,null,null,null,null,null,null,null,null,null,null,null,null,null,null,null,null,null,null,null,null,null,null,null,null,null,null,null,null,null,null,null,null,null,null,null,null,null,"未","未","未","未",0,{"$f":"IFERROR(IF(MATCH(BC488&\"/\"&BD488,③読み替え表_省エネ住宅!$G$48:$G$57,0),1,0),0)","v":0},{"$f":"IFERROR(IF(MATCH(BE488&\"/\"&BF488,③読み替え表_省エネ住宅!$G$48:$G$57,0),1,0),0)","v":0},0,"*"]
[null,484,null,null,null,null,null,null,null,null,null,null,null,null,null,null,null,null,null,null,null,null,null,null,null,null,null,null,null,null,null,null,null,null,null,null,null,null,null,null,null,null,null,null,null,null,null,null,null,null,null,null,null,null,"未","未","未","未",0,{"$f":"IFERROR(IF(MATCH(BC489&\"/\"&BD489,③読み替え表_省エネ住宅!$G$48:$G$57,0),1,0),0)","v":0},{"$f":"IFERROR(IF(MATCH(BE489&\"/\"&BF489,③読み替え表_省エネ住宅!$G$48:$G$57,0),1,0),0)","v":0},0,"*"]
[null,485,null,null,null,null,null,null,null,null,null,null,null,null,null,null,null,null,null,null,null,null,null,null,null,null,null,null,null,null,null,null,null,null,null,null,null,null,null,null,null,null,null,null,null,null,null,null,null,null,null,null,null,null,"未","未","未","未",0,{"$f":"IFERROR(IF(MATCH(BC490&\"/\"&BD490,③読み替え表_省エネ住宅!$G$48:$G$57,0),1,0),0)","v":0},{"$f":"IFERROR(IF(MATCH(BE490&\"/\"&BF490,③読み替え表_省エネ住宅!$G$48:$G$57,0),1,0),0)","v":0},0,"*"]
[null,486,null,null,null,null,null,null,null,null,null,null,null,null,null,null,null,null,null,null,null,null,null,null,null,null,null,null,null,null,null,null,null,null,null,null,null,null,null,null,null,null,null,null,null,null,null,null,null,null,null,null,null,null,"未","未","未","未",0,{"$f":"IFERROR(IF(MATCH(BC491&\"/\"&BD491,③読み替え表_省エネ住宅!$G$48:$G$57,0),1,0),0)","v":0},{"$f":"IFERROR(IF(MATCH(BE491&\"/\"&BF491,③読み替え表_省エネ住宅!$G$48:$G$57,0),1,0),0)","v":0},0,"*"]
[null,487,null,null,null,null,null,null,null,null,null,null,null,null,null,null,null,null,null,null,null,null,null,null,null,null,null,null,null,null,null,null,null,null,null,null,null,null,null,null,null,null,null,null,null,null,null,null,null,null,null,null,null,null,"未","未","未","未",0,{"$f":"IFERROR(IF(MATCH(BC492&\"/\"&BD492,③読み替え表_省エネ住宅!$G$48:$G$57,0),1,0),0)","v":0},{"$f":"IFERROR(IF(MATCH(BE492&\"/\"&BF492,③読み替え表_省エネ住宅!$G$48:$G$57,0),1,0),0)","v":0},0,"*"]
[null,488,null,null,null,null,null,null,null,null,null,null,null,null,null,null,null,null,null,null,null,null,null,null,null,null,null,null,null,null,null,null,null,null,null,null,null,null,null,null,null,null,null,null,null,null,null,null,null,null,null,null,null,null,"未","未","未","未",0,{"$f":"IFERROR(IF(MATCH(BC493&\"/\"&BD493,③読み替え表_省エネ住宅!$G$48:$G$57,0),1,0),0)","v":0},{"$f":"IFERROR(IF(MATCH(BE493&\"/\"&BF493,③読み替え表_省エネ住宅!$G$48:$G$57,0),1,0),0)","v":0},0,"*"]
[null,489,null,null,null,null,null,null,null,null,null,null,null,null,null,null,null,null,null,null,null,null,null,null,null,null,null,null,null,null,null,null,null,null,null,null,null,null,null,null,null,null,null,null,null,null,null,null,null,null,null,null,null,null,"未","未","未","未",0,{"$f":"IFERROR(IF(MATCH(BC494&\"/\"&BD494,③読み替え表_省エネ住宅!$G$48:$G$57,0),1,0),0)","v":0},{"$f":"IFERROR(IF(MATCH(BE494&\"/\"&BF494,③読み替え表_省エネ住宅!$G$48:$G$57,0),1,0),0)","v":0},0,"*"]
[null,490,null,null,null,null,null,null,null,null,null,null,null,null,null,null,null,null,null,null,null,null,null,null,null,null,null,null,null,null,null,null,null,null,null,null,null,null,null,null,null,null,null,null,null,null,null,null,null,null,null,null,null,null,"未","未","未","未",0,{"$f":"IFERROR(IF(MATCH(BC495&\"/\"&BD495,③読み替え表_省エネ住宅!$G$48:$G$57,0),1,0),0)","v":0},{"$f":"IFERROR(IF(MATCH(BE495&\"/\"&BF495,③読み替え表_省エネ住宅!$G$48:$G$57,0),1,0),0)","v":0},0,"*"]
[null,491,null,null,null,null,null,null,null,null,null,null,null,null,null,null,null,null,null,null,null,null,null,null,null,null,null,null,null,null,null,null,null,null,null,null,null,null,null,null,null,null,null,null,null,null,null,null,null,null,null,null,null,null,"未","未","未","未",0,{"$f":"IFERROR(IF(MATCH(BC496&\"/\"&BD496,③読み替え表_省エネ住宅!$G$48:$G$57,0),1,0),0)","v":0},{"$f":"IFERROR(IF(MATCH(BE496&\"/\"&BF496,③読み替え表_省エネ住宅!$G$48:$G$57,0),1,0),0)","v":0},0,"*"]
[null,492,null,null,null,null,null,null,null,null,null,null,null,null,null,null,null,null,null,null,null,null,null,null,null,null,null,null,null,null,null,null,null,null,null,null,null,null,null,null,null,null,null,null,null,null,null,null,null,null,null,null,null,null,"未","未","未","未",0,{"$f":"IFERROR(IF(MATCH(BC497&\"/\"&BD497,③読み替え表_省エネ住宅!$G$48:$G$57,0),1,0),0)","v":0},{"$f":"IFERROR(IF(MATCH(BE497&\"/\"&BF497,③読み替え表_省エネ住宅!$G$48:$G$57,0),1,0),0)","v":0},0,"*"]
[null,493,null,null,null,null,null,null,null,null,null,null,null,null,null,null,null,null,null,null,null,null,null,null,null,null,null,null,null,null,null,null,null,null,null,null,null,null,null,null,null,null,null,null,null,null,null,null,null,null,null,null,null,null,"未","未","未","未",0,{"$f":"IFERROR(IF(MATCH(BC498&\"/\"&BD498,③読み替え表_省エネ住宅!$G$48:$G$57,0),1,0),0)","v":0},{"$f":"IFERROR(IF(MATCH(BE498&\"/\"&BF498,③読み替え表_省エネ住宅!$G$48:$G$57,0),1,0),0)","v":0},0,"*"]
[null,494,null,null,null,null,null,null,null,null,null,null,null,null,null,null,null,null,null,null,null,null,null,null,null,null,null,null,null,null,null,null,null,null,null,null,null,null,null,null,null,null,null,null,null,null,null,null,null,null,null,null,null,null,"未","未","未","未",0,{"$f":"IFERROR(IF(MATCH(BC499&\"/\"&BD499,③読み替え表_省エネ住宅!$G$48:$G$57,0),1,0),0)","v":0},{"$f":"IFERROR(IF(MATCH(BE499&\"/\"&BF499,③読み替え表_省エネ住宅!$G$48:$G$57,0),1,0),0)","v":0},0,"*"]
[null,495,null,null,null,null,null,null,null,null,null,null,null,null,null,null,null,null,null,null,null,null,null,null,null,null,null,null,null,null,null,null,null,null,null,null,null,null,null,null,null,null,null,null,null,null,null,null,null,null,null,null,null,null,"未","未","未","未",0,{"$f":"IFERROR(IF(MATCH(BC500&\"/\"&BD500,③読み替え表_省エネ住宅!$G$48:$G$57,0),1,0),0)","v":0},{"$f":"IFERROR(IF(MATCH(BE500&\"/\"&BF500,③読み替え表_省エネ住宅!$G$48:$G$57,0),1,0),0)","v":0},0,"*"]
[null,497,null,null,null,null,null,null,null,null,null,null,null,null,null,null,null,null,null,null,null,null,null,null,null,null,null,null,null,null,null,null,null,null,null,null,null,null,null,null,null,null,null,null,null,null,null,null,null,null,null,null,null,null,"未","未","未","未",0,{"$f":"IFERROR(IF(MATCH(BC502&\"/\"&BD502,③読み替え表_省エネ住宅!$G$48:$G$57,0),1,0),0)","v":0},{"$f":"IFERROR(IF(MATCH(BE502&\"/\"&BF502,③読み替え表_省エネ住宅!$G$48:$G$57,0),1,0),0)","v":0},0,"*"]
[null,499,null,null,null,null,null,null,null,null,null,null,null,null,null,null,null,null,null,null,null,null,null,null,null,null,null,null,null,null,null,null,null,null,null,null,null,null,null,null,null,null,null,null,null,null,null,null,null,null,null,null,null,null,"未","未","未","未",0,{"$f":"IFERROR(IF(MATCH(BC504&\"/\"&BD504,③読み替え表_省エネ住宅!$G$48:$G$57,0),1,0),0)","v":0},{"$f":"IFERROR(IF(MATCH(BE504&\"/\"&BF504,③読み替え表_省エネ住宅!$G$48:$G$57,0),1,0),0)","v":0},0,"*"]
[null,502,null,null,null,null,null,null,null,null,null,null,null,null,null,null,null,null,null,null,null,null,null,null,null,null,null,null,null,null,null,null,null,null,null,null,null,null,null,null,null,null,null,null,null,null,null,null,null,null,null,null,null,null,"未","未","未","未",0,{"$f":"IFERROR(IF(MATCH(BC507&\"/\"&BD507,③読み替え表_省エネ住宅!$G$48:$G$57,0),1,0),0)","v":0},{"$f":"IFERROR(IF(MATCH(BE507&\"/\"&BF507,③読み替え表_省エネ住宅!$G$48:$G$57,0),1,0),0)","v":0},0,"*"]
[null,506,null,null,null,null,null,null,null,null,null,null,null,null,null,null,null,null,null,null,null,null,null,null,null,null,null,null,null,null,null,null,null,null,null,null,null,null,null,null,null,null,null,null,null,null,null,null,null,null,null,null,null,null,"未","未","未","未",0,{"$f":"IFERROR(IF(MATCH(BC511&\"/\"&BD511,③読み替え表_省エネ住宅!$G$48:$G$57,0),1,0),0)","v":0},{"$f":"IFERROR(IF(MATCH(BE511&\"/\"&BF511,③読み替え表_省エネ住宅!$G$48:$G$57,0),1,0),0)","v":0},0,"*"]
[null,508,null,null,null,null,null,null,null,null,null,null,null,null,null,null,null,null,null,null,null,null,null,null,null,null,null,null,null,null,null,null,null,null,null,null,null,null,null,null,null,null,null,null,null,null,null,null,null,null,null,null,null,null,"未","未","未","未",0,{"$f":"IFERROR(IF(MATCH(BC513&\"/\"&BD513,③読み替え表_省エネ住宅!$G$48:$G$57,0),1,0),0)","v":0},{"$f":"IFERROR(IF(MATCH(BE513&\"/\"&BF513,③読み替え表_省エネ住宅!$G$48:$G$57,0),1,0),0)","v":0},0,"*"]
[null,511,null,null,null,null,null,null,null,null,null,null,null,null,null,null,null,null,null,null,null,null,null,null,null,null,null,null,null,null,null,null,null,null,null,null,null,null,null,null,null,null,null,null,null,null,null,null,null,null,null,null,null,null,"未","未","未","未",0,{"$f":"IFERROR(IF(MATCH(BC516&\"/\"&BD516,③読み替え表_省エネ住宅!$G$48:$G$57,0),1,0),0)","v":0},{"$f":"IFERROR(IF(MATCH(BE516&\"/\"&BF516,③読み替え表_省エネ住宅!$G$48:$G$57,0),1,0),0)","v":0},0,"*"]
[null,512,null,null,null,null,null,null,null,null,null,null,null,null,null,null,null,null,null,null,null,null,null,null,null,null,null,null,null,null,null,null,null,null,null,null,null,null,null,null,null,null,null,null,null,null,null,null,null,null,null,null,null,null,"未","未","未","未",0,{"$f":"IFERROR(IF(MATCH(BC517&\"/\"&BD517,③読み替え表_省エネ住宅!$G$48:$G$57,0),1,0),0)","v":0},{"$f":"IFERROR(IF(MATCH(BE517&\"/\"&BF517,③読み替え表_省エネ住宅!$G$48:$G$57,0),1,0),0)","v":0},0,"*"]
[null,515,null,null,null,null,null,null,null,null,null,null,null,null,null,null,null,null,null,null,null,null,null,null,null,null,null,null,null,null,null,null,null,null,null,null,null,null,null,null,null,null,null,null,null,null,null,null,null,null,null,null,null,null,"未","未","未","未",0,{"$f":"IFERROR(IF(MATCH(BC520&\"/\"&BD520,③読み替え表_省エネ住宅!$G$48:$G$57,0),1,0),0)","v":0},{"$f":"IFERROR(IF(MATCH(BE520&\"/\"&BF520,③読み替え表_省エネ住宅!$G$48:$G$57,0),1,0),0)","v":0},0,"*"]
[null,519,null,null,null,null,null,null,null,null,null,null,null,null,null,null,null,null,null,null,null,null,null,null,null,null,null,null,null,null,null,null,null,null,null,null,null,null,null,null,null,null,null,null,null,null,null,null,null,null,null,null,null,null,"未","未","未","未",0,{"$f":"IFERROR(IF(MATCH(BC524&\"/\"&BD524,③読み替え表_省エネ住宅!$G$48:$G$57,0),1,0),0)","v":0},{"$f":"IFERROR(IF(MATCH(BE524&\"/\"&BF524,③読み替え表_省エネ住宅!$G$48:$G$57,0),1,0),0)","v":0},0,"*"]
[null,521,null,null,null,null,null,null,null,null,null,null,null,null,null,null,null,null,null,null,null,null,null,null,null,null,null,null,null,null,null,null,null,null,null,null,null,null,null,null,null,null,null,null,null,null,null,null,null,null,null,null,null,null,"未","未","未","未",0,{"$f":"IFERROR(IF(MATCH(BC526&\"/\"&BD526,③読み替え表_省エネ住宅!$G$48:$G$57,0),1,0),0)","v":0},{"$f":"IFERROR(IF(MATCH(BE526&\"/\"&BF526,③読み替え表_省エネ住宅!$G$48:$G$57,0),1,0),0)","v":0},0,"*"]
[null,524,null,null,null,null,null,null,null,null,null,null,null,null,null,null,null,null,null,null,null,null,null,null,null,null,null,null,null,null,null,null,null,null,null,null,null,null,null,null,null,null,null,null,null,null,null,null,null,null,null,null,null,null,"未","未","未","未",0,{"$f":"IFERROR(IF(MATCH(BC529&\"/\"&BD529,③読み替え表_省エネ住宅!$G$48:$G$57,0),1,0),0)","v":0},{"$f":"IFERROR(IF(MATCH(BE529&\"/\"&BF529,③読み替え表_省エネ住宅!$G$48:$G$57,0),1,0),0)","v":0},0,"*"]
[null,528,null,null,null,null,null,null,null,null,null,null,null,null,null,null,null,null,null,null,null,null,null,null,null,null,null,null,null,null,null,null,null,null,null,null,null,null,null,null,null,null,null,null,null,null,null,null,null,null,null,null,null,null,"未","未","未","未",0,{"$f":"IFERROR(IF(MATCH(BC533&\"/\"&BD533,③読み替え表_省エネ住宅!$G$48:$G$57,0),1,0),0)","v":0},{"$f":"IFERROR(IF(MATCH(BE533&\"/\"&BF533,③読み替え表_省エネ住宅!$G$48:$G$57,0),1,0),0)","v":0},0,"*"]
[null,530,null,null,null,null,null,null,null,null,null,null,null,null,null,null,null,null,null,null,null,null,null,null,null,null,null,null,null,null,null,null,null,null,null,null,null,null,null,null,null,null,null,null,null,null,null,null,null,null,null,null,null,null,"未","未","未","未",0,{"$f":"IFERROR(IF(MATCH(BC535&\"/\"&BD535,③読み替え表_省エネ住宅!$G$48:$G$57,0),1,0),0)","v":0},{"$f":"IFERROR(IF(MATCH(BE535&\"/\"&BF535,③読み替え表_省エネ住宅!$G$48:$G$57,0),1,0),0)","v":0},0,"*"]
[null,533,null,null,null,null,null,null,null,null,null,null,null,null,null,null,null,null,null,null,null,null,null,null,null,null,null,null,null,null,null,null,null,null,null,null,null,null,null,null,null,null,null,null,null,null,null,null,null,null,null,null,null,null,"未","未","未","未",0,{"$f":"IFERROR(IF(MATCH(BC538&\"/\"&BD538,③読み替え表_省エネ住宅!$G$48:$G$57,0),1,0),0)","v":0},{"$f":"IFERROR(IF(MATCH(BE538&\"/\"&BF538,③読み替え表_省エネ住宅!$G$48:$G$57,0),1,0),0)","v":0},0,"*"]
[null,534,null,null,null,null,null,null,null,null,null,null,null,null,null,null,null,null,null,null,null,null,null,null,null,null,null,null,null,null,null,null,null,null,null,null,null,null,null,null,null,null,null,null,null,null,null,null,null,null,null,null,null,null,"未","未","未","未",0,{"$f":"IFERROR(IF(MATCH(BC539&\"/\"&BD539,③読み替え表_省エネ住宅!$G$48:$G$57,0),1,0),0)","v":0},{"$f":"IFERROR(IF(MATCH(BE539&\"/\"&BF539,③読み替え表_省エネ住宅!$G$48:$G$57,0),1,0),0)","v":0},0,"*"]
[null,537,null,null,null,null,null,null,null,null,null,null,null,null,null,null,null,null,null,null,null,null,null,null,null,null,null,null,null,null,null,null,null,null,null,null,null,null,null,null,null,null,null,null,null,null,null,null,null,null,null,null,null,null,"未","未","未","未",0,{"$f":"IFERROR(IF(MATCH(BC542&\"/\"&BD542,③読み替え表_省エネ住宅!$G$48:$G$57,0),1,0),0)","v":0},{"$f":"IFERROR(IF(MATCH(BE542&\"/\"&BF542,③読み替え表_省エネ住宅!$G$48:$G$57,0),1,0),0)","v":0},0,"*"]
[null,541,null,null,null,null,null,null,null,null,null,null,null,null,null,null,null,null,null,null,null,null,null,null,null,null,null,null,null,null,null,null,null,null,null,null,null,null,null,null,null,null,null,null,null,null,null,null,null,null,null,null,null,null,"未","未","未","未",0,{"$f":"IFERROR(IF(MATCH(BC546&\"/\"&BD546,③読み替え表_省エネ住宅!$G$48:$G$57,0),1,0),0)","v":0},{"$f":"IFERROR(IF(MATCH(BE546&\"/\"&BF546,③読み替え表_省エネ住宅!$G$48:$G$57,0),1,0),0)","v":0},0,"*"]
[null,543,null,null,null,null,null,null,null,null,null,null,null,null,null,null,null,null,null,null,null,null,null,null,null,null,null,null,null,null,null,null,null,null,null,null,null,null,null,null,null,null,null,null,null,null,null,null,null,null,null,null,null,null,"未","未","未","未",0,{"$f":"IFERROR(IF(MATCH(BC548&\"/\"&BD548,③読み替え表_省エネ住宅!$G$48:$G$57,0),1,0),0)","v":0},{"$f":"IFERROR(IF(MATCH(BE548&\"/\"&BF548,③読み替え表_省エネ住宅!$G$48:$G$57,0),1,0),0)","v":0},0,"*"]
[null,546,null,null,null,null,null,null,null,null,null,null,null,null,null,null,null,null,null,null,null,null,null,null,null,null,null,null,null,null,null,null,null,null,null,null,null,null,null,null,null,null,null,null,null,null,null,null,null,null,null,null,null,null,"未","未","未","未",0,{"$f":"IFERROR(IF(MATCH(BC551&\"/\"&BD551,③読み替え表_省エネ住宅!$G$48:$G$57,0),1,0),0)","v":0},{"$f":"IFERROR(IF(MATCH(BE551&\"/\"&BF551,③読み替え表_省エネ住宅!$G$48:$G$57,0),1,0),0)","v":0},0,"*"]
[null,550,null,null,null,null,null,null,null,null,null,null,null,null,null,null,null,null,null,null,null,null,null,null,null,null,null,null,null,null,null,null,null,null,null,null,null,null,null,null,null,null,null,null,null,null,null,null,null,null,null,null,null,null,"未","未","未","未",0,{"$f":"IFERROR(IF(MATCH(BC555&\"/\"&BD555,③読み替え表_省エネ住宅!$G$48:$G$57,0),1,0),0)","v":0},{"$f":"IFERROR(IF(MATCH(BE555&\"/\"&BF555,③読み替え表_省エネ住宅!$G$48:$G$57,0),1,0),0)","v":0},0,"*"]
[null,553,null,null,null,null,null,null,null,null,null,null,null,null,null,null,null,null,null,null,null,null,null,null,null,null,null,null,null,null,null,null,null,null,null,null,null,null,null,null,null,null,null,null,null,null,null,null,null,null,null,null,null,null,"未","未","未","未",0,{"$f":"IFERROR(IF(MATCH(BC558&\"/\"&BD558,③読み替え表_省エネ住宅!$G$48:$G$57,0),1,0),0)","v":0},{"$f":"IFERROR(IF(MATCH(BE558&\"/\"&BF558,③読み替え表_省エネ住宅!$G$48:$G$57,0),1,0),0)","v":0},0,"*"]
[null,554,null,null,null,null,null,null,null,null,null,null,null,null,null,null,null,null,null,null,null,null,null,null,null,null,null,null,null,null,null,null,null,null,null,null,null,null,null,null,null,null,null,null,null,null,null,null,null,null,null,null,null,null,"未","未","未","未",0,{"$f":"IFERROR(IF(MATCH(BC559&\"/\"&BD559,③読み替え表_省エネ住宅!$G$48:$G$57,0),1,0),0)","v":0},{"$f":"IFERROR(IF(MATCH(BE559&\"/\"&BF559,③読み替え表_省エネ住宅!$G$48:$G$57,0),1,0),0)","v":0},0,"*"]
[null,556,null,null,null,null,null,null,null,null,null,null,null,null,null,null,null,null,null,null,null,null,null,null,null,null,null,null,null,null,null,null,null,null,null,null,null,null,null,null,null,null,null,null,null,null,null,null,null,null,null,null,null,null,"未","未","未","未",0,{"$f":"IFERROR(IF(MATCH(BC561&\"/\"&BD561,③読み替え表_省エネ住宅!$G$48:$G$57,0),1,0),0)","v":0},{"$f":"IFERROR(IF(MATCH(BE561&\"/\"&BF561,③読み替え表_省エネ住宅!$G$48:$G$57,0),1,0),0)","v":0},0,"*"]
[null,559,null,null,null,null,null,null,null,null,null,null,null,null,null,null,null,null,null,null,null,null,null,null,null,null,null,null,null,null,null,null,null,null,null,null,null,null,null,null,null,null,null,null,null,null,null,null,null,null,null,null,null,null,"未","未","未","未",0,{"$f":"IFERROR(IF(MATCH(BC564&\"/\"&BD564,③読み替え表_省エネ住宅!$G$48:$G$57,0),1,0),0)","v":0},{"$f":"IFERROR(IF(MATCH(BE564&\"/\"&BF564,③読み替え表_省エネ住宅!$G$48:$G$57,0),1,0),0)","v":0},0,"*"]
[null,563,null,null,null,null,null,null,null,null,null,null,null,null,null,null,null,null,null,null,null,null,null,null,null,null,null,null,null,null,null,null,null,null,null,null,null,null,null,null,null,null,null,null,null,null,null,null,null,null,null,null,null,null,"未","未","未","未",0,{"$f":"IFERROR(IF(MATCH(BC568&\"/\"&BD568,③読み替え表_省エネ住宅!$G$48:$G$57,0),1,0),0)","v":0},{"$f":"IFERROR(IF(MATCH(BE568&\"/\"&BF568,③読み替え表_省エネ住宅!$G$48:$G$57,0),1,0),0)","v":0},0,"*"]
[null,565,null,null,null,null,null,null,null,null,null,null,null,null,null,null,null,null,null,null,null,null,null,null,null,null,null,null,null,null,null,null,null,null,null,null,null,null,null,null,null,null,null,null,null,null,null,null,null,null,null,null,null,null,"未","未","未","未",0,{"$f":"IFERROR(IF(MATCH(BC570&\"/\"&BD570,③読み替え表_省エネ住宅!$G$48:$G$57,0),1,0),0)","v":0},{"$f":"IFERROR(IF(MATCH(BE570&\"/\"&BF570,③読み替え表_省エネ住宅!$G$48:$G$57,0),1,0),0)","v":0},0,"*"]
[null,568,null,null,null,null,null,null,null,null,null,null,null,null,null,null,null,null,null,null,null,null,null,null,null,null,null,null,null,null,null,null,null,null,null,null,null,null,null,null,null,null,null,null,null,null,null,null,null,null,null,null,null,null,"未","未","未","未",0,{"$f":"IFERROR(IF(MATCH(BC573&\"/\"&BD573,③読み替え表_省エネ住宅!$G$48:$G$57,0),1,0),0)","v":0},{"$f":"IFERROR(IF(MATCH(BE573&\"/\"&BF573,③読み替え表_省エネ住宅!$G$48:$G$57,0),1,0),0)","v":0},0,"*"]
[null,572,null,null,null,null,null,null,null,null,null,null,null,null,null,null,null,null,null,null,null,null,null,null,null,null,null,null,null,null,null,null,null,null,null,null,null,null,null,null,null,null,null,null,null,null,null,null,null,null,null,null,null,null,"未","未","未","未",0,{"$f":"IFERROR(IF(MATCH(BC577&\"/\"&BD577,③読み替え表_省エネ住宅!$G$48:$G$57,0),1,0),0)","v":0},{"$f":"IFERROR(IF(MATCH(BE577&\"/\"&BF577,③読み替え表_省エネ住宅!$G$48:$G$57,0),1,0),0)","v":0},0,"*"]
[null,575,null,null,null,null,null,null,null,null,null,null,null,null,null,null,null,null,null,null,null,null,null,null,null,null,null,null,null,null,null,null,null,null,null,null,null,null,null,null,null,null,null,null,null,null,null,null,null,null,null,null,null,null,"未","未","未","未",0,{"$f":"IFERROR(IF(MATCH(BC580&\"/\"&BD580,③読み替え表_省エネ住宅!$G$48:$G$57,0),1,0),0)","v":0},{"$f":"IFERROR(IF(MATCH(BE580&\"/\"&BF580,③読み替え表_省エネ住宅!$G$48:$G$57,0),1,0),0)","v":0},0,"*"]
[null,576,null,null,null,null,null,null,null,null,null,null,null,null,null,null,null,null,null,null,null,null,null,null,null,null,null,null,null,null,null,null,null,null,null,null,null,null,null,null,null,null,null,null,null,null,null,null,null,null,null,null,null,null,"未","未","未","未",0,{"$f":"IFERROR(IF(MATCH(BC581&\"/\"&BD581,③読み替え表_省エネ住宅!$G$48:$G$57,0),1,0),0)","v":0},{"$f":"IFERROR(IF(MATCH(BE581&\"/\"&BF581,③読み替え表_省エネ住宅!$G$48:$G$57,0),1,0),0)","v":0},0,"*"]
[null,{"$f":"ROW()-5","v":578},null,null,null,null,null,null,null,null,null,null,null,null,null,null,null,null,null,null,null,null,null,null,null,null,null,null,null,null,null,null,null,null,null,null,null,null,null,null,null,null,null,null,null,null,null,null,null,null,null,null,null,null,{"$f":"IFERROR(IF(SUM($Q583:$U583)>1,\"複数回答\",INDEX($Q$5:$U$5,,MATCH(1,$Q583:$U583,0))),\"未\")","v":"未"},{"$f":"IFERROR(IF(SUM($AA583:$AE583)>1,\"複数回答\",INDEX($AA$5:$AE$5,,MATCH(1,$AA583:$AE583,0))),\"未\")","v":"未"},{"$f":"IFERROR(IF(SUM($V583:$Z583)>1,\"複数回答\",INDEX($V$5:$Z$5,,MATCH(1,$V583:$Z583,0))),\"未\")","v":"未"},{"$f":"IFERROR(IF(SUM($AF583:$AJ583)>1,\"複数回答\",INDEX($AF$5:$AJ$5,,MATCH(1,$AF583:$AJ583,0))),\"未\")","v":"未"},{"$f":"IF(BC583=\"複数回答\",1,IF(BD583=\"複数回答\",1,IF(BE583=\"複数回答\",1,IF(BF583=\"複数回答\",1,0))))","v":0},{"$f":"IFERROR(IF(MATCH(BC583&\"/\"&BD583,③読み替え表_省エネ住宅!$G$48:$G$57,0),1,0),0)","v":0},{"$f":"IFERROR(IF(MATCH(BE583&\"/\"&BF583,③読み替え表_省エネ住宅!$G$48:$G$57,0),1,0),0)","v":0},{"$f":"IF(SUM(BG583:BI583)>0,1,0)","v":0},"*"]
[null,581,null,null,null,null,null,null,null,null,null,null,null,null,null,null,null,null,null,null,null,null,null,null,null,null,null,null,null,null,null,null,null,null,null,null,null,null,null,null,null,null,null,null,null,null,null,null,null,null,null,null,null,null,"未","未","未","未",0,{"$f":"IFERROR(IF(MATCH(BC586&\"/\"&BD586,③読み替え表_省エネ住宅!$G$48:$G$57,0),1,0),0)","v":0},{"$f":"IFERROR(IF(MATCH(BE586&\"/\"&BF586,③読み替え表_省エネ住宅!$G$48:$G$57,0),1,0),0)","v":0},0,"*"]
[null,585,null,null,null,null,null,null,null,null,null,null,null,null,null,null,null,null,null,null,null,null,null,null,null,null,null,null,null,null,null,null,null,null,null,null,null,null,null,null,null,null,null,null,null,null,null,null,null,null,null,null,null,null,"未","未","未","未",0,{"$f":"IFERROR(IF(MATCH(BC590&\"/\"&BD590,③読み替え表_省エネ住宅!$G$48:$G$57,0),1,0),0)","v":0},{"$f":"IFERROR(IF(MATCH(BE590&\"/\"&BF590,③読み替え表_省エネ住宅!$G$48:$G$57,0),1,0),0)","v":0},0,"*"]
[null,587,null,null,null,null,null,null,null,null,null,null,null,null,null,null,null,null,null,null,null,null,null,null,null,null,null,null,null,null,null,null,null,null,null,null,null,null,null,null,null,null,null,null,null,null,null,null,null,null,null,null,null,null,"未","未","未","未",0,{"$f":"IFERROR(IF(MATCH(BC592&\"/\"&BD592,③読み替え表_省エネ住宅!$G$48:$G$57,0),1,0),0)","v":0},{"$f":"IFERROR(IF(MATCH(BE592&\"/\"&BF592,③読み替え表_省エネ住宅!$G$48:$G$57,0),1,0),0)","v":0},0,"*"]
[null,590,null,null,null,null,null,null,null,null,null,null,null,null,null,null,null,null,null,null,null,null,null,null,null,null,null,null,null,null,null,null,null,null,null,null,null,null,null,null,null,null,null,null,null,null,null,null,null,null,null,null,null,null,"未","未","未","未",0,{"$f":"IFERROR(IF(MATCH(BC595&\"/\"&BD595,③読み替え表_省エネ住宅!$G$48:$G$57,0),1,0),0)","v":0},{"$f":"IFERROR(IF(MATCH(BE595&\"/\"&BF595,③読み替え表_省エネ住宅!$G$48:$G$57,0),1,0),0)","v":0},0,"*"]
[null,594,null,null,null,null,null,null,null,null,null,null,null,null,null,null,null,null,null,null,null,null,null,null,null,null,null,null,null,null,null,null,null,null,null,null,null,null,null,null,null,null,null,null,null,null,null,null,null,null,null,null,null,null,"未","未","未","未",0,{"$f":"IFERROR(IF(MATCH(BC599&\"/\"&BD599,③読み替え表_省エネ住宅!$G$48:$G$57,0),1,0),0)","v":0},{"$f":"IFERROR(IF(MATCH(BE599&\"/\"&BF599,③読み替え表_省エネ住宅!$G$48:$G$57,0),1,0),0)","v":0},0,"*"]
[null,597,null,null,null,null,null,null,null,null,null,null,null,null,null,null,null,null,null,null,null,null,null,null,null,null,null,null,null,null,null,null,null,null,null,null,null,null,null,null,null,null,null,null,null,null,null,null,null,null,null,null,null,null,"未","未","未","未",0,{"$f":"IFERROR(IF(MATCH(BC602&\"/\"&BD602,③読み替え表_省エネ住宅!$G$48:$G$57,0),1,0),0)","v":0},{"$f":"IFERROR(IF(MATCH(BE602&\"/\"&BF602,③読み替え表_省エネ住宅!$G$48:$G$57,0),1,0),0)","v":0},0,"*"]
[null,598,null,null,null,null,null,null,null,null,null,null,null,null,null,null,null,null,null,null,null,null,null,null,null,null,null,null,null,null,null,null,null,null,null,null,null,null,null,null,null,null,null,null,null,null,null,null,null,null,null,null,null,null,"未","未","未","未",0,{"$f":"IFERROR(IF(MATCH(BC603&\"/\"&BD603,③読み替え表_省エネ住宅!$G$48:$G$57,0),1,0),0)","v":0},{"$f":"IFERROR(IF(MATCH(BE603&\"/\"&BF603,③読み替え表_省エネ住宅!$G$48:$G$57,0),1,0),0)","v":0},0,"*"]
[null,600,null,null,null,null,null,null,null,null,null,null,null,null,null,null,null,null,null,null,null,null,null,null,null,null,null,null,null,null,null,null,null,null,null,null,null,null,null,null,null,null,null,null,null,null,null,null,null,null,null,null,null,null,"未","未","未","未",0,{"$f":"IFERROR(IF(MATCH(BC605&\"/\"&BD605,③読み替え表_省エネ住宅!$G$48:$G$57,0),1,0),0)","v":0},{"$f":"IFERROR(IF(MATCH(BE605&\"/\"&BF605,③読み替え表_省エネ住宅!$G$48:$G$57,0),1,0),0)","v":0},0,"*"]
[null,603,null,null,null,null,null,null,null,null,null,null,null,null,null,null,null,null,null,null,null,null,null,null,null,null,null,null,null,null,null,null,null,null,null,null,null,null,null,null,null,null,null,null,null,null,null,null,null,null,null,null,null,null,"未","未","未","未",0,{"$f":"IFERROR(IF(MATCH(BC608&\"/\"&BD608,③読み替え表_省エネ住宅!$G$48:$G$57,0),1,0),0)","v":0},{"$f":"IFERROR(IF(MATCH(BE608&\"/\"&BF608,③読み替え表_省エネ住宅!$G$48:$G$57,0),1,0),0)","v":0},0,"*"]
[null,607,null,null,null,null,null,null,null,null,null,null,null,null,null,null,null,null,null,null,null,null,null,null,null,null,null,null,null,null,null,null,null,null,null,null,null,null,null,null,null,null,null,null,null,null,null,null,null,null,null,null,null,null,"未","未","未","未",0,{"$f":"IFERROR(IF(MATCH(BC612&\"/\"&BD612,③読み替え表_省エネ住宅!$G$48:$G$57,0),1,0),0)","v":0},{"$f":"IFERROR(IF(MATCH(BE612&\"/\"&BF612,③読み替え表_省エネ住宅!$G$48:$G$57,0),1,0),0)","v":0},0,"*"]
[null,610,null,null,null,null,null,null,null,null,null,null,null,null,null,null,null,null,null,null,null,null,null,null,null,null,null,null,null,null,null,null,null,null,null,null,null,null,null,null,null,null,null,null,null,null,null,null,null,null,null,null,null,null,"未","未","未","未",0,{"$f":"IFERROR(IF(MATCH(BC615&\"/\"&BD615,③読み替え表_省エネ住宅!$G$48:$G$57,0),1,0),0)","v":0},{"$f":"IFERROR(IF(MATCH(BE615&\"/\"&BF615,③読み替え表_省エネ住宅!$G$48:$G$57,0),1,0),0)","v":0},0,"*"]
[null,613,null,null,null,null,null,null,null,null,null,null,null,null,null,null,null,null,null,null,null,null,null,null,null,null,null,null,null,null,null,null,null,null,null,null,null,null,null,null,null,null,null,null,null,null,null,null,null,null,null,null,null,null,"未","未","未","未",0,{"$f":"IFERROR(IF(MATCH(BC618&\"/\"&BD618,③読み替え表_省エネ住宅!$G$48:$G$57,0),1,0),0)","v":0},{"$f":"IFERROR(IF(MATCH(BE618&\"/\"&BF618,③読み替え表_省エネ住宅!$G$48:$G$57,0),1,0),0)","v":0},0,"*"]
[null,616,null,null,null,null,null,null,null,null,null,null,null,null,null,null,null,null,null,null,null,null,null,null,null,null,null,null,null,null,null,null,null,null,null,null,null,null,null,null,null,null,null,null,null,null,null,null,null,null,null,null,null,null,"未","未","未","未",0,{"$f":"IFERROR(IF(MATCH(BC621&\"/\"&BD621,③読み替え表_省エネ住宅!$G$48:$G$57,0),1,0),0)","v":0},{"$f":"IFERROR(IF(MATCH(BE621&\"/\"&BF621,③読み替え表_省エネ住宅!$G$48:$G$57,0),1,0),0)","v":0},0,"*"]
[null,619,null,null,null,null,null,null,null,null,null,null,null,null,null,null,null,null,null,null,null,null,null,null,null,null,null,null,null,null,null,null,null,null,null,null,null,null,null,null,null,null,null,null,null,null,null,null,null,null,null,null,null,null,"未","未","未","未",0,{"$f":"IFERROR(IF(MATCH(BC624&\"/\"&BD624,③読み替え表_省エネ住宅!$G$48:$G$57,0),1,0),0)","v":0},{"$f":"IFERROR(IF(MATCH(BE624&\"/\"&BF624,③読み替え表_省エネ住宅!$G$48:$G$57,0),1,0),0)","v":0},0,"*"]
[null,620,null,null,null,null,null,null,null,null,null,null,null,null,null,null,null,null,null,null,null,null,null,null,null,null,null,null,null,null,null,null,null,null,null,null,null,null,null,null,null,null,null,null,null,null,null,null,null,null,null,null,null,null,"未","未","未","未",0,{"$f":"IFERROR(IF(MATCH(BC625&\"/\"&BD625,③読み替え表_省エネ住宅!$G$48:$G$57,0),1,0),0)","v":0},{"$f":"IFERROR(IF(MATCH(BE625&\"/\"&BF625,③読み替え表_省エネ住宅!$G$48:$G$57,0),1,0),0)","v":0},0,"*"]
[null,624,null,null,null,null,null,null,null,null,null,null,null,null,null,null,null,null,null,null,null,null,null,null,null,null,null,null,null,null,null,null,null,null,null,null,null,null,null,null,null,null,null,null,null,null,null,null,null,null,null,null,null,null,"未","未","未","未",0,{"$f":"IFERROR(IF(MATCH(BC629&\"/\"&BD629,③読み替え表_省エネ住宅!$G$48:$G$57,0),1,0),0)","v":0},{"$f":"IFERROR(IF(MATCH(BE629&\"/\"&BF629,③読み替え表_省エネ住宅!$G$48:$G$57,0),1,0),0)","v":0},0,"*"]
[null,625,null,null,null,null,null,null,null,null,null,null,null,null,null,null,null,null,null,null,null,null,null,null,null,null,null,null,null,null,null,null,null,null,null,null,null,null,null,null,null,null,null,null,null,null,null,null,null,null,null,null,null,null,"未","未","未","未",0,{"$f":"IFERROR(IF(MATCH(BC630&\"/\"&BD630,③読み替え表_省エネ住宅!$G$48:$G$57,0),1,0),0)","v":0},{"$f":"IFERROR(IF(MATCH(BE630&\"/\"&BF630,③読み替え表_省エネ住宅!$G$48:$G$57,0),1,0),0)","v":0},0,"*"]
[null,629,null,null,null,null,null,null,null,null,null,null,null,null,null,null,null,null,null,null,null,null,null,null,null,null,null,null,null,null,null,null,null,null,null,null,null,null,null,null,null,null,null,null,null,null,null,null,null,null,null,null,null,null,"未","未","未","未",0,{"$f":"IFERROR(IF(MATCH(BC634&\"/\"&BD634,③読み替え表_省エネ住宅!$G$48:$G$57,0),1,0),0)","v":0},{"$f":"IFERROR(IF(MATCH(BE634&\"/\"&BF634,③読み替え表_省エネ住宅!$G$48:$G$57,0),1,0),0)","v":0},0,"*"]
[null,632,null,null,null,null,null,null,null,null,null,null,null,null,null,null,null,null,null,null,null,null,null,null,null,null,null,null,null,null,null,null,null,null,null,null,null,null,null,null,null,null,null,null,null,null,null,null,null,null,null,null,null,null,"未","未","未","未",0,{"$f":"IFERROR(IF(MATCH(BC637&\"/\"&BD637,③読み替え表_省エネ住宅!$G$48:$G$57,0),1,0),0)","v":0},{"$f":"IFERROR(IF(MATCH(BE637&\"/\"&BF637,③読み替え表_省エネ住宅!$G$48:$G$57,0),1,0),0)","v":0},0,"*"]
[null,635,null,null,null,null,null,null,null,null,null,null,null,null,null,null,null,null,null,null,null,null,null,null,null,null,null,null,null,null,null,null,null,null,null,null,null,null,null,null,null,null,null,null,null,null,null,null,null,null,null,null,null,null,"未","未","未","未",0,{"$f":"IFERROR(IF(MATCH(BC640&\"/\"&BD640,③読み替え表_省エネ住宅!$G$48:$G$57,0),1,0),0)","v":0},{"$f":"IFERROR(IF(MATCH(BE640&\"/\"&BF640,③読み替え表_省エネ住宅!$G$48:$G$57,0),1,0),0)","v":0},0,"*"]
[null,638,null,null,null,null,null,null,null,null,null,null,null,null,null,null,null,null,null,null,null,null,null,null,null,null,null,null,null,null,null,null,null,null,null,null,null,null,null,null,null,null,null,null,null,null,null,null,null,null,null,null,null,null,"未","未","未","未",0,{"$f":"IFERROR(IF(MATCH(BC643&\"/\"&BD643,③読み替え表_省エネ住宅!$G$48:$G$57,0),1,0),0)","v":0},{"$f":"IFERROR(IF(MATCH(BE643&\"/\"&BF643,③読み替え表_省エネ住宅!$G$48:$G$57,0),1,0),0)","v":0},0,"*"]
[null,641,null,null,null,null,null,null,null,null,null,null,null,null,null,null,null,null,null,null,null,null,null,null,null,null,null,null,null,null,null,null,null,null,null,null,null,null,null,null,null,null,null,null,null,null,null,null,null,null,null,null,null,null,"未","未","未","未",0,{"$f":"IFERROR(IF(MATCH(BC646&\"/\"&BD646,③読み替え表_省エネ住宅!$G$48:$G$57,0),1,0),0)","v":0},{"$f":"IFERROR(IF(MATCH(BE646&\"/\"&BF646,③読み替え表_省エネ住宅!$G$48:$G$57,0),1,0),0)","v":0},0,"*"]
[null,{"$f":"ROW()-5","v":642},null,null,null,null,null,null,null,null,null,null,null,null,null,null,null,null,null,null,null,null,null,null,null,null,null,null,null,null,null,null,null,null,null,null,null,null,null,null,null,null,null,null,null,null,null,null,null,null,null,null,null,null,{"$f":"IFERROR(IF(SUM($Q647:$U647)>1,\"複数回答\",INDEX($Q$5:$U$5,,MATCH(1,$Q647:$U647,0))),\"未\")","v":"未"},{"$f":"IFERROR(IF(SUM($AA647:$AE647)>1,\"複数回答\",INDEX($AA$5:$AE$5,,MATCH(1,$AA647:$AE647,0))),\"未\")","v":"未"},{"$f":"IFERROR(IF(SUM($V647:$Z647)>1,\"複数回答\",INDEX($V$5:$Z$5,,MATCH(1,$V647:$Z647,0))),\"未\")","v":"未"},{"$f":"IFERROR(IF(SUM($AF647:$AJ647)>1,\"複数回答\",INDEX($AF$5:$AJ$5,,MATCH(1,$AF647:$AJ647,0))),\"未\")","v":"未"},{"$f":"IF(BC647=\"複数回答\",1,IF(BD647=\"複数回答\",1,IF(BE647=\"複数回答\",1,IF(BF647=\"複数回答\",1,0))))","v":0},{"$f":"IFERROR(IF(MATCH(BC647&\"/\"&BD647,③読み替え表_省エネ住宅!$G$48:$G$57,0),1,0),0)","v":0},{"$f":"IFERROR(IF(MATCH(BE647&\"/\"&BF647,③読み替え表_省エネ住宅!$G$48:$G$57,0),1,0),0)","v":0},{"$f":"IF(SUM(BG647:BI647)>0,1,0)","v":0},"*"]
[null,646,null,null,null,null,null,null,null,null,null,null,null,null,null,null,null,null,null,null,null,null,null,null,null,null,null,null,null,null,null,null,null,null,null,null,null,null,null,null,null,null,null,null,null,null,null,null,null,null,null,null,null,null,"未","未","未","未",0,{"$f":"IFERROR(IF(MATCH(BC651&\"/\"&BD651,③読み替え表_省エネ住宅!$G$48:$G$57,0),1,0),0)","v":0},{"$f":"IFERROR(IF(MATCH(BE651&\"/\"&BF651,③読み替え表_省エネ住宅!$G$48:$G$57,0),1,0),0)","v":0},0,"*"]
[null,648,null,null,null,null,null,null,null,null,null,null,null,null,null,null,null,null,null,null,null,null,null,null,null,null,null,null,null,null,null,null,null,null,null,null,null,null,null,null,null,null,null,null,null,null,null,null,null,null,null,null,null,null,"未","未","未","未",0,{"$f":"IFERROR(IF(MATCH(BC653&\"/\"&BD653,③読み替え表_省エネ住宅!$G$48:$G$57,0),1,0),0)","v":0},{"$f":"IFERROR(IF(MATCH(BE653&\"/\"&BF653,③読み替え表_省エネ住宅!$G$48:$G$57,0),1,0),0)","v":0},0,"*"]
[null,651,null,null,null,null,null,null,null,null,null,null,null,null,null,null,null,null,null,null,null,null,null,null,null,null,null,null,null,null,null,null,null,null,null,null,null,null,null,null,null,null,null,null,null,null,null,null,null,null,null,null,null,null,"未","未","未","未",0,{"$f":"IFERROR(IF(MATCH(BC656&\"/\"&BD656,③読み替え表_省エネ住宅!$G$48:$G$57,0),1,0),0)","v":0},{"$f":"IFERROR(IF(MATCH(BE656&\"/\"&BF656,③読み替え表_省エネ住宅!$G$48:$G$57,0),1,0),0)","v":0},0,"*"]
[null,654,null,null,null,null,null,null,null,null,null,null,null,null,null,null,null,null,null,null,null,null,null,null,null,null,null,null,null,null,null,null,null,null,null,null,null,null,null,null,null,null,null,null,null,null,null,null,null,null,null,null,null,null,"未","未","未","未",0,{"$f":"IFERROR(IF(MATCH(BC659&\"/\"&BD659,③読み替え表_省エネ住宅!$G$48:$G$57,0),1,0),0)","v":0},{"$f":"IFERROR(IF(MATCH(BE659&\"/\"&BF659,③読み替え表_省エネ住宅!$G$48:$G$57,0),1,0),0)","v":0},0,"*"]
[null,657,null,null,null,null,null,null,null,null,null,null,null,null,null,null,null,null,null,null,null,null,null,null,null,null,null,null,null,null,null,null,null,null,null,null,null,null,null,null,null,null,null,null,null,null,null,null,null,null,null,null,null,null,"未","未","未","未",0,{"$f":"IFERROR(IF(MATCH(BC662&\"/\"&BD662,③読み替え表_省エネ住宅!$G$48:$G$57,0),1,0),0)","v":0},{"$f":"IFERROR(IF(MATCH(BE662&\"/\"&BF662,③読み替え表_省エネ住宅!$G$48:$G$57,0),1,0),0)","v":0},0,"*"]
[null,660,null,null,null,null,null,null,null,null,null,null,null,null,null,null,null,null,null,null,null,null,null,null,null,null,null,null,null,null,null,null,null,null,null,null,null,null,null,null,null,null,null,null,null,null,null,null,null,null,null,null,null,null,"未","未","未","未",0,{"$f":"IFERROR(IF(MATCH(BC665&\"/\"&BD665,③読み替え表_省エネ住宅!$G$48:$G$57,0),1,0),0)","v":0},{"$f":"IFERROR(IF(MATCH(BE665&\"/\"&BF665,③読み替え表_省エネ住宅!$G$48:$G$57,0),1,0),0)","v":0},0,"*"]
[null,663,null,null,null,null,null,null,null,null,null,null,null,null,null,null,null,null,null,null,null,null,null,null,null,null,null,null,null,null,null,null,null,null,null,null,null,null,null,null,null,null,null,null,null,null,null,null,null,null,null,null,null,null,"未","未","未","未",0,{"$f":"IFERROR(IF(MATCH(BC668&\"/\"&BD668,③読み替え表_省エネ住宅!$G$48:$G$57,0),1,0),0)","v":0},{"$f":"IFERROR(IF(MATCH(BE668&\"/\"&BF668,③読み替え表_省エネ住宅!$G$48:$G$57,0),1,0),0)","v":0},0,"*"]
[null,664,null,null,null,null,null,null,null,null,null,null,null,null,null,null,null,null,null,null,null,null,null,null,null,null,null,null,null,null,null,null,null,null,null,null,null,null,null,null,null,null,null,null,null,null,null,null,null,null,null,null,null,null,"未","未","未","未",0,{"$f":"IFERROR(IF(MATCH(BC669&\"/\"&BD669,③読み替え表_省エネ住宅!$G$48:$G$57,0),1,0),0)","v":0},{"$f":"IFERROR(IF(MATCH(BE669&\"/\"&BF669,③読み替え表_省エネ住宅!$G$48:$G$57,0),1,0),0)","v":0},0,"*"]
[null,667,null,null,null,null,null,null,null,null,null,null,null,null,null,null,null,null,null,null,null,null,null,null,null,null,null,null,null,null,null,null,null,null,null,null,null,null,null,null,null,null,null,null,null,null,null,null,null,null,null,null,null,null,"未","未","未","未",0,{"$f":"IFERROR(IF(MATCH(BC672&\"/\"&BD672,③読み替え表_省エネ住宅!$G$48:$G$57,0),1,0),0)","v":0},{"$f":"IFERROR(IF(MATCH(BE672&\"/\"&BF672,③読み替え表_省エネ住宅!$G$48:$G$57,0),1,0),0)","v":0},0,"*"]
[null,670,null,null,null,null,null,null,null,null,null,null,null,null,null,null,null,null,null,null,null,null,null,null,null,null,null,null,null,null,null,null,null,null,null,null,null,null,null,null,null,null,null,null,null,null,null,null,null,null,null,null,null,null,"未","未","未","未",0,{"$f":"IFERROR(IF(MATCH(BC675&\"/\"&BD675,③読み替え表_省エネ住宅!$G$48:$G$57,0),1,0),0)","v":0},{"$f":"IFERROR(IF(MATCH(BE675&\"/\"&BF675,③読み替え表_省エネ住宅!$G$48:$G$57,0),1,0),0)","v":0},0,"*"]
[null,673,null,null,null,null,null,null,null,null,null,null,null,null,null,null,null,null,null,null,null,null,null,null,null,null,null,null,null,null,null,null,null,null,null,null,null,null,null,null,null,null,null,null,null,null,null,null,null,null,null,null,null,null,"未","未","未","未",0,{"$f":"IFERROR(IF(MATCH(BC678&\"/\"&BD678,③読み替え表_省エネ住宅!$G$48:$G$57,0),1,0),0)","v":0},{"$f":"IFERROR(IF(MATCH(BE678&\"/\"&BF678,③読み替え表_省エネ住宅!$G$48:$G$57,0),1,0),0)","v":0},0,"*"]
[null,676,null,null,null,null,null,null,null,null,null,null,null,null,null,null,null,null,null,null,null,null,null,null,null,null,null,null,null,null,null,null,null,null,null,null,null,null,null,null,null,null,null,null,null,null,null,null,null,null,null,null,null,null,"未","未","未","未",0,{"$f":"IFERROR(IF(MATCH(BC681&\"/\"&BD681,③読み替え表_省エネ住宅!$G$48:$G$57,0),1,0),0)","v":0},{"$f":"IFERROR(IF(MATCH(BE681&\"/\"&BF681,③読み替え表_省エネ住宅!$G$48:$G$57,0),1,0),0)","v":0},0,"*"]
[null,680,null,null,null,null,null,null,null,null,null,null,null,null,null,null,null,null,null,null,null,null,null,null,null,null,null,null,null,null,null,null,null,null,null,null,null,null,null,null,null,null,null,null,null,null,null,null,null,null,null,null,null,null,"未","未","未","未",0,{"$f":"IFERROR(IF(MATCH(BC685&\"/\"&BD685,③読み替え表_省エネ住宅!$G$48:$G$57,0),1,0),0)","v":0},{"$f":"IFERROR(IF(MATCH(BE685&\"/\"&BF685,③読み替え表_省エネ住宅!$G$48:$G$57,0),1,0),0)","v":0},0,"*"]
[null,681,null,null,null,null,null,null,null,null,null,null,null,null,null,null,null,null,null,null,null,null,null,null,null,null,null,null,null,null,null,null,null,null,null,null,null,null,null,null,null,null,null,null,null,null,null,null,null,null,null,null,null,null,"未","未","未","未",0,{"$f":"IFERROR(IF(MATCH(BC686&\"/\"&BD686,③読み替え表_省エネ住宅!$G$48:$G$57,0),1,0),0)","v":0},{"$f":"IFERROR(IF(MATCH(BE686&\"/\"&BF686,③読み替え表_省エネ住宅!$G$48:$G$57,0),1,0),0)","v":0},0,"*"]
[null,685,null,null,null,null,null,null,null,null,null,null,null,null,null,null,null,null,null,null,null,null,null,null,null,null,null,null,null,null,null,null,null,null,null,null,null,null,null,null,null,null,null,null,null,null,null,null,null,null,null,null,null,null,"未","未","未","未",0,{"$f":"IFERROR(IF(MATCH(BC690&\"/\"&BD690,③読み替え表_省エネ住宅!$G$48:$G$57,0),1,0),0)","v":0},{"$f":"IFERROR(IF(MATCH(BE690&\"/\"&BF690,③読み替え表_省エネ住宅!$G$48:$G$57,0),1,0),0)","v":0},0,"*"]
[null,686,null,null,null,null,null,null,null,null,null,null,null,null,null,null,null,null,null,null,null,null,null,null,null,null,null,null,null,null,null,null,null,null,null,null,null,null,null,null,null,null,null,null,null,null,null,null,null,null,null,null,null,null,"未","未","未","未",0,{"$f":"IFERROR(IF(MATCH(BC691&\"/\"&BD691,③読み替え表_省エネ住宅!$G$48:$G$57,0),1,0),0)","v":0},{"$f":"IFERROR(IF(MATCH(BE691&\"/\"&BF691,③読み替え表_省エネ住宅!$G$48:$G$57,0),1,0),0)","v":0},0,"*"]
[null,689,null,null,null,null,null,null,null,null,null,null,null,null,null,null,null,null,null,null,null,null,null,null,null,null,null,null,null,null,null,null,null,null,null,null,null,null,null,null,null,null,null,null,null,null,null,null,null,null,null,null,null,null,"未","未","未","未",0,{"$f":"IFERROR(IF(MATCH(BC694&\"/\"&BD694,③読み替え表_省エネ住宅!$G$48:$G$57,0),1,0),0)","v":0},{"$f":"IFERROR(IF(MATCH(BE694&\"/\"&BF694,③読み替え表_省エネ住宅!$G$48:$G$57,0),1,0),0)","v":0},0,"*"]
[null,692,null,null,null,null,null,null,null,null,null,null,null,null,null,null,null,null,null,null,null,null,null,null,null,null,null,null,null,null,null,null,null,null,null,null,null,null,null,null,null,null,null,null,null,null,null,null,null,null,null,null,null,null,"未","未","未","未",0,{"$f":"IFERROR(IF(MATCH(BC697&\"/\"&BD697,③読み替え表_省エネ住宅!$G$48:$G$57,0),1,0),0)","v":0},{"$f":"IFERROR(IF(MATCH(BE697&\"/\"&BF697,③読み替え表_省エネ住宅!$G$48:$G$57,0),1,0),0)","v":0},0,"*"]
[null,695,null,null,null,null,null,null,null,null,null,null,null,null,null,null,null,null,null,null,null,null,null,null,null,null,null,null,null,null,null,null,null,null,null,null,null,null,null,null,null,null,null,null,null,null,null,null,null,null,null,null,null,null,"未","未","未","未",0,{"$f":"IFERROR(IF(MATCH(BC700&\"/\"&BD700,③読み替え表_省エネ住宅!$G$48:$G$57,0),1,0),0)","v":0},{"$f":"IFERROR(IF(MATCH(BE700&\"/\"&BF700,③読み替え表_省エネ住宅!$G$48:$G$57,0),1,0),0)","v":0},0,"*"]
[null,698,null,null,null,null,null,null,null,null,null,null,null,null,null,null,null,null,null,null,null,null,null,null,null,null,null,null,null,null,null,null,null,null,null,null,null,null,null,null,null,null,null,null,null,null,null,null,null,null,null,null,null,null,"未","未","未","未",0,{"$f":"IFERROR(IF(MATCH(BC703&\"/\"&BD703,③読み替え表_省エネ住宅!$G$48:$G$57,0),1,0),0)","v":0},{"$f":"IFERROR(IF(MATCH(BE703&\"/\"&BF703,③読み替え表_省エネ住宅!$G$48:$G$57,0),1,0),0)","v":0},0,"*"]
[null,702,null,null,null,null,null,null,null,null,null,null,null,null,null,null,null,null,null,null,null,null,null,null,null,null,null,null,null,null,null,null,null,null,null,null,null,null,null,null,null,null,null,null,null,null,null,null,null,null,null,null,null,null,"未","未","未","未",0,{"$f":"IFERROR(IF(MATCH(BC707&\"/\"&BD707,③読み替え表_省エネ住宅!$G$48:$G$57,0),1,0),0)","v":0},{"$f":"IFERROR(IF(MATCH(BE707&\"/\"&BF707,③読み替え表_省エネ住宅!$G$48:$G$57,0),1,0),0)","v":0},0,"*"]
[null,703,null,null,null,null,null,null,null,null,null,null,null,null,null,null,null,null,null,null,null,null,null,null,null,null,null,null,null,null,null,null,null,null,null,null,null,null,null,null,null,null,null,null,null,null,null,null,null,null,null,null,null,null,"未","未","未","未",0,{"$f":"IFERROR(IF(MATCH(BC708&\"/\"&BD708,③読み替え表_省エネ住宅!$G$48:$G$57,0),1,0),0)","v":0},{"$f":"IFERROR(IF(MATCH(BE708&\"/\"&BF708,③読み替え表_省エネ住宅!$G$48:$G$57,0),1,0),0)","v":0},0,"*"]
[null,705,null,null,null,null,null,null,null,null,null,null,null,null,null,null,null,null,null,null,null,null,null,null,null,null,null,null,null,null,null,null,null,null,null,null,null,null,null,null,null,null,null,null,null,null,null,null,null,null,null,null,null,null,"未","未","未","未",0,{"$f":"IFERROR(IF(MATCH(BC710&\"/\"&BD710,③読み替え表_省エネ住宅!$G$48:$G$57,0),1,0),0)","v":0},{"$f":"IFERROR(IF(MATCH(BE710&\"/\"&BF710,③読み替え表_省エネ住宅!$G$48:$G$57,0),1,0),0)","v":0},0,"*"]
[null,708,null,null,null,null,null,null,null,null,null,null,null,null,null,null,null,null,null,null,null,null,null,null,null,null,null,null,null,null,null,null,null,null,null,null,null,null,null,null,null,null,null,null,null,null,null,null,null,null,null,null,null,null,"未","未","未","未",0,{"$f":"IFERROR(IF(MATCH(BC713&\"/\"&BD713,③読み替え表_省エネ住宅!$G$48:$G$57,0),1,0),0)","v":0},{"$f":"IFERROR(IF(MATCH(BE713&\"/\"&BF713,③読み替え表_省エネ住宅!$G$48:$G$57,0),1,0),0)","v":0},0,"*"]
[null,711,null,null,null,null,null,null,null,null,null,null,null,null,null,null,null,null,null,null,null,null,null,null,null,null,null,null,null,null,null,null,null,null,null,null,null,null,null,null,null,null,null,null,null,null,null,null,null,null,null,null,null,null,"未","未","未","未",0,{"$f":"IFERROR(IF(MATCH(BC716&\"/\"&BD716,③読み替え表_省エネ住宅!$G$48:$G$57,0),1,0),0)","v":0},{"$f":"IFERROR(IF(MATCH(BE716&\"/\"&BF716,③読み替え表_省エネ住宅!$G$48:$G$57,0),1,0),0)","v":0},0,"*"]
[null,714,null,null,null,null,null,null,null,null,null,null,null,null,null,null,null,null,null,null,null,null,null,null,null,null,null,null,null,null,null,null,null,null,null,null,null,null,null,null,null,null,null,null,null,null,null,null,null,null,null,null,null,null,"未","未","未","未",0,{"$f":"IFERROR(IF(MATCH(BC719&\"/\"&BD719,③読み替え表_省エネ住宅!$G$48:$G$57,0),1,0),0)","v":0},{"$f":"IFERROR(IF(MATCH(BE719&\"/\"&BF719,③読み替え表_省エネ住宅!$G$48:$G$57,0),1,0),0)","v":0},0,"*"]
[null,717,null,null,null,null,null,null,null,null,null,null,null,null,null,null,null,null,null,null,null,null,null,null,null,null,null,null,null,null,null,null,null,null,null,null,null,null,null,null,null,null,null,null,null,null,null,null,null,null,null,null,null,null,"未","未","未","未",0,{"$f":"IFERROR(IF(MATCH(BC722&\"/\"&BD722,③読み替え表_省エネ住宅!$G$48:$G$57,0),1,0),0)","v":0},{"$f":"IFERROR(IF(MATCH(BE722&\"/\"&BF722,③読み替え表_省エネ住宅!$G$48:$G$57,0),1,0),0)","v":0},0,"*"]
[null,720,null,null,null,null,null,null,null,null,null,null,null,null,null,null,null,null,null,null,null,null,null,null,null,null,null,null,null,null,null,null,null,null,null,null,null,null,null,null,null,null,null,null,null,null,null,null,null,null,null,null,null,null,"未","未","未","未",0,{"$f":"IFERROR(IF(MATCH(BC725&\"/\"&BD725,③読み替え表_省エネ住宅!$G$48:$G$57,0),1,0),0)","v":0},{"$f":"IFERROR(IF(MATCH(BE725&\"/\"&BF725,③読み替え表_省エネ住宅!$G$48:$G$57,0),1,0),0)","v":0},0,"*"]
[null,724,null,null,null,null,null,null,null,null,null,null,null,null,null,null,null,null,null,null,null,null,null,null,null,null,null,null,null,null,null,null,null,null,null,null,null,null,null,null,null,null,null,null,null,null,null,null,null,null,null,null,null,null,"未","未","未","未",0,{"$f":"IFERROR(IF(MATCH(BC729&\"/\"&BD729,③読み替え表_省エネ住宅!$G$48:$G$57,0),1,0),0)","v":0},{"$f":"IFERROR(IF(MATCH(BE729&\"/\"&BF729,③読み替え表_省エネ住宅!$G$48:$G$57,0),1,0),0)","v":0},0,"*"]
[null,727,null,null,null,null,null,null,null,null,null,null,null,null,null,null,null,null,null,null,null,null,null,null,null,null,null,null,null,null,null,null,null,null,null,null,null,null,null,null,null,null,null,null,null,null,null,null,null,null,null,null,null,null,"未","未","未","未",0,{"$f":"IFERROR(IF(MATCH(BC732&\"/\"&BD732,③読み替え表_省エネ住宅!$G$48:$G$57,0),1,0),0)","v":0},{"$f":"IFERROR(IF(MATCH(BE732&\"/\"&BF732,③読み替え表_省エネ住宅!$G$48:$G$57,0),1,0),0)","v":0},0,"*"]
[null,729,null,null,null,null,null,null,null,null,null,null,null,null,null,null,null,null,null,null,null,null,null,null,null,null,null,null,null,null,null,null,null,null,null,null,null,null,null,null,null,null,null,null,null,null,null,null,null,null,null,null,null,null,"未","未","未","未",0,{"$f":"IFERROR(IF(MATCH(BC734&\"/\"&BD734,③読み替え表_省エネ住宅!$G$48:$G$57,0),1,0),0)","v":0},{"$f":"IFERROR(IF(MATCH(BE734&\"/\"&BF734,③読み替え表_省エネ住宅!$G$48:$G$57,0),1,0),0)","v":0},0,"*"]
[null,730,null,null,null,null,null,null,null,null,null,null,null,null,null,null,null,null,null,null,null,null,null,null,null,null,null,null,null,null,null,null,null,null,null,null,null,null,null,null,null,null,null,null,null,null,null,null,null,null,null,null,null,null,"未","未","未","未",0,{"$f":"IFERROR(IF(MATCH(BC735&\"/\"&BD735,③読み替え表_省エネ住宅!$G$48:$G$57,0),1,0),0)","v":0},{"$f":"IFERROR(IF(MATCH(BE735&\"/\"&BF735,③読み替え表_省エネ住宅!$G$48:$G$57,0),1,0),0)","v":0},0,"*"]
[null,733,null,null,null,null,null,null,null,null,null,null,null,null,null,null,null,null,null,null,null,null,null,null,null,null,null,null,null,null,null,null,null,null,null,null,null,null,null,null,null,null,null,null,null,null,null,null,null,null,null,null,null,null,"未","未","未","未",0,{"$f":"IFERROR(IF(MATCH(BC738&\"/\"&BD738,③読み替え表_省エネ住宅!$G$48:$G$57,0),1,0),0)","v":0},{"$f":"IFERROR(IF(MATCH(BE738&\"/\"&BF738,③読み替え表_省エネ住宅!$G$48:$G$57,0),1,0),0)","v":0},0,"*"]
[null,737,null,null,null,null,null,null,null,null,null,null,null,null,null,null,null,null,null,null,null,null,null,null,null,null,null,null,null,null,null,null,null,null,null,null,null,null,null,null,null,null,null,null,null,null,null,null,null,null,null,null,null,null,"未","未","未","未",0,{"$f":"IFERROR(IF(MATCH(BC742&\"/\"&BD742,③読み替え表_省エネ住宅!$G$48:$G$57,0),1,0),0)","v":0},{"$f":"IFERROR(IF(MATCH(BE742&\"/\"&BF742,③読み替え表_省エネ住宅!$G$48:$G$57,0),1,0),0)","v":0},0,"*"]
[null,740,null,null,null,null,null,null,null,null,null,null,null,null,null,null,null,null,null,null,null,null,null,null,null,null,null,null,null,null,null,null,null,null,null,null,null,null,null,null,null,null,null,null,null,null,null,null,null,null,null,null,null,null,"未","未","未","未",0,{"$f":"IFERROR(IF(MATCH(BC745&\"/\"&BD745,③読み替え表_省エネ住宅!$G$48:$G$57,0),1,0),0)","v":0},{"$f":"IFERROR(IF(MATCH(BE745&\"/\"&BF745,③読み替え表_省エネ住宅!$G$48:$G$57,0),1,0),0)","v":0},0,"*"]
[null,742,null,null,null,null,null,null,null,null,null,null,null,null,null,null,null,null,null,null,null,null,null,null,null,null,null,null,null,null,null,null,null,null,null,null,null,null,null,null,null,null,null,null,null,null,null,null,null,null,null,null,null,null,"未","未","未","未",0,{"$f":"IFERROR(IF(MATCH(BC747&\"/\"&BD747,③読み替え表_省エネ住宅!$G$48:$G$57,0),1,0),0)","v":0},{"$f":"IFERROR(IF(MATCH(BE747&\"/\"&BF747,③読み替え表_省エネ住宅!$G$48:$G$57,0),1,0),0)","v":0},0,"*"]
[null,746,null,null,null,null,null,null,null,null,null,null,null,null,null,null,null,null,null,null,null,null,null,null,null,null,null,null,null,null,null,null,null,null,null,null,null,null,null,null,null,null,null,null,null,null,null,null,null,null,null,null,null,null,"未","未","未","未",0,{"$f":"IFERROR(IF(MATCH(BC751&\"/\"&BD751,③読み替え表_省エネ住宅!$G$48:$G$57,0),1,0),0)","v":0},{"$f":"IFERROR(IF(MATCH(BE751&\"/\"&BF751,③読み替え表_省エネ住宅!$G$48:$G$57,0),1,0),0)","v":0},0,"*"]
[null,749,null,null,null,null,null,null,null,null,null,null,null,null,null,null,null,null,null,null,null,null,null,null,null,null,null,null,null,null,null,null,null,null,null,null,null,null,null,null,null,null,null,null,null,null,null,null,null,null,null,null,null,null,"未","未","未","未",0,{"$f":"IFERROR(IF(MATCH(BC754&\"/\"&BD754,③読み替え表_省エネ住宅!$G$48:$G$57,0),1,0),0)","v":0},{"$f":"IFERROR(IF(MATCH(BE754&\"/\"&BF754,③読み替え表_省エネ住宅!$G$48:$G$57,0),1,0),0)","v":0},0,"*"]
[null,751,null,null,null,null,null,null,null,null,null,null,null,null,null,null,null,null,null,null,null,null,null,null,null,null,null,null,null,null,null,null,null,null,null,null,null,null,null,null,null,null,null,null,null,null,null,null,null,null,null,null,null,null,"未","未","未","未",0,{"$f":"IFERROR(IF(MATCH(BC756&\"/\"&BD756,③読み替え表_省エネ住宅!$G$48:$G$57,0),1,0),0)","v":0},{"$f":"IFERROR(IF(MATCH(BE756&\"/\"&BF756,③読み替え表_省エネ住宅!$G$48:$G$57,0),1,0),0)","v":0},0,"*"]
[null,752,null,null,null,null,null,null,null,null,null,null,null,null,null,null,null,null,null,null,null,null,null,null,null,null,null,null,null,null,null,null,null,null,null,null,null,null,null,null,null,null,null,null,null,null,null,null,null,null,null,null,null,null,"未","未","未","未",0,{"$f":"IFERROR(IF(MATCH(BC757&\"/\"&BD757,③読み替え表_省エネ住宅!$G$48:$G$57,0),1,0),0)","v":0},{"$f":"IFERROR(IF(MATCH(BE757&\"/\"&BF757,③読み替え表_省エネ住宅!$G$48:$G$57,0),1,0),0)","v":0},0,"*"]
[null,755,null,null,null,null,null,null,null,null,null,null,null,null,null,null,null,null,null,null,null,null,null,null,null,null,null,null,null,null,null,null,null,null,null,null,null,null,null,null,null,null,null,null,null,null,null,null,null,null,null,null,null,null,"未","未","未","未",0,{"$f":"IFERROR(IF(MATCH(BC760&\"/\"&BD760,③読み替え表_省エネ住宅!$G$48:$G$57,0),1,0),0)","v":0},{"$f":"IFERROR(IF(MATCH(BE760&\"/\"&BF760,③読み替え表_省エネ住宅!$G$48:$G$57,0),1,0),0)","v":0},0,"*"]
[null,759,null,null,null,null,null,null,null,null,null,null,null,null,null,null,null,null,null,null,null,null,null,null,null,null,null,null,null,null,null,null,null,null,null,null,null,null,null,null,null,null,null,null,null,null,null,null,null,null,null,null,null,null,"未","未","未","未",0,{"$f":"IFERROR(IF(MATCH(BC764&\"/\"&BD764,③読み替え表_省エネ住宅!$G$48:$G$57,0),1,0),0)","v":0},{"$f":"IFERROR(IF(MATCH(BE764&\"/\"&BF764,③読み替え表_省エネ住宅!$G$48:$G$57,0),1,0),0)","v":0},0,"*"]
[null,762,null,null,null,null,null,null,null,null,null,null,null,null,null,null,null,null,null,null,null,null,null,null,null,null,null,null,null,null,null,null,null,null,null,null,null,null,null,null,null,null,null,null,null,null,null,null,null,null,null,null,null,null,"未","未","未","未",0,{"$f":"IFERROR(IF(MATCH(BC767&\"/\"&BD767,③読み替え表_省エネ住宅!$G$48:$G$57,0),1,0),0)","v":0},{"$f":"IFERROR(IF(MATCH(BE767&\"/\"&BF767,③読み替え表_省エネ住宅!$G$48:$G$57,0),1,0),0)","v":0},0,"*"]
[null,765,null,null,null,null,null,null,null,null,null,null,null,null,null,null,null,null,null,null,null,null,null,null,null,null,null,null,null,null,null,null,null,null,null,null,null,null,null,null,null,null,null,null,null,null,null,null,null,null,null,null,null,null,"未","未","未","未",0,{"$f":"IFERROR(IF(MATCH(BC770&\"/\"&BD770,③読み替え表_省エネ住宅!$G$48:$G$57,0),1,0),0)","v":0},{"$f":"IFERROR(IF(MATCH(BE770&\"/\"&BF770,③読み替え表_省エネ住宅!$G$48:$G$57,0),1,0),0)","v":0},0,"*"]
[null,768,null,null,null,null,null,null,null,null,null,null,null,null,null,null,null,null,null,null,null,null,null,null,null,null,null,null,null,null,null,null,null,null,null,null,null,null,null,null,null,null,null,null,null,null,null,null,null,null,null,null,null,null,"未","未","未","未",0,{"$f":"IFERROR(IF(MATCH(BC773&\"/\"&BD773,③読み替え表_省エネ住宅!$G$48:$G$57,0),1,0),0)","v":0},{"$f":"IFERROR(IF(MATCH(BE773&\"/\"&BF773,③読み替え表_省エネ住宅!$G$48:$G$57,0),1,0),0)","v":0},0,"*"]
[null,771,null,null,null,null,null,null,null,null,null,null,null,null,null,null,null,null,null,null,null,null,null,null,null,null,null,null,null,null,null,null,null,null,null,null,null,null,null,null,null,null,null,null,null,null,null,null,null,null,null,null,null,null,"未","未","未","未",0,{"$f":"IFERROR(IF(MATCH(BC776&\"/\"&BD776,③読み替え表_省エネ住宅!$G$48:$G$57,0),1,0),0)","v":0},{"$f":"IFERROR(IF(MATCH(BE776&\"/\"&BF776,③読み替え表_省エネ住宅!$G$48:$G$57,0),1,0),0)","v":0},0,"*"]
[null,773,null,null,null,null,null,null,null,null,null,null,null,null,null,null,null,null,null,null,null,null,null,null,null,null,null,null,null,null,null,null,null,null,null,null,null,null,null,null,null,null,null,null,null,null,null,null,null,null,null,null,null,null,"未","未","未","未",0,{"$f":"IFERROR(IF(MATCH(BC778&\"/\"&BD778,③読み替え表_省エネ住宅!$G$48:$G$57,0),1,0),0)","v":0},{"$f":"IFERROR(IF(MATCH(BE778&\"/\"&BF778,③読み替え表_省エネ住宅!$G$48:$G$57,0),1,0),0)","v":0},0,"*"]
[null,774,null,null,null,null,null,null,null,null,null,null,null,null,null,null,null,null,null,null,null,null,null,null,null,null,null,null,null,null,null,null,null,null,null,null,null,null,null,null,null,null,null,null,null,null,null,null,null,null,null,null,null,null,"未","未","未","未",0,{"$f":"IFERROR(IF(MATCH(BC779&\"/\"&BD779,③読み替え表_省エネ住宅!$G$48:$G$57,0),1,0),0)","v":0},{"$f":"IFERROR(IF(MATCH(BE779&\"/\"&BF779,③読み替え表_省エネ住宅!$G$48:$G$57,0),1,0),0)","v":0},0,"*"]
[null,777,null,null,null,null,null,null,null,null,null,null,null,null,null,null,null,null,null,null,null,null,null,null,null,null,null,null,null,null,null,null,null,null,null,null,null,null,null,null,null,null,null,null,null,null,null,null,null,null,null,null,null,null,"未","未","未","未",0,{"$f":"IFERROR(IF(MATCH(BC782&\"/\"&BD782,③読み替え表_省エネ住宅!$G$48:$G$57,0),1,0),0)","v":0},{"$f":"IFERROR(IF(MATCH(BE782&\"/\"&BF782,③読み替え表_省エネ住宅!$G$48:$G$57,0),1,0),0)","v":0},0,"*"]
[null,781,null,null,null,null,null,null,null,null,null,null,null,null,null,null,null,null,null,null,null,null,null,null,null,null,null,null,null,null,null,null,null,null,null,null,null,null,null,null,null,null,null,null,null,null,null,null,null,null,null,null,null,null,"未","未","未","未",0,{"$f":"IFERROR(IF(MATCH(BC786&\"/\"&BD786,③読み替え表_省エネ住宅!$G$48:$G$57,0),1,0),0)","v":0},{"$f":"IFERROR(IF(MATCH(BE786&\"/\"&BF786,③読み替え表_省エネ住宅!$G$48:$G$57,0),1,0),0)","v":0},0,"*"]
[null,784,null,null,null,null,null,null,null,null,null,null,null,null,null,null,null,null,null,null,null,null,null,null,null,null,null,null,null,null,null,null,null,null,null,null,null,null,null,null,null,null,null,null,null,null,null,null,null,null,null,null,null,null,"未","未","未","未",0,{"$f":"IFERROR(IF(MATCH(BC789&\"/\"&BD789,③読み替え表_省エネ住宅!$G$48:$G$57,0),1,0),0)","v":0},{"$f":"IFERROR(IF(MATCH(BE789&\"/\"&BF789,③読み替え表_省エネ住宅!$G$48:$G$57,0),1,0),0)","v":0},0,"*"]
[null,786,null,null,null,null,null,null,null,null,null,null,null,null,null,null,null,null,null,null,null,null,null,null,null,null,null,null,null,null,null,null,null,null,null,null,null,null,null,null,null,null,null,null,null,null,null,null,null,null,null,null,null,null,"未","未","未","未",0,{"$f":"IFERROR(IF(MATCH(BC791&\"/\"&BD791,③読み替え表_省エネ住宅!$G$48:$G$57,0),1,0),0)","v":0},{"$f":"IFERROR(IF(MATCH(BE791&\"/\"&BF791,③読み替え表_省エネ住宅!$G$48:$G$57,0),1,0),0)","v":0},0,"*"]
[null,790,null,null,null,null,null,null,null,null,null,null,null,null,null,null,null,null,null,null,null,null,null,null,null,null,null,null,null,null,null,null,null,null,null,null,null,null,null,null,null,null,null,null,null,null,null,null,null,null,null,null,null,null,"未","未","未","未",0,{"$f":"IFERROR(IF(MATCH(BC795&\"/\"&BD795,③読み替え表_省エネ住宅!$G$48:$G$57,0),1,0),0)","v":0},{"$f":"IFERROR(IF(MATCH(BE795&\"/\"&BF795,③読み替え表_省エネ住宅!$G$48:$G$57,0),1,0),0)","v":0},0,"*"]
[null,793,null,null,null,null,null,null,null,null,null,null,null,null,null,null,null,null,null,null,null,null,null,null,null,null,null,null,null,null,null,null,null,null,null,null,null,null,null,null,null,null,null,null,null,null,null,null,null,null,null,null,null,null,"未","未","未","未",0,{"$f":"IFERROR(IF(MATCH(BC798&\"/\"&BD798,③読み替え表_省エネ住宅!$G$48:$G$57,0),1,0),0)","v":0},{"$f":"IFERROR(IF(MATCH(BE798&\"/\"&BF798,③読み替え表_省エネ住宅!$G$48:$G$57,0),1,0),0)","v":0},0,"*"]
[null,794,null,null,null,null,null,null,null,null,null,null,null,null,null,null,null,null,null,null,null,null,null,null,null,null,null,null,null,null,null,null,null,null,null,null,null,null,null,null,null,null,null,null,null,null,null,null,null,null,null,null,null,null,"未","未","未","未",0,{"$f":"IFERROR(IF(MATCH(BC799&\"/\"&BD799,③読み替え表_省エネ住宅!$G$48:$G$57,0),1,0),0)","v":0},{"$f":"IFERROR(IF(MATCH(BE799&\"/\"&BF799,③読み替え表_省エネ住宅!$G$48:$G$57,0),1,0),0)","v":0},0,"*"]
[null,797,null,null,null,null,null,null,null,null,null,null,null,null,null,null,null,null,null,null,null,null,null,null,null,null,null,null,null,null,null,null,null,null,null,null,null,null,null,null,null,null,null,null,null,null,null,null,null,null,null,null,null,null,"未","未","未","未",0,{"$f":"IFERROR(IF(MATCH(BC802&\"/\"&BD802,③読み替え表_省エネ住宅!$G$48:$G$57,0),1,0),0)","v":0},{"$f":"IFERROR(IF(MATCH(BE802&\"/\"&BF802,③読み替え表_省エネ住宅!$G$48:$G$57,0),1,0),0)","v":0},0,"*"]
[null,800,null,null,null,null,null,null,null,null,null,null,null,null,null,null,null,null,null,null,null,null,null,null,null,null,null,null,null,null,null,null,null,null,null,null,null,null,null,null,null,null,null,null,null,null,null,null,null,null,null,null,null,null,"未","未","未","未",0,{"$f":"IFERROR(IF(MATCH(BC805&\"/\"&BD805,③読み替え表_省エネ住宅!$G$48:$G$57,0),1,0),0)","v":0},{"$f":"IFERROR(IF(MATCH(BE805&\"/\"&BF805,③読み替え表_省エネ住宅!$G$48:$G$57,0),1,0),0)","v":0},0,"*"]
[null,803,null,null,null,null,null,null,null,null,null,null,null,null,null,null,null,null,null,null,null,null,null,null,null,null,null,null,null,null,null,null,null,null,null,null,null,null,null,null,null,null,null,null,null,null,null,null,null,null,null,null,null,null,"未","未","未","未",0,{"$f":"IFERROR(IF(MATCH(BC808&\"/\"&BD808,③読み替え表_省エネ住宅!$G$48:$G$57,0),1,0),0)","v":0},{"$f":"IFERROR(IF(MATCH(BE808&\"/\"&BF808,③読み替え表_省エネ住宅!$G$48:$G$57,0),1,0),0)","v":0},0,"*"]
[null,806,null,null,null,null,null,null,null,null,null,null,null,null,null,null,null,null,null,null,null,null,null,null,null,null,null,null,null,null,null,null,null,null,null,null,null,null,null,null,null,null,null,null,null,null,null,null,null,null,null,null,null,null,"未","未","未","未",0,{"$f":"IFERROR(IF(MATCH(BC811&\"/\"&BD811,③読み替え表_省エネ住宅!$G$48:$G$57,0),1,0),0)","v":0},{"$f":"IFERROR(IF(MATCH(BE811&\"/\"&BF811,③読み替え表_省エネ住宅!$G$48:$G$57,0),1,0),0)","v":0},0,"*"]
[null,808,null,null,null,null,null,null,null,null,null,null,null,null,null,null,null,null,null,null,null,null,null,null,null,null,null,null,null,null,null,null,null,null,null,null,null,null,null,null,null,null,null,null,null,null,null,null,null,null,null,null,null,null,"未","未","未","未",0,{"$f":"IFERROR(IF(MATCH(BC813&\"/\"&BD813,③読み替え表_省エネ住宅!$G$48:$G$57,0),1,0),0)","v":0},{"$f":"IFERROR(IF(MATCH(BE813&\"/\"&BF813,③読み替え表_省エネ住宅!$G$48:$G$57,0),1,0),0)","v":0},0,"*"]
[null,812,null,null,null,null,null,null,null,null,null,null,null,null,null,null,null,null,null,null,null,null,null,null,null,null,null,null,null,null,null,null,null,null,null,null,null,null,null,null,null,null,null,null,null,null,null,null,null,null,null,null,null,null,"未","未","未","未",0,{"$f":"IFERROR(IF(MATCH(BC817&\"/\"&BD817,③読み替え表_省エネ住宅!$G$48:$G$57,0),1,0),0)","v":0},{"$f":"IFERROR(IF(MATCH(BE817&\"/\"&BF817,③読み替え表_省エネ住宅!$G$48:$G$57,0),1,0),0)","v":0},0,"*"]
[null,815,null,null,null,null,null,null,null,null,null,null,null,null,null,null,null,null,null,null,null,null,null,null,null,null,null,null,null,null,null,null,null,null,null,null,null,null,null,null,null,null,null,null,null,null,null,null,null,null,null,null,null,null,"未","未","未","未",0,{"$f":"IFERROR(IF(MATCH(BC820&\"/\"&BD820,③読み替え表_省エネ住宅!$G$48:$G$57,0),1,0),0)","v":0},{"$f":"IFERROR(IF(MATCH(BE820&\"/\"&BF820,③読み替え表_省エネ住宅!$G$48:$G$57,0),1,0),0)","v":0},0,"*"]
[null,816,null,null,null,null,null,null,null,null,null,null,null,null,null,null,null,null,null,null,null,null,null,null,null,null,null,null,null,null,null,null,null,null,null,null,null,null,null,null,null,null,null,null,null,null,null,null,null,null,null,null,null,null,"未","未","未","未",0,{"$f":"IFERROR(IF(MATCH(BC821&\"/\"&BD821,③読み替え表_省エネ住宅!$G$48:$G$57,0),1,0),0)","v":0},{"$f":"IFERROR(IF(MATCH(BE821&\"/\"&BF821,③読み替え表_省エネ住宅!$G$48:$G$57,0),1,0),0)","v":0},0,"*"]
[null,819,null,null,null,null,null,null,null,null,null,null,null,null,null,null,null,null,null,null,null,null,null,null,null,null,null,null,null,null,null,null,null,null,null,null,null,null,null,null,null,null,null,null,null,null,null,null,null,null,null,null,null,null,"未","未","未","未",0,{"$f":"IFERROR(IF(MATCH(BC824&\"/\"&BD824,③読み替え表_省エネ住宅!$G$48:$G$57,0),1,0),0)","v":0},{"$f":"IFERROR(IF(MATCH(BE824&\"/\"&BF824,③読み替え表_省エネ住宅!$G$48:$G$57,0),1,0),0)","v":0},0,"*"]
[null,822,null,null,null,null,null,null,null,null,null,null,null,null,null,null,null,null,null,null,null,null,null,null,null,null,null,null,null,null,null,null,null,null,null,null,null,null,null,null,null,null,null,null,null,null,null,null,null,null,null,null,null,null,"未","未","未","未",0,{"$f":"IFERROR(IF(MATCH(BC827&\"/\"&BD827,③読み替え表_省エネ住宅!$G$48:$G$57,0),1,0),0)","v":0},{"$f":"IFERROR(IF(MATCH(BE827&\"/\"&BF827,③読み替え表_省エネ住宅!$G$48:$G$57,0),1,0),0)","v":0},0,"*"]
[null,825,null,null,null,null,null,null,null,null,null,null,null,null,null,null,null,null,null,null,null,null,null,null,null,null,null,null,null,null,null,null,null,null,null,null,null,null,null,null,null,null,null,null,null,null,null,null,null,null,null,null,null,null,"未","未","未","未",0,{"$f":"IFERROR(IF(MATCH(BC830&\"/\"&BD830,③読み替え表_省エネ住宅!$G$48:$G$57,0),1,0),0)","v":0},{"$f":"IFERROR(IF(MATCH(BE830&\"/\"&BF830,③読み替え表_省エネ住宅!$G$48:$G$57,0),1,0),0)","v":0},0,"*"]
[null,828,null,null,null,null,null,null,null,null,null,null,null,null,null,null,null,null,null,null,null,null,null,null,null,null,null,null,null,null,null,null,null,null,null,null,null,null,null,null,null,null,null,null,null,null,null,null,null,null,null,null,null,null,"未","未","未","未",0,{"$f":"IFERROR(IF(MATCH(BC833&\"/\"&BD833,③読み替え表_省エネ住宅!$G$48:$G$57,0),1,0),0)","v":0},{"$f":"IFERROR(IF(MATCH(BE833&\"/\"&BF833,③読み替え表_省エネ住宅!$G$48:$G$57,0),1,0),0)","v":0},0,"*"]
[null,830,null,null,null,null,null,null,null,null,null,null,null,null,null,null,null,null,null,null,null,null,null,null,null,null,null,null,null,null,null,null,null,null,null,null,null,null,null,null,null,null,null,null,null,null,null,null,null,null,null,null,null,null,"未","未","未","未",0,{"$f":"IFERROR(IF(MATCH(BC835&\"/\"&BD835,③読み替え表_省エネ住宅!$G$48:$G$57,0),1,0),0)","v":0},{"$f":"IFERROR(IF(MATCH(BE835&\"/\"&BF835,③読み替え表_省エネ住宅!$G$48:$G$57,0),1,0),0)","v":0},0,"*"]
[null,{"$f":"ROW()-5","v":834},null,null,null,null,null,null,null,null,null,null,null,null,null,null,null,null,null,null,null,null,null,null,null,null,null,null,null,null,null,null,null,null,null,null,null,null,null,null,null,null,null,null,null,null,null,null,null,null,null,null,null,null,{"$f":"IFERROR(IF(SUM($Q839:$U839)>1,\"複数回答\",INDEX($Q$5:$U$5,,MATCH(1,$Q839:$U839,0))),\"未\")","v":"未"},{"$f":"IFERROR(IF(SUM($AA839:$AE839)>1,\"複数回答\",INDEX($AA$5:$AE$5,,MATCH(1,$AA839:$AE839,0))),\"未\")","v":"未"},{"$f":"IFERROR(IF(SUM($V839:$Z839)>1,\"複数回答\",INDEX($V$5:$Z$5,,MATCH(1,$V839:$Z839,0))),\"未\")","v":"未"},{"$f":"IFERROR(IF(SUM($AF839:$AJ839)>1,\"複数回答\",INDEX($AF$5:$AJ$5,,MATCH(1,$AF839:$AJ839,0))),\"未\")","v":"未"},{"$f":"IF(BC839=\"複数回答\",1,IF(BD839=\"複数回答\",1,IF(BE839=\"複数回答\",1,IF(BF839=\"複数回答\",1,0))))","v":0},{"$f":"IFERROR(IF(MATCH(BC839&\"/\"&BD839,③読み替え表_省エネ住宅!$G$48:$G$57,0),1,0),0)","v":0},{"$f":"IFERROR(IF(MATCH(BE839&\"/\"&BF839,③読み替え表_省エネ住宅!$G$48:$G$57,0),1,0),0)","v":0},{"$f":"IF(SUM(BG839:BI839)>0,1,0)","v":0},"*"]
[null,837,null,null,null,null,null,null,null,null,null,null,null,null,null,null,null,null,null,null,null,null,null,null,null,null,null,null,null,null,null,null,null,null,null,null,null,null,null,null,null,null,null,null,null,null,null,null,null,null,null,null,null,null,"未","未","未","未",0,{"$f":"IFERROR(IF(MATCH(BC842&\"/\"&BD842,③読み替え表_省エネ住宅!$G$48:$G$57,0),1,0),0)","v":0},{"$f":"IFERROR(IF(MATCH(BE842&\"/\"&BF842,③読み替え表_省エネ住宅!$G$48:$G$57,0),1,0),0)","v":0},0,"*"]
[null,838,null,null,null,null,null,null,null,null,null,null,null,null,null,null,null,null,null,null,null,null,null,null,null,null,null,null,null,null,null,null,null,null,null,null,null,null,null,null,null,null,null,null,null,null,null,null,null,null,null,null,null,null,"未","未","未","未",0,{"$f":"IFERROR(IF(MATCH(BC843&\"/\"&BD843,③読み替え表_省エネ住宅!$G$48:$G$57,0),1,0),0)","v":0},{"$f":"IFERROR(IF(MATCH(BE843&\"/\"&BF843,③読み替え表_省エネ住宅!$G$48:$G$57,0),1,0),0)","v":0},0,"*"]
[null,841,null,null,null,null,null,null,null,null,null,null,null,null,null,null,null,null,null,null,null,null,null,null,null,null,null,null,null,null,null,null,null,null,null,null,null,null,null,null,null,null,null,null,null,null,null,null,null,null,null,null,null,null,"未","未","未","未",0,{"$f":"IFERROR(IF(MATCH(BC846&\"/\"&BD846,③読み替え表_省エネ住宅!$G$48:$G$57,0),1,0),0)","v":0},{"$f":"IFERROR(IF(MATCH(BE846&\"/\"&BF846,③読み替え表_省エネ住宅!$G$48:$G$57,0),1,0),0)","v":0},0,"*"]
[null,845,null,null,null,null,null,null,null,null,null,null,null,null,null,null,null,null,null,null,null,null,null,null,null,null,null,null,null,null,null,null,null,null,null,null,null,null,null,null,null,null,null,null,null,null,null,null,null,null,null,null,null,null,"未","未","未","未",0,{"$f":"IFERROR(IF(MATCH(BC850&\"/\"&BD850,③読み替え表_省エネ住宅!$G$48:$G$57,0),1,0),0)","v":0},{"$f":"IFERROR(IF(MATCH(BE850&\"/\"&BF850,③読み替え表_省エネ住宅!$G$48:$G$57,0),1,0),0)","v":0},0,"*"]
[null,847,null,null,null,null,null,null,null,null,null,null,null,null,null,null,null,null,null,null,null,null,null,null,null,null,null,null,null,null,null,null,null,null,null,null,null,null,null,null,null,null,null,null,null,null,null,null,null,null,null,null,null,null,"未","未","未","未",0,{"$f":"IFERROR(IF(MATCH(BC852&\"/\"&BD852,③読み替え表_省エネ住宅!$G$48:$G$57,0),1,0),0)","v":0},{"$f":"IFERROR(IF(MATCH(BE852&\"/\"&BF852,③読み替え表_省エネ住宅!$G$48:$G$57,0),1,0),0)","v":0},0,"*"]
[null,850,null,null,null,null,null,null,null,null,null,null,null,null,null,null,null,null,null,null,null,null,null,null,null,null,null,null,null,null,null,null,null,null,null,null,null,null,null,null,null,null,null,null,null,null,null,null,null,null,null,null,null,null,"未","未","未","未",0,{"$f":"IFERROR(IF(MATCH(BC855&\"/\"&BD855,③読み替え表_省エネ住宅!$G$48:$G$57,0),1,0),0)","v":0},{"$f":"IFERROR(IF(MATCH(BE855&\"/\"&BF855,③読み替え表_省エネ住宅!$G$48:$G$57,0),1,0),0)","v":0},0,"*"]
[null,854,null,null,null,null,null,null,null,null,null,null,null,null,null,null,null,null,null,null,null,null,null,null,null,null,null,null,null,null,null,null,null,null,null,null,null,null,null,null,null,null,null,null,null,null,null,null,null,null,null,null,null,null,"未","未","未","未",0,{"$f":"IFERROR(IF(MATCH(BC859&\"/\"&BD859,③読み替え表_省エネ住宅!$G$48:$G$57,0),1,0),0)","v":0},{"$f":"IFERROR(IF(MATCH(BE859&\"/\"&BF859,③読み替え表_省エネ住宅!$G$48:$G$57,0),1,0),0)","v":0},0,"*"]
[null,856,null,null,null,null,null,null,null,null,null,null,null,null,null,null,null,null,null,null,null,null,null,null,null,null,null,null,null,null,null,null,null,null,null,null,null,null,null,null,null,null,null,null,null,null,null,null,null,null,null,null,null,null,"未","未","未","未",0,{"$f":"IFERROR(IF(MATCH(BC861&\"/\"&BD861,③読み替え表_省エネ住宅!$G$48:$G$57,0),1,0),0)","v":0},{"$f":"IFERROR(IF(MATCH(BE861&\"/\"&BF861,③読み替え表_省エネ住宅!$G$48:$G$57,0),1,0),0)","v":0},0,"*"]
[null,857,null,null,null,null,null,null,null,null,null,null,null,null,null,null,null,null,null,null,null,null,null,null,null,null,null,null,null,null,null,null,null,null,null,null,null,null,null,null,null,null,null,null,null,null,null,null,null,null,null,null,null,null,"未","未","未","未",0,{"$f":"IFERROR(IF(MATCH(BC862&\"/\"&BD862,③読み替え表_省エネ住宅!$G$48:$G$57,0),1,0),0)","v":0},{"$f":"IFERROR(IF(MATCH(BE862&\"/\"&BF862,③読み替え表_省エネ住宅!$G$48:$G$57,0),1,0),0)","v":0},0,"*"]
[null,860,null,null,null,null,null,null,null,null,null,null,null,null,null,null,null,null,null,null,null,null,null,null,null,null,null,null,null,null,null,null,null,null,null,null,null,null,null,null,null,null,null,null,null,null,null,null,null,null,null,null,null,null,"未","未","未","未",0,{"$f":"IFERROR(IF(MATCH(BC865&\"/\"&BD865,③読み替え表_省エネ住宅!$G$48:$G$57,0),1,0),0)","v":0},{"$f":"IFERROR(IF(MATCH(BE865&\"/\"&BF865,③読み替え表_省エネ住宅!$G$48:$G$57,0),1,0),0)","v":0},0,"*"]
[null,863,null,null,null,null,null,null,null,null,null,null,null,null,null,null,null,null,null,null,null,null,null,null,null,null,null,null,null,null,null,null,null,null,null,null,null,null,null,null,null,null,null,null,null,null,null,null,null,null,null,null,null,null,"未","未","未","未",0,{"$f":"IFERROR(IF(MATCH(BC868&\"/\"&BD868,③読み替え表_省エネ住宅!$G$48:$G$57,0),1,0),0)","v":0},{"$f":"IFERROR(IF(MATCH(BE868&\"/\"&BF868,③読み替え表_省エネ住宅!$G$48:$G$57,0),1,0),0)","v":0},0,"*"]
[null,867,null,null,null,null,null,null,null,null,null,null,null,null,null,null,null,null,null,null,null,null,null,null,null,null,null,null,null,null,null,null,null,null,null,null,null,null,null,null,null,null,null,null,null,null,null,null,null,null,null,null,null,null,"未","未","未","未",0,{"$f":"IFERROR(IF(MATCH(BC872&\"/\"&BD872,③読み替え表_省エネ住宅!$G$48:$G$57,0),1,0),0)","v":0},{"$f":"IFERROR(IF(MATCH(BE872&\"/\"&BF872,③読み替え表_省エネ住宅!$G$48:$G$57,0),1,0),0)","v":0},0,"*"]
[null,869,null,null,null,null,null,null,null,null,null,null,null,null,null,null,null,null,null,null,null,null,null,null,null,null,null,null,null,null,null,null,null,null,null,null,null,null,null,null,null,null,null,null,null,null,null,null,null,null,null,null,null,null,"未","未","未","未",0,{"$f":"IFERROR(IF(MATCH(BC874&\"/\"&BD874,③読み替え表_省エネ住宅!$G$48:$G$57,0),1,0),0)","v":0},{"$f":"IFERROR(IF(MATCH(BE874&\"/\"&BF874,③読み替え表_省エネ住宅!$G$48:$G$57,0),1,0),0)","v":0},0,"*"]
[null,872,null,null,null,null,null,null,null,null,null,null,null,null,null,null,null,null,null,null,null,null,null,null,null,null,null,null,null,null,null,null,null,null,null,null,null,null,null,null,null,null,null,null,null,null,null,null,null,null,null,null,null,null,"未","未","未","未",0,{"$f":"IFERROR(IF(MATCH(BC877&\"/\"&BD877,③読み替え表_省エネ住宅!$G$48:$G$57,0),1,0),0)","v":0},{"$f":"IFERROR(IF(MATCH(BE877&\"/\"&BF877,③読み替え表_省エネ住宅!$G$48:$G$57,0),1,0),0)","v":0},0,"*"]
[null,876,null,null,null,null,null,null,null,null,null,null,null,null,null,null,null,null,null,null,null,null,null,null,null,null,null,null,null,null,null,null,null,null,null,null,null,null,null,null,null,null,null,null,null,null,null,null,null,null,null,null,null,null,"未","未","未","未",0,{"$f":"IFERROR(IF(MATCH(BC881&\"/\"&BD881,③読み替え表_省エネ住宅!$G$48:$G$57,0),1,0),0)","v":0},{"$f":"IFERROR(IF(MATCH(BE881&\"/\"&BF881,③読み替え表_省エネ住宅!$G$48:$G$57,0),1,0),0)","v":0},0,"*"]
[null,878,null,null,null,null,null,null,null,null,null,null,null,null,null,null,null,null,null,null,null,null,null,null,null,null,null,null,null,null,null,null,null,null,null,null,null,null,null,null,null,null,null,null,null,null,null,null,null,null,null,null,null,null,"未","未","未","未",0,{"$f":"IFERROR(IF(MATCH(BC883&\"/\"&BD883,③読み替え表_省エネ住宅!$G$48:$G$57,0),1,0),0)","v":0},{"$f":"IFERROR(IF(MATCH(BE883&\"/\"&BF883,③読み替え表_省エネ住宅!$G$48:$G$57,0),1,0),0)","v":0},0,"*"]
[null,879,null,null,null,null,null,null,null,null,null,null,null,null,null,null,null,null,null,null,null,null,null,null,null,null,null,null,null,null,null,null,null,null,null,null,null,null,null,null,null,null,null,null,null,null,null,null,null,null,null,null,null,null,"未","未","未","未",0,{"$f":"IFERROR(IF(MATCH(BC884&\"/\"&BD884,③読み替え表_省エネ住宅!$G$48:$G$57,0),1,0),0)","v":0},{"$f":"IFERROR(IF(MATCH(BE884&\"/\"&BF884,③読み替え表_省エネ住宅!$G$48:$G$57,0),1,0),0)","v":0},0,"*"]
[null,882,null,null,null,null,null,null,null,null,null,null,null,null,null,null,null,null,null,null,null,null,null,null,null,null,null,null,null,null,null,null,null,null,null,null,null,null,null,null,null,null,null,null,null,null,null,null,null,null,null,null,null,null,"未","未","未","未",0,{"$f":"IFERROR(IF(MATCH(BC887&\"/\"&BD887,③読み替え表_省エネ住宅!$G$48:$G$57,0),1,0),0)","v":0},{"$f":"IFERROR(IF(MATCH(BE887&\"/\"&BF887,③読み替え表_省エネ住宅!$G$48:$G$57,0),1,0),0)","v":0},0,"*"]
[null,885,null,null,null,null,null,null,null,null,null,null,null,null,null,null,null,null,null,null,null,null,null,null,null,null,null,null,null,null,null,null,null,null,null,null,null,null,null,null,null,null,null,null,null,null,null,null,null,null,null,null,null,null,"未","未","未","未",0,{"$f":"IFERROR(IF(MATCH(BC890&\"/\"&BD890,③読み替え表_省エネ住宅!$G$48:$G$57,0),1,0),0)","v":0},{"$f":"IFERROR(IF(MATCH(BE890&\"/\"&BF890,③読み替え表_省エネ住宅!$G$48:$G$57,0),1,0),0)","v":0},0,"*"]
[null,889,null,null,null,null,null,null,null,null,null,null,null,null,null,null,null,null,null,null,null,null,null,null,null,null,null,null,null,null,null,null,null,null,null,null,null,null,null,null,null,null,null,null,null,null,null,null,null,null,null,null,null,null,"未","未","未","未",0,{"$f":"IFERROR(IF(MATCH(BC894&\"/\"&BD894,③読み替え表_省エネ住宅!$G$48:$G$57,0),1,0),0)","v":0},{"$f":"IFERROR(IF(MATCH(BE894&\"/\"&BF894,③読み替え表_省エネ住宅!$G$48:$G$57,0),1,0),0)","v":0},0,"*"]
[null,891,null,null,null,null,null,null,null,null,null,null,null,null,null,null,null,null,null,null,null,null,null,null,null,null,null,null,null,null,null,null,null,null,null,null,null,null,null,null,null,null,null,null,null,null,null,null,null,null,null,null,null,null,"未","未","未","未",0,{"$f":"IFERROR(IF(MATCH(BC896&\"/\"&BD896,③読み替え表_省エネ住宅!$G$48:$G$57,0),1,0),0)","v":0},{"$f":"IFERROR(IF(MATCH(BE896&\"/\"&BF896,③読み替え表_省エネ住宅!$G$48:$G$57,0),1,0),0)","v":0},0,"*"]
[null,895,null,null,null,null,null,null,null,null,null,null,null,null,null,null,null,null,null,null,null,null,null,null,null,null,null,null,null,null,null,null,null,null,null,null,null,null,null,null,null,null,null,null,null,null,null,null,null,null,null,null,null,null,"未","未","未","未",0,{"$f":"IFERROR(IF(MATCH(BC900&\"/\"&BD900,③読み替え表_省エネ住宅!$G$48:$G$57,0),1,0),0)","v":0},{"$f":"IFERROR(IF(MATCH(BE900&\"/\"&BF900,③読み替え表_省エネ住宅!$G$48:$G$57,0),1,0),0)","v":0},0,"*"]
[null,{"$f":"ROW()-5","v":898},null,null,null,null,null,null,null,null,null,null,null,null,null,null,null,null,null,null,null,null,null,null,null,null,null,null,null,null,null,null,null,null,null,null,null,null,null,null,null,null,null,null,null,null,null,null,null,null,null,null,null,null,{"$f":"IFERROR(IF(SUM($Q903:$U903)>1,\"複数回答\",INDEX($Q$5:$U$5,,MATCH(1,$Q903:$U903,0))),\"未\")","v":"未"},{"$f":"IFERROR(IF(SUM($AA903:$AE903)>1,\"複数回答\",INDEX($AA$5:$AE$5,,MATCH(1,$AA903:$AE903,0))),\"未\")","v":"未"},{"$f":"IFERROR(IF(SUM($V903:$Z903)>1,\"複数回答\",INDEX($V$5:$Z$5,,MATCH(1,$V903:$Z903,0))),\"未\")","v":"未"},{"$f":"IFERROR(IF(SUM($AF903:$AJ903)>1,\"複数回答\",INDEX($AF$5:$AJ$5,,MATCH(1,$AF903:$AJ903,0))),\"未\")","v":"未"},{"$f":"IF(BC903=\"複数回答\",1,IF(BD903=\"複数回答\",1,IF(BE903=\"複数回答\",1,IF(BF903=\"複数回答\",1,0))))","v":0},{"$f":"IFERROR(IF(MATCH(BC903&\"/\"&BD903,③読み替え表_省エネ住宅!$G$48:$G$57,0),1,0),0)","v":0},{"$f":"IFERROR(IF(MATCH(BE903&\"/\"&BF903,③読み替え表_省エネ住宅!$G$48:$G$57,0),1,0),0)","v":0},{"$f":"IF(SUM(BG903:BI903)>0,1,0)","v":0},"*"]
[null,901,null,null,null,null,null,null,null,null,null,null,null,null,null,null,null,null,null,null,null,null,null,null,null,null,null,null,null,null,null,null,null,null,null,null,null,null,null,null,null,null,null,null,null,null,null,null,null,null,null,null,null,null,"未","未","未","未",0,{"$f":"IFERROR(IF(MATCH(BC906&\"/\"&BD906,③読み替え表_省エネ住宅!$G$48:$G$57,0),1,0),0)","v":0},{"$f":"IFERROR(IF(MATCH(BE906&\"/\"&BF906,③読み替え表_省エネ住宅!$G$48:$G$57,0),1,0),0)","v":0},0,"*"]
[null,902,null,null,null,null,null,null,null,null,null,null,null,null,null,null,null,null,null,null,null,null,null,null,null,null,null,null,null,null,null,null,null,null,null,null,null,null,null,null,null,null,null,null,null,null,null,null,null,null,null,null,null,null,"未","未","未","未",0,{"$f":"IFERROR(IF(MATCH(BC907&\"/\"&BD907,③読み替え表_省エネ住宅!$G$48:$G$57,0),1,0),0)","v":0},{"$f":"IFERROR(IF(MATCH(BE907&\"/\"&BF907,③読み替え表_省エネ住宅!$G$48:$G$57,0),1,0),0)","v":0},0,"*"]
[null,904,null,null,null,null,null,null,null,null,null,null,null,null,null,null,null,null,null,null,null,null,null,null,null,null,null,null,null,null,null,null,null,null,null,null,null,null,null,null,null,null,null,null,null,null,null,null,null,null,null,null,null,null,"未","未","未","未",0,{"$f":"IFERROR(IF(MATCH(BC909&\"/\"&BD909,③読み替え表_省エネ住宅!$G$48:$G$57,0),1,0),0)","v":0},{"$f":"IFERROR(IF(MATCH(BE909&\"/\"&BF909,③読み替え表_省エネ住宅!$G$48:$G$57,0),1,0),0)","v":0},0,"*"]
[null,907,null,null,null,null,null,null,null,null,null,null,null,null,null,null,null,null,null,null,null,null,null,null,null,null,null,null,null,null,null,null,null,null,null,null,null,null,null,null,null,null,null,null,null,null,null,null,null,null,null,null,null,null,"未","未","未","未",0,{"$f":"IFERROR(IF(MATCH(BC912&\"/\"&BD912,③読み替え表_省エネ住宅!$G$48:$G$57,0),1,0),0)","v":0},{"$f":"IFERROR(IF(MATCH(BE912&\"/\"&BF912,③読み替え表_省エネ住宅!$G$48:$G$57,0),1,0),0)","v":0},0,"*"]
[null,911,null,null,null,null,null,null,null,null,null,null,null,null,null,null,null,null,null,null,null,null,null,null,null,null,null,null,null,null,null,null,null,null,null,null,null,null,null,null,null,null,null,null,null,null,null,null,null,null,null,null,null,null,"未","未","未","未",0,{"$f":"IFERROR(IF(MATCH(BC916&\"/\"&BD916,③読み替え表_省エネ住宅!$G$48:$G$57,0),1,0),0)","v":0},{"$f":"IFERROR(IF(MATCH(BE916&\"/\"&BF916,③読み替え表_省エネ住宅!$G$48:$G$57,0),1,0),0)","v":0},0,"*"]
[null,913,null,null,null,null,null,null,null,null,null,null,null,null,null,null,null,null,null,null,null,null,null,null,null,null,null,null,null,null,null,null,null,null,null,null,null,null,null,null,null,null,null,null,null,null,null,null,null,null,null,null,null,null,"未","未","未","未",0,{"$f":"IFERROR(IF(MATCH(BC918&\"/\"&BD918,③読み替え表_省エネ住宅!$G$48:$G$57,0),1,0),0)","v":0},{"$f":"IFERROR(IF(MATCH(BE918&\"/\"&BF918,③読み替え表_省エネ住宅!$G$48:$G$57,0),1,0),0)","v":0},0,"*"]
[null,917,null,null,null,null,null,null,null,null,null,null,null,null,null,null,null,null,null,null,null,null,null,null,null,null,null,null,null,null,null,null,null,null,null,null,null,null,null,null,null,null,null,null,null,null,null,null,null,null,null,null,null,null,"未","未","未","未",0,{"$f":"IFERROR(IF(MATCH(BC922&\"/\"&BD922,③読み替え表_省エネ住宅!$G$48:$G$57,0),1,0),0)","v":0},{"$f":"IFERROR(IF(MATCH(BE922&\"/\"&BF922,③読み替え表_省エネ住宅!$G$48:$G$57,0),1,0),0)","v":0},0,"*"]
[null,920,null,null,null,null,null,null,null,null,null,null,null,null,null,null,null,null,null,null,null,null,null,null,null,null,null,null,null,null,null,null,null,null,null,null,null,null,null,null,null,null,null,null,null,null,null,null,null,null,null,null,null,null,"未","未","未","未",0,{"$f":"IFERROR(IF(MATCH(BC925&\"/\"&BD925,③読み替え表_省エネ住宅!$G$48:$G$57,0),1,0),0)","v":0},{"$f":"IFERROR(IF(MATCH(BE925&\"/\"&BF925,③読み替え表_省エネ住宅!$G$48:$G$57,0),1,0),0)","v":0},0,"*"]
[null,923,null,null,null,null,null,null,null,null,null,null,null,null,null,null,null,null,null,null,null,null,null,null,null,null,null,null,null,null,null,null,null,null,null,null,null,null,null,null,null,null,null,null,null,null,null,null,null,null,null,null,null,null,"未","未","未","未",0,{"$f":"IFERROR(IF(MATCH(BC928&\"/\"&BD928,③読み替え表_省エネ住宅!$G$48:$G$57,0),1,0),0)","v":0},{"$f":"IFERROR(IF(MATCH(BE928&\"/\"&BF928,③読み替え表_省エネ住宅!$G$48:$G$57,0),1,0),0)","v":0},0,"*"]
[null,924,null,null,null,null,null,null,null,null,null,null,null,null,null,null,null,null,null,null,null,null,null,null,null,null,null,null,null,null,null,null,null,null,null,null,null,null,null,null,null,null,null,null,null,null,null,null,null,null,null,null,null,null,"未","未","未","未",0,{"$f":"IFERROR(IF(MATCH(BC929&\"/\"&BD929,③読み替え表_省エネ住宅!$G$48:$G$57,0),1,0),0)","v":0},{"$f":"IFERROR(IF(MATCH(BE929&\"/\"&BF929,③読み替え表_省エネ住宅!$G$48:$G$57,0),1,0),0)","v":0},0,"*"]
[null,926,null,null,null,null,null,null,null,null,null,null,null,null,null,null,null,null,null,null,null,null,null,null,null,null,null,null,null,null,null,null,null,null,null,null,null,null,null,null,null,null,null,null,null,null,null,null,null,null,null,null,null,null,"未","未","未","未",0,{"$f":"IFERROR(IF(MATCH(BC931&\"/\"&BD931,③読み替え表_省エネ住宅!$G$48:$G$57,0),1,0),0)","v":0},{"$f":"IFERROR(IF(MATCH(BE931&\"/\"&BF931,③読み替え表_省エネ住宅!$G$48:$G$57,0),1,0),0)","v":0},0,"*"]
[null,929,null,null,null,null,null,null,null,null,null,null,null,null,null,null,null,null,null,null,null,null,null,null,null,null,null,null,null,null,null,null,null,null,null,null,null,null,null,null,null,null,null,null,null,null,null,null,null,null,null,null,null,null,"未","未","未","未",0,{"$f":"IFERROR(IF(MATCH(BC934&\"/\"&BD934,③読み替え表_省エネ住宅!$G$48:$G$57,0),1,0),0)","v":0},{"$f":"IFERROR(IF(MATCH(BE934&\"/\"&BF934,③読み替え表_省エネ住宅!$G$48:$G$57,0),1,0),0)","v":0},0,"*"]
[null,933,null,null,null,null,null,null,null,null,null,null,null,null,null,null,null,null,null,null,null,null,null,null,null,null,null,null,null,null,null,null,null,null,null,null,null,null,null,null,null,null,null,null,null,null,null,null,null,null,null,null,null,null,"未","未","未","未",0,{"$f":"IFERROR(IF(MATCH(BC938&\"/\"&BD938,③読み替え表_省エネ住宅!$G$48:$G$57,0),1,0),0)","v":0},{"$f":"IFERROR(IF(MATCH(BE938&\"/\"&BF938,③読み替え表_省エネ住宅!$G$48:$G$57,0),1,0),0)","v":0},0,"*"]
[null,935,null,null,null,null,null,null,null,null,null,null,null,null,null,null,null,null,null,null,null,null,null,null,null,null,null,null,null,null,null,null,null,null,null,null,null,null,null,null,null,null,null,null,null,null,null,null,null,null,null,null,null,null,"未","未","未","未",0,{"$f":"IFERROR(IF(MATCH(BC940&\"/\"&BD940,③読み替え表_省エネ住宅!$G$48:$G$57,0),1,0),0)","v":0},{"$f":"IFERROR(IF(MATCH(BE940&\"/\"&BF940,③読み替え表_省エネ住宅!$G$48:$G$57,0),1,0),0)","v":0},0,"*"]
[null,939,null,null,null,null,null,null,null,null,null,null,null,null,null,null,null,null,null,null,null,null,null,null,null,null,null,null,null,null,null,null,null,null,null,null,null,null,null,null,null,null,null,null,null,null,null,null,null,null,null,null,null,null,"未","未","未","未",0,{"$f":"IFERROR(IF(MATCH(BC944&\"/\"&BD944,③読み替え表_省エネ住宅!$G$48:$G$57,0),1,0),0)","v":0},{"$f":"IFERROR(IF(MATCH(BE944&\"/\"&BF944,③読み替え表_省エネ住宅!$G$48:$G$57,0),1,0),0)","v":0},0,"*"]
[null,942,null,null,null,null,null,null,null,null,null,null,null,null,null,null,null,null,null,null,null,null,null,null,null,null,null,null,null,null,null,null,null,null,null,null,null,null,null,null,null,null,null,null,null,null,null,null,null,null,null,null,null,null,"未","未","未","未",0,{"$f":"IFERROR(IF(MATCH(BC947&\"/\"&BD947,③読み替え表_省エネ住宅!$G$48:$G$57,0),1,0),0)","v":0},{"$f":"IFERROR(IF(MATCH(BE947&\"/\"&BF947,③読み替え表_省エネ住宅!$G$48:$G$57,0),1,0),0)","v":0},0,"*"]
[null,945,null,null,null,null,null,null,null,null,null,null,null,null,null,null,null,null,null,null,null,null,null,null,null,null,null,null,null,null,null,null,null,null,null,null,null,null,null,null,null,null,null,null,null,null,null,null,null,null,null,null,null,null,"未","未","未","未",0,{"$f":"IFERROR(IF(MATCH(BC950&\"/\"&BD950,③読み替え表_省エネ住宅!$G$48:$G$57,0),1,0),0)","v":0},{"$f":"IFERROR(IF(MATCH(BE950&\"/\"&BF950,③読み替え表_省エネ住宅!$G$48:$G$57,0),1,0),0)","v":0},0,"*"]
[null,946,null,null,null,null,null,null,null,null,null,null,null,null,null,null,null,null,null,null,null,null,null,null,null,null,null,null,null,null,null,null,null,null,null,null,null,null,null,null,null,null,null,null,null,null,null,null,null,null,null,null,null,null,"未","未","未","未",0,{"$f":"IFERROR(IF(MATCH(BC951&\"/\"&BD951,③読み替え表_省エネ住宅!$G$48:$G$57,0),1,0),0)","v":0},{"$f":"IFERROR(IF(MATCH(BE951&\"/\"&BF951,③読み替え表_省エネ住宅!$G$48:$G$57,0),1,0),0)","v":0},0,"*"]
[null,948,null,null,null,null,null,null,null,null,null,null,null,null,null,null,null,null,null,null,null,null,null,null,null,null,null,null,null,null,null,null,null,null,null,null,null,null,null,null,null,null,null,null,null,null,null,null,null,null,null,null,null,null,"未","未","未","未",0,{"$f":"IFERROR(IF(MATCH(BC953&\"/\"&BD953,③読み替え表_省エネ住宅!$G$48:$G$57,0),1,0),0)","v":0},{"$f":"IFERROR(IF(MATCH(BE953&\"/\"&BF953,③読み替え表_省エネ住宅!$G$48:$G$57,0),1,0),0)","v":0},0,"*"]
[null,952,null,null,null,null,null,null,null,null,null,null,null,null,null,null,null,null,null,null,null,null,null,null,null,null,null,null,null,null,null,null,null,null,null,null,null,null,null,null,null,null,null,null,null,null,null,null,null,null,null,null,null,null,"未","未","未","未",0,{"$f":"IFERROR(IF(MATCH(BC957&\"/\"&BD957,③読み替え表_省エネ住宅!$G$48:$G$57,0),1,0),0)","v":0},{"$f":"IFERROR(IF(MATCH(BE957&\"/\"&BF957,③読み替え表_省エネ住宅!$G$48:$G$57,0),1,0),0)","v":0},0,"*"]
[null,955,null,null,null,null,null,null,null,null,null,null,null,null,null,null,null,null,null,null,null,null,null,null,null,null,null,null,null,null,null,null,null,null,null,null,null,null,null,null,null,null,null,null,null,null,null,null,null,null,null,null,null,null,"未","未","未","未",0,{"$f":"IFERROR(IF(MATCH(BC960&\"/\"&BD960,③読み替え表_省エネ住宅!$G$48:$G$57,0),1,0),0)","v":0},{"$f":"IFERROR(IF(MATCH(BE960&\"/\"&BF960,③読み替え表_省エネ住宅!$G$48:$G$57,0),1,0),0)","v":0},0,"*"]
[null,958,null,null,null,null,null,null,null,null,null,null,null,null,null,null,null,null,null,null,null,null,null,null,null,null,null,null,null,null,null,null,null,null,null,null,null,null,null,null,null,null,null,null,null,null,null,null,null,null,null,null,null,null,"未","未","未","未",0,{"$f":"IFERROR(IF(MATCH(BC963&\"/\"&BD963,③読み替え表_省エネ住宅!$G$48:$G$57,0),1,0),0)","v":0},{"$f":"IFERROR(IF(MATCH(BE963&\"/\"&BF963,③読み替え表_省エネ住宅!$G$48:$G$57,0),1,0),0)","v":0},0,"*"]
[null,961,null,null,null,null,null,null,null,null,null,null,null,null,null,null,null,null,null,null,null,null,null,null,null,null,null,null,null,null,null,null,null,null,null,null,null,null,null,null,null,null,null,null,null,null,null,null,null,null,null,null,null,null,"未","未","未","未",0,{"$f":"IFERROR(IF(MATCH(BC966&\"/\"&BD966,③読み替え表_省エネ住宅!$G$48:$G$57,0),1,0),0)","v":0},{"$f":"IFERROR(IF(MATCH(BE966&\"/\"&BF966,③読み替え表_省エネ住宅!$G$48:$G$57,0),1,0),0)","v":0},0,"*"]
[null,964,null,null,null,null,null,null,null,null,null,null,null,null,null,null,null,null,null,null,null,null,null,null,null,null,null,null,null,null,null,null,null,null,null,null,null,null,null,null,null,null,null,null,null,null,null,null,null,null,null,null,null,null,"未","未","未","未",0,{"$f":"IFERROR(IF(MATCH(BC969&\"/\"&BD969,③読み替え表_省エネ住宅!$G$48:$G$57,0),1,0),0)","v":0},{"$f":"IFERROR(IF(MATCH(BE969&\"/\"&BF969,③読み替え表_省エネ住宅!$G$48:$G$57,0),1,0),0)","v":0},0,"*"]
[null,967,null,null,null,null,null,null,null,null,null,null,null,null,null,null,null,null,null,null,null,null,null,null,null,null,null,null,null,null,null,null,null,null,null,null,null,null,null,null,null,null,null,null,null,null,null,null,null,null,null,null,null,null,"未","未","未","未",0,{"$f":"IFERROR(IF(MATCH(BC972&\"/\"&BD972,③読み替え表_省エネ住宅!$G$48:$G$57,0),1,0),0)","v":0},{"$f":"IFERROR(IF(MATCH(BE972&\"/\"&BF972,③読み替え表_省エネ住宅!$G$48:$G$57,0),1,0),0)","v":0},0,"*"]
[null,968,null,null,null,null,null,null,null,null,null,null,null,null,null,null,null,null,null,null,null,null,null,null,null,null,null,null,null,null,null,null,null,null,null,null,null,null,null,null,null,null,null,null,null,null,null,null,null,null,null,null,null,null,"未","未","未","未",0,{"$f":"IFERROR(IF(MATCH(BC973&\"/\"&BD973,③読み替え表_省エネ住宅!$G$48:$G$57,0),1,0),0)","v":0},{"$f":"IFERROR(IF(MATCH(BE973&\"/\"&BF973,③読み替え表_省エネ住宅!$G$48:$G$57,0),1,0),0)","v":0},0,"*"]
[null,972,null,null,null,null,null,null,null,null,null,null,null,null,null,null,null,null,null,null,null,null,null,null,null,null,null,null,null,null,null,null,null,null,null,null,null,null,null,null,null,null,null,null,null,null,null,null,null,null,null,null,null,null,"未","未","未","未",0,{"$f":"IFERROR(IF(MATCH(BC977&\"/\"&BD977,③読み替え表_省エネ住宅!$G$48:$G$57,0),1,0),0)","v":0},{"$f":"IFERROR(IF(MATCH(BE977&\"/\"&BF977,③読み替え表_省エネ住宅!$G$48:$G$57,0),1,0),0)","v":0},0,"*"]
[null,974,null,null,null,null,null,null,null,null,null,null,null,null,null,null,null,null,null,null,null,null,null,null,null,null,null,null,null,null,null,null,null,null,null,null,null,null,null,null,null,null,null,null,null,null,null,null,null,null,null,null,null,null,"未","未","未","未",0,{"$f":"IFERROR(IF(MATCH(BC979&\"/\"&BD979,③読み替え表_省エネ住宅!$G$48:$G$57,0),1,0),0)","v":0},{"$f":"IFERROR(IF(MATCH(BE979&\"/\"&BF979,③読み替え表_省エネ住宅!$G$48:$G$57,0),1,0),0)","v":0},0,"*"]
[null,977,null,null,null,null,null,null,null,null,null,null,null,null,null,null,null,null,null,null,null,null,null,null,null,null,null,null,null,null,null,null,null,null,null,null,null,null,null,null,null,null,null,null,null,null,null,null,null,null,null,null,null,null,"未","未","未","未",0,{"$f":"IFERROR(IF(MATCH(BC982&\"/\"&BD982,③読み替え表_省エネ住宅!$G$48:$G$57,0),1,0),0)","v":0},{"$f":"IFERROR(IF(MATCH(BE982&\"/\"&BF982,③読み替え表_省エネ住宅!$G$48:$G$57,0),1,0),0)","v":0},0,"*"]
[null,980,null,null,null,null,null,null,null,null,null,null,null,null,null,null,null,null,null,null,null,null,null,null,null,null,null,null,null,null,null,null,null,null,null,null,null,null,null,null,null,null,null,null,null,null,null,null,null,null,null,null,null,null,"未","未","未","未",0,{"$f":"IFERROR(IF(MATCH(BC985&\"/\"&BD985,③読み替え表_省エネ住宅!$G$48:$G$57,0),1,0),0)","v":0},{"$f":"IFERROR(IF(MATCH(BE985&\"/\"&BF985,③読み替え表_省エネ住宅!$G$48:$G$57,0),1,0),0)","v":0},0,"*"]
[null,983,null,null,null,null,null,null,null,null,null,null,null,null,null,null,null,null,null,null,null,null,null,null,null,null,null,null,null,null,null,null,null,null,null,null,null,null,null,null,null,null,null,null,null,null,null,null,null,null,null,null,null,null,"未","未","未","未",0,{"$f":"IFERROR(IF(MATCH(BC988&\"/\"&BD988,③読み替え表_省エネ住宅!$G$48:$G$57,0),1,0),0)","v":0},{"$f":"IFERROR(IF(MATCH(BE988&\"/\"&BF988,③読み替え表_省エネ住宅!$G$48:$G$57,0),1,0),0)","v":0},0,"*"]
[null,986,null,null,null,null,null,null,null,null,null,null,null,null,null,null,null,null,null,null,null,null,null,null,null,null,null,null,null,null,null,null,null,null,null,null,null,null,null,null,null,null,null,null,null,null,null,null,null,null,null,null,null,null,"未","未","未","未",0,{"$f":"IFERROR(IF(MATCH(BC991&\"/\"&BD991,③読み替え表_省エネ住宅!$G$48:$G$57,0),1,0),0)","v":0},{"$f":"IFERROR(IF(MATCH(BE991&\"/\"&BF991,③読み替え表_省エネ住宅!$G$48:$G$57,0),1,0),0)","v":0},0,"*"]
[null,989,null,null,null,null,null,null,null,null,null,null,null,null,null,null,null,null,null,null,null,null,null,null,null,null,null,null,null,null,null,null,null,null,null,null,null,null,null,null,null,null,null,null,null,null,null,null,null,null,null,null,null,null,"未","未","未","未",0,{"$f":"IFERROR(IF(MATCH(BC994&\"/\"&BD994,③読み替え表_省エネ住宅!$G$48:$G$57,0),1,0),0)","v":0},{"$f":"IFERROR(IF(MATCH(BE994&\"/\"&BF994,③読み替え表_省エネ住宅!$G$48:$G$57,0),1,0),0)","v":0},0,"*"]
[null,990,null,null,null,null,null,null,null,null,null,null,null,null,null,null,null,null,null,null,null,null,null,null,null,null,null,null,null,null,null,null,null,null,null,null,null,null,null,null,null,null,null,null,null,null,null,null,null,null,null,null,null,null,"未","未","未","未",0,{"$f":"IFERROR(IF(MATCH(BC995&\"/\"&BD995,③読み替え表_省エネ住宅!$G$48:$G$57,0),1,0),0)","v":0},{"$f":"IFERROR(IF(MATCH(BE995&\"/\"&BF995,③読み替え表_省エネ住宅!$G$48:$G$57,0),1,0),0)","v":0},0,"*"]
[null,994,null,null,null,null,null,null,null,null,null,null,null,null,null,null,null,null,null,null,null,null,null,null,null,null,null,null,null,null,null,null,null,null,null,null,null,null,null,null,null,null,null,null,null,null,null,null,null,null,null,null,null,null,"未","未","未","未",0,{"$f":"IFERROR(IF(MATCH(BC999&\"/\"&BD999,③読み替え表_省エネ住宅!$G$48:$G$57,0),1,0),0)","v":0},{"$f":"IFERROR(IF(MATCH(BE999&\"/\"&BF999,③読み替え表_省エネ住宅!$G$48:$G$57,0),1,0),0)","v":0},0,"*"]
[null,996,null,null,null,null,null,null,null,null,null,null,null,null,null,null,null,null,null,null,null,null,null,null,null,null,null,null,null,null,null,null,null,null,null,null,null,null,null,null,null,null,null,null,null,null,null,null,null,null,null,null,null,null,"未","未","未","未",0,{"$f":"IFERROR(IF(MATCH(BC1001&\"/\"&BD1001,③読み替え表_省エネ住宅!$G$48:$G$57,0),1,0),0)","v":0},{"$f":"IFERROR(IF(MATCH(BE1001&\"/\"&BF1001,③読み替え表_省エネ住宅!$G$48:$G$57,0),1,0),0)","v":0},0,"*"]
[null,999,null,null,null,null,null,null,null,null,null,null,null,null,null,null,null,null,null,null,null,null,null,null,null,null,null,null,null,null,null,null,null,null,null,null,null,null,null,null,null,null,null,null,null,null,null,null,null,null,null,null,null,null,"未","未","未","未",0,{"$f":"IFERROR(IF(MATCH(BC1004&\"/\"&BD1004,③読み替え表_省エネ住宅!$G$48:$G$57,0),1,0),0)","v":0},{"$f":"IFERROR(IF(MATCH(BE1004&\"/\"&BF1004,③読み替え表_省エネ住宅!$G$48:$G$57,0),1,0),0)","v":0},0,"*"]
[null,1002,null,null,null,null,null,null,null,null,null,null,null,null,null,null,null,null,null,null,null,null,null,null,null,null,null,null,null,null,null,null,null,null,null,null,null,null,null,null,null,null,null,null,null,null,null,null,null,null,null,null,null,null,"未","未","未","未",0,{"$f":"IFERROR(IF(MATCH(BC1007&\"/\"&BD1007,③読み替え表_省エネ住宅!$G$48:$G$57,0),1,0),0)","v":0},{"$f":"IFERROR(IF(MATCH(BE1007&\"/\"&BF1007,③読み替え表_省エネ住宅!$G$48:$G$57,0),1,0),0)","v":0},0,"*"]
[null,1005,null,null,null,null,null,null,null,null,null,null,null,null,null,null,null,null,null,null,null,null,null,null,null,null,null,null,null,null,null,null,null,null,null,null,null,null,null,null,null,null,null,null,null,null,null,null,null,null,null,null,null,null,"未","未","未","未",0,{"$f":"IFERROR(IF(MATCH(BC1010&\"/\"&BD1010,③読み替え表_省エネ住宅!$G$48:$G$57,0),1,0),0)","v":0},{"$f":"IFERROR(IF(MATCH(BE1010&\"/\"&BF1010,③読み替え表_省エネ住宅!$G$48:$G$57,0),1,0),0)","v":0},0,"*"]
[null,1008,null,null,null,null,null,null,null,null,null,null,null,null,null,null,null,null,null,null,null,null,null,null,null,null,null,null,null,null,null,null,null,null,null,null,null,null,null,null,null,null,null,null,null,null,null,null,null,null,null,null,null,null,"未","未","未","未",0,{"$f":"IFERROR(IF(MATCH(BC1013&\"/\"&BD1013,③読み替え表_省エネ住宅!$G$48:$G$57,0),1,0),0)","v":0},{"$f":"IFERROR(IF(MATCH(BE1013&\"/\"&BF1013,③読み替え表_省エネ住宅!$G$48:$G$57,0),1,0),0)","v":0},0,"*"]
[null,1009,null,null,null,null,null,null,null,null,null,null,null,null,null,null,null,null,null,null,null,null,null,null,null,null,null,null,null,null,null,null,null,null,null,null,null,null,null,null,null,null,null,null,null,null,null,null,null,null,null,null,null,null,"未","未","未","未",0,{"$f":"IFERROR(IF(MATCH(BC1014&\"/\"&BD1014,③読み替え表_省エネ住宅!$G$48:$G$57,0),1,0),0)","v":0},{"$f":"IFERROR(IF(MATCH(BE1014&\"/\"&BF1014,③読み替え表_省エネ住宅!$G$48:$G$57,0),1,0),0)","v":0},0,"*"]
[null,1012,null,null,null,null,null,null,null,null,null,null,null,null,null,null,null,null,null,null,null,null,null,null,null,null,null,null,null,null,null,null,null,null,null,null,null,null,null,null,null,null,null,null,null,null,null,null,null,null,null,null,null,null,"未","未","未","未",0,{"$f":"IFERROR(IF(MATCH(BC1017&\"/\"&BD1017,③読み替え表_省エネ住宅!$G$48:$G$57,0),1,0),0)","v":0},{"$f":"IFERROR(IF(MATCH(BE1017&\"/\"&BF1017,③読み替え表_省エネ住宅!$G$48:$G$57,0),1,0),0)","v":0},0,"*"]
[null,1015,null,null,null,null,null,null,null,null,null,null,null,null,null,null,null,null,null,null,null,null,null,null,null,null,null,null,null,null,null,null,null,null,null,null,null,null,null,null,null,null,null,null,null,null,null,null,null,null,null,null,null,null,"未","未","未","未",0,{"$f":"IFERROR(IF(MATCH(BC1020&\"/\"&BD1020,③読み替え表_省エネ住宅!$G$48:$G$57,0),1,0),0)","v":0},{"$f":"IFERROR(IF(MATCH(BE1020&\"/\"&BF1020,③読み替え表_省エネ住宅!$G$48:$G$57,0),1,0),0)","v":0},0,"*"]
[null,1018,null,null,null,null,null,null,null,null,null,null,null,null,null,null,null,null,null,null,null,null,null,null,null,null,null,null,null,null,null,null,null,null,null,null,null,null,null,null,null,null,null,null,null,null,null,null,null,null,null,null,null,null,"未","未","未","未",0,{"$f":"IFERROR(IF(MATCH(BC1023&\"/\"&BD1023,③読み替え表_省エネ住宅!$G$48:$G$57,0),1,0),0)","v":0},{"$f":"IFERROR(IF(MATCH(BE1023&\"/\"&BF1023,③読み替え表_省エネ住宅!$G$48:$G$57,0),1,0),0)","v":0},0,"*"]
[null,1021,null,null,null,null,null,null,null,null,null,null,null,null,null,null,null,null,null,null,null,null,null,null,null,null,null,null,null,null,null,null,null,null,null,null,null,null,null,null,null,null,null,null,null,null,null,null,null,null,null,null,null,null,"未","未","未","未",0,{"$f":"IFERROR(IF(MATCH(BC1026&\"/\"&BD1026,③読み替え表_省エネ住宅!$G$48:$G$57,0),1,0),0)","v":0},{"$f":"IFERROR(IF(MATCH(BE1026&\"/\"&BF1026,③読み替え表_省エネ住宅!$G$48:$G$57,0),1,0),0)","v":0},0,"*"]
[null,1024,null,null,null,null,null,null,null,null,null,null,null,null,null,null,null,null,null,null,null,null,null,null,null,null,null,null,null,null,null,null,null,null,null,null,null,null,null,null,null,null,null,null,null,null,null,null,null,null,null,null,null,null,"未","未","未","未",0,{"$f":"IFERROR(IF(MATCH(BC1029&\"/\"&BD1029,③読み替え表_省エネ住宅!$G$48:$G$57,0),1,0),0)","v":0},{"$f":"IFERROR(IF(MATCH(BE1029&\"/\"&BF1029,③読み替え表_省エネ住宅!$G$48:$G$57,0),1,0),0)","v":0},0,"*"]
[null,1028,null,null,null,null,null,null,null,null,null,null,null,null,null,null,null,null,null,null,null,null,null,null,null,null,null,null,null,null,null,null,null,null,null,null,null,null,null,null,null,null,null,null,null,null,null,null,null,null,null,null,null,null,"未","未","未","未",0,{"$f":"IFERROR(IF(MATCH(BC1033&\"/\"&BD1033,③読み替え表_省エネ住宅!$G$48:$G$57,0),1,0),0)","v":0},{"$f":"IFERROR(IF(MATCH(BE1033&\"/\"&BF1033,③読み替え表_省エネ住宅!$G$48:$G$57,0),1,0),0)","v":0},0,"*"]
[null,1029,null,null,null,null,null,null,null,null,null,null,null,null,null,null,null,null,null,null,null,null,null,null,null,null,null,null,null,null,null,null,null,null,null,null,null,null,null,null,null,null,null,null,null,null,null,null,null,null,null,null,null,null,"未","未","未","未",0,{"$f":"IFERROR(IF(MATCH(BC1034&\"/\"&BD1034,③読み替え表_省エネ住宅!$G$48:$G$57,0),1,0),0)","v":0},{"$f":"IFERROR(IF(MATCH(BE1034&\"/\"&BF1034,③読み替え表_省エネ住宅!$G$48:$G$57,0),1,0),0)","v":0},0,"*"]
[null,1031,null,null,null,null,null,null,null,null,null,null,null,null,null,null,null,null,null,null,null,null,null,null,null,null,null,null,null,null,null,null,null,null,null,null,null,null,null,null,null,null,null,null,null,null,null,null,null,null,null,null,null,null,"未","未","未","未",0,{"$f":"IFERROR(IF(MATCH(BC1036&\"/\"&BD1036,③読み替え表_省エネ住宅!$G$48:$G$57,0),1,0),0)","v":0},{"$f":"IFERROR(IF(MATCH(BE1036&\"/\"&BF1036,③読み替え表_省エネ住宅!$G$48:$G$57,0),1,0),0)","v":0},0,"*"]
[null,1034,null,null,null,null,null,null,null,null,null,null,null,null,null,null,null,null,null,null,null,null,null,null,null,null,null,null,null,null,null,null,null,null,null,null,null,null,null,null,null,null,null,null,null,null,null,null,null,null,null,null,null,null,"未","未","未","未",0,{"$f":"IFERROR(IF(MATCH(BC1039&\"/\"&BD1039,③読み替え表_省エネ住宅!$G$48:$G$57,0),1,0),0)","v":0},{"$f":"IFERROR(IF(MATCH(BE1039&\"/\"&BF1039,③読み替え表_省エネ住宅!$G$48:$G$57,0),1,0),0)","v":0},0,"*"]
[null,1037,null,null,null,null,null,null,null,null,null,null,null,null,null,null,null,null,null,null,null,null,null,null,null,null,null,null,null,null,null,null,null,null,null,null,null,null,null,null,null,null,null,null,null,null,null,null,null,null,null,null,null,null,"未","未","未","未",0,{"$f":"IFERROR(IF(MATCH(BC1042&\"/\"&BD1042,③読み替え表_省エネ住宅!$G$48:$G$57,0),1,0),0)","v":0},{"$f":"IFERROR(IF(MATCH(BE1042&\"/\"&BF1042,③読み替え表_省エネ住宅!$G$48:$G$57,0),1,0),0)","v":0},0,"*"]
[null,1040,null,null,null,null,null,null,null,null,null,null,null,null,null,null,null,null,null,null,null,null,null,null,null,null,null,null,null,null,null,null,null,null,null,null,null,null,null,null,null,null,null,null,null,null,null,null,null,null,null,null,null,null,"未","未","未","未",0,{"$f":"IFERROR(IF(MATCH(BC1045&\"/\"&BD1045,③読み替え表_省エネ住宅!$G$48:$G$57,0),1,0),0)","v":0},{"$f":"IFERROR(IF(MATCH(BE1045&\"/\"&BF1045,③読み替え表_省エネ住宅!$G$48:$G$57,0),1,0),0)","v":0},0,"*"]
[null,1043,null,null,null,null,null,null,null,null,null,null,null,null,null,null,null,null,null,null,null,null,null,null,null,null,null,null,null,null,null,null,null,null,null,null,null,null,null,null,null,null,null,null,null,null,null,null,null,null,null,null,null,null,"未","未","未","未",0,{"$f":"IFERROR(IF(MATCH(BC1048&\"/\"&BD1048,③読み替え表_省エネ住宅!$G$48:$G$57,0),1,0),0)","v":0},{"$f":"IFERROR(IF(MATCH(BE1048&\"/\"&BF1048,③読み替え表_省エネ住宅!$G$48:$G$57,0),1,0),0)","v":0},0,"*"]
[null,1047,null,null,null,null,null,null,null,null,null,null,null,null,null,null,null,null,null,null,null,null,null,null,null,null,null,null,null,null,null,null,null,null,null,null,null,null,null,null,null,null,null,null,null,null,null,null,null,null,null,null,null,null,"未","未","未","未",0,{"$f":"IFERROR(IF(MATCH(BC1052&\"/\"&BD1052,③読み替え表_省エネ住宅!$G$48:$G$57,0),1,0),0)","v":0},{"$f":"IFERROR(IF(MATCH(BE1052&\"/\"&BF1052,③読み替え表_省エネ住宅!$G$48:$G$57,0),1,0),0)","v":0},0,"*"]
[null,1050,null,null,null,null,null,null,null,null,null,null,null,null,null,null,null,null,null,null,null,null,null,null,null,null,null,null,null,null,null,null,null,null,null,null,null,null,null,null,null,null,null,null,null,null,null,null,null,null,null,null,null,null,"未","未","未","未",0,{"$f":"IFERROR(IF(MATCH(BC1055&\"/\"&BD1055,③読み替え表_省エネ住宅!$G$48:$G$57,0),1,0),0)","v":0},{"$f":"IFERROR(IF(MATCH(BE1055&\"/\"&BF1055,③読み替え表_省エネ住宅!$G$48:$G$57,0),1,0),0)","v":0},0,"*"]
[null,1051,null,null,null,null,null,null,null,null,null,null,null,null,null,null,null,null,null,null,null,null,null,null,null,null,null,null,null,null,null,null,null,null,null,null,null,null,null,null,null,null,null,null,null,null,null,null,null,null,null,null,null,null,"未","未","未","未",0,{"$f":"IFERROR(IF(MATCH(BC1056&\"/\"&BD1056,③読み替え表_省エネ住宅!$G$48:$G$57,0),1,0),0)","v":0},{"$f":"IFERROR(IF(MATCH(BE1056&\"/\"&BF1056,③読み替え表_省エネ住宅!$G$48:$G$57,0),1,0),0)","v":0},0,"*"]
[null,1053,null,null,null,null,null,null,null,null,null,null,null,null,null,null,null,null,null,null,null,null,null,null,null,null,null,null,null,null,null,null,null,null,null,null,null,null,null,null,null,null,null,null,null,null,null,null,null,null,null,null,null,null,"未","未","未","未",0,{"$f":"IFERROR(IF(MATCH(BC1058&\"/\"&BD1058,③読み替え表_省エネ住宅!$G$48:$G$57,0),1,0),0)","v":0},{"$f":"IFERROR(IF(MATCH(BE1058&\"/\"&BF1058,③読み替え表_省エネ住宅!$G$48:$G$57,0),1,0),0)","v":0},0,"*"]
[null,1056,null,null,null,null,null,null,null,null,null,null,null,null,null,null,null,null,null,null,null,null,null,null,null,null,null,null,null,null,null,null,null,null,null,null,null,null,null,null,null,null,null,null,null,null,null,null,null,null,null,null,null,null,"未","未","未","未",0,{"$f":"IFERROR(IF(MATCH(BC1061&\"/\"&BD1061,③読み替え表_省エネ住宅!$G$48:$G$57,0),1,0),0)","v":0},{"$f":"IFERROR(IF(MATCH(BE1061&\"/\"&BF1061,③読み替え表_省エネ住宅!$G$48:$G$57,0),1,0),0)","v":0},0,"*"]
[null,1059,null,null,null,null,null,null,null,null,null,null,null,null,null,null,null,null,null,null,null,null,null,null,null,null,null,null,null,null,null,null,null,null,null,null,null,null,null,null,null,null,null,null,null,null,null,null,null,null,null,null,null,null,"未","未","未","未",0,{"$f":"IFERROR(IF(MATCH(BC1064&\"/\"&BD1064,③読み替え表_省エネ住宅!$G$48:$G$57,0),1,0),0)","v":0},{"$f":"IFERROR(IF(MATCH(BE1064&\"/\"&BF1064,③読み替え表_省エネ住宅!$G$48:$G$57,0),1,0),0)","v":0},0,"*"]
[null,1062,null,null,null,null,null,null,null,null,null,null,null,null,null,null,null,null,null,null,null,null,null,null,null,null,null,null,null,null,null,null,null,null,null,null,null,null,null,null,null,null,null,null,null,null,null,null,null,null,null,null,null,null,"未","未","未","未",0,{"$f":"IFERROR(IF(MATCH(BC1067&\"/\"&BD1067,③読み替え表_省エネ住宅!$G$48:$G$57,0),1,0),0)","v":0},{"$f":"IFERROR(IF(MATCH(BE1067&\"/\"&BF1067,③読み替え表_省エネ住宅!$G$48:$G$57,0),1,0),0)","v":0},0,"*"]
[null,1065,null,null,null,null,null,null,null,null,null,null,null,null,null,null,null,null,null,null,null,null,null,null,null,null,null,null,null,null,null,null,null,null,null,null,null,null,null,null,null,null,null,null,null,null,null,null,null,null,null,null,null,null,"未","未","未","未",0,{"$f":"IFERROR(IF(MATCH(BC1070&\"/\"&BD1070,③読み替え表_省エネ住宅!$G$48:$G$57,0),1,0),0)","v":0},{"$f":"IFERROR(IF(MATCH(BE1070&\"/\"&BF1070,③読み替え表_省エネ住宅!$G$48:$G$57,0),1,0),0)","v":0},0,"*"]
[null,1069,null,null,null,null,null,null,null,null,null,null,null,null,null,null,null,null,null,null,null,null,null,null,null,null,null,null,null,null,null,null,null,null,null,null,null,null,null,null,null,null,null,null,null,null,null,null,null,null,null,null,null,null,"未","未","未","未",0,{"$f":"IFERROR(IF(MATCH(BC1074&\"/\"&BD1074,③読み替え表_省エネ住宅!$G$48:$G$57,0),1,0),0)","v":0},{"$f":"IFERROR(IF(MATCH(BE1074&\"/\"&BF1074,③読み替え表_省エネ住宅!$G$48:$G$57,0),1,0),0)","v":0},0,"*"]
[null,1072,null,null,null,null,null,null,null,null,null,null,null,null,null,null,null,null,null,null,null,null,null,null,null,null,null,null,null,null,null,null,null,null,null,null,null,null,null,null,null,null,null,null,null,null,null,null,null,null,null,null,null,null,"未","未","未","未",0,{"$f":"IFERROR(IF(MATCH(BC1077&\"/\"&BD1077,③読み替え表_省エネ住宅!$G$48:$G$57,0),1,0),0)","v":0},{"$f":"IFERROR(IF(MATCH(BE1077&\"/\"&BF1077,③読み替え表_省エネ住宅!$G$48:$G$57,0),1,0),0)","v":0},0,"*"]
[null,1075,null,null,null,null,null,null,null,null,null,null,null,null,null,null,null,null,null,null,null,null,null,null,null,null,null,null,null,null,null,null,null,null,null,null,null,null,null,null,null,null,null,null,null,null,null,null,null,null,null,null,null,null,"未","未","未","未",0,{"$f":"IFERROR(IF(MATCH(BC1080&\"/\"&BD1080,③読み替え表_省エネ住宅!$G$48:$G$57,0),1,0),0)","v":0},{"$f":"IFERROR(IF(MATCH(BE1080&\"/\"&BF1080,③読み替え表_省エネ住宅!$G$48:$G$57,0),1,0),0)","v":0},0,"*"]
[null,1077,null,null,null,null,null,null,null,null,null,null,null,null,null,null,null,null,null,null,null,null,null,null,null,null,null,null,null,null,null,null,null,null,null,null,null,null,null,null,null,null,null,null,null,null,null,null,null,null,null,null,null,null,"未","未","未","未",0,{"$f":"IFERROR(IF(MATCH(BC1082&\"/\"&BD1082,③読み替え表_省エネ住宅!$G$48:$G$57,0),1,0),0)","v":0},{"$f":"IFERROR(IF(MATCH(BE1082&\"/\"&BF1082,③読み替え表_省エネ住宅!$G$48:$G$57,0),1,0),0)","v":0},0,"*"]
[null,1078,null,null,null,null,null,null,null,null,null,null,null,null,null,null,null,null,null,null,null,null,null,null,null,null,null,null,null,null,null,null,null,null,null,null,null,null,null,null,null,null,null,null,null,null,null,null,null,null,null,null,null,null,"未","未","未","未",0,{"$f":"IFERROR(IF(MATCH(BC1083&\"/\"&BD1083,③読み替え表_省エネ住宅!$G$48:$G$57,0),1,0),0)","v":0},{"$f":"IFERROR(IF(MATCH(BE1083&\"/\"&BF1083,③読み替え表_省エネ住宅!$G$48:$G$57,0),1,0),0)","v":0},0,"*"]
[null,1081,null,null,null,null,null,null,null,null,null,null,null,null,null,null,null,null,null,null,null,null,null,null,null,null,null,null,null,null,null,null,null,null,null,null,null,null,null,null,null,null,null,null,null,null,null,null,null,null,null,null,null,null,"未","未","未","未",0,{"$f":"IFERROR(IF(MATCH(BC1086&\"/\"&BD1086,③読み替え表_省エネ住宅!$G$48:$G$57,0),1,0),0)","v":0},{"$f":"IFERROR(IF(MATCH(BE1086&\"/\"&BF1086,③読み替え表_省エネ住宅!$G$48:$G$57,0),1,0),0)","v":0},0,"*"]
[null,1085,null,null,null,null,null,null,null,null,null,null,null,null,null,null,null,null,null,null,null,null,null,null,null,null,null,null,null,null,null,null,null,null,null,null,null,null,null,null,null,null,null,null,null,null,null,null,null,null,null,null,null,null,"未","未","未","未",0,{"$f":"IFERROR(IF(MATCH(BC1090&\"/\"&BD1090,③読み替え表_省エネ住宅!$G$48:$G$57,0),1,0),0)","v":0},{"$f":"IFERROR(IF(MATCH(BE1090&\"/\"&BF1090,③読み替え表_省エネ住宅!$G$48:$G$57,0),1,0),0)","v":0},0,"*"]
[null,1088,null,null,null,null,null,null,null,null,null,null,null,null,null,null,null,null,null,null,null,null,null,null,null,null,null,null,null,null,null,null,null,null,null,null,null,null,null,null,null,null,null,null,null,null,null,null,null,null,null,null,null,null,"未","未","未","未",0,{"$f":"IFERROR(IF(MATCH(BC1093&\"/\"&BD1093,③読み替え表_省エネ住宅!$G$48:$G$57,0),1,0),0)","v":0},{"$f":"IFERROR(IF(MATCH(BE1093&\"/\"&BF1093,③読み替え表_省エネ住宅!$G$48:$G$57,0),1,0),0)","v":0},0,"*"]
[null,1091,null,null,null,null,null,null,null,null,null,null,null,null,null,null,null,null,null,null,null,null,null,null,null,null,null,null,null,null,null,null,null,null,null,null,null,null,null,null,null,null,null,null,null,null,null,null,null,null,null,null,null,null,"未","未","未","未",0,{"$f":"IFERROR(IF(MATCH(BC1096&\"/\"&BD1096,③読み替え表_省エネ住宅!$G$48:$G$57,0),1,0),0)","v":0},{"$f":"IFERROR(IF(MATCH(BE1096&\"/\"&BF1096,③読み替え表_省エネ住宅!$G$48:$G$57,0),1,0),0)","v":0},0,"*"]
[null,1094,null,null,null,null,null,null,null,null,null,null,null,null,null,null,null,null,null,null,null,null,null,null,null,null,null,null,null,null,null,null,null,null,null,null,null,null,null,null,null,null,null,null,null,null,null,null,null,null,null,null,null,null,"未","未","未","未",0,{"$f":"IFERROR(IF(MATCH(BC1099&\"/\"&BD1099,③読み替え表_省エネ住宅!$G$48:$G$57,0),1,0),0)","v":0},{"$f":"IFERROR(IF(MATCH(BE1099&\"/\"&BF1099,③読み替え表_省エネ住宅!$G$48:$G$57,0),1,0),0)","v":0},0,"*"]
[null,1097,null,null,null,null,null,null,null,null,null,null,null,null,null,null,null,null,null,null,null,null,null,null,null,null,null,null,null,null,null,null,null,null,null,null,null,null,null,null,null,null,null,null,null,null,null,null,null,null,null,null,null,null,"未","未","未","未",0,{"$f":"IFERROR(IF(MATCH(BC1102&\"/\"&BD1102,③読み替え表_省エネ住宅!$G$48:$G$57,0),1,0),0)","v":0},{"$f":"IFERROR(IF(MATCH(BE1102&\"/\"&BF1102,③読み替え表_省エネ住宅!$G$48:$G$57,0),1,0),0)","v":0},0,"*"]
[null,1099,null,null,null,null,null,null,null,null,null,null,null,null,null,null,null,null,null,null,null,null,null,null,null,null,null,null,null,null,null,null,null,null,null,null,null,null,null,null,null,null,null,null,null,null,null,null,null,null,null,null,null,null,"未","未","未","未",0,{"$f":"IFERROR(IF(MATCH(BC1104&\"/\"&BD1104,③読み替え表_省エネ住宅!$G$48:$G$57,0),1,0),0)","v":0},{"$f":"IFERROR(IF(MATCH(BE1104&\"/\"&BF1104,③読み替え表_省エネ住宅!$G$48:$G$57,0),1,0),0)","v":0},0,"*"]
[null,1100,null,null,null,null,null,null,null,null,null,null,null,null,null,null,null,null,null,null,null,null,null,null,null,null,null,null,null,null,null,null,null,null,null,null,null,null,null,null,null,null,null,null,null,null,null,null,null,null,null,null,null,null,"未","未","未","未",0,{"$f":"IFERROR(IF(MATCH(BC1105&\"/\"&BD1105,③読み替え表_省エネ住宅!$G$48:$G$57,0),1,0),0)","v":0},{"$f":"IFERROR(IF(MATCH(BE1105&\"/\"&BF1105,③読み替え表_省エネ住宅!$G$48:$G$57,0),1,0),0)","v":0},0,"*"]
[null,1104,null,null,null,null,null,null,null,null,null,null,null,null,null,null,null,null,null,null,null,null,null,null,null,null,null,null,null,null,null,null,null,null,null,null,null,null,null,null,null,null,null,null,null,null,null,null,null,null,null,null,null,null,"未","未","未","未",0,{"$f":"IFERROR(IF(MATCH(BC1109&\"/\"&BD1109,③読み替え表_省エネ住宅!$G$48:$G$57,0),1,0),0)","v":0},{"$f":"IFERROR(IF(MATCH(BE1109&\"/\"&BF1109,③読み替え表_省エネ住宅!$G$48:$G$57,0),1,0),0)","v":0},0,"*"]
[null,1107,null,null,null,null,null,null,null,null,null,null,null,null,null,null,null,null,null,null,null,null,null,null,null,null,null,null,null,null,null,null,null,null,null,null,null,null,null,null,null,null,null,null,null,null,null,null,null,null,null,null,null,null,"未","未","未","未",0,{"$f":"IFERROR(IF(MATCH(BC1112&\"/\"&BD1112,③読み替え表_省エネ住宅!$G$48:$G$57,0),1,0),0)","v":0},{"$f":"IFERROR(IF(MATCH(BE1112&\"/\"&BF1112,③読み替え表_省エネ住宅!$G$48:$G$57,0),1,0),0)","v":0},0,"*"]
[null,1110,null,null,null,null,null,null,null,null,null,null,null,null,null,null,null,null,null,null,null,null,null,null,null,null,null,null,null,null,null,null,null,null,null,null,null,null,null,null,null,null,null,null,null,null,null,null,null,null,null,null,null,null,"未","未","未","未",0,{"$f":"IFERROR(IF(MATCH(BC1115&\"/\"&BD1115,③読み替え表_省エネ住宅!$G$48:$G$57,0),1,0),0)","v":0},{"$f":"IFERROR(IF(MATCH(BE1115&\"/\"&BF1115,③読み替え表_省エネ住宅!$G$48:$G$57,0),1,0),0)","v":0},0,"*"]
[null,1113,null,null,null,null,null,null,null,null,null,null,null,null,null,null,null,null,null,null,null,null,null,null,null,null,null,null,null,null,null,null,null,null,null,null,null,null,null,null,null,null,null,null,null,null,null,null,null,null,null,null,null,null,"未","未","未","未",0,{"$f":"IFERROR(IF(MATCH(BC1118&\"/\"&BD1118,③読み替え表_省エネ住宅!$G$48:$G$57,0),1,0),0)","v":0},{"$f":"IFERROR(IF(MATCH(BE1118&\"/\"&BF1118,③読み替え表_省エネ住宅!$G$48:$G$57,0),1,0),0)","v":0},0,"*"]
[null,1116,null,null,null,null,null,null,null,null,null,null,null,null,null,null,null,null,null,null,null,null,null,null,null,null,null,null,null,null,null,null,null,null,null,null,null,null,null,null,null,null,null,null,null,null,null,null,null,null,null,null,null,null,"未","未","未","未",0,{"$f":"IFERROR(IF(MATCH(BC1121&\"/\"&BD1121,③読み替え表_省エネ住宅!$G$48:$G$57,0),1,0),0)","v":0},{"$f":"IFERROR(IF(MATCH(BE1121&\"/\"&BF1121,③読み替え表_省エネ住宅!$G$48:$G$57,0),1,0),0)","v":0},0,"*"]
[null,1119,null,null,null,null,null,null,null,null,null,null,null,null,null,null,null,null,null,null,null,null,null,null,null,null,null,null,null,null,null,null,null,null,null,null,null,null,null,null,null,null,null,null,null,null,null,null,null,null,null,null,null,null,"未","未","未","未",0,{"$f":"IFERROR(IF(MATCH(BC1124&\"/\"&BD1124,③読み替え表_省エネ住宅!$G$48:$G$57,0),1,0),0)","v":0},{"$f":"IFERROR(IF(MATCH(BE1124&\"/\"&BF1124,③読み替え表_省エネ住宅!$G$48:$G$57,0),1,0),0)","v":0},0,"*"]
[null,1121,null,null,null,null,null,null,null,null,null,null,null,null,null,null,null,null,null,null,null,null,null,null,null,null,null,null,null,null,null,null,null,null,null,null,null,null,null,null,null,null,null,null,null,null,null,null,null,null,null,null,null,null,"未","未","未","未",0,{"$f":"IFERROR(IF(MATCH(BC1126&\"/\"&BD1126,③読み替え表_省エネ住宅!$G$48:$G$57,0),1,0),0)","v":0},{"$f":"IFERROR(IF(MATCH(BE1126&\"/\"&BF1126,③読み替え表_省エネ住宅!$G$48:$G$57,0),1,0),0)","v":0},0,"*"]
[null,1122,null,null,null,null,null,null,null,null,null,null,null,null,null,null,null,null,null,null,null,null,null,null,null,null,null,null,null,null,null,null,null,null,null,null,null,null,null,null,null,null,null,null,null,null,null,null,null,null,null,null,null,null,"未","未","未","未",0,{"$f":"IFERROR(IF(MATCH(BC1127&\"/\"&BD1127,③読み替え表_省エネ住宅!$G$48:$G$57,0),1,0),0)","v":0},{"$f":"IFERROR(IF(MATCH(BE1127&\"/\"&BF1127,③読み替え表_省エネ住宅!$G$48:$G$57,0),1,0),0)","v":0},0,"*"]
[null,1126,null,null,null,null,null,null,null,null,null,null,null,null,null,null,null,null,null,null,null,null,null,null,null,null,null,null,null,null,null,null,null,null,null,null,null,null,null,null,null,null,null,null,null,null,null,null,null,null,null,null,null,null,"未","未","未","未",0,{"$f":"IFERROR(IF(MATCH(BC1131&\"/\"&BD1131,③読み替え表_省エネ住宅!$G$48:$G$57,0),1,0),0)","v":0},{"$f":"IFERROR(IF(MATCH(BE1131&\"/\"&BF1131,③読み替え表_省エネ住宅!$G$48:$G$57,0),1,0),0)","v":0},0,"*"]
[null,1129,null,null,null,null,null,null,null,null,null,null,null,null,null,null,null,null,null,null,null,null,null,null,null,null,null,null,null,null,null,null,null,null,null,null,null,null,null,null,null,null,null,null,null,null,null,null,null,null,null,null,null,null,"未","未","未","未",0,{"$f":"IFERROR(IF(MATCH(BC1134&\"/\"&BD1134,③読み替え表_省エネ住宅!$G$48:$G$57,0),1,0),0)","v":0},{"$f":"IFERROR(IF(MATCH(BE1134&\"/\"&BF1134,③読み替え表_省エネ住宅!$G$48:$G$57,0),1,0),0)","v":0},0,"*"]
[null,1132,null,null,null,null,null,null,null,null,null,null,null,null,null,null,null,null,null,null,null,null,null,null,null,null,null,null,null,null,null,null,null,null,null,null,null,null,null,null,null,null,null,null,null,null,null,null,null,null,null,null,null,null,"未","未","未","未",0,{"$f":"IFERROR(IF(MATCH(BC1137&\"/\"&BD1137,③読み替え表_省エネ住宅!$G$48:$G$57,0),1,0),0)","v":0},{"$f":"IFERROR(IF(MATCH(BE1137&\"/\"&BF1137,③読み替え表_省エネ住宅!$G$48:$G$57,0),1,0),0)","v":0},0,"*"]
[null,1134,null,null,null,null,null,null,null,null,null,null,null,null,null,null,null,null,null,null,null,null,null,null,null,null,null,null,null,null,null,null,null,null,null,null,null,null,null,null,null,null,null,null,null,null,null,null,null,null,null,null,null,null,"未","未","未","未",0,{"$f":"IFERROR(IF(MATCH(BC1139&\"/\"&BD1139,③読み替え表_省エネ住宅!$G$48:$G$57,0),1,0),0)","v":0},{"$f":"IFERROR(IF(MATCH(BE1139&\"/\"&BF1139,③読み替え表_省エネ住宅!$G$48:$G$57,0),1,0),0)","v":0},0,"*"]
[null,1138,null,null,null,null,null,null,null,null,null,null,null,null,null,null,null,null,null,null,null,null,null,null,null,null,null,null,null,null,null,null,null,null,null,null,null,null,null,null,null,null,null,null,null,null,null,null,null,null,null,null,null,null,"未","未","未","未",0,{"$f":"IFERROR(IF(MATCH(BC1143&\"/\"&BD1143,③読み替え表_省エネ住宅!$G$48:$G$57,0),1,0),0)","v":0},{"$f":"IFERROR(IF(MATCH(BE1143&\"/\"&BF1143,③読み替え表_省エネ住宅!$G$48:$G$57,0),1,0),0)","v":0},0,"*"]
[null,1141,null,null,null,null,null,null,null,null,null,null,null,null,null,null,null,null,null,null,null,null,null,null,null,null,null,null,null,null,null,null,null,null,null,null,null,null,null,null,null,null,null,null,null,null,null,null,null,null,null,null,null,null,"未","未","未","未",0,{"$f":"IFERROR(IF(MATCH(BC1146&\"/\"&BD1146,③読み替え表_省エネ住宅!$G$48:$G$57,0),1,0),0)","v":0},{"$f":"IFERROR(IF(MATCH(BE1146&\"/\"&BF1146,③読み替え表_省エネ住宅!$G$48:$G$57,0),1,0),0)","v":0},0,"*"]
[null,1142,null,null,null,null,null,null,null,null,null,null,null,null,null,null,null,null,null,null,null,null,null,null,null,null,null,null,null,null,null,null,null,null,null,null,null,null,null,null,null,null,null,null,null,null,null,null,null,null,null,null,null,null,"未","未","未","未",0,{"$f":"IFERROR(IF(MATCH(BC1147&\"/\"&BD1147,③読み替え表_省エネ住宅!$G$48:$G$57,0),1,0),0)","v":0},{"$f":"IFERROR(IF(MATCH(BE1147&\"/\"&BF1147,③読み替え表_省エネ住宅!$G$48:$G$57,0),1,0),0)","v":0},0,"*"]
[null,1145,null,null,null,null,null,null,null,null,null,null,null,null,null,null,null,null,null,null,null,null,null,null,null,null,null,null,null,null,null,null,null,null,null,null,null,null,null,null,null,null,null,null,null,null,null,null,null,null,null,null,null,null,"未","未","未","未",0,{"$f":"IFERROR(IF(MATCH(BC1150&\"/\"&BD1150,③読み替え表_省エネ住宅!$G$48:$G$57,0),1,0),0)","v":0},{"$f":"IFERROR(IF(MATCH(BE1150&\"/\"&BF1150,③読み替え表_省エネ住宅!$G$48:$G$57,0),1,0),0)","v":0},0,"*"]
[null,1148,null,null,null,null,null,null,null,null,null,null,null,null,null,null,null,null,null,null,null,null,null,null,null,null,null,null,null,null,null,null,null,null,null,null,null,null,null,null,null,null,null,null,null,null,null,null,null,null,null,null,null,null,"未","未","未","未",0,{"$f":"IFERROR(IF(MATCH(BC1153&\"/\"&BD1153,③読み替え表_省エネ住宅!$G$48:$G$57,0),1,0),0)","v":0},{"$f":"IFERROR(IF(MATCH(BE1153&\"/\"&BF1153,③読み替え表_省エネ住宅!$G$48:$G$57,0),1,0),0)","v":0},0,"*"]
[null,1151,null,null,null,null,null,null,null,null,null,null,null,null,null,null,null,null,null,null,null,null,null,null,null,null,null,null,null,null,null,null,null,null,null,null,null,null,null,null,null,null,null,null,null,null,null,null,null,null,null,null,null,null,"未","未","未","未",0,{"$f":"IFERROR(IF(MATCH(BC1156&\"/\"&BD1156,③読み替え表_省エネ住宅!$G$48:$G$57,0),1,0),0)","v":0},{"$f":"IFERROR(IF(MATCH(BE1156&\"/\"&BF1156,③読み替え表_省エネ住宅!$G$48:$G$57,0),1,0),0)","v":0},0,"*"]
[null,{"$f":"ROW()-5","v":1154},null,null,null,null,null,null,null,null,null,null,null,null,null,null,null,null,null,null,null,null,null,null,null,null,null,null,null,null,null,null,null,null,null,null,null,null,null,null,null,null,null,null,null,null,null,null,null,null,null,null,null,null,{"$f":"IFERROR(IF(SUM($Q1159:$U1159)>1,\"複数回答\",INDEX($Q$5:$U$5,,MATCH(1,$Q1159:$U1159,0))),\"未\")","v":"未"},{"$f":"IFERROR(IF(SUM($AA1159:$AE1159)>1,\"複数回答\",INDEX($AA$5:$AE$5,,MATCH(1,$AA1159:$AE1159,0))),\"未\")","v":"未"},{"$f":"IFERROR(IF(SUM($V1159:$Z1159)>1,\"複数回答\",INDEX($V$5:$Z$5,,MATCH(1,$V1159:$Z1159,0))),\"未\")","v":"未"},{"$f":"IFERROR(IF(SUM($AF1159:$AJ1159)>1,\"複数回答\",INDEX($AF$5:$AJ$5,,MATCH(1,$AF1159:$AJ1159,0))),\"未\")","v":"未"},{"$f":"IF(BC1159=\"複数回答\",1,IF(BD1159=\"複数回答\",1,IF(BE1159=\"複数回答\",1,IF(BF1159=\"複数回答\",1,0))))","v":0},{"$f":"IFERROR(IF(MATCH(BC1159&\"/\"&BD1159,③読み替え表_省エネ住宅!$G$48:$G$57,0),1,0),0)","v":0},{"$f":"IFERROR(IF(MATCH(BE1159&\"/\"&BF1159,③読み替え表_省エネ住宅!$G$48:$G$57,0),1,0),0)","v":0},{"$f":"IF(SUM(BG1159:BI1159)>0,1,0)","v":0},"*"]
[null,1156,null,null,null,null,null,null,null,null,null,null,null,null,null,null,null,null,null,null,null,null,null,null,null,null,null,null,null,null,null,null,null,null,null,null,null,null,null,null,null,null,null,null,null,null,null,null,null,null,null,null,null,null,"未","未","未","未",0,{"$f":"IFERROR(IF(MATCH(BC1161&\"/\"&BD1161,③読み替え表_省エネ住宅!$G$48:$G$57,0),1,0),0)","v":0},{"$f":"IFERROR(IF(MATCH(BE1161&\"/\"&BF1161,③読み替え表_省エネ住宅!$G$48:$G$57,0),1,0),0)","v":0},0,"*"]
[null,1160,null,null,null,null,null,null,null,null,null,null,null,null,null,null,null,null,null,null,null,null,null,null,null,null,null,null,null,null,null,null,null,null,null,null,null,null,null,null,null,null,null,null,null,null,null,null,null,null,null,null,null,null,"未","未","未","未",0,{"$f":"IFERROR(IF(MATCH(BC1165&\"/\"&BD1165,③読み替え表_省エネ住宅!$G$48:$G$57,0),1,0),0)","v":0},{"$f":"IFERROR(IF(MATCH(BE1165&\"/\"&BF1165,③読み替え表_省エネ住宅!$G$48:$G$57,0),1,0),0)","v":0},0,"*"]
[null,1161,null,null,null,null,null,null,null,null,null,null,null,null,null,null,null,null,null,null,null,null,null,null,null,null,null,null,null,null,null,null,null,null,null,null,null,null,null,null,null,null,null,null,null,null,null,null,null,null,null,null,null,null,"未","未","未","未",0,{"$f":"IFERROR(IF(MATCH(BC1166&\"/\"&BD1166,③読み替え表_省エネ住宅!$G$48:$G$57,0),1,0),0)","v":0},{"$f":"IFERROR(IF(MATCH(BE1166&\"/\"&BF1166,③読み替え表_省エネ住宅!$G$48:$G$57,0),1,0),0)","v":0},0,"*"]
[null,1164,null,null,null,null,null,null,null,null,null,null,null,null,null,null,null,null,null,null,null,null,null,null,null,null,null,null,null,null,null,null,null,null,null,null,null,null,null,null,null,null,null,null,null,null,null,null,null,null,null,null,null,null,"未","未","未","未",0,{"$f":"IFERROR(IF(MATCH(BC1169&\"/\"&BD1169,③読み替え表_省エネ住宅!$G$48:$G$57,0),1,0),0)","v":0},{"$f":"IFERROR(IF(MATCH(BE1169&\"/\"&BF1169,③読み替え表_省エネ住宅!$G$48:$G$57,0),1,0),0)","v":0},0,"*"]
[null,1167,null,null,null,null,null,null,null,null,null,null,null,null,null,null,null,null,null,null,null,null,null,null,null,null,null,null,null,null,null,null,null,null,null,null,null,null,null,null,null,null,null,null,null,null,null,null,null,null,null,null,null,null,"未","未","未","未",0,{"$f":"IFERROR(IF(MATCH(BC1172&\"/\"&BD1172,③読み替え表_省エネ住宅!$G$48:$G$57,0),1,0),0)","v":0},{"$f":"IFERROR(IF(MATCH(BE1172&\"/\"&BF1172,③読み替え表_省エネ住宅!$G$48:$G$57,0),1,0),0)","v":0},0,"*"]
[null,1170,null,null,null,null,null,null,null,null,null,null,null,null,null,null,null,null,null,null,null,null,null,null,null,null,null,null,null,null,null,null,null,null,null,null,null,null,null,null,null,null,null,null,null,null,null,null,null,null,null,null,null,null,"未","未","未","未",0,{"$f":"IFERROR(IF(MATCH(BC1175&\"/\"&BD1175,③読み替え表_省エネ住宅!$G$48:$G$57,0),1,0),0)","v":0},{"$f":"IFERROR(IF(MATCH(BE1175&\"/\"&BF1175,③読み替え表_省エネ住宅!$G$48:$G$57,0),1,0),0)","v":0},0,"*"]
[null,1173,null,null,null,null,null,null,null,null,null,null,null,null,null,null,null,null,null,null,null,null,null,null,null,null,null,null,null,null,null,null,null,null,null,null,null,null,null,null,null,null,null,null,null,null,null,null,null,null,null,null,null,null,"未","未","未","未",0,{"$f":"IFERROR(IF(MATCH(BC1178&\"/\"&BD1178,③読み替え表_省エネ住宅!$G$48:$G$57,0),1,0),0)","v":0},{"$f":"IFERROR(IF(MATCH(BE1178&\"/\"&BF1178,③読み替え表_省エネ住宅!$G$48:$G$57,0),1,0),0)","v":0},0,"*"]
[null,1176,null,null,null,null,null,null,null,null,null,null,null,null,null,null,null,null,null,null,null,null,null,null,null,null,null,null,null,null,null,null,null,null,null,null,null,null,null,null,null,null,null,null,null,null,null,null,null,null,null,null,null,null,"未","未","未","未",0,{"$f":"IFERROR(IF(MATCH(BC1181&\"/\"&BD1181,③読み替え表_省エネ住宅!$G$48:$G$57,0),1,0),0)","v":0},{"$f":"IFERROR(IF(MATCH(BE1181&\"/\"&BF1181,③読み替え表_省エネ住宅!$G$48:$G$57,0),1,0),0)","v":0},0,"*"]
[null,1178,null,null,null,null,null,null,null,null,null,null,null,null,null,null,null,null,null,null,null,null,null,null,null,null,null,null,null,null,null,null,null,null,null,null,null,null,null,null,null,null,null,null,null,null,null,null,null,null,null,null,null,null,"未","未","未","未",0,{"$f":"IFERROR(IF(MATCH(BC1183&\"/\"&BD1183,③読み替え表_省エネ住宅!$G$48:$G$57,0),1,0),0)","v":0},{"$f":"IFERROR(IF(MATCH(BE1183&\"/\"&BF1183,③読み替え表_省エネ住宅!$G$48:$G$57,0),1,0),0)","v":0},0,"*"]
[null,1182,null,null,null,null,null,null,null,null,null,null,null,null,null,null,null,null,null,null,null,null,null,null,null,null,null,null,null,null,null,null,null,null,null,null,null,null,null,null,null,null,null,null,null,null,null,null,null,null,null,null,null,null,"未","未","未","未",0,{"$f":"IFERROR(IF(MATCH(BC1187&\"/\"&BD1187,③読み替え表_省エネ住宅!$G$48:$G$57,0),1,0),0)","v":0},{"$f":"IFERROR(IF(MATCH(BE1187&\"/\"&BF1187,③読み替え表_省エネ住宅!$G$48:$G$57,0),1,0),0)","v":0},0,"*"]
[null,1183,null,null,null,null,null,null,null,null,null,null,null,null,null,null,null,null,null,null,null,null,null,null,null,null,null,null,null,null,null,null,null,null,null,null,null,null,null,null,null,null,null,null,null,null,null,null,null,null,null,null,null,null,"未","未","未","未",0,{"$f":"IFERROR(IF(MATCH(BC1188&\"/\"&BD1188,③読み替え表_省エネ住宅!$G$48:$G$57,0),1,0),0)","v":0},{"$f":"IFERROR(IF(MATCH(BE1188&\"/\"&BF1188,③読み替え表_省エネ住宅!$G$48:$G$57,0),1,0),0)","v":0},0,"*"]
[null,1186,null,null,null,null,null,null,null,null,null,null,null,null,null,null,null,null,null,null,null,null,null,null,null,null,null,null,null,null,null,null,null,null,null,null,null,null,null,null,null,null,null,null,null,null,null,null,null,null,null,null,null,null,"未","未","未","未",0,{"$f":"IFERROR(IF(MATCH(BC1191&\"/\"&BD1191,③読み替え表_省エネ住宅!$G$48:$G$57,0),1,0),0)","v":0},{"$f":"IFERROR(IF(MATCH(BE1191&\"/\"&BF1191,③読み替え表_省エネ住宅!$G$48:$G$57,0),1,0),0)","v":0},0,"*"]
[null,1189,null,null,null,null,null,null,null,null,null,null,null,null,null,null,null,null,null,null,null,null,null,null,null,null,null,null,null,null,null,null,null,null,null,null,null,null,null,null,null,null,null,null,null,null,null,null,null,null,null,null,null,null,"未","未","未","未",0,{"$f":"IFERROR(IF(MATCH(BC1194&\"/\"&BD1194,③読み替え表_省エネ住宅!$G$48:$G$57,0),1,0),0)","v":0},{"$f":"IFERROR(IF(MATCH(BE1194&\"/\"&BF1194,③読み替え表_省エネ住宅!$G$48:$G$57,0),1,0),0)","v":0},0,"*"]
[null,1193,null,null,null,null,null,null,null,null,null,null,null,null,null,null,null,null,null,null,null,null,null,null,null,null,null,null,null,null,null,null,null,null,null,null,null,null,null,null,null,null,null,null,null,null,null,null,null,null,null,null,null,null,"未","未","未","未",0,{"$f":"IFERROR(IF(MATCH(BC1198&\"/\"&BD1198,③読み替え表_省エネ住宅!$G$48:$G$57,0),1,0),0)","v":0},{"$f":"IFERROR(IF(MATCH(BE1198&\"/\"&BF1198,③読み替え表_省エネ住宅!$G$48:$G$57,0),1,0),0)","v":0},0,"*"]
[null,1195,null,null,null,null,null,null,null,null,null,null,null,null,null,null,null,null,null,null,null,null,null,null,null,null,null,null,null,null,null,null,null,null,null,null,null,null,null,null,null,null,null,null,null,null,null,null,null,null,null,null,null,null,"未","未","未","未",0,{"$f":"IFERROR(IF(MATCH(BC1200&\"/\"&BD1200,③読み替え表_省エネ住宅!$G$48:$G$57,0),1,0),0)","v":0},{"$f":"IFERROR(IF(MATCH(BE1200&\"/\"&BF1200,③読み替え表_省エネ住宅!$G$48:$G$57,0),1,0),0)","v":0},0,"*"]
[null,1199,null,null,null,null,null,null,null,null,null,null,null,null,null,null,null,null,null,null,null,null,null,null,null,null,null,null,null,null,null,null,null,null,null,null,null,null,null,null,null,null,null,null,null,null,null,null,null,null,null,null,null,null,"未","未","未","未",0,{"$f":"IFERROR(IF(MATCH(BC1204&\"/\"&BD1204,③読み替え表_省エネ住宅!$G$48:$G$57,0),1,0),0)","v":0},{"$f":"IFERROR(IF(MATCH(BE1204&\"/\"&BF1204,③読み替え表_省エネ住宅!$G$48:$G$57,0),1,0),0)","v":0},0,"*"]
[null,1202,null,null,null,null,null,null,null,null,null,null,null,null,null,null,null,null,null,null,null,null,null,null,null,null,null,null,null,null,null,null,null,null,null,null,null,null,null,null,null,null,null,null,null,null,null,null,null,null,null,null,null,null,"未","未","未","未",0,{"$f":"IFERROR(IF(MATCH(BC1207&\"/\"&BD1207,③読み替え表_省エネ住宅!$G$48:$G$57,0),1,0),0)","v":0},{"$f":"IFERROR(IF(MATCH(BE1207&\"/\"&BF1207,③読み替え表_省エネ住宅!$G$48:$G$57,0),1,0),0)","v":0},0,"*"]
[null,1204,null,null,null,null,null,null,null,null,null,null,null,null,null,null,null,null,null,null,null,null,null,null,null,null,null,null,null,null,null,null,null,null,null,null,null,null,null,null,null,null,null,null,null,null,null,null,null,null,null,null,null,null,"未","未","未","未",0,{"$f":"IFERROR(IF(MATCH(BC1209&\"/\"&BD1209,③読み替え表_省エネ住宅!$G$48:$G$57,0),1,0),0)","v":0},{"$f":"IFERROR(IF(MATCH(BE1209&\"/\"&BF1209,③読み替え表_省エネ住宅!$G$48:$G$57,0),1,0),0)","v":0},0,"*"]
[null,1205,null,null,null,null,null,null,null,null,null,null,null,null,null,null,null,null,null,null,null,null,null,null,null,null,null,null,null,null,null,null,null,null,null,null,null,null,null,null,null,null,null,null,null,null,null,null,null,null,null,null,null,null,"未","未","未","未",0,{"$f":"IFERROR(IF(MATCH(BC1210&\"/\"&BD1210,③読み替え表_省エネ住宅!$G$48:$G$57,0),1,0),0)","v":0},{"$f":"IFERROR(IF(MATCH(BE1210&\"/\"&BF1210,③読み替え表_省エネ住宅!$G$48:$G$57,0),1,0),0)","v":0},0,"*"]
[null,1208,null,null,null,null,null,null,null,null,null,null,null,null,null,null,null,null,null,null,null,null,null,null,null,null,null,null,null,null,null,null,null,null,null,null,null,null,null,null,null,null,null,null,null,null,null,null,null,null,null,null,null,null,"未","未","未","未",0,{"$f":"IFERROR(IF(MATCH(BC1213&\"/\"&BD1213,③読み替え表_省エネ住宅!$G$48:$G$57,0),1,0),0)","v":0},{"$f":"IFERROR(IF(MATCH(BE1213&\"/\"&BF1213,③読み替え表_省エネ住宅!$G$48:$G$57,0),1,0),0)","v":0},0,"*"]
[null,1211,null,null,null,null,null,null,null,null,null,null,null,null,null,null,null,null,null,null,null,null,null,null,null,null,null,null,null,null,null,null,null,null,null,null,null,null,null,null,null,null,null,null,null,null,null,null,null,null,null,null,null,null,"未","未","未","未",0,{"$f":"IFERROR(IF(MATCH(BC1216&\"/\"&BD1216,③読み替え表_省エネ住宅!$G$48:$G$57,0),1,0),0)","v":0},{"$f":"IFERROR(IF(MATCH(BE1216&\"/\"&BF1216,③読み替え表_省エネ住宅!$G$48:$G$57,0),1,0),0)","v":0},0,"*"]
[null,1215,null,null,null,null,null,null,null,null,null,null,null,null,null,null,null,null,null,null,null,null,null,null,null,null,null,null,null,null,null,null,null,null,null,null,null,null,null,null,null,null,null,null,null,null,null,null,null,null,null,null,null,null,"未","未","未","未",0,{"$f":"IFERROR(IF(MATCH(BC1220&\"/\"&BD1220,③読み替え表_省エネ住宅!$G$48:$G$57,0),1,0),0)","v":0},{"$f":"IFERROR(IF(MATCH(BE1220&\"/\"&BF1220,③読み替え表_省エネ住宅!$G$48:$G$57,0),1,0),0)","v":0},0,"*"]
[null,1217,null,null,null,null,null,null,null,null,null,null,null,null,null,null,null,null,null,null,null,null,null,null,null,null,null,null,null,null,null,null,null,null,null,null,null,null,null,null,null,null,null,null,null,null,null,null,null,null,null,null,null,null,"未","未","未","未",0,{"$f":"IFERROR(IF(MATCH(BC1222&\"/\"&BD1222,③読み替え表_省エネ住宅!$G$48:$G$57,0),1,0),0)","v":0},{"$f":"IFERROR(IF(MATCH(BE1222&\"/\"&BF1222,③読み替え表_省エネ住宅!$G$48:$G$57,0),1,0),0)","v":0},0,"*"]
[null,1221,null,null,null,null,null,null,null,null,null,null,null,null,null,null,null,null,null,null,null,null,null,null,null,null,null,null,null,null,null,null,null,null,null,null,null,null,null,null,null,null,null,null,null,null,null,null,null,null,null,null,null,null,"未","未","未","未",0,{"$f":"IFERROR(IF(MATCH(BC1226&\"/\"&BD1226,③読み替え表_省エネ住宅!$G$48:$G$57,0),1,0),0)","v":0},{"$f":"IFERROR(IF(MATCH(BE1226&\"/\"&BF1226,③読み替え表_省エネ住宅!$G$48:$G$57,0),1,0),0)","v":0},0,"*"]
[null,1224,null,null,null,null,null,null,null,null,null,null,null,null,null,null,null,null,null,null,null,null,null,null,null,null,null,null,null,null,null,null,null,null,null,null,null,null,null,null,null,null,null,null,null,null,null,null,null,null,null,null,null,null,"未","未","未","未",0,{"$f":"IFERROR(IF(MATCH(BC1229&\"/\"&BD1229,③読み替え表_省エネ住宅!$G$48:$G$57,0),1,0),0)","v":0},{"$f":"IFERROR(IF(MATCH(BE1229&\"/\"&BF1229,③読み替え表_省エネ住宅!$G$48:$G$57,0),1,0),0)","v":0},0,"*"]
[null,1226,null,null,null,null,null,null,null,null,null,null,null,null,null,null,null,null,null,null,null,null,null,null,null,null,null,null,null,null,null,null,null,null,null,null,null,null,null,null,null,null,null,null,null,null,null,null,null,null,null,null,null,null,"未","未","未","未",0,{"$f":"IFERROR(IF(MATCH(BC1231&\"/\"&BD1231,③読み替え表_省エネ住宅!$G$48:$G$57,0),1,0),0)","v":0},{"$f":"IFERROR(IF(MATCH(BE1231&\"/\"&BF1231,③読み替え表_省エネ住宅!$G$48:$G$57,0),1,0),0)","v":0},0,"*"]
[null,1227,null,null,null,null,null,null,null,null,null,null,null,null,null,null,null,null,null,null,null,null,null,null,null,null,null,null,null,null,null,null,null,null,null,null,null,null,null,null,null,null,null,null,null,null,null,null,null,null,null,null,null,null,"未","未","未","未",0,{"$f":"IFERROR(IF(MATCH(BC1232&\"/\"&BD1232,③読み替え表_省エネ住宅!$G$48:$G$57,0),1,0),0)","v":0},{"$f":"IFERROR(IF(MATCH(BE1232&\"/\"&BF1232,③読み替え表_省エネ住宅!$G$48:$G$57,0),1,0),0)","v":0},0,"*"]
[null,1230,null,null,null,null,null,null,null,null,null,null,null,null,null,null,null,null,null,null,null,null,null,null,null,null,null,null,null,null,null,null,null,null,null,null,null,null,null,null,null,null,null,null,null,null,null,null,null,null,null,null,null,null,"未","未","未","未",0,{"$f":"IFERROR(IF(MATCH(BC1235&\"/\"&BD1235,③読み替え表_省エネ住宅!$G$48:$G$57,0),1,0),0)","v":0},{"$f":"IFERROR(IF(MATCH(BE1235&\"/\"&BF1235,③読み替え表_省エネ住宅!$G$48:$G$57,0),1,0),0)","v":0},0,"*"]
[null,1233,null,null,null,null,null,null,null,null,null,null,null,null,null,null,null,null,null,null,null,null,null,null,null,null,null,null,null,null,null,null,null,null,null,null,null,null,null,null,null,null,null,null,null,null,null,null,null,null,null,null,null,null,"未","未","未","未",0,{"$f":"IFERROR(IF(MATCH(BC1238&\"/\"&BD1238,③読み替え表_省エネ住宅!$G$48:$G$57,0),1,0),0)","v":0},{"$f":"IFERROR(IF(MATCH(BE1238&\"/\"&BF1238,③読み替え表_省エネ住宅!$G$48:$G$57,0),1,0),0)","v":0},0,"*"]
[null,1237,null,null,null,null,null,null,null,null,null,null,null,null,null,null,null,null,null,null,null,null,null,null,null,null,null,null,null,null,null,null,null,null,null,null,null,null,null,null,null,null,null,null,null,null,null,null,null,null,null,null,null,null,"未","未","未","未",0,{"$f":"IFERROR(IF(MATCH(BC1242&\"/\"&BD1242,③読み替え表_省エネ住宅!$G$48:$G$57,0),1,0),0)","v":0},{"$f":"IFERROR(IF(MATCH(BE1242&\"/\"&BF1242,③読み替え表_省エネ住宅!$G$48:$G$57,0),1,0),0)","v":0},0,"*"]
[null,1239,null,null,null,null,null,null,null,null,null,null,null,null,null,null,null,null,null,null,null,null,null,null,null,null,null,null,null,null,null,null,null,null,null,null,null,null,null,null,null,null,null,null,null,null,null,null,null,null,null,null,null,null,"未","未","未","未",0,{"$f":"IFERROR(IF(MATCH(BC1244&\"/\"&BD1244,③読み替え表_省エネ住宅!$G$48:$G$57,0),1,0),0)","v":0},{"$f":"IFERROR(IF(MATCH(BE1244&\"/\"&BF1244,③読み替え表_省エネ住宅!$G$48:$G$57,0),1,0),0)","v":0},0,"*"]
[null,1243,null,null,null,null,null,null,null,null,null,null,null,null,null,null,null,null,null,null,null,null,null,null,null,null,null,null,null,null,null,null,null,null,null,null,null,null,null,null,null,null,null,null,null,null,null,null,null,null,null,null,null,null,"未","未","未","未",0,{"$f":"IFERROR(IF(MATCH(BC1248&\"/\"&BD1248,③読み替え表_省エネ住宅!$G$48:$G$57,0),1,0),0)","v":0},{"$f":"IFERROR(IF(MATCH(BE1248&\"/\"&BF1248,③読み替え表_省エネ住宅!$G$48:$G$57,0),1,0),0)","v":0},0,"*"]
[null,1246,null,null,null,null,null,null,null,null,null,null,null,null,null,null,null,null,null,null,null,null,null,null,null,null,null,null,null,null,null,null,null,null,null,null,null,null,null,null,null,null,null,null,null,null,null,null,null,null,null,null,null,null,"未","未","未","未",0,{"$f":"IFERROR(IF(MATCH(BC1251&\"/\"&BD1251,③読み替え表_省エネ住宅!$G$48:$G$57,0),1,0),0)","v":0},{"$f":"IFERROR(IF(MATCH(BE1251&\"/\"&BF1251,③読み替え表_省エネ住宅!$G$48:$G$57,0),1,0),0)","v":0},0,"*"]
[null,1249,null,null,null,null,null,null,null,null,null,null,null,null,null,null,null,null,null,null,null,null,null,null,null,null,null,null,null,null,null,null,null,null,null,null,null,null,null,null,null,null,null,null,null,null,null,null,null,null,null,null,null,null,"未","未","未","未",0,{"$f":"IFERROR(IF(MATCH(BC1254&\"/\"&BD1254,③読み替え表_省エネ住宅!$G$48:$G$57,0),1,0),0)","v":0},{"$f":"IFERROR(IF(MATCH(BE1254&\"/\"&BF1254,③読み替え表_省エネ住宅!$G$48:$G$57,0),1,0),0)","v":0},0,"*"]
[null,1250,null,null,null,null,null,null,null,null,null,null,null,null,null,null,null,null,null,null,null,null,null,null,null,null,null,null,null,null,null,null,null,null,null,null,null,null,null,null,null,null,null,null,null,null,null,null,null,null,null,null,null,null,"未","未","未","未",0,{"$f":"IFERROR(IF(MATCH(BC1255&\"/\"&BD1255,③読み替え表_省エネ住宅!$G$48:$G$57,0),1,0),0)","v":0},{"$f":"IFERROR(IF(MATCH(BE1255&\"/\"&BF1255,③読み替え表_省エネ住宅!$G$48:$G$57,0),1,0),0)","v":0},0,"*"]
[null,1252,null,null,null,null,null,null,null,null,null,null,null,null,null,null,null,null,null,null,null,null,null,null,null,null,null,null,null,null,null,null,null,null,null,null,null,null,null,null,null,null,null,null,null,null,null,null,null,null,null,null,null,null,"未","未","未","未",0,{"$f":"IFERROR(IF(MATCH(BC1257&\"/\"&BD1257,③読み替え表_省エネ住宅!$G$48:$G$57,0),1,0),0)","v":0},{"$f":"IFERROR(IF(MATCH(BE1257&\"/\"&BF1257,③読み替え表_省エネ住宅!$G$48:$G$57,0),1,0),0)","v":0},0,"*"]
[null,1256,null,null,null,null,null,null,null,null,null,null,null,null,null,null,null,null,null,null,null,null,null,null,null,null,null,null,null,null,null,null,null,null,null,null,null,null,null,null,null,null,null,null,null,null,null,null,null,null,null,null,null,null,"未","未","未","未",0,{"$f":"IFERROR(IF(MATCH(BC1261&\"/\"&BD1261,③読み替え表_省エネ住宅!$G$48:$G$57,0),1,0),0)","v":0},{"$f":"IFERROR(IF(MATCH(BE1261&\"/\"&BF1261,③読み替え表_省エネ住宅!$G$48:$G$57,0),1,0),0)","v":0},0,"*"]
[null,1259,null,null,null,null,null,null,null,null,null,null,null,null,null,null,null,null,null,null,null,null,null,null,null,null,null,null,null,null,null,null,null,null,null,null,null,null,null,null,null,null,null,null,null,null,null,null,null,null,null,null,null,null,"未","未","未","未",0,{"$f":"IFERROR(IF(MATCH(BC1264&\"/\"&BD1264,③読み替え表_省エネ住宅!$G$48:$G$57,0),1,0),0)","v":0},{"$f":"IFERROR(IF(MATCH(BE1264&\"/\"&BF1264,③読み替え表_省エネ住宅!$G$48:$G$57,0),1,0),0)","v":0},0,"*"]
[null,1261,null,null,null,null,null,null,null,null,null,null,null,null,null,null,null,null,null,null,null,null,null,null,null,null,null,null,null,null,null,null,null,null,null,null,null,null,null,null,null,null,null,null,null,null,null,null,null,null,null,null,null,null,"未","未","未","未",0,{"$f":"IFERROR(IF(MATCH(BC1266&\"/\"&BD1266,③読み替え表_省エネ住宅!$G$48:$G$57,0),1,0),0)","v":0},{"$f":"IFERROR(IF(MATCH(BE1266&\"/\"&BF1266,③読み替え表_省エネ住宅!$G$48:$G$57,0),1,0),0)","v":0},0,"*"]
[null,1265,null,null,null,null,null,null,null,null,null,null,null,null,null,null,null,null,null,null,null,null,null,null,null,null,null,null,null,null,null,null,null,null,null,null,null,null,null,null,null,null,null,null,null,null,null,null,null,null,null,null,null,null,"未","未","未","未",0,{"$f":"IFERROR(IF(MATCH(BC1270&\"/\"&BD1270,③読み替え表_省エネ住宅!$G$48:$G$57,0),1,0),0)","v":0},{"$f":"IFERROR(IF(MATCH(BE1270&\"/\"&BF1270,③読み替え表_省エネ住宅!$G$48:$G$57,0),1,0),0)","v":0},0,"*"]
[null,1268,null,null,null,null,null,null,null,null,null,null,null,null,null,null,null,null,null,null,null,null,null,null,null,null,null,null,null,null,null,null,null,null,null,null,null,null,null,null,null,null,null,null,null,null,null,null,null,null,null,null,null,null,"未","未","未","未",0,{"$f":"IFERROR(IF(MATCH(BC1273&\"/\"&BD1273,③読み替え表_省エネ住宅!$G$48:$G$57,0),1,0),0)","v":0},{"$f":"IFERROR(IF(MATCH(BE1273&\"/\"&BF1273,③読み替え表_省エネ住宅!$G$48:$G$57,0),1,0),0)","v":0},0,"*"]
[null,1271,null,null,null,null,null,null,null,null,null,null,null,null,null,null,null,null,null,null,null,null,null,null,null,null,null,null,null,null,null,null,null,null,null,null,null,null,null,null,null,null,null,null,null,null,null,null,null,null,null,null,null,null,"未","未","未","未",0,{"$f":"IFERROR(IF(MATCH(BC1276&\"/\"&BD1276,③読み替え表_省エネ住宅!$G$48:$G$57,0),1,0),0)","v":0},{"$f":"IFERROR(IF(MATCH(BE1276&\"/\"&BF1276,③読み替え表_省エネ住宅!$G$48:$G$57,0),1,0),0)","v":0},0,"*"]
[null,1272,null,null,null,null,null,null,null,null,null,null,null,null,null,null,null,null,null,null,null,null,null,null,null,null,null,null,null,null,null,null,null,null,null,null,null,null,null,null,null,null,null,null,null,null,null,null,null,null,null,null,null,null,"未","未","未","未",0,{"$f":"IFERROR(IF(MATCH(BC1277&\"/\"&BD1277,③読み替え表_省エネ住宅!$G$48:$G$57,0),1,0),0)","v":0},{"$f":"IFERROR(IF(MATCH(BE1277&\"/\"&BF1277,③読み替え表_省エネ住宅!$G$48:$G$57,0),1,0),0)","v":0},0,"*"]
[null,1274,null,null,null,null,null,null,null,null,null,null,null,null,null,null,null,null,null,null,null,null,null,null,null,null,null,null,null,null,null,null,null,null,null,null,null,null,null,null,null,null,null,null,null,null,null,null,null,null,null,null,null,null,"未","未","未","未",0,{"$f":"IFERROR(IF(MATCH(BC1279&\"/\"&BD1279,③読み替え表_省エネ住宅!$G$48:$G$57,0),1,0),0)","v":0},{"$f":"IFERROR(IF(MATCH(BE1279&\"/\"&BF1279,③読み替え表_省エネ住宅!$G$48:$G$57,0),1,0),0)","v":0},0,"*"]
[null,1278,null,null,null,null,null,null,null,null,null,null,null,null,null,null,null,null,null,null,null,null,null,null,null,null,null,null,null,null,null,null,null,null,null,null,null,null,null,null,null,null,null,null,null,null,null,null,null,null,null,null,null,null,"未","未","未","未",0,{"$f":"IFERROR(IF(MATCH(BC1283&\"/\"&BD1283,③読み替え表_省エネ住宅!$G$48:$G$57,0),1,0),0)","v":0},{"$f":"IFERROR(IF(MATCH(BE1283&\"/\"&BF1283,③読み替え表_省エネ住宅!$G$48:$G$57,0),1,0),0)","v":0},0,"*"]
[null,1281,null,null,null,null,null,null,null,null,null,null,null,null,null,null,null,null,null,null,null,null,null,null,null,null,null,null,null,null,null,null,null,null,null,null,null,null,null,null,null,null,null,null,null,null,null,null,null,null,null,null,null,null,"未","未","未","未",0,{"$f":"IFERROR(IF(MATCH(BC1286&\"/\"&BD1286,③読み替え表_省エネ住宅!$G$48:$G$57,0),1,0),0)","v":0},{"$f":"IFERROR(IF(MATCH(BE1286&\"/\"&BF1286,③読み替え表_省エネ住宅!$G$48:$G$57,0),1,0),0)","v":0},0,"*"]
[null,1283,null,null,null,null,null,null,null,null,null,null,null,null,null,null,null,null,null,null,null,null,null,null,null,null,null,null,null,null,null,null,null,null,null,null,null,null,null,null,null,null,null,null,null,null,null,null,null,null,null,null,null,null,"未","未","未","未",0,{"$f":"IFERROR(IF(MATCH(BC1288&\"/\"&BD1288,③読み替え表_省エネ住宅!$G$48:$G$57,0),1,0),0)","v":0},{"$f":"IFERROR(IF(MATCH(BE1288&\"/\"&BF1288,③読み替え表_省エネ住宅!$G$48:$G$57,0),1,0),0)","v":0},0,"*"]
[null,1287,null,null,null,null,null,null,null,null,null,null,null,null,null,null,null,null,null,null,null,null,null,null,null,null,null,null,null,null,null,null,null,null,null,null,null,null,null,null,null,null,null,null,null,null,null,null,null,null,null,null,null,null,"未","未","未","未",0,{"$f":"IFERROR(IF(MATCH(BC1292&\"/\"&BD1292,③読み替え表_省エネ住宅!$G$48:$G$57,0),1,0),0)","v":0},{"$f":"IFERROR(IF(MATCH(BE1292&\"/\"&BF1292,③読み替え表_省エネ住宅!$G$48:$G$57,0),1,0),0)","v":0},0,"*"]
[null,1290,null,null,null,null,null,null,null,null,null,null,null,null,null,null,null,null,null,null,null,null,null,null,null,null,null,null,null,null,null,null,null,null,null,null,null,null,null,null,null,null,null,null,null,null,null,null,null,null,null,null,null,null,"未","未","未","未",0,{"$f":"IFERROR(IF(MATCH(BC1295&\"/\"&BD1295,③読み替え表_省エネ住宅!$G$48:$G$57,0),1,0),0)","v":0},{"$f":"IFERROR(IF(MATCH(BE1295&\"/\"&BF1295,③読み替え表_省エネ住宅!$G$48:$G$57,0),1,0),0)","v":0},0,"*"]
[null,1291,null,null,null,null,null,null,null,null,null,null,null,null,null,null,null,null,null,null,null,null,null,null,null,null,null,null,null,null,null,null,null,null,null,null,null,null,null,null,null,null,null,null,null,null,null,null,null,null,null,null,null,null,"未","未","未","未",0,{"$f":"IFERROR(IF(MATCH(BC1296&\"/\"&BD1296,③読み替え表_省エネ住宅!$G$48:$G$57,0),1,0),0)","v":0},{"$f":"IFERROR(IF(MATCH(BE1296&\"/\"&BF1296,③読み替え表_省エネ住宅!$G$48:$G$57,0),1,0),0)","v":0},0,"*"]
[null,1294,null,null,null,null,null,null,null,null,null,null,null,null,null,null,null,null,null,null,null,null,null,null,null,null,null,null,null,null,null,null,null,null,null,null,null,null,null,null,null,null,null,null,null,null,null,null,null,null,null,null,null,null,"未","未","未","未",0,{"$f":"IFERROR(IF(MATCH(BC1299&\"/\"&BD1299,③読み替え表_省エネ住宅!$G$48:$G$57,0),1,0),0)","v":0},{"$f":"IFERROR(IF(MATCH(BE1299&\"/\"&BF1299,③読み替え表_省エネ住宅!$G$48:$G$57,0),1,0),0)","v":0},0,"*"]
[null,1296,null,null,null,null,null,null,null,null,null,null,null,null,null,null,null,null,null,null,null,null,null,null,null,null,null,null,null,null,null,null,null,null,null,null,null,null,null,null,null,null,null,null,null,null,null,null,null,null,null,null,null,null,"未","未","未","未",0,{"$f":"IFERROR(IF(MATCH(BC1301&\"/\"&BD1301,③読み替え表_省エネ住宅!$G$48:$G$57,0),1,0),0)","v":0},{"$f":"IFERROR(IF(MATCH(BE1301&\"/\"&BF1301,③読み替え表_省エネ住宅!$G$48:$G$57,0),1,0),0)","v":0},0,"*"]
[null,1300,null,null,null,null,null,null,null,null,null,null,null,null,null,null,null,null,null,null,null,null,null,null,null,null,null,null,null,null,null,null,null,null,null,null,null,null,null,null,null,null,null,null,null,null,null,null,null,null,null,null,null,null,"未","未","未","未",0,{"$f":"IFERROR(IF(MATCH(BC1305&\"/\"&BD1305,③読み替え表_省エネ住宅!$G$48:$G$57,0),1,0),0)","v":0},{"$f":"IFERROR(IF(MATCH(BE1305&\"/\"&BF1305,③読み替え表_省エネ住宅!$G$48:$G$57,0),1,0),0)","v":0},0,"*"]
[null,1303,null,null,null,null,null,null,null,null,null,null,null,null,null,null,null,null,null,null,null,null,null,null,null,null,null,null,null,null,null,null,null,null,null,null,null,null,null,null,null,null,null,null,null,null,null,null,null,null,null,null,null,null,"未","未","未","未",0,{"$f":"IFERROR(IF(MATCH(BC1308&\"/\"&BD1308,③読み替え表_省エネ住宅!$G$48:$G$57,0),1,0),0)","v":0},{"$f":"IFERROR(IF(MATCH(BE1308&\"/\"&BF1308,③読み替え表_省エネ住宅!$G$48:$G$57,0),1,0),0)","v":0},0,"*"]
[null,1306,null,null,null,null,null,null,null,null,null,null,null,null,null,null,null,null,null,null,null,null,null,null,null,null,null,null,null,null,null,null,null,null,null,null,null,null,null,null,null,null,null,null,null,null,null,null,null,null,null,null,null,null,"未","未","未","未",0,{"$f":"IFERROR(IF(MATCH(BC1311&\"/\"&BD1311,③読み替え表_省エネ住宅!$G$48:$G$57,0),1,0),0)","v":0},{"$f":"IFERROR(IF(MATCH(BE1311&\"/\"&BF1311,③読み替え表_省エネ住宅!$G$48:$G$57,0),1,0),0)","v":0},0,"*"]
[null,1309,null,null,null,null,null,null,null,null,null,null,null,null,null,null,null,null,null,null,null,null,null,null,null,null,null,null,null,null,null,null,null,null,null,null,null,null,null,null,null,null,null,null,null,null,null,null,null,null,null,null,null,null,"未","未","未","未",0,{"$f":"IFERROR(IF(MATCH(BC1314&\"/\"&BD1314,③読み替え表_省エネ住宅!$G$48:$G$57,0),1,0),0)","v":0},{"$f":"IFERROR(IF(MATCH(BE1314&\"/\"&BF1314,③読み替え表_省エネ住宅!$G$48:$G$57,0),1,0),0)","v":0},0,"*"]
[null,1312,null,null,null,null,null,null,null,null,null,null,null,null,null,null,null,null,null,null,null,null,null,null,null,null,null,null,null,null,null,null,null,null,null,null,null,null,null,null,null,null,null,null,null,null,null,null,null,null,null,null,null,null,"未","未","未","未",0,{"$f":"IFERROR(IF(MATCH(BC1317&\"/\"&BD1317,③読み替え表_省エネ住宅!$G$48:$G$57,0),1,0),0)","v":0},{"$f":"IFERROR(IF(MATCH(BE1317&\"/\"&BF1317,③読み替え表_省エネ住宅!$G$48:$G$57,0),1,0),0)","v":0},0,"*"]
[null,1313,null,null,null,null,null,null,null,null,null,null,null,null,null,null,null,null,null,null,null,null,null,null,null,null,null,null,null,null,null,null,null,null,null,null,null,null,null,null,null,null,null,null,null,null,null,null,null,null,null,null,null,null,"未","未","未","未",0,{"$f":"IFERROR(IF(MATCH(BC1318&\"/\"&BD1318,③読み替え表_省エネ住宅!$G$48:$G$57,0),1,0),0)","v":0},{"$f":"IFERROR(IF(MATCH(BE1318&\"/\"&BF1318,③読み替え表_省エネ住宅!$G$48:$G$57,0),1,0),0)","v":0},0,"*"]
[null,1316,null,null,null,null,null,null,null,null,null,null,null,null,null,null,null,null,null,null,null,null,null,null,null,null,null,null,null,null,null,null,null,null,null,null,null,null,null,null,null,null,null,null,null,null,null,null,null,null,null,null,null,null,"未","未","未","未",0,{"$f":"IFERROR(IF(MATCH(BC1321&\"/\"&BD1321,③読み替え表_省エネ住宅!$G$48:$G$57,0),1,0),0)","v":0},{"$f":"IFERROR(IF(MATCH(BE1321&\"/\"&BF1321,③読み替え表_省エネ住宅!$G$48:$G$57,0),1,0),0)","v":0},0,"*"]
[null,1320,null,null,null,null,null,null,null,null,null,null,null,null,null,null,null,null,null,null,null,null,null,null,null,null,null,null,null,null,null,null,null,null,null,null,null,null,null,null,null,null,null,null,null,null,null,null,null,null,null,null,null,null,"未","未","未","未",0,{"$f":"IFERROR(IF(MATCH(BC1325&\"/\"&BD1325,③読み替え表_省エネ住宅!$G$48:$G$57,0),1,0),0)","v":0},{"$f":"IFERROR(IF(MATCH(BE1325&\"/\"&BF1325,③読み替え表_省エネ住宅!$G$48:$G$57,0),1,0),0)","v":0},0,"*"]
[null,1322,null,null,null,null,null,null,null,null,null,null,null,null,null,null,null,null,null,null,null,null,null,null,null,null,null,null,null,null,null,null,null,null,null,null,null,null,null,null,null,null,null,null,null,null,null,null,null,null,null,null,null,null,"未","未","未","未",0,{"$f":"IFERROR(IF(MATCH(BC1327&\"/\"&BD1327,③読み替え表_省エネ住宅!$G$48:$G$57,0),1,0),0)","v":0},{"$f":"IFERROR(IF(MATCH(BE1327&\"/\"&BF1327,③読み替え表_省エネ住宅!$G$48:$G$57,0),1,0),0)","v":0},0,"*"]
[null,1325,null,null,null,null,null,null,null,null,null,null,null,null,null,null,null,null,null,null,null,null,null,null,null,null,null,null,null,null,null,null,null,null,null,null,null,null,null,null,null,null,null,null,null,null,null,null,null,null,null,null,null,null,"未","未","未","未",0,{"$f":"IFERROR(IF(MATCH(BC1330&\"/\"&BD1330,③読み替え表_省エネ住宅!$G$48:$G$57,0),1,0),0)","v":0},{"$f":"IFERROR(IF(MATCH(BE1330&\"/\"&BF1330,③読み替え表_省エネ住宅!$G$48:$G$57,0),1,0),0)","v":0},0,"*"]
[null,1328,null,null,null,null,null,null,null,null,null,null,null,null,null,null,null,null,null,null,null,null,null,null,null,null,null,null,null,null,null,null,null,null,null,null,null,null,null,null,null,null,null,null,null,null,null,null,null,null,null,null,null,null,"未","未","未","未",0,{"$f":"IFERROR(IF(MATCH(BC1333&\"/\"&BD1333,③読み替え表_省エネ住宅!$G$48:$G$57,0),1,0),0)","v":0},{"$f":"IFERROR(IF(MATCH(BE1333&\"/\"&BF1333,③読み替え表_省エネ住宅!$G$48:$G$57,0),1,0),0)","v":0},0,"*"]
[null,1331,null,null,null,null,null,null,null,null,null,null,null,null,null,null,null,null,null,null,null,null,null,null,null,null,null,null,null,null,null,null,null,null,null,null,null,null,null,null,null,null,null,null,null,null,null,null,null,null,null,null,null,null,"未","未","未","未",0,{"$f":"IFERROR(IF(MATCH(BC1336&\"/\"&BD1336,③読み替え表_省エネ住宅!$G$48:$G$57,0),1,0),0)","v":0},{"$f":"IFERROR(IF(MATCH(BE1336&\"/\"&BF1336,③読み替え表_省エネ住宅!$G$48:$G$57,0),1,0),0)","v":0},0,"*"]
[null,1334,null,null,null,null,null,null,null,null,null,null,null,null,null,null,null,null,null,null,null,null,null,null,null,null,null,null,null,null,null,null,null,null,null,null,null,null,null,null,null,null,null,null,null,null,null,null,null,null,null,null,null,null,"未","未","未","未",0,{"$f":"IFERROR(IF(MATCH(BC1339&\"/\"&BD1339,③読み替え表_省エネ住宅!$G$48:$G$57,0),1,0),0)","v":0},{"$f":"IFERROR(IF(MATCH(BE1339&\"/\"&BF1339,③読み替え表_省エネ住宅!$G$48:$G$57,0),1,0),0)","v":0},0,"*"]
[null,1335,null,null,null,null,null,null,null,null,null,null,null,null,null,null,null,null,null,null,null,null,null,null,null,null,null,null,null,null,null,null,null,null,null,null,null,null,null,null,null,null,null,null,null,null,null,null,null,null,null,null,null,null,"未","未","未","未",0,{"$f":"IFERROR(IF(MATCH(BC1340&\"/\"&BD1340,③読み替え表_省エネ住宅!$G$48:$G$57,0),1,0),0)","v":0},{"$f":"IFERROR(IF(MATCH(BE1340&\"/\"&BF1340,③読み替え表_省エネ住宅!$G$48:$G$57,0),1,0),0)","v":0},0,"*"]
[null,1338,null,null,null,null,null,null,null,null,null,null,null,null,null,null,null,null,null,null,null,null,null,null,null,null,null,null,null,null,null,null,null,null,null,null,null,null,null,null,null,null,null,null,null,null,null,null,null,null,null,null,null,null,"未","未","未","未",0,{"$f":"IFERROR(IF(MATCH(BC1343&\"/\"&BD1343,③読み替え表_省エネ住宅!$G$48:$G$57,0),1,0),0)","v":0},{"$f":"IFERROR(IF(MATCH(BE1343&\"/\"&BF1343,③読み替え表_省エネ住宅!$G$48:$G$57,0),1,0),0)","v":0},0,"*"]
[null,1342,null,null,null,null,null,null,null,null,null,null,null,null,null,null,null,null,null,null,null,null,null,null,null,null,null,null,null,null,null,null,null,null,null,null,null,null,null,null,null,null,null,null,null,null,null,null,null,null,null,null,null,null,"未","未","未","未",0,{"$f":"IFERROR(IF(MATCH(BC1347&\"/\"&BD1347,③読み替え表_省エネ住宅!$G$48:$G$57,0),1,0),0)","v":0},{"$f":"IFERROR(IF(MATCH(BE1347&\"/\"&BF1347,③読み替え表_省エネ住宅!$G$48:$G$57,0),1,0),0)","v":0},0,"*"]
[null,1344,null,null,null,null,null,null,null,null,null,null,null,null,null,null,null,null,null,null,null,null,null,null,null,null,null,null,null,null,null,null,null,null,null,null,null,null,null,null,null,null,null,null,null,null,null,null,null,null,null,null,null,null,"未","未","未","未",0,{"$f":"IFERROR(IF(MATCH(BC1349&\"/\"&BD1349,③読み替え表_省エネ住宅!$G$48:$G$57,0),1,0),0)","v":0},{"$f":"IFERROR(IF(MATCH(BE1349&\"/\"&BF1349,③読み替え表_省エネ住宅!$G$48:$G$57,0),1,0),0)","v":0},0,"*"]
[null,1347,null,null,null,null,null,null,null,null,null,null,null,null,null,null,null,null,null,null,null,null,null,null,null,null,null,null,null,null,null,null,null,null,null,null,null,null,null,null,null,null,null,null,null,null,null,null,null,null,null,null,null,null,"未","未","未","未",0,{"$f":"IFERROR(IF(MATCH(BC1352&\"/\"&BD1352,③読み替え表_省エネ住宅!$G$48:$G$57,0),1,0),0)","v":0},{"$f":"IFERROR(IF(MATCH(BE1352&\"/\"&BF1352,③読み替え表_省エネ住宅!$G$48:$G$57,0),1,0),0)","v":0},0,"*"]
[null,1351,null,null,null,null,null,null,null,null,null,null,null,null,null,null,null,null,null,null,null,null,null,null,null,null,null,null,null,null,null,null,null,null,null,null,null,null,null,null,null,null,null,null,null,null,null,null,null,null,null,null,null,null,"未","未","未","未",0,{"$f":"IFERROR(IF(MATCH(BC1356&\"/\"&BD1356,③読み替え表_省エネ住宅!$G$48:$G$57,0),1,0),0)","v":0},{"$f":"IFERROR(IF(MATCH(BE1356&\"/\"&BF1356,③読み替え表_省エネ住宅!$G$48:$G$57,0),1,0),0)","v":0},0,"*"]
[null,1353,null,null,null,null,null,null,null,null,null,null,null,null,null,null,null,null,null,null,null,null,null,null,null,null,null,null,null,null,null,null,null,null,null,null,null,null,null,null,null,null,null,null,null,null,null,null,null,null,null,null,null,null,"未","未","未","未",0,{"$f":"IFERROR(IF(MATCH(BC1358&\"/\"&BD1358,③読み替え表_省エネ住宅!$G$48:$G$57,0),1,0),0)","v":0},{"$f":"IFERROR(IF(MATCH(BE1358&\"/\"&BF1358,③読み替え表_省エネ住宅!$G$48:$G$57,0),1,0),0)","v":0},0,"*"]
[null,1356,null,null,null,null,null,null,null,null,null,null,null,null,null,null,null,null,null,null,null,null,null,null,null,null,null,null,null,null,null,null,null,null,null,null,null,null,null,null,null,null,null,null,null,null,null,null,null,null,null,null,null,null,"未","未","未","未",0,{"$f":"IFERROR(IF(MATCH(BC1361&\"/\"&BD1361,③読み替え表_省エネ住宅!$G$48:$G$57,0),1,0),0)","v":0},{"$f":"IFERROR(IF(MATCH(BE1361&\"/\"&BF1361,③読み替え表_省エネ住宅!$G$48:$G$57,0),1,0),0)","v":0},0,"*"]
[null,1357,null,null,null,null,null,null,null,null,null,null,null,null,null,null,null,null,null,null,null,null,null,null,null,null,null,null,null,null,null,null,null,null,null,null,null,null,null,null,null,null,null,null,null,null,null,null,null,null,null,null,null,null,"未","未","未","未",0,{"$f":"IFERROR(IF(MATCH(BC1362&\"/\"&BD1362,③読み替え表_省エネ住宅!$G$48:$G$57,0),1,0),0)","v":0},{"$f":"IFERROR(IF(MATCH(BE1362&\"/\"&BF1362,③読み替え表_省エネ住宅!$G$48:$G$57,0),1,0),0)","v":0},0,"*"]
[null,1360,null,null,null,null,null,null,null,null,null,null,null,null,null,null,null,null,null,null,null,null,null,null,null,null,null,null,null,null,null,null,null,null,null,null,null,null,null,null,null,null,null,null,null,null,null,null,null,null,null,null,null,null,"未","未","未","未",0,{"$f":"IFERROR(IF(MATCH(BC1365&\"/\"&BD1365,③読み替え表_省エネ住宅!$G$48:$G$57,0),1,0),0)","v":0},{"$f":"IFERROR(IF(MATCH(BE1365&\"/\"&BF1365,③読み替え表_省エネ住宅!$G$48:$G$57,0),1,0),0)","v":0},0,"*"]
[null,1363,null,null,null,null,null,null,null,null,null,null,null,null,null,null,null,null,null,null,null,null,null,null,null,null,null,null,null,null,null,null,null,null,null,null,null,null,null,null,null,null,null,null,null,null,null,null,null,null,null,null,null,null,"未","未","未","未",0,{"$f":"IFERROR(IF(MATCH(BC1368&\"/\"&BD1368,③読み替え表_省エネ住宅!$G$48:$G$57,0),1,0),0)","v":0},{"$f":"IFERROR(IF(MATCH(BE1368&\"/\"&BF1368,③読み替え表_省エネ住宅!$G$48:$G$57,0),1,0),0)","v":0},0,"*"]
[null,1366,null,null,null,null,null,null,null,null,null,null,null,null,null,null,null,null,null,null,null,null,null,null,null,null,null,null,null,null,null,null,null,null,null,null,null,null,null,null,null,null,null,null,null,null,null,null,null,null,null,null,null,null,"未","未","未","未",0,{"$f":"IFERROR(IF(MATCH(BC1371&\"/\"&BD1371,③読み替え表_省エネ住宅!$G$48:$G$57,0),1,0),0)","v":0},{"$f":"IFERROR(IF(MATCH(BE1371&\"/\"&BF1371,③読み替え表_省エネ住宅!$G$48:$G$57,0),1,0),0)","v":0},0,"*"]
[null,1369,null,null,null,null,null,null,null,null,null,null,null,null,null,null,null,null,null,null,null,null,null,null,null,null,null,null,null,null,null,null,null,null,null,null,null,null,null,null,null,null,null,null,null,null,null,null,null,null,null,null,null,null,"未","未","未","未",0,{"$f":"IFERROR(IF(MATCH(BC1374&\"/\"&BD1374,③読み替え表_省エネ住宅!$G$48:$G$57,0),1,0),0)","v":0},{"$f":"IFERROR(IF(MATCH(BE1374&\"/\"&BF1374,③読み替え表_省エネ住宅!$G$48:$G$57,0),1,0),0)","v":0},0,"*"]
[null,1373,null,null,null,null,null,null,null,null,null,null,null,null,null,null,null,null,null,null,null,null,null,null,null,null,null,null,null,null,null,null,null,null,null,null,null,null,null,null,null,null,null,null,null,null,null,null,null,null,null,null,null,null,"未","未","未","未",0,{"$f":"IFERROR(IF(MATCH(BC1378&\"/\"&BD1378,③読み替え表_省エネ住宅!$G$48:$G$57,0),1,0),0)","v":0},{"$f":"IFERROR(IF(MATCH(BE1378&\"/\"&BF1378,③読み替え表_省エネ住宅!$G$48:$G$57,0),1,0),0)","v":0},0,"*"]
[null,1376,null,null,null,null,null,null,null,null,null,null,null,null,null,null,null,null,null,null,null,null,null,null,null,null,null,null,null,null,null,null,null,null,null,null,null,null,null,null,null,null,null,null,null,null,null,null,null,null,null,null,null,null,"未","未","未","未",0,{"$f":"IFERROR(IF(MATCH(BC1381&\"/\"&BD1381,③読み替え表_省エネ住宅!$G$48:$G$57,0),1,0),0)","v":0},{"$f":"IFERROR(IF(MATCH(BE1381&\"/\"&BF1381,③読み替え表_省エネ住宅!$G$48:$G$57,0),1,0),0)","v":0},0,"*"]
[null,1377,null,null,null,null,null,null,null,null,null,null,null,null,null,null,null,null,null,null,null,null,null,null,null,null,null,null,null,null,null,null,null,null,null,null,null,null,null,null,null,null,null,null,null,null,null,null,null,null,null,null,null,null,"未","未","未","未",0,{"$f":"IFERROR(IF(MATCH(BC1382&\"/\"&BD1382,③読み替え表_省エネ住宅!$G$48:$G$57,0),1,0),0)","v":0},{"$f":"IFERROR(IF(MATCH(BE1382&\"/\"&BF1382,③読み替え表_省エネ住宅!$G$48:$G$57,0),1,0),0)","v":0},0,"*"]
[null,1379,null,null,null,null,null,null,null,null,null,null,null,null,null,null,null,null,null,null,null,null,null,null,null,null,null,null,null,null,null,null,null,null,null,null,null,null,null,null,null,null,null,null,null,null,null,null,null,null,null,null,null,null,"未","未","未","未",0,{"$f":"IFERROR(IF(MATCH(BC1384&\"/\"&BD1384,③読み替え表_省エネ住宅!$G$48:$G$57,0),1,0),0)","v":0},{"$f":"IFERROR(IF(MATCH(BE1384&\"/\"&BF1384,③読み替え表_省エネ住宅!$G$48:$G$57,0),1,0),0)","v":0},0,"*"]
[null,1382,null,null,null,null,null,null,null,null,null,null,null,null,null,null,null,null,null,null,null,null,null,null,null,null,null,null,null,null,null,null,null,null,null,null,null,null,null,null,null,null,null,null,null,null,null,null,null,null,null,null,null,null,"未","未","未","未",0,{"$f":"IFERROR(IF(MATCH(BC1387&\"/\"&BD1387,③読み替え表_省エネ住宅!$G$48:$G$57,0),1,0),0)","v":0},{"$f":"IFERROR(IF(MATCH(BE1387&\"/\"&BF1387,③読み替え表_省エネ住宅!$G$48:$G$57,0),1,0),0)","v":0},0,"*"]
[null,1385,null,null,null,null,null,null,null,null,null,null,null,null,null,null,null,null,null,null,null,null,null,null,null,null,null,null,null,null,null,null,null,null,null,null,null,null,null,null,null,null,null,null,null,null,null,null,null,null,null,null,null,null,"未","未","未","未",0,{"$f":"IFERROR(IF(MATCH(BC1390&\"/\"&BD1390,③読み替え表_省エネ住宅!$G$48:$G$57,0),1,0),0)","v":0},{"$f":"IFERROR(IF(MATCH(BE1390&\"/\"&BF1390,③読み替え表_省エネ住宅!$G$48:$G$57,0),1,0),0)","v":0},0,"*"]
[null,1388,null,null,null,null,null,null,null,null,null,null,null,null,null,null,null,null,null,null,null,null,null,null,null,null,null,null,null,null,null,null,null,null,null,null,null,null,null,null,null,null,null,null,null,null,null,null,null,null,null,null,null,null,"未","未","未","未",0,{"$f":"IFERROR(IF(MATCH(BC1393&\"/\"&BD1393,③読み替え表_省エネ住宅!$G$48:$G$57,0),1,0),0)","v":0},{"$f":"IFERROR(IF(MATCH(BE1393&\"/\"&BF1393,③読み替え表_省エネ住宅!$G$48:$G$57,0),1,0),0)","v":0},0,"*"]
[null,1391,null,null,null,null,null,null,null,null,null,null,null,null,null,null,null,null,null,null,null,null,null,null,null,null,null,null,null,null,null,null,null,null,null,null,null,null,null,null,null,null,null,null,null,null,null,null,null,null,null,null,null,null,"未","未","未","未",0,{"$f":"IFERROR(IF(MATCH(BC1396&\"/\"&BD1396,③読み替え表_省エネ住宅!$G$48:$G$57,0),1,0),0)","v":0},{"$f":"IFERROR(IF(MATCH(BE1396&\"/\"&BF1396,③読み替え表_省エネ住宅!$G$48:$G$57,0),1,0),0)","v":0},0,"*"]
[null,1395,null,null,null,null,null,null,null,null,null,null,null,null,null,null,null,null,null,null,null,null,null,null,null,null,null,null,null,null,null,null,null,null,null,null,null,null,null,null,null,null,null,null,null,null,null,null,null,null,null,null,null,null,"未","未","未","未",0,{"$f":"IFERROR(IF(MATCH(BC1400&\"/\"&BD1400,③読み替え表_省エネ住宅!$G$48:$G$57,0),1,0),0)","v":0},{"$f":"IFERROR(IF(MATCH(BE1400&\"/\"&BF1400,③読み替え表_省エネ住宅!$G$48:$G$57,0),1,0),0)","v":0},0,"*"]
[null,1398,null,null,null,null,null,null,null,null,null,null,null,null,null,null,null,null,null,null,null,null,null,null,null,null,null,null,null,null,null,null,null,null,null,null,null,null,null,null,null,null,null,null,null,null,null,null,null,null,null,null,null,null,"未","未","未","未",0,{"$f":"IFERROR(IF(MATCH(BC1403&\"/\"&BD1403,③読み替え表_省エネ住宅!$G$48:$G$57,0),1,0),0)","v":0},{"$f":"IFERROR(IF(MATCH(BE1403&\"/\"&BF1403,③読み替え表_省エネ住宅!$G$48:$G$57,0),1,0),0)","v":0},0,"*"]
[null,1399,null,null,null,null,null,null,null,null,null,null,null,null,null,null,null,null,null,null,null,null,null,null,null,null,null,null,null,null,null,null,null,null,null,null,null,null,null,null,null,null,null,null,null,null,null,null,null,null,null,null,null,null,"未","未","未","未",0,{"$f":"IFERROR(IF(MATCH(BC1404&\"/\"&BD1404,③読み替え表_省エネ住宅!$G$48:$G$57,0),1,0),0)","v":0},{"$f":"IFERROR(IF(MATCH(BE1404&\"/\"&BF1404,③読み替え表_省エネ住宅!$G$48:$G$57,0),1,0),0)","v":0},0,"*"]
[null,1401,null,null,null,null,null,null,null,null,null,null,null,null,null,null,null,null,null,null,null,null,null,null,null,null,null,null,null,null,null,null,null,null,null,null,null,null,null,null,null,null,null,null,null,null,null,null,null,null,null,null,null,null,"未","未","未","未",0,{"$f":"IFERROR(IF(MATCH(BC1406&\"/\"&BD1406,③読み替え表_省エネ住宅!$G$48:$G$57,0),1,0),0)","v":0},{"$f":"IFERROR(IF(MATCH(BE1406&\"/\"&BF1406,③読み替え表_省エネ住宅!$G$48:$G$57,0),1,0),0)","v":0},0,"*"]
[null,1404,null,null,null,null,null,null,null,null,null,null,null,null,null,null,null,null,null,null,null,null,null,null,null,null,null,null,null,null,null,null,null,null,null,null,null,null,null,null,null,null,null,null,null,null,null,null,null,null,null,null,null,null,"未","未","未","未",0,{"$f":"IFERROR(IF(MATCH(BC1409&\"/\"&BD1409,③読み替え表_省エネ住宅!$G$48:$G$57,0),1,0),0)","v":0},{"$f":"IFERROR(IF(MATCH(BE1409&\"/\"&BF1409,③読み替え表_省エネ住宅!$G$48:$G$57,0),1,0),0)","v":0},0,"*"]
[null,1408,null,null,null,null,null,null,null,null,null,null,null,null,null,null,null,null,null,null,null,null,null,null,null,null,null,null,null,null,null,null,null,null,null,null,null,null,null,null,null,null,null,null,null,null,null,null,null,null,null,null,null,null,"未","未","未","未",0,{"$f":"IFERROR(IF(MATCH(BC1413&\"/\"&BD1413,③読み替え表_省エネ住宅!$G$48:$G$57,0),1,0),0)","v":0},{"$f":"IFERROR(IF(MATCH(BE1413&\"/\"&BF1413,③読み替え表_省エネ住宅!$G$48:$G$57,0),1,0),0)","v":0},0,"*"]
[null,{"$f":"ROW()-5","v":1410},null,null,null,null,null,null,null,null,null,null,null,null,null,null,null,null,null,null,null,null,null,null,null,null,null,null,null,null,null,null,null,null,null,null,null,null,null,null,null,null,null,null,null,null,null,null,null,null,null,null,null,null,{"$f":"IFERROR(IF(SUM($Q1415:$U1415)>1,\"複数回答\",INDEX($Q$5:$U$5,,MATCH(1,$Q1415:$U1415,0))),\"未\")","v":"未"},{"$f":"IFERROR(IF(SUM($AA1415:$AE1415)>1,\"複数回答\",INDEX($AA$5:$AE$5,,MATCH(1,$AA1415:$AE1415,0))),\"未\")","v":"未"},{"$f":"IFERROR(IF(SUM($V1415:$Z1415)>1,\"複数回答\",INDEX($V$5:$Z$5,,MATCH(1,$V1415:$Z1415,0))),\"未\")","v":"未"},{"$f":"IFERROR(IF(SUM($AF1415:$AJ1415)>1,\"複数回答\",INDEX($AF$5:$AJ$5,,MATCH(1,$AF1415:$AJ1415,0))),\"未\")","v":"未"},{"$f":"IF(BC1415=\"複数回答\",1,IF(BD1415=\"複数回答\",1,IF(BE1415=\"複数回答\",1,IF(BF1415=\"複数回答\",1,0))))","v":0},{"$f":"IFERROR(IF(MATCH(BC1415&\"/\"&BD1415,③読み替え表_省エネ住宅!$G$48:$G$57,0),1,0),0)","v":0},{"$f":"IFERROR(IF(MATCH(BE1415&\"/\"&BF1415,③読み替え表_省エネ住宅!$G$48:$G$57,0),1,0),0)","v":0},{"$f":"IF(SUM(BG1415:BI1415)>0,1,0)","v":0},"*"]
[null,1413,null,null,null,null,null,null,null,null,null,null,null,null,null,null,null,null,null,null,null,null,null,null,null,null,null,null,null,null,null,null,null,null,null,null,null,null,null,null,null,null,null,null,null,null,null,null,null,null,null,null,null,null,"未","未","未","未",0,{"$f":"IFERROR(IF(MATCH(BC1418&\"/\"&BD1418,③読み替え表_省エネ住宅!$G$48:$G$57,0),1,0),0)","v":0},{"$f":"IFERROR(IF(MATCH(BE1418&\"/\"&BF1418,③読み替え表_省エネ住宅!$G$48:$G$57,0),1,0),0)","v":0},0,"*"]
[null,1417,null,null,null,null,null,null,null,null,null,null,null,null,null,null,null,null,null,null,null,null,null,null,null,null,null,null,null,null,null,null,null,null,null,null,null,null,null,null,null,null,null,null,null,null,null,null,null,null,null,null,null,null,"未","未","未","未",0,{"$f":"IFERROR(IF(MATCH(BC1422&\"/\"&BD1422,③読み替え表_省エネ住宅!$G$48:$G$57,0),1,0),0)","v":0},{"$f":"IFERROR(IF(MATCH(BE1422&\"/\"&BF1422,③読み替え表_省エネ住宅!$G$48:$G$57,0),1,0),0)","v":0},0,"*"]
[null,1420,null,null,null,null,null,null,null,null,null,null,null,null,null,null,null,null,null,null,null,null,null,null,null,null,null,null,null,null,null,null,null,null,null,null,null,null,null,null,null,null,null,null,null,null,null,null,null,null,null,null,null,null,"未","未","未","未",0,{"$f":"IFERROR(IF(MATCH(BC1425&\"/\"&BD1425,③読み替え表_省エネ住宅!$G$48:$G$57,0),1,0),0)","v":0},{"$f":"IFERROR(IF(MATCH(BE1425&\"/\"&BF1425,③読み替え表_省エネ住宅!$G$48:$G$57,0),1,0),0)","v":0},0,"*"]
[null,1423,null,null,null,null,null,null,null,null,null,null,null,null,null,null,null,null,null,null,null,null,null,null,null,null,null,null,null,null,null,null,null,null,null,null,null,null,null,null,null,null,null,null,null,null,null,null,null,null,null,null,null,null,"未","未","未","未",0,{"$f":"IFERROR(IF(MATCH(BC1428&\"/\"&BD1428,③読み替え表_省エネ住宅!$G$48:$G$57,0),1,0),0)","v":0},{"$f":"IFERROR(IF(MATCH(BE1428&\"/\"&BF1428,③読み替え表_省エネ住宅!$G$48:$G$57,0),1,0),0)","v":0},0,"*"]
[null,1425,null,null,null,null,null,null,null,null,null,null,null,null,null,null,null,null,null,null,null,null,null,null,null,null,null,null,null,null,null,null,null,null,null,null,null,null,null,null,null,null,null,null,null,null,null,null,null,null,null,null,null,null,"未","未","未","未",0,{"$f":"IFERROR(IF(MATCH(BC1430&\"/\"&BD1430,③読み替え表_省エネ住宅!$G$48:$G$57,0),1,0),0)","v":0},{"$f":"IFERROR(IF(MATCH(BE1430&\"/\"&BF1430,③読み替え表_省エネ住宅!$G$48:$G$57,0),1,0),0)","v":0},0,"*"]
[null,1426,null,null,null,null,null,null,null,null,null,null,null,null,null,null,null,null,null,null,null,null,null,null,null,null,null,null,null,null,null,null,null,null,null,null,null,null,null,null,null,null,null,null,null,null,null,null,null,null,null,null,null,null,"未","未","未","未",0,{"$f":"IFERROR(IF(MATCH(BC1431&\"/\"&BD1431,③読み替え表_省エネ住宅!$G$48:$G$57,0),1,0),0)","v":0},{"$f":"IFERROR(IF(MATCH(BE1431&\"/\"&BF1431,③読み替え表_省エネ住宅!$G$48:$G$57,0),1,0),0)","v":0},0,"*"]
[null,1430,null,null,null,null,null,null,null,null,null,null,null,null,null,null,null,null,null,null,null,null,null,null,null,null,null,null,null,null,null,null,null,null,null,null,null,null,null,null,null,null,null,null,null,null,null,null,null,null,null,null,null,null,"未","未","未","未",0,{"$f":"IFERROR(IF(MATCH(BC1435&\"/\"&BD1435,③読み替え表_省エネ住宅!$G$48:$G$57,0),1,0),0)","v":0},{"$f":"IFERROR(IF(MATCH(BE1435&\"/\"&BF1435,③読み替え表_省エネ住宅!$G$48:$G$57,0),1,0),0)","v":0},0,"*"]
[null,1433,null,null,null,null,null,null,null,null,null,null,null,null,null,null,null,null,null,null,null,null,null,null,null,null,null,null,null,null,null,null,null,null,null,null,null,null,null,null,null,null,null,null,null,null,null,null,null,null,null,null,null,null,"未","未","未","未",0,{"$f":"IFERROR(IF(MATCH(BC1438&\"/\"&BD1438,③読み替え表_省エネ住宅!$G$48:$G$57,0),1,0),0)","v":0},{"$f":"IFERROR(IF(MATCH(BE1438&\"/\"&BF1438,③読み替え表_省エネ住宅!$G$48:$G$57,0),1,0),0)","v":0},0,"*"]
[null,1436,null,null,null,null,null,null,null,null,null,null,null,null,null,null,null,null,null,null,null,null,null,null,null,null,null,null,null,null,null,null,null,null,null,null,null,null,null,null,null,null,null,null,null,null,null,null,null,null,null,null,null,null,"未","未","未","未",0,{"$f":"IFERROR(IF(MATCH(BC1441&\"/\"&BD1441,③読み替え表_省エネ住宅!$G$48:$G$57,0),1,0),0)","v":0},{"$f":"IFERROR(IF(MATCH(BE1441&\"/\"&BF1441,③読み替え表_省エネ住宅!$G$48:$G$57,0),1,0),0)","v":0},0,"*"]
[null,1439,null,null,null,null,null,null,null,null,null,null,null,null,null,null,null,null,null,null,null,null,null,null,null,null,null,null,null,null,null,null,null,null,null,null,null,null,null,null,null,null,null,null,null,null,null,null,null,null,null,null,null,null,"未","未","未","未",0,{"$f":"IFERROR(IF(MATCH(BC1444&\"/\"&BD1444,③読み替え表_省エネ住宅!$G$48:$G$57,0),1,0),0)","v":0},{"$f":"IFERROR(IF(MATCH(BE1444&\"/\"&BF1444,③読み替え表_省エネ住宅!$G$48:$G$57,0),1,0),0)","v":0},0,"*"]
[null,1442,null,null,null,null,null,null,null,null,null,null,null,null,null,null,null,null,null,null,null,null,null,null,null,null,null,null,null,null,null,null,null,null,null,null,null,null,null,null,null,null,null,null,null,null,null,null,null,null,null,null,null,null,"未","未","未","未",0,{"$f":"IFERROR(IF(MATCH(BC1447&\"/\"&BD1447,③読み替え表_省エネ住宅!$G$48:$G$57,0),1,0),0)","v":0},{"$f":"IFERROR(IF(MATCH(BE1447&\"/\"&BF1447,③読み替え表_省エネ住宅!$G$48:$G$57,0),1,0),0)","v":0},0,"*"]
[null,1443,null,null,null,null,null,null,null,null,null,null,null,null,null,null,null,null,null,null,null,null,null,null,null,null,null,null,null,null,null,null,null,null,null,null,null,null,null,null,null,null,null,null,null,null,null,null,null,null,null,null,null,null,"未","未","未","未",0,{"$f":"IFERROR(IF(MATCH(BC1448&\"/\"&BD1448,③読み替え表_省エネ住宅!$G$48:$G$57,0),1,0),0)","v":0},{"$f":"IFERROR(IF(MATCH(BE1448&\"/\"&BF1448,③読み替え表_省エネ住宅!$G$48:$G$57,0),1,0),0)","v":0},0,"*"]
[null,1447,null,null,null,null,null,null,null,null,null,null,null,null,null,null,null,null,null,null,null,null,null,null,null,null,null,null,null,null,null,null,null,null,null,null,null,null,null,null,null,null,null,null,null,null,null,null,null,null,null,null,null,null,"未","未","未","未",0,{"$f":"IFERROR(IF(MATCH(BC1452&\"/\"&BD1452,③読み替え表_省エネ住宅!$G$48:$G$57,0),1,0),0)","v":0},{"$f":"IFERROR(IF(MATCH(BE1452&\"/\"&BF1452,③読み替え表_省エネ住宅!$G$48:$G$57,0),1,0),0)","v":0},0,"*"]
[null,1448,null,null,null,null,null,null,null,null,null,null,null,null,null,null,null,null,null,null,null,null,null,null,null,null,null,null,null,null,null,null,null,null,null,null,null,null,null,null,null,null,null,null,null,null,null,null,null,null,null,null,null,null,"未","未","未","未",0,{"$f":"IFERROR(IF(MATCH(BC1453&\"/\"&BD1453,③読み替え表_省エネ住宅!$G$48:$G$57,0),1,0),0)","v":0},{"$f":"IFERROR(IF(MATCH(BE1453&\"/\"&BF1453,③読み替え表_省エネ住宅!$G$48:$G$57,0),1,0),0)","v":0},0,"*"]
[null,1452,null,null,null,null,null,null,null,null,null,null,null,null,null,null,null,null,null,null,null,null,null,null,null,null,null,null,null,null,null,null,null,null,null,null,null,null,null,null,null,null,null,null,null,null,null,null,null,null,null,null,null,null,"未","未","未","未",0,{"$f":"IFERROR(IF(MATCH(BC1457&\"/\"&BD1457,③読み替え表_省エネ住宅!$G$48:$G$57,0),1,0),0)","v":0},{"$f":"IFERROR(IF(MATCH(BE1457&\"/\"&BF1457,③読み替え表_省エネ住宅!$G$48:$G$57,0),1,0),0)","v":0},0,"*"]
[null,1455,null,null,null,null,null,null,null,null,null,null,null,null,null,null,null,null,null,null,null,null,null,null,null,null,null,null,null,null,null,null,null,null,null,null,null,null,null,null,null,null,null,null,null,null,null,null,null,null,null,null,null,null,"未","未","未","未",0,{"$f":"IFERROR(IF(MATCH(BC1460&\"/\"&BD1460,③読み替え表_省エネ住宅!$G$48:$G$57,0),1,0),0)","v":0},{"$f":"IFERROR(IF(MATCH(BE1460&\"/\"&BF1460,③読み替え表_省エネ住宅!$G$48:$G$57,0),1,0),0)","v":0},0,"*"]
[null,1458,null,null,null,null,null,null,null,null,null,null,null,null,null,null,null,null,null,null,null,null,null,null,null,null,null,null,null,null,null,null,null,null,null,null,null,null,null,null,null,null,null,null,null,null,null,null,null,null,null,null,null,null,"未","未","未","未",0,{"$f":"IFERROR(IF(MATCH(BC1463&\"/\"&BD1463,③読み替え表_省エネ住宅!$G$48:$G$57,0),1,0),0)","v":0},{"$f":"IFERROR(IF(MATCH(BE1463&\"/\"&BF1463,③読み替え表_省エネ住宅!$G$48:$G$57,0),1,0),0)","v":0},0,"*"]
[null,1461,null,null,null,null,null,null,null,null,null,null,null,null,null,null,null,null,null,null,null,null,null,null,null,null,null,null,null,null,null,null,null,null,null,null,null,null,null,null,null,null,null,null,null,null,null,null,null,null,null,null,null,null,"未","未","未","未",0,{"$f":"IFERROR(IF(MATCH(BC1466&\"/\"&BD1466,③読み替え表_省エネ住宅!$G$48:$G$57,0),1,0),0)","v":0},{"$f":"IFERROR(IF(MATCH(BE1466&\"/\"&BF1466,③読み替え表_省エネ住宅!$G$48:$G$57,0),1,0),0)","v":0},0,"*"]
[null,1464,null,null,null,null,null,null,null,null,null,null,null,null,null,null,null,null,null,null,null,null,null,null,null,null,null,null,null,null,null,null,null,null,null,null,null,null,null,null,null,null,null,null,null,null,null,null,null,null,null,null,null,null,"未","未","未","未",0,{"$f":"IFERROR(IF(MATCH(BC1469&\"/\"&BD1469,③読み替え表_省エネ住宅!$G$48:$G$57,0),1,0),0)","v":0},{"$f":"IFERROR(IF(MATCH(BE1469&\"/\"&BF1469,③読み替え表_省エネ住宅!$G$48:$G$57,0),1,0),0)","v":0},0,"*"]
[null,1465,null,null,null,null,null,null,null,null,null,null,null,null,null,null,null,null,null,null,null,null,null,null,null,null,null,null,null,null,null,null,null,null,null,null,null,null,null,null,null,null,null,null,null,null,null,null,null,null,null,null,null,null,"未","未","未","未",0,{"$f":"IFERROR(IF(MATCH(BC1470&\"/\"&BD1470,③読み替え表_省エネ住宅!$G$48:$G$57,0),1,0),0)","v":0},{"$f":"IFERROR(IF(MATCH(BE1470&\"/\"&BF1470,③読み替え表_省エネ住宅!$G$48:$G$57,0),1,0),0)","v":0},0,"*"]
[null,1469,null,null,null,null,null,null,null,null,null,null,null,null,null,null,null,null,null,null,null,null,null,null,null,null,null,null,null,null,null,null,null,null,null,null,null,null,null,null,null,null,null,null,null,null,null,null,null,null,null,null,null,null,"未","未","未","未",0,{"$f":"IFERROR(IF(MATCH(BC1474&\"/\"&BD1474,③読み替え表_省エネ住宅!$G$48:$G$57,0),1,0),0)","v":0},{"$f":"IFERROR(IF(MATCH(BE1474&\"/\"&BF1474,③読み替え表_省エネ住宅!$G$48:$G$57,0),1,0),0)","v":0},0,"*"]
[null,1470,null,null,null,null,null,null,null,null,null,null,null,null,null,null,null,null,null,null,null,null,null,null,null,null,null,null,null,null,null,null,null,null,null,null,null,null,null,null,null,null,null,null,null,null,null,null,null,null,null,null,null,null,"未","未","未","未",0,{"$f":"IFERROR(IF(MATCH(BC1475&\"/\"&BD1475,③読み替え表_省エネ住宅!$G$48:$G$57,0),1,0),0)","v":0},{"$f":"IFERROR(IF(MATCH(BE1475&\"/\"&BF1475,③読み替え表_省エネ住宅!$G$48:$G$57,0),1,0),0)","v":0},0,"*"]
[null,{"$f":"ROW()-5","v":1474},null,null,null,null,null,null,null,null,null,null,null,null,null,null,null,null,null,null,null,null,null,null,null,null,null,null,null,null,null,null,null,null,null,null,null,null,null,null,null,null,null,null,null,null,null,null,null,null,null,null,null,null,{"$f":"IFERROR(IF(SUM($Q1479:$U1479)>1,\"複数回答\",INDEX($Q$5:$U$5,,MATCH(1,$Q1479:$U1479,0))),\"未\")","v":"未"},{"$f":"IFERROR(IF(SUM($AA1479:$AE1479)>1,\"複数回答\",INDEX($AA$5:$AE$5,,MATCH(1,$AA1479:$AE1479,0))),\"未\")","v":"未"},{"$f":"IFERROR(IF(SUM($V1479:$Z1479)>1,\"複数回答\",INDEX($V$5:$Z$5,,MATCH(1,$V1479:$Z1479,0))),\"未\")","v":"未"},{"$f":"IFERROR(IF(SUM($AF1479:$AJ1479)>1,\"複数回答\",INDEX($AF$5:$AJ$5,,MATCH(1,$AF1479:$AJ1479,0))),\"未\")","v":"未"},{"$f":"IF(BC1479=\"複数回答\",1,IF(BD1479=\"複数回答\",1,IF(BE1479=\"複数回答\",1,IF(BF1479=\"複数回答\",1,0))))","v":0},{"$f":"IFERROR(IF(MATCH(BC1479&\"/\"&BD1479,③読み替え表_省エネ住宅!$G$48:$G$57,0),1,0),0)","v":0},{"$f":"IFERROR(IF(MATCH(BE1479&\"/\"&BF1479,③読み替え表_省エネ住宅!$G$48:$G$57,0),1,0),0)","v":0},{"$f":"IF(SUM(BG1479:BI1479)>0,1,0)","v":0},"*"]
[null,1477,null,null,null,null,null,null,null,null,null,null,null,null,null,null,null,null,null,null,null,null,null,null,null,null,null,null,null,null,null,null,null,null,null,null,null,null,null,null,null,null,null,null,null,null,null,null,null,null,null,null,null,null,"未","未","未","未",0,{"$f":"IFERROR(IF(MATCH(BC1482&\"/\"&BD1482,③読み替え表_省エネ住宅!$G$48:$G$57,0),1,0),0)","v":0},{"$f":"IFERROR(IF(MATCH(BE1482&\"/\"&BF1482,③読み替え表_省エネ住宅!$G$48:$G$57,0),1,0),0)","v":0},0,"*"]
[null,1480,null,null,null,null,null,null,null,null,null,null,null,null,null,null,null,null,null,null,null,null,null,null,null,null,null,null,null,null,null,null,null,null,null,null,null,null,null,null,null,null,null,null,null,null,null,null,null,null,null,null,null,null,"未","未","未","未",0,{"$f":"IFERROR(IF(MATCH(BC1485&\"/\"&BD1485,③読み替え表_省エネ住宅!$G$48:$G$57,0),1,0),0)","v":0},{"$f":"IFERROR(IF(MATCH(BE1485&\"/\"&BF1485,③読み替え表_省エネ住宅!$G$48:$G$57,0),1,0),0)","v":0},0,"*"]
[null,1482,null,null,null,null,null,null,null,null,null,null,null,null,null,null,null,null,null,null,null,null,null,null,null,null,null,null,null,null,null,null,null,null,null,null,null,null,null,null,null,null,null,null,null,null,null,null,null,null,null,null,null,null,"未","未","未","未",0,{"$f":"IFERROR(IF(MATCH(BC1487&\"/\"&BD1487,③読み替え表_省エネ住宅!$G$48:$G$57,0),1,0),0)","v":0},{"$f":"IFERROR(IF(MATCH(BE1487&\"/\"&BF1487,③読み替え表_省エネ住宅!$G$48:$G$57,0),1,0),0)","v":0},0,"*"]
[null,1486,null,null,null,null,null,null,null,null,null,null,null,null,null,null,null,null,null,null,null,null,null,null,null,null,null,null,null,null,null,null,null,null,null,null,null,null,null,null,null,null,null,null,null,null,null,null,null,null,null,null,null,null,"未","未","未","未",0,{"$f":"IFERROR(IF(MATCH(BC1491&\"/\"&BD1491,③読み替え表_省エネ住宅!$G$48:$G$57,0),1,0),0)","v":0},{"$f":"IFERROR(IF(MATCH(BE1491&\"/\"&BF1491,③読み替え表_省エネ住宅!$G$48:$G$57,0),1,0),0)","v":0},0,"*"]
[null,1487,null,null,null,null,null,null,null,null,null,null,null,null,null,null,null,null,null,null,null,null,null,null,null,null,null,null,null,null,null,null,null,null,null,null,null,null,null,null,null,null,null,null,null,null,null,null,null,null,null,null,null,null,"未","未","未","未",0,{"$f":"IFERROR(IF(MATCH(BC1492&\"/\"&BD1492,③読み替え表_省エネ住宅!$G$48:$G$57,0),1,0),0)","v":0},{"$f":"IFERROR(IF(MATCH(BE1492&\"/\"&BF1492,③読み替え表_省エネ住宅!$G$48:$G$57,0),1,0),0)","v":0},0,"*"]
[null,1490,null,null,null,null,null,null,null,null,null,null,null,null,null,null,null,null,null,null,null,null,null,null,null,null,null,null,null,null,null,null,null,null,null,null,null,null,null,null,null,null,null,null,null,null,null,null,null,null,null,null,null,null,"未","未","未","未",0,{"$f":"IFERROR(IF(MATCH(BC1495&\"/\"&BD1495,③読み替え表_省エネ住宅!$G$48:$G$57,0),1,0),0)","v":0},{"$f":"IFERROR(IF(MATCH(BE1495&\"/\"&BF1495,③読み替え表_省エネ住宅!$G$48:$G$57,0),1,0),0)","v":0},0,"*"]
[null,1493,null,null,null,null,null,null,null,null,null,null,null,null,null,null,null,null,null,null,null,null,null,null,null,null,null,null,null,null,null,null,null,null,null,null,null,null,null,null,null,null,null,null,null,null,null,null,null,null,null,null,null,null,"未","未","未","未",0,{"$f":"IFERROR(IF(MATCH(BC1498&\"/\"&BD1498,③読み替え表_省エネ住宅!$G$48:$G$57,0),1,0),0)","v":0},{"$f":"IFERROR(IF(MATCH(BE1498&\"/\"&BF1498,③読み替え表_省エネ住宅!$G$48:$G$57,0),1,0),0)","v":0},0,"*"]
[null,1496,null,null,null,null,null,null,null,null,null,null,null,null,null,null,null,null,null,null,null,null,null,null,null,null,null,null,null,null,null,null,null,null,null,null,null,null,null,null,null,null,null,null,null,null,null,null,null,null,null,null,null,null,"未","未","未","未",0,{"$f":"IFERROR(IF(MATCH(BC1501&\"/\"&BD1501,③読み替え表_省エネ住宅!$G$48:$G$57,0),1,0),0)","v":0},{"$f":"IFERROR(IF(MATCH(BE1501&\"/\"&BF1501,③読み替え表_省エネ住宅!$G$48:$G$57,0),1,0),0)","v":0},0,"*"]
[null,1499,null,null,null,null,null,null,null,null,null,null,null,null,null,null,null,null,null,null,null,null,null,null,null,null,null,null,null,null,null,null,null,null,null,null,null,null,null,null,null,null,null,null,null,null,null,null,null,null,null,null,null,null,"未","未","未","未",0,{"$f":"IFERROR(IF(MATCH(BC1504&\"/\"&BD1504,③読み替え表_省エネ住宅!$G$48:$G$57,0),1,0),0)","v":0},{"$f":"IFERROR(IF(MATCH(BE1504&\"/\"&BF1504,③読み替え表_省エネ住宅!$G$48:$G$57,0),1,0),0)","v":0},0,"*"]
[null,1503,null,null,null,null,null,null,null,null,null,null,null,null,null,null,null,null,null,null,null,null,null,null,null,null,null,null,null,null,null,null,null,null,null,null,null,null,null,null,null,null,null,null,null,null,null,null,null,null,null,null,null,null,"未","未","未","未",0,{"$f":"IFERROR(IF(MATCH(BC1508&\"/\"&BD1508,③読み替え表_省エネ住宅!$G$48:$G$57,0),1,0),0)","v":0},{"$f":"IFERROR(IF(MATCH(BE1508&\"/\"&BF1508,③読み替え表_省エネ住宅!$G$48:$G$57,0),1,0),0)","v":0},0,"*"]
[null,1504,null,null,null,null,null,null,null,null,null,null,null,null,null,null,null,null,null,null,null,null,null,null,null,null,null,null,null,null,null,null,null,null,null,null,null,null,null,null,null,null,null,null,null,null,null,null,null,null,null,null,null,null,"未","未","未","未",0,{"$f":"IFERROR(IF(MATCH(BC1509&\"/\"&BD1509,③読み替え表_省エネ住宅!$G$48:$G$57,0),1,0),0)","v":0},{"$f":"IFERROR(IF(MATCH(BE1509&\"/\"&BF1509,③読み替え表_省エネ住宅!$G$48:$G$57,0),1,0),0)","v":0},0,"*"]
[null,1508,null,null,null,null,null,null,null,null,null,null,null,null,null,null,null,null,null,null,null,null,null,null,null,null,null,null,null,null,null,null,null,null,null,null,null,null,null,null,null,null,null,null,null,null,null,null,null,null,null,null,null,null,"未","未","未","未",0,{"$f":"IFERROR(IF(MATCH(BC1513&\"/\"&BD1513,③読み替え表_省エネ住宅!$G$48:$G$57,0),1,0),0)","v":0},{"$f":"IFERROR(IF(MATCH(BE1513&\"/\"&BF1513,③読み替え表_省エネ住宅!$G$48:$G$57,0),1,0),0)","v":0},0,"*"]
[null,1509,null,null,null,null,null,null,null,null,null,null,null,null,null,null,null,null,null,null,null,null,null,null,null,null,null,null,null,null,null,null,null,null,null,null,null,null,null,null,null,null,null,null,null,null,null,null,null,null,null,null,null,null,"未","未","未","未",0,{"$f":"IFERROR(IF(MATCH(BC1514&\"/\"&BD1514,③読み替え表_省エネ住宅!$G$48:$G$57,0),1,0),0)","v":0},{"$f":"IFERROR(IF(MATCH(BE1514&\"/\"&BF1514,③読み替え表_省エネ住宅!$G$48:$G$57,0),1,0),0)","v":0},0,"*"]
[null,1512,null,null,null,null,null,null,null,null,null,null,null,null,null,null,null,null,null,null,null,null,null,null,null,null,null,null,null,null,null,null,null,null,null,null,null,null,null,null,null,null,null,null,null,null,null,null,null,null,null,null,null,null,"未","未","未","未",0,{"$f":"IFERROR(IF(MATCH(BC1517&\"/\"&BD1517,③読み替え表_省エネ住宅!$G$48:$G$57,0),1,0),0)","v":0},{"$f":"IFERROR(IF(MATCH(BE1517&\"/\"&BF1517,③読み替え表_省エネ住宅!$G$48:$G$57,0),1,0),0)","v":0},0,"*"]
[null,1515,null,null,null,null,null,null,null,null,null,null,null,null,null,null,null,null,null,null,null,null,null,null,null,null,null,null,null,null,null,null,null,null,null,null,null,null,null,null,null,null,null,null,null,null,null,null,null,null,null,null,null,null,"未","未","未","未",0,{"$f":"IFERROR(IF(MATCH(BC1520&\"/\"&BD1520,③読み替え表_省エネ住宅!$G$48:$G$57,0),1,0),0)","v":0},{"$f":"IFERROR(IF(MATCH(BE1520&\"/\"&BF1520,③読み替え表_省エネ住宅!$G$48:$G$57,0),1,0),0)","v":0},0,"*"]
[null,1518,null,null,null,null,null,null,null,null,null,null,null,null,null,null,null,null,null,null,null,null,null,null,null,null,null,null,null,null,null,null,null,null,null,null,null,null,null,null,null,null,null,null,null,null,null,null,null,null,null,null,null,null,"未","未","未","未",0,{"$f":"IFERROR(IF(MATCH(BC1523&\"/\"&BD1523,③読み替え表_省エネ住宅!$G$48:$G$57,0),1,0),0)","v":0},{"$f":"IFERROR(IF(MATCH(BE1523&\"/\"&BF1523,③読み替え表_省エネ住宅!$G$48:$G$57,0),1,0),0)","v":0},0,"*"]
[null,1521,null,null,null,null,null,null,null,null,null,null,null,null,null,null,null,null,null,null,null,null,null,null,null,null,null,null,null,null,null,null,null,null,null,null,null,null,null,null,null,null,null,null,null,null,null,null,null,null,null,null,null,null,"未","未","未","未",0,{"$f":"IFERROR(IF(MATCH(BC1526&\"/\"&BD1526,③読み替え表_省エネ住宅!$G$48:$G$57,0),1,0),0)","v":0},{"$f":"IFERROR(IF(MATCH(BE1526&\"/\"&BF1526,③読み替え表_省エネ住宅!$G$48:$G$57,0),1,0),0)","v":0},0,"*"]
[null,1525,null,null,null,null,null,null,null,null,null,null,null,null,null,null,null,null,null,null,null,null,null,null,null,null,null,null,null,null,null,null,null,null,null,null,null,null,null,null,null,null,null,null,null,null,null,null,null,null,null,null,null,null,"未","未","未","未",0,{"$f":"IFERROR(IF(MATCH(BC1530&\"/\"&BD1530,③読み替え表_省エネ住宅!$G$48:$G$57,0),1,0),0)","v":0},{"$f":"IFERROR(IF(MATCH(BE1530&\"/\"&BF1530,③読み替え表_省エネ住宅!$G$48:$G$57,0),1,0),0)","v":0},0,"*"]
[null,1526,null,null,null,null,null,null,null,null,null,null,null,null,null,null,null,null,null,null,null,null,null,null,null,null,null,null,null,null,null,null,null,null,null,null,null,null,null,null,null,null,null,null,null,null,null,null,null,null,null,null,null,null,"未","未","未","未",0,{"$f":"IFERROR(IF(MATCH(BC1531&\"/\"&BD1531,③読み替え表_省エネ住宅!$G$48:$G$57,0),1,0),0)","v":0},{"$f":"IFERROR(IF(MATCH(BE1531&\"/\"&BF1531,③読み替え表_省エネ住宅!$G$48:$G$57,0),1,0),0)","v":0},0,"*"]
[null,1530,null,null,null,null,null,null,null,null,null,null,null,null,null,null,null,null,null,null,null,null,null,null,null,null,null,null,null,null,null,null,null,null,null,null,null,null,null,null,null,null,null,null,null,null,null,null,null,null,null,null,null,null,"未","未","未","未",0,{"$f":"IFERROR(IF(MATCH(BC1535&\"/\"&BD1535,③読み替え表_省エネ住宅!$G$48:$G$57,0),1,0),0)","v":0},{"$f":"IFERROR(IF(MATCH(BE1535&\"/\"&BF1535,③読み替え表_省エネ住宅!$G$48:$G$57,0),1,0),0)","v":0},0,"*"]
[null,1531,null,null,null,null,null,null,null,null,null,null,null,null,null,null,null,null,null,null,null,null,null,null,null,null,null,null,null,null,null,null,null,null,null,null,null,null,null,null,null,null,null,null,null,null,null,null,null,null,null,null,null,null,"未","未","未","未",0,{"$f":"IFERROR(IF(MATCH(BC1536&\"/\"&BD1536,③読み替え表_省エネ住宅!$G$48:$G$57,0),1,0),0)","v":0},{"$f":"IFERROR(IF(MATCH(BE1536&\"/\"&BF1536,③読み替え表_省エネ住宅!$G$48:$G$57,0),1,0),0)","v":0},0,"*"]
[null,1534,null,null,null,null,null,null,null,null,null,null,null,null,null,null,null,null,null,null,null,null,null,null,null,null,null,null,null,null,null,null,null,null,null,null,null,null,null,null,null,null,null,null,null,null,null,null,null,null,null,null,null,null,"未","未","未","未",0,{"$f":"IFERROR(IF(MATCH(BC1539&\"/\"&BD1539,③読み替え表_省エネ住宅!$G$48:$G$57,0),1,0),0)","v":0},{"$f":"IFERROR(IF(MATCH(BE1539&\"/\"&BF1539,③読み替え表_省エネ住宅!$G$48:$G$57,0),1,0),0)","v":0},0,"*"]
[null,{"$f":"ROW()-5","v":1538},null,null,null,null,null,null,null,null,null,null,null,null,null,null,null,null,null,null,null,null,null,null,null,null,null,null,null,null,null,null,null,null,null,null,null,null,null,null,null,null,null,null,null,null,null,null,null,null,null,null,null,null,{"$f":"IFERROR(IF(SUM($Q1543:$U1543)>1,\"複数回答\",INDEX($Q$5:$U$5,,MATCH(1,$Q1543:$U1543,0))),\"未\")","v":"未"},{"$f":"IFERROR(IF(SUM($AA1543:$AE1543)>1,\"複数回答\",INDEX($AA$5:$AE$5,,MATCH(1,$AA1543:$AE1543,0))),\"未\")","v":"未"},{"$f":"IFERROR(IF(SUM($V1543:$Z1543)>1,\"複数回答\",INDEX($V$5:$Z$5,,MATCH(1,$V1543:$Z1543,0))),\"未\")","v":"未"},{"$f":"IFERROR(IF(SUM($AF1543:$AJ1543)>1,\"複数回答\",INDEX($AF$5:$AJ$5,,MATCH(1,$AF1543:$AJ1543,0))),\"未\")","v":"未"},{"$f":"IF(BC1543=\"複数回答\",1,IF(BD1543=\"複数回答\",1,IF(BE1543=\"複数回答\",1,IF(BF1543=\"複数回答\",1,0))))","v":0},{"$f":"IFERROR(IF(MATCH(BC1543&\"/\"&BD1543,③読み替え表_省エネ住宅!$G$48:$G$57,0),1,0),0)","v":0},{"$f":"IFERROR(IF(MATCH(BE1543&\"/\"&BF1543,③読み替え表_省エネ住宅!$G$48:$G$57,0),1,0),0)","v":0},{"$f":"IF(SUM(BG1543:BI1543)>0,1,0)","v":0},"*"]
[null,1541,null,null,null,null,null,null,null,null,null,null,null,null,null,null,null,null,null,null,null,null,null,null,null,null,null,null,null,null,null,null,null,null,null,null,null,null,null,null,null,null,null,null,null,null,null,null,null,null,null,null,null,null,"未","未","未","未",0,{"$f":"IFERROR(IF(MATCH(BC1546&\"/\"&BD1546,③読み替え表_省エネ住宅!$G$48:$G$57,0),1,0),0)","v":0},{"$f":"IFERROR(IF(MATCH(BE1546&\"/\"&BF1546,③読み替え表_省エネ住宅!$G$48:$G$57,0),1,0),0)","v":0},0,"*"]
[null,1543,null,null,null,null,null,null,null,null,null,null,null,null,null,null,null,null,null,null,null,null,null,null,null,null,null,null,null,null,null,null,null,null,null,null,null,null,null,null,null,null,null,null,null,null,null,null,null,null,null,null,null,null,"未","未","未","未",0,{"$f":"IFERROR(IF(MATCH(BC1548&\"/\"&BD1548,③読み替え表_省エネ住宅!$G$48:$G$57,0),1,0),0)","v":0},{"$f":"IFERROR(IF(MATCH(BE1548&\"/\"&BF1548,③読み替え表_省エネ住宅!$G$48:$G$57,0),1,0),0)","v":0},0,"*"]
[null,1547,null,null,null,null,null,null,null,null,null,null,null,null,null,null,null,null,null,null,null,null,null,null,null,null,null,null,null,null,null,null,null,null,null,null,null,null,null,null,null,null,null,null,null,null,null,null,null,null,null,null,null,null,"未","未","未","未",0,{"$f":"IFERROR(IF(MATCH(BC1552&\"/\"&BD1552,③読み替え表_省エネ住宅!$G$48:$G$57,0),1,0),0)","v":0},{"$f":"IFERROR(IF(MATCH(BE1552&\"/\"&BF1552,③読み替え表_省エネ住宅!$G$48:$G$57,0),1,0),0)","v":0},0,"*"]
[null,1550,null,null,null,null,null,null,null,null,null,null,null,null,null,null,null,null,null,null,null,null,null,null,null,null,null,null,null,null,null,null,null,null,null,null,null,null,null,null,null,null,null,null,null,null,null,null,null,null,null,null,null,null,"未","未","未","未",0,{"$f":"IFERROR(IF(MATCH(BC1555&\"/\"&BD1555,③読み替え表_省エネ住宅!$G$48:$G$57,0),1,0),0)","v":0},{"$f":"IFERROR(IF(MATCH(BE1555&\"/\"&BF1555,③読み替え表_省エネ住宅!$G$48:$G$57,0),1,0),0)","v":0},0,"*"]
[null,1552,null,null,null,null,null,null,null,null,null,null,null,null,null,null,null,null,null,null,null,null,null,null,null,null,null,null,null,null,null,null,null,null,null,null,null,null,null,null,null,null,null,null,null,null,null,null,null,null,null,null,null,null,"未","未","未","未",0,{"$f":"IFERROR(IF(MATCH(BC1557&\"/\"&BD1557,③読み替え表_省エネ住宅!$G$48:$G$57,0),1,0),0)","v":0},{"$f":"IFERROR(IF(MATCH(BE1557&\"/\"&BF1557,③読み替え表_省エネ住宅!$G$48:$G$57,0),1,0),0)","v":0},0,"*"]
[null,1553,null,null,null,null,null,null,null,null,null,null,null,null,null,null,null,null,null,null,null,null,null,null,null,null,null,null,null,null,null,null,null,null,null,null,null,null,null,null,null,null,null,null,null,null,null,null,null,null,null,null,null,null,"未","未","未","未",0,{"$f":"IFERROR(IF(MATCH(BC1558&\"/\"&BD1558,③読み替え表_省エネ住宅!$G$48:$G$57,0),1,0),0)","v":0},{"$f":"IFERROR(IF(MATCH(BE1558&\"/\"&BF1558,③読み替え表_省エネ住宅!$G$48:$G$57,0),1,0),0)","v":0},0,"*"]
[null,1556,null,null,null,null,null,null,null,null,null,null,null,null,null,null,null,null,null,null,null,null,null,null,null,null,null,null,null,null,null,null,null,null,null,null,null,null,null,null,null,null,null,null,null,null,null,null,null,null,null,null,null,null,"未","未","未","未",0,{"$f":"IFERROR(IF(MATCH(BC1561&\"/\"&BD1561,③読み替え表_省エネ住宅!$G$48:$G$57,0),1,0),0)","v":0},{"$f":"IFERROR(IF(MATCH(BE1561&\"/\"&BF1561,③読み替え表_省エネ住宅!$G$48:$G$57,0),1,0),0)","v":0},0,"*"]
[null,1560,null,null,null,null,null,null,null,null,null,null,null,null,null,null,null,null,null,null,null,null,null,null,null,null,null,null,null,null,null,null,null,null,null,null,null,null,null,null,null,null,null,null,null,null,null,null,null,null,null,null,null,null,"未","未","未","未",0,{"$f":"IFERROR(IF(MATCH(BC1565&\"/\"&BD1565,③読み替え表_省エネ住宅!$G$48:$G$57,0),1,0),0)","v":0},{"$f":"IFERROR(IF(MATCH(BE1565&\"/\"&BF1565,③読み替え表_省エネ住宅!$G$48:$G$57,0),1,0),0)","v":0},0,"*"]
[null,1563,null,null,null,null,null,null,null,null,null,null,null,null,null,null,null,null,null,null,null,null,null,null,null,null,null,null,null,null,null,null,null,null,null,null,null,null,null,null,null,null,null,null,null,null,null,null,null,null,null,null,null,null,"未","未","未","未",0,{"$f":"IFERROR(IF(MATCH(BC1568&\"/\"&BD1568,③読み替え表_省エネ住宅!$G$48:$G$57,0),1,0),0)","v":0},{"$f":"IFERROR(IF(MATCH(BE1568&\"/\"&BF1568,③読み替え表_省エネ住宅!$G$48:$G$57,0),1,0),0)","v":0},0,"*"]
[null,1565,null,null,null,null,null,null,null,null,null,null,null,null,null,null,null,null,null,null,null,null,null,null,null,null,null,null,null,null,null,null,null,null,null,null,null,null,null,null,null,null,null,null,null,null,null,null,null,null,null,null,null,null,"未","未","未","未",0,{"$f":"IFERROR(IF(MATCH(BC1570&\"/\"&BD1570,③読み替え表_省エネ住宅!$G$48:$G$57,0),1,0),0)","v":0},{"$f":"IFERROR(IF(MATCH(BE1570&\"/\"&BF1570,③読み替え表_省エネ住宅!$G$48:$G$57,0),1,0),0)","v":0},0,"*"]
[null,1569,null,null,null,null,null,null,null,null,null,null,null,null,null,null,null,null,null,null,null,null,null,null,null,null,null,null,null,null,null,null,null,null,null,null,null,null,null,null,null,null,null,null,null,null,null,null,null,null,null,null,null,null,"未","未","未","未",0,{"$f":"IFERROR(IF(MATCH(BC1574&\"/\"&BD1574,③読み替え表_省エネ住宅!$G$48:$G$57,0),1,0),0)","v":0},{"$f":"IFERROR(IF(MATCH(BE1574&\"/\"&BF1574,③読み替え表_省エネ住宅!$G$48:$G$57,0),1,0),0)","v":0},0,"*"]
[null,1572,null,null,null,null,null,null,null,null,null,null,null,null,null,null,null,null,null,null,null,null,null,null,null,null,null,null,null,null,null,null,null,null,null,null,null,null,null,null,null,null,null,null,null,null,null,null,null,null,null,null,null,null,"未","未","未","未",0,{"$f":"IFERROR(IF(MATCH(BC1577&\"/\"&BD1577,③読み替え表_省エネ住宅!$G$48:$G$57,0),1,0),0)","v":0},{"$f":"IFERROR(IF(MATCH(BE1577&\"/\"&BF1577,③読み替え表_省エネ住宅!$G$48:$G$57,0),1,0),0)","v":0},0,"*"]
[null,1574,null,null,null,null,null,null,null,null,null,null,null,null,null,null,null,null,null,null,null,null,null,null,null,null,null,null,null,null,null,null,null,null,null,null,null,null,null,null,null,null,null,null,null,null,null,null,null,null,null,null,null,null,"未","未","未","未",0,{"$f":"IFERROR(IF(MATCH(BC1579&\"/\"&BD1579,③読み替え表_省エネ住宅!$G$48:$G$57,0),1,0),0)","v":0},{"$f":"IFERROR(IF(MATCH(BE1579&\"/\"&BF1579,③読み替え表_省エネ住宅!$G$48:$G$57,0),1,0),0)","v":0},0,"*"]
[null,1575,null,null,null,null,null,null,null,null,null,null,null,null,null,null,null,null,null,null,null,null,null,null,null,null,null,null,null,null,null,null,null,null,null,null,null,null,null,null,null,null,null,null,null,null,null,null,null,null,null,null,null,null,"未","未","未","未",0,{"$f":"IFERROR(IF(MATCH(BC1580&\"/\"&BD1580,③読み替え表_省エネ住宅!$G$48:$G$57,0),1,0),0)","v":0},{"$f":"IFERROR(IF(MATCH(BE1580&\"/\"&BF1580,③読み替え表_省エネ住宅!$G$48:$G$57,0),1,0),0)","v":0},0,"*"]
[null,1578,null,null,null,null,null,null,null,null,null,null,null,null,null,null,null,null,null,null,null,null,null,null,null,null,null,null,null,null,null,null,null,null,null,null,null,null,null,null,null,null,null,null,null,null,null,null,null,null,null,null,null,null,"未","未","未","未",0,{"$f":"IFERROR(IF(MATCH(BC1583&\"/\"&BD1583,③読み替え表_省エネ住宅!$G$48:$G$57,0),1,0),0)","v":0},{"$f":"IFERROR(IF(MATCH(BE1583&\"/\"&BF1583,③読み替え表_省エネ住宅!$G$48:$G$57,0),1,0),0)","v":0},0,"*"]
[null,1582,null,null,null,null,null,null,null,null,null,null,null,null,null,null,null,null,null,null,null,null,null,null,null,null,null,null,null,null,null,null,null,null,null,null,null,null,null,null,null,null,null,null,null,null,null,null,null,null,null,null,null,null,"未","未","未","未",0,{"$f":"IFERROR(IF(MATCH(BC1587&\"/\"&BD1587,③読み替え表_省エネ住宅!$G$48:$G$57,0),1,0),0)","v":0},{"$f":"IFERROR(IF(MATCH(BE1587&\"/\"&BF1587,③読み替え表_省エネ住宅!$G$48:$G$57,0),1,0),0)","v":0},0,"*"]
[null,1585,null,null,null,null,null,null,null,null,null,null,null,null,null,null,null,null,null,null,null,null,null,null,null,null,null,null,null,null,null,null,null,null,null,null,null,null,null,null,null,null,null,null,null,null,null,null,null,null,null,null,null,null,"未","未","未","未",0,{"$f":"IFERROR(IF(MATCH(BC1590&\"/\"&BD1590,③読み替え表_省エネ住宅!$G$48:$G$57,0),1,0),0)","v":0},{"$f":"IFERROR(IF(MATCH(BE1590&\"/\"&BF1590,③読み替え表_省エネ住宅!$G$48:$G$57,0),1,0),0)","v":0},0,"*"]
[null,1587,null,null,null,null,null,null,null,null,null,null,null,null,null,null,null,null,null,null,null,null,null,null,null,null,null,null,null,null,null,null,null,null,null,null,null,null,null,null,null,null,null,null,null,null,null,null,null,null,null,null,null,null,"未","未","未","未",0,{"$f":"IFERROR(IF(MATCH(BC1592&\"/\"&BD1592,③読み替え表_省エネ住宅!$G$48:$G$57,0),1,0),0)","v":0},{"$f":"IFERROR(IF(MATCH(BE1592&\"/\"&BF1592,③読み替え表_省エネ住宅!$G$48:$G$57,0),1,0),0)","v":0},0,"*"]
[null,1591,null,null,null,null,null,null,null,null,null,null,null,null,null,null,null,null,null,null,null,null,null,null,null,null,null,null,null,null,null,null,null,null,null,null,null,null,null,null,null,null,null,null,null,null,null,null,null,null,null,null,null,null,"未","未","未","未",0,{"$f":"IFERROR(IF(MATCH(BC1596&\"/\"&BD1596,③読み替え表_省エネ住宅!$G$48:$G$57,0),1,0),0)","v":0},{"$f":"IFERROR(IF(MATCH(BE1596&\"/\"&BF1596,③読み替え表_省エネ住宅!$G$48:$G$57,0),1,0),0)","v":0},0,"*"]
[null,1594,null,null,null,null,null,null,null,null,null,null,null,null,null,null,null,null,null,null,null,null,null,null,null,null,null,null,null,null,null,null,null,null,null,null,null,null,null,null,null,null,null,null,null,null,null,null,null,null,null,null,null,null,"未","未","未","未",0,{"$f":"IFERROR(IF(MATCH(BC1599&\"/\"&BD1599,③読み替え表_省エネ住宅!$G$48:$G$57,0),1,0),0)","v":0},{"$f":"IFERROR(IF(MATCH(BE1599&\"/\"&BF1599,③読み替え表_省エネ住宅!$G$48:$G$57,0),1,0),0)","v":0},0,"*"]
[null,1595,null,null,null,null,null,null,null,null,null,null,null,null,null,null,null,null,null,null,null,null,null,null,null,null,null,null,null,null,null,null,null,null,null,null,null,null,null,null,null,null,null,null,null,null,null,null,null,null,null,null,null,null,"未","未","未","未",0,{"$f":"IFERROR(IF(MATCH(BC1600&\"/\"&BD1600,③読み替え表_省エネ住宅!$G$48:$G$57,0),1,0),0)","v":0},{"$f":"IFERROR(IF(MATCH(BE1600&\"/\"&BF1600,③読み替え表_省エネ住宅!$G$48:$G$57,0),1,0),0)","v":0},0,"*"]
[null,1598,null,null,null,null,null,null,null,null,null,null,null,null,null,null,null,null,null,null,null,null,null,null,null,null,null,null,null,null,null,null,null,null,null,null,null,null,null,null,null,null,null,null,null,null,null,null,null,null,null,null,null,null,"未","未","未","未",0,{"$f":"IFERROR(IF(MATCH(BC1603&\"/\"&BD1603,③読み替え表_省エネ住宅!$G$48:$G$57,0),1,0),0)","v":0},{"$f":"IFERROR(IF(MATCH(BE1603&\"/\"&BF1603,③読み替え表_省エネ住宅!$G$48:$G$57,0),1,0),0)","v":0},0,"*"]
[null,1600,null,null,null,null,null,null,null,null,null,null,null,null,null,null,null,null,null,null,null,null,null,null,null,null,null,null,null,null,null,null,null,null,null,null,null,null,null,null,null,null,null,null,null,null,null,null,null,null,null,null,null,null,"未","未","未","未",0,{"$f":"IFERROR(IF(MATCH(BC1605&\"/\"&BD1605,③読み替え表_省エネ住宅!$G$48:$G$57,0),1,0),0)","v":0},{"$f":"IFERROR(IF(MATCH(BE1605&\"/\"&BF1605,③読み替え表_省エネ住宅!$G$48:$G$57,0),1,0),0)","v":0},0,"*"]
[null,1604,null,null,null,null,null,null,null,null,null,null,null,null,null,null,null,null,null,null,null,null,null,null,null,null,null,null,null,null,null,null,null,null,null,null,null,null,null,null,null,null,null,null,null,null,null,null,null,null,null,null,null,null,"未","未","未","未",0,{"$f":"IFERROR(IF(MATCH(BC1609&\"/\"&BD1609,③読み替え表_省エネ住宅!$G$48:$G$57,0),1,0),0)","v":0},{"$f":"IFERROR(IF(MATCH(BE1609&\"/\"&BF1609,③読み替え表_省エネ住宅!$G$48:$G$57,0),1,0),0)","v":0},0,"*"]
[null,1607,null,null,null,null,null,null,null,null,null,null,null,null,null,null,null,null,null,null,null,null,null,null,null,null,null,null,null,null,null,null,null,null,null,null,null,null,null,null,null,null,null,null,null,null,null,null,null,null,null,null,null,null,"未","未","未","未",0,{"$f":"IFERROR(IF(MATCH(BC1612&\"/\"&BD1612,③読み替え表_省エネ住宅!$G$48:$G$57,0),1,0),0)","v":0},{"$f":"IFERROR(IF(MATCH(BE1612&\"/\"&BF1612,③読み替え表_省エネ住宅!$G$48:$G$57,0),1,0),0)","v":0},0,"*"]
[null,1609,null,null,null,null,null,null,null,null,null,null,null,null,null,null,null,null,null,null,null,null,null,null,null,null,null,null,null,null,null,null,null,null,null,null,null,null,null,null,null,null,null,null,null,null,null,null,null,null,null,null,null,null,"未","未","未","未",0,{"$f":"IFERROR(IF(MATCH(BC1614&\"/\"&BD1614,③読み替え表_省エネ住宅!$G$48:$G$57,0),1,0),0)","v":0},{"$f":"IFERROR(IF(MATCH(BE1614&\"/\"&BF1614,③読み替え表_省エネ住宅!$G$48:$G$57,0),1,0),0)","v":0},0,"*"]
[null,1613,null,null,null,null,null,null,null,null,null,null,null,null,null,null,null,null,null,null,null,null,null,null,null,null,null,null,null,null,null,null,null,null,null,null,null,null,null,null,null,null,null,null,null,null,null,null,null,null,null,null,null,null,"未","未","未","未",0,{"$f":"IFERROR(IF(MATCH(BC1618&\"/\"&BD1618,③読み替え表_省エネ住宅!$G$48:$G$57,0),1,0),0)","v":0},{"$f":"IFERROR(IF(MATCH(BE1618&\"/\"&BF1618,③読み替え表_省エネ住宅!$G$48:$G$57,0),1,0),0)","v":0},0,"*"]
[null,1616,null,null,null,null,null,null,null,null,null,null,null,null,null,null,null,null,null,null,null,null,null,null,null,null,null,null,null,null,null,null,null,null,null,null,null,null,null,null,null,null,null,null,null,null,null,null,null,null,null,null,null,null,"未","未","未","未",0,{"$f":"IFERROR(IF(MATCH(BC1621&\"/\"&BD1621,③読み替え表_省エネ住宅!$G$48:$G$57,0),1,0),0)","v":0},{"$f":"IFERROR(IF(MATCH(BE1621&\"/\"&BF1621,③読み替え表_省エネ住宅!$G$48:$G$57,0),1,0),0)","v":0},0,"*"]
[null,1617,null,null,null,null,null,null,null,null,null,null,null,null,null,null,null,null,null,null,null,null,null,null,null,null,null,null,null,null,null,null,null,null,null,null,null,null,null,null,null,null,null,null,null,null,null,null,null,null,null,null,null,null,"未","未","未","未",0,{"$f":"IFERROR(IF(MATCH(BC1622&\"/\"&BD1622,③読み替え表_省エネ住宅!$G$48:$G$57,0),1,0),0)","v":0},{"$f":"IFERROR(IF(MATCH(BE1622&\"/\"&BF1622,③読み替え表_省エネ住宅!$G$48:$G$57,0),1,0),0)","v":0},0,"*"]
[null,1620,null,null,null,null,null,null,null,null,null,null,null,null,null,null,null,null,null,null,null,null,null,null,null,null,null,null,null,null,null,null,null,null,null,null,null,null,null,null,null,null,null,null,null,null,null,null,null,null,null,null,null,null,"未","未","未","未",0,{"$f":"IFERROR(IF(MATCH(BC1625&\"/\"&BD1625,③読み替え表_省エネ住宅!$G$48:$G$57,0),1,0),0)","v":0},{"$f":"IFERROR(IF(MATCH(BE1625&\"/\"&BF1625,③読み替え表_省エネ住宅!$G$48:$G$57,0),1,0),0)","v":0},0,"*"]
[null,1622,null,null,null,null,null,null,null,null,null,null,null,null,null,null,null,null,null,null,null,null,null,null,null,null,null,null,null,null,null,null,null,null,null,null,null,null,null,null,null,null,null,null,null,null,null,null,null,null,null,null,null,null,"未","未","未","未",0,{"$f":"IFERROR(IF(MATCH(BC1627&\"/\"&BD1627,③読み替え表_省エネ住宅!$G$48:$G$57,0),1,0),0)","v":0},{"$f":"IFERROR(IF(MATCH(BE1627&\"/\"&BF1627,③読み替え表_省エネ住宅!$G$48:$G$57,0),1,0),0)","v":0},0,"*"]
[null,1626,null,null,null,null,null,null,null,null,null,null,null,null,null,null,null,null,null,null,null,null,null,null,null,null,null,null,null,null,null,null,null,null,null,null,null,null,null,null,null,null,null,null,null,null,null,null,null,null,null,null,null,null,"未","未","未","未",0,{"$f":"IFERROR(IF(MATCH(BC1631&\"/\"&BD1631,③読み替え表_省エネ住宅!$G$48:$G$57,0),1,0),0)","v":0},{"$f":"IFERROR(IF(MATCH(BE1631&\"/\"&BF1631,③読み替え表_省エネ住宅!$G$48:$G$57,0),1,0),0)","v":0},0,"*"]
[null,1629,null,null,null,null,null,null,null,null,null,null,null,null,null,null,null,null,null,null,null,null,null,null,null,null,null,null,null,null,null,null,null,null,null,null,null,null,null,null,null,null,null,null,null,null,null,null,null,null,null,null,null,null,"未","未","未","未",0,{"$f":"IFERROR(IF(MATCH(BC1634&\"/\"&BD1634,③読み替え表_省エネ住宅!$G$48:$G$57,0),1,0),0)","v":0},{"$f":"IFERROR(IF(MATCH(BE1634&\"/\"&BF1634,③読み替え表_省エネ住宅!$G$48:$G$57,0),1,0),0)","v":0},0,"*"]
[null,1631,null,null,null,null,null,null,null,null,null,null,null,null,null,null,null,null,null,null,null,null,null,null,null,null,null,null,null,null,null,null,null,null,null,null,null,null,null,null,null,null,null,null,null,null,null,null,null,null,null,null,null,null,"未","未","未","未",0,{"$f":"IFERROR(IF(MATCH(BC1636&\"/\"&BD1636,③読み替え表_省エネ住宅!$G$48:$G$57,0),1,0),0)","v":0},{"$f":"IFERROR(IF(MATCH(BE1636&\"/\"&BF1636,③読み替え表_省エネ住宅!$G$48:$G$57,0),1,0),0)","v":0},0,"*"]
[null,1635,null,null,null,null,null,null,null,null,null,null,null,null,null,null,null,null,null,null,null,null,null,null,null,null,null,null,null,null,null,null,null,null,null,null,null,null,null,null,null,null,null,null,null,null,null,null,null,null,null,null,null,null,"未","未","未","未",0,{"$f":"IFERROR(IF(MATCH(BC1640&\"/\"&BD1640,③読み替え表_省エネ住宅!$G$48:$G$57,0),1,0),0)","v":0},{"$f":"IFERROR(IF(MATCH(BE1640&\"/\"&BF1640,③読み替え表_省エネ住宅!$G$48:$G$57,0),1,0),0)","v":0},0,"*"]
[null,1638,null,null,null,null,null,null,null,null,null,null,null,null,null,null,null,null,null,null,null,null,null,null,null,null,null,null,null,null,null,null,null,null,null,null,null,null,null,null,null,null,null,null,null,null,null,null,null,null,null,null,null,null,"未","未","未","未",0,{"$f":"IFERROR(IF(MATCH(BC1643&\"/\"&BD1643,③読み替え表_省エネ住宅!$G$48:$G$57,0),1,0),0)","v":0},{"$f":"IFERROR(IF(MATCH(BE1643&\"/\"&BF1643,③読み替え表_省エネ住宅!$G$48:$G$57,0),1,0),0)","v":0},0,"*"]
[null,1639,null,null,null,null,null,null,null,null,null,null,null,null,null,null,null,null,null,null,null,null,null,null,null,null,null,null,null,null,null,null,null,null,null,null,null,null,null,null,null,null,null,null,null,null,null,null,null,null,null,null,null,null,"未","未","未","未",0,{"$f":"IFERROR(IF(MATCH(BC1644&\"/\"&BD1644,③読み替え表_省エネ住宅!$G$48:$G$57,0),1,0),0)","v":0},{"$f":"IFERROR(IF(MATCH(BE1644&\"/\"&BF1644,③読み替え表_省エネ住宅!$G$48:$G$57,0),1,0),0)","v":0},0,"*"]
[null,1642,null,null,null,null,null,null,null,null,null,null,null,null,null,null,null,null,null,null,null,null,null,null,null,null,null,null,null,null,null,null,null,null,null,null,null,null,null,null,null,null,null,null,null,null,null,null,null,null,null,null,null,null,"未","未","未","未",0,{"$f":"IFERROR(IF(MATCH(BC1647&\"/\"&BD1647,③読み替え表_省エネ住宅!$G$48:$G$57,0),1,0),0)","v":0},{"$f":"IFERROR(IF(MATCH(BE1647&\"/\"&BF1647,③読み替え表_省エネ住宅!$G$48:$G$57,0),1,0),0)","v":0},0,"*"]
[null,1644,null,null,null,null,null,null,null,null,null,null,null,null,null,null,null,null,null,null,null,null,null,null,null,null,null,null,null,null,null,null,null,null,null,null,null,null,null,null,null,null,null,null,null,null,null,null,null,null,null,null,null,null,"未","未","未","未",0,{"$f":"IFERROR(IF(MATCH(BC1649&\"/\"&BD1649,③読み替え表_省エネ住宅!$G$48:$G$57,0),1,0),0)","v":0},{"$f":"IFERROR(IF(MATCH(BE1649&\"/\"&BF1649,③読み替え表_省エネ住宅!$G$48:$G$57,0),1,0),0)","v":0},0,"*"]
[null,1648,null,null,null,null,null,null,null,null,null,null,null,null,null,null,null,null,null,null,null,null,null,null,null,null,null,null,null,null,null,null,null,null,null,null,null,null,null,null,null,null,null,null,null,null,null,null,null,null,null,null,null,null,"未","未","未","未",0,{"$f":"IFERROR(IF(MATCH(BC1653&\"/\"&BD1653,③読み替え表_省エネ住宅!$G$48:$G$57,0),1,0),0)","v":0},{"$f":"IFERROR(IF(MATCH(BE1653&\"/\"&BF1653,③読み替え表_省エネ住宅!$G$48:$G$57,0),1,0),0)","v":0},0,"*"]
[null,1651,null,null,null,null,null,null,null,null,null,null,null,null,null,null,null,null,null,null,null,null,null,null,null,null,null,null,null,null,null,null,null,null,null,null,null,null,null,null,null,null,null,null,null,null,null,null,null,null,null,null,null,null,"未","未","未","未",0,{"$f":"IFERROR(IF(MATCH(BC1656&\"/\"&BD1656,③読み替え表_省エネ住宅!$G$48:$G$57,0),1,0),0)","v":0},{"$f":"IFERROR(IF(MATCH(BE1656&\"/\"&BF1656,③読み替え表_省エネ住宅!$G$48:$G$57,0),1,0),0)","v":0},0,"*"]
[null,1655,null,null,null,null,null,null,null,null,null,null,null,null,null,null,null,null,null,null,null,null,null,null,null,null,null,null,null,null,null,null,null,null,null,null,null,null,null,null,null,null,null,null,null,null,null,null,null,null,null,null,null,null,"未","未","未","未",0,{"$f":"IFERROR(IF(MATCH(BC1660&\"/\"&BD1660,③読み替え表_省エネ住宅!$G$48:$G$57,0),1,0),0)","v":0},{"$f":"IFERROR(IF(MATCH(BE1660&\"/\"&BF1660,③読み替え表_省エネ住宅!$G$48:$G$57,0),1,0),0)","v":0},0,"*"]
[null,1657,null,null,null,null,null,null,null,null,null,null,null,null,null,null,null,null,null,null,null,null,null,null,null,null,null,null,null,null,null,null,null,null,null,null,null,null,null,null,null,null,null,null,null,null,null,null,null,null,null,null,null,null,"未","未","未","未",0,{"$f":"IFERROR(IF(MATCH(BC1662&\"/\"&BD1662,③読み替え表_省エネ住宅!$G$48:$G$57,0),1,0),0)","v":0},{"$f":"IFERROR(IF(MATCH(BE1662&\"/\"&BF1662,③読み替え表_省エネ住宅!$G$48:$G$57,0),1,0),0)","v":0},0,"*"]
[null,1660,null,null,null,null,null,null,null,null,null,null,null,null,null,null,null,null,null,null,null,null,null,null,null,null,null,null,null,null,null,null,null,null,null,null,null,null,null,null,null,null,null,null,null,null,null,null,null,null,null,null,null,null,"未","未","未","未",0,{"$f":"IFERROR(IF(MATCH(BC1665&\"/\"&BD1665,③読み替え表_省エネ住宅!$G$48:$G$57,0),1,0),0)","v":0},{"$f":"IFERROR(IF(MATCH(BE1665&\"/\"&BF1665,③読み替え表_省エネ住宅!$G$48:$G$57,0),1,0),0)","v":0},0,"*"]
[null,1661,null,null,null,null,null,null,null,null,null,null,null,null,null,null,null,null,null,null,null,null,null,null,null,null,null,null,null,null,null,null,null,null,null,null,null,null,null,null,null,null,null,null,null,null,null,null,null,null,null,null,null,null,"未","未","未","未",0,{"$f":"IFERROR(IF(MATCH(BC1666&\"/\"&BD1666,③読み替え表_省エネ住宅!$G$48:$G$57,0),1,0),0)","v":0},{"$f":"IFERROR(IF(MATCH(BE1666&\"/\"&BF1666,③読み替え表_省エネ住宅!$G$48:$G$57,0),1,0),0)","v":0},0,"*"]
[null,1664,null,null,null,null,null,null,null,null,null,null,null,null,null,null,null,null,null,null,null,null,null,null,null,null,null,null,null,null,null,null,null,null,null,null,null,null,null,null,null,null,null,null,null,null,null,null,null,null,null,null,null,null,"未","未","未","未",0,{"$f":"IFERROR(IF(MATCH(BC1669&\"/\"&BD1669,③読み替え表_省エネ住宅!$G$48:$G$57,0),1,0),0)","v":0},{"$f":"IFERROR(IF(MATCH(BE1669&\"/\"&BF1669,③読み替え表_省エネ住宅!$G$48:$G$57,0),1,0),0)","v":0},0,"*"]
[null,1668,null,null,null,null,null,null,null,null,null,null,null,null,null,null,null,null,null,null,null,null,null,null,null,null,null,null,null,null,null,null,null,null,null,null,null,null,null,null,null,null,null,null,null,null,null,null,null,null,null,null,null,null,"未","未","未","未",0,{"$f":"IFERROR(IF(MATCH(BC1673&\"/\"&BD1673,③読み替え表_省エネ住宅!$G$48:$G$57,0),1,0),0)","v":0},{"$f":"IFERROR(IF(MATCH(BE1673&\"/\"&BF1673,③読み替え表_省エネ住宅!$G$48:$G$57,0),1,0),0)","v":0},0,"*"]
[null,1670,null,null,null,null,null,null,null,null,null,null,null,null,null,null,null,null,null,null,null,null,null,null,null,null,null,null,null,null,null,null,null,null,null,null,null,null,null,null,null,null,null,null,null,null,null,null,null,null,null,null,null,null,"未","未","未","未",0,{"$f":"IFERROR(IF(MATCH(BC1675&\"/\"&BD1675,③読み替え表_省エネ住宅!$G$48:$G$57,0),1,0),0)","v":0},{"$f":"IFERROR(IF(MATCH(BE1675&\"/\"&BF1675,③読み替え表_省エネ住宅!$G$48:$G$57,0),1,0),0)","v":0},0,"*"]
[null,1673,null,null,null,null,null,null,null,null,null,null,null,null,null,null,null,null,null,null,null,null,null,null,null,null,null,null,null,null,null,null,null,null,null,null,null,null,null,null,null,null,null,null,null,null,null,null,null,null,null,null,null,null,"未","未","未","未",0,{"$f":"IFERROR(IF(MATCH(BC1678&\"/\"&BD1678,③読み替え表_省エネ住宅!$G$48:$G$57,0),1,0),0)","v":0},{"$f":"IFERROR(IF(MATCH(BE1678&\"/\"&BF1678,③読み替え表_省エネ住宅!$G$48:$G$57,0),1,0),0)","v":0},0,"*"]
[null,1677,null,null,null,null,null,null,null,null,null,null,null,null,null,null,null,null,null,null,null,null,null,null,null,null,null,null,null,null,null,null,null,null,null,null,null,null,null,null,null,null,null,null,null,null,null,null,null,null,null,null,null,null,"未","未","未","未",0,{"$f":"IFERROR(IF(MATCH(BC1682&\"/\"&BD1682,③読み替え表_省エネ住宅!$G$48:$G$57,0),1,0),0)","v":0},{"$f":"IFERROR(IF(MATCH(BE1682&\"/\"&BF1682,③読み替え表_省エネ住宅!$G$48:$G$57,0),1,0),0)","v":0},0,"*"]
[null,1679,null,null,null,null,null,null,null,null,null,null,null,null,null,null,null,null,null,null,null,null,null,null,null,null,null,null,null,null,null,null,null,null,null,null,null,null,null,null,null,null,null,null,null,null,null,null,null,null,null,null,null,null,"未","未","未","未",0,{"$f":"IFERROR(IF(MATCH(BC1684&\"/\"&BD1684,③読み替え表_省エネ住宅!$G$48:$G$57,0),1,0),0)","v":0},{"$f":"IFERROR(IF(MATCH(BE1684&\"/\"&BF1684,③読み替え表_省エネ住宅!$G$48:$G$57,0),1,0),0)","v":0},0,"*"]
[null,1682,null,null,null,null,null,null,null,null,null,null,null,null,null,null,null,null,null,null,null,null,null,null,null,null,null,null,null,null,null,null,null,null,null,null,null,null,null,null,null,null,null,null,null,null,null,null,null,null,null,null,null,null,"未","未","未","未",0,{"$f":"IFERROR(IF(MATCH(BC1687&\"/\"&BD1687,③読み替え表_省エネ住宅!$G$48:$G$57,0),1,0),0)","v":0},{"$f":"IFERROR(IF(MATCH(BE1687&\"/\"&BF1687,③読み替え表_省エネ住宅!$G$48:$G$57,0),1,0),0)","v":0},0,"*"]
[null,1683,null,null,null,null,null,null,null,null,null,null,null,null,null,null,null,null,null,null,null,null,null,null,null,null,null,null,null,null,null,null,null,null,null,null,null,null,null,null,null,null,null,null,null,null,null,null,null,null,null,null,null,null,"未","未","未","未",0,{"$f":"IFERROR(IF(MATCH(BC1688&\"/\"&BD1688,③読み替え表_省エネ住宅!$G$48:$G$57,0),1,0),0)","v":0},{"$f":"IFERROR(IF(MATCH(BE1688&\"/\"&BF1688,③読み替え表_省エネ住宅!$G$48:$G$57,0),1,0),0)","v":0},0,"*"]
[null,1686,null,null,null,null,null,null,null,null,null,null,null,null,null,null,null,null,null,null,null,null,null,null,null,null,null,null,null,null,null,null,null,null,null,null,null,null,null,null,null,null,null,null,null,null,null,null,null,null,null,null,null,null,"未","未","未","未",0,{"$f":"IFERROR(IF(MATCH(BC1691&\"/\"&BD1691,③読み替え表_省エネ住宅!$G$48:$G$57,0),1,0),0)","v":0},{"$f":"IFERROR(IF(MATCH(BE1691&\"/\"&BF1691,③読み替え表_省エネ住宅!$G$48:$G$57,0),1,0),0)","v":0},0,"*"]
[null,1690,null,null,null,null,null,null,null,null,null,null,null,null,null,null,null,null,null,null,null,null,null,null,null,null,null,null,null,null,null,null,null,null,null,null,null,null,null,null,null,null,null,null,null,null,null,null,null,null,null,null,null,null,"未","未","未","未",0,{"$f":"IFERROR(IF(MATCH(BC1695&\"/\"&BD1695,③読み替え表_省エネ住宅!$G$48:$G$57,0),1,0),0)","v":0},{"$f":"IFERROR(IF(MATCH(BE1695&\"/\"&BF1695,③読み替え表_省エネ住宅!$G$48:$G$57,0),1,0),0)","v":0},0,"*"]
[null,1692,null,null,null,null,null,null,null,null,null,null,null,null,null,null,null,null,null,null,null,null,null,null,null,null,null,null,null,null,null,null,null,null,null,null,null,null,null,null,null,null,null,null,null,null,null,null,null,null,null,null,null,null,"未","未","未","未",0,{"$f":"IFERROR(IF(MATCH(BC1697&\"/\"&BD1697,③読み替え表_省エネ住宅!$G$48:$G$57,0),1,0),0)","v":0},{"$f":"IFERROR(IF(MATCH(BE1697&\"/\"&BF1697,③読み替え表_省エネ住宅!$G$48:$G$57,0),1,0),0)","v":0},0,"*"]
[null,1695,null,null,null,null,null,null,null,null,null,null,null,null,null,null,null,null,null,null,null,null,null,null,null,null,null,null,null,null,null,null,null,null,null,null,null,null,null,null,null,null,null,null,null,null,null,null,null,null,null,null,null,null,"未","未","未","未",0,{"$f":"IFERROR(IF(MATCH(BC1700&\"/\"&BD1700,③読み替え表_省エネ住宅!$G$48:$G$57,0),1,0),0)","v":0},{"$f":"IFERROR(IF(MATCH(BE1700&\"/\"&BF1700,③読み替え表_省エネ住宅!$G$48:$G$57,0),1,0),0)","v":0},0,"*"]
[null,1699,null,null,null,null,null,null,null,null,null,null,null,null,null,null,null,null,null,null,null,null,null,null,null,null,null,null,null,null,null,null,null,null,null,null,null,null,null,null,null,null,null,null,null,null,null,null,null,null,null,null,null,null,"未","未","未","未",0,{"$f":"IFERROR(IF(MATCH(BC1704&\"/\"&BD1704,③読み替え表_省エネ住宅!$G$48:$G$57,0),1,0),0)","v":0},{"$f":"IFERROR(IF(MATCH(BE1704&\"/\"&BF1704,③読み替え表_省エネ住宅!$G$48:$G$57,0),1,0),0)","v":0},0,"*"]
[null,1701,null,null,null,null,null,null,null,null,null,null,null,null,null,null,null,null,null,null,null,null,null,null,null,null,null,null,null,null,null,null,null,null,null,null,null,null,null,null,null,null,null,null,null,null,null,null,null,null,null,null,null,null,"未","未","未","未",0,{"$f":"IFERROR(IF(MATCH(BC1706&\"/\"&BD1706,③読み替え表_省エネ住宅!$G$48:$G$57,0),1,0),0)","v":0},{"$f":"IFERROR(IF(MATCH(BE1706&\"/\"&BF1706,③読み替え表_省エネ住宅!$G$48:$G$57,0),1,0),0)","v":0},0,"*"]
[null,1704,null,null,null,null,null,null,null,null,null,null,null,null,null,null,null,null,null,null,null,null,null,null,null,null,null,null,null,null,null,null,null,null,null,null,null,null,null,null,null,null,null,null,null,null,null,null,null,null,null,null,null,null,"未","未","未","未",0,{"$f":"IFERROR(IF(MATCH(BC1709&\"/\"&BD1709,③読み替え表_省エネ住宅!$G$48:$G$57,0),1,0),0)","v":0},{"$f":"IFERROR(IF(MATCH(BE1709&\"/\"&BF1709,③読み替え表_省エネ住宅!$G$48:$G$57,0),1,0),0)","v":0},0,"*"]
[null,1705,null,null,null,null,null,null,null,null,null,null,null,null,null,null,null,null,null,null,null,null,null,null,null,null,null,null,null,null,null,null,null,null,null,null,null,null,null,null,null,null,null,null,null,null,null,null,null,null,null,null,null,null,"未","未","未","未",0,{"$f":"IFERROR(IF(MATCH(BC1710&\"/\"&BD1710,③読み替え表_省エネ住宅!$G$48:$G$57,0),1,0),0)","v":0},{"$f":"IFERROR(IF(MATCH(BE1710&\"/\"&BF1710,③読み替え表_省エネ住宅!$G$48:$G$57,0),1,0),0)","v":0},0,"*"]
[null,1708,null,null,null,null,null,null,null,null,null,null,null,null,null,null,null,null,null,null,null,null,null,null,null,null,null,null,null,null,null,null,null,null,null,null,null,null,null,null,null,null,null,null,null,null,null,null,null,null,null,null,null,null,"未","未","未","未",0,{"$f":"IFERROR(IF(MATCH(BC1713&\"/\"&BD1713,③読み替え表_省エネ住宅!$G$48:$G$57,0),1,0),0)","v":0},{"$f":"IFERROR(IF(MATCH(BE1713&\"/\"&BF1713,③読み替え表_省エネ住宅!$G$48:$G$57,0),1,0),0)","v":0},0,"*"]
[null,1712,null,null,null,null,null,null,null,null,null,null,null,null,null,null,null,null,null,null,null,null,null,null,null,null,null,null,null,null,null,null,null,null,null,null,null,null,null,null,null,null,null,null,null,null,null,null,null,null,null,null,null,null,"未","未","未","未",0,{"$f":"IFERROR(IF(MATCH(BC1717&\"/\"&BD1717,③読み替え表_省エネ住宅!$G$48:$G$57,0),1,0),0)","v":0},{"$f":"IFERROR(IF(MATCH(BE1717&\"/\"&BF1717,③読み替え表_省エネ住宅!$G$48:$G$57,0),1,0),0)","v":0},0,"*"]
[null,1714,null,null,null,null,null,null,null,null,null,null,null,null,null,null,null,null,null,null,null,null,null,null,null,null,null,null,null,null,null,null,null,null,null,null,null,null,null,null,null,null,null,null,null,null,null,null,null,null,null,null,null,null,"未","未","未","未",0,{"$f":"IFERROR(IF(MATCH(BC1719&\"/\"&BD1719,③読み替え表_省エネ住宅!$G$48:$G$57,0),1,0),0)","v":0},{"$f":"IFERROR(IF(MATCH(BE1719&\"/\"&BF1719,③読み替え表_省エネ住宅!$G$48:$G$57,0),1,0),0)","v":0},0,"*"]
[null,1717,null,null,null,null,null,null,null,null,null,null,null,null,null,null,null,null,null,null,null,null,null,null,null,null,null,null,null,null,null,null,null,null,null,null,null,null,null,null,null,null,null,null,null,null,null,null,null,null,null,null,null,null,"未","未","未","未",0,{"$f":"IFERROR(IF(MATCH(BC1722&\"/\"&BD1722,③読み替え表_省エネ住宅!$G$48:$G$57,0),1,0),0)","v":0},{"$f":"IFERROR(IF(MATCH(BE1722&\"/\"&BF1722,③読み替え表_省エネ住宅!$G$48:$G$57,0),1,0),0)","v":0},0,"*"]
[null,1721,null,null,null,null,null,null,null,null,null,null,null,null,null,null,null,null,null,null,null,null,null,null,null,null,null,null,null,null,null,null,null,null,null,null,null,null,null,null,null,null,null,null,null,null,null,null,null,null,null,null,null,null,"未","未","未","未",0,{"$f":"IFERROR(IF(MATCH(BC1726&\"/\"&BD1726,③読み替え表_省エネ住宅!$G$48:$G$57,0),1,0),0)","v":0},{"$f":"IFERROR(IF(MATCH(BE1726&\"/\"&BF1726,③読み替え表_省エネ住宅!$G$48:$G$57,0),1,0),0)","v":0},0,"*"]
[null,1724,null,null,null,null,null,null,null,null,null,null,null,null,null,null,null,null,null,null,null,null,null,null,null,null,null,null,null,null,null,null,null,null,null,null,null,null,null,null,null,null,null,null,null,null,null,null,null,null,null,null,null,null,"未","未","未","未",0,{"$f":"IFERROR(IF(MATCH(BC1729&\"/\"&BD1729,③読み替え表_省エネ住宅!$G$48:$G$57,0),1,0),0)","v":0},{"$f":"IFERROR(IF(MATCH(BE1729&\"/\"&BF1729,③読み替え表_省エネ住宅!$G$48:$G$57,0),1,0),0)","v":0},0,"*"]
[null,1725,null,null,null,null,null,null,null,null,null,null,null,null,null,null,null,null,null,null,null,null,null,null,null,null,null,null,null,null,null,null,null,null,null,null,null,null,null,null,null,null,null,null,null,null,null,null,null,null,null,null,null,null,"未","未","未","未",0,{"$f":"IFERROR(IF(MATCH(BC1730&\"/\"&BD1730,③読み替え表_省エネ住宅!$G$48:$G$57,0),1,0),0)","v":0},{"$f":"IFERROR(IF(MATCH(BE1730&\"/\"&BF1730,③読み替え表_省エネ住宅!$G$48:$G$57,0),1,0),0)","v":0},0,"*"]
[null,1727,null,null,null,null,null,null,null,null,null,null,null,null,null,null,null,null,null,null,null,null,null,null,null,null,null,null,null,null,null,null,null,null,null,null,null,null,null,null,null,null,null,null,null,null,null,null,null,null,null,null,null,null,"未","未","未","未",0,{"$f":"IFERROR(IF(MATCH(BC1732&\"/\"&BD1732,③読み替え表_省エネ住宅!$G$48:$G$57,0),1,0),0)","v":0},{"$f":"IFERROR(IF(MATCH(BE1732&\"/\"&BF1732,③読み替え表_省エネ住宅!$G$48:$G$57,0),1,0),0)","v":0},0,"*"]
[null,{"$f":"ROW()-5","v":1730},null,null,null,null,null,null,null,null,null,null,null,null,null,null,null,null,null,null,null,null,null,null,null,null,null,null,null,null,null,null,null,null,null,null,null,null,null,null,null,null,null,null,null,null,null,null,null,null,null,null,null,null,{"$f":"IFERROR(IF(SUM($Q1735:$U1735)>1,\"複数回答\",INDEX($Q$5:$U$5,,MATCH(1,$Q1735:$U1735,0))),\"未\")","v":"未"},{"$f":"IFERROR(IF(SUM($AA1735:$AE1735)>1,\"複数回答\",INDEX($AA$5:$AE$5,,MATCH(1,$AA1735:$AE1735,0))),\"未\")","v":"未"},{"$f":"IFERROR(IF(SUM($V1735:$Z1735)>1,\"複数回答\",INDEX($V$5:$Z$5,,MATCH(1,$V1735:$Z1735,0))),\"未\")","v":"未"},{"$f":"IFERROR(IF(SUM($AF1735:$AJ1735)>1,\"複数回答\",INDEX($AF$5:$AJ$5,,MATCH(1,$AF1735:$AJ1735,0))),\"未\")","v":"未"},{"$f":"IF(BC1735=\"複数回答\",1,IF(BD1735=\"複数回答\",1,IF(BE1735=\"複数回答\",1,IF(BF1735=\"複数回答\",1,0))))","v":0},{"$f":"IFERROR(IF(MATCH(BC1735&\"/\"&BD1735,③読み替え表_省エネ住宅!$G$48:$G$57,0),1,0),0)","v":0},{"$f":"IFERROR(IF(MATCH(BE1735&\"/\"&BF1735,③読み替え表_省エネ住宅!$G$48:$G$57,0),1,0),0)","v":0},{"$f":"IF(SUM(BG1735:BI1735)>0,1,0)","v":0},"*"]
[null,1734,null,null,null,null,null,null,null,null,null,null,null,null,null,null,null,null,null,null,null,null,null,null,null,null,null,null,null,null,null,null,null,null,null,null,null,null,null,null,null,null,null,null,null,null,null,null,null,null,null,null,null,null,"未","未","未","未",0,{"$f":"IFERROR(IF(MATCH(BC1739&\"/\"&BD1739,③読み替え表_省エネ住宅!$G$48:$G$57,0),1,0),0)","v":0},{"$f":"IFERROR(IF(MATCH(BE1739&\"/\"&BF1739,③読み替え表_省エネ住宅!$G$48:$G$57,0),1,0),0)","v":0},0,"*"]
[null,1736,null,null,null,null,null,null,null,null,null,null,null,null,null,null,null,null,null,null,null,null,null,null,null,null,null,null,null,null,null,null,null,null,null,null,null,null,null,null,null,null,null,null,null,null,null,null,null,null,null,null,null,null,"未","未","未","未",0,{"$f":"IFERROR(IF(MATCH(BC1741&\"/\"&BD1741,③読み替え表_省エネ住宅!$G$48:$G$57,0),1,0),0)","v":0},{"$f":"IFERROR(IF(MATCH(BE1741&\"/\"&BF1741,③読み替え表_省エネ住宅!$G$48:$G$57,0),1,0),0)","v":0},0,"*"]
[null,1739,null,null,null,null,null,null,null,null,null,null,null,null,null,null,null,null,null,null,null,null,null,null,null,null,null,null,null,null,null,null,null,null,null,null,null,null,null,null,null,null,null,null,null,null,null,null,null,null,null,null,null,null,"未","未","未","未",0,{"$f":"IFERROR(IF(MATCH(BC1744&\"/\"&BD1744,③読み替え表_省エネ住宅!$G$48:$G$57,0),1,0),0)","v":0},{"$f":"IFERROR(IF(MATCH(BE1744&\"/\"&BF1744,③読み替え表_省エネ住宅!$G$48:$G$57,0),1,0),0)","v":0},0,"*"]
[null,1743,null,null,null,null,null,null,null,null,null,null,null,null,null,null,null,null,null,null,null,null,null,null,null,null,null,null,null,null,null,null,null,null,null,null,null,null,null,null,null,null,null,null,null,null,null,null,null,null,null,null,null,null,"未","未","未","未",0,{"$f":"IFERROR(IF(MATCH(BC1748&\"/\"&BD1748,③読み替え表_省エネ住宅!$G$48:$G$57,0),1,0),0)","v":0},{"$f":"IFERROR(IF(MATCH(BE1748&\"/\"&BF1748,③読み替え表_省エネ住宅!$G$48:$G$57,0),1,0),0)","v":0},0,"*"]
[null,1746,null,null,null,null,null,null,null,null,null,null,null,null,null,null,null,null,null,null,null,null,null,null,null,null,null,null,null,null,null,null,null,null,null,null,null,null,null,null,null,null,null,null,null,null,null,null,null,null,null,null,null,null,"未","未","未","未",0,{"$f":"IFERROR(IF(MATCH(BC1751&\"/\"&BD1751,③読み替え表_省エネ住宅!$G$48:$G$57,0),1,0),0)","v":0},{"$f":"IFERROR(IF(MATCH(BE1751&\"/\"&BF1751,③読み替え表_省エネ住宅!$G$48:$G$57,0),1,0),0)","v":0},0,"*"]
[null,1747,null,null,null,null,null,null,null,null,null,null,null,null,null,null,null,null,null,null,null,null,null,null,null,null,null,null,null,null,null,null,null,null,null,null,null,null,null,null,null,null,null,null,null,null,null,null,null,null,null,null,null,null,"未","未","未","未",0,{"$f":"IFERROR(IF(MATCH(BC1752&\"/\"&BD1752,③読み替え表_省エネ住宅!$G$48:$G$57,0),1,0),0)","v":0},{"$f":"IFERROR(IF(MATCH(BE1752&\"/\"&BF1752,③読み替え表_省エネ住宅!$G$48:$G$57,0),1,0),0)","v":0},0,"*"]
[null,1749,null,null,null,null,null,null,null,null,null,null,null,null,null,null,null,null,null,null,null,null,null,null,null,null,null,null,null,null,null,null,null,null,null,null,null,null,null,null,null,null,null,null,null,null,null,null,null,null,null,null,null,null,"未","未","未","未",0,{"$f":"IFERROR(IF(MATCH(BC1754&\"/\"&BD1754,③読み替え表_省エネ住宅!$G$48:$G$57,0),1,0),0)","v":0},{"$f":"IFERROR(IF(MATCH(BE1754&\"/\"&BF1754,③読み替え表_省エネ住宅!$G$48:$G$57,0),1,0),0)","v":0},0,"*"]
[null,1752,null,null,null,null,null,null,null,null,null,null,null,null,null,null,null,null,null,null,null,null,null,null,null,null,null,null,null,null,null,null,null,null,null,null,null,null,null,null,null,null,null,null,null,null,null,null,null,null,null,null,null,null,"未","未","未","未",0,{"$f":"IFERROR(IF(MATCH(BC1757&\"/\"&BD1757,③読み替え表_省エネ住宅!$G$48:$G$57,0),1,0),0)","v":0},{"$f":"IFERROR(IF(MATCH(BE1757&\"/\"&BF1757,③読み替え表_省エネ住宅!$G$48:$G$57,0),1,0),0)","v":0},0,"*"]
[null,1756,null,null,null,null,null,null,null,null,null,null,null,null,null,null,null,null,null,null,null,null,null,null,null,null,null,null,null,null,null,null,null,null,null,null,null,null,null,null,null,null,null,null,null,null,null,null,null,null,null,null,null,null,"未","未","未","未",0,{"$f":"IFERROR(IF(MATCH(BC1761&\"/\"&BD1761,③読み替え表_省エネ住宅!$G$48:$G$57,0),1,0),0)","v":0},{"$f":"IFERROR(IF(MATCH(BE1761&\"/\"&BF1761,③読み替え表_省エネ住宅!$G$48:$G$57,0),1,0),0)","v":0},0,"*"]
[null,1758,null,null,null,null,null,null,null,null,null,null,null,null,null,null,null,null,null,null,null,null,null,null,null,null,null,null,null,null,null,null,null,null,null,null,null,null,null,null,null,null,null,null,null,null,null,null,null,null,null,null,null,null,"未","未","未","未",0,{"$f":"IFERROR(IF(MATCH(BC1763&\"/\"&BD1763,③読み替え表_省エネ住宅!$G$48:$G$57,0),1,0),0)","v":0},{"$f":"IFERROR(IF(MATCH(BE1763&\"/\"&BF1763,③読み替え表_省エネ住宅!$G$48:$G$57,0),1,0),0)","v":0},0,"*"]
[null,1761,null,null,null,null,null,null,null,null,null,null,null,null,null,null,null,null,null,null,null,null,null,null,null,null,null,null,null,null,null,null,null,null,null,null,null,null,null,null,null,null,null,null,null,null,null,null,null,null,null,null,null,null,"未","未","未","未",0,{"$f":"IFERROR(IF(MATCH(BC1766&\"/\"&BD1766,③読み替え表_省エネ住宅!$G$48:$G$57,0),1,0),0)","v":0},{"$f":"IFERROR(IF(MATCH(BE1766&\"/\"&BF1766,③読み替え表_省エネ住宅!$G$48:$G$57,0),1,0),0)","v":0},0,"*"]
[null,1765,null,null,null,null,null,null,null,null,null,null,null,null,null,null,null,null,null,null,null,null,null,null,null,null,null,null,null,null,null,null,null,null,null,null,null,null,null,null,null,null,null,null,null,null,null,null,null,null,null,null,null,null,"未","未","未","未",0,{"$f":"IFERROR(IF(MATCH(BC1770&\"/\"&BD1770,③読み替え表_省エネ住宅!$G$48:$G$57,0),1,0),0)","v":0},{"$f":"IFERROR(IF(MATCH(BE1770&\"/\"&BF1770,③読み替え表_省エネ住宅!$G$48:$G$57,0),1,0),0)","v":0},0,"*"]
[null,1768,null,null,null,null,null,null,null,null,null,null,null,null,null,null,null,null,null,null,null,null,null,null,null,null,null,null,null,null,null,null,null,null,null,null,null,null,null,null,null,null,null,null,null,null,null,null,null,null,null,null,null,null,"未","未","未","未",0,{"$f":"IFERROR(IF(MATCH(BC1773&\"/\"&BD1773,③読み替え表_省エネ住宅!$G$48:$G$57,0),1,0),0)","v":0},{"$f":"IFERROR(IF(MATCH(BE1773&\"/\"&BF1773,③読み替え表_省エネ住宅!$G$48:$G$57,0),1,0),0)","v":0},0,"*"]
[null,1769,null,null,null,null,null,null,null,null,null,null,null,null,null,null,null,null,null,null,null,null,null,null,null,null,null,null,null,null,null,null,null,null,null,null,null,null,null,null,null,null,null,null,null,null,null,null,null,null,null,null,null,null,"未","未","未","未",0,{"$f":"IFERROR(IF(MATCH(BC1774&\"/\"&BD1774,③読み替え表_省エネ住宅!$G$48:$G$57,0),1,0),0)","v":0},{"$f":"IFERROR(IF(MATCH(BE1774&\"/\"&BF1774,③読み替え表_省エネ住宅!$G$48:$G$57,0),1,0),0)","v":0},0,"*"]
[null,1773,null,null,null,null,null,null,null,null,null,null,null,null,null,null,null,null,null,null,null,null,null,null,null,null,null,null,null,null,null,null,null,null,null,null,null,null,null,null,null,null,null,null,null,null,null,null,null,null,null,null,null,null,"未","未","未","未",0,{"$f":"IFERROR(IF(MATCH(BC1778&\"/\"&BD1778,③読み替え表_省エネ住宅!$G$48:$G$57,0),1,0),0)","v":0},{"$f":"IFERROR(IF(MATCH(BE1778&\"/\"&BF1778,③読み替え表_省エネ住宅!$G$48:$G$57,0),1,0),0)","v":0},0,"*"]
[null,1774,null,null,null,null,null,null,null,null,null,null,null,null,null,null,null,null,null,null,null,null,null,null,null,null,null,null,null,null,null,null,null,null,null,null,null,null,null,null,null,null,null,null,null,null,null,null,null,null,null,null,null,null,"未","未","未","未",0,{"$f":"IFERROR(IF(MATCH(BC1779&\"/\"&BD1779,③読み替え表_省エネ住宅!$G$48:$G$57,0),1,0),0)","v":0},{"$f":"IFERROR(IF(MATCH(BE1779&\"/\"&BF1779,③読み替え表_省エネ住宅!$G$48:$G$57,0),1,0),0)","v":0},0,"*"]
[null,1778,null,null,null,null,null,null,null,null,null,null,null,null,null,null,null,null,null,null,null,null,null,null,null,null,null,null,null,null,null,null,null,null,null,null,null,null,null,null,null,null,null,null,null,null,null,null,null,null,null,null,null,null,"未","未","未","未",0,{"$f":"IFERROR(IF(MATCH(BC1783&\"/\"&BD1783,③読み替え表_省エネ住宅!$G$48:$G$57,0),1,0),0)","v":0},{"$f":"IFERROR(IF(MATCH(BE1783&\"/\"&BF1783,③読み替え表_省エネ住宅!$G$48:$G$57,0),1,0),0)","v":0},0,"*"]
[null,1781,null,null,null,null,null,null,null,null,null,null,null,null,null,null,null,null,null,null,null,null,null,null,null,null,null,null,null,null,null,null,null,null,null,null,null,null,null,null,null,null,null,null,null,null,null,null,null,null,null,null,null,null,"未","未","未","未",0,{"$f":"IFERROR(IF(MATCH(BC1786&\"/\"&BD1786,③読み替え表_省エネ住宅!$G$48:$G$57,0),1,0),0)","v":0},{"$f":"IFERROR(IF(MATCH(BE1786&\"/\"&BF1786,③読み替え表_省エネ住宅!$G$48:$G$57,0),1,0),0)","v":0},0,"*"]
[null,1784,null,null,null,null,null,null,null,null,null,null,null,null,null,null,null,null,null,null,null,null,null,null,null,null,null,null,null,null,null,null,null,null,null,null,null,null,null,null,null,null,null,null,null,null,null,null,null,null,null,null,null,null,"未","未","未","未",0,{"$f":"IFERROR(IF(MATCH(BC1789&\"/\"&BD1789,③読み替え表_省エネ住宅!$G$48:$G$57,0),1,0),0)","v":0},{"$f":"IFERROR(IF(MATCH(BE1789&\"/\"&BF1789,③読み替え表_省エネ住宅!$G$48:$G$57,0),1,0),0)","v":0},0,"*"]
[null,1787,null,null,null,null,null,null,null,null,null,null,null,null,null,null,null,null,null,null,null,null,null,null,null,null,null,null,null,null,null,null,null,null,null,null,null,null,null,null,null,null,null,null,null,null,null,null,null,null,null,null,null,null,"未","未","未","未",0,{"$f":"IFERROR(IF(MATCH(BC1792&\"/\"&BD1792,③読み替え表_省エネ住宅!$G$48:$G$57,0),1,0),0)","v":0},{"$f":"IFERROR(IF(MATCH(BE1792&\"/\"&BF1792,③読み替え表_省エネ住宅!$G$48:$G$57,0),1,0),0)","v":0},0,"*"]
[null,1790,null,null,null,null,null,null,null,null,null,null,null,null,null,null,null,null,null,null,null,null,null,null,null,null,null,null,null,null,null,null,null,null,null,null,null,null,null,null,null,null,null,null,null,null,null,null,null,null,null,null,null,null,"未","未","未","未",0,{"$f":"IFERROR(IF(MATCH(BC1795&\"/\"&BD1795,③読み替え表_省エネ住宅!$G$48:$G$57,0),1,0),0)","v":0},{"$f":"IFERROR(IF(MATCH(BE1795&\"/\"&BF1795,③読み替え表_省エネ住宅!$G$48:$G$57,0),1,0),0)","v":0},0,"*"]
[null,1791,null,null,null,null,null,null,null,null,null,null,null,null,null,null,null,null,null,null,null,null,null,null,null,null,null,null,null,null,null,null,null,null,null,null,null,null,null,null,null,null,null,null,null,null,null,null,null,null,null,null,null,null,"未","未","未","未",0,{"$f":"IFERROR(IF(MATCH(BC1796&\"/\"&BD1796,③読み替え表_省エネ住宅!$G$48:$G$57,0),1,0),0)","v":0},{"$f":"IFERROR(IF(MATCH(BE1796&\"/\"&BF1796,③読み替え表_省エネ住宅!$G$48:$G$57,0),1,0),0)","v":0},0,"*"]
[null,1795,null,null,null,null,null,null,null,null,null,null,null,null,null,null,null,null,null,null,null,null,null,null,null,null,null,null,null,null,null,null,null,null,null,null,null,null,null,null,null,null,null,null,null,null,null,null,null,null,null,null,null,null,"未","未","未","未",0,{"$f":"IFERROR(IF(MATCH(BC1800&\"/\"&BD1800,③読み替え表_省エネ住宅!$G$48:$G$57,0),1,0),0)","v":0},{"$f":"IFERROR(IF(MATCH(BE1800&\"/\"&BF1800,③読み替え表_省エネ住宅!$G$48:$G$57,0),1,0),0)","v":0},0,"*"]
[null,1796,null,null,null,null,null,null,null,null,null,null,null,null,null,null,null,null,null,null,null,null,null,null,null,null,null,null,null,null,null,null,null,null,null,null,null,null,null,null,null,null,null,null,null,null,null,null,null,null,null,null,null,null,"未","未","未","未",0,{"$f":"IFERROR(IF(MATCH(BC1801&\"/\"&BD1801,③読み替え表_省エネ住宅!$G$48:$G$57,0),1,0),0)","v":0},{"$f":"IFERROR(IF(MATCH(BE1801&\"/\"&BF1801,③読み替え表_省エネ住宅!$G$48:$G$57,0),1,0),0)","v":0},0,"*"]
[null,1800,null,null,null,null,null,null,null,null,null,null,null,null,null,null,null,null,null,null,null,null,null,null,null,null,null,null,null,null,null,null,null,null,null,null,null,null,null,null,null,null,null,null,null,null,null,null,null,null,null,null,null,null,"未","未","未","未",0,{"$f":"IFERROR(IF(MATCH(BC1805&\"/\"&BD1805,③読み替え表_省エネ住宅!$G$48:$G$57,0),1,0),0)","v":0},{"$f":"IFERROR(IF(MATCH(BE1805&\"/\"&BF1805,③読み替え表_省エネ住宅!$G$48:$G$57,0),1,0),0)","v":0},0,"*"]
[null,1803,null,null,null,null,null,null,null,null,null,null,null,null,null,null,null,null,null,null,null,null,null,null,null,null,null,null,null,null,null,null,null,null,null,null,null,null,null,null,null,null,null,null,null,null,null,null,null,null,null,null,null,null,"未","未","未","未",0,{"$f":"IFERROR(IF(MATCH(BC1808&\"/\"&BD1808,③読み替え表_省エネ住宅!$G$48:$G$57,0),1,0),0)","v":0},{"$f":"IFERROR(IF(MATCH(BE1808&\"/\"&BF1808,③読み替え表_省エネ住宅!$G$48:$G$57,0),1,0),0)","v":0},0,"*"]
[null,1806,null,null,null,null,null,null,null,null,null,null,null,null,null,null,null,null,null,null,null,null,null,null,null,null,null,null,null,null,null,null,null,null,null,null,null,null,null,null,null,null,null,null,null,null,null,null,null,null,null,null,null,null,"未","未","未","未",0,{"$f":"IFERROR(IF(MATCH(BC1811&\"/\"&BD1811,③読み替え表_省エネ住宅!$G$48:$G$57,0),1,0),0)","v":0},{"$f":"IFERROR(IF(MATCH(BE1811&\"/\"&BF1811,③読み替え表_省エネ住宅!$G$48:$G$57,0),1,0),0)","v":0},0,"*"]
[null,1809,null,null,null,null,null,null,null,null,null,null,null,null,null,null,null,null,null,null,null,null,null,null,null,null,null,null,null,null,null,null,null,null,null,null,null,null,null,null,null,null,null,null,null,null,null,null,null,null,null,null,null,null,"未","未","未","未",0,{"$f":"IFERROR(IF(MATCH(BC1814&\"/\"&BD1814,③読み替え表_省エネ住宅!$G$48:$G$57,0),1,0),0)","v":0},{"$f":"IFERROR(IF(MATCH(BE1814&\"/\"&BF1814,③読み替え表_省エネ住宅!$G$48:$G$57,0),1,0),0)","v":0},0,"*"]
[null,1812,null,null,null,null,null,null,null,null,null,null,null,null,null,null,null,null,null,null,null,null,null,null,null,null,null,null,null,null,null,null,null,null,null,null,null,null,null,null,null,null,null,null,null,null,null,null,null,null,null,null,null,null,"未","未","未","未",0,{"$f":"IFERROR(IF(MATCH(BC1817&\"/\"&BD1817,③読み替え表_省エネ住宅!$G$48:$G$57,0),1,0),0)","v":0},{"$f":"IFERROR(IF(MATCH(BE1817&\"/\"&BF1817,③読み替え表_省エネ住宅!$G$48:$G$57,0),1,0),0)","v":0},0,"*"]
[null,1813,null,null,null,null,null,null,null,null,null,null,null,null,null,null,null,null,null,null,null,null,null,null,null,null,null,null,null,null,null,null,null,null,null,null,null,null,null,null,null,null,null,null,null,null,null,null,null,null,null,null,null,null,"未","未","未","未",0,{"$f":"IFERROR(IF(MATCH(BC1818&\"/\"&BD1818,③読み替え表_省エネ住宅!$G$48:$G$57,0),1,0),0)","v":0},{"$f":"IFERROR(IF(MATCH(BE1818&\"/\"&BF1818,③読み替え表_省エネ住宅!$G$48:$G$57,0),1,0),0)","v":0},0,"*"]
[null,1817,null,null,null,null,null,null,null,null,null,null,null,null,null,null,null,null,null,null,null,null,null,null,null,null,null,null,null,null,null,null,null,null,null,null,null,null,null,null,null,null,null,null,null,null,null,null,null,null,null,null,null,null,"未","未","未","未",0,{"$f":"IFERROR(IF(MATCH(BC1822&\"/\"&BD1822,③読み替え表_省エネ住宅!$G$48:$G$57,0),1,0),0)","v":0},{"$f":"IFERROR(IF(MATCH(BE1822&\"/\"&BF1822,③読み替え表_省エネ住宅!$G$48:$G$57,0),1,0),0)","v":0},0,"*"]
[null,1818,null,null,null,null,null,null,null,null,null,null,null,null,null,null,null,null,null,null,null,null,null,null,null,null,null,null,null,null,null,null,null,null,null,null,null,null,null,null,null,null,null,null,null,null,null,null,null,null,null,null,null,null,"未","未","未","未",0,{"$f":"IFERROR(IF(MATCH(BC1823&\"/\"&BD1823,③読み替え表_省エネ住宅!$G$48:$G$57,0),1,0),0)","v":0},{"$f":"IFERROR(IF(MATCH(BE1823&\"/\"&BF1823,③読み替え表_省エネ住宅!$G$48:$G$57,0),1,0),0)","v":0},0,"*"]
[null,1822,null,null,null,null,null,null,null,null,null,null,null,null,null,null,null,null,null,null,null,null,null,null,null,null,null,null,null,null,null,null,null,null,null,null,null,null,null,null,null,null,null,null,null,null,null,null,null,null,null,null,null,null,"未","未","未","未",0,{"$f":"IFERROR(IF(MATCH(BC1827&\"/\"&BD1827,③読み替え表_省エネ住宅!$G$48:$G$57,0),1,0),0)","v":0},{"$f":"IFERROR(IF(MATCH(BE1827&\"/\"&BF1827,③読み替え表_省エネ住宅!$G$48:$G$57,0),1,0),0)","v":0},0,"*"]
[null,1825,null,null,null,null,null,null,null,null,null,null,null,null,null,null,null,null,null,null,null,null,null,null,null,null,null,null,null,null,null,null,null,null,null,null,null,null,null,null,null,null,null,null,null,null,null,null,null,null,null,null,null,null,"未","未","未","未",0,{"$f":"IFERROR(IF(MATCH(BC1830&\"/\"&BD1830,③読み替え表_省エネ住宅!$G$48:$G$57,0),1,0),0)","v":0},{"$f":"IFERROR(IF(MATCH(BE1830&\"/\"&BF1830,③読み替え表_省エネ住宅!$G$48:$G$57,0),1,0),0)","v":0},0,"*"]
[null,1829,null,null,null,null,null,null,null,null,null,null,null,null,null,null,null,null,null,null,null,null,null,null,null,null,null,null,null,null,null,null,null,null,null,null,null,null,null,null,null,null,null,null,null,null,null,null,null,null,null,null,null,null,"未","未","未","未",0,{"$f":"IFERROR(IF(MATCH(BC1834&\"/\"&BD1834,③読み替え表_省エネ住宅!$G$48:$G$57,0),1,0),0)","v":0},{"$f":"IFERROR(IF(MATCH(BE1834&\"/\"&BF1834,③読み替え表_省エネ住宅!$G$48:$G$57,0),1,0),0)","v":0},0,"*"]
[null,1830,null,null,null,null,null,null,null,null,null,null,null,null,null,null,null,null,null,null,null,null,null,null,null,null,null,null,null,null,null,null,null,null,null,null,null,null,null,null,null,null,null,null,null,null,null,null,null,null,null,null,null,null,"未","未","未","未",0,{"$f":"IFERROR(IF(MATCH(BC1835&\"/\"&BD1835,③読み替え表_省エネ住宅!$G$48:$G$57,0),1,0),0)","v":0},{"$f":"IFERROR(IF(MATCH(BE1835&\"/\"&BF1835,③読み替え表_省エネ住宅!$G$48:$G$57,0),1,0),0)","v":0},0,"*"]
[null,1834,null,null,null,null,null,null,null,null,null,null,null,null,null,null,null,null,null,null,null,null,null,null,null,null,null,null,null,null,null,null,null,null,null,null,null,null,null,null,null,null,null,null,null,null,null,null,null,null,null,null,null,null,"未","未","未","未",0,{"$f":"IFERROR(IF(MATCH(BC1839&\"/\"&BD1839,③読み替え表_省エネ住宅!$G$48:$G$57,0),1,0),0)","v":0},{"$f":"IFERROR(IF(MATCH(BE1839&\"/\"&BF1839,③読み替え表_省エネ住宅!$G$48:$G$57,0),1,0),0)","v":0},0,"*"]
[null,1835,null,null,null,null,null,null,null,null,null,null,null,null,null,null,null,null,null,null,null,null,null,null,null,null,null,null,null,null,null,null,null,null,null,null,null,null,null,null,null,null,null,null,null,null,null,null,null,null,null,null,null,null,"未","未","未","未",0,{"$f":"IFERROR(IF(MATCH(BC1840&\"/\"&BD1840,③読み替え表_省エネ住宅!$G$48:$G$57,0),1,0),0)","v":0},{"$f":"IFERROR(IF(MATCH(BE1840&\"/\"&BF1840,③読み替え表_省エネ住宅!$G$48:$G$57,0),1,0),0)","v":0},0,"*"]
[null,1838,null,null,null,null,null,null,null,null,null,null,null,null,null,null,null,null,null,null,null,null,null,null,null,null,null,null,null,null,null,null,null,null,null,null,null,null,null,null,null,null,null,null,null,null,null,null,null,null,null,null,null,null,"未","未","未","未",0,{"$f":"IFERROR(IF(MATCH(BC1843&\"/\"&BD1843,③読み替え表_省エネ住宅!$G$48:$G$57,0),1,0),0)","v":0},{"$f":"IFERROR(IF(MATCH(BE1843&\"/\"&BF1843,③読み替え表_省エネ住宅!$G$48:$G$57,0),1,0),0)","v":0},0,"*"]
[null,1841,null,null,null,null,null,null,null,null,null,null,null,null,null,null,null,null,null,null,null,null,null,null,null,null,null,null,null,null,null,null,null,null,null,null,null,null,null,null,null,null,null,null,null,null,null,null,null,null,null,null,null,null,"未","未","未","未",0,{"$f":"IFERROR(IF(MATCH(BC1846&\"/\"&BD1846,③読み替え表_省エネ住宅!$G$48:$G$57,0),1,0),0)","v":0},{"$f":"IFERROR(IF(MATCH(BE1846&\"/\"&BF1846,③読み替え表_省エネ住宅!$G$48:$G$57,0),1,0),0)","v":0},0,"*"]
[null,1844,null,null,null,null,null,null,null,null,null,null,null,null,null,null,null,null,null,null,null,null,null,null,null,null,null,null,null,null,null,null,null,null,null,null,null,null,null,null,null,null,null,null,null,null,null,null,null,null,null,null,null,null,"未","未","未","未",0,{"$f":"IFERROR(IF(MATCH(BC1849&\"/\"&BD1849,③読み替え表_省エネ住宅!$G$48:$G$57,0),1,0),0)","v":0},{"$f":"IFERROR(IF(MATCH(BE1849&\"/\"&BF1849,③読み替え表_省エネ住宅!$G$48:$G$57,0),1,0),0)","v":0},0,"*"]
[null,1847,null,null,null,null,null,null,null,null,null,null,null,null,null,null,null,null,null,null,null,null,null,null,null,null,null,null,null,null,null,null,null,null,null,null,null,null,null,null,null,null,null,null,null,null,null,null,null,null,null,null,null,null,"未","未","未","未",0,{"$f":"IFERROR(IF(MATCH(BC1852&\"/\"&BD1852,③読み替え表_省エネ住宅!$G$48:$G$57,0),1,0),0)","v":0},{"$f":"IFERROR(IF(MATCH(BE1852&\"/\"&BF1852,③読み替え表_省エネ住宅!$G$48:$G$57,0),1,0),0)","v":0},0,"*"]
[null,1851,null,null,null,null,null,null,null,null,null,null,null,null,null,null,null,null,null,null,null,null,null,null,null,null,null,null,null,null,null,null,null,null,null,null,null,null,null,null,null,null,null,null,null,null,null,null,null,null,null,null,null,null,"未","未","未","未",0,{"$f":"IFERROR(IF(MATCH(BC1856&\"/\"&BD1856,③読み替え表_省エネ住宅!$G$48:$G$57,0),1,0),0)","v":0},{"$f":"IFERROR(IF(MATCH(BE1856&\"/\"&BF1856,③読み替え表_省エネ住宅!$G$48:$G$57,0),1,0),0)","v":0},0,"*"]
[null,1852,null,null,null,null,null,null,null,null,null,null,null,null,null,null,null,null,null,null,null,null,null,null,null,null,null,null,null,null,null,null,null,null,null,null,null,null,null,null,null,null,null,null,null,null,null,null,null,null,null,null,null,null,"未","未","未","未",0,{"$f":"IFERROR(IF(MATCH(BC1857&\"/\"&BD1857,③読み替え表_省エネ住宅!$G$48:$G$57,0),1,0),0)","v":0},{"$f":"IFERROR(IF(MATCH(BE1857&\"/\"&BF1857,③読み替え表_省エネ住宅!$G$48:$G$57,0),1,0),0)","v":0},0,"*"]
[null,1856,null,null,null,null,null,null,null,null,null,null,null,null,null,null,null,null,null,null,null,null,null,null,null,null,null,null,null,null,null,null,null,null,null,null,null,null,null,null,null,null,null,null,null,null,null,null,null,null,null,null,null,null,"未","未","未","未",0,{"$f":"IFERROR(IF(MATCH(BC1861&\"/\"&BD1861,③読み替え表_省エネ住宅!$G$48:$G$57,0),1,0),0)","v":0},{"$f":"IFERROR(IF(MATCH(BE1861&\"/\"&BF1861,③読み替え表_省エネ住宅!$G$48:$G$57,0),1,0),0)","v":0},0,"*"]
[null,1857,null,null,null,null,null,null,null,null,null,null,null,null,null,null,null,null,null,null,null,null,null,null,null,null,null,null,null,null,null,null,null,null,null,null,null,null,null,null,null,null,null,null,null,null,null,null,null,null,null,null,null,null,"未","未","未","未",0,{"$f":"IFERROR(IF(MATCH(BC1862&\"/\"&BD1862,③読み替え表_省エネ住宅!$G$48:$G$57,0),1,0),0)","v":0},{"$f":"IFERROR(IF(MATCH(BE1862&\"/\"&BF1862,③読み替え表_省エネ住宅!$G$48:$G$57,0),1,0),0)","v":0},0,"*"]
[null,1860,null,null,null,null,null,null,null,null,null,null,null,null,null,null,null,null,null,null,null,null,null,null,null,null,null,null,null,null,null,null,null,null,null,null,null,null,null,null,null,null,null,null,null,null,null,null,null,null,null,null,null,null,"未","未","未","未",0,{"$f":"IFERROR(IF(MATCH(BC1865&\"/\"&BD1865,③読み替え表_省エネ住宅!$G$48:$G$57,0),1,0),0)","v":0},{"$f":"IFERROR(IF(MATCH(BE1865&\"/\"&BF1865,③読み替え表_省エネ住宅!$G$48:$G$57,0),1,0),0)","v":0},0,"*"]
[null,1863,null,null,null,null,null,null,null,null,null,null,null,null,null,null,null,null,null,null,null,null,null,null,null,null,null,null,null,null,null,null,null,null,null,null,null,null,null,null,null,null,null,null,null,null,null,null,null,null,null,null,null,null,"未","未","未","未",0,{"$f":"IFERROR(IF(MATCH(BC1868&\"/\"&BD1868,③読み替え表_省エネ住宅!$G$48:$G$57,0),1,0),0)","v":0},{"$f":"IFERROR(IF(MATCH(BE1868&\"/\"&BF1868,③読み替え表_省エネ住宅!$G$48:$G$57,0),1,0),0)","v":0},0,"*"]
[null,1866,null,null,null,null,null,null,null,null,null,null,null,null,null,null,null,null,null,null,null,null,null,null,null,null,null,null,null,null,null,null,null,null,null,null,null,null,null,null,null,null,null,null,null,null,null,null,null,null,null,null,null,null,"未","未","未","未",0,{"$f":"IFERROR(IF(MATCH(BC1871&\"/\"&BD1871,③読み替え表_省エネ住宅!$G$48:$G$57,0),1,0),0)","v":0},{"$f":"IFERROR(IF(MATCH(BE1871&\"/\"&BF1871,③読み替え表_省エネ住宅!$G$48:$G$57,0),1,0),0)","v":0},0,"*"]
[null,1869,null,null,null,null,null,null,null,null,null,null,null,null,null,null,null,null,null,null,null,null,null,null,null,null,null,null,null,null,null,null,null,null,null,null,null,null,null,null,null,null,null,null,null,null,null,null,null,null,null,null,null,null,"未","未","未","未",0,{"$f":"IFERROR(IF(MATCH(BC1874&\"/\"&BD1874,③読み替え表_省エネ住宅!$G$48:$G$57,0),1,0),0)","v":0},{"$f":"IFERROR(IF(MATCH(BE1874&\"/\"&BF1874,③読み替え表_省エネ住宅!$G$48:$G$57,0),1,0),0)","v":0},0,"*"]
[null,1873,null,null,null,null,null,null,null,null,null,null,null,null,null,null,null,null,null,null,null,null,null,null,null,null,null,null,null,null,null,null,null,null,null,null,null,null,null,null,null,null,null,null,null,null,null,null,null,null,null,null,null,null,"未","未","未","未",0,{"$f":"IFERROR(IF(MATCH(BC1878&\"/\"&BD1878,③読み替え表_省エネ住宅!$G$48:$G$57,0),1,0),0)","v":0},{"$f":"IFERROR(IF(MATCH(BE1878&\"/\"&BF1878,③読み替え表_省エネ住宅!$G$48:$G$57,0),1,0),0)","v":0},0,"*"]
[null,1876,null,null,null,null,null,null,null,null,null,null,null,null,null,null,null,null,null,null,null,null,null,null,null,null,null,null,null,null,null,null,null,null,null,null,null,null,null,null,null,null,null,null,null,null,null,null,null,null,null,null,null,null,"未","未","未","未",0,{"$f":"IFERROR(IF(MATCH(BC1881&\"/\"&BD1881,③読み替え表_省エネ住宅!$G$48:$G$57,0),1,0),0)","v":0},{"$f":"IFERROR(IF(MATCH(BE1881&\"/\"&BF1881,③読み替え表_省エネ住宅!$G$48:$G$57,0),1,0),0)","v":0},0,"*"]
[null,1877,null,null,null,null,null,null,null,null,null,null,null,null,null,null,null,null,null,null,null,null,null,null,null,null,null,null,null,null,null,null,null,null,null,null,null,null,null,null,null,null,null,null,null,null,null,null,null,null,null,null,null,null,"未","未","未","未",0,{"$f":"IFERROR(IF(MATCH(BC1882&\"/\"&BD1882,③読み替え表_省エネ住宅!$G$48:$G$57,0),1,0),0)","v":0},{"$f":"IFERROR(IF(MATCH(BE1882&\"/\"&BF1882,③読み替え表_省エネ住宅!$G$48:$G$57,0),1,0),0)","v":0},0,"*"]
[null,1878,null,null,null,null,null,null,null,null,null,null,null,null,null,null,null,null,null,null,null,null,null,null,null,null,null,null,null,null,null,null,null,null,null,null,null,null,null,null,null,null,null,null,null,null,null,null,null,null,null,null,null,null,"未","未","未","未",0,{"$f":"IFERROR(IF(MATCH(BC1883&\"/\"&BD1883,③読み替え表_省エネ住宅!$G$48:$G$57,0),1,0),0)","v":0},{"$f":"IFERROR(IF(MATCH(BE1883&\"/\"&BF1883,③読み替え表_省エネ住宅!$G$48:$G$57,0),1,0),0)","v":0},0,"*"]
[null,1879,null,null,null,null,null,null,null,null,null,null,null,null,null,null,null,null,null,null,null,null,null,null,null,null,null,null,null,null,null,null,null,null,null,null,null,null,null,null,null,null,null,null,null,null,null,null,null,null,null,null,null,null,"未","未","未","未",0,{"$f":"IFERROR(IF(MATCH(BC1884&\"/\"&BD1884,③読み替え表_省エネ住宅!$G$48:$G$57,0),1,0),0)","v":0},{"$f":"IFERROR(IF(MATCH(BE1884&\"/\"&BF1884,③読み替え表_省エネ住宅!$G$48:$G$57,0),1,0),0)","v":0},0,"*"]
[null,1880,null,null,null,null,null,null,null,null,null,null,null,null,null,null,null,null,null,null,null,null,null,null,null,null,null,null,null,null,null,null,null,null,null,null,null,null,null,null,null,null,null,null,null,null,null,null,null,null,null,null,null,null,"未","未","未","未",0,{"$f":"IFERROR(IF(MATCH(BC1885&\"/\"&BD1885,③読み替え表_省エネ住宅!$G$48:$G$57,0),1,0),0)","v":0},{"$f":"IFERROR(IF(MATCH(BE1885&\"/\"&BF1885,③読み替え表_省エネ住宅!$G$48:$G$57,0),1,0),0)","v":0},0,"*"]
[null,1881,null,null,null,null,null,null,null,null,null,null,null,null,null,null,null,null,null,null,null,null,null,null,null,null,null,null,null,null,null,null,null,null,null,null,null,null,null,null,null,null,null,null,null,null,null,null,null,null,null,null,null,null,"未","未","未","未",0,{"$f":"IFERROR(IF(MATCH(BC1886&\"/\"&BD1886,③読み替え表_省エネ住宅!$G$48:$G$57,0),1,0),0)","v":0},{"$f":"IFERROR(IF(MATCH(BE1886&\"/\"&BF1886,③読み替え表_省エネ住宅!$G$48:$G$57,0),1,0),0)","v":0},0,"*"]
[null,1882,null,null,null,null,null,null,null,null,null,null,null,null,null,null,null,null,null,null,null,null,null,null,null,null,null,null,null,null,null,null,null,null,null,null,null,null,null,null,null,null,null,null,null,null,null,null,null,null,null,null,null,null,"未","未","未","未",0,{"$f":"IFERROR(IF(MATCH(BC1887&\"/\"&BD1887,③読み替え表_省エネ住宅!$G$48:$G$57,0),1,0),0)","v":0},{"$f":"IFERROR(IF(MATCH(BE1887&\"/\"&BF1887,③読み替え表_省エネ住宅!$G$48:$G$57,0),1,0),0)","v":0},0,"*"]
[null,1883,null,null,null,null,null,null,null,null,null,null,null,null,null,null,null,null,null,null,null,null,null,null,null,null,null,null,null,null,null,null,null,null,null,null,null,null,null,null,null,null,null,null,null,null,null,null,null,null,null,null,null,null,"未","未","未","未",0,{"$f":"IFERROR(IF(MATCH(BC1888&\"/\"&BD1888,③読み替え表_省エネ住宅!$G$48:$G$57,0),1,0),0)","v":0},{"$f":"IFERROR(IF(MATCH(BE1888&\"/\"&BF1888,③読み替え表_省エネ住宅!$G$48:$G$57,0),1,0),0)","v":0},0,"*"]
[null,1884,null,null,null,null,null,null,null,null,null,null,null,null,null,null,null,null,null,null,null,null,null,null,null,null,null,null,null,null,null,null,null,null,null,null,null,null,null,null,null,null,null,null,null,null,null,null,null,null,null,null,null,null,"未","未","未","未",0,{"$f":"IFERROR(IF(MATCH(BC1889&\"/\"&BD1889,③読み替え表_省エネ住宅!$G$48:$G$57,0),1,0),0)","v":0},{"$f":"IFERROR(IF(MATCH(BE1889&\"/\"&BF1889,③読み替え表_省エネ住宅!$G$48:$G$57,0),1,0),0)","v":0},0,"*"]
[null,1885,null,null,null,null,null,null,null,null,null,null,null,null,null,null,null,null,null,null,null,null,null,null,null,null,null,null,null,null,null,null,null,null,null,null,null,null,null,null,null,null,null,null,null,null,null,null,null,null,null,null,null,null,"未","未","未","未",0,{"$f":"IFERROR(IF(MATCH(BC1890&\"/\"&BD1890,③読み替え表_省エネ住宅!$G$48:$G$57,0),1,0),0)","v":0},{"$f":"IFERROR(IF(MATCH(BE1890&\"/\"&BF1890,③読み替え表_省エネ住宅!$G$48:$G$57,0),1,0),0)","v":0},0,"*"]
[null,1886,null,null,null,null,null,null,null,null,null,null,null,null,null,null,null,null,null,null,null,null,null,null,null,null,null,null,null,null,null,null,null,null,null,null,null,null,null,null,null,null,null,null,null,null,null,null,null,null,null,null,null,null,"未","未","未","未",0,{"$f":"IFERROR(IF(MATCH(BC1891&\"/\"&BD1891,③読み替え表_省エネ住宅!$G$48:$G$57,0),1,0),0)","v":0},{"$f":"IFERROR(IF(MATCH(BE1891&\"/\"&BF1891,③読み替え表_省エネ住宅!$G$48:$G$57,0),1,0),0)","v":0},0,"*"]
[null,1887,null,null,null,null,null,null,null,null,null,null,null,null,null,null,null,null,null,null,null,null,null,null,null,null,null,null,null,null,null,null,null,null,null,null,null,null,null,null,null,null,null,null,null,null,null,null,null,null,null,null,null,null,"未","未","未","未",0,{"$f":"IFERROR(IF(MATCH(BC1892&\"/\"&BD1892,③読み替え表_省エネ住宅!$G$48:$G$57,0),1,0),0)","v":0},{"$f":"IFERROR(IF(MATCH(BE1892&\"/\"&BF1892,③読み替え表_省エネ住宅!$G$48:$G$57,0),1,0),0)","v":0},0,"*"]
[null,1888,null,null,null,null,null,null,null,null,null,null,null,null,null,null,null,null,null,null,null,null,null,null,null,null,null,null,null,null,null,null,null,null,null,null,null,null,null,null,null,null,null,null,null,null,null,null,null,null,null,null,null,null,"未","未","未","未",0,{"$f":"IFERROR(IF(MATCH(BC1893&\"/\"&BD1893,③読み替え表_省エネ住宅!$G$48:$G$57,0),1,0),0)","v":0},{"$f":"IFERROR(IF(MATCH(BE1893&\"/\"&BF1893,③読み替え表_省エネ住宅!$G$48:$G$57,0),1,0),0)","v":0},0,"*"]
[null,1889,null,null,null,null,null,null,null,null,null,null,null,null,null,null,null,null,null,null,null,null,null,null,null,null,null,null,null,null,null,null,null,null,null,null,null,null,null,null,null,null,null,null,null,null,null,null,null,null,null,null,null,null,"未","未","未","未",0,{"$f":"IFERROR(IF(MATCH(BC1894&\"/\"&BD1894,③読み替え表_省エネ住宅!$G$48:$G$57,0),1,0),0)","v":0},{"$f":"IFERROR(IF(MATCH(BE1894&\"/\"&BF1894,③読み替え表_省エネ住宅!$G$48:$G$57,0),1,0),0)","v":0},0,"*"]
[null,1890,null,null,null,null,null,null,null,null,null,null,null,null,null,null,null,null,null,null,null,null,null,null,null,null,null,null,null,null,null,null,null,null,null,null,null,null,null,null,null,null,null,null,null,null,null,null,null,null,null,null,null,null,"未","未","未","未",0,{"$f":"IFERROR(IF(MATCH(BC1895&\"/\"&BD1895,③読み替え表_省エネ住宅!$G$48:$G$57,0),1,0),0)","v":0},{"$f":"IFERROR(IF(MATCH(BE1895&\"/\"&BF1895,③読み替え表_省エネ住宅!$G$48:$G$57,0),1,0),0)","v":0},0,"*"]
[null,1891,null,null,null,null,null,null,null,null,null,null,null,null,null,null,null,null,null,null,null,null,null,null,null,null,null,null,null,null,null,null,null,null,null,null,null,null,null,null,null,null,null,null,null,null,null,null,null,null,null,null,null,null,"未","未","未","未",0,{"$f":"IFERROR(IF(MATCH(BC1896&\"/\"&BD1896,③読み替え表_省エネ住宅!$G$48:$G$57,0),1,0),0)","v":0},{"$f":"IFERROR(IF(MATCH(BE1896&\"/\"&BF1896,③読み替え表_省エネ住宅!$G$48:$G$57,0),1,0),0)","v":0},0,"*"]
[null,1892,null,null,null,null,null,null,null,null,null,null,null,null,null,null,null,null,null,null,null,null,null,null,null,null,null,null,null,null,null,null,null,null,null,null,null,null,null,null,null,null,null,null,null,null,null,null,null,null,null,null,null,null,"未","未","未","未",0,{"$f":"IFERROR(IF(MATCH(BC1897&\"/\"&BD1897,③読み替え表_省エネ住宅!$G$48:$G$57,0),1,0),0)","v":0},{"$f":"IFERROR(IF(MATCH(BE1897&\"/\"&BF1897,③読み替え表_省エネ住宅!$G$48:$G$57,0),1,0),0)","v":0},0,"*"]
[null,1893,null,null,null,null,null,null,null,null,null,null,null,null,null,null,null,null,null,null,null,null,null,null,null,null,null,null,null,null,null,null,null,null,null,null,null,null,null,null,null,null,null,null,null,null,null,null,null,null,null,null,null,null,"未","未","未","未",0,{"$f":"IFERROR(IF(MATCH(BC1898&\"/\"&BD1898,③読み替え表_省エネ住宅!$G$48:$G$57,0),1,0),0)","v":0},{"$f":"IFERROR(IF(MATCH(BE1898&\"/\"&BF1898,③読み替え表_省エネ住宅!$G$48:$G$57,0),1,0),0)","v":0},0,"*"]
[null,1894,null,null,null,null,null,null,null,null,null,null,null,null,null,null,null,null,null,null,null,null,null,null,null,null,null,null,null,null,null,null,null,null,null,null,null,null,null,null,null,null,null,null,null,null,null,null,null,null,null,null,null,null,"未","未","未","未",0,{"$f":"IFERROR(IF(MATCH(BC1899&\"/\"&BD1899,③読み替え表_省エネ住宅!$G$48:$G$57,0),1,0),0)","v":0},{"$f":"IFERROR(IF(MATCH(BE1899&\"/\"&BF1899,③読み替え表_省エネ住宅!$G$48:$G$57,0),1,0),0)","v":0},0,"*"]
[null,1895,null,null,null,null,null,null,null,null,null,null,null,null,null,null,null,null,null,null,null,null,null,null,null,null,null,null,null,null,null,null,null,null,null,null,null,null,null,null,null,null,null,null,null,null,null,null,null,null,null,null,null,null,"未","未","未","未",0,{"$f":"IFERROR(IF(MATCH(BC1900&\"/\"&BD1900,③読み替え表_省エネ住宅!$G$48:$G$57,0),1,0),0)","v":0},{"$f":"IFERROR(IF(MATCH(BE1900&\"/\"&BF1900,③読み替え表_省エネ住宅!$G$48:$G$57,0),1,0),0)","v":0},0,"*"]
[null,1896,null,null,null,null,null,null,null,null,null,null,null,null,null,null,null,null,null,null,null,null,null,null,null,null,null,null,null,null,null,null,null,null,null,null,null,null,null,null,null,null,null,null,null,null,null,null,null,null,null,null,null,null,"未","未","未","未",0,{"$f":"IFERROR(IF(MATCH(BC1901&\"/\"&BD1901,③読み替え表_省エネ住宅!$G$48:$G$57,0),1,0),0)","v":0},{"$f":"IFERROR(IF(MATCH(BE1901&\"/\"&BF1901,③読み替え表_省エネ住宅!$G$48:$G$57,0),1,0),0)","v":0},0,"*"]
[null,1897,null,null,null,null,null,null,null,null,null,null,null,null,null,null,null,null,null,null,null,null,null,null,null,null,null,null,null,null,null,null,null,null,null,null,null,null,null,null,null,null,null,null,null,null,null,null,null,null,null,null,null,null,"未","未","未","未",0,{"$f":"IFERROR(IF(MATCH(BC1902&\"/\"&BD1902,③読み替え表_省エネ住宅!$G$48:$G$57,0),1,0),0)","v":0},{"$f":"IFERROR(IF(MATCH(BE1902&\"/\"&BF1902,③読み替え表_省エネ住宅!$G$48:$G$57,0),1,0),0)","v":0},0,"*"]
[null,1898,null,null,null,null,null,null,null,null,null,null,null,null,null,null,null,null,null,null,null,null,null,null,null,null,null,null,null,null,null,null,null,null,null,null,null,null,null,null,null,null,null,null,null,null,null,null,null,null,null,null,null,null,"未","未","未","未",0,{"$f":"IFERROR(IF(MATCH(BC1903&\"/\"&BD1903,③読み替え表_省エネ住宅!$G$48:$G$57,0),1,0),0)","v":0},{"$f":"IFERROR(IF(MATCH(BE1903&\"/\"&BF1903,③読み替え表_省エネ住宅!$G$48:$G$57,0),1,0),0)","v":0},0,"*"]
[null,1899,null,null,null,null,null,null,null,null,null,null,null,null,null,null,null,null,null,null,null,null,null,null,null,null,null,null,null,null,null,null,null,null,null,null,null,null,null,null,null,null,null,null,null,null,null,null,null,null,null,null,null,null,"未","未","未","未",0,{"$f":"IFERROR(IF(MATCH(BC1904&\"/\"&BD1904,③読み替え表_省エネ住宅!$G$48:$G$57,0),1,0),0)","v":0},{"$f":"IFERROR(IF(MATCH(BE1904&\"/\"&BF1904,③読み替え表_省エネ住宅!$G$48:$G$57,0),1,0),0)","v":0},0,"*"]
[null,1900,null,null,null,null,null,null,null,null,null,null,null,null,null,null,null,null,null,null,null,null,null,null,null,null,null,null,null,null,null,null,null,null,null,null,null,null,null,null,null,null,null,null,null,null,null,null,null,null,null,null,null,null,"未","未","未","未",0,{"$f":"IFERROR(IF(MATCH(BC1905&\"/\"&BD1905,③読み替え表_省エネ住宅!$G$48:$G$57,0),1,0),0)","v":0},{"$f":"IFERROR(IF(MATCH(BE1905&\"/\"&BF1905,③読み替え表_省エネ住宅!$G$48:$G$57,0),1,0),0)","v":0},0,"*"]
[null,1901,null,null,null,null,null,null,null,null,null,null,null,null,null,null,null,null,null,null,null,null,null,null,null,null,null,null,null,null,null,null,null,null,null,null,null,null,null,null,null,null,null,null,null,null,null,null,null,null,null,null,null,null,"未","未","未","未",0,{"$f":"IFERROR(IF(MATCH(BC1906&\"/\"&BD1906,③読み替え表_省エネ住宅!$G$48:$G$57,0),1,0),0)","v":0},{"$f":"IFERROR(IF(MATCH(BE1906&\"/\"&BF1906,③読み替え表_省エネ住宅!$G$48:$G$57,0),1,0),0)","v":0},0,"*"]
[null,1902,null,null,null,null,null,null,null,null,null,null,null,null,null,null,null,null,null,null,null,null,null,null,null,null,null,null,null,null,null,null,null,null,null,null,null,null,null,null,null,null,null,null,null,null,null,null,null,null,null,null,null,null,"未","未","未","未",0,{"$f":"IFERROR(IF(MATCH(BC1907&\"/\"&BD1907,③読み替え表_省エネ住宅!$G$48:$G$57,0),1,0),0)","v":0},{"$f":"IFERROR(IF(MATCH(BE1907&\"/\"&BF1907,③読み替え表_省エネ住宅!$G$48:$G$57,0),1,0),0)","v":0},0,"*"]
[null,1903,null,null,null,null,null,null,null,null,null,null,null,null,null,null,null,null,null,null,null,null,null,null,null,null,null,null,null,null,null,null,null,null,null,null,null,null,null,null,null,null,null,null,null,null,null,null,null,null,null,null,null,null,"未","未","未","未",0,{"$f":"IFERROR(IF(MATCH(BC1908&\"/\"&BD1908,③読み替え表_省エネ住宅!$G$48:$G$57,0),1,0),0)","v":0},{"$f":"IFERROR(IF(MATCH(BE1908&\"/\"&BF1908,③読み替え表_省エネ住宅!$G$48:$G$57,0),1,0),0)","v":0},0,"*"]
[null,1904,null,null,null,null,null,null,null,null,null,null,null,null,null,null,null,null,null,null,null,null,null,null,null,null,null,null,null,null,null,null,null,null,null,null,null,null,null,null,null,null,null,null,null,null,null,null,null,null,null,null,null,null,"未","未","未","未",0,{"$f":"IFERROR(IF(MATCH(BC1909&\"/\"&BD1909,③読み替え表_省エネ住宅!$G$48:$G$57,0),1,0),0)","v":0},{"$f":"IFERROR(IF(MATCH(BE1909&\"/\"&BF1909,③読み替え表_省エネ住宅!$G$48:$G$57,0),1,0),0)","v":0},0,"*"]
[null,1905,null,null,null,null,null,null,null,null,null,null,null,null,null,null,null,null,null,null,null,null,null,null,null,null,null,null,null,null,null,null,null,null,null,null,null,null,null,null,null,null,null,null,null,null,null,null,null,null,null,null,null,null,"未","未","未","未",0,{"$f":"IFERROR(IF(MATCH(BC1910&\"/\"&BD1910,③読み替え表_省エネ住宅!$G$48:$G$57,0),1,0),0)","v":0},{"$f":"IFERROR(IF(MATCH(BE1910&\"/\"&BF1910,③読み替え表_省エネ住宅!$G$48:$G$57,0),1,0),0)","v":0},0,"*"]
[null,1906,null,null,null,null,null,null,null,null,null,null,null,null,null,null,null,null,null,null,null,null,null,null,null,null,null,null,null,null,null,null,null,null,null,null,null,null,null,null,null,null,null,null,null,null,null,null,null,null,null,null,null,null,"未","未","未","未",0,{"$f":"IFERROR(IF(MATCH(BC1911&\"/\"&BD1911,③読み替え表_省エネ住宅!$G$48:$G$57,0),1,0),0)","v":0},{"$f":"IFERROR(IF(MATCH(BE1911&\"/\"&BF1911,③読み替え表_省エネ住宅!$G$48:$G$57,0),1,0),0)","v":0},0,"*"]
[null,1907,null,null,null,null,null,null,null,null,null,null,null,null,null,null,null,null,null,null,null,null,null,null,null,null,null,null,null,null,null,null,null,null,null,null,null,null,null,null,null,null,null,null,null,null,null,null,null,null,null,null,null,null,"未","未","未","未",0,{"$f":"IFERROR(IF(MATCH(BC1912&\"/\"&BD1912,③読み替え表_省エネ住宅!$G$48:$G$57,0),1,0),0)","v":0},{"$f":"IFERROR(IF(MATCH(BE1912&\"/\"&BF1912,③読み替え表_省エネ住宅!$G$48:$G$57,0),1,0),0)","v":0},0,"*"]
[null,1908,null,null,null,null,null,null,null,null,null,null,null,null,null,null,null,null,null,null,null,null,null,null,null,null,null,null,null,null,null,null,null,null,null,null,null,null,null,null,null,null,null,null,null,null,null,null,null,null,null,null,null,null,"未","未","未","未",0,{"$f":"IFERROR(IF(MATCH(BC1913&\"/\"&BD1913,③読み替え表_省エネ住宅!$G$48:$G$57,0),1,0),0)","v":0},{"$f":"IFERROR(IF(MATCH(BE1913&\"/\"&BF1913,③読み替え表_省エネ住宅!$G$48:$G$57,0),1,0),0)","v":0},0,"*"]
[null,1909,null,null,null,null,null,null,null,null,null,null,null,null,null,null,null,null,null,null,null,null,null,null,null,null,null,null,null,null,null,null,null,null,null,null,null,null,null,null,null,null,null,null,null,null,null,null,null,null,null,null,null,null,"未","未","未","未",0,{"$f":"IFERROR(IF(MATCH(BC1914&\"/\"&BD1914,③読み替え表_省エネ住宅!$G$48:$G$57,0),1,0),0)","v":0},{"$f":"IFERROR(IF(MATCH(BE1914&\"/\"&BF1914,③読み替え表_省エネ住宅!$G$48:$G$57,0),1,0),0)","v":0},0,"*"]
[null,1910,null,null,null,null,null,null,null,null,null,null,null,null,null,null,null,null,null,null,null,null,null,null,null,null,null,null,null,null,null,null,null,null,null,null,null,null,null,null,null,null,null,null,null,null,null,null,null,null,null,null,null,null,"未","未","未","未",0,{"$f":"IFERROR(IF(MATCH(BC1915&\"/\"&BD1915,③読み替え表_省エネ住宅!$G$48:$G$57,0),1,0),0)","v":0},{"$f":"IFERROR(IF(MATCH(BE1915&\"/\"&BF1915,③読み替え表_省エネ住宅!$G$48:$G$57,0),1,0),0)","v":0},0,"*"]
[null,1911,null,null,null,null,null,null,null,null,null,null,null,null,null,null,null,null,null,null,null,null,null,null,null,null,null,null,null,null,null,null,null,null,null,null,null,null,null,null,null,null,null,null,null,null,null,null,null,null,null,null,null,null,"未","未","未","未",0,{"$f":"IFERROR(IF(MATCH(BC1916&\"/\"&BD1916,③読み替え表_省エネ住宅!$G$48:$G$57,0),1,0),0)","v":0},{"$f":"IFERROR(IF(MATCH(BE1916&\"/\"&BF1916,③読み替え表_省エネ住宅!$G$48:$G$57,0),1,0),0)","v":0},0,"*"]
[null,1912,null,null,null,null,null,null,null,null,null,null,null,null,null,null,null,null,null,null,null,null,null,null,null,null,null,null,null,null,null,null,null,null,null,null,null,null,null,null,null,null,null,null,null,null,null,null,null,null,null,null,null,null,"未","未","未","未",0,{"$f":"IFERROR(IF(MATCH(BC1917&\"/\"&BD1917,③読み替え表_省エネ住宅!$G$48:$G$57,0),1,0),0)","v":0},{"$f":"IFERROR(IF(MATCH(BE1917&\"/\"&BF1917,③読み替え表_省エネ住宅!$G$48:$G$57,0),1,0),0)","v":0},0,"*"]
[null,1913,null,null,null,null,null,null,null,null,null,null,null,null,null,null,null,null,null,null,null,null,null,null,null,null,null,null,null,null,null,null,null,null,null,null,null,null,null,null,null,null,null,null,null,null,null,null,null,null,null,null,null,null,"未","未","未","未",0,{"$f":"IFERROR(IF(MATCH(BC1918&\"/\"&BD1918,③読み替え表_省エネ住宅!$G$48:$G$57,0),1,0),0)","v":0},{"$f":"IFERROR(IF(MATCH(BE1918&\"/\"&BF1918,③読み替え表_省エネ住宅!$G$48:$G$57,0),1,0),0)","v":0},0,"*"]
[null,1914,null,null,null,null,null,null,null,null,null,null,null,null,null,null,null,null,null,null,null,null,null,null,null,null,null,null,null,null,null,null,null,null,null,null,null,null,null,null,null,null,null,null,null,null,null,null,null,null,null,null,null,null,"未","未","未","未",0,{"$f":"IFERROR(IF(MATCH(BC1919&\"/\"&BD1919,③読み替え表_省エネ住宅!$G$48:$G$57,0),1,0),0)","v":0},{"$f":"IFERROR(IF(MATCH(BE1919&\"/\"&BF1919,③読み替え表_省エネ住宅!$G$48:$G$57,0),1,0),0)","v":0},0,"*"]
[null,1915,null,null,null,null,null,null,null,null,null,null,null,null,null,null,null,null,null,null,null,null,null,null,null,null,null,null,null,null,null,null,null,null,null,null,null,null,null,null,null,null,null,null,null,null,null,null,null,null,null,null,null,null,"未","未","未","未",0,{"$f":"IFERROR(IF(MATCH(BC1920&\"/\"&BD1920,③読み替え表_省エネ住宅!$G$48:$G$57,0),1,0),0)","v":0},{"$f":"IFERROR(IF(MATCH(BE1920&\"/\"&BF1920,③読み替え表_省エネ住宅!$G$48:$G$57,0),1,0),0)","v":0},0,"*"]
[null,1916,null,null,null,null,null,null,null,null,null,null,null,null,null,null,null,null,null,null,null,null,null,null,null,null,null,null,null,null,null,null,null,null,null,null,null,null,null,null,null,null,null,null,null,null,null,null,null,null,null,null,null,null,"未","未","未","未",0,{"$f":"IFERROR(IF(MATCH(BC1921&\"/\"&BD1921,③読み替え表_省エネ住宅!$G$48:$G$57,0),1,0),0)","v":0},{"$f":"IFERROR(IF(MATCH(BE1921&\"/\"&BF1921,③読み替え表_省エネ住宅!$G$48:$G$57,0),1,0),0)","v":0},0,"*"]
[null,1917,null,null,null,null,null,null,null,null,null,null,null,null,null,null,null,null,null,null,null,null,null,null,null,null,null,null,null,null,null,null,null,null,null,null,null,null,null,null,null,null,null,null,null,null,null,null,null,null,null,null,null,null,"未","未","未","未",0,{"$f":"IFERROR(IF(MATCH(BC1922&\"/\"&BD1922,③読み替え表_省エネ住宅!$G$48:$G$57,0),1,0),0)","v":0},{"$f":"IFERROR(IF(MATCH(BE1922&\"/\"&BF1922,③読み替え表_省エネ住宅!$G$48:$G$57,0),1,0),0)","v":0},0,"*"]
[null,1918,null,null,null,null,null,null,null,null,null,null,null,null,null,null,null,null,null,null,null,null,null,null,null,null,null,null,null,null,null,null,null,null,null,null,null,null,null,null,null,null,null,null,null,null,null,null,null,null,null,null,null,null,"未","未","未","未",0,{"$f":"IFERROR(IF(MATCH(BC1923&\"/\"&BD1923,③読み替え表_省エネ住宅!$G$48:$G$57,0),1,0),0)","v":0},{"$f":"IFERROR(IF(MATCH(BE1923&\"/\"&BF1923,③読み替え表_省エネ住宅!$G$48:$G$57,0),1,0),0)","v":0},0,"*"]
[null,1919,null,null,null,null,null,null,null,null,null,null,null,null,null,null,null,null,null,null,null,null,null,null,null,null,null,null,null,null,null,null,null,null,null,null,null,null,null,null,null,null,null,null,null,null,null,null,null,null,null,null,null,null,"未","未","未","未",0,{"$f":"IFERROR(IF(MATCH(BC1924&\"/\"&BD1924,③読み替え表_省エネ住宅!$G$48:$G$57,0),1,0),0)","v":0},{"$f":"IFERROR(IF(MATCH(BE1924&\"/\"&BF1924,③読み替え表_省エネ住宅!$G$48:$G$57,0),1,0),0)","v":0},0,"*"]
[null,1920,null,null,null,null,null,null,null,null,null,null,null,null,null,null,null,null,null,null,null,null,null,null,null,null,null,null,null,null,null,null,null,null,null,null,null,null,null,null,null,null,null,null,null,null,null,null,null,null,null,null,null,null,"未","未","未","未",0,{"$f":"IFERROR(IF(MATCH(BC1925&\"/\"&BD1925,③読み替え表_省エネ住宅!$G$48:$G$57,0),1,0),0)","v":0},{"$f":"IFERROR(IF(MATCH(BE1925&\"/\"&BF1925,③読み替え表_省エネ住宅!$G$48:$G$57,0),1,0),0)","v":0},0,"*"]
[null,1921,null,null,null,null,null,null,null,null,null,null,null,null,null,null,null,null,null,null,null,null,null,null,null,null,null,null,null,null,null,null,null,null,null,null,null,null,null,null,null,null,null,null,null,null,null,null,null,null,null,null,null,null,"未","未","未","未",0,{"$f":"IFERROR(IF(MATCH(BC1926&\"/\"&BD1926,③読み替え表_省エネ住宅!$G$48:$G$57,0),1,0),0)","v":0},{"$f":"IFERROR(IF(MATCH(BE1926&\"/\"&BF1926,③読み替え表_省エネ住宅!$G$48:$G$57,0),1,0),0)","v":0},0,"*"]
[null,{"$f":"ROW()-5","v":1922},null,null,null,null,null,null,null,null,null,null,null,null,null,null,null,null,null,null,null,null,null,null,null,null,null,null,null,null,null,null,null,null,null,null,null,null,null,null,null,null,null,null,null,null,null,null,null,null,null,null,null,null,{"$f":"IFERROR(IF(SUM($Q1927:$U1927)>1,\"複数回答\",INDEX($Q$5:$U$5,,MATCH(1,$Q1927:$U1927,0))),\"未\")","v":"未"},{"$f":"IFERROR(IF(SUM($AA1927:$AE1927)>1,\"複数回答\",INDEX($AA$5:$AE$5,,MATCH(1,$AA1927:$AE1927,0))),\"未\")","v":"未"},{"$f":"IFERROR(IF(SUM($V1927:$Z1927)>1,\"複数回答\",INDEX($V$5:$Z$5,,MATCH(1,$V1927:$Z1927,0))),\"未\")","v":"未"},{"$f":"IFERROR(IF(SUM($AF1927:$AJ1927)>1,\"複数回答\",INDEX($AF$5:$AJ$5,,MATCH(1,$AF1927:$AJ1927,0))),\"未\")","v":"未"},{"$f":"IF(BC1927=\"複数回答\",1,IF(BD1927=\"複数回答\",1,IF(BE1927=\"複数回答\",1,IF(BF1927=\"複数回答\",1,0))))","v":0},{"$f":"IFERROR(IF(MATCH(BC1927&\"/\"&BD1927,③読み替え表_省エネ住宅!$G$48:$G$57,0),1,0),0)","v":0},{"$f":"IFERROR(IF(MATCH(BE1927&\"/\"&BF1927,③読み替え表_省エネ住宅!$G$48:$G$57,0),1,0),0)","v":0},{"$f":"IF(SUM(BG1927:BI1927)>0,1,0)","v":0},"*"]
[null,1923,null,null,null,null,null,null,null,null,null,null,null,null,null,null,null,null,null,null,null,null,null,null,null,null,null,null,null,null,null,null,null,null,null,null,null,null,null,null,null,null,null,null,null,null,null,null,null,null,null,null,null,null,"未","未","未","未",0,{"$f":"IFERROR(IF(MATCH(BC1928&\"/\"&BD1928,③読み替え表_省エネ住宅!$G$48:$G$57,0),1,0),0)","v":0},{"$f":"IFERROR(IF(MATCH(BE1928&\"/\"&BF1928,③読み替え表_省エネ住宅!$G$48:$G$57,0),1,0),0)","v":0},0,"*"]
[null,1924,null,null,null,null,null,null,null,null,null,null,null,null,null,null,null,null,null,null,null,null,null,null,null,null,null,null,null,null,null,null,null,null,null,null,null,null,null,null,null,null,null,null,null,null,null,null,null,null,null,null,null,null,"未","未","未","未",0,{"$f":"IFERROR(IF(MATCH(BC1929&\"/\"&BD1929,③読み替え表_省エネ住宅!$G$48:$G$57,0),1,0),0)","v":0},{"$f":"IFERROR(IF(MATCH(BE1929&\"/\"&BF1929,③読み替え表_省エネ住宅!$G$48:$G$57,0),1,0),0)","v":0},0,"*"]
[null,1925,null,null,null,null,null,null,null,null,null,null,null,null,null,null,null,null,null,null,null,null,null,null,null,null,null,null,null,null,null,null,null,null,null,null,null,null,null,null,null,null,null,null,null,null,null,null,null,null,null,null,null,null,"未","未","未","未",0,{"$f":"IFERROR(IF(MATCH(BC1930&\"/\"&BD1930,③読み替え表_省エネ住宅!$G$48:$G$57,0),1,0),0)","v":0},{"$f":"IFERROR(IF(MATCH(BE1930&\"/\"&BF1930,③読み替え表_省エネ住宅!$G$48:$G$57,0),1,0),0)","v":0},0,"*"]
[null,1926,null,null,null,null,null,null,null,null,null,null,null,null,null,null,null,null,null,null,null,null,null,null,null,null,null,null,null,null,null,null,null,null,null,null,null,null,null,null,null,null,null,null,null,null,null,null,null,null,null,null,null,null,"未","未","未","未",0,{"$f":"IFERROR(IF(MATCH(BC1931&\"/\"&BD1931,③読み替え表_省エネ住宅!$G$48:$G$57,0),1,0),0)","v":0},{"$f":"IFERROR(IF(MATCH(BE1931&\"/\"&BF1931,③読み替え表_省エネ住宅!$G$48:$G$57,0),1,0),0)","v":0},0,"*"]
[null,1927,null,null,null,null,null,null,null,null,null,null,null,null,null,null,null,null,null,null,null,null,null,null,null,null,null,null,null,null,null,null,null,null,null,null,null,null,null,null,null,null,null,null,null,null,null,null,null,null,null,null,null,null,"未","未","未","未",0,{"$f":"IFERROR(IF(MATCH(BC1932&\"/\"&BD1932,③読み替え表_省エネ住宅!$G$48:$G$57,0),1,0),0)","v":0},{"$f":"IFERROR(IF(MATCH(BE1932&\"/\"&BF1932,③読み替え表_省エネ住宅!$G$48:$G$57,0),1,0),0)","v":0},0,"*"]
[null,1928,null,null,null,null,null,null,null,null,null,null,null,null,null,null,null,null,null,null,null,null,null,null,null,null,null,null,null,null,null,null,null,null,null,null,null,null,null,null,null,null,null,null,null,null,null,null,null,null,null,null,null,null,"未","未","未","未",0,{"$f":"IFERROR(IF(MATCH(BC1933&\"/\"&BD1933,③読み替え表_省エネ住宅!$G$48:$G$57,0),1,0),0)","v":0},{"$f":"IFERROR(IF(MATCH(BE1933&\"/\"&BF1933,③読み替え表_省エネ住宅!$G$48:$G$57,0),1,0),0)","v":0},0,"*"]
[null,1929,null,null,null,null,null,null,null,null,null,null,null,null,null,null,null,null,null,null,null,null,null,null,null,null,null,null,null,null,null,null,null,null,null,null,null,null,null,null,null,null,null,null,null,null,null,null,null,null,null,null,null,null,"未","未","未","未",0,{"$f":"IFERROR(IF(MATCH(BC1934&\"/\"&BD1934,③読み替え表_省エネ住宅!$G$48:$G$57,0),1,0),0)","v":0},{"$f":"IFERROR(IF(MATCH(BE1934&\"/\"&BF1934,③読み替え表_省エネ住宅!$G$48:$G$57,0),1,0),0)","v":0},0,"*"]
[null,1930,null,null,null,null,null,null,null,null,null,null,null,null,null,null,null,null,null,null,null,null,null,null,null,null,null,null,null,null,null,null,null,null,null,null,null,null,null,null,null,null,null,null,null,null,null,null,null,null,null,null,null,null,"未","未","未","未",0,{"$f":"IFERROR(IF(MATCH(BC1935&\"/\"&BD1935,③読み替え表_省エネ住宅!$G$48:$G$57,0),1,0),0)","v":0},{"$f":"IFERROR(IF(MATCH(BE1935&\"/\"&BF1935,③読み替え表_省エネ住宅!$G$48:$G$57,0),1,0),0)","v":0},0,"*"]
[null,1931,null,null,null,null,null,null,null,null,null,null,null,null,null,null,null,null,null,null,null,null,null,null,null,null,null,null,null,null,null,null,null,null,null,null,null,null,null,null,null,null,null,null,null,null,null,null,null,null,null,null,null,null,"未","未","未","未",0,{"$f":"IFERROR(IF(MATCH(BC1936&\"/\"&BD1936,③読み替え表_省エネ住宅!$G$48:$G$57,0),1,0),0)","v":0},{"$f":"IFERROR(IF(MATCH(BE1936&\"/\"&BF1936,③読み替え表_省エネ住宅!$G$48:$G$57,0),1,0),0)","v":0},0,"*"]
[null,1932,null,null,null,null,null,null,null,null,null,null,null,null,null,null,null,null,null,null,null,null,null,null,null,null,null,null,null,null,null,null,null,null,null,null,null,null,null,null,null,null,null,null,null,null,null,null,null,null,null,null,null,null,"未","未","未","未",0,{"$f":"IFERROR(IF(MATCH(BC1937&\"/\"&BD1937,③読み替え表_省エネ住宅!$G$48:$G$57,0),1,0),0)","v":0},{"$f":"IFERROR(IF(MATCH(BE1937&\"/\"&BF1937,③読み替え表_省エネ住宅!$G$48:$G$57,0),1,0),0)","v":0},0,"*"]
[null,1933,null,null,null,null,null,null,null,null,null,null,null,null,null,null,null,null,null,null,null,null,null,null,null,null,null,null,null,null,null,null,null,null,null,null,null,null,null,null,null,null,null,null,null,null,null,null,null,null,null,null,null,null,"未","未","未","未",0,{"$f":"IFERROR(IF(MATCH(BC1938&\"/\"&BD1938,③読み替え表_省エネ住宅!$G$48:$G$57,0),1,0),0)","v":0},{"$f":"IFERROR(IF(MATCH(BE1938&\"/\"&BF1938,③読み替え表_省エネ住宅!$G$48:$G$57,0),1,0),0)","v":0},0,"*"]
[null,1934,null,null,null,null,null,null,null,null,null,null,null,null,null,null,null,null,null,null,null,null,null,null,null,null,null,null,null,null,null,null,null,null,null,null,null,null,null,null,null,null,null,null,null,null,null,null,null,null,null,null,null,null,"未","未","未","未",0,{"$f":"IFERROR(IF(MATCH(BC1939&\"/\"&BD1939,③読み替え表_省エネ住宅!$G$48:$G$57,0),1,0),0)","v":0},{"$f":"IFERROR(IF(MATCH(BE1939&\"/\"&BF1939,③読み替え表_省エネ住宅!$G$48:$G$57,0),1,0),0)","v":0},0,"*"]
[null,1935,null,null,null,null,null,null,null,null,null,null,null,null,null,null,null,null,null,null,null,null,null,null,null,null,null,null,null,null,null,null,null,null,null,null,null,null,null,null,null,null,null,null,null,null,null,null,null,null,null,null,null,null,"未","未","未","未",0,{"$f":"IFERROR(IF(MATCH(BC1940&\"/\"&BD1940,③読み替え表_省エネ住宅!$G$48:$G$57,0),1,0),0)","v":0},{"$f":"IFERROR(IF(MATCH(BE1940&\"/\"&BF1940,③読み替え表_省エネ住宅!$G$48:$G$57,0),1,0),0)","v":0},0,"*"]
[null,1936,null,null,null,null,null,null,null,null,null,null,null,null,null,null,null,null,null,null,null,null,null,null,null,null,null,null,null,null,null,null,null,null,null,null,null,null,null,null,null,null,null,null,null,null,null,null,null,null,null,null,null,null,"未","未","未","未",0,{"$f":"IFERROR(IF(MATCH(BC1941&\"/\"&BD1941,③読み替え表_省エネ住宅!$G$48:$G$57,0),1,0),0)","v":0},{"$f":"IFERROR(IF(MATCH(BE1941&\"/\"&BF1941,③読み替え表_省エネ住宅!$G$48:$G$57,0),1,0),0)","v":0},0,"*"]
[null,1937,null,null,null,null,null,null,null,null,null,null,null,null,null,null,null,null,null,null,null,null,null,null,null,null,null,null,null,null,null,null,null,null,null,null,null,null,null,null,null,null,null,null,null,null,null,null,null,null,null,null,null,null,"未","未","未","未",0,{"$f":"IFERROR(IF(MATCH(BC1942&\"/\"&BD1942,③読み替え表_省エネ住宅!$G$48:$G$57,0),1,0),0)","v":0},{"$f":"IFERROR(IF(MATCH(BE1942&\"/\"&BF1942,③読み替え表_省エネ住宅!$G$48:$G$57,0),1,0),0)","v":0},0,"*"]
[null,1938,null,null,null,null,null,null,null,null,null,null,null,null,null,null,null,null,null,null,null,null,null,null,null,null,null,null,null,null,null,null,null,null,null,null,null,null,null,null,null,null,null,null,null,null,null,null,null,null,null,null,null,null,"未","未","未","未",0,{"$f":"IFERROR(IF(MATCH(BC1943&\"/\"&BD1943,③読み替え表_省エネ住宅!$G$48:$G$57,0),1,0),0)","v":0},{"$f":"IFERROR(IF(MATCH(BE1943&\"/\"&BF1943,③読み替え表_省エネ住宅!$G$48:$G$57,0),1,0),0)","v":0},0,"*"]
[null,1939,null,null,null,null,null,null,null,null,null,null,null,null,null,null,null,null,null,null,null,null,null,null,null,null,null,null,null,null,null,null,null,null,null,null,null,null,null,null,null,null,null,null,null,null,null,null,null,null,null,null,null,null,"未","未","未","未",0,{"$f":"IFERROR(IF(MATCH(BC1944&\"/\"&BD1944,③読み替え表_省エネ住宅!$G$48:$G$57,0),1,0),0)","v":0},{"$f":"IFERROR(IF(MATCH(BE1944&\"/\"&BF1944,③読み替え表_省エネ住宅!$G$48:$G$57,0),1,0),0)","v":0},0,"*"]
[null,1940,null,null,null,null,null,null,null,null,null,null,null,null,null,null,null,null,null,null,null,null,null,null,null,null,null,null,null,null,null,null,null,null,null,null,null,null,null,null,null,null,null,null,null,null,null,null,null,null,null,null,null,null,"未","未","未","未",0,{"$f":"IFERROR(IF(MATCH(BC1945&\"/\"&BD1945,③読み替え表_省エネ住宅!$G$48:$G$57,0),1,0),0)","v":0},{"$f":"IFERROR(IF(MATCH(BE1945&\"/\"&BF1945,③読み替え表_省エネ住宅!$G$48:$G$57,0),1,0),0)","v":0},0,"*"]
[null,1941,null,null,null,null,null,null,null,null,null,null,null,null,null,null,null,null,null,null,null,null,null,null,null,null,null,null,null,null,null,null,null,null,null,null,null,null,null,null,null,null,null,null,null,null,null,null,null,null,null,null,null,null,"未","未","未","未",0,{"$f":"IFERROR(IF(MATCH(BC1946&\"/\"&BD1946,③読み替え表_省エネ住宅!$G$48:$G$57,0),1,0),0)","v":0},{"$f":"IFERROR(IF(MATCH(BE1946&\"/\"&BF1946,③読み替え表_省エネ住宅!$G$48:$G$57,0),1,0),0)","v":0},0,"*"]
[null,1942,null,null,null,null,null,null,null,null,null,null,null,null,null,null,null,null,null,null,null,null,null,null,null,null,null,null,null,null,null,null,null,null,null,null,null,null,null,null,null,null,null,null,null,null,null,null,null,null,null,null,null,null,"未","未","未","未",0,{"$f":"IFERROR(IF(MATCH(BC1947&\"/\"&BD1947,③読み替え表_省エネ住宅!$G$48:$G$57,0),1,0),0)","v":0},{"$f":"IFERROR(IF(MATCH(BE1947&\"/\"&BF1947,③読み替え表_省エネ住宅!$G$48:$G$57,0),1,0),0)","v":0},0,"*"]
[null,1943,null,null,null,null,null,null,null,null,null,null,null,null,null,null,null,null,null,null,null,null,null,null,null,null,null,null,null,null,null,null,null,null,null,null,null,null,null,null,null,null,null,null,null,null,null,null,null,null,null,null,null,null,"未","未","未","未",0,{"$f":"IFERROR(IF(MATCH(BC1948&\"/\"&BD1948,③読み替え表_省エネ住宅!$G$48:$G$57,0),1,0),0)","v":0},{"$f":"IFERROR(IF(MATCH(BE1948&\"/\"&BF1948,③読み替え表_省エネ住宅!$G$48:$G$57,0),1,0),0)","v":0},0,"*"]
[null,1944,null,null,null,null,null,null,null,null,null,null,null,null,null,null,null,null,null,null,null,null,null,null,null,null,null,null,null,null,null,null,null,null,null,null,null,null,null,null,null,null,null,null,null,null,null,null,null,null,null,null,null,null,"未","未","未","未",0,{"$f":"IFERROR(IF(MATCH(BC1949&\"/\"&BD1949,③読み替え表_省エネ住宅!$G$48:$G$57,0),1,0),0)","v":0},{"$f":"IFERROR(IF(MATCH(BE1949&\"/\"&BF1949,③読み替え表_省エネ住宅!$G$48:$G$57,0),1,0),0)","v":0},0,"*"]
[null,1945,null,null,null,null,null,null,null,null,null,null,null,null,null,null,null,null,null,null,null,null,null,null,null,null,null,null,null,null,null,null,null,null,null,null,null,null,null,null,null,null,null,null,null,null,null,null,null,null,null,null,null,null,"未","未","未","未",0,{"$f":"IFERROR(IF(MATCH(BC1950&\"/\"&BD1950,③読み替え表_省エネ住宅!$G$48:$G$57,0),1,0),0)","v":0},{"$f":"IFERROR(IF(MATCH(BE1950&\"/\"&BF1950,③読み替え表_省エネ住宅!$G$48:$G$57,0),1,0),0)","v":0},0,"*"]
[null,1946,null,null,null,null,null,null,null,null,null,null,null,null,null,null,null,null,null,null,null,null,null,null,null,null,null,null,null,null,null,null,null,null,null,null,null,null,null,null,null,null,null,null,null,null,null,null,null,null,null,null,null,null,"未","未","未","未",0,{"$f":"IFERROR(IF(MATCH(BC1951&\"/\"&BD1951,③読み替え表_省エネ住宅!$G$48:$G$57,0),1,0),0)","v":0},{"$f":"IFERROR(IF(MATCH(BE1951&\"/\"&BF1951,③読み替え表_省エネ住宅!$G$48:$G$57,0),1,0),0)","v":0},0,"*"]
[null,1947,null,null,null,null,null,null,null,null,null,null,null,null,null,null,null,null,null,null,null,null,null,null,null,null,null,null,null,null,null,null,null,null,null,null,null,null,null,null,null,null,null,null,null,null,null,null,null,null,null,null,null,null,"未","未","未","未",0,{"$f":"IFERROR(IF(MATCH(BC1952&\"/\"&BD1952,③読み替え表_省エネ住宅!$G$48:$G$57,0),1,0),0)","v":0},{"$f":"IFERROR(IF(MATCH(BE1952&\"/\"&BF1952,③読み替え表_省エネ住宅!$G$48:$G$57,0),1,0),0)","v":0},0,"*"]
[null,1948,null,null,null,null,null,null,null,null,null,null,null,null,null,null,null,null,null,null,null,null,null,null,null,null,null,null,null,null,null,null,null,null,null,null,null,null,null,null,null,null,null,null,null,null,null,null,null,null,null,null,null,null,"未","未","未","未",0,{"$f":"IFERROR(IF(MATCH(BC1953&\"/\"&BD1953,③読み替え表_省エネ住宅!$G$48:$G$57,0),1,0),0)","v":0},{"$f":"IFERROR(IF(MATCH(BE1953&\"/\"&BF1953,③読み替え表_省エネ住宅!$G$48:$G$57,0),1,0),0)","v":0},0,"*"]
[null,1949,null,null,null,null,null,null,null,null,null,null,null,null,null,null,null,null,null,null,null,null,null,null,null,null,null,null,null,null,null,null,null,null,null,null,null,null,null,null,null,null,null,null,null,null,null,null,null,null,null,null,null,null,"未","未","未","未",0,{"$f":"IFERROR(IF(MATCH(BC1954&\"/\"&BD1954,③読み替え表_省エネ住宅!$G$48:$G$57,0),1,0),0)","v":0},{"$f":"IFERROR(IF(MATCH(BE1954&\"/\"&BF1954,③読み替え表_省エネ住宅!$G$48:$G$57,0),1,0),0)","v":0},0,"*"]
[null,1950,null,null,null,null,null,null,null,null,null,null,null,null,null,null,null,null,null,null,null,null,null,null,null,null,null,null,null,null,null,null,null,null,null,null,null,null,null,null,null,null,null,null,null,null,null,null,null,null,null,null,null,null,"未","未","未","未",0,{"$f":"IFERROR(IF(MATCH(BC1955&\"/\"&BD1955,③読み替え表_省エネ住宅!$G$48:$G$57,0),1,0),0)","v":0},{"$f":"IFERROR(IF(MATCH(BE1955&\"/\"&BF1955,③読み替え表_省エネ住宅!$G$48:$G$57,0),1,0),0)","v":0},0,"*"]
[null,1951,null,null,null,null,null,null,null,null,null,null,null,null,null,null,null,null,null,null,null,null,null,null,null,null,null,null,null,null,null,null,null,null,null,null,null,null,null,null,null,null,null,null,null,null,null,null,null,null,null,null,null,null,"未","未","未","未",0,{"$f":"IFERROR(IF(MATCH(BC1956&\"/\"&BD1956,③読み替え表_省エネ住宅!$G$48:$G$57,0),1,0),0)","v":0},{"$f":"IFERROR(IF(MATCH(BE1956&\"/\"&BF1956,③読み替え表_省エネ住宅!$G$48:$G$57,0),1,0),0)","v":0},0,"*"]
[null,1952,null,null,null,null,null,null,null,null,null,null,null,null,null,null,null,null,null,null,null,null,null,null,null,null,null,null,null,null,null,null,null,null,null,null,null,null,null,null,null,null,null,null,null,null,null,null,null,null,null,null,null,null,"未","未","未","未",0,{"$f":"IFERROR(IF(MATCH(BC1957&\"/\"&BD1957,③読み替え表_省エネ住宅!$G$48:$G$57,0),1,0),0)","v":0},{"$f":"IFERROR(IF(MATCH(BE1957&\"/\"&BF1957,③読み替え表_省エネ住宅!$G$48:$G$57,0),1,0),0)","v":0},0,"*"]
[null,1953,null,null,null,null,null,null,null,null,null,null,null,null,null,null,null,null,null,null,null,null,null,null,null,null,null,null,null,null,null,null,null,null,null,null,null,null,null,null,null,null,null,null,null,null,null,null,null,null,null,null,null,null,"未","未","未","未",0,{"$f":"IFERROR(IF(MATCH(BC1958&\"/\"&BD1958,③読み替え表_省エネ住宅!$G$48:$G$57,0),1,0),0)","v":0},{"$f":"IFERROR(IF(MATCH(BE1958&\"/\"&BF1958,③読み替え表_省エネ住宅!$G$48:$G$57,0),1,0),0)","v":0},0,"*"]
[null,1954,null,null,null,null,null,null,null,null,null,null,null,null,null,null,null,null,null,null,null,null,null,null,null,null,null,null,null,null,null,null,null,null,null,null,null,null,null,null,null,null,null,null,null,null,null,null,null,null,null,null,null,null,"未","未","未","未",0,{"$f":"IFERROR(IF(MATCH(BC1959&\"/\"&BD1959,③読み替え表_省エネ住宅!$G$48:$G$57,0),1,0),0)","v":0},{"$f":"IFERROR(IF(MATCH(BE1959&\"/\"&BF1959,③読み替え表_省エネ住宅!$G$48:$G$57,0),1,0),0)","v":0},0,"*"]
[null,1955,null,null,null,null,null,null,null,null,null,null,null,null,null,null,null,null,null,null,null,null,null,null,null,null,null,null,null,null,null,null,null,null,null,null,null,null,null,null,null,null,null,null,null,null,null,null,null,null,null,null,null,null,"未","未","未","未",0,{"$f":"IFERROR(IF(MATCH(BC1960&\"/\"&BD1960,③読み替え表_省エネ住宅!$G$48:$G$57,0),1,0),0)","v":0},{"$f":"IFERROR(IF(MATCH(BE1960&\"/\"&BF1960,③読み替え表_省エネ住宅!$G$48:$G$57,0),1,0),0)","v":0},0,"*"]
[null,1956,null,null,null,null,null,null,null,null,null,null,null,null,null,null,null,null,null,null,null,null,null,null,null,null,null,null,null,null,null,null,null,null,null,null,null,null,null,null,null,null,null,null,null,null,null,null,null,null,null,null,null,null,"未","未","未","未",0,{"$f":"IFERROR(IF(MATCH(BC1961&\"/\"&BD1961,③読み替え表_省エネ住宅!$G$48:$G$57,0),1,0),0)","v":0},{"$f":"IFERROR(IF(MATCH(BE1961&\"/\"&BF1961,③読み替え表_省エネ住宅!$G$48:$G$57,0),1,0),0)","v":0},0,"*"]
[null,1957,null,null,null,null,null,null,null,null,null,null,null,null,null,null,null,null,null,null,null,null,null,null,null,null,null,null,null,null,null,null,null,null,null,null,null,null,null,null,null,null,null,null,null,null,null,null,null,null,null,null,null,null,"未","未","未","未",0,{"$f":"IFERROR(IF(MATCH(BC1962&\"/\"&BD1962,③読み替え表_省エネ住宅!$G$48:$G$57,0),1,0),0)","v":0},{"$f":"IFERROR(IF(MATCH(BE1962&\"/\"&BF1962,③読み替え表_省エネ住宅!$G$48:$G$57,0),1,0),0)","v":0},0,"*"]
[null,1958,null,null,null,null,null,null,null,null,null,null,null,null,null,null,null,null,null,null,null,null,null,null,null,null,null,null,null,null,null,null,null,null,null,null,null,null,null,null,null,null,null,null,null,null,null,null,null,null,null,null,null,null,"未","未","未","未",0,{"$f":"IFERROR(IF(MATCH(BC1963&\"/\"&BD1963,③読み替え表_省エネ住宅!$G$48:$G$57,0),1,0),0)","v":0},{"$f":"IFERROR(IF(MATCH(BE1963&\"/\"&BF1963,③読み替え表_省エネ住宅!$G$48:$G$57,0),1,0),0)","v":0},0,"*"]
[null,1959,null,null,null,null,null,null,null,null,null,null,null,null,null,null,null,null,null,null,null,null,null,null,null,null,null,null,null,null,null,null,null,null,null,null,null,null,null,null,null,null,null,null,null,null,null,null,null,null,null,null,null,null,"未","未","未","未",0,{"$f":"IFERROR(IF(MATCH(BC1964&\"/\"&BD1964,③読み替え表_省エネ住宅!$G$48:$G$57,0),1,0),0)","v":0},{"$f":"IFERROR(IF(MATCH(BE1964&\"/\"&BF1964,③読み替え表_省エネ住宅!$G$48:$G$57,0),1,0),0)","v":0},0,"*"]
[null,1960,null,null,null,null,null,null,null,null,null,null,null,null,null,null,null,null,null,null,null,null,null,null,null,null,null,null,null,null,null,null,null,null,null,null,null,null,null,null,null,null,null,null,null,null,null,null,null,null,null,null,null,null,"未","未","未","未",0,{"$f":"IFERROR(IF(MATCH(BC1965&\"/\"&BD1965,③読み替え表_省エネ住宅!$G$48:$G$57,0),1,0),0)","v":0},{"$f":"IFERROR(IF(MATCH(BE1965&\"/\"&BF1965,③読み替え表_省エネ住宅!$G$48:$G$57,0),1,0),0)","v":0},0,"*"]
[null,1961,null,null,null,null,null,null,null,null,null,null,null,null,null,null,null,null,null,null,null,null,null,null,null,null,null,null,null,null,null,null,null,null,null,null,null,null,null,null,null,null,null,null,null,null,null,null,null,null,null,null,null,null,"未","未","未","未",0,{"$f":"IFERROR(IF(MATCH(BC1966&\"/\"&BD1966,③読み替え表_省エネ住宅!$G$48:$G$57,0),1,0),0)","v":0},{"$f":"IFERROR(IF(MATCH(BE1966&\"/\"&BF1966,③読み替え表_省エネ住宅!$G$48:$G$57,0),1,0),0)","v":0},0,"*"]
[null,1962,null,null,null,null,null,null,null,null,null,null,null,null,null,null,null,null,null,null,null,null,null,null,null,null,null,null,null,null,null,null,null,null,null,null,null,null,null,null,null,null,null,null,null,null,null,null,null,null,null,null,null,null,"未","未","未","未",0,{"$f":"IFERROR(IF(MATCH(BC1967&\"/\"&BD1967,③読み替え表_省エネ住宅!$G$48:$G$57,0),1,0),0)","v":0},{"$f":"IFERROR(IF(MATCH(BE1967&\"/\"&BF1967,③読み替え表_省エネ住宅!$G$48:$G$57,0),1,0),0)","v":0},0,"*"]
[null,1963,null,null,null,null,null,null,null,null,null,null,null,null,null,null,null,null,null,null,null,null,null,null,null,null,null,null,null,null,null,null,null,null,null,null,null,null,null,null,null,null,null,null,null,null,null,null,null,null,null,null,null,null,"未","未","未","未",0,{"$f":"IFERROR(IF(MATCH(BC1968&\"/\"&BD1968,③読み替え表_省エネ住宅!$G$48:$G$57,0),1,0),0)","v":0},{"$f":"IFERROR(IF(MATCH(BE1968&\"/\"&BF1968,③読み替え表_省エネ住宅!$G$48:$G$57,0),1,0),0)","v":0},0,"*"]
[null,1964,null,null,null,null,null,null,null,null,null,null,null,null,null,null,null,null,null,null,null,null,null,null,null,null,null,null,null,null,null,null,null,null,null,null,null,null,null,null,null,null,null,null,null,null,null,null,null,null,null,null,null,null,"未","未","未","未",0,{"$f":"IFERROR(IF(MATCH(BC1969&\"/\"&BD1969,③読み替え表_省エネ住宅!$G$48:$G$57,0),1,0),0)","v":0},{"$f":"IFERROR(IF(MATCH(BE1969&\"/\"&BF1969,③読み替え表_省エネ住宅!$G$48:$G$57,0),1,0),0)","v":0},0,"*"]
[null,1965,null,null,null,null,null,null,null,null,null,null,null,null,null,null,null,null,null,null,null,null,null,null,null,null,null,null,null,null,null,null,null,null,null,null,null,null,null,null,null,null,null,null,null,null,null,null,null,null,null,null,null,null,"未","未","未","未",0,{"$f":"IFERROR(IF(MATCH(BC1970&\"/\"&BD1970,③読み替え表_省エネ住宅!$G$48:$G$57,0),1,0),0)","v":0},{"$f":"IFERROR(IF(MATCH(BE1970&\"/\"&BF1970,③読み替え表_省エネ住宅!$G$48:$G$57,0),1,0),0)","v":0},0,"*"]
[null,1966,null,null,null,null,null,null,null,null,null,null,null,null,null,null,null,null,null,null,null,null,null,null,null,null,null,null,null,null,null,null,null,null,null,null,null,null,null,null,null,null,null,null,null,null,null,null,null,null,null,null,null,null,"未","未","未","未",0,{"$f":"IFERROR(IF(MATCH(BC1971&\"/\"&BD1971,③読み替え表_省エネ住宅!$G$48:$G$57,0),1,0),0)","v":0},{"$f":"IFERROR(IF(MATCH(BE1971&\"/\"&BF1971,③読み替え表_省エネ住宅!$G$48:$G$57,0),1,0),0)","v":0},0,"*"]
[null,1967,null,null,null,null,null,null,null,null,null,null,null,null,null,null,null,null,null,null,null,null,null,null,null,null,null,null,null,null,null,null,null,null,null,null,null,null,null,null,null,null,null,null,null,null,null,null,null,null,null,null,null,null,"未","未","未","未",0,{"$f":"IFERROR(IF(MATCH(BC1972&\"/\"&BD1972,③読み替え表_省エネ住宅!$G$48:$G$57,0),1,0),0)","v":0},{"$f":"IFERROR(IF(MATCH(BE1972&\"/\"&BF1972,③読み替え表_省エネ住宅!$G$48:$G$57,0),1,0),0)","v":0},0,"*"]
[null,1968,null,null,null,null,null,null,null,null,null,null,null,null,null,null,null,null,null,null,null,null,null,null,null,null,null,null,null,null,null,null,null,null,null,null,null,null,null,null,null,null,null,null,null,null,null,null,null,null,null,null,null,null,"未","未","未","未",0,{"$f":"IFERROR(IF(MATCH(BC1973&\"/\"&BD1973,③読み替え表_省エネ住宅!$G$48:$G$57,0),1,0),0)","v":0},{"$f":"IFERROR(IF(MATCH(BE1973&\"/\"&BF1973,③読み替え表_省エネ住宅!$G$48:$G$57,0),1,0),0)","v":0},0,"*"]
[null,1969,null,null,null,null,null,null,null,null,null,null,null,null,null,null,null,null,null,null,null,null,null,null,null,null,null,null,null,null,null,null,null,null,null,null,null,null,null,null,null,null,null,null,null,null,null,null,null,null,null,null,null,null,"未","未","未","未",0,{"$f":"IFERROR(IF(MATCH(BC1974&\"/\"&BD1974,③読み替え表_省エネ住宅!$G$48:$G$57,0),1,0),0)","v":0},{"$f":"IFERROR(IF(MATCH(BE1974&\"/\"&BF1974,③読み替え表_省エネ住宅!$G$48:$G$57,0),1,0),0)","v":0},0,"*"]
[null,1970,null,null,null,null,null,null,null,null,null,null,null,null,null,null,null,null,null,null,null,null,null,null,null,null,null,null,null,null,null,null,null,null,null,null,null,null,null,null,null,null,null,null,null,null,null,null,null,null,null,null,null,null,"未","未","未","未",0,{"$f":"IFERROR(IF(MATCH(BC1975&\"/\"&BD1975,③読み替え表_省エネ住宅!$G$48:$G$57,0),1,0),0)","v":0},{"$f":"IFERROR(IF(MATCH(BE1975&\"/\"&BF1975,③読み替え表_省エネ住宅!$G$48:$G$57,0),1,0),0)","v":0},0,"*"]
[null,1971,null,null,null,null,null,null,null,null,null,null,null,null,null,null,null,null,null,null,null,null,null,null,null,null,null,null,null,null,null,null,null,null,null,null,null,null,null,null,null,null,null,null,null,null,null,null,null,null,null,null,null,null,"未","未","未","未",0,{"$f":"IFERROR(IF(MATCH(BC1976&\"/\"&BD1976,③読み替え表_省エネ住宅!$G$48:$G$57,0),1,0),0)","v":0},{"$f":"IFERROR(IF(MATCH(BE1976&\"/\"&BF1976,③読み替え表_省エネ住宅!$G$48:$G$57,0),1,0),0)","v":0},0,"*"]
[null,1972,null,null,null,null,null,null,null,null,null,null,null,null,null,null,null,null,null,null,null,null,null,null,null,null,null,null,null,null,null,null,null,null,null,null,null,null,null,null,null,null,null,null,null,null,null,null,null,null,null,null,null,null,"未","未","未","未",0,{"$f":"IFERROR(IF(MATCH(BC1977&\"/\"&BD1977,③読み替え表_省エネ住宅!$G$48:$G$57,0),1,0),0)","v":0},{"$f":"IFERROR(IF(MATCH(BE1977&\"/\"&BF1977,③読み替え表_省エネ住宅!$G$48:$G$57,0),1,0),0)","v":0},0,"*"]
[null,1973,null,null,null,null,null,null,null,null,null,null,null,null,null,null,null,null,null,null,null,null,null,null,null,null,null,null,null,null,null,null,null,null,null,null,null,null,null,null,null,null,null,null,null,null,null,null,null,null,null,null,null,null,"未","未","未","未",0,{"$f":"IFERROR(IF(MATCH(BC1978&\"/\"&BD1978,③読み替え表_省エネ住宅!$G$48:$G$57,0),1,0),0)","v":0},{"$f":"IFERROR(IF(MATCH(BE1978&\"/\"&BF1978,③読み替え表_省エネ住宅!$G$48:$G$57,0),1,0),0)","v":0},0,"*"]
[null,1974,null,null,null,null,null,null,null,null,null,null,null,null,null,null,null,null,null,null,null,null,null,null,null,null,null,null,null,null,null,null,null,null,null,null,null,null,null,null,null,null,null,null,null,null,null,null,null,null,null,null,null,null,"未","未","未","未",0,{"$f":"IFERROR(IF(MATCH(BC1979&\"/\"&BD1979,③読み替え表_省エネ住宅!$G$48:$G$57,0),1,0),0)","v":0},{"$f":"IFERROR(IF(MATCH(BE1979&\"/\"&BF1979,③読み替え表_省エネ住宅!$G$48:$G$57,0),1,0),0)","v":0},0,"*"]
[null,1975,null,null,null,null,null,null,null,null,null,null,null,null,null,null,null,null,null,null,null,null,null,null,null,null,null,null,null,null,null,null,null,null,null,null,null,null,null,null,null,null,null,null,null,null,null,null,null,null,null,null,null,null,"未","未","未","未",0,{"$f":"IFERROR(IF(MATCH(BC1980&\"/\"&BD1980,③読み替え表_省エネ住宅!$G$48:$G$57,0),1,0),0)","v":0},{"$f":"IFERROR(IF(MATCH(BE1980&\"/\"&BF1980,③読み替え表_省エネ住宅!$G$48:$G$57,0),1,0),0)","v":0},0,"*"]
[null,1976,null,null,null,null,null,null,null,null,null,null,null,null,null,null,null,null,null,null,null,null,null,null,null,null,null,null,null,null,null,null,null,null,null,null,null,null,null,null,null,null,null,null,null,null,null,null,null,null,null,null,null,null,"未","未","未","未",0,{"$f":"IFERROR(IF(MATCH(BC1981&\"/\"&BD1981,③読み替え表_省エネ住宅!$G$48:$G$57,0),1,0),0)","v":0},{"$f":"IFERROR(IF(MATCH(BE1981&\"/\"&BF1981,③読み替え表_省エネ住宅!$G$48:$G$57,0),1,0),0)","v":0},0,"*"]
[null,1977,null,null,null,null,null,null,null,null,null,null,null,null,null,null,null,null,null,null,null,null,null,null,null,null,null,null,null,null,null,null,null,null,null,null,null,null,null,null,null,null,null,null,null,null,null,null,null,null,null,null,null,null,"未","未","未","未",0,{"$f":"IFERROR(IF(MATCH(BC1982&\"/\"&BD1982,③読み替え表_省エネ住宅!$G$48:$G$57,0),1,0),0)","v":0},{"$f":"IFERROR(IF(MATCH(BE1982&\"/\"&BF1982,③読み替え表_省エネ住宅!$G$48:$G$57,0),1,0),0)","v":0},0,"*"]
[null,1978,null,null,null,null,null,null,null,null,null,null,null,null,null,null,null,null,null,null,null,null,null,null,null,null,null,null,null,null,null,null,null,null,null,null,null,null,null,null,null,null,null,null,null,null,null,null,null,null,null,null,null,null,"未","未","未","未",0,{"$f":"IFERROR(IF(MATCH(BC1983&\"/\"&BD1983,③読み替え表_省エネ住宅!$G$48:$G$57,0),1,0),0)","v":0},{"$f":"IFERROR(IF(MATCH(BE1983&\"/\"&BF1983,③読み替え表_省エネ住宅!$G$48:$G$57,0),1,0),0)","v":0},0,"*"]
[null,1979,null,null,null,null,null,null,null,null,null,null,null,null,null,null,null,null,null,null,null,null,null,null,null,null,null,null,null,null,null,null,null,null,null,null,null,null,null,null,null,null,null,null,null,null,null,null,null,null,null,null,null,null,"未","未","未","未",0,{"$f":"IFERROR(IF(MATCH(BC1984&\"/\"&BD1984,③読み替え表_省エネ住宅!$G$48:$G$57,0),1,0),0)","v":0},{"$f":"IFERROR(IF(MATCH(BE1984&\"/\"&BF1984,③読み替え表_省エネ住宅!$G$48:$G$57,0),1,0),0)","v":0},0,"*"]
[null,1980,null,null,null,null,null,null,null,null,null,null,null,null,null,null,null,null,null,null,null,null,null,null,null,null,null,null,null,null,null,null,null,null,null,null,null,null,null,null,null,null,null,null,null,null,null,null,null,null,null,null,null,null,"未","未","未","未",0,{"$f":"IFERROR(IF(MATCH(BC1985&\"/\"&BD1985,③読み替え表_省エネ住宅!$G$48:$G$57,0),1,0),0)","v":0},{"$f":"IFERROR(IF(MATCH(BE1985&\"/\"&BF1985,③読み替え表_省エネ住宅!$G$48:$G$57,0),1,0),0)","v":0},0,"*"]
[null,1981,null,null,null,null,null,null,null,null,null,null,null,null,null,null,null,null,null,null,null,null,null,null,null,null,null,null,null,null,null,null,null,null,null,null,null,null,null,null,null,null,null,null,null,null,null,null,null,null,null,null,null,null,"未","未","未","未",0,{"$f":"IFERROR(IF(MATCH(BC1986&\"/\"&BD1986,③読み替え表_省エネ住宅!$G$48:$G$57,0),1,0),0)","v":0},{"$f":"IFERROR(IF(MATCH(BE1986&\"/\"&BF1986,③読み替え表_省エネ住宅!$G$48:$G$57,0),1,0),0)","v":0},0,"*"]
[null,1982,null,null,null,null,null,null,null,null,null,null,null,null,null,null,null,null,null,null,null,null,null,null,null,null,null,null,null,null,null,null,null,null,null,null,null,null,null,null,null,null,null,null,null,null,null,null,null,null,null,null,null,null,"未","未","未","未",0,{"$f":"IFERROR(IF(MATCH(BC1987&\"/\"&BD1987,③読み替え表_省エネ住宅!$G$48:$G$57,0),1,0),0)","v":0},{"$f":"IFERROR(IF(MATCH(BE1987&\"/\"&BF1987,③読み替え表_省エネ住宅!$G$48:$G$57,0),1,0),0)","v":0},0,"*"]
[null,1983,null,null,null,null,null,null,null,null,null,null,null,null,null,null,null,null,null,null,null,null,null,null,null,null,null,null,null,null,null,null,null,null,null,null,null,null,null,null,null,null,null,null,null,null,null,null,null,null,null,null,null,null,"未","未","未","未",0,{"$f":"IFERROR(IF(MATCH(BC1988&\"/\"&BD1988,③読み替え表_省エネ住宅!$G$48:$G$57,0),1,0),0)","v":0},{"$f":"IFERROR(IF(MATCH(BE1988&\"/\"&BF1988,③読み替え表_省エネ住宅!$G$48:$G$57,0),1,0),0)","v":0},0,"*"]
[null,1984,null,null,null,null,null,null,null,null,null,null,null,null,null,null,null,null,null,null,null,null,null,null,null,null,null,null,null,null,null,null,null,null,null,null,null,null,null,null,null,null,null,null,null,null,null,null,null,null,null,null,null,null,"未","未","未","未",0,{"$f":"IFERROR(IF(MATCH(BC1989&\"/\"&BD1989,③読み替え表_省エネ住宅!$G$48:$G$57,0),1,0),0)","v":0},{"$f":"IFERROR(IF(MATCH(BE1989&\"/\"&BF1989,③読み替え表_省エネ住宅!$G$48:$G$57,0),1,0),0)","v":0},0,"*"]
[null,1985,null,null,null,null,null,null,null,null,null,null,null,null,null,null,null,null,null,null,null,null,null,null,null,null,null,null,null,null,null,null,null,null,null,null,null,null,null,null,null,null,null,null,null,null,null,null,null,null,null,null,null,null,"未","未","未","未",0,{"$f":"IFERROR(IF(MATCH(BC1990&\"/\"&BD1990,③読み替え表_省エネ住宅!$G$48:$G$57,0),1,0),0)","v":0},{"$f":"IFERROR(IF(MATCH(BE1990&\"/\"&BF1990,③読み替え表_省エネ住宅!$G$48:$G$57,0),1,0),0)","v":0},0,"*"]
[null,{"$f":"ROW()-5","v":1986},null,null,null,null,null,null,null,null,null,null,null,null,null,null,null,null,null,null,null,null,null,null,null,null,null,null,null,null,null,null,null,null,null,null,null,null,null,null,null,null,null,null,null,null,null,null,null,null,null,null,null,null,{"$f":"IFERROR(IF(SUM($Q1991:$U1991)>1,\"複数回答\",INDEX($Q$5:$U$5,,MATCH(1,$Q1991:$U1991,0))),\"未\")","v":"未"},{"$f":"IFERROR(IF(SUM($AA1991:$AE1991)>1,\"複数回答\",INDEX($AA$5:$AE$5,,MATCH(1,$AA1991:$AE1991,0))),\"未\")","v":"未"},{"$f":"IFERROR(IF(SUM($V1991:$Z1991)>1,\"複数回答\",INDEX($V$5:$Z$5,,MATCH(1,$V1991:$Z1991,0))),\"未\")","v":"未"},{"$f":"IFERROR(IF(SUM($AF1991:$AJ1991)>1,\"複数回答\",INDEX($AF$5:$AJ$5,,MATCH(1,$AF1991:$AJ1991,0))),\"未\")","v":"未"},{"$f":"IF(BC1991=\"複数回答\",1,IF(BD1991=\"複数回答\",1,IF(BE1991=\"複数回答\",1,IF(BF1991=\"複数回答\",1,0))))","v":0},{"$f":"IFERROR(IF(MATCH(BC1991&\"/\"&BD1991,③読み替え表_省エネ住宅!$G$48:$G$57,0),1,0),0)","v":0},{"$f":"IFERROR(IF(MATCH(BE1991&\"/\"&BF1991,③読み替え表_省エネ住宅!$G$48:$G$57,0),1,0),0)","v":0},{"$f":"IF(SUM(BG1991:BI1991)>0,1,0)","v":0},"*"]
[null,1987,null,null,null,null,null,null,null,null,null,null,null,null,null,null,null,null,null,null,null,null,null,null,null,null,null,null,null,null,null,null,null,null,null,null,null,null,null,null,null,null,null,null,null,null,null,null,null,null,null,null,null,null,"未","未","未","未",0,{"$f":"IFERROR(IF(MATCH(BC1992&\"/\"&BD1992,③読み替え表_省エネ住宅!$G$48:$G$57,0),1,0),0)","v":0},{"$f":"IFERROR(IF(MATCH(BE1992&\"/\"&BF1992,③読み替え表_省エネ住宅!$G$48:$G$57,0),1,0),0)","v":0},0,"*"]
[null,1988,null,null,null,null,null,null,null,null,null,null,null,null,null,null,null,null,null,null,null,null,null,null,null,null,null,null,null,null,null,null,null,null,null,null,null,null,null,null,null,null,null,null,null,null,null,null,null,null,null,null,null,null,"未","未","未","未",0,{"$f":"IFERROR(IF(MATCH(BC1993&\"/\"&BD1993,③読み替え表_省エネ住宅!$G$48:$G$57,0),1,0),0)","v":0},{"$f":"IFERROR(IF(MATCH(BE1993&\"/\"&BF1993,③読み替え表_省エネ住宅!$G$48:$G$57,0),1,0),0)","v":0},0,"*"]
[null,1989,null,null,null,null,null,null,null,null,null,null,null,null,null,null,null,null,null,null,null,null,null,null,null,null,null,null,null,null,null,null,null,null,null,null,null,null,null,null,null,null,null,null,null,null,null,null,null,null,null,null,null,null,"未","未","未","未",0,{"$f":"IFERROR(IF(MATCH(BC1994&\"/\"&BD1994,③読み替え表_省エネ住宅!$G$48:$G$57,0),1,0),0)","v":0},{"$f":"IFERROR(IF(MATCH(BE1994&\"/\"&BF1994,③読み替え表_省エネ住宅!$G$48:$G$57,0),1,0),0)","v":0},0,"*"]
[null,1990,null,null,null,null,null,null,null,null,null,null,null,null,null,null,null,null,null,null,null,null,null,null,null,null,null,null,null,null,null,null,null,null,null,null,null,null,null,null,null,null,null,null,null,null,null,null,null,null,null,null,null,null,"未","未","未","未",0,{"$f":"IFERROR(IF(MATCH(BC1995&\"/\"&BD1995,③読み替え表_省エネ住宅!$G$48:$G$57,0),1,0),0)","v":0},{"$f":"IFERROR(IF(MATCH(BE1995&\"/\"&BF1995,③読み替え表_省エネ住宅!$G$48:$G$57,0),1,0),0)","v":0},0,"*"]
[null,1991,null,null,null,null,null,null,null,null,null,null,null,null,null,null,null,null,null,null,null,null,null,null,null,null,null,null,null,null,null,null,null,null,null,null,null,null,null,null,null,null,null,null,null,null,null,null,null,null,null,null,null,null,"未","未","未","未",0,{"$f":"IFERROR(IF(MATCH(BC1996&\"/\"&BD1996,③読み替え表_省エネ住宅!$G$48:$G$57,0),1,0),0)","v":0},{"$f":"IFERROR(IF(MATCH(BE1996&\"/\"&BF1996,③読み替え表_省エネ住宅!$G$48:$G$57,0),1,0),0)","v":0},0,"*"]
[null,1992,null,null,null,null,null,null,null,null,null,null,null,null,null,null,null,null,null,null,null,null,null,null,null,null,null,null,null,null,null,null,null,null,null,null,null,null,null,null,null,null,null,null,null,null,null,null,null,null,null,null,null,null,"未","未","未","未",0,{"$f":"IFERROR(IF(MATCH(BC1997&\"/\"&BD1997,③読み替え表_省エネ住宅!$G$48:$G$57,0),1,0),0)","v":0},{"$f":"IFERROR(IF(MATCH(BE1997&\"/\"&BF1997,③読み替え表_省エネ住宅!$G$48:$G$57,0),1,0),0)","v":0},0,"*"]
[null,1993,null,null,null,null,null,null,null,null,null,null,null,null,null,null,null,null,null,null,null,null,null,null,null,null,null,null,null,null,null,null,null,null,null,null,null,null,null,null,null,null,null,null,null,null,null,null,null,null,null,null,null,null,"未","未","未","未",0,{"$f":"IFERROR(IF(MATCH(BC1998&\"/\"&BD1998,③読み替え表_省エネ住宅!$G$48:$G$57,0),1,0),0)","v":0},{"$f":"IFERROR(IF(MATCH(BE1998&\"/\"&BF1998,③読み替え表_省エネ住宅!$G$48:$G$57,0),1,0),0)","v":0},0,"*"]
[null,1994,null,null,null,null,null,null,null,null,null,null,null,null,null,null,null,null,null,null,null,null,null,null,null,null,null,null,null,null,null,null,null,null,null,null,null,null,null,null,null,null,null,null,null,null,null,null,null,null,null,null,null,null,"未","未","未","未",0,{"$f":"IFERROR(IF(MATCH(BC1999&\"/\"&BD1999,③読み替え表_省エネ住宅!$G$48:$G$57,0),1,0),0)","v":0},{"$f":"IFERROR(IF(MATCH(BE1999&\"/\"&BF1999,③読み替え表_省エネ住宅!$G$48:$G$57,0),1,0),0)","v":0},0,"*"]
[null,1995,null,null,null,null,null,null,null,null,null,null,null,null,null,null,null,null,null,null,null,null,null,null,null,null,null,null,null,null,null,null,null,null,null,null,null,null,null,null,null,null,null,null,null,null,null,null,null,null,null,null,null,null,"未","未","未","未",0,{"$f":"IFERROR(IF(MATCH(BC2000&\"/\"&BD2000,③読み替え表_省エネ住宅!$G$48:$G$57,0),1,0),0)","v":0},{"$f":"IFERROR(IF(MATCH(BE2000&\"/\"&BF2000,③読み替え表_省エネ住宅!$G$48:$G$57,0),1,0),0)","v":0},0,"*"]
[null,1996,null,null,null,null,null,null,null,null,null,null,null,null,null,null,null,null,null,null,null,null,null,null,null,null,null,null,null,null,null,null,null,null,null,null,null,null,null,null,null,null,null,null,null,null,null,null,null,null,null,null,null,null,"未","未","未","未",0,{"$f":"IFERROR(IF(MATCH(BC2001&\"/\"&BD2001,③読み替え表_省エネ住宅!$G$48:$G$57,0),1,0),0)","v":0},{"$f":"IFERROR(IF(MATCH(BE2001&\"/\"&BF2001,③読み替え表_省エネ住宅!$G$48:$G$57,0),1,0),0)","v":0},0,"*"]
[null,1997,null,null,null,null,null,null,null,null,null,null,null,null,null,null,null,null,null,null,null,null,null,null,null,null,null,null,null,null,null,null,null,null,null,null,null,null,null,null,null,null,null,null,null,null,null,null,null,null,null,null,null,null,"未","未","未","未",0,{"$f":"IFERROR(IF(MATCH(BC2002&\"/\"&BD2002,③読み替え表_省エネ住宅!$G$48:$G$57,0),1,0),0)","v":0},{"$f":"IFERROR(IF(MATCH(BE2002&\"/\"&BF2002,③読み替え表_省エネ住宅!$G$48:$G$57,0),1,0),0)","v":0},0,"*"]
[null,1998,null,null,null,null,null,null,null,null,null,null,null,null,null,null,null,null,null,null,null,null,null,null,null,null,null,null,null,null,null,null,null,null,null,null,null,null,null,null,null,null,null,null,null,null,null,null,null,null,null,null,null,null,"未","未","未","未",0,{"$f":"IFERROR(IF(MATCH(BC2003&\"/\"&BD2003,③読み替え表_省エネ住宅!$G$48:$G$57,0),1,0),0)","v":0},{"$f":"IFERROR(IF(MATCH(BE2003&\"/\"&BF2003,③読み替え表_省エネ住宅!$G$48:$G$57,0),1,0),0)","v":0},0,"*"]
[null,1999,null,null,null,null,null,null,null,null,null,null,null,null,null,null,null,null,null,null,null,null,null,null,null,null,null,null,null,null,null,null,null,null,null,null,null,null,null,null,null,null,null,null,null,null,null,null,null,null,null,null,null,null,"未","未","未","未",0,{"$f":"IFERROR(IF(MATCH(BC2004&\"/\"&BD2004,③読み替え表_省エネ住宅!$G$48:$G$57,0),1,0),0)","v":0},{"$f":"IFERROR(IF(MATCH(BE2004&\"/\"&BF2004,③読み替え表_省エネ住宅!$G$48:$G$57,0),1,0),0)","v":0},0,"*"]
[null,2000,null,null,null,null,null,null,null,null,null,null,null,null,null,null,null,null,null,null,null,null,null,null,null,null,null,null,null,null,null,null,null,null,null,null,null,null,null,null,null,null,null,null,null,null,null,null,null,null,null,null,null,null,"未","未","未","未",0,{"$f":"IFERROR(IF(MATCH(BC2005&\"/\"&BD2005,③読み替え表_省エネ住宅!$G$48:$G$57,0),1,0),0)","v":0},{"$f":"IFERROR(IF(MATCH(BE2005&\"/\"&BF2005,③読み替え表_省エネ住宅!$G$48:$G$57,0),1,0),0)","v":0},0,"*"]
["*",null,null,null,null,null,null,null,null,null,null,null,null,null,null,null,null,null,null,null,null,null,null,null,null,null,null,null,null,null,null,null,null,null,null,null,null,null,null,null,null,null,null,null,null,null,null,null,null,null,null,null,null,null,null,null,null,null,null,null,null,null,"*"]

{"sheet":"集計結果⇒","index":3,"n_rows":0,"n_cols":0,"rows_kept":0,"cut":false,"hidden":false,"merged":[]}

{"sheet":"②単純集計表 ","index":4,"n_rows":197,"n_cols":12,"rows_kept":197,"cut":false,"hidden":false,"merged":[[2,10,2,11],[1,10,1,11],[4,4,4,5],[3,4,3,5],[2,4,2,5],[1,4,1,5],[1,7,1,9],[2,7,2,9],[7,10,7,11],[6,10,6,11],[5,10,5,11],[4,10,4,11],[3,10,3,11],[3,8,3,9],[4,8,4,9],[5,8,5,9],[6,8,6,9],[3,7,4,7],[5,7,6,7],[7,7,7,9],[186,1,192,2],[186,4,186,6],[186,8,186,10],[187,4,187,6],[187,8,187,10],[188,4,188,6],[188,8,188,10],[189,4,189,6],[189,8,189,10],[190,4,190,6],[190,8,190,10],[191,4,191,6],[191,8,191,10],[192,4,192,6],[192,8,192,10],[182,1,182,2],[182,4,182,6],[182,8,182,10],[183,1,185,2],[183,4,183,6],[183,8,183,10],[184,4,184,6],[184,8,184,10],[185,4,185,6],[185,8,185,10],[178,1,181,2],[178,4,178,6],[178,8,178,10],[179,4,179,6],[179,8,179,10],[180,4,180,6],[180,8,180,10],[181,4,181,6],[181,8,181,10],[173,8,173,10],[174,1,177,2],[174,4,174,6],[174,8,174,10],[175,4,175,6],[175,8,175,10],[176,4,176,6],[176,8,176,10],[177,4,177,6],[177,8,177,10],[166,1,166,2],[167,3,167,6],[167,7,167,10],[126,1,131,1],[126,2,126,5],[127,2,127,5],[128,2,128,5],[129,2,129,5],[130,2,130,5],[131,2,131,5],[161,4,161,6],[161,8,161,10],[159,8,159,10],[155,4,155,6],[155,8,155,10],[156,4,156,6],[156,8,156,10],[157,4,157,6],[157,8,157,10],[158,4,158,6],[158,8,158,10],[159,4,159,6],[160,4,160,6],[160,8,160,10],[172,4,172,6],[172,8,172,10],[120,2,120,5],[121,2,121,5],[122,2,122,5],[123,2,123,5],[124,2,124,5],[125,2,125,5],[137,1,142,2],[155,1,161,2],[152,1,154,2],[151,1,151,2],[147,1,150,2],[143,1,146,2],[168,1,173,2],[173,4,173,6],[169,4,169,6],[169,8,169,10],[170,4,170,6],[170,8,170,10],[171,4,171,6],[171,8,171,10],[168,4,168,6],[168,8,168,10],[152,4,152,6],[152,8,152,10],[153,4,153,6],[153,8,153,10],[154,4,154,6],[154,8,154,10],[151,4,151,6],[151,8,151,10],[149,4,149,6],[149,8,149,10],[150,4,150,6],[150,8,150,10],[147,4,147,6],[147,8,147,10],[148,4,148,6],[148,8,148,10],[141,4,141,6],[141,8,141,10],[142,4,142,6],[142,8,142,10],[101,1,106,1],[107,1,112,1],[136,7,136,10],[137,8,137,10],[143,8,143,10],[144,4,144,6],[144,8,144,10],[145,4,145,6],[145,8,145,10],[146,8,146,10],[138,8,138,10],[139,4,139,6],[139,8,139,10],[140,4,140,6],[140,8,140,10],[146,4,146,6],[143,4,143,6],[40,4,40,5],[41,4,41,5],[50,1,53,1],[54,1,57,1],[67,1,71,1],[72,1,76,1],[84,1,88,1],[120,1,125,1],[42,4,42,5],[136,3,136,6],[135,1,135,2],[137,4,137,6],[138,4,138,6],[89,1,93,1],[1,1,1,3],[2,1,2,3],[3,1,3,3],[4,1,4,3],[38,4,38,5],[12,1,15,1],[17,1,24,1],[27,4,27,5],[28,4,28,5],[29,4,29,5],[30,4,30,5],[31,4,31,5],[26,1,43,1],[43,4,43,5],[32,4,32,5],[33,4,33,5],[35,4,35,5],[36,4,36,5],[37,4,37,5],[39,4,39,5]]}
[]
[null,"都道府県",null,null,{"$f":"①会場アンケート集計結果_省エネ住宅!C6","v":0},null,null,"アンケート回収数",null,null,{"$f":"COUNTIFS(①会場アンケート集計結果_省エネ住宅!$G$6:$G$2005,\"<>\"&\"\")","v":0}]
[null,"事業者名",null,null,{"$f":"①会場アンケート集計結果_省エネ住宅!D6","v":0},null,null,"有効アンケート数",null,null,{"$f":"COUNTIFS(①会場アンケート集計結果_省エネ住宅!$G$6:$G$2005,\"<>\"&\"\",①会場アンケート集計結果_省エネ住宅!$BJ$6:$BJ$2005,0)","v":0}]
[null,"イベント名",null,null,{"$f":"①会場アンケート集計結果_省エネ住宅!E6","v":0},null,null,"ZEH","アンケート回収数",null,{"$f":"COUNTIFS(①会場アンケート集計結果_省エネ住宅!$BC$6:$BC$2005,\"<>\"&\"未\")","v":0}]
[null,"回収日付",null,null,{"$f":"①会場アンケート集計結果_省エネ住宅!F6","v":"00:00:00"},null,null,null,"有効アンケート数",null,{"$f":"COUNTIFS(①会場アンケート集計結果_省エネ住宅!$BC$6:$BC$2005,\"<>\"&\"未\",①会場アンケート集計結果_省エネ住宅!$BJ$6:$BJ$2005,0)","v":0}]
[null,null,null,null,null,null,null,"断熱リフォーム","アンケート回収数",null,{"$f":"COUNTIFS(①会場アンケート集計結果_省エネ住宅!$BE$6:$BE$2005,\"<>\"&\"未\")","v":0}]
[null,null,null,null,null,null,null,null,"有効アンケート数",null,{"$f":"COUNTIFS(①会場アンケート集計結果_省エネ住宅!$BE$6:$BE$2005,\"<>\"&\"未\",①会場アンケート集計結果_省エネ住宅!$BJ$6:$BJ$2005,0)","v":0}]
[null,null,null,null,null,null,null,"メールアドレス回収数",null,null,{"$f":"COUNTIFS(①会場アンケート集計結果_省エネ住宅!$AY$6:$AY$2005,1,①会場アンケート集計結果_省エネ住宅!$BJ$6:$BJ$2005,0)","v":0}]
[]
[null,"性別・年代"]
[]
[null,null,null,null,null,null,"回答者数","%","検算用"]
[null,"性別",1,"男性",null,null,{"$f":"COUNTIFS(①会場アンケート集計結果_省エネ住宅!$BJ:$BJ,0,①会場アンケート集計結果_省エネ住宅!$G:$G,'②単純集計表 '!D13)","v":0},{"$f":"G13/$K$5","v":{"$error":"#DIV/0!"}}]
[null,null,2,"女性",null,null,{"$f":"COUNTIFS(①会場アンケート集計結果_省エネ住宅!$BJ:$BJ,0,①会場アンケート集計結果_省エネ住宅!$G:$G,'②単純集計表 '!D14)","v":0},{"$f":"G14/$K$5","v":{"$error":"#DIV/0!"}}]
[null,null,3,"その他",null,null,{"$f":"COUNTIFS(①会場アンケート集計結果_省エネ住宅!$BJ:$BJ,0,①会場アンケート集計結果_省エネ住宅!$G:$G,'②単純集計表 '!D15)","v":0},{"$f":"G15/$K$5","v":{"$error":"#DIV/0!"}}]
[null,null,99,"未回答",null,null,{"$f":"COUNTIFS(①会場アンケート集計結果_省エネ住宅!$BJ:$BJ,0,①会場アンケート集計結果_省エネ住宅!$G:$G,'②単純集計表 '!D16)","v":0},{"$f":"G16/$K$5","v":{"$error":"#DIV/0!"}},{"$f":"SUM(G13:G16)","v":0}]
[]
[null,"年代",1,"10代",null,null,{"$f":"COUNTIFS(①会場アンケート集計結果_省エネ住宅!$BJ:$BJ,0,①会場アンケート集計結果_省エネ住宅!$H:$H,'②単純集計表 '!D18)","v":0},{"$f":"G18/$K$5","v":{"$error":"#DIV/0!"}}]
[null,null,2,"20代",null,null,{"$f":"COUNTIFS(①会場アンケート集計結果_省エネ住宅!$BJ:$BJ,0,①会場アンケート集計結果_省エネ住宅!$H:$H,'②単純集計表 '!D19)","v":0},{"$error":"#DIV/0!"}]
[null,null,3,"30代",null,null,{"$f":"COUNTIFS(①会場アンケート集計結果_省エネ住宅!$BJ:$BJ,0,①会場アンケート集計結果_省エネ住宅!$H:$H,'②単純集計表 '!D20)","v":0},{"$error":"#DIV/0!"}]
[null,null,4,"40代",null,null,{"$f":"COUNTIFS(①会場アンケート集計結果_省エネ住宅!$BJ:$BJ,0,①会場アンケート集計結果_省エネ住宅!$H:$H,'②単純集計表 '!D21)","v":0},{"$error":"#DIV/0!"}]
[null,null,5,"50代",null,null,{"$f":"COUNTIFS(①会場アンケート集計結果_省エネ住宅!$BJ:$BJ,0,①会場アンケート集計結果_省エネ住宅!$H:$H,'②単純集計表 '!D22)","v":0},{"$error":"#DIV/0!"}]
[null,null,6,"60代",null,null,{"$f":"COUNTIFS(①会場アンケート集計結果_省エネ住宅!$BJ:$BJ,0,①会場アンケート集計結果_省エネ住宅!$H:$H,'②単純集計表 '!D23)","v":0},{"$error":"#DIV/0!"}]
[null,null,7,"70代以上",null,null,{"$f":"COUNTIFS(①会場アンケート集計結果_省エネ住宅!$BJ:$BJ,0,①会場アンケート集計結果_省エネ住宅!$H:$H,'②単純集計表 '!D24)","v":0},{"$error":"#DIV/0!"}]
[null,null,99,"未回答",null,null,{"$f":"COUNTIFS(①会場アンケート集計結果_省エネ住宅!$BJ:$BJ,0,①会場アンケート集計結果_省エネ住宅!$H:$H,'②単純集計表 '!D25)","v":0},{"$error":"#DIV/0!"},{"$f":"SUM(G18:G25)","v":0}]
[]
[null,"性別・年代別",null,"男性",null,null,{"$f":"SUM(G28:G34)","v":0},{"$f":"G27/$K$5","v":{"$error":"#DIV/0!"}}]
[null,null,null,"男性","10代",null,{"$f":"COUNTIFS(①会場アンケート集計結果_省エネ住宅!$BJ:$BJ,0,①会場アンケート集計結果_省エネ住宅!$G:$G,'②単純集計表 '!D28,①会場アンケート集計結果_省エネ住宅!$H:$H,'②単純集計表 '!E28)","v":0},{"$error":"#DIV/0!"}]
[null,null,null,"男性","20代",null,{"$f":"COUNTIFS(①会場アンケート集計結果_省エネ住宅!$BJ:$BJ,0,①会場アンケート集計結果_省エネ住宅!$G:$G,'②単純集計表 '!D29,①会場アンケート集計結果_省エネ住宅!$H:$H,'②単純集計表 '!E29)","v":0},{"$error":"#DIV/0!"}]
[null,null,null,"男性","30代",null,{"$f":"COUNTIFS(①会場アンケート集計結果_省エネ住宅!$BJ:$BJ,0,①会場アンケート集計結果_省エネ住宅!$G:$G,'②単純集計表 '!D30,①会場アンケート集計結果_省エネ住宅!$H:$H,'②単純集計表 '!E30)","v":0},{"$error":"#DIV/0!"}]
[null,null,null,"男性","40代",null,{"$f":"COUNTIFS(①会場アンケート集計結果_省エネ住宅!$BJ:$BJ,0,①会場アンケート集計結果_省エネ住宅!$G:$G,'②単純集計表 '!D31,①会場アンケート集計結果_省エネ住宅!$H:$H,'②単純集計表 '!E31)","v":0},{"$error":"#DIV/0!"}]
[null,null,null,"男性","50代",null,{"$f":"COUNTIFS(①会場アンケート集計結果_省エネ住宅!$BJ:$BJ,0,①会場アンケート集計結果_省エネ住宅!$G:$G,'②単純集計表 '!D32,①会場アンケート集計結果_省エネ住宅!$H:$H,'②単純集計表 '!E32)","v":0},{"$error":"#DIV/0!"}]
[null,null,null,"男性","60代",null,{"$f":"COUNTIFS(①会場アンケート集計結果_省エネ住宅!$BJ:$BJ,0,①会場アンケート集計結果_省エネ住宅!$G:$G,'②単純集計表 '!D33,①会場アンケート集計結果_省エネ住宅!$H:$H,'②単純集計表 '!E33)","v":0},{"$error":"#DIV/0!"}]
[null,null,null,"男性","70代以上",null,{"$f":"COUNTIFS(①会場アンケート集計結果_省エネ住宅!$BJ:$BJ,0,①会場アンケート集計結果_省エネ住宅!$G:$G,'②単純集計表 '!D34,①会場アンケート集計結果_省エネ住宅!$H:$H,'②単純集計表 '!E34)","v":0},{"$error":"#DIV/0!"}]
[null,null,null,"女性",null,null,{"$f":"SUM(G36:G42)","v":0},{"$error":"#DIV/0!"}]
[null,null,null,"女性","10代",null,{"$f":"COUNTIFS(①会場アンケート集計結果_省エネ住宅!$BJ:$BJ,0,①会場アンケート集計結果_省エネ住宅!$G:$G,'②単純集計表 '!D36,①会場アンケート集計結果_省エネ住宅!$H:$H,'②単純集計表 '!E36)","v":0},{"$error":"#DIV/0!"}]
[null,null,null,"女性","20代",null,{"$f":"COUNTIFS(①会場アンケート集計結果_省エネ住宅!$BJ:$BJ,0,①会場アンケート集計結果_省エネ住宅!$G:$G,'②単純集計表 '!D37,①会場アンケート集計結果_省エネ住宅!$H:$H,'②単純集計表 '!E37)","v":0},{"$error":"#DIV/0!"}]
[null,null,null,"女性","30代",null,{"$f":"COUNTIFS(①会場アンケート集計結果_省エネ住宅!$BJ:$BJ,0,①会場アンケート集計結果_省エネ住宅!$G:$G,'②単純集計表 '!D38,①会場アンケート集計結果_省エネ住宅!$H:$H,'②単純集計表 '!E38)","v":0},{"$error":"#DIV/0!"}]
[null,null,null,"女性","40代",null,{"$f":"COUNTIFS(①会場アンケート集計結果_省エネ住宅!$BJ:$BJ,0,①会場アンケート集計結果_省エネ住宅!$G:$G,'②単純集計表 '!D39,①会場アンケート集計結果_省エネ住宅!$H:$H,'②単純集計表 '!E39)","v":0},{"$error":"#DIV/0!"}]
[null,null,null,"女性","50代",null,{"$f":"COUNTIFS(①会場アンケート集計結果_省エネ住宅!$BJ:$BJ,0,①会場アンケート集計結果_省エネ住宅!$G:$G,'②単純集計表 '!D40,①会場アンケート集計結果_省エネ住宅!$H:$H,'②単純集計表 '!E40)","v":0},{"$error":"#DIV/0!"}]
[null,null,null,"女性","60代",null,{"$f":"COUNTIFS(①会場アンケート集計結果_省エネ住宅!$BJ:$BJ,0,①会場アンケート集計結果_省エネ住宅!$G:$G,'②単純集計表 '!D41,①会場アンケート集計結果_省エネ住宅!$H:$H,'②単純集計表 '!E41)","v":0},{"$error":"#DIV/0!"}]
[null,null,null,"女性","70代以上",null,{"$f":"COUNTIFS(①会場アンケート集計結果_省エネ住宅!$BJ:$BJ,0,①会場アンケート集計結果_省エネ住宅!$G:$G,'②単純集計表 '!D42,①会場アンケート集計結果_省エネ住宅!$H:$H,'②単純集計表 '!E42)","v":0},{"$error":"#DIV/0!"}]
[null,null,null,"その他","その他",null,{"$f":"COUNTIFS(①会場アンケート集計結果_省エネ住宅!$BJ:$BJ,0,①会場アンケート集計結果_省エネ住宅!$G:$G,'②単純集計表 '!D43,①会場アンケート集計結果_省エネ住宅!$H:$H,\"<>\"&D44)","v":0},{"$f":"G43/$K$5","v":{"$error":"#DIV/0!"}}]
[null,null,null,"未回答","未回答",null,{"$f":"COUNTIFS(①会場アンケート集計結果_省エネ住宅!$BJ:$BJ,0,①会場アンケート集計結果_省エネ住宅!$G:$G,'②単純集計表 '!D44,①会場アンケート集計結果_省エネ住宅!$H:$H,\"<>\")+COUNTIFS(①会場アンケート集計結果_省エネ住宅!$BJ:$BJ,0,①会場アンケート集計結果_省エネ住宅!$G:$G,\"<>\",①会場アンケート集計結果_省エネ住宅!$H:$H,E44)-COUNTIFS(①会場アンケート集計結果_省エネ住宅!$BJ:$BJ,0,①会場アンケート集計結果_省エネ住宅!$G:$G,D44,①会場アンケート集計結果_省エネ住宅!$H:$H,E44)","v":0},{"$error":"#DIV/0!"},{"$f":"SUM(G36:G44,G28:G34)","v":0}]
[]
[]
[]
[null,"【設問2】住宅の購入／リフォームの実施意向・予定について、最も当てはまるものをお選びください。"]
[]
[null,null,null,null,null,null,"回答者数","%","検算用"]
[null,"住宅の購入",1,"今後3年以内に購入・実施を予定している",null,null,{"$f":"COUNTIFS(①会場アンケート集計結果_省エネ住宅!$BJ:$BJ,0,①会場アンケート集計結果_省エネ住宅!I:I,1)","v":0},{"$f":"G51/$K$5","v":{"$error":"#DIV/0!"}}]
[null,null,2,"予定はないが、いるか購入・実施したい",null,null,{"$f":"COUNTIFS(①会場アンケート集計結果_省エネ住宅!$BJ:$BJ,0,①会場アンケート集計結果_省エネ住宅!J:J,1)","v":0},{"$error":"#DIV/0!"}]
[null,null,3,"予定はなく、購入・実施意向もない",null,null,{"$f":"COUNTIFS(①会場アンケート集計結果_省エネ住宅!$BJ:$BJ,0,①会場アンケート集計結果_省エネ住宅!K:K,1)","v":0},{"$error":"#DIV/0!"}]
[null,null,99,"未回答",null,null,{"$f":"COUNTIFS(①会場アンケート集計結果_省エネ住宅!$BJ:$BJ,0,①会場アンケート集計結果_省エネ住宅!L:L,1)","v":0},{"$error":"#DIV/0!"},{"$f":"SUM(G51:G54)","v":0}]
[null,"リフォーム",1,"今後3年以内に購入・実施を予定している",null,null,{"$f":"COUNTIFS(①会場アンケート集計結果_省エネ住宅!$BJ:$BJ,0,①会場アンケート集計結果_省エネ住宅!M:M,1)","v":0},{"$error":"#DIV/0!"}]
[null,null,2,"予定はないが、いるか購入・実施したい",null,null,{"$f":"COUNTIFS(①会場アンケート集計結果_省エネ住宅!$BJ:$BJ,0,①会場アンケート集計結果_省エネ住宅!N:N,1)","v":0},{"$error":"#DIV/0!"}]
[null,null,3,"予定はなく、購入・実施意向もない",null,null,{"$f":"COUNTIFS(①会場アンケート集計結果_省エネ住宅!$BJ:$BJ,0,①会場アンケート集計結果_省エネ住宅!O:O,1)","v":0},{"$error":"#DIV/0!"}]
[null,null,99,"未回答",null,null,{"$f":"COUNTIFS(①会場アンケート集計結果_省エネ住宅!$BJ:$BJ,0,①会場アンケート集計結果_省エネ住宅!P:P,1)","v":0},{"$error":"#DIV/0!"},{"$f":"SUM(G55:G58)","v":0}]
[]
[]
[]
[]
[]
[]
[null,"【設問3】イベント前、下記の省エネ住宅について興味がありましたか。最も当てはまるものをお選びください。"]
[]
[null,null,null,null,null,null,"回答者数","%","検算用"]
[null,"ZEH",1,"すでに購入した／実施したことがある",null,null,{"$f":"COUNTIFS(①会場アンケート集計結果_省エネ住宅!$BJ:$BJ,0,①会場アンケート集計結果_省エネ住宅!Q:Q,1)","v":0},{"$f":"G68/$K$5","v":{"$error":"#DIV/0!"}}]
[null,null,2,"内容を知っていて、興味もあった",null,null,{"$f":"COUNTIFS(①会場アンケート集計結果_省エネ住宅!$BJ:$BJ,0,①会場アンケート集計結果_省エネ住宅!R:R,1)","v":0},{"$error":"#DIV/0!"}]
[null,null,3,"内容は知っていたが、興味はなかった",null,null,{"$f":"COUNTIFS(①会場アンケート集計結果_省エネ住宅!$BJ:$BJ,0,①会場アンケート集計結果_省エネ住宅!S:S,1)","v":0},{"$error":"#DIV/0!"}]
[null,null,4,"知らなかった",null,null,{"$f":"COUNTIFS(①会場アンケート集計結果_省エネ住宅!$BJ:$BJ,0,①会場アンケート集計結果_省エネ住宅!T:T,1)","v":0},{"$error":"#DIV/0!"}]
[null,null,99,"未回答",null,null,{"$f":"COUNTIFS(①会場アンケート集計結果_省エネ住宅!$BJ:$BJ,0,①会場アンケート集計結果_省エネ住宅!U:U,1)","v":0},{"$error":"#DIV/0!"},{"$f":"SUM(G68:G72)","v":0}]
[null,"断熱リフォーム",1,"すでに購入した／実施したことがある",null,null,{"$f":"COUNTIFS(①会場アンケート集計結果_省エネ住宅!$BJ:$BJ,0,①会場アンケート集計結果_省エネ住宅!V:V,1)","v":0},{"$error":"#DIV/0!"}]
[null,null,2,"内容を知っていて、興味もあった",null,null,{"$f":"COUNTIFS(①会場アンケート集計結果_省エネ住宅!$BJ:$BJ,0,①会場アンケート集計結果_省エネ住宅!W:W,1)","v":0},{"$error":"#DIV/0!"}]
[null,null,3,"内容は知っていたが、興味はなかった",null,null,{"$f":"COUNTIFS(①会場アンケート集計結果_省エネ住宅!$BJ:$BJ,0,①会場アンケート集計結果_省エネ住宅!X:X,1)","v":0},{"$error":"#DIV/0!"}]
[null,null,4,"知らなかった",null,null,{"$f":"COUNTIFS(①会場アンケート集計結果_省エネ住宅!$BJ:$BJ,0,①会場アンケート集計結果_省エネ住宅!Y:Y,1)","v":0},{"$error":"#DIV/0!"}]
[null,null,99,"未回答",null,null,{"$f":"COUNTIFS(①会場アンケート集計結果_省エネ住宅!$BJ:$BJ,0,①会場アンケート集計結果_省エネ住宅!Z:Z,1)","v":0},{"$error":"#DIV/0!"},{"$f":"SUM(G73:G77)","v":0}]
[]
[]
[]
[]
[null,"【設問4】今後、ZEHを購入／断熱リフォームを実施したいと思いますか。"]
[]
[null,null,null,null,null,null,null,"回答者数","%","検算用"]
[null,"ZEH",1,"すでに購入した/実施したことがある",null,null,null,{"$f":"COUNTIFS(①会場アンケート集計結果_省エネ住宅!$BJ:$BJ,0,①会場アンケート集計結果_省エネ住宅!AA:AA,1)","v":0},{"$f":"H85/$K$5","v":{"$error":"#DIV/0!"}}]
[null,null,2,"機会があれば購入・実施したい",null,null,null,{"$f":"COUNTIFS(①会場アンケート集計結果_省エネ住宅!$BJ:$BJ,0,①会場アンケート集計結果_省エネ住宅!AB:AB,1)","v":0},{"$error":"#DIV/0!"}]
[null,null,3,"興味はあるが、購入・実施対象には入らない",null,null,null,{"$f":"COUNTIFS(①会場アンケート集計結果_省エネ住宅!$BJ:$BJ,0,①会場アンケート集計結果_省エネ住宅!AC:AC,1)","v":0},{"$error":"#DIV/0!"}]
[null,null,4,"興味がない",null,null,null,{"$f":"COUNTIFS(①会場アンケート集計結果_省エネ住宅!$BJ:$BJ,0,①会場アンケート集計結果_省エネ住宅!AD:AD,1)","v":0},{"$error":"#DIV/0!"}]
[null,null,99,"未回答",null,null,null,{"$f":"COUNTIFS(①会場アンケート集計結果_省エネ住宅!$BJ:$BJ,0,①会場アンケート集計結果_省エネ住宅!AE:AE,1)","v":0},{"$error":"#DIV/0!"},{"$f":"SUM(H85:H89)","v":0}]
[null,"断熱リフォーム",1,"すでに購入した/実施したことがある",null,null,null,{"$f":"COUNTIFS(①会場アンケート集計結果_省エネ住宅!$BJ:$BJ,0,①会場アンケート集計結果_省エネ住宅!AF:AF,1)","v":0},{"$error":"#DIV/0!"}]
[null,null,2,"機会があれば購入・実施したい",null,null,null,{"$f":"COUNTIFS(①会場アンケート集計結果_省エネ住宅!$BJ:$BJ,0,①会場アンケート集計結果_省エネ住宅!AG:AG,1)","v":0},{"$error":"#DIV/0!"}]
[null,null,3,"興味はあるが、購入・実施対象には入らない",null,null,null,{"$f":"COUNTIFS(①会場アンケート集計結果_省エネ住宅!$BJ:$BJ,0,①会場アンケート集計結果_省エネ住宅!AH:AH,1)","v":0},{"$error":"#DIV/0!"}]
[null,null,4,"興味がない",null,null,null,{"$f":"COUNTIFS(①会場アンケート集計結果_省エネ住宅!$BJ:$BJ,0,①会場アンケート集計結果_省エネ住宅!AI:AI,1)","v":0},{"$error":"#DIV/0!"}]
[null,null,99,"未回答",null,null,null,{"$f":"COUNTIFS(①会場アンケート集計結果_省エネ住宅!$BJ:$BJ,0,①会場アンケート集計結果_省エネ住宅!AJ:AJ,1)","v":0},{"$error":"#DIV/0!"},{"$f":"SUM(H90:H94)","v":0}]
[]
[]
[]
[]
[null,"【設問5】なぜZEH／断熱リフォームに興味を持ちましたか。（いくつでも）"]
[]
[null,null,null,null,null,null,null,null,"回答者数","%"]
[null,"ZEH",1,"CO2削減に貢献するため",null,null,null,null,{"$f":"COUNTIFS(①会場アンケート集計結果_省エネ住宅!$BJ:$BJ,0,①会場アンケート集計結果_省エネ住宅!AK:AK,1)","v":0},{"$f":"I102/$K$5","v":{"$error":"#DIV/0!"}}]
[null,null,2,"光熱費が安くなるなど経済的メリットが期待できるため",null,null,null,null,{"$f":"COUNTIFS(①会場アンケート集計結果_省エネ住宅!$BJ:$BJ,0,①会場アンケート集計結果_省エネ住宅!AL:AL,1)","v":0},{"$error":"#DIV/0!"}]
[null,null,3,"住環境が快適になるため",null,null,null,null,{"$f":"COUNTIFS(①会場アンケート集計結果_省エネ住宅!$BJ:$BJ,0,①会場アンケート集計結果_省エネ住宅!AM:AM,1)","v":0},{"$error":"#DIV/0!"}]
[null,null,4,"疾患のリスクの軽減が期待できるため",null,null,null,null,{"$f":"COUNTIFS(①会場アンケート集計結果_省エネ住宅!$BJ:$BJ,0,①会場アンケート集計結果_省エネ住宅!AN:AN,1)","v":0},{"$error":"#DIV/0!"}]
[null,null,5,"その他"]
[null,null,99,"未回答",null,null,null,null,{"$f":"COUNTIFS(①会場アンケート集計結果_省エネ住宅!$BJ:$BJ,0,①会場アンケート集計結果_省エネ住宅!AP:AP,1)","v":0},{"$error":"#DIV/0!"}]
[null,"断熱リフォーム",1,"CO2削減に貢献するため",null,null,null,null,{"$f":"COUNTIFS(①会場アンケート集計結果_省エネ住宅!$BJ:$BJ,0,①会場アンケート集計結果_省エネ住宅!AQ:AQ,1)","v":0},{"$error":"#DIV/0!"}]
[null,null,2,"光熱費が安くなるなど経済的メリットが期待できるため",null,null,null,null,{"$f":"COUNTIFS(①会場アンケート集計結果_省エネ住宅!$BJ:$BJ,0,①会場アンケート集計結果_省エネ住宅!AR:AR,1)","v":0},{"$error":"#DIV/0!"}]
[null,null,3,"住環境が快適になるため",null,null,null,null,{"$f":"COUNTIFS(①会場アンケート集計結果_省エネ住宅!$BJ:$BJ,0,①会場アンケート集計結果_省エネ住宅!AS:AS,1)","v":0},{"$error":"#DIV/0!"}]
[null,null,4,"疾患のリスクの軽減が期待できるため",null,null,null,null,{"$f":"COUNTIFS(①会場アンケート集計結果_省エネ住宅!$BJ:$BJ,0,①会場アンケート集計結果_省エネ住宅!AT:AT,1)","v":0},{"$error":"#DIV/0!"}]
[null,null,5,"その他"]
[null,null,99,"未回答",null,null,null,null,{"$f":"COUNTIFS(①会場アンケート集計結果_省エネ住宅!$BJ:$BJ,0,①会場アンケート集計結果_省エネ住宅!AV:AV,1)","v":0},{"$error":"#DIV/0!"}]
[]
[]
[]
[]
[null,"【設問3、4】行動変容・意識変容"]
[]
[null,null,null,null,null,null,"回答者数","%","検算用"]
[null,"ZEH","購入済み",null,null,null,{"$f":"SUM(L138:L143)","v":0},{"$f":"G121/$K$5","v":{"$error":"#DIV/0!"}}]
[null,null,"意識変容",null,null,null,{"$f":"SUM(L144:L147)","v":0},{"$error":"#DIV/0!"}]
[null,null,"現状維持",null,null,null,{"$f":"SUM(L148:L151)","v":0},{"$error":"#DIV/0!"}]
[null,null,"マイナス変容",null,null,null,{"$f":"SUM(L152)","v":0},{"$error":"#DIV/0!"}]
[null,null,"＜無効回答＞回答に矛盾があるため除外",null,null,null,{"$f":"SUM(L153:L155)","v":0},{"$error":"#DIV/0!"}]
[null,null,"対象外（一部未回答など）",null,null,null,{"$f":"SUM(L156:L162)","v":0},{"$error":"#DIV/0!"},{"$f":"SUM(G121:G126)","v":0}]
[null,"断熱リフォーム","実施済み",null,null,null,{"$f":"SUM(L169:L174)","v":0},{"$error":"#DIV/0!"}]
[null,null,"意識変容",null,null,null,{"$f":"SUM(L175:L178)","v":0},{"$error":"#DIV/0!"}]
[null,null,"現状維持",null,null,null,{"$f":"SUM(L179:L182)","v":0},{"$error":"#DIV/0!"}]
[null,null,"マイナス変容",null,null,null,{"$f":"SUM(L183)","v":0},{"$error":"#DIV/0!"}]
[null,null,"＜無効回答＞回答に矛盾があるため除外",null,null,null,{"$f":"SUM(L184:L186)","v":0},{"$error":"#DIV/0!"}]
[null,null,"対象外（一部未回答など）",null,null,null,{"$f":"SUM(L187:L193)","v":0},{"$error":"#DIV/0!"},{"$f":"SUM(G127:G132)","v":0}]
[]
[]
[null,"変容定義"]
[null,"ZEH"]
[null,null,null,"イベント前",null,null,null,"今後",null,null,null,"回答者数"]
[null,"行動済み",null,1,"すでに購入した／実施したことがある",null,null,1,"すでに購入した/実施したことがある",null,null,{"$f":"COUNTIFS(①会場アンケート集計結果_省エネ住宅!Q$6:Q$2005,1,①会場アンケート集計結果_省エネ住宅!AA$6:AA$2005,1,①会場アンケート集計結果_省エネ住宅!$BG$6:$BG$2005,0,①会場アンケート集計結果_省エネ住宅!$BG$6:$BG$2005,0)","v":0}]
[null,null,null,1,"すでに購入した／実施したことがある",null,null,99,"未回答",null,null,{"$f":"COUNTIFS(①会場アンケート集計結果_省エネ住宅!Q$6:Q$2005,1,①会場アンケート集計結果_省エネ住宅!AE$6:AE$2005,1,①会場アンケート集計結果_省エネ住宅!$BG$6:$BG$2005,0)","v":0}]
[null,null,null,2,"内容を知っていて、興味もあった",null,null,1,"すでに購入した/実施したことがある",null,null,{"$f":"COUNTIFS(①会場アンケート集計結果_省エネ住宅!R$6:R$2005,1,①会場アンケート集計結果_省エネ住宅!AA$6:AA$2005,1,①会場アンケート集計結果_省エネ住宅!$BG$6:$BG$2005,0)","v":0}]
[null,null,null,3,"内容は知っていたが、興味はなかった",null,null,1,"すでに購入した/実施したことがある",null,null,{"$f":"COUNTIFS(①会場アンケート集計結果_省エネ住宅!S$6:S$2005,1,①会場アンケート集計結果_省エネ住宅!AA$6:AA$2005,1,①会場アンケート集計結果_省エネ住宅!$BG$6:$BG$2005,0)","v":0}]
[null,null,null,4,"知らなかった",null,null,1,"すでに購入した/実施したことがある",null,null,{"$f":"COUNTIFS(①会場アンケート集計結果_省エネ住宅!T$6:T$2005,1,①会場アンケート集計結果_省エネ住宅!AA$6:AA$2005,1,①会場アンケート集計結果_省エネ住宅!$BG$6:$BG$2005,0)","v":0}]
[null,null,null,99,"未回答",null,null,1,"すでに購入した/実施したことがある",null,null,{"$f":"COUNTIFS(①会場アンケート集計結果_省エネ住宅!U$6:U$2005,1,①会場アンケート集計結果_省エネ住宅!AA$6:AA$2005,1,①会場アンケート集計結果_省エネ住宅!$BG$6:$BG$2005,0)","v":0}]
[null,"意識変容",null,3,"内容は知っていたが、興味はなかった",null,null,2,"機会があれば購入・実施したい",null,null,{"$f":"COUNTIFS(①会場アンケート集計結果_省エネ住宅!S$6:S$2005,1,①会場アンケート集計結果_省エネ住宅!AB$6:AB$2005,1,①会場アンケート集計結果_省エネ住宅!$BG$6:$BG$2005,0)","v":0}]
[null,null,null,3,"内容は知っていたが、興味はなかった",null,null,3,"興味はあるが、購入・実施対象には入らない",null,null,{"$f":"COUNTIFS(①会場アンケート集計結果_省エネ住宅!S$6:S$2005,1,①会場アンケート集計結果_省エネ住宅!AC$6:AC$2005,1,①会場アンケート集計結果_省エネ住宅!$BG$6:$BG$2005,0)","v":0}]
[null,null,null,4,"知らなかった",null,null,2,"機会があれば購入・実施したい",null,null,{"$f":"COUNTIFS(①会場アンケート集計結果_省エネ住宅!T$6:T$2005,1,①会場アンケート集計結果_省エネ住宅!AB$6:AB$2005,1,①会場アンケート集計結果_省エネ住宅!$BG$6:$BG$2005,0)","v":0}]
[null,null,null,4,"知らなかった",null,null,3,"興味はあるが、購入・実施対象には入らない",null,null,{"$f":"COUNTIFS(①会場アンケート集計結果_省エネ住宅!T$6:T$2005,1,①会場アンケート集計結果_省エネ住宅!AC$6:AC$2005,1,①会場アンケート集計結果_省エネ住宅!$BG$6:$BG$2005,0)","v":0}]
[null,"現状維持",null,2,"内容を知っていて、興味もあった",null,null,2,"機会があれば購入・実施したい",null,null,{"$f":"COUNTIFS(①会場アンケート集計結果_省エネ住宅!R$6:R$2005,1,①会場アンケート集計結果_省エネ住宅!AB$6:AB$2005,1,①会場アンケート集計結果_省エネ住宅!$BG$6:$BG$2005,0)","v":0}]
[null,null,null,2,"内容を知っていて、興味もあった",null,null,3,"興味はあるが、購入・実施対象には入らない",null,null,{"$f":"COUNTIFS(①会場アンケート集計結果_省エネ住宅!R$6:R$2005,1,①会場アンケート集計結果_省エネ住宅!AC$6:AC$2005,1,①会場アンケート集計結果_省エネ住宅!$BG$6:$BG$2005,0)","v":0}]
[null,null,null,3,"内容は知っていたが、興味はなかった",null,null,4,"興味がない",null,null,{"$f":"COUNTIFS(①会場アンケート集計結果_省エネ住宅!S$6:S$2005,1,①会場アンケート集計結果_省エネ住宅!AD$6:AD$2005,1,①会場アンケート集計結果_省エネ住宅!$BG$6:$BG$2005,0)","v":0}]
[null,null,null,4,"知らなかった",null,null,4,"興味がない",null,null,{"$f":"COUNTIFS(①会場アンケート集計結果_省エネ住宅!T$6:T$2005,1,①会場アンケート集計結果_省エネ住宅!AD$6:AD$2005,1,①会場アンケート集計結果_省エネ住宅!$BG$6:$BG$2005,0)","v":0}]
[null,"マイナス変容",null,2,"内容を知っていて、興味もあった",null,null,4,"興味がない",null,null,{"$f":"COUNTIFS(①会場アンケート集計結果_省エネ住宅!R$6:R$2005,1,①会場アンケート集計結果_省エネ住宅!AD$6:AD$2005,1,①会場アンケート集計結果_省エネ住宅!$BG$6:$BG$2005,0)","v":0}]
[null,"<無効回答>\n回答に矛盾があるため除外",null,1,"すでに購入した／実施したことがある",null,null,2,"機会があれば購入・実施したい",null,null,{"$f":"COUNTIFS(①会場アンケート集計結果_省エネ住宅!Q$6:Q$2005,1,①会場アンケート集計結果_省エネ住宅!AB$6:AB$2005,1,①会場アンケート集計結果_省エネ住宅!$BG$6:$BG$2005,0)","v":0}]
[null,null,null,1,"すでに購入した／実施したことがある",null,null,3,"興味はあるが、購入・実施対象には入らない",null,null,{"$f":"COUNTIFS(①会場アンケート集計結果_省エネ住宅!Q$6:Q$2005,1,①会場アンケート集計結果_省エネ住宅!AC$6:AC$2005,1,①会場アンケート集計結果_省エネ住宅!$BG$6:$BG$2005,0)","v":0}]
[null,null,null,1,"すでに購入した／実施したことがある",null,null,4,"興味がない",null,null,{"$f":"COUNTIFS(①会場アンケート集計結果_省エネ住宅!Q$6:Q$2005,1,①会場アンケート集計結果_省エネ住宅!AD$6:AD$2005,1,①会場アンケート集計結果_省エネ住宅!$BG$6:$BG$2005,0)","v":0}]
[null,"＜無効回答＞\n対象外（一部未回答など）",null,99,"未回答",null,null,2,"機会があれば購入・実施したい",null,null,{"$f":"COUNTIFS(①会場アンケート集計結果_省エネ住宅!U$6:U$2005,1,①会場アンケート集計結果_省エネ住宅!AB$6:AB$2005,1,①会場アンケート集計結果_省エネ住宅!$BG$6:$BG$2005,0)","v":0}]
[null,null,null,99,"未回答",null,null,3,"興味はあるが、購入・実施対象には入らない",null,null,{"$f":"COUNTIFS(①会場アンケート集計結果_省エネ住宅!U$6:U$2005,1,①会場アンケート集計結果_省エネ住宅!AC$6:AC$2005,1,①会場アンケート集計結果_省エネ住宅!$BG$6:$BG$2005,0)","v":0}]
[null,null,null,99,"未回答",null,null,4,"興味がない",null,null,{"$f":"COUNTIFS(①会場アンケート集計結果_省エネ住宅!U$6:U$2005,1,①会場アンケート集計結果_省エネ住宅!AD$6:AD$2005,1,①会場アンケート集計結果_省エネ住宅!$BG$6:$BG$2005,0)","v":0}]
[null,null,null,99,"未回答",null,null,99,"未回答",null,null,{"$f":"COUNTIFS(①会場アンケート集計結果_省エネ住宅!U$6:U$2005,1,①会場アンケート集計結果_省エネ住宅!AE$6:AE$2005,1,①会場アンケート集計結果_省エネ住宅!$BG$6:$BG$2005,0)","v":0}]
[null,null,null,2,"内容を知っていて、興味もあった",null,null,99,"未回答",null,null,{"$f":"COUNTIFS(①会場アンケート集計結果_省エネ住宅!R$6:R$2005,1,①会場アンケート集計結果_省エネ住宅!AE$6:AE$2005,1,①会場アンケート集計結果_省エネ住宅!$BG$6:$BG$2005,0)","v":0}]
[null,null,null,3,"内容は知っていたが、興味はなかった",null,null,99,"未回答",null,null,{"$f":"COUNTIFS(①会場アンケート集計結果_省エネ住宅!S$6:S$2005,1,①会場アンケート集計結果_省エネ住宅!AE$6:AE$2005,1,①会場アンケート集計結果_省エネ住宅!$BG$6:$BG$2005,0)","v":0}]
[null,null,null,4,"知らなかった",null,null,99,"未回答",null,null,{"$f":"COUNTIFS(①会場アンケート集計結果_省エネ住宅!T$6:T$2005,1,①会場アンケート集計結果_省エネ住宅!AE$6:AE$2005,1,①会場アンケート集計結果_省エネ住宅!$BG$6:$BG$2005,0)","v":0}]
[null,null,null,null,null,null,null,null,null,null,"＜検算用＞"]
[null,null,null,null,null,null,null,null,null,null,"合計⇒",{"$f":"SUM(L138:L162)","v":0}]
[null,null,null,null,null,null,null,null,null,null,"複数回答（無効回答）⇒",{"$f":"COUNTIFS(①会場アンケート集計結果_省エネ住宅!$BG$6:$BG$2005,1)","v":0}]
[null,null,null,null,null,null,null,null,null,null,"アンケート回収数⇒",{"$f":"SUM(L164:L165)","v":0}]
[null,"断熱リフォーム"]
[null,null,null,"イベント前",null,null,null,"今後",null,null,null,"回答者数"]
[null,"行動済み",null,1,"すでに購入した／実施したことがある",null,null,1,"すでに購入した/実施したことがある",null,null,{"$f":"COUNTIFS(①会場アンケート集計結果_省エネ住宅!V$6:V$2005,1,①会場アンケート集計結果_省エネ住宅!AF$6:AF$2005,1,①会場アンケート集計結果_省エネ住宅!$BG$6:$BG$2005,0)","v":0}]
[null,null,null,1,"すでに購入した／実施したことがある",null,null,99,"未回答",null,null,{"$f":"COUNTIFS(①会場アンケート集計結果_省エネ住宅!V$6:V$2005,1,①会場アンケート集計結果_省エネ住宅!AJ$6:AJ$2005,1,①会場アンケート集計結果_省エネ住宅!$BG$6:$BG$2005,0)","v":0}]
[null,null,null,2,"内容を知っていて、興味もあった",null,null,1,"すでに購入した/実施したことがある",null,null,{"$f":"COUNTIFS(①会場アンケート集計結果_省エネ住宅!W$6:W$2005,1,①会場アンケート集計結果_省エネ住宅!AF$6:AF$2005,1,①会場アンケート集計結果_省エネ住宅!$BG$6:$BG$2005,0)","v":0}]
[null,null,null,3,"内容は知っていたが、興味はなかった",null,null,1,"すでに購入した/実施したことがある",null,null,{"$f":"COUNTIFS(①会場アンケート集計結果_省エネ住宅!X$6:X$2005,1,①会場アンケート集計結果_省エネ住宅!AF$6:AF$2005,1,①会場アンケート集計結果_省エネ住宅!$BG$6:$BG$2005,0)","v":0}]
[null,null,null,4,"知らなかった",null,null,1,"すでに購入した/実施したことがある",null,null,{"$f":"COUNTIFS(①会場アンケート集計結果_省エネ住宅!Y$6:Y$2005,1,①会場アンケート集計結果_省エネ住宅!AF$6:AF$2005,1,①会場アンケート集計結果_省エネ住宅!$BG$6:$BG$2005,0)","v":0}]
[null,null,null,99,"未回答",null,null,1,"すでに購入した/実施したことがある",null,null,{"$f":"COUNTIFS(①会場アンケート集計結果_省エネ住宅!Z$6:Z$2005,1,①会場アンケート集計結果_省エネ住宅!AF$6:AF$2005,1,①会場アンケート集計結果_省エネ住宅!$BG$6:$BG$2005,0)","v":0}]
[null,"意識変容",null,3,"内容は知っていたが、興味はなかった",null,null,2,"機会があれば購入・実施したい",null,null,{"$f":"COUNTIFS(①会場アンケート集計結果_省エネ住宅!X$6:X$2005,1,①会場アンケート集計結果_省エネ住宅!AG$6:AG$2005,1,①会場アンケート集計結果_省エネ住宅!$BG$6:$BG$2005,0)","v":0}]
[null,null,null,3,"内容は知っていたが、興味はなかった",null,null,3,"興味はあるが、購入・実施対象には入らない",null,null,{"$f":"COUNTIFS(①会場アンケート集計結果_省エネ住宅!X$6:X$2005,1,①会場アンケート集計結果_省エネ住宅!AH$6:AH$2005,1,①会場アンケート集計結果_省エネ住宅!$BG$6:$BG$2005,0)","v":0}]
[null,null,null,4,"知らなかった",null,null,2,"機会があれば購入・実施したい",null,null,{"$f":"COUNTIFS(①会場アンケート集計結果_省エネ住宅!Y$6:Y$2005,1,①会場アンケート集計結果_省エネ住宅!AG$6:AG$2005,1,①会場アンケート集計結果_省エネ住宅!$BG$6:$BG$2005,0)","v":0}]
[null,null,null,4,"知らなかった",null,null,3,"興味はあるが、購入・実施対象には入らない",null,null,{"$f":"COUNTIFS(①会場アンケート集計結果_省エネ住宅!Y$6:Y$2005,1,①会場アンケート集計結果_省エネ住宅!AH$6:AH$2005,1,①会場アンケート集計結果_省エネ住宅!$BG$6:$BG$2005,0)","v":0}]
[null,"現状維持",null,2,"内容を知っていて、興味もあった",null,null,2,"機会があれば購入・実施したい",null,null,{"$f":"COUNTIFS(①会場アンケート集計結果_省エネ住宅!W$6:W$2005,1,①会場アンケート集計結果_省エネ住宅!AG$6:AG$2005,1,①会場アンケート集計結果_省エネ住宅!$BG$6:$BG$2005,0)","v":0}]
[null,null,null,2,"内容を知っていて、興味もあった",null,null,3,"興味はあるが、購入・実施対象には入らない",null,null,{"$f":"COUNTIFS(①会場アンケート集計結果_省エネ住宅!W$6:W$2005,1,①会場アンケート集計結果_省エネ住宅!AH$6:AH$2005,1,①会場アンケート集計結果_省エネ住宅!$BG$6:$BG$2005,0)","v":0}]
[null,null,null,3,"内容は知っていたが、興味はなかった",null,null,4,"興味がない",null,null,{"$f":"COUNTIFS(①会場アンケート集計結果_省エネ住宅!X$6:X$2005,1,①会場アンケート集計結果_省エネ住宅!AI$6:AI$2005,1,①会場アンケート集計結果_省エネ住宅!$BG$6:$BG$2005,0)","v":0}]
[null,null,null,4,"知らなかった",null,null,4,"興味がない",null,null,{"$f":"COUNTIFS(①会場アンケート集計結果_省エネ住宅!Y$6:Y$2005,1,①会場アンケート集計結果_省エネ住宅!AI$6:AI$2005,1,①会場アンケート集計結果_省エネ住宅!$BG$6:$BG$2005,0)","v":0}]
[null,"マイナス変容",null,2,"内容を知っていて、興味もあった",null,null,4,"興味がない",null,null,{"$f":"COUNTIFS(①会場アンケート集計結果_省エネ住宅!W$6:W$2005,1,①会場アンケート集計結果_省エネ住宅!AI$6:AI$2005,1,①会場アンケート集計結果_省エネ住宅!$BG$6:$BG$2005,0)","v":0}]
[null,"<無効回答>\n回答に矛盾があるため除外",null,1,"すでに購入した／実施したことがある",null,null,2,"機会があれば購入・実施したい",null,null,{"$f":"COUNTIFS(①会場アンケート集計結果_省エネ住宅!V$6:V$2005,1,①会場アンケート集計結果_省エネ住宅!AG$6:AG$2005,1,①会場アンケート集計結果_省エネ住宅!$BG$6:$BG$2005,0)","v":0}]
[null,null,null,1,"すでに購入した／実施したことがある",null,null,3,"興味はあるが、購入・実施対象には入らない",null,null,{"$f":"COUNTIFS(①会場アンケート集計結果_省エネ住宅!V$6:V$2005,1,①会場アンケート集計結果_省エネ住宅!AH$6:AH$2005,1,①会場アンケート集計結果_省エネ住宅!$BG$6:$BG$2005,0)","v":0}]
[null,null,null,1,"すでに購入した／実施したことがある",null,null,4,"興味がない",null,null,{"$f":"COUNTIFS(①会場アンケート集計結果_省エネ住宅!V$6:V$2005,1,①会場アンケート集計結果_省エネ住宅!AI$6:AI$2005,1,①会場アンケート集計結果_省エネ住宅!$BG$6:$BG$2005,0)","v":0}]
[null,"＜無効回答＞\n対象外（一部未回答など）",null,99,"未回答",null,null,2,"機会があれば購入・実施したい",null,null,{"$f":"COUNTIFS(①会場アンケート集計結果_省エネ住宅!Z$6:Z$2005,1,①会場アンケート集計結果_省エネ住宅!AG$6:AG$2005,1,①会場アンケート集計結果_省エネ住宅!$BG$6:$BG$2005,0)","v":0}]
[null,null,null,99,"未回答",null,null,3,"興味はあるが、購入・実施対象には入らない",null,null,{"$f":"COUNTIFS(①会場アンケート集計結果_省エネ住宅!Z$6:Z$2005,1,①会場アンケート集計結果_省エネ住宅!AH$6:AH$2005,1,①会場アンケート集計結果_省エネ住宅!$BG$6:$BG$2005,0)","v":0}]
[null,null,null,99,"未回答",null,null,4,"興味がない",null,null,{"$f":"COUNTIFS(①会場アンケート集計結果_省エネ住宅!Z$6:Z$2005,1,①会場アンケート集計結果_省エネ住宅!AI$6:AI$2005,1,①会場アンケート集計結果_省エネ住宅!$BG$6:$BG$2005,0)","v":0}]
[null,null,null,99,"未回答",null,null,99,"未回答",null,null,{"$f":"COUNTIFS(①会場アンケート集計結果_省エネ住宅!Z$6:Z$2005,1,①会場アンケート集計結果_省エネ住宅!AJ$6:AJ$2005,1,①会場アンケート集計結果_省エネ住宅!$BG$6:$BG$2005,0)","v":0}]
[null,null,null,2,"内容を知っていて、興味もあった",null,null,99,"未回答",null,null,{"$f":"COUNTIFS(①会場アンケート集計結果_省エネ住宅!W$6:W$2005,1,①会場アンケート集計結果_省エネ住宅!AJ$6:AJ$2005,1,①会場アンケート集計結果_省エネ住宅!$BG$6:$BG$2005,0)","v":0}]
[null,null,null,3,"内容は知っていたが、興味はなかった",null,null,99,"未回答",null,null,{"$f":"COUNTIFS(①会場アンケート集計結果_省エネ住宅!X$6:X$2005,1,①会場アンケート集計結果_省エネ住宅!AJ$6:AJ$2005,1,①会場アンケート集計結果_省エネ住宅!$BG$6:$BG$2005,0)","v":0}]
[null,null,null,4,"知らなかった",null,null,99,"未回答",null,null,{"$f":"COUNTIFS(①会場アンケート集計結果_省エネ住宅!Y$6:Y$2005,1,①会場アンケート集計結果_省エネ住宅!AJ$6:AJ$2005,1,①会場アンケート集計結果_省エネ住宅!$BG$6:$BG$2005,0)","v":0}]
[null,null,null,null,null,null,null,null,null,null,"＜検算用＞"]
[null,null,null,null,null,null,null,null,null,null,"合計⇒",{"$f":"SUM(L169:L193)","v":0}]
[null,null,null,null,null,null,null,null,null,null,"複数回答（無効回答）⇒",{"$f":"COUNTIFS(①会場アンケート集計結果_省エネ住宅!$BG$6:$BG$2005,1)","v":0}]
[null,null,null,null,null,null,null,null,null,null,"アンケート回収数⇒",{"$f":"SUM(L195:L196)","v":0}]

{"sheet":"参照⇒","index":5,"n_rows":0,"n_cols":0,"rows_kept":0,"cut":false,"hidden":false,"merged":[]}

{"sheet":"③読み替え表_省エネ住宅","index":6,"n_rows":57,"n_cols":7,"rows_kept":57,"cut":false,"hidden":false,"merged":[]}
[]
[]
[null,"◆","今後3年以内の家の購入/リフォームの実施以降・予定"]
[null,null,"フラグ","読み替え"]
[null,null,1,"今後3年以内に購入・実施を予定している"]
[null,null,2,"予定はないが、いつか購入・実施したい"]
[null,null,3,"予定はなく、購入・実施意向もない"]
[null,null,99,"未回答"]
[]
[]
[]
[null,"◆","イベント前、下記の省エネ住宅について興味があったか"]
[null,null,"フラグ","読み替え"]
[null,null,1,"すでに購入した／実施したことがある"]
[null,null,2,"内容を知っていて、興味もあった"]
[null,null,3,"内容は知っていたが、興味はなかった"]
[null,null,4,"知らなかった"]
[null,null,99,"未回答"]
[]
[]
[]
[]
[null,"◆","今後、ZEHを購入/省エネリフォームを実施したいと思うか"]
[null,null,"フラグ","読み替え"]
[null,null,1,"すでに購入した/実施したことがある"]
[null,null,2,"機会があれば購入・実施したい"]
[null,null,3,"興味はあるが、購入・実施対象には入らない"]
[null,null,4,"興味がない"]
[null,null,99,"未回答"]
[]
[]
[]
[]
[]
[null,"◆","なぜ、ZEH/省エネリフォームに興味を持ったか"]
[null,null,"フラグ","読み替え"]
[null,null,1,"CO2削減に貢献するため"]
[null,null,2,"住環境が快適になるため"]
[null,null,3,"疾患のリスクの軽減が期待できるため"]
[null,null,4,"光熱費が安くなるほど経済的なメリットが期待できるため"]
[null,null,5,"その他"]
[null,null,99,"未回答"]
[]
[]
[]
[null,"◆","無効回答の定義：回答に矛盾があるため除外"]
[null,null,"Q2の回答","読み替え","Q3の回答","読み替え","エラー参照用フラグ"]
[null,null,1,"すでに購入した／実施したことがある",2,"機会があれば購入・実施したい","1/2"]
[null,null,1,"すでに購入した／実施したことがある",3,"興味はあるが、購入・実施対象には入らない","1/3"]
[null,null,1,"すでに購入した／実施したことがある",4,"興味がない","1/4"]
[null,null,99,"未回答",2,"機会があれば購入・実施したい","99/2"]
[null,null,99,"未回答",3,"興味はあるが、購入・実施対象には入らない","99/3"]
[null,null,99,"未回答",4,"興味がない","99/4"]
[null,null,99,"未回答",99,"未回答","99/99"]
[null,null,2,"内容を知っていて、興味もあった",99,"未回答","2/99"]
[null,null,3,"内容は知っていたが、興味はなかった",99,"未回答","3/99"]
[null,null,4,"知らなかった",99,"未回答","4/99"]