{"text_format":"1","workbook":"xlsx","n_sheets":7,"sheets":["入力手順","ローデータ⇒","①会場アンケート集計結果_省エネ住宅","集計結果⇒","②単純集計表 ","参照⇒","③読み替え表_省エネ住宅"],"not_rendered":{"charts":7,"images":0,"macros":1,"external_links":0,"defined_names":1,"comments":0,"pivot_tables":0},"unopened":[],"bounds":{"document_bytes":16777216,"sheet_cells":100000,"rows_first":2000,"rows_last":500,"rows_between":2000,"halvings":0,"cell_chars":16384,"cell_head_chars":4096},"cells_cut":0,"cells_raw":0,"read":"whole","date_system":"1900"}

{"sheet":"入力手順","index":0,"n_rows":37,"n_cols":5,"rows_kept":37,"cut":false,"hidden":false,"merged":[[13,4,13,11],[14,4,14,11],[15,4,15,11],[22,4,22,11],[7,3,7,11],[8,3,8,11],[9,3,9,11],[10,3,10,11],[11,3,11,11],[12,2,12,11],[32,1,32,12],[16,4,16,11],[18,2,18,11],[19,4,19,11],[20,4,20,11],[21,4,21,11],[25,3,25,11],[26,3,26,11],[27,2,27,11],[24,3,24,11]]}
[]
[null,"会場アンケート入力ツール　シート構成・入力手順--------------------------------------------"]
[null,"◆省エネ住宅"]
[]
[null,"①「会場アンケート集計結果_省エネ住宅」シート【要入力】"]
[null,"・講演会・イベント等で回収されたアンケート調査票を入力する（データ化する）ツール"]
[null,"＜手順＞"]
[null,null,"①","「会場アンケート情報」の黄色セル欄に事業者番号、PDCAシート記載の事業番号、実施日、実施場所、アンケート配布状況を記入する"]
[null,null,"②","「表示」をクリックし、入力フォームを表示させる"]
[null,null,"④","「入力行」にアンケート結果の入力を開始する行番号を入力する（添付エクセルの場合は11行目から開始）"]
[null,null,"⑤","都道府県名、事業者名、アンケートを実施したイベント名、アンケート回収日付をそれぞれの欄に記入する"]
[null,null,"⑥"," 性別・年齢は入力フォームにしたがって選択する"]
[null,null,"⑦ZEHに関連するイベントの場合"]
[null,null,null,"①","「２．住宅の購入意向・予定について」の回答と一致するものを選択する"]
[null,null,null,"②","「３．これまでの検討状況について」の回答と一致するものを選択する"]
[null,null,null,"③","「４．今後の購入意向について」の回答と一致するものを選択する"]
[null,null,null,"④","「５．購入意向の理由について」の回答と一致するものを選択する"]
[]
[null,null,"⑦断熱リフォームに関連するイベントの場合"]
[null,null,null,"①","「２．リフォームの実施意向・予定について」の回答と一致するものを選択する"]
[null,null,null,"②","「３．これまでの検討状況について」の回答と一致するものを選択する"]
[null,null,null,"③","「４．今後の実施意向について」の回答と一致するものを選択する"]
[null,null,null,"④","「５．実施意向の理由について」の回答と一致するものを選択する"]
[]
[null,null,"⑧","ZEH、断熱リフォーム両方に関連するイベントの場合は、それぞれの設問の回答を選択する"]
[null,null,"⑨","「６．追跡アンケートへのご協力のお願い（メールアドレス）」では、アンケート下部を確認し、まずメールアドレスの有無を選択する。メールアドレスの記入があった場合は、メールアドレスを記入する"]
[null,null,"⑩","すべての入力が終わったら「【データ入力】」をクリック"]
[null,null,"⑤～⑦を繰り返す"]
[]
[]
[null,"②「単純集計表」シート"]
[null,"・「会場アンケート集計結果_省エネ住宅」シートに入力されたデータを簡易的に集計したものである"]
["\n","・来場者の性別・年代別構成比、住宅購入・リフォームの意向、イベント参加前後の省エネ住宅（ZEH、断熱リフォーム）の関心度、その理由を把握可能"]
[]
[null,"③「読み替え表_省エネ住宅」シート"]
[null,"・本ファイルではアンケートの回答結果をデータ処理のため数字で代替している箇所がある"]
[null,"・その際のアンケート回答選択肢と数字の置換関係をまとめたシートである"]

{"sheet":"ローデータ⇒","index":1,"n_rows":0,"n_cols":0,"rows_kept":0,"cut":false,"hidden":false,"merged":[]}

{"sheet":"①会場アンケート集計結果_省エネ住宅","index":2,"n_rows":2011,"n_cols":68,"rows_kept":1125,"cut":true,"hidden":false,"merged":[[7,6,7,7],[8,50,9,50],[8,51,9,51],[8,52,9,52],[8,56,8,57],[8,54,8,55],[7,54,7,59],[2,5,2,7],[6,54,6,59],[6,6,6,7],[6,36,6,49],[6,50,6,52],[6,26,6,35],[6,16,6,25],[6,8,6,15]],"bounds":{"rows_first":500,"rows_last":125,"rows_between":500,"halvings":2}}
[{"$f":"COLUMN()","v":1},{"$f":"COLUMN()","v":2},{"$f":"COLUMN()","v":3},{"$f":"COLUMN()","v":4},{"$f":"COLUMN()","v":5},{"$f":"COLUMN()","v":6},{"$f":"COLUMN()","v":7},{"$f":"COLUMN()","v":8},{"$f":"COLUMN()","v":9},{"$f":"COLUMN()","v":10},{"$f":"COLUMN()","v":11},{"$f":"COLUMN()","v":12},{"$f":"COLUMN()","v":13},{"$f":"COLUMN()","v":14},{"$f":"COLUMN()","v":15},{"$f":"COLUMN()","v":16},{"$f":"COLUMN()","v":17},{"$f":"COLUMN()","v":18},{"$f":"COLUMN()","v":19},{"$f":"COLUMN()","v":20},{"$f":"COLUMN()","v":21},{"$f":"COLUMN()","v":22},{"$f":"COLUMN()","v":23},{"$f":"COLUMN()","v":24},{"$f":"COLUMN()","v":25},{"$f":"COLUMN()","v":26},{"$f":"COLUMN()","v":27},{"$f":"COLUMN()","v":28},{"$f":"COLUMN()","v":29},{"$f":"COLUMN()","v":30},{"$f":"COLUMN()","v":31},{"$f":"COLUMN()","v":32},{"$f":"COLUMN()","v":33},{"$f":"COLUMN()","v":34},{"$f":"COLUMN()","v":35},{"$f":"COLUMN()","v":36},{"$f":"COLUMN()","v":37},{"$f":"COLUMN()","v":38},{"$f":"COLUMN()","v":39},{"$f":"COLUMN()","v":40},{"$f":"COLUMN()","v":41},{"$f":"COLUMN()","v":42},{"$f":"COLUMN()","v":43},{"$f":"COLUMN()","v":44},{"$f":"COLUMN()","v":45},{"$f":"COLUMN()","v":46},{"$f":"COLUMN()","v":47},{"$f":"COLUMN()","v":48},{"$f":"COLUMN()","v":49},{"$f":"COLUMN()","v":50},{"$f":"COLUMN()","v":51},{"$f":"COLUMN()","v":52},{"$f":"COLUMN()","v":53},{"$f":"COLUMN()","v":54},{"$f":"COLUMN()","v":55},{"$f":"COLUMN()","v":56},{"$f":"COLUMN()","v":57},{"$f":"COLUMN()","v":58},{"$f":"COLUMN()","v":59},{"$f":"COLUMN()","v":60},{"$f":"COLUMN()","v":61},{"$f":"COLUMN()","v":62},{"$f":"COLUMN()","v":63},{"$f":"COLUMN()","v":64},{"$f":"COLUMN()","v":65},{"$f":"COLUMN()","v":66},{"$f":"COLUMN()","v":67},"*"]
[null,null,"【会場アンケート情報】"]
[null,null,"事業者番号","PDCAシート記載の事業番号","イベント名\n（PDCAシート記載の名称）","講演会・イベント　実施日",null,null,"実施場所","アンケート配布状況\n（どのタイミングでアンケートを実施したか）","アンケート\n回収数","ﾒｰﾙｱﾄﾞﾚｽ\n回収数"]
[null,null,null,null,{"$f":"$E$11&\"\"","v":""},"2021/XX/XX","～","2022/XX/XX",null,null,{"$f":"COUNTA($E$11:$E$1048576)","v":0},{"$f":"COUNTIF($AY$11:$AY$1048576,1)","v":0}]
[null,null,null,null,null,null,null,null,null,"↑プルダウンメニューから選択してください"]
[]
[null,null,null,null,null,null,"１．あなたご自身について",null,"２．住宅の購入/リフォームの実施意向・予定",null,null,null,null,null,null,null,"３．これまでの検討状況について",null,null,null,null,null,null,null,null,null,"４．今後の実施意向について",null,null,null,null,null,null,null,null,null,"５．購入意向の理由について",null,null,null,null,null,null,null,null,null,null,null,null,null,"６．追跡アンケートへのご協力のお願い"]
[null,null,null,null,null,null,"【設問1】",null,"【設問2】今後の家の購入/\nリフォームの実施意向・予定",null,null,null,null,null,null,null,"【設問3】イベント前、下記の省エネ住宅について\n興味があったか",null,null,null,null,null,null,null,null,null,"【設問4】今後、ZEHを購入/省エネリフォームを\n実施したいと思うか",null,null,null,null,null,null,null,null,null,"【設問5】なぜ、ZEH/省エネリフォームに\n興味を持ったか",null,null,null,null,null,null,null,null,null,null,null,"【設問4】その他記入",null,"メールアドレス",null,null,null,"作業用",null,null,null,null,null,null,null,null,null,"error",null,null,"*"]
[null,null,"事業者情報",null,"イベント情報",null,"性別・年代",null,"家の購入",null,null,null,"リフォーム実施",null,null,null,"ZEH",null,null,null,null,"断熱リフォーム",null,null,null,null,"ZEH",null,null,null,null,"断熱リフォーム",null,null,null,null,"ZEH",null,null,null,null,null,"断熱リフォーム",null,null,null,null,null,"ZEH","断熱リフォーム","記入\n有無","メールアドレス（＠より前）","ドメイン",null,"ZEH",null,"断熱リフォーム",null,"ZEH","断熱リフォーム","複数回答error","複数回答error","矛盾回答error","矛盾回答error","ZEH","断熱",null,"*"]
[null,"#","都道府県","事業者名","イベント名\n（PDCAシート記載の名称）","回収日付","性別","年代",1,2,3,99,1,2,3,99,1,2,3,4,99,1,2,3,4,99,1,2,3,4,99,1,2,3,4,99,1,2,3,4,5,99,1,2,3,4,5,99,"その他","その他",null,null,null,"特定ID","イベント前","イベント後","イベント前","イベント後","設問5対象者","設問5対象者","ZEH","断熱リフォーム","ZEH","断熱リフォーム","error","error",null,"*"]
[null,{"$f":"ROW()-10","v":1},null,null,null,null,null,null,null,null,null,null,null,null,null,null,null,null,null,null,null,null,null,null,null,null,null,null,null,null,null,null,null,null,null,null,null,null,null,null,null,null,null,null,null,null,null,null,null,null,null,null,null,null,{"$f":"IFERROR(IF(SUM($Q11:$U11)>1,\"複数回答\",INDEX($Q$10:$U$10,,MATCH(1,$Q11:$U11,0))),\"未\")","v":"未"},{"$f":"IFERROR(IF(SUM($AA11:$AE11)>1,\"複数回答\",INDEX($AA$10:$AE$10,,MATCH(1,$AA11:$AE11,0))),\"未\")","v":"未"},{"$f":"IFERROR(IF(SUM($V11:$Z11)>1,\"複数回答\",INDEX($V$10:$Z$10,,MATCH(1,$V11:$Z11,0))),\"未\")","v":"未"},{"$f":"IFERROR(IF(SUM($AF11:$AJ11)>1,\"複数回答\",INDEX($AF$10:$AJ$10,,MATCH(1,$AF11:$AJ11,0))),\"未\")","v":"未"},{"$f":"IF(OR(AA11=1,AB11=1,AC11=1),1,0)","v":0},{"$f":"IF(OR(AF11=1,AG11=1,AH11=1),1,0)","v":0},{"$f":"IF(BC11=\"複数回答\",1,IF(BD11=\"複数回答\",1,0))","v":0},{"$f":"IF(BE11=\"複数回答\",1,IF(BF11=\"複数回答\",1,0))","v":0},{"$f":"IFERROR(IF(OR(BC11=\"未\",BD11=\"未\"),1,IF(MATCH(BC11&\"/\"&BD11,③読み替え表_省エネ住宅!$G$48:$G$57,0),1,0)),0)","v":1},{"$f":"IFERROR(IF(OR(BE11=\"未\",BF11=\"未\"),1,IF(MATCH(BE11&\"/\"&BF11,③読み替え表_省エネ住宅!$G$48:$G$57,0),1,0)),0)","v":1},{"$f":"IF(BI11+BK11>0,1,0)","v":1},{"$f":"IF(BJ11+BL11>0,1,0)","v":1},{"$f":"IF(SUM(BI11:BL11)>0,1,0)","v":1},"*"]
[null,{"$f":"ROW()-10","v":2},null,null,null,null,null,null,null,null,null,null,null,null,null,null,null,null,null,null,null,null,null,null,null,null,null,null,null,null,null,null,null,null,null,null,null,null,null,null,null,null,null,null,null,null,null,null,null,null,null,null,null,null,"未","未","未","未",{"$f":"IF(OR(AA12=1,AB12=1,AC12=1),1,0)","v":0},{"$f":"IF(OR(AF12=1,AG12=1,AH12=1),1,0)","v":0},{"$f":"IF(BC12=\"複数回答\",1,IF(BD12=\"複数回答\",1,0))","v":0},{"$f":"IF(BE12=\"複数回答\",1,IF(BF12=\"複数回答\",1,0))","v":0},{"$f":"IFERROR(IF(OR(BC12=\"未\",BD12=\"未\"),1,IF(MATCH(BC12&\"/\"&BD12,③読み替え表_省エネ住宅!$G$48:$G$57,0),1,0)),0)","v":1},{"$f":"IFERROR(IF(OR(BE12=\"未\",BF12=\"未\"),1,IF(MATCH(BE12&\"/\"&BF12,③読み替え表_省エネ住宅!$G$48:$G$57,0),1,0)),0)","v":1},{"$f":"IF(BI12+BK12>0,1,0)","v":1},{"$f":"IF(BJ12+BL12>0,1,0)","v":1},{"$f":"IF(SUM(BI12:BL12)>0,1,0)","v":1},"*"]
[null,{"$f":"ROW()-10","v":3},null,null,null,null,null,null,null,null,null,null,null,null,null,null,null,null,null,null,null,null,null,null,null,null,null,null,null,null,null,null,null,null,null,null,null,null,null,null,null,null,null,null,null,null,null,null,null,null,null,null,null,null,"未","未","未","未",0,0,0,0,{"$f":"IFERROR(IF(OR(BC13=\"未\",BD13=\"未\"),1,IF(MATCH(BC13&\"/\"&BD13,③読み替え表_省エネ住宅!$G$48:$G$57,0),1,0)),0)","v":1},{"$f":"IFERROR(IF(OR(BE13=\"未\",BF13=\"未\"),1,IF(MATCH(BE13&\"/\"&BF13,③読み替え表_省エネ住宅!$G$48:$G$57,0),1,0)),0)","v":1},1,1,1,"*"]
[null,4,null,null,null,null,null,null,null,null,null,null,null,null,null,null,null,null,null,null,null,null,null,null,null,null,null,null,null,null,null,null,null,null,null,null,null,null,null,null,null,null,null,null,null,null,null,null,null,null,null,null,null,null,"未","未","未","未",0,0,0,0,{"$f":"IFERROR(IF(OR(BC14=\"未\",BD14=\"未\"),1,IF(MATCH(BC14&\"/\"&BD14,③読み替え表_省エネ住宅!$G$48:$G$57,0),1,0)),0)","v":1},{"$f":"IFERROR(IF(OR(BE14=\"未\",BF14=\"未\"),1,IF(MATCH(BE14&\"/\"&BF14,③読み替え表_省エネ住宅!$G$48:$G$57,0),1,0)),0)","v":1},1,1,1,"*"]
[null,5,null,null,null,null,null,null,null,null,null,null,null,null,null,null,null,null,null,null,null,null,null,null,null,null,null,null,null,null,null,null,null,null,null,null,null,null,null,null,null,null,null,null,null,null,null,null,null,null,null,null,null,null,"未","未","未","未",0,0,0,0,{"$f":"IFERROR(IF(OR(BC15=\"未\",BD15=\"未\"),1,IF(MATCH(BC15&\"/\"&BD15,③読み替え表_省エネ住宅!$G$48:$G$57,0),1,0)),0)","v":1},{"$f":"IFERROR(IF(OR(BE15=\"未\",BF15=\"未\"),1,IF(MATCH(BE15&\"/\"&BF15,③読み替え表_省エネ住宅!$G$48:$G$57,0),1,0)),0)","v":1},1,1,1,"*"]
[null,6,null,null,null,null,null,null,null,null,null,null,null,null,null,null,null,null,null,null,null,null,null,null,null,null,null,null,null,null,null,null,null,null,null,null,null,null,null,null,null,null,null,null,null,null,null,null,null,null,null,null,null,null,"未","未","未","未",0,0,0,0,{"$f":"IFERROR(IF(OR(BC16=\"未\",BD16=\"未\"),1,IF(MATCH(BC16&\"/\"&BD16,③読み替え表_省エネ住宅!$G$48:$G$57,0),1,0)),0)","v":1},{"$f":"IFERROR(IF(OR(BE16=\"未\",BF16=\"未\"),1,IF(MATCH(BE16&\"/\"&BF16,③読み替え表_省エネ住宅!$G$48:$G$57,0),1,0)),0)","v":1},1,1,1,"*"]
[null,7,null,null,null,null,null,null,null,null,null,null,null,null,null,null,null,null,null,null,null,null,null,null,null,null,null,null,null,null,null,null,null,null,null,null,null,null,null,null,null,null,null,null,null,null,null,null,null,null,null,null,null,null,"未","未","未","未",0,0,0,0,{"$f":"IFERROR(IF(OR(BC17=\"未\",BD17=\"未\"),1,IF(MATCH(BC17&\"/\"&BD17,③読み替え表_省エネ住宅!$G$48:$G$57,0),1,0)),0)","v":1},{"$f":"IFERROR(IF(OR(BE17=\"未\",BF17=\"未\"),1,IF(MATCH(BE17&\"/\"&BF17,③読み替え表_省エネ住宅!$G$48:$G$57,0),1,0)),0)","v":1},1,1,1,"*"]
[null,8,null,null,null,null,null,null,null,null,null,null,null,null,null,null,null,null,null,null,null,null,null,null,null,null,null,null,null,null,null,null,null,null,null,null,null,null,null,null,null,null,null,null,null,null,null,null,null,null,null,null,null,null,"未","未","未","未",0,0,0,0,{"$f":"IFERROR(IF(OR(BC18=\"未\",BD18=\"未\"),1,IF(MATCH(BC18&\"/\"&BD18,③読み替え表_省エネ住宅!$G$48:$G$57,0),1,0)),0)","v":1},{"$f":"IFERROR(IF(OR(BE18=\"未\",BF18=\"未\"),1,IF(MATCH(BE18&\"/\"&BF18,③読み替え表_省エネ住宅!$G$48:$G$57,0),1,0)),0)","v":1},1,1,1,"*"]
[null,9,null,null,null,null,null,null,null,null,null,null,null,null,null,null,null,null,null,null,null,null,null,null,null,null,null,null,null,null,null,null,null,null,null,null,null,null,null,null,null,null,null,null,null,null,null,null,null,null,null,null,null,null,"未","未","未","未",0,0,0,0,{"$f":"IFERROR(IF(OR(BC19=\"未\",BD19=\"未\"),1,IF(MATCH(BC19&\"/\"&BD19,③読み替え表_省エネ住宅!$G$48:$G$57,0),1,0)),0)","v":1},{"$f":"IFERROR(IF(OR(BE19=\"未\",BF19=\"未\"),1,IF(MATCH(BE19&\"/\"&BF19,③読み替え表_省エネ住宅!$G$48:$G$57,0),1,0)),0)","v":1},1,1,1,"*"]
[null,10,null,null,null,null,null,null,null,null,null,null,null,null,null,null,null,null,null,null,null,null,null,null,null,null,null,null,null,null,null,null,null,null,null,null,null,null,null,null,null,null,null,null,null,null,null,null,null,null,null,null,null,null,"未","未","未","未",0,0,0,0,{"$f":"IFERROR(IF(OR(BC20=\"未\",BD20=\"未\"),1,IF(MATCH(BC20&\"/\"&BD20,③読み替え表_省エネ住宅!$G$48:$G$57,0),1,0)),0)","v":1},{"$f":"IFERROR(IF(OR(BE20=\"未\",BF20=\"未\"),1,IF(MATCH(BE20&\"/\"&BF20,③読み替え表_省エネ住宅!$G$48:$G$57,0),1,0)),0)","v":1},1,1,1,"*"]
[null,11,null,null,null,null,null,null,null,null,null,null,null,null,null,null,null,null,null,null,null,null,null,null,null,null,null,null,null,null,null,null,null,null,null,null,null,null,null,null,null,null,null,null,null,null,null,null,null,null,null,null,null,null,"未","未","未","未",0,0,0,0,{"$f":"IFERROR(IF(OR(BC21=\"未\",BD21=\"未\"),1,IF(MATCH(BC21&\"/\"&BD21,③読み替え表_省エネ住宅!$G$48:$G$57,0),1,0)),0)","v":1},{"$f":"IFERROR(IF(OR(BE21=\"未\",BF21=\"未\"),1,IF(MATCH(BE21&\"/\"&BF21,③読み替え表_省エネ住宅!$G$48:$G$57,0),1,0)),0)","v":1},1,1,1,"*"]
[null,12,null,null,null,null,null,null,null,null,null,null,null,null,null,null,null,null,null,null,null,null,null,null,null,null,null,null,null,null,null,null,null,null,null,null,null,null,null,null,null,null,null,null,null,null,null,null,null,null,null,null,null,null,"未","未","未","未",0,0,0,0,{"$f":"IFERROR(IF(OR(BC22=\"未\",BD22=\"未\"),1,IF(MATCH(BC22&\"/\"&BD22,③読み替え表_省エネ住宅!$G$48:$G$57,0),1,0)),0)","v":1},{"$f":"IFERROR(IF(OR(BE22=\"未\",BF22=\"未\"),1,IF(MATCH(BE22&\"/\"&BF22,③読み替え表_省エネ住宅!$G$48:$G$57,0),1,0)),0)","v":1},1,1,1,"*"]
[null,13,null,null,null,null,null,null,null,null,null,null,null,null,null,null,null,null,null,null,null,null,null,null,null,null,null,null,null,null,null,null,null,null,null,null,null,null,null,null,null,null,null,null,null,null,null,null,null,null,null,null,null,null,"未","未","未","未",0,0,0,0,{"$f":"IFERROR(IF(OR(BC23=\"未\",BD23=\"未\"),1,IF(MATCH(BC23&\"/\"&BD23,③読み替え表_省エネ住宅!$G$48:$G$57,0),1,0)),0)","v":1},{"$f":"IFERROR(IF(OR(BE23=\"未\",BF23=\"未\"),1,IF(MATCH(BE23&\"/\"&BF23,③読み替え表_省エネ住宅!$G$48:$G$57,0),1,0)),0)","v":1},1,1,1,"*"]
[null,14,null,null,null,null,null,null,null,null,null,null,null,null,null,null,null,null,null,null,null,null,null,null,null,null,null,null,null,null,null,null,null,null,null,null,null,null,null,null,null,null,null,null,null,null,null,null,null,null,null,null,null,null,"未","未","未","未",0,0,0,0,{"$f":"IFERROR(IF(OR(BC24=\"未\",BD24=\"未\"),1,IF(MATCH(BC24&\"/\"&BD24,③読み替え表_省エネ住宅!$G$48:$G$57,0),1,0)),0)","v":1},{"$f":"IFERROR(IF(OR(BE24=\"未\",BF24=\"未\"),1,IF(MATCH(BE24&\"/\"&BF24,③読み替え表_省エネ住宅!$G$48:$G$57,0),1,0)),0)","v":1},1,1,1,"*"]
[null,15,null,null,null,null,null,null,null,null,null,null,null,null,null,null,null,null,null,null,null,null,null,null,null,null,null,null,null,null,null,null,null,null,null,null,null,null,null,null,null,null,null,null,null,null,null,null,null,null,null,null,null,null,"未","未","未","未",0,0,0,0,{"$f":"IFERROR(IF(OR(BC25=\"未\",BD25=\"未\"),1,IF(MATCH(BC25&\"/\"&BD25,③読み替え表_省エネ住宅!$G$48:$G$57,0),1,0)),0)","v":1},{"$f":"IFERROR(IF(OR(BE25=\"未\",BF25=\"未\"),1,IF(MATCH(BE25&\"/\"&BF25,③読み替え表_省エネ住宅!$G$48:$G$57,0),1,0)),0)","v":1},1,1,1,"*"]
[null,16,null,null,null,null,null,null,null,null,null,null,null,null,null,null,null,null,null,null,null,null,null,null,null,null,null,null,null,null,null,null,null,null,null,null,null,null,null,null,null,null,null,null,null,null,null,null,null,null,null,null,null,null,"未","未","未","未",0,0,0,0,{"$f":"IFERROR(IF(OR(BC26=\"未\",BD26=\"未\"),1,IF(MATCH(BC26&\"/\"&BD26,③読み替え表_省エネ住宅!$G$48:$G$57,0),1,0)),0)","v":1},{"$f":"IFERROR(IF(OR(BE26=\"未\",BF26=\"未\"),1,IF(MATCH(BE26&\"/\"&BF26,③読み替え表_省エネ住宅!$G$48:$G$57,0),1,0)),0)","v":1},1,1,1,"*"]
[null,17,null,null,null,null,null,null,null,null,null,null,null,null,null,null,null,null,null,null,null,null,null,null,null,null,null,null,null,null,null,null,null,null,null,null,null,null,null,null,null,null,null,null,null,null,null,null,null,null,null,null,null,null,"未","未","未","未",0,0,0,0,{"$f":"IFERROR(IF(OR(BC27=\"未\",BD27=\"未\"),1,IF(MATCH(BC27&\"/\"&BD27,③読み替え表_省エネ住宅!$G$48:$G$57,0),1,0)),0)","v":1},{"$f":"IFERROR(IF(OR(BE27=\"未\",BF27=\"未\"),1,IF(MATCH(BE27&\"/\"&BF27,③読み替え表_省エネ住宅!$G$48:$G$57,0),1,0)),0)","v":1},1,1,1,"*"]
[null,18,null,null,null,null,null,null,null,null,null,null,null,null,null,null,null,null,null,null,null,null,null,null,null,null,null,null,null,null,null,null,null,null,null,null,null,null,null,null,null,null,null,null,null,null,null,null,null,null,null,null,null,null,"未","未","未","未",0,0,0,0,{"$f":"IFERROR(IF(OR(BC28=\"未\",BD28=\"未\"),1,IF(MATCH(BC28&\"/\"&BD28,③読み替え表_省エネ住宅!$G$48:$G$57,0),1,0)),0)","v":1},{"$f":"IFERROR(IF(OR(BE28=\"未\",BF28=\"未\"),1,IF(MATCH(BE28&\"/\"&BF28,③読み替え表_省エネ住宅!$G$48:$G$57,0),1,0)),0)","v":1},1,1,1,"*"]
[null,19,null,null,null,null,null,null,null,null,null,null,null,null,null,null,null,null,null,null,null,null,null,null,null,null,null,null,null,null,null,null,null,null,null,null,null,null,null,null,null,null,null,null,null,null,null,null,null,null,null,null,null,null,"未","未","未","未",0,0,0,0,{"$f":"IFERROR(IF(OR(BC29=\"未\",BD29=\"未\"),1,IF(MATCH(BC29&\"/\"&BD29,③読み替え表_省エネ住宅!$G$48:$G$57,0),1,0)),0)","v":1},{"$f":"IFERROR(IF(OR(BE29=\"未\",BF29=\"未\"),1,IF(MATCH(BE29&\"/\"&BF29,③読み替え表_省エネ住宅!$G$48:$G$57,0),1,0)),0)","v":1},1,1,1,"*"]
[null,20,null,null,null,null,null,null,null,null,null,null,null,null,null,null,null,null,null,null,null,null,null,null,null,null,null,null,null,null,null,null,null,null,null,null,null,null,null,null,null,null,null,null,null,null,null,null,null,null,null,null,null,null,"未","未","未","未",0,0,0,0,{"$f":"IFERROR(IF(OR(BC30=\"未\",BD30=\"未\"),1,IF(MATCH(BC30&\"/\"&BD30,③読み替え表_省エネ住宅!$G$48:$G$57,0),1,0)),0)","v":1},{"$f":"IFERROR(IF(OR(BE30=\"未\",BF30=\"未\"),1,IF(MATCH(BE30&\"/\"&BF30,③読み替え表_省エネ住宅!$G$48:$G$57,0),1,0)),0)","v":1},1,1,1,"*"]
[null,21,null,null,null,null,null,null,null,null,null,null,null,null,null,null,null,null,null,null,null,null,null,null,null,null,null,null,null,null,null,null,null,null,null,null,null,null,null,null,null,null,null,null,null,null,null,null,null,null,null,null,null,null,"未","未","未","未",0,0,0,0,{"$f":"IFERROR(IF(OR(BC31=\"未\",BD31=\"未\"),1,IF(MATCH(BC31&\"/\"&BD31,③読み替え表_省エネ住宅!$G$48:$G$57,0),1,0)),0)","v":1},{"$f":"IFERROR(IF(OR(BE31=\"未\",BF31=\"未\"),1,IF(MATCH(BE31&\"/\"&BF31,③読み替え表_省エネ住宅!$G$48:$G$57,0),1,0)),0)","v":1},1,1,1,"*"]
[null,22,null,null,null,null,null,null,null,null,null,null,null,null,null,null,null,null,null,null,null,null,null,null,null,null,null,null,null,null,null,null,null,null,null,null,null,null,null,null,null,null,null,null,null,null,null,null,null,null,null,null,null,null,"未","未","未","未",0,0,0,0,{"$f":"IFERROR(IF(OR(BC32=\"未\",BD32=\"未\"),1,IF(MATCH(BC32&\"/\"&BD32,③読み替え表_省エネ住宅!$G$48:$G$57,0),1,0)),0)","v":1},{"$f":"IFERROR(IF(OR(BE32=\"未\",BF32=\"未\"),1,IF(MATCH(BE32&\"/\"&BF32,③読み替え表_省エネ住宅!$G$48:$G$57,0),1,0)),0)","v":1},1,1,1,"*"]
[null,23,null,null,null,null,null,null,null,null,null,null,null,null,null,null,null,null,null,null,null,null,null,null,null,null,null,null,null,null,null,null,null,null,null,null,null,null,null,null,null,null,null,null,null,null,null,null,null,null,null,null,null,null,"未","未","未","未",0,0,0,0,{"$f":"IFERROR(IF(OR(BC33=\"未\",BD33=\"未\"),1,IF(MATCH(BC33&\"/\"&BD33,③読み替え表_省エネ住宅!$G$48:$G$57,0),1,0)),0)","v":1},{"$f":"IFERROR(IF(OR(BE33=\"未\",BF33=\"未\"),1,IF(MATCH(BE33&\"/\"&BF33,③読み替え表_省エネ住宅!$G$48:$G$57,0),1,0)),0)","v":1},1,1,1,"*"]
[null,24,null,null,null,null,null,null,null,null,null,null,null,null,null,null,null,null,null,null,null,null,null,null,null,null,null,null,null,null,null,null,null,null,null,null,null,null,null,null,null,null,null,null,null,null,null,null,null,null,null,null,null,null,"未","未","未","未",0,0,0,0,{"$f":"IFERROR(IF(OR(BC34=\"未\",BD34=\"未\"),1,IF(MATCH(BC34&\"/\"&BD34,③読み替え表_省エネ住宅!$G$48:$G$57,0),1,0)),0)","v":1},{"$f":"IFERROR(IF(OR(BE34=\"未\",BF34=\"未\"),1,IF(MATCH(BE34&\"/\"&BF34,③読み替え表_省エネ住宅!$G$48:$G$57,0),1,0)),0)","v":1},1,1,1,"*"]
[null,25,null,null,null,null,null,null,null,null,null,null,null,null,null,null,null,null,null,null,null,null,null,null,null,null,null,null,null,null,null,null,null,null,null,null,null,null,null,null,null,null,null,null,null,null,null,null,null,null,null,null,null,null,"未","未","未","未",0,0,0,0,{"$f":"IFERROR(IF(OR(BC35=\"未\",BD35=\"未\"),1,IF(MATCH(BC35&\"/\"&BD35,③読み替え表_省エネ住宅!$G$48:$G$57,0),1,0)),0)","v":1},{"$f":"IFERROR(IF(OR(BE35=\"未\",BF35=\"未\"),1,IF(MATCH(BE35&\"/\"&BF35,③読み替え表_省エネ住宅!$G$48:$G$57,0),1,0)),0)","v":1},1,1,1,"*"]
[null,26,null,null,null,null,null,null,null,null,null,null,null,null,null,null,null,null,null,null,null,null,null,null,null,null,null,null,null,null,null,null,null,null,null,null,null,null,null,null,null,null,null,null,null,null,null,null,null,null,null,null,null,null,"未","未","未","未",0,0,0,0,{"$f":"IFERROR(IF(OR(BC36=\"未\",BD36=\"未\"),1,IF(MATCH(BC36&\"/\"&BD36,③読み替え表_省エネ住宅!$G$48:$G$57,0),1,0)),0)","v":1},{"$f":"IFERROR(IF(OR(BE36=\"未\",BF36=\"未\"),1,IF(MATCH(BE36&\"/\"&BF36,③読み替え表_省エネ住宅!$G$48:$G$57,0),1,0)),0)","v":1},1,1,1,"*"]
[null,27,null,null,null,null,null,null,null,null,null,null,null,null,null,null,null,null,null,null,null,null,null,null,null,null,null,null,null,null,null,null,null,null,null,null,null,null,null,null,null,null,null,null,null,null,null,null,null,null,null,null,null,null,"未","未","未","未",0,0,0,0,{"$f":"IFERROR(IF(OR(BC37=\"未\",BD37=\"未\"),1,IF(MATCH(BC37&\"/\"&BD37,③読み替え表_省エネ住宅!$G$48:$G$57,0),1,0)),0)","v":1},{"$f":"IFERROR(IF(OR(BE37=\"未\",BF37=\"未\"),1,IF(MATCH(BE37&\"/\"&BF37,③読み替え表_省エネ住宅!$G$48:$G$57,0),1,0)),0)","v":1},1,1,1,"*"]
[null,28,null,null,null,null,null,null,null,null,null,null,null,null,null,null,null,null,null,null,null,null,null,null,null,null,null,null,null,null,null,null,null,null,null,null,null,null,null,null,null,null,null,null,null,null,null,null,null,null,null,null,null,null,"未","未","未","未",0,0,0,0,{"$f":"IFERROR(IF(OR(BC38=\"未\",BD38=\"未\"),1,IF(MATCH(BC38&\"/\"&BD38,③読み替え表_省エネ住宅!$G$48:$G$57,0),1,0)),0)","v":1},{"$f":"IFERROR(IF(OR(BE38=\"未\",BF38=\"未\"),1,IF(MATCH(BE38&\"/\"&BF38,③読み替え表_省エネ住宅!$G$48:$G$57,0),1,0)),0)","v":1},1,1,1,"*"]
[null,29,null,null,null,null,null,null,null,null,null,null,null,null,null,null,null,null,null,null,null,null,null,null,null,null,null,null,null,null,null,null,null,null,null,null,null,null,null,null,null,null,null,null,null,null,null,null,null,null,null,null,null,null,"未","未","未","未",0,0,0,0,{"$f":"IFERROR(IF(OR(BC39=\"未\",BD39=\"未\"),1,IF(MATCH(BC39&\"/\"&BD39,③読み替え表_省エネ住宅!$G$48:$G$57,0),1,0)),0)","v":1},{"$f":"IFERROR(IF(OR(BE39=\"未\",BF39=\"未\"),1,IF(MATCH(BE39&\"/\"&BF39,③読み替え表_省エネ住宅!$G$48:$G$57,0),1,0)),0)","v":1},1,1,1,"*"]
[null,30,null,null,null,null,null,null,null,null,null,null,null,null,null,null,null,null,null,null,null,null,null,null,null,null,null,null,null,null,null,null,null,null,null,null,null,null,null,null,null,null,null,null,null,null,null,null,null,null,null,null,null,null,"未","未","未","未",0,0,0,0,{"$f":"IFERROR(IF(OR(BC40=\"未\",BD40=\"未\"),1,IF(MATCH(BC40&\"/\"&BD40,③読み替え表_省エネ住宅!$G$48:$G$57,0),1,0)),0)","v":1},{"$f":"IFERROR(IF(OR(BE40=\"未\",BF40=\"未\"),1,IF(MATCH(BE40&\"/\"&BF40,③読み替え表_省エネ住宅!$G$48:$G$57,0),1,0)),0)","v":1},1,1,1,"*"]
[null,31,null,null,null,null,null,null,null,null,null,null,null,null,null,null,null,null,null,null,null,null,null,null,null,null,null,null,null,null,null,null,null,null,null,null,null,null,null,null,null,null,null,null,null,null,null,null,null,null,null,null,null,null,"未","未","未","未",0,0,0,0,{"$f":"IFERROR(IF(OR(BC41=\"未\",BD41=\"未\"),1,IF(MATCH(BC41&\"/\"&BD41,③読み替え表_省エネ住宅!$G$48:$G$57,0),1,0)),0)","v":1},{"$f":"IFERROR(IF(OR(BE41=\"未\",BF41=\"未\"),1,IF(MATCH(BE41&\"/\"&BF41,③読み替え表_省エネ住宅!$G$48:$G$57,0),1,0)),0)","v":1},1,1,1,"*"]
[null,32,null,null,null,null,null,null,null,null,null,null,null,null,null,null,null,null,null,null,null,null,null,null,null,null,null,null,null,null,null,null,null,null,null,null,null,null,null,null,null,null,null,null,null,null,null,null,null,null,null,null,null,null,"未","未","未","未",0,0,0,0,{"$f":"IFERROR(IF(OR(BC42=\"未\",BD42=\"未\"),1,IF(MATCH(BC42&\"/\"&BD42,③読み替え表_省エネ住宅!$G$48:$G$57,0),1,0)),0)","v":1},{"$f":"IFERROR(IF(OR(BE42=\"未\",BF42=\"未\"),1,IF(MATCH(BE42&\"/\"&BF42,③読み替え表_省エネ住宅!$G$48:$G$57,0),1,0)),0)","v":1},1,1,1,"*"]
[null,33,null,null,null,null,null,null,null,null,null,null,null,null,null,null,null,null,null,null,null,null,null,null,null,null,null,null,null,null,null,null,null,null,null,null,null,null,null,null,null,null,null,null,null,null,null,null,null,null,null,null,null,null,"未","未","未","未",0,0,{"$f":"IF(BC43=\"複数回答\",1,IF(BD43=\"複数回答\",1,0))","v":0},{"$f":"IF(BE43=\"複数回答\",1,IF(BF43=\"複数回答\",1,0))","v":0},{"$f":"IFERROR(IF(OR(BC43=\"未\",BD43=\"未\"),1,IF(MATCH(BC43&\"/\"&BD43,③読み替え表_省エネ住宅!$G$48:$G$57,0),1,0)),0)","v":1},{"$f":"IFERROR(IF(OR(BE43=\"未\",BF43=\"未\"),1,IF(MATCH(BE43&\"/\"&BF43,③読み替え表_省エネ住宅!$G$48:$G$57,0),1,0)),0)","v":1},1,1,1,"*"]
[null,34,null,null,null,null,null,null,null,null,null,null,null,null,null,null,null,null,null,null,null,null,null,null,null,null,null,null,null,null,null,null,null,null,null,null,null,null,null,null,null,null,null,null,null,null,null,null,null,null,null,null,null,null,"未","未","未","未",0,0,0,0,{"$f":"IFERROR(IF(OR(BC44=\"未\",BD44=\"未\"),1,IF(MATCH(BC44&\"/\"&BD44,③読み替え表_省エネ住宅!$G$48:$G$57,0),1,0)),0)","v":1},{"$f":"IFERROR(IF(OR(BE44=\"未\",BF44=\"未\"),1,IF(MATCH(BE44&\"/\"&BF44,③読み替え表_省エネ住宅!$G$48:$G$57,0),1,0)),0)","v":1},1,1,1,"*"]
[null,35,null,null,null,null,null,null,null,null,null,null,null,null,null,null,null,null,null,null,null,null,null,null,null,null,null,null,null,null,null,null,null,null,null,null,null,null,null,null,null,null,null,null,null,null,null,null,null,null,null,null,null,null,"未","未","未","未",0,0,0,0,{"$f":"IFERROR(IF(OR(BC45=\"未\",BD45=\"未\"),1,IF(MATCH(BC45&\"/\"&BD45,③読み替え表_省エネ住宅!$G$48:$G$57,0),1,0)),0)","v":1},{"$f":"IFERROR(IF(OR(BE45=\"未\",BF45=\"未\"),1,IF(MATCH(BE45&\"/\"&BF45,③読み替え表_省エネ住宅!$G$48:$G$57,0),1,0)),0)","v":1},1,1,1,"*"]
[null,36,null,null,null,null,null,null,null,null,null,null,null,null,null,null,null,null,null,null,null,null,null,null,null,null,null,null,null,null,null,null,null,null,null,null,null,null,null,null,null,null,null,null,null,null,null,null,null,null,null,null,null,null,"未","未","未","未",0,0,0,0,{"$f":"IFERROR(IF(OR(BC46=\"未\",BD46=\"未\"),1,IF(MATCH(BC46&\"/\"&BD46,③読み替え表_省エネ住宅!$G$48:$G$57,0),1,0)),0)","v":1},{"$f":"IFERROR(IF(OR(BE46=\"未\",BF46=\"未\"),1,IF(MATCH(BE46&\"/\"&BF46,③読み替え表_省エネ住宅!$G$48:$G$57,0),1,0)),0)","v":1},1,1,1,"*"]
[null,37,null,null,null,null,null,null,null,null,null,null,null,null,null,null,null,null,null,null,null,null,null,null,null,null,null,null,null,null,null,null,null,null,null,null,null,null,null,null,null,null,null,null,null,null,null,null,null,null,null,null,null,null,"未","未","未","未",0,0,0,0,{"$f":"IFERROR(IF(OR(BC47=\"未\",BD47=\"未\"),1,IF(MATCH(BC47&\"/\"&BD47,③読み替え表_省エネ住宅!$G$48:$G$57,0),1,0)),0)","v":1},{"$f":"IFERROR(IF(OR(BE47=\"未\",BF47=\"未\"),1,IF(MATCH(BE47&\"/\"&BF47,③読み替え表_省エネ住宅!$G$48:$G$57,0),1,0)),0)","v":1},1,1,1,"*"]
[null,38,null,null,null,null,null,null,null,null,null,null,null,null,null,null,null,null,null,null,null,null,null,null,null,null,null,null,null,null,null,null,null,null,null,null,null,null,null,null,null,null,null,null,null,null,null,null,null,null,null,null,null,null,"未","未","未","未",0,0,0,0,{"$f":"IFERROR(IF(OR(BC48=\"未\",BD48=\"未\"),1,IF(MATCH(BC48&\"/\"&BD48,③読み替え表_省エネ住宅!$G$48:$G$57,0),1,0)),0)","v":1},{"$f":"IFERROR(IF(OR(BE48=\"未\",BF48=\"未\"),1,IF(MATCH(BE48&\"/\"&BF48,③読み替え表_省エネ住宅!$G$48:$G$57,0),1,0)),0)","v":1},1,1,1,"*"]
[null,39,null,null,null,null,null,null,null,null,null,null,null,null,null,null,null,null,null,null,null,null,null,null,null,null,null,null,null,null,null,null,null,null,null,null,null,null,null,null,null,null,null,null,null,null,null,null,null,null,null,null,null,null,"未","未","未","未",0,0,0,0,{"$f":"IFERROR(IF(OR(BC49=\"未\",BD49=\"未\"),1,IF(MATCH(BC49&\"/\"&BD49,③読み替え表_省エネ住宅!$G$48:$G$57,0),1,0)),0)","v":1},{"$f":"IFERROR(IF(OR(BE49=\"未\",BF49=\"未\"),1,IF(MATCH(BE49&\"/\"&BF49,③読み替え表_省エネ住宅!$G$48:$G$57,0),1,0)),0)","v":1},1,1,1,"*"]
[null,40,null,null,null,null,null,null,null,null,null,null,null,null,null,null,null,null,null,null,null,null,null,null,null,null,null,null,null,null,null,null,null,null,null,null,null,null,null,null,null,null,null,null,null,null,null,null,null,null,null,null,null,null,"未","未","未","未",0,0,0,0,{"$f":"IFERROR(IF(OR(BC50=\"未\",BD50=\"未\"),1,IF(MATCH(BC50&\"/\"&BD50,③読み替え表_省エネ住宅!$G$48:$G$57,0),1,0)),0)","v":1},{"$f":"IFERROR(IF(OR(BE50=\"未\",BF50=\"未\"),1,IF(MATCH(BE50&\"/\"&BF50,③読み替え表_省エネ住宅!$G$48:$G$57,0),1,0)),0)","v":1},1,1,1,"*"]
[null,41,null,null,null,null,null,null,null,null,null,null,null,null,null,null,null,null,null,null,null,null,null,null,null,null,null,null,null,null,null,null,null,null,null,null,null,null,null,null,null,null,null,null,null,null,null,null,null,null,null,null,null,null,"未","未","未","未",0,0,0,0,{"$f":"IFERROR(IF(OR(BC51=\"未\",BD51=\"未\"),1,IF(MATCH(BC51&\"/\"&BD51,③読み替え表_省エネ住宅!$G$48:$G$57,0),1,0)),0)","v":1},{"$f":"IFERROR(IF(OR(BE51=\"未\",BF51=\"未\"),1,IF(MATCH(BE51&\"/\"&BF51,③読み替え表_省エネ住宅!$G$48:$G$57,0),1,0)),0)","v":1},1,1,1,"*"]
[null,42,null,null,null,null,null,null,null,null,null,null,null,null,null,null,null,null,null,null,null,null,null,null,null,null,null,null,null,null,null,null,null,null,null,null,null,null,null,null,null,null,null,null,null,null,null,null,null,null,null,null,null,null,"未","未","未","未",0,0,0,0,{"$f":"IFERROR(IF(OR(BC52=\"未\",BD52=\"未\"),1,IF(MATCH(BC52&\"/\"&BD52,③読み替え表_省エネ住宅!$G$48:$G$57,0),1,0)),0)","v":1},{"$f":"IFERROR(IF(OR(BE52=\"未\",BF52=\"未\"),1,IF(MATCH(BE52&\"/\"&BF52,③読み替え表_省エネ住宅!$G$48:$G$57,0),1,0)),0)","v":1},1,1,1,"*"]
[null,43,null,null,null,null,null,null,null,null,null,null,null,null,null,null,null,null,null,null,null,null,null,null,null,null,null,null,null,null,null,null,null,null,null,null,null,null,null,null,null,null,null,null,null,null,null,null,null,null,null,null,null,null,"未","未","未","未",0,0,0,0,{"$f":"IFERROR(IF(OR(BC53=\"未\",BD53=\"未\"),1,IF(MATCH(BC53&\"/\"&BD53,③読み替え表_省エネ住宅!$G$48:$G$57,0),1,0)),0)","v":1},{"$f":"IFERROR(IF(OR(BE53=\"未\",BF53=\"未\"),1,IF(MATCH(BE53&\"/\"&BF53,③読み替え表_省エネ住宅!$G$48:$G$57,0),1,0)),0)","v":1},1,1,1,"*"]
[null,44,null,null,null,null,null,null,null,null,null,null,null,null,null,null,null,null,null,null,null,null,null,null,null,null,null,null,null,null,null,null,null,null,null,null,null,null,null,null,null,null,null,null,null,null,null,null,null,null,null,null,null,null,"未","未","未","未",0,0,0,0,{"$f":"IFERROR(IF(OR(BC54=\"未\",BD54=\"未\"),1,IF(MATCH(BC54&\"/\"&BD54,③読み替え表_省エネ住宅!$G$48:$G$57,0),1,0)),0)","v":1},{"$f":"IFERROR(IF(OR(BE54=\"未\",BF54=\"未\"),1,IF(MATCH(BE54&\"/\"&BF54,③読み替え表_省エネ住宅!$G$48:$G$57,0),1,0)),0)","v":1},1,1,1,"*"]
[null,45,null,null,null,null,null,null,null,null,null,null,null,null,null,null,null,null,null,null,null,null,null,null,null,null,null,null,null,null,null,null,null,null,null,null,null,null,null,null,null,null,null,null,null,null,null,null,null,null,null,null,null,null,"未","未","未","未",0,0,0,0,{"$f":"IFERROR(IF(OR(BC55=\"未\",BD55=\"未\"),1,IF(MATCH(BC55&\"/\"&BD55,③読み替え表_省エネ住宅!$G$48:$G$57,0),1,0)),0)","v":1},{"$f":"IFERROR(IF(OR(BE55=\"未\",BF55=\"未\"),1,IF(MATCH(BE55&\"/\"&BF55,③読み替え表_省エネ住宅!$G$48:$G$57,0),1,0)),0)","v":1},1,1,1,"*"]
[null,46,null,null,null,null,null,null,null,null,null,null,null,null,null,null,null,null,null,null,null,null,null,null,null,null,null,null,null,null,null,null,null,null,null,null,null,null,null,null,null,null,null,null,null,null,null,null,null,null,null,null,null,null,"未","未","未","未",0,0,0,0,{"$f":"IFERROR(IF(OR(BC56=\"未\",BD56=\"未\"),1,IF(MATCH(BC56&\"/\"&BD56,③読み替え表_省エネ住宅!$G$48:$G$57,0),1,0)),0)","v":1},{"$f":"IFERROR(IF(OR(BE56=\"未\",BF56=\"未\"),1,IF(MATCH(BE56&\"/\"&BF56,③読み替え表_省エネ住宅!$G$48:$G$57,0),1,0)),0)","v":1},1,1,1,"*"]
[null,47,null,null,null,null,null,null,null,null,null,null,null,null,null,null,null,null,null,null,null,null,null,null,null,null,null,null,null,null,null,null,null,null,null,null,null,null,null,null,null,null,null,null,null,null,null,null,null,null,null,null,null,null,"未","未","未","未",0,0,0,0,{"$f":"IFERROR(IF(OR(BC57=\"未\",BD57=\"未\"),1,IF(MATCH(BC57&\"/\"&BD57,③読み替え表_省エネ住宅!$G$48:$G$57,0),1,0)),0)","v":1},{"$f":"IFERROR(IF(OR(BE57=\"未\",BF57=\"未\"),1,IF(MATCH(BE57&\"/\"&BF57,③読み替え表_省エネ住宅!$G$48:$G$57,0),1,0)),0)","v":1},1,1,1,"*"]
[null,48,null,null,null,null,null,null,null,null,null,null,null,null,null,null,null,null,null,null,null,null,null,null,null,null,null,null,null,null,null,null,null,null,null,null,null,null,null,null,null,null,null,null,null,null,null,null,null,null,null,null,null,null,"未","未","未","未",0,0,0,0,{"$f":"IFERROR(IF(OR(BC58=\"未\",BD58=\"未\"),1,IF(MATCH(BC58&\"/\"&BD58,③読み替え表_省エネ住宅!$G$48:$G$57,0),1,0)),0)","v":1},{"$f":"IFERROR(IF(OR(BE58=\"未\",BF58=\"未\"),1,IF(MATCH(BE58&\"/\"&BF58,③読み替え表_省エネ住宅!$G$48:$G$57,0),1,0)),0)","v":1},1,1,1,"*"]
[null,49,null,null,null,null,null,null,null,null,null,null,null,null,null,null,null,null,null,null,null,null,null,null,null,null,null,null,null,null,null,null,null,null,null,null,null,null,null,null,null,null,null,null,null,null,null,null,null,null,null,null,null,null,"未","未","未","未",0,0,0,0,{"$f":"IFERROR(IF(OR(BC59=\"未\",BD59=\"未\"),1,IF(MATCH(BC59&\"/\"&BD59,③読み替え表_省エネ住宅!$G$48:$G$57,0),1,0)),0)","v":1},{"$f":"IFERROR(IF(OR(BE59=\"未\",BF59=\"未\"),1,IF(MATCH(BE59&\"/\"&BF59,③読み替え表_省エネ住宅!$G$48:$G$57,0),1,0)),0)","v":1},1,1,1,"*"]
[null,50,null,null,null,null,null,null,null,null,null,null,null,null,null,null,null,null,null,null,null,null,null,null,null,null,null,null,null,null,null,null,null,null,null,null,null,null,null,null,null,null,null,null,null,null,null,null,null,null,null,null,null,null,"未","未","未","未",0,0,0,0,{"$f":"IFERROR(IF(OR(BC60=\"未\",BD60=\"未\"),1,IF(MATCH(BC60&\"/\"&BD60,③読み替え表_省エネ住宅!$G$48:$G$57,0),1,0)),0)","v":1},{"$f":"IFERROR(IF(OR(BE60=\"未\",BF60=\"未\"),1,IF(MATCH(BE60&\"/\"&BF60,③読み替え表_省エネ住宅!$G$48:$G$57,0),1,0)),0)","v":1},1,1,1,"*"]
[null,51,null,null,null,null,null,null,null,null,null,null,null,null,null,null,null,null,null,null,null,null,null,null,null,null,null,null,null,null,null,null,null,null,null,null,null,null,null,null,null,null,null,null,null,null,null,null,null,null,null,null,null,null,"未","未","未","未",0,0,0,0,{"$f":"IFERROR(IF(OR(BC61=\"未\",BD61=\"未\"),1,IF(MATCH(BC61&\"/\"&BD61,③読み替え表_省エネ住宅!$G$48:$G$57,0),1,0)),0)","v":1},{"$f":"IFERROR(IF(OR(BE61=\"未\",BF61=\"未\"),1,IF(MATCH(BE61&\"/\"&BF61,③読み替え表_省エネ住宅!$G$48:$G$57,0),1,0)),0)","v":1},1,1,1,"*"]
[null,52,null,null,null,null,null,null,null,null,null,null,null,null,null,null,null,null,null,null,null,null,null,null,null,null,null,null,null,null,null,null,null,null,null,null,null,null,null,null,null,null,null,null,null,null,null,null,null,null,null,null,null,null,"未","未","未","未",0,0,0,0,{"$f":"IFERROR(IF(OR(BC62=\"未\",BD62=\"未\"),1,IF(MATCH(BC62&\"/\"&BD62,③読み替え表_省エネ住宅!$G$48:$G$57,0),1,0)),0)","v":1},{"$f":"IFERROR(IF(OR(BE62=\"未\",BF62=\"未\"),1,IF(MATCH(BE62&\"/\"&BF62,③読み替え表_省エネ住宅!$G$48:$G$57,0),1,0)),0)","v":1},1,1,1,"*"]
[null,53,null,null,null,null,null,null,null,null,null,null,null,null,null,null,null,null,null,null,null,null,null,null,null,null,null,null,null,null,null,null,null,null,null,null,null,null,null,null,null,null,null,null,null,null,null,null,null,null,null,null,null,null,"未","未","未","未",0,0,0,0,{"$f":"IFERROR(IF(OR(BC63=\"未\",BD63=\"未\"),1,IF(MATCH(BC63&\"/\"&BD63,③読み替え表_省エネ住宅!$G$48:$G$57,0),1,0)),0)","v":1},{"$f":"IFERROR(IF(OR(BE63=\"未\",BF63=\"未\"),1,IF(MATCH(BE63&\"/\"&BF63,③読み替え表_省エネ住宅!$G$48:$G$57,0),1,0)),0)","v":1},1,1,1,"*"]
[null,54,null,null,null,null,null,null,null,null,null,null,null,null,null,null,null,null,null,null,null,null,null,null,null,null,null,null,null,null,null,null,null,null,null,null,null,null,null,null,null,null,null,null,null,null,null,null,null,null,null,null,null,null,"未","未","未","未",0,0,0,0,{"$f":"IFERROR(IF(OR(BC64=\"未\",BD64=\"未\"),1,IF(MATCH(BC64&\"/\"&BD64,③読み替え表_省エネ住宅!$G$48:$G$57,0),1,0)),0)","v":1},{"$f":"IFERROR(IF(OR(BE64=\"未\",BF64=\"未\"),1,IF(MATCH(BE64&\"/\"&BF64,③読み替え表_省エネ住宅!$G$48:$G$57,0),1,0)),0)","v":1},1,1,1,"*"]
[null,55,null,null,null,null,null,null,null,null,null,null,null,null,null,null,null,null,null,null,null,null,null,null,null,null,null,null,null,null,null,null,null,null,null,null,null,null,null,null,null,null,null,null,null,null,null,null,null,null,null,null,null,null,"未","未","未","未",0,0,0,0,{"$f":"IFERROR(IF(OR(BC65=\"未\",BD65=\"未\"),1,IF(MATCH(BC65&\"/\"&BD65,③読み替え表_省エネ住宅!$G$48:$G$57,0),1,0)),0)","v":1},{"$f":"IFERROR(IF(OR(BE65=\"未\",BF65=\"未\"),1,IF(MATCH(BE65&\"/\"&BF65,③読み替え表_省エネ住宅!$G$48:$G$57,0),1,0)),0)","v":1},1,1,1,"*"]
[null,56,null,null,null,null,null,null,null,null,null,null,null,null,null,null,null,null,null,null,null,null,null,null,null,null,null,null,null,null,null,null,null,null,null,null,null,null,null,null,null,null,null,null,null,null,null,null,null,null,null,null,null,null,"未","未","未","未",0,0,0,0,{"$f":"IFERROR(IF(OR(BC66=\"未\",BD66=\"未\"),1,IF(MATCH(BC66&\"/\"&BD66,③読み替え表_省エネ住宅!$G$48:$G$57,0),1,0)),0)","v":1},{"$f":"IFERROR(IF(OR(BE66=\"未\",BF66=\"未\"),1,IF(MATCH(BE66&\"/\"&BF66,③読み替え表_省エネ住宅!$G$48:$G$57,0),1,0)),0)","v":1},1,1,1,"*"]
[null,57,null,null,null,null,null,null,null,null,null,null,null,null,null,null,null,null,null,null,null,null,null,null,null,null,null,null,null,null,null,null,null,null,null,null,null,null,null,null,null,null,null,null,null,null,null,null,null,null,null,null,null,null,"未","未","未","未",0,0,0,0,{"$f":"IFERROR(IF(OR(BC67=\"未\",BD67=\"未\"),1,IF(MATCH(BC67&\"/\"&BD67,③読み替え表_省エネ住宅!$G$48:$G$57,0),1,0)),0)","v":1},{"$f":"IFERROR(IF(OR(BE67=\"未\",BF67=\"未\"),1,IF(MATCH(BE67&\"/\"&BF67,③読み替え表_省エネ住宅!$G$48:$G$57,0),1,0)),0)","v":1},1,1,1,"*"]
[null,58,null,null,null,null,null,null,null,null,null,null,null,null,null,null,null,null,null,null,null,null,null,null,null,null,null,null,null,null,null,null,null,null,null,null,null,null,null,null,null,null,null,null,null,null,null,null,null,null,null,null,null,null,"未","未","未","未",0,0,0,0,{"$f":"IFERROR(IF(OR(BC68=\"未\",BD68=\"未\"),1,IF(MATCH(BC68&\"/\"&BD68,③読み替え表_省エネ住宅!$G$48:$G$57,0),1,0)),0)","v":1},{"$f":"IFERROR(IF(OR(BE68=\"未\",BF68=\"未\"),1,IF(MATCH(BE68&\"/\"&BF68,③読み替え表_省エネ住宅!$G$48:$G$57,0),1,0)),0)","v":1},1,1,1,"*"]
[null,59,null,null,null,null,null,null,null,null,null,null,null,null,null,null,null,null,null,null,null,null,null,null,null,null,null,null,null,null,null,null,null,null,null,null,null,null,null,null,null,null,null,null,null,null,null,null,null,null,null,null,null,null,"未","未","未","未",0,0,0,0,{"$f":"IFERROR(IF(OR(BC69=\"未\",BD69=\"未\"),1,IF(MATCH(BC69&\"/\"&BD69,③読み替え表_省エネ住宅!$G$48:$G$57,0),1,0)),0)","v":1},{"$f":"IFERROR(IF(OR(BE69=\"未\",BF69=\"未\"),1,IF(MATCH(BE69&\"/\"&BF69,③読み替え表_省エネ住宅!$G$48:$G$57,0),1,0)),0)","v":1},1,1,1,"*"]
[null,60,null,null,null,null,null,null,null,null,null,null,null,null,null,null,null,null,null,null,null,null,null,null,null,null,null,null,null,null,null,null,null,null,null,null,null,null,null,null,null,null,null,null,null,null,null,null,null,null,null,null,null,null,"未","未","未","未",0,0,0,0,{"$f":"IFERROR(IF(OR(BC70=\"未\",BD70=\"未\"),1,IF(MATCH(BC70&\"/\"&BD70,③読み替え表_省エネ住宅!$G$48:$G$57,0),1,0)),0)","v":1},{"$f":"IFERROR(IF(OR(BE70=\"未\",BF70=\"未\"),1,IF(MATCH(BE70&\"/\"&BF70,③読み替え表_省エネ住宅!$G$48:$G$57,0),1,0)),0)","v":1},1,1,1,"*"]
[null,61,null,null,null,null,null,null,null,null,null,null,null,null,null,null,null,null,null,null,null,null,null,null,null,null,null,null,null,null,null,null,null,null,null,null,null,null,null,null,null,null,null,null,null,null,null,null,null,null,null,null,null,null,"未","未","未","未",0,0,0,0,{"$f":"IFERROR(IF(OR(BC71=\"未\",BD71=\"未\"),1,IF(MATCH(BC71&\"/\"&BD71,③読み替え表_省エネ住宅!$G$48:$G$57,0),1,0)),0)","v":1},{"$f":"IFERROR(IF(OR(BE71=\"未\",BF71=\"未\"),1,IF(MATCH(BE71&\"/\"&BF71,③読み替え表_省エネ住宅!$G$48:$G$57,0),1,0)),0)","v":1},1,1,1,"*"]
[null,62,null,null,null,null,null,null,null,null,null,null,null,null,null,null,null,null,null,null,null,null,null,null,null,null,null,null,null,null,null,null,null,null,null,null,null,null,null,null,null,null,null,null,null,null,null,null,null,null,null,null,null,null,"未","未","未","未",0,0,0,0,{"$f":"IFERROR(IF(OR(BC72=\"未\",BD72=\"未\"),1,IF(MATCH(BC72&\"/\"&BD72,③読み替え表_省エネ住宅!$G$48:$G$57,0),1,0)),0)","v":1},{"$f":"IFERROR(IF(OR(BE72=\"未\",BF72=\"未\"),1,IF(MATCH(BE72&\"/\"&BF72,③読み替え表_省エネ住宅!$G$48:$G$57,0),1,0)),0)","v":1},1,1,1,"*"]
[null,63,null,null,null,null,null,null,null,null,null,null,null,null,null,null,null,null,null,null,null,null,null,null,null,null,null,null,null,null,null,null,null,null,null,null,null,null,null,null,null,null,null,null,null,null,null,null,null,null,null,null,null,null,"未","未","未","未",0,0,0,0,{"$f":"IFERROR(IF(OR(BC73=\"未\",BD73=\"未\"),1,IF(MATCH(BC73&\"/\"&BD73,③読み替え表_省エネ住宅!$G$48:$G$57,0),1,0)),0)","v":1},{"$f":"IFERROR(IF(OR(BE73=\"未\",BF73=\"未\"),1,IF(MATCH(BE73&\"/\"&BF73,③読み替え表_省エネ住宅!$G$48:$G$57,0),1,0)),0)","v":1},1,1,1,"*"]
[null,64,null,null,null,null,null,null,null,null,null,null,null,null,null,null,null,null,null,null,null,null,null,null,null,null,null,null,null,null,null,null,null,null,null,null,null,null,null,null,null,null,null,null,null,null,null,null,null,null,null,null,null,null,"未","未","未","未",0,0,0,0,{"$f":"IFERROR(IF(OR(BC74=\"未\",BD74=\"未\"),1,IF(MATCH(BC74&\"/\"&BD74,③読み替え表_省エネ住宅!$G$48:$G$57,0),1,0)),0)","v":1},{"$f":"IFERROR(IF(OR(BE74=\"未\",BF74=\"未\"),1,IF(MATCH(BE74&\"/\"&BF74,③読み替え表_省エネ住宅!$G$48:$G$57,0),1,0)),0)","v":1},1,1,1,"*"]
[null,65,null,null,null,null,null,null,null,null,null,null,null,null,null,null,null,null,null,null,null,null,null,null,null,null,null,null,null,null,null,null,null,null,null,null,null,null,null,null,null,null,null,null,null,null,null,null,null,null,null,null,null,null,"未","未","未","未",0,0,0,0,{"$f":"IFERROR(IF(OR(BC75=\"未\",BD75=\"未\"),1,IF(MATCH(BC75&\"/\"&BD75,③読み替え表_省エネ住宅!$G$48:$G$57,0),1,0)),0)","v":1},{"$f":"IFERROR(IF(OR(BE75=\"未\",BF75=\"未\"),1,IF(MATCH(BE75&\"/\"&BF75,③読み替え表_省エネ住宅!$G$48:$G$57,0),1,0)),0)","v":1},1,1,1,"*"]
[null,{"$f":"ROW()-10","v":66},null,null,null,null,null,null,null,null,null,null,null,null,null,null,null,null,null,null,null,null,null,null,null,null,null,null,null,null,null,null,null,null,null,null,null,null,null,null,null,null,null,null,null,null,null,null,null,null,null,null,null,null,{"$f":"IFERROR(IF(SUM($Q76:$U76)>1,\"複数回答\",INDEX($Q$10:$U$10,,MATCH(1,$Q76:$U76,0))),\"未\")","v":"未"},{"$f":"IFERROR(IF(SUM($AA76:$AE76)>1,\"複数回答\",INDEX($AA$10:$AE$10,,MATCH(1,$AA76:$AE76,0))),\"未\")","v":"未"},{"$f":"IFERROR(IF(SUM($V76:$Z76)>1,\"複数回答\",INDEX($V$10:$Z$10,,MATCH(1,$V76:$Z76,0))),\"未\")","v":"未"},{"$f":"IFERROR(IF(SUM($AF76:$AJ76)>1,\"複数回答\",INDEX($AF$10:$AJ$10,,MATCH(1,$AF76:$AJ76,0))),\"未\")","v":"未"},{"$f":"IF(OR(AA76=1,AB76=1,AC76=1),1,0)","v":0},{"$f":"IF(OR(AF76=1,AG76=1,AH76=1),1,0)","v":0},{"$f":"IF(BC76=\"複数回答\",1,IF(BD76=\"複数回答\",1,0))","v":0},{"$f":"IF(BE76=\"複数回答\",1,IF(BF76=\"複数回答\",1,0))","v":0},{"$f":"IFERROR(IF(OR(BC76=\"未\",BD76=\"未\"),1,IF(MATCH(BC76&\"/\"&BD76,③読み替え表_省エネ住宅!$G$48:$G$57,0),1,0)),0)","v":1},{"$f":"IFERROR(IF(OR(BE76=\"未\",BF76=\"未\"),1,IF(MATCH(BE76&\"/\"&BF76,③読み替え表_省エネ住宅!$G$48:$G$57,0),1,0)),0)","v":1},{"$f":"IF(BI76+BK76>0,1,0)","v":1},{"$f":"IF(BJ76+BL76>0,1,0)","v":1},{"$f":"IF(SUM(BI76:BL76)>0,1,0)","v":1},"*"]
[null,67,null,null,null,null,null,null,null,null,null,null,null,null,null,null,null,null,null,null,null,null,null,null,null,null,null,null,null,null,null,null,null,null,null,null,null,null,null,null,null,null,null,null,null,null,null,null,null,null,null,null,null,null,"未","未","未","未",0,0,0,0,{"$f":"IFERROR(IF(OR(BC77=\"未\",BD77=\"未\"),1,IF(MATCH(BC77&\"/\"&BD77,③読み替え表_省エネ住宅!$G$48:$G$57,0),1,0)),0)","v":1},{"$f":"IFERROR(IF(OR(BE77=\"未\",BF77=\"未\"),1,IF(MATCH(BE77&\"/\"&BF77,③読み替え表_省エネ住宅!$G$48:$G$57,0),1,0)),0)","v":1},1,1,1,"*"]
[null,68,null,null,null,null,null,null,null,null,null,null,null,null,null,null,null,null,null,null,null,null,null,null,null,null,null,null,null,null,null,null,null,null,null,null,null,null,null,null,null,null,null,null,null,null,null,null,null,null,null,null,null,null,"未","未","未","未",0,0,0,0,{"$f":"IFERROR(IF(OR(BC78=\"未\",BD78=\"未\"),1,IF(MATCH(BC78&\"/\"&BD78,③読み替え表_省エネ住宅!$G$48:$G$57,0),1,0)),0)","v":1},{"$f":"IFERROR(IF(OR(BE78=\"未\",BF78=\"未\"),1,IF(MATCH(BE78&\"/\"&BF78,③読み替え表_省エネ住宅!$G$48:$G$57,0),1,0)),0)","v":1},1,1,1,"*"]
[null,69,null,null,null,null,null,null,null,null,null,null,null,null,null,null,null,null,null,null,null,null,null,null,null,null,null,null,null,null,null,null,null,null,null,null,null,null,null,null,null,null,null,null,null,null,null,null,null,null,null,null,null,null,"未","未","未","未",0,0,0,0,{"$f":"IFERROR(IF(OR(BC79=\"未\",BD79=\"未\"),1,IF(MATCH(BC79&\"/\"&BD79,③読み替え表_省エネ住宅!$G$48:$G$57,0),1,0)),0)","v":1},{"$f":"IFERROR(IF(OR(BE79=\"未\",BF79=\"未\"),1,IF(MATCH(BE79&\"/\"&BF79,③読み替え表_省エネ住宅!$G$48:$G$57,0),1,0)),0)","v":1},1,1,1,"*"]
[null,70,null,null,null,null,null,null,null,null,null,null,null,null,null,null,null,null,null,null,null,null,null,null,null,null,null,null,null,null,null,null,null,null,null,null,null,null,null,null,null,null,null,null,null,null,null,null,null,null,null,null,null,null,"未","未","未","未",0,0,0,0,{"$f":"IFERROR(IF(OR(BC80=\"未\",BD80=\"未\"),1,IF(MATCH(BC80&\"/\"&BD80,③読み替え表_省エネ住宅!$G$48:$G$57,0),1,0)),0)","v":1},{"$f":"IFERROR(IF(OR(BE80=\"未\",BF80=\"未\"),1,IF(MATCH(BE80&\"/\"&BF80,③読み替え表_省エネ住宅!$G$48:$G$57,0),1,0)),0)","v":1},1,1,1,"*"]
[null,71,null,null,null,null,null,null,null,null,null,null,null,null,null,null,null,null,null,null,null,null,null,null,null,null,null,null,null,null,null,null,null,null,null,null,null,null,null,null,null,null,null,null,null,null,null,null,null,null,null,null,null,null,"未","未","未","未",0,0,0,0,{"$f":"IFERROR(IF(OR(BC81=\"未\",BD81=\"未\"),1,IF(MATCH(BC81&\"/\"&BD81,③読み替え表_省エネ住宅!$G$48:$G$57,0),1,0)),0)","v":1},{"$f":"IFERROR(IF(OR(BE81=\"未\",BF81=\"未\"),1,IF(MATCH(BE81&\"/\"&BF81,③読み替え表_省エネ住宅!$G$48:$G$57,0),1,0)),0)","v":1},1,1,1,"*"]
[null,72,null,null,null,null,null,null,null,null,null,null,null,null,null,null,null,null,null,null,null,null,null,null,null,null,null,null,null,null,null,null,null,null,null,null,null,null,null,null,null,null,null,null,null,null,null,null,null,null,null,null,null,null,"未","未","未","未",0,0,0,0,{"$f":"IFERROR(IF(OR(BC82=\"未\",BD82=\"未\"),1,IF(MATCH(BC82&\"/\"&BD82,③読み替え表_省エネ住宅!$G$48:$G$57,0),1,0)),0)","v":1},{"$f":"IFERROR(IF(OR(BE82=\"未\",BF82=\"未\"),1,IF(MATCH(BE82&\"/\"&BF82,③読み替え表_省エネ住宅!$G$48:$G$57,0),1,0)),0)","v":1},1,1,1,"*"]
[null,73,null,null,null,null,null,null,null,null,null,null,null,null,null,null,null,null,null,null,null,null,null,null,null,null,null,null,null,null,null,null,null,null,null,null,null,null,null,null,null,null,null,null,null,null,null,null,null,null,null,null,null,null,"未","未","未","未",0,0,0,0,{"$f":"IFERROR(IF(OR(BC83=\"未\",BD83=\"未\"),1,IF(MATCH(BC83&\"/\"&BD83,③読み替え表_省エネ住宅!$G$48:$G$57,0),1,0)),0)","v":1},{"$f":"IFERROR(IF(OR(BE83=\"未\",BF83=\"未\"),1,IF(MATCH(BE83&\"/\"&BF83,③読み替え表_省エネ住宅!$G$48:$G$57,0),1,0)),0)","v":1},1,1,1,"*"]
[null,74,null,null,null,null,null,null,null,null,null,null,null,null,null,null,null,null,null,null,null,null,null,null,null,null,null,null,null,null,null,null,null,null,null,null,null,null,null,null,null,null,null,null,null,null,null,null,null,null,null,null,null,null,"未","未","未","未",0,0,0,0,{"$f":"IFERROR(IF(OR(BC84=\"未\",BD84=\"未\"),1,IF(MATCH(BC84&\"/\"&BD84,③読み替え表_省エネ住宅!$G$48:$G$57,0),1,0)),0)","v":1},{"$f":"IFERROR(IF(OR(BE84=\"未\",BF84=\"未\"),1,IF(MATCH(BE84&\"/\"&BF84,③読み替え表_省エネ住宅!$G$48:$G$57,0),1,0)),0)","v":1},1,1,1,"*"]
[null,75,null,null,null,null,null,null,null,null,null,null,null,null,null,null,null,null,null,null,null,null,null,null,null,null,null,null,null,null,null,null,null,null,null,null,null,null,null,null,null,null,null,null,null,null,null,null,null,null,null,null,null,null,"未","未","未","未",0,0,0,0,{"$f":"IFERROR(IF(OR(BC85=\"未\",BD85=\"未\"),1,IF(MATCH(BC85&\"/\"&BD85,③読み替え表_省エネ住宅!$G$48:$G$57,0),1,0)),0)","v":1},{"$f":"IFERROR(IF(OR(BE85=\"未\",BF85=\"未\"),1,IF(MATCH(BE85&\"/\"&BF85,③読み替え表_省エネ住宅!$G$48:$G$57,0),1,0)),0)","v":1},1,1,1,"*"]
[null,76,null,null,null,null,null,null,null,null,null,null,null,null,null,null,null,null,null,null,null,null,null,null,null,null,null,null,null,null,null,null,null,null,null,null,null,null,null,null,null,null,null,null,null,null,null,null,null,null,null,null,null,null,"未","未","未","未",0,0,0,0,{"$f":"IFERROR(IF(OR(BC86=\"未\",BD86=\"未\"),1,IF(MATCH(BC86&\"/\"&BD86,③読み替え表_省エネ住宅!$G$48:$G$57,0),1,0)),0)","v":1},{"$f":"IFERROR(IF(OR(BE86=\"未\",BF86=\"未\"),1,IF(MATCH(BE86&\"/\"&BF86,③読み替え表_省エネ住宅!$G$48:$G$57,0),1,0)),0)","v":1},1,1,1,"*"]
[null,77,null,null,null,null,null,null,null,null,null,null,null,null,null,null,null,null,null,null,null,null,null,null,null,null,null,null,null,null,null,null,null,null,null,null,null,null,null,null,null,null,null,null,null,null,null,null,null,null,null,null,null,null,"未","未","未","未",0,0,0,0,{"$f":"IFERROR(IF(OR(BC87=\"未\",BD87=\"未\"),1,IF(MATCH(BC87&\"/\"&BD87,③読み替え表_省エネ住宅!$G$48:$G$57,0),1,0)),0)","v":1},{"$f":"IFERROR(IF(OR(BE87=\"未\",BF87=\"未\"),1,IF(MATCH(BE87&\"/\"&BF87,③読み替え表_省エネ住宅!$G$48:$G$57,0),1,0)),0)","v":1},1,1,1,"*"]
[null,78,null,null,null,null,null,null,null,null,null,null,null,null,null,null,null,null,null,null,null,null,null,null,null,null,null,null,null,null,null,null,null,null,null,null,null,null,null,null,null,null,null,null,null,null,null,null,null,null,null,null,null,null,"未","未","未","未",0,0,0,0,{"$f":"IFERROR(IF(OR(BC88=\"未\",BD88=\"未\"),1,IF(MATCH(BC88&\"/\"&BD88,③読み替え表_省エネ住宅!$G$48:$G$57,0),1,0)),0)","v":1},{"$f":"IFERROR(IF(OR(BE88=\"未\",BF88=\"未\"),1,IF(MATCH(BE88&\"/\"&BF88,③読み替え表_省エネ住宅!$G$48:$G$57,0),1,0)),0)","v":1},1,1,1,"*"]
[null,79,null,null,null,null,null,null,null,null,null,null,null,null,null,null,null,null,null,null,null,null,null,null,null,null,null,null,null,null,null,null,null,null,null,null,null,null,null,null,null,null,null,null,null,null,null,null,null,null,null,null,null,null,"未","未","未","未",0,0,0,0,{"$f":"IFERROR(IF(OR(BC89=\"未\",BD89=\"未\"),1,IF(MATCH(BC89&\"/\"&BD89,③読み替え表_省エネ住宅!$G$48:$G$57,0),1,0)),0)","v":1},{"$f":"IFERROR(IF(OR(BE89=\"未\",BF89=\"未\"),1,IF(MATCH(BE89&\"/\"&BF89,③読み替え表_省エネ住宅!$G$48:$G$57,0),1,0)),0)","v":1},1,1,1,"*"]
[null,80,null,null,null,null,null,null,null,null,null,null,null,null,null,null,null,null,null,null,null,null,null,null,null,null,null,null,null,null,null,null,null,null,null,null,null,null,null,null,null,null,null,null,null,null,null,null,null,null,null,null,null,null,"未","未","未","未",0,0,0,0,{"$f":"IFERROR(IF(OR(BC90=\"未\",BD90=\"未\"),1,IF(MATCH(BC90&\"/\"&BD90,③読み替え表_省エネ住宅!$G$48:$G$57,0),1,0)),0)","v":1},{"$f":"IFERROR(IF(OR(BE90=\"未\",BF90=\"未\"),1,IF(MATCH(BE90&\"/\"&BF90,③読み替え表_省エネ住宅!$G$48:$G$57,0),1,0)),0)","v":1},1,1,1,"*"]
[null,81,null,null,null,null,null,null,null,null,null,null,null,null,null,null,null,null,null,null,null,null,null,null,null,null,null,null,null,null,null,null,null,null,null,null,null,null,null,null,null,null,null,null,null,null,null,null,null,null,null,null,null,null,"未","未","未","未",0,0,0,0,{"$f":"IFERROR(IF(OR(BC91=\"未\",BD91=\"未\"),1,IF(MATCH(BC91&\"/\"&BD91,③読み替え表_省エネ住宅!$G$48:$G$57,0),1,0)),0)","v":1},{"$f":"IFERROR(IF(OR(BE91=\"未\",BF91=\"未\"),1,IF(MATCH(BE91&\"/\"&BF91,③読み替え表_省エネ住宅!$G$48:$G$57,0),1,0)),0)","v":1},1,1,1,"*"]
[null,82,null,null,null,null,null,null,null,null,null,null,null,null,null,null,null,null,null,null,null,null,null,null,null,null,null,null,null,null,null,null,null,null,null,null,null,null,null,null,null,null,null,null,null,null,null,null,null,null,null,null,null,null,"未","未","未","未",0,0,0,0,{"$f":"IFERROR(IF(OR(BC92=\"未\",BD92=\"未\"),1,IF(MATCH(BC92&\"/\"&BD92,③読み替え表_省エネ住宅!$G$48:$G$57,0),1,0)),0)","v":1},{"$f":"IFERROR(IF(OR(BE92=\"未\",BF92=\"未\"),1,IF(MATCH(BE92&\"/\"&BF92,③読み替え表_省エネ住宅!$G$48:$G$57,0),1,0)),0)","v":1},1,1,1,"*"]
[null,83,null,null,null,null,null,null,null,null,null,null,null,null,null,null,null,null,null,null,null,null,null,null,null,null,null,null,null,null,null,null,null,null,null,null,null,null,null,null,null,null,null,null,null,null,null,null,null,null,null,null,null,null,"未","未","未","未",0,0,0,0,{"$f":"IFERROR(IF(OR(BC93=\"未\",BD93=\"未\"),1,IF(MATCH(BC93&\"/\"&BD93,③読み替え表_省エネ住宅!$G$48:$G$57,0),1,0)),0)","v":1},{"$f":"IFERROR(IF(OR(BE93=\"未\",BF93=\"未\"),1,IF(MATCH(BE93&\"/\"&BF93,③読み替え表_省エネ住宅!$G$48:$G$57,0),1,0)),0)","v":1},1,1,1,"*"]
[null,84,null,null,null,null,null,null,null,null,null,null,null,null,null,null,null,null,null,null,null,null,null,null,null,null,null,null,null,null,null,null,null,null,null,null,null,null,null,null,null,null,null,null,null,null,null,null,null,null,null,null,null,null,"未","未","未","未",0,0,0,0,{"$f":"IFERROR(IF(OR(BC94=\"未\",BD94=\"未\"),1,IF(MATCH(BC94&\"/\"&BD94,③読み替え表_省エネ住宅!$G$48:$G$57,0),1,0)),0)","v":1},{"$f":"IFERROR(IF(OR(BE94=\"未\",BF94=\"未\"),1,IF(MATCH(BE94&\"/\"&BF94,③読み替え表_省エネ住宅!$G$48:$G$57,0),1,0)),0)","v":1},1,1,1,"*"]
[null,85,null,null,null,null,null,null,null,null,null,null,null,null,null,null,null,null,null,null,null,null,null,null,null,null,null,null,null,null,null,null,null,null,null,null,null,null,null,null,null,null,null,null,null,null,null,null,null,null,null,null,null,null,"未","未","未","未",0,0,0,0,{"$f":"IFERROR(IF(OR(BC95=\"未\",BD95=\"未\"),1,IF(MATCH(BC95&\"/\"&BD95,③読み替え表_省エネ住宅!$G$48:$G$57,0),1,0)),0)","v":1},{"$f":"IFERROR(IF(OR(BE95=\"未\",BF95=\"未\"),1,IF(MATCH(BE95&\"/\"&BF95,③読み替え表_省エネ住宅!$G$48:$G$57,0),1,0)),0)","v":1},1,1,1,"*"]
[null,86,null,null,null,null,null,null,null,null,null,null,null,null,null,null,null,null,null,null,null,null,null,null,null,null,null,null,null,null,null,null,null,null,null,null,null,null,null,null,null,null,null,null,null,null,null,null,null,null,null,null,null,null,"未","未","未","未",0,0,0,0,{"$f":"IFERROR(IF(OR(BC96=\"未\",BD96=\"未\"),1,IF(MATCH(BC96&\"/\"&BD96,③読み替え表_省エネ住宅!$G$48:$G$57,0),1,0)),0)","v":1},{"$f":"IFERROR(IF(OR(BE96=\"未\",BF96=\"未\"),1,IF(MATCH(BE96&\"/\"&BF96,③読み替え表_省エネ住宅!$G$48:$G$57,0),1,0)),0)","v":1},1,1,1,"*"]
[null,87,null,null,null,null,null,null,null,null,null,null,null,null,null,null,null,null,null,null,null,null,null,null,null,null,null,null,null,null,null,null,null,null,null,null,null,null,null,null,null,null,null,null,null,null,null,null,null,null,null,null,null,null,"未","未","未","未",0,0,0,0,{"$f":"IFERROR(IF(OR(BC97=\"未\",BD97=\"未\"),1,IF(MATCH(BC97&\"/\"&BD97,③読み替え表_省エネ住宅!$G$48:$G$57,0),1,0)),0)","v":1},{"$f":"IFERROR(IF(OR(BE97=\"未\",BF97=\"未\"),1,IF(MATCH(BE97&\"/\"&BF97,③読み替え表_省エネ住宅!$G$48:$G$57,0),1,0)),0)","v":1},1,1,1,"*"]
[null,88,null,null,null,null,null,null,null,null,null,null,null,null,null,null,null,null,null,null,null,null,null,null,null,null,null,null,null,null,null,null,null,null,null,null,null,null,null,null,null,null,null,null,null,null,null,null,null,null,null,null,null,null,"未","未","未","未",0,0,0,0,{"$f":"IFERROR(IF(OR(BC98=\"未\",BD98=\"未\"),1,IF(MATCH(BC98&\"/\"&BD98,③読み替え表_省エネ住宅!$G$48:$G$57,0),1,0)),0)","v":1},{"$f":"IFERROR(IF(OR(BE98=\"未\",BF98=\"未\"),1,IF(MATCH(BE98&\"/\"&BF98,③読み替え表_省エネ住宅!$G$48:$G$57,0),1,0)),0)","v":1},1,1,1,"*"]
[null,89,null,null,null,null,null,null,null,null,null,null,null,null,null,null,null,null,null,null,null,null,null,null,null,null,null,null,null,null,null,null,null,null,null,null,null,null,null,null,null,null,null,null,null,null,null,null,null,null,null,null,null,null,"未","未","未","未",0,0,0,0,{"$f":"IFERROR(IF(OR(BC99=\"未\",BD99=\"未\"),1,IF(MATCH(BC99&\"/\"&BD99,③読み替え表_省エネ住宅!$G$48:$G$57,0),1,0)),0)","v":1},{"$f":"IFERROR(IF(OR(BE99=\"未\",BF99=\"未\"),1,IF(MATCH(BE99&\"/\"&BF99,③読み替え表_省エネ住宅!$G$48:$G$57,0),1,0)),0)","v":1},1,1,1,"*"]
[null,90,null,null,null,null,null,null,null,null,null,null,null,null,null,null,null,null,null,null,null,null,null,null,null,null,null,null,null,null,null,null,null,null,null,null,null,null,null,null,null,null,null,null,null,null,null,null,null,null,null,null,null,null,"未","未","未","未",0,0,0,0,{"$f":"IFERROR(IF(OR(BC100=\"未\",BD100=\"未\"),1,IF(MATCH(BC100&\"/\"&BD100,③読み替え表_省エネ住宅!$G$48:$G$57,0),1,0)),0)","v":1},{"$f":"IFERROR(IF(OR(BE100=\"未\",BF100=\"未\"),1,IF(MATCH(BE100&\"/\"&BF100,③読み替え表_省エネ住宅!$G$48:$G$57,0),1,0)),0)","v":1},1,1,1,"*"]
[null,91,null,null,null,null,null,null,null,null,null,null,null,null,null,null,null,null,null,null,null,null,null,null,null,null,null,null,null,null,null,null,null,null,null,null,null,null,null,null,null,null,null,null,null,null,null,null,null,null,null,null,null,null,"未","未","未","未",0,0,0,0,{"$f":"IFERROR(IF(OR(BC101=\"未\",BD101=\"未\"),1,IF(MATCH(BC101&\"/\"&BD101,③読み替え表_省エネ住宅!$G$48:$G$57,0),1,0)),0)","v":1},{"$f":"IFERROR(IF(OR(BE101=\"未\",BF101=\"未\"),1,IF(MATCH(BE101&\"/\"&BF101,③読み替え表_省エネ住宅!$G$48:$G$57,0),1,0)),0)","v":1},1,1,1,"*"]
[null,92,null,null,null,null,null,null,null,null,null,null,null,null,null,null,null,null,null,null,null,null,null,null,null,null,null,null,null,null,null,null,null,null,null,null,null,null,null,null,null,null,null,null,null,null,null,null,null,null,null,null,null,null,"未","未","未","未",0,0,0,0,{"$f":"IFERROR(IF(OR(BC102=\"未\",BD102=\"未\"),1,IF(MATCH(BC102&\"/\"&BD102,③読み替え表_省エネ住宅!$G$48:$G$57,0),1,0)),0)","v":1},{"$f":"IFERROR(IF(OR(BE102=\"未\",BF102=\"未\"),1,IF(MATCH(BE102&\"/\"&BF102,③読み替え表_省エネ住宅!$G$48:$G$57,0),1,0)),0)","v":1},1,1,1,"*"]
[null,93,null,null,null,null,null,null,null,null,null,null,null,null,null,null,null,null,null,null,null,null,null,null,null,null,null,null,null,null,null,null,null,null,null,null,null,null,null,null,null,null,null,null,null,null,null,null,null,null,null,null,null,null,"未","未","未","未",0,0,0,0,{"$f":"IFERROR(IF(OR(BC103=\"未\",BD103=\"未\"),1,IF(MATCH(BC103&\"/\"&BD103,③読み替え表_省エネ住宅!$G$48:$G$57,0),1,0)),0)","v":1},{"$f":"IFERROR(IF(OR(BE103=\"未\",BF103=\"未\"),1,IF(MATCH(BE103&\"/\"&BF103,③読み替え表_省エネ住宅!$G$48:$G$57,0),1,0)),0)","v":1},1,1,1,"*"]
[null,94,null,null,null,null,null,null,null,null,null,null,null,null,null,null,null,null,null,null,null,null,null,null,null,null,null,null,null,null,null,null,null,null,null,null,null,null,null,null,null,null,null,null,null,null,null,null,null,null,null,null,null,null,"未","未","未","未",0,0,0,0,{"$f":"IFERROR(IF(OR(BC104=\"未\",BD104=\"未\"),1,IF(MATCH(BC104&\"/\"&BD104,③読み替え表_省エネ住宅!$G$48:$G$57,0),1,0)),0)","v":1},{"$f":"IFERROR(IF(OR(BE104=\"未\",BF104=\"未\"),1,IF(MATCH(BE104&\"/\"&BF104,③読み替え表_省エネ住宅!$G$48:$G$57,0),1,0)),0)","v":1},1,1,1,"*"]
[null,95,null,null,null,null,null,null,null,null,null,null,null,null,null,null,null,null,null,null,null,null,null,null,null,null,null,null,null,null,null,null,null,null,null,null,null,null,null,null,null,null,null,null,null,null,null,null,null,null,null,null,null,null,"未","未","未","未",0,0,0,0,{"$f":"IFERROR(IF(OR(BC105=\"未\",BD105=\"未\"),1,IF(MATCH(BC105&\"/\"&BD105,③読み替え表_省エネ住宅!$G$48:$G$57,0),1,0)),0)","v":1},{"$f":"IFERROR(IF(OR(BE105=\"未\",BF105=\"未\"),1,IF(MATCH(BE105&\"/\"&BF105,③読み替え表_省エネ住宅!$G$48:$G$57,0),1,0)),0)","v":1},1,1,1,"*"]
[null,96,null,null,null,null,null,null,null,null,null,null,null,null,null,null,null,null,null,null,null,null,null,null,null,null,null,null,null,null,null,null,null,null,null,null,null,null,null,null,null,null,null,null,null,null,null,null,null,null,null,null,null,null,"未","未","未","未",0,0,0,0,{"$f":"IFERROR(IF(OR(BC106=\"未\",BD106=\"未\"),1,IF(MATCH(BC106&\"/\"&BD106,③読み替え表_省エネ住宅!$G$48:$G$57,0),1,0)),0)","v":1},{"$f":"IFERROR(IF(OR(BE106=\"未\",BF106=\"未\"),1,IF(MATCH(BE106&\"/\"&BF106,③読み替え表_省エネ住宅!$G$48:$G$57,0),1,0)),0)","v":1},1,1,1,"*"]
[null,97,null,null,null,null,null,null,null,null,null,null,null,null,null,null,null,null,null,null,null,null,null,null,null,null,null,null,null,null,null,null,null,null,null,null,null,null,null,null,null,null,null,null,null,null,null,null,null,null,null,null,null,null,"未","未","未","未",0,0,0,0,{"$f":"IFERROR(IF(OR(BC107=\"未\",BD107=\"未\"),1,IF(MATCH(BC107&\"/\"&BD107,③読み替え表_省エネ住宅!$G$48:$G$57,0),1,0)),0)","v":1},{"$f":"IFERROR(IF(OR(BE107=\"未\",BF107=\"未\"),1,IF(MATCH(BE107&\"/\"&BF107,③読み替え表_省エネ住宅!$G$48:$G$57,0),1,0)),0)","v":1},1,1,1,"*"]
[null,98,null,null,null,null,null,null,null,null,null,null,null,null,null,null,null,null,null,null,null,null,null,null,null,null,null,null,null,null,null,null,null,null,null,null,null,null,null,null,null,null,null,null,null,null,null,null,null,null,null,null,null,null,"未","未","未","未",0,0,0,0,{"$f":"IFERROR(IF(OR(BC108=\"未\",BD108=\"未\"),1,IF(MATCH(BC108&\"/\"&BD108,③読み替え表_省エネ住宅!$G$48:$G$57,0),1,0)),0)","v":1},{"$f":"IFERROR(IF(OR(BE108=\"未\",BF108=\"未\"),1,IF(MATCH(BE108&\"/\"&BF108,③読み替え表_省エネ住宅!$G$48:$G$57,0),1,0)),0)","v":1},1,1,1,"*"]
[null,99,null,null,null,null,null,null,null,null,null,null,null,null,null,null,null,null,null,null,null,null,null,null,null,null,null,null,null,null,null,null,null,null,null,null,null,null,null,null,null,null,null,null,null,null,null,null,null,null,null,null,null,null,"未","未","未","未",0,0,0,0,{"$f":"IFERROR(IF(OR(BC109=\"未\",BD109=\"未\"),1,IF(MATCH(BC109&\"/\"&BD109,③読み替え表_省エネ住宅!$G$48:$G$57,0),1,0)),0)","v":1},{"$f":"IFERROR(IF(OR(BE109=\"未\",BF109=\"未\"),1,IF(MATCH(BE109&\"/\"&BF109,③読み替え表_省エネ住宅!$G$48:$G$57,0),1,0)),0)","v":1},1,1,1,"*"]
[null,100,null,null,null,null,null,null,null,null,null,null,null,null,null,null,null,null,null,null,null,null,null,null,null,null,null,null,null,null,null,null,null,null,null,null,null,null,null,null,null,null,null,null,null,null,null,null,null,null,null,null,null,null,"未","未","未","未",0,0,0,0,{"$f":"IFERROR(IF(OR(BC110=\"未\",BD110=\"未\"),1,IF(MATCH(BC110&\"/\"&BD110,③読み替え表_省エネ住宅!$G$48:$G$57,0),1,0)),0)","v":1},{"$f":"IFERROR(IF(OR(BE110=\"未\",BF110=\"未\"),1,IF(MATCH(BE110&\"/\"&BF110,③読み替え表_省エネ住宅!$G$48:$G$57,0),1,0)),0)","v":1},1,1,1,"*"]
[null,101,null,null,null,null,null,null,null,null,null,null,null,null,null,null,null,null,null,null,null,null,null,null,null,null,null,null,null,null,null,null,null,null,null,null,null,null,null,null,null,null,null,null,null,null,null,null,null,null,null,null,null,null,"未","未","未","未",0,0,0,0,{"$f":"IFERROR(IF(OR(BC111=\"未\",BD111=\"未\"),1,IF(MATCH(BC111&\"/\"&BD111,③読み替え表_省エネ住宅!$G$48:$G$57,0),1,0)),0)","v":1},{"$f":"IFERROR(IF(OR(BE111=\"未\",BF111=\"未\"),1,IF(MATCH(BE111&\"/\"&BF111,③読み替え表_省エネ住宅!$G$48:$G$57,0),1,0)),0)","v":1},1,1,1,"*"]
[null,102,null,null,null,null,null,null,null,null,null,null,null,null,null,null,null,null,null,null,null,null,null,null,null,null,null,null,null,null,null,null,null,null,null,null,null,null,null,null,null,null,null,null,null,null,null,null,null,null,null,null,null,null,"未","未","未","未",0,0,0,0,{"$f":"IFERROR(IF(OR(BC112=\"未\",BD112=\"未\"),1,IF(MATCH(BC112&\"/\"&BD112,③読み替え表_省エネ住宅!$G$48:$G$57,0),1,0)),0)","v":1},{"$f":"IFERROR(IF(OR(BE112=\"未\",BF112=\"未\"),1,IF(MATCH(BE112&\"/\"&BF112,③読み替え表_省エネ住宅!$G$48:$G$57,0),1,0)),0)","v":1},1,1,1,"*"]
[null,103,null,null,null,null,null,null,null,null,null,null,null,null,null,null,null,null,null,null,null,null,null,null,null,null,null,null,null,null,null,null,null,null,null,null,null,null,null,null,null,null,null,null,null,null,null,null,null,null,null,null,null,null,"未","未","未","未",0,0,0,0,{"$f":"IFERROR(IF(OR(BC113=\"未\",BD113=\"未\"),1,IF(MATCH(BC113&\"/\"&BD113,③読み替え表_省エネ住宅!$G$48:$G$57,0),1,0)),0)","v":1},{"$f":"IFERROR(IF(OR(BE113=\"未\",BF113=\"未\"),1,IF(MATCH(BE113&\"/\"&BF113,③読み替え表_省エネ住宅!$G$48:$G$57,0),1,0)),0)","v":1},1,1,1,"*"]
[null,104,null,null,null,null,null,null,null,null,null,null,null,null,null,null,null,null,null,null,null,null,null,null,null,null,null,null,null,null,null,null,null,null,null,null,null,null,null,null,null,null,null,null,null,null,null,null,null,null,null,null,null,null,"未","未","未","未",0,0,0,0,{"$f":"IFERROR(IF(OR(BC114=\"未\",BD114=\"未\"),1,IF(MATCH(BC114&\"/\"&BD114,③読み替え表_省エネ住宅!$G$48:$G$57,0),1,0)),0)","v":1},{"$f":"IFERROR(IF(OR(BE114=\"未\",BF114=\"未\"),1,IF(MATCH(BE114&\"/\"&BF114,③読み替え表_省エネ住宅!$G$48:$G$57,0),1,0)),0)","v":1},1,1,1,"*"]
[null,105,null,null,null,null,null,null,null,null,null,null,null,null,null,null,null,null,null,null,null,null,null,null,null,null,null,null,null,null,null,null,null,null,null,null,null,null,null,null,null,null,null,null,null,null,null,null,null,null,null,null,null,null,"未","未","未","未",0,0,0,0,{"$f":"IFERROR(IF(OR(BC115=\"未\",BD115=\"未\"),1,IF(MATCH(BC115&\"/\"&BD115,③読み替え表_省エネ住宅!$G$48:$G$57,0),1,0)),0)","v":1},{"$f":"IFERROR(IF(OR(BE115=\"未\",BF115=\"未\"),1,IF(MATCH(BE115&\"/\"&BF115,③読み替え表_省エネ住宅!$G$48:$G$57,0),1,0)),0)","v":1},1,1,1,"*"]
[null,106,null,null,null,null,null,null,null,null,null,null,null,null,null,null,null,null,null,null,null,null,null,null,null,null,null,null,null,null,null,null,null,null,null,null,null,null,null,null,null,null,null,null,null,null,null,null,null,null,null,null,null,null,"未","未","未","未",0,0,0,0,{"$f":"IFERROR(IF(OR(BC116=\"未\",BD116=\"未\"),1,IF(MATCH(BC116&\"/\"&BD116,③読み替え表_省エネ住宅!$G$48:$G$57,0),1,0)),0)","v":1},{"$f":"IFERROR(IF(OR(BE116=\"未\",BF116=\"未\"),1,IF(MATCH(BE116&\"/\"&BF116,③読み替え表_省エネ住宅!$G$48:$G$57,0),1,0)),0)","v":1},1,1,1,"*"]
[null,107,null,null,null,null,null,null,null,null,null,null,null,null,null,null,null,null,null,null,null,null,null,null,null,null,null,null,null,null,null,null,null,null,null,null,null,null,null,null,null,null,null,null,null,null,null,null,null,null,null,null,null,null,"未","未","未","未",0,0,0,0,{"$f":"IFERROR(IF(OR(BC117=\"未\",BD117=\"未\"),1,IF(MATCH(BC117&\"/\"&BD117,③読み替え表_省エネ住宅!$G$48:$G$57,0),1,0)),0)","v":1},{"$f":"IFERROR(IF(OR(BE117=\"未\",BF117=\"未\"),1,IF(MATCH(BE117&\"/\"&BF117,③読み替え表_省エネ住宅!$G$48:$G$57,0),1,0)),0)","v":1},1,1,1,"*"]
[null,108,null,null,null,null,null,null,null,null,null,null,null,null,null,null,null,null,null,null,null,null,null,null,null,null,null,null,null,null,null,null,null,null,null,null,null,null,null,null,null,null,null,null,null,null,null,null,null,null,null,null,null,null,"未","未","未","未",0,0,0,0,{"$f":"IFERROR(IF(OR(BC118=\"未\",BD118=\"未\"),1,IF(MATCH(BC118&\"/\"&BD118,③読み替え表_省エネ住宅!$G$48:$G$57,0),1,0)),0)","v":1},{"$f":"IFERROR(IF(OR(BE118=\"未\",BF118=\"未\"),1,IF(MATCH(BE118&\"/\"&BF118,③読み替え表_省エネ住宅!$G$48:$G$57,0),1,0)),0)","v":1},1,1,1,"*"]
[null,109,null,null,null,null,null,null,null,null,null,null,null,null,null,null,null,null,null,null,null,null,null,null,null,null,null,null,null,null,null,null,null,null,null,null,null,null,null,null,null,null,null,null,null,null,null,null,null,null,null,null,null,null,"未","未","未","未",0,0,0,0,{"$f":"IFERROR(IF(OR(BC119=\"未\",BD119=\"未\"),1,IF(MATCH(BC119&\"/\"&BD119,③読み替え表_省エネ住宅!$G$48:$G$57,0),1,0)),0)","v":1},{"$f":"IFERROR(IF(OR(BE119=\"未\",BF119=\"未\"),1,IF(MATCH(BE119&\"/\"&BF119,③読み替え表_省エネ住宅!$G$48:$G$57,0),1,0)),0)","v":1},1,1,1,"*"]
[null,110,null,null,null,null,null,null,null,null,null,null,null,null,null,null,null,null,null,null,null,null,null,null,null,null,null,null,null,null,null,null,null,null,null,null,null,null,null,null,null,null,null,null,null,null,null,null,null,null,null,null,null,null,"未","未","未","未",0,0,0,0,{"$f":"IFERROR(IF(OR(BC120=\"未\",BD120=\"未\"),1,IF(MATCH(BC120&\"/\"&BD120,③読み替え表_省エネ住宅!$G$48:$G$57,0),1,0)),0)","v":1},{"$f":"IFERROR(IF(OR(BE120=\"未\",BF120=\"未\"),1,IF(MATCH(BE120&\"/\"&BF120,③読み替え表_省エネ住宅!$G$48:$G$57,0),1,0)),0)","v":1},1,1,1,"*"]
[null,111,null,null,null,null,null,null,null,null,null,null,null,null,null,null,null,null,null,null,null,null,null,null,null,null,null,null,null,null,null,null,null,null,null,null,null,null,null,null,null,null,null,null,null,null,null,null,null,null,null,null,null,null,"未","未","未","未",0,0,0,0,{"$f":"IFERROR(IF(OR(BC121=\"未\",BD121=\"未\"),1,IF(MATCH(BC121&\"/\"&BD121,③読み替え表_省エネ住宅!$G$48:$G$57,0),1,0)),0)","v":1},{"$f":"IFERROR(IF(OR(BE121=\"未\",BF121=\"未\"),1,IF(MATCH(BE121&\"/\"&BF121,③読み替え表_省エネ住宅!$G$48:$G$57,0),1,0)),0)","v":1},1,1,1,"*"]
[null,112,null,null,null,null,null,null,null,null,null,null,null,null,null,null,null,null,null,null,null,null,null,null,null,null,null,null,null,null,null,null,null,null,null,null,null,null,null,null,null,null,null,null,null,null,null,null,null,null,null,null,null,null,"未","未","未","未",0,0,0,0,{"$f":"IFERROR(IF(OR(BC122=\"未\",BD122=\"未\"),1,IF(MATCH(BC122&\"/\"&BD122,③読み替え表_省エネ住宅!$G$48:$G$57,0),1,0)),0)","v":1},{"$f":"IFERROR(IF(OR(BE122=\"未\",BF122=\"未\"),1,IF(MATCH(BE122&\"/\"&BF122,③読み替え表_省エネ住宅!$G$48:$G$57,0),1,0)),0)","v":1},1,1,1,"*"]
[null,113,null,null,null,null,null,null,null,null,null,null,null,null,null,null,null,null,null,null,null,null,null,null,null,null,null,null,null,null,null,null,null,null,null,null,null,null,null,null,null,null,null,null,null,null,null,null,null,null,null,null,null,null,"未","未","未","未",0,0,0,0,{"$f":"IFERROR(IF(OR(BC123=\"未\",BD123=\"未\"),1,IF(MATCH(BC123&\"/\"&BD123,③読み替え表_省エネ住宅!$G$48:$G$57,0),1,0)),0)","v":1},{"$f":"IFERROR(IF(OR(BE123=\"未\",BF123=\"未\"),1,IF(MATCH(BE123&\"/\"&BF123,③読み替え表_省エネ住宅!$G$48:$G$57,0),1,0)),0)","v":1},1,1,1,"*"]
[null,114,null,null,null,null,null,null,null,null,null,null,null,null,null,null,null,null,null,null,null,null,null,null,null,null,null,null,null,null,null,null,null,null,null,null,null,null,null,null,null,null,null,null,null,null,null,null,null,null,null,null,null,null,"未","未","未","未",0,0,0,0,{"$f":"IFERROR(IF(OR(BC124=\"未\",BD124=\"未\"),1,IF(MATCH(BC124&\"/\"&BD124,③読み替え表_省エネ住宅!$G$48:$G$57,0),1,0)),0)","v":1},{"$f":"IFERROR(IF(OR(BE124=\"未\",BF124=\"未\"),1,IF(MATCH(BE124&\"/\"&BF124,③読み替え表_省エネ住宅!$G$48:$G$57,0),1,0)),0)","v":1},1,1,1,"*"]
[null,115,null,null,null,null,null,null,null,null,null,null,null,null,null,null,null,null,null,null,null,null,null,null,null,null,null,null,null,null,null,null,null,null,null,null,null,null,null,null,null,null,null,null,null,null,null,null,null,null,null,null,null,null,"未","未","未","未",0,0,0,0,{"$f":"IFERROR(IF(OR(BC125=\"未\",BD125=\"未\"),1,IF(MATCH(BC125&\"/\"&BD125,③読み替え表_省エネ住宅!$G$48:$G$57,0),1,0)),0)","v":1},{"$f":"IFERROR(IF(OR(BE125=\"未\",BF125=\"未\"),1,IF(MATCH(BE125&\"/\"&BF125,③読み替え表_省エネ住宅!$G$48:$G$57,0),1,0)),0)","v":1},1,1,1,"*"]
[null,116,null,null,null,null,null,null,null,null,null,null,null,null,null,null,null,null,null,null,null,null,null,null,null,null,null,null,null,null,null,null,null,null,null,null,null,null,null,null,null,null,null,null,null,null,null,null,null,null,null,null,null,null,"未","未","未","未",0,0,0,0,{"$f":"IFERROR(IF(OR(BC126=\"未\",BD126=\"未\"),1,IF(MATCH(BC126&\"/\"&BD126,③読み替え表_省エネ住宅!$G$48:$G$57,0),1,0)),0)","v":1},{"$f":"IFERROR(IF(OR(BE126=\"未\",BF126=\"未\"),1,IF(MATCH(BE126&\"/\"&BF126,③読み替え表_省エネ住宅!$G$48:$G$57,0),1,0)),0)","v":1},1,1,1,"*"]
[null,117,null,null,null,null,null,null,null,null,null,null,null,null,null,null,null,null,null,null,null,null,null,null,null,null,null,null,null,null,null,null,null,null,null,null,null,null,null,null,null,null,null,null,null,null,null,null,null,null,null,null,null,null,"未","未","未","未",0,0,0,0,{"$f":"IFERROR(IF(OR(BC127=\"未\",BD127=\"未\"),1,IF(MATCH(BC127&\"/\"&BD127,③読み替え表_省エネ住宅!$G$48:$G$57,0),1,0)),0)","v":1},{"$f":"IFERROR(IF(OR(BE127=\"未\",BF127=\"未\"),1,IF(MATCH(BE127&\"/\"&BF127,③読み替え表_省エネ住宅!$G$48:$G$57,0),1,0)),0)","v":1},1,1,1,"*"]
[null,118,null,null,null,null,null,null,null,null,null,null,null,null,null,null,null,null,null,null,null,null,null,null,null,null,null,null,null,null,null,null,null,null,null,null,null,null,null,null,null,null,null,null,null,null,null,null,null,null,null,null,null,null,"未","未","未","未",0,0,0,0,{"$f":"IFERROR(IF(OR(BC128=\"未\",BD128=\"未\"),1,IF(MATCH(BC128&\"/\"&BD128,③読み替え表_省エネ住宅!$G$48:$G$57,0),1,0)),0)","v":1},{"$f":"IFERROR(IF(OR(BE128=\"未\",BF128=\"未\"),1,IF(MATCH(BE128&\"/\"&BF128,③読み替え表_省エネ住宅!$G$48:$G$57,0),1,0)),0)","v":1},1,1,1,"*"]
[null,119,null,null,null,null,null,null,null,null,null,null,null,null,null,null,null,null,null,null,null,null,null,null,null,null,null,null,null,null,null,null,null,null,null,null,null,null,null,null,null,null,null,null,null,null,null,null,null,null,null,null,null,null,"未","未","未","未",0,0,0,0,{"$f":"IFERROR(IF(OR(BC129=\"未\",BD129=\"未\"),1,IF(MATCH(BC129&\"/\"&BD129,③読み替え表_省エネ住宅!$G$48:$G$57,0),1,0)),0)","v":1},{"$f":"IFERROR(IF(OR(BE129=\"未\",BF129=\"未\"),1,IF(MATCH(BE129&\"/\"&BF129,③読み替え表_省エネ住宅!$G$48:$G$57,0),1,0)),0)","v":1},1,1,1,"*"]
[null,120,null,null,null,null,null,null,null,null,null,null,null,null,null,null,null,null,null,null,null,null,null,null,null,null,null,null,null,null,null,null,null,null,null,null,null,null,null,null,null,null,null,null,null,null,null,null,null,null,null,null,null,null,"未","未","未","未",0,0,0,0,{"$f":"IFERROR(IF(OR(BC130=\"未\",BD130=\"未\"),1,IF(MATCH(BC130&\"/\"&BD130,③読み替え表_省エネ住宅!$G$48:$G$57,0),1,0)),0)","v":1},{"$f":"IFERROR(IF(OR(BE130=\"未\",BF130=\"未\"),1,IF(MATCH(BE130&\"/\"&BF130,③読み替え表_省エネ住宅!$G$48:$G$57,0),1,0)),0)","v":1},1,1,1,"*"]
[null,121,null,null,null,null,null,null,null,null,null,null,null,null,null,null,null,null,null,null,null,null,null,null,null,null,null,null,null,null,null,null,null,null,null,null,null,null,null,null,null,null,null,null,null,null,null,null,null,null,null,null,null,null,"未","未","未","未",0,0,0,0,{"$f":"IFERROR(IF(OR(BC131=\"未\",BD131=\"未\"),1,IF(MATCH(BC131&\"/\"&BD131,③読み替え表_省エネ住宅!$G$48:$G$57,0),1,0)),0)","v":1},{"$f":"IFERROR(IF(OR(BE131=\"未\",BF131=\"未\"),1,IF(MATCH(BE131&\"/\"&BF131,③読み替え表_省エネ住宅!$G$48:$G$57,0),1,0)),0)","v":1},1,1,1,"*"]
[null,122,null,null,null,null,null,null,null,null,null,null,null,null,null,null,null,null,null,null,null,null,null,null,null,null,null,null,null,null,null,null,null,null,null,null,null,null,null,null,null,null,null,null,null,null,null,null,null,null,null,null,null,null,"未","未","未","未",0,0,0,0,{"$f":"IFERROR(IF(OR(BC132=\"未\",BD132=\"未\"),1,IF(MATCH(BC132&\"/\"&BD132,③読み替え表_省エネ住宅!$G$48:$G$57,0),1,0)),0)","v":1},{"$f":"IFERROR(IF(OR(BE132=\"未\",BF132=\"未\"),1,IF(MATCH(BE132&\"/\"&BF132,③読み替え表_省エネ住宅!$G$48:$G$57,0),1,0)),0)","v":1},1,1,1,"*"]
[null,123,null,null,null,null,null,null,null,null,null,null,null,null,null,null,null,null,null,null,null,null,null,null,null,null,null,null,null,null,null,null,null,null,null,null,null,null,null,null,null,null,null,null,null,null,null,null,null,null,null,null,null,null,"未","未","未","未",0,0,0,0,{"$f":"IFERROR(IF(OR(BC133=\"未\",BD133=\"未\"),1,IF(MATCH(BC133&\"/\"&BD133,③読み替え表_省エネ住宅!$G$48:$G$57,0),1,0)),0)","v":1},{"$f":"IFERROR(IF(OR(BE133=\"未\",BF133=\"未\"),1,IF(MATCH(BE133&\"/\"&BF133,③読み替え表_省エネ住宅!$G$48:$G$57,0),1,0)),0)","v":1},1,1,1,"*"]
[null,124,null,null,null,null,null,null,null,null,null,null,null,null,null,null,null,null,null,null,null,null,null,null,null,null,null,null,null,null,null,null,null,null,null,null,null,null,null,null,null,null,null,null,null,null,null,null,null,null,null,null,null,null,"未","未","未","未",0,0,0,0,{"$f":"IFERROR(IF(OR(BC134=\"未\",BD134=\"未\"),1,IF(MATCH(BC134&\"/\"&BD134,③読み替え表_省エネ住宅!$G$48:$G$57,0),1,0)),0)","v":1},{"$f":"IFERROR(IF(OR(BE134=\"未\",BF134=\"未\"),1,IF(MATCH(BE134&\"/\"&BF134,③読み替え表_省エネ住宅!$G$48:$G$57,0),1,0)),0)","v":1},1,1,1,"*"]
[null,125,null,null,null,null,null,null,null,null,null,null,null,null,null,null,null,null,null,null,null,null,null,null,null,null,null,null,null,null,null,null,null,null,null,null,null,null,null,null,null,null,null,null,null,null,null,null,null,null,null,null,null,null,"未","未","未","未",0,0,0,0,{"$f":"IFERROR(IF(OR(BC135=\"未\",BD135=\"未\"),1,IF(MATCH(BC135&\"/\"&BD135,③読み替え表_省エネ住宅!$G$48:$G$57,0),1,0)),0)","v":1},{"$f":"IFERROR(IF(OR(BE135=\"未\",BF135=\"未\"),1,IF(MATCH(BE135&\"/\"&BF135,③読み替え表_省エネ住宅!$G$48:$G$57,0),1,0)),0)","v":1},1,1,1,"*"]
[null,126,null,null,null,null,null,null,null,null,null,null,null,null,null,null,null,null,null,null,null,null,null,null,null,null,null,null,null,null,null,null,null,null,null,null,null,null,null,null,null,null,null,null,null,null,null,null,null,null,null,null,null,null,"未","未","未","未",0,0,0,0,{"$f":"IFERROR(IF(OR(BC136=\"未\",BD136=\"未\"),1,IF(MATCH(BC136&\"/\"&BD136,③読み替え表_省エネ住宅!$G$48:$G$57,0),1,0)),0)","v":1},{"$f":"IFERROR(IF(OR(BE136=\"未\",BF136=\"未\"),1,IF(MATCH(BE136&\"/\"&BF136,③読み替え表_省エネ住宅!$G$48:$G$57,0),1,0)),0)","v":1},1,1,1,"*"]
[null,127,null,null,null,null,null,null,null,null,null,null,null,null,null,null,null,null,null,null,null,null,null,null,null,null,null,null,null,null,null,null,null,null,null,null,null,null,null,null,null,null,null,null,null,null,null,null,null,null,null,null,null,null,"未","未","未","未",0,0,0,0,{"$f":"IFERROR(IF(OR(BC137=\"未\",BD137=\"未\"),1,IF(MATCH(BC137&\"/\"&BD137,③読み替え表_省エネ住宅!$G$48:$G$57,0),1,0)),0)","v":1},{"$f":"IFERROR(IF(OR(BE137=\"未\",BF137=\"未\"),1,IF(MATCH(BE137&\"/\"&BF137,③読み替え表_省エネ住宅!$G$48:$G$57,0),1,0)),0)","v":1},1,1,1,"*"]
[null,128,null,null,null,null,null,null,null,null,null,null,null,null,null,null,null,null,null,null,null,null,null,null,null,null,null,null,null,null,null,null,null,null,null,null,null,null,null,null,null,null,null,null,null,null,null,null,null,null,null,null,null,null,"未","未","未","未",0,0,0,0,{"$f":"IFERROR(IF(OR(BC138=\"未\",BD138=\"未\"),1,IF(MATCH(BC138&\"/\"&BD138,③読み替え表_省エネ住宅!$G$48:$G$57,0),1,0)),0)","v":1},{"$f":"IFERROR(IF(OR(BE138=\"未\",BF138=\"未\"),1,IF(MATCH(BE138&\"/\"&BF138,③読み替え表_省エネ住宅!$G$48:$G$57,0),1,0)),0)","v":1},1,1,1,"*"]
[null,129,null,null,null,null,null,null,null,null,null,null,null,null,null,null,null,null,null,null,null,null,null,null,null,null,null,null,null,null,null,null,null,null,null,null,null,null,null,null,null,null,null,null,null,null,null,null,null,null,null,null,null,null,"未","未","未","未",0,0,0,0,{"$f":"IFERROR(IF(OR(BC139=\"未\",BD139=\"未\"),1,IF(MATCH(BC139&\"/\"&BD139,③読み替え表_省エネ住宅!$G$48:$G$57,0),1,0)),0)","v":1},{"$f":"IFERROR(IF(OR(BE139=\"未\",BF139=\"未\"),1,IF(MATCH(BE139&\"/\"&BF139,③読み替え表_省エネ住宅!$G$48:$G$57,0),1,0)),0)","v":1},1,1,1,"*"]
[null,{"$f":"ROW()-10","v":130},null,null,null,null,null,null,null,null,null,null,null,null,null,null,null,null,null,null,null,null,null,null,null,null,null,null,null,null,null,null,null,null,null,null,null,null,null,null,null,null,null,null,null,null,null,null,null,null,null,null,null,null,{"$f":"IFERROR(IF(SUM($Q140:$U140)>1,\"複数回答\",INDEX($Q$10:$U$10,,MATCH(1,$Q140:$U140,0))),\"未\")","v":"未"},{"$f":"IFERROR(IF(SUM($AA140:$AE140)>1,\"複数回答\",INDEX($AA$10:$AE$10,,MATCH(1,$AA140:$AE140,0))),\"未\")","v":"未"},{"$f":"IFERROR(IF(SUM($V140:$Z140)>1,\"複数回答\",INDEX($V$10:$Z$10,,MATCH(1,$V140:$Z140,0))),\"未\")","v":"未"},{"$f":"IFERROR(IF(SUM($AF140:$AJ140)>1,\"複数回答\",INDEX($AF$10:$AJ$10,,MATCH(1,$AF140:$AJ140,0))),\"未\")","v":"未"},{"$f":"IF(OR(AA140=1,AB140=1,AC140=1),1,0)","v":0},{"$f":"IF(OR(AF140=1,AG140=1,AH140=1),1,0)","v":0},{"$f":"IF(BC140=\"複数回答\",1,IF(BD140=\"複数回答\",1,0))","v":0},{"$f":"IF(BE140=\"複数回答\",1,IF(BF140=\"複数回答\",1,0))","v":0},{"$f":"IFERROR(IF(OR(BC140=\"未\",BD140=\"未\"),1,IF(MATCH(BC140&\"/\"&BD140,③読み替え表_省エネ住宅!$G$48:$G$57,0),1,0)),0)","v":1},{"$f":"IFERROR(IF(OR(BE140=\"未\",BF140=\"未\"),1,IF(MATCH(BE140&\"/\"&BF140,③読み替え表_省エネ住宅!$G$48:$G$57,0),1,0)),0)","v":1},{"$f":"IF(BI140+BK140>0,1,0)","v":1},{"$f":"IF(BJ140+BL140>0,1,0)","v":1},{"$f":"IF(SUM(BI140:BL140)>0,1,0)","v":1},"*"]
[null,131,null,null,null,null,null,null,null,null,null,null,null,null,null,null,null,null,null,null,null,null,null,null,null,null,null,null,null,null,null,null,null,null,null,null,null,null,null,null,null,null,null,null,null,null,null,null,null,null,null,null,null,null,"未","未","未","未",0,0,0,0,{"$f":"IFERROR(IF(OR(BC141=\"未\",BD141=\"未\"),1,IF(MATCH(BC141&\"/\"&BD141,③読み替え表_省エネ住宅!$G$48:$G$57,0),1,0)),0)","v":1},{"$f":"IFERROR(IF(OR(BE141=\"未\",BF141=\"未\"),1,IF(MATCH(BE141&\"/\"&BF141,③読み替え表_省エネ住宅!$G$48:$G$57,0),1,0)),0)","v":1},1,1,1,"*"]
[null,132,null,null,null,null,null,null,null,null,null,null,null,null,null,null,null,null,null,null,null,null,null,null,null,null,null,null,null,null,null,null,null,null,null,null,null,null,null,null,null,null,null,null,null,null,null,null,null,null,null,null,null,null,"未","未","未","未",0,0,0,0,{"$f":"IFERROR(IF(OR(BC142=\"未\",BD142=\"未\"),1,IF(MATCH(BC142&\"/\"&BD142,③読み替え表_省エネ住宅!$G$48:$G$57,0),1,0)),0)","v":1},{"$f":"IFERROR(IF(OR(BE142=\"未\",BF142=\"未\"),1,IF(MATCH(BE142&\"/\"&BF142,③読み替え表_省エネ住宅!$G$48:$G$57,0),1,0)),0)","v":1},1,1,1,"*"]
[null,133,null,null,null,null,null,null,null,null,null,null,null,null,null,null,null,null,null,null,null,null,null,null,null,null,null,null,null,null,null,null,null,null,null,null,null,null,null,null,null,null,null,null,null,null,null,null,null,null,null,null,null,null,"未","未","未","未",0,0,0,0,{"$f":"IFERROR(IF(OR(BC143=\"未\",BD143=\"未\"),1,IF(MATCH(BC143&\"/\"&BD143,③読み替え表_省エネ住宅!$G$48:$G$57,0),1,0)),0)","v":1},{"$f":"IFERROR(IF(OR(BE143=\"未\",BF143=\"未\"),1,IF(MATCH(BE143&\"/\"&BF143,③読み替え表_省エネ住宅!$G$48:$G$57,0),1,0)),0)","v":1},1,1,1,"*"]
[null,134,null,null,null,null,null,null,null,null,null,null,null,null,null,null,null,null,null,null,null,null,null,null,null,null,null,null,null,null,null,null,null,null,null,null,null,null,null,null,null,null,null,null,null,null,null,null,null,null,null,null,null,null,"未","未","未","未",0,0,0,0,{"$f":"IFERROR(IF(OR(BC144=\"未\",BD144=\"未\"),1,IF(MATCH(BC144&\"/\"&BD144,③読み替え表_省エネ住宅!$G$48:$G$57,0),1,0)),0)","v":1},{"$f":"IFERROR(IF(OR(BE144=\"未\",BF144=\"未\"),1,IF(MATCH(BE144&\"/\"&BF144,③読み替え表_省エネ住宅!$G$48:$G$57,0),1,0)),0)","v":1},1,1,1,"*"]
[null,135,null,null,null,null,null,null,null,null,null,null,null,null,null,null,null,null,null,null,null,null,null,null,null,null,null,null,null,null,null,null,null,null,null,null,null,null,null,null,null,null,null,null,null,null,null,null,null,null,null,null,null,null,"未","未","未","未",0,0,0,0,{"$f":"IFERROR(IF(OR(BC145=\"未\",BD145=\"未\"),1,IF(MATCH(BC145&\"/\"&BD145,③読み替え表_省エネ住宅!$G$48:$G$57,0),1,0)),0)","v":1},{"$f":"IFERROR(IF(OR(BE145=\"未\",BF145=\"未\"),1,IF(MATCH(BE145&\"/\"&BF145,③読み替え表_省エネ住宅!$G$48:$G$57,0),1,0)),0)","v":1},1,1,1,"*"]
[null,136,null,null,null,null,null,null,null,null,null,null,null,null,null,null,null,null,null,null,null,null,null,null,null,null,null,null,null,null,null,null,null,null,null,null,null,null,null,null,null,null,null,null,null,null,null,null,null,null,null,null,null,null,"未","未","未","未",0,0,0,0,{"$f":"IFERROR(IF(OR(BC146=\"未\",BD146=\"未\"),1,IF(MATCH(BC146&\"/\"&BD146,③読み替え表_省エネ住宅!$G$48:$G$57,0),1,0)),0)","v":1},{"$f":"IFERROR(IF(OR(BE146=\"未\",BF146=\"未\"),1,IF(MATCH(BE146&\"/\"&BF146,③読み替え表_省エネ住宅!$G$48:$G$57,0),1,0)),0)","v":1},1,1,1,"*"]
[null,137,null,null,null,null,null,null,null,null,null,null,null,null,null,null,null,null,null,null,null,null,null,null,null,null,null,null,null,null,null,null,null,null,null,null,null,null,null,null,null,null,null,null,null,null,null,null,null,null,null,null,null,null,"未","未","未","未",0,0,0,0,{"$f":"IFERROR(IF(OR(BC147=\"未\",BD147=\"未\"),1,IF(MATCH(BC147&\"/\"&BD147,③読み替え表_省エネ住宅!$G$48:$G$57,0),1,0)),0)","v":1},{"$f":"IFERROR(IF(OR(BE147=\"未\",BF147=\"未\"),1,IF(MATCH(BE147&\"/\"&BF147,③読み替え表_省エネ住宅!$G$48:$G$57,0),1,0)),0)","v":1},1,1,1,"*"]
[null,138,null,null,null,null,null,null,null,null,null,null,null,null,null,null,null,null,null,null,null,null,null,null,null,null,null,null,null,null,null,null,null,null,null,null,null,null,null,null,null,null,null,null,null,null,null,null,null,null,null,null,null,null,"未","未","未","未",0,0,0,0,{"$f":"IFERROR(IF(OR(BC148=\"未\",BD148=\"未\"),1,IF(MATCH(BC148&\"/\"&BD148,③読み替え表_省エネ住宅!$G$48:$G$57,0),1,0)),0)","v":1},{"$f":"IFERROR(IF(OR(BE148=\"未\",BF148=\"未\"),1,IF(MATCH(BE148&\"/\"&BF148,③読み替え表_省エネ住宅!$G$48:$G$57,0),1,0)),0)","v":1},1,1,1,"*"]
[null,139,null,null,null,null,null,null,null,null,null,null,null,null,null,null,null,null,null,null,null,null,null,null,null,null,null,null,null,null,null,null,null,null,null,null,null,null,null,null,null,null,null,null,null,null,null,null,null,null,null,null,null,null,"未","未","未","未",0,0,0,0,{"$f":"IFERROR(IF(OR(BC149=\"未\",BD149=\"未\"),1,IF(MATCH(BC149&\"/\"&BD149,③読み替え表_省エネ住宅!$G$48:$G$57,0),1,0)),0)","v":1},{"$f":"IFERROR(IF(OR(BE149=\"未\",BF149=\"未\"),1,IF(MATCH(BE149&\"/\"&BF149,③読み替え表_省エネ住宅!$G$48:$G$57,0),1,0)),0)","v":1},1,1,1,"*"]
[null,140,null,null,null,null,null,null,null,null,null,null,null,null,null,null,null,null,null,null,null,null,null,null,null,null,null,null,null,null,null,null,null,null,null,null,null,null,null,null,null,null,null,null,null,null,null,null,null,null,null,null,null,null,"未","未","未","未",0,0,0,0,{"$f":"IFERROR(IF(OR(BC150=\"未\",BD150=\"未\"),1,IF(MATCH(BC150&\"/\"&BD150,③読み替え表_省エネ住宅!$G$48:$G$57,0),1,0)),0)","v":1},{"$f":"IFERROR(IF(OR(BE150=\"未\",BF150=\"未\"),1,IF(MATCH(BE150&\"/\"&BF150,③読み替え表_省エネ住宅!$G$48:$G$57,0),1,0)),0)","v":1},1,1,1,"*"]
[null,141,null,null,null,null,null,null,null,null,null,null,null,null,null,null,null,null,null,null,null,null,null,null,null,null,null,null,null,null,null,null,null,null,null,null,null,null,null,null,null,null,null,null,null,null,null,null,null,null,null,null,null,null,"未","未","未","未",0,0,0,0,{"$f":"IFERROR(IF(OR(BC151=\"未\",BD151=\"未\"),1,IF(MATCH(BC151&\"/\"&BD151,③読み替え表_省エネ住宅!$G$48:$G$57,0),1,0)),0)","v":1},{"$f":"IFERROR(IF(OR(BE151=\"未\",BF151=\"未\"),1,IF(MATCH(BE151&\"/\"&BF151,③読み替え表_省エネ住宅!$G$48:$G$57,0),1,0)),0)","v":1},1,1,1,"*"]
[null,142,null,null,null,null,null,null,null,null,null,null,null,null,null,null,null,null,null,null,null,null,null,null,null,null,null,null,null,null,null,null,null,null,null,null,null,null,null,null,null,null,null,null,null,null,null,null,null,null,null,null,null,null,"未","未","未","未",0,0,0,0,{"$f":"IFERROR(IF(OR(BC152=\"未\",BD152=\"未\"),1,IF(MATCH(BC152&\"/\"&BD152,③読み替え表_省エネ住宅!$G$48:$G$57,0),1,0)),0)","v":1},{"$f":"IFERROR(IF(OR(BE152=\"未\",BF152=\"未\"),1,IF(MATCH(BE152&\"/\"&BF152,③読み替え表_省エネ住宅!$G$48:$G$57,0),1,0)),0)","v":1},1,1,1,"*"]
[null,143,null,null,null,null,null,null,null,null,null,null,null,null,null,null,null,null,null,null,null,null,null,null,null,null,null,null,null,null,null,null,null,null,null,null,null,null,null,null,null,null,null,null,null,null,null,null,null,null,null,null,null,null,"未","未","未","未",0,0,0,0,{"$f":"IFERROR(IF(OR(BC153=\"未\",BD153=\"未\"),1,IF(MATCH(BC153&\"/\"&BD153,③読み替え表_省エネ住宅!$G$48:$G$57,0),1,0)),0)","v":1},{"$f":"IFERROR(IF(OR(BE153=\"未\",BF153=\"未\"),1,IF(MATCH(BE153&\"/\"&BF153,③読み替え表_省エネ住宅!$G$48:$G$57,0),1,0)),0)","v":1},1,1,1,"*"]
[null,144,null,null,null,null,null,null,null,null,null,null,null,null,null,null,null,null,null,null,null,null,null,null,null,null,null,null,null,null,null,null,null,null,null,null,null,null,null,null,null,null,null,null,null,null,null,null,null,null,null,null,null,null,"未","未","未","未",0,0,0,0,{"$f":"IFERROR(IF(OR(BC154=\"未\",BD154=\"未\"),1,IF(MATCH(BC154&\"/\"&BD154,③読み替え表_省エネ住宅!$G$48:$G$57,0),1,0)),0)","v":1},{"$f":"IFERROR(IF(OR(BE154=\"未\",BF154=\"未\"),1,IF(MATCH(BE154&\"/\"&BF154,③読み替え表_省エネ住宅!$G$48:$G$57,0),1,0)),0)","v":1},1,1,1,"*"]
[null,145,null,null,null,null,null,null,null,null,null,null,null,null,null,null,null,null,null,null,null,null,null,null,null,null,null,null,null,null,null,null,null,null,null,null,null,null,null,null,null,null,null,null,null,null,null,null,null,null,null,null,null,null,"未","未","未","未",0,0,0,0,{"$f":"IFERROR(IF(OR(BC155=\"未\",BD155=\"未\"),1,IF(MATCH(BC155&\"/\"&BD155,③読み替え表_省エネ住宅!$G$48:$G$57,0),1,0)),0)","v":1},{"$f":"IFERROR(IF(OR(BE155=\"未\",BF155=\"未\"),1,IF(MATCH(BE155&\"/\"&BF155,③読み替え表_省エネ住宅!$G$48:$G$57,0),1,0)),0)","v":1},1,1,1,"*"]
[null,146,null,null,null,null,null,null,null,null,null,null,null,null,null,null,null,null,null,null,null,null,null,null,null,null,null,null,null,null,null,null,null,null,null,null,null,null,null,null,null,null,null,null,null,null,null,null,null,null,null,null,null,null,"未","未","未","未",0,0,0,0,{"$f":"IFERROR(IF(OR(BC156=\"未\",BD156=\"未\"),1,IF(MATCH(BC156&\"/\"&BD156,③読み替え表_省エネ住宅!$G$48:$G$57,0),1,0)),0)","v":1},{"$f":"IFERROR(IF(OR(BE156=\"未\",BF156=\"未\"),1,IF(MATCH(BE156&\"/\"&BF156,③読み替え表_省エネ住宅!$G$48:$G$57,0),1,0)),0)","v":1},1,1,1,"*"]
[null,147,null,null,null,null,null,null,null,null,null,null,null,null,null,null,null,null,null,null,null,null,null,null,null,null,null,null,null,null,null,null,null,null,null,null,null,null,null,null,null,null,null,null,null,null,null,null,null,null,null,null,null,null,"未","未","未","未",0,0,0,0,{"$f":"IFERROR(IF(OR(BC157=\"未\",BD157=\"未\"),1,IF(MATCH(BC157&\"/\"&BD157,③読み替え表_省エネ住宅!$G$48:$G$57,0),1,0)),0)","v":1},{"$f":"IFERROR(IF(OR(BE157=\"未\",BF157=\"未\"),1,IF(MATCH(BE157&\"/\"&BF157,③読み替え表_省エネ住宅!$G$48:$G$57,0),1,0)),0)","v":1},1,1,1,"*"]
[null,148,null,null,null,null,null,null,null,null,null,null,null,null,null,null,null,null,null,null,null,null,null,null,null,null,null,null,null,null,null,null,null,null,null,null,null,null,null,null,null,null,null,null,null,null,null,null,null,null,null,null,null,null,"未","未","未","未",0,0,0,0,{"$f":"IFERROR(IF(OR(BC158=\"未\",BD158=\"未\"),1,IF(MATCH(BC158&\"/\"&BD158,③読み替え表_省エネ住宅!$G$48:$G$57,0),1,0)),0)","v":1},{"$f":"IFERROR(IF(OR(BE158=\"未\",BF158=\"未\"),1,IF(MATCH(BE158&\"/\"&BF158,③読み替え表_省エネ住宅!$G$48:$G$57,0),1,0)),0)","v":1},1,1,1,"*"]
[null,149,null,null,null,null,null,null,null,null,null,null,null,null,null,null,null,null,null,null,null,null,null,null,null,null,null,null,null,null,null,null,null,null,null,null,null,null,null,null,null,null,null,null,null,null,null,null,null,null,null,null,null,null,"未","未","未","未",0,0,0,0,{"$f":"IFERROR(IF(OR(BC159=\"未\",BD159=\"未\"),1,IF(MATCH(BC159&\"/\"&BD159,③読み替え表_省エネ住宅!$G$48:$G$57,0),1,0)),0)","v":1},{"$f":"IFERROR(IF(OR(BE159=\"未\",BF159=\"未\"),1,IF(MATCH(BE159&\"/\"&BF159,③読み替え表_省エネ住宅!$G$48:$G$57,0),1,0)),0)","v":1},1,1,1,"*"]
[null,150,null,null,null,null,null,null,null,null,null,null,null,null,null,null,null,null,null,null,null,null,null,null,null,null,null,null,null,null,null,null,null,null,null,null,null,null,null,null,null,null,null,null,null,null,null,null,null,null,null,null,null,null,"未","未","未","未",0,0,0,0,{"$f":"IFERROR(IF(OR(BC160=\"未\",BD160=\"未\"),1,IF(MATCH(BC160&\"/\"&BD160,③読み替え表_省エネ住宅!$G$48:$G$57,0),1,0)),0)","v":1},{"$f":"IFERROR(IF(OR(BE160=\"未\",BF160=\"未\"),1,IF(MATCH(BE160&\"/\"&BF160,③読み替え表_省エネ住宅!$G$48:$G$57,0),1,0)),0)","v":1},1,1,1,"*"]
[null,151,null,null,null,null,null,null,null,null,null,null,null,null,null,null,null,null,null,null,null,null,null,null,null,null,null,null,null,null,null,null,null,null,null,null,null,null,null,null,null,null,null,null,null,null,null,null,null,null,null,null,null,null,"未","未","未","未",0,0,0,0,{"$f":"IFERROR(IF(OR(BC161=\"未\",BD161=\"未\"),1,IF(MATCH(BC161&\"/\"&BD161,③読み替え表_省エネ住宅!$G$48:$G$57,0),1,0)),0)","v":1},{"$f":"IFERROR(IF(OR(BE161=\"未\",BF161=\"未\"),1,IF(MATCH(BE161&\"/\"&BF161,③読み替え表_省エネ住宅!$G$48:$G$57,0),1,0)),0)","v":1},1,1,1,"*"]
[null,152,null,null,null,null,null,null,null,null,null,null,null,null,null,null,null,null,null,null,null,null,null,null,null,null,null,null,null,null,null,null,null,null,null,null,null,null,null,null,null,null,null,null,null,null,null,null,null,null,null,null,null,null,"未","未","未","未",0,0,0,0,{"$f":"IFERROR(IF(OR(BC162=\"未\",BD162=\"未\"),1,IF(MATCH(BC162&\"/\"&BD162,③読み替え表_省エネ住宅!$G$48:$G$57,0),1,0)),0)","v":1},{"$f":"IFERROR(IF(OR(BE162=\"未\",BF162=\"未\"),1,IF(MATCH(BE162&\"/\"&BF162,③読み替え表_省エネ住宅!$G$48:$G$57,0),1,0)),0)","v":1},1,1,1,"*"]
[null,153,null,null,null,null,null,null,null,null,null,null,null,null,null,null,null,null,null,null,null,null,null,null,null,null,null,null,null,null,null,null,null,null,null,null,null,null,null,null,null,null,null,null,null,null,null,null,null,null,null,null,null,null,"未","未","未","未",0,0,0,0,{"$f":"IFERROR(IF(OR(BC163=\"未\",BD163=\"未\"),1,IF(MATCH(BC163&\"/\"&BD163,③読み替え表_省エネ住宅!$G$48:$G$57,0),1,0)),0)","v":1},{"$f":"IFERROR(IF(OR(BE163=\"未\",BF163=\"未\"),1,IF(MATCH(BE163&\"/\"&BF163,③読み替え表_省エネ住宅!$G$48:$G$57,0),1,0)),0)","v":1},1,1,1,"*"]
[null,154,null,null,null,null,null,null,null,null,null,null,null,null,null,null,null,null,null,null,null,null,null,null,null,null,null,null,null,null,null,null,null,null,null,null,null,null,null,null,null,null,null,null,null,null,null,null,null,null,null,null,null,null,"未","未","未","未",0,0,0,0,{"$f":"IFERROR(IF(OR(BC164=\"未\",BD164=\"未\"),1,IF(MATCH(BC164&\"/\"&BD164,③読み替え表_省エネ住宅!$G$48:$G$57,0),1,0)),0)","v":1},{"$f":"IFERROR(IF(OR(BE164=\"未\",BF164=\"未\"),1,IF(MATCH(BE164&\"/\"&BF164,③読み替え表_省エネ住宅!$G$48:$G$57,0),1,0)),0)","v":1},1,1,1,"*"]
[null,155,null,null,null,null,null,null,null,null,null,null,null,null,null,null,null,null,null,null,null,null,null,null,null,null,null,null,null,null,null,null,null,null,null,null,null,null,null,null,null,null,null,null,null,null,null,null,null,null,null,null,null,null,"未","未","未","未",0,0,0,0,{"$f":"IFERROR(IF(OR(BC165=\"未\",BD165=\"未\"),1,IF(MATCH(BC165&\"/\"&BD165,③読み替え表_省エネ住宅!$G$48:$G$57,0),1,0)),0)","v":1},{"$f":"IFERROR(IF(OR(BE165=\"未\",BF165=\"未\"),1,IF(MATCH(BE165&\"/\"&BF165,③読み替え表_省エネ住宅!$G$48:$G$57,0),1,0)),0)","v":1},1,1,1,"*"]
[null,156,null,null,null,null,null,null,null,null,null,null,null,null,null,null,null,null,null,null,null,null,null,null,null,null,null,null,null,null,null,null,null,null,null,null,null,null,null,null,null,null,null,null,null,null,null,null,null,null,null,null,null,null,"未","未","未","未",0,0,0,0,{"$f":"IFERROR(IF(OR(BC166=\"未\",BD166=\"未\"),1,IF(MATCH(BC166&\"/\"&BD166,③読み替え表_省エネ住宅!$G$48:$G$57,0),1,0)),0)","v":1},{"$f":"IFERROR(IF(OR(BE166=\"未\",BF166=\"未\"),1,IF(MATCH(BE166&\"/\"&BF166,③読み替え表_省エネ住宅!$G$48:$G$57,0),1,0)),0)","v":1},1,1,1,"*"]
[null,157,null,null,null,null,null,null,null,null,null,null,null,null,null,null,null,null,null,null,null,null,null,null,null,null,null,null,null,null,null,null,null,null,null,null,null,null,null,null,null,null,null,null,null,null,null,null,null,null,null,null,null,null,"未","未","未","未",0,0,0,0,{"$f":"IFERROR(IF(OR(BC167=\"未\",BD167=\"未\"),1,IF(MATCH(BC167&\"/\"&BD167,③読み替え表_省エネ住宅!$G$48:$G$57,0),1,0)),0)","v":1},{"$f":"IFERROR(IF(OR(BE167=\"未\",BF167=\"未\"),1,IF(MATCH(BE167&\"/\"&BF167,③読み替え表_省エネ住宅!$G$48:$G$57,0),1,0)),0)","v":1},1,1,1,"*"]
[null,158,null,null,null,null,null,null,null,null,null,null,null,null,null,null,null,null,null,null,null,null,null,null,null,null,null,null,null,null,null,null,null,null,null,null,null,null,null,null,null,null,null,null,null,null,null,null,null,null,null,null,null,null,"未","未","未","未",0,0,0,0,{"$f":"IFERROR(IF(OR(BC168=\"未\",BD168=\"未\"),1,IF(MATCH(BC168&\"/\"&BD168,③読み替え表_省エネ住宅!$G$48:$G$57,0),1,0)),0)","v":1},{"$f":"IFERROR(IF(OR(BE168=\"未\",BF168=\"未\"),1,IF(MATCH(BE168&\"/\"&BF168,③読み替え表_省エネ住宅!$G$48:$G$57,0),1,0)),0)","v":1},1,1,1,"*"]
[null,159,null,null,null,null,null,null,null,null,null,null,null,null,null,null,null,null,null,null,null,null,null,null,null,null,null,null,null,null,null,null,null,null,null,null,null,null,null,null,null,null,null,null,null,null,null,null,null,null,null,null,null,null,"未","未","未","未",0,0,0,0,{"$f":"IFERROR(IF(OR(BC169=\"未\",BD169=\"未\"),1,IF(MATCH(BC169&\"/\"&BD169,③読み替え表_省エネ住宅!$G$48:$G$57,0),1,0)),0)","v":1},{"$f":"IFERROR(IF(OR(BE169=\"未\",BF169=\"未\"),1,IF(MATCH(BE169&\"/\"&BF169,③読み替え表_省エネ住宅!$G$48:$G$57,0),1,0)),0)","v":1},1,1,1,"*"]
[null,160,null,null,null,null,null,null,null,null,null,null,null,null,null,null,null,null,null,null,null,null,null,null,null,null,null,null,null,null,null,null,null,null,null,null,null,null,null,null,null,null,null,null,null,null,null,null,null,null,null,null,null,null,"未","未","未","未",0,0,0,0,{"$f":"IFERROR(IF(OR(BC170=\"未\",BD170=\"未\"),1,IF(MATCH(BC170&\"/\"&BD170,③読み替え表_省エネ住宅!$G$48:$G$57,0),1,0)),0)","v":1},{"$f":"IFERROR(IF(OR(BE170=\"未\",BF170=\"未\"),1,IF(MATCH(BE170&\"/\"&BF170,③読み替え表_省エネ住宅!$G$48:$G$57,0),1,0)),0)","v":1},1,1,1,"*"]
[null,161,null,null,null,null,null,null,null,null,null,null,null,null,null,null,null,null,null,null,null,null,null,null,null,null,null,null,null,null,null,null,null,null,null,null,null,null,null,null,null,null,null,null,null,null,null,null,null,null,null,null,null,null,"未","未","未","未",0,0,0,0,{"$f":"IFERROR(IF(OR(BC171=\"未\",BD171=\"未\"),1,IF(MATCH(BC171&\"/\"&BD171,③読み替え表_省エネ住宅!$G$48:$G$57,0),1,0)),0)","v":1},{"$f":"IFERROR(IF(OR(BE171=\"未\",BF171=\"未\"),1,IF(MATCH(BE171&\"/\"&BF171,③読み替え表_省エネ住宅!$G$48:$G$57,0),1,0)),0)","v":1},1,1,1,"*"]
[null,162,null,null,null,null,null,null,null,null,null,null,null,null,null,null,null,null,null,null,null,null,null,null,null,null,null,null,null,null,null,null,null,null,null,null,null,null,null,null,null,null,null,null,null,null,null,null,null,null,null,null,null,null,"未","未","未","未",0,0,0,0,{"$f":"IFERROR(IF(OR(BC172=\"未\",BD172=\"未\"),1,IF(MATCH(BC172&\"/\"&BD172,③読み替え表_省エネ住宅!$G$48:$G$57,0),1,0)),0)","v":1},{"$f":"IFERROR(IF(OR(BE172=\"未\",BF172=\"未\"),1,IF(MATCH(BE172&\"/\"&BF172,③読み替え表_省エネ住宅!$G$48:$G$57,0),1,0)),0)","v":1},1,1,1,"*"]
[null,163,null,null,null,null,null,null,null,null,null,null,null,null,null,null,null,null,null,null,null,null,null,null,null,null,null,null,null,null,null,null,null,null,null,null,null,null,null,null,null,null,null,null,null,null,null,null,null,null,null,null,null,null,"未","未","未","未",0,0,0,0,{"$f":"IFERROR(IF(OR(BC173=\"未\",BD173=\"未\"),1,IF(MATCH(BC173&\"/\"&BD173,③読み替え表_省エネ住宅!$G$48:$G$57,0),1,0)),0)","v":1},{"$f":"IFERROR(IF(OR(BE173=\"未\",BF173=\"未\"),1,IF(MATCH(BE173&\"/\"&BF173,③読み替え表_省エネ住宅!$G$48:$G$57,0),1,0)),0)","v":1},1,1,1,"*"]
[null,164,null,null,null,null,null,null,null,null,null,null,null,null,null,null,null,null,null,null,null,null,null,null,null,null,null,null,null,null,null,null,null,null,null,null,null,null,null,null,null,null,null,null,null,null,null,null,null,null,null,null,null,null,"未","未","未","未",0,0,0,0,{"$f":"IFERROR(IF(OR(BC174=\"未\",BD174=\"未\"),1,IF(MATCH(BC174&\"/\"&BD174,③読み替え表_省エネ住宅!$G$48:$G$57,0),1,0)),0)","v":1},{"$f":"IFERROR(IF(OR(BE174=\"未\",BF174=\"未\"),1,IF(MATCH(BE174&\"/\"&BF174,③読み替え表_省エネ住宅!$G$48:$G$57,0),1,0)),0)","v":1},1,1,1,"*"]
[null,165,null,null,null,null,null,null,null,null,null,null,null,null,null,null,null,null,null,null,null,null,null,null,null,null,null,null,null,null,null,null,null,null,null,null,null,null,null,null,null,null,null,null,null,null,null,null,null,null,null,null,null,null,"未","未","未","未",0,0,0,0,{"$f":"IFERROR(IF(OR(BC175=\"未\",BD175=\"未\"),1,IF(MATCH(BC175&\"/\"&BD175,③読み替え表_省エネ住宅!$G$48:$G$57,0),1,0)),0)","v":1},{"$f":"IFERROR(IF(OR(BE175=\"未\",BF175=\"未\"),1,IF(MATCH(BE175&\"/\"&BF175,③読み替え表_省エネ住宅!$G$48:$G$57,0),1,0)),0)","v":1},1,1,1,"*"]
[null,166,null,null,null,null,null,null,null,null,null,null,null,null,null,null,null,null,null,null,null,null,null,null,null,null,null,null,null,null,null,null,null,null,null,null,null,null,null,null,null,null,null,null,null,null,null,null,null,null,null,null,null,null,"未","未","未","未",0,0,0,0,{"$f":"IFERROR(IF(OR(BC176=\"未\",BD176=\"未\"),1,IF(MATCH(BC176&\"/\"&BD176,③読み替え表_省エネ住宅!$G$48:$G$57,0),1,0)),0)","v":1},{"$f":"IFERROR(IF(OR(BE176=\"未\",BF176=\"未\"),1,IF(MATCH(BE176&\"/\"&BF176,③読み替え表_省エネ住宅!$G$48:$G$57,0),1,0)),0)","v":1},1,1,1,"*"]
[null,167,null,null,null,null,null,null,null,null,null,null,null,null,null,null,null,null,null,null,null,null,null,null,null,null,null,null,null,null,null,null,null,null,null,null,null,null,null,null,null,null,null,null,null,null,null,null,null,null,null,null,null,null,"未","未","未","未",0,0,0,0,{"$f":"IFERROR(IF(OR(BC177=\"未\",BD177=\"未\"),1,IF(MATCH(BC177&\"/\"&BD177,③読み替え表_省エネ住宅!$G$48:$G$57,0),1,0)),0)","v":1},{"$f":"IFERROR(IF(OR(BE177=\"未\",BF177=\"未\"),1,IF(MATCH(BE177&\"/\"&BF177,③読み替え表_省エネ住宅!$G$48:$G$57,0),1,0)),0)","v":1},1,1,1,"*"]
[null,168,null,null,null,null,null,null,null,null,null,null,null,null,null,null,null,null,null,null,null,null,null,null,null,null,null,null,null,null,null,null,null,null,null,null,null,null,null,null,null,null,null,null,null,null,null,null,null,null,null,null,null,null,"未","未","未","未",0,0,0,0,{"$f":"IFERROR(IF(OR(BC178=\"未\",BD178=\"未\"),1,IF(MATCH(BC178&\"/\"&BD178,③読み替え表_省エネ住宅!$G$48:$G$57,0),1,0)),0)","v":1},{"$f":"IFERROR(IF(OR(BE178=\"未\",BF178=\"未\"),1,IF(MATCH(BE178&\"/\"&BF178,③読み替え表_省エネ住宅!$G$48:$G$57,0),1,0)),0)","v":1},1,1,1,"*"]
[null,169,null,null,null,null,null,null,null,null,null,null,null,null,null,null,null,null,null,null,null,null,null,null,null,null,null,null,null,null,null,null,null,null,null,null,null,null,null,null,null,null,null,null,null,null,null,null,null,null,null,null,null,null,"未","未","未","未",0,0,0,0,{"$f":"IFERROR(IF(OR(BC179=\"未\",BD179=\"未\"),1,IF(MATCH(BC179&\"/\"&BD179,③読み替え表_省エネ住宅!$G$48:$G$57,0),1,0)),0)","v":1},{"$f":"IFERROR(IF(OR(BE179=\"未\",BF179=\"未\"),1,IF(MATCH(BE179&\"/\"&BF179,③読み替え表_省エネ住宅!$G$48:$G$57,0),1,0)),0)","v":1},1,1,1,"*"]
[null,170,null,null,null,null,null,null,null,null,null,null,null,null,null,null,null,null,null,null,null,null,null,null,null,null,null,null,null,null,null,null,null,null,null,null,null,null,null,null,null,null,null,null,null,null,null,null,null,null,null,null,null,null,"未","未","未","未",0,0,0,0,{"$f":"IFERROR(IF(OR(BC180=\"未\",BD180=\"未\"),1,IF(MATCH(BC180&\"/\"&BD180,③読み替え表_省エネ住宅!$G$48:$G$57,0),1,0)),0)","v":1},{"$f":"IFERROR(IF(OR(BE180=\"未\",BF180=\"未\"),1,IF(MATCH(BE180&\"/\"&BF180,③読み替え表_省エネ住宅!$G$48:$G$57,0),1,0)),0)","v":1},1,1,1,"*"]
[null,171,null,null,null,null,null,null,null,null,null,null,null,null,null,null,null,null,null,null,null,null,null,null,null,null,null,null,null,null,null,null,null,null,null,null,null,null,null,null,null,null,null,null,null,null,null,null,null,null,null,null,null,null,"未","未","未","未",0,0,0,0,{"$f":"IFERROR(IF(OR(BC181=\"未\",BD181=\"未\"),1,IF(MATCH(BC181&\"/\"&BD181,③読み替え表_省エネ住宅!$G$48:$G$57,0),1,0)),0)","v":1},{"$f":"IFERROR(IF(OR(BE181=\"未\",BF181=\"未\"),1,IF(MATCH(BE181&\"/\"&BF181,③読み替え表_省エネ住宅!$G$48:$G$57,0),1,0)),0)","v":1},1,1,1,"*"]
[null,172,null,null,null,null,null,null,null,null,null,null,null,null,null,null,null,null,null,null,null,null,null,null,null,null,null,null,null,null,null,null,null,null,null,null,null,null,null,null,null,null,null,null,null,null,null,null,null,null,null,null,null,null,"未","未","未","未",0,0,0,0,{"$f":"IFERROR(IF(OR(BC182=\"未\",BD182=\"未\"),1,IF(MATCH(BC182&\"/\"&BD182,③読み替え表_省エネ住宅!$G$48:$G$57,0),1,0)),0)","v":1},{"$f":"IFERROR(IF(OR(BE182=\"未\",BF182=\"未\"),1,IF(MATCH(BE182&\"/\"&BF182,③読み替え表_省エネ住宅!$G$48:$G$57,0),1,0)),0)","v":1},1,1,1,"*"]
[null,173,null,null,null,null,null,null,null,null,null,null,null,null,null,null,null,null,null,null,null,null,null,null,null,null,null,null,null,null,null,null,null,null,null,null,null,null,null,null,null,null,null,null,null,null,null,null,null,null,null,null,null,null,"未","未","未","未",0,0,0,0,{"$f":"IFERROR(IF(OR(BC183=\"未\",BD183=\"未\"),1,IF(MATCH(BC183&\"/\"&BD183,③読み替え表_省エネ住宅!$G$48:$G$57,0),1,0)),0)","v":1},{"$f":"IFERROR(IF(OR(BE183=\"未\",BF183=\"未\"),1,IF(MATCH(BE183&\"/\"&BF183,③読み替え表_省エネ住宅!$G$48:$G$57,0),1,0)),0)","v":1},1,1,1,"*"]
[null,174,null,null,null,null,null,null,null,null,null,null,null,null,null,null,null,null,null,null,null,null,null,null,null,null,null,null,null,null,null,null,null,null,null,null,null,null,null,null,null,null,null,null,null,null,null,null,null,null,null,null,null,null,"未","未","未","未",0,0,0,0,{"$f":"IFERROR(IF(OR(BC184=\"未\",BD184=\"未\"),1,IF(MATCH(BC184&\"/\"&BD184,③読み替え表_省エネ住宅!$G$48:$G$57,0),1,0)),0)","v":1},{"$f":"IFERROR(IF(OR(BE184=\"未\",BF184=\"未\"),1,IF(MATCH(BE184&\"/\"&BF184,③読み替え表_省エネ住宅!$G$48:$G$57,0),1,0)),0)","v":1},1,1,1,"*"]
[null,175,null,null,null,null,null,null,null,null,null,null,null,null,null,null,null,null,null,null,null,null,null,null,null,null,null,null,null,null,null,null,null,null,null,null,null,null,null,null,null,null,null,null,null,null,null,null,null,null,null,null,null,null,"未","未","未","未",0,0,0,0,{"$f":"IFERROR(IF(OR(BC185=\"未\",BD185=\"未\"),1,IF(MATCH(BC185&\"/\"&BD185,③読み替え表_省エネ住宅!$G$48:$G$57,0),1,0)),0)","v":1},{"$f":"IFERROR(IF(OR(BE185=\"未\",BF185=\"未\"),1,IF(MATCH(BE185&\"/\"&BF185,③読み替え表_省エネ住宅!$G$48:$G$57,0),1,0)),0)","v":1},1,1,1,"*"]
[null,176,null,null,null,null,null,null,null,null,null,null,null,null,null,null,null,null,null,null,null,null,null,null,null,null,null,null,null,null,null,null,null,null,null,null,null,null,null,null,null,null,null,null,null,null,null,null,null,null,null,null,null,null,"未","未","未","未",0,0,0,0,{"$f":"IFERROR(IF(OR(BC186=\"未\",BD186=\"未\"),1,IF(MATCH(BC186&\"/\"&BD186,③読み替え表_省エネ住宅!$G$48:$G$57,0),1,0)),0)","v":1},{"$f":"IFERROR(IF(OR(BE186=\"未\",BF186=\"未\"),1,IF(MATCH(BE186&\"/\"&BF186,③読み替え表_省エネ住宅!$G$48:$G$57,0),1,0)),0)","v":1},1,1,1,"*"]
[null,177,null,null,null,null,null,null,null,null,null,null,null,null,null,null,null,null,null,null,null,null,null,null,null,null,null,null,null,null,null,null,null,null,null,null,null,null,null,null,null,null,null,null,null,null,null,null,null,null,null,null,null,null,"未","未","未","未",0,0,0,0,{"$f":"IFERROR(IF(OR(BC187=\"未\",BD187=\"未\"),1,IF(MATCH(BC187&\"/\"&BD187,③読み替え表_省エネ住宅!$G$48:$G$57,0),1,0)),0)","v":1},{"$f":"IFERROR(IF(OR(BE187=\"未\",BF187=\"未\"),1,IF(MATCH(BE187&\"/\"&BF187,③読み替え表_省エネ住宅!$G$48:$G$57,0),1,0)),0)","v":1},1,1,1,"*"]
[null,178,null,null,null,null,null,null,null,null,null,null,null,null,null,null,null,null,null,null,null,null,null,null,null,null,null,null,null,null,null,null,null,null,null,null,null,null,null,null,null,null,null,null,null,null,null,null,null,null,null,null,null,null,"未","未","未","未",0,0,0,0,{"$f":"IFERROR(IF(OR(BC188=\"未\",BD188=\"未\"),1,IF(MATCH(BC188&\"/\"&BD188,③読み替え表_省エネ住宅!$G$48:$G$57,0),1,0)),0)","v":1},{"$f":"IFERROR(IF(OR(BE188=\"未\",BF188=\"未\"),1,IF(MATCH(BE188&\"/\"&BF188,③読み替え表_省エネ住宅!$G$48:$G$57,0),1,0)),0)","v":1},1,1,1,"*"]
[null,179,null,null,null,null,null,null,null,null,null,null,null,null,null,null,null,null,null,null,null,null,null,null,null,null,null,null,null,null,null,null,null,null,null,null,null,null,null,null,null,null,null,null,null,null,null,null,null,null,null,null,null,null,"未","未","未","未",0,0,0,0,{"$f":"IFERROR(IF(OR(BC189=\"未\",BD189=\"未\"),1,IF(MATCH(BC189&\"/\"&BD189,③読み替え表_省エネ住宅!$G$48:$G$57,0),1,0)),0)","v":1},{"$f":"IFERROR(IF(OR(BE189=\"未\",BF189=\"未\"),1,IF(MATCH(BE189&\"/\"&BF189,③読み替え表_省エネ住宅!$G$48:$G$57,0),1,0)),0)","v":1},1,1,1,"*"]
[null,180,null,null,null,null,null,null,null,null,null,null,null,null,null,null,null,null,null,null,null,null,null,null,null,null,null,null,null,null,null,null,null,null,null,null,null,null,null,null,null,null,null,null,null,null,null,null,null,null,null,null,null,null,"未","未","未","未",0,0,0,0,{"$f":"IFERROR(IF(OR(BC190=\"未\",BD190=\"未\"),1,IF(MATCH(BC190&\"/\"&BD190,③読み替え表_省エネ住宅!$G$48:$G$57,0),1,0)),0)","v":1},{"$f":"IFERROR(IF(OR(BE190=\"未\",BF190=\"未\"),1,IF(MATCH(BE190&\"/\"&BF190,③読み替え表_省エネ住宅!$G$48:$G$57,0),1,0)),0)","v":1},1,1,1,"*"]
[null,181,null,null,null,null,null,null,null,null,null,null,null,null,null,null,null,null,null,null,null,null,null,null,null,null,null,null,null,null,null,null,null,null,null,null,null,null,null,null,null,null,null,null,null,null,null,null,null,null,null,null,null,null,"未","未","未","未",0,0,0,0,{"$f":"IFERROR(IF(OR(BC191=\"未\",BD191=\"未\"),1,IF(MATCH(BC191&\"/\"&BD191,③読み替え表_省エネ住宅!$G$48:$G$57,0),1,0)),0)","v":1},{"$f":"IFERROR(IF(OR(BE191=\"未\",BF191=\"未\"),1,IF(MATCH(BE191&\"/\"&BF191,③読み替え表_省エネ住宅!$G$48:$G$57,0),1,0)),0)","v":1},1,1,1,"*"]
[null,182,null,null,null,null,null,null,null,null,null,null,null,null,null,null,null,null,null,null,null,null,null,null,null,null,null,null,null,null,null,null,null,null,null,null,null,null,null,null,null,null,null,null,null,null,null,null,null,null,null,null,null,null,"未","未","未","未",0,0,0,0,{"$f":"IFERROR(IF(OR(BC192=\"未\",BD192=\"未\"),1,IF(MATCH(BC192&\"/\"&BD192,③読み替え表_省エネ住宅!$G$48:$G$57,0),1,0)),0)","v":1},{"$f":"IFERROR(IF(OR(BE192=\"未\",BF192=\"未\"),1,IF(MATCH(BE192&\"/\"&BF192,③読み替え表_省エネ住宅!$G$48:$G$57,0),1,0)),0)","v":1},1,1,1,"*"]
[null,183,null,null,null,null,null,null,null,null,null,null,null,null,null,null,null,null,null,null,null,null,null,null,null,null,null,null,null,null,null,null,null,null,null,null,null,null,null,null,null,null,null,null,null,null,null,null,null,null,null,null,null,null,"未","未","未","未",0,0,0,0,{"$f":"IFERROR(IF(OR(BC193=\"未\",BD193=\"未\"),1,IF(MATCH(BC193&\"/\"&BD193,③読み替え表_省エネ住宅!$G$48:$G$57,0),1,0)),0)","v":1},{"$f":"IFERROR(IF(OR(BE193=\"未\",BF193=\"未\"),1,IF(MATCH(BE193&\"/\"&BF193,③読み替え表_省エネ住宅!$G$48:$G$57,0),1,0)),0)","v":1},1,1,1,"*"]
[null,184,null,null,null,null,null,null,null,null,null,null,null,null,null,null,null,null,null,null,null,null,null,null,null,null,null,null,null,null,null,null,null,null,null,null,null,null,null,null,null,null,null,null,null,null,null,null,null,null,null,null,null,null,"未","未","未","未",0,0,0,0,{"$f":"IFERROR(IF(OR(BC194=\"未\",BD194=\"未\"),1,IF(MATCH(BC194&\"/\"&BD194,③読み替え表_省エネ住宅!$G$48:$G$57,0),1,0)),0)","v":1},{"$f":"IFERROR(IF(OR(BE194=\"未\",BF194=\"未\"),1,IF(MATCH(BE194&\"/\"&BF194,③読み替え表_省エネ住宅!$G$48:$G$57,0),1,0)),0)","v":1},1,1,1,"*"]
[null,185,null,null,null,null,null,null,null,null,null,null,null,null,null,null,null,null,null,null,null,null,null,null,null,null,null,null,null,null,null,null,null,null,null,null,null,null,null,null,null,null,null,null,null,null,null,null,null,null,null,null,null,null,"未","未","未","未",0,0,0,0,{"$f":"IFERROR(IF(OR(BC195=\"未\",BD195=\"未\"),1,IF(MATCH(BC195&\"/\"&BD195,③読み替え表_省エネ住宅!$G$48:$G$57,0),1,0)),0)","v":1},{"$f":"IFERROR(IF(OR(BE195=\"未\",BF195=\"未\"),1,IF(MATCH(BE195&\"/\"&BF195,③読み替え表_省エネ住宅!$G$48:$G$57,0),1,0)),0)","v":1},1,1,1,"*"]
[null,186,null,null,null,null,null,null,null,null,null,null,null,null,null,null,null,null,null,null,null,null,null,null,null,null,null,null,null,null,null,null,null,null,null,null,null,null,null,null,null,null,null,null,null,null,null,null,null,null,null,null,null,null,"未","未","未","未",0,0,0,0,{"$f":"IFERROR(IF(OR(BC196=\"未\",BD196=\"未\"),1,IF(MATCH(BC196&\"/\"&BD196,③読み替え表_省エネ住宅!$G$48:$G$57,0),1,0)),0)","v":1},{"$f":"IFERROR(IF(OR(BE196=\"未\",BF196=\"未\"),1,IF(MATCH(BE196&\"/\"&BF196,③読み替え表_省エネ住宅!$G$48:$G$57,0),1,0)),0)","v":1},1,1,1,"*"]
[null,187,null,null,null,null,null,null,null,null,null,null,null,null,null,null,null,null,null,null,null,null,null,null,null,null,null,null,null,null,null,null,null,null,null,null,null,null,null,null,null,null,null,null,null,null,null,null,null,null,null,null,null,null,"未","未","未","未",0,0,0,0,{"$f":"IFERROR(IF(OR(BC197=\"未\",BD197=\"未\"),1,IF(MATCH(BC197&\"/\"&BD197,③読み替え表_省エネ住宅!$G$48:$G$57,0),1,0)),0)","v":1},{"$f":"IFERROR(IF(OR(BE197=\"未\",BF197=\"未\"),1,IF(MATCH(BE197&\"/\"&BF197,③読み替え表_省エネ住宅!$G$48:$G$57,0),1,0)),0)","v":1},1,1,1,"*"]
[null,188,null,null,null,null,null,null,null,null,null,null,null,null,null,null,null,null,null,null,null,null,null,null,null,null,null,null,null,null,null,null,null,null,null,null,null,null,null,null,null,null,null,null,null,null,null,null,null,null,null,null,null,null,"未","未","未","未",0,0,0,0,{"$f":"IFERROR(IF(OR(BC198=\"未\",BD198=\"未\"),1,IF(MATCH(BC198&\"/\"&BD198,③読み替え表_省エネ住宅!$G$48:$G$57,0),1,0)),0)","v":1},{"$f":"IFERROR(IF(OR(BE198=\"未\",BF198=\"未\"),1,IF(MATCH(BE198&\"/\"&BF198,③読み替え表_省エネ住宅!$G$48:$G$57,0),1,0)),0)","v":1},1,1,1,"*"]
[null,189,null,null,null,null,null,null,null,null,null,null,null,null,null,null,null,null,null,null,null,null,null,null,null,null,null,null,null,null,null,null,null,null,null,null,null,null,null,null,null,null,null,null,null,null,null,null,null,null,null,null,null,null,"未","未","未","未",0,0,0,0,{"$f":"IFERROR(IF(OR(BC199=\"未\",BD199=\"未\"),1,IF(MATCH(BC199&\"/\"&BD199,③読み替え表_省エネ住宅!$G$48:$G$57,0),1,0)),0)","v":1},{"$f":"IFERROR(IF(OR(BE199=\"未\",BF199=\"未\"),1,IF(MATCH(BE199&\"/\"&BF199,③読み替え表_省エネ住宅!$G$48:$G$57,0),1,0)),0)","v":1},1,1,1,"*"]
[null,190,null,null,null,null,null,null,null,null,null,null,null,null,null,null,null,null,null,null,null,null,null,null,null,null,null,null,null,null,null,null,null,null,null,null,null,null,null,null,null,null,null,null,null,null,null,null,null,null,null,null,null,null,"未","未","未","未",0,0,0,0,{"$f":"IFERROR(IF(OR(BC200=\"未\",BD200=\"未\"),1,IF(MATCH(BC200&\"/\"&BD200,③読み替え表_省エネ住宅!$G$48:$G$57,0),1,0)),0)","v":1},{"$f":"IFERROR(IF(OR(BE200=\"未\",BF200=\"未\"),1,IF(MATCH(BE200&\"/\"&BF200,③読み替え表_省エネ住宅!$G$48:$G$57,0),1,0)),0)","v":1},1,1,1,"*"]
[null,191,null,null,null,null,null,null,null,null,null,null,null,null,null,null,null,null,null,null,null,null,null,null,null,null,null,null,null,null,null,null,null,null,null,null,null,null,null,null,null,null,null,null,null,null,null,null,null,null,null,null,null,null,"未","未","未","未",0,0,0,0,{"$f":"IFERROR(IF(OR(BC201=\"未\",BD201=\"未\"),1,IF(MATCH(BC201&\"/\"&BD201,③読み替え表_省エネ住宅!$G$48:$G$57,0),1,0)),0)","v":1},{"$f":"IFERROR(IF(OR(BE201=\"未\",BF201=\"未\"),1,IF(MATCH(BE201&\"/\"&BF201,③読み替え表_省エネ住宅!$G$48:$G$57,0),1,0)),0)","v":1},1,1,1,"*"]
[null,192,null,null,null,null,null,null,null,null,null,null,null,null,null,null,null,null,null,null,null,null,null,null,null,null,null,null,null,null,null,null,null,null,null,null,null,null,null,null,null,null,null,null,null,null,null,null,null,null,null,null,null,null,"未","未","未","未",0,0,0,0,{"$f":"IFERROR(IF(OR(BC202=\"未\",BD202=\"未\"),1,IF(MATCH(BC202&\"/\"&BD202,③読み替え表_省エネ住宅!$G$48:$G$57,0),1,0)),0)","v":1},{"$f":"IFERROR(IF(OR(BE202=\"未\",BF202=\"未\"),1,IF(MATCH(BE202&\"/\"&BF202,③読み替え表_省エネ住宅!$G$48:$G$57,0),1,0)),0)","v":1},1,1,1,"*"]
[null,193,null,null,null,null,null,null,null,null,null,null,null,null,null,null,null,null,null,null,null,null,null,null,null,null,null,null,null,null,null,null,null,null,null,null,null,null,null,null,null,null,null,null,null,null,null,null,null,null,null,null,null,null,"未","未","未","未",0,0,0,0,{"$f":"IFERROR(IF(OR(BC203=\"未\",BD203=\"未\"),1,IF(MATCH(BC203&\"/\"&BD203,③読み替え表_省エネ住宅!$G$48:$G$57,0),1,0)),0)","v":1},{"$f":"IFERROR(IF(OR(BE203=\"未\",BF203=\"未\"),1,IF(MATCH(BE203&\"/\"&BF203,③読み替え表_省エネ住宅!$G$48:$G$57,0),1,0)),0)","v":1},1,1,1,"*"]
[null,{"$f":"ROW()-10","v":194},null,null,null,null,null,null,null,null,null,null,null,null,null,null,null,null,null,null,null,null,null,null,null,null,null,null,null,null,null,null,null,null,null,null,null,null,null,null,null,null,null,null,null,null,null,null,null,null,null,null,null,null,{"$f":"IFERROR(IF(SUM($Q204:$U204)>1,\"複数回答\",INDEX($Q$10:$U$10,,MATCH(1,$Q204:$U204,0))),\"未\")","v":"未"},{"$f":"IFERROR(IF(SUM($AA204:$AE204)>1,\"複数回答\",INDEX($AA$10:$AE$10,,MATCH(1,$AA204:$AE204,0))),\"未\")","v":"未"},{"$f":"IFERROR(IF(SUM($V204:$Z204)>1,\"複数回答\",INDEX($V$10:$Z$10,,MATCH(1,$V204:$Z204,0))),\"未\")","v":"未"},{"$f":"IFERROR(IF(SUM($AF204:$AJ204)>1,\"複数回答\",INDEX($AF$10:$AJ$10,,MATCH(1,$AF204:$AJ204,0))),\"未\")","v":"未"},{"$f":"IF(OR(AA204=1,AB204=1,AC204=1),1,0)","v":0},{"$f":"IF(OR(AF204=1,AG204=1,AH204=1),1,0)","v":0},{"$f":"IF(BC204=\"複数回答\",1,IF(BD204=\"複数回答\",1,0))","v":0},{"$f":"IF(BE204=\"複数回答\",1,IF(BF204=\"複数回答\",1,0))","v":0},{"$f":"IFERROR(IF(OR(BC204=\"未\",BD204=\"未\"),1,IF(MATCH(BC204&\"/\"&BD204,③読み替え表_省エネ住宅!$G$48:$G$57,0),1,0)),0)","v":1},{"$f":"IFERROR(IF(OR(BE204=\"未\",BF204=\"未\"),1,IF(MATCH(BE204&\"/\"&BF204,③読み替え表_省エネ住宅!$G$48:$G$57,0),1,0)),0)","v":1},{"$f":"IF(BI204+BK204>0,1,0)","v":1},{"$f":"IF(BJ204+BL204>0,1,0)","v":1},{"$f":"IF(SUM(BI204:BL204)>0,1,0)","v":1},"*"]
[null,195,null,null,null,null,null,null,null,null,null,null,null,null,null,null,null,null,null,null,null,null,null,null,null,null,null,null,null,null,null,null,null,null,null,null,null,null,null,null,null,null,null,null,null,null,null,null,null,null,null,null,null,null,"未","未","未","未",0,0,0,0,{"$f":"IFERROR(IF(OR(BC205=\"未\",BD205=\"未\"),1,IF(MATCH(BC205&\"/\"&BD205,③読み替え表_省エネ住宅!$G$48:$G$57,0),1,0)),0)","v":1},{"$f":"IFERROR(IF(OR(BE205=\"未\",BF205=\"未\"),1,IF(MATCH(BE205&\"/\"&BF205,③読み替え表_省エネ住宅!$G$48:$G$57,0),1,0)),0)","v":1},1,1,1,"*"]
[null,196,null,null,null,null,null,null,null,null,null,null,null,null,null,null,null,null,null,null,null,null,null,null,null,null,null,null,null,null,null,null,null,null,null,null,null,null,null,null,null,null,null,null,null,null,null,null,null,null,null,null,null,null,"未","未","未","未",0,0,0,0,{"$f":"IFERROR(IF(OR(BC206=\"未\",BD206=\"未\"),1,IF(MATCH(BC206&\"/\"&BD206,③読み替え表_省エネ住宅!$G$48:$G$57,0),1,0)),0)","v":1},{"$f":"IFERROR(IF(OR(BE206=\"未\",BF206=\"未\"),1,IF(MATCH(BE206&\"/\"&BF206,③読み替え表_省エネ住宅!$G$48:$G$57,0),1,0)),0)","v":1},1,1,1,"*"]
[null,197,null,null,null,null,null,null,null,null,null,null,null,null,null,null,null,null,null,null,null,null,null,null,null,null,null,null,null,null,null,null,null,null,null,null,null,null,null,null,null,null,null,null,null,null,null,null,null,null,null,null,null,null,"未","未","未","未",0,0,0,0,{"$f":"IFERROR(IF(OR(BC207=\"未\",BD207=\"未\"),1,IF(MATCH(BC207&\"/\"&BD207,③読み替え表_省エネ住宅!$G$48:$G$57,0),1,0)),0)","v":1},{"$f":"IFERROR(IF(OR(BE207=\"未\",BF207=\"未\"),1,IF(MATCH(BE207&\"/\"&BF207,③読み替え表_省エネ住宅!$G$48:$G$57,0),1,0)),0)","v":1},1,1,1,"*"]
[null,198,null,null,null,null,null,null,null,null,null,null,null,null,null,null,null,null,null,null,null,null,null,null,null,null,null,null,null,null,null,null,null,null,null,null,null,null,null,null,null,null,null,null,null,null,null,null,null,null,null,null,null,null,"未","未","未","未",0,0,0,0,{"$f":"IFERROR(IF(OR(BC208=\"未\",BD208=\"未\"),1,IF(MATCH(BC208&\"/\"&BD208,③読み替え表_省エネ住宅!$G$48:$G$57,0),1,0)),0)","v":1},{"$f":"IFERROR(IF(OR(BE208=\"未\",BF208=\"未\"),1,IF(MATCH(BE208&\"/\"&BF208,③読み替え表_省エネ住宅!$G$48:$G$57,0),1,0)),0)","v":1},1,1,1,"*"]
[null,199,null,null,null,null,null,null,null,null,null,null,null,null,null,null,null,null,null,null,null,null,null,null,null,null,null,null,null,null,null,null,null,null,null,null,null,null,null,null,null,null,null,null,null,null,null,null,null,null,null,null,null,null,"未","未","未","未",0,0,0,0,{"$f":"IFERROR(IF(OR(BC209=\"未\",BD209=\"未\"),1,IF(MATCH(BC209&\"/\"&BD209,③読み替え表_省エネ住宅!$G$48:$G$57,0),1,0)),0)","v":1},{"$f":"IFERROR(IF(OR(BE209=\"未\",BF209=\"未\"),1,IF(MATCH(BE209&\"/\"&BF209,③読み替え表_省エネ住宅!$G$48:$G$57,0),1,0)),0)","v":1},1,1,1,"*"]
[null,200,null,null,null,null,null,null,null,null,null,null,null,null,null,null,null,null,null,null,null,null,null,null,null,null,null,null,null,null,null,null,null,null,null,null,null,null,null,null,null,null,null,null,null,null,null,null,null,null,null,null,null,null,"未","未","未","未",0,0,0,0,{"$f":"IFERROR(IF(OR(BC210=\"未\",BD210=\"未\"),1,IF(MATCH(BC210&\"/\"&BD210,③読み替え表_省エネ住宅!$G$48:$G$57,0),1,0)),0)","v":1},{"$f":"IFERROR(IF(OR(BE210=\"未\",BF210=\"未\"),1,IF(MATCH(BE210&\"/\"&BF210,③読み替え表_省エネ住宅!$G$48:$G$57,0),1,0)),0)","v":1},1,1,1,"*"]
[null,201,null,null,null,null,null,null,null,null,null,null,null,null,null,null,null,null,null,null,null,null,null,null,null,null,null,null,null,null,null,null,null,null,null,null,null,null,null,null,null,null,null,null,null,null,null,null,null,null,null,null,null,null,"未","未","未","未",0,0,0,0,{"$f":"IFERROR(IF(OR(BC211=\"未\",BD211=\"未\"),1,IF(MATCH(BC211&\"/\"&BD211,③読み替え表_省エネ住宅!$G$48:$G$57,0),1,0)),0)","v":1},{"$f":"IFERROR(IF(OR(BE211=\"未\",BF211=\"未\"),1,IF(MATCH(BE211&\"/\"&BF211,③読み替え表_省エネ住宅!$G$48:$G$57,0),1,0)),0)","v":1},1,1,1,"*"]
[null,202,null,null,null,null,null,null,null,null,null,null,null,null,null,null,null,null,null,null,null,null,null,null,null,null,null,null,null,null,null,null,null,null,null,null,null,null,null,null,null,null,null,null,null,null,null,null,null,null,null,null,null,null,"未","未","未","未",0,0,0,0,{"$f":"IFERROR(IF(OR(BC212=\"未\",BD212=\"未\"),1,IF(MATCH(BC212&\"/\"&BD212,③読み替え表_省エネ住宅!$G$48:$G$57,0),1,0)),0)","v":1},{"$f":"IFERROR(IF(OR(BE212=\"未\",BF212=\"未\"),1,IF(MATCH(BE212&\"/\"&BF212,③読み替え表_省エネ住宅!$G$48:$G$57,0),1,0)),0)","v":1},1,1,1,"*"]
[null,203,null,null,null,null,null,null,null,null,null,null,null,null,null,null,null,null,null,null,null,null,null,null,null,null,null,null,null,null,null,null,null,null,null,null,null,null,null,null,null,null,null,null,null,null,null,null,null,null,null,null,null,null,"未","未","未","未",0,0,0,0,{"$f":"IFERROR(IF(OR(BC213=\"未\",BD213=\"未\"),1,IF(MATCH(BC213&\"/\"&BD213,③読み替え表_省エネ住宅!$G$48:$G$57,0),1,0)),0)","v":1},{"$f":"IFERROR(IF(OR(BE213=\"未\",BF213=\"未\"),1,IF(MATCH(BE213&\"/\"&BF213,③読み替え表_省エネ住宅!$G$48:$G$57,0),1,0)),0)","v":1},1,1,1,"*"]
[null,204,null,null,null,null,null,null,null,null,null,null,null,null,null,null,null,null,null,null,null,null,null,null,null,null,null,null,null,null,null,null,null,null,null,null,null,null,null,null,null,null,null,null,null,null,null,null,null,null,null,null,null,null,"未","未","未","未",0,0,0,0,{"$f":"IFERROR(IF(OR(BC214=\"未\",BD214=\"未\"),1,IF(MATCH(BC214&\"/\"&BD214,③読み替え表_省エネ住宅!$G$48:$G$57,0),1,0)),0)","v":1},{"$f":"IFERROR(IF(OR(BE214=\"未\",BF214=\"未\"),1,IF(MATCH(BE214&\"/\"&BF214,③読み替え表_省エネ住宅!$G$48:$G$57,0),1,0)),0)","v":1},1,1,1,"*"]
[null,205,null,null,null,null,null,null,null,null,null,null,null,null,null,null,null,null,null,null,null,null,null,null,null,null,null,null,null,null,null,null,null,null,null,null,null,null,null,null,null,null,null,null,null,null,null,null,null,null,null,null,null,null,"未","未","未","未",0,0,0,0,{"$f":"IFERROR(IF(OR(BC215=\"未\",BD215=\"未\"),1,IF(MATCH(BC215&\"/\"&BD215,③読み替え表_省エネ住宅!$G$48:$G$57,0),1,0)),0)","v":1},{"$f":"IFERROR(IF(OR(BE215=\"未\",BF215=\"未\"),1,IF(MATCH(BE215&\"/\"&BF215,③読み替え表_省エネ住宅!$G$48:$G$57,0),1,0)),0)","v":1},1,1,1,"*"]
[null,206,null,null,null,null,null,null,null,null,null,null,null,null,null,null,null,null,null,null,null,null,null,null,null,null,null,null,null,null,null,null,null,null,null,null,null,null,null,null,null,null,null,null,null,null,null,null,null,null,null,null,null,null,"未","未","未","未",0,0,0,0,{"$f":"IFERROR(IF(OR(BC216=\"未\",BD216=\"未\"),1,IF(MATCH(BC216&\"/\"&BD216,③読み替え表_省エネ住宅!$G$48:$G$57,0),1,0)),0)","v":1},{"$f":"IFERROR(IF(OR(BE216=\"未\",BF216=\"未\"),1,IF(MATCH(BE216&\"/\"&BF216,③読み替え表_省エネ住宅!$G$48:$G$57,0),1,0)),0)","v":1},1,1,1,"*"]
[null,207,null,null,null,null,null,null,null,null,null,null,null,null,null,null,null,null,null,null,null,null,null,null,null,null,null,null,null,null,null,null,null,null,null,null,null,null,null,null,null,null,null,null,null,null,null,null,null,null,null,null,null,null,"未","未","未","未",0,0,0,0,{"$f":"IFERROR(IF(OR(BC217=\"未\",BD217=\"未\"),1,IF(MATCH(BC217&\"/\"&BD217,③読み替え表_省エネ住宅!$G$48:$G$57,0),1,0)),0)","v":1},{"$f":"IFERROR(IF(OR(BE217=\"未\",BF217=\"未\"),1,IF(MATCH(BE217&\"/\"&BF217,③読み替え表_省エネ住宅!$G$48:$G$57,0),1,0)),0)","v":1},1,1,1,"*"]
[null,208,null,null,null,null,null,null,null,null,null,null,null,null,null,null,null,null,null,null,null,null,null,null,null,null,null,null,null,null,null,null,null,null,null,null,null,null,null,null,null,null,null,null,null,null,null,null,null,null,null,null,null,null,"未","未","未","未",0,0,0,0,{"$f":"IFERROR(IF(OR(BC218=\"未\",BD218=\"未\"),1,IF(MATCH(BC218&\"/\"&BD218,③読み替え表_省エネ住宅!$G$48:$G$57,0),1,0)),0)","v":1},{"$f":"IFERROR(IF(OR(BE218=\"未\",BF218=\"未\"),1,IF(MATCH(BE218&\"/\"&BF218,③読み替え表_省エネ住宅!$G$48:$G$57,0),1,0)),0)","v":1},1,1,1,"*"]
[null,209,null,null,null,null,null,null,null,null,null,null,null,null,null,null,null,null,null,null,null,null,null,null,null,null,null,null,null,null,null,null,null,null,null,null,null,null,null,null,null,null,null,null,null,null,null,null,null,null,null,null,null,null,"未","未","未","未",0,0,0,0,{"$f":"IFERROR(IF(OR(BC219=\"未\",BD219=\"未\"),1,IF(MATCH(BC219&\"/\"&BD219,③読み替え表_省エネ住宅!$G$48:$G$57,0),1,0)),0)","v":1},{"$f":"IFERROR(IF(OR(BE219=\"未\",BF219=\"未\"),1,IF(MATCH(BE219&\"/\"&BF219,③読み替え表_省エネ住宅!$G$48:$G$57,0),1,0)),0)","v":1},1,1,1,"*"]
[null,210,null,null,null,null,null,null,null,null,null,null,null,null,null,null,null,null,null,null,null,null,null,null,null,null,null,null,null,null,null,null,null,null,null,null,null,null,null,null,null,null,null,null,null,null,null,null,null,null,null,null,null,null,"未","未","未","未",0,0,0,0,{"$f":"IFERROR(IF(OR(BC220=\"未\",BD220=\"未\"),1,IF(MATCH(BC220&\"/\"&BD220,③読み替え表_省エネ住宅!$G$48:$G$57,0),1,0)),0)","v":1},{"$f":"IFERROR(IF(OR(BE220=\"未\",BF220=\"未\"),1,IF(MATCH(BE220&\"/\"&BF220,③読み替え表_省エネ住宅!$G$48:$G$57,0),1,0)),0)","v":1},1,1,1,"*"]
[null,211,null,null,null,null,null,null,null,null,null,null,null,null,null,null,null,null,null,null,null,null,null,null,null,null,null,null,null,null,null,null,null,null,null,null,null,null,null,null,null,null,null,null,null,null,null,null,null,null,null,null,null,null,"未","未","未","未",0,0,0,0,{"$f":"IFERROR(IF(OR(BC221=\"未\",BD221=\"未\"),1,IF(MATCH(BC221&\"/\"&BD221,③読み替え表_省エネ住宅!$G$48:$G$57,0),1,0)),0)","v":1},{"$f":"IFERROR(IF(OR(BE221=\"未\",BF221=\"未\"),1,IF(MATCH(BE221&\"/\"&BF221,③読み替え表_省エネ住宅!$G$48:$G$57,0),1,0)),0)","v":1},1,1,1,"*"]
[null,212,null,null,null,null,null,null,null,null,null,null,null,null,null,null,null,null,null,null,null,null,null,null,null,null,null,null,null,null,null,null,null,null,null,null,null,null,null,null,null,null,null,null,null,null,null,null,null,null,null,null,null,null,"未","未","未","未",0,0,0,0,{"$f":"IFERROR(IF(OR(BC222=\"未\",BD222=\"未\"),1,IF(MATCH(BC222&\"/\"&BD222,③読み替え表_省エネ住宅!$G$48:$G$57,0),1,0)),0)","v":1},{"$f":"IFERROR(IF(OR(BE222=\"未\",BF222=\"未\"),1,IF(MATCH(BE222&\"/\"&BF222,③読み替え表_省エネ住宅!$G$48:$G$57,0),1,0)),0)","v":1},1,1,1,"*"]
[null,213,null,null,null,null,null,null,null,null,null,null,null,null,null,null,null,null,null,null,null,null,null,null,null,null,null,null,null,null,null,null,null,null,null,null,null,null,null,null,null,null,null,null,null,null,null,null,null,null,null,null,null,null,"未","未","未","未",0,0,0,0,{"$f":"IFERROR(IF(OR(BC223=\"未\",BD223=\"未\"),1,IF(MATCH(BC223&\"/\"&BD223,③読み替え表_省エネ住宅!$G$48:$G$57,0),1,0)),0)","v":1},{"$f":"IFERROR(IF(OR(BE223=\"未\",BF223=\"未\"),1,IF(MATCH(BE223&\"/\"&BF223,③読み替え表_省エネ住宅!$G$48:$G$57,0),1,0)),0)","v":1},1,1,1,"*"]
[null,214,null,null,null,null,null,null,null,null,null,null,null,null,null,null,null,null,null,null,null,null,null,null,null,null,null,null,null,null,null,null,null,null,null,null,null,null,null,null,null,null,null,null,null,null,null,null,null,null,null,null,null,null,"未","未","未","未",0,0,0,0,{"$f":"IFERROR(IF(OR(BC224=\"未\",BD224=\"未\"),1,IF(MATCH(BC224&\"/\"&BD224,③読み替え表_省エネ住宅!$G$48:$G$57,0),1,0)),0)","v":1},{"$f":"IFERROR(IF(OR(BE224=\"未\",BF224=\"未\"),1,IF(MATCH(BE224&\"/\"&BF224,③読み替え表_省エネ住宅!$G$48:$G$57,0),1,0)),0)","v":1},1,1,1,"*"]
[null,215,null,null,null,null,null,null,null,null,null,null,null,null,null,null,null,null,null,null,null,null,null,null,null,null,null,null,null,null,null,null,null,null,null,null,null,null,null,null,null,null,null,null,null,null,null,null,null,null,null,null,null,null,"未","未","未","未",0,0,0,0,{"$f":"IFERROR(IF(OR(BC225=\"未\",BD225=\"未\"),1,IF(MATCH(BC225&\"/\"&BD225,③読み替え表_省エネ住宅!$G$48:$G$57,0),1,0)),0)","v":1},{"$f":"IFERROR(IF(OR(BE225=\"未\",BF225=\"未\"),1,IF(MATCH(BE225&\"/\"&BF225,③読み替え表_省エネ住宅!$G$48:$G$57,0),1,0)),0)","v":1},1,1,1,"*"]
[null,216,null,null,null,null,null,null,null,null,null,null,null,null,null,null,null,null,null,null,null,null,null,null,null,null,null,null,null,null,null,null,null,null,null,null,null,null,null,null,null,null,null,null,null,null,null,null,null,null,null,null,null,null,"未","未","未","未",0,0,0,0,{"$f":"IFERROR(IF(OR(BC226=\"未\",BD226=\"未\"),1,IF(MATCH(BC226&\"/\"&BD226,③読み替え表_省エネ住宅!$G$48:$G$57,0),1,0)),0)","v":1},{"$f":"IFERROR(IF(OR(BE226=\"未\",BF226=\"未\"),1,IF(MATCH(BE226&\"/\"&BF226,③読み替え表_省エネ住宅!$G$48:$G$57,0),1,0)),0)","v":1},1,1,1,"*"]
[null,217,null,null,null,null,null,null,null,null,null,null,null,null,null,null,null,null,null,null,null,null,null,null,null,null,null,null,null,null,null,null,null,null,null,null,null,null,null,null,null,null,null,null,null,null,null,null,null,null,null,null,null,null,"未","未","未","未",0,0,0,0,{"$f":"IFERROR(IF(OR(BC227=\"未\",BD227=\"未\"),1,IF(MATCH(BC227&\"/\"&BD227,③読み替え表_省エネ住宅!$G$48:$G$57,0),1,0)),0)","v":1},{"$f":"IFERROR(IF(OR(BE227=\"未\",BF227=\"未\"),1,IF(MATCH(BE227&\"/\"&BF227,③読み替え表_省エネ住宅!$G$48:$G$57,0),1,0)),0)","v":1},1,1,1,"*"]
[null,218,null,null,null,null,null,null,null,null,null,null,null,null,null,null,null,null,null,null,null,null,null,null,null,null,null,null,null,null,null,null,null,null,null,null,null,null,null,null,null,null,null,null,null,null,null,null,null,null,null,null,null,null,"未","未","未","未",0,0,0,0,{"$f":"IFERROR(IF(OR(BC228=\"未\",BD228=\"未\"),1,IF(MATCH(BC228&\"/\"&BD228,③読み替え表_省エネ住宅!$G$48:$G$57,0),1,0)),0)","v":1},{"$f":"IFERROR(IF(OR(BE228=\"未\",BF228=\"未\"),1,IF(MATCH(BE228&\"/\"&BF228,③読み替え表_省エネ住宅!$G$48:$G$57,0),1,0)),0)","v":1},1,1,1,"*"]
[null,219,null,null,null,null,null,null,null,null,null,null,null,null,null,null,null,null,null,null,null,null,null,null,null,null,null,null,null,null,null,null,null,null,null,null,null,null,null,null,null,null,null,null,null,null,null,null,null,null,null,null,null,null,"未","未","未","未",0,0,0,0,{"$f":"IFERROR(IF(OR(BC229=\"未\",BD229=\"未\"),1,IF(MATCH(BC229&\"/\"&BD229,③読み替え表_省エネ住宅!$G$48:$G$57,0),1,0)),0)","v":1},{"$f":"IFERROR(IF(OR(BE229=\"未\",BF229=\"未\"),1,IF(MATCH(BE229&\"/\"&BF229,③読み替え表_省エネ住宅!$G$48:$G$57,0),1,0)),0)","v":1},1,1,1,"*"]
[null,220,null,null,null,null,null,null,null,null,null,null,null,null,null,null,null,null,null,null,null,null,null,null,null,null,null,null,null,null,null,null,null,null,null,null,null,null,null,null,null,null,null,null,null,null,null,null,null,null,null,null,null,null,"未","未","未","未",0,0,0,0,{"$f":"IFERROR(IF(OR(BC230=\"未\",BD230=\"未\"),1,IF(MATCH(BC230&\"/\"&BD230,③読み替え表_省エネ住宅!$G$48:$G$57,0),1,0)),0)","v":1},{"$f":"IFERROR(IF(OR(BE230=\"未\",BF230=\"未\"),1,IF(MATCH(BE230&\"/\"&BF230,③読み替え表_省エネ住宅!$G$48:$G$57,0),1,0)),0)","v":1},1,1,1,"*"]
[null,221,null,null,null,null,null,null,null,null,null,null,null,null,null,null,null,null,null,null,null,null,null,null,null,null,null,null,null,null,null,null,null,null,null,null,null,null,null,null,null,null,null,null,null,null,null,null,null,null,null,null,null,null,"未","未","未","未",0,0,0,0,{"$f":"IFERROR(IF(OR(BC231=\"未\",BD231=\"未\"),1,IF(MATCH(BC231&\"/\"&BD231,③読み替え表_省エネ住宅!$G$48:$G$57,0),1,0)),0)","v":1},{"$f":"IFERROR(IF(OR(BE231=\"未\",BF231=\"未\"),1,IF(MATCH(BE231&\"/\"&BF231,③読み替え表_省エネ住宅!$G$48:$G$57,0),1,0)),0)","v":1},1,1,1,"*"]
[null,222,null,null,null,null,null,null,null,null,null,null,null,null,null,null,null,null,null,null,null,null,null,null,null,null,null,null,null,null,null,null,null,null,null,null,null,null,null,null,null,null,null,null,null,null,null,null,null,null,null,null,null,null,"未","未","未","未",0,0,0,0,{"$f":"IFERROR(IF(OR(BC232=\"未\",BD232=\"未\"),1,IF(MATCH(BC232&\"/\"&BD232,③読み替え表_省エネ住宅!$G$48:$G$57,0),1,0)),0)","v":1},{"$f":"IFERROR(IF(OR(BE232=\"未\",BF232=\"未\"),1,IF(MATCH(BE232&\"/\"&BF232,③読み替え表_省エネ住宅!$G$48:$G$57,0),1,0)),0)","v":1},1,1,1,"*"]
[null,223,null,null,null,null,null,null,null,null,null,null,null,null,null,null,null,null,null,null,null,null,null,null,null,null,null,null,null,null,null,null,null,null,null,null,null,null,null,null,null,null,null,null,null,null,null,null,null,null,null,null,null,null,"未","未","未","未",0,0,0,0,{"$f":"IFERROR(IF(OR(BC233=\"未\",BD233=\"未\"),1,IF(MATCH(BC233&\"/\"&BD233,③読み替え表_省エネ住宅!$G$48:$G$57,0),1,0)),0)","v":1},{"$f":"IFERROR(IF(OR(BE233=\"未\",BF233=\"未\"),1,IF(MATCH(BE233&\"/\"&BF233,③読み替え表_省エネ住宅!$G$48:$G$57,0),1,0)),0)","v":1},1,1,1,"*"]
[null,224,null,null,null,null,null,null,null,null,null,null,null,null,null,null,null,null,null,null,null,null,null,null,null,null,null,null,null,null,null,null,null,null,null,null,null,null,null,null,null,null,null,null,null,null,null,null,null,null,null,null,null,null,"未","未","未","未",0,0,0,0,{"$f":"IFERROR(IF(OR(BC234=\"未\",BD234=\"未\"),1,IF(MATCH(BC234&\"/\"&BD234,③読み替え表_省エネ住宅!$G$48:$G$57,0),1,0)),0)","v":1},{"$f":"IFERROR(IF(OR(BE234=\"未\",BF234=\"未\"),1,IF(MATCH(BE234&\"/\"&BF234,③読み替え表_省エネ住宅!$G$48:$G$57,0),1,0)),0)","v":1},1,1,1,"*"]
[null,225,null,null,null,null,null,null,null,null,null,null,null,null,null,null,null,null,null,null,null,null,null,null,null,null,null,null,null,null,null,null,null,null,null,null,null,null,null,null,null,null,null,null,null,null,null,null,null,null,null,null,null,null,"未","未","未","未",0,0,0,0,{"$f":"IFERROR(IF(OR(BC235=\"未\",BD235=\"未\"),1,IF(MATCH(BC235&\"/\"&BD235,③読み替え表_省エネ住宅!$G$48:$G$57,0),1,0)),0)","v":1},{"$f":"IFERROR(IF(OR(BE235=\"未\",BF235=\"未\"),1,IF(MATCH(BE235&\"/\"&BF235,③読み替え表_省エネ住宅!$G$48:$G$57,0),1,0)),0)","v":1},1,1,1,"*"]
[null,226,null,null,null,null,null,null,null,null,null,null,null,null,null,null,null,null,null,null,null,null,null,null,null,null,null,null,null,null,null,null,null,null,null,null,null,null,null,null,null,null,null,null,null,null,null,null,null,null,null,null,null,null,"未","未","未","未",0,0,0,0,{"$f":"IFERROR(IF(OR(BC236=\"未\",BD236=\"未\"),1,IF(MATCH(BC236&\"/\"&BD236,③読み替え表_省エネ住宅!$G$48:$G$57,0),1,0)),0)","v":1},{"$f":"IFERROR(IF(OR(BE236=\"未\",BF236=\"未\"),1,IF(MATCH(BE236&\"/\"&BF236,③読み替え表_省エネ住宅!$G$48:$G$57,0),1,0)),0)","v":1},1,1,1,"*"]
[null,227,null,null,null,null,null,null,null,null,null,null,null,null,null,null,null,null,null,null,null,null,null,null,null,null,null,null,null,null,null,null,null,null,null,null,null,null,null,null,null,null,null,null,null,null,null,null,null,null,null,null,null,null,"未","未","未","未",0,0,0,0,{"$f":"IFERROR(IF(OR(BC237=\"未\",BD237=\"未\"),1,IF(MATCH(BC237&\"/\"&BD237,③読み替え表_省エネ住宅!$G$48:$G$57,0),1,0)),0)","v":1},{"$f":"IFERROR(IF(OR(BE237=\"未\",BF237=\"未\"),1,IF(MATCH(BE237&\"/\"&BF237,③読み替え表_省エネ住宅!$G$48:$G$57,0),1,0)),0)","v":1},1,1,1,"*"]
[null,228,null,null,null,null,null,null,null,null,null,null,null,null,null,null,null,null,null,null,null,null,null,null,null,null,null,null,null,null,null,null,null,null,null,null,null,null,null,null,null,null,null,null,null,null,null,null,null,null,null,null,null,null,"未","未","未","未",0,0,0,0,{"$f":"IFERROR(IF(OR(BC238=\"未\",BD238=\"未\"),1,IF(MATCH(BC238&\"/\"&BD238,③読み替え表_省エネ住宅!$G$48:$G$57,0),1,0)),0)","v":1},{"$f":"IFERROR(IF(OR(BE238=\"未\",BF238=\"未\"),1,IF(MATCH(BE238&\"/\"&BF238,③読み替え表_省エネ住宅!$G$48:$G$57,0),1,0)),0)","v":1},1,1,1,"*"]
[null,229,null,null,null,null,null,null,null,null,null,null,null,null,null,null,null,null,null,null,null,null,null,null,null,null,null,null,null,null,null,null,null,null,null,null,null,null,null,null,null,null,null,null,null,null,null,null,null,null,null,null,null,null,"未","未","未","未",0,0,0,0,{"$f":"IFERROR(IF(OR(BC239=\"未\",BD239=\"未\"),1,IF(MATCH(BC239&\"/\"&BD239,③読み替え表_省エネ住宅!$G$48:$G$57,0),1,0)),0)","v":1},{"$f":"IFERROR(IF(OR(BE239=\"未\",BF239=\"未\"),1,IF(MATCH(BE239&\"/\"&BF239,③読み替え表_省エネ住宅!$G$48:$G$57,0),1,0)),0)","v":1},1,1,1,"*"]
[null,230,null,null,null,null,null,null,null,null,null,null,null,null,null,null,null,null,null,null,null,null,null,null,null,null,null,null,null,null,null,null,null,null,null,null,null,null,null,null,null,null,null,null,null,null,null,null,null,null,null,null,null,null,"未","未","未","未",0,0,0,0,{"$f":"IFERROR(IF(OR(BC240=\"未\",BD240=\"未\"),1,IF(MATCH(BC240&\"/\"&BD240,③読み替え表_省エネ住宅!$G$48:$G$57,0),1,0)),0)","v":1},{"$f":"IFERROR(IF(OR(BE240=\"未\",BF240=\"未\"),1,IF(MATCH(BE240&\"/\"&BF240,③読み替え表_省エネ住宅!$G$48:$G$57,0),1,0)),0)","v":1},1,1,1,"*"]
[null,231,null,null,null,null,null,null,null,null,null,null,null,null,null,null,null,null,null,null,null,null,null,null,null,null,null,null,null,null,null,null,null,null,null,null,null,null,null,null,null,null,null,null,null,null,null,null,null,null,null,null,null,null,"未","未","未","未",0,0,0,0,{"$f":"IFERROR(IF(OR(BC241=\"未\",BD241=\"未\"),1,IF(MATCH(BC241&\"/\"&BD241,③読み替え表_省エネ住宅!$G$48:$G$57,0),1,0)),0)","v":1},{"$f":"IFERROR(IF(OR(BE241=\"未\",BF241=\"未\"),1,IF(MATCH(BE241&\"/\"&BF241,③読み替え表_省エネ住宅!$G$48:$G$57,0),1,0)),0)","v":1},1,1,1,"*"]
[null,232,null,null,null,null,null,null,null,null,null,null,null,null,null,null,null,null,null,null,null,null,null,null,null,null,null,null,null,null,null,null,null,null,null,null,null,null,null,null,null,null,null,null,null,null,null,null,null,null,null,null,null,null,"未","未","未","未",0,0,0,0,{"$f":"IFERROR(IF(OR(BC242=\"未\",BD242=\"未\"),1,IF(MATCH(BC242&\"/\"&BD242,③読み替え表_省エネ住宅!$G$48:$G$57,0),1,0)),0)","v":1},{"$f":"IFERROR(IF(OR(BE242=\"未\",BF242=\"未\"),1,IF(MATCH(BE242&\"/\"&BF242,③読み替え表_省エネ住宅!$G$48:$G$57,0),1,0)),0)","v":1},1,1,1,"*"]
[null,233,null,null,null,null,null,null,null,null,null,null,null,null,null,null,null,null,null,null,null,null,null,null,null,null,null,null,null,null,null,null,null,null,null,null,null,null,null,null,null,null,null,null,null,null,null,null,null,null,null,null,null,null,"未","未","未","未",0,0,0,0,{"$f":"IFERROR(IF(OR(BC243=\"未\",BD243=\"未\"),1,IF(MATCH(BC243&\"/\"&BD243,③読み替え表_省エネ住宅!$G$48:$G$57,0),1,0)),0)","v":1},{"$f":"IFERROR(IF(OR(BE243=\"未\",BF243=\"未\"),1,IF(MATCH(BE243&\"/\"&BF243,③読み替え表_省エネ住宅!$G$48:$G$57,0),1,0)),0)","v":1},1,1,1,"*"]
[null,234,null,null,null,null,null,null,null,null,null,null,null,null,null,null,null,null,null,null,null,null,null,null,null,null,null,null,null,null,null,null,null,null,null,null,null,null,null,null,null,null,null,null,null,null,null,null,null,null,null,null,null,null,"未","未","未","未",0,0,0,0,{"$f":"IFERROR(IF(OR(BC244=\"未\",BD244=\"未\"),1,IF(MATCH(BC244&\"/\"&BD244,③読み替え表_省エネ住宅!$G$48:$G$57,0),1,0)),0)","v":1},{"$f":"IFERROR(IF(OR(BE244=\"未\",BF244=\"未\"),1,IF(MATCH(BE244&\"/\"&BF244,③読み替え表_省エネ住宅!$G$48:$G$57,0),1,0)),0)","v":1},1,1,1,"*"]
[null,235,null,null,null,null,null,null,null,null,null,null,null,null,null,null,null,null,null,null,null,null,null,null,null,null,null,null,null,null,null,null,null,null,null,null,null,null,null,null,null,null,null,null,null,null,null,null,null,null,null,null,null,null,"未","未","未","未",0,0,0,0,{"$f":"IFERROR(IF(OR(BC245=\"未\",BD245=\"未\"),1,IF(MATCH(BC245&\"/\"&BD245,③読み替え表_省エネ住宅!$G$48:$G$57,0),1,0)),0)","v":1},{"$f":"IFERROR(IF(OR(BE245=\"未\",BF245=\"未\"),1,IF(MATCH(BE245&\"/\"&BF245,③読み替え表_省エネ住宅!$G$48:$G$57,0),1,0)),0)","v":1},1,1,1,"*"]
[null,236,null,null,null,null,null,null,null,null,null,null,null,null,null,null,null,null,null,null,null,null,null,null,null,null,null,null,null,null,null,null,null,null,null,null,null,null,null,null,null,null,null,null,null,null,null,null,null,null,null,null,null,null,"未","未","未","未",0,0,0,0,{"$f":"IFERROR(IF(OR(BC246=\"未\",BD246=\"未\"),1,IF(MATCH(BC246&\"/\"&BD246,③読み替え表_省エネ住宅!$G$48:$G$57,0),1,0)),0)","v":1},{"$f":"IFERROR(IF(OR(BE246=\"未\",BF246=\"未\"),1,IF(MATCH(BE246&\"/\"&BF246,③読み替え表_省エネ住宅!$G$48:$G$57,0),1,0)),0)","v":1},1,1,1,"*"]
[null,237,null,null,null,null,null,null,null,null,null,null,null,null,null,null,null,null,null,null,null,null,null,null,null,null,null,null,null,null,null,null,null,null,null,null,null,null,null,null,null,null,null,null,null,null,null,null,null,null,null,null,null,null,"未","未","未","未",0,0,0,0,{"$f":"IFERROR(IF(OR(BC247=\"未\",BD247=\"未\"),1,IF(MATCH(BC247&\"/\"&BD247,③読み替え表_省エネ住宅!$G$48:$G$57,0),1,0)),0)","v":1},{"$f":"IFERROR(IF(OR(BE247=\"未\",BF247=\"未\"),1,IF(MATCH(BE247&\"/\"&BF247,③読み替え表_省エネ住宅!$G$48:$G$57,0),1,0)),0)","v":1},1,1,1,"*"]
[null,238,null,null,null,null,null,null,null,null,null,null,null,null,null,null,null,null,null,null,null,null,null,null,null,null,null,null,null,null,null,null,null,null,null,null,null,null,null,null,null,null,null,null,null,null,null,null,null,null,null,null,null,null,"未","未","未","未",0,0,0,0,{"$f":"IFERROR(IF(OR(BC248=\"未\",BD248=\"未\"),1,IF(MATCH(BC248&\"/\"&BD248,③読み替え表_省エネ住宅!$G$48:$G$57,0),1,0)),0)","v":1},{"$f":"IFERROR(IF(OR(BE248=\"未\",BF248=\"未\"),1,IF(MATCH(BE248&\"/\"&BF248,③読み替え表_省エネ住宅!$G$48:$G$57,0),1,0)),0)","v":1},1,1,1,"*"]
[null,239,null,null,null,null,null,null,null,null,null,null,null,null,null,null,null,null,null,null,null,null,null,null,null,null,null,null,null,null,null,null,null,null,null,null,null,null,null,null,null,null,null,null,null,null,null,null,null,null,null,null,null,null,"未","未","未","未",0,0,0,0,{"$f":"IFERROR(IF(OR(BC249=\"未\",BD249=\"未\"),1,IF(MATCH(BC249&\"/\"&BD249,③読み替え表_省エネ住宅!$G$48:$G$57,0),1,0)),0)","v":1},{"$f":"IFERROR(IF(OR(BE249=\"未\",BF249=\"未\"),1,IF(MATCH(BE249&\"/\"&BF249,③読み替え表_省エネ住宅!$G$48:$G$57,0),1,0)),0)","v":1},1,1,1,"*"]
[null,240,null,null,null,null,null,null,null,null,null,null,null,null,null,null,null,null,null,null,null,null,null,null,null,null,null,null,null,null,null,null,null,null,null,null,null,null,null,null,null,null,null,null,null,null,null,null,null,null,null,null,null,null,"未","未","未","未",0,0,0,0,{"$f":"IFERROR(IF(OR(BC250=\"未\",BD250=\"未\"),1,IF(MATCH(BC250&\"/\"&BD250,③読み替え表_省エネ住宅!$G$48:$G$57,0),1,0)),0)","v":1},{"$f":"IFERROR(IF(OR(BE250=\"未\",BF250=\"未\"),1,IF(MATCH(BE250&\"/\"&BF250,③読み替え表_省エネ住宅!$G$48:$G$57,0),1,0)),0)","v":1},1,1,1,"*"]
[null,241,null,null,null,null,null,null,null,null,null,null,null,null,null,null,null,null,null,null,null,null,null,null,null,null,null,null,null,null,null,null,null,null,null,null,null,null,null,null,null,null,null,null,null,null,null,null,null,null,null,null,null,null,"未","未","未","未",0,0,0,0,{"$f":"IFERROR(IF(OR(BC251=\"未\",BD251=\"未\"),1,IF(MATCH(BC251&\"/\"&BD251,③読み替え表_省エネ住宅!$G$48:$G$57,0),1,0)),0)","v":1},{"$f":"IFERROR(IF(OR(BE251=\"未\",BF251=\"未\"),1,IF(MATCH(BE251&\"/\"&BF251,③読み替え表_省エネ住宅!$G$48:$G$57,0),1,0)),0)","v":1},1,1,1,"*"]
[null,242,null,null,null,null,null,null,null,null,null,null,null,null,null,null,null,null,null,null,null,null,null,null,null,null,null,null,null,null,null,null,null,null,null,null,null,null,null,null,null,null,null,null,null,null,null,null,null,null,null,null,null,null,"未","未","未","未",0,0,0,0,{"$f":"IFERROR(IF(OR(BC252=\"未\",BD252=\"未\"),1,IF(MATCH(BC252&\"/\"&BD252,③読み替え表_省エネ住宅!$G$48:$G$57,0),1,0)),0)","v":1},{"$f":"IFERROR(IF(OR(BE252=\"未\",BF252=\"未\"),1,IF(MATCH(BE252&\"/\"&BF252,③読み替え表_省エネ住宅!$G$48:$G$57,0),1,0)),0)","v":1},1,1,1,"*"]
[null,243,null,null,null,null,null,null,null,null,null,null,null,null,null,null,null,null,null,null,null,null,null,null,null,null,null,null,null,null,null,null,null,null,null,null,null,null,null,null,null,null,null,null,null,null,null,null,null,null,null,null,null,null,"未","未","未","未",0,0,0,0,{"$f":"IFERROR(IF(OR(BC253=\"未\",BD253=\"未\"),1,IF(MATCH(BC253&\"/\"&BD253,③読み替え表_省エネ住宅!$G$48:$G$57,0),1,0)),0)","v":1},{"$f":"IFERROR(IF(OR(BE253=\"未\",BF253=\"未\"),1,IF(MATCH(BE253&\"/\"&BF253,③読み替え表_省エネ住宅!$G$48:$G$57,0),1,0)),0)","v":1},1,1,1,"*"]
[null,244,null,null,null,null,null,null,null,null,null,null,null,null,null,null,null,null,null,null,null,null,null,null,null,null,null,null,null,null,null,null,null,null,null,null,null,null,null,null,null,null,null,null,null,null,null,null,null,null,null,null,null,null,"未","未","未","未",0,0,0,0,{"$f":"IFERROR(IF(OR(BC254=\"未\",BD254=\"未\"),1,IF(MATCH(BC254&\"/\"&BD254,③読み替え表_省エネ住宅!$G$48:$G$57,0),1,0)),0)","v":1},{"$f":"IFERROR(IF(OR(BE254=\"未\",BF254=\"未\"),1,IF(MATCH(BE254&\"/\"&BF254,③読み替え表_省エネ住宅!$G$48:$G$57,0),1,0)),0)","v":1},1,1,1,"*"]
[null,245,null,null,null,null,null,null,null,null,null,null,null,null,null,null,null,null,null,null,null,null,null,null,null,null,null,null,null,null,null,null,null,null,null,null,null,null,null,null,null,null,null,null,null,null,null,null,null,null,null,null,null,null,"未","未","未","未",0,0,0,0,{"$f":"IFERROR(IF(OR(BC255=\"未\",BD255=\"未\"),1,IF(MATCH(BC255&\"/\"&BD255,③読み替え表_省エネ住宅!$G$48:$G$57,0),1,0)),0)","v":1},{"$f":"IFERROR(IF(OR(BE255=\"未\",BF255=\"未\"),1,IF(MATCH(BE255&\"/\"&BF255,③読み替え表_省エネ住宅!$G$48:$G$57,0),1,0)),0)","v":1},1,1,1,"*"]
[null,246,null,null,null,null,null,null,null,null,null,null,null,null,null,null,null,null,null,null,null,null,null,null,null,null,null,null,null,null,null,null,null,null,null,null,null,null,null,null,null,null,null,null,null,null,null,null,null,null,null,null,null,null,"未","未","未","未",0,0,0,0,{"$f":"IFERROR(IF(OR(BC256=\"未\",BD256=\"未\"),1,IF(MATCH(BC256&\"/\"&BD256,③読み替え表_省エネ住宅!$G$48:$G$57,0),1,0)),0)","v":1},{"$f":"IFERROR(IF(OR(BE256=\"未\",BF256=\"未\"),1,IF(MATCH(BE256&\"/\"&BF256,③読み替え表_省エネ住宅!$G$48:$G$57,0),1,0)),0)","v":1},1,1,1,"*"]
[null,247,null,null,null,null,null,null,null,null,null,null,null,null,null,null,null,null,null,null,null,null,null,null,null,null,null,null,null,null,null,null,null,null,null,null,null,null,null,null,null,null,null,null,null,null,null,null,null,null,null,null,null,null,"未","未","未","未",0,0,0,0,{"$f":"IFERROR(IF(OR(BC257=\"未\",BD257=\"未\"),1,IF(MATCH(BC257&\"/\"&BD257,③読み替え表_省エネ住宅!$G$48:$G$57,0),1,0)),0)","v":1},{"$f":"IFERROR(IF(OR(BE257=\"未\",BF257=\"未\"),1,IF(MATCH(BE257&\"/\"&BF257,③読み替え表_省エネ住宅!$G$48:$G$57,0),1,0)),0)","v":1},1,1,1,"*"]
[null,248,null,null,null,null,null,null,null,null,null,null,null,null,null,null,null,null,null,null,null,null,null,null,null,null,null,null,null,null,null,null,null,null,null,null,null,null,null,null,null,null,null,null,null,null,null,null,null,null,null,null,null,null,"未","未","未","未",0,0,0,0,{"$f":"IFERROR(IF(OR(BC258=\"未\",BD258=\"未\"),1,IF(MATCH(BC258&\"/\"&BD258,③読み替え表_省エネ住宅!$G$48:$G$57,0),1,0)),0)","v":1},{"$f":"IFERROR(IF(OR(BE258=\"未\",BF258=\"未\"),1,IF(MATCH(BE258&\"/\"&BF258,③読み替え表_省エネ住宅!$G$48:$G$57,0),1,0)),0)","v":1},1,1,1,"*"]
[null,249,null,null,null,null,null,null,null,null,null,null,null,null,null,null,null,null,null,null,null,null,null,null,null,null,null,null,null,null,null,null,null,null,null,null,null,null,null,null,null,null,null,null,null,null,null,null,null,null,null,null,null,null,"未","未","未","未",0,0,0,0,{"$f":"IFERROR(IF(OR(BC259=\"未\",BD259=\"未\"),1,IF(MATCH(BC259&\"/\"&BD259,③読み替え表_省エネ住宅!$G$48:$G$57,0),1,0)),0)","v":1},{"$f":"IFERROR(IF(OR(BE259=\"未\",BF259=\"未\"),1,IF(MATCH(BE259&\"/\"&BF259,③読み替え表_省エネ住宅!$G$48:$G$57,0),1,0)),0)","v":1},1,1,1,"*"]
[null,250,null,null,null,null,null,null,null,null,null,null,null,null,null,null,null,null,null,null,null,null,null,null,null,null,null,null,null,null,null,null,null,null,null,null,null,null,null,null,null,null,null,null,null,null,null,null,null,null,null,null,null,null,"未","未","未","未",0,0,0,0,{"$f":"IFERROR(IF(OR(BC260=\"未\",BD260=\"未\"),1,IF(MATCH(BC260&\"/\"&BD260,③読み替え表_省エネ住宅!$G$48:$G$57,0),1,0)),0)","v":1},{"$f":"IFERROR(IF(OR(BE260=\"未\",BF260=\"未\"),1,IF(MATCH(BE260&\"/\"&BF260,③読み替え表_省エネ住宅!$G$48:$G$57,0),1,0)),0)","v":1},1,1,1,"*"]
[null,251,null,null,null,null,null,null,null,null,null,null,null,null,null,null,null,null,null,null,null,null,null,null,null,null,null,null,null,null,null,null,null,null,null,null,null,null,null,null,null,null,null,null,null,null,null,null,null,null,null,null,null,null,"未","未","未","未",0,0,0,0,{"$f":"IFERROR(IF(OR(BC261=\"未\",BD261=\"未\"),1,IF(MATCH(BC261&\"/\"&BD261,③読み替え表_省エネ住宅!$G$48:$G$57,0),1,0)),0)","v":1},{"$f":"IFERROR(IF(OR(BE261=\"未\",BF261=\"未\"),1,IF(MATCH(BE261&\"/\"&BF261,③読み替え表_省エネ住宅!$G$48:$G$57,0),1,0)),0)","v":1},1,1,1,"*"]
[null,252,null,null,null,null,null,null,null,null,null,null,null,null,null,null,null,null,null,null,null,null,null,null,null,null,null,null,null,null,null,null,null,null,null,null,null,null,null,null,null,null,null,null,null,null,null,null,null,null,null,null,null,null,"未","未","未","未",0,0,0,0,{"$f":"IFERROR(IF(OR(BC262=\"未\",BD262=\"未\"),1,IF(MATCH(BC262&\"/\"&BD262,③読み替え表_省エネ住宅!$G$48:$G$57,0),1,0)),0)","v":1},{"$f":"IFERROR(IF(OR(BE262=\"未\",BF262=\"未\"),1,IF(MATCH(BE262&\"/\"&BF262,③読み替え表_省エネ住宅!$G$48:$G$57,0),1,0)),0)","v":1},1,1,1,"*"]
[null,253,null,null,null,null,null,null,null,null,null,null,null,null,null,null,null,null,null,null,null,null,null,null,null,null,null,null,null,null,null,null,null,null,null,null,null,null,null,null,null,null,null,null,null,null,null,null,null,null,null,null,null,null,"未","未","未","未",0,0,0,0,{"$f":"IFERROR(IF(OR(BC263=\"未\",BD263=\"未\"),1,IF(MATCH(BC263&\"/\"&BD263,③読み替え表_省エネ住宅!$G$48:$G$57,0),1,0)),0)","v":1},{"$f":"IFERROR(IF(OR(BE263=\"未\",BF263=\"未\"),1,IF(MATCH(BE263&\"/\"&BF263,③読み替え表_省エネ住宅!$G$48:$G$57,0),1,0)),0)","v":1},1,1,1,"*"]
[null,254,null,null,null,null,null,null,null,null,null,null,null,null,null,null,null,null,null,null,null,null,null,null,null,null,null,null,null,null,null,null,null,null,null,null,null,null,null,null,null,null,null,null,null,null,null,null,null,null,null,null,null,null,"未","未","未","未",0,0,0,0,{"$f":"IFERROR(IF(OR(BC264=\"未\",BD264=\"未\"),1,IF(MATCH(BC264&\"/\"&BD264,③読み替え表_省エネ住宅!$G$48:$G$57,0),1,0)),0)","v":1},{"$f":"IFERROR(IF(OR(BE264=\"未\",BF264=\"未\"),1,IF(MATCH(BE264&\"/\"&BF264,③読み替え表_省エネ住宅!$G$48:$G$57,0),1,0)),0)","v":1},1,1,1,"*"]
[null,255,null,null,null,null,null,null,null,null,null,null,null,null,null,null,null,null,null,null,null,null,null,null,null,null,null,null,null,null,null,null,null,null,null,null,null,null,null,null,null,null,null,null,null,null,null,null,null,null,null,null,null,null,"未","未","未","未",0,0,0,0,{"$f":"IFERROR(IF(OR(BC265=\"未\",BD265=\"未\"),1,IF(MATCH(BC265&\"/\"&BD265,③読み替え表_省エネ住宅!$G$48:$G$57,0),1,0)),0)","v":1},{"$f":"IFERROR(IF(OR(BE265=\"未\",BF265=\"未\"),1,IF(MATCH(BE265&\"/\"&BF265,③読み替え表_省エネ住宅!$G$48:$G$57,0),1,0)),0)","v":1},1,1,1,"*"]
[null,256,null,null,null,null,null,null,null,null,null,null,null,null,null,null,null,null,null,null,null,null,null,null,null,null,null,null,null,null,null,null,null,null,null,null,null,null,null,null,null,null,null,null,null,null,null,null,null,null,null,null,null,null,"未","未","未","未",0,0,0,0,{"$f":"IFERROR(IF(OR(BC266=\"未\",BD266=\"未\"),1,IF(MATCH(BC266&\"/\"&BD266,③読み替え表_省エネ住宅!$G$48:$G$57,0),1,0)),0)","v":1},{"$f":"IFERROR(IF(OR(BE266=\"未\",BF266=\"未\"),1,IF(MATCH(BE266&\"/\"&BF266,③読み替え表_省エネ住宅!$G$48:$G$57,0),1,0)),0)","v":1},1,1,1,"*"]
[null,257,null,null,null,null,null,null,null,null,null,null,null,null,null,null,null,null,null,null,null,null,null,null,null,null,null,null,null,null,null,null,null,null,null,null,null,null,null,null,null,null,null,null,null,null,null,null,null,null,null,null,null,null,"未","未","未","未",0,0,0,0,{"$f":"IFERROR(IF(OR(BC267=\"未\",BD267=\"未\"),1,IF(MATCH(BC267&\"/\"&BD267,③読み替え表_省エネ住宅!$G$48:$G$57,0),1,0)),0)","v":1},{"$f":"IFERROR(IF(OR(BE267=\"未\",BF267=\"未\"),1,IF(MATCH(BE267&\"/\"&BF267,③読み替え表_省エネ住宅!$G$48:$G$57,0),1,0)),0)","v":1},1,1,1,"*"]
[null,{"$f":"ROW()-10","v":258},null,null,null,null,null,null,null,null,null,null,null,null,null,null,null,null,null,null,null,null,null,null,null,null,null,null,null,null,null,null,null,null,null,null,null,null,null,null,null,null,null,null,null,null,null,null,null,null,null,null,null,null,{"$f":"IFERROR(IF(SUM($Q268:$U268)>1,\"複数回答\",INDEX($Q$10:$U$10,,MATCH(1,$Q268:$U268,0))),\"未\")","v":"未"},{"$f":"IFERROR(IF(SUM($AA268:$AE268)>1,\"複数回答\",INDEX($AA$10:$AE$10,,MATCH(1,$AA268:$AE268,0))),\"未\")","v":"未"},{"$f":"IFERROR(IF(SUM($V268:$Z268)>1,\"複数回答\",INDEX($V$10:$Z$10,,MATCH(1,$V268:$Z268,0))),\"未\")","v":"未"},{"$f":"IFERROR(IF(SUM($AF268:$AJ268)>1,\"複数回答\",INDEX($AF$10:$AJ$10,,MATCH(1,$AF268:$AJ268,0))),\"未\")","v":"未"},{"$f":"IF(OR(AA268=1,AB268=1,AC268=1),1,0)","v":0},{"$f":"IF(OR(AF268=1,AG268=1,AH268=1),1,0)","v":0},{"$f":"IF(BC268=\"複数回答\",1,IF(BD268=\"複数回答\",1,0))","v":0},{"$f":"IF(BE268=\"複数回答\",1,IF(BF268=\"複数回答\",1,0))","v":0},{"$f":"IFERROR(IF(OR(BC268=\"未\",BD268=\"未\"),1,IF(MATCH(BC268&\"/\"&BD268,③読み替え表_省エネ住宅!$G$48:$G$57,0),1,0)),0)","v":1},{"$f":"IFERROR(IF(OR(BE268=\"未\",BF268=\"未\"),1,IF(MATCH(BE268&\"/\"&BF268,③読み替え表_省エネ住宅!$G$48:$G$57,0),1,0)),0)","v":1},{"$f":"IF(BI268+BK268>0,1,0)","v":1},{"$f":"IF(BJ268+BL268>0,1,0)","v":1},{"$f":"IF(SUM(BI268:BL268)>0,1,0)","v":1},"*"]
[null,259,null,null,null,null,null,null,null,null,null,null,null,null,null,null,null,null,null,null,null,null,null,null,null,null,null,null,null,null,null,null,null,null,null,null,null,null,null,null,null,null,null,null,null,null,null,null,null,null,null,null,null,null,"未","未","未","未",0,0,0,0,{"$f":"IFERROR(IF(OR(BC269=\"未\",BD269=\"未\"),1,IF(MATCH(BC269&\"/\"&BD269,③読み替え表_省エネ住宅!$G$48:$G$57,0),1,0)),0)","v":1},{"$f":"IFERROR(IF(OR(BE269=\"未\",BF269=\"未\"),1,IF(MATCH(BE269&\"/\"&BF269,③読み替え表_省エネ住宅!$G$48:$G$57,0),1,0)),0)","v":1},1,1,1,"*"]
[null,260,null,null,null,null,null,null,null,null,null,null,null,null,null,null,null,null,null,null,null,null,null,null,null,null,null,null,null,null,null,null,null,null,null,null,null,null,null,null,null,null,null,null,null,null,null,null,null,null,null,null,null,null,"未","未","未","未",0,0,0,0,{"$f":"IFERROR(IF(OR(BC270=\"未\",BD270=\"未\"),1,IF(MATCH(BC270&\"/\"&BD270,③読み替え表_省エネ住宅!$G$48:$G$57,0),1,0)),0)","v":1},{"$f":"IFERROR(IF(OR(BE270=\"未\",BF270=\"未\"),1,IF(MATCH(BE270&\"/\"&BF270,③読み替え表_省エネ住宅!$G$48:$G$57,0),1,0)),0)","v":1},1,1,1,"*"]
[null,261,null,null,null,null,null,null,null,null,null,null,null,null,null,null,null,null,null,null,null,null,null,null,null,null,null,null,null,null,null,null,null,null,null,null,null,null,null,null,null,null,null,null,null,null,null,null,null,null,null,null,null,null,"未","未","未","未",0,0,0,0,{"$f":"IFERROR(IF(OR(BC271=\"未\",BD271=\"未\"),1,IF(MATCH(BC271&\"/\"&BD271,③読み替え表_省エネ住宅!$G$48:$G$57,0),1,0)),0)","v":1},{"$f":"IFERROR(IF(OR(BE271=\"未\",BF271=\"未\"),1,IF(MATCH(BE271&\"/\"&BF271,③読み替え表_省エネ住宅!$G$48:$G$57,0),1,0)),0)","v":1},1,1,1,"*"]
[null,262,null,null,null,null,null,null,null,null,null,null,null,null,null,null,null,null,null,null,null,null,null,null,null,null,null,null,null,null,null,null,null,null,null,null,null,null,null,null,null,null,null,null,null,null,null,null,null,null,null,null,null,null,"未","未","未","未",0,0,0,0,{"$f":"IFERROR(IF(OR(BC272=\"未\",BD272=\"未\"),1,IF(MATCH(BC272&\"/\"&BD272,③読み替え表_省エネ住宅!$G$48:$G$57,0),1,0)),0)","v":1},{"$f":"IFERROR(IF(OR(BE272=\"未\",BF272=\"未\"),1,IF(MATCH(BE272&\"/\"&BF272,③読み替え表_省エネ住宅!$G$48:$G$57,0),1,0)),0)","v":1},1,1,1,"*"]
[null,263,null,null,null,null,null,null,null,null,null,null,null,null,null,null,null,null,null,null,null,null,null,null,null,null,null,null,null,null,null,null,null,null,null,null,null,null,null,null,null,null,null,null,null,null,null,null,null,null,null,null,null,null,"未","未","未","未",0,0,0,0,{"$f":"IFERROR(IF(OR(BC273=\"未\",BD273=\"未\"),1,IF(MATCH(BC273&\"/\"&BD273,③読み替え表_省エネ住宅!$G$48:$G$57,0),1,0)),0)","v":1},{"$f":"IFERROR(IF(OR(BE273=\"未\",BF273=\"未\"),1,IF(MATCH(BE273&\"/\"&BF273,③読み替え表_省エネ住宅!$G$48:$G$57,0),1,0)),0)","v":1},1,1,1,"*"]
[null,264,null,null,null,null,null,null,null,null,null,null,null,null,null,null,null,null,null,null,null,null,null,null,null,null,null,null,null,null,null,null,null,null,null,null,null,null,null,null,null,null,null,null,null,null,null,null,null,null,null,null,null,null,"未","未","未","未",0,0,0,0,{"$f":"IFERROR(IF(OR(BC274=\"未\",BD274=\"未\"),1,IF(MATCH(BC274&\"/\"&BD274,③読み替え表_省エネ住宅!$G$48:$G$57,0),1,0)),0)","v":1},{"$f":"IFERROR(IF(OR(BE274=\"未\",BF274=\"未\"),1,IF(MATCH(BE274&\"/\"&BF274,③読み替え表_省エネ住宅!$G$48:$G$57,0),1,0)),0)","v":1},1,1,1,"*"]
[null,265,null,null,null,null,null,null,null,null,null,null,null,null,null,null,null,null,null,null,null,null,null,null,null,null,null,null,null,null,null,null,null,null,null,null,null,null,null,null,null,null,null,null,null,null,null,null,null,null,null,null,null,null,"未","未","未","未",0,0,0,0,{"$f":"IFERROR(IF(OR(BC275=\"未\",BD275=\"未\"),1,IF(MATCH(BC275&\"/\"&BD275,③読み替え表_省エネ住宅!$G$48:$G$57,0),1,0)),0)","v":1},{"$f":"IFERROR(IF(OR(BE275=\"未\",BF275=\"未\"),1,IF(MATCH(BE275&\"/\"&BF275,③読み替え表_省エネ住宅!$G$48:$G$57,0),1,0)),0)","v":1},1,1,1,"*"]
[null,266,null,null,null,null,null,null,null,null,null,null,null,null,null,null,null,null,null,null,null,null,null,null,null,null,null,null,null,null,null,null,null,null,null,null,null,null,null,null,null,null,null,null,null,null,null,null,null,null,null,null,null,null,"未","未","未","未",0,0,0,0,{"$f":"IFERROR(IF(OR(BC276=\"未\",BD276=\"未\"),1,IF(MATCH(BC276&\"/\"&BD276,③読み替え表_省エネ住宅!$G$48:$G$57,0),1,0)),0)","v":1},{"$f":"IFERROR(IF(OR(BE276=\"未\",BF276=\"未\"),1,IF(MATCH(BE276&\"/\"&BF276,③読み替え表_省エネ住宅!$G$48:$G$57,0),1,0)),0)","v":1},1,1,1,"*"]
[null,267,null,null,null,null,null,null,null,null,null,null,null,null,null,null,null,null,null,null,null,null,null,null,null,null,null,null,null,null,null,null,null,null,null,null,null,null,null,null,null,null,null,null,null,null,null,null,null,null,null,null,null,null,"未","未","未","未",0,0,0,0,{"$f":"IFERROR(IF(OR(BC277=\"未\",BD277=\"未\"),1,IF(MATCH(BC277&\"/\"&BD277,③読み替え表_省エネ住宅!$G$48:$G$57,0),1,0)),0)","v":1},{"$f":"IFERROR(IF(OR(BE277=\"未\",BF277=\"未\"),1,IF(MATCH(BE277&\"/\"&BF277,③読み替え表_省エネ住宅!$G$48:$G$57,0),1,0)),0)","v":1},1,1,1,"*"]
[null,268,null,null,null,null,null,null,null,null,null,null,null,null,null,null,null,null,null,null,null,null,null,null,null,null,null,null,null,null,null,null,null,null,null,null,null,null,null,null,null,null,null,null,null,null,null,null,null,null,null,null,null,null,"未","未","未","未",0,0,0,0,{"$f":"IFERROR(IF(OR(BC278=\"未\",BD278=\"未\"),1,IF(MATCH(BC278&\"/\"&BD278,③読み替え表_省エネ住宅!$G$48:$G$57,0),1,0)),0)","v":1},{"$f":"IFERROR(IF(OR(BE278=\"未\",BF278=\"未\"),1,IF(MATCH(BE278&\"/\"&BF278,③読み替え表_省エネ住宅!$G$48:$G$57,0),1,0)),0)","v":1},1,1,1,"*"]
[null,269,null,null,null,null,null,null,null,null,null,null,null,null,null,null,null,null,null,null,null,null,null,null,null,null,null,null,null,null,null,null,null,null,null,null,null,null,null,null,null,null,null,null,null,null,null,null,null,null,null,null,null,null,"未","未","未","未",0,0,0,0,{"$f":"IFERROR(IF(OR(BC279=\"未\",BD279=\"未\"),1,IF(MATCH(BC279&\"/\"&BD279,③読み替え表_省エネ住宅!$G$48:$G$57,0),1,0)),0)","v":1},{"$f":"IFERROR(IF(OR(BE279=\"未\",BF279=\"未\"),1,IF(MATCH(BE279&\"/\"&BF279,③読み替え表_省エネ住宅!$G$48:$G$57,0),1,0)),0)","v":1},1,1,1,"*"]
[null,270,null,null,null,null,null,null,null,null,null,null,null,null,null,null,null,null,null,null,null,null,null,null,null,null,null,null,null,null,null,null,null,null,null,null,null,null,null,null,null,null,null,null,null,null,null,null,null,null,null,null,null,null,"未","未","未","未",0,0,0,0,{"$f":"IFERROR(IF(OR(BC280=\"未\",BD280=\"未\"),1,IF(MATCH(BC280&\"/\"&BD280,③読み替え表_省エネ住宅!$G$48:$G$57,0),1,0)),0)","v":1},{"$f":"IFERROR(IF(OR(BE280=\"未\",BF280=\"未\"),1,IF(MATCH(BE280&\"/\"&BF280,③読み替え表_省エネ住宅!$G$48:$G$57,0),1,0)),0)","v":1},1,1,1,"*"]
[null,271,null,null,null,null,null,null,null,null,null,null,null,null,null,null,null,null,null,null,null,null,null,null,null,null,null,null,null,null,null,null,null,null,null,null,null,null,null,null,null,null,null,null,null,null,null,null,null,null,null,null,null,null,"未","未","未","未",0,0,0,0,{"$f":"IFERROR(IF(OR(BC281=\"未\",BD281=\"未\"),1,IF(MATCH(BC281&\"/\"&BD281,③読み替え表_省エネ住宅!$G$48:$G$57,0),1,0)),0)","v":1},{"$f":"IFERROR(IF(OR(BE281=\"未\",BF281=\"未\"),1,IF(MATCH(BE281&\"/\"&BF281,③読み替え表_省エネ住宅!$G$48:$G$57,0),1,0)),0)","v":1},1,1,1,"*"]
[null,272,null,null,null,null,null,null,null,null,null,null,null,null,null,null,null,null,null,null,null,null,null,null,null,null,null,null,null,null,null,null,null,null,null,null,null,null,null,null,null,null,null,null,null,null,null,null,null,null,null,null,null,null,"未","未","未","未",0,0,0,0,{"$f":"IFERROR(IF(OR(BC282=\"未\",BD282=\"未\"),1,IF(MATCH(BC282&\"/\"&BD282,③読み替え表_省エネ住宅!$G$48:$G$57,0),1,0)),0)","v":1},{"$f":"IFERROR(IF(OR(BE282=\"未\",BF282=\"未\"),1,IF(MATCH(BE282&\"/\"&BF282,③読み替え表_省エネ住宅!$G$48:$G$57,0),1,0)),0)","v":1},1,1,1,"*"]
[null,273,null,null,null,null,null,null,null,null,null,null,null,null,null,null,null,null,null,null,null,null,null,null,null,null,null,null,null,null,null,null,null,null,null,null,null,null,null,null,null,null,null,null,null,null,null,null,null,null,null,null,null,null,"未","未","未","未",0,0,0,0,{"$f":"IFERROR(IF(OR(BC283=\"未\",BD283=\"未\"),1,IF(MATCH(BC283&\"/\"&BD283,③読み替え表_省エネ住宅!$G$48:$G$57,0),1,0)),0)","v":1},{"$f":"IFERROR(IF(OR(BE283=\"未\",BF283=\"未\"),1,IF(MATCH(BE283&\"/\"&BF283,③読み替え表_省エネ住宅!$G$48:$G$57,0),1,0)),0)","v":1},1,1,1,"*"]
[null,274,null,null,null,null,null,null,null,null,null,null,null,null,null,null,null,null,null,null,null,null,null,null,null,null,null,null,null,null,null,null,null,null,null,null,null,null,null,null,null,null,null,null,null,null,null,null,null,null,null,null,null,null,"未","未","未","未",0,0,0,0,{"$f":"IFERROR(IF(OR(BC284=\"未\",BD284=\"未\"),1,IF(MATCH(BC284&\"/\"&BD284,③読み替え表_省エネ住宅!$G$48:$G$57,0),1,0)),0)","v":1},{"$f":"IFERROR(IF(OR(BE284=\"未\",BF284=\"未\"),1,IF(MATCH(BE284&\"/\"&BF284,③読み替え表_省エネ住宅!$G$48:$G$57,0),1,0)),0)","v":1},1,1,1,"*"]
[null,275,null,null,null,null,null,null,null,null,null,null,null,null,null,null,null,null,null,null,null,null,null,null,null,null,null,null,null,null,null,null,null,null,null,null,null,null,null,null,null,null,null,null,null,null,null,null,null,null,null,null,null,null,"未","未","未","未",0,0,0,0,{"$f":"IFERROR(IF(OR(BC285=\"未\",BD285=\"未\"),1,IF(MATCH(BC285&\"/\"&BD285,③読み替え表_省エネ住宅!$G$48:$G$57,0),1,0)),0)","v":1},{"$f":"IFERROR(IF(OR(BE285=\"未\",BF285=\"未\"),1,IF(MATCH(BE285&\"/\"&BF285,③読み替え表_省エネ住宅!$G$48:$G$57,0),1,0)),0)","v":1},1,1,1,"*"]
[null,276,null,null,null,null,null,null,null,null,null,null,null,null,null,null,null,null,null,null,null,null,null,null,null,null,null,null,null,null,null,null,null,null,null,null,null,null,null,null,null,null,null,null,null,null,null,null,null,null,null,null,null,null,"未","未","未","未",0,0,0,0,{"$f":"IFERROR(IF(OR(BC286=\"未\",BD286=\"未\"),1,IF(MATCH(BC286&\"/\"&BD286,③読み替え表_省エネ住宅!$G$48:$G$57,0),1,0)),0)","v":1},{"$f":"IFERROR(IF(OR(BE286=\"未\",BF286=\"未\"),1,IF(MATCH(BE286&\"/\"&BF286,③読み替え表_省エネ住宅!$G$48:$G$57,0),1,0)),0)","v":1},1,1,1,"*"]
[null,277,null,null,null,null,null,null,null,null,null,null,null,null,null,null,null,null,null,null,null,null,null,null,null,null,null,null,null,null,null,null,null,null,null,null,null,null,null,null,null,null,null,null,null,null,null,null,null,null,null,null,null,null,"未","未","未","未",0,0,0,0,{"$f":"IFERROR(IF(OR(BC287=\"未\",BD287=\"未\"),1,IF(MATCH(BC287&\"/\"&BD287,③読み替え表_省エネ住宅!$G$48:$G$57,0),1,0)),0)","v":1},{"$f":"IFERROR(IF(OR(BE287=\"未\",BF287=\"未\"),1,IF(MATCH(BE287&\"/\"&BF287,③読み替え表_省エネ住宅!$G$48:$G$57,0),1,0)),0)","v":1},1,1,1,"*"]
[null,278,null,null,null,null,null,null,null,null,null,null,null,null,null,null,null,null,null,null,null,null,null,null,null,null,null,null,null,null,null,null,null,null,null,null,null,null,null,null,null,null,null,null,null,null,null,null,null,null,null,null,null,null,"未","未","未","未",0,0,0,0,{"$f":"IFERROR(IF(OR(BC288=\"未\",BD288=\"未\"),1,IF(MATCH(BC288&\"/\"&BD288,③読み替え表_省エネ住宅!$G$48:$G$57,0),1,0)),0)","v":1},{"$f":"IFERROR(IF(OR(BE288=\"未\",BF288=\"未\"),1,IF(MATCH(BE288&\"/\"&BF288,③読み替え表_省エネ住宅!$G$48:$G$57,0),1,0)),0)","v":1},1,1,1,"*"]
[null,279,null,null,null,null,null,null,null,null,null,null,null,null,null,null,null,null,null,null,null,null,null,null,null,null,null,null,null,null,null,null,null,null,null,null,null,null,null,null,null,null,null,null,null,null,null,null,null,null,null,null,null,null,"未","未","未","未",0,0,0,0,{"$f":"IFERROR(IF(OR(BC289=\"未\",BD289=\"未\"),1,IF(MATCH(BC289&\"/\"&BD289,③読み替え表_省エネ住宅!$G$48:$G$57,0),1,0)),0)","v":1},{"$f":"IFERROR(IF(OR(BE289=\"未\",BF289=\"未\"),1,IF(MATCH(BE289&\"/\"&BF289,③読み替え表_省エネ住宅!$G$48:$G$57,0),1,0)),0)","v":1},1,1,1,"*"]
[null,280,null,null,null,null,null,null,null,null,null,null,null,null,null,null,null,null,null,null,null,null,null,null,null,null,null,null,null,null,null,null,null,null,null,null,null,null,null,null,null,null,null,null,null,null,null,null,null,null,null,null,null,null,"未","未","未","未",0,0,0,0,{"$f":"IFERROR(IF(OR(BC290=\"未\",BD290=\"未\"),1,IF(MATCH(BC290&\"/\"&BD290,③読み替え表_省エネ住宅!$G$48:$G$57,0),1,0)),0)","v":1},{"$f":"IFERROR(IF(OR(BE290=\"未\",BF290=\"未\"),1,IF(MATCH(BE290&\"/\"&BF290,③読み替え表_省エネ住宅!$G$48:$G$57,0),1,0)),0)","v":1},1,1,1,"*"]
[null,281,null,null,null,null,null,null,null,null,null,null,null,null,null,null,null,null,null,null,null,null,null,null,null,null,null,null,null,null,null,null,null,null,null,null,null,null,null,null,null,null,null,null,null,null,null,null,null,null,null,null,null,null,"未","未","未","未",0,0,0,0,{"$f":"IFERROR(IF(OR(BC291=\"未\",BD291=\"未\"),1,IF(MATCH(BC291&\"/\"&BD291,③読み替え表_省エネ住宅!$G$48:$G$57,0),1,0)),0)","v":1},{"$f":"IFERROR(IF(OR(BE291=\"未\",BF291=\"未\"),1,IF(MATCH(BE291&\"/\"&BF291,③読み替え表_省エネ住宅!$G$48:$G$57,0),1,0)),0)","v":1},1,1,1,"*"]
[null,282,null,null,null,null,null,null,null,null,null,null,null,null,null,null,null,null,null,null,null,null,null,null,null,null,null,null,null,null,null,null,null,null,null,null,null,null,null,null,null,null,null,null,null,null,null,null,null,null,null,null,null,null,"未","未","未","未",0,0,0,0,{"$f":"IFERROR(IF(OR(BC292=\"未\",BD292=\"未\"),1,IF(MATCH(BC292&\"/\"&BD292,③読み替え表_省エネ住宅!$G$48:$G$57,0),1,0)),0)","v":1},{"$f":"IFERROR(IF(OR(BE292=\"未\",BF292=\"未\"),1,IF(MATCH(BE292&\"/\"&BF292,③読み替え表_省エネ住宅!$G$48:$G$57,0),1,0)),0)","v":1},1,1,1,"*"]
[null,283,null,null,null,null,null,null,null,null,null,null,null,null,null,null,null,null,null,null,null,null,null,null,null,null,null,null,null,null,null,null,null,null,null,null,null,null,null,null,null,null,null,null,null,null,null,null,null,null,null,null,null,null,"未","未","未","未",0,0,0,0,{"$f":"IFERROR(IF(OR(BC293=\"未\",BD293=\"未\"),1,IF(MATCH(BC293&\"/\"&BD293,③読み替え表_省エネ住宅!$G$48:$G$57,0),1,0)),0)","v":1},{"$f":"IFERROR(IF(OR(BE293=\"未\",BF293=\"未\"),1,IF(MATCH(BE293&\"/\"&BF293,③読み替え表_省エネ住宅!$G$48:$G$57,0),1,0)),0)","v":1},1,1,1,"*"]
[null,284,null,null,null,null,null,null,null,null,null,null,null,null,null,null,null,null,null,null,null,null,null,null,null,null,null,null,null,null,null,null,null,null,null,null,null,null,null,null,null,null,null,null,null,null,null,null,null,null,null,null,null,null,"未","未","未","未",0,0,0,0,{"$f":"IFERROR(IF(OR(BC294=\"未\",BD294=\"未\"),1,IF(MATCH(BC294&\"/\"&BD294,③読み替え表_省エネ住宅!$G$48:$G$57,0),1,0)),0)","v":1},{"$f":"IFERROR(IF(OR(BE294=\"未\",BF294=\"未\"),1,IF(MATCH(BE294&\"/\"&BF294,③読み替え表_省エネ住宅!$G$48:$G$57,0),1,0)),0)","v":1},1,1,1,"*"]
[null,285,null,null,null,null,null,null,null,null,null,null,null,null,null,null,null,null,null,null,null,null,null,null,null,null,null,null,null,null,null,null,null,null,null,null,null,null,null,null,null,null,null,null,null,null,null,null,null,null,null,null,null,null,"未","未","未","未",0,0,0,0,{"$f":"IFERROR(IF(OR(BC295=\"未\",BD295=\"未\"),1,IF(MATCH(BC295&\"/\"&BD295,③読み替え表_省エネ住宅!$G$48:$G$57,0),1,0)),0)","v":1},{"$f":"IFERROR(IF(OR(BE295=\"未\",BF295=\"未\"),1,IF(MATCH(BE295&\"/\"&BF295,③読み替え表_省エネ住宅!$G$48:$G$57,0),1,0)),0)","v":1},1,1,1,"*"]
[null,286,null,null,null,null,null,null,null,null,null,null,null,null,null,null,null,null,null,null,null,null,null,null,null,null,null,null,null,null,null,null,null,null,null,null,null,null,null,null,null,null,null,null,null,null,null,null,null,null,null,null,null,null,"未","未","未","未",0,0,0,0,{"$f":"IFERROR(IF(OR(BC296=\"未\",BD296=\"未\"),1,IF(MATCH(BC296&\"/\"&BD296,③読み替え表_省エネ住宅!$G$48:$G$57,0),1,0)),0)","v":1},{"$f":"IFERROR(IF(OR(BE296=\"未\",BF296=\"未\"),1,IF(MATCH(BE296&\"/\"&BF296,③読み替え表_省エネ住宅!$G$48:$G$57,0),1,0)),0)","v":1},1,1,1,"*"]
[null,287,null,null,null,null,null,null,null,null,null,null,null,null,null,null,null,null,null,null,null,null,null,null,null,null,null,null,null,null,null,null,null,null,null,null,null,null,null,null,null,null,null,null,null,null,null,null,null,null,null,null,null,null,"未","未","未","未",0,0,0,0,{"$f":"IFERROR(IF(OR(BC297=\"未\",BD297=\"未\"),1,IF(MATCH(BC297&\"/\"&BD297,③読み替え表_省エネ住宅!$G$48:$G$57,0),1,0)),0)","v":1},{"$f":"IFERROR(IF(OR(BE297=\"未\",BF297=\"未\"),1,IF(MATCH(BE297&\"/\"&BF297,③読み替え表_省エネ住宅!$G$48:$G$57,0),1,0)),0)","v":1},1,1,1,"*"]
[null,288,null,null,null,null,null,null,null,null,null,null,null,null,null,null,null,null,null,null,null,null,null,null,null,null,null,null,null,null,null,null,null,null,null,null,null,null,null,null,null,null,null,null,null,null,null,null,null,null,null,null,null,null,"未","未","未","未",0,0,0,0,{"$f":"IFERROR(IF(OR(BC298=\"未\",BD298=\"未\"),1,IF(MATCH(BC298&\"/\"&BD298,③読み替え表_省エネ住宅!$G$48:$G$57,0),1,0)),0)","v":1},{"$f":"IFERROR(IF(OR(BE298=\"未\",BF298=\"未\"),1,IF(MATCH(BE298&\"/\"&BF298,③読み替え表_省エネ住宅!$G$48:$G$57,0),1,0)),0)","v":1},1,1,1,"*"]
[null,289,null,null,null,null,null,null,null,null,null,null,null,null,null,null,null,null,null,null,null,null,null,null,null,null,null,null,null,null,null,null,null,null,null,null,null,null,null,null,null,null,null,null,null,null,null,null,null,null,null,null,null,null,"未","未","未","未",0,0,0,0,{"$f":"IFERROR(IF(OR(BC299=\"未\",BD299=\"未\"),1,IF(MATCH(BC299&\"/\"&BD299,③読み替え表_省エネ住宅!$G$48:$G$57,0),1,0)),0)","v":1},{"$f":"IFERROR(IF(OR(BE299=\"未\",BF299=\"未\"),1,IF(MATCH(BE299&\"/\"&BF299,③読み替え表_省エネ住宅!$G$48:$G$57,0),1,0)),0)","v":1},1,1,1,"*"]
[null,290,null,null,null,null,null,null,null,null,null,null,null,null,null,null,null,null,null,null,null,null,null,null,null,null,null,null,null,null,null,null,null,null,null,null,null,null,null,null,null,null,null,null,null,null,null,null,null,null,null,null,null,null,"未","未","未","未",0,0,0,0,{"$f":"IFERROR(IF(OR(BC300=\"未\",BD300=\"未\"),1,IF(MATCH(BC300&\"/\"&BD300,③読み替え表_省エネ住宅!$G$48:$G$57,0),1,0)),0)","v":1},{"$f":"IFERROR(IF(OR(BE300=\"未\",BF300=\"未\"),1,IF(MATCH(BE300&\"/\"&BF300,③読み替え表_省エネ住宅!$G$48:$G$57,0),1,0)),0)","v":1},1,1,1,"*"]
[null,291,null,null,null,null,null,null,null,null,null,null,null,null,null,null,null,null,null,null,null,null,null,null,null,null,null,null,null,null,null,null,null,null,null,null,null,null,null,null,null,null,null,null,null,null,null,null,null,null,null,null,null,null,"未","未","未","未",0,0,0,0,{"$f":"IFERROR(IF(OR(BC301=\"未\",BD301=\"未\"),1,IF(MATCH(BC301&\"/\"&BD301,③読み替え表_省エネ住宅!$G$48:$G$57,0),1,0)),0)","v":1},{"$f":"IFERROR(IF(OR(BE301=\"未\",BF301=\"未\"),1,IF(MATCH(BE301&\"/\"&BF301,③読み替え表_省エネ住宅!$G$48:$G$57,0),1,0)),0)","v":1},1,1,1,"*"]
[null,292,null,null,null,null,null,null,null,null,null,null,null,null,null,null,null,null,null,null,null,null,null,null,null,null,null,null,null,null,null,null,null,null,null,null,null,null,null,null,null,null,null,null,null,null,null,null,null,null,null,null,null,null,"未","未","未","未",0,0,0,0,{"$f":"IFERROR(IF(OR(BC302=\"未\",BD302=\"未\"),1,IF(MATCH(BC302&\"/\"&BD302,③読み替え表_省エネ住宅!$G$48:$G$57,0),1,0)),0)","v":1},{"$f":"IFERROR(IF(OR(BE302=\"未\",BF302=\"未\"),1,IF(MATCH(BE302&\"/\"&BF302,③読み替え表_省エネ住宅!$G$48:$G$57,0),1,0)),0)","v":1},1,1,1,"*"]
[null,293,null,null,null,null,null,null,null,null,null,null,null,null,null,null,null,null,null,null,null,null,null,null,null,null,null,null,null,null,null,null,null,null,null,null,null,null,null,null,null,null,null,null,null,null,null,null,null,null,null,null,null,null,"未","未","未","未",0,0,0,0,{"$f":"IFERROR(IF(OR(BC303=\"未\",BD303=\"未\"),1,IF(MATCH(BC303&\"/\"&BD303,③読み替え表_省エネ住宅!$G$48:$G$57,0),1,0)),0)","v":1},{"$f":"IFERROR(IF(OR(BE303=\"未\",BF303=\"未\"),1,IF(MATCH(BE303&\"/\"&BF303,③読み替え表_省エネ住宅!$G$48:$G$57,0),1,0)),0)","v":1},1,1,1,"*"]
[null,294,null,null,null,null,null,null,null,null,null,null,null,null,null,null,null,null,null,null,null,null,null,null,null,null,null,null,null,null,null,null,null,null,null,null,null,null,null,null,null,null,null,null,null,null,null,null,null,null,null,null,null,null,"未","未","未","未",0,0,0,0,{"$f":"IFERROR(IF(OR(BC304=\"未\",BD304=\"未\"),1,IF(MATCH(BC304&\"/\"&BD304,③読み替え表_省エネ住宅!$G$48:$G$57,0),1,0)),0)","v":1},{"$f":"IFERROR(IF(OR(BE304=\"未\",BF304=\"未\"),1,IF(MATCH(BE304&\"/\"&BF304,③読み替え表_省エネ住宅!$G$48:$G$57,0),1,0)),0)","v":1},1,1,1,"*"]
[null,295,null,null,null,null,null,null,null,null,null,null,null,null,null,null,null,null,null,null,null,null,null,null,null,null,null,null,null,null,null,null,null,null,null,null,null,null,null,null,null,null,null,null,null,null,null,null,null,null,null,null,null,null,"未","未","未","未",0,0,0,0,{"$f":"IFERROR(IF(OR(BC305=\"未\",BD305=\"未\"),1,IF(MATCH(BC305&\"/\"&BD305,③読み替え表_省エネ住宅!$G$48:$G$57,0),1,0)),0)","v":1},{"$f":"IFERROR(IF(OR(BE305=\"未\",BF305=\"未\"),1,IF(MATCH(BE305&\"/\"&BF305,③読み替え表_省エネ住宅!$G$48:$G$57,0),1,0)),0)","v":1},1,1,1,"*"]
[null,296,null,null,null,null,null,null,null,null,null,null,null,null,null,null,null,null,null,null,null,null,null,null,null,null,null,null,null,null,null,null,null,null,null,null,null,null,null,null,null,null,null,null,null,null,null,null,null,null,null,null,null,null,"未","未","未","未",0,0,0,0,{"$f":"IFERROR(IF(OR(BC306=\"未\",BD306=\"未\"),1,IF(MATCH(BC306&\"/\"&BD306,③読み替え表_省エネ住宅!$G$48:$G$57,0),1,0)),0)","v":1},{"$f":"IFERROR(IF(OR(BE306=\"未\",BF306=\"未\"),1,IF(MATCH(BE306&\"/\"&BF306,③読み替え表_省エネ住宅!$G$48:$G$57,0),1,0)),0)","v":1},1,1,1,"*"]
[null,297,null,null,null,null,null,null,null,null,null,null,null,null,null,null,null,null,null,null,null,null,null,null,null,null,null,null,null,null,null,null,null,null,null,null,null,null,null,null,null,null,null,null,null,null,null,null,null,null,null,null,null,null,"未","未","未","未",0,0,0,0,{"$f":"IFERROR(IF(OR(BC307=\"未\",BD307=\"未\"),1,IF(MATCH(BC307&\"/\"&BD307,③読み替え表_省エネ住宅!$G$48:$G$57,0),1,0)),0)","v":1},{"$f":"IFERROR(IF(OR(BE307=\"未\",BF307=\"未\"),1,IF(MATCH(BE307&\"/\"&BF307,③読み替え表_省エネ住宅!$G$48:$G$57,0),1,0)),0)","v":1},1,1,1,"*"]
[null,298,null,null,null,null,null,null,null,null,null,null,null,null,null,null,null,null,null,null,null,null,null,null,null,null,null,null,null,null,null,null,null,null,null,null,null,null,null,null,null,null,null,null,null,null,null,null,null,null,null,null,null,null,"未","未","未","未",0,0,0,0,{"$f":"IFERROR(IF(OR(BC308=\"未\",BD308=\"未\"),1,IF(MATCH(BC308&\"/\"&BD308,③読み替え表_省エネ住宅!$G$48:$G$57,0),1,0)),0)","v":1},{"$f":"IFERROR(IF(OR(BE308=\"未\",BF308=\"未\"),1,IF(MATCH(BE308&\"/\"&BF308,③読み替え表_省エネ住宅!$G$48:$G$57,0),1,0)),0)","v":1},1,1,1,"*"]
[null,299,null,null,null,null,null,null,null,null,null,null,null,null,null,null,null,null,null,null,null,null,null,null,null,null,null,null,null,null,null,null,null,null,null,null,null,null,null,null,null,null,null,null,null,null,null,null,null,null,null,null,null,null,"未","未","未","未",0,0,0,0,{"$f":"IFERROR(IF(OR(BC309=\"未\",BD309=\"未\"),1,IF(MATCH(BC309&\"/\"&BD309,③読み替え表_省エネ住宅!$G$48:$G$57,0),1,0)),0)","v":1},{"$f":"IFERROR(IF(OR(BE309=\"未\",BF309=\"未\"),1,IF(MATCH(BE309&\"/\"&BF309,③読み替え表_省エネ住宅!$G$48:$G$57,0),1,0)),0)","v":1},1,1,1,"*"]
[null,300,null,null,null,null,null,null,null,null,null,null,null,null,null,null,null,null,null,null,null,null,null,null,null,null,null,null,null,null,null,null,null,null,null,null,null,null,null,null,null,null,null,null,null,null,null,null,null,null,null,null,null,null,"未","未","未","未",0,0,0,0,{"$f":"IFERROR(IF(OR(BC310=\"未\",BD310=\"未\"),1,IF(MATCH(BC310&\"/\"&BD310,③読み替え表_省エネ住宅!$G$48:$G$57,0),1,0)),0)","v":1},{"$f":"IFERROR(IF(OR(BE310=\"未\",BF310=\"未\"),1,IF(MATCH(BE310&\"/\"&BF310,③読み替え表_省エネ住宅!$G$48:$G$57,0),1,0)),0)","v":1},1,1,1,"*"]
[null,301,null,null,null,null,null,null,null,null,null,null,null,null,null,null,null,null,null,null,null,null,null,null,null,null,null,null,null,null,null,null,null,null,null,null,null,null,null,null,null,null,null,null,null,null,null,null,null,null,null,null,null,null,"未","未","未","未",0,0,0,0,{"$f":"IFERROR(IF(OR(BC311=\"未\",BD311=\"未\"),1,IF(MATCH(BC311&\"/\"&BD311,③読み替え表_省エネ住宅!$G$48:$G$57,0),1,0)),0)","v":1},{"$f":"IFERROR(IF(OR(BE311=\"未\",BF311=\"未\"),1,IF(MATCH(BE311&\"/\"&BF311,③読み替え表_省エネ住宅!$G$48:$G$57,0),1,0)),0)","v":1},1,1,1,"*"]
[null,302,null,null,null,null,null,null,null,null,null,null,null,null,null,null,null,null,null,null,null,null,null,null,null,null,null,null,null,null,null,null,null,null,null,null,null,null,null,null,null,null,null,null,null,null,null,null,null,null,null,null,null,null,"未","未","未","未",0,0,0,0,{"$f":"IFERROR(IF(OR(BC312=\"未\",BD312=\"未\"),1,IF(MATCH(BC312&\"/\"&BD312,③読み替え表_省エネ住宅!$G$48:$G$57,0),1,0)),0)","v":1},{"$f":"IFERROR(IF(OR(BE312=\"未\",BF312=\"未\"),1,IF(MATCH(BE312&\"/\"&BF312,③読み替え表_省エネ住宅!$G$48:$G$57,0),1,0)),0)","v":1},1,1,1,"*"]
[null,303,null,null,null,null,null,null,null,null,null,null,null,null,null,null,null,null,null,null,null,null,null,null,null,null,null,null,null,null,null,null,null,null,null,null,null,null,null,null,null,null,null,null,null,null,null,null,null,null,null,null,null,null,"未","未","未","未",0,0,0,0,{"$f":"IFERROR(IF(OR(BC313=\"未\",BD313=\"未\"),1,IF(MATCH(BC313&\"/\"&BD313,③読み替え表_省エネ住宅!$G$48:$G$57,0),1,0)),0)","v":1},{"$f":"IFERROR(IF(OR(BE313=\"未\",BF313=\"未\"),1,IF(MATCH(BE313&\"/\"&BF313,③読み替え表_省エネ住宅!$G$48:$G$57,0),1,0)),0)","v":1},1,1,1,"*"]
[null,304,null,null,null,null,null,null,null,null,null,null,null,null,null,null,null,null,null,null,null,null,null,null,null,null,null,null,null,null,null,null,null,null,null,null,null,null,null,null,null,null,null,null,null,null,null,null,null,null,null,null,null,null,"未","未","未","未",0,0,0,0,{"$f":"IFERROR(IF(OR(BC314=\"未\",BD314=\"未\"),1,IF(MATCH(BC314&\"/\"&BD314,③読み替え表_省エネ住宅!$G$48:$G$57,0),1,0)),0)","v":1},{"$f":"IFERROR(IF(OR(BE314=\"未\",BF314=\"未\"),1,IF(MATCH(BE314&\"/\"&BF314,③読み替え表_省エネ住宅!$G$48:$G$57,0),1,0)),0)","v":1},1,1,1,"*"]
[null,305,null,null,null,null,null,null,null,null,null,null,null,null,null,null,null,null,null,null,null,null,null,null,null,null,null,null,null,null,null,null,null,null,null,null,null,null,null,null,null,null,null,null,null,null,null,null,null,null,null,null,null,null,"未","未","未","未",0,0,0,0,{"$f":"IFERROR(IF(OR(BC315=\"未\",BD315=\"未\"),1,IF(MATCH(BC315&\"/\"&BD315,③読み替え表_省エネ住宅!$G$48:$G$57,0),1,0)),0)","v":1},{"$f":"IFERROR(IF(OR(BE315=\"未\",BF315=\"未\"),1,IF(MATCH(BE315&\"/\"&BF315,③読み替え表_省エネ住宅!$G$48:$G$57,0),1,0)),0)","v":1},1,1,1,"*"]
[null,306,null,null,null,null,null,null,null,null,null,null,null,null,null,null,null,null,null,null,null,null,null,null,null,null,null,null,null,null,null,null,null,null,null,null,null,null,null,null,null,null,null,null,null,null,null,null,null,null,null,null,null,null,"未","未","未","未",0,0,0,0,{"$f":"IFERROR(IF(OR(BC316=\"未\",BD316=\"未\"),1,IF(MATCH(BC316&\"/\"&BD316,③読み替え表_省エネ住宅!$G$48:$G$57,0),1,0)),0)","v":1},{"$f":"IFERROR(IF(OR(BE316=\"未\",BF316=\"未\"),1,IF(MATCH(BE316&\"/\"&BF316,③読み替え表_省エネ住宅!$G$48:$G$57,0),1,0)),0)","v":1},1,1,1,"*"]
[null,307,null,null,null,null,null,null,null,null,null,null,null,null,null,null,null,null,null,null,null,null,null,null,null,null,null,null,null,null,null,null,null,null,null,null,null,null,null,null,null,null,null,null,null,null,null,null,null,null,null,null,null,null,"未","未","未","未",0,0,0,0,{"$f":"IFERROR(IF(OR(BC317=\"未\",BD317=\"未\"),1,IF(MATCH(BC317&\"/\"&BD317,③読み替え表_省エネ住宅!$G$48:$G$57,0),1,0)),0)","v":1},{"$f":"IFERROR(IF(OR(BE317=\"未\",BF317=\"未\"),1,IF(MATCH(BE317&\"/\"&BF317,③読み替え表_省エネ住宅!$G$48:$G$57,0),1,0)),0)","v":1},1,1,1,"*"]
[null,308,null,null,null,null,null,null,null,null,null,null,null,null,null,null,null,null,null,null,null,null,null,null,null,null,null,null,null,null,null,null,null,null,null,null,null,null,null,null,null,null,null,null,null,null,null,null,null,null,null,null,null,null,"未","未","未","未",0,0,0,0,{"$f":"IFERROR(IF(OR(BC318=\"未\",BD318=\"未\"),1,IF(MATCH(BC318&\"/\"&BD318,③読み替え表_省エネ住宅!$G$48:$G$57,0),1,0)),0)","v":1},{"$f":"IFERROR(IF(OR(BE318=\"未\",BF318=\"未\"),1,IF(MATCH(BE318&\"/\"&BF318,③読み替え表_省エネ住宅!$G$48:$G$57,0),1,0)),0)","v":1},1,1,1,"*"]
[null,309,null,null,null,null,null,null,null,null,null,null,null,null,null,null,null,null,null,null,null,null,null,null,null,null,null,null,null,null,null,null,null,null,null,null,null,null,null,null,null,null,null,null,null,null,null,null,null,null,null,null,null,null,"未","未","未","未",0,0,0,0,{"$f":"IFERROR(IF(OR(BC319=\"未\",BD319=\"未\"),1,IF(MATCH(BC319&\"/\"&BD319,③読み替え表_省エネ住宅!$G$48:$G$57,0),1,0)),0)","v":1},{"$f":"IFERROR(IF(OR(BE319=\"未\",BF319=\"未\"),1,IF(MATCH(BE319&\"/\"&BF319,③読み替え表_省エネ住宅!$G$48:$G$57,0),1,0)),0)","v":1},1,1,1,"*"]
[null,310,null,null,null,null,null,null,null,null,null,null,null,null,null,null,null,null,null,null,null,null,null,null,null,null,null,null,null,null,null,null,null,null,null,null,null,null,null,null,null,null,null,null,null,null,null,null,null,null,null,null,null,null,"未","未","未","未",0,0,0,0,{"$f":"IFERROR(IF(OR(BC320=\"未\",BD320=\"未\"),1,IF(MATCH(BC320&\"/\"&BD320,③読み替え表_省エネ住宅!$G$48:$G$57,0),1,0)),0)","v":1},{"$f":"IFERROR(IF(OR(BE320=\"未\",BF320=\"未\"),1,IF(MATCH(BE320&\"/\"&BF320,③読み替え表_省エネ住宅!$G$48:$G$57,0),1,0)),0)","v":1},1,1,1,"*"]
[null,311,null,null,null,null,null,null,null,null,null,null,null,null,null,null,null,null,null,null,null,null,null,null,null,null,null,null,null,null,null,null,null,null,null,null,null,null,null,null,null,null,null,null,null,null,null,null,null,null,null,null,null,null,"未","未","未","未",0,0,0,0,{"$f":"IFERROR(IF(OR(BC321=\"未\",BD321=\"未\"),1,IF(MATCH(BC321&\"/\"&BD321,③読み替え表_省エネ住宅!$G$48:$G$57,0),1,0)),0)","v":1},{"$f":"IFERROR(IF(OR(BE321=\"未\",BF321=\"未\"),1,IF(MATCH(BE321&\"/\"&BF321,③読み替え表_省エネ住宅!$G$48:$G$57,0),1,0)),0)","v":1},1,1,1,"*"]
[null,312,null,null,null,null,null,null,null,null,null,null,null,null,null,null,null,null,null,null,null,null,null,null,null,null,null,null,null,null,null,null,null,null,null,null,null,null,null,null,null,null,null,null,null,null,null,null,null,null,null,null,null,null,"未","未","未","未",0,0,0,0,{"$f":"IFERROR(IF(OR(BC322=\"未\",BD322=\"未\"),1,IF(MATCH(BC322&\"/\"&BD322,③読み替え表_省エネ住宅!$G$48:$G$57,0),1,0)),0)","v":1},{"$f":"IFERROR(IF(OR(BE322=\"未\",BF322=\"未\"),1,IF(MATCH(BE322&\"/\"&BF322,③読み替え表_省エネ住宅!$G$48:$G$57,0),1,0)),0)","v":1},1,1,1,"*"]
[null,313,null,null,null,null,null,null,null,null,null,null,null,null,null,null,null,null,null,null,null,null,null,null,null,null,null,null,null,null,null,null,null,null,null,null,null,null,null,null,null,null,null,null,null,null,null,null,null,null,null,null,null,null,"未","未","未","未",0,0,0,0,{"$f":"IFERROR(IF(OR(BC323=\"未\",BD323=\"未\"),1,IF(MATCH(BC323&\"/\"&BD323,③読み替え表_省エネ住宅!$G$48:$G$57,0),1,0)),0)","v":1},{"$f":"IFERROR(IF(OR(BE323=\"未\",BF323=\"未\"),1,IF(MATCH(BE323&\"/\"&BF323,③読み替え表_省エネ住宅!$G$48:$G$57,0),1,0)),0)","v":1},1,1,1,"*"]
[null,314,null,null,null,null,null,null,null,null,null,null,null,null,null,null,null,null,null,null,null,null,null,null,null,null,null,null,null,null,null,null,null,null,null,null,null,null,null,null,null,null,null,null,null,null,null,null,null,null,null,null,null,null,"未","未","未","未",0,0,0,0,{"$f":"IFERROR(IF(OR(BC324=\"未\",BD324=\"未\"),1,IF(MATCH(BC324&\"/\"&BD324,③読み替え表_省エネ住宅!$G$48:$G$57,0),1,0)),0)","v":1},{"$f":"IFERROR(IF(OR(BE324=\"未\",BF324=\"未\"),1,IF(MATCH(BE324&\"/\"&BF324,③読み替え表_省エネ住宅!$G$48:$G$57,0),1,0)),0)","v":1},1,1,1,"*"]
[null,315,null,null,null,null,null,null,null,null,null,null,null,null,null,null,null,null,null,null,null,null,null,null,null,null,null,null,null,null,null,null,null,null,null,null,null,null,null,null,null,null,null,null,null,null,null,null,null,null,null,null,null,null,"未","未","未","未",0,0,0,0,{"$f":"IFERROR(IF(OR(BC325=\"未\",BD325=\"未\"),1,IF(MATCH(BC325&\"/\"&BD325,③読み替え表_省エネ住宅!$G$48:$G$57,0),1,0)),0)","v":1},{"$f":"IFERROR(IF(OR(BE325=\"未\",BF325=\"未\"),1,IF(MATCH(BE325&\"/\"&BF325,③読み替え表_省エネ住宅!$G$48:$G$57,0),1,0)),0)","v":1},1,1,1,"*"]
[null,316,null,null,null,null,null,null,null,null,null,null,null,null,null,null,null,null,null,null,null,null,null,null,null,null,null,null,null,null,null,null,null,null,null,null,null,null,null,null,null,null,null,null,null,null,null,null,null,null,null,null,null,null,"未","未","未","未",0,0,0,0,{"$f":"IFERROR(IF(OR(BC326=\"未\",BD326=\"未\"),1,IF(MATCH(BC326&\"/\"&BD326,③読み替え表_省エネ住宅!$G$48:$G$57,0),1,0)),0)","v":1},{"$f":"IFERROR(IF(OR(BE326=\"未\",BF326=\"未\"),1,IF(MATCH(BE326&\"/\"&BF326,③読み替え表_省エネ住宅!$G$48:$G$57,0),1,0)),0)","v":1},1,1,1,"*"]
[null,317,null,null,null,null,null,null,null,null,null,null,null,null,null,null,null,null,null,null,null,null,null,null,null,null,null,null,null,null,null,null,null,null,null,null,null,null,null,null,null,null,null,null,null,null,null,null,null,null,null,null,null,null,"未","未","未","未",0,0,0,0,{"$f":"IFERROR(IF(OR(BC327=\"未\",BD327=\"未\"),1,IF(MATCH(BC327&\"/\"&BD327,③読み替え表_省エネ住宅!$G$48:$G$57,0),1,0)),0)","v":1},{"$f":"IFERROR(IF(OR(BE327=\"未\",BF327=\"未\"),1,IF(MATCH(BE327&\"/\"&BF327,③読み替え表_省エネ住宅!$G$48:$G$57,0),1,0)),0)","v":1},1,1,1,"*"]
[null,318,null,null,null,null,null,null,null,null,null,null,null,null,null,null,null,null,null,null,null,null,null,null,null,null,null,null,null,null,null,null,null,null,null,null,null,null,null,null,null,null,null,null,null,null,null,null,null,null,null,null,null,null,"未","未","未","未",0,0,0,0,{"$f":"IFERROR(IF(OR(BC328=\"未\",BD328=\"未\"),1,IF(MATCH(BC328&\"/\"&BD328,③読み替え表_省エネ住宅!$G$48:$G$57,0),1,0)),0)","v":1},{"$f":"IFERROR(IF(OR(BE328=\"未\",BF328=\"未\"),1,IF(MATCH(BE328&\"/\"&BF328,③読み替え表_省エネ住宅!$G$48:$G$57,0),1,0)),0)","v":1},1,1,1,"*"]
[null,319,null,null,null,null,null,null,null,null,null,null,null,null,null,null,null,null,null,null,null,null,null,null,null,null,null,null,null,null,null,null,null,null,null,null,null,null,null,null,null,null,null,null,null,null,null,null,null,null,null,null,null,null,"未","未","未","未",0,0,0,0,{"$f":"IFERROR(IF(OR(BC329=\"未\",BD329=\"未\"),1,IF(MATCH(BC329&\"/\"&BD329,③読み替え表_省エネ住宅!$G$48:$G$57,0),1,0)),0)","v":1},{"$f":"IFERROR(IF(OR(BE329=\"未\",BF329=\"未\"),1,IF(MATCH(BE329&\"/\"&BF329,③読み替え表_省エネ住宅!$G$48:$G$57,0),1,0)),0)","v":1},1,1,1,"*"]
[null,320,null,null,null,null,null,null,null,null,null,null,null,null,null,null,null,null,null,null,null,null,null,null,null,null,null,null,null,null,null,null,null,null,null,null,null,null,null,null,null,null,null,null,null,null,null,null,null,null,null,null,null,null,"未","未","未","未",0,0,0,0,{"$f":"IFERROR(IF(OR(BC330=\"未\",BD330=\"未\"),1,IF(MATCH(BC330&\"/\"&BD330,③読み替え表_省エネ住宅!$G$48:$G$57,0),1,0)),0)","v":1},{"$f":"IFERROR(IF(OR(BE330=\"未\",BF330=\"未\"),1,IF(MATCH(BE330&\"/\"&BF330,③読み替え表_省エネ住宅!$G$48:$G$57,0),1,0)),0)","v":1},1,1,1,"*"]
[null,321,null,null,null,null,null,null,null,null,null,null,null,null,null,null,null,null,null,null,null,null,null,null,null,null,null,null,null,null,null,null,null,null,null,null,null,null,null,null,null,null,null,null,null,null,null,null,null,null,null,null,null,null,"未","未","未","未",0,0,0,0,{"$f":"IFERROR(IF(OR(BC331=\"未\",BD331=\"未\"),1,IF(MATCH(BC331&\"/\"&BD331,③読み替え表_省エネ住宅!$G$48:$G$57,0),1,0)),0)","v":1},{"$f":"IFERROR(IF(OR(BE331=\"未\",BF331=\"未\"),1,IF(MATCH(BE331&\"/\"&BF331,③読み替え表_省エネ住宅!$G$48:$G$57,0),1,0)),0)","v":1},1,1,1,"*"]
[null,{"$f":"ROW()-10","v":322},null,null,null,null,null,null,null,null,null,null,null,null,null,null,null,null,null,null,null,null,null,null,null,null,null,null,null,null,null,null,null,null,null,null,null,null,null,null,null,null,null,null,null,null,null,null,null,null,null,null,null,null,{"$f":"IFERROR(IF(SUM($Q332:$U332)>1,\"複数回答\",INDEX($Q$10:$U$10,,MATCH(1,$Q332:$U332,0))),\"未\")","v":"未"},{"$f":"IFERROR(IF(SUM($AA332:$AE332)>1,\"複数回答\",INDEX($AA$10:$AE$10,,MATCH(1,$AA332:$AE332,0))),\"未\")","v":"未"},{"$f":"IFERROR(IF(SUM($V332:$Z332)>1,\"複数回答\",INDEX($V$10:$Z$10,,MATCH(1,$V332:$Z332,0))),\"未\")","v":"未"},{"$f":"IFERROR(IF(SUM($AF332:$AJ332)>1,\"複数回答\",INDEX($AF$10:$AJ$10,,MATCH(1,$AF332:$AJ332,0))),\"未\")","v":"未"},{"$f":"IF(OR(AA332=1,AB332=1,AC332=1),1,0)","v":0},{"$f":"IF(OR(AF332=1,AG332=1,AH332=1),1,0)","v":0},{"$f":"IF(BC332=\"複数回答\",1,IF(BD332=\"複数回答\",1,0))","v":0},{"$f":"IF(BE332=\"複数回答\",1,IF(BF332=\"複数回答\",1,0))","v":0},{"$f":"IFERROR(IF(OR(BC332=\"未\",BD332=\"未\"),1,IF(MATCH(BC332&\"/\"&BD332,③読み替え表_省エネ住宅!$G$48:$G$57,0),1,0)),0)","v":1},{"$f":"IFERROR(IF(OR(BE332=\"未\",BF332=\"未\"),1,IF(MATCH(BE332&\"/\"&BF332,③読み替え表_省エネ住宅!$G$48:$G$57,0),1,0)),0)","v":1},{"$f":"IF(BI332+BK332>0,1,0)","v":1},{"$f":"IF(BJ332+BL332>0,1,0)","v":1},{"$f":"IF(SUM(BI332:BL332)>0,1,0)","v":1},"*"]
[null,323,null,null,null,null,null,null,null,null,null,null,null,null,null,null,null,null,null,null,null,null,null,null,null,null,null,null,null,null,null,null,null,null,null,null,null,null,null,null,null,null,null,null,null,null,null,null,null,null,null,null,null,null,"未","未","未","未",0,0,0,0,{"$f":"IFERROR(IF(OR(BC333=\"未\",BD333=\"未\"),1,IF(MATCH(BC333&\"/\"&BD333,③読み替え表_省エネ住宅!$G$48:$G$57,0),1,0)),0)","v":1},{"$f":"IFERROR(IF(OR(BE333=\"未\",BF333=\"未\"),1,IF(MATCH(BE333&\"/\"&BF333,③読み替え表_省エネ住宅!$G$48:$G$57,0),1,0)),0)","v":1},1,1,1,"*"]
[null,324,null,null,null,null,null,null,null,null,null,null,null,null,null,null,null,null,null,null,null,null,null,null,null,null,null,null,null,null,null,null,null,null,null,null,null,null,null,null,null,null,null,null,null,null,null,null,null,null,null,null,null,null,"未","未","未","未",0,0,0,0,{"$f":"IFERROR(IF(OR(BC334=\"未\",BD334=\"未\"),1,IF(MATCH(BC334&\"/\"&BD334,③読み替え表_省エネ住宅!$G$48:$G$57,0),1,0)),0)","v":1},{"$f":"IFERROR(IF(OR(BE334=\"未\",BF334=\"未\"),1,IF(MATCH(BE334&\"/\"&BF334,③読み替え表_省エネ住宅!$G$48:$G$57,0),1,0)),0)","v":1},1,1,1,"*"]
[null,325,null,null,null,null,null,null,null,null,null,null,null,null,null,null,null,null,null,null,null,null,null,null,null,null,null,null,null,null,null,null,null,null,null,null,null,null,null,null,null,null,null,null,null,null,null,null,null,null,null,null,null,null,"未","未","未","未",0,0,0,0,{"$f":"IFERROR(IF(OR(BC335=\"未\",BD335=\"未\"),1,IF(MATCH(BC335&\"/\"&BD335,③読み替え表_省エネ住宅!$G$48:$G$57,0),1,0)),0)","v":1},{"$f":"IFERROR(IF(OR(BE335=\"未\",BF335=\"未\"),1,IF(MATCH(BE335&\"/\"&BF335,③読み替え表_省エネ住宅!$G$48:$G$57,0),1,0)),0)","v":1},1,1,1,"*"]
[null,326,null,null,null,null,null,null,null,null,null,null,null,null,null,null,null,null,null,null,null,null,null,null,null,null,null,null,null,null,null,null,null,null,null,null,null,null,null,null,null,null,null,null,null,null,null,null,null,null,null,null,null,null,"未","未","未","未",0,0,0,0,{"$f":"IFERROR(IF(OR(BC336=\"未\",BD336=\"未\"),1,IF(MATCH(BC336&\"/\"&BD336,③読み替え表_省エネ住宅!$G$48:$G$57,0),1,0)),0)","v":1},{"$f":"IFERROR(IF(OR(BE336=\"未\",BF336=\"未\"),1,IF(MATCH(BE336&\"/\"&BF336,③読み替え表_省エネ住宅!$G$48:$G$57,0),1,0)),0)","v":1},1,1,1,"*"]
[null,327,null,null,null,null,null,null,null,null,null,null,null,null,null,null,null,null,null,null,null,null,null,null,null,null,null,null,null,null,null,null,null,null,null,null,null,null,null,null,null,null,null,null,null,null,null,null,null,null,null,null,null,null,"未","未","未","未",0,0,0,0,{"$f":"IFERROR(IF(OR(BC337=\"未\",BD337=\"未\"),1,IF(MATCH(BC337&\"/\"&BD337,③読み替え表_省エネ住宅!$G$48:$G$57,0),1,0)),0)","v":1},{"$f":"IFERROR(IF(OR(BE337=\"未\",BF337=\"未\"),1,IF(MATCH(BE337&\"/\"&BF337,③読み替え表_省エネ住宅!$G$48:$G$57,0),1,0)),0)","v":1},1,1,1,"*"]
[null,328,null,null,null,null,null,null,null,null,null,null,null,null,null,null,null,null,null,null,null,null,null,null,null,null,null,null,null,null,null,null,null,null,null,null,null,null,null,null,null,null,null,null,null,null,null,null,null,null,null,null,null,null,"未","未","未","未",0,0,0,0,{"$f":"IFERROR(IF(OR(BC338=\"未\",BD338=\"未\"),1,IF(MATCH(BC338&\"/\"&BD338,③読み替え表_省エネ住宅!$G$48:$G$57,0),1,0)),0)","v":1},{"$f":"IFERROR(IF(OR(BE338=\"未\",BF338=\"未\"),1,IF(MATCH(BE338&\"/\"&BF338,③読み替え表_省エネ住宅!$G$48:$G$57,0),1,0)),0)","v":1},1,1,1,"*"]
[null,329,null,null,null,null,null,null,null,null,null,null,null,null,null,null,null,null,null,null,null,null,null,null,null,null,null,null,null,null,null,null,null,null,null,null,null,null,null,null,null,null,null,null,null,null,null,null,null,null,null,null,null,null,"未","未","未","未",0,0,0,0,{"$f":"IFERROR(IF(OR(BC339=\"未\",BD339=\"未\"),1,IF(MATCH(BC339&\"/\"&BD339,③読み替え表_省エネ住宅!$G$48:$G$57,0),1,0)),0)","v":1},{"$f":"IFERROR(IF(OR(BE339=\"未\",BF339=\"未\"),1,IF(MATCH(BE339&\"/\"&BF339,③読み替え表_省エネ住宅!$G$48:$G$57,0),1,0)),0)","v":1},1,1,1,"*"]
[null,330,null,null,null,null,null,null,null,null,null,null,null,null,null,null,null,null,null,null,null,null,null,null,null,null,null,null,null,null,null,null,null,null,null,null,null,null,null,null,null,null,null,null,null,null,null,null,null,null,null,null,null,null,"未","未","未","未",0,0,0,0,{"$f":"IFERROR(IF(OR(BC340=\"未\",BD340=\"未\"),1,IF(MATCH(BC340&\"/\"&BD340,③読み替え表_省エネ住宅!$G$48:$G$57,0),1,0)),0)","v":1},{"$f":"IFERROR(IF(OR(BE340=\"未\",BF340=\"未\"),1,IF(MATCH(BE340&\"/\"&BF340,③読み替え表_省エネ住宅!$G$48:$G$57,0),1,0)),0)","v":1},1,1,1,"*"]
[null,331,null,null,null,null,null,null,null,null,null,null,null,null,null,null,null,null,null,null,null,null,null,null,null,null,null,null,null,null,null,null,null,null,null,null,null,null,null,null,null,null,null,null,null,null,null,null,null,null,null,null,null,null,"未","未","未","未",0,0,0,0,{"$f":"IFERROR(IF(OR(BC341=\"未\",BD341=\"未\"),1,IF(MATCH(BC341&\"/\"&BD341,③読み替え表_省エネ住宅!$G$48:$G$57,0),1,0)),0)","v":1},{"$f":"IFERROR(IF(OR(BE341=\"未\",BF341=\"未\"),1,IF(MATCH(BE341&\"/\"&BF341,③読み替え表_省エネ住宅!$G$48:$G$57,0),1,0)),0)","v":1},1,1,1,"*"]
[null,332,null,null,null,null,null,null,null,null,null,null,null,null,null,null,null,null,null,null,null,null,null,null,null,null,null,null,null,null,null,null,null,null,null,null,null,null,null,null,null,null,null,null,null,null,null,null,null,null,null,null,null,null,"未","未","未","未",0,0,0,0,{"$f":"IFERROR(IF(OR(BC342=\"未\",BD342=\"未\"),1,IF(MATCH(BC342&\"/\"&BD342,③読み替え表_省エネ住宅!$G$48:$G$57,0),1,0)),0)","v":1},{"$f":"IFERROR(IF(OR(BE342=\"未\",BF342=\"未\"),1,IF(MATCH(BE342&\"/\"&BF342,③読み替え表_省エネ住宅!$G$48:$G$57,0),1,0)),0)","v":1},1,1,1,"*"]
[null,333,null,null,null,null,null,null,null,null,null,null,null,null,null,null,null,null,null,null,null,null,null,null,null,null,null,null,null,null,null,null,null,null,null,null,null,null,null,null,null,null,null,null,null,null,null,null,null,null,null,null,null,null,"未","未","未","未",0,0,0,0,{"$f":"IFERROR(IF(OR(BC343=\"未\",BD343=\"未\"),1,IF(MATCH(BC343&\"/\"&BD343,③読み替え表_省エネ住宅!$G$48:$G$57,0),1,0)),0)","v":1},{"$f":"IFERROR(IF(OR(BE343=\"未\",BF343=\"未\"),1,IF(MATCH(BE343&\"/\"&BF343,③読み替え表_省エネ住宅!$G$48:$G$57,0),1,0)),0)","v":1},1,1,1,"*"]
[null,334,null,null,null,null,null,null,null,null,null,null,null,null,null,null,null,null,null,null,null,null,null,null,null,null,null,null,null,null,null,null,null,null,null,null,null,null,null,null,null,null,null,null,null,null,null,null,null,null,null,null,null,null,"未","未","未","未",0,0,0,0,{"$f":"IFERROR(IF(OR(BC344=\"未\",BD344=\"未\"),1,IF(MATCH(BC344&\"/\"&BD344,③読み替え表_省エネ住宅!$G$48:$G$57,0),1,0)),0)","v":1},{"$f":"IFERROR(IF(OR(BE344=\"未\",BF344=\"未\"),1,IF(MATCH(BE344&\"/\"&BF344,③読み替え表_省エネ住宅!$G$48:$G$57,0),1,0)),0)","v":1},1,1,1,"*"]
[null,335,null,null,null,null,null,null,null,null,null,null,null,null,null,null,null,null,null,null,null,null,null,null,null,null,null,null,null,null,null,null,null,null,null,null,null,null,null,null,null,null,null,null,null,null,null,null,null,null,null,null,null,null,"未","未","未","未",0,0,0,0,{"$f":"IFERROR(IF(OR(BC345=\"未\",BD345=\"未\"),1,IF(MATCH(BC345&\"/\"&BD345,③読み替え表_省エネ住宅!$G$48:$G$57,0),1,0)),0)","v":1},{"$f":"IFERROR(IF(OR(BE345=\"未\",BF345=\"未\"),1,IF(MATCH(BE345&\"/\"&BF345,③読み替え表_省エネ住宅!$G$48:$G$57,0),1,0)),0)","v":1},1,1,1,"*"]
[null,336,null,null,null,null,null,null,null,null,null,null,null,null,null,null,null,null,null,null,null,null,null,null,null,null,null,null,null,null,null,null,null,null,null,null,null,null,null,null,null,null,null,null,null,null,null,null,null,null,null,null,null,null,"未","未","未","未",0,0,0,0,{"$f":"IFERROR(IF(OR(BC346=\"未\",BD346=\"未\"),1,IF(MATCH(BC346&\"/\"&BD346,③読み替え表_省エネ住宅!$G$48:$G$57,0),1,0)),0)","v":1},{"$f":"IFERROR(IF(OR(BE346=\"未\",BF346=\"未\"),1,IF(MATCH(BE346&\"/\"&BF346,③読み替え表_省エネ住宅!$G$48:$G$57,0),1,0)),0)","v":1},1,1,1,"*"]
[null,337,null,null,null,null,null,null,null,null,null,null,null,null,null,null,null,null,null,null,null,null,null,null,null,null,null,null,null,null,null,null,null,null,null,null,null,null,null,null,null,null,null,null,null,null,null,null,null,null,null,null,null,null,"未","未","未","未",0,0,0,0,{"$f":"IFERROR(IF(OR(BC347=\"未\",BD347=\"未\"),1,IF(MATCH(BC347&\"/\"&BD347,③読み替え表_省エネ住宅!$G$48:$G$57,0),1,0)),0)","v":1},{"$f":"IFERROR(IF(OR(BE347=\"未\",BF347=\"未\"),1,IF(MATCH(BE347&\"/\"&BF347,③読み替え表_省エネ住宅!$G$48:$G$57,0),1,0)),0)","v":1},1,1,1,"*"]
[null,338,null,null,null,null,null,null,null,null,null,null,null,null,null,null,null,null,null,null,null,null,null,null,null,null,null,null,null,null,null,null,null,null,null,null,null,null,null,null,null,null,null,null,null,null,null,null,null,null,null,null,null,null,"未","未","未","未",0,0,0,0,{"$f":"IFERROR(IF(OR(BC348=\"未\",BD348=\"未\"),1,IF(MATCH(BC348&\"/\"&BD348,③読み替え表_省エネ住宅!$G$48:$G$57,0),1,0)),0)","v":1},{"$f":"IFERROR(IF(OR(BE348=\"未\",BF348=\"未\"),1,IF(MATCH(BE348&\"/\"&BF348,③読み替え表_省エネ住宅!$G$48:$G$57,0),1,0)),0)","v":1},1,1,1,"*"]
[null,339,null,null,null,null,null,null,null,null,null,null,null,null,null,null,null,null,null,null,null,null,null,null,null,null,null,null,null,null,null,null,null,null,null,null,null,null,null,null,null,null,null,null,null,null,null,null,null,null,null,null,null,null,"未","未","未","未",0,0,0,0,{"$f":"IFERROR(IF(OR(BC349=\"未\",BD349=\"未\"),1,IF(MATCH(BC349&\"/\"&BD349,③読み替え表_省エネ住宅!$G$48:$G$57,0),1,0)),0)","v":1},{"$f":"IFERROR(IF(OR(BE349=\"未\",BF349=\"未\"),1,IF(MATCH(BE349&\"/\"&BF349,③読み替え表_省エネ住宅!$G$48:$G$57,0),1,0)),0)","v":1},1,1,1,"*"]
[null,340,null,null,null,null,null,null,null,null,null,null,null,null,null,null,null,null,null,null,null,null,null,null,null,null,null,null,null,null,null,null,null,null,null,null,null,null,null,null,null,null,null,null,null,null,null,null,null,null,null,null,null,null,"未","未","未","未",0,0,0,0,{"$f":"IFERROR(IF(OR(BC350=\"未\",BD350=\"未\"),1,IF(MATCH(BC350&\"/\"&BD350,③読み替え表_省エネ住宅!$G$48:$G$57,0),1,0)),0)","v":1},{"$f":"IFERROR(IF(OR(BE350=\"未\",BF350=\"未\"),1,IF(MATCH(BE350&\"/\"&BF350,③読み替え表_省エネ住宅!$G$48:$G$57,0),1,0)),0)","v":1},1,1,1,"*"]
[null,341,null,null,null,null,null,null,null,null,null,null,null,null,null,null,null,null,null,null,null,null,null,null,null,null,null,null,null,null,null,null,null,null,null,null,null,null,null,null,null,null,null,null,null,null,null,null,null,null,null,null,null,null,"未","未","未","未",0,0,0,0,{"$f":"IFERROR(IF(OR(BC351=\"未\",BD351=\"未\"),1,IF(MATCH(BC351&\"/\"&BD351,③読み替え表_省エネ住宅!$G$48:$G$57,0),1,0)),0)","v":1},{"$f":"IFERROR(IF(OR(BE351=\"未\",BF351=\"未\"),1,IF(MATCH(BE351&\"/\"&BF351,③読み替え表_省エネ住宅!$G$48:$G$57,0),1,0)),0)","v":1},1,1,1,"*"]
[null,342,null,null,null,null,null,null,null,null,null,null,null,null,null,null,null,null,null,null,null,null,null,null,null,null,null,null,null,null,null,null,null,null,null,null,null,null,null,null,null,null,null,null,null,null,null,null,null,null,null,null,null,null,"未","未","未","未",0,0,0,0,{"$f":"IFERROR(IF(OR(BC352=\"未\",BD352=\"未\"),1,IF(MATCH(BC352&\"/\"&BD352,③読み替え表_省エネ住宅!$G$48:$G$57,0),1,0)),0)","v":1},{"$f":"IFERROR(IF(OR(BE352=\"未\",BF352=\"未\"),1,IF(MATCH(BE352&\"/\"&BF352,③読み替え表_省エネ住宅!$G$48:$G$57,0),1,0)),0)","v":1},1,1,1,"*"]
[null,343,null,null,null,null,null,null,null,null,null,null,null,null,null,null,null,null,null,null,null,null,null,null,null,null,null,null,null,null,null,null,null,null,null,null,null,null,null,null,null,null,null,null,null,null,null,null,null,null,null,null,null,null,"未","未","未","未",0,0,0,0,{"$f":"IFERROR(IF(OR(BC353=\"未\",BD353=\"未\"),1,IF(MATCH(BC353&\"/\"&BD353,③読み替え表_省エネ住宅!$G$48:$G$57,0),1,0)),0)","v":1},{"$f":"IFERROR(IF(OR(BE353=\"未\",BF353=\"未\"),1,IF(MATCH(BE353&\"/\"&BF353,③読み替え表_省エネ住宅!$G$48:$G$57,0),1,0)),0)","v":1},1,1,1,"*"]
[null,344,null,null,null,null,null,null,null,null,null,null,null,null,null,null,null,null,null,null,null,null,null,null,null,null,null,null,null,null,null,null,null,null,null,null,null,null,null,null,null,null,null,null,null,null,null,null,null,null,null,null,null,null,"未","未","未","未",0,0,0,0,{"$f":"IFERROR(IF(OR(BC354=\"未\",BD354=\"未\"),1,IF(MATCH(BC354&\"/\"&BD354,③読み替え表_省エネ住宅!$G$48:$G$57,0),1,0)),0)","v":1},{"$f":"IFERROR(IF(OR(BE354=\"未\",BF354=\"未\"),1,IF(MATCH(BE354&\"/\"&BF354,③読み替え表_省エネ住宅!$G$48:$G$57,0),1,0)),0)","v":1},1,1,1,"*"]
[null,345,null,null,null,null,null,null,null,null,null,null,null,null,null,null,null,null,null,null,null,null,null,null,null,null,null,null,null,null,null,null,null,null,null,null,null,null,null,null,null,null,null,null,null,null,null,null,null,null,null,null,null,null,"未","未","未","未",0,0,0,0,{"$f":"IFERROR(IF(OR(BC355=\"未\",BD355=\"未\"),1,IF(MATCH(BC355&\"/\"&BD355,③読み替え表_省エネ住宅!$G$48:$G$57,0),1,0)),0)","v":1},{"$f":"IFERROR(IF(OR(BE355=\"未\",BF355=\"未\"),1,IF(MATCH(BE355&\"/\"&BF355,③読み替え表_省エネ住宅!$G$48:$G$57,0),1,0)),0)","v":1},1,1,1,"*"]
[null,346,null,null,null,null,null,null,null,null,null,null,null,null,null,null,null,null,null,null,null,null,null,null,null,null,null,null,null,null,null,null,null,null,null,null,null,null,null,null,null,null,null,null,null,null,null,null,null,null,null,null,null,null,"未","未","未","未",0,0,0,0,{"$f":"IFERROR(IF(OR(BC356=\"未\",BD356=\"未\"),1,IF(MATCH(BC356&\"/\"&BD356,③読み替え表_省エネ住宅!$G$48:$G$57,0),1,0)),0)","v":1},{"$f":"IFERROR(IF(OR(BE356=\"未\",BF356=\"未\"),1,IF(MATCH(BE356&\"/\"&BF356,③読み替え表_省エネ住宅!$G$48:$G$57,0),1,0)),0)","v":1},1,1,1,"*"]
[null,347,null,null,null,null,null,null,null,null,null,null,null,null,null,null,null,null,null,null,null,null,null,null,null,null,null,null,null,null,null,null,null,null,null,null,null,null,null,null,null,null,null,null,null,null,null,null,null,null,null,null,null,null,"未","未","未","未",0,0,0,0,{"$f":"IFERROR(IF(OR(BC357=\"未\",BD357=\"未\"),1,IF(MATCH(BC357&\"/\"&BD357,③読み替え表_省エネ住宅!$G$48:$G$57,0),1,0)),0)","v":1},{"$f":"IFERROR(IF(OR(BE357=\"未\",BF357=\"未\"),1,IF(MATCH(BE357&\"/\"&BF357,③読み替え表_省エネ住宅!$G$48:$G$57,0),1,0)),0)","v":1},1,1,1,"*"]
[null,348,null,null,null,null,null,null,null,null,null,null,null,null,null,null,null,null,null,null,null,null,null,null,null,null,null,null,null,null,null,null,null,null,null,null,null,null,null,null,null,null,null,null,null,null,null,null,null,null,null,null,null,null,"未","未","未","未",0,0,0,0,{"$f":"IFERROR(IF(OR(BC358=\"未\",BD358=\"未\"),1,IF(MATCH(BC358&\"/\"&BD358,③読み替え表_省エネ住宅!$G$48:$G$57,0),1,0)),0)","v":1},{"$f":"IFERROR(IF(OR(BE358=\"未\",BF358=\"未\"),1,IF(MATCH(BE358&\"/\"&BF358,③読み替え表_省エネ住宅!$G$48:$G$57,0),1,0)),0)","v":1},1,1,1,"*"]
[null,349,null,null,null,null,null,null,null,null,null,null,null,null,null,null,null,null,null,null,null,null,null,null,null,null,null,null,null,null,null,null,null,null,null,null,null,null,null,null,null,null,null,null,null,null,null,null,null,null,null,null,null,null,"未","未","未","未",0,0,0,0,{"$f":"IFERROR(IF(OR(BC359=\"未\",BD359=\"未\"),1,IF(MATCH(BC359&\"/\"&BD359,③読み替え表_省エネ住宅!$G$48:$G$57,0),1,0)),0)","v":1},{"$f":"IFERROR(IF(OR(BE359=\"未\",BF359=\"未\"),1,IF(MATCH(BE359&\"/\"&BF359,③読み替え表_省エネ住宅!$G$48:$G$57,0),1,0)),0)","v":1},1,1,1,"*"]
[null,350,null,null,null,null,null,null,null,null,null,null,null,null,null,null,null,null,null,null,null,null,null,null,null,null,null,null,null,null,null,null,null,null,null,null,null,null,null,null,null,null,null,null,null,null,null,null,null,null,null,null,null,null,"未","未","未","未",0,0,0,0,{"$f":"IFERROR(IF(OR(BC360=\"未\",BD360=\"未\"),1,IF(MATCH(BC360&\"/\"&BD360,③読み替え表_省エネ住宅!$G$48:$G$57,0),1,0)),0)","v":1},{"$f":"IFERROR(IF(OR(BE360=\"未\",BF360=\"未\"),1,IF(MATCH(BE360&\"/\"&BF360,③読み替え表_省エネ住宅!$G$48:$G$57,0),1,0)),0)","v":1},1,1,1,"*"]
[null,351,null,null,null,null,null,null,null,null,null,null,null,null,null,null,null,null,null,null,null,null,null,null,null,null,null,null,null,null,null,null,null,null,null,null,null,null,null,null,null,null,null,null,null,null,null,null,null,null,null,null,null,null,"未","未","未","未",0,0,0,0,{"$f":"IFERROR(IF(OR(BC361=\"未\",BD361=\"未\"),1,IF(MATCH(BC361&\"/\"&BD361,③読み替え表_省エネ住宅!$G$48:$G$57,0),1,0)),0)","v":1},{"$f":"IFERROR(IF(OR(BE361=\"未\",BF361=\"未\"),1,IF(MATCH(BE361&\"/\"&BF361,③読み替え表_省エネ住宅!$G$48:$G$57,0),1,0)),0)","v":1},1,1,1,"*"]
[null,352,null,null,null,null,null,null,null,null,null,null,null,null,null,null,null,null,null,null,null,null,null,null,null,null,null,null,null,null,null,null,null,null,null,null,null,null,null,null,null,null,null,null,null,null,null,null,null,null,null,null,null,null,"未","未","未","未",0,0,0,0,{"$f":"IFERROR(IF(OR(BC362=\"未\",BD362=\"未\"),1,IF(MATCH(BC362&\"/\"&BD362,③読み替え表_省エネ住宅!$G$48:$G$57,0),1,0)),0)","v":1},{"$f":"IFERROR(IF(OR(BE362=\"未\",BF362=\"未\"),1,IF(MATCH(BE362&\"/\"&BF362,③読み替え表_省エネ住宅!$G$48:$G$57,0),1,0)),0)","v":1},1,1,1,"*"]
[null,353,null,null,null,null,null,null,null,null,null,null,null,null,null,null,null,null,null,null,null,null,null,null,null,null,null,null,null,null,null,null,null,null,null,null,null,null,null,null,null,null,null,null,null,null,null,null,null,null,null,null,null,null,"未","未","未","未",0,0,0,0,{"$f":"IFERROR(IF(OR(BC363=\"未\",BD363=\"未\"),1,IF(MATCH(BC363&\"/\"&BD363,③読み替え表_省エネ住宅!$G$48:$G$57,0),1,0)),0)","v":1},{"$f":"IFERROR(IF(OR(BE363=\"未\",BF363=\"未\"),1,IF(MATCH(BE363&\"/\"&BF363,③読み替え表_省エネ住宅!$G$48:$G$57,0),1,0)),0)","v":1},1,1,1,"*"]
[null,354,null,null,null,null,null,null,null,null,null,null,null,null,null,null,null,null,null,null,null,null,null,null,null,null,null,null,null,null,null,null,null,null,null,null,null,null,null,null,null,null,null,null,null,null,null,null,null,null,null,null,null,null,"未","未","未","未",0,0,0,0,{"$f":"IFERROR(IF(OR(BC364=\"未\",BD364=\"未\"),1,IF(MATCH(BC364&\"/\"&BD364,③読み替え表_省エネ住宅!$G$48:$G$57,0),1,0)),0)","v":1},{"$f":"IFERROR(IF(OR(BE364=\"未\",BF364=\"未\"),1,IF(MATCH(BE364&\"/\"&BF364,③読み替え表_省エネ住宅!$G$48:$G$57,0),1,0)),0)","v":1},1,1,1,"*"]
[null,355,null,null,null,null,null,null,null,null,null,null,null,null,null,null,null,null,null,null,null,null,null,null,null,null,null,null,null,null,null,null,null,null,null,null,null,null,null,null,null,null,null,null,null,null,null,null,null,null,null,null,null,null,"未","未","未","未",0,0,0,0,{"$f":"IFERROR(IF(OR(BC365=\"未\",BD365=\"未\"),1,IF(MATCH(BC365&\"/\"&BD365,③読み替え表_省エネ住宅!$G$48:$G$57,0),1,0)),0)","v":1},{"$f":"IFERROR(IF(OR(BE365=\"未\",BF365=\"未\"),1,IF(MATCH(BE365&\"/\"&BF365,③読み替え表_省エネ住宅!$G$48:$G$57,0),1,0)),0)","v":1},1,1,1,"*"]
[null,356,null,null,null,null,null,null,null,null,null,null,null,null,null,null,null,null,null,null,null,null,null,null,null,null,null,null,null,null,null,null,null,null,null,null,null,null,null,null,null,null,null,null,null,null,null,null,null,null,null,null,null,null,"未","未","未","未",0,0,0,0,{"$f":"IFERROR(IF(OR(BC366=\"未\",BD366=\"未\"),1,IF(MATCH(BC366&\"/\"&BD366,③読み替え表_省エネ住宅!$G$48:$G$57,0),1,0)),0)","v":1},{"$f":"IFERROR(IF(OR(BE366=\"未\",BF366=\"未\"),1,IF(MATCH(BE366&\"/\"&BF366,③読み替え表_省エネ住宅!$G$48:$G$57,0),1,0)),0)","v":1},1,1,1,"*"]
[null,357,null,null,null,null,null,null,null,null,null,null,null,null,null,null,null,null,null,null,null,null,null,null,null,null,null,null,null,null,null,null,null,null,null,null,null,null,null,null,null,null,null,null,null,null,null,null,null,null,null,null,null,null,"未","未","未","未",0,0,0,0,{"$f":"IFERROR(IF(OR(BC367=\"未\",BD367=\"未\"),1,IF(MATCH(BC367&\"/\"&BD367,③読み替え表_省エネ住宅!$G$48:$G$57,0),1,0)),0)","v":1},{"$f":"IFERROR(IF(OR(BE367=\"未\",BF367=\"未\"),1,IF(MATCH(BE367&\"/\"&BF367,③読み替え表_省エネ住宅!$G$48:$G$57,0),1,0)),0)","v":1},1,1,1,"*"]
[null,358,null,null,null,null,null,null,null,null,null,null,null,null,null,null,null,null,null,null,null,null,null,null,null,null,null,null,null,null,null,null,null,null,null,null,null,null,null,null,null,null,null,null,null,null,null,null,null,null,null,null,null,null,"未","未","未","未",0,0,0,0,{"$f":"IFERROR(IF(OR(BC368=\"未\",BD368=\"未\"),1,IF(MATCH(BC368&\"/\"&BD368,③読み替え表_省エネ住宅!$G$48:$G$57,0),1,0)),0)","v":1},{"$f":"IFERROR(IF(OR(BE368=\"未\",BF368=\"未\"),1,IF(MATCH(BE368&\"/\"&BF368,③読み替え表_省エネ住宅!$G$48:$G$57,0),1,0)),0)","v":1},1,1,1,"*"]
[null,359,null,null,null,null,null,null,null,null,null,null,null,null,null,null,null,null,null,null,null,null,null,null,null,null,null,null,null,null,null,null,null,null,null,null,null,null,null,null,null,null,null,null,null,null,null,null,null,null,null,null,null,null,"未","未","未","未",0,0,0,0,{"$f":"IFERROR(IF(OR(BC369=\"未\",BD369=\"未\"),1,IF(MATCH(BC369&\"/\"&BD369,③読み替え表_省エネ住宅!$G$48:$G$57,0),1,0)),0)","v":1},{"$f":"IFERROR(IF(OR(BE369=\"未\",BF369=\"未\"),1,IF(MATCH(BE369&\"/\"&BF369,③読み替え表_省エネ住宅!$G$48:$G$57,0),1,0)),0)","v":1},1,1,1,"*"]
[null,360,null,null,null,null,null,null,null,null,null,null,null,null,null,null,null,null,null,null,null,null,null,null,null,null,null,null,null,null,null,null,null,null,null,null,null,null,null,null,null,null,null,null,null,null,null,null,null,null,null,null,null,null,"未","未","未","未",0,0,0,0,{"$f":"IFERROR(IF(OR(BC370=\"未\",BD370=\"未\"),1,IF(MATCH(BC370&\"/\"&BD370,③読み替え表_省エネ住宅!$G$48:$G$57,0),1,0)),0)","v":1},{"$f":"IFERROR(IF(OR(BE370=\"未\",BF370=\"未\"),1,IF(MATCH(BE370&\"/\"&BF370,③読み替え表_省エネ住宅!$G$48:$G$57,0),1,0)),0)","v":1},1,1,1,"*"]
[null,361,null,null,null,null,null,null,null,null,null,null,null,null,null,null,null,null,null,null,null,null,null,null,null,null,null,null,null,null,null,null,null,null,null,null,null,null,null,null,null,null,null,null,null,null,null,null,null,null,null,null,null,null,"未","未","未","未",0,0,0,0,{"$f":"IFERROR(IF(OR(BC371=\"未\",BD371=\"未\"),1,IF(MATCH(BC371&\"/\"&BD371,③読み替え表_省エネ住宅!$G$48:$G$57,0),1,0)),0)","v":1},{"$f":"IFERROR(IF(OR(BE371=\"未\",BF371=\"未\"),1,IF(MATCH(BE371&\"/\"&BF371,③読み替え表_省エネ住宅!$G$48:$G$57,0),1,0)),0)","v":1},1,1,1,"*"]
[null,362,null,null,null,null,null,null,null,null,null,null,null,null,null,null,null,null,null,null,null,null,null,null,null,null,null,null,null,null,null,null,null,null,null,null,null,null,null,null,null,null,null,null,null,null,null,null,null,null,null,null,null,null,"未","未","未","未",0,0,0,0,{"$f":"IFERROR(IF(OR(BC372=\"未\",BD372=\"未\"),1,IF(MATCH(BC372&\"/\"&BD372,③読み替え表_省エネ住宅!$G$48:$G$57,0),1,0)),0)","v":1},{"$f":"IFERROR(IF(OR(BE372=\"未\",BF372=\"未\"),1,IF(MATCH(BE372&\"/\"&BF372,③読み替え表_省エネ住宅!$G$48:$G$57,0),1,0)),0)","v":1},1,1,1,"*"]
[null,363,null,null,null,null,null,null,null,null,null,null,null,null,null,null,null,null,null,null,null,null,null,null,null,null,null,null,null,null,null,null,null,null,null,null,null,null,null,null,null,null,null,null,null,null,null,null,null,null,null,null,null,null,"未","未","未","未",0,0,0,0,{"$f":"IFERROR(IF(OR(BC373=\"未\",BD373=\"未\"),1,IF(MATCH(BC373&\"/\"&BD373,③読み替え表_省エネ住宅!$G$48:$G$57,0),1,0)),0)","v":1},{"$f":"IFERROR(IF(OR(BE373=\"未\",BF373=\"未\"),1,IF(MATCH(BE373&\"/\"&BF373,③読み替え表_省エネ住宅!$G$48:$G$57,0),1,0)),0)","v":1},1,1,1,"*"]
[null,364,null,null,null,null,null,null,null,null,null,null,null,null,null,null,null,null,null,null,null,null,null,null,null,null,null,null,null,null,null,null,null,null,null,null,null,null,null,null,null,null,null,null,null,null,null,null,null,null,null,null,null,null,"未","未","未","未",0,0,0,0,{"$f":"IFERROR(IF(OR(BC374=\"未\",BD374=\"未\"),1,IF(MATCH(BC374&\"/\"&BD374,③読み替え表_省エネ住宅!$G$48:$G$57,0),1,0)),0)","v":1},{"$f":"IFERROR(IF(OR(BE374=\"未\",BF374=\"未\"),1,IF(MATCH(BE374&\"/\"&BF374,③読み替え表_省エネ住宅!$G$48:$G$57,0),1,0)),0)","v":1},1,1,1,"*"]
[null,365,null,null,null,null,null,null,null,null,null,null,null,null,null,null,null,null,null,null,null,null,null,null,null,null,null,null,null,null,null,null,null,null,null,null,null,null,null,null,null,null,null,null,null,null,null,null,null,null,null,null,null,null,"未","未","未","未",0,0,0,0,{"$f":"IFERROR(IF(OR(BC375=\"未\",BD375=\"未\"),1,IF(MATCH(BC375&\"/\"&BD375,③読み替え表_省エネ住宅!$G$48:$G$57,0),1,0)),0)","v":1},{"$f":"IFERROR(IF(OR(BE375=\"未\",BF375=\"未\"),1,IF(MATCH(BE375&\"/\"&BF375,③読み替え表_省エネ住宅!$G$48:$G$57,0),1,0)),0)","v":1},1,1,1,"*"]
[null,366,null,null,null,null,null,null,null,null,null,null,null,null,null,null,null,null,null,null,null,null,null,null,null,null,null,null,null,null,null,null,null,null,null,null,null,null,null,null,null,null,null,null,null,null,null,null,null,null,null,null,null,null,"未","未","未","未",0,0,0,0,{"$f":"IFERROR(IF(OR(BC376=\"未\",BD376=\"未\"),1,IF(MATCH(BC376&\"/\"&BD376,③読み替え表_省エネ住宅!$G$48:$G$57,0),1,0)),0)","v":1},{"$f":"IFERROR(IF(OR(BE376=\"未\",BF376=\"未\"),1,IF(MATCH(BE376&\"/\"&BF376,③読み替え表_省エネ住宅!$G$48:$G$57,0),1,0)),0)","v":1},1,1,1,"*"]
[null,367,null,null,null,null,null,null,null,null,null,null,null,null,null,null,null,null,null,null,null,null,null,null,null,null,null,null,null,null,null,null,null,null,null,null,null,null,null,null,null,null,null,null,null,null,null,null,null,null,null,null,null,null,"未","未","未","未",0,0,0,0,{"$f":"IFERROR(IF(OR(BC377=\"未\",BD377=\"未\"),1,IF(MATCH(BC377&\"/\"&BD377,③読み替え表_省エネ住宅!$G$48:$G$57,0),1,0)),0)","v":1},{"$f":"IFERROR(IF(OR(BE377=\"未\",BF377=\"未\"),1,IF(MATCH(BE377&\"/\"&BF377,③読み替え表_省エネ住宅!$G$48:$G$57,0),1,0)),0)","v":1},1,1,1,"*"]
[null,368,null,null,null,null,null,null,null,null,null,null,null,null,null,null,null,null,null,null,null,null,null,null,null,null,null,null,null,null,null,null,null,null,null,null,null,null,null,null,null,null,null,null,null,null,null,null,null,null,null,null,null,null,"未","未","未","未",0,0,0,0,{"$f":"IFERROR(IF(OR(BC378=\"未\",BD378=\"未\"),1,IF(MATCH(BC378&\"/\"&BD378,③読み替え表_省エネ住宅!$G$48:$G$57,0),1,0)),0)","v":1},{"$f":"IFERROR(IF(OR(BE378=\"未\",BF378=\"未\"),1,IF(MATCH(BE378&\"/\"&BF378,③読み替え表_省エネ住宅!$G$48:$G$57,0),1,0)),0)","v":1},1,1,1,"*"]
[null,369,null,null,null,null,null,null,null,null,null,null,null,null,null,null,null,null,null,null,null,null,null,null,null,null,null,null,null,null,null,null,null,null,null,null,null,null,null,null,null,null,null,null,null,null,null,null,null,null,null,null,null,null,"未","未","未","未",0,0,0,0,{"$f":"IFERROR(IF(OR(BC379=\"未\",BD379=\"未\"),1,IF(MATCH(BC379&\"/\"&BD379,③読み替え表_省エネ住宅!$G$48:$G$57,0),1,0)),0)","v":1},{"$f":"IFERROR(IF(OR(BE379=\"未\",BF379=\"未\"),1,IF(MATCH(BE379&\"/\"&BF379,③読み替え表_省エネ住宅!$G$48:$G$57,0),1,0)),0)","v":1},1,1,1,"*"]
[null,370,null,null,null,null,null,null,null,null,null,null,null,null,null,null,null,null,null,null,null,null,null,null,null,null,null,null,null,null,null,null,null,null,null,null,null,null,null,null,null,null,null,null,null,null,null,null,null,null,null,null,null,null,"未","未","未","未",0,0,0,0,{"$f":"IFERROR(IF(OR(BC380=\"未\",BD380=\"未\"),1,IF(MATCH(BC380&\"/\"&BD380,③読み替え表_省エネ住宅!$G$48:$G$57,0),1,0)),0)","v":1},{"$f":"IFERROR(IF(OR(BE380=\"未\",BF380=\"未\"),1,IF(MATCH(BE380&\"/\"&BF380,③読み替え表_省エネ住宅!$G$48:$G$57,0),1,0)),0)","v":1},1,1,1,"*"]
[null,371,null,null,null,null,null,null,null,null,null,null,null,null,null,null,null,null,null,null,null,null,null,null,null,null,null,null,null,null,null,null,null,null,null,null,null,null,null,null,null,null,null,null,null,null,null,null,null,null,null,null,null,null,"未","未","未","未",0,0,0,0,{"$f":"IFERROR(IF(OR(BC381=\"未\",BD381=\"未\"),1,IF(MATCH(BC381&\"/\"&BD381,③読み替え表_省エネ住宅!$G$48:$G$57,0),1,0)),0)","v":1},{"$f":"IFERROR(IF(OR(BE381=\"未\",BF381=\"未\"),1,IF(MATCH(BE381&\"/\"&BF381,③読み替え表_省エネ住宅!$G$48:$G$57,0),1,0)),0)","v":1},1,1,1,"*"]
[null,372,null,null,null,null,null,null,null,null,null,null,null,null,null,null,null,null,null,null,null,null,null,null,null,null,null,null,null,null,null,null,null,null,null,null,null,null,null,null,null,null,null,null,null,null,null,null,null,null,null,null,null,null,"未","未","未","未",0,0,0,0,{"$f":"IFERROR(IF(OR(BC382=\"未\",BD382=\"未\"),1,IF(MATCH(BC382&\"/\"&BD382,③読み替え表_省エネ住宅!$G$48:$G$57,0),1,0)),0)","v":1},{"$f":"IFERROR(IF(OR(BE382=\"未\",BF382=\"未\"),1,IF(MATCH(BE382&\"/\"&BF382,③読み替え表_省エネ住宅!$G$48:$G$57,0),1,0)),0)","v":1},1,1,1,"*"]
[null,373,null,null,null,null,null,null,null,null,null,null,null,null,null,null,null,null,null,null,null,null,null,null,null,null,null,null,null,null,null,null,null,null,null,null,null,null,null,null,null,null,null,null,null,null,null,null,null,null,null,null,null,null,"未","未","未","未",0,0,0,0,{"$f":"IFERROR(IF(OR(BC383=\"未\",BD383=\"未\"),1,IF(MATCH(BC383&\"/\"&BD383,③読み替え表_省エネ住宅!$G$48:$G$57,0),1,0)),0)","v":1},{"$f":"IFERROR(IF(OR(BE383=\"未\",BF383=\"未\"),1,IF(MATCH(BE383&\"/\"&BF383,③読み替え表_省エネ住宅!$G$48:$G$57,0),1,0)),0)","v":1},1,1,1,"*"]
[null,374,null,null,null,null,null,null,null,null,null,null,null,null,null,null,null,null,null,null,null,null,null,null,null,null,null,null,null,null,null,null,null,null,null,null,null,null,null,null,null,null,null,null,null,null,null,null,null,null,null,null,null,null,"未","未","未","未",0,0,0,0,{"$f":"IFERROR(IF(OR(BC384=\"未\",BD384=\"未\"),1,IF(MATCH(BC384&\"/\"&BD384,③読み替え表_省エネ住宅!$G$48:$G$57,0),1,0)),0)","v":1},{"$f":"IFERROR(IF(OR(BE384=\"未\",BF384=\"未\"),1,IF(MATCH(BE384&\"/\"&BF384,③読み替え表_省エネ住宅!$G$48:$G$57,0),1,0)),0)","v":1},1,1,1,"*"]
[null,375,null,null,null,null,null,null,null,null,null,null,null,null,null,null,null,null,null,null,null,null,null,null,null,null,null,null,null,null,null,null,null,null,null,null,null,null,null,null,null,null,null,null,null,null,null,null,null,null,null,null,null,null,"未","未","未","未",0,0,0,0,{"$f":"IFERROR(IF(OR(BC385=\"未\",BD385=\"未\"),1,IF(MATCH(BC385&\"/\"&BD385,③読み替え表_省エネ住宅!$G$48:$G$57,0),1,0)),0)","v":1},{"$f":"IFERROR(IF(OR(BE385=\"未\",BF385=\"未\"),1,IF(MATCH(BE385&\"/\"&BF385,③読み替え表_省エネ住宅!$G$48:$G$57,0),1,0)),0)","v":1},1,1,1,"*"]
[null,376,null,null,null,null,null,null,null,null,null,null,null,null,null,null,null,null,null,null,null,null,null,null,null,null,null,null,null,null,null,null,null,null,null,null,null,null,null,null,null,null,null,null,null,null,null,null,null,null,null,null,null,null,"未","未","未","未",0,0,0,0,{"$f":"IFERROR(IF(OR(BC386=\"未\",BD386=\"未\"),1,IF(MATCH(BC386&\"/\"&BD386,③読み替え表_省エネ住宅!$G$48:$G$57,0),1,0)),0)","v":1},{"$f":"IFERROR(IF(OR(BE386=\"未\",BF386=\"未\"),1,IF(MATCH(BE386&\"/\"&BF386,③読み替え表_省エネ住宅!$G$48:$G$57,0),1,0)),0)","v":1},1,1,1,"*"]
[null,377,null,null,null,null,null,null,null,null,null,null,null,null,null,null,null,null,null,null,null,null,null,null,null,null,null,null,null,null,null,null,null,null,null,null,null,null,null,null,null,null,null,null,null,null,null,null,null,null,null,null,null,null,"未","未","未","未",0,0,0,0,{"$f":"IFERROR(IF(OR(BC387=\"未\",BD387=\"未\"),1,IF(MATCH(BC387&\"/\"&BD387,③読み替え表_省エネ住宅!$G$48:$G$57,0),1,0)),0)","v":1},{"$f":"IFERROR(IF(OR(BE387=\"未\",BF387=\"未\"),1,IF(MATCH(BE387&\"/\"&BF387,③読み替え表_省エネ住宅!$G$48:$G$57,0),1,0)),0)","v":1},1,1,1,"*"]
[null,378,null,null,null,null,null,null,null,null,null,null,null,null,null,null,null,null,null,null,null,null,null,null,null,null,null,null,null,null,null,null,null,null,null,null,null,null,null,null,null,null,null,null,null,null,null,null,null,null,null,null,null,null,"未","未","未","未",0,0,0,0,{"$f":"IFERROR(IF(OR(BC388=\"未\",BD388=\"未\"),1,IF(MATCH(BC388&\"/\"&BD388,③読み替え表_省エネ住宅!$G$48:$G$57,0),1,0)),0)","v":1},{"$f":"IFERROR(IF(OR(BE388=\"未\",BF388=\"未\"),1,IF(MATCH(BE388&\"/\"&BF388,③読み替え表_省エネ住宅!$G$48:$G$57,0),1,0)),0)","v":1},1,1,1,"*"]
[null,379,null,null,null,null,null,null,null,null,null,null,null,null,null,null,null,null,null,null,null,null,null,null,null,null,null,null,null,null,null,null,null,null,null,null,null,null,null,null,null,null,null,null,null,null,null,null,null,null,null,null,null,null,"未","未","未","未",0,0,0,0,{"$f":"IFERROR(IF(OR(BC389=\"未\",BD389=\"未\"),1,IF(MATCH(BC389&\"/\"&BD389,③読み替え表_省エネ住宅!$G$48:$G$57,0),1,0)),0)","v":1},{"$f":"IFERROR(IF(OR(BE389=\"未\",BF389=\"未\"),1,IF(MATCH(BE389&\"/\"&BF389,③読み替え表_省エネ住宅!$G$48:$G$57,0),1,0)),0)","v":1},1,1,1,"*"]
[null,380,null,null,null,null,null,null,null,null,null,null,null,null,null,null,null,null,null,null,null,null,null,null,null,null,null,null,null,null,null,null,null,null,null,null,null,null,null,null,null,null,null,null,null,null,null,null,null,null,null,null,null,null,"未","未","未","未",0,0,0,0,{"$f":"IFERROR(IF(OR(BC390=\"未\",BD390=\"未\"),1,IF(MATCH(BC390&\"/\"&BD390,③読み替え表_省エネ住宅!$G$48:$G$57,0),1,0)),0)","v":1},{"$f":"IFERROR(IF(OR(BE390=\"未\",BF390=\"未\"),1,IF(MATCH(BE390&\"/\"&BF390,③読み替え表_省エネ住宅!$G$48:$G$57,0),1,0)),0)","v":1},1,1,1,"*"]
[null,381,null,null,null,null,null,null,null,null,null,null,null,null,null,null,null,null,null,null,null,null,null,null,null,null,null,null,null,null,null,null,null,null,null,null,null,null,null,null,null,null,null,null,null,null,null,null,null,null,null,null,null,null,"未","未","未","未",0,0,0,0,{"$f":"IFERROR(IF(OR(BC391=\"未\",BD391=\"未\"),1,IF(MATCH(BC391&\"/\"&BD391,③読み替え表_省エネ住宅!$G$48:$G$57,0),1,0)),0)","v":1},{"$f":"IFERROR(IF(OR(BE391=\"未\",BF391=\"未\"),1,IF(MATCH(BE391&\"/\"&BF391,③読み替え表_省エネ住宅!$G$48:$G$57,0),1,0)),0)","v":1},1,1,1,"*"]
[null,382,null,null,null,null,null,null,null,null,null,null,null,null,null,null,null,null,null,null,null,null,null,null,null,null,null,null,null,null,null,null,null,null,null,null,null,null,null,null,null,null,null,null,null,null,null,null,null,null,null,null,null,null,"未","未","未","未",0,0,0,0,{"$f":"IFERROR(IF(OR(BC392=\"未\",BD392=\"未\"),1,IF(MATCH(BC392&\"/\"&BD392,③読み替え表_省エネ住宅!$G$48:$G$57,0),1,0)),0)","v":1},{"$f":"IFERROR(IF(OR(BE392=\"未\",BF392=\"未\"),1,IF(MATCH(BE392&\"/\"&BF392,③読み替え表_省エネ住宅!$G$48:$G$57,0),1,0)),0)","v":1},1,1,1,"*"]
[null,383,null,null,null,null,null,null,null,null,null,null,null,null,null,null,null,null,null,null,null,null,null,null,null,null,null,null,null,null,null,null,null,null,null,null,null,null,null,null,null,null,null,null,null,null,null,null,null,null,null,null,null,null,"未","未","未","未",0,0,0,0,{"$f":"IFERROR(IF(OR(BC393=\"未\",BD393=\"未\"),1,IF(MATCH(BC393&\"/\"&BD393,③読み替え表_省エネ住宅!$G$48:$G$57,0),1,0)),0)","v":1},{"$f":"IFERROR(IF(OR(BE393=\"未\",BF393=\"未\"),1,IF(MATCH(BE393&\"/\"&BF393,③読み替え表_省エネ住宅!$G$48:$G$57,0),1,0)),0)","v":1},1,1,1,"*"]
[null,384,null,null,null,null,null,null,null,null,null,null,null,null,null,null,null,null,null,null,null,null,null,null,null,null,null,null,null,null,null,null,null,null,null,null,null,null,null,null,null,null,null,null,null,null,null,null,null,null,null,null,null,null,"未","未","未","未",0,0,0,0,{"$f":"IFERROR(IF(OR(BC394=\"未\",BD394=\"未\"),1,IF(MATCH(BC394&\"/\"&BD394,③読み替え表_省エネ住宅!$G$48:$G$57,0),1,0)),0)","v":1},{"$f":"IFERROR(IF(OR(BE394=\"未\",BF394=\"未\"),1,IF(MATCH(BE394&\"/\"&BF394,③読み替え表_省エネ住宅!$G$48:$G$57,0),1,0)),0)","v":1},1,1,1,"*"]
[null,385,null,null,null,null,null,null,null,null,null,null,null,null,null,null,null,null,null,null,null,null,null,null,null,null,null,null,null,null,null,null,null,null,null,null,null,null,null,null,null,null,null,null,null,null,null,null,null,null,null,null,null,null,"未","未","未","未",0,0,0,0,{"$f":"IFERROR(IF(OR(BC395=\"未\",BD395=\"未\"),1,IF(MATCH(BC395&\"/\"&BD395,③読み替え表_省エネ住宅!$G$48:$G$57,0),1,0)),0)","v":1},{"$f":"IFERROR(IF(OR(BE395=\"未\",BF395=\"未\"),1,IF(MATCH(BE395&\"/\"&BF395,③読み替え表_省エネ住宅!$G$48:$G$57,0),1,0)),0)","v":1},1,1,1,"*"]
[null,{"$f":"ROW()-10","v":386},null,null,null,null,null,null,null,null,null,null,null,null,null,null,null,null,null,null,null,null,null,null,null,null,null,null,null,null,null,null,null,null,null,null,null,null,null,null,null,null,null,null,null,null,null,null,null,null,null,null,null,null,{"$f":"IFERROR(IF(SUM($Q396:$U396)>1,\"複数回答\",INDEX($Q$10:$U$10,,MATCH(1,$Q396:$U396,0))),\"未\")","v":"未"},{"$f":"IFERROR(IF(SUM($AA396:$AE396)>1,\"複数回答\",INDEX($AA$10:$AE$10,,MATCH(1,$AA396:$AE396,0))),\"未\")","v":"未"},{"$f":"IFERROR(IF(SUM($V396:$Z396)>1,\"複数回答\",INDEX($V$10:$Z$10,,MATCH(1,$V396:$Z396,0))),\"未\")","v":"未"},{"$f":"IFERROR(IF(SUM($AF396:$AJ396)>1,\"複数回答\",INDEX($AF$10:$AJ$10,,MATCH(1,$AF396:$AJ396,0))),\"未\")","v":"未"},{"$f":"IF(OR(AA396=1,AB396=1,AC396=1),1,0)","v":0},{"$f":"IF(OR(AF396=1,AG396=1,AH396=1),1,0)","v":0},{"$f":"IF(BC396=\"複数回答\",1,IF(BD396=\"複数回答\",1,0))","v":0},{"$f":"IF(BE396=\"複数回答\",1,IF(BF396=\"複数回答\",1,0))","v":0},{"$f":"IFERROR(IF(OR(BC396=\"未\",BD396=\"未\"),1,IF(MATCH(BC396&\"/\"&BD396,③読み替え表_省エネ住宅!$G$48:$G$57,0),1,0)),0)","v":1},{"$f":"IFERROR(IF(OR(BE396=\"未\",BF396=\"未\"),1,IF(MATCH(BE396&\"/\"&BF396,③読み替え表_省エネ住宅!$G$48:$G$57,0),1,0)),0)","v":1},{"$f":"IF(BI396+BK396>0,1,0)","v":1},{"$f":"IF(BJ396+BL396>0,1,0)","v":1},{"$f":"IF(SUM(BI396:BL396)>0,1,0)","v":1},"*"]
[null,387,null,null,null,null,null,null,null,null,null,null,null,null,null,null,null,null,null,null,null,null,null,null,null,null,null,null,null,null,null,null,null,null,null,null,null,null,null,null,null,null,null,null,null,null,null,null,null,null,null,null,null,null,"未","未","未","未",0,0,0,0,{"$f":"IFERROR(IF(OR(BC397=\"未\",BD397=\"未\"),1,IF(MATCH(BC397&\"/\"&BD397,③読み替え表_省エネ住宅!$G$48:$G$57,0),1,0)),0)","v":1},{"$f":"IFERROR(IF(OR(BE397=\"未\",BF397=\"未\"),1,IF(MATCH(BE397&\"/\"&BF397,③読み替え表_省エネ住宅!$G$48:$G$57,0),1,0)),0)","v":1},1,1,1,"*"]
[null,388,null,null,null,null,null,null,null,null,null,null,null,null,null,null,null,null,null,null,null,null,null,null,null,null,null,null,null,null,null,null,null,null,null,null,null,null,null,null,null,null,null,null,null,null,null,null,null,null,null,null,null,null,"未","未","未","未",0,0,0,0,{"$f":"IFERROR(IF(OR(BC398=\"未\",BD398=\"未\"),1,IF(MATCH(BC398&\"/\"&BD398,③読み替え表_省エネ住宅!$G$48:$G$57,0),1,0)),0)","v":1},{"$f":"IFERROR(IF(OR(BE398=\"未\",BF398=\"未\"),1,IF(MATCH(BE398&\"/\"&BF398,③読み替え表_省エネ住宅!$G$48:$G$57,0),1,0)),0)","v":1},1,1,1,"*"]
[null,389,null,null,null,null,null,null,null,null,null,null,null,null,null,null,null,null,null,null,null,null,null,null,null,null,null,null,null,null,null,null,null,null,null,null,null,null,null,null,null,null,null,null,null,null,null,null,null,null,null,null,null,null,"未","未","未","未",0,0,0,0,{"$f":"IFERROR(IF(OR(BC399=\"未\",BD399=\"未\"),1,IF(MATCH(BC399&\"/\"&BD399,③読み替え表_省エネ住宅!$G$48:$G$57,0),1,0)),0)","v":1},{"$f":"IFERROR(IF(OR(BE399=\"未\",BF399=\"未\"),1,IF(MATCH(BE399&\"/\"&BF399,③読み替え表_省エネ住宅!$G$48:$G$57,0),1,0)),0)","v":1},1,1,1,"*"]
[null,390,null,null,null,null,null,null,null,null,null,null,null,null,null,null,null,null,null,null,null,null,null,null,null,null,null,null,null,null,null,null,null,null,null,null,null,null,null,null,null,null,null,null,null,null,null,null,null,null,null,null,null,null,"未","未","未","未",0,0,0,0,{"$f":"IFERROR(IF(OR(BC400=\"未\",BD400=\"未\"),1,IF(MATCH(BC400&\"/\"&BD400,③読み替え表_省エネ住宅!$G$48:$G$57,0),1,0)),0)","v":1},{"$f":"IFERROR(IF(OR(BE400=\"未\",BF400=\"未\"),1,IF(MATCH(BE400&\"/\"&BF400,③読み替え表_省エネ住宅!$G$48:$G$57,0),1,0)),0)","v":1},1,1,1,"*"]
[null,391,null,null,null,null,null,null,null,null,null,null,null,null,null,null,null,null,null,null,null,null,null,null,null,null,null,null,null,null,null,null,null,null,null,null,null,null,null,null,null,null,null,null,null,null,null,null,null,null,null,null,null,null,"未","未","未","未",0,0,0,0,{"$f":"IFERROR(IF(OR(BC401=\"未\",BD401=\"未\"),1,IF(MATCH(BC401&\"/\"&BD401,③読み替え表_省エネ住宅!$G$48:$G$57,0),1,0)),0)","v":1},{"$f":"IFERROR(IF(OR(BE401=\"未\",BF401=\"未\"),1,IF(MATCH(BE401&\"/\"&BF401,③読み替え表_省エネ住宅!$G$48:$G$57,0),1,0)),0)","v":1},1,1,1,"*"]
[null,392,null,null,null,null,null,null,null,null,null,null,null,null,null,null,null,null,null,null,null,null,null,null,null,null,null,null,null,null,null,null,null,null,null,null,null,null,null,null,null,null,null,null,null,null,null,null,null,null,null,null,null,null,"未","未","未","未",0,0,0,0,{"$f":"IFERROR(IF(OR(BC402=\"未\",BD402=\"未\"),1,IF(MATCH(BC402&\"/\"&BD402,③読み替え表_省エネ住宅!$G$48:$G$57,0),1,0)),0)","v":1},{"$f":"IFERROR(IF(OR(BE402=\"未\",BF402=\"未\"),1,IF(MATCH(BE402&\"/\"&BF402,③読み替え表_省エネ住宅!$G$48:$G$57,0),1,0)),0)","v":1},1,1,1,"*"]
[null,393,null,null,null,null,null,null,null,null,null,null,null,null,null,null,null,null,null,null,null,null,null,null,null,null,null,null,null,null,null,null,null,null,null,null,null,null,null,null,null,null,null,null,null,null,null,null,null,null,null,null,null,null,"未","未","未","未",0,0,0,0,{"$f":"IFERROR(IF(OR(BC403=\"未\",BD403=\"未\"),1,IF(MATCH(BC403&\"/\"&BD403,③読み替え表_省エネ住宅!$G$48:$G$57,0),1,0)),0)","v":1},{"$f":"IFERROR(IF(OR(BE403=\"未\",BF403=\"未\"),1,IF(MATCH(BE403&\"/\"&BF403,③読み替え表_省エネ住宅!$G$48:$G$57,0),1,0)),0)","v":1},1,1,1,"*"]
[null,394,null,null,null,null,null,null,null,null,null,null,null,null,null,null,null,null,null,null,null,null,null,null,null,null,null,null,null,null,null,null,null,null,null,null,null,null,null,null,null,null,null,null,null,null,null,null,null,null,null,null,null,null,"未","未","未","未",0,0,0,0,{"$f":"IFERROR(IF(OR(BC404=\"未\",BD404=\"未\"),1,IF(MATCH(BC404&\"/\"&BD404,③読み替え表_省エネ住宅!$G$48:$G$57,0),1,0)),0)","v":1},{"$f":"IFERROR(IF(OR(BE404=\"未\",BF404=\"未\"),1,IF(MATCH(BE404&\"/\"&BF404,③読み替え表_省エネ住宅!$G$48:$G$57,0),1,0)),0)","v":1},1,1,1,"*"]
[null,395,null,null,null,null,null,null,null,null,null,null,null,null,null,null,null,null,null,null,null,null,null,null,null,null,null,null,null,null,null,null,null,null,null,null,null,null,null,null,null,null,null,null,null,null,null,null,null,null,null,null,null,null,"未","未","未","未",0,0,0,0,{"$f":"IFERROR(IF(OR(BC405=\"未\",BD405=\"未\"),1,IF(MATCH(BC405&\"/\"&BD405,③読み替え表_省エネ住宅!$G$48:$G$57,0),1,0)),0)","v":1},{"$f":"IFERROR(IF(OR(BE405=\"未\",BF405=\"未\"),1,IF(MATCH(BE405&\"/\"&BF405,③読み替え表_省エネ住宅!$G$48:$G$57,0),1,0)),0)","v":1},1,1,1,"*"]
[null,396,null,null,null,null,null,null,null,null,null,null,null,null,null,null,null,null,null,null,null,null,null,null,null,null,null,null,null,null,null,null,null,null,null,null,null,null,null,null,null,null,null,null,null,null,null,null,null,null,null,null,null,null,"未","未","未","未",0,0,0,0,{"$f":"IFERROR(IF(OR(BC406=\"未\",BD406=\"未\"),1,IF(MATCH(BC406&\"/\"&BD406,③読み替え表_省エネ住宅!$G$48:$G$57,0),1,0)),0)","v":1},{"$f":"IFERROR(IF(OR(BE406=\"未\",BF406=\"未\"),1,IF(MATCH(BE406&\"/\"&BF406,③読み替え表_省エネ住宅!$G$48:$G$57,0),1,0)),0)","v":1},1,1,1,"*"]
[null,397,null,null,null,null,null,null,null,null,null,null,null,null,null,null,null,null,null,null,null,null,null,null,null,null,null,null,null,null,null,null,null,null,null,null,null,null,null,null,null,null,null,null,null,null,null,null,null,null,null,null,null,null,"未","未","未","未",0,0,0,0,{"$f":"IFERROR(IF(OR(BC407=\"未\",BD407=\"未\"),1,IF(MATCH(BC407&\"/\"&BD407,③読み替え表_省エネ住宅!$G$48:$G$57,0),1,0)),0)","v":1},{"$f":"IFERROR(IF(OR(BE407=\"未\",BF407=\"未\"),1,IF(MATCH(BE407&\"/\"&BF407,③読み替え表_省エネ住宅!$G$48:$G$57,0),1,0)),0)","v":1},1,1,1,"*"]
[null,398,null,null,null,null,null,null,null,null,null,null,null,null,null,null,null,null,null,null,null,null,null,null,null,null,null,null,null,null,null,null,null,null,null,null,null,null,null,null,null,null,null,null,null,null,null,null,null,null,null,null,null,null,"未","未","未","未",0,0,0,0,{"$f":"IFERROR(IF(OR(BC408=\"未\",BD408=\"未\"),1,IF(MATCH(BC408&\"/\"&BD408,③読み替え表_省エネ住宅!$G$48:$G$57,0),1,0)),0)","v":1},{"$f":"IFERROR(IF(OR(BE408=\"未\",BF408=\"未\"),1,IF(MATCH(BE408&\"/\"&BF408,③読み替え表_省エネ住宅!$G$48:$G$57,0),1,0)),0)","v":1},1,1,1,"*"]
[null,399,null,null,null,null,null,null,null,null,null,null,null,null,null,null,null,null,null,null,null,null,null,null,null,null,null,null,null,null,null,null,null,null,null,null,null,null,null,null,null,null,null,null,null,null,null,null,null,null,null,null,null,null,"未","未","未","未",0,0,0,0,{"$f":"IFERROR(IF(OR(BC409=\"未\",BD409=\"未\"),1,IF(MATCH(BC409&\"/\"&BD409,③読み替え表_省エネ住宅!$G$48:$G$57,0),1,0)),0)","v":1},{"$f":"IFERROR(IF(OR(BE409=\"未\",BF409=\"未\"),1,IF(MATCH(BE409&\"/\"&BF409,③読み替え表_省エネ住宅!$G$48:$G$57,0),1,0)),0)","v":1},1,1,1,"*"]
[null,400,null,null,null,null,null,null,null,null,null,null,null,null,null,null,null,null,null,null,null,null,null,null,null,null,null,null,null,null,null,null,null,null,null,null,null,null,null,null,null,null,null,null,null,null,null,null,null,null,null,null,null,null,"未","未","未","未",0,0,0,0,{"$f":"IFERROR(IF(OR(BC410=\"未\",BD410=\"未\"),1,IF(MATCH(BC410&\"/\"&BD410,③読み替え表_省エネ住宅!$G$48:$G$57,0),1,0)),0)","v":1},{"$f":"IFERROR(IF(OR(BE410=\"未\",BF410=\"未\"),1,IF(MATCH(BE410&\"/\"&BF410,③読み替え表_省エネ住宅!$G$48:$G$57,0),1,0)),0)","v":1},1,1,1,"*"]
[null,401,null,null,null,null,null,null,null,null,null,null,null,null,null,null,null,null,null,null,null,null,null,null,null,null,null,null,null,null,null,null,null,null,null,null,null,null,null,null,null,null,null,null,null,null,null,null,null,null,null,null,null,null,"未","未","未","未",0,0,0,0,{"$f":"IFERROR(IF(OR(BC411=\"未\",BD411=\"未\"),1,IF(MATCH(BC411&\"/\"&BD411,③読み替え表_省エネ住宅!$G$48:$G$57,0),1,0)),0)","v":1},{"$f":"IFERROR(IF(OR(BE411=\"未\",BF411=\"未\"),1,IF(MATCH(BE411&\"/\"&BF411,③読み替え表_省エネ住宅!$G$48:$G$57,0),1,0)),0)","v":1},1,1,1,"*"]
[null,402,null,null,null,null,null,null,null,null,null,null,null,null,null,null,null,null,null,null,null,null,null,null,null,null,null,null,null,null,null,null,null,null,null,null,null,null,null,null,null,null,null,null,null,null,null,null,null,null,null,null,null,null,"未","未","未","未",0,0,0,0,{"$f":"IFERROR(IF(OR(BC412=\"未\",BD412=\"未\"),1,IF(MATCH(BC412&\"/\"&BD412,③読み替え表_省エネ住宅!$G$48:$G$57,0),1,0)),0)","v":1},{"$f":"IFERROR(IF(OR(BE412=\"未\",BF412=\"未\"),1,IF(MATCH(BE412&\"/\"&BF412,③読み替え表_省エネ住宅!$G$48:$G$57,0),1,0)),0)","v":1},1,1,1,"*"]
[null,403,null,null,null,null,null,null,null,null,null,null,null,null,null,null,null,null,null,null,null,null,null,null,null,null,null,null,null,null,null,null,null,null,null,null,null,null,null,null,null,null,null,null,null,null,null,null,null,null,null,null,null,null,"未","未","未","未",0,0,0,0,{"$f":"IFERROR(IF(OR(BC413=\"未\",BD413=\"未\"),1,IF(MATCH(BC413&\"/\"&BD413,③読み替え表_省エネ住宅!$G$48:$G$57,0),1,0)),0)","v":1},{"$f":"IFERROR(IF(OR(BE413=\"未\",BF413=\"未\"),1,IF(MATCH(BE413&\"/\"&BF413,③読み替え表_省エネ住宅!$G$48:$G$57,0),1,0)),0)","v":1},1,1,1,"*"]
[null,404,null,null,null,null,null,null,null,null,null,null,null,null,null,null,null,null,null,null,null,null,null,null,null,null,null,null,null,null,null,null,null,null,null,null,null,null,null,null,null,null,null,null,null,null,null,null,null,null,null,null,null,null,"未","未","未","未",0,0,0,0,{"$f":"IFERROR(IF(OR(BC414=\"未\",BD414=\"未\"),1,IF(MATCH(BC414&\"/\"&BD414,③読み替え表_省エネ住宅!$G$48:$G$57,0),1,0)),0)","v":1},{"$f":"IFERROR(IF(OR(BE414=\"未\",BF414=\"未\"),1,IF(MATCH(BE414&\"/\"&BF414,③読み替え表_省エネ住宅!$G$48:$G$57,0),1,0)),0)","v":1},1,1,1,"*"]
[null,405,null,null,null,null,null,null,null,null,null,null,null,null,null,null,null,null,null,null,null,null,null,null,null,null,null,null,null,null,null,null,null,null,null,null,null,null,null,null,null,null,null,null,null,null,null,null,null,null,null,null,null,null,"未","未","未","未",0,0,0,0,{"$f":"IFERROR(IF(OR(BC415=\"未\",BD415=\"未\"),1,IF(MATCH(BC415&\"/\"&BD415,③読み替え表_省エネ住宅!$G$48:$G$57,0),1,0)),0)","v":1},{"$f":"IFERROR(IF(OR(BE415=\"未\",BF415=\"未\"),1,IF(MATCH(BE415&\"/\"&BF415,③読み替え表_省エネ住宅!$G$48:$G$57,0),1,0)),0)","v":1},1,1,1,"*"]
[null,406,null,null,null,null,null,null,null,null,null,null,null,null,null,null,null,null,null,null,null,null,null,null,null,null,null,null,null,null,null,null,null,null,null,null,null,null,null,null,null,null,null,null,null,null,null,null,null,null,null,null,null,null,"未","未","未","未",0,0,0,0,{"$f":"IFERROR(IF(OR(BC416=\"未\",BD416=\"未\"),1,IF(MATCH(BC416&\"/\"&BD416,③読み替え表_省エネ住宅!$G$48:$G$57,0),1,0)),0)","v":1},{"$f":"IFERROR(IF(OR(BE416=\"未\",BF416=\"未\"),1,IF(MATCH(BE416&\"/\"&BF416,③読み替え表_省エネ住宅!$G$48:$G$57,0),1,0)),0)","v":1},1,1,1,"*"]
[null,407,null,null,null,null,null,null,null,null,null,null,null,null,null,null,null,null,null,null,null,null,null,null,null,null,null,null,null,null,null,null,null,null,null,null,null,null,null,null,null,null,null,null,null,null,null,null,null,null,null,null,null,null,"未","未","未","未",0,0,0,0,{"$f":"IFERROR(IF(OR(BC417=\"未\",BD417=\"未\"),1,IF(MATCH(BC417&\"/\"&BD417,③読み替え表_省エネ住宅!$G$48:$G$57,0),1,0)),0)","v":1},{"$f":"IFERROR(IF(OR(BE417=\"未\",BF417=\"未\"),1,IF(MATCH(BE417&\"/\"&BF417,③読み替え表_省エネ住宅!$G$48:$G$57,0),1,0)),0)","v":1},1,1,1,"*"]
[null,408,null,null,null,null,null,null,null,null,null,null,null,null,null,null,null,null,null,null,null,null,null,null,null,null,null,null,null,null,null,null,null,null,null,null,null,null,null,null,null,null,null,null,null,null,null,null,null,null,null,null,null,null,"未","未","未","未",0,0,0,0,{"$f":"IFERROR(IF(OR(BC418=\"未\",BD418=\"未\"),1,IF(MATCH(BC418&\"/\"&BD418,③読み替え表_省エネ住宅!$G$48:$G$57,0),1,0)),0)","v":1},{"$f":"IFERROR(IF(OR(BE418=\"未\",BF418=\"未\"),1,IF(MATCH(BE418&\"/\"&BF418,③読み替え表_省エネ住宅!$G$48:$G$57,0),1,0)),0)","v":1},1,1,1,"*"]
[null,409,null,null,null,null,null,null,null,null,null,null,null,null,null,null,null,null,null,null,null,null,null,null,null,null,null,null,null,null,null,null,null,null,null,null,null,null,null,null,null,null,null,null,null,null,null,null,null,null,null,null,null,null,"未","未","未","未",0,0,0,0,{"$f":"IFERROR(IF(OR(BC419=\"未\",BD419=\"未\"),1,IF(MATCH(BC419&\"/\"&BD419,③読み替え表_省エネ住宅!$G$48:$G$57,0),1,0)),0)","v":1},{"$f":"IFERROR(IF(OR(BE419=\"未\",BF419=\"未\"),1,IF(MATCH(BE419&\"/\"&BF419,③読み替え表_省エネ住宅!$G$48:$G$57,0),1,0)),0)","v":1},1,1,1,"*"]
[null,410,null,null,null,null,null,null,null,null,null,null,null,null,null,null,null,null,null,null,null,null,null,null,null,null,null,null,null,null,null,null,null,null,null,null,null,null,null,null,null,null,null,null,null,null,null,null,null,null,null,null,null,null,"未","未","未","未",0,0,0,0,{"$f":"IFERROR(IF(OR(BC420=\"未\",BD420=\"未\"),1,IF(MATCH(BC420&\"/\"&BD420,③読み替え表_省エネ住宅!$G$48:$G$57,0),1,0)),0)","v":1},{"$f":"IFERROR(IF(OR(BE420=\"未\",BF420=\"未\"),1,IF(MATCH(BE420&\"/\"&BF420,③読み替え表_省エネ住宅!$G$48:$G$57,0),1,0)),0)","v":1},1,1,1,"*"]
[null,411,null,null,null,null,null,null,null,null,null,null,null,null,null,null,null,null,null,null,null,null,null,null,null,null,null,null,null,null,null,null,null,null,null,null,null,null,null,null,null,null,null,null,null,null,null,null,null,null,null,null,null,null,"未","未","未","未",0,0,0,0,{"$f":"IFERROR(IF(OR(BC421=\"未\",BD421=\"未\"),1,IF(MATCH(BC421&\"/\"&BD421,③読み替え表_省エネ住宅!$G$48:$G$57,0),1,0)),0)","v":1},{"$f":"IFERROR(IF(OR(BE421=\"未\",BF421=\"未\"),1,IF(MATCH(BE421&\"/\"&BF421,③読み替え表_省エネ住宅!$G$48:$G$57,0),1,0)),0)","v":1},1,1,1,"*"]
[null,412,null,null,null,null,null,null,null,null,null,null,null,null,null,null,null,null,null,null,null,null,null,null,null,null,null,null,null,null,null,null,null,null,null,null,null,null,null,null,null,null,null,null,null,null,null,null,null,null,null,null,null,null,"未","未","未","未",0,0,0,0,{"$f":"IFERROR(IF(OR(BC422=\"未\",BD422=\"未\"),1,IF(MATCH(BC422&\"/\"&BD422,③読み替え表_省エネ住宅!$G$48:$G$57,0),1,0)),0)","v":1},{"$f":"IFERROR(IF(OR(BE422=\"未\",BF422=\"未\"),1,IF(MATCH(BE422&\"/\"&BF422,③読み替え表_省エネ住宅!$G$48:$G$57,0),1,0)),0)","v":1},1,1,1,"*"]
[null,413,null,null,null,null,null,null,null,null,null,null,null,null,null,null,null,null,null,null,null,null,null,null,null,null,null,null,null,null,null,null,null,null,null,null,null,null,null,null,null,null,null,null,null,null,null,null,null,null,null,null,null,null,"未","未","未","未",0,0,0,0,{"$f":"IFERROR(IF(OR(BC423=\"未\",BD423=\"未\"),1,IF(MATCH(BC423&\"/\"&BD423,③読み替え表_省エネ住宅!$G$48:$G$57,0),1,0)),0)","v":1},{"$f":"IFERROR(IF(OR(BE423=\"未\",BF423=\"未\"),1,IF(MATCH(BE423&\"/\"&BF423,③読み替え表_省エネ住宅!$G$48:$G$57,0),1,0)),0)","v":1},1,1,1,"*"]
[null,414,null,null,null,null,null,null,null,null,null,null,null,null,null,null,null,null,null,null,null,null,null,null,null,null,null,null,null,null,null,null,null,null,null,null,null,null,null,null,null,null,null,null,null,null,null,null,null,null,null,null,null,null,"未","未","未","未",0,0,0,0,{"$f":"IFERROR(IF(OR(BC424=\"未\",BD424=\"未\"),1,IF(MATCH(BC424&\"/\"&BD424,③読み替え表_省エネ住宅!$G$48:$G$57,0),1,0)),0)","v":1},{"$f":"IFERROR(IF(OR(BE424=\"未\",BF424=\"未\"),1,IF(MATCH(BE424&\"/\"&BF424,③読み替え表_省エネ住宅!$G$48:$G$57,0),1,0)),0)","v":1},1,1,1,"*"]
[null,415,null,null,null,null,null,null,null,null,null,null,null,null,null,null,null,null,null,null,null,null,null,null,null,null,null,null,null,null,null,null,null,null,null,null,null,null,null,null,null,null,null,null,null,null,null,null,null,null,null,null,null,null,"未","未","未","未",0,0,0,0,{"$f":"IFERROR(IF(OR(BC425=\"未\",BD425=\"未\"),1,IF(MATCH(BC425&\"/\"&BD425,③読み替え表_省エネ住宅!$G$48:$G$57,0),1,0)),0)","v":1},{"$f":"IFERROR(IF(OR(BE425=\"未\",BF425=\"未\"),1,IF(MATCH(BE425&\"/\"&BF425,③読み替え表_省エネ住宅!$G$48:$G$57,0),1,0)),0)","v":1},1,1,1,"*"]
[null,416,null,null,null,null,null,null,null,null,null,null,null,null,null,null,null,null,null,null,null,null,null,null,null,null,null,null,null,null,null,null,null,null,null,null,null,null,null,null,null,null,null,null,null,null,null,null,null,null,null,null,null,null,"未","未","未","未",0,0,0,0,{"$f":"IFERROR(IF(OR(BC426=\"未\",BD426=\"未\"),1,IF(MATCH(BC426&\"/\"&BD426,③読み替え表_省エネ住宅!$G$48:$G$57,0),1,0)),0)","v":1},{"$f":"IFERROR(IF(OR(BE426=\"未\",BF426=\"未\"),1,IF(MATCH(BE426&\"/\"&BF426,③読み替え表_省エネ住宅!$G$48:$G$57,0),1,0)),0)","v":1},1,1,1,"*"]
[null,417,null,null,null,null,null,null,null,null,null,null,null,null,null,null,null,null,null,null,null,null,null,null,null,null,null,null,null,null,null,null,null,null,null,null,null,null,null,null,null,null,null,null,null,null,null,null,null,null,null,null,null,null,"未","未","未","未",0,0,0,0,{"$f":"IFERROR(IF(OR(BC427=\"未\",BD427=\"未\"),1,IF(MATCH(BC427&\"/\"&BD427,③読み替え表_省エネ住宅!$G$48:$G$57,0),1,0)),0)","v":1},{"$f":"IFERROR(IF(OR(BE427=\"未\",BF427=\"未\"),1,IF(MATCH(BE427&\"/\"&BF427,③読み替え表_省エネ住宅!$G$48:$G$57,0),1,0)),0)","v":1},1,1,1,"*"]
[null,418,null,null,null,null,null,null,null,null,null,null,null,null,null,null,null,null,null,null,null,null,null,null,null,null,null,null,null,null,null,null,null,null,null,null,null,null,null,null,null,null,null,null,null,null,null,null,null,null,null,null,null,null,"未","未","未","未",0,0,0,0,{"$f":"IFERROR(IF(OR(BC428=\"未\",BD428=\"未\"),1,IF(MATCH(BC428&\"/\"&BD428,③読み替え表_省エネ住宅!$G$48:$G$57,0),1,0)),0)","v":1},{"$f":"IFERROR(IF(OR(BE428=\"未\",BF428=\"未\"),1,IF(MATCH(BE428&\"/\"&BF428,③読み替え表_省エネ住宅!$G$48:$G$57,0),1,0)),0)","v":1},1,1,1,"*"]
[null,419,null,null,null,null,null,null,null,null,null,null,null,null,null,null,null,null,null,null,null,null,null,null,null,null,null,null,null,null,null,null,null,null,null,null,null,null,null,null,null,null,null,null,null,null,null,null,null,null,null,null,null,null,"未","未","未","未",0,0,0,0,{"$f":"IFERROR(IF(OR(BC429=\"未\",BD429=\"未\"),1,IF(MATCH(BC429&\"/\"&BD429,③読み替え表_省エネ住宅!$G$48:$G$57,0),1,0)),0)","v":1},{"$f":"IFERROR(IF(OR(BE429=\"未\",BF429=\"未\"),1,IF(MATCH(BE429&\"/\"&BF429,③読み替え表_省エネ住宅!$G$48:$G$57,0),1,0)),0)","v":1},1,1,1,"*"]
[null,420,null,null,null,null,null,null,null,null,null,null,null,null,null,null,null,null,null,null,null,null,null,null,null,null,null,null,null,null,null,null,null,null,null,null,null,null,null,null,null,null,null,null,null,null,null,null,null,null,null,null,null,null,"未","未","未","未",0,0,0,0,{"$f":"IFERROR(IF(OR(BC430=\"未\",BD430=\"未\"),1,IF(MATCH(BC430&\"/\"&BD430,③読み替え表_省エネ住宅!$G$48:$G$57,0),1,0)),0)","v":1},{"$f":"IFERROR(IF(OR(BE430=\"未\",BF430=\"未\"),1,IF(MATCH(BE430&\"/\"&BF430,③読み替え表_省エネ住宅!$G$48:$G$57,0),1,0)),0)","v":1},1,1,1,"*"]
[null,421,null,null,null,null,null,null,null,null,null,null,null,null,null,null,null,null,null,null,null,null,null,null,null,null,null,null,null,null,null,null,null,null,null,null,null,null,null,null,null,null,null,null,null,null,null,null,null,null,null,null,null,null,"未","未","未","未",0,0,0,0,{"$f":"IFERROR(IF(OR(BC431=\"未\",BD431=\"未\"),1,IF(MATCH(BC431&\"/\"&BD431,③読み替え表_省エネ住宅!$G$48:$G$57,0),1,0)),0)","v":1},{"$f":"IFERROR(IF(OR(BE431=\"未\",BF431=\"未\"),1,IF(MATCH(BE431&\"/\"&BF431,③読み替え表_省エネ住宅!$G$48:$G$57,0),1,0)),0)","v":1},1,1,1,"*"]
[null,422,null,null,null,null,null,null,null,null,null,null,null,null,null,null,null,null,null,null,null,null,null,null,null,null,null,null,null,null,null,null,null,null,null,null,null,null,null,null,null,null,null,null,null,null,null,null,null,null,null,null,null,null,"未","未","未","未",0,0,0,0,{"$f":"IFERROR(IF(OR(BC432=\"未\",BD432=\"未\"),1,IF(MATCH(BC432&\"/\"&BD432,③読み替え表_省エネ住宅!$G$48:$G$57,0),1,0)),0)","v":1},{"$f":"IFERROR(IF(OR(BE432=\"未\",BF432=\"未\"),1,IF(MATCH(BE432&\"/\"&BF432,③読み替え表_省エネ住宅!$G$48:$G$57,0),1,0)),0)","v":1},1,1,1,"*"]
[null,423,null,null,null,null,null,null,null,null,null,null,null,null,null,null,null,null,null,null,null,null,null,null,null,null,null,null,null,null,null,null,null,null,null,null,null,null,null,null,null,null,null,null,null,null,null,null,null,null,null,null,null,null,"未","未","未","未",0,0,0,0,{"$f":"IFERROR(IF(OR(BC433=\"未\",BD433=\"未\"),1,IF(MATCH(BC433&\"/\"&BD433,③読み替え表_省エネ住宅!$G$48:$G$57,0),1,0)),0)","v":1},{"$f":"IFERROR(IF(OR(BE433=\"未\",BF433=\"未\"),1,IF(MATCH(BE433&\"/\"&BF433,③読み替え表_省エネ住宅!$G$48:$G$57,0),1,0)),0)","v":1},1,1,1,"*"]
[null,424,null,null,null,null,null,null,null,null,null,null,null,null,null,null,null,null,null,null,null,null,null,null,null,null,null,null,null,null,null,null,null,null,null,null,null,null,null,null,null,null,null,null,null,null,null,null,null,null,null,null,null,null,"未","未","未","未",0,0,0,0,{"$f":"IFERROR(IF(OR(BC434=\"未\",BD434=\"未\"),1,IF(MATCH(BC434&\"/\"&BD434,③読み替え表_省エネ住宅!$G$48:$G$57,0),1,0)),0)","v":1},{"$f":"IFERROR(IF(OR(BE434=\"未\",BF434=\"未\"),1,IF(MATCH(BE434&\"/\"&BF434,③読み替え表_省エネ住宅!$G$48:$G$57,0),1,0)),0)","v":1},1,1,1,"*"]
[null,425,null,null,null,null,null,null,null,null,null,null,null,null,null,null,null,null,null,null,null,null,null,null,null,null,null,null,null,null,null,null,null,null,null,null,null,null,null,null,null,null,null,null,null,null,null,null,null,null,null,null,null,null,"未","未","未","未",0,0,0,0,{"$f":"IFERROR(IF(OR(BC435=\"未\",BD435=\"未\"),1,IF(MATCH(BC435&\"/\"&BD435,③読み替え表_省エネ住宅!$G$48:$G$57,0),1,0)),0)","v":1},{"$f":"IFERROR(IF(OR(BE435=\"未\",BF435=\"未\"),1,IF(MATCH(BE435&\"/\"&BF435,③読み替え表_省エネ住宅!$G$48:$G$57,0),1,0)),0)","v":1},1,1,1,"*"]
[null,426,null,null,null,null,null,null,null,null,null,null,null,null,null,null,null,null,null,null,null,null,null,null,null,null,null,null,null,null,null,null,null,null,null,null,null,null,null,null,null,null,null,null,null,null,null,null,null,null,null,null,null,null,"未","未","未","未",0,0,0,0,{"$f":"IFERROR(IF(OR(BC436=\"未\",BD436=\"未\"),1,IF(MATCH(BC436&\"/\"&BD436,③読み替え表_省エネ住宅!$G$48:$G$57,0),1,0)),0)","v":1},{"$f":"IFERROR(IF(OR(BE436=\"未\",BF436=\"未\"),1,IF(MATCH(BE436&\"/\"&BF436,③読み替え表_省エネ住宅!$G$48:$G$57,0),1,0)),0)","v":1},1,1,1,"*"]
[null,427,null,null,null,null,null,null,null,null,null,null,null,null,null,null,null,null,null,null,null,null,null,null,null,null,null,null,null,null,null,null,null,null,null,null,null,null,null,null,null,null,null,null,null,null,null,null,null,null,null,null,null,null,"未","未","未","未",0,0,0,0,{"$f":"IFERROR(IF(OR(BC437=\"未\",BD437=\"未\"),1,IF(MATCH(BC437&\"/\"&BD437,③読み替え表_省エネ住宅!$G$48:$G$57,0),1,0)),0)","v":1},{"$f":"IFERROR(IF(OR(BE437=\"未\",BF437=\"未\"),1,IF(MATCH(BE437&\"/\"&BF437,③読み替え表_省エネ住宅!$G$48:$G$57,0),1,0)),0)","v":1},1,1,1,"*"]
[null,428,null,null,null,null,null,null,null,null,null,null,null,null,null,null,null,null,null,null,null,null,null,null,null,null,null,null,null,null,null,null,null,null,null,null,null,null,null,null,null,null,null,null,null,null,null,null,null,null,null,null,null,null,"未","未","未","未",0,0,0,0,{"$f":"IFERROR(IF(OR(BC438=\"未\",BD438=\"未\"),1,IF(MATCH(BC438&\"/\"&BD438,③読み替え表_省エネ住宅!$G$48:$G$57,0),1,0)),0)","v":1},{"$f":"IFERROR(IF(OR(BE438=\"未\",BF438=\"未\"),1,IF(MATCH(BE438&\"/\"&BF438,③読み替え表_省エネ住宅!$G$48:$G$57,0),1,0)),0)","v":1},1,1,1,"*"]
[null,429,null,null,null,null,null,null,null,null,null,null,null,null,null,null,null,null,null,null,null,null,null,null,null,null,null,null,null,null,null,null,null,null,null,null,null,null,null,null,null,null,null,null,null,null,null,null,null,null,null,null,null,null,"未","未","未","未",0,0,0,0,{"$f":"IFERROR(IF(OR(BC439=\"未\",BD439=\"未\"),1,IF(MATCH(BC439&\"/\"&BD439,③読み替え表_省エネ住宅!$G$48:$G$57,0),1,0)),0)","v":1},{"$f":"IFERROR(IF(OR(BE439=\"未\",BF439=\"未\"),1,IF(MATCH(BE439&\"/\"&BF439,③読み替え表_省エネ住宅!$G$48:$G$57,0),1,0)),0)","v":1},1,1,1,"*"]
[null,430,null,null,null,null,null,null,null,null,null,null,null,null,null,null,null,null,null,null,null,null,null,null,null,null,null,null,null,null,null,null,null,null,null,null,null,null,null,null,null,null,null,null,null,null,null,null,null,null,null,null,null,null,"未","未","未","未",0,0,0,0,{"$f":"IFERROR(IF(OR(BC440=\"未\",BD440=\"未\"),1,IF(MATCH(BC440&\"/\"&BD440,③読み替え表_省エネ住宅!$G$48:$G$57,0),1,0)),0)","v":1},{"$f":"IFERROR(IF(OR(BE440=\"未\",BF440=\"未\"),1,IF(MATCH(BE440&\"/\"&BF440,③読み替え表_省エネ住宅!$G$48:$G$57,0),1,0)),0)","v":1},1,1,1,"*"]
[null,431,null,null,null,null,null,null,null,null,null,null,null,null,null,null,null,null,null,null,null,null,null,null,null,null,null,null,null,null,null,null,null,null,null,null,null,null,null,null,null,null,null,null,null,null,null,null,null,null,null,null,null,null,"未","未","未","未",0,0,0,0,{"$f":"IFERROR(IF(OR(BC441=\"未\",BD441=\"未\"),1,IF(MATCH(BC441&\"/\"&BD441,③読み替え表_省エネ住宅!$G$48:$G$57,0),1,0)),0)","v":1},{"$f":"IFERROR(IF(OR(BE441=\"未\",BF441=\"未\"),1,IF(MATCH(BE441&\"/\"&BF441,③読み替え表_省エネ住宅!$G$48:$G$57,0),1,0)),0)","v":1},1,1,1,"*"]
[null,432,null,null,null,null,null,null,null,null,null,null,null,null,null,null,null,null,null,null,null,null,null,null,null,null,null,null,null,null,null,null,null,null,null,null,null,null,null,null,null,null,null,null,null,null,null,null,null,null,null,null,null,null,"未","未","未","未",0,0,0,0,{"$f":"IFERROR(IF(OR(BC442=\"未\",BD442=\"未\"),1,IF(MATCH(BC442&\"/\"&BD442,③読み替え表_省エネ住宅!$G$48:$G$57,0),1,0)),0)","v":1},{"$f":"IFERROR(IF(OR(BE442=\"未\",BF442=\"未\"),1,IF(MATCH(BE442&\"/\"&BF442,③読み替え表_省エネ住宅!$G$48:$G$57,0),1,0)),0)","v":1},1,1,1,"*"]
[null,433,null,null,null,null,null,null,null,null,null,null,null,null,null,null,null,null,null,null,null,null,null,null,null,null,null,null,null,null,null,null,null,null,null,null,null,null,null,null,null,null,null,null,null,null,null,null,null,null,null,null,null,null,"未","未","未","未",0,0,0,0,{"$f":"IFERROR(IF(OR(BC443=\"未\",BD443=\"未\"),1,IF(MATCH(BC443&\"/\"&BD443,③読み替え表_省エネ住宅!$G$48:$G$57,0),1,0)),0)","v":1},{"$f":"IFERROR(IF(OR(BE443=\"未\",BF443=\"未\"),1,IF(MATCH(BE443&\"/\"&BF443,③読み替え表_省エネ住宅!$G$48:$G$57,0),1,0)),0)","v":1},1,1,1,"*"]
[null,434,null,null,null,null,null,null,null,null,null,null,null,null,null,null,null,null,null,null,null,null,null,null,null,null,null,null,null,null,null,null,null,null,null,null,null,null,null,null,null,null,null,null,null,null,null,null,null,null,null,null,null,null,"未","未","未","未",0,0,0,0,{"$f":"IFERROR(IF(OR(BC444=\"未\",BD444=\"未\"),1,IF(MATCH(BC444&\"/\"&BD444,③読み替え表_省エネ住宅!$G$48:$G$57,0),1,0)),0)","v":1},{"$f":"IFERROR(IF(OR(BE444=\"未\",BF444=\"未\"),1,IF(MATCH(BE444&\"/\"&BF444,③読み替え表_省エネ住宅!$G$48:$G$57,0),1,0)),0)","v":1},1,1,1,"*"]
[null,435,null,null,null,null,null,null,null,null,null,null,null,null,null,null,null,null,null,null,null,null,null,null,null,null,null,null,null,null,null,null,null,null,null,null,null,null,null,null,null,null,null,null,null,null,null,null,null,null,null,null,null,null,"未","未","未","未",0,0,0,0,{"$f":"IFERROR(IF(OR(BC445=\"未\",BD445=\"未\"),1,IF(MATCH(BC445&\"/\"&BD445,③読み替え表_省エネ住宅!$G$48:$G$57,0),1,0)),0)","v":1},{"$f":"IFERROR(IF(OR(BE445=\"未\",BF445=\"未\"),1,IF(MATCH(BE445&\"/\"&BF445,③読み替え表_省エネ住宅!$G$48:$G$57,0),1,0)),0)","v":1},1,1,1,"*"]
[null,436,null,null,null,null,null,null,null,null,null,null,null,null,null,null,null,null,null,null,null,null,null,null,null,null,null,null,null,null,null,null,null,null,null,null,null,null,null,null,null,null,null,null,null,null,null,null,null,null,null,null,null,null,"未","未","未","未",0,0,0,0,{"$f":"IFERROR(IF(OR(BC446=\"未\",BD446=\"未\"),1,IF(MATCH(BC446&\"/\"&BD446,③読み替え表_省エネ住宅!$G$48:$G$57,0),1,0)),0)","v":1},{"$f":"IFERROR(IF(OR(BE446=\"未\",BF446=\"未\"),1,IF(MATCH(BE446&\"/\"&BF446,③読み替え表_省エネ住宅!$G$48:$G$57,0),1,0)),0)","v":1},1,1,1,"*"]
[null,437,null,null,null,null,null,null,null,null,null,null,null,null,null,null,null,null,null,null,null,null,null,null,null,null,null,null,null,null,null,null,null,null,null,null,null,null,null,null,null,null,null,null,null,null,null,null,null,null,null,null,null,null,"未","未","未","未",0,0,0,0,{"$f":"IFERROR(IF(OR(BC447=\"未\",BD447=\"未\"),1,IF(MATCH(BC447&\"/\"&BD447,③読み替え表_省エネ住宅!$G$48:$G$57,0),1,0)),0)","v":1},{"$f":"IFERROR(IF(OR(BE447=\"未\",BF447=\"未\"),1,IF(MATCH(BE447&\"/\"&BF447,③読み替え表_省エネ住宅!$G$48:$G$57,0),1,0)),0)","v":1},1,1,1,"*"]
[null,438,null,null,null,null,null,null,null,null,null,null,null,null,null,null,null,null,null,null,null,null,null,null,null,null,null,null,null,null,null,null,null,null,null,null,null,null,null,null,null,null,null,null,null,null,null,null,null,null,null,null,null,null,"未","未","未","未",0,0,0,0,{"$f":"IFERROR(IF(OR(BC448=\"未\",BD448=\"未\"),1,IF(MATCH(BC448&\"/\"&BD448,③読み替え表_省エネ住宅!$G$48:$G$57,0),1,0)),0)","v":1},{"$f":"IFERROR(IF(OR(BE448=\"未\",BF448=\"未\"),1,IF(MATCH(BE448&\"/\"&BF448,③読み替え表_省エネ住宅!$G$48:$G$57,0),1,0)),0)","v":1},1,1,1,"*"]
[null,439,null,null,null,null,null,null,null,null,null,null,null,null,null,null,null,null,null,null,null,null,null,null,null,null,null,null,null,null,null,null,null,null,null,null,null,null,null,null,null,null,null,null,null,null,null,null,null,null,null,null,null,null,"未","未","未","未",0,0,0,0,{"$f":"IFERROR(IF(OR(BC449=\"未\",BD449=\"未\"),1,IF(MATCH(BC449&\"/\"&BD449,③読み替え表_省エネ住宅!$G$48:$G$57,0),1,0)),0)","v":1},{"$f":"IFERROR(IF(OR(BE449=\"未\",BF449=\"未\"),1,IF(MATCH(BE449&\"/\"&BF449,③読み替え表_省エネ住宅!$G$48:$G$57,0),1,0)),0)","v":1},1,1,1,"*"]
[null,440,null,null,null,null,null,null,null,null,null,null,null,null,null,null,null,null,null,null,null,null,null,null,null,null,null,null,null,null,null,null,null,null,null,null,null,null,null,null,null,null,null,null,null,null,null,null,null,null,null,null,null,null,"未","未","未","未",0,0,0,0,{"$f":"IFERROR(IF(OR(BC450=\"未\",BD450=\"未\"),1,IF(MATCH(BC450&\"/\"&BD450,③読み替え表_省エネ住宅!$G$48:$G$57,0),1,0)),0)","v":1},{"$f":"IFERROR(IF(OR(BE450=\"未\",BF450=\"未\"),1,IF(MATCH(BE450&\"/\"&BF450,③読み替え表_省エネ住宅!$G$48:$G$57,0),1,0)),0)","v":1},1,1,1,"*"]
[null,441,null,null,null,null,null,null,null,null,null,null,null,null,null,null,null,null,null,null,null,null,null,null,null,null,null,null,null,null,null,null,null,null,null,null,null,null,null,null,null,null,null,null,null,null,null,null,null,null,null,null,null,null,"未","未","未","未",0,0,0,0,{"$f":"IFERROR(IF(OR(BC451=\"未\",BD451=\"未\"),1,IF(MATCH(BC451&\"/\"&BD451,③読み替え表_省エネ住宅!$G$48:$G$57,0),1,0)),0)","v":1},{"$f":"IFERROR(IF(OR(BE451=\"未\",BF451=\"未\"),1,IF(MATCH(BE451&\"/\"&BF451,③読み替え表_省エネ住宅!$G$48:$G$57,0),1,0)),0)","v":1},1,1,1,"*"]
[null,442,null,null,null,null,null,null,null,null,null,null,null,null,null,null,null,null,null,null,null,null,null,null,null,null,null,null,null,null,null,null,null,null,null,null,null,null,null,null,null,null,null,null,null,null,null,null,null,null,null,null,null,null,"未","未","未","未",0,0,0,0,{"$f":"IFERROR(IF(OR(BC452=\"未\",BD452=\"未\"),1,IF(MATCH(BC452&\"/\"&BD452,③読み替え表_省エネ住宅!$G$48:$G$57,0),1,0)),0)","v":1},{"$f":"IFERROR(IF(OR(BE452=\"未\",BF452=\"未\"),1,IF(MATCH(BE452&\"/\"&BF452,③読み替え表_省エネ住宅!$G$48:$G$57,0),1,0)),0)","v":1},1,1,1,"*"]
[null,443,null,null,null,null,null,null,null,null,null,null,null,null,null,null,null,null,null,null,null,null,null,null,null,null,null,null,null,null,null,null,null,null,null,null,null,null,null,null,null,null,null,null,null,null,null,null,null,null,null,null,null,null,"未","未","未","未",0,0,0,0,{"$f":"IFERROR(IF(OR(BC453=\"未\",BD453=\"未\"),1,IF(MATCH(BC453&\"/\"&BD453,③読み替え表_省エネ住宅!$G$48:$G$57,0),1,0)),0)","v":1},{"$f":"IFERROR(IF(OR(BE453=\"未\",BF453=\"未\"),1,IF(MATCH(BE453&\"/\"&BF453,③読み替え表_省エネ住宅!$G$48:$G$57,0),1,0)),0)","v":1},1,1,1,"*"]
[null,444,null,null,null,null,null,null,null,null,null,null,null,null,null,null,null,null,null,null,null,null,null,null,null,null,null,null,null,null,null,null,null,null,null,null,null,null,null,null,null,null,null,null,null,null,null,null,null,null,null,null,null,null,"未","未","未","未",0,0,0,0,{"$f":"IFERROR(IF(OR(BC454=\"未\",BD454=\"未\"),1,IF(MATCH(BC454&\"/\"&BD454,③読み替え表_省エネ住宅!$G$48:$G$57,0),1,0)),0)","v":1},{"$f":"IFERROR(IF(OR(BE454=\"未\",BF454=\"未\"),1,IF(MATCH(BE454&\"/\"&BF454,③読み替え表_省エネ住宅!$G$48:$G$57,0),1,0)),0)","v":1},1,1,1,"*"]
[null,445,null,null,null,null,null,null,null,null,null,null,null,null,null,null,null,null,null,null,null,null,null,null,null,null,null,null,null,null,null,null,null,null,null,null,null,null,null,null,null,null,null,null,null,null,null,null,null,null,null,null,null,null,"未","未","未","未",0,0,0,0,{"$f":"IFERROR(IF(OR(BC455=\"未\",BD455=\"未\"),1,IF(MATCH(BC455&\"/\"&BD455,③読み替え表_省エネ住宅!$G$48:$G$57,0),1,0)),0)","v":1},{"$f":"IFERROR(IF(OR(BE455=\"未\",BF455=\"未\"),1,IF(MATCH(BE455&\"/\"&BF455,③読み替え表_省エネ住宅!$G$48:$G$57,0),1,0)),0)","v":1},1,1,1,"*"]
[null,446,null,null,null,null,null,null,null,null,null,null,null,null,null,null,null,null,null,null,null,null,null,null,null,null,null,null,null,null,null,null,null,null,null,null,null,null,null,null,null,null,null,null,null,null,null,null,null,null,null,null,null,null,"未","未","未","未",0,0,0,0,{"$f":"IFERROR(IF(OR(BC456=\"未\",BD456=\"未\"),1,IF(MATCH(BC456&\"/\"&BD456,③読み替え表_省エネ住宅!$G$48:$G$57,0),1,0)),0)","v":1},{"$f":"IFERROR(IF(OR(BE456=\"未\",BF456=\"未\"),1,IF(MATCH(BE456&\"/\"&BF456,③読み替え表_省エネ住宅!$G$48:$G$57,0),1,0)),0)","v":1},1,1,1,"*"]
[null,447,null,null,null,null,null,null,null,null,null,null,null,null,null,null,null,null,null,null,null,null,null,null,null,null,null,null,null,null,null,null,null,null,null,null,null,null,null,null,null,null,null,null,null,null,null,null,null,null,null,null,null,null,"未","未","未","未",0,0,0,0,{"$f":"IFERROR(IF(OR(BC457=\"未\",BD457=\"未\"),1,IF(MATCH(BC457&\"/\"&BD457,③読み替え表_省エネ住宅!$G$48:$G$57,0),1,0)),0)","v":1},{"$f":"IFERROR(IF(OR(BE457=\"未\",BF457=\"未\"),1,IF(MATCH(BE457&\"/\"&BF457,③読み替え表_省エネ住宅!$G$48:$G$57,0),1,0)),0)","v":1},1,1,1,"*"]
[null,448,null,null,null,null,null,null,null,null,null,null,null,null,null,null,null,null,null,null,null,null,null,null,null,null,null,null,null,null,null,null,null,null,null,null,null,null,null,null,null,null,null,null,null,null,null,null,null,null,null,null,null,null,"未","未","未","未",0,0,0,0,{"$f":"IFERROR(IF(OR(BC458=\"未\",BD458=\"未\"),1,IF(MATCH(BC458&\"/\"&BD458,③読み替え表_省エネ住宅!$G$48:$G$57,0),1,0)),0)","v":1},{"$f":"IFERROR(IF(OR(BE458=\"未\",BF458=\"未\"),1,IF(MATCH(BE458&\"/\"&BF458,③読み替え表_省エネ住宅!$G$48:$G$57,0),1,0)),0)","v":1},1,1,1,"*"]
[null,449,null,null,null,null,null,null,null,null,null,null,null,null,null,null,null,null,null,null,null,null,null,null,null,null,null,null,null,null,null,null,null,null,null,null,null,null,null,null,null,null,null,null,null,null,null,null,null,null,null,null,null,null,"未","未","未","未",0,0,0,0,{"$f":"IFERROR(IF(OR(BC459=\"未\",BD459=\"未\"),1,IF(MATCH(BC459&\"/\"&BD459,③読み替え表_省エネ住宅!$G$48:$G$57,0),1,0)),0)","v":1},{"$f":"IFERROR(IF(OR(BE459=\"未\",BF459=\"未\"),1,IF(MATCH(BE459&\"/\"&BF459,③読み替え表_省エネ住宅!$G$48:$G$57,0),1,0)),0)","v":1},1,1,1,"*"]
[null,{"$f":"ROW()-10","v":450},null,null,null,null,null,null,null,null,null,null,null,null,null,null,null,null,null,null,null,null,null,null,null,null,null,null,null,null,null,null,null,null,null,null,null,null,null,null,null,null,null,null,null,null,null,null,null,null,null,null,null,null,{"$f":"IFERROR(IF(SUM($Q460:$U460)>1,\"複数回答\",INDEX($Q$10:$U$10,,MATCH(1,$Q460:$U460,0))),\"未\")","v":"未"},{"$f":"IFERROR(IF(SUM($AA460:$AE460)>1,\"複数回答\",INDEX($AA$10:$AE$10,,MATCH(1,$AA460:$AE460,0))),\"未\")","v":"未"},{"$f":"IFERROR(IF(SUM($V460:$Z460)>1,\"複数回答\",INDEX($V$10:$Z$10,,MATCH(1,$V460:$Z460,0))),\"未\")","v":"未"},{"$f":"IFERROR(IF(SUM($AF460:$AJ460)>1,\"複数回答\",INDEX($AF$10:$AJ$10,,MATCH(1,$AF460:$AJ460,0))),\"未\")","v":"未"},{"$f":"IF(OR(AA460=1,AB460=1,AC460=1),1,0)","v":0},{"$f":"IF(OR(AF460=1,AG460=1,AH460=1),1,0)","v":0},{"$f":"IF(BC460=\"複数回答\",1,IF(BD460=\"複数回答\",1,0))","v":0},{"$f":"IF(BE460=\"複数回答\",1,IF(BF460=\"複数回答\",1,0))","v":0},{"$f":"IFERROR(IF(OR(BC460=\"未\",BD460=\"未\"),1,IF(MATCH(BC460&\"/\"&BD460,③読み替え表_省エネ住宅!$G$48:$G$57,0),1,0)),0)","v":1},{"$f":"IFERROR(IF(OR(BE460=\"未\",BF460=\"未\"),1,IF(MATCH(BE460&\"/\"&BF460,③読み替え表_省エネ住宅!$G$48:$G$57,0),1,0)),0)","v":1},{"$f":"IF(BI460+BK460>0,1,0)","v":1},{"$f":"IF(BJ460+BL460>0,1,0)","v":1},{"$f":"IF(SUM(BI460:BL460)>0,1,0)","v":1},"*"]
[null,451,null,null,null,null,null,null,null,null,null,null,null,null,null,null,null,null,null,null,null,null,null,null,null,null,null,null,null,null,null,null,null,null,null,null,null,null,null,null,null,null,null,null,null,null,null,null,null,null,null,null,null,null,"未","未","未","未",0,0,0,0,{"$f":"IFERROR(IF(OR(BC461=\"未\",BD461=\"未\"),1,IF(MATCH(BC461&\"/\"&BD461,③読み替え表_省エネ住宅!$G$48:$G$57,0),1,0)),0)","v":1},{"$f":"IFERROR(IF(OR(BE461=\"未\",BF461=\"未\"),1,IF(MATCH(BE461&\"/\"&BF461,③読み替え表_省エネ住宅!$G$48:$G$57,0),1,0)),0)","v":1},1,1,1,"*"]
[null,452,null,null,null,null,null,null,null,null,null,null,null,null,null,null,null,null,null,null,null,null,null,null,null,null,null,null,null,null,null,null,null,null,null,null,null,null,null,null,null,null,null,null,null,null,null,null,null,null,null,null,null,null,"未","未","未","未",0,0,0,0,{"$f":"IFERROR(IF(OR(BC462=\"未\",BD462=\"未\"),1,IF(MATCH(BC462&\"/\"&BD462,③読み替え表_省エネ住宅!$G$48:$G$57,0),1,0)),0)","v":1},{"$f":"IFERROR(IF(OR(BE462=\"未\",BF462=\"未\"),1,IF(MATCH(BE462&\"/\"&BF462,③読み替え表_省エネ住宅!$G$48:$G$57,0),1,0)),0)","v":1},1,1,1,"*"]
[null,453,null,null,null,null,null,null,null,null,null,null,null,null,null,null,null,null,null,null,null,null,null,null,null,null,null,null,null,null,null,null,null,null,null,null,null,null,null,null,null,null,null,null,null,null,null,null,null,null,null,null,null,null,"未","未","未","未",0,0,0,0,{"$f":"IFERROR(IF(OR(BC463=\"未\",BD463=\"未\"),1,IF(MATCH(BC463&\"/\"&BD463,③読み替え表_省エネ住宅!$G$48:$G$57,0),1,0)),0)","v":1},{"$f":"IFERROR(IF(OR(BE463=\"未\",BF463=\"未\"),1,IF(MATCH(BE463&\"/\"&BF463,③読み替え表_省エネ住宅!$G$48:$G$57,0),1,0)),0)","v":1},1,1,1,"*"]
[null,454,null,null,null,null,null,null,null,null,null,null,null,null,null,null,null,null,null,null,null,null,null,null,null,null,null,null,null,null,null,null,null,null,null,null,null,null,null,null,null,null,null,null,null,null,null,null,null,null,null,null,null,null,"未","未","未","未",0,0,0,0,{"$f":"IFERROR(IF(OR(BC464=\"未\",BD464=\"未\"),1,IF(MATCH(BC464&\"/\"&BD464,③読み替え表_省エネ住宅!$G$48:$G$57,0),1,0)),0)","v":1},{"$f":"IFERROR(IF(OR(BE464=\"未\",BF464=\"未\"),1,IF(MATCH(BE464&\"/\"&BF464,③読み替え表_省エネ住宅!$G$48:$G$57,0),1,0)),0)","v":1},1,1,1,"*"]
[null,455,null,null,null,null,null,null,null,null,null,null,null,null,null,null,null,null,null,null,null,null,null,null,null,null,null,null,null,null,null,null,null,null,null,null,null,null,null,null,null,null,null,null,null,null,null,null,null,null,null,null,null,null,"未","未","未","未",0,0,0,0,{"$f":"IFERROR(IF(OR(BC465=\"未\",BD465=\"未\"),1,IF(MATCH(BC465&\"/\"&BD465,③読み替え表_省エネ住宅!$G$48:$G$57,0),1,0)),0)","v":1},{"$f":"IFERROR(IF(OR(BE465=\"未\",BF465=\"未\"),1,IF(MATCH(BE465&\"/\"&BF465,③読み替え表_省エネ住宅!$G$48:$G$57,0),1,0)),0)","v":1},1,1,1,"*"]
[null,456,null,null,null,null,null,null,null,null,null,null,null,null,null,null,null,null,null,null,null,null,null,null,null,null,null,null,null,null,null,null,null,null,null,null,null,null,null,null,null,null,null,null,null,null,null,null,null,null,null,null,null,null,"未","未","未","未",0,0,0,0,{"$f":"IFERROR(IF(OR(BC466=\"未\",BD466=\"未\"),1,IF(MATCH(BC466&\"/\"&BD466,③読み替え表_省エネ住宅!$G$48:$G$57,0),1,0)),0)","v":1},{"$f":"IFERROR(IF(OR(BE466=\"未\",BF466=\"未\"),1,IF(MATCH(BE466&\"/\"&BF466,③読み替え表_省エネ住宅!$G$48:$G$57,0),1,0)),0)","v":1},1,1,1,"*"]
[null,457,null,null,null,null,null,null,null,null,null,null,null,null,null,null,null,null,null,null,null,null,null,null,null,null,null,null,null,null,null,null,null,null,null,null,null,null,null,null,null,null,null,null,null,null,null,null,null,null,null,null,null,null,"未","未","未","未",0,0,0,0,{"$f":"IFERROR(IF(OR(BC467=\"未\",BD467=\"未\"),1,IF(MATCH(BC467&\"/\"&BD467,③読み替え表_省エネ住宅!$G$48:$G$57,0),1,0)),0)","v":1},{"$f":"IFERROR(IF(OR(BE467=\"未\",BF467=\"未\"),1,IF(MATCH(BE467&\"/\"&BF467,③読み替え表_省エネ住宅!$G$48:$G$57,0),1,0)),0)","v":1},1,1,1,"*"]
[null,458,null,null,null,null,null,null,null,null,null,null,null,null,null,null,null,null,null,null,null,null,null,null,null,null,null,null,null,null,null,null,null,null,null,null,null,null,null,null,null,null,null,null,null,null,null,null,null,null,null,null,null,null,"未","未","未","未",0,0,0,0,{"$f":"IFERROR(IF(OR(BC468=\"未\",BD468=\"未\"),1,IF(MATCH(BC468&\"/\"&BD468,③読み替え表_省エネ住宅!$G$48:$G$57,0),1,0)),0)","v":1},{"$f":"IFERROR(IF(OR(BE468=\"未\",BF468=\"未\"),1,IF(MATCH(BE468&\"/\"&BF468,③読み替え表_省エネ住宅!$G$48:$G$57,0),1,0)),0)","v":1},1,1,1,"*"]
[null,459,null,null,null,null,null,null,null,null,null,null,null,null,null,null,null,null,null,null,null,null,null,null,null,null,null,null,null,null,null,null,null,null,null,null,null,null,null,null,null,null,null,null,null,null,null,null,null,null,null,null,null,null,"未","未","未","未",0,0,0,0,{"$f":"IFERROR(IF(OR(BC469=\"未\",BD469=\"未\"),1,IF(MATCH(BC469&\"/\"&BD469,③読み替え表_省エネ住宅!$G$48:$G$57,0),1,0)),0)","v":1},{"$f":"IFERROR(IF(OR(BE469=\"未\",BF469=\"未\"),1,IF(MATCH(BE469&\"/\"&BF469,③読み替え表_省エネ住宅!$G$48:$G$57,0),1,0)),0)","v":1},1,1,1,"*"]
[null,460,null,null,null,null,null,null,null,null,null,null,null,null,null,null,null,null,null,null,null,null,null,null,null,null,null,null,null,null,null,null,null,null,null,null,null,null,null,null,null,null,null,null,null,null,null,null,null,null,null,null,null,null,"未","未","未","未",0,0,0,0,{"$f":"IFERROR(IF(OR(BC470=\"未\",BD470=\"未\"),1,IF(MATCH(BC470&\"/\"&BD470,③読み替え表_省エネ住宅!$G$48:$G$57,0),1,0)),0)","v":1},{"$f":"IFERROR(IF(OR(BE470=\"未\",BF470=\"未\"),1,IF(MATCH(BE470&\"/\"&BF470,③読み替え表_省エネ住宅!$G$48:$G$57,0),1,0)),0)","v":1},1,1,1,"*"]
[null,461,null,null,null,null,null,null,null,null,null,null,null,null,null,null,null,null,null,null,null,null,null,null,null,null,null,null,null,null,null,null,null,null,null,null,null,null,null,null,null,null,null,null,null,null,null,null,null,null,null,null,null,null,"未","未","未","未",0,0,0,0,{"$f":"IFERROR(IF(OR(BC471=\"未\",BD471=\"未\"),1,IF(MATCH(BC471&\"/\"&BD471,③読み替え表_省エネ住宅!$G$48:$G$57,0),1,0)),0)","v":1},{"$f":"IFERROR(IF(OR(BE471=\"未\",BF471=\"未\"),1,IF(MATCH(BE471&\"/\"&BF471,③読み替え表_省エネ住宅!$G$48:$G$57,0),1,0)),0)","v":1},1,1,1,"*"]
[null,462,null,null,null,null,null,null,null,null,null,null,null,null,null,null,null,null,null,null,null,null,null,null,null,null,null,null,null,null,null,null,null,null,null,null,null,null,null,null,null,null,null,null,null,null,null,null,null,null,null,null,null,null,"未","未","未","未",0,0,0,0,{"$f":"IFERROR(IF(OR(BC472=\"未\",BD472=\"未\"),1,IF(MATCH(BC472&\"/\"&BD472,③読み替え表_省エネ住宅!$G$48:$G$57,0),1,0)),0)","v":1},{"$f":"IFERROR(IF(OR(BE472=\"未\",BF472=\"未\"),1,IF(MATCH(BE472&\"/\"&BF472,③読み替え表_省エネ住宅!$G$48:$G$57,0),1,0)),0)","v":1},1,1,1,"*"]
[null,463,null,null,null,null,null,null,null,null,null,null,null,null,null,null,null,null,null,null,null,null,null,null,null,null,null,null,null,null,null,null,null,null,null,null,null,null,null,null,null,null,null,null,null,null,null,null,null,null,null,null,null,null,"未","未","未","未",0,0,0,0,{"$f":"IFERROR(IF(OR(BC473=\"未\",BD473=\"未\"),1,IF(MATCH(BC473&\"/\"&BD473,③読み替え表_省エネ住宅!$G$48:$G$57,0),1,0)),0)","v":1},{"$f":"IFERROR(IF(OR(BE473=\"未\",BF473=\"未\"),1,IF(MATCH(BE473&\"/\"&BF473,③読み替え表_省エネ住宅!$G$48:$G$57,0),1,0)),0)","v":1},1,1,1,"*"]
[null,464,null,null,null,null,null,null,null,null,null,null,null,null,null,null,null,null,null,null,null,null,null,null,null,null,null,null,null,null,null,null,null,null,null,null,null,null,null,null,null,null,null,null,null,null,null,null,null,null,null,null,null,null,"未","未","未","未",0,0,0,0,{"$f":"IFERROR(IF(OR(BC474=\"未\",BD474=\"未\"),1,IF(MATCH(BC474&\"/\"&BD474,③読み替え表_省エネ住宅!$G$48:$G$57,0),1,0)),0)","v":1},{"$f":"IFERROR(IF(OR(BE474=\"未\",BF474=\"未\"),1,IF(MATCH(BE474&\"/\"&BF474,③読み替え表_省エネ住宅!$G$48:$G$57,0),1,0)),0)","v":1},1,1,1,"*"]
[null,465,null,null,null,null,null,null,null,null,null,null,null,null,null,null,null,null,null,null,null,null,null,null,null,null,null,null,null,null,null,null,null,null,null,null,null,null,null,null,null,null,null,null,null,null,null,null,null,null,null,null,null,null,"未","未","未","未",0,0,0,0,{"$f":"IFERROR(IF(OR(BC475=\"未\",BD475=\"未\"),1,IF(MATCH(BC475&\"/\"&BD475,③読み替え表_省エネ住宅!$G$48:$G$57,0),1,0)),0)","v":1},{"$f":"IFERROR(IF(OR(BE475=\"未\",BF475=\"未\"),1,IF(MATCH(BE475&\"/\"&BF475,③読み替え表_省エネ住宅!$G$48:$G$57,0),1,0)),0)","v":1},1,1,1,"*"]
[null,466,null,null,null,null,null,null,null,null,null,null,null,null,null,null,null,null,null,null,null,null,null,null,null,null,null,null,null,null,null,null,null,null,null,null,null,null,null,null,null,null,null,null,null,null,null,null,null,null,null,null,null,null,"未","未","未","未",0,0,0,0,{"$f":"IFERROR(IF(OR(BC476=\"未\",BD476=\"未\"),1,IF(MATCH(BC476&\"/\"&BD476,③読み替え表_省エネ住宅!$G$48:$G$57,0),1,0)),0)","v":1},{"$f":"IFERROR(IF(OR(BE476=\"未\",BF476=\"未\"),1,IF(MATCH(BE476&\"/\"&BF476,③読み替え表_省エネ住宅!$G$48:$G$57,0),1,0)),0)","v":1},1,1,1,"*"]
[null,467,null,null,null,null,null,null,null,null,null,null,null,null,null,null,null,null,null,null,null,null,null,null,null,null,null,null,null,null,null,null,null,null,null,null,null,null,null,null,null,null,null,null,null,null,null,null,null,null,null,null,null,null,"未","未","未","未",0,0,0,0,{"$f":"IFERROR(IF(OR(BC477=\"未\",BD477=\"未\"),1,IF(MATCH(BC477&\"/\"&BD477,③読み替え表_省エネ住宅!$G$48:$G$57,0),1,0)),0)","v":1},{"$f":"IFERROR(IF(OR(BE477=\"未\",BF477=\"未\"),1,IF(MATCH(BE477&\"/\"&BF477,③読み替え表_省エネ住宅!$G$48:$G$57,0),1,0)),0)","v":1},1,1,1,"*"]
[null,468,null,null,null,null,null,null,null,null,null,null,null,null,null,null,null,null,null,null,null,null,null,null,null,null,null,null,null,null,null,null,null,null,null,null,null,null,null,null,null,null,null,null,null,null,null,null,null,null,null,null,null,null,"未","未","未","未",0,0,0,0,{"$f":"IFERROR(IF(OR(BC478=\"未\",BD478=\"未\"),1,IF(MATCH(BC478&\"/\"&BD478,③読み替え表_省エネ住宅!$G$48:$G$57,0),1,0)),0)","v":1},{"$f":"IFERROR(IF(OR(BE478=\"未\",BF478=\"未\"),1,IF(MATCH(BE478&\"/\"&BF478,③読み替え表_省エネ住宅!$G$48:$G$57,0),1,0)),0)","v":1},1,1,1,"*"]
[null,469,null,null,null,null,null,null,null,null,null,null,null,null,null,null,null,null,null,null,null,null,null,null,null,null,null,null,null,null,null,null,null,null,null,null,null,null,null,null,null,null,null,null,null,null,null,null,null,null,null,null,null,null,"未","未","未","未",0,0,0,0,{"$f":"IFERROR(IF(OR(BC479=\"未\",BD479=\"未\"),1,IF(MATCH(BC479&\"/\"&BD479,③読み替え表_省エネ住宅!$G$48:$G$57,0),1,0)),0)","v":1},{"$f":"IFERROR(IF(OR(BE479=\"未\",BF479=\"未\"),1,IF(MATCH(BE479&\"/\"&BF479,③読み替え表_省エネ住宅!$G$48:$G$57,0),1,0)),0)","v":1},1,1,1,"*"]
[null,470,null,null,null,null,null,null,null,null,null,null,null,null,null,null,null,null,null,null,null,null,null,null,null,null,null,null,null,null,null,null,null,null,null,null,null,null,null,null,null,null,null,null,null,null,null,null,null,null,null,null,null,null,"未","未","未","未",0,0,0,0,{"$f":"IFERROR(IF(OR(BC480=\"未\",BD480=\"未\"),1,IF(MATCH(BC480&\"/\"&BD480,③読み替え表_省エネ住宅!$G$48:$G$57,0),1,0)),0)","v":1},{"$f":"IFERROR(IF(OR(BE480=\"未\",BF480=\"未\"),1,IF(MATCH(BE480&\"/\"&BF480,③読み替え表_省エネ住宅!$G$48:$G$57,0),1,0)),0)","v":1},1,1,1,"*"]
[null,471,null,null,null,null,null,null,null,null,null,null,null,null,null,null,null,null,null,null,null,null,null,null,null,null,null,null,null,null,null,null,null,null,null,null,null,null,null,null,null,null,null,null,null,null,null,null,null,null,null,null,null,null,"未","未","未","未",0,0,0,0,{"$f":"IFERROR(IF(OR(BC481=\"未\",BD481=\"未\"),1,IF(MATCH(BC481&\"/\"&BD481,③読み替え表_省エネ住宅!$G$48:$G$57,0),1,0)),0)","v":1},{"$f":"IFERROR(IF(OR(BE481=\"未\",BF481=\"未\"),1,IF(MATCH(BE481&\"/\"&BF481,③読み替え表_省エネ住宅!$G$48:$G$57,0),1,0)),0)","v":1},1,1,1,"*"]
[null,472,null,null,null,null,null,null,null,null,null,null,null,null,null,null,null,null,null,null,null,null,null,null,null,null,null,null,null,null,null,null,null,null,null,null,null,null,null,null,null,null,null,null,null,null,null,null,null,null,null,null,null,null,"未","未","未","未",0,0,0,0,{"$f":"IFERROR(IF(OR(BC482=\"未\",BD482=\"未\"),1,IF(MATCH(BC482&\"/\"&BD482,③読み替え表_省エネ住宅!$G$48:$G$57,0),1,0)),0)","v":1},{"$f":"IFERROR(IF(OR(BE482=\"未\",BF482=\"未\"),1,IF(MATCH(BE482&\"/\"&BF482,③読み替え表_省エネ住宅!$G$48:$G$57,0),1,0)),0)","v":1},1,1,1,"*"]
[null,473,null,null,null,null,null,null,null,null,null,null,null,null,null,null,null,null,null,null,null,null,null,null,null,null,null,null,null,null,null,null,null,null,null,null,null,null,null,null,null,null,null,null,null,null,null,null,null,null,null,null,null,null,"未","未","未","未",0,0,0,0,{"$f":"IFERROR(IF(OR(BC483=\"未\",BD483=\"未\"),1,IF(MATCH(BC483&\"/\"&BD483,③読み替え表_省エネ住宅!$G$48:$G$57,0),1,0)),0)","v":1},{"$f":"IFERROR(IF(OR(BE483=\"未\",BF483=\"未\"),1,IF(MATCH(BE483&\"/\"&BF483,③読み替え表_省エネ住宅!$G$48:$G$57,0),1,0)),0)","v":1},1,1,1,"*"]
[null,474,null,null,null,null,null,null,null,null,null,null,null,null,null,null,null,null,null,null,null,null,null,null,null,null,null,null,null,null,null,null,null,null,null,null,null,null,null,null,null,null,null,null,null,null,null,null,null,null,null,null,null,null,"未","未","未","未",0,0,0,0,{"$f":"IFERROR(IF(OR(BC484=\"未\",BD484=\"未\"),1,IF(MATCH(BC484&\"/\"&BD484,③読み替え表_省エネ住宅!$G$48:$G$57,0),1,0)),0)","v":1},{"$f":"IFERROR(IF(OR(BE484=\"未\",BF484=\"未\"),1,IF(MATCH(BE484&\"/\"&BF484,③読み替え表_省エネ住宅!$G$48:$G$57,0),1,0)),0)","v":1},1,1,1,"*"]
[null,475,null,null,null,null,null,null,null,null,null,null,null,null,null,null,null,null,null,null,null,null,null,null,null,null,null,null,null,null,null,null,null,null,null,null,null,null,null,null,null,null,null,null,null,null,null,null,null,null,null,null,null,null,"未","未","未","未",0,0,0,0,{"$f":"IFERROR(IF(OR(BC485=\"未\",BD485=\"未\"),1,IF(MATCH(BC485&\"/\"&BD485,③読み替え表_省エネ住宅!$G$48:$G$57,0),1,0)),0)","v":1},{"$f":"IFERROR(IF(OR(BE485=\"未\",BF485=\"未\"),1,IF(MATCH(BE485&\"/\"&BF485,③読み替え表_省エネ住宅!$G$48:$G$57,0),1,0)),0)","v":1},1,1,1,"*"]
[null,476,null,null,null,null,null,null,null,null,null,null,null,null,null,null,null,null,null,null,null,null,null,null,null,null,null,null,null,null,null,null,null,null,null,null,null,null,null,null,null,null,null,null,null,null,null,null,null,null,null,null,null,null,"未","未","未","未",0,0,0,0,{"$f":"IFERROR(IF(OR(BC486=\"未\",BD486=\"未\"),1,IF(MATCH(BC486&\"/\"&BD486,③読み替え表_省エネ住宅!$G$48:$G$57,0),1,0)),0)","v":1},{"$f":"IFERROR(IF(OR(BE486=\"未\",BF486=\"未\"),1,IF(MATCH(BE486&\"/\"&BF486,③読み替え表_省エネ住宅!$G$48:$G$57,0),1,0)),0)","v":1},1,1,1,"*"]
[null,477,null,null,null,null,null,null,null,null,null,null,null,null,null,null,null,null,null,null,null,null,null,null,null,null,null,null,null,null,null,null,null,null,null,null,null,null,null,null,null,null,null,null,null,null,null,null,null,null,null,null,null,null,"未","未","未","未",0,0,0,0,{"$f":"IFERROR(IF(OR(BC487=\"未\",BD487=\"未\"),1,IF(MATCH(BC487&\"/\"&BD487,③読み替え表_省エネ住宅!$G$48:$G$57,0),1,0)),0)","v":1},{"$f":"IFERROR(IF(OR(BE487=\"未\",BF487=\"未\"),1,IF(MATCH(BE487&\"/\"&BF487,③読み替え表_省エネ住宅!$G$48:$G$57,0),1,0)),0)","v":1},1,1,1,"*"]
[null,478,null,null,null,null,null,null,null,null,null,null,null,null,null,null,null,null,null,null,null,null,null,null,null,null,null,null,null,null,null,null,null,null,null,null,null,null,null,null,null,null,null,null,null,null,null,null,null,null,null,null,null,null,"未","未","未","未",0,0,0,0,{"$f":"IFERROR(IF(OR(BC488=\"未\",BD488=\"未\"),1,IF(MATCH(BC488&\"/\"&BD488,③読み替え表_省エネ住宅!$G$48:$G$57,0),1,0)),0)","v":1},{"$f":"IFERROR(IF(OR(BE488=\"未\",BF488=\"未\"),1,IF(MATCH(BE488&\"/\"&BF488,③読み替え表_省エネ住宅!$G$48:$G$57,0),1,0)),0)","v":1},1,1,1,"*"]
[null,479,null,null,null,null,null,null,null,null,null,null,null,null,null,null,null,null,null,null,null,null,null,null,null,null,null,null,null,null,null,null,null,null,null,null,null,null,null,null,null,null,null,null,null,null,null,null,null,null,null,null,null,null,"未","未","未","未",0,0,0,0,{"$f":"IFERROR(IF(OR(BC489=\"未\",BD489=\"未\"),1,IF(MATCH(BC489&\"/\"&BD489,③読み替え表_省エネ住宅!$G$48:$G$57,0),1,0)),0)","v":1},{"$f":"IFERROR(IF(OR(BE489=\"未\",BF489=\"未\"),1,IF(MATCH(BE489&\"/\"&BF489,③読み替え表_省エネ住宅!$G$48:$G$57,0),1,0)),0)","v":1},1,1,1,"*"]
[null,480,null,null,null,null,null,null,null,null,null,null,null,null,null,null,null,null,null,null,null,null,null,null,null,null,null,null,null,null,null,null,null,null,null,null,null,null,null,null,null,null,null,null,null,null,null,null,null,null,null,null,null,null,"未","未","未","未",0,0,0,0,{"$f":"IFERROR(IF(OR(BC490=\"未\",BD490=\"未\"),1,IF(MATCH(BC490&\"/\"&BD490,③読み替え表_省エネ住宅!$G$48:$G$57,0),1,0)),0)","v":1},{"$f":"IFERROR(IF(OR(BE490=\"未\",BF490=\"未\"),1,IF(MATCH(BE490&\"/\"&BF490,③読み替え表_省エネ住宅!$G$48:$G$57,0),1,0)),0)","v":1},1,1,1,"*"]
[null,481,null,null,null,null,null,null,null,null,null,null,null,null,null,null,null,null,null,null,null,null,null,null,null,null,null,null,null,null,null,null,null,null,null,null,null,null,null,null,null,null,null,null,null,null,null,null,null,null,null,null,null,null,"未","未","未","未",0,0,0,0,{"$f":"IFERROR(IF(OR(BC491=\"未\",BD491=\"未\"),1,IF(MATCH(BC491&\"/\"&BD491,③読み替え表_省エネ住宅!$G$48:$G$57,0),1,0)),0)","v":1},{"$f":"IFERROR(IF(OR(BE491=\"未\",BF491=\"未\"),1,IF(MATCH(BE491&\"/\"&BF491,③読み替え表_省エネ住宅!$G$48:$G$57,0),1,0)),0)","v":1},1,1,1,"*"]
[null,482,null,null,null,null,null,null,null,null,null,null,null,null,null,null,null,null,null,null,null,null,null,null,null,null,null,null,null,null,null,null,null,null,null,null,null,null,null,null,null,null,null,null,null,null,null,null,null,null,null,null,null,null,"未","未","未","未",0,0,0,0,{"$f":"IFERROR(IF(OR(BC492=\"未\",BD492=\"未\"),1,IF(MATCH(BC492&\"/\"&BD492,③読み替え表_省エネ住宅!$G$48:$G$57,0),1,0)),0)","v":1},{"$f":"IFERROR(IF(OR(BE492=\"未\",BF492=\"未\"),1,IF(MATCH(BE492&\"/\"&BF492,③読み替え表_省エネ住宅!$G$48:$G$57,0),1,0)),0)","v":1},1,1,1,"*"]
[null,483,null,null,null,null,null,null,null,null,null,null,null,null,null,null,null,null,null,null,null,null,null,null,null,null,null,null,null,null,null,null,null,null,null,null,null,null,null,null,null,null,null,null,null,null,null,null,null,null,null,null,null,null,"未","未","未","未",0,0,0,0,{"$f":"IFERROR(IF(OR(BC493=\"未\",BD493=\"未\"),1,IF(MATCH(BC493&\"/\"&BD493,③読み替え表_省エネ住宅!$G$48:$G$57,0),1,0)),0)","v":1},{"$f":"IFERROR(IF(OR(BE493=\"未\",BF493=\"未\"),1,IF(MATCH(BE493&\"/\"&BF493,③読み替え表_省エネ住宅!$G$48:$G$57,0),1,0)),0)","v":1},1,1,1,"*"]
[null,484,null,null,null,null,null,null,null,null,null,null,null,null,null,null,null,null,null,null,null,null,null,null,null,null,null,null,null,null,null,null,null,null,null,null,null,null,null,null,null,null,null,null,null,null,null,null,null,null,null,null,null,null,"未","未","未","未",0,0,0,0,{"$f":"IFERROR(IF(OR(BC494=\"未\",BD494=\"未\"),1,IF(MATCH(BC494&\"/\"&BD494,③読み替え表_省エネ住宅!$G$48:$G$57,0),1,0)),0)","v":1},{"$f":"IFERROR(IF(OR(BE494=\"未\",BF494=\"未\"),1,IF(MATCH(BE494&\"/\"&BF494,③読み替え表_省エネ住宅!$G$48:$G$57,0),1,0)),0)","v":1},1,1,1,"*"]
[null,485,null,null,null,null,null,null,null,null,null,null,null,null,null,null,null,null,null,null,null,null,null,null,null,null,null,null,null,null,null,null,null,null,null,null,null,null,null,null,null,null,null,null,null,null,null,null,null,null,null,null,null,null,"未","未","未","未",0,0,0,0,{"$f":"IFERROR(IF(OR(BC495=\"未\",BD495=\"未\"),1,IF(MATCH(BC495&\"/\"&BD495,③読み替え表_省エネ住宅!$G$48:$G$57,0),1,0)),0)","v":1},{"$f":"IFERROR(IF(OR(BE495=\"未\",BF495=\"未\"),1,IF(MATCH(BE495&\"/\"&BF495,③読み替え表_省エネ住宅!$G$48:$G$57,0),1,0)),0)","v":1},1,1,1,"*"]
[null,486,null,null,null,null,null,null,null,null,null,null,null,null,null,null,null,null,null,null,null,null,null,null,null,null,null,null,null,null,null,null,null,null,null,null,null,null,null,null,null,null,null,null,null,null,null,null,null,null,null,null,null,null,"未","未","未","未",0,0,0,0,{"$f":"IFERROR(IF(OR(BC496=\"未\",BD496=\"未\"),1,IF(MATCH(BC496&\"/\"&BD496,③読み替え表_省エネ住宅!$G$48:$G$57,0),1,0)),0)","v":1},{"$f":"IFERROR(IF(OR(BE496=\"未\",BF496=\"未\"),1,IF(MATCH(BE496&\"/\"&BF496,③読み替え表_省エネ住宅!$G$48:$G$57,0),1,0)),0)","v":1},1,1,1,"*"]
[null,487,null,null,null,null,null,null,null,null,null,null,null,null,null,null,null,null,null,null,null,null,null,null,null,null,null,null,null,null,null,null,null,null,null,null,null,null,null,null,null,null,null,null,null,null,null,null,null,null,null,null,null,null,"未","未","未","未",0,0,0,0,{"$f":"IFERROR(IF(OR(BC497=\"未\",BD497=\"未\"),1,IF(MATCH(BC497&\"/\"&BD497,③読み替え表_省エネ住宅!$G$48:$G$57,0),1,0)),0)","v":1},{"$f":"IFERROR(IF(OR(BE497=\"未\",BF497=\"未\"),1,IF(MATCH(BE497&\"/\"&BF497,③読み替え表_省エネ住宅!$G$48:$G$57,0),1,0)),0)","v":1},1,1,1,"*"]
[null,488,null,null,null,null,null,null,null,null,null,null,null,null,null,null,null,null,null,null,null,null,null,null,null,null,null,null,null,null,null,null,null,null,null,null,null,null,null,null,null,null,null,null,null,null,null,null,null,null,null,null,null,null,"未","未","未","未",0,0,0,0,{"$f":"IFERROR(IF(OR(BC498=\"未\",BD498=\"未\"),1,IF(MATCH(BC498&\"/\"&BD498,③読み替え表_省エネ住宅!$G$48:$G$57,0),1,0)),0)","v":1},{"$f":"IFERROR(IF(OR(BE498=\"未\",BF498=\"未\"),1,IF(MATCH(BE498&\"/\"&BF498,③読み替え表_省エネ住宅!$G$48:$G$57,0),1,0)),0)","v":1},1,1,1,"*"]
[null,489,null,null,null,null,null,null,null,null,null,null,null,null,null,null,null,null,null,null,null,null,null,null,null,null,null,null,null,null,null,null,null,null,null,null,null,null,null,null,null,null,null,null,null,null,null,null,null,null,null,null,null,null,"未","未","未","未",0,0,0,0,{"$f":"IFERROR(IF(OR(BC499=\"未\",BD499=\"未\"),1,IF(MATCH(BC499&\"/\"&BD499,③読み替え表_省エネ住宅!$G$48:$G$57,0),1,0)),0)","v":1},{"$f":"IFERROR(IF(OR(BE499=\"未\",BF499=\"未\"),1,IF(MATCH(BE499&\"/\"&BF499,③読み替え表_省エネ住宅!$G$48:$G$57,0),1,0)),0)","v":1},1,1,1,"*"]
[null,490,null,null,null,null,null,null,null,null,null,null,null,null,null,null,null,null,null,null,null,null,null,null,null,null,null,null,null,null,null,null,null,null,null,null,null,null,null,null,null,null,null,null,null,null,null,null,null,null,null,null,null,null,"未","未","未","未",0,0,0,0,{"$f":"IFERROR(IF(OR(BC500=\"未\",BD500=\"未\"),1,IF(MATCH(BC500&\"/\"&BD500,③読み替え表_省エネ住宅!$G$48:$G$57,0),1,0)),0)","v":1},{"$f":"IFERROR(IF(OR(BE500=\"未\",BF500=\"未\"),1,IF(MATCH(BE500&\"/\"&BF500,③読み替え表_省エネ住宅!$G$48:$G$57,0),1,0)),0)","v":1},1,1,1,"*"]
[null,492,null,null,null,null,null,null,null,null,null,null,null,null,null,null,null,null,null,null,null,null,null,null,null,null,null,null,null,null,null,null,null,null,null,null,null,null,null,null,null,null,null,null,null,null,null,null,null,null,null,null,null,null,"未","未","未","未",0,0,0,0,{"$f":"IFERROR(IF(OR(BC502=\"未\",BD502=\"未\"),1,IF(MATCH(BC502&\"/\"&BD502,③読み替え表_省エネ住宅!$G$48:$G$57,0),1,0)),0)","v":1},{"$f":"IFERROR(IF(OR(BE502=\"未\",BF502=\"未\"),1,IF(MATCH(BE502&\"/\"&BF502,③読み替え表_省エネ住宅!$G$48:$G$57,0),1,0)),0)","v":1},1,1,1,"*"]
[null,494,null,null,null,null,null,null,null,null,null,null,null,null,null,null,null,null,null,null,null,null,null,null,null,null,null,null,null,null,null,null,null,null,null,null,null,null,null,null,null,null,null,null,null,null,null,null,null,null,null,null,null,null,"未","未","未","未",0,0,0,0,{"$f":"IFERROR(IF(OR(BC504=\"未\",BD504=\"未\"),1,IF(MATCH(BC504&\"/\"&BD504,③読み替え表_省エネ住宅!$G$48:$G$57,0),1,0)),0)","v":1},{"$f":"IFERROR(IF(OR(BE504=\"未\",BF504=\"未\"),1,IF(MATCH(BE504&\"/\"&BF504,③読み替え表_省エネ住宅!$G$48:$G$57,0),1,0)),0)","v":1},1,1,1,"*"]
[null,497,null,null,null,null,null,null,null,null,null,null,null,null,null,null,null,null,null,null,null,null,null,null,null,null,null,null,null,null,null,null,null,null,null,null,null,null,null,null,null,null,null,null,null,null,null,null,null,null,null,null,null,null,"未","未","未","未",0,0,0,0,{"$f":"IFERROR(IF(OR(BC507=\"未\",BD507=\"未\"),1,IF(MATCH(BC507&\"/\"&BD507,③読み替え表_省エネ住宅!$G$48:$G$57,0),1,0)),0)","v":1},{"$f":"IFERROR(IF(OR(BE507=\"未\",BF507=\"未\"),1,IF(MATCH(BE507&\"/\"&BF507,③読み替え表_省エネ住宅!$G$48:$G$57,0),1,0)),0)","v":1},1,1,1,"*"]
[null,501,null,null,null,null,null,null,null,null,null,null,null,null,null,null,null,null,null,null,null,null,null,null,null,null,null,null,null,null,null,null,null,null,null,null,null,null,null,null,null,null,null,null,null,null,null,null,null,null,null,null,null,null,"未","未","未","未",0,0,0,0,{"$f":"IFERROR(IF(OR(BC511=\"未\",BD511=\"未\"),1,IF(MATCH(BC511&\"/\"&BD511,③読み替え表_省エネ住宅!$G$48:$G$57,0),1,0)),0)","v":1},{"$f":"IFERROR(IF(OR(BE511=\"未\",BF511=\"未\"),1,IF(MATCH(BE511&\"/\"&BF511,③読み替え表_省エネ住宅!$G$48:$G$57,0),1,0)),0)","v":1},1,1,1,"*"]
[null,503,null,null,null,null,null,null,null,null,null,null,null,null,null,null,null,null,null,null,null,null,null,null,null,null,null,null,null,null,null,null,null,null,null,null,null,null,null,null,null,null,null,null,null,null,null,null,null,null,null,null,null,null,"未","未","未","未",0,0,0,0,{"$f":"IFERROR(IF(OR(BC513=\"未\",BD513=\"未\"),1,IF(MATCH(BC513&\"/\"&BD513,③読み替え表_省エネ住宅!$G$48:$G$57,0),1,0)),0)","v":1},{"$f":"IFERROR(IF(OR(BE513=\"未\",BF513=\"未\"),1,IF(MATCH(BE513&\"/\"&BF513,③読み替え表_省エネ住宅!$G$48:$G$57,0),1,0)),0)","v":1},1,1,1,"*"]
[null,506,null,null,null,null,null,null,null,null,null,null,null,null,null,null,null,null,null,null,null,null,null,null,null,null,null,null,null,null,null,null,null,null,null,null,null,null,null,null,null,null,null,null,null,null,null,null,null,null,null,null,null,null,"未","未","未","未",0,0,0,0,{"$f":"IFERROR(IF(OR(BC516=\"未\",BD516=\"未\"),1,IF(MATCH(BC516&\"/\"&BD516,③読み替え表_省エネ住宅!$G$48:$G$57,0),1,0)),0)","v":1},{"$f":"IFERROR(IF(OR(BE516=\"未\",BF516=\"未\"),1,IF(MATCH(BE516&\"/\"&BF516,③読み替え表_省エネ住宅!$G$48:$G$57,0),1,0)),0)","v":1},1,1,1,"*"]
[null,507,null,null,null,null,null,null,null,null,null,null,null,null,null,null,null,null,null,null,null,null,null,null,null,null,null,null,null,null,null,null,null,null,null,null,null,null,null,null,null,null,null,null,null,null,null,null,null,null,null,null,null,null,"未","未","未","未",0,0,0,0,{"$f":"IFERROR(IF(OR(BC517=\"未\",BD517=\"未\"),1,IF(MATCH(BC517&\"/\"&BD517,③読み替え表_省エネ住宅!$G$48:$G$57,0),1,0)),0)","v":1},{"$f":"IFERROR(IF(OR(BE517=\"未\",BF517=\"未\"),1,IF(MATCH(BE517&\"/\"&BF517,③読み替え表_省エネ住宅!$G$48:$G$57,0),1,0)),0)","v":1},1,1,1,"*"]
[null,510,null,null,null,null,null,null,null,null,null,null,null,null,null,null,null,null,null,null,null,null,null,null,null,null,null,null,null,null,null,null,null,null,null,null,null,null,null,null,null,null,null,null,null,null,null,null,null,null,null,null,null,null,"未","未","未","未",0,0,0,0,{"$f":"IFERROR(IF(OR(BC520=\"未\",BD520=\"未\"),1,IF(MATCH(BC520&\"/\"&BD520,③読み替え表_省エネ住宅!$G$48:$G$57,0),1,0)),0)","v":1},{"$f":"IFERROR(IF(OR(BE520=\"未\",BF520=\"未\"),1,IF(MATCH(BE520&\"/\"&BF520,③読み替え表_省エネ住宅!$G$48:$G$57,0),1,0)),0)","v":1},1,1,1,"*"]
[null,{"$f":"ROW()-10","v":514},null,null,null,null,null,null,null,null,null,null,null,null,null,null,null,null,null,null,null,null,null,null,null,null,null,null,null,null,null,null,null,null,null,null,null,null,null,null,null,null,null,null,null,null,null,null,null,null,null,null,null,null,{"$f":"IFERROR(IF(SUM($Q524:$U524)>1,\"複数回答\",INDEX($Q$10:$U$10,,MATCH(1,$Q524:$U524,0))),\"未\")","v":"未"},{"$f":"IFERROR(IF(SUM($AA524:$AE524)>1,\"複数回答\",INDEX($AA$10:$AE$10,,MATCH(1,$AA524:$AE524,0))),\"未\")","v":"未"},{"$f":"IFERROR(IF(SUM($V524:$Z524)>1,\"複数回答\",INDEX($V$10:$Z$10,,MATCH(1,$V524:$Z524,0))),\"未\")","v":"未"},{"$f":"IFERROR(IF(SUM($AF524:$AJ524)>1,\"複数回答\",INDEX($AF$10:$AJ$10,,MATCH(1,$AF524:$AJ524,0))),\"未\")","v":"未"},{"$f":"IF(OR(AA524=1,AB524=1,AC524=1),1,0)","v":0},{"$f":"IF(OR(AF524=1,AG524=1,AH524=1),1,0)","v":0},{"$f":"IF(BC524=\"複数回答\",1,IF(BD524=\"複数回答\",1,0))","v":0},{"$f":"IF(BE524=\"複数回答\",1,IF(BF524=\"複数回答\",1,0))","v":0},{"$f":"IFERROR(IF(OR(BC524=\"未\",BD524=\"未\"),1,IF(MATCH(BC524&\"/\"&BD524,③読み替え表_省エネ住宅!$G$48:$G$57,0),1,0)),0)","v":1},{"$f":"IFERROR(IF(OR(BE524=\"未\",BF524=\"未\"),1,IF(MATCH(BE524&\"/\"&BF524,③読み替え表_省エネ住宅!$G$48:$G$57,0),1,0)),0)","v":1},{"$f":"IF(BI524+BK524>0,1,0)","v":1},{"$f":"IF(BJ524+BL524>0,1,0)","v":1},{"$f":"IF(SUM(BI524:BL524)>0,1,0)","v":1},"*"]
[null,516,null,null,null,null,null,null,null,null,null,null,null,null,null,null,null,null,null,null,null,null,null,null,null,null,null,null,null,null,null,null,null,null,null,null,null,null,null,null,null,null,null,null,null,null,null,null,null,null,null,null,null,null,"未","未","未","未",0,0,0,0,{"$f":"IFERROR(IF(OR(BC526=\"未\",BD526=\"未\"),1,IF(MATCH(BC526&\"/\"&BD526,③読み替え表_省エネ住宅!$G$48:$G$57,0),1,0)),0)","v":1},{"$f":"IFERROR(IF(OR(BE526=\"未\",BF526=\"未\"),1,IF(MATCH(BE526&\"/\"&BF526,③読み替え表_省エネ住宅!$G$48:$G$57,0),1,0)),0)","v":1},1,1,1,"*"]
[null,519,null,null,null,null,null,null,null,null,null,null,null,null,null,null,null,null,null,null,null,null,null,null,null,null,null,null,null,null,null,null,null,null,null,null,null,null,null,null,null,null,null,null,null,null,null,null,null,null,null,null,null,null,"未","未","未","未",0,0,0,0,{"$f":"IFERROR(IF(OR(BC529=\"未\",BD529=\"未\"),1,IF(MATCH(BC529&\"/\"&BD529,③読み替え表_省エネ住宅!$G$48:$G$57,0),1,0)),0)","v":1},{"$f":"IFERROR(IF(OR(BE529=\"未\",BF529=\"未\"),1,IF(MATCH(BE529&\"/\"&BF529,③読み替え表_省エネ住宅!$G$48:$G$57,0),1,0)),0)","v":1},1,1,1,"*"]
[null,523,null,null,null,null,null,null,null,null,null,null,null,null,null,null,null,null,null,null,null,null,null,null,null,null,null,null,null,null,null,null,null,null,null,null,null,null,null,null,null,null,null,null,null,null,null,null,null,null,null,null,null,null,"未","未","未","未",0,0,0,0,{"$f":"IFERROR(IF(OR(BC533=\"未\",BD533=\"未\"),1,IF(MATCH(BC533&\"/\"&BD533,③読み替え表_省エネ住宅!$G$48:$G$57,0),1,0)),0)","v":1},{"$f":"IFERROR(IF(OR(BE533=\"未\",BF533=\"未\"),1,IF(MATCH(BE533&\"/\"&BF533,③読み替え表_省エネ住宅!$G$48:$G$57,0),1,0)),0)","v":1},1,1,1,"*"]
[null,526,null,null,null,null,null,null,null,null,null,null,null,null,null,null,null,null,null,null,null,null,null,null,null,null,null,null,null,null,null,null,null,null,null,null,null,null,null,null,null,null,null,null,null,null,null,null,null,null,null,null,null,null,"未","未","未","未",0,0,0,0,{"$f":"IFERROR(IF(OR(BC536=\"未\",BD536=\"未\"),1,IF(MATCH(BC536&\"/\"&BD536,③読み替え表_省エネ住宅!$G$48:$G$57,0),1,0)),0)","v":1},{"$f":"IFERROR(IF(OR(BE536=\"未\",BF536=\"未\"),1,IF(MATCH(BE536&\"/\"&BF536,③読み替え表_省エネ住宅!$G$48:$G$57,0),1,0)),0)","v":1},1,1,1,"*"]
[null,527,null,null,null,null,null,null,null,null,null,null,null,null,null,null,null,null,null,null,null,null,null,null,null,null,null,null,null,null,null,null,null,null,null,null,null,null,null,null,null,null,null,null,null,null,null,null,null,null,null,null,null,null,"未","未","未","未",0,0,0,0,{"$f":"IFERROR(IF(OR(BC537=\"未\",BD537=\"未\"),1,IF(MATCH(BC537&\"/\"&BD537,③読み替え表_省エネ住宅!$G$48:$G$57,0),1,0)),0)","v":1},{"$f":"IFERROR(IF(OR(BE537=\"未\",BF537=\"未\"),1,IF(MATCH(BE537&\"/\"&BF537,③読み替え表_省エネ住宅!$G$48:$G$57,0),1,0)),0)","v":1},1,1,1,"*"]
[null,529,null,null,null,null,null,null,null,null,null,null,null,null,null,null,null,null,null,null,null,null,null,null,null,null,null,null,null,null,null,null,null,null,null,null,null,null,null,null,null,null,null,null,null,null,null,null,null,null,null,null,null,null,"未","未","未","未",0,0,0,0,{"$f":"IFERROR(IF(OR(BC539=\"未\",BD539=\"未\"),1,IF(MATCH(BC539&\"/\"&BD539,③読み替え表_省エネ住宅!$G$48:$G$57,0),1,0)),0)","v":1},{"$f":"IFERROR(IF(OR(BE539=\"未\",BF539=\"未\"),1,IF(MATCH(BE539&\"/\"&BF539,③読み替え表_省エネ住宅!$G$48:$G$57,0),1,0)),0)","v":1},1,1,1,"*"]
[null,532,null,null,null,null,null,null,null,null,null,null,null,null,null,null,null,null,null,null,null,null,null,null,null,null,null,null,null,null,null,null,null,null,null,null,null,null,null,null,null,null,null,null,null,null,null,null,null,null,null,null,null,null,"未","未","未","未",0,0,0,0,{"$f":"IFERROR(IF(OR(BC542=\"未\",BD542=\"未\"),1,IF(MATCH(BC542&\"/\"&BD542,③読み替え表_省エネ住宅!$G$48:$G$57,0),1,0)),0)","v":1},{"$f":"IFERROR(IF(OR(BE542=\"未\",BF542=\"未\"),1,IF(MATCH(BE542&\"/\"&BF542,③読み替え表_省エネ住宅!$G$48:$G$57,0),1,0)),0)","v":1},1,1,1,"*"]
[null,536,null,null,null,null,null,null,null,null,null,null,null,null,null,null,null,null,null,null,null,null,null,null,null,null,null,null,null,null,null,null,null,null,null,null,null,null,null,null,null,null,null,null,null,null,null,null,null,null,null,null,null,null,"未","未","未","未",0,0,0,0,{"$f":"IFERROR(IF(OR(BC546=\"未\",BD546=\"未\"),1,IF(MATCH(BC546&\"/\"&BD546,③読み替え表_省エネ住宅!$G$48:$G$57,0),1,0)),0)","v":1},{"$f":"IFERROR(IF(OR(BE546=\"未\",BF546=\"未\"),1,IF(MATCH(BE546&\"/\"&BF546,③読み替え表_省エネ住宅!$G$48:$G$57,0),1,0)),0)","v":1},1,1,1,"*"]
[null,538,null,null,null,null,null,null,null,null,null,null,null,null,null,null,null,null,null,null,null,null,null,null,null,null,null,null,null,null,null,null,null,null,null,null,null,null,null,null,null,null,null,null,null,null,null,null,null,null,null,null,null,null,"未","未","未","未",0,0,0,0,{"$f":"IFERROR(IF(OR(BC548=\"未\",BD548=\"未\"),1,IF(MATCH(BC548&\"/\"&BD548,③読み替え表_省エネ住宅!$G$48:$G$57,0),1,0)),0)","v":1},{"$f":"IFERROR(IF(OR(BE548=\"未\",BF548=\"未\"),1,IF(MATCH(BE548&\"/\"&BF548,③読み替え表_省エネ住宅!$G$48:$G$57,0),1,0)),0)","v":1},1,1,1,"*"]
[null,541,null,null,null,null,null,null,null,null,null,null,null,null,null,null,null,null,null,null,null,null,null,null,null,null,null,null,null,null,null,null,null,null,null,null,null,null,null,null,null,null,null,null,null,null,null,null,null,null,null,null,null,null,"未","未","未","未",0,0,0,0,{"$f":"IFERROR(IF(OR(BC551=\"未\",BD551=\"未\"),1,IF(MATCH(BC551&\"/\"&BD551,③読み替え表_省エネ住宅!$G$48:$G$57,0),1,0)),0)","v":1},{"$f":"IFERROR(IF(OR(BE551=\"未\",BF551=\"未\"),1,IF(MATCH(BE551&\"/\"&BF551,③読み替え表_省エネ住宅!$G$48:$G$57,0),1,0)),0)","v":1},1,1,1,"*"]
[null,545,null,null,null,null,null,null,null,null,null,null,null,null,null,null,null,null,null,null,null,null,null,null,null,null,null,null,null,null,null,null,null,null,null,null,null,null,null,null,null,null,null,null,null,null,null,null,null,null,null,null,null,null,"未","未","未","未",0,0,0,0,{"$f":"IFERROR(IF(OR(BC555=\"未\",BD555=\"未\"),1,IF(MATCH(BC555&\"/\"&BD555,③読み替え表_省エネ住宅!$G$48:$G$57,0),1,0)),0)","v":1},{"$f":"IFERROR(IF(OR(BE555=\"未\",BF555=\"未\"),1,IF(MATCH(BE555&\"/\"&BF555,③読み替え表_省エネ住宅!$G$48:$G$57,0),1,0)),0)","v":1},1,1,1,"*"]
[null,548,null,null,null,null,null,null,null,null,null,null,null,null,null,null,null,null,null,null,null,null,null,null,null,null,null,null,null,null,null,null,null,null,null,null,null,null,null,null,null,null,null,null,null,null,null,null,null,null,null,null,null,null,"未","未","未","未",0,0,0,0,{"$f":"IFERROR(IF(OR(BC558=\"未\",BD558=\"未\"),1,IF(MATCH(BC558&\"/\"&BD558,③読み替え表_省エネ住宅!$G$48:$G$57,0),1,0)),0)","v":1},{"$f":"IFERROR(IF(OR(BE558=\"未\",BF558=\"未\"),1,IF(MATCH(BE558&\"/\"&BF558,③読み替え表_省エネ住宅!$G$48:$G$57,0),1,0)),0)","v":1},1,1,1,"*"]
[null,549,null,null,null,null,null,null,null,null,null,null,null,null,null,null,null,null,null,null,null,null,null,null,null,null,null,null,null,null,null,null,null,null,null,null,null,null,null,null,null,null,null,null,null,null,null,null,null,null,null,null,null,null,"未","未","未","未",0,0,0,0,{"$f":"IFERROR(IF(OR(BC559=\"未\",BD559=\"未\"),1,IF(MATCH(BC559&\"/\"&BD559,③読み替え表_省エネ住宅!$G$48:$G$57,0),1,0)),0)","v":1},{"$f":"IFERROR(IF(OR(BE559=\"未\",BF559=\"未\"),1,IF(MATCH(BE559&\"/\"&BF559,③読み替え表_省エネ住宅!$G$48:$G$57,0),1,0)),0)","v":1},1,1,1,"*"]
[null,551,null,null,null,null,null,null,null,null,null,null,null,null,null,null,null,null,null,null,null,null,null,null,null,null,null,null,null,null,null,null,null,null,null,null,null,null,null,null,null,null,null,null,null,null,null,null,null,null,null,null,null,null,"未","未","未","未",0,0,0,0,{"$f":"IFERROR(IF(OR(BC561=\"未\",BD561=\"未\"),1,IF(MATCH(BC561&\"/\"&BD561,③読み替え表_省エネ住宅!$G$48:$G$57,0),1,0)),0)","v":1},{"$f":"IFERROR(IF(OR(BE561=\"未\",BF561=\"未\"),1,IF(MATCH(BE561&\"/\"&BF561,③読み替え表_省エネ住宅!$G$48:$G$57,0),1,0)),0)","v":1},1,1,1,"*"]
[null,554,null,null,null,null,null,null,null,null,null,null,null,null,null,null,null,null,null,null,null,null,null,null,null,null,null,null,null,null,null,null,null,null,null,null,null,null,null,null,null,null,null,null,null,null,null,null,null,null,null,null,null,null,"未","未","未","未",0,0,0,0,{"$f":"IFERROR(IF(OR(BC564=\"未\",BD564=\"未\"),1,IF(MATCH(BC564&\"/\"&BD564,③読み替え表_省エネ住宅!$G$48:$G$57,0),1,0)),0)","v":1},{"$f":"IFERROR(IF(OR(BE564=\"未\",BF564=\"未\"),1,IF(MATCH(BE564&\"/\"&BF564,③読み替え表_省エネ住宅!$G$48:$G$57,0),1,0)),0)","v":1},1,1,1,"*"]
[null,558,null,null,null,null,null,null,null,null,null,null,null,null,null,null,null,null,null,null,null,null,null,null,null,null,null,null,null,null,null,null,null,null,null,null,null,null,null,null,null,null,null,null,null,null,null,null,null,null,null,null,null,null,"未","未","未","未",0,0,0,0,{"$f":"IFERROR(IF(OR(BC568=\"未\",BD568=\"未\"),1,IF(MATCH(BC568&\"/\"&BD568,③読み替え表_省エネ住宅!$G$48:$G$57,0),1,0)),0)","v":1},{"$f":"IFERROR(IF(OR(BE568=\"未\",BF568=\"未\"),1,IF(MATCH(BE568&\"/\"&BF568,③読み替え表_省エネ住宅!$G$48:$G$57,0),1,0)),0)","v":1},1,1,1,"*"]
[null,561,null,null,null,null,null,null,null,null,null,null,null,null,null,null,null,null,null,null,null,null,null,null,null,null,null,null,null,null,null,null,null,null,null,null,null,null,null,null,null,null,null,null,null,null,null,null,null,null,null,null,null,null,"未","未","未","未",0,0,0,0,{"$f":"IFERROR(IF(OR(BC571=\"未\",BD571=\"未\"),1,IF(MATCH(BC571&\"/\"&BD571,③読み替え表_省エネ住宅!$G$48:$G$57,0),1,0)),0)","v":1},{"$f":"IFERROR(IF(OR(BE571=\"未\",BF571=\"未\"),1,IF(MATCH(BE571&\"/\"&BF571,③読み替え表_省エネ住宅!$G$48:$G$57,0),1,0)),0)","v":1},1,1,1,"*"]
[null,564,null,null,null,null,null,null,null,null,null,null,null,null,null,null,null,null,null,null,null,null,null,null,null,null,null,null,null,null,null,null,null,null,null,null,null,null,null,null,null,null,null,null,null,null,null,null,null,null,null,null,null,null,"未","未","未","未",0,0,0,0,{"$f":"IFERROR(IF(OR(BC574=\"未\",BD574=\"未\"),1,IF(MATCH(BC574&\"/\"&BD574,③読み替え表_省エネ住宅!$G$48:$G$57,0),1,0)),0)","v":1},{"$f":"IFERROR(IF(OR(BE574=\"未\",BF574=\"未\"),1,IF(MATCH(BE574&\"/\"&BF574,③読み替え表_省エネ住宅!$G$48:$G$57,0),1,0)),0)","v":1},1,1,1,"*"]
[null,567,null,null,null,null,null,null,null,null,null,null,null,null,null,null,null,null,null,null,null,null,null,null,null,null,null,null,null,null,null,null,null,null,null,null,null,null,null,null,null,null,null,null,null,null,null,null,null,null,null,null,null,null,"未","未","未","未",0,0,0,0,{"$f":"IFERROR(IF(OR(BC577=\"未\",BD577=\"未\"),1,IF(MATCH(BC577&\"/\"&BD577,③読み替え表_省エネ住宅!$G$48:$G$57,0),1,0)),0)","v":1},{"$f":"IFERROR(IF(OR(BE577=\"未\",BF577=\"未\"),1,IF(MATCH(BE577&\"/\"&BF577,③読み替え表_省エネ住宅!$G$48:$G$57,0),1,0)),0)","v":1},1,1,1,"*"]
[null,570,null,null,null,null,null,null,null,null,null,null,null,null,null,null,null,null,null,null,null,null,null,null,null,null,null,null,null,null,null,null,null,null,null,null,null,null,null,null,null,null,null,null,null,null,null,null,null,null,null,null,null,null,"未","未","未","未",0,0,0,0,{"$f":"IFERROR(IF(OR(BC580=\"未\",BD580=\"未\"),1,IF(MATCH(BC580&\"/\"&BD580,③読み替え表_省エネ住宅!$G$48:$G$57,0),1,0)),0)","v":1},{"$f":"IFERROR(IF(OR(BE580=\"未\",BF580=\"未\"),1,IF(MATCH(BE580&\"/\"&BF580,③読み替え表_省エネ住宅!$G$48:$G$57,0),1,0)),0)","v":1},1,1,1,"*"]
[null,571,null,null,null,null,null,null,null,null,null,null,null,null,null,null,null,null,null,null,null,null,null,null,null,null,null,null,null,null,null,null,null,null,null,null,null,null,null,null,null,null,null,null,null,null,null,null,null,null,null,null,null,null,"未","未","未","未",0,0,0,0,{"$f":"IFERROR(IF(OR(BC581=\"未\",BD581=\"未\"),1,IF(MATCH(BC581&\"/\"&BD581,③読み替え表_省エネ住宅!$G$48:$G$57,0),1,0)),0)","v":1},{"$f":"IFERROR(IF(OR(BE581=\"未\",BF581=\"未\"),1,IF(MATCH(BE581&\"/\"&BF581,③読み替え表_省エネ住宅!$G$48:$G$57,0),1,0)),0)","v":1},1,1,1,"*"]
[null,575,null,null,null,null,null,null,null,null,null,null,null,null,null,null,null,null,null,null,null,null,null,null,null,null,null,null,null,null,null,null,null,null,null,null,null,null,null,null,null,null,null,null,null,null,null,null,null,null,null,null,null,null,"未","未","未","未",0,0,0,0,{"$f":"IFERROR(IF(OR(BC585=\"未\",BD585=\"未\"),1,IF(MATCH(BC585&\"/\"&BD585,③読み替え表_省エネ住宅!$G$48:$G$57,0),1,0)),0)","v":1},{"$f":"IFERROR(IF(OR(BE585=\"未\",BF585=\"未\"),1,IF(MATCH(BE585&\"/\"&BF585,③読み替え表_省エネ住宅!$G$48:$G$57,0),1,0)),0)","v":1},1,1,1,"*"]
[null,576,null,null,null,null,null,null,null,null,null,null,null,null,null,null,null,null,null,null,null,null,null,null,null,null,null,null,null,null,null,null,null,null,null,null,null,null,null,null,null,null,null,null,null,null,null,null,null,null,null,null,null,null,"未","未","未","未",0,0,0,0,{"$f":"IFERROR(IF(OR(BC586=\"未\",BD586=\"未\"),1,IF(MATCH(BC586&\"/\"&BD586,③読み替え表_省エネ住宅!$G$48:$G$57,0),1,0)),0)","v":1},{"$f":"IFERROR(IF(OR(BE586=\"未\",BF586=\"未\"),1,IF(MATCH(BE586&\"/\"&BF586,③読み替え表_省エネ住宅!$G$48:$G$57,0),1,0)),0)","v":1},1,1,1,"*"]
[null,580,null,null,null,null,null,null,null,null,null,null,null,null,null,null,null,null,null,null,null,null,null,null,null,null,null,null,null,null,null,null,null,null,null,null,null,null,null,null,null,null,null,null,null,null,null,null,null,null,null,null,null,null,"未","未","未","未",0,0,0,0,{"$f":"IFERROR(IF(OR(BC590=\"未\",BD590=\"未\"),1,IF(MATCH(BC590&\"/\"&BD590,③読み替え表_省エネ住宅!$G$48:$G$57,0),1,0)),0)","v":1},{"$f":"IFERROR(IF(OR(BE590=\"未\",BF590=\"未\"),1,IF(MATCH(BE590&\"/\"&BF590,③読み替え表_省エネ住宅!$G$48:$G$57,0),1,0)),0)","v":1},1,1,1,"*"]
[null,583,null,null,null,null,null,null,null,null,null,null,null,null,null,null,null,null,null,null,null,null,null,null,null,null,null,null,null,null,null,null,null,null,null,null,null,null,null,null,null,null,null,null,null,null,null,null,null,null,null,null,null,null,"未","未","未","未",0,0,0,0,{"$f":"IFERROR(IF(OR(BC593=\"未\",BD593=\"未\"),1,IF(MATCH(BC593&\"/\"&BD593,③読み替え表_省エネ住宅!$G$48:$G$57,0),1,0)),0)","v":1},{"$f":"IFERROR(IF(OR(BE593=\"未\",BF593=\"未\"),1,IF(MATCH(BE593&\"/\"&BF593,③読み替え表_省エネ住宅!$G$48:$G$57,0),1,0)),0)","v":1},1,1,1,"*"]
[null,586,null,null,null,null,null,null,null,null,null,null,null,null,null,null,null,null,null,null,null,null,null,null,null,null,null,null,null,null,null,null,null,null,null,null,null,null,null,null,null,null,null,null,null,null,null,null,null,null,null,null,null,null,"未","未","未","未",0,0,0,0,{"$f":"IFERROR(IF(OR(BC596=\"未\",BD596=\"未\"),1,IF(MATCH(BC596&\"/\"&BD596,③読み替え表_省エネ住宅!$G$48:$G$57,0),1,0)),0)","v":1},{"$f":"IFERROR(IF(OR(BE596=\"未\",BF596=\"未\"),1,IF(MATCH(BE596&\"/\"&BF596,③読み替え表_省エネ住宅!$G$48:$G$57,0),1,0)),0)","v":1},1,1,1,"*"]
[null,588,null,null,null,null,null,null,null,null,null,null,null,null,null,null,null,null,null,null,null,null,null,null,null,null,null,null,null,null,null,null,null,null,null,null,null,null,null,null,null,null,null,null,null,null,null,null,null,null,null,null,null,null,"未","未","未","未",0,0,0,0,{"$f":"IFERROR(IF(OR(BC598=\"未\",BD598=\"未\"),1,IF(MATCH(BC598&\"/\"&BD598,③読み替え表_省エネ住宅!$G$48:$G$57,0),1,0)),0)","v":1},{"$f":"IFERROR(IF(OR(BE598=\"未\",BF598=\"未\"),1,IF(MATCH(BE598&\"/\"&BF598,③読み替え表_省エネ住宅!$G$48:$G$57,0),1,0)),0)","v":1},1,1,1,"*"]
[null,592,null,null,null,null,null,null,null,null,null,null,null,null,null,null,null,null,null,null,null,null,null,null,null,null,null,null,null,null,null,null,null,null,null,null,null,null,null,null,null,null,null,null,null,null,null,null,null,null,null,null,null,null,"未","未","未","未",0,0,0,0,{"$f":"IFERROR(IF(OR(BC602=\"未\",BD602=\"未\"),1,IF(MATCH(BC602&\"/\"&BD602,③読み替え表_省エネ住宅!$G$48:$G$57,0),1,0)),0)","v":1},{"$f":"IFERROR(IF(OR(BE602=\"未\",BF602=\"未\"),1,IF(MATCH(BE602&\"/\"&BF602,③読み替え表_省エネ住宅!$G$48:$G$57,0),1,0)),0)","v":1},1,1,1,"*"]
[null,593,null,null,null,null,null,null,null,null,null,null,null,null,null,null,null,null,null,null,null,null,null,null,null,null,null,null,null,null,null,null,null,null,null,null,null,null,null,null,null,null,null,null,null,null,null,null,null,null,null,null,null,null,"未","未","未","未",0,0,0,0,{"$f":"IFERROR(IF(OR(BC603=\"未\",BD603=\"未\"),1,IF(MATCH(BC603&\"/\"&BD603,③読み替え表_省エネ住宅!$G$48:$G$57,0),1,0)),0)","v":1},{"$f":"IFERROR(IF(OR(BE603=\"未\",BF603=\"未\"),1,IF(MATCH(BE603&\"/\"&BF603,③読み替え表_省エネ住宅!$G$48:$G$57,0),1,0)),0)","v":1},1,1,1,"*"]
[null,596,null,null,null,null,null,null,null,null,null,null,null,null,null,null,null,null,null,null,null,null,null,null,null,null,null,null,null,null,null,null,null,null,null,null,null,null,null,null,null,null,null,null,null,null,null,null,null,null,null,null,null,null,"未","未","未","未",0,0,0,0,{"$f":"IFERROR(IF(OR(BC606=\"未\",BD606=\"未\"),1,IF(MATCH(BC606&\"/\"&BD606,③読み替え表_省エネ住宅!$G$48:$G$57,0),1,0)),0)","v":1},{"$f":"IFERROR(IF(OR(BE606=\"未\",BF606=\"未\"),1,IF(MATCH(BE606&\"/\"&BF606,③読み替え表_省エネ住宅!$G$48:$G$57,0),1,0)),0)","v":1},1,1,1,"*"]
[null,599,null,null,null,null,null,null,null,null,null,null,null,null,null,null,null,null,null,null,null,null,null,null,null,null,null,null,null,null,null,null,null,null,null,null,null,null,null,null,null,null,null,null,null,null,null,null,null,null,null,null,null,null,"未","未","未","未",0,0,0,0,{"$f":"IFERROR(IF(OR(BC609=\"未\",BD609=\"未\"),1,IF(MATCH(BC609&\"/\"&BD609,③読み替え表_省エネ住宅!$G$48:$G$57,0),1,0)),0)","v":1},{"$f":"IFERROR(IF(OR(BE609=\"未\",BF609=\"未\"),1,IF(MATCH(BE609&\"/\"&BF609,③読み替え表_省エネ住宅!$G$48:$G$57,0),1,0)),0)","v":1},1,1,1,"*"]
[null,602,null,null,null,null,null,null,null,null,null,null,null,null,null,null,null,null,null,null,null,null,null,null,null,null,null,null,null,null,null,null,null,null,null,null,null,null,null,null,null,null,null,null,null,null,null,null,null,null,null,null,null,null,"未","未","未","未",0,0,0,0,{"$f":"IFERROR(IF(OR(BC612=\"未\",BD612=\"未\"),1,IF(MATCH(BC612&\"/\"&BD612,③読み替え表_省エネ住宅!$G$48:$G$57,0),1,0)),0)","v":1},{"$f":"IFERROR(IF(OR(BE612=\"未\",BF612=\"未\"),1,IF(MATCH(BE612&\"/\"&BF612,③読み替え表_省エネ住宅!$G$48:$G$57,0),1,0)),0)","v":1},1,1,1,"*"]
[null,605,null,null,null,null,null,null,null,null,null,null,null,null,null,null,null,null,null,null,null,null,null,null,null,null,null,null,null,null,null,null,null,null,null,null,null,null,null,null,null,null,null,null,null,null,null,null,null,null,null,null,null,null,"未","未","未","未",0,0,0,0,{"$f":"IFERROR(IF(OR(BC615=\"未\",BD615=\"未\"),1,IF(MATCH(BC615&\"/\"&BD615,③読み替え表_省エネ住宅!$G$48:$G$57,0),1,0)),0)","v":1},{"$f":"IFERROR(IF(OR(BE615=\"未\",BF615=\"未\"),1,IF(MATCH(BE615&\"/\"&BF615,③読み替え表_省エネ住宅!$G$48:$G$57,0),1,0)),0)","v":1},1,1,1,"*"]
[null,609,null,null,null,null,null,null,null,null,null,null,null,null,null,null,null,null,null,null,null,null,null,null,null,null,null,null,null,null,null,null,null,null,null,null,null,null,null,null,null,null,null,null,null,null,null,null,null,null,null,null,null,null,"未","未","未","未",0,0,0,0,{"$f":"IFERROR(IF(OR(BC619=\"未\",BD619=\"未\"),1,IF(MATCH(BC619&\"/\"&BD619,③読み替え表_省エネ住宅!$G$48:$G$57,0),1,0)),0)","v":1},{"$f":"IFERROR(IF(OR(BE619=\"未\",BF619=\"未\"),1,IF(MATCH(BE619&\"/\"&BF619,③読み替え表_省エネ住宅!$G$48:$G$57,0),1,0)),0)","v":1},1,1,1,"*"]
[null,610,null,null,null,null,null,null,null,null,null,null,null,null,null,null,null,null,null,null,null,null,null,null,null,null,null,null,null,null,null,null,null,null,null,null,null,null,null,null,null,null,null,null,null,null,null,null,null,null,null,null,null,null,"未","未","未","未",0,0,0,0,{"$f":"IFERROR(IF(OR(BC620=\"未\",BD620=\"未\"),1,IF(MATCH(BC620&\"/\"&BD620,③読み替え表_省エネ住宅!$G$48:$G$57,0),1,0)),0)","v":1},{"$f":"IFERROR(IF(OR(BE620=\"未\",BF620=\"未\"),1,IF(MATCH(BE620&\"/\"&BF620,③読み替え表_省エネ住宅!$G$48:$G$57,0),1,0)),0)","v":1},1,1,1,"*"]
[null,614,null,null,null,null,null,null,null,null,null,null,null,null,null,null,null,null,null,null,null,null,null,null,null,null,null,null,null,null,null,null,null,null,null,null,null,null,null,null,null,null,null,null,null,null,null,null,null,null,null,null,null,null,"未","未","未","未",0,0,0,0,{"$f":"IFERROR(IF(OR(BC624=\"未\",BD624=\"未\"),1,IF(MATCH(BC624&\"/\"&BD624,③読み替え表_省エネ住宅!$G$48:$G$57,0),1,0)),0)","v":1},{"$f":"IFERROR(IF(OR(BE624=\"未\",BF624=\"未\"),1,IF(MATCH(BE624&\"/\"&BF624,③読み替え表_省エネ住宅!$G$48:$G$57,0),1,0)),0)","v":1},1,1,1,"*"]
[null,615,null,null,null,null,null,null,null,null,null,null,null,null,null,null,null,null,null,null,null,null,null,null,null,null,null,null,null,null,null,null,null,null,null,null,null,null,null,null,null,null,null,null,null,null,null,null,null,null,null,null,null,null,"未","未","未","未",0,0,0,0,{"$f":"IFERROR(IF(OR(BC625=\"未\",BD625=\"未\"),1,IF(MATCH(BC625&\"/\"&BD625,③読み替え表_省エネ住宅!$G$48:$G$57,0),1,0)),0)","v":1},{"$f":"IFERROR(IF(OR(BE625=\"未\",BF625=\"未\"),1,IF(MATCH(BE625&\"/\"&BF625,③読み替え表_省エネ住宅!$G$48:$G$57,0),1,0)),0)","v":1},1,1,1,"*"]
[null,618,null,null,null,null,null,null,null,null,null,null,null,null,null,null,null,null,null,null,null,null,null,null,null,null,null,null,null,null,null,null,null,null,null,null,null,null,null,null,null,null,null,null,null,null,null,null,null,null,null,null,null,null,"未","未","未","未",0,0,0,0,{"$f":"IFERROR(IF(OR(BC628=\"未\",BD628=\"未\"),1,IF(MATCH(BC628&\"/\"&BD628,③読み替え表_省エネ住宅!$G$48:$G$57,0),1,0)),0)","v":1},{"$f":"IFERROR(IF(OR(BE628=\"未\",BF628=\"未\"),1,IF(MATCH(BE628&\"/\"&BF628,③読み替え表_省エネ住宅!$G$48:$G$57,0),1,0)),0)","v":1},1,1,1,"*"]
[null,621,null,null,null,null,null,null,null,null,null,null,null,null,null,null,null,null,null,null,null,null,null,null,null,null,null,null,null,null,null,null,null,null,null,null,null,null,null,null,null,null,null,null,null,null,null,null,null,null,null,null,null,null,"未","未","未","未",0,0,0,0,{"$f":"IFERROR(IF(OR(BC631=\"未\",BD631=\"未\"),1,IF(MATCH(BC631&\"/\"&BD631,③読み替え表_省エネ住宅!$G$48:$G$57,0),1,0)),0)","v":1},{"$f":"IFERROR(IF(OR(BE631=\"未\",BF631=\"未\"),1,IF(MATCH(BE631&\"/\"&BF631,③読み替え表_省エネ住宅!$G$48:$G$57,0),1,0)),0)","v":1},1,1,1,"*"]
[null,625,null,null,null,null,null,null,null,null,null,null,null,null,null,null,null,null,null,null,null,null,null,null,null,null,null,null,null,null,null,null,null,null,null,null,null,null,null,null,null,null,null,null,null,null,null,null,null,null,null,null,null,null,"未","未","未","未",0,0,0,0,{"$f":"IFERROR(IF(OR(BC635=\"未\",BD635=\"未\"),1,IF(MATCH(BC635&\"/\"&BD635,③読み替え表_省エネ住宅!$G$48:$G$57,0),1,0)),0)","v":1},{"$f":"IFERROR(IF(OR(BE635=\"未\",BF635=\"未\"),1,IF(MATCH(BE635&\"/\"&BF635,③読み替え表_省エネ住宅!$G$48:$G$57,0),1,0)),0)","v":1},1,1,1,"*"]
[null,627,null,null,null,null,null,null,null,null,null,null,null,null,null,null,null,null,null,null,null,null,null,null,null,null,null,null,null,null,null,null,null,null,null,null,null,null,null,null,null,null,null,null,null,null,null,null,null,null,null,null,null,null,"未","未","未","未",0,0,0,0,{"$f":"IFERROR(IF(OR(BC637=\"未\",BD637=\"未\"),1,IF(MATCH(BC637&\"/\"&BD637,③読み替え表_省エネ住宅!$G$48:$G$57,0),1,0)),0)","v":1},{"$f":"IFERROR(IF(OR(BE637=\"未\",BF637=\"未\"),1,IF(MATCH(BE637&\"/\"&BF637,③読み替え表_省エネ住宅!$G$48:$G$57,0),1,0)),0)","v":1},1,1,1,"*"]
[null,631,null,null,null,null,null,null,null,null,null,null,null,null,null,null,null,null,null,null,null,null,null,null,null,null,null,null,null,null,null,null,null,null,null,null,null,null,null,null,null,null,null,null,null,null,null,null,null,null,null,null,null,null,"未","未","未","未",0,0,0,0,{"$f":"IFERROR(IF(OR(BC641=\"未\",BD641=\"未\"),1,IF(MATCH(BC641&\"/\"&BD641,③読み替え表_省エネ住宅!$G$48:$G$57,0),1,0)),0)","v":1},{"$f":"IFERROR(IF(OR(BE641=\"未\",BF641=\"未\"),1,IF(MATCH(BE641&\"/\"&BF641,③読み替え表_省エネ住宅!$G$48:$G$57,0),1,0)),0)","v":1},1,1,1,"*"]
[null,634,null,null,null,null,null,null,null,null,null,null,null,null,null,null,null,null,null,null,null,null,null,null,null,null,null,null,null,null,null,null,null,null,null,null,null,null,null,null,null,null,null,null,null,null,null,null,null,null,null,null,null,null,"未","未","未","未",0,0,0,0,{"$f":"IFERROR(IF(OR(BC644=\"未\",BD644=\"未\"),1,IF(MATCH(BC644&\"/\"&BD644,③読み替え表_省エネ住宅!$G$48:$G$57,0),1,0)),0)","v":1},{"$f":"IFERROR(IF(OR(BE644=\"未\",BF644=\"未\"),1,IF(MATCH(BE644&\"/\"&BF644,③読み替え表_省エネ住宅!$G$48:$G$57,0),1,0)),0)","v":1},1,1,1,"*"]
[null,636,null,null,null,null,null,null,null,null,null,null,null,null,null,null,null,null,null,null,null,null,null,null,null,null,null,null,null,null,null,null,null,null,null,null,null,null,null,null,null,null,null,null,null,null,null,null,null,null,null,null,null,null,"未","未","未","未",0,0,0,0,{"$f":"IFERROR(IF(OR(BC646=\"未\",BD646=\"未\"),1,IF(MATCH(BC646&\"/\"&BD646,③読み替え表_省エネ住宅!$G$48:$G$57,0),1,0)),0)","v":1},{"$f":"IFERROR(IF(OR(BE646=\"未\",BF646=\"未\"),1,IF(MATCH(BE646&\"/\"&BF646,③読み替え表_省エネ住宅!$G$48:$G$57,0),1,0)),0)","v":1},1,1,1,"*"]
[null,637,null,null,null,null,null,null,null,null,null,null,null,null,null,null,null,null,null,null,null,null,null,null,null,null,null,null,null,null,null,null,null,null,null,null,null,null,null,null,null,null,null,null,null,null,null,null,null,null,null,null,null,null,"未","未","未","未",0,0,0,0,{"$f":"IFERROR(IF(OR(BC647=\"未\",BD647=\"未\"),1,IF(MATCH(BC647&\"/\"&BD647,③読み替え表_省エネ住宅!$G$48:$G$57,0),1,0)),0)","v":1},{"$f":"IFERROR(IF(OR(BE647=\"未\",BF647=\"未\"),1,IF(MATCH(BE647&\"/\"&BF647,③読み替え表_省エネ住宅!$G$48:$G$57,0),1,0)),0)","v":1},1,1,1,"*"]
[null,640,null,null,null,null,null,null,null,null,null,null,null,null,null,null,null,null,null,null,null,null,null,null,null,null,null,null,null,null,null,null,null,null,null,null,null,null,null,null,null,null,null,null,null,null,null,null,null,null,null,null,null,null,"未","未","未","未",0,0,0,0,{"$f":"IFERROR(IF(OR(BC650=\"未\",BD650=\"未\"),1,IF(MATCH(BC650&\"/\"&BD650,③読み替え表_省エネ住宅!$G$48:$G$57,0),1,0)),0)","v":1},{"$f":"IFERROR(IF(OR(BE650=\"未\",BF650=\"未\"),1,IF(MATCH(BE650&\"/\"&BF650,③読み替え表_省エネ住宅!$G$48:$G$57,0),1,0)),0)","v":1},1,1,1,"*"]
[null,644,null,null,null,null,null,null,null,null,null,null,null,null,null,null,null,null,null,null,null,null,null,null,null,null,null,null,null,null,null,null,null,null,null,null,null,null,null,null,null,null,null,null,null,null,null,null,null,null,null,null,null,null,"未","未","未","未",0,0,0,0,{"$f":"IFERROR(IF(OR(BC654=\"未\",BD654=\"未\"),1,IF(MATCH(BC654&\"/\"&BD654,③読み替え表_省エネ住宅!$G$48:$G$57,0),1,0)),0)","v":1},{"$f":"IFERROR(IF(OR(BE654=\"未\",BF654=\"未\"),1,IF(MATCH(BE654&\"/\"&BF654,③読み替え表_省エネ住宅!$G$48:$G$57,0),1,0)),0)","v":1},1,1,1,"*"]
[null,647,null,null,null,null,null,null,null,null,null,null,null,null,null,null,null,null,null,null,null,null,null,null,null,null,null,null,null,null,null,null,null,null,null,null,null,null,null,null,null,null,null,null,null,null,null,null,null,null,null,null,null,null,"未","未","未","未",0,0,0,0,{"$f":"IFERROR(IF(OR(BC657=\"未\",BD657=\"未\"),1,IF(MATCH(BC657&\"/\"&BD657,③読み替え表_省エネ住宅!$G$48:$G$57,0),1,0)),0)","v":1},{"$f":"IFERROR(IF(OR(BE657=\"未\",BF657=\"未\"),1,IF(MATCH(BE657&\"/\"&BF657,③読み替え表_省エネ住宅!$G$48:$G$57,0),1,0)),0)","v":1},1,1,1,"*"]
[null,649,null,null,null,null,null,null,null,null,null,null,null,null,null,null,null,null,null,null,null,null,null,null,null,null,null,null,null,null,null,null,null,null,null,null,null,null,null,null,null,null,null,null,null,null,null,null,null,null,null,null,null,null,"未","未","未","未",0,0,0,0,{"$f":"IFERROR(IF(OR(BC659=\"未\",BD659=\"未\"),1,IF(MATCH(BC659&\"/\"&BD659,③読み替え表_省エネ住宅!$G$48:$G$57,0),1,0)),0)","v":1},{"$f":"IFERROR(IF(OR(BE659=\"未\",BF659=\"未\"),1,IF(MATCH(BE659&\"/\"&BF659,③読み替え表_省エネ住宅!$G$48:$G$57,0),1,0)),0)","v":1},1,1,1,"*"]
[null,653,null,null,null,null,null,null,null,null,null,null,null,null,null,null,null,null,null,null,null,null,null,null,null,null,null,null,null,null,null,null,null,null,null,null,null,null,null,null,null,null,null,null,null,null,null,null,null,null,null,null,null,null,"未","未","未","未",0,0,0,0,{"$f":"IFERROR(IF(OR(BC663=\"未\",BD663=\"未\"),1,IF(MATCH(BC663&\"/\"&BD663,③読み替え表_省エネ住宅!$G$48:$G$57,0),1,0)),0)","v":1},{"$f":"IFERROR(IF(OR(BE663=\"未\",BF663=\"未\"),1,IF(MATCH(BE663&\"/\"&BF663,③読み替え表_省エネ住宅!$G$48:$G$57,0),1,0)),0)","v":1},1,1,1,"*"]
[null,656,null,null,null,null,null,null,null,null,null,null,null,null,null,null,null,null,null,null,null,null,null,null,null,null,null,null,null,null,null,null,null,null,null,null,null,null,null,null,null,null,null,null,null,null,null,null,null,null,null,null,null,null,"未","未","未","未",0,0,0,0,{"$f":"IFERROR(IF(OR(BC666=\"未\",BD666=\"未\"),1,IF(MATCH(BC666&\"/\"&BD666,③読み替え表_省エネ住宅!$G$48:$G$57,0),1,0)),0)","v":1},{"$f":"IFERROR(IF(OR(BE666=\"未\",BF666=\"未\"),1,IF(MATCH(BE666&\"/\"&BF666,③読み替え表_省エネ住宅!$G$48:$G$57,0),1,0)),0)","v":1},1,1,1,"*"]
[null,659,null,null,null,null,null,null,null,null,null,null,null,null,null,null,null,null,null,null,null,null,null,null,null,null,null,null,null,null,null,null,null,null,null,null,null,null,null,null,null,null,null,null,null,null,null,null,null,null,null,null,null,null,"未","未","未","未",0,0,0,0,{"$f":"IFERROR(IF(OR(BC669=\"未\",BD669=\"未\"),1,IF(MATCH(BC669&\"/\"&BD669,③読み替え表_省エネ住宅!$G$48:$G$57,0),1,0)),0)","v":1},{"$f":"IFERROR(IF(OR(BE669=\"未\",BF669=\"未\"),1,IF(MATCH(BE669&\"/\"&BF669,③読み替え表_省エネ住宅!$G$48:$G$57,0),1,0)),0)","v":1},1,1,1,"*"]
[null,660,null,null,null,null,null,null,null,null,null,null,null,null,null,null,null,null,null,null,null,null,null,null,null,null,null,null,null,null,null,null,null,null,null,null,null,null,null,null,null,null,null,null,null,null,null,null,null,null,null,null,null,null,"未","未","未","未",0,0,0,0,{"$f":"IFERROR(IF(OR(BC670=\"未\",BD670=\"未\"),1,IF(MATCH(BC670&\"/\"&BD670,③読み替え表_省エネ住宅!$G$48:$G$57,0),1,0)),0)","v":1},{"$f":"IFERROR(IF(OR(BE670=\"未\",BF670=\"未\"),1,IF(MATCH(BE670&\"/\"&BF670,③読み替え表_省エネ住宅!$G$48:$G$57,0),1,0)),0)","v":1},1,1,1,"*"]
[null,662,null,null,null,null,null,null,null,null,null,null,null,null,null,null,null,null,null,null,null,null,null,null,null,null,null,null,null,null,null,null,null,null,null,null,null,null,null,null,null,null,null,null,null,null,null,null,null,null,null,null,null,null,"未","未","未","未",0,0,0,0,{"$f":"IFERROR(IF(OR(BC672=\"未\",BD672=\"未\"),1,IF(MATCH(BC672&\"/\"&BD672,③読み替え表_省エネ住宅!$G$48:$G$57,0),1,0)),0)","v":1},{"$f":"IFERROR(IF(OR(BE672=\"未\",BF672=\"未\"),1,IF(MATCH(BE672&\"/\"&BF672,③読み替え表_省エネ住宅!$G$48:$G$57,0),1,0)),0)","v":1},1,1,1,"*"]
[null,666,null,null,null,null,null,null,null,null,null,null,null,null,null,null,null,null,null,null,null,null,null,null,null,null,null,null,null,null,null,null,null,null,null,null,null,null,null,null,null,null,null,null,null,null,null,null,null,null,null,null,null,null,"未","未","未","未",0,0,0,0,{"$f":"IFERROR(IF(OR(BC676=\"未\",BD676=\"未\"),1,IF(MATCH(BC676&\"/\"&BD676,③読み替え表_省エネ住宅!$G$48:$G$57,0),1,0)),0)","v":1},{"$f":"IFERROR(IF(OR(BE676=\"未\",BF676=\"未\"),1,IF(MATCH(BE676&\"/\"&BF676,③読み替え表_省エネ住宅!$G$48:$G$57,0),1,0)),0)","v":1},1,1,1,"*"]
[null,669,null,null,null,null,null,null,null,null,null,null,null,null,null,null,null,null,null,null,null,null,null,null,null,null,null,null,null,null,null,null,null,null,null,null,null,null,null,null,null,null,null,null,null,null,null,null,null,null,null,null,null,null,"未","未","未","未",0,0,0,0,{"$f":"IFERROR(IF(OR(BC679=\"未\",BD679=\"未\"),1,IF(MATCH(BC679&\"/\"&BD679,③読み替え表_省エネ住宅!$G$48:$G$57,0),1,0)),0)","v":1},{"$f":"IFERROR(IF(OR(BE679=\"未\",BF679=\"未\"),1,IF(MATCH(BE679&\"/\"&BF679,③読み替え表_省エネ住宅!$G$48:$G$57,0),1,0)),0)","v":1},1,1,1,"*"]
[null,671,null,null,null,null,null,null,null,null,null,null,null,null,null,null,null,null,null,null,null,null,null,null,null,null,null,null,null,null,null,null,null,null,null,null,null,null,null,null,null,null,null,null,null,null,null,null,null,null,null,null,null,null,"未","未","未","未",0,0,0,0,{"$f":"IFERROR(IF(OR(BC681=\"未\",BD681=\"未\"),1,IF(MATCH(BC681&\"/\"&BD681,③読み替え表_省エネ住宅!$G$48:$G$57,0),1,0)),0)","v":1},{"$f":"IFERROR(IF(OR(BE681=\"未\",BF681=\"未\"),1,IF(MATCH(BE681&\"/\"&BF681,③読み替え表_省エネ住宅!$G$48:$G$57,0),1,0)),0)","v":1},1,1,1,"*"]
[null,675,null,null,null,null,null,null,null,null,null,null,null,null,null,null,null,null,null,null,null,null,null,null,null,null,null,null,null,null,null,null,null,null,null,null,null,null,null,null,null,null,null,null,null,null,null,null,null,null,null,null,null,null,"未","未","未","未",0,0,0,0,{"$f":"IFERROR(IF(OR(BC685=\"未\",BD685=\"未\"),1,IF(MATCH(BC685&\"/\"&BD685,③読み替え表_省エネ住宅!$G$48:$G$57,0),1,0)),0)","v":1},{"$f":"IFERROR(IF(OR(BE685=\"未\",BF685=\"未\"),1,IF(MATCH(BE685&\"/\"&BF685,③読み替え表_省エネ住宅!$G$48:$G$57,0),1,0)),0)","v":1},1,1,1,"*"]
[null,678,null,null,null,null,null,null,null,null,null,null,null,null,null,null,null,null,null,null,null,null,null,null,null,null,null,null,null,null,null,null,null,null,null,null,null,null,null,null,null,null,null,null,null,null,null,null,null,null,null,null,null,null,"未","未","未","未",0,0,0,0,{"$f":"IFERROR(IF(OR(BC688=\"未\",BD688=\"未\"),1,IF(MATCH(BC688&\"/\"&BD688,③読み替え表_省エネ住宅!$G$48:$G$57,0),1,0)),0)","v":1},{"$f":"IFERROR(IF(OR(BE688=\"未\",BF688=\"未\"),1,IF(MATCH(BE688&\"/\"&BF688,③読み替え表_省エネ住宅!$G$48:$G$57,0),1,0)),0)","v":1},1,1,1,"*"]
[null,681,null,null,null,null,null,null,null,null,null,null,null,null,null,null,null,null,null,null,null,null,null,null,null,null,null,null,null,null,null,null,null,null,null,null,null,null,null,null,null,null,null,null,null,null,null,null,null,null,null,null,null,null,"未","未","未","未",0,0,0,0,{"$f":"IFERROR(IF(OR(BC691=\"未\",BD691=\"未\"),1,IF(MATCH(BC691&\"/\"&BD691,③読み替え表_省エネ住宅!$G$48:$G$57,0),1,0)),0)","v":1},{"$f":"IFERROR(IF(OR(BE691=\"未\",BF691=\"未\"),1,IF(MATCH(BE691&\"/\"&BF691,③読み替え表_省エネ住宅!$G$48:$G$57,0),1,0)),0)","v":1},1,1,1,"*"]
[null,682,null,null,null,null,null,null,null,null,null,null,null,null,null,null,null,null,null,null,null,null,null,null,null,null,null,null,null,null,null,null,null,null,null,null,null,null,null,null,null,null,null,null,null,null,null,null,null,null,null,null,null,null,"未","未","未","未",0,0,0,0,{"$f":"IFERROR(IF(OR(BC692=\"未\",BD692=\"未\"),1,IF(MATCH(BC692&\"/\"&BD692,③読み替え表_省エネ住宅!$G$48:$G$57,0),1,0)),0)","v":1},{"$f":"IFERROR(IF(OR(BE692=\"未\",BF692=\"未\"),1,IF(MATCH(BE692&\"/\"&BF692,③読み替え表_省エネ住宅!$G$48:$G$57,0),1,0)),0)","v":1},1,1,1,"*"]
[null,686,null,null,null,null,null,null,null,null,null,null,null,null,null,null,null,null,null,null,null,null,null,null,null,null,null,null,null,null,null,null,null,null,null,null,null,null,null,null,null,null,null,null,null,null,null,null,null,null,null,null,null,null,"未","未","未","未",0,0,0,0,{"$f":"IFERROR(IF(OR(BC696=\"未\",BD696=\"未\"),1,IF(MATCH(BC696&\"/\"&BD696,③読み替え表_省エネ住宅!$G$48:$G$57,0),1,0)),0)","v":1},{"$f":"IFERROR(IF(OR(BE696=\"未\",BF696=\"未\"),1,IF(MATCH(BE696&\"/\"&BF696,③読み替え表_省エネ住宅!$G$48:$G$57,0),1,0)),0)","v":1},1,1,1,"*"]
[null,688,null,null,null,null,null,null,null,null,null,null,null,null,null,null,null,null,null,null,null,null,null,null,null,null,null,null,null,null,null,null,null,null,null,null,null,null,null,null,null,null,null,null,null,null,null,null,null,null,null,null,null,null,"未","未","未","未",0,0,0,0,{"$f":"IFERROR(IF(OR(BC698=\"未\",BD698=\"未\"),1,IF(MATCH(BC698&\"/\"&BD698,③読み替え表_省エネ住宅!$G$48:$G$57,0),1,0)),0)","v":1},{"$f":"IFERROR(IF(OR(BE698=\"未\",BF698=\"未\"),1,IF(MATCH(BE698&\"/\"&BF698,③読み替え表_省エネ住宅!$G$48:$G$57,0),1,0)),0)","v":1},1,1,1,"*"]
[null,691,null,null,null,null,null,null,null,null,null,null,null,null,null,null,null,null,null,null,null,null,null,null,null,null,null,null,null,null,null,null,null,null,null,null,null,null,null,null,null,null,null,null,null,null,null,null,null,null,null,null,null,null,"未","未","未","未",0,0,0,0,{"$f":"IFERROR(IF(OR(BC701=\"未\",BD701=\"未\"),1,IF(MATCH(BC701&\"/\"&BD701,③読み替え表_省エネ住宅!$G$48:$G$57,0),1,0)),0)","v":1},{"$f":"IFERROR(IF(OR(BE701=\"未\",BF701=\"未\"),1,IF(MATCH(BE701&\"/\"&BF701,③読み替え表_省エネ住宅!$G$48:$G$57,0),1,0)),0)","v":1},1,1,1,"*"]
[null,694,null,null,null,null,null,null,null,null,null,null,null,null,null,null,null,null,null,null,null,null,null,null,null,null,null,null,null,null,null,null,null,null,null,null,null,null,null,null,null,null,null,null,null,null,null,null,null,null,null,null,null,null,"未","未","未","未",0,0,0,0,{"$f":"IFERROR(IF(OR(BC704=\"未\",BD704=\"未\"),1,IF(MATCH(BC704&\"/\"&BD704,③読み替え表_省エネ住宅!$G$48:$G$57,0),1,0)),0)","v":1},{"$f":"IFERROR(IF(OR(BE704=\"未\",BF704=\"未\"),1,IF(MATCH(BE704&\"/\"&BF704,③読み替え表_省エネ住宅!$G$48:$G$57,0),1,0)),0)","v":1},1,1,1,"*"]
[null,697,null,null,null,null,null,null,null,null,null,null,null,null,null,null,null,null,null,null,null,null,null,null,null,null,null,null,null,null,null,null,null,null,null,null,null,null,null,null,null,null,null,null,null,null,null,null,null,null,null,null,null,null,"未","未","未","未",0,0,0,0,{"$f":"IFERROR(IF(OR(BC707=\"未\",BD707=\"未\"),1,IF(MATCH(BC707&\"/\"&BD707,③読み替え表_省エネ住宅!$G$48:$G$57,0),1,0)),0)","v":1},{"$f":"IFERROR(IF(OR(BE707=\"未\",BF707=\"未\"),1,IF(MATCH(BE707&\"/\"&BF707,③読み替え表_省エネ住宅!$G$48:$G$57,0),1,0)),0)","v":1},1,1,1,"*"]
[null,700,null,null,null,null,null,null,null,null,null,null,null,null,null,null,null,null,null,null,null,null,null,null,null,null,null,null,null,null,null,null,null,null,null,null,null,null,null,null,null,null,null,null,null,null,null,null,null,null,null,null,null,null,"未","未","未","未",0,0,0,0,{"$f":"IFERROR(IF(OR(BC710=\"未\",BD710=\"未\"),1,IF(MATCH(BC710&\"/\"&BD710,③読み替え表_省エネ住宅!$G$48:$G$57,0),1,0)),0)","v":1},{"$f":"IFERROR(IF(OR(BE710=\"未\",BF710=\"未\"),1,IF(MATCH(BE710&\"/\"&BF710,③読み替え表_省エネ住宅!$G$48:$G$57,0),1,0)),0)","v":1},1,1,1,"*"]
[null,701,null,null,null,null,null,null,null,null,null,null,null,null,null,null,null,null,null,null,null,null,null,null,null,null,null,null,null,null,null,null,null,null,null,null,null,null,null,null,null,null,null,null,null,null,null,null,null,null,null,null,null,null,"未","未","未","未",0,0,0,0,{"$f":"IFERROR(IF(OR(BC711=\"未\",BD711=\"未\"),1,IF(MATCH(BC711&\"/\"&BD711,③読み替え表_省エネ住宅!$G$48:$G$57,0),1,0)),0)","v":1},{"$f":"IFERROR(IF(OR(BE711=\"未\",BF711=\"未\"),1,IF(MATCH(BE711&\"/\"&BF711,③読み替え表_省エネ住宅!$G$48:$G$57,0),1,0)),0)","v":1},1,1,1,"*"]
[null,704,null,null,null,null,null,null,null,null,null,null,null,null,null,null,null,null,null,null,null,null,null,null,null,null,null,null,null,null,null,null,null,null,null,null,null,null,null,null,null,null,null,null,null,null,null,null,null,null,null,null,null,null,"未","未","未","未",0,0,0,0,{"$f":"IFERROR(IF(OR(BC714=\"未\",BD714=\"未\"),1,IF(MATCH(BC714&\"/\"&BD714,③読み替え表_省エネ住宅!$G$48:$G$57,0),1,0)),0)","v":1},{"$f":"IFERROR(IF(OR(BE714=\"未\",BF714=\"未\"),1,IF(MATCH(BE714&\"/\"&BF714,③読み替え表_省エネ住宅!$G$48:$G$57,0),1,0)),0)","v":1},1,1,1,"*"]
[null,708,null,null,null,null,null,null,null,null,null,null,null,null,null,null,null,null,null,null,null,null,null,null,null,null,null,null,null,null,null,null,null,null,null,null,null,null,null,null,null,null,null,null,null,null,null,null,null,null,null,null,null,null,"未","未","未","未",0,0,0,0,{"$f":"IFERROR(IF(OR(BC718=\"未\",BD718=\"未\"),1,IF(MATCH(BC718&\"/\"&BD718,③読み替え表_省エネ住宅!$G$48:$G$57,0),1,0)),0)","v":1},{"$f":"IFERROR(IF(OR(BE718=\"未\",BF718=\"未\"),1,IF(MATCH(BE718&\"/\"&BF718,③読み替え表_省エネ住宅!$G$48:$G$57,0),1,0)),0)","v":1},1,1,1,"*"]
[null,710,null,null,null,null,null,null,null,null,null,null,null,null,null,null,null,null,null,null,null,null,null,null,null,null,null,null,null,null,null,null,null,null,null,null,null,null,null,null,null,null,null,null,null,null,null,null,null,null,null,null,null,null,"未","未","未","未",0,0,0,0,{"$f":"IFERROR(IF(OR(BC720=\"未\",BD720=\"未\"),1,IF(MATCH(BC720&\"/\"&BD720,③読み替え表_省エネ住宅!$G$48:$G$57,0),1,0)),0)","v":1},{"$f":"IFERROR(IF(OR(BE720=\"未\",BF720=\"未\"),1,IF(MATCH(BE720&\"/\"&BF720,③読み替え表_省エネ住宅!$G$48:$G$57,0),1,0)),0)","v":1},1,1,1,"*"]
[null,713,null,null,null,null,null,null,null,null,null,null,null,null,null,null,null,null,null,null,null,null,null,null,null,null,null,null,null,null,null,null,null,null,null,null,null,null,null,null,null,null,null,null,null,null,null,null,null,null,null,null,null,null,"未","未","未","未",0,0,0,0,{"$f":"IFERROR(IF(OR(BC723=\"未\",BD723=\"未\"),1,IF(MATCH(BC723&\"/\"&BD723,③読み替え表_省エネ住宅!$G$48:$G$57,0),1,0)),0)","v":1},{"$f":"IFERROR(IF(OR(BE723=\"未\",BF723=\"未\"),1,IF(MATCH(BE723&\"/\"&BF723,③読み替え表_省エネ住宅!$G$48:$G$57,0),1,0)),0)","v":1},1,1,1,"*"]
[null,716,null,null,null,null,null,null,null,null,null,null,null,null,null,null,null,null,null,null,null,null,null,null,null,null,null,null,null,null,null,null,null,null,null,null,null,null,null,null,null,null,null,null,null,null,null,null,null,null,null,null,null,null,"未","未","未","未",0,0,0,0,{"$f":"IFERROR(IF(OR(BC726=\"未\",BD726=\"未\"),1,IF(MATCH(BC726&\"/\"&BD726,③読み替え表_省エネ住宅!$G$48:$G$57,0),1,0)),0)","v":1},{"$f":"IFERROR(IF(OR(BE726=\"未\",BF726=\"未\"),1,IF(MATCH(BE726&\"/\"&BF726,③読み替え表_省エネ住宅!$G$48:$G$57,0),1,0)),0)","v":1},1,1,1,"*"]
[null,720,null,null,null,null,null,null,null,null,null,null,null,null,null,null,null,null,null,null,null,null,null,null,null,null,null,null,null,null,null,null,null,null,null,null,null,null,null,null,null,null,null,null,null,null,null,null,null,null,null,null,null,null,"未","未","未","未",0,0,0,0,{"$f":"IFERROR(IF(OR(BC730=\"未\",BD730=\"未\"),1,IF(MATCH(BC730&\"/\"&BD730,③読み替え表_省エネ住宅!$G$48:$G$57,0),1,0)),0)","v":1},{"$f":"IFERROR(IF(OR(BE730=\"未\",BF730=\"未\"),1,IF(MATCH(BE730&\"/\"&BF730,③読み替え表_省エネ住宅!$G$48:$G$57,0),1,0)),0)","v":1},1,1,1,"*"]
[null,721,null,null,null,null,null,null,null,null,null,null,null,null,null,null,null,null,null,null,null,null,null,null,null,null,null,null,null,null,null,null,null,null,null,null,null,null,null,null,null,null,null,null,null,null,null,null,null,null,null,null,null,null,"未","未","未","未",0,0,0,0,{"$f":"IFERROR(IF(OR(BC731=\"未\",BD731=\"未\"),1,IF(MATCH(BC731&\"/\"&BD731,③読み替え表_省エネ住宅!$G$48:$G$57,0),1,0)),0)","v":1},{"$f":"IFERROR(IF(OR(BE731=\"未\",BF731=\"未\"),1,IF(MATCH(BE731&\"/\"&BF731,③読み替え表_省エネ住宅!$G$48:$G$57,0),1,0)),0)","v":1},1,1,1,"*"]
[null,723,null,null,null,null,null,null,null,null,null,null,null,null,null,null,null,null,null,null,null,null,null,null,null,null,null,null,null,null,null,null,null,null,null,null,null,null,null,null,null,null,null,null,null,null,null,null,null,null,null,null,null,null,"未","未","未","未",0,0,0,0,{"$f":"IFERROR(IF(OR(BC733=\"未\",BD733=\"未\"),1,IF(MATCH(BC733&\"/\"&BD733,③読み替え表_省エネ住宅!$G$48:$G$57,0),1,0)),0)","v":1},{"$f":"IFERROR(IF(OR(BE733=\"未\",BF733=\"未\"),1,IF(MATCH(BE733&\"/\"&BF733,③読み替え表_省エネ住宅!$G$48:$G$57,0),1,0)),0)","v":1},1,1,1,"*"]
[null,726,null,null,null,null,null,null,null,null,null,null,null,null,null,null,null,null,null,null,null,null,null,null,null,null,null,null,null,null,null,null,null,null,null,null,null,null,null,null,null,null,null,null,null,null,null,null,null,null,null,null,null,null,"未","未","未","未",0,0,0,0,{"$f":"IFERROR(IF(OR(BC736=\"未\",BD736=\"未\"),1,IF(MATCH(BC736&\"/\"&BD736,③読み替え表_省エネ住宅!$G$48:$G$57,0),1,0)),0)","v":1},{"$f":"IFERROR(IF(OR(BE736=\"未\",BF736=\"未\"),1,IF(MATCH(BE736&\"/\"&BF736,③読み替え表_省エネ住宅!$G$48:$G$57,0),1,0)),0)","v":1},1,1,1,"*"]
[null,729,null,null,null,null,null,null,null,null,null,null,null,null,null,null,null,null,null,null,null,null,null,null,null,null,null,null,null,null,null,null,null,null,null,null,null,null,null,null,null,null,null,null,null,null,null,null,null,null,null,null,null,null,"未","未","未","未",0,0,0,0,{"$f":"IFERROR(IF(OR(BC739=\"未\",BD739=\"未\"),1,IF(MATCH(BC739&\"/\"&BD739,③読み替え表_省エネ住宅!$G$48:$G$57,0),1,0)),0)","v":1},{"$f":"IFERROR(IF(OR(BE739=\"未\",BF739=\"未\"),1,IF(MATCH(BE739&\"/\"&BF739,③読み替え表_省エネ住宅!$G$48:$G$57,0),1,0)),0)","v":1},1,1,1,"*"]
[null,732,null,null,null,null,null,null,null,null,null,null,null,null,null,null,null,null,null,null,null,null,null,null,null,null,null,null,null,null,null,null,null,null,null,null,null,null,null,null,null,null,null,null,null,null,null,null,null,null,null,null,null,null,"未","未","未","未",0,0,0,0,{"$f":"IFERROR(IF(OR(BC742=\"未\",BD742=\"未\"),1,IF(MATCH(BC742&\"/\"&BD742,③読み替え表_省エネ住宅!$G$48:$G$57,0),1,0)),0)","v":1},{"$f":"IFERROR(IF(OR(BE742=\"未\",BF742=\"未\"),1,IF(MATCH(BE742&\"/\"&BF742,③読み替え表_省エネ住宅!$G$48:$G$57,0),1,0)),0)","v":1},1,1,1,"*"]
[null,735,null,null,null,null,null,null,null,null,null,null,null,null,null,null,null,null,null,null,null,null,null,null,null,null,null,null,null,null,null,null,null,null,null,null,null,null,null,null,null,null,null,null,null,null,null,null,null,null,null,null,null,null,"未","未","未","未",0,0,0,0,{"$f":"IFERROR(IF(OR(BC745=\"未\",BD745=\"未\"),1,IF(MATCH(BC745&\"/\"&BD745,③読み替え表_省エネ住宅!$G$48:$G$57,0),1,0)),0)","v":1},{"$f":"IFERROR(IF(OR(BE745=\"未\",BF745=\"未\"),1,IF(MATCH(BE745&\"/\"&BF745,③読み替え表_省エネ住宅!$G$48:$G$57,0),1,0)),0)","v":1},1,1,1,"*"]
[null,738,null,null,null,null,null,null,null,null,null,null,null,null,null,null,null,null,null,null,null,null,null,null,null,null,null,null,null,null,null,null,null,null,null,null,null,null,null,null,null,null,null,null,null,null,null,null,null,null,null,null,null,null,"未","未","未","未",0,0,0,0,{"$f":"IFERROR(IF(OR(BC748=\"未\",BD748=\"未\"),1,IF(MATCH(BC748&\"/\"&BD748,③読み替え表_省エネ住宅!$G$48:$G$57,0),1,0)),0)","v":1},{"$f":"IFERROR(IF(OR(BE748=\"未\",BF748=\"未\"),1,IF(MATCH(BE748&\"/\"&BF748,③読み替え表_省エネ住宅!$G$48:$G$57,0),1,0)),0)","v":1},1,1,1,"*"]
[null,742,null,null,null,null,null,null,null,null,null,null,null,null,null,null,null,null,null,null,null,null,null,null,null,null,null,null,null,null,null,null,null,null,null,null,null,null,null,null,null,null,null,null,null,null,null,null,null,null,null,null,null,null,"未","未","未","未",0,0,0,0,{"$f":"IFERROR(IF(OR(BC752=\"未\",BD752=\"未\"),1,IF(MATCH(BC752&\"/\"&BD752,③読み替え表_省エネ住宅!$G$48:$G$57,0),1,0)),0)","v":1},{"$f":"IFERROR(IF(OR(BE752=\"未\",BF752=\"未\"),1,IF(MATCH(BE752&\"/\"&BF752,③読み替え表_省エネ住宅!$G$48:$G$57,0),1,0)),0)","v":1},1,1,1,"*"]
[null,745,null,null,null,null,null,null,null,null,null,null,null,null,null,null,null,null,null,null,null,null,null,null,null,null,null,null,null,null,null,null,null,null,null,null,null,null,null,null,null,null,null,null,null,null,null,null,null,null,null,null,null,null,"未","未","未","未",0,0,0,0,{"$f":"IFERROR(IF(OR(BC755=\"未\",BD755=\"未\"),1,IF(MATCH(BC755&\"/\"&BD755,③読み替え表_省エネ住宅!$G$48:$G$57,0),1,0)),0)","v":1},{"$f":"IFERROR(IF(OR(BE755=\"未\",BF755=\"未\"),1,IF(MATCH(BE755&\"/\"&BF755,③読み替え表_省エネ住宅!$G$48:$G$57,0),1,0)),0)","v":1},1,1,1,"*"]
[null,747,null,null,null,null,null,null,null,null,null,null,null,null,null,null,null,null,null,null,null,null,null,null,null,null,null,null,null,null,null,null,null,null,null,null,null,null,null,null,null,null,null,null,null,null,null,null,null,null,null,null,null,null,"未","未","未","未",0,0,0,0,{"$f":"IFERROR(IF(OR(BC757=\"未\",BD757=\"未\"),1,IF(MATCH(BC757&\"/\"&BD757,③読み替え表_省エネ住宅!$G$48:$G$57,0),1,0)),0)","v":1},{"$f":"IFERROR(IF(OR(BE757=\"未\",BF757=\"未\"),1,IF(MATCH(BE757&\"/\"&BF757,③読み替え表_省エネ住宅!$G$48:$G$57,0),1,0)),0)","v":1},1,1,1,"*"]
[null,748,null,null,null,null,null,null,null,null,null,null,null,null,null,null,null,null,null,null,null,null,null,null,null,null,null,null,null,null,null,null,null,null,null,null,null,null,null,null,null,null,null,null,null,null,null,null,null,null,null,null,null,null,"未","未","未","未",0,0,0,0,{"$f":"IFERROR(IF(OR(BC758=\"未\",BD758=\"未\"),1,IF(MATCH(BC758&\"/\"&BD758,③読み替え表_省エネ住宅!$G$48:$G$57,0),1,0)),0)","v":1},{"$f":"IFERROR(IF(OR(BE758=\"未\",BF758=\"未\"),1,IF(MATCH(BE758&\"/\"&BF758,③読み替え表_省エネ住宅!$G$48:$G$57,0),1,0)),0)","v":1},1,1,1,"*"]
[null,751,null,null,null,null,null,null,null,null,null,null,null,null,null,null,null,null,null,null,null,null,null,null,null,null,null,null,null,null,null,null,null,null,null,null,null,null,null,null,null,null,null,null,null,null,null,null,null,null,null,null,null,null,"未","未","未","未",0,0,0,0,{"$f":"IFERROR(IF(OR(BC761=\"未\",BD761=\"未\"),1,IF(MATCH(BC761&\"/\"&BD761,③読み替え表_省エネ住宅!$G$48:$G$57,0),1,0)),0)","v":1},{"$f":"IFERROR(IF(OR(BE761=\"未\",BF761=\"未\"),1,IF(MATCH(BE761&\"/\"&BF761,③読み替え表_省エネ住宅!$G$48:$G$57,0),1,0)),0)","v":1},1,1,1,"*"]
[null,755,null,null,null,null,null,null,null,null,null,null,null,null,null,null,null,null,null,null,null,null,null,null,null,null,null,null,null,null,null,null,null,null,null,null,null,null,null,null,null,null,null,null,null,null,null,null,null,null,null,null,null,null,"未","未","未","未",0,0,0,0,{"$f":"IFERROR(IF(OR(BC765=\"未\",BD765=\"未\"),1,IF(MATCH(BC765&\"/\"&BD765,③読み替え表_省エネ住宅!$G$48:$G$57,0),1,0)),0)","v":1},{"$f":"IFERROR(IF(OR(BE765=\"未\",BF765=\"未\"),1,IF(MATCH(BE765&\"/\"&BF765,③読み替え表_省エネ住宅!$G$48:$G$57,0),1,0)),0)","v":1},1,1,1,"*"]
[null,758,null,null,null,null,null,null,null,null,null,null,null,null,null,null,null,null,null,null,null,null,null,null,null,null,null,null,null,null,null,null,null,null,null,null,null,null,null,null,null,null,null,null,null,null,null,null,null,null,null,null,null,null,"未","未","未","未",0,0,0,0,{"$f":"IFERROR(IF(OR(BC768=\"未\",BD768=\"未\"),1,IF(MATCH(BC768&\"/\"&BD768,③読み替え表_省エネ住宅!$G$48:$G$57,0),1,0)),0)","v":1},{"$f":"IFERROR(IF(OR(BE768=\"未\",BF768=\"未\"),1,IF(MATCH(BE768&\"/\"&BF768,③読み替え表_省エネ住宅!$G$48:$G$57,0),1,0)),0)","v":1},1,1,1,"*"]
[null,761,null,null,null,null,null,null,null,null,null,null,null,null,null,null,null,null,null,null,null,null,null,null,null,null,null,null,null,null,null,null,null,null,null,null,null,null,null,null,null,null,null,null,null,null,null,null,null,null,null,null,null,null,"未","未","未","未",0,0,0,0,{"$f":"IFERROR(IF(OR(BC771=\"未\",BD771=\"未\"),1,IF(MATCH(BC771&\"/\"&BD771,③読み替え表_省エネ住宅!$G$48:$G$57,0),1,0)),0)","v":1},{"$f":"IFERROR(IF(OR(BE771=\"未\",BF771=\"未\"),1,IF(MATCH(BE771&\"/\"&BF771,③読み替え表_省エネ住宅!$G$48:$G$57,0),1,0)),0)","v":1},1,1,1,"*"]
[null,764,null,null,null,null,null,null,null,null,null,null,null,null,null,null,null,null,null,null,null,null,null,null,null,null,null,null,null,null,null,null,null,null,null,null,null,null,null,null,null,null,null,null,null,null,null,null,null,null,null,null,null,null,"未","未","未","未",0,0,0,0,{"$f":"IFERROR(IF(OR(BC774=\"未\",BD774=\"未\"),1,IF(MATCH(BC774&\"/\"&BD774,③読み替え表_省エネ住宅!$G$48:$G$57,0),1,0)),0)","v":1},{"$f":"IFERROR(IF(OR(BE774=\"未\",BF774=\"未\"),1,IF(MATCH(BE774&\"/\"&BF774,③読み替え表_省エネ住宅!$G$48:$G$57,0),1,0)),0)","v":1},1,1,1,"*"]
[null,767,null,null,null,null,null,null,null,null,null,null,null,null,null,null,null,null,null,null,null,null,null,null,null,null,null,null,null,null,null,null,null,null,null,null,null,null,null,null,null,null,null,null,null,null,null,null,null,null,null,null,null,null,"未","未","未","未",0,0,0,0,{"$f":"IFERROR(IF(OR(BC777=\"未\",BD777=\"未\"),1,IF(MATCH(BC777&\"/\"&BD777,③読み替え表_省エネ住宅!$G$48:$G$57,0),1,0)),0)","v":1},{"$f":"IFERROR(IF(OR(BE777=\"未\",BF777=\"未\"),1,IF(MATCH(BE777&\"/\"&BF777,③読み替え表_省エネ住宅!$G$48:$G$57,0),1,0)),0)","v":1},1,1,1,"*"]
[null,769,null,null,null,null,null,null,null,null,null,null,null,null,null,null,null,null,null,null,null,null,null,null,null,null,null,null,null,null,null,null,null,null,null,null,null,null,null,null,null,null,null,null,null,null,null,null,null,null,null,null,null,null,"未","未","未","未",0,0,0,0,{"$f":"IFERROR(IF(OR(BC779=\"未\",BD779=\"未\"),1,IF(MATCH(BC779&\"/\"&BD779,③読み替え表_省エネ住宅!$G$48:$G$57,0),1,0)),0)","v":1},{"$f":"IFERROR(IF(OR(BE779=\"未\",BF779=\"未\"),1,IF(MATCH(BE779&\"/\"&BF779,③読み替え表_省エネ住宅!$G$48:$G$57,0),1,0)),0)","v":1},1,1,1,"*"]
[null,{"$f":"ROW()-10","v":770},null,null,null,null,null,null,null,null,null,null,null,null,null,null,null,null,null,null,null,null,null,null,null,null,null,null,null,null,null,null,null,null,null,null,null,null,null,null,null,null,null,null,null,null,null,null,null,null,null,null,null,null,{"$f":"IFERROR(IF(SUM($Q780:$U780)>1,\"複数回答\",INDEX($Q$10:$U$10,,MATCH(1,$Q780:$U780,0))),\"未\")","v":"未"},{"$f":"IFERROR(IF(SUM($AA780:$AE780)>1,\"複数回答\",INDEX($AA$10:$AE$10,,MATCH(1,$AA780:$AE780,0))),\"未\")","v":"未"},{"$f":"IFERROR(IF(SUM($V780:$Z780)>1,\"複数回答\",INDEX($V$10:$Z$10,,MATCH(1,$V780:$Z780,0))),\"未\")","v":"未"},{"$f":"IFERROR(IF(SUM($AF780:$AJ780)>1,\"複数回答\",INDEX($AF$10:$AJ$10,,MATCH(1,$AF780:$AJ780,0))),\"未\")","v":"未"},{"$f":"IF(OR(AA780=1,AB780=1,AC780=1),1,0)","v":0},{"$f":"IF(OR(AF780=1,AG780=1,AH780=1),1,0)","v":0},{"$f":"IF(BC780=\"複数回答\",1,IF(BD780=\"複数回答\",1,0))","v":0},{"$f":"IF(BE780=\"複数回答\",1,IF(BF780=\"複数回答\",1,0))","v":0},{"$f":"IFERROR(IF(OR(BC780=\"未\",BD780=\"未\"),1,IF(MATCH(BC780&\"/\"&BD780,③読み替え表_省エネ住宅!$G$48:$G$57,0),1,0)),0)","v":1},{"$f":"IFERROR(IF(OR(BE780=\"未\",BF780=\"未\"),1,IF(MATCH(BE780&\"/\"&BF780,③読み替え表_省エネ住宅!$G$48:$G$57,0),1,0)),0)","v":1},{"$f":"IF(BI780+BK780>0,1,0)","v":1},{"$f":"IF(BJ780+BL780>0,1,0)","v":1},{"$f":"IF(SUM(BI780:BL780)>0,1,0)","v":1},"*"]
[null,773,null,null,null,null,null,null,null,null,null,null,null,null,null,null,null,null,null,null,null,null,null,null,null,null,null,null,null,null,null,null,null,null,null,null,null,null,null,null,null,null,null,null,null,null,null,null,null,null,null,null,null,null,"未","未","未","未",0,0,0,0,{"$f":"IFERROR(IF(OR(BC783=\"未\",BD783=\"未\"),1,IF(MATCH(BC783&\"/\"&BD783,③読み替え表_省エネ住宅!$G$48:$G$57,0),1,0)),0)","v":1},{"$f":"IFERROR(IF(OR(BE783=\"未\",BF783=\"未\"),1,IF(MATCH(BE783&\"/\"&BF783,③読み替え表_省エネ住宅!$G$48:$G$57,0),1,0)),0)","v":1},1,1,1,"*"]
[null,777,null,null,null,null,null,null,null,null,null,null,null,null,null,null,null,null,null,null,null,null,null,null,null,null,null,null,null,null,null,null,null,null,null,null,null,null,null,null,null,null,null,null,null,null,null,null,null,null,null,null,null,null,"未","未","未","未",0,0,0,0,{"$f":"IFERROR(IF(OR(BC787=\"未\",BD787=\"未\"),1,IF(MATCH(BC787&\"/\"&BD787,③読み替え表_省エネ住宅!$G$48:$G$57,0),1,0)),0)","v":1},{"$f":"IFERROR(IF(OR(BE787=\"未\",BF787=\"未\"),1,IF(MATCH(BE787&\"/\"&BF787,③読み替え表_省エネ住宅!$G$48:$G$57,0),1,0)),0)","v":1},1,1,1,"*"]
[null,780,null,null,null,null,null,null,null,null,null,null,null,null,null,null,null,null,null,null,null,null,null,null,null,null,null,null,null,null,null,null,null,null,null,null,null,null,null,null,null,null,null,null,null,null,null,null,null,null,null,null,null,null,"未","未","未","未",0,0,0,0,{"$f":"IFERROR(IF(OR(BC790=\"未\",BD790=\"未\"),1,IF(MATCH(BC790&\"/\"&BD790,③読み替え表_省エネ住宅!$G$48:$G$57,0),1,0)),0)","v":1},{"$f":"IFERROR(IF(OR(BE790=\"未\",BF790=\"未\"),1,IF(MATCH(BE790&\"/\"&BF790,③読み替え表_省エネ住宅!$G$48:$G$57,0),1,0)),0)","v":1},1,1,1,"*"]
[null,782,null,null,null,null,null,null,null,null,null,null,null,null,null,null,null,null,null,null,null,null,null,null,null,null,null,null,null,null,null,null,null,null,null,null,null,null,null,null,null,null,null,null,null,null,null,null,null,null,null,null,null,null,"未","未","未","未",0,0,0,0,{"$f":"IFERROR(IF(OR(BC792=\"未\",BD792=\"未\"),1,IF(MATCH(BC792&\"/\"&BD792,③読み替え表_省エネ住宅!$G$48:$G$57,0),1,0)),0)","v":1},{"$f":"IFERROR(IF(OR(BE792=\"未\",BF792=\"未\"),1,IF(MATCH(BE792&\"/\"&BF792,③読み替え表_省エネ住宅!$G$48:$G$57,0),1,0)),0)","v":1},1,1,1,"*"]
[null,786,null,null,null,null,null,null,null,null,null,null,null,null,null,null,null,null,null,null,null,null,null,null,null,null,null,null,null,null,null,null,null,null,null,null,null,null,null,null,null,null,null,null,null,null,null,null,null,null,null,null,null,null,"未","未","未","未",0,0,0,0,{"$f":"IFERROR(IF(OR(BC796=\"未\",BD796=\"未\"),1,IF(MATCH(BC796&\"/\"&BD796,③読み替え表_省エネ住宅!$G$48:$G$57,0),1,0)),0)","v":1},{"$f":"IFERROR(IF(OR(BE796=\"未\",BF796=\"未\"),1,IF(MATCH(BE796&\"/\"&BF796,③読み替え表_省エネ住宅!$G$48:$G$57,0),1,0)),0)","v":1},1,1,1,"*"]
[null,789,null,null,null,null,null,null,null,null,null,null,null,null,null,null,null,null,null,null,null,null,null,null,null,null,null,null,null,null,null,null,null,null,null,null,null,null,null,null,null,null,null,null,null,null,null,null,null,null,null,null,null,null,"未","未","未","未",0,0,0,0,{"$f":"IFERROR(IF(OR(BC799=\"未\",BD799=\"未\"),1,IF(MATCH(BC799&\"/\"&BD799,③読み替え表_省エネ住宅!$G$48:$G$57,0),1,0)),0)","v":1},{"$f":"IFERROR(IF(OR(BE799=\"未\",BF799=\"未\"),1,IF(MATCH(BE799&\"/\"&BF799,③読み替え表_省エネ住宅!$G$48:$G$57,0),1,0)),0)","v":1},1,1,1,"*"]
[null,790,null,null,null,null,null,null,null,null,null,null,null,null,null,null,null,null,null,null,null,null,null,null,null,null,null,null,null,null,null,null,null,null,null,null,null,null,null,null,null,null,null,null,null,null,null,null,null,null,null,null,null,null,"未","未","未","未",0,0,0,0,{"$f":"IFERROR(IF(OR(BC800=\"未\",BD800=\"未\"),1,IF(MATCH(BC800&\"/\"&BD800,③読み替え表_省エネ住宅!$G$48:$G$57,0),1,0)),0)","v":1},{"$f":"IFERROR(IF(OR(BE800=\"未\",BF800=\"未\"),1,IF(MATCH(BE800&\"/\"&BF800,③読み替え表_省エネ住宅!$G$48:$G$57,0),1,0)),0)","v":1},1,1,1,"*"]
[null,793,null,null,null,null,null,null,null,null,null,null,null,null,null,null,null,null,null,null,null,null,null,null,null,null,null,null,null,null,null,null,null,null,null,null,null,null,null,null,null,null,null,null,null,null,null,null,null,null,null,null,null,null,"未","未","未","未",0,0,0,0,{"$f":"IFERROR(IF(OR(BC803=\"未\",BD803=\"未\"),1,IF(MATCH(BC803&\"/\"&BD803,③読み替え表_省エネ住宅!$G$48:$G$57,0),1,0)),0)","v":1},{"$f":"IFERROR(IF(OR(BE803=\"未\",BF803=\"未\"),1,IF(MATCH(BE803&\"/\"&BF803,③読み替え表_省エネ住宅!$G$48:$G$57,0),1,0)),0)","v":1},1,1,1,"*"]
[null,796,null,null,null,null,null,null,null,null,null,null,null,null,null,null,null,null,null,null,null,null,null,null,null,null,null,null,null,null,null,null,null,null,null,null,null,null,null,null,null,null,null,null,null,null,null,null,null,null,null,null,null,null,"未","未","未","未",0,0,0,0,{"$f":"IFERROR(IF(OR(BC806=\"未\",BD806=\"未\"),1,IF(MATCH(BC806&\"/\"&BD806,③読み替え表_省エネ住宅!$G$48:$G$57,0),1,0)),0)","v":1},{"$f":"IFERROR(IF(OR(BE806=\"未\",BF806=\"未\"),1,IF(MATCH(BE806&\"/\"&BF806,③読み替え表_省エネ住宅!$G$48:$G$57,0),1,0)),0)","v":1},1,1,1,"*"]
[null,799,null,null,null,null,null,null,null,null,null,null,null,null,null,null,null,null,null,null,null,null,null,null,null,null,null,null,null,null,null,null,null,null,null,null,null,null,null,null,null,null,null,null,null,null,null,null,null,null,null,null,null,null,"未","未","未","未",0,0,0,0,{"$f":"IFERROR(IF(OR(BC809=\"未\",BD809=\"未\"),1,IF(MATCH(BC809&\"/\"&BD809,③読み替え表_省エネ住宅!$G$48:$G$57,0),1,0)),0)","v":1},{"$f":"IFERROR(IF(OR(BE809=\"未\",BF809=\"未\"),1,IF(MATCH(BE809&\"/\"&BF809,③読み替え表_省エネ住宅!$G$48:$G$57,0),1,0)),0)","v":1},1,1,1,"*"]
[null,802,null,null,null,null,null,null,null,null,null,null,null,null,null,null,null,null,null,null,null,null,null,null,null,null,null,null,null,null,null,null,null,null,null,null,null,null,null,null,null,null,null,null,null,null,null,null,null,null,null,null,null,null,"未","未","未","未",0,0,0,0,{"$f":"IFERROR(IF(OR(BC812=\"未\",BD812=\"未\"),1,IF(MATCH(BC812&\"/\"&BD812,③読み替え表_省エネ住宅!$G$48:$G$57,0),1,0)),0)","v":1},{"$f":"IFERROR(IF(OR(BE812=\"未\",BF812=\"未\"),1,IF(MATCH(BE812&\"/\"&BF812,③読み替え表_省エネ住宅!$G$48:$G$57,0),1,0)),0)","v":1},1,1,1,"*"]
[null,806,null,null,null,null,null,null,null,null,null,null,null,null,null,null,null,null,null,null,null,null,null,null,null,null,null,null,null,null,null,null,null,null,null,null,null,null,null,null,null,null,null,null,null,null,null,null,null,null,null,null,null,null,"未","未","未","未",0,0,0,0,{"$f":"IFERROR(IF(OR(BC816=\"未\",BD816=\"未\"),1,IF(MATCH(BC816&\"/\"&BD816,③読み替え表_省エネ住宅!$G$48:$G$57,0),1,0)),0)","v":1},{"$f":"IFERROR(IF(OR(BE816=\"未\",BF816=\"未\"),1,IF(MATCH(BE816&\"/\"&BF816,③読み替え表_省エネ住宅!$G$48:$G$57,0),1,0)),0)","v":1},1,1,1,"*"]
[null,808,null,null,null,null,null,null,null,null,null,null,null,null,null,null,null,null,null,null,null,null,null,null,null,null,null,null,null,null,null,null,null,null,null,null,null,null,null,null,null,null,null,null,null,null,null,null,null,null,null,null,null,null,"未","未","未","未",0,0,0,0,{"$f":"IFERROR(IF(OR(BC818=\"未\",BD818=\"未\"),1,IF(MATCH(BC818&\"/\"&BD818,③読み替え表_省エネ住宅!$G$48:$G$57,0),1,0)),0)","v":1},{"$f":"IFERROR(IF(OR(BE818=\"未\",BF818=\"未\"),1,IF(MATCH(BE818&\"/\"&BF818,③読み替え表_省エネ住宅!$G$48:$G$57,0),1,0)),0)","v":1},1,1,1,"*"]
[null,811,null,null,null,null,null,null,null,null,null,null,null,null,null,null,null,null,null,null,null,null,null,null,null,null,null,null,null,null,null,null,null,null,null,null,null,null,null,null,null,null,null,null,null,null,null,null,null,null,null,null,null,null,"未","未","未","未",0,0,0,0,{"$f":"IFERROR(IF(OR(BC821=\"未\",BD821=\"未\"),1,IF(MATCH(BC821&\"/\"&BD821,③読み替え表_省エネ住宅!$G$48:$G$57,0),1,0)),0)","v":1},{"$f":"IFERROR(IF(OR(BE821=\"未\",BF821=\"未\"),1,IF(MATCH(BE821&\"/\"&BF821,③読み替え表_省エネ住宅!$G$48:$G$57,0),1,0)),0)","v":1},1,1,1,"*"]
[null,812,null,null,null,null,null,null,null,null,null,null,null,null,null,null,null,null,null,null,null,null,null,null,null,null,null,null,null,null,null,null,null,null,null,null,null,null,null,null,null,null,null,null,null,null,null,null,null,null,null,null,null,null,"未","未","未","未",0,0,0,0,{"$f":"IFERROR(IF(OR(BC822=\"未\",BD822=\"未\"),1,IF(MATCH(BC822&\"/\"&BD822,③読み替え表_省エネ住宅!$G$48:$G$57,0),1,0)),0)","v":1},{"$f":"IFERROR(IF(OR(BE822=\"未\",BF822=\"未\"),1,IF(MATCH(BE822&\"/\"&BF822,③読み替え表_省エネ住宅!$G$48:$G$57,0),1,0)),0)","v":1},1,1,1,"*"]
[null,815,null,null,null,null,null,null,null,null,null,null,null,null,null,null,null,null,null,null,null,null,null,null,null,null,null,null,null,null,null,null,null,null,null,null,null,null,null,null,null,null,null,null,null,null,null,null,null,null,null,null,null,null,"未","未","未","未",0,0,0,0,{"$f":"IFERROR(IF(OR(BC825=\"未\",BD825=\"未\"),1,IF(MATCH(BC825&\"/\"&BD825,③読み替え表_省エネ住宅!$G$48:$G$57,0),1,0)),0)","v":1},{"$f":"IFERROR(IF(OR(BE825=\"未\",BF825=\"未\"),1,IF(MATCH(BE825&\"/\"&BF825,③読み替え表_省エネ住宅!$G$48:$G$57,0),1,0)),0)","v":1},1,1,1,"*"]
[null,819,null,null,null,null,null,null,null,null,null,null,null,null,null,null,null,null,null,null,null,null,null,null,null,null,null,null,null,null,null,null,null,null,null,null,null,null,null,null,null,null,null,null,null,null,null,null,null,null,null,null,null,null,"未","未","未","未",0,0,0,0,{"$f":"IFERROR(IF(OR(BC829=\"未\",BD829=\"未\"),1,IF(MATCH(BC829&\"/\"&BD829,③読み替え表_省エネ住宅!$G$48:$G$57,0),1,0)),0)","v":1},{"$f":"IFERROR(IF(OR(BE829=\"未\",BF829=\"未\"),1,IF(MATCH(BE829&\"/\"&BF829,③読み替え表_省エネ住宅!$G$48:$G$57,0),1,0)),0)","v":1},1,1,1,"*"]
[null,821,null,null,null,null,null,null,null,null,null,null,null,null,null,null,null,null,null,null,null,null,null,null,null,null,null,null,null,null,null,null,null,null,null,null,null,null,null,null,null,null,null,null,null,null,null,null,null,null,null,null,null,null,"未","未","未","未",0,0,0,0,{"$f":"IFERROR(IF(OR(BC831=\"未\",BD831=\"未\"),1,IF(MATCH(BC831&\"/\"&BD831,③読み替え表_省エネ住宅!$G$48:$G$57,0),1,0)),0)","v":1},{"$f":"IFERROR(IF(OR(BE831=\"未\",BF831=\"未\"),1,IF(MATCH(BE831&\"/\"&BF831,③読み替え表_省エネ住宅!$G$48:$G$57,0),1,0)),0)","v":1},1,1,1,"*"]
[null,824,null,null,null,null,null,null,null,null,null,null,null,null,null,null,null,null,null,null,null,null,null,null,null,null,null,null,null,null,null,null,null,null,null,null,null,null,null,null,null,null,null,null,null,null,null,null,null,null,null,null,null,null,"未","未","未","未",0,0,0,0,{"$f":"IFERROR(IF(OR(BC834=\"未\",BD834=\"未\"),1,IF(MATCH(BC834&\"/\"&BD834,③読み替え表_省エネ住宅!$G$48:$G$57,0),1,0)),0)","v":1},{"$f":"IFERROR(IF(OR(BE834=\"未\",BF834=\"未\"),1,IF(MATCH(BE834&\"/\"&BF834,③読み替え表_省エネ住宅!$G$48:$G$57,0),1,0)),0)","v":1},1,1,1,"*"]
[null,828,null,null,null,null,null,null,null,null,null,null,null,null,null,null,null,null,null,null,null,null,null,null,null,null,null,null,null,null,null,null,null,null,null,null,null,null,null,null,null,null,null,null,null,null,null,null,null,null,null,null,null,null,"未","未","未","未",0,0,0,0,{"$f":"IFERROR(IF(OR(BC838=\"未\",BD838=\"未\"),1,IF(MATCH(BC838&\"/\"&BD838,③読み替え表_省エネ住宅!$G$48:$G$57,0),1,0)),0)","v":1},{"$f":"IFERROR(IF(OR(BE838=\"未\",BF838=\"未\"),1,IF(MATCH(BE838&\"/\"&BF838,③読み替え表_省エネ住宅!$G$48:$G$57,0),1,0)),0)","v":1},1,1,1,"*"]
[null,830,null,null,null,null,null,null,null,null,null,null,null,null,null,null,null,null,null,null,null,null,null,null,null,null,null,null,null,null,null,null,null,null,null,null,null,null,null,null,null,null,null,null,null,null,null,null,null,null,null,null,null,null,"未","未","未","未",0,0,0,0,{"$f":"IFERROR(IF(OR(BC840=\"未\",BD840=\"未\"),1,IF(MATCH(BC840&\"/\"&BD840,③読み替え表_省エネ住宅!$G$48:$G$57,0),1,0)),0)","v":1},{"$f":"IFERROR(IF(OR(BE840=\"未\",BF840=\"未\"),1,IF(MATCH(BE840&\"/\"&BF840,③読み替え表_省エネ住宅!$G$48:$G$57,0),1,0)),0)","v":1},1,1,1,"*"]
[null,833,null,null,null,null,null,null,null,null,null,null,null,null,null,null,null,null,null,null,null,null,null,null,null,null,null,null,null,null,null,null,null,null,null,null,null,null,null,null,null,null,null,null,null,null,null,null,null,null,null,null,null,null,"未","未","未","未",0,0,0,0,{"$f":"IFERROR(IF(OR(BC843=\"未\",BD843=\"未\"),1,IF(MATCH(BC843&\"/\"&BD843,③読み替え表_省エネ住宅!$G$48:$G$57,0),1,0)),0)","v":1},{"$f":"IFERROR(IF(OR(BE843=\"未\",BF843=\"未\"),1,IF(MATCH(BE843&\"/\"&BF843,③読み替え表_省エネ住宅!$G$48:$G$57,0),1,0)),0)","v":1},1,1,1,"*"]
[null,{"$f":"ROW()-10","v":834},null,null,null,null,null,null,null,null,null,null,null,null,null,null,null,null,null,null,null,null,null,null,null,null,null,null,null,null,null,null,null,null,null,null,null,null,null,null,null,null,null,null,null,null,null,null,null,null,null,null,null,null,{"$f":"IFERROR(IF(SUM($Q844:$U844)>1,\"複数回答\",INDEX($Q$10:$U$10,,MATCH(1,$Q844:$U844,0))),\"未\")","v":"未"},{"$f":"IFERROR(IF(SUM($AA844:$AE844)>1,\"複数回答\",INDEX($AA$10:$AE$10,,MATCH(1,$AA844:$AE844,0))),\"未\")","v":"未"},{"$f":"IFERROR(IF(SUM($V844:$Z844)>1,\"複数回答\",INDEX($V$10:$Z$10,,MATCH(1,$V844:$Z844,0))),\"未\")","v":"未"},{"$f":"IFERROR(IF(SUM($AF844:$AJ844)>1,\"複数回答\",INDEX($AF$10:$AJ$10,,MATCH(1,$AF844:$AJ844,0))),\"未\")","v":"未"},{"$f":"IF(OR(AA844=1,AB844=1,AC844=1),1,0)","v":0},{"$f":"IF(OR(AF844=1,AG844=1,AH844=1),1,0)","v":0},{"$f":"IF(BC844=\"複数回答\",1,IF(BD844=\"複数回答\",1,0))","v":0},{"$f":"IF(BE844=\"複数回答\",1,IF(BF844=\"複数回答\",1,0))","v":0},{"$f":"IFERROR(IF(OR(BC844=\"未\",BD844=\"未\"),1,IF(MATCH(BC844&\"/\"&BD844,③読み替え表_省エネ住宅!$G$48:$G$57,0),1,0)),0)","v":1},{"$f":"IFERROR(IF(OR(BE844=\"未\",BF844=\"未\"),1,IF(MATCH(BE844&\"/\"&BF844,③読み替え表_省エネ住宅!$G$48:$G$57,0),1,0)),0)","v":1},{"$f":"IF(BI844+BK844>0,1,0)","v":1},{"$f":"IF(BJ844+BL844>0,1,0)","v":1},{"$f":"IF(SUM(BI844:BL844)>0,1,0)","v":1},"*"]
[null,837,null,null,null,null,null,null,null,null,null,null,null,null,null,null,null,null,null,null,null,null,null,null,null,null,null,null,null,null,null,null,null,null,null,null,null,null,null,null,null,null,null,null,null,null,null,null,null,null,null,null,null,null,"未","未","未","未",0,0,0,0,{"$f":"IFERROR(IF(OR(BC847=\"未\",BD847=\"未\"),1,IF(MATCH(BC847&\"/\"&BD847,③読み替え表_省エネ住宅!$G$48:$G$57,0),1,0)),0)","v":1},{"$f":"IFERROR(IF(OR(BE847=\"未\",BF847=\"未\"),1,IF(MATCH(BE847&\"/\"&BF847,③読み替え表_省エネ住宅!$G$48:$G$57,0),1,0)),0)","v":1},1,1,1,"*"]
[null,841,null,null,null,null,null,null,null,null,null,null,null,null,null,null,null,null,null,null,null,null,null,null,null,null,null,null,null,null,null,null,null,null,null,null,null,null,null,null,null,null,null,null,null,null,null,null,null,null,null,null,null,null,"未","未","未","未",0,0,0,0,{"$f":"IFERROR(IF(OR(BC851=\"未\",BD851=\"未\"),1,IF(MATCH(BC851&\"/\"&BD851,③読み替え表_省エネ住宅!$G$48:$G$57,0),1,0)),0)","v":1},{"$f":"IFERROR(IF(OR(BE851=\"未\",BF851=\"未\"),1,IF(MATCH(BE851&\"/\"&BF851,③読み替え表_省エネ住宅!$G$48:$G$57,0),1,0)),0)","v":1},1,1,1,"*"]
[null,843,null,null,null,null,null,null,null,null,null,null,null,null,null,null,null,null,null,null,null,null,null,null,null,null,null,null,null,null,null,null,null,null,null,null,null,null,null,null,null,null,null,null,null,null,null,null,null,null,null,null,null,null,"未","未","未","未",0,0,0,0,{"$f":"IFERROR(IF(OR(BC853=\"未\",BD853=\"未\"),1,IF(MATCH(BC853&\"/\"&BD853,③読み替え表_省エネ住宅!$G$48:$G$57,0),1,0)),0)","v":1},{"$f":"IFERROR(IF(OR(BE853=\"未\",BF853=\"未\"),1,IF(MATCH(BE853&\"/\"&BF853,③読み替え表_省エネ住宅!$G$48:$G$57,0),1,0)),0)","v":1},1,1,1,"*"]
[null,846,null,null,null,null,null,null,null,null,null,null,null,null,null,null,null,null,null,null,null,null,null,null,null,null,null,null,null,null,null,null,null,null,null,null,null,null,null,null,null,null,null,null,null,null,null,null,null,null,null,null,null,null,"未","未","未","未",0,0,0,0,{"$f":"IFERROR(IF(OR(BC856=\"未\",BD856=\"未\"),1,IF(MATCH(BC856&\"/\"&BD856,③読み替え表_省エネ住宅!$G$48:$G$57,0),1,0)),0)","v":1},{"$f":"IFERROR(IF(OR(BE856=\"未\",BF856=\"未\"),1,IF(MATCH(BE856&\"/\"&BF856,③読み替え表_省エネ住宅!$G$48:$G$57,0),1,0)),0)","v":1},1,1,1,"*"]
[null,850,null,null,null,null,null,null,null,null,null,null,null,null,null,null,null,null,null,null,null,null,null,null,null,null,null,null,null,null,null,null,null,null,null,null,null,null,null,null,null,null,null,null,null,null,null,null,null,null,null,null,null,null,"未","未","未","未",0,0,0,0,{"$f":"IFERROR(IF(OR(BC860=\"未\",BD860=\"未\"),1,IF(MATCH(BC860&\"/\"&BD860,③読み替え表_省エネ住宅!$G$48:$G$57,0),1,0)),0)","v":1},{"$f":"IFERROR(IF(OR(BE860=\"未\",BF860=\"未\"),1,IF(MATCH(BE860&\"/\"&BF860,③読み替え表_省エネ住宅!$G$48:$G$57,0),1,0)),0)","v":1},1,1,1,"*"]
[null,853,null,null,null,null,null,null,null,null,null,null,null,null,null,null,null,null,null,null,null,null,null,null,null,null,null,null,null,null,null,null,null,null,null,null,null,null,null,null,null,null,null,null,null,null,null,null,null,null,null,null,null,null,"未","未","未","未",0,0,0,0,{"$f":"IFERROR(IF(OR(BC863=\"未\",BD863=\"未\"),1,IF(MATCH(BC863&\"/\"&BD863,③読み替え表_省エネ住宅!$G$48:$G$57,0),1,0)),0)","v":1},{"$f":"IFERROR(IF(OR(BE863=\"未\",BF863=\"未\"),1,IF(MATCH(BE863&\"/\"&BF863,③読み替え表_省エネ住宅!$G$48:$G$57,0),1,0)),0)","v":1},1,1,1,"*"]
[null,854,null,null,null,null,null,null,null,null,null,null,null,null,null,null,null,null,null,null,null,null,null,null,null,null,null,null,null,null,null,null,null,null,null,null,null,null,null,null,null,null,null,null,null,null,null,null,null,null,null,null,null,null,"未","未","未","未",0,0,0,0,{"$f":"IFERROR(IF(OR(BC864=\"未\",BD864=\"未\"),1,IF(MATCH(BC864&\"/\"&BD864,③読み替え表_省エネ住宅!$G$48:$G$57,0),1,0)),0)","v":1},{"$f":"IFERROR(IF(OR(BE864=\"未\",BF864=\"未\"),1,IF(MATCH(BE864&\"/\"&BF864,③読み替え表_省エネ住宅!$G$48:$G$57,0),1,0)),0)","v":1},1,1,1,"*"]
[null,856,null,null,null,null,null,null,null,null,null,null,null,null,null,null,null,null,null,null,null,null,null,null,null,null,null,null,null,null,null,null,null,null,null,null,null,null,null,null,null,null,null,null,null,null,null,null,null,null,null,null,null,null,"未","未","未","未",0,0,0,0,{"$f":"IFERROR(IF(OR(BC866=\"未\",BD866=\"未\"),1,IF(MATCH(BC866&\"/\"&BD866,③読み替え表_省エネ住宅!$G$48:$G$57,0),1,0)),0)","v":1},{"$f":"IFERROR(IF(OR(BE866=\"未\",BF866=\"未\"),1,IF(MATCH(BE866&\"/\"&BF866,③読み替え表_省エネ住宅!$G$48:$G$57,0),1,0)),0)","v":1},1,1,1,"*"]
[null,859,null,null,null,null,null,null,null,null,null,null,null,null,null,null,null,null,null,null,null,null,null,null,null,null,null,null,null,null,null,null,null,null,null,null,null,null,null,null,null,null,null,null,null,null,null,null,null,null,null,null,null,null,"未","未","未","未",0,0,0,0,{"$f":"IFERROR(IF(OR(BC869=\"未\",BD869=\"未\"),1,IF(MATCH(BC869&\"/\"&BD869,③読み替え表_省エネ住宅!$G$48:$G$57,0),1,0)),0)","v":1},{"$f":"IFERROR(IF(OR(BE869=\"未\",BF869=\"未\"),1,IF(MATCH(BE869&\"/\"&BF869,③読み替え表_省エネ住宅!$G$48:$G$57,0),1,0)),0)","v":1},1,1,1,"*"]
[null,863,null,null,null,null,null,null,null,null,null,null,null,null,null,null,null,null,null,null,null,null,null,null,null,null,null,null,null,null,null,null,null,null,null,null,null,null,null,null,null,null,null,null,null,null,null,null,null,null,null,null,null,null,"未","未","未","未",0,0,0,0,{"$f":"IFERROR(IF(OR(BC873=\"未\",BD873=\"未\"),1,IF(MATCH(BC873&\"/\"&BD873,③読み替え表_省エネ住宅!$G$48:$G$57,0),1,0)),0)","v":1},{"$f":"IFERROR(IF(OR(BE873=\"未\",BF873=\"未\"),1,IF(MATCH(BE873&\"/\"&BF873,③読み替え表_省エネ住宅!$G$48:$G$57,0),1,0)),0)","v":1},1,1,1,"*"]
[null,865,null,null,null,null,null,null,null,null,null,null,null,null,null,null,null,null,null,null,null,null,null,null,null,null,null,null,null,null,null,null,null,null,null,null,null,null,null,null,null,null,null,null,null,null,null,null,null,null,null,null,null,null,"未","未","未","未",0,0,0,0,{"$f":"IFERROR(IF(OR(BC875=\"未\",BD875=\"未\"),1,IF(MATCH(BC875&\"/\"&BD875,③読み替え表_省エネ住宅!$G$48:$G$57,0),1,0)),0)","v":1},{"$f":"IFERROR(IF(OR(BE875=\"未\",BF875=\"未\"),1,IF(MATCH(BE875&\"/\"&BF875,③読み替え表_省エネ住宅!$G$48:$G$57,0),1,0)),0)","v":1},1,1,1,"*"]
[null,868,null,null,null,null,null,null,null,null,null,null,null,null,null,null,null,null,null,null,null,null,null,null,null,null,null,null,null,null,null,null,null,null,null,null,null,null,null,null,null,null,null,null,null,null,null,null,null,null,null,null,null,null,"未","未","未","未",0,0,0,0,{"$f":"IFERROR(IF(OR(BC878=\"未\",BD878=\"未\"),1,IF(MATCH(BC878&\"/\"&BD878,③読み替え表_省エネ住宅!$G$48:$G$57,0),1,0)),0)","v":1},{"$f":"IFERROR(IF(OR(BE878=\"未\",BF878=\"未\"),1,IF(MATCH(BE878&\"/\"&BF878,③読み替え表_省エネ住宅!$G$48:$G$57,0),1,0)),0)","v":1},1,1,1,"*"]
[null,872,null,null,null,null,null,null,null,null,null,null,null,null,null,null,null,null,null,null,null,null,null,null,null,null,null,null,null,null,null,null,null,null,null,null,null,null,null,null,null,null,null,null,null,null,null,null,null,null,null,null,null,null,"未","未","未","未",0,0,0,0,{"$f":"IFERROR(IF(OR(BC882=\"未\",BD882=\"未\"),1,IF(MATCH(BC882&\"/\"&BD882,③読み替え表_省エネ住宅!$G$48:$G$57,0),1,0)),0)","v":1},{"$f":"IFERROR(IF(OR(BE882=\"未\",BF882=\"未\"),1,IF(MATCH(BE882&\"/\"&BF882,③読み替え表_省エネ住宅!$G$48:$G$57,0),1,0)),0)","v":1},1,1,1,"*"]
[null,875,null,null,null,null,null,null,null,null,null,null,null,null,null,null,null,null,null,null,null,null,null,null,null,null,null,null,null,null,null,null,null,null,null,null,null,null,null,null,null,null,null,null,null,null,null,null,null,null,null,null,null,null,"未","未","未","未",0,0,0,0,{"$f":"IFERROR(IF(OR(BC885=\"未\",BD885=\"未\"),1,IF(MATCH(BC885&\"/\"&BD885,③読み替え表_省エネ住宅!$G$48:$G$57,0),1,0)),0)","v":1},{"$f":"IFERROR(IF(OR(BE885=\"未\",BF885=\"未\"),1,IF(MATCH(BE885&\"/\"&BF885,③読み替え表_省エネ住宅!$G$48:$G$57,0),1,0)),0)","v":1},1,1,1,"*"]
[null,876,null,null,null,null,null,null,null,null,null,null,null,null,null,null,null,null,null,null,null,null,null,null,null,null,null,null,null,null,null,null,null,null,null,null,null,null,null,null,null,null,null,null,null,null,null,null,null,null,null,null,null,null,"未","未","未","未",0,0,0,0,{"$f":"IFERROR(IF(OR(BC886=\"未\",BD886=\"未\"),1,IF(MATCH(BC886&\"/\"&BD886,③読み替え表_省エネ住宅!$G$48:$G$57,0),1,0)),0)","v":1},{"$f":"IFERROR(IF(OR(BE886=\"未\",BF886=\"未\"),1,IF(MATCH(BE886&\"/\"&BF886,③読み替え表_省エネ住宅!$G$48:$G$57,0),1,0)),0)","v":1},1,1,1,"*"]
[null,880,null,null,null,null,null,null,null,null,null,null,null,null,null,null,null,null,null,null,null,null,null,null,null,null,null,null,null,null,null,null,null,null,null,null,null,null,null,null,null,null,null,null,null,null,null,null,null,null,null,null,null,null,"未","未","未","未",0,0,0,0,{"$f":"IFERROR(IF(OR(BC890=\"未\",BD890=\"未\"),1,IF(MATCH(BC890&\"/\"&BD890,③読み替え表_省エネ住宅!$G$48:$G$57,0),1,0)),0)","v":1},{"$f":"IFERROR(IF(OR(BE890=\"未\",BF890=\"未\"),1,IF(MATCH(BE890&\"/\"&BF890,③読み替え表_省エネ住宅!$G$48:$G$57,0),1,0)),0)","v":1},1,1,1,"*"]
[null,881,null,null,null,null,null,null,null,null,null,null,null,null,null,null,null,null,null,null,null,null,null,null,null,null,null,null,null,null,null,null,null,null,null,null,null,null,null,null,null,null,null,null,null,null,null,null,null,null,null,null,null,null,"未","未","未","未",0,0,0,0,{"$f":"IFERROR(IF(OR(BC891=\"未\",BD891=\"未\"),1,IF(MATCH(BC891&\"/\"&BD891,③読み替え表_省エネ住宅!$G$48:$G$57,0),1,0)),0)","v":1},{"$f":"IFERROR(IF(OR(BE891=\"未\",BF891=\"未\"),1,IF(MATCH(BE891&\"/\"&BF891,③読み替え表_省エネ住宅!$G$48:$G$57,0),1,0)),0)","v":1},1,1,1,"*"]
[null,885,null,null,null,null,null,null,null,null,null,null,null,null,null,null,null,null,null,null,null,null,null,null,null,null,null,null,null,null,null,null,null,null,null,null,null,null,null,null,null,null,null,null,null,null,null,null,null,null,null,null,null,null,"未","未","未","未",0,0,0,0,{"$f":"IFERROR(IF(OR(BC895=\"未\",BD895=\"未\"),1,IF(MATCH(BC895&\"/\"&BD895,③読み替え表_省エネ住宅!$G$48:$G$57,0),1,0)),0)","v":1},{"$f":"IFERROR(IF(OR(BE895=\"未\",BF895=\"未\"),1,IF(MATCH(BE895&\"/\"&BF895,③読み替え表_省エネ住宅!$G$48:$G$57,0),1,0)),0)","v":1},1,1,1,"*"]
[null,888,null,null,null,null,null,null,null,null,null,null,null,null,null,null,null,null,null,null,null,null,null,null,null,null,null,null,null,null,null,null,null,null,null,null,null,null,null,null,null,null,null,null,null,null,null,null,null,null,null,null,null,null,"未","未","未","未",0,0,0,0,{"$f":"IFERROR(IF(OR(BC898=\"未\",BD898=\"未\"),1,IF(MATCH(BC898&\"/\"&BD898,③読み替え表_省エネ住宅!$G$48:$G$57,0),1,0)),0)","v":1},{"$f":"IFERROR(IF(OR(BE898=\"未\",BF898=\"未\"),1,IF(MATCH(BE898&\"/\"&BF898,③読み替え表_省エネ住宅!$G$48:$G$57,0),1,0)),0)","v":1},1,1,1,"*"]
[null,891,null,null,null,null,null,null,null,null,null,null,null,null,null,null,null,null,null,null,null,null,null,null,null,null,null,null,null,null,null,null,null,null,null,null,null,null,null,null,null,null,null,null,null,null,null,null,null,null,null,null,null,null,"未","未","未","未",0,0,0,0,{"$f":"IFERROR(IF(OR(BC901=\"未\",BD901=\"未\"),1,IF(MATCH(BC901&\"/\"&BD901,③読み替え表_省エネ住宅!$G$48:$G$57,0),1,0)),0)","v":1},{"$f":"IFERROR(IF(OR(BE901=\"未\",BF901=\"未\"),1,IF(MATCH(BE901&\"/\"&BF901,③読み替え表_省エネ住宅!$G$48:$G$57,0),1,0)),0)","v":1},1,1,1,"*"]
[null,894,null,null,null,null,null,null,null,null,null,null,null,null,null,null,null,null,null,null,null,null,null,null,null,null,null,null,null,null,null,null,null,null,null,null,null,null,null,null,null,null,null,null,null,null,null,null,null,null,null,null,null,null,"未","未","未","未",0,0,0,0,{"$f":"IFERROR(IF(OR(BC904=\"未\",BD904=\"未\"),1,IF(MATCH(BC904&\"/\"&BD904,③読み替え表_省エネ住宅!$G$48:$G$57,0),1,0)),0)","v":1},{"$f":"IFERROR(IF(OR(BE904=\"未\",BF904=\"未\"),1,IF(MATCH(BE904&\"/\"&BF904,③読み替え表_省エネ住宅!$G$48:$G$57,0),1,0)),0)","v":1},1,1,1,"*"]
[null,897,null,null,null,null,null,null,null,null,null,null,null,null,null,null,null,null,null,null,null,null,null,null,null,null,null,null,null,null,null,null,null,null,null,null,null,null,null,null,null,null,null,null,null,null,null,null,null,null,null,null,null,null,"未","未","未","未",0,0,0,0,{"$f":"IFERROR(IF(OR(BC907=\"未\",BD907=\"未\"),1,IF(MATCH(BC907&\"/\"&BD907,③読み替え表_省エネ住宅!$G$48:$G$57,0),1,0)),0)","v":1},{"$f":"IFERROR(IF(OR(BE907=\"未\",BF907=\"未\"),1,IF(MATCH(BE907&\"/\"&BF907,③読み替え表_省エネ住宅!$G$48:$G$57,0),1,0)),0)","v":1},1,1,1,"*"]
[null,{"$f":"ROW()-10","v":898},null,null,null,null,null,null,null,null,null,null,null,null,null,null,null,null,null,null,null,null,null,null,null,null,null,null,null,null,null,null,null,null,null,null,null,null,null,null,null,null,null,null,null,null,null,null,null,null,null,null,null,null,{"$f":"IFERROR(IF(SUM($Q908:$U908)>1,\"複数回答\",INDEX($Q$10:$U$10,,MATCH(1,$Q908:$U908,0))),\"未\")","v":"未"},{"$f":"IFERROR(IF(SUM($AA908:$AE908)>1,\"複数回答\",INDEX($AA$10:$AE$10,,MATCH(1,$AA908:$AE908,0))),\"未\")","v":"未"},{"$f":"IFERROR(IF(SUM($V908:$Z908)>1,\"複数回答\",INDEX($V$10:$Z$10,,MATCH(1,$V908:$Z908,0))),\"未\")","v":"未"},{"$f":"IFERROR(IF(SUM($AF908:$AJ908)>1,\"複数回答\",INDEX($AF$10:$AJ$10,,MATCH(1,$AF908:$AJ908,0))),\"未\")","v":"未"},{"$f":"IF(OR(AA908=1,AB908=1,AC908=1),1,0)","v":0},{"$f":"IF(OR(AF908=1,AG908=1,AH908=1),1,0)","v":0},{"$f":"IF(BC908=\"複数回答\",1,IF(BD908=\"複数回答\",1,0))","v":0},{"$f":"IF(BE908=\"複数回答\",1,IF(BF908=\"複数回答\",1,0))","v":0},{"$f":"IFERROR(IF(OR(BC908=\"未\",BD908=\"未\"),1,IF(MATCH(BC908&\"/\"&BD908,③読み替え表_省エネ住宅!$G$48:$G$57,0),1,0)),0)","v":1},{"$f":"IFERROR(IF(OR(BE908=\"未\",BF908=\"未\"),1,IF(MATCH(BE908&\"/\"&BF908,③読み替え表_省エネ住宅!$G$48:$G$57,0),1,0)),0)","v":1},{"$f":"IF(BI908+BK908>0,1,0)","v":1},{"$f":"IF(BJ908+BL908>0,1,0)","v":1},{"$f":"IF(SUM(BI908:BL908)>0,1,0)","v":1},"*"]
[null,901,null,null,null,null,null,null,null,null,null,null,null,null,null,null,null,null,null,null,null,null,null,null,null,null,null,null,null,null,null,null,null,null,null,null,null,null,null,null,null,null,null,null,null,null,null,null,null,null,null,null,null,null,"未","未","未","未",0,0,0,0,{"$f":"IFERROR(IF(OR(BC911=\"未\",BD911=\"未\"),1,IF(MATCH(BC911&\"/\"&BD911,③読み替え表_省エネ住宅!$G$48:$G$57,0),1,0)),0)","v":1},{"$f":"IFERROR(IF(OR(BE911=\"未\",BF911=\"未\"),1,IF(MATCH(BE911&\"/\"&BF911,③読み替え表_省エネ住宅!$G$48:$G$57,0),1,0)),0)","v":1},1,1,1,"*"]
[null,904,null,null,null,null,null,null,null,null,null,null,null,null,null,null,null,null,null,null,null,null,null,null,null,null,null,null,null,null,null,null,null,null,null,null,null,null,null,null,null,null,null,null,null,null,null,null,null,null,null,null,null,null,"未","未","未","未",0,0,0,0,{"$f":"IFERROR(IF(OR(BC914=\"未\",BD914=\"未\"),1,IF(MATCH(BC914&\"/\"&BD914,③読み替え表_省エネ住宅!$G$48:$G$57,0),1,0)),0)","v":1},{"$f":"IFERROR(IF(OR(BE914=\"未\",BF914=\"未\"),1,IF(MATCH(BE914&\"/\"&BF914,③読み替え表_省エネ住宅!$G$48:$G$57,0),1,0)),0)","v":1},1,1,1,"*"]
[null,907,null,null,null,null,null,null,null,null,null,null,null,null,null,null,null,null,null,null,null,null,null,null,null,null,null,null,null,null,null,null,null,null,null,null,null,null,null,null,null,null,null,null,null,null,null,null,null,null,null,null,null,null,"未","未","未","未",0,0,0,0,{"$f":"IFERROR(IF(OR(BC917=\"未\",BD917=\"未\"),1,IF(MATCH(BC917&\"/\"&BD917,③読み替え表_省エネ住宅!$G$48:$G$57,0),1,0)),0)","v":1},{"$f":"IFERROR(IF(OR(BE917=\"未\",BF917=\"未\"),1,IF(MATCH(BE917&\"/\"&BF917,③読み替え表_省エネ住宅!$G$48:$G$57,0),1,0)),0)","v":1},1,1,1,"*"]
[null,910,null,null,null,null,null,null,null,null,null,null,null,null,null,null,null,null,null,null,null,null,null,null,null,null,null,null,null,null,null,null,null,null,null,null,null,null,null,null,null,null,null,null,null,null,null,null,null,null,null,null,null,null,"未","未","未","未",0,0,0,0,{"$f":"IFERROR(IF(OR(BC920=\"未\",BD920=\"未\"),1,IF(MATCH(BC920&\"/\"&BD920,③読み替え表_省エネ住宅!$G$48:$G$57,0),1,0)),0)","v":1},{"$f":"IFERROR(IF(OR(BE920=\"未\",BF920=\"未\"),1,IF(MATCH(BE920&\"/\"&BF920,③読み替え表_省エネ住宅!$G$48:$G$57,0),1,0)),0)","v":1},1,1,1,"*"]
[null,914,null,null,null,null,null,null,null,null,null,null,null,null,null,null,null,null,null,null,null,null,null,null,null,null,null,null,null,null,null,null,null,null,null,null,null,null,null,null,null,null,null,null,null,null,null,null,null,null,null,null,null,null,"未","未","未","未",0,0,0,0,{"$f":"IFERROR(IF(OR(BC924=\"未\",BD924=\"未\"),1,IF(MATCH(BC924&\"/\"&BD924,③読み替え表_省エネ住宅!$G$48:$G$57,0),1,0)),0)","v":1},{"$f":"IFERROR(IF(OR(BE924=\"未\",BF924=\"未\"),1,IF(MATCH(BE924&\"/\"&BF924,③読み替え表_省エネ住宅!$G$48:$G$57,0),1,0)),0)","v":1},1,1,1,"*"]
[null,915,null,null,null,null,null,null,null,null,null,null,null,null,null,null,null,null,null,null,null,null,null,null,null,null,null,null,null,null,null,null,null,null,null,null,null,null,null,null,null,null,null,null,null,null,null,null,null,null,null,null,null,null,"未","未","未","未",0,0,0,0,{"$f":"IFERROR(IF(OR(BC925=\"未\",BD925=\"未\"),1,IF(MATCH(BC925&\"/\"&BD925,③読み替え表_省エネ住宅!$G$48:$G$57,0),1,0)),0)","v":1},{"$f":"IFERROR(IF(OR(BE925=\"未\",BF925=\"未\"),1,IF(MATCH(BE925&\"/\"&BF925,③読み替え表_省エネ住宅!$G$48:$G$57,0),1,0)),0)","v":1},1,1,1,"*"]
[null,919,null,null,null,null,null,null,null,null,null,null,null,null,null,null,null,null,null,null,null,null,null,null,null,null,null,null,null,null,null,null,null,null,null,null,null,null,null,null,null,null,null,null,null,null,null,null,null,null,null,null,null,null,"未","未","未","未",0,0,0,0,{"$f":"IFERROR(IF(OR(BC929=\"未\",BD929=\"未\"),1,IF(MATCH(BC929&\"/\"&BD929,③読み替え表_省エネ住宅!$G$48:$G$57,0),1,0)),0)","v":1},{"$f":"IFERROR(IF(OR(BE929=\"未\",BF929=\"未\"),1,IF(MATCH(BE929&\"/\"&BF929,③読み替え表_省エネ住宅!$G$48:$G$57,0),1,0)),0)","v":1},1,1,1,"*"]
[null,920,null,null,null,null,null,null,null,null,null,null,null,null,null,null,null,null,null,null,null,null,null,null,null,null,null,null,null,null,null,null,null,null,null,null,null,null,null,null,null,null,null,null,null,null,null,null,null,null,null,null,null,null,"未","未","未","未",0,0,0,0,{"$f":"IFERROR(IF(OR(BC930=\"未\",BD930=\"未\"),1,IF(MATCH(BC930&\"/\"&BD930,③読み替え表_省エネ住宅!$G$48:$G$57,0),1,0)),0)","v":1},{"$f":"IFERROR(IF(OR(BE930=\"未\",BF930=\"未\"),1,IF(MATCH(BE930&\"/\"&BF930,③読み替え表_省エネ住宅!$G$48:$G$57,0),1,0)),0)","v":1},1,1,1,"*"]
[null,923,null,null,null,null,null,null,null,null,null,null,null,null,null,null,null,null,null,null,null,null,null,null,null,null,null,null,null,null,null,null,null,null,null,null,null,null,null,null,null,null,null,null,null,null,null,null,null,null,null,null,null,null,"未","未","未","未",0,0,0,0,{"$f":"IFERROR(IF(OR(BC933=\"未\",BD933=\"未\"),1,IF(MATCH(BC933&\"/\"&BD933,③読み替え表_省エネ住宅!$G$48:$G$57,0),1,0)),0)","v":1},{"$f":"IFERROR(IF(OR(BE933=\"未\",BF933=\"未\"),1,IF(MATCH(BE933&\"/\"&BF933,③読み替え表_省エネ住宅!$G$48:$G$57,0),1,0)),0)","v":1},1,1,1,"*"]
[null,926,null,null,null,null,null,null,null,null,null,null,null,null,null,null,null,null,null,null,null,null,null,null,null,null,null,null,null,null,null,null,null,null,null,null,null,null,null,null,null,null,null,null,null,null,null,null,null,null,null,null,null,null,"未","未","未","未",0,0,0,0,{"$f":"IFERROR(IF(OR(BC936=\"未\",BD936=\"未\"),1,IF(MATCH(BC936&\"/\"&BD936,③読み替え表_省エネ住宅!$G$48:$G$57,0),1,0)),0)","v":1},{"$f":"IFERROR(IF(OR(BE936=\"未\",BF936=\"未\"),1,IF(MATCH(BE936&\"/\"&BF936,③読み替え表_省エネ住宅!$G$48:$G$57,0),1,0)),0)","v":1},1,1,1,"*"]
[null,929,null,null,null,null,null,null,null,null,null,null,null,null,null,null,null,null,null,null,null,null,null,null,null,null,null,null,null,null,null,null,null,null,null,null,null,null,null,null,null,null,null,null,null,null,null,null,null,null,null,null,null,null,"未","未","未","未",0,0,0,0,{"$f":"IFERROR(IF(OR(BC939=\"未\",BD939=\"未\"),1,IF(MATCH(BC939&\"/\"&BD939,③読み替え表_省エネ住宅!$G$48:$G$57,0),1,0)),0)","v":1},{"$f":"IFERROR(IF(OR(BE939=\"未\",BF939=\"未\"),1,IF(MATCH(BE939&\"/\"&BF939,③読み替え表_省エネ住宅!$G$48:$G$57,0),1,0)),0)","v":1},1,1,1,"*"]
[null,932,null,null,null,null,null,null,null,null,null,null,null,null,null,null,null,null,null,null,null,null,null,null,null,null,null,null,null,null,null,null,null,null,null,null,null,null,null,null,null,null,null,null,null,null,null,null,null,null,null,null,null,null,"未","未","未","未",0,0,0,0,{"$f":"IFERROR(IF(OR(BC942=\"未\",BD942=\"未\"),1,IF(MATCH(BC942&\"/\"&BD942,③読み替え表_省エネ住宅!$G$48:$G$57,0),1,0)),0)","v":1},{"$f":"IFERROR(IF(OR(BE942=\"未\",BF942=\"未\"),1,IF(MATCH(BE942&\"/\"&BF942,③読み替え表_省エネ住宅!$G$48:$G$57,0),1,0)),0)","v":1},1,1,1,"*"]
[null,936,null,null,null,null,null,null,null,null,null,null,null,null,null,null,null,null,null,null,null,null,null,null,null,null,null,null,null,null,null,null,null,null,null,null,null,null,null,null,null,null,null,null,null,null,null,null,null,null,null,null,null,null,"未","未","未","未",0,0,0,0,{"$f":"IFERROR(IF(OR(BC946=\"未\",BD946=\"未\"),1,IF(MATCH(BC946&\"/\"&BD946,③読み替え表_省エネ住宅!$G$48:$G$57,0),1,0)),0)","v":1},{"$f":"IFERROR(IF(OR(BE946=\"未\",BF946=\"未\"),1,IF(MATCH(BE946&\"/\"&BF946,③読み替え表_省エネ住宅!$G$48:$G$57,0),1,0)),0)","v":1},1,1,1,"*"]
[null,939,null,null,null,null,null,null,null,null,null,null,null,null,null,null,null,null,null,null,null,null,null,null,null,null,null,null,null,null,null,null,null,null,null,null,null,null,null,null,null,null,null,null,null,null,null,null,null,null,null,null,null,null,"未","未","未","未",0,0,0,0,{"$f":"IFERROR(IF(OR(BC949=\"未\",BD949=\"未\"),1,IF(MATCH(BC949&\"/\"&BD949,③読み替え表_省エネ住宅!$G$48:$G$57,0),1,0)),0)","v":1},{"$f":"IFERROR(IF(OR(BE949=\"未\",BF949=\"未\"),1,IF(MATCH(BE949&\"/\"&BF949,③読み替え表_省エネ住宅!$G$48:$G$57,0),1,0)),0)","v":1},1,1,1,"*"]
[null,941,null,null,null,null,null,null,null,null,null,null,null,null,null,null,null,null,null,null,null,null,null,null,null,null,null,null,null,null,null,null,null,null,null,null,null,null,null,null,null,null,null,null,null,null,null,null,null,null,null,null,null,null,"未","未","未","未",0,0,0,0,{"$f":"IFERROR(IF(OR(BC951=\"未\",BD951=\"未\"),1,IF(MATCH(BC951&\"/\"&BD951,③読み替え表_省エネ住宅!$G$48:$G$57,0),1,0)),0)","v":1},{"$f":"IFERROR(IF(OR(BE951=\"未\",BF951=\"未\"),1,IF(MATCH(BE951&\"/\"&BF951,③読み替え表_省エネ住宅!$G$48:$G$57,0),1,0)),0)","v":1},1,1,1,"*"]
[null,942,null,null,null,null,null,null,null,null,null,null,null,null,null,null,null,null,null,null,null,null,null,null,null,null,null,null,null,null,null,null,null,null,null,null,null,null,null,null,null,null,null,null,null,null,null,null,null,null,null,null,null,null,"未","未","未","未",0,0,0,0,{"$f":"IFERROR(IF(OR(BC952=\"未\",BD952=\"未\"),1,IF(MATCH(BC952&\"/\"&BD952,③読み替え表_省エネ住宅!$G$48:$G$57,0),1,0)),0)","v":1},{"$f":"IFERROR(IF(OR(BE952=\"未\",BF952=\"未\"),1,IF(MATCH(BE952&\"/\"&BF952,③読み替え表_省エネ住宅!$G$48:$G$57,0),1,0)),0)","v":1},1,1,1,"*"]
[null,945,null,null,null,null,null,null,null,null,null,null,null,null,null,null,null,null,null,null,null,null,null,null,null,null,null,null,null,null,null,null,null,null,null,null,null,null,null,null,null,null,null,null,null,null,null,null,null,null,null,null,null,null,"未","未","未","未",0,0,0,0,{"$f":"IFERROR(IF(OR(BC955=\"未\",BD955=\"未\"),1,IF(MATCH(BC955&\"/\"&BD955,③読み替え表_省エネ住宅!$G$48:$G$57,0),1,0)),0)","v":1},{"$f":"IFERROR(IF(OR(BE955=\"未\",BF955=\"未\"),1,IF(MATCH(BE955&\"/\"&BF955,③読み替え表_省エネ住宅!$G$48:$G$57,0),1,0)),0)","v":1},1,1,1,"*"]
[null,949,null,null,null,null,null,null,null,null,null,null,null,null,null,null,null,null,null,null,null,null,null,null,null,null,null,null,null,null,null,null,null,null,null,null,null,null,null,null,null,null,null,null,null,null,null,null,null,null,null,null,null,null,"未","未","未","未",0,0,0,0,{"$f":"IFERROR(IF(OR(BC959=\"未\",BD959=\"未\"),1,IF(MATCH(BC959&\"/\"&BD959,③読み替え表_省エネ住宅!$G$48:$G$57,0),1,0)),0)","v":1},{"$f":"IFERROR(IF(OR(BE959=\"未\",BF959=\"未\"),1,IF(MATCH(BE959&\"/\"&BF959,③読み替え表_省エネ住宅!$G$48:$G$57,0),1,0)),0)","v":1},1,1,1,"*"]
[null,952,null,null,null,null,null,null,null,null,null,null,null,null,null,null,null,null,null,null,null,null,null,null,null,null,null,null,null,null,null,null,null,null,null,null,null,null,null,null,null,null,null,null,null,null,null,null,null,null,null,null,null,null,"未","未","未","未",0,0,0,0,{"$f":"IFERROR(IF(OR(BC962=\"未\",BD962=\"未\"),1,IF(MATCH(BC962&\"/\"&BD962,③読み替え表_省エネ住宅!$G$48:$G$57,0),1,0)),0)","v":1},{"$f":"IFERROR(IF(OR(BE962=\"未\",BF962=\"未\"),1,IF(MATCH(BE962&\"/\"&BF962,③読み替え表_省エネ住宅!$G$48:$G$57,0),1,0)),0)","v":1},1,1,1,"*"]
[null,954,null,null,null,null,null,null,null,null,null,null,null,null,null,null,null,null,null,null,null,null,null,null,null,null,null,null,null,null,null,null,null,null,null,null,null,null,null,null,null,null,null,null,null,null,null,null,null,null,null,null,null,null,"未","未","未","未",0,0,0,0,{"$f":"IFERROR(IF(OR(BC964=\"未\",BD964=\"未\"),1,IF(MATCH(BC964&\"/\"&BD964,③読み替え表_省エネ住宅!$G$48:$G$57,0),1,0)),0)","v":1},{"$f":"IFERROR(IF(OR(BE964=\"未\",BF964=\"未\"),1,IF(MATCH(BE964&\"/\"&BF964,③読み替え表_省エネ住宅!$G$48:$G$57,0),1,0)),0)","v":1},1,1,1,"*"]
[null,958,null,null,null,null,null,null,null,null,null,null,null,null,null,null,null,null,null,null,null,null,null,null,null,null,null,null,null,null,null,null,null,null,null,null,null,null,null,null,null,null,null,null,null,null,null,null,null,null,null,null,null,null,"未","未","未","未",0,0,0,0,{"$f":"IFERROR(IF(OR(BC968=\"未\",BD968=\"未\"),1,IF(MATCH(BC968&\"/\"&BD968,③読み替え表_省エネ住宅!$G$48:$G$57,0),1,0)),0)","v":1},{"$f":"IFERROR(IF(OR(BE968=\"未\",BF968=\"未\"),1,IF(MATCH(BE968&\"/\"&BF968,③読み替え表_省エネ住宅!$G$48:$G$57,0),1,0)),0)","v":1},1,1,1,"*"]
[null,961,null,null,null,null,null,null,null,null,null,null,null,null,null,null,null,null,null,null,null,null,null,null,null,null,null,null,null,null,null,null,null,null,null,null,null,null,null,null,null,null,null,null,null,null,null,null,null,null,null,null,null,null,"未","未","未","未",0,0,0,0,{"$f":"IFERROR(IF(OR(BC971=\"未\",BD971=\"未\"),1,IF(MATCH(BC971&\"/\"&BD971,③読み替え表_省エネ住宅!$G$48:$G$57,0),1,0)),0)","v":1},{"$f":"IFERROR(IF(OR(BE971=\"未\",BF971=\"未\"),1,IF(MATCH(BE971&\"/\"&BF971,③読み替え表_省エネ住宅!$G$48:$G$57,0),1,0)),0)","v":1},1,1,1,"*"]
[null,964,null,null,null,null,null,null,null,null,null,null,null,null,null,null,null,null,null,null,null,null,null,null,null,null,null,null,null,null,null,null,null,null,null,null,null,null,null,null,null,null,null,null,null,null,null,null,null,null,null,null,null,null,"未","未","未","未",0,0,0,0,{"$f":"IFERROR(IF(OR(BC974=\"未\",BD974=\"未\"),1,IF(MATCH(BC974&\"/\"&BD974,③読み替え表_省エネ住宅!$G$48:$G$57,0),1,0)),0)","v":1},{"$f":"IFERROR(IF(OR(BE974=\"未\",BF974=\"未\"),1,IF(MATCH(BE974&\"/\"&BF974,③読み替え表_省エネ住宅!$G$48:$G$57,0),1,0)),0)","v":1},1,1,1,"*"]
[null,965,null,null,null,null,null,null,null,null,null,null,null,null,null,null,null,null,null,null,null,null,null,null,null,null,null,null,null,null,null,null,null,null,null,null,null,null,null,null,null,null,null,null,null,null,null,null,null,null,null,null,null,null,"未","未","未","未",0,0,0,0,{"$f":"IFERROR(IF(OR(BC975=\"未\",BD975=\"未\"),1,IF(MATCH(BC975&\"/\"&BD975,③読み替え表_省エネ住宅!$G$48:$G$57,0),1,0)),0)","v":1},{"$f":"IFERROR(IF(OR(BE975=\"未\",BF975=\"未\"),1,IF(MATCH(BE975&\"/\"&BF975,③読み替え表_省エネ住宅!$G$48:$G$57,0),1,0)),0)","v":1},1,1,1,"*"]
[null,967,null,null,null,null,null,null,null,null,null,null,null,null,null,null,null,null,null,null,null,null,null,null,null,null,null,null,null,null,null,null,null,null,null,null,null,null,null,null,null,null,null,null,null,null,null,null,null,null,null,null,null,null,"未","未","未","未",0,0,0,0,{"$f":"IFERROR(IF(OR(BC977=\"未\",BD977=\"未\"),1,IF(MATCH(BC977&\"/\"&BD977,③読み替え表_省エネ住宅!$G$48:$G$57,0),1,0)),0)","v":1},{"$f":"IFERROR(IF(OR(BE977=\"未\",BF977=\"未\"),1,IF(MATCH(BE977&\"/\"&BF977,③読み替え表_省エネ住宅!$G$48:$G$57,0),1,0)),0)","v":1},1,1,1,"*"]
[null,971,null,null,null,null,null,null,null,null,null,null,null,null,null,null,null,null,null,null,null,null,null,null,null,null,null,null,null,null,null,null,null,null,null,null,null,null,null,null,null,null,null,null,null,null,null,null,null,null,null,null,null,null,"未","未","未","未",0,0,0,0,{"$f":"IFERROR(IF(OR(BC981=\"未\",BD981=\"未\"),1,IF(MATCH(BC981&\"/\"&BD981,③読み替え表_省エネ住宅!$G$48:$G$57,0),1,0)),0)","v":1},{"$f":"IFERROR(IF(OR(BE981=\"未\",BF981=\"未\"),1,IF(MATCH(BE981&\"/\"&BF981,③読み替え表_省エネ住宅!$G$48:$G$57,0),1,0)),0)","v":1},1,1,1,"*"]
[null,974,null,null,null,null,null,null,null,null,null,null,null,null,null,null,null,null,null,null,null,null,null,null,null,null,null,null,null,null,null,null,null,null,null,null,null,null,null,null,null,null,null,null,null,null,null,null,null,null,null,null,null,null,"未","未","未","未",0,0,0,0,{"$f":"IFERROR(IF(OR(BC984=\"未\",BD984=\"未\"),1,IF(MATCH(BC984&\"/\"&BD984,③読み替え表_省エネ住宅!$G$48:$G$57,0),1,0)),0)","v":1},{"$f":"IFERROR(IF(OR(BE984=\"未\",BF984=\"未\"),1,IF(MATCH(BE984&\"/\"&BF984,③読み替え表_省エネ住宅!$G$48:$G$57,0),1,0)),0)","v":1},1,1,1,"*"]
[null,976,null,null,null,null,null,null,null,null,null,null,null,null,null,null,null,null,null,null,null,null,null,null,null,null,null,null,null,null,null,null,null,null,null,null,null,null,null,null,null,null,null,null,null,null,null,null,null,null,null,null,null,null,"未","未","未","未",0,0,0,0,{"$f":"IFERROR(IF(OR(BC986=\"未\",BD986=\"未\"),1,IF(MATCH(BC986&\"/\"&BD986,③読み替え表_省エネ住宅!$G$48:$G$57,0),1,0)),0)","v":1},{"$f":"IFERROR(IF(OR(BE986=\"未\",BF986=\"未\"),1,IF(MATCH(BE986&\"/\"&BF986,③読み替え表_省エネ住宅!$G$48:$G$57,0),1,0)),0)","v":1},1,1,1,"*"]
[null,980,null,null,null,null,null,null,null,null,null,null,null,null,null,null,null,null,null,null,null,null,null,null,null,null,null,null,null,null,null,null,null,null,null,null,null,null,null,null,null,null,null,null,null,null,null,null,null,null,null,null,null,null,"未","未","未","未",0,0,0,0,{"$f":"IFERROR(IF(OR(BC990=\"未\",BD990=\"未\"),1,IF(MATCH(BC990&\"/\"&BD990,③読み替え表_省エネ住宅!$G$48:$G$57,0),1,0)),0)","v":1},{"$f":"IFERROR(IF(OR(BE990=\"未\",BF990=\"未\"),1,IF(MATCH(BE990&\"/\"&BF990,③読み替え表_省エネ住宅!$G$48:$G$57,0),1,0)),0)","v":1},1,1,1,"*"]
[null,983,null,null,null,null,null,null,null,null,null,null,null,null,null,null,null,null,null,null,null,null,null,null,null,null,null,null,null,null,null,null,null,null,null,null,null,null,null,null,null,null,null,null,null,null,null,null,null,null,null,null,null,null,"未","未","未","未",0,0,0,0,{"$f":"IFERROR(IF(OR(BC993=\"未\",BD993=\"未\"),1,IF(MATCH(BC993&\"/\"&BD993,③読み替え表_省エネ住宅!$G$48:$G$57,0),1,0)),0)","v":1},{"$f":"IFERROR(IF(OR(BE993=\"未\",BF993=\"未\"),1,IF(MATCH(BE993&\"/\"&BF993,③読み替え表_省エネ住宅!$G$48:$G$57,0),1,0)),0)","v":1},1,1,1,"*"]
[null,986,null,null,null,null,null,null,null,null,null,null,null,null,null,null,null,null,null,null,null,null,null,null,null,null,null,null,null,null,null,null,null,null,null,null,null,null,null,null,null,null,null,null,null,null,null,null,null,null,null,null,null,null,"未","未","未","未",0,0,0,0,{"$f":"IFERROR(IF(OR(BC996=\"未\",BD996=\"未\"),1,IF(MATCH(BC996&\"/\"&BD996,③読み替え表_省エネ住宅!$G$48:$G$57,0),1,0)),0)","v":1},{"$f":"IFERROR(IF(OR(BE996=\"未\",BF996=\"未\"),1,IF(MATCH(BE996&\"/\"&BF996,③読み替え表_省エネ住宅!$G$48:$G$57,0),1,0)),0)","v":1},1,1,1,"*"]
[null,987,null,null,null,null,null,null,null,null,null,null,null,null,null,null,null,null,null,null,null,null,null,null,null,null,null,null,null,null,null,null,null,null,null,null,null,null,null,null,null,null,null,null,null,null,null,null,null,null,null,null,null,null,"未","未","未","未",0,0,0,0,{"$f":"IFERROR(IF(OR(BC997=\"未\",BD997=\"未\"),1,IF(MATCH(BC997&\"/\"&BD997,③読み替え表_省エネ住宅!$G$48:$G$57,0),1,0)),0)","v":1},{"$f":"IFERROR(IF(OR(BE997=\"未\",BF997=\"未\"),1,IF(MATCH(BE997&\"/\"&BF997,③読み替え表_省エネ住宅!$G$48:$G$57,0),1,0)),0)","v":1},1,1,1,"*"]
[null,989,null,null,null,null,null,null,null,null,null,null,null,null,null,null,null,null,null,null,null,null,null,null,null,null,null,null,null,null,null,null,null,null,null,null,null,null,null,null,null,null,null,null,null,null,null,null,null,null,null,null,null,null,"未","未","未","未",0,0,0,0,{"$f":"IFERROR(IF(OR(BC999=\"未\",BD999=\"未\"),1,IF(MATCH(BC999&\"/\"&BD999,③読み替え表_省エネ住宅!$G$48:$G$57,0),1,0)),0)","v":1},{"$f":"IFERROR(IF(OR(BE999=\"未\",BF999=\"未\"),1,IF(MATCH(BE999&\"/\"&BF999,③読み替え表_省エネ住宅!$G$48:$G$57,0),1,0)),0)","v":1},1,1,1,"*"]
[null,993,null,null,null,null,null,null,null,null,null,null,null,null,null,null,null,null,null,null,null,null,null,null,null,null,null,null,null,null,null,null,null,null,null,null,null,null,null,null,null,null,null,null,null,null,null,null,null,null,null,null,null,null,"未","未","未","未",0,0,0,0,{"$f":"IFERROR(IF(OR(BC1003=\"未\",BD1003=\"未\"),1,IF(MATCH(BC1003&\"/\"&BD1003,③読み替え表_省エネ住宅!$G$48:$G$57,0),1,0)),0)","v":1},{"$f":"IFERROR(IF(OR(BE1003=\"未\",BF1003=\"未\"),1,IF(MATCH(BE1003&\"/\"&BF1003,③読み替え表_省エネ住宅!$G$48:$G$57,0),1,0)),0)","v":1},1,1,1,"*"]
[null,996,null,null,null,null,null,null,null,null,null,null,null,null,null,null,null,null,null,null,null,null,null,null,null,null,null,null,null,null,null,null,null,null,null,null,null,null,null,null,null,null,null,null,null,null,null,null,null,null,null,null,null,null,"未","未","未","未",0,0,0,0,{"$f":"IFERROR(IF(OR(BC1006=\"未\",BD1006=\"未\"),1,IF(MATCH(BC1006&\"/\"&BD1006,③読み替え表_省エネ住宅!$G$48:$G$57,0),1,0)),0)","v":1},{"$f":"IFERROR(IF(OR(BE1006=\"未\",BF1006=\"未\"),1,IF(MATCH(BE1006&\"/\"&BF1006,③読み替え表_省エネ住宅!$G$48:$G$57,0),1,0)),0)","v":1},1,1,1,"*"]
[null,999,null,null,null,null,null,null,null,null,null,null,null,null,null,null,null,null,null,null,null,null,null,null,null,null,null,null,null,null,null,null,null,null,null,null,null,null,null,null,null,null,null,null,null,null,null,null,null,null,null,null,null,null,"未","未","未","未",0,0,0,0,{"$f":"IFERROR(IF(OR(BC1009=\"未\",BD1009=\"未\"),1,IF(MATCH(BC1009&\"/\"&BD1009,③読み替え表_省エネ住宅!$G$48:$G$57,0),1,0)),0)","v":1},{"$f":"IFERROR(IF(OR(BE1009=\"未\",BF1009=\"未\"),1,IF(MATCH(BE1009&\"/\"&BF1009,③読み替え表_省エネ住宅!$G$48:$G$57,0),1,0)),0)","v":1},1,1,1,"*"]
[null,1002,null,null,null,null,null,null,null,null,null,null,null,null,null,null,null,null,null,null,null,null,null,null,null,null,null,null,null,null,null,null,null,null,null,null,null,null,null,null,null,null,null,null,null,null,null,null,null,null,null,null,null,null,"未","未","未","未",0,0,0,0,{"$f":"IFERROR(IF(OR(BC1012=\"未\",BD1012=\"未\"),1,IF(MATCH(BC1012&\"/\"&BD1012,③読み替え表_省エネ住宅!$G$48:$G$57,0),1,0)),0)","v":1},{"$f":"IFERROR(IF(OR(BE1012=\"未\",BF1012=\"未\"),1,IF(MATCH(BE1012&\"/\"&BF1012,③読み替え表_省エネ住宅!$G$48:$G$57,0),1,0)),0)","v":1},1,1,1,"*"]
[null,1005,null,null,null,null,null,null,null,null,null,null,null,null,null,null,null,null,null,null,null,null,null,null,null,null,null,null,null,null,null,null,null,null,null,null,null,null,null,null,null,null,null,null,null,null,null,null,null,null,null,null,null,null,"未","未","未","未",0,0,0,0,{"$f":"IFERROR(IF(OR(BC1015=\"未\",BD1015=\"未\"),1,IF(MATCH(BC1015&\"/\"&BD1015,③読み替え表_省エネ住宅!$G$48:$G$57,0),1,0)),0)","v":1},{"$f":"IFERROR(IF(OR(BE1015=\"未\",BF1015=\"未\"),1,IF(MATCH(BE1015&\"/\"&BF1015,③読み替え表_省エネ住宅!$G$48:$G$57,0),1,0)),0)","v":1},1,1,1,"*"]
[null,1006,null,null,null,null,null,null,null,null,null,null,null,null,null,null,null,null,null,null,null,null,null,null,null,null,null,null,null,null,null,null,null,null,null,null,null,null,null,null,null,null,null,null,null,null,null,null,null,null,null,null,null,null,"未","未","未","未",0,0,0,0,{"$f":"IFERROR(IF(OR(BC1016=\"未\",BD1016=\"未\"),1,IF(MATCH(BC1016&\"/\"&BD1016,③読み替え表_省エネ住宅!$G$48:$G$57,0),1,0)),0)","v":1},{"$f":"IFERROR(IF(OR(BE1016=\"未\",BF1016=\"未\"),1,IF(MATCH(BE1016&\"/\"&BF1016,③読み替え表_省エネ住宅!$G$48:$G$57,0),1,0)),0)","v":1},1,1,1,"*"]
[null,1009,null,null,null,null,null,null,null,null,null,null,null,null,null,null,null,null,null,null,null,null,null,null,null,null,null,null,null,null,null,null,null,null,null,null,null,null,null,null,null,null,null,null,null,null,null,null,null,null,null,null,null,null,"未","未","未","未",0,0,0,0,{"$f":"IFERROR(IF(OR(BC1019=\"未\",BD1019=\"未\"),1,IF(MATCH(BC1019&\"/\"&BD1019,③読み替え表_省エネ住宅!$G$48:$G$57,0),1,0)),0)","v":1},{"$f":"IFERROR(IF(OR(BE1019=\"未\",BF1019=\"未\"),1,IF(MATCH(BE1019&\"/\"&BF1019,③読み替え表_省エネ住宅!$G$48:$G$57,0),1,0)),0)","v":1},1,1,1,"*"]
[null,1013,null,null,null,null,null,null,null,null,null,null,null,null,null,null,null,null,null,null,null,null,null,null,null,null,null,null,null,null,null,null,null,null,null,null,null,null,null,null,null,null,null,null,null,null,null,null,null,null,null,null,null,null,"未","未","未","未",0,0,0,0,{"$f":"IFERROR(IF(OR(BC1023=\"未\",BD1023=\"未\"),1,IF(MATCH(BC1023&\"/\"&BD1023,③読み替え表_省エネ住宅!$G$48:$G$57,0),1,0)),0)","v":1},{"$f":"IFERROR(IF(OR(BE1023=\"未\",BF1023=\"未\"),1,IF(MATCH(BE1023&\"/\"&BF1023,③読み替え表_省エネ住宅!$G$48:$G$57,0),1,0)),0)","v":1},1,1,1,"*"]
[null,1015,null,null,null,null,null,null,null,null,null,null,null,null,null,null,null,null,null,null,null,null,null,null,null,null,null,null,null,null,null,null,null,null,null,null,null,null,null,null,null,null,null,null,null,null,null,null,null,null,null,null,null,null,"未","未","未","未",0,0,0,0,{"$f":"IFERROR(IF(OR(BC1025=\"未\",BD1025=\"未\"),1,IF(MATCH(BC1025&\"/\"&BD1025,③読み替え表_省エネ住宅!$G$48:$G$57,0),1,0)),0)","v":1},{"$f":"IFERROR(IF(OR(BE1025=\"未\",BF1025=\"未\"),1,IF(MATCH(BE1025&\"/\"&BF1025,③読み替え表_省エネ住宅!$G$48:$G$57,0),1,0)),0)","v":1},1,1,1,"*"]
[null,1018,null,null,null,null,null,null,null,null,null,null,null,null,null,null,null,null,null,null,null,null,null,null,null,null,null,null,null,null,null,null,null,null,null,null,null,null,null,null,null,null,null,null,null,null,null,null,null,null,null,null,null,null,"未","未","未","未",0,0,0,0,{"$f":"IFERROR(IF(OR(BC1028=\"未\",BD1028=\"未\"),1,IF(MATCH(BC1028&\"/\"&BD1028,③読み替え表_省エネ住宅!$G$48:$G$57,0),1,0)),0)","v":1},{"$f":"IFERROR(IF(OR(BE1028=\"未\",BF1028=\"未\"),1,IF(MATCH(BE1028&\"/\"&BF1028,③読み替え表_省エネ住宅!$G$48:$G$57,0),1,0)),0)","v":1},1,1,1,"*"]
[null,1021,null,null,null,null,null,null,null,null,null,null,null,null,null,null,null,null,null,null,null,null,null,null,null,null,null,null,null,null,null,null,null,null,null,null,null,null,null,null,null,null,null,null,null,null,null,null,null,null,null,null,null,null,"未","未","未","未",0,0,0,0,{"$f":"IFERROR(IF(OR(BC1031=\"未\",BD1031=\"未\"),1,IF(MATCH(BC1031&\"/\"&BD1031,③読み替え表_省エネ住宅!$G$48:$G$57,0),1,0)),0)","v":1},{"$f":"IFERROR(IF(OR(BE1031=\"未\",BF1031=\"未\"),1,IF(MATCH(BE1031&\"/\"&BF1031,③読み替え表_省エネ住宅!$G$48:$G$57,0),1,0)),0)","v":1},1,1,1,"*"]
[null,1024,null,null,null,null,null,null,null,null,null,null,null,null,null,null,null,null,null,null,null,null,null,null,null,null,null,null,null,null,null,null,null,null,null,null,null,null,null,null,null,null,null,null,null,null,null,null,null,null,null,null,null,null,"未","未","未","未",0,0,0,0,{"$f":"IFERROR(IF(OR(BC1034=\"未\",BD1034=\"未\"),1,IF(MATCH(BC1034&\"/\"&BD1034,③読み替え表_省エネ住宅!$G$48:$G$57,0),1,0)),0)","v":1},{"$f":"IFERROR(IF(OR(BE1034=\"未\",BF1034=\"未\"),1,IF(MATCH(BE1034&\"/\"&BF1034,③読み替え表_省エネ住宅!$G$48:$G$57,0),1,0)),0)","v":1},1,1,1,"*"]
[null,1027,null,null,null,null,null,null,null,null,null,null,null,null,null,null,null,null,null,null,null,null,null,null,null,null,null,null,null,null,null,null,null,null,null,null,null,null,null,null,null,null,null,null,null,null,null,null,null,null,null,null,null,null,"未","未","未","未",0,0,0,0,{"$f":"IFERROR(IF(OR(BC1037=\"未\",BD1037=\"未\"),1,IF(MATCH(BC1037&\"/\"&BD1037,③読み替え表_省エネ住宅!$G$48:$G$57,0),1,0)),0)","v":1},{"$f":"IFERROR(IF(OR(BE1037=\"未\",BF1037=\"未\"),1,IF(MATCH(BE1037&\"/\"&BF1037,③読み替え表_省エネ住宅!$G$48:$G$57,0),1,0)),0)","v":1},1,1,1,"*"]
[null,1028,null,null,null,null,null,null,null,null,null,null,null,null,null,null,null,null,null,null,null,null,null,null,null,null,null,null,null,null,null,null,null,null,null,null,null,null,null,null,null,null,null,null,null,null,null,null,null,null,null,null,null,null,"未","未","未","未",0,0,0,0,{"$f":"IFERROR(IF(OR(BC1038=\"未\",BD1038=\"未\"),1,IF(MATCH(BC1038&\"/\"&BD1038,③読み替え表_省エネ住宅!$G$48:$G$57,0),1,0)),0)","v":1},{"$f":"IFERROR(IF(OR(BE1038=\"未\",BF1038=\"未\"),1,IF(MATCH(BE1038&\"/\"&BF1038,③読み替え表_省エネ住宅!$G$48:$G$57,0),1,0)),0)","v":1},1,1,1,"*"]
[null,1031,null,null,null,null,null,null,null,null,null,null,null,null,null,null,null,null,null,null,null,null,null,null,null,null,null,null,null,null,null,null,null,null,null,null,null,null,null,null,null,null,null,null,null,null,null,null,null,null,null,null,null,null,"未","未","未","未",0,0,0,0,{"$f":"IFERROR(IF(OR(BC1041=\"未\",BD1041=\"未\"),1,IF(MATCH(BC1041&\"/\"&BD1041,③読み替え表_省エネ住宅!$G$48:$G$57,0),1,0)),0)","v":1},{"$f":"IFERROR(IF(OR(BE1041=\"未\",BF1041=\"未\"),1,IF(MATCH(BE1041&\"/\"&BF1041,③読み替え表_省エネ住宅!$G$48:$G$57,0),1,0)),0)","v":1},1,1,1,"*"]
[null,1034,null,null,null,null,null,null,null,null,null,null,null,null,null,null,null,null,null,null,null,null,null,null,null,null,null,null,null,null,null,null,null,null,null,null,null,null,null,null,null,null,null,null,null,null,null,null,null,null,null,null,null,null,"未","未","未","未",0,0,0,0,{"$f":"IFERROR(IF(OR(BC1044=\"未\",BD1044=\"未\"),1,IF(MATCH(BC1044&\"/\"&BD1044,③読み替え表_省エネ住宅!$G$48:$G$57,0),1,0)),0)","v":1},{"$f":"IFERROR(IF(OR(BE1044=\"未\",BF1044=\"未\"),1,IF(MATCH(BE1044&\"/\"&BF1044,③読み替え表_省エネ住宅!$G$48:$G$57,0),1,0)),0)","v":1},1,1,1,"*"]
[null,1037,null,null,null,null,null,null,null,null,null,null,null,null,null,null,null,null,null,null,null,null,null,null,null,null,null,null,null,null,null,null,null,null,null,null,null,null,null,null,null,null,null,null,null,null,null,null,null,null,null,null,null,null,"未","未","未","未",0,0,0,0,{"$f":"IFERROR(IF(OR(BC1047=\"未\",BD1047=\"未\"),1,IF(MATCH(BC1047&\"/\"&BD1047,③読み替え表_省エネ住宅!$G$48:$G$57,0),1,0)),0)","v":1},{"$f":"IFERROR(IF(OR(BE1047=\"未\",BF1047=\"未\"),1,IF(MATCH(BE1047&\"/\"&BF1047,③読み替え表_省エネ住宅!$G$48:$G$57,0),1,0)),0)","v":1},1,1,1,"*"]
[null,1040,null,null,null,null,null,null,null,null,null,null,null,null,null,null,null,null,null,null,null,null,null,null,null,null,null,null,null,null,null,null,null,null,null,null,null,null,null,null,null,null,null,null,null,null,null,null,null,null,null,null,null,null,"未","未","未","未",0,0,0,0,{"$f":"IFERROR(IF(OR(BC1050=\"未\",BD1050=\"未\"),1,IF(MATCH(BC1050&\"/\"&BD1050,③読み替え表_省エネ住宅!$G$48:$G$57,0),1,0)),0)","v":1},{"$f":"IFERROR(IF(OR(BE1050=\"未\",BF1050=\"未\"),1,IF(MATCH(BE1050&\"/\"&BF1050,③読み替え表_省エネ住宅!$G$48:$G$57,0),1,0)),0)","v":1},1,1,1,"*"]
[null,1044,null,null,null,null,null,null,null,null,null,null,null,null,null,null,null,null,null,null,null,null,null,null,null,null,null,null,null,null,null,null,null,null,null,null,null,null,null,null,null,null,null,null,null,null,null,null,null,null,null,null,null,null,"未","未","未","未",0,0,0,0,{"$f":"IFERROR(IF(OR(BC1054=\"未\",BD1054=\"未\"),1,IF(MATCH(BC1054&\"/\"&BD1054,③読み替え表_省エネ住宅!$G$48:$G$57,0),1,0)),0)","v":1},{"$f":"IFERROR(IF(OR(BE1054=\"未\",BF1054=\"未\"),1,IF(MATCH(BE1054&\"/\"&BF1054,③読み替え表_省エネ住宅!$G$48:$G$57,0),1,0)),0)","v":1},1,1,1,"*"]
[null,1047,null,null,null,null,null,null,null,null,null,null,null,null,null,null,null,null,null,null,null,null,null,null,null,null,null,null,null,null,null,null,null,null,null,null,null,null,null,null,null,null,null,null,null,null,null,null,null,null,null,null,null,null,"未","未","未","未",0,0,0,0,{"$f":"IFERROR(IF(OR(BC1057=\"未\",BD1057=\"未\"),1,IF(MATCH(BC1057&\"/\"&BD1057,③読み替え表_省エネ住宅!$G$48:$G$57,0),1,0)),0)","v":1},{"$f":"IFERROR(IF(OR(BE1057=\"未\",BF1057=\"未\"),1,IF(MATCH(BE1057&\"/\"&BF1057,③読み替え表_省エネ住宅!$G$48:$G$57,0),1,0)),0)","v":1},1,1,1,"*"]
[null,1048,null,null,null,null,null,null,null,null,null,null,null,null,null,null,null,null,null,null,null,null,null,null,null,null,null,null,null,null,null,null,null,null,null,null,null,null,null,null,null,null,null,null,null,null,null,null,null,null,null,null,null,null,"未","未","未","未",0,0,0,0,{"$f":"IFERROR(IF(OR(BC1058=\"未\",BD1058=\"未\"),1,IF(MATCH(BC1058&\"/\"&BD1058,③読み替え表_省エネ住宅!$G$48:$G$57,0),1,0)),0)","v":1},{"$f":"IFERROR(IF(OR(BE1058=\"未\",BF1058=\"未\"),1,IF(MATCH(BE1058&\"/\"&BF1058,③読み替え表_省エネ住宅!$G$48:$G$57,0),1,0)),0)","v":1},1,1,1,"*"]
[null,1050,null,null,null,null,null,null,null,null,null,null,null,null,null,null,null,null,null,null,null,null,null,null,null,null,null,null,null,null,null,null,null,null,null,null,null,null,null,null,null,null,null,null,null,null,null,null,null,null,null,null,null,null,"未","未","未","未",0,0,0,0,{"$f":"IFERROR(IF(OR(BC1060=\"未\",BD1060=\"未\"),1,IF(MATCH(BC1060&\"/\"&BD1060,③読み替え表_省エネ住宅!$G$48:$G$57,0),1,0)),0)","v":1},{"$f":"IFERROR(IF(OR(BE1060=\"未\",BF1060=\"未\"),1,IF(MATCH(BE1060&\"/\"&BF1060,③読み替え表_省エネ住宅!$G$48:$G$57,0),1,0)),0)","v":1},1,1,1,"*"]
[null,1053,null,null,null,null,null,null,null,null,null,null,null,null,null,null,null,null,null,null,null,null,null,null,null,null,null,null,null,null,null,null,null,null,null,null,null,null,null,null,null,null,null,null,null,null,null,null,null,null,null,null,null,null,"未","未","未","未",0,0,0,0,{"$f":"IFERROR(IF(OR(BC1063=\"未\",BD1063=\"未\"),1,IF(MATCH(BC1063&\"/\"&BD1063,③読み替え表_省エネ住宅!$G$48:$G$57,0),1,0)),0)","v":1},{"$f":"IFERROR(IF(OR(BE1063=\"未\",BF1063=\"未\"),1,IF(MATCH(BE1063&\"/\"&BF1063,③読み替え表_省エネ住宅!$G$48:$G$57,0),1,0)),0)","v":1},1,1,1,"*"]
[null,1056,null,null,null,null,null,null,null,null,null,null,null,null,null,null,null,null,null,null,null,null,null,null,null,null,null,null,null,null,null,null,null,null,null,null,null,null,null,null,null,null,null,null,null,null,null,null,null,null,null,null,null,null,"未","未","未","未",0,0,0,0,{"$f":"IFERROR(IF(OR(BC1066=\"未\",BD1066=\"未\"),1,IF(MATCH(BC1066&\"/\"&BD1066,③読み替え表_省エネ住宅!$G$48:$G$57,0),1,0)),0)","v":1},{"$f":"IFERROR(IF(OR(BE1066=\"未\",BF1066=\"未\"),1,IF(MATCH(BE1066&\"/\"&BF1066,③読み替え表_省エネ住宅!$G$48:$G$57,0),1,0)),0)","v":1},1,1,1,"*"]
[null,1060,null,null,null,null,null,null,null,null,null,null,null,null,null,null,null,null,null,null,null,null,null,null,null,null,null,null,null,null,null,null,null,null,null,null,null,null,null,null,null,null,null,null,null,null,null,null,null,null,null,null,null,null,"未","未","未","未",0,0,0,0,{"$f":"IFERROR(IF(OR(BC1070=\"未\",BD1070=\"未\"),1,IF(MATCH(BC1070&\"/\"&BD1070,③読み替え表_省エネ住宅!$G$48:$G$57,0),1,0)),0)","v":1},{"$f":"IFERROR(IF(OR(BE1070=\"未\",BF1070=\"未\"),1,IF(MATCH(BE1070&\"/\"&BF1070,③読み替え表_省エネ住宅!$G$48:$G$57,0),1,0)),0)","v":1},1,1,1,"*"]
[null,1063,null,null,null,null,null,null,null,null,null,null,null,null,null,null,null,null,null,null,null,null,null,null,null,null,null,null,null,null,null,null,null,null,null,null,null,null,null,null,null,null,null,null,null,null,null,null,null,null,null,null,null,null,"未","未","未","未",0,0,0,0,{"$f":"IFERROR(IF(OR(BC1073=\"未\",BD1073=\"未\"),1,IF(MATCH(BC1073&\"/\"&BD1073,③読み替え表_省エネ住宅!$G$48:$G$57,0),1,0)),0)","v":1},{"$f":"IFERROR(IF(OR(BE1073=\"未\",BF1073=\"未\"),1,IF(MATCH(BE1073&\"/\"&BF1073,③読み替え表_省エネ住宅!$G$48:$G$57,0),1,0)),0)","v":1},1,1,1,"*"]
[null,1066,null,null,null,null,null,null,null,null,null,null,null,null,null,null,null,null,null,null,null,null,null,null,null,null,null,null,null,null,null,null,null,null,null,null,null,null,null,null,null,null,null,null,null,null,null,null,null,null,null,null,null,null,"未","未","未","未",0,0,0,0,{"$f":"IFERROR(IF(OR(BC1076=\"未\",BD1076=\"未\"),1,IF(MATCH(BC1076&\"/\"&BD1076,③読み替え表_省エネ住宅!$G$48:$G$57,0),1,0)),0)","v":1},{"$f":"IFERROR(IF(OR(BE1076=\"未\",BF1076=\"未\"),1,IF(MATCH(BE1076&\"/\"&BF1076,③読み替え表_省エネ住宅!$G$48:$G$57,0),1,0)),0)","v":1},1,1,1,"*"]
[null,1069,null,null,null,null,null,null,null,null,null,null,null,null,null,null,null,null,null,null,null,null,null,null,null,null,null,null,null,null,null,null,null,null,null,null,null,null,null,null,null,null,null,null,null,null,null,null,null,null,null,null,null,null,"未","未","未","未",0,0,0,0,{"$f":"IFERROR(IF(OR(BC1079=\"未\",BD1079=\"未\"),1,IF(MATCH(BC1079&\"/\"&BD1079,③読み替え表_省エネ住宅!$G$48:$G$57,0),1,0)),0)","v":1},{"$f":"IFERROR(IF(OR(BE1079=\"未\",BF1079=\"未\"),1,IF(MATCH(BE1079&\"/\"&BF1079,③読み替え表_省エネ住宅!$G$48:$G$57,0),1,0)),0)","v":1},1,1,1,"*"]
[null,1072,null,null,null,null,null,null,null,null,null,null,null,null,null,null,null,null,null,null,null,null,null,null,null,null,null,null,null,null,null,null,null,null,null,null,null,null,null,null,null,null,null,null,null,null,null,null,null,null,null,null,null,null,"未","未","未","未",0,0,0,0,{"$f":"IFERROR(IF(OR(BC1082=\"未\",BD1082=\"未\"),1,IF(MATCH(BC1082&\"/\"&BD1082,③読み替え表_省エネ住宅!$G$48:$G$57,0),1,0)),0)","v":1},{"$f":"IFERROR(IF(OR(BE1082=\"未\",BF1082=\"未\"),1,IF(MATCH(BE1082&\"/\"&BF1082,③読み替え表_省エネ住宅!$G$48:$G$57,0),1,0)),0)","v":1},1,1,1,"*"]
[null,1074,null,null,null,null,null,null,null,null,null,null,null,null,null,null,null,null,null,null,null,null,null,null,null,null,null,null,null,null,null,null,null,null,null,null,null,null,null,null,null,null,null,null,null,null,null,null,null,null,null,null,null,null,"未","未","未","未",0,0,0,0,{"$f":"IFERROR(IF(OR(BC1084=\"未\",BD1084=\"未\"),1,IF(MATCH(BC1084&\"/\"&BD1084,③読み替え表_省エネ住宅!$G$48:$G$57,0),1,0)),0)","v":1},{"$f":"IFERROR(IF(OR(BE1084=\"未\",BF1084=\"未\"),1,IF(MATCH(BE1084&\"/\"&BF1084,③読み替え表_省エネ住宅!$G$48:$G$57,0),1,0)),0)","v":1},1,1,1,"*"]
[null,1075,null,null,null,null,null,null,null,null,null,null,null,null,null,null,null,null,null,null,null,null,null,null,null,null,null,null,null,null,null,null,null,null,null,null,null,null,null,null,null,null,null,null,null,null,null,null,null,null,null,null,null,null,"未","未","未","未",0,0,0,0,{"$f":"IFERROR(IF(OR(BC1085=\"未\",BD1085=\"未\"),1,IF(MATCH(BC1085&\"/\"&BD1085,③読み替え表_省エネ住宅!$G$48:$G$57,0),1,0)),0)","v":1},{"$f":"IFERROR(IF(OR(BE1085=\"未\",BF1085=\"未\"),1,IF(MATCH(BE1085&\"/\"&BF1085,③読み替え表_省エネ住宅!$G$48:$G$57,0),1,0)),0)","v":1},1,1,1,"*"]
[null,1078,null,null,null,null,null,null,null,null,null,null,null,null,null,null,null,null,null,null,null,null,null,null,null,null,null,null,null,null,null,null,null,null,null,null,null,null,null,null,null,null,null,null,null,null,null,null,null,null,null,null,null,null,"未","未","未","未",0,0,0,0,{"$f":"IFERROR(IF(OR(BC1088=\"未\",BD1088=\"未\"),1,IF(MATCH(BC1088&\"/\"&BD1088,③読み替え表_省エネ住宅!$G$48:$G$57,0),1,0)),0)","v":1},{"$f":"IFERROR(IF(OR(BE1088=\"未\",BF1088=\"未\"),1,IF(MATCH(BE1088&\"/\"&BF1088,③読み替え表_省エネ住宅!$G$48:$G$57,0),1,0)),0)","v":1},1,1,1,"*"]
[null,1082,null,null,null,null,null,null,null,null,null,null,null,null,null,null,null,null,null,null,null,null,null,null,null,null,null,null,null,null,null,null,null,null,null,null,null,null,null,null,null,null,null,null,null,null,null,null,null,null,null,null,null,null,"未","未","未","未",0,0,0,0,{"$f":"IFERROR(IF(OR(BC1092=\"未\",BD1092=\"未\"),1,IF(MATCH(BC1092&\"/\"&BD1092,③読み替え表_省エネ住宅!$G$48:$G$57,0),1,0)),0)","v":1},{"$f":"IFERROR(IF(OR(BE1092=\"未\",BF1092=\"未\"),1,IF(MATCH(BE1092&\"/\"&BF1092,③読み替え表_省エネ住宅!$G$48:$G$57,0),1,0)),0)","v":1},1,1,1,"*"]
[null,1085,null,null,null,null,null,null,null,null,null,null,null,null,null,null,null,null,null,null,null,null,null,null,null,null,null,null,null,null,null,null,null,null,null,null,null,null,null,null,null,null,null,null,null,null,null,null,null,null,null,null,null,null,"未","未","未","未",0,0,0,0,{"$f":"IFERROR(IF(OR(BC1095=\"未\",BD1095=\"未\"),1,IF(MATCH(BC1095&\"/\"&BD1095,③読み替え表_省エネ住宅!$G$48:$G$57,0),1,0)),0)","v":1},{"$f":"IFERROR(IF(OR(BE1095=\"未\",BF1095=\"未\"),1,IF(MATCH(BE1095&\"/\"&BF1095,③読み替え表_省エネ住宅!$G$48:$G$57,0),1,0)),0)","v":1},1,1,1,"*"]
[null,1088,null,null,null,null,null,null,null,null,null,null,null,null,null,null,null,null,null,null,null,null,null,null,null,null,null,null,null,null,null,null,null,null,null,null,null,null,null,null,null,null,null,null,null,null,null,null,null,null,null,null,null,null,"未","未","未","未",0,0,0,0,{"$f":"IFERROR(IF(OR(BC1098=\"未\",BD1098=\"未\"),1,IF(MATCH(BC1098&\"/\"&BD1098,③読み替え表_省エネ住宅!$G$48:$G$57,0),1,0)),0)","v":1},{"$f":"IFERROR(IF(OR(BE1098=\"未\",BF1098=\"未\"),1,IF(MATCH(BE1098&\"/\"&BF1098,③読み替え表_省エネ住宅!$G$48:$G$57,0),1,0)),0)","v":1},1,1,1,"*"]
[null,1091,null,null,null,null,null,null,null,null,null,null,null,null,null,null,null,null,null,null,null,null,null,null,null,null,null,null,null,null,null,null,null,null,null,null,null,null,null,null,null,null,null,null,null,null,null,null,null,null,null,null,null,null,"未","未","未","未",0,0,0,0,{"$f":"IFERROR(IF(OR(BC1101=\"未\",BD1101=\"未\"),1,IF(MATCH(BC1101&\"/\"&BD1101,③読み替え表_省エネ住宅!$G$48:$G$57,0),1,0)),0)","v":1},{"$f":"IFERROR(IF(OR(BE1101=\"未\",BF1101=\"未\"),1,IF(MATCH(BE1101&\"/\"&BF1101,③読み替え表_省エネ住宅!$G$48:$G$57,0),1,0)),0)","v":1},1,1,1,"*"]
[null,1094,null,null,null,null,null,null,null,null,null,null,null,null,null,null,null,null,null,null,null,null,null,null,null,null,null,null,null,null,null,null,null,null,null,null,null,null,null,null,null,null,null,null,null,null,null,null,null,null,null,null,null,null,"未","未","未","未",0,0,0,0,{"$f":"IFERROR(IF(OR(BC1104=\"未\",BD1104=\"未\"),1,IF(MATCH(BC1104&\"/\"&BD1104,③読み替え表_省エネ住宅!$G$48:$G$57,0),1,0)),0)","v":1},{"$f":"IFERROR(IF(OR(BE1104=\"未\",BF1104=\"未\"),1,IF(MATCH(BE1104&\"/\"&BF1104,③読み替え表_省エネ住宅!$G$48:$G$57,0),1,0)),0)","v":1},1,1,1,"*"]
[null,1095,null,null,null,null,null,null,null,null,null,null,null,null,null,null,null,null,null,null,null,null,null,null,null,null,null,null,null,null,null,null,null,null,null,null,null,null,null,null,null,null,null,null,null,null,null,null,null,null,null,null,null,null,"未","未","未","未",0,0,0,0,{"$f":"IFERROR(IF(OR(BC1105=\"未\",BD1105=\"未\"),1,IF(MATCH(BC1105&\"/\"&BD1105,③読み替え表_省エネ住宅!$G$48:$G$57,0),1,0)),0)","v":1},{"$f":"IFERROR(IF(OR(BE1105=\"未\",BF1105=\"未\"),1,IF(MATCH(BE1105&\"/\"&BF1105,③読み替え表_省エネ住宅!$G$48:$G$57,0),1,0)),0)","v":1},1,1,1,"*"]
[null,1098,null,null,null,null,null,null,null,null,null,null,null,null,null,null,null,null,null,null,null,null,null,null,null,null,null,null,null,null,null,null,null,null,null,null,null,null,null,null,null,null,null,null,null,null,null,null,null,null,null,null,null,null,"未","未","未","未",0,0,0,0,{"$f":"IFERROR(IF(OR(BC1108=\"未\",BD1108=\"未\"),1,IF(MATCH(BC1108&\"/\"&BD1108,③読み替え表_省エネ住宅!$G$48:$G$57,0),1,0)),0)","v":1},{"$f":"IFERROR(IF(OR(BE1108=\"未\",BF1108=\"未\"),1,IF(MATCH(BE1108&\"/\"&BF1108,③読み替え表_省エネ住宅!$G$48:$G$57,0),1,0)),0)","v":1},1,1,1,"*"]
[null,1101,null,null,null,null,null,null,null,null,null,null,null,null,null,null,null,null,null,null,null,null,null,null,null,null,null,null,null,null,null,null,null,null,null,null,null,null,null,null,null,null,null,null,null,null,null,null,null,null,null,null,null,null,"未","未","未","未",0,0,0,0,{"$f":"IFERROR(IF(OR(BC1111=\"未\",BD1111=\"未\"),1,IF(MATCH(BC1111&\"/\"&BD1111,③読み替え表_省エネ住宅!$G$48:$G$57,0),1,0)),0)","v":1},{"$f":"IFERROR(IF(OR(BE1111=\"未\",BF1111=\"未\"),1,IF(MATCH(BE1111&\"/\"&BF1111,③読み替え表_省エネ住宅!$G$48:$G$57,0),1,0)),0)","v":1},1,1,1,"*"]
[null,1104,null,null,null,null,null,null,null,null,null,null,null,null,null,null,null,null,null,null,null,null,null,null,null,null,null,null,null,null,null,null,null,null,null,null,null,null,null,null,null,null,null,null,null,null,null,null,null,null,null,null,null,null,"未","未","未","未",0,0,0,0,{"$f":"IFERROR(IF(OR(BC1114=\"未\",BD1114=\"未\"),1,IF(MATCH(BC1114&\"/\"&BD1114,③読み替え表_省エネ住宅!$G$48:$G$57,0),1,0)),0)","v":1},{"$f":"IFERROR(IF(OR(BE1114=\"未\",BF1114=\"未\"),1,IF(MATCH(BE1114&\"/\"&BF1114,③読み替え表_省エネ住宅!$G$48:$G$57,0),1,0)),0)","v":1},1,1,1,"*"]
[null,1107,null,null,null,null,null,null,null,null,null,null,null,null,null,null,null,null,null,null,null,null,null,null,null,null,null,null,null,null,null,null,null,null,null,null,null,null,null,null,null,null,null,null,null,null,null,null,null,null,null,null,null,null,"未","未","未","未",0,0,0,0,{"$f":"IFERROR(IF(OR(BC1117=\"未\",BD1117=\"未\"),1,IF(MATCH(BC1117&\"/\"&BD1117,③読み替え表_省エネ住宅!$G$48:$G$57,0),1,0)),0)","v":1},{"$f":"IFERROR(IF(OR(BE1117=\"未\",BF1117=\"未\"),1,IF(MATCH(BE1117&\"/\"&BF1117,③読み替え表_省エネ住宅!$G$48:$G$57,0),1,0)),0)","v":1},1,1,1,"*"]
[null,1109,null,null,null,null,null,null,null,null,null,null,null,null,null,null,null,null,null,null,null,null,null,null,null,null,null,null,null,null,null,null,null,null,null,null,null,null,null,null,null,null,null,null,null,null,null,null,null,null,null,null,null,null,"未","未","未","未",0,0,0,0,{"$f":"IFERROR(IF(OR(BC1119=\"未\",BD1119=\"未\"),1,IF(MATCH(BC1119&\"/\"&BD1119,③読み替え表_省エネ住宅!$G$48:$G$57,0),1,0)),0)","v":1},{"$f":"IFERROR(IF(OR(BE1119=\"未\",BF1119=\"未\"),1,IF(MATCH(BE1119&\"/\"&BF1119,③読み替え表_省エネ住宅!$G$48:$G$57,0),1,0)),0)","v":1},1,1,1,"*"]
[null,1113,null,null,null,null,null,null,null,null,null,null,null,null,null,null,null,null,null,null,null,null,null,null,null,null,null,null,null,null,null,null,null,null,null,null,null,null,null,null,null,null,null,null,null,null,null,null,null,null,null,null,null,null,"未","未","未","未",0,0,0,0,{"$f":"IFERROR(IF(OR(BC1123=\"未\",BD1123=\"未\"),1,IF(MATCH(BC1123&\"/\"&BD1123,③読み替え表_省エネ住宅!$G$48:$G$57,0),1,0)),0)","v":1},{"$f":"IFERROR(IF(OR(BE1123=\"未\",BF1123=\"未\"),1,IF(MATCH(BE1123&\"/\"&BF1123,③読み替え表_省エネ住宅!$G$48:$G$57,0),1,0)),0)","v":1},1,1,1,"*"]
[null,1116,null,null,null,null,null,null,null,null,null,null,null,null,null,null,null,null,null,null,null,null,null,null,null,null,null,null,null,null,null,null,null,null,null,null,null,null,null,null,null,null,null,null,null,null,null,null,null,null,null,null,null,null,"未","未","未","未",0,0,0,0,{"$f":"IFERROR(IF(OR(BC1126=\"未\",BD1126=\"未\"),1,IF(MATCH(BC1126&\"/\"&BD1126,③読み替え表_省エネ住宅!$G$48:$G$57,0),1,0)),0)","v":1},{"$f":"IFERROR(IF(OR(BE1126=\"未\",BF1126=\"未\"),1,IF(MATCH(BE1126&\"/\"&BF1126,③読み替え表_省エネ住宅!$G$48:$G$57,0),1,0)),0)","v":1},1,1,1,"*"]
[null,1117,null,null,null,null,null,null,null,null,null,null,null,null,null,null,null,null,null,null,null,null,null,null,null,null,null,null,null,null,null,null,null,null,null,null,null,null,null,null,null,null,null,null,null,null,null,null,null,null,null,null,null,null,"未","未","未","未",0,0,0,0,{"$f":"IFERROR(IF(OR(BC1127=\"未\",BD1127=\"未\"),1,IF(MATCH(BC1127&\"/\"&BD1127,③読み替え表_省エネ住宅!$G$48:$G$57,0),1,0)),0)","v":1},{"$f":"IFERROR(IF(OR(BE1127=\"未\",BF1127=\"未\"),1,IF(MATCH(BE1127&\"/\"&BF1127,③読み替え表_省エネ住宅!$G$48:$G$57,0),1,0)),0)","v":1},1,1,1,"*"]
[null,1120,null,null,null,null,null,null,null,null,null,null,null,null,null,null,null,null,null,null,null,null,null,null,null,null,null,null,null,null,null,null,null,null,null,null,null,null,null,null,null,null,null,null,null,null,null,null,null,null,null,null,null,null,"未","未","未","未",0,0,0,0,{"$f":"IFERROR(IF(OR(BC1130=\"未\",BD1130=\"未\"),1,IF(MATCH(BC1130&\"/\"&BD1130,③読み替え表_省エネ住宅!$G$48:$G$57,0),1,0)),0)","v":1},{"$f":"IFERROR(IF(OR(BE1130=\"未\",BF1130=\"未\"),1,IF(MATCH(BE1130&\"/\"&BF1130,③読み替え表_省エネ住宅!$G$48:$G$57,0),1,0)),0)","v":1},1,1,1,"*"]
[null,1124,null,null,null,null,null,null,null,null,null,null,null,null,null,null,null,null,null,null,null,null,null,null,null,null,null,null,null,null,null,null,null,null,null,null,null,null,null,null,null,null,null,null,null,null,null,null,null,null,null,null,null,null,"未","未","未","未",0,0,0,0,{"$f":"IFERROR(IF(OR(BC1134=\"未\",BD1134=\"未\"),1,IF(MATCH(BC1134&\"/\"&BD1134,③読み替え表_省エネ住宅!$G$48:$G$57,0),1,0)),0)","v":1},{"$f":"IFERROR(IF(OR(BE1134=\"未\",BF1134=\"未\"),1,IF(MATCH(BE1134&\"/\"&BF1134,③読み替え表_省エネ住宅!$G$48:$G$57,0),1,0)),0)","v":1},1,1,1,"*"]
[null,1126,null,null,null,null,null,null,null,null,null,null,null,null,null,null,null,null,null,null,null,null,null,null,null,null,null,null,null,null,null,null,null,null,null,null,null,null,null,null,null,null,null,null,null,null,null,null,null,null,null,null,null,null,"未","未","未","未",0,0,0,0,{"$f":"IFERROR(IF(OR(BC1136=\"未\",BD1136=\"未\"),1,IF(MATCH(BC1136&\"/\"&BD1136,③読み替え表_省エネ住宅!$G$48:$G$57,0),1,0)),0)","v":1},{"$f":"IFERROR(IF(OR(BE1136=\"未\",BF1136=\"未\"),1,IF(MATCH(BE1136&\"/\"&BF1136,③読み替え表_省エネ住宅!$G$48:$G$57,0),1,0)),0)","v":1},1,1,1,"*"]
[null,1129,null,null,null,null,null,null,null,null,null,null,null,null,null,null,null,null,null,null,null,null,null,null,null,null,null,null,null,null,null,null,null,null,null,null,null,null,null,null,null,null,null,null,null,null,null,null,null,null,null,null,null,null,"未","未","未","未",0,0,0,0,{"$f":"IFERROR(IF(OR(BC1139=\"未\",BD1139=\"未\"),1,IF(MATCH(BC1139&\"/\"&BD1139,③読み替え表_省エネ住宅!$G$48:$G$57,0),1,0)),0)","v":1},{"$f":"IFERROR(IF(OR(BE1139=\"未\",BF1139=\"未\"),1,IF(MATCH(BE1139&\"/\"&BF1139,③読み替え表_省エネ住宅!$G$48:$G$57,0),1,0)),0)","v":1},1,1,1,"*"]
[null,1133,null,null,null,null,null,null,null,null,null,null,null,null,null,null,null,null,null,null,null,null,null,null,null,null,null,null,null,null,null,null,null,null,null,null,null,null,null,null,null,null,null,null,null,null,null,null,null,null,null,null,null,null,"未","未","未","未",0,0,0,0,{"$f":"IFERROR(IF(OR(BC1143=\"未\",BD1143=\"未\"),1,IF(MATCH(BC1143&\"/\"&BD1143,③読み替え表_省エネ住宅!$G$48:$G$57,0),1,0)),0)","v":1},{"$f":"IFERROR(IF(OR(BE1143=\"未\",BF1143=\"未\"),1,IF(MATCH(BE1143&\"/\"&BF1143,③読み替え表_省エネ住宅!$G$48:$G$57,0),1,0)),0)","v":1},1,1,1,"*"]
[null,1135,null,null,null,null,null,null,null,null,null,null,null,null,null,null,null,null,null,null,null,null,null,null,null,null,null,null,null,null,null,null,null,null,null,null,null,null,null,null,null,null,null,null,null,null,null,null,null,null,null,null,null,null,"未","未","未","未",0,0,0,0,{"$f":"IFERROR(IF(OR(BC1145=\"未\",BD1145=\"未\"),1,IF(MATCH(BC1145&\"/\"&BD1145,③読み替え表_省エネ住宅!$G$48:$G$57,0),1,0)),0)","v":1},{"$f":"IFERROR(IF(OR(BE1145=\"未\",BF1145=\"未\"),1,IF(MATCH(BE1145&\"/\"&BF1145,③読み替え表_省エネ住宅!$G$48:$G$57,0),1,0)),0)","v":1},1,1,1,"*"]
[null,1138,null,null,null,null,null,null,null,null,null,null,null,null,null,null,null,null,null,null,null,null,null,null,null,null,null,null,null,null,null,null,null,null,null,null,null,null,null,null,null,null,null,null,null,null,null,null,null,null,null,null,null,null,"未","未","未","未",0,0,0,0,{"$f":"IFERROR(IF(OR(BC1148=\"未\",BD1148=\"未\"),1,IF(MATCH(BC1148&\"/\"&BD1148,③読み替え表_省エネ住宅!$G$48:$G$57,0),1,0)),0)","v":1},{"$f":"IFERROR(IF(OR(BE1148=\"未\",BF1148=\"未\"),1,IF(MATCH(BE1148&\"/\"&BF1148,③読み替え表_省エネ住宅!$G$48:$G$57,0),1,0)),0)","v":1},1,1,1,"*"]
[null,1139,null,null,null,null,null,null,null,null,null,null,null,null,null,null,null,null,null,null,null,null,null,null,null,null,null,null,null,null,null,null,null,null,null,null,null,null,null,null,null,null,null,null,null,null,null,null,null,null,null,null,null,null,"未","未","未","未",0,0,0,0,{"$f":"IFERROR(IF(OR(BC1149=\"未\",BD1149=\"未\"),1,IF(MATCH(BC1149&\"/\"&BD1149,③読み替え表_省エネ住宅!$G$48:$G$57,0),1,0)),0)","v":1},{"$f":"IFERROR(IF(OR(BE1149=\"未\",BF1149=\"未\"),1,IF(MATCH(BE1149&\"/\"&BF1149,③読み替え表_省エネ住宅!$G$48:$G$57,0),1,0)),0)","v":1},1,1,1,"*"]
[null,1142,null,null,null,null,null,null,null,null,null,null,null,null,null,null,null,null,null,null,null,null,null,null,null,null,null,null,null,null,null,null,null,null,null,null,null,null,null,null,null,null,null,null,null,null,null,null,null,null,null,null,null,null,"未","未","未","未",0,0,0,0,{"$f":"IFERROR(IF(OR(BC1152=\"未\",BD1152=\"未\"),1,IF(MATCH(BC1152&\"/\"&BD1152,③読み替え表_省エネ住宅!$G$48:$G$57,0),1,0)),0)","v":1},{"$f":"IFERROR(IF(OR(BE1152=\"未\",BF1152=\"未\"),1,IF(MATCH(BE1152&\"/\"&BF1152,③読み替え表_省エネ住宅!$G$48:$G$57,0),1,0)),0)","v":1},1,1,1,"*"]
[null,1146,null,null,null,null,null,null,null,null,null,null,null,null,null,null,null,null,null,null,null,null,null,null,null,null,null,null,null,null,null,null,null,null,null,null,null,null,null,null,null,null,null,null,null,null,null,null,null,null,null,null,null,null,"未","未","未","未",0,0,0,0,{"$f":"IFERROR(IF(OR(BC1156=\"未\",BD1156=\"未\"),1,IF(MATCH(BC1156&\"/\"&BD1156,③読み替え表_省エネ住宅!$G$48:$G$57,0),1,0)),0)","v":1},{"$f":"IFERROR(IF(OR(BE1156=\"未\",BF1156=\"未\"),1,IF(MATCH(BE1156&\"/\"&BF1156,③読み替え表_省エネ住宅!$G$48:$G$57,0),1,0)),0)","v":1},1,1,1,"*"]
[null,1148,null,null,null,null,null,null,null,null,null,null,null,null,null,null,null,null,null,null,null,null,null,null,null,null,null,null,null,null,null,null,null,null,null,null,null,null,null,null,null,null,null,null,null,null,null,null,null,null,null,null,null,null,"未","未","未","未",0,0,0,0,{"$f":"IFERROR(IF(OR(BC1158=\"未\",BD1158=\"未\"),1,IF(MATCH(BC1158&\"/\"&BD1158,③読み替え表_省エネ住宅!$G$48:$G$57,0),1,0)),0)","v":1},{"$f":"IFERROR(IF(OR(BE1158=\"未\",BF1158=\"未\"),1,IF(MATCH(BE1158&\"/\"&BF1158,③読み替え表_省エネ住宅!$G$48:$G$57,0),1,0)),0)","v":1},1,1,1,"*"]
[null,1151,null,null,null,null,null,null,null,null,null,null,null,null,null,null,null,null,null,null,null,null,null,null,null,null,null,null,null,null,null,null,null,null,null,null,null,null,null,null,null,null,null,null,null,null,null,null,null,null,null,null,null,null,"未","未","未","未",0,0,0,0,{"$f":"IFERROR(IF(OR(BC1161=\"未\",BD1161=\"未\"),1,IF(MATCH(BC1161&\"/\"&BD1161,③読み替え表_省エネ住宅!$G$48:$G$57,0),1,0)),0)","v":1},{"$f":"IFERROR(IF(OR(BE1161=\"未\",BF1161=\"未\"),1,IF(MATCH(BE1161&\"/\"&BF1161,③読み替え表_省エネ住宅!$G$48:$G$57,0),1,0)),0)","v":1},1,1,1,"*"]
[null,1155,null,null,null,null,null,null,null,null,null,null,null,null,null,null,null,null,null,null,null,null,null,null,null,null,null,null,null,null,null,null,null,null,null,null,null,null,null,null,null,null,null,null,null,null,null,null,null,null,null,null,null,null,"未","未","未","未",0,0,0,0,{"$f":"IFERROR(IF(OR(BC1165=\"未\",BD1165=\"未\"),1,IF(MATCH(BC1165&\"/\"&BD1165,③読み替え表_省エネ住宅!$G$48:$G$57,0),1,0)),0)","v":1},{"$f":"IFERROR(IF(OR(BE1165=\"未\",BF1165=\"未\"),1,IF(MATCH(BE1165&\"/\"&BF1165,③読み替え表_省エネ住宅!$G$48:$G$57,0),1,0)),0)","v":1},1,1,1,"*"]
[null,1158,null,null,null,null,null,null,null,null,null,null,null,null,null,null,null,null,null,null,null,null,null,null,null,null,null,null,null,null,null,null,null,null,null,null,null,null,null,null,null,null,null,null,null,null,null,null,null,null,null,null,null,null,"未","未","未","未",0,0,0,0,{"$f":"IFERROR(IF(OR(BC1168=\"未\",BD1168=\"未\"),1,IF(MATCH(BC1168&\"/\"&BD1168,③読み替え表_省エネ住宅!$G$48:$G$57,0),1,0)),0)","v":1},{"$f":"IFERROR(IF(OR(BE1168=\"未\",BF1168=\"未\"),1,IF(MATCH(BE1168&\"/\"&BF1168,③読み替え表_省エネ住宅!$G$48:$G$57,0),1,0)),0)","v":1},1,1,1,"*"]
[null,1159,null,null,null,null,null,null,null,null,null,null,null,null,null,null,null,null,null,null,null,null,null,null,null,null,null,null,null,null,null,null,null,null,null,null,null,null,null,null,null,null,null,null,null,null,null,null,null,null,null,null,null,null,"未","未","未","未",0,0,0,0,{"$f":"IFERROR(IF(OR(BC1169=\"未\",BD1169=\"未\"),1,IF(MATCH(BC1169&\"/\"&BD1169,③読み替え表_省エネ住宅!$G$48:$G$57,0),1,0)),0)","v":1},{"$f":"IFERROR(IF(OR(BE1169=\"未\",BF1169=\"未\"),1,IF(MATCH(BE1169&\"/\"&BF1169,③読み替え表_省エネ住宅!$G$48:$G$57,0),1,0)),0)","v":1},1,1,1,"*"]
[null,1161,null,null,null,null,null,null,null,null,null,null,null,null,null,null,null,null,null,null,null,null,null,null,null,null,null,null,null,null,null,null,null,null,null,null,null,null,null,null,null,null,null,null,null,null,null,null,null,null,null,null,null,null,"未","未","未","未",0,0,0,0,{"$f":"IFERROR(IF(OR(BC1171=\"未\",BD1171=\"未\"),1,IF(MATCH(BC1171&\"/\"&BD1171,③読み替え表_省エネ住宅!$G$48:$G$57,0),1,0)),0)","v":1},{"$f":"IFERROR(IF(OR(BE1171=\"未\",BF1171=\"未\"),1,IF(MATCH(BE1171&\"/\"&BF1171,③読み替え表_省エネ住宅!$G$48:$G$57,0),1,0)),0)","v":1},1,1,1,"*"]
[null,1164,null,null,null,null,null,null,null,null,null,null,null,null,null,null,null,null,null,null,null,null,null,null,null,null,null,null,null,null,null,null,null,null,null,null,null,null,null,null,null,null,null,null,null,null,null,null,null,null,null,null,null,null,"未","未","未","未",0,0,0,0,{"$f":"IFERROR(IF(OR(BC1174=\"未\",BD1174=\"未\"),1,IF(MATCH(BC1174&\"/\"&BD1174,③読み替え表_省エネ住宅!$G$48:$G$57,0),1,0)),0)","v":1},{"$f":"IFERROR(IF(OR(BE1174=\"未\",BF1174=\"未\"),1,IF(MATCH(BE1174&\"/\"&BF1174,③読み替え表_省エネ住宅!$G$48:$G$57,0),1,0)),0)","v":1},1,1,1,"*"]
[null,1168,null,null,null,null,null,null,null,null,null,null,null,null,null,null,null,null,null,null,null,null,null,null,null,null,null,null,null,null,null,null,null,null,null,null,null,null,null,null,null,null,null,null,null,null,null,null,null,null,null,null,null,null,"未","未","未","未",0,0,0,0,{"$f":"IFERROR(IF(OR(BC1178=\"未\",BD1178=\"未\"),1,IF(MATCH(BC1178&\"/\"&BD1178,③読み替え表_省エネ住宅!$G$48:$G$57,0),1,0)),0)","v":1},{"$f":"IFERROR(IF(OR(BE1178=\"未\",BF1178=\"未\"),1,IF(MATCH(BE1178&\"/\"&BF1178,③読み替え表_省エネ住宅!$G$48:$G$57,0),1,0)),0)","v":1},1,1,1,"*"]
[null,1170,null,null,null,null,null,null,null,null,null,null,null,null,null,null,null,null,null,null,null,null,null,null,null,null,null,null,null,null,null,null,null,null,null,null,null,null,null,null,null,null,null,null,null,null,null,null,null,null,null,null,null,null,"未","未","未","未",0,0,0,0,{"$f":"IFERROR(IF(OR(BC1180=\"未\",BD1180=\"未\"),1,IF(MATCH(BC1180&\"/\"&BD1180,③読み替え表_省エネ住宅!$G$48:$G$57,0),1,0)),0)","v":1},{"$f":"IFERROR(IF(OR(BE1180=\"未\",BF1180=\"未\"),1,IF(MATCH(BE1180&\"/\"&BF1180,③読み替え表_省エネ住宅!$G$48:$G$57,0),1,0)),0)","v":1},1,1,1,"*"]
[null,1173,null,null,null,null,null,null,null,null,null,null,null,null,null,null,null,null,null,null,null,null,null,null,null,null,null,null,null,null,null,null,null,null,null,null,null,null,null,null,null,null,null,null,null,null,null,null,null,null,null,null,null,null,"未","未","未","未",0,0,0,0,{"$f":"IFERROR(IF(OR(BC1183=\"未\",BD1183=\"未\"),1,IF(MATCH(BC1183&\"/\"&BD1183,③読み替え表_省エネ住宅!$G$48:$G$57,0),1,0)),0)","v":1},{"$f":"IFERROR(IF(OR(BE1183=\"未\",BF1183=\"未\"),1,IF(MATCH(BE1183&\"/\"&BF1183,③読み替え表_省エネ住宅!$G$48:$G$57,0),1,0)),0)","v":1},1,1,1,"*"]
[null,1177,null,null,null,null,null,null,null,null,null,null,null,null,null,null,null,null,null,null,null,null,null,null,null,null,null,null,null,null,null,null,null,null,null,null,null,null,null,null,null,null,null,null,null,null,null,null,null,null,null,null,null,null,"未","未","未","未",0,0,0,0,{"$f":"IFERROR(IF(OR(BC1187=\"未\",BD1187=\"未\"),1,IF(MATCH(BC1187&\"/\"&BD1187,③読み替え表_省エネ住宅!$G$48:$G$57,0),1,0)),0)","v":1},{"$f":"IFERROR(IF(OR(BE1187=\"未\",BF1187=\"未\"),1,IF(MATCH(BE1187&\"/\"&BF1187,③読み替え表_省エネ住宅!$G$48:$G$57,0),1,0)),0)","v":1},1,1,1,"*"]
[null,1180,null,null,null,null,null,null,null,null,null,null,null,null,null,null,null,null,null,null,null,null,null,null,null,null,null,null,null,null,null,null,null,null,null,null,null,null,null,null,null,null,null,null,null,null,null,null,null,null,null,null,null,null,"未","未","未","未",0,0,0,0,{"$f":"IFERROR(IF(OR(BC1190=\"未\",BD1190=\"未\"),1,IF(MATCH(BC1190&\"/\"&BD1190,③読み替え表_省エネ住宅!$G$48:$G$57,0),1,0)),0)","v":1},{"$f":"IFERROR(IF(OR(BE1190=\"未\",BF1190=\"未\"),1,IF(MATCH(BE1190&\"/\"&BF1190,③読み替え表_省エネ住宅!$G$48:$G$57,0),1,0)),0)","v":1},1,1,1,"*"]
[null,1181,null,null,null,null,null,null,null,null,null,null,null,null,null,null,null,null,null,null,null,null,null,null,null,null,null,null,null,null,null,null,null,null,null,null,null,null,null,null,null,null,null,null,null,null,null,null,null,null,null,null,null,null,"未","未","未","未",0,0,0,0,{"$f":"IFERROR(IF(OR(BC1191=\"未\",BD1191=\"未\"),1,IF(MATCH(BC1191&\"/\"&BD1191,③読み替え表_省エネ住宅!$G$48:$G$57,0),1,0)),0)","v":1},{"$f":"IFERROR(IF(OR(BE1191=\"未\",BF1191=\"未\"),1,IF(MATCH(BE1191&\"/\"&BF1191,③読み替え表_省エネ住宅!$G$48:$G$57,0),1,0)),0)","v":1},1,1,1,"*"]
[null,1185,null,null,null,null,null,null,null,null,null,null,null,null,null,null,null,null,null,null,null,null,null,null,null,null,null,null,null,null,null,null,null,null,null,null,null,null,null,null,null,null,null,null,null,null,null,null,null,null,null,null,null,null,"未","未","未","未",0,0,0,0,{"$f":"IFERROR(IF(OR(BC1195=\"未\",BD1195=\"未\"),1,IF(MATCH(BC1195&\"/\"&BD1195,③読み替え表_省エネ住宅!$G$48:$G$57,0),1,0)),0)","v":1},{"$f":"IFERROR(IF(OR(BE1195=\"未\",BF1195=\"未\"),1,IF(MATCH(BE1195&\"/\"&BF1195,③読み替え表_省エネ住宅!$G$48:$G$57,0),1,0)),0)","v":1},1,1,1,"*"]
[null,1186,null,null,null,null,null,null,null,null,null,null,null,null,null,null,null,null,null,null,null,null,null,null,null,null,null,null,null,null,null,null,null,null,null,null,null,null,null,null,null,null,null,null,null,null,null,null,null,null,null,null,null,null,"未","未","未","未",0,0,0,0,{"$f":"IFERROR(IF(OR(BC1196=\"未\",BD1196=\"未\"),1,IF(MATCH(BC1196&\"/\"&BD1196,③読み替え表_省エネ住宅!$G$48:$G$57,0),1,0)),0)","v":1},{"$f":"IFERROR(IF(OR(BE1196=\"未\",BF1196=\"未\"),1,IF(MATCH(BE1196&\"/\"&BF1196,③読み替え表_省エネ住宅!$G$48:$G$57,0),1,0)),0)","v":1},1,1,1,"*"]
[null,1190,null,null,null,null,null,null,null,null,null,null,null,null,null,null,null,null,null,null,null,null,null,null,null,null,null,null,null,null,null,null,null,null,null,null,null,null,null,null,null,null,null,null,null,null,null,null,null,null,null,null,null,null,"未","未","未","未",0,0,0,0,{"$f":"IFERROR(IF(OR(BC1200=\"未\",BD1200=\"未\"),1,IF(MATCH(BC1200&\"/\"&BD1200,③読み替え表_省エネ住宅!$G$48:$G$57,0),1,0)),0)","v":1},{"$f":"IFERROR(IF(OR(BE1200=\"未\",BF1200=\"未\"),1,IF(MATCH(BE1200&\"/\"&BF1200,③読み替え表_省エネ住宅!$G$48:$G$57,0),1,0)),0)","v":1},1,1,1,"*"]
[null,1193,null,null,null,null,null,null,null,null,null,null,null,null,null,null,null,null,null,null,null,null,null,null,null,null,null,null,null,null,null,null,null,null,null,null,null,null,null,null,null,null,null,null,null,null,null,null,null,null,null,null,null,null,"未","未","未","未",0,0,0,0,{"$f":"IFERROR(IF(OR(BC1203=\"未\",BD1203=\"未\"),1,IF(MATCH(BC1203&\"/\"&BD1203,③読み替え表_省エネ住宅!$G$48:$G$57,0),1,0)),0)","v":1},{"$f":"IFERROR(IF(OR(BE1203=\"未\",BF1203=\"未\"),1,IF(MATCH(BE1203&\"/\"&BF1203,③読み替え表_省エネ住宅!$G$48:$G$57,0),1,0)),0)","v":1},1,1,1,"*"]
[null,1196,null,null,null,null,null,null,null,null,null,null,null,null,null,null,null,null,null,null,null,null,null,null,null,null,null,null,null,null,null,null,null,null,null,null,null,null,null,null,null,null,null,null,null,null,null,null,null,null,null,null,null,null,"未","未","未","未",0,0,0,0,{"$f":"IFERROR(IF(OR(BC1206=\"未\",BD1206=\"未\"),1,IF(MATCH(BC1206&\"/\"&BD1206,③読み替え表_省エネ住宅!$G$48:$G$57,0),1,0)),0)","v":1},{"$f":"IFERROR(IF(OR(BE1206=\"未\",BF1206=\"未\"),1,IF(MATCH(BE1206&\"/\"&BF1206,③読み替え表_省エネ住宅!$G$48:$G$57,0),1,0)),0)","v":1},1,1,1,"*"]
[null,1199,null,null,null,null,null,null,null,null,null,null,null,null,null,null,null,null,null,null,null,null,null,null,null,null,null,null,null,null,null,null,null,null,null,null,null,null,null,null,null,null,null,null,null,null,null,null,null,null,null,null,null,null,"未","未","未","未",0,0,0,0,{"$f":"IFERROR(IF(OR(BC1209=\"未\",BD1209=\"未\"),1,IF(MATCH(BC1209&\"/\"&BD1209,③読み替え表_省エネ住宅!$G$48:$G$57,0),1,0)),0)","v":1},{"$f":"IFERROR(IF(OR(BE1209=\"未\",BF1209=\"未\"),1,IF(MATCH(BE1209&\"/\"&BF1209,③読み替え表_省エネ住宅!$G$48:$G$57,0),1,0)),0)","v":1},1,1,1,"*"]
[null,1202,null,null,null,null,null,null,null,null,null,null,null,null,null,null,null,null,null,null,null,null,null,null,null,null,null,null,null,null,null,null,null,null,null,null,null,null,null,null,null,null,null,null,null,null,null,null,null,null,null,null,null,null,"未","未","未","未",0,0,0,0,{"$f":"IFERROR(IF(OR(BC1212=\"未\",BD1212=\"未\"),1,IF(MATCH(BC1212&\"/\"&BD1212,③読み替え表_省エネ住宅!$G$48:$G$57,0),1,0)),0)","v":1},{"$f":"IFERROR(IF(OR(BE1212=\"未\",BF1212=\"未\"),1,IF(MATCH(BE1212&\"/\"&BF1212,③読み替え表_省エネ住宅!$G$48:$G$57,0),1,0)),0)","v":1},1,1,1,"*"]
[null,1203,null,null,null,null,null,null,null,null,null,null,null,null,null,null,null,null,null,null,null,null,null,null,null,null,null,null,null,null,null,null,null,null,null,null,null,null,null,null,null,null,null,null,null,null,null,null,null,null,null,null,null,null,"未","未","未","未",0,0,0,0,{"$f":"IFERROR(IF(OR(BC1213=\"未\",BD1213=\"未\"),1,IF(MATCH(BC1213&\"/\"&BD1213,③読み替え表_省エネ住宅!$G$48:$G$57,0),1,0)),0)","v":1},{"$f":"IFERROR(IF(OR(BE1213=\"未\",BF1213=\"未\"),1,IF(MATCH(BE1213&\"/\"&BF1213,③読み替え表_省エネ住宅!$G$48:$G$57,0),1,0)),0)","v":1},1,1,1,"*"]
[null,1207,null,null,null,null,null,null,null,null,null,null,null,null,null,null,null,null,null,null,null,null,null,null,null,null,null,null,null,null,null,null,null,null,null,null,null,null,null,null,null,null,null,null,null,null,null,null,null,null,null,null,null,null,"未","未","未","未",0,0,0,0,{"$f":"IFERROR(IF(OR(BC1217=\"未\",BD1217=\"未\"),1,IF(MATCH(BC1217&\"/\"&BD1217,③読み替え表_省エネ住宅!$G$48:$G$57,0),1,0)),0)","v":1},{"$f":"IFERROR(IF(OR(BE1217=\"未\",BF1217=\"未\"),1,IF(MATCH(BE1217&\"/\"&BF1217,③読み替え表_省エネ住宅!$G$48:$G$57,0),1,0)),0)","v":1},1,1,1,"*"]
[null,1208,null,null,null,null,null,null,null,null,null,null,null,null,null,null,null,null,null,null,null,null,null,null,null,null,null,null,null,null,null,null,null,null,null,null,null,null,null,null,null,null,null,null,null,null,null,null,null,null,null,null,null,null,"未","未","未","未",0,0,0,0,{"$f":"IFERROR(IF(OR(BC1218=\"未\",BD1218=\"未\"),1,IF(MATCH(BC1218&\"/\"&BD1218,③読み替え表_省エネ住宅!$G$48:$G$57,0),1,0)),0)","v":1},{"$f":"IFERROR(IF(OR(BE1218=\"未\",BF1218=\"未\"),1,IF(MATCH(BE1218&\"/\"&BF1218,③読み替え表_省エネ住宅!$G$48:$G$57,0),1,0)),0)","v":1},1,1,1,"*"]
[null,1212,null,null,null,null,null,null,null,null,null,null,null,null,null,null,null,null,null,null,null,null,null,null,null,null,null,null,null,null,null,null,null,null,null,null,null,null,null,null,null,null,null,null,null,null,null,null,null,null,null,null,null,null,"未","未","未","未",0,0,0,0,{"$f":"IFERROR(IF(OR(BC1222=\"未\",BD1222=\"未\"),1,IF(MATCH(BC1222&\"/\"&BD1222,③読み替え表_省エネ住宅!$G$48:$G$57,0),1,0)),0)","v":1},{"$f":"IFERROR(IF(OR(BE1222=\"未\",BF1222=\"未\"),1,IF(MATCH(BE1222&\"/\"&BF1222,③読み替え表_省エネ住宅!$G$48:$G$57,0),1,0)),0)","v":1},1,1,1,"*"]
[null,1215,null,null,null,null,null,null,null,null,null,null,null,null,null,null,null,null,null,null,null,null,null,null,null,null,null,null,null,null,null,null,null,null,null,null,null,null,null,null,null,null,null,null,null,null,null,null,null,null,null,null,null,null,"未","未","未","未",0,0,0,0,{"$f":"IFERROR(IF(OR(BC1225=\"未\",BD1225=\"未\"),1,IF(MATCH(BC1225&\"/\"&BD1225,③読み替え表_省エネ住宅!$G$48:$G$57,0),1,0)),0)","v":1},{"$f":"IFERROR(IF(OR(BE1225=\"未\",BF1225=\"未\"),1,IF(MATCH(BE1225&\"/\"&BF1225,③読み替え表_省エネ住宅!$G$48:$G$57,0),1,0)),0)","v":1},1,1,1,"*"]
[null,1219,null,null,null,null,null,null,null,null,null,null,null,null,null,null,null,null,null,null,null,null,null,null,null,null,null,null,null,null,null,null,null,null,null,null,null,null,null,null,null,null,null,null,null,null,null,null,null,null,null,null,null,null,"未","未","未","未",0,0,0,0,{"$f":"IFERROR(IF(OR(BC1229=\"未\",BD1229=\"未\"),1,IF(MATCH(BC1229&\"/\"&BD1229,③読み替え表_省エネ住宅!$G$48:$G$57,0),1,0)),0)","v":1},{"$f":"IFERROR(IF(OR(BE1229=\"未\",BF1229=\"未\"),1,IF(MATCH(BE1229&\"/\"&BF1229,③読み替え表_省エネ住宅!$G$48:$G$57,0),1,0)),0)","v":1},1,1,1,"*"]
[null,1220,null,null,null,null,null,null,null,null,null,null,null,null,null,null,null,null,null,null,null,null,null,null,null,null,null,null,null,null,null,null,null,null,null,null,null,null,null,null,null,null,null,null,null,null,null,null,null,null,null,null,null,null,"未","未","未","未",0,0,0,0,{"$f":"IFERROR(IF(OR(BC1230=\"未\",BD1230=\"未\"),1,IF(MATCH(BC1230&\"/\"&BD1230,③読み替え表_省エネ住宅!$G$48:$G$57,0),1,0)),0)","v":1},{"$f":"IFERROR(IF(OR(BE1230=\"未\",BF1230=\"未\"),1,IF(MATCH(BE1230&\"/\"&BF1230,③読み替え表_省エネ住宅!$G$48:$G$57,0),1,0)),0)","v":1},1,1,1,"*"]
[null,1224,null,null,null,null,null,null,null,null,null,null,null,null,null,null,null,null,null,null,null,null,null,null,null,null,null,null,null,null,null,null,null,null,null,null,null,null,null,null,null,null,null,null,null,null,null,null,null,null,null,null,null,null,"未","未","未","未",0,0,0,0,{"$f":"IFERROR(IF(OR(BC1234=\"未\",BD1234=\"未\"),1,IF(MATCH(BC1234&\"/\"&BD1234,③読み替え表_省エネ住宅!$G$48:$G$57,0),1,0)),0)","v":1},{"$f":"IFERROR(IF(OR(BE1234=\"未\",BF1234=\"未\"),1,IF(MATCH(BE1234&\"/\"&BF1234,③読み替え表_省エネ住宅!$G$48:$G$57,0),1,0)),0)","v":1},1,1,1,"*"]
[null,1225,null,null,null,null,null,null,null,null,null,null,null,null,null,null,null,null,null,null,null,null,null,null,null,null,null,null,null,null,null,null,null,null,null,null,null,null,null,null,null,null,null,null,null,null,null,null,null,null,null,null,null,null,"未","未","未","未",0,0,0,0,{"$f":"IFERROR(IF(OR(BC1235=\"未\",BD1235=\"未\"),1,IF(MATCH(BC1235&\"/\"&BD1235,③読み替え表_省エネ住宅!$G$48:$G$57,0),1,0)),0)","v":1},{"$f":"IFERROR(IF(OR(BE1235=\"未\",BF1235=\"未\"),1,IF(MATCH(BE1235&\"/\"&BF1235,③読み替え表_省エネ住宅!$G$48:$G$57,0),1,0)),0)","v":1},1,1,1,"*"]
[null,1228,null,null,null,null,null,null,null,null,null,null,null,null,null,null,null,null,null,null,null,null,null,null,null,null,null,null,null,null,null,null,null,null,null,null,null,null,null,null,null,null,null,null,null,null,null,null,null,null,null,null,null,null,"未","未","未","未",0,0,0,0,{"$f":"IFERROR(IF(OR(BC1238=\"未\",BD1238=\"未\"),1,IF(MATCH(BC1238&\"/\"&BD1238,③読み替え表_省エネ住宅!$G$48:$G$57,0),1,0)),0)","v":1},{"$f":"IFERROR(IF(OR(BE1238=\"未\",BF1238=\"未\"),1,IF(MATCH(BE1238&\"/\"&BF1238,③読み替え表_省エネ住宅!$G$48:$G$57,0),1,0)),0)","v":1},1,1,1,"*"]
[null,1231,null,null,null,null,null,null,null,null,null,null,null,null,null,null,null,null,null,null,null,null,null,null,null,null,null,null,null,null,null,null,null,null,null,null,null,null,null,null,null,null,null,null,null,null,null,null,null,null,null,null,null,null,"未","未","未","未",0,0,0,0,{"$f":"IFERROR(IF(OR(BC1241=\"未\",BD1241=\"未\"),1,IF(MATCH(BC1241&\"/\"&BD1241,③読み替え表_省エネ住宅!$G$48:$G$57,0),1,0)),0)","v":1},{"$f":"IFERROR(IF(OR(BE1241=\"未\",BF1241=\"未\"),1,IF(MATCH(BE1241&\"/\"&BF1241,③読み替え表_省エネ住宅!$G$48:$G$57,0),1,0)),0)","v":1},1,1,1,"*"]
[null,1234,null,null,null,null,null,null,null,null,null,null,null,null,null,null,null,null,null,null,null,null,null,null,null,null,null,null,null,null,null,null,null,null,null,null,null,null,null,null,null,null,null,null,null,null,null,null,null,null,null,null,null,null,"未","未","未","未",0,0,0,0,{"$f":"IFERROR(IF(OR(BC1244=\"未\",BD1244=\"未\"),1,IF(MATCH(BC1244&\"/\"&BD1244,③読み替え表_省エネ住宅!$G$48:$G$57,0),1,0)),0)","v":1},{"$f":"IFERROR(IF(OR(BE1244=\"未\",BF1244=\"未\"),1,IF(MATCH(BE1244&\"/\"&BF1244,③読み替え表_省エネ住宅!$G$48:$G$57,0),1,0)),0)","v":1},1,1,1,"*"]
[null,1237,null,null,null,null,null,null,null,null,null,null,null,null,null,null,null,null,null,null,null,null,null,null,null,null,null,null,null,null,null,null,null,null,null,null,null,null,null,null,null,null,null,null,null,null,null,null,null,null,null,null,null,null,"未","未","未","未",0,0,0,0,{"$f":"IFERROR(IF(OR(BC1247=\"未\",BD1247=\"未\"),1,IF(MATCH(BC1247&\"/\"&BD1247,③読み替え表_省エネ住宅!$G$48:$G$57,0),1,0)),0)","v":1},{"$f":"IFERROR(IF(OR(BE1247=\"未\",BF1247=\"未\"),1,IF(MATCH(BE1247&\"/\"&BF1247,③読み替え表_省エネ住宅!$G$48:$G$57,0),1,0)),0)","v":1},1,1,1,"*"]
[null,1241,null,null,null,null,null,null,null,null,null,null,null,null,null,null,null,null,null,null,null,null,null,null,null,null,null,null,null,null,null,null,null,null,null,null,null,null,null,null,null,null,null,null,null,null,null,null,null,null,null,null,null,null,"未","未","未","未",0,0,0,0,{"$f":"IFERROR(IF(OR(BC1251=\"未\",BD1251=\"未\"),1,IF(MATCH(BC1251&\"/\"&BD1251,③読み替え表_省エネ住宅!$G$48:$G$57,0),1,0)),0)","v":1},{"$f":"IFERROR(IF(OR(BE1251=\"未\",BF1251=\"未\"),1,IF(MATCH(BE1251&\"/\"&BF1251,③読み替え表_省エネ住宅!$G$48:$G$57,0),1,0)),0)","v":1},1,1,1,"*"]
[null,1242,null,null,null,null,null,null,null,null,null,null,null,null,null,null,null,null,null,null,null,null,null,null,null,null,null,null,null,null,null,null,null,null,null,null,null,null,null,null,null,null,null,null,null,null,null,null,null,null,null,null,null,null,"未","未","未","未",0,0,0,0,{"$f":"IFERROR(IF(OR(BC1252=\"未\",BD1252=\"未\"),1,IF(MATCH(BC1252&\"/\"&BD1252,③読み替え表_省エネ住宅!$G$48:$G$57,0),1,0)),0)","v":1},{"$f":"IFERROR(IF(OR(BE1252=\"未\",BF1252=\"未\"),1,IF(MATCH(BE1252&\"/\"&BF1252,③読み替え表_省エネ住宅!$G$48:$G$57,0),1,0)),0)","v":1},1,1,1,"*"]
[null,1246,null,null,null,null,null,null,null,null,null,null,null,null,null,null,null,null,null,null,null,null,null,null,null,null,null,null,null,null,null,null,null,null,null,null,null,null,null,null,null,null,null,null,null,null,null,null,null,null,null,null,null,null,"未","未","未","未",0,0,0,0,{"$f":"IFERROR(IF(OR(BC1256=\"未\",BD1256=\"未\"),1,IF(MATCH(BC1256&\"/\"&BD1256,③読み替え表_省エネ住宅!$G$48:$G$57,0),1,0)),0)","v":1},{"$f":"IFERROR(IF(OR(BE1256=\"未\",BF1256=\"未\"),1,IF(MATCH(BE1256&\"/\"&BF1256,③読み替え表_省エネ住宅!$G$48:$G$57,0),1,0)),0)","v":1},1,1,1,"*"]
[null,1247,null,null,null,null,null,null,null,null,null,null,null,null,null,null,null,null,null,null,null,null,null,null,null,null,null,null,null,null,null,null,null,null,null,null,null,null,null,null,null,null,null,null,null,null,null,null,null,null,null,null,null,null,"未","未","未","未",0,0,0,0,{"$f":"IFERROR(IF(OR(BC1257=\"未\",BD1257=\"未\"),1,IF(MATCH(BC1257&\"/\"&BD1257,③読み替え表_省エネ住宅!$G$48:$G$57,0),1,0)),0)","v":1},{"$f":"IFERROR(IF(OR(BE1257=\"未\",BF1257=\"未\"),1,IF(MATCH(BE1257&\"/\"&BF1257,③読み替え表_省エネ住宅!$G$48:$G$57,0),1,0)),0)","v":1},1,1,1,"*"]
[null,1250,null,null,null,null,null,null,null,null,null,null,null,null,null,null,null,null,null,null,null,null,null,null,null,null,null,null,null,null,null,null,null,null,null,null,null,null,null,null,null,null,null,null,null,null,null,null,null,null,null,null,null,null,"未","未","未","未",0,0,0,0,{"$f":"IFERROR(IF(OR(BC1260=\"未\",BD1260=\"未\"),1,IF(MATCH(BC1260&\"/\"&BD1260,③読み替え表_省エネ住宅!$G$48:$G$57,0),1,0)),0)","v":1},{"$f":"IFERROR(IF(OR(BE1260=\"未\",BF1260=\"未\"),1,IF(MATCH(BE1260&\"/\"&BF1260,③読み替え表_省エネ住宅!$G$48:$G$57,0),1,0)),0)","v":1},1,1,1,"*"]
[null,1254,null,null,null,null,null,null,null,null,null,null,null,null,null,null,null,null,null,null,null,null,null,null,null,null,null,null,null,null,null,null,null,null,null,null,null,null,null,null,null,null,null,null,null,null,null,null,null,null,null,null,null,null,"未","未","未","未",0,0,0,0,{"$f":"IFERROR(IF(OR(BC1264=\"未\",BD1264=\"未\"),1,IF(MATCH(BC1264&\"/\"&BD1264,③読み替え表_省エネ住宅!$G$48:$G$57,0),1,0)),0)","v":1},{"$f":"IFERROR(IF(OR(BE1264=\"未\",BF1264=\"未\"),1,IF(MATCH(BE1264&\"/\"&BF1264,③読み替え表_省エネ住宅!$G$48:$G$57,0),1,0)),0)","v":1},1,1,1,"*"]
[null,1257,null,null,null,null,null,null,null,null,null,null,null,null,null,null,null,null,null,null,null,null,null,null,null,null,null,null,null,null,null,null,null,null,null,null,null,null,null,null,null,null,null,null,null,null,null,null,null,null,null,null,null,null,"未","未","未","未",0,0,0,0,{"$f":"IFERROR(IF(OR(BC1267=\"未\",BD1267=\"未\"),1,IF(MATCH(BC1267&\"/\"&BD1267,③読み替え表_省エネ住宅!$G$48:$G$57,0),1,0)),0)","v":1},{"$f":"IFERROR(IF(OR(BE1267=\"未\",BF1267=\"未\"),1,IF(MATCH(BE1267&\"/\"&BF1267,③読み替え表_省エネ住宅!$G$48:$G$57,0),1,0)),0)","v":1},1,1,1,"*"]
[null,1259,null,null,null,null,null,null,null,null,null,null,null,null,null,null,null,null,null,null,null,null,null,null,null,null,null,null,null,null,null,null,null,null,null,null,null,null,null,null,null,null,null,null,null,null,null,null,null,null,null,null,null,null,"未","未","未","未",0,0,0,0,{"$f":"IFERROR(IF(OR(BC1269=\"未\",BD1269=\"未\"),1,IF(MATCH(BC1269&\"/\"&BD1269,③読み替え表_省エネ住宅!$G$48:$G$57,0),1,0)),0)","v":1},{"$f":"IFERROR(IF(OR(BE1269=\"未\",BF1269=\"未\"),1,IF(MATCH(BE1269&\"/\"&BF1269,③読み替え表_省エネ住宅!$G$48:$G$57,0),1,0)),0)","v":1},1,1,1,"*"]
[null,1263,null,null,null,null,null,null,null,null,null,null,null,null,null,null,null,null,null,null,null,null,null,null,null,null,null,null,null,null,null,null,null,null,null,null,null,null,null,null,null,null,null,null,null,null,null,null,null,null,null,null,null,null,"未","未","未","未",0,0,0,0,{"$f":"IFERROR(IF(OR(BC1273=\"未\",BD1273=\"未\"),1,IF(MATCH(BC1273&\"/\"&BD1273,③読み替え表_省エネ住宅!$G$48:$G$57,0),1,0)),0)","v":1},{"$f":"IFERROR(IF(OR(BE1273=\"未\",BF1273=\"未\"),1,IF(MATCH(BE1273&\"/\"&BF1273,③読み替え表_省エネ住宅!$G$48:$G$57,0),1,0)),0)","v":1},1,1,1,"*"]
[null,1266,null,null,null,null,null,null,null,null,null,null,null,null,null,null,null,null,null,null,null,null,null,null,null,null,null,null,null,null,null,null,null,null,null,null,null,null,null,null,null,null,null,null,null,null,null,null,null,null,null,null,null,null,"未","未","未","未",0,0,0,0,{"$f":"IFERROR(IF(OR(BC1276=\"未\",BD1276=\"未\"),1,IF(MATCH(BC1276&\"/\"&BD1276,③読み替え表_省エネ住宅!$G$48:$G$57,0),1,0)),0)","v":1},{"$f":"IFERROR(IF(OR(BE1276=\"未\",BF1276=\"未\"),1,IF(MATCH(BE1276&\"/\"&BF1276,③読み替え表_省エネ住宅!$G$48:$G$57,0),1,0)),0)","v":1},1,1,1,"*"]
[null,1268,null,null,null,null,null,null,null,null,null,null,null,null,null,null,null,null,null,null,null,null,null,null,null,null,null,null,null,null,null,null,null,null,null,null,null,null,null,null,null,null,null,null,null,null,null,null,null,null,null,null,null,null,"未","未","未","未",0,0,0,0,{"$f":"IFERROR(IF(OR(BC1278=\"未\",BD1278=\"未\"),1,IF(MATCH(BC1278&\"/\"&BD1278,③読み替え表_省エネ住宅!$G$48:$G$57,0),1,0)),0)","v":1},{"$f":"IFERROR(IF(OR(BE1278=\"未\",BF1278=\"未\"),1,IF(MATCH(BE1278&\"/\"&BF1278,③読み替え表_省エネ住宅!$G$48:$G$57,0),1,0)),0)","v":1},1,1,1,"*"]
[null,1269,null,null,null,null,null,null,null,null,null,null,null,null,null,null,null,null,null,null,null,null,null,null,null,null,null,null,null,null,null,null,null,null,null,null,null,null,null,null,null,null,null,null,null,null,null,null,null,null,null,null,null,null,"未","未","未","未",0,0,0,0,{"$f":"IFERROR(IF(OR(BC1279=\"未\",BD1279=\"未\"),1,IF(MATCH(BC1279&\"/\"&BD1279,③読み替え表_省エネ住宅!$G$48:$G$57,0),1,0)),0)","v":1},{"$f":"IFERROR(IF(OR(BE1279=\"未\",BF1279=\"未\"),1,IF(MATCH(BE1279&\"/\"&BF1279,③読み替え表_省エネ住宅!$G$48:$G$57,0),1,0)),0)","v":1},1,1,1,"*"]
[null,1272,null,null,null,null,null,null,null,null,null,null,null,null,null,null,null,null,null,null,null,null,null,null,null,null,null,null,null,null,null,null,null,null,null,null,null,null,null,null,null,null,null,null,null,null,null,null,null,null,null,null,null,null,"未","未","未","未",0,0,0,0,{"$f":"IFERROR(IF(OR(BC1282=\"未\",BD1282=\"未\"),1,IF(MATCH(BC1282&\"/\"&BD1282,③読み替え表_省エネ住宅!$G$48:$G$57,0),1,0)),0)","v":1},{"$f":"IFERROR(IF(OR(BE1282=\"未\",BF1282=\"未\"),1,IF(MATCH(BE1282&\"/\"&BF1282,③読み替え表_省エネ住宅!$G$48:$G$57,0),1,0)),0)","v":1},1,1,1,"*"]
[null,1276,null,null,null,null,null,null,null,null,null,null,null,null,null,null,null,null,null,null,null,null,null,null,null,null,null,null,null,null,null,null,null,null,null,null,null,null,null,null,null,null,null,null,null,null,null,null,null,null,null,null,null,null,"未","未","未","未",0,0,0,0,{"$f":"IFERROR(IF(OR(BC1286=\"未\",BD1286=\"未\"),1,IF(MATCH(BC1286&\"/\"&BD1286,③読み替え表_省エネ住宅!$G$48:$G$57,0),1,0)),0)","v":1},{"$f":"IFERROR(IF(OR(BE1286=\"未\",BF1286=\"未\"),1,IF(MATCH(BE1286&\"/\"&BF1286,③読み替え表_省エネ住宅!$G$48:$G$57,0),1,0)),0)","v":1},1,1,1,"*"]
[null,1279,null,null,null,null,null,null,null,null,null,null,null,null,null,null,null,null,null,null,null,null,null,null,null,null,null,null,null,null,null,null,null,null,null,null,null,null,null,null,null,null,null,null,null,null,null,null,null,null,null,null,null,null,"未","未","未","未",0,0,0,0,{"$f":"IFERROR(IF(OR(BC1289=\"未\",BD1289=\"未\"),1,IF(MATCH(BC1289&\"/\"&BD1289,③読み替え表_省エネ住宅!$G$48:$G$57,0),1,0)),0)","v":1},{"$f":"IFERROR(IF(OR(BE1289=\"未\",BF1289=\"未\"),1,IF(MATCH(BE1289&\"/\"&BF1289,③読み替え表_省エネ住宅!$G$48:$G$57,0),1,0)),0)","v":1},1,1,1,"*"]
[null,1281,null,null,null,null,null,null,null,null,null,null,null,null,null,null,null,null,null,null,null,null,null,null,null,null,null,null,null,null,null,null,null,null,null,null,null,null,null,null,null,null,null,null,null,null,null,null,null,null,null,null,null,null,"未","未","未","未",0,0,0,0,{"$f":"IFERROR(IF(OR(BC1291=\"未\",BD1291=\"未\"),1,IF(MATCH(BC1291&\"/\"&BD1291,③読み替え表_省エネ住宅!$G$48:$G$57,0),1,0)),0)","v":1},{"$f":"IFERROR(IF(OR(BE1291=\"未\",BF1291=\"未\"),1,IF(MATCH(BE1291&\"/\"&BF1291,③読み替え表_省エネ住宅!$G$48:$G$57,0),1,0)),0)","v":1},1,1,1,"*"]
[null,1285,null,null,null,null,null,null,null,null,null,null,null,null,null,null,null,null,null,null,null,null,null,null,null,null,null,null,null,null,null,null,null,null,null,null,null,null,null,null,null,null,null,null,null,null,null,null,null,null,null,null,null,null,"未","未","未","未",0,0,0,0,{"$f":"IFERROR(IF(OR(BC1295=\"未\",BD1295=\"未\"),1,IF(MATCH(BC1295&\"/\"&BD1295,③読み替え表_省エネ住宅!$G$48:$G$57,0),1,0)),0)","v":1},{"$f":"IFERROR(IF(OR(BE1295=\"未\",BF1295=\"未\"),1,IF(MATCH(BE1295&\"/\"&BF1295,③読み替え表_省エネ住宅!$G$48:$G$57,0),1,0)),0)","v":1},1,1,1,"*"]
[null,1288,null,null,null,null,null,null,null,null,null,null,null,null,null,null,null,null,null,null,null,null,null,null,null,null,null,null,null,null,null,null,null,null,null,null,null,null,null,null,null,null,null,null,null,null,null,null,null,null,null,null,null,null,"未","未","未","未",0,0,0,0,{"$f":"IFERROR(IF(OR(BC1298=\"未\",BD1298=\"未\"),1,IF(MATCH(BC1298&\"/\"&BD1298,③読み替え表_省エネ住宅!$G$48:$G$57,0),1,0)),0)","v":1},{"$f":"IFERROR(IF(OR(BE1298=\"未\",BF1298=\"未\"),1,IF(MATCH(BE1298&\"/\"&BF1298,③読み替え表_省エネ住宅!$G$48:$G$57,0),1,0)),0)","v":1},1,1,1,"*"]
[null,1289,null,null,null,null,null,null,null,null,null,null,null,null,null,null,null,null,null,null,null,null,null,null,null,null,null,null,null,null,null,null,null,null,null,null,null,null,null,null,null,null,null,null,null,null,null,null,null,null,null,null,null,null,"未","未","未","未",0,0,0,0,{"$f":"IFERROR(IF(OR(BC1299=\"未\",BD1299=\"未\"),1,IF(MATCH(BC1299&\"/\"&BD1299,③読み替え表_省エネ住宅!$G$48:$G$57,0),1,0)),0)","v":1},{"$f":"IFERROR(IF(OR(BE1299=\"未\",BF1299=\"未\"),1,IF(MATCH(BE1299&\"/\"&BF1299,③読み替え表_省エネ住宅!$G$48:$G$57,0),1,0)),0)","v":1},1,1,1,"*"]
[null,1292,null,null,null,null,null,null,null,null,null,null,null,null,null,null,null,null,null,null,null,null,null,null,null,null,null,null,null,null,null,null,null,null,null,null,null,null,null,null,null,null,null,null,null,null,null,null,null,null,null,null,null,null,"未","未","未","未",0,0,0,0,{"$f":"IFERROR(IF(OR(BC1302=\"未\",BD1302=\"未\"),1,IF(MATCH(BC1302&\"/\"&BD1302,③読み替え表_省エネ住宅!$G$48:$G$57,0),1,0)),0)","v":1},{"$f":"IFERROR(IF(OR(BE1302=\"未\",BF1302=\"未\"),1,IF(MATCH(BE1302&\"/\"&BF1302,③読み替え表_省エネ住宅!$G$48:$G$57,0),1,0)),0)","v":1},1,1,1,"*"]
[null,1294,null,null,null,null,null,null,null,null,null,null,null,null,null,null,null,null,null,null,null,null,null,null,null,null,null,null,null,null,null,null,null,null,null,null,null,null,null,null,null,null,null,null,null,null,null,null,null,null,null,null,null,null,"未","未","未","未",0,0,0,0,{"$f":"IFERROR(IF(OR(BC1304=\"未\",BD1304=\"未\"),1,IF(MATCH(BC1304&\"/\"&BD1304,③読み替え表_省エネ住宅!$G$48:$G$57,0),1,0)),0)","v":1},{"$f":"IFERROR(IF(OR(BE1304=\"未\",BF1304=\"未\"),1,IF(MATCH(BE1304&\"/\"&BF1304,③読み替え表_省エネ住宅!$G$48:$G$57,0),1,0)),0)","v":1},1,1,1,"*"]
[null,1298,null,null,null,null,null,null,null,null,null,null,null,null,null,null,null,null,null,null,null,null,null,null,null,null,null,null,null,null,null,null,null,null,null,null,null,null,null,null,null,null,null,null,null,null,null,null,null,null,null,null,null,null,"未","未","未","未",0,0,0,0,{"$f":"IFERROR(IF(OR(BC1308=\"未\",BD1308=\"未\"),1,IF(MATCH(BC1308&\"/\"&BD1308,③読み替え表_省エネ住宅!$G$48:$G$57,0),1,0)),0)","v":1},{"$f":"IFERROR(IF(OR(BE1308=\"未\",BF1308=\"未\"),1,IF(MATCH(BE1308&\"/\"&BF1308,③読み替え表_省エネ住宅!$G$48:$G$57,0),1,0)),0)","v":1},1,1,1,"*"]
[null,1301,null,null,null,null,null,null,null,null,null,null,null,null,null,null,null,null,null,null,null,null,null,null,null,null,null,null,null,null,null,null,null,null,null,null,null,null,null,null,null,null,null,null,null,null,null,null,null,null,null,null,null,null,"未","未","未","未",0,0,0,0,{"$f":"IFERROR(IF(OR(BC1311=\"未\",BD1311=\"未\"),1,IF(MATCH(BC1311&\"/\"&BD1311,③読み替え表_省エネ住宅!$G$48:$G$57,0),1,0)),0)","v":1},{"$f":"IFERROR(IF(OR(BE1311=\"未\",BF1311=\"未\"),1,IF(MATCH(BE1311&\"/\"&BF1311,③読み替え表_省エネ住宅!$G$48:$G$57,0),1,0)),0)","v":1},1,1,1,"*"]
[null,1303,null,null,null,null,null,null,null,null,null,null,null,null,null,null,null,null,null,null,null,null,null,null,null,null,null,null,null,null,null,null,null,null,null,null,null,null,null,null,null,null,null,null,null,null,null,null,null,null,null,null,null,null,"未","未","未","未",0,0,0,0,{"$f":"IFERROR(IF(OR(BC1313=\"未\",BD1313=\"未\"),1,IF(MATCH(BC1313&\"/\"&BD1313,③読み替え表_省エネ住宅!$G$48:$G$57,0),1,0)),0)","v":1},{"$f":"IFERROR(IF(OR(BE1313=\"未\",BF1313=\"未\"),1,IF(MATCH(BE1313&\"/\"&BF1313,③読み替え表_省エネ住宅!$G$48:$G$57,0),1,0)),0)","v":1},1,1,1,"*"]
[null,1307,null,null,null,null,null,null,null,null,null,null,null,null,null,null,null,null,null,null,null,null,null,null,null,null,null,null,null,null,null,null,null,null,null,null,null,null,null,null,null,null,null,null,null,null,null,null,null,null,null,null,null,null,"未","未","未","未",0,0,0,0,{"$f":"IFERROR(IF(OR(BC1317=\"未\",BD1317=\"未\"),1,IF(MATCH(BC1317&\"/\"&BD1317,③読み替え表_省エネ住宅!$G$48:$G$57,0),1,0)),0)","v":1},{"$f":"IFERROR(IF(OR(BE1317=\"未\",BF1317=\"未\"),1,IF(MATCH(BE1317&\"/\"&BF1317,③読み替え表_省エネ住宅!$G$48:$G$57,0),1,0)),0)","v":1},1,1,1,"*"]
[null,1310,null,null,null,null,null,null,null,null,null,null,null,null,null,null,null,null,null,null,null,null,null,null,null,null,null,null,null,null,null,null,null,null,null,null,null,null,null,null,null,null,null,null,null,null,null,null,null,null,null,null,null,null,"未","未","未","未",0,0,0,0,{"$f":"IFERROR(IF(OR(BC1320=\"未\",BD1320=\"未\"),1,IF(MATCH(BC1320&\"/\"&BD1320,③読み替え表_省エネ住宅!$G$48:$G$57,0),1,0)),0)","v":1},{"$f":"IFERROR(IF(OR(BE1320=\"未\",BF1320=\"未\"),1,IF(MATCH(BE1320&\"/\"&BF1320,③読み替え表_省エネ住宅!$G$48:$G$57,0),1,0)),0)","v":1},1,1,1,"*"]
[null,1311,null,null,null,null,null,null,null,null,null,null,null,null,null,null,null,null,null,null,null,null,null,null,null,null,null,null,null,null,null,null,null,null,null,null,null,null,null,null,null,null,null,null,null,null,null,null,null,null,null,null,null,null,"未","未","未","未",0,0,0,0,{"$f":"IFERROR(IF(OR(BC1321=\"未\",BD1321=\"未\"),1,IF(MATCH(BC1321&\"/\"&BD1321,③読み替え表_省エネ住宅!$G$48:$G$57,0),1,0)),0)","v":1},{"$f":"IFERROR(IF(OR(BE1321=\"未\",BF1321=\"未\"),1,IF(MATCH(BE1321&\"/\"&BF1321,③読み替え表_省エネ住宅!$G$48:$G$57,0),1,0)),0)","v":1},1,1,1,"*"]
[null,1314,null,null,null,null,null,null,null,null,null,null,null,null,null,null,null,null,null,null,null,null,null,null,null,null,null,null,null,null,null,null,null,null,null,null,null,null,null,null,null,null,null,null,null,null,null,null,null,null,null,null,null,null,"未","未","未","未",0,0,0,0,{"$f":"IFERROR(IF(OR(BC1324=\"未\",BD1324=\"未\"),1,IF(MATCH(BC1324&\"/\"&BD1324,③読み替え表_省エネ住宅!$G$48:$G$57,0),1,0)),0)","v":1},{"$f":"IFERROR(IF(OR(BE1324=\"未\",BF1324=\"未\"),1,IF(MATCH(BE1324&\"/\"&BF1324,③読み替え表_省エネ住宅!$G$48:$G$57,0),1,0)),0)","v":1},1,1,1,"*"]
[null,1318,null,null,null,null,null,null,null,null,null,null,null,null,null,null,null,null,null,null,null,null,null,null,null,null,null,null,null,null,null,null,null,null,null,null,null,null,null,null,null,null,null,null,null,null,null,null,null,null,null,null,null,null,"未","未","未","未",0,0,0,0,{"$f":"IFERROR(IF(OR(BC1328=\"未\",BD1328=\"未\"),1,IF(MATCH(BC1328&\"/\"&BD1328,③読み替え表_省エネ住宅!$G$48:$G$57,0),1,0)),0)","v":1},{"$f":"IFERROR(IF(OR(BE1328=\"未\",BF1328=\"未\"),1,IF(MATCH(BE1328&\"/\"&BF1328,③読み替え表_省エネ住宅!$G$48:$G$57,0),1,0)),0)","v":1},1,1,1,"*"]
[null,1320,null,null,null,null,null,null,null,null,null,null,null,null,null,null,null,null,null,null,null,null,null,null,null,null,null,null,null,null,null,null,null,null,null,null,null,null,null,null,null,null,null,null,null,null,null,null,null,null,null,null,null,null,"未","未","未","未",0,0,0,0,{"$f":"IFERROR(IF(OR(BC1330=\"未\",BD1330=\"未\"),1,IF(MATCH(BC1330&\"/\"&BD1330,③読み替え表_省エネ住宅!$G$48:$G$57,0),1,0)),0)","v":1},{"$f":"IFERROR(IF(OR(BE1330=\"未\",BF1330=\"未\"),1,IF(MATCH(BE1330&\"/\"&BF1330,③読み替え表_省エネ住宅!$G$48:$G$57,0),1,0)),0)","v":1},1,1,1,"*"]
[null,1323,null,null,null,null,null,null,null,null,null,null,null,null,null,null,null,null,null,null,null,null,null,null,null,null,null,null,null,null,null,null,null,null,null,null,null,null,null,null,null,null,null,null,null,null,null,null,null,null,null,null,null,null,"未","未","未","未",0,0,0,0,{"$f":"IFERROR(IF(OR(BC1333=\"未\",BD1333=\"未\"),1,IF(MATCH(BC1333&\"/\"&BD1333,③読み替え表_省エネ住宅!$G$48:$G$57,0),1,0)),0)","v":1},{"$f":"IFERROR(IF(OR(BE1333=\"未\",BF1333=\"未\"),1,IF(MATCH(BE1333&\"/\"&BF1333,③読み替え表_省エネ住宅!$G$48:$G$57,0),1,0)),0)","v":1},1,1,1,"*"]
[null,1326,null,null,null,null,null,null,null,null,null,null,null,null,null,null,null,null,null,null,null,null,null,null,null,null,null,null,null,null,null,null,null,null,null,null,null,null,null,null,null,null,null,null,null,null,null,null,null,null,null,null,null,null,"未","未","未","未",0,0,0,0,{"$f":"IFERROR(IF(OR(BC1336=\"未\",BD1336=\"未\"),1,IF(MATCH(BC1336&\"/\"&BD1336,③読み替え表_省エネ住宅!$G$48:$G$57,0),1,0)),0)","v":1},{"$f":"IFERROR(IF(OR(BE1336=\"未\",BF1336=\"未\"),1,IF(MATCH(BE1336&\"/\"&BF1336,③読み替え表_省エネ住宅!$G$48:$G$57,0),1,0)),0)","v":1},1,1,1,"*"]
[null,1329,null,null,null,null,null,null,null,null,null,null,null,null,null,null,null,null,null,null,null,null,null,null,null,null,null,null,null,null,null,null,null,null,null,null,null,null,null,null,null,null,null,null,null,null,null,null,null,null,null,null,null,null,"未","未","未","未",0,0,0,0,{"$f":"IFERROR(IF(OR(BC1339=\"未\",BD1339=\"未\"),1,IF(MATCH(BC1339&\"/\"&BD1339,③読み替え表_省エネ住宅!$G$48:$G$57,0),1,0)),0)","v":1},{"$f":"IFERROR(IF(OR(BE1339=\"未\",BF1339=\"未\"),1,IF(MATCH(BE1339&\"/\"&BF1339,③読み替え表_省エネ住宅!$G$48:$G$57,0),1,0)),0)","v":1},1,1,1,"*"]
[null,1332,null,null,null,null,null,null,null,null,null,null,null,null,null,null,null,null,null,null,null,null,null,null,null,null,null,null,null,null,null,null,null,null,null,null,null,null,null,null,null,null,null,null,null,null,null,null,null,null,null,null,null,null,"未","未","未","未",0,0,0,0,{"$f":"IFERROR(IF(OR(BC1342=\"未\",BD1342=\"未\"),1,IF(MATCH(BC1342&\"/\"&BD1342,③読み替え表_省エネ住宅!$G$48:$G$57,0),1,0)),0)","v":1},{"$f":"IFERROR(IF(OR(BE1342=\"未\",BF1342=\"未\"),1,IF(MATCH(BE1342&\"/\"&BF1342,③読み替え表_省エネ住宅!$G$48:$G$57,0),1,0)),0)","v":1},1,1,1,"*"]
[null,1333,null,null,null,null,null,null,null,null,null,null,null,null,null,null,null,null,null,null,null,null,null,null,null,null,null,null,null,null,null,null,null,null,null,null,null,null,null,null,null,null,null,null,null,null,null,null,null,null,null,null,null,null,"未","未","未","未",0,0,0,0,{"$f":"IFERROR(IF(OR(BC1343=\"未\",BD1343=\"未\"),1,IF(MATCH(BC1343&\"/\"&BD1343,③読み替え表_省エネ住宅!$G$48:$G$57,0),1,0)),0)","v":1},{"$f":"IFERROR(IF(OR(BE1343=\"未\",BF1343=\"未\"),1,IF(MATCH(BE1343&\"/\"&BF1343,③読み替え表_省エネ住宅!$G$48:$G$57,0),1,0)),0)","v":1},1,1,1,"*"]
[null,1336,null,null,null,null,null,null,null,null,null,null,null,null,null,null,null,null,null,null,null,null,null,null,null,null,null,null,null,null,null,null,null,null,null,null,null,null,null,null,null,null,null,null,null,null,null,null,null,null,null,null,null,null,"未","未","未","未",0,0,0,0,{"$f":"IFERROR(IF(OR(BC1346=\"未\",BD1346=\"未\"),1,IF(MATCH(BC1346&\"/\"&BD1346,③読み替え表_省エネ住宅!$G$48:$G$57,0),1,0)),0)","v":1},{"$f":"IFERROR(IF(OR(BE1346=\"未\",BF1346=\"未\"),1,IF(MATCH(BE1346&\"/\"&BF1346,③読み替え表_省エネ住宅!$G$48:$G$57,0),1,0)),0)","v":1},1,1,1,"*"]
[null,1339,null,null,null,null,null,null,null,null,null,null,null,null,null,null,null,null,null,null,null,null,null,null,null,null,null,null,null,null,null,null,null,null,null,null,null,null,null,null,null,null,null,null,null,null,null,null,null,null,null,null,null,null,"未","未","未","未",0,0,0,0,{"$f":"IFERROR(IF(OR(BC1349=\"未\",BD1349=\"未\"),1,IF(MATCH(BC1349&\"/\"&BD1349,③読み替え表_省エネ住宅!$G$48:$G$57,0),1,0)),0)","v":1},{"$f":"IFERROR(IF(OR(BE1349=\"未\",BF1349=\"未\"),1,IF(MATCH(BE1349&\"/\"&BF1349,③読み替え表_省エネ住宅!$G$48:$G$57,0),1,0)),0)","v":1},1,1,1,"*"]
[null,1342,null,null,null,null,null,null,null,null,null,null,null,null,null,null,null,null,null,null,null,null,null,null,null,null,null,null,null,null,null,null,null,null,null,null,null,null,null,null,null,null,null,null,null,null,null,null,null,null,null,null,null,null,"未","未","未","未",0,0,0,0,{"$f":"IFERROR(IF(OR(BC1352=\"未\",BD1352=\"未\"),1,IF(MATCH(BC1352&\"/\"&BD1352,③読み替え表_省エネ住宅!$G$48:$G$57,0),1,0)),0)","v":1},{"$f":"IFERROR(IF(OR(BE1352=\"未\",BF1352=\"未\"),1,IF(MATCH(BE1352&\"/\"&BF1352,③読み替え表_省エネ住宅!$G$48:$G$57,0),1,0)),0)","v":1},1,1,1,"*"]
[null,1345,null,null,null,null,null,null,null,null,null,null,null,null,null,null,null,null,null,null,null,null,null,null,null,null,null,null,null,null,null,null,null,null,null,null,null,null,null,null,null,null,null,null,null,null,null,null,null,null,null,null,null,null,"未","未","未","未",0,0,0,0,{"$f":"IFERROR(IF(OR(BC1355=\"未\",BD1355=\"未\"),1,IF(MATCH(BC1355&\"/\"&BD1355,③読み替え表_省エネ住宅!$G$48:$G$57,0),1,0)),0)","v":1},{"$f":"IFERROR(IF(OR(BE1355=\"未\",BF1355=\"未\"),1,IF(MATCH(BE1355&\"/\"&BF1355,③読み替え表_省エネ住宅!$G$48:$G$57,0),1,0)),0)","v":1},1,1,1,"*"]
[null,1349,null,null,null,null,null,null,null,null,null,null,null,null,null,null,null,null,null,null,null,null,null,null,null,null,null,null,null,null,null,null,null,null,null,null,null,null,null,null,null,null,null,null,null,null,null,null,null,null,null,null,null,null,"未","未","未","未",0,0,0,0,{"$f":"IFERROR(IF(OR(BC1359=\"未\",BD1359=\"未\"),1,IF(MATCH(BC1359&\"/\"&BD1359,③読み替え表_省エネ住宅!$G$48:$G$57,0),1,0)),0)","v":1},{"$f":"IFERROR(IF(OR(BE1359=\"未\",BF1359=\"未\"),1,IF(MATCH(BE1359&\"/\"&BF1359,③読み替え表_省エネ住宅!$G$48:$G$57,0),1,0)),0)","v":1},1,1,1,"*"]
[null,1352,null,null,null,null,null,null,null,null,null,null,null,null,null,null,null,null,null,null,null,null,null,null,null,null,null,null,null,null,null,null,null,null,null,null,null,null,null,null,null,null,null,null,null,null,null,null,null,null,null,null,null,null,"未","未","未","未",0,0,0,0,{"$f":"IFERROR(IF(OR(BC1362=\"未\",BD1362=\"未\"),1,IF(MATCH(BC1362&\"/\"&BD1362,③読み替え表_省エネ住宅!$G$48:$G$57,0),1,0)),0)","v":1},{"$f":"IFERROR(IF(OR(BE1362=\"未\",BF1362=\"未\"),1,IF(MATCH(BE1362&\"/\"&BF1362,③読み替え表_省エネ住宅!$G$48:$G$57,0),1,0)),0)","v":1},1,1,1,"*"]
[null,1353,null,null,null,null,null,null,null,null,null,null,null,null,null,null,null,null,null,null,null,null,null,null,null,null,null,null,null,null,null,null,null,null,null,null,null,null,null,null,null,null,null,null,null,null,null,null,null,null,null,null,null,null,"未","未","未","未",0,0,0,0,{"$f":"IFERROR(IF(OR(BC1363=\"未\",BD1363=\"未\"),1,IF(MATCH(BC1363&\"/\"&BD1363,③読み替え表_省エネ住宅!$G$48:$G$57,0),1,0)),0)","v":1},{"$f":"IFERROR(IF(OR(BE1363=\"未\",BF1363=\"未\"),1,IF(MATCH(BE1363&\"/\"&BF1363,③読み替え表_省エネ住宅!$G$48:$G$57,0),1,0)),0)","v":1},1,1,1,"*"]
[null,1355,null,null,null,null,null,null,null,null,null,null,null,null,null,null,null,null,null,null,null,null,null,null,null,null,null,null,null,null,null,null,null,null,null,null,null,null,null,null,null,null,null,null,null,null,null,null,null,null,null,null,null,null,"未","未","未","未",0,0,0,0,{"$f":"IFERROR(IF(OR(BC1365=\"未\",BD1365=\"未\"),1,IF(MATCH(BC1365&\"/\"&BD1365,③読み替え表_省エネ住宅!$G$48:$G$57,0),1,0)),0)","v":1},{"$f":"IFERROR(IF(OR(BE1365=\"未\",BF1365=\"未\"),1,IF(MATCH(BE1365&\"/\"&BF1365,③読み替え表_省エネ住宅!$G$48:$G$57,0),1,0)),0)","v":1},1,1,1,"*"]
[null,1358,null,null,null,null,null,null,null,null,null,null,null,null,null,null,null,null,null,null,null,null,null,null,null,null,null,null,null,null,null,null,null,null,null,null,null,null,null,null,null,null,null,null,null,null,null,null,null,null,null,null,null,null,"未","未","未","未",0,0,0,0,{"$f":"IFERROR(IF(OR(BC1368=\"未\",BD1368=\"未\"),1,IF(MATCH(BC1368&\"/\"&BD1368,③読み替え表_省エネ住宅!$G$48:$G$57,0),1,0)),0)","v":1},{"$f":"IFERROR(IF(OR(BE1368=\"未\",BF1368=\"未\"),1,IF(MATCH(BE1368&\"/\"&BF1368,③読み替え表_省エネ住宅!$G$48:$G$57,0),1,0)),0)","v":1},1,1,1,"*"]
[null,1361,null,null,null,null,null,null,null,null,null,null,null,null,null,null,null,null,null,null,null,null,null,null,null,null,null,null,null,null,null,null,null,null,null,null,null,null,null,null,null,null,null,null,null,null,null,null,null,null,null,null,null,null,"未","未","未","未",0,0,0,0,{"$f":"IFERROR(IF(OR(BC1371=\"未\",BD1371=\"未\"),1,IF(MATCH(BC1371&\"/\"&BD1371,③読み替え表_省エネ住宅!$G$48:$G$57,0),1,0)),0)","v":1},{"$f":"IFERROR(IF(OR(BE1371=\"未\",BF1371=\"未\"),1,IF(MATCH(BE1371&\"/\"&BF1371,③読み替え表_省エネ住宅!$G$48:$G$57,0),1,0)),0)","v":1},1,1,1,"*"]
[null,1364,null,null,null,null,null,null,null,null,null,null,null,null,null,null,null,null,null,null,null,null,null,null,null,null,null,null,null,null,null,null,null,null,null,null,null,null,null,null,null,null,null,null,null,null,null,null,null,null,null,null,null,null,"未","未","未","未",0,0,0,0,{"$f":"IFERROR(IF(OR(BC1374=\"未\",BD1374=\"未\"),1,IF(MATCH(BC1374&\"/\"&BD1374,③読み替え表_省エネ住宅!$G$48:$G$57,0),1,0)),0)","v":1},{"$f":"IFERROR(IF(OR(BE1374=\"未\",BF1374=\"未\"),1,IF(MATCH(BE1374&\"/\"&BF1374,③読み替え表_省エネ住宅!$G$48:$G$57,0),1,0)),0)","v":1},1,1,1,"*"]
[null,1367,null,null,null,null,null,null,null,null,null,null,null,null,null,null,null,null,null,null,null,null,null,null,null,null,null,null,null,null,null,null,null,null,null,null,null,null,null,null,null,null,null,null,null,null,null,null,null,null,null,null,null,null,"未","未","未","未",0,0,0,0,{"$f":"IFERROR(IF(OR(BC1377=\"未\",BD1377=\"未\"),1,IF(MATCH(BC1377&\"/\"&BD1377,③読み替え表_省エネ住宅!$G$48:$G$57,0),1,0)),0)","v":1},{"$f":"IFERROR(IF(OR(BE1377=\"未\",BF1377=\"未\"),1,IF(MATCH(BE1377&\"/\"&BF1377,③読み替え表_省エネ住宅!$G$48:$G$57,0),1,0)),0)","v":1},1,1,1,"*"]
[null,1371,null,null,null,null,null,null,null,null,null,null,null,null,null,null,null,null,null,null,null,null,null,null,null,null,null,null,null,null,null,null,null,null,null,null,null,null,null,null,null,null,null,null,null,null,null,null,null,null,null,null,null,null,"未","未","未","未",0,0,0,0,{"$f":"IFERROR(IF(OR(BC1381=\"未\",BD1381=\"未\"),1,IF(MATCH(BC1381&\"/\"&BD1381,③読み替え表_省エネ住宅!$G$48:$G$57,0),1,0)),0)","v":1},{"$f":"IFERROR(IF(OR(BE1381=\"未\",BF1381=\"未\"),1,IF(MATCH(BE1381&\"/\"&BF1381,③読み替え表_省エネ住宅!$G$48:$G$57,0),1,0)),0)","v":1},1,1,1,"*"]
[null,1374,null,null,null,null,null,null,null,null,null,null,null,null,null,null,null,null,null,null,null,null,null,null,null,null,null,null,null,null,null,null,null,null,null,null,null,null,null,null,null,null,null,null,null,null,null,null,null,null,null,null,null,null,"未","未","未","未",0,0,0,0,{"$f":"IFERROR(IF(OR(BC1384=\"未\",BD1384=\"未\"),1,IF(MATCH(BC1384&\"/\"&BD1384,③読み替え表_省エネ住宅!$G$48:$G$57,0),1,0)),0)","v":1},{"$f":"IFERROR(IF(OR(BE1384=\"未\",BF1384=\"未\"),1,IF(MATCH(BE1384&\"/\"&BF1384,③読み替え表_省エネ住宅!$G$48:$G$57,0),1,0)),0)","v":1},1,1,1,"*"]
[null,1377,null,null,null,null,null,null,null,null,null,null,null,null,null,null,null,null,null,null,null,null,null,null,null,null,null,null,null,null,null,null,null,null,null,null,null,null,null,null,null,null,null,null,null,null,null,null,null,null,null,null,null,null,"未","未","未","未",0,0,0,0,{"$f":"IFERROR(IF(OR(BC1387=\"未\",BD1387=\"未\"),1,IF(MATCH(BC1387&\"/\"&BD1387,③読み替え表_省エネ住宅!$G$48:$G$57,0),1,0)),0)","v":1},{"$f":"IFERROR(IF(OR(BE1387=\"未\",BF1387=\"未\"),1,IF(MATCH(BE1387&\"/\"&BF1387,③読み替え表_省エネ住宅!$G$48:$G$57,0),1,0)),0)","v":1},1,1,1,"*"]
[null,1379,null,null,null,null,null,null,null,null,null,null,null,null,null,null,null,null,null,null,null,null,null,null,null,null,null,null,null,null,null,null,null,null,null,null,null,null,null,null,null,null,null,null,null,null,null,null,null,null,null,null,null,null,"未","未","未","未",0,0,0,0,{"$f":"IFERROR(IF(OR(BC1389=\"未\",BD1389=\"未\"),1,IF(MATCH(BC1389&\"/\"&BD1389,③読み替え表_省エネ住宅!$G$48:$G$57,0),1,0)),0)","v":1},{"$f":"IFERROR(IF(OR(BE1389=\"未\",BF1389=\"未\"),1,IF(MATCH(BE1389&\"/\"&BF1389,③読み替え表_省エネ住宅!$G$48:$G$57,0),1,0)),0)","v":1},1,1,1,"*"]
[null,1380,null,null,null,null,null,null,null,null,null,null,null,null,null,null,null,null,null,null,null,null,null,null,null,null,null,null,null,null,null,null,null,null,null,null,null,null,null,null,null,null,null,null,null,null,null,null,null,null,null,null,null,null,"未","未","未","未",0,0,0,0,{"$f":"IFERROR(IF(OR(BC1390=\"未\",BD1390=\"未\"),1,IF(MATCH(BC1390&\"/\"&BD1390,③読み替え表_省エネ住宅!$G$48:$G$57,0),1,0)),0)","v":1},{"$f":"IFERROR(IF(OR(BE1390=\"未\",BF1390=\"未\"),1,IF(MATCH(BE1390&\"/\"&BF1390,③読み替え表_省エネ住宅!$G$48:$G$57,0),1,0)),0)","v":1},1,1,1,"*"]
[null,1383,null,null,null,null,null,null,null,null,null,null,null,null,null,null,null,null,null,null,null,null,null,null,null,null,null,null,null,null,null,null,null,null,null,null,null,null,null,null,null,null,null,null,null,null,null,null,null,null,null,null,null,null,"未","未","未","未",0,0,0,0,{"$f":"IFERROR(IF(OR(BC1393=\"未\",BD1393=\"未\"),1,IF(MATCH(BC1393&\"/\"&BD1393,③読み替え表_省エネ住宅!$G$48:$G$57,0),1,0)),0)","v":1},{"$f":"IFERROR(IF(OR(BE1393=\"未\",BF1393=\"未\"),1,IF(MATCH(BE1393&\"/\"&BF1393,③読み替え表_省エネ住宅!$G$48:$G$57,0),1,0)),0)","v":1},1,1,1,"*"]
[null,1387,null,null,null,null,null,null,null,null,null,null,null,null,null,null,null,null,null,null,null,null,null,null,null,null,null,null,null,null,null,null,null,null,null,null,null,null,null,null,null,null,null,null,null,null,null,null,null,null,null,null,null,null,"未","未","未","未",0,0,0,0,{"$f":"IFERROR(IF(OR(BC1397=\"未\",BD1397=\"未\"),1,IF(MATCH(BC1397&\"/\"&BD1397,③読み替え表_省エネ住宅!$G$48:$G$57,0),1,0)),0)","v":1},{"$f":"IFERROR(IF(OR(BE1397=\"未\",BF1397=\"未\"),1,IF(MATCH(BE1397&\"/\"&BF1397,③読み替え表_省エネ住宅!$G$48:$G$57,0),1,0)),0)","v":1},1,1,1,"*"]
[null,1390,null,null,null,null,null,null,null,null,null,null,null,null,null,null,null,null,null,null,null,null,null,null,null,null,null,null,null,null,null,null,null,null,null,null,null,null,null,null,null,null,null,null,null,null,null,null,null,null,null,null,null,null,"未","未","未","未",0,0,0,0,{"$f":"IFERROR(IF(OR(BC1400=\"未\",BD1400=\"未\"),1,IF(MATCH(BC1400&\"/\"&BD1400,③読み替え表_省エネ住宅!$G$48:$G$57,0),1,0)),0)","v":1},{"$f":"IFERROR(IF(OR(BE1400=\"未\",BF1400=\"未\"),1,IF(MATCH(BE1400&\"/\"&BF1400,③読み替え表_省エネ住宅!$G$48:$G$57,0),1,0)),0)","v":1},1,1,1,"*"]
[null,1393,null,null,null,null,null,null,null,null,null,null,null,null,null,null,null,null,null,null,null,null,null,null,null,null,null,null,null,null,null,null,null,null,null,null,null,null,null,null,null,null,null,null,null,null,null,null,null,null,null,null,null,null,"未","未","未","未",0,0,0,0,{"$f":"IFERROR(IF(OR(BC1403=\"未\",BD1403=\"未\"),1,IF(MATCH(BC1403&\"/\"&BD1403,③読み替え表_省エネ住宅!$G$48:$G$57,0),1,0)),0)","v":1},{"$f":"IFERROR(IF(OR(BE1403=\"未\",BF1403=\"未\"),1,IF(MATCH(BE1403&\"/\"&BF1403,③読み替え表_省エネ住宅!$G$48:$G$57,0),1,0)),0)","v":1},1,1,1,"*"]
[null,1396,null,null,null,null,null,null,null,null,null,null,null,null,null,null,null,null,null,null,null,null,null,null,null,null,null,null,null,null,null,null,null,null,null,null,null,null,null,null,null,null,null,null,null,null,null,null,null,null,null,null,null,null,"未","未","未","未",0,0,0,0,{"$f":"IFERROR(IF(OR(BC1406=\"未\",BD1406=\"未\"),1,IF(MATCH(BC1406&\"/\"&BD1406,③読み替え表_省エネ住宅!$G$48:$G$57,0),1,0)),0)","v":1},{"$f":"IFERROR(IF(OR(BE1406=\"未\",BF1406=\"未\"),1,IF(MATCH(BE1406&\"/\"&BF1406,③読み替え表_省エネ住宅!$G$48:$G$57,0),1,0)),0)","v":1},1,1,1,"*"]
[null,1399,null,null,null,null,null,null,null,null,null,null,null,null,null,null,null,null,null,null,null,null,null,null,null,null,null,null,null,null,null,null,null,null,null,null,null,null,null,null,null,null,null,null,null,null,null,null,null,null,null,null,null,null,"未","未","未","未",0,0,0,0,{"$f":"IFERROR(IF(OR(BC1409=\"未\",BD1409=\"未\"),1,IF(MATCH(BC1409&\"/\"&BD1409,③読み替え表_省エネ住宅!$G$48:$G$57,0),1,0)),0)","v":1},{"$f":"IFERROR(IF(OR(BE1409=\"未\",BF1409=\"未\"),1,IF(MATCH(BE1409&\"/\"&BF1409,③読み替え表_省エネ住宅!$G$48:$G$57,0),1,0)),0)","v":1},1,1,1,"*"]
[null,1401,null,null,null,null,null,null,null,null,null,null,null,null,null,null,null,null,null,null,null,null,null,null,null,null,null,null,null,null,null,null,null,null,null,null,null,null,null,null,null,null,null,null,null,null,null,null,null,null,null,null,null,null,"未","未","未","未",0,0,0,0,{"$f":"IFERROR(IF(OR(BC1411=\"未\",BD1411=\"未\"),1,IF(MATCH(BC1411&\"/\"&BD1411,③読み替え表_省エネ住宅!$G$48:$G$57,0),1,0)),0)","v":1},{"$f":"IFERROR(IF(OR(BE1411=\"未\",BF1411=\"未\"),1,IF(MATCH(BE1411&\"/\"&BF1411,③読み替え表_省エネ住宅!$G$48:$G$57,0),1,0)),0)","v":1},1,1,1,"*"]
[null,1402,null,null,null,null,null,null,null,null,null,null,null,null,null,null,null,null,null,null,null,null,null,null,null,null,null,null,null,null,null,null,null,null,null,null,null,null,null,null,null,null,null,null,null,null,null,null,null,null,null,null,null,null,"未","未","未","未",0,0,0,0,{"$f":"IFERROR(IF(OR(BC1412=\"未\",BD1412=\"未\"),1,IF(MATCH(BC1412&\"/\"&BD1412,③読み替え表_省エネ住宅!$G$48:$G$57,0),1,0)),0)","v":1},{"$f":"IFERROR(IF(OR(BE1412=\"未\",BF1412=\"未\"),1,IF(MATCH(BE1412&\"/\"&BF1412,③読み替え表_省エネ住宅!$G$48:$G$57,0),1,0)),0)","v":1},1,1,1,"*"]
[null,1406,null,null,null,null,null,null,null,null,null,null,null,null,null,null,null,null,null,null,null,null,null,null,null,null,null,null,null,null,null,null,null,null,null,null,null,null,null,null,null,null,null,null,null,null,null,null,null,null,null,null,null,null,"未","未","未","未",0,0,0,0,{"$f":"IFERROR(IF(OR(BC1416=\"未\",BD1416=\"未\"),1,IF(MATCH(BC1416&\"/\"&BD1416,③読み替え表_省エネ住宅!$G$48:$G$57,0),1,0)),0)","v":1},{"$f":"IFERROR(IF(OR(BE1416=\"未\",BF1416=\"未\"),1,IF(MATCH(BE1416&\"/\"&BF1416,③読み替え表_省エネ住宅!$G$48:$G$57,0),1,0)),0)","v":1},1,1,1,"*"]
[null,1409,null,null,null,null,null,null,null,null,null,null,null,null,null,null,null,null,null,null,null,null,null,null,null,null,null,null,null,null,null,null,null,null,null,null,null,null,null,null,null,null,null,null,null,null,null,null,null,null,null,null,null,null,"未","未","未","未",0,0,0,0,{"$f":"IFERROR(IF(OR(BC1419=\"未\",BD1419=\"未\"),1,IF(MATCH(BC1419&\"/\"&BD1419,③読み替え表_省エネ住宅!$G$48:$G$57,0),1,0)),0)","v":1},{"$f":"IFERROR(IF(OR(BE1419=\"未\",BF1419=\"未\"),1,IF(MATCH(BE1419&\"/\"&BF1419,③読み替え表_省エネ住宅!$G$48:$G$57,0),1,0)),0)","v":1},1,1,1,"*"]
[null,1412,null,null,null,null,null,null,null,null,null,null,null,null,null,null,null,null,null,null,null,null,null,null,null,null,null,null,null,null,null,null,null,null,null,null,null,null,null,null,null,null,null,null,null,null,null,null,null,null,null,null,null,null,"未","未","未","未",0,0,0,0,{"$f":"IFERROR(IF(OR(BC1422=\"未\",BD1422=\"未\"),1,IF(MATCH(BC1422&\"/\"&BD1422,③読み替え表_省エネ住宅!$G$48:$G$57,0),1,0)),0)","v":1},{"$f":"IFERROR(IF(OR(BE1422=\"未\",BF1422=\"未\"),1,IF(MATCH(BE1422&\"/\"&BF1422,③読み替え表_省エネ住宅!$G$48:$G$57,0),1,0)),0)","v":1},1,1,1,"*"]
[null,1414,null,null,null,null,null,null,null,null,null,null,null,null,null,null,null,null,null,null,null,null,null,null,null,null,null,null,null,null,null,null,null,null,null,null,null,null,null,null,null,null,null,null,null,null,null,null,null,null,null,null,null,null,"未","未","未","未",0,0,0,0,{"$f":"IFERROR(IF(OR(BC1424=\"未\",BD1424=\"未\"),1,IF(MATCH(BC1424&\"/\"&BD1424,③読み替え表_省エネ住宅!$G$48:$G$57,0),1,0)),0)","v":1},{"$f":"IFERROR(IF(OR(BE1424=\"未\",BF1424=\"未\"),1,IF(MATCH(BE1424&\"/\"&BF1424,③読み替え表_省エネ住宅!$G$48:$G$57,0),1,0)),0)","v":1},1,1,1,"*"]
[null,1418,null,null,null,null,null,null,null,null,null,null,null,null,null,null,null,null,null,null,null,null,null,null,null,null,null,null,null,null,null,null,null,null,null,null,null,null,null,null,null,null,null,null,null,null,null,null,null,null,null,null,null,null,"未","未","未","未",0,0,0,0,{"$f":"IFERROR(IF(OR(BC1428=\"未\",BD1428=\"未\"),1,IF(MATCH(BC1428&\"/\"&BD1428,③読み替え表_省エネ住宅!$G$48:$G$57,0),1,0)),0)","v":1},{"$f":"IFERROR(IF(OR(BE1428=\"未\",BF1428=\"未\"),1,IF(MATCH(BE1428&\"/\"&BF1428,③読み替え表_省エネ住宅!$G$48:$G$57,0),1,0)),0)","v":1},1,1,1,"*"]
[null,1421,null,null,null,null,null,null,null,null,null,null,null,null,null,null,null,null,null,null,null,null,null,null,null,null,null,null,null,null,null,null,null,null,null,null,null,null,null,null,null,null,null,null,null,null,null,null,null,null,null,null,null,null,"未","未","未","未",0,0,0,0,{"$f":"IFERROR(IF(OR(BC1431=\"未\",BD1431=\"未\"),1,IF(MATCH(BC1431&\"/\"&BD1431,③読み替え表_省エネ住宅!$G$48:$G$57,0),1,0)),0)","v":1},{"$f":"IFERROR(IF(OR(BE1431=\"未\",BF1431=\"未\"),1,IF(MATCH(BE1431&\"/\"&BF1431,③読み替え表_省エネ住宅!$G$48:$G$57,0),1,0)),0)","v":1},1,1,1,"*"]
[null,1422,null,null,null,null,null,null,null,null,null,null,null,null,null,null,null,null,null,null,null,null,null,null,null,null,null,null,null,null,null,null,null,null,null,null,null,null,null,null,null,null,null,null,null,null,null,null,null,null,null,null,null,null,"未","未","未","未",0,0,0,0,{"$f":"IFERROR(IF(OR(BC1432=\"未\",BD1432=\"未\"),1,IF(MATCH(BC1432&\"/\"&BD1432,③読み替え表_省エネ住宅!$G$48:$G$57,0),1,0)),0)","v":1},{"$f":"IFERROR(IF(OR(BE1432=\"未\",BF1432=\"未\"),1,IF(MATCH(BE1432&\"/\"&BF1432,③読み替え表_省エネ住宅!$G$48:$G$57,0),1,0)),0)","v":1},1,1,1,"*"]
[null,1425,null,null,null,null,null,null,null,null,null,null,null,null,null,null,null,null,null,null,null,null,null,null,null,null,null,null,null,null,null,null,null,null,null,null,null,null,null,null,null,null,null,null,null,null,null,null,null,null,null,null,null,null,"未","未","未","未",0,0,0,0,{"$f":"IFERROR(IF(OR(BC1435=\"未\",BD1435=\"未\"),1,IF(MATCH(BC1435&\"/\"&BD1435,③読み替え表_省エネ住宅!$G$48:$G$57,0),1,0)),0)","v":1},{"$f":"IFERROR(IF(OR(BE1435=\"未\",BF1435=\"未\"),1,IF(MATCH(BE1435&\"/\"&BF1435,③読み替え表_省エネ住宅!$G$48:$G$57,0),1,0)),0)","v":1},1,1,1,"*"]
[null,1428,null,null,null,null,null,null,null,null,null,null,null,null,null,null,null,null,null,null,null,null,null,null,null,null,null,null,null,null,null,null,null,null,null,null,null,null,null,null,null,null,null,null,null,null,null,null,null,null,null,null,null,null,"未","未","未","未",0,0,0,0,{"$f":"IFERROR(IF(OR(BC1438=\"未\",BD1438=\"未\"),1,IF(MATCH(BC1438&\"/\"&BD1438,③読み替え表_省エネ住宅!$G$48:$G$57,0),1,0)),0)","v":1},{"$f":"IFERROR(IF(OR(BE1438=\"未\",BF1438=\"未\"),1,IF(MATCH(BE1438&\"/\"&BF1438,③読み替え表_省エネ住宅!$G$48:$G$57,0),1,0)),0)","v":1},1,1,1,"*"]
[null,1431,null,null,null,null,null,null,null,null,null,null,null,null,null,null,null,null,null,null,null,null,null,null,null,null,null,null,null,null,null,null,null,null,null,null,null,null,null,null,null,null,null,null,null,null,null,null,null,null,null,null,null,null,"未","未","未","未",0,0,0,0,{"$f":"IFERROR(IF(OR(BC1441=\"未\",BD1441=\"未\"),1,IF(MATCH(BC1441&\"/\"&BD1441,③読み替え表_省エネ住宅!$G$48:$G$57,0),1,0)),0)","v":1},{"$f":"IFERROR(IF(OR(BE1441=\"未\",BF1441=\"未\"),1,IF(MATCH(BE1441&\"/\"&BF1441,③読み替え表_省エネ住宅!$G$48:$G$57,0),1,0)),0)","v":1},1,1,1,"*"]
[null,1434,null,null,null,null,null,null,null,null,null,null,null,null,null,null,null,null,null,null,null,null,null,null,null,null,null,null,null,null,null,null,null,null,null,null,null,null,null,null,null,null,null,null,null,null,null,null,null,null,null,null,null,null,"未","未","未","未",0,0,0,0,{"$f":"IFERROR(IF(OR(BC1444=\"未\",BD1444=\"未\"),1,IF(MATCH(BC1444&\"/\"&BD1444,③読み替え表_省エネ住宅!$G$48:$G$57,0),1,0)),0)","v":1},{"$f":"IFERROR(IF(OR(BE1444=\"未\",BF1444=\"未\"),1,IF(MATCH(BE1444&\"/\"&BF1444,③読み替え表_省エネ住宅!$G$48:$G$57,0),1,0)),0)","v":1},1,1,1,"*"]
[null,1438,null,null,null,null,null,null,null,null,null,null,null,null,null,null,null,null,null,null,null,null,null,null,null,null,null,null,null,null,null,null,null,null,null,null,null,null,null,null,null,null,null,null,null,null,null,null,null,null,null,null,null,null,"未","未","未","未",0,0,0,0,{"$f":"IFERROR(IF(OR(BC1448=\"未\",BD1448=\"未\"),1,IF(MATCH(BC1448&\"/\"&BD1448,③読み替え表_省エネ住宅!$G$48:$G$57,0),1,0)),0)","v":1},{"$f":"IFERROR(IF(OR(BE1448=\"未\",BF1448=\"未\"),1,IF(MATCH(BE1448&\"/\"&BF1448,③読み替え表_省エネ住宅!$G$48:$G$57,0),1,0)),0)","v":1},1,1,1,"*"]
[null,1440,null,null,null,null,null,null,null,null,null,null,null,null,null,null,null,null,null,null,null,null,null,null,null,null,null,null,null,null,null,null,null,null,null,null,null,null,null,null,null,null,null,null,null,null,null,null,null,null,null,null,null,null,"未","未","未","未",0,0,0,0,{"$f":"IFERROR(IF(OR(BC1450=\"未\",BD1450=\"未\"),1,IF(MATCH(BC1450&\"/\"&BD1450,③読み替え表_省エネ住宅!$G$48:$G$57,0),1,0)),0)","v":1},{"$f":"IFERROR(IF(OR(BE1450=\"未\",BF1450=\"未\"),1,IF(MATCH(BE1450&\"/\"&BF1450,③読み替え表_省エネ住宅!$G$48:$G$57,0),1,0)),0)","v":1},1,1,1,"*"]
[null,1441,null,null,null,null,null,null,null,null,null,null,null,null,null,null,null,null,null,null,null,null,null,null,null,null,null,null,null,null,null,null,null,null,null,null,null,null,null,null,null,null,null,null,null,null,null,null,null,null,null,null,null,null,"未","未","未","未",0,0,0,0,{"$f":"IFERROR(IF(OR(BC1451=\"未\",BD1451=\"未\"),1,IF(MATCH(BC1451&\"/\"&BD1451,③読み替え表_省エネ住宅!$G$48:$G$57,0),1,0)),0)","v":1},{"$f":"IFERROR(IF(OR(BE1451=\"未\",BF1451=\"未\"),1,IF(MATCH(BE1451&\"/\"&BF1451,③読み替え表_省エネ住宅!$G$48:$G$57,0),1,0)),0)","v":1},1,1,1,"*"]
[null,1444,null,null,null,null,null,null,null,null,null,null,null,null,null,null,null,null,null,null,null,null,null,null,null,null,null,null,null,null,null,null,null,null,null,null,null,null,null,null,null,null,null,null,null,null,null,null,null,null,null,null,null,null,"未","未","未","未",0,0,0,0,{"$f":"IFERROR(IF(OR(BC1454=\"未\",BD1454=\"未\"),1,IF(MATCH(BC1454&\"/\"&BD1454,③読み替え表_省エネ住宅!$G$48:$G$57,0),1,0)),0)","v":1},{"$f":"IFERROR(IF(OR(BE1454=\"未\",BF1454=\"未\"),1,IF(MATCH(BE1454&\"/\"&BF1454,③読み替え表_省エネ住宅!$G$48:$G$57,0),1,0)),0)","v":1},1,1,1,"*"]
[null,1447,null,null,null,null,null,null,null,null,null,null,null,null,null,null,null,null,null,null,null,null,null,null,null,null,null,null,null,null,null,null,null,null,null,null,null,null,null,null,null,null,null,null,null,null,null,null,null,null,null,null,null,null,"未","未","未","未",0,0,0,0,{"$f":"IFERROR(IF(OR(BC1457=\"未\",BD1457=\"未\"),1,IF(MATCH(BC1457&\"/\"&BD1457,③読み替え表_省エネ住宅!$G$48:$G$57,0),1,0)),0)","v":1},{"$f":"IFERROR(IF(OR(BE1457=\"未\",BF1457=\"未\"),1,IF(MATCH(BE1457&\"/\"&BF1457,③読み替え表_省エネ住宅!$G$48:$G$57,0),1,0)),0)","v":1},1,1,1,"*"]
[null,1451,null,null,null,null,null,null,null,null,null,null,null,null,null,null,null,null,null,null,null,null,null,null,null,null,null,null,null,null,null,null,null,null,null,null,null,null,null,null,null,null,null,null,null,null,null,null,null,null,null,null,null,null,"未","未","未","未",0,0,0,0,{"$f":"IFERROR(IF(OR(BC1461=\"未\",BD1461=\"未\"),1,IF(MATCH(BC1461&\"/\"&BD1461,③読み替え表_省エネ住宅!$G$48:$G$57,0),1,0)),0)","v":1},{"$f":"IFERROR(IF(OR(BE1461=\"未\",BF1461=\"未\"),1,IF(MATCH(BE1461&\"/\"&BF1461,③読み替え表_省エネ住宅!$G$48:$G$57,0),1,0)),0)","v":1},1,1,1,"*"]
[null,1453,null,null,null,null,null,null,null,null,null,null,null,null,null,null,null,null,null,null,null,null,null,null,null,null,null,null,null,null,null,null,null,null,null,null,null,null,null,null,null,null,null,null,null,null,null,null,null,null,null,null,null,null,"未","未","未","未",0,0,0,0,{"$f":"IFERROR(IF(OR(BC1463=\"未\",BD1463=\"未\"),1,IF(MATCH(BC1463&\"/\"&BD1463,③読み替え表_省エネ住宅!$G$48:$G$57,0),1,0)),0)","v":1},{"$f":"IFERROR(IF(OR(BE1463=\"未\",BF1463=\"未\"),1,IF(MATCH(BE1463&\"/\"&BF1463,③読み替え表_省エネ住宅!$G$48:$G$57,0),1,0)),0)","v":1},1,1,1,"*"]
[null,1456,null,null,null,null,null,null,null,null,null,null,null,null,null,null,null,null,null,null,null,null,null,null,null,null,null,null,null,null,null,null,null,null,null,null,null,null,null,null,null,null,null,null,null,null,null,null,null,null,null,null,null,null,"未","未","未","未",0,0,0,0,{"$f":"IFERROR(IF(OR(BC1466=\"未\",BD1466=\"未\"),1,IF(MATCH(BC1466&\"/\"&BD1466,③読み替え表_省エネ住宅!$G$48:$G$57,0),1,0)),0)","v":1},{"$f":"IFERROR(IF(OR(BE1466=\"未\",BF1466=\"未\"),1,IF(MATCH(BE1466&\"/\"&BF1466,③読み替え表_省エネ住宅!$G$48:$G$57,0),1,0)),0)","v":1},1,1,1,"*"]
[null,1460,null,null,null,null,null,null,null,null,null,null,null,null,null,null,null,null,null,null,null,null,null,null,null,null,null,null,null,null,null,null,null,null,null,null,null,null,null,null,null,null,null,null,null,null,null,null,null,null,null,null,null,null,"未","未","未","未",0,0,0,0,{"$f":"IFERROR(IF(OR(BC1470=\"未\",BD1470=\"未\"),1,IF(MATCH(BC1470&\"/\"&BD1470,③読み替え表_省エネ住宅!$G$48:$G$57,0),1,0)),0)","v":1},{"$f":"IFERROR(IF(OR(BE1470=\"未\",BF1470=\"未\"),1,IF(MATCH(BE1470&\"/\"&BF1470,③読み替え表_省エネ住宅!$G$48:$G$57,0),1,0)),0)","v":1},1,1,1,"*"]
[null,1462,null,null,null,null,null,null,null,null,null,null,null,null,null,null,null,null,null,null,null,null,null,null,null,null,null,null,null,null,null,null,null,null,null,null,null,null,null,null,null,null,null,null,null,null,null,null,null,null,null,null,null,null,"未","未","未","未",0,0,0,0,{"$f":"IFERROR(IF(OR(BC1472=\"未\",BD1472=\"未\"),1,IF(MATCH(BC1472&\"/\"&BD1472,③読み替え表_省エネ住宅!$G$48:$G$57,0),1,0)),0)","v":1},{"$f":"IFERROR(IF(OR(BE1472=\"未\",BF1472=\"未\"),1,IF(MATCH(BE1472&\"/\"&BF1472,③読み替え表_省エネ住宅!$G$48:$G$57,0),1,0)),0)","v":1},1,1,1,"*"]
[null,1463,null,null,null,null,null,null,null,null,null,null,null,null,null,null,null,null,null,null,null,null,null,null,null,null,null,null,null,null,null,null,null,null,null,null,null,null,null,null,null,null,null,null,null,null,null,null,null,null,null,null,null,null,"未","未","未","未",0,0,0,0,{"$f":"IFERROR(IF(OR(BC1473=\"未\",BD1473=\"未\"),1,IF(MATCH(BC1473&\"/\"&BD1473,③読み替え表_省エネ住宅!$G$48:$G$57,0),1,0)),0)","v":1},{"$f":"IFERROR(IF(OR(BE1473=\"未\",BF1473=\"未\"),1,IF(MATCH(BE1473&\"/\"&BF1473,③読み替え表_省エネ住宅!$G$48:$G$57,0),1,0)),0)","v":1},1,1,1,"*"]
[null,1466,null,null,null,null,null,null,null,null,null,null,null,null,null,null,null,null,null,null,null,null,null,null,null,null,null,null,null,null,null,null,null,null,null,null,null,null,null,null,null,null,null,null,null,null,null,null,null,null,null,null,null,null,"未","未","未","未",0,0,0,0,{"$f":"IFERROR(IF(OR(BC1476=\"未\",BD1476=\"未\"),1,IF(MATCH(BC1476&\"/\"&BD1476,③読み替え表_省エネ住宅!$G$48:$G$57,0),1,0)),0)","v":1},{"$f":"IFERROR(IF(OR(BE1476=\"未\",BF1476=\"未\"),1,IF(MATCH(BE1476&\"/\"&BF1476,③読み替え表_省エネ住宅!$G$48:$G$57,0),1,0)),0)","v":1},1,1,1,"*"]
[null,1469,null,null,null,null,null,null,null,null,null,null,null,null,null,null,null,null,null,null,null,null,null,null,null,null,null,null,null,null,null,null,null,null,null,null,null,null,null,null,null,null,null,null,null,null,null,null,null,null,null,null,null,null,"未","未","未","未",0,0,0,0,{"$f":"IFERROR(IF(OR(BC1479=\"未\",BD1479=\"未\"),1,IF(MATCH(BC1479&\"/\"&BD1479,③読み替え表_省エネ住宅!$G$48:$G$57,0),1,0)),0)","v":1},{"$f":"IFERROR(IF(OR(BE1479=\"未\",BF1479=\"未\"),1,IF(MATCH(BE1479&\"/\"&BF1479,③読み替え表_省エネ住宅!$G$48:$G$57,0),1,0)),0)","v":1},1,1,1,"*"]
[null,1473,null,null,null,null,null,null,null,null,null,null,null,null,null,null,null,null,null,null,null,null,null,null,null,null,null,null,null,null,null,null,null,null,null,null,null,null,null,null,null,null,null,null,null,null,null,null,null,null,null,null,null,null,"未","未","未","未",0,0,0,0,{"$f":"IFERROR(IF(OR(BC1483=\"未\",BD1483=\"未\"),1,IF(MATCH(BC1483&\"/\"&BD1483,③読み替え表_省エネ住宅!$G$48:$G$57,0),1,0)),0)","v":1},{"$f":"IFERROR(IF(OR(BE1483=\"未\",BF1483=\"未\"),1,IF(MATCH(BE1483&\"/\"&BF1483,③読み替え表_省エネ住宅!$G$48:$G$57,0),1,0)),0)","v":1},1,1,1,"*"]
[null,1475,null,null,null,null,null,null,null,null,null,null,null,null,null,null,null,null,null,null,null,null,null,null,null,null,null,null,null,null,null,null,null,null,null,null,null,null,null,null,null,null,null,null,null,null,null,null,null,null,null,null,null,null,"未","未","未","未",0,0,0,0,{"$f":"IFERROR(IF(OR(BC1485=\"未\",BD1485=\"未\"),1,IF(MATCH(BC1485&\"/\"&BD1485,③読み替え表_省エネ住宅!$G$48:$G$57,0),1,0)),0)","v":1},{"$f":"IFERROR(IF(OR(BE1485=\"未\",BF1485=\"未\"),1,IF(MATCH(BE1485&\"/\"&BF1485,③読み替え表_省エネ住宅!$G$48:$G$57,0),1,0)),0)","v":1},1,1,1,"*"]
[null,1478,null,null,null,null,null,null,null,null,null,null,null,null,null,null,null,null,null,null,null,null,null,null,null,null,null,null,null,null,null,null,null,null,null,null,null,null,null,null,null,null,null,null,null,null,null,null,null,null,null,null,null,null,"未","未","未","未",0,0,0,0,{"$f":"IFERROR(IF(OR(BC1488=\"未\",BD1488=\"未\"),1,IF(MATCH(BC1488&\"/\"&BD1488,③読み替え表_省エネ住宅!$G$48:$G$57,0),1,0)),0)","v":1},{"$f":"IFERROR(IF(OR(BE1488=\"未\",BF1488=\"未\"),1,IF(MATCH(BE1488&\"/\"&BF1488,③読み替え表_省エネ住宅!$G$48:$G$57,0),1,0)),0)","v":1},1,1,1,"*"]
[null,1482,null,null,null,null,null,null,null,null,null,null,null,null,null,null,null,null,null,null,null,null,null,null,null,null,null,null,null,null,null,null,null,null,null,null,null,null,null,null,null,null,null,null,null,null,null,null,null,null,null,null,null,null,"未","未","未","未",0,0,0,0,{"$f":"IFERROR(IF(OR(BC1492=\"未\",BD1492=\"未\"),1,IF(MATCH(BC1492&\"/\"&BD1492,③読み替え表_省エネ住宅!$G$48:$G$57,0),1,0)),0)","v":1},{"$f":"IFERROR(IF(OR(BE1492=\"未\",BF1492=\"未\"),1,IF(MATCH(BE1492&\"/\"&BF1492,③読み替え表_省エネ住宅!$G$48:$G$57,0),1,0)),0)","v":1},1,1,1,"*"]
[null,1485,null,null,null,null,null,null,null,null,null,null,null,null,null,null,null,null,null,null,null,null,null,null,null,null,null,null,null,null,null,null,null,null,null,null,null,null,null,null,null,null,null,null,null,null,null,null,null,null,null,null,null,null,"未","未","未","未",0,0,0,0,{"$f":"IFERROR(IF(OR(BC1495=\"未\",BD1495=\"未\"),1,IF(MATCH(BC1495&\"/\"&BD1495,③読み替え表_省エネ住宅!$G$48:$G$57,0),1,0)),0)","v":1},{"$f":"IFERROR(IF(OR(BE1495=\"未\",BF1495=\"未\"),1,IF(MATCH(BE1495&\"/\"&BF1495,③読み替え表_省エネ住宅!$G$48:$G$57,0),1,0)),0)","v":1},1,1,1,"*"]
[null,1486,null,null,null,null,null,null,null,null,null,null,null,null,null,null,null,null,null,null,null,null,null,null,null,null,null,null,null,null,null,null,null,null,null,null,null,null,null,null,null,null,null,null,null,null,null,null,null,null,null,null,null,null,"未","未","未","未",0,0,0,0,{"$f":"IFERROR(IF(OR(BC1496=\"未\",BD1496=\"未\"),1,IF(MATCH(BC1496&\"/\"&BD1496,③読み替え表_省エネ住宅!$G$48:$G$57,0),1,0)),0)","v":1},{"$f":"IFERROR(IF(OR(BE1496=\"未\",BF1496=\"未\"),1,IF(MATCH(BE1496&\"/\"&BF1496,③読み替え表_省エネ住宅!$G$48:$G$57,0),1,0)),0)","v":1},1,1,1,"*"]
[null,1488,null,null,null,null,null,null,null,null,null,null,null,null,null,null,null,null,null,null,null,null,null,null,null,null,null,null,null,null,null,null,null,null,null,null,null,null,null,null,null,null,null,null,null,null,null,null,null,null,null,null,null,null,"未","未","未","未",0,0,0,0,{"$f":"IFERROR(IF(OR(BC1498=\"未\",BD1498=\"未\"),1,IF(MATCH(BC1498&\"/\"&BD1498,③読み替え表_省エネ住宅!$G$48:$G$57,0),1,0)),0)","v":1},{"$f":"IFERROR(IF(OR(BE1498=\"未\",BF1498=\"未\"),1,IF(MATCH(BE1498&\"/\"&BF1498,③読み替え表_省エネ住宅!$G$48:$G$57,0),1,0)),0)","v":1},1,1,1,"*"]
[null,1491,null,null,null,null,null,null,null,null,null,null,null,null,null,null,null,null,null,null,null,null,null,null,null,null,null,null,null,null,null,null,null,null,null,null,null,null,null,null,null,null,null,null,null,null,null,null,null,null,null,null,null,null,"未","未","未","未",0,0,0,0,{"$f":"IFERROR(IF(OR(BC1501=\"未\",BD1501=\"未\"),1,IF(MATCH(BC1501&\"/\"&BD1501,③読み替え表_省エネ住宅!$G$48:$G$57,0),1,0)),0)","v":1},{"$f":"IFERROR(IF(OR(BE1501=\"未\",BF1501=\"未\"),1,IF(MATCH(BE1501&\"/\"&BF1501,③読み替え表_省エネ住宅!$G$48:$G$57,0),1,0)),0)","v":1},1,1,1,"*"]
[null,1495,null,null,null,null,null,null,null,null,null,null,null,null,null,null,null,null,null,null,null,null,null,null,null,null,null,null,null,null,null,null,null,null,null,null,null,null,null,null,null,null,null,null,null,null,null,null,null,null,null,null,null,null,"未","未","未","未",0,0,0,0,{"$f":"IFERROR(IF(OR(BC1505=\"未\",BD1505=\"未\"),1,IF(MATCH(BC1505&\"/\"&BD1505,③読み替え表_省エネ住宅!$G$48:$G$57,0),1,0)),0)","v":1},{"$f":"IFERROR(IF(OR(BE1505=\"未\",BF1505=\"未\"),1,IF(MATCH(BE1505&\"/\"&BF1505,③読み替え表_省エネ住宅!$G$48:$G$57,0),1,0)),0)","v":1},1,1,1,"*"]
[null,1498,null,null,null,null,null,null,null,null,null,null,null,null,null,null,null,null,null,null,null,null,null,null,null,null,null,null,null,null,null,null,null,null,null,null,null,null,null,null,null,null,null,null,null,null,null,null,null,null,null,null,null,null,"未","未","未","未",0,0,0,0,{"$f":"IFERROR(IF(OR(BC1508=\"未\",BD1508=\"未\"),1,IF(MATCH(BC1508&\"/\"&BD1508,③読み替え表_省エネ住宅!$G$48:$G$57,0),1,0)),0)","v":1},{"$f":"IFERROR(IF(OR(BE1508=\"未\",BF1508=\"未\"),1,IF(MATCH(BE1508&\"/\"&BF1508,③読み替え表_省エネ住宅!$G$48:$G$57,0),1,0)),0)","v":1},1,1,1,"*"]
[null,1501,null,null,null,null,null,null,null,null,null,null,null,null,null,null,null,null,null,null,null,null,null,null,null,null,null,null,null,null,null,null,null,null,null,null,null,null,null,null,null,null,null,null,null,null,null,null,null,null,null,null,null,null,"未","未","未","未",0,0,0,0,{"$f":"IFERROR(IF(OR(BC1511=\"未\",BD1511=\"未\"),1,IF(MATCH(BC1511&\"/\"&BD1511,③読み替え表_省エネ住宅!$G$48:$G$57,0),1,0)),0)","v":1},{"$f":"IFERROR(IF(OR(BE1511=\"未\",BF1511=\"未\"),1,IF(MATCH(BE1511&\"/\"&BF1511,③読み替え表_省エネ住宅!$G$48:$G$57,0),1,0)),0)","v":1},1,1,1,"*"]
[null,1504,null,null,null,null,null,null,null,null,null,null,null,null,null,null,null,null,null,null,null,null,null,null,null,null,null,null,null,null,null,null,null,null,null,null,null,null,null,null,null,null,null,null,null,null,null,null,null,null,null,null,null,null,"未","未","未","未",0,0,0,0,{"$f":"IFERROR(IF(OR(BC1514=\"未\",BD1514=\"未\"),1,IF(MATCH(BC1514&\"/\"&BD1514,③読み替え表_省エネ住宅!$G$48:$G$57,0),1,0)),0)","v":1},{"$f":"IFERROR(IF(OR(BE1514=\"未\",BF1514=\"未\"),1,IF(MATCH(BE1514&\"/\"&BF1514,③読み替え表_省エネ住宅!$G$48:$G$57,0),1,0)),0)","v":1},1,1,1,"*"]
[null,1507,null,null,null,null,null,null,null,null,null,null,null,null,null,null,null,null,null,null,null,null,null,null,null,null,null,null,null,null,null,null,null,null,null,null,null,null,null,null,null,null,null,null,null,null,null,null,null,null,null,null,null,null,"未","未","未","未",0,0,0,0,{"$f":"IFERROR(IF(OR(BC1517=\"未\",BD1517=\"未\"),1,IF(MATCH(BC1517&\"/\"&BD1517,③読み替え表_省エネ住宅!$G$48:$G$57,0),1,0)),0)","v":1},{"$f":"IFERROR(IF(OR(BE1517=\"未\",BF1517=\"未\"),1,IF(MATCH(BE1517&\"/\"&BF1517,③読み替え表_省エネ住宅!$G$48:$G$57,0),1,0)),0)","v":1},1,1,1,"*"]
[null,1508,null,null,null,null,null,null,null,null,null,null,null,null,null,null,null,null,null,null,null,null,null,null,null,null,null,null,null,null,null,null,null,null,null,null,null,null,null,null,null,null,null,null,null,null,null,null,null,null,null,null,null,null,"未","未","未","未",0,0,0,0,{"$f":"IFERROR(IF(OR(BC1518=\"未\",BD1518=\"未\"),1,IF(MATCH(BC1518&\"/\"&BD1518,③読み替え表_省エネ住宅!$G$48:$G$57,0),1,0)),0)","v":1},{"$f":"IFERROR(IF(OR(BE1518=\"未\",BF1518=\"未\"),1,IF(MATCH(BE1518&\"/\"&BF1518,③読み替え表_省エネ住宅!$G$48:$G$57,0),1,0)),0)","v":1},1,1,1,"*"]
[null,1512,null,null,null,null,null,null,null,null,null,null,null,null,null,null,null,null,null,null,null,null,null,null,null,null,null,null,null,null,null,null,null,null,null,null,null,null,null,null,null,null,null,null,null,null,null,null,null,null,null,null,null,null,"未","未","未","未",0,0,0,0,{"$f":"IFERROR(IF(OR(BC1522=\"未\",BD1522=\"未\"),1,IF(MATCH(BC1522&\"/\"&BD1522,③読み替え表_省エネ住宅!$G$48:$G$57,0),1,0)),0)","v":1},{"$f":"IFERROR(IF(OR(BE1522=\"未\",BF1522=\"未\"),1,IF(MATCH(BE1522&\"/\"&BF1522,③読み替え表_省エネ住宅!$G$48:$G$57,0),1,0)),0)","v":1},1,1,1,"*"]
[null,1513,null,null,null,null,null,null,null,null,null,null,null,null,null,null,null,null,null,null,null,null,null,null,null,null,null,null,null,null,null,null,null,null,null,null,null,null,null,null,null,null,null,null,null,null,null,null,null,null,null,null,null,null,"未","未","未","未",0,0,0,0,{"$f":"IFERROR(IF(OR(BC1523=\"未\",BD1523=\"未\"),1,IF(MATCH(BC1523&\"/\"&BD1523,③読み替え表_省エネ住宅!$G$48:$G$57,0),1,0)),0)","v":1},{"$f":"IFERROR(IF(OR(BE1523=\"未\",BF1523=\"未\"),1,IF(MATCH(BE1523&\"/\"&BF1523,③読み替え表_省エネ住宅!$G$48:$G$57,0),1,0)),0)","v":1},1,1,1,"*"]
[null,1517,null,null,null,null,null,null,null,null,null,null,null,null,null,null,null,null,null,null,null,null,null,null,null,null,null,null,null,null,null,null,null,null,null,null,null,null,null,null,null,null,null,null,null,null,null,null,null,null,null,null,null,null,"未","未","未","未",0,0,0,0,{"$f":"IFERROR(IF(OR(BC1527=\"未\",BD1527=\"未\"),1,IF(MATCH(BC1527&\"/\"&BD1527,③読み替え表_省エネ住宅!$G$48:$G$57,0),1,0)),0)","v":1},{"$f":"IFERROR(IF(OR(BE1527=\"未\",BF1527=\"未\"),1,IF(MATCH(BE1527&\"/\"&BF1527,③読み替え表_省エネ住宅!$G$48:$G$57,0),1,0)),0)","v":1},1,1,1,"*"]
[null,1520,null,null,null,null,null,null,null,null,null,null,null,null,null,null,null,null,null,null,null,null,null,null,null,null,null,null,null,null,null,null,null,null,null,null,null,null,null,null,null,null,null,null,null,null,null,null,null,null,null,null,null,null,"未","未","未","未",0,0,0,0,{"$f":"IFERROR(IF(OR(BC1530=\"未\",BD1530=\"未\"),1,IF(MATCH(BC1530&\"/\"&BD1530,③読み替え表_省エネ住宅!$G$48:$G$57,0),1,0)),0)","v":1},{"$f":"IFERROR(IF(OR(BE1530=\"未\",BF1530=\"未\"),1,IF(MATCH(BE1530&\"/\"&BF1530,③読み替え表_省エネ住宅!$G$48:$G$57,0),1,0)),0)","v":1},1,1,1,"*"]
[null,1523,null,null,null,null,null,null,null,null,null,null,null,null,null,null,null,null,null,null,null,null,null,null,null,null,null,null,null,null,null,null,null,null,null,null,null,null,null,null,null,null,null,null,null,null,null,null,null,null,null,null,null,null,"未","未","未","未",0,0,0,0,{"$f":"IFERROR(IF(OR(BC1533=\"未\",BD1533=\"未\"),1,IF(MATCH(BC1533&\"/\"&BD1533,③読み替え表_省エネ住宅!$G$48:$G$57,0),1,0)),0)","v":1},{"$f":"IFERROR(IF(OR(BE1533=\"未\",BF1533=\"未\"),1,IF(MATCH(BE1533&\"/\"&BF1533,③読み替え表_省エネ住宅!$G$48:$G$57,0),1,0)),0)","v":1},1,1,1,"*"]
[null,1526,null,null,null,null,null,null,null,null,null,null,null,null,null,null,null,null,null,null,null,null,null,null,null,null,null,null,null,null,null,null,null,null,null,null,null,null,null,null,null,null,null,null,null,null,null,null,null,null,null,null,null,null,"未","未","未","未",0,0,0,0,{"$f":"IFERROR(IF(OR(BC1536=\"未\",BD1536=\"未\"),1,IF(MATCH(BC1536&\"/\"&BD1536,③読み替え表_省エネ住宅!$G$48:$G$57,0),1,0)),0)","v":1},{"$f":"IFERROR(IF(OR(BE1536=\"未\",BF1536=\"未\"),1,IF(MATCH(BE1536&\"/\"&BF1536,③読み替え表_省エネ住宅!$G$48:$G$57,0),1,0)),0)","v":1},1,1,1,"*"]
[null,1529,null,null,null,null,null,null,null,null,null,null,null,null,null,null,null,null,null,null,null,null,null,null,null,null,null,null,null,null,null,null,null,null,null,null,null,null,null,null,null,null,null,null,null,null,null,null,null,null,null,null,null,null,"未","未","未","未",0,0,0,0,{"$f":"IFERROR(IF(OR(BC1539=\"未\",BD1539=\"未\"),1,IF(MATCH(BC1539&\"/\"&BD1539,③読み替え表_省エネ住宅!$G$48:$G$57,0),1,0)),0)","v":1},{"$f":"IFERROR(IF(OR(BE1539=\"未\",BF1539=\"未\"),1,IF(MATCH(BE1539&\"/\"&BF1539,③読み替え表_省エネ住宅!$G$48:$G$57,0),1,0)),0)","v":1},1,1,1,"*"]
[null,1530,null,null,null,null,null,null,null,null,null,null,null,null,null,null,null,null,null,null,null,null,null,null,null,null,null,null,null,null,null,null,null,null,null,null,null,null,null,null,null,null,null,null,null,null,null,null,null,null,null,null,null,null,"未","未","未","未",0,0,0,0,{"$f":"IFERROR(IF(OR(BC1540=\"未\",BD1540=\"未\"),1,IF(MATCH(BC1540&\"/\"&BD1540,③読み替え表_省エネ住宅!$G$48:$G$57,0),1,0)),0)","v":1},{"$f":"IFERROR(IF(OR(BE1540=\"未\",BF1540=\"未\"),1,IF(MATCH(BE1540&\"/\"&BF1540,③読み替え表_省エネ住宅!$G$48:$G$57,0),1,0)),0)","v":1},1,1,1,"*"]
[null,1533,null,null,null,null,null,null,null,null,null,null,null,null,null,null,null,null,null,null,null,null,null,null,null,null,null,null,null,null,null,null,null,null,null,null,null,null,null,null,null,null,null,null,null,null,null,null,null,null,null,null,null,null,"未","未","未","未",0,0,0,0,{"$f":"IFERROR(IF(OR(BC1543=\"未\",BD1543=\"未\"),1,IF(MATCH(BC1543&\"/\"&BD1543,③読み替え表_省エネ住宅!$G$48:$G$57,0),1,0)),0)","v":1},{"$f":"IFERROR(IF(OR(BE1543=\"未\",BF1543=\"未\"),1,IF(MATCH(BE1543&\"/\"&BF1543,③読み替え表_省エネ住宅!$G$48:$G$57,0),1,0)),0)","v":1},1,1,1,"*"]
[null,1536,null,null,null,null,null,null,null,null,null,null,null,null,null,null,null,null,null,null,null,null,null,null,null,null,null,null,null,null,null,null,null,null,null,null,null,null,null,null,null,null,null,null,null,null,null,null,null,null,null,null,null,null,"未","未","未","未",0,0,0,0,{"$f":"IFERROR(IF(OR(BC1546=\"未\",BD1546=\"未\"),1,IF(MATCH(BC1546&\"/\"&BD1546,③読み替え表_省エネ住宅!$G$48:$G$57,0),1,0)),0)","v":1},{"$f":"IFERROR(IF(OR(BE1546=\"未\",BF1546=\"未\"),1,IF(MATCH(BE1546&\"/\"&BF1546,③読み替え表_省エネ住宅!$G$48:$G$57,0),1,0)),0)","v":1},1,1,1,"*"]
[null,1539,null,null,null,null,null,null,null,null,null,null,null,null,null,null,null,null,null,null,null,null,null,null,null,null,null,null,null,null,null,null,null,null,null,null,null,null,null,null,null,null,null,null,null,null,null,null,null,null,null,null,null,null,"未","未","未","未",0,0,0,0,{"$f":"IFERROR(IF(OR(BC1549=\"未\",BD1549=\"未\"),1,IF(MATCH(BC1549&\"/\"&BD1549,③読み替え表_省エネ住宅!$G$48:$G$57,0),1,0)),0)","v":1},{"$f":"IFERROR(IF(OR(BE1549=\"未\",BF1549=\"未\"),1,IF(MATCH(BE1549&\"/\"&BF1549,③読み替え表_省エネ住宅!$G$48:$G$57,0),1,0)),0)","v":1},1,1,1,"*"]
[null,1542,null,null,null,null,null,null,null,null,null,null,null,null,null,null,null,null,null,null,null,null,null,null,null,null,null,null,null,null,null,null,null,null,null,null,null,null,null,null,null,null,null,null,null,null,null,null,null,null,null,null,null,null,"未","未","未","未",0,0,0,0,{"$f":"IFERROR(IF(OR(BC1552=\"未\",BD1552=\"未\"),1,IF(MATCH(BC1552&\"/\"&BD1552,③読み替え表_省エネ住宅!$G$48:$G$57,0),1,0)),0)","v":1},{"$f":"IFERROR(IF(OR(BE1552=\"未\",BF1552=\"未\"),1,IF(MATCH(BE1552&\"/\"&BF1552,③読み替え表_省エネ住宅!$G$48:$G$57,0),1,0)),0)","v":1},1,1,1,"*"]
[null,1546,null,null,null,null,null,null,null,null,null,null,null,null,null,null,null,null,null,null,null,null,null,null,null,null,null,null,null,null,null,null,null,null,null,null,null,null,null,null,null,null,null,null,null,null,null,null,null,null,null,null,null,null,"未","未","未","未",0,0,0,0,{"$f":"IFERROR(IF(OR(BC1556=\"未\",BD1556=\"未\"),1,IF(MATCH(BC1556&\"/\"&BD1556,③読み替え表_省エネ住宅!$G$48:$G$57,0),1,0)),0)","v":1},{"$f":"IFERROR(IF(OR(BE1556=\"未\",BF1556=\"未\"),1,IF(MATCH(BE1556&\"/\"&BF1556,③読み替え表_省エネ住宅!$G$48:$G$57,0),1,0)),0)","v":1},1,1,1,"*"]
[null,1547,null,null,null,null,null,null,null,null,null,null,null,null,null,null,null,null,null,null,null,null,null,null,null,null,null,null,null,null,null,null,null,null,null,null,null,null,null,null,null,null,null,null,null,null,null,null,null,null,null,null,null,null,"未","未","未","未",0,0,0,0,{"$f":"IFERROR(IF(OR(BC1557=\"未\",BD1557=\"未\"),1,IF(MATCH(BC1557&\"/\"&BD1557,③読み替え表_省エネ住宅!$G$48:$G$57,0),1,0)),0)","v":1},{"$f":"IFERROR(IF(OR(BE1557=\"未\",BF1557=\"未\"),1,IF(MATCH(BE1557&\"/\"&BF1557,③読み替え表_省エネ住宅!$G$48:$G$57,0),1,0)),0)","v":1},1,1,1,"*"]
[null,1551,null,null,null,null,null,null,null,null,null,null,null,null,null,null,null,null,null,null,null,null,null,null,null,null,null,null,null,null,null,null,null,null,null,null,null,null,null,null,null,null,null,null,null,null,null,null,null,null,null,null,null,null,"未","未","未","未",0,0,0,0,{"$f":"IFERROR(IF(OR(BC1561=\"未\",BD1561=\"未\"),1,IF(MATCH(BC1561&\"/\"&BD1561,③読み替え表_省エネ住宅!$G$48:$G$57,0),1,0)),0)","v":1},{"$f":"IFERROR(IF(OR(BE1561=\"未\",BF1561=\"未\"),1,IF(MATCH(BE1561&\"/\"&BF1561,③読み替え表_省エネ住宅!$G$48:$G$57,0),1,0)),0)","v":1},1,1,1,"*"]
[null,1552,null,null,null,null,null,null,null,null,null,null,null,null,null,null,null,null,null,null,null,null,null,null,null,null,null,null,null,null,null,null,null,null,null,null,null,null,null,null,null,null,null,null,null,null,null,null,null,null,null,null,null,null,"未","未","未","未",0,0,0,0,{"$f":"IFERROR(IF(OR(BC1562=\"未\",BD1562=\"未\"),1,IF(MATCH(BC1562&\"/\"&BD1562,③読み替え表_省エネ住宅!$G$48:$G$57,0),1,0)),0)","v":1},{"$f":"IFERROR(IF(OR(BE1562=\"未\",BF1562=\"未\"),1,IF(MATCH(BE1562&\"/\"&BF1562,③読み替え表_省エネ住宅!$G$48:$G$57,0),1,0)),0)","v":1},1,1,1,"*"]
[null,1555,null,null,null,null,null,null,null,null,null,null,null,null,null,null,null,null,null,null,null,null,null,null,null,null,null,null,null,null,null,null,null,null,null,null,null,null,null,null,null,null,null,null,null,null,null,null,null,null,null,null,null,null,"未","未","未","未",0,0,0,0,{"$f":"IFERROR(IF(OR(BC1565=\"未\",BD1565=\"未\"),1,IF(MATCH(BC1565&\"/\"&BD1565,③読み替え表_省エネ住宅!$G$48:$G$57,0),1,0)),0)","v":1},{"$f":"IFERROR(IF(OR(BE1565=\"未\",BF1565=\"未\"),1,IF(MATCH(BE1565&\"/\"&BF1565,③読み替え表_省エネ住宅!$G$48:$G$57,0),1,0)),0)","v":1},1,1,1,"*"]
[null,1558,null,null,null,null,null,null,null,null,null,null,null,null,null,null,null,null,null,null,null,null,null,null,null,null,null,null,null,null,null,null,null,null,null,null,null,null,null,null,null,null,null,null,null,null,null,null,null,null,null,null,null,null,"未","未","未","未",0,0,0,0,{"$f":"IFERROR(IF(OR(BC1568=\"未\",BD1568=\"未\"),1,IF(MATCH(BC1568&\"/\"&BD1568,③読み替え表_省エネ住宅!$G$48:$G$57,0),1,0)),0)","v":1},{"$f":"IFERROR(IF(OR(BE1568=\"未\",BF1568=\"未\"),1,IF(MATCH(BE1568&\"/\"&BF1568,③読み替え表_省エネ住宅!$G$48:$G$57,0),1,0)),0)","v":1},1,1,1,"*"]
[null,1561,null,null,null,null,null,null,null,null,null,null,null,null,null,null,null,null,null,null,null,null,null,null,null,null,null,null,null,null,null,null,null,null,null,null,null,null,null,null,null,null,null,null,null,null,null,null,null,null,null,null,null,null,"未","未","未","未",0,0,0,0,{"$f":"IFERROR(IF(OR(BC1571=\"未\",BD1571=\"未\"),1,IF(MATCH(BC1571&\"/\"&BD1571,③読み替え表_省エネ住宅!$G$48:$G$57,0),1,0)),0)","v":1},{"$f":"IFERROR(IF(OR(BE1571=\"未\",BF1571=\"未\"),1,IF(MATCH(BE1571&\"/\"&BF1571,③読み替え表_省エネ住宅!$G$48:$G$57,0),1,0)),0)","v":1},1,1,1,"*"]
[null,1564,null,null,null,null,null,null,null,null,null,null,null,null,null,null,null,null,null,null,null,null,null,null,null,null,null,null,null,null,null,null,null,null,null,null,null,null,null,null,null,null,null,null,null,null,null,null,null,null,null,null,null,null,"未","未","未","未",0,0,0,0,{"$f":"IFERROR(IF(OR(BC1574=\"未\",BD1574=\"未\"),1,IF(MATCH(BC1574&\"/\"&BD1574,③読み替え表_省エネ住宅!$G$48:$G$57,0),1,0)),0)","v":1},{"$f":"IFERROR(IF(OR(BE1574=\"未\",BF1574=\"未\"),1,IF(MATCH(BE1574&\"/\"&BF1574,③読み替え表_省エネ住宅!$G$48:$G$57,0),1,0)),0)","v":1},1,1,1,"*"]
[null,1568,null,null,null,null,null,null,null,null,null,null,null,null,null,null,null,null,null,null,null,null,null,null,null,null,null,null,null,null,null,null,null,null,null,null,null,null,null,null,null,null,null,null,null,null,null,null,null,null,null,null,null,null,"未","未","未","未",0,0,0,0,{"$f":"IFERROR(IF(OR(BC1578=\"未\",BD1578=\"未\"),1,IF(MATCH(BC1578&\"/\"&BD1578,③読み替え表_省エネ住宅!$G$48:$G$57,0),1,0)),0)","v":1},{"$f":"IFERROR(IF(OR(BE1578=\"未\",BF1578=\"未\"),1,IF(MATCH(BE1578&\"/\"&BF1578,③読み替え表_省エネ住宅!$G$48:$G$57,0),1,0)),0)","v":1},1,1,1,"*"]
[null,1571,null,null,null,null,null,null,null,null,null,null,null,null,null,null,null,null,null,null,null,null,null,null,null,null,null,null,null,null,null,null,null,null,null,null,null,null,null,null,null,null,null,null,null,null,null,null,null,null,null,null,null,null,"未","未","未","未",0,0,0,0,{"$f":"IFERROR(IF(OR(BC1581=\"未\",BD1581=\"未\"),1,IF(MATCH(BC1581&\"/\"&BD1581,③読み替え表_省エネ住宅!$G$48:$G$57,0),1,0)),0)","v":1},{"$f":"IFERROR(IF(OR(BE1581=\"未\",BF1581=\"未\"),1,IF(MATCH(BE1581&\"/\"&BF1581,③読み替え表_省エネ住宅!$G$48:$G$57,0),1,0)),0)","v":1},1,1,1,"*"]
[null,1573,null,null,null,null,null,null,null,null,null,null,null,null,null,null,null,null,null,null,null,null,null,null,null,null,null,null,null,null,null,null,null,null,null,null,null,null,null,null,null,null,null,null,null,null,null,null,null,null,null,null,null,null,"未","未","未","未",0,0,0,0,{"$f":"IFERROR(IF(OR(BC1583=\"未\",BD1583=\"未\"),1,IF(MATCH(BC1583&\"/\"&BD1583,③読み替え表_省エネ住宅!$G$48:$G$57,0),1,0)),0)","v":1},{"$f":"IFERROR(IF(OR(BE1583=\"未\",BF1583=\"未\"),1,IF(MATCH(BE1583&\"/\"&BF1583,③読み替え表_省エネ住宅!$G$48:$G$57,0),1,0)),0)","v":1},1,1,1,"*"]
[null,1574,null,null,null,null,null,null,null,null,null,null,null,null,null,null,null,null,null,null,null,null,null,null,null,null,null,null,null,null,null,null,null,null,null,null,null,null,null,null,null,null,null,null,null,null,null,null,null,null,null,null,null,null,"未","未","未","未",0,0,0,0,{"$f":"IFERROR(IF(OR(BC1584=\"未\",BD1584=\"未\"),1,IF(MATCH(BC1584&\"/\"&BD1584,③読み替え表_省エネ住宅!$G$48:$G$57,0),1,0)),0)","v":1},{"$f":"IFERROR(IF(OR(BE1584=\"未\",BF1584=\"未\"),1,IF(MATCH(BE1584&\"/\"&BF1584,③読み替え表_省エネ住宅!$G$48:$G$57,0),1,0)),0)","v":1},1,1,1,"*"]
[null,1577,null,null,null,null,null,null,null,null,null,null,null,null,null,null,null,null,null,null,null,null,null,null,null,null,null,null,null,null,null,null,null,null,null,null,null,null,null,null,null,null,null,null,null,null,null,null,null,null,null,null,null,null,"未","未","未","未",0,0,0,0,{"$f":"IFERROR(IF(OR(BC1587=\"未\",BD1587=\"未\"),1,IF(MATCH(BC1587&\"/\"&BD1587,③読み替え表_省エネ住宅!$G$48:$G$57,0),1,0)),0)","v":1},{"$f":"IFERROR(IF(OR(BE1587=\"未\",BF1587=\"未\"),1,IF(MATCH(BE1587&\"/\"&BF1587,③読み替え表_省エネ住宅!$G$48:$G$57,0),1,0)),0)","v":1},1,1,1,"*"]
[null,1581,null,null,null,null,null,null,null,null,null,null,null,null,null,null,null,null,null,null,null,null,null,null,null,null,null,null,null,null,null,null,null,null,null,null,null,null,null,null,null,null,null,null,null,null,null,null,null,null,null,null,null,null,"未","未","未","未",0,0,0,0,{"$f":"IFERROR(IF(OR(BC1591=\"未\",BD1591=\"未\"),1,IF(MATCH(BC1591&\"/\"&BD1591,③読み替え表_省エネ住宅!$G$48:$G$57,0),1,0)),0)","v":1},{"$f":"IFERROR(IF(OR(BE1591=\"未\",BF1591=\"未\"),1,IF(MATCH(BE1591&\"/\"&BF1591,③読み替え表_省エネ住宅!$G$48:$G$57,0),1,0)),0)","v":1},1,1,1,"*"]
[null,1584,null,null,null,null,null,null,null,null,null,null,null,null,null,null,null,null,null,null,null,null,null,null,null,null,null,null,null,null,null,null,null,null,null,null,null,null,null,null,null,null,null,null,null,null,null,null,null,null,null,null,null,null,"未","未","未","未",0,0,0,0,{"$f":"IFERROR(IF(OR(BC1594=\"未\",BD1594=\"未\"),1,IF(MATCH(BC1594&\"/\"&BD1594,③読み替え表_省エネ住宅!$G$48:$G$57,0),1,0)),0)","v":1},{"$f":"IFERROR(IF(OR(BE1594=\"未\",BF1594=\"未\"),1,IF(MATCH(BE1594&\"/\"&BF1594,③読み替え表_省エネ住宅!$G$48:$G$57,0),1,0)),0)","v":1},1,1,1,"*"]
[null,1586,null,null,null,null,null,null,null,null,null,null,null,null,null,null,null,null,null,null,null,null,null,null,null,null,null,null,null,null,null,null,null,null,null,null,null,null,null,null,null,null,null,null,null,null,null,null,null,null,null,null,null,null,"未","未","未","未",0,0,0,0,{"$f":"IFERROR(IF(OR(BC1596=\"未\",BD1596=\"未\"),1,IF(MATCH(BC1596&\"/\"&BD1596,③読み替え表_省エネ住宅!$G$48:$G$57,0),1,0)),0)","v":1},{"$f":"IFERROR(IF(OR(BE1596=\"未\",BF1596=\"未\"),1,IF(MATCH(BE1596&\"/\"&BF1596,③読み替え表_省エネ住宅!$G$48:$G$57,0),1,0)),0)","v":1},1,1,1,"*"]
[null,1590,null,null,null,null,null,null,null,null,null,null,null,null,null,null,null,null,null,null,null,null,null,null,null,null,null,null,null,null,null,null,null,null,null,null,null,null,null,null,null,null,null,null,null,null,null,null,null,null,null,null,null,null,"未","未","未","未",0,0,0,0,{"$f":"IFERROR(IF(OR(BC1600=\"未\",BD1600=\"未\"),1,IF(MATCH(BC1600&\"/\"&BD1600,③読み替え表_省エネ住宅!$G$48:$G$57,0),1,0)),0)","v":1},{"$f":"IFERROR(IF(OR(BE1600=\"未\",BF1600=\"未\"),1,IF(MATCH(BE1600&\"/\"&BF1600,③読み替え表_省エネ住宅!$G$48:$G$57,0),1,0)),0)","v":1},1,1,1,"*"]
[null,1593,null,null,null,null,null,null,null,null,null,null,null,null,null,null,null,null,null,null,null,null,null,null,null,null,null,null,null,null,null,null,null,null,null,null,null,null,null,null,null,null,null,null,null,null,null,null,null,null,null,null,null,null,"未","未","未","未",0,0,0,0,{"$f":"IFERROR(IF(OR(BC1603=\"未\",BD1603=\"未\"),1,IF(MATCH(BC1603&\"/\"&BD1603,③読み替え表_省エネ住宅!$G$48:$G$57,0),1,0)),0)","v":1},{"$f":"IFERROR(IF(OR(BE1603=\"未\",BF1603=\"未\"),1,IF(MATCH(BE1603&\"/\"&BF1603,③読み替え表_省エネ住宅!$G$48:$G$57,0),1,0)),0)","v":1},1,1,1,"*"]
[null,1594,null,null,null,null,null,null,null,null,null,null,null,null,null,null,null,null,null,null,null,null,null,null,null,null,null,null,null,null,null,null,null,null,null,null,null,null,null,null,null,null,null,null,null,null,null,null,null,null,null,null,null,null,"未","未","未","未",0,0,0,0,{"$f":"IFERROR(IF(OR(BC1604=\"未\",BD1604=\"未\"),1,IF(MATCH(BC1604&\"/\"&BD1604,③読み替え表_省エネ住宅!$G$48:$G$57,0),1,0)),0)","v":1},{"$f":"IFERROR(IF(OR(BE1604=\"未\",BF1604=\"未\"),1,IF(MATCH(BE1604&\"/\"&BF1604,③読み替え表_省エネ住宅!$G$48:$G$57,0),1,0)),0)","v":1},1,1,1,"*"]
[null,1597,null,null,null,null,null,null,null,null,null,null,null,null,null,null,null,null,null,null,null,null,null,null,null,null,null,null,null,null,null,null,null,null,null,null,null,null,null,null,null,null,null,null,null,null,null,null,null,null,null,null,null,null,"未","未","未","未",0,0,0,0,{"$f":"IFERROR(IF(OR(BC1607=\"未\",BD1607=\"未\"),1,IF(MATCH(BC1607&\"/\"&BD1607,③読み替え表_省エネ住宅!$G$48:$G$57,0),1,0)),0)","v":1},{"$f":"IFERROR(IF(OR(BE1607=\"未\",BF1607=\"未\"),1,IF(MATCH(BE1607&\"/\"&BF1607,③読み替え表_省エネ住宅!$G$48:$G$57,0),1,0)),0)","v":1},1,1,1,"*"]
[null,1599,null,null,null,null,null,null,null,null,null,null,null,null,null,null,null,null,null,null,null,null,null,null,null,null,null,null,null,null,null,null,null,null,null,null,null,null,null,null,null,null,null,null,null,null,null,null,null,null,null,null,null,null,"未","未","未","未",0,0,0,0,{"$f":"IFERROR(IF(OR(BC1609=\"未\",BD1609=\"未\"),1,IF(MATCH(BC1609&\"/\"&BD1609,③読み替え表_省エネ住宅!$G$48:$G$57,0),1,0)),0)","v":1},{"$f":"IFERROR(IF(OR(BE1609=\"未\",BF1609=\"未\"),1,IF(MATCH(BE1609&\"/\"&BF1609,③読み替え表_省エネ住宅!$G$48:$G$57,0),1,0)),0)","v":1},1,1,1,"*"]
[null,1603,null,null,null,null,null,null,null,null,null,null,null,null,null,null,null,null,null,null,null,null,null,null,null,null,null,null,null,null,null,null,null,null,null,null,null,null,null,null,null,null,null,null,null,null,null,null,null,null,null,null,null,null,"未","未","未","未",0,0,0,0,{"$f":"IFERROR(IF(OR(BC1613=\"未\",BD1613=\"未\"),1,IF(MATCH(BC1613&\"/\"&BD1613,③読み替え表_省エネ住宅!$G$48:$G$57,0),1,0)),0)","v":1},{"$f":"IFERROR(IF(OR(BE1613=\"未\",BF1613=\"未\"),1,IF(MATCH(BE1613&\"/\"&BF1613,③読み替え表_省エネ住宅!$G$48:$G$57,0),1,0)),0)","v":1},1,1,1,"*"]
[null,1606,null,null,null,null,null,null,null,null,null,null,null,null,null,null,null,null,null,null,null,null,null,null,null,null,null,null,null,null,null,null,null,null,null,null,null,null,null,null,null,null,null,null,null,null,null,null,null,null,null,null,null,null,"未","未","未","未",0,0,0,0,{"$f":"IFERROR(IF(OR(BC1616=\"未\",BD1616=\"未\"),1,IF(MATCH(BC1616&\"/\"&BD1616,③読み替え表_省エネ住宅!$G$48:$G$57,0),1,0)),0)","v":1},{"$f":"IFERROR(IF(OR(BE1616=\"未\",BF1616=\"未\"),1,IF(MATCH(BE1616&\"/\"&BF1616,③読み替え表_省エネ住宅!$G$48:$G$57,0),1,0)),0)","v":1},1,1,1,"*"]
[null,1608,null,null,null,null,null,null,null,null,null,null,null,null,null,null,null,null,null,null,null,null,null,null,null,null,null,null,null,null,null,null,null,null,null,null,null,null,null,null,null,null,null,null,null,null,null,null,null,null,null,null,null,null,"未","未","未","未",0,0,0,0,{"$f":"IFERROR(IF(OR(BC1618=\"未\",BD1618=\"未\"),1,IF(MATCH(BC1618&\"/\"&BD1618,③読み替え表_省エネ住宅!$G$48:$G$57,0),1,0)),0)","v":1},{"$f":"IFERROR(IF(OR(BE1618=\"未\",BF1618=\"未\"),1,IF(MATCH(BE1618&\"/\"&BF1618,③読み替え表_省エネ住宅!$G$48:$G$57,0),1,0)),0)","v":1},1,1,1,"*"]
[null,1612,null,null,null,null,null,null,null,null,null,null,null,null,null,null,null,null,null,null,null,null,null,null,null,null,null,null,null,null,null,null,null,null,null,null,null,null,null,null,null,null,null,null,null,null,null,null,null,null,null,null,null,null,"未","未","未","未",0,0,0,0,{"$f":"IFERROR(IF(OR(BC1622=\"未\",BD1622=\"未\"),1,IF(MATCH(BC1622&\"/\"&BD1622,③読み替え表_省エネ住宅!$G$48:$G$57,0),1,0)),0)","v":1},{"$f":"IFERROR(IF(OR(BE1622=\"未\",BF1622=\"未\"),1,IF(MATCH(BE1622&\"/\"&BF1622,③読み替え表_省エネ住宅!$G$48:$G$57,0),1,0)),0)","v":1},1,1,1,"*"]
[null,1615,null,null,null,null,null,null,null,null,null,null,null,null,null,null,null,null,null,null,null,null,null,null,null,null,null,null,null,null,null,null,null,null,null,null,null,null,null,null,null,null,null,null,null,null,null,null,null,null,null,null,null,null,"未","未","未","未",0,0,0,0,{"$f":"IFERROR(IF(OR(BC1625=\"未\",BD1625=\"未\"),1,IF(MATCH(BC1625&\"/\"&BD1625,③読み替え表_省エネ住宅!$G$48:$G$57,0),1,0)),0)","v":1},{"$f":"IFERROR(IF(OR(BE1625=\"未\",BF1625=\"未\"),1,IF(MATCH(BE1625&\"/\"&BF1625,③読み替え表_省エネ住宅!$G$48:$G$57,0),1,0)),0)","v":1},1,1,1,"*"]
[null,1616,null,null,null,null,null,null,null,null,null,null,null,null,null,null,null,null,null,null,null,null,null,null,null,null,null,null,null,null,null,null,null,null,null,null,null,null,null,null,null,null,null,null,null,null,null,null,null,null,null,null,null,null,"未","未","未","未",0,0,0,0,{"$f":"IFERROR(IF(OR(BC1626=\"未\",BD1626=\"未\"),1,IF(MATCH(BC1626&\"/\"&BD1626,③読み替え表_省エネ住宅!$G$48:$G$57,0),1,0)),0)","v":1},{"$f":"IFERROR(IF(OR(BE1626=\"未\",BF1626=\"未\"),1,IF(MATCH(BE1626&\"/\"&BF1626,③読み替え表_省エネ住宅!$G$48:$G$57,0),1,0)),0)","v":1},1,1,1,"*"]
[null,1619,null,null,null,null,null,null,null,null,null,null,null,null,null,null,null,null,null,null,null,null,null,null,null,null,null,null,null,null,null,null,null,null,null,null,null,null,null,null,null,null,null,null,null,null,null,null,null,null,null,null,null,null,"未","未","未","未",0,0,0,0,{"$f":"IFERROR(IF(OR(BC1629=\"未\",BD1629=\"未\"),1,IF(MATCH(BC1629&\"/\"&BD1629,③読み替え表_省エネ住宅!$G$48:$G$57,0),1,0)),0)","v":1},{"$f":"IFERROR(IF(OR(BE1629=\"未\",BF1629=\"未\"),1,IF(MATCH(BE1629&\"/\"&BF1629,③読み替え表_省エネ住宅!$G$48:$G$57,0),1,0)),0)","v":1},1,1,1,"*"]
[null,1621,null,null,null,null,null,null,null,null,null,null,null,null,null,null,null,null,null,null,null,null,null,null,null,null,null,null,null,null,null,null,null,null,null,null,null,null,null,null,null,null,null,null,null,null,null,null,null,null,null,null,null,null,"未","未","未","未",0,0,0,0,{"$f":"IFERROR(IF(OR(BC1631=\"未\",BD1631=\"未\"),1,IF(MATCH(BC1631&\"/\"&BD1631,③読み替え表_省エネ住宅!$G$48:$G$57,0),1,0)),0)","v":1},{"$f":"IFERROR(IF(OR(BE1631=\"未\",BF1631=\"未\"),1,IF(MATCH(BE1631&\"/\"&BF1631,③読み替え表_省エネ住宅!$G$48:$G$57,0),1,0)),0)","v":1},1,1,1,"*"]
[null,1625,null,null,null,null,null,null,null,null,null,null,null,null,null,null,null,null,null,null,null,null,null,null,null,null,null,null,null,null,null,null,null,null,null,null,null,null,null,null,null,null,null,null,null,null,null,null,null,null,null,null,null,null,"未","未","未","未",0,0,0,0,{"$f":"IFERROR(IF(OR(BC1635=\"未\",BD1635=\"未\"),1,IF(MATCH(BC1635&\"/\"&BD1635,③読み替え表_省エネ住宅!$G$48:$G$57,0),1,0)),0)","v":1},{"$f":"IFERROR(IF(OR(BE1635=\"未\",BF1635=\"未\"),1,IF(MATCH(BE1635&\"/\"&BF1635,③読み替え表_省エネ住宅!$G$48:$G$57,0),1,0)),0)","v":1},1,1,1,"*"]
[null,1628,null,null,null,null,null,null,null,null,null,null,null,null,null,null,null,null,null,null,null,null,null,null,null,null,null,null,null,null,null,null,null,null,null,null,null,null,null,null,null,null,null,null,null,null,null,null,null,null,null,null,null,null,"未","未","未","未",0,0,0,0,{"$f":"IFERROR(IF(OR(BC1638=\"未\",BD1638=\"未\"),1,IF(MATCH(BC1638&\"/\"&BD1638,③読み替え表_省エネ住宅!$G$48:$G$57,0),1,0)),0)","v":1},{"$f":"IFERROR(IF(OR(BE1638=\"未\",BF1638=\"未\"),1,IF(MATCH(BE1638&\"/\"&BF1638,③読み替え表_省エネ住宅!$G$48:$G$57,0),1,0)),0)","v":1},1,1,1,"*"]
[null,1631,null,null,null,null,null,null,null,null,null,null,null,null,null,null,null,null,null,null,null,null,null,null,null,null,null,null,null,null,null,null,null,null,null,null,null,null,null,null,null,null,null,null,null,null,null,null,null,null,null,null,null,null,"未","未","未","未",0,0,0,0,{"$f":"IFERROR(IF(OR(BC1641=\"未\",BD1641=\"未\"),1,IF(MATCH(BC1641&\"/\"&BD1641,③読み替え表_省エネ住宅!$G$48:$G$57,0),1,0)),0)","v":1},{"$f":"IFERROR(IF(OR(BE1641=\"未\",BF1641=\"未\"),1,IF(MATCH(BE1641&\"/\"&BF1641,③読み替え表_省エネ住宅!$G$48:$G$57,0),1,0)),0)","v":1},1,1,1,"*"]
[null,1634,null,null,null,null,null,null,null,null,null,null,null,null,null,null,null,null,null,null,null,null,null,null,null,null,null,null,null,null,null,null,null,null,null,null,null,null,null,null,null,null,null,null,null,null,null,null,null,null,null,null,null,null,"未","未","未","未",0,0,0,0,{"$f":"IFERROR(IF(OR(BC1644=\"未\",BD1644=\"未\"),1,IF(MATCH(BC1644&\"/\"&BD1644,③読み替え表_省エネ住宅!$G$48:$G$57,0),1,0)),0)","v":1},{"$f":"IFERROR(IF(OR(BE1644=\"未\",BF1644=\"未\"),1,IF(MATCH(BE1644&\"/\"&BF1644,③読み替え表_省エネ住宅!$G$48:$G$57,0),1,0)),0)","v":1},1,1,1,"*"]
[null,1637,null,null,null,null,null,null,null,null,null,null,null,null,null,null,null,null,null,null,null,null,null,null,null,null,null,null,null,null,null,null,null,null,null,null,null,null,null,null,null,null,null,null,null,null,null,null,null,null,null,null,null,null,"未","未","未","未",0,0,0,0,{"$f":"IFERROR(IF(OR(BC1647=\"未\",BD1647=\"未\"),1,IF(MATCH(BC1647&\"/\"&BD1647,③読み替え表_省エネ住宅!$G$48:$G$57,0),1,0)),0)","v":1},{"$f":"IFERROR(IF(OR(BE1647=\"未\",BF1647=\"未\"),1,IF(MATCH(BE1647&\"/\"&BF1647,③読み替え表_省エネ住宅!$G$48:$G$57,0),1,0)),0)","v":1},1,1,1,"*"]
[null,1638,null,null,null,null,null,null,null,null,null,null,null,null,null,null,null,null,null,null,null,null,null,null,null,null,null,null,null,null,null,null,null,null,null,null,null,null,null,null,null,null,null,null,null,null,null,null,null,null,null,null,null,null,"未","未","未","未",0,0,0,0,{"$f":"IFERROR(IF(OR(BC1648=\"未\",BD1648=\"未\"),1,IF(MATCH(BC1648&\"/\"&BD1648,③読み替え表_省エネ住宅!$G$48:$G$57,0),1,0)),0)","v":1},{"$f":"IFERROR(IF(OR(BE1648=\"未\",BF1648=\"未\"),1,IF(MATCH(BE1648&\"/\"&BF1648,③読み替え表_省エネ住宅!$G$48:$G$57,0),1,0)),0)","v":1},1,1,1,"*"]
[null,1641,null,null,null,null,null,null,null,null,null,null,null,null,null,null,null,null,null,null,null,null,null,null,null,null,null,null,null,null,null,null,null,null,null,null,null,null,null,null,null,null,null,null,null,null,null,null,null,null,null,null,null,null,"未","未","未","未",0,0,0,0,{"$f":"IFERROR(IF(OR(BC1651=\"未\",BD1651=\"未\"),1,IF(MATCH(BC1651&\"/\"&BD1651,③読み替え表_省エネ住宅!$G$48:$G$57,0),1,0)),0)","v":1},{"$f":"IFERROR(IF(OR(BE1651=\"未\",BF1651=\"未\"),1,IF(MATCH(BE1651&\"/\"&BF1651,③読み替え表_省エネ住宅!$G$48:$G$57,0),1,0)),0)","v":1},1,1,1,"*"]
[null,1645,null,null,null,null,null,null,null,null,null,null,null,null,null,null,null,null,null,null,null,null,null,null,null,null,null,null,null,null,null,null,null,null,null,null,null,null,null,null,null,null,null,null,null,null,null,null,null,null,null,null,null,null,"未","未","未","未",0,0,0,0,{"$f":"IFERROR(IF(OR(BC1655=\"未\",BD1655=\"未\"),1,IF(MATCH(BC1655&\"/\"&BD1655,③読み替え表_省エネ住宅!$G$48:$G$57,0),1,0)),0)","v":1},{"$f":"IFERROR(IF(OR(BE1655=\"未\",BF1655=\"未\"),1,IF(MATCH(BE1655&\"/\"&BF1655,③読み替え表_省エネ住宅!$G$48:$G$57,0),1,0)),0)","v":1},1,1,1,"*"]
[null,1647,null,null,null,null,null,null,null,null,null,null,null,null,null,null,null,null,null,null,null,null,null,null,null,null,null,null,null,null,null,null,null,null,null,null,null,null,null,null,null,null,null,null,null,null,null,null,null,null,null,null,null,null,"未","未","未","未",0,0,0,0,{"$f":"IFERROR(IF(OR(BC1657=\"未\",BD1657=\"未\"),1,IF(MATCH(BC1657&\"/\"&BD1657,③読み替え表_省エネ住宅!$G$48:$G$57,0),1,0)),0)","v":1},{"$f":"IFERROR(IF(OR(BE1657=\"未\",BF1657=\"未\"),1,IF(MATCH(BE1657&\"/\"&BF1657,③読み替え表_省エネ住宅!$G$48:$G$57,0),1,0)),0)","v":1},1,1,1,"*"]
[null,1650,null,null,null,null,null,null,null,null,null,null,null,null,null,null,null,null,null,null,null,null,null,null,null,null,null,null,null,null,null,null,null,null,null,null,null,null,null,null,null,null,null,null,null,null,null,null,null,null,null,null,null,null,"未","未","未","未",0,0,0,0,{"$f":"IFERROR(IF(OR(BC1660=\"未\",BD1660=\"未\"),1,IF(MATCH(BC1660&\"/\"&BD1660,③読み替え表_省エネ住宅!$G$48:$G$57,0),1,0)),0)","v":1},{"$f":"IFERROR(IF(OR(BE1660=\"未\",BF1660=\"未\"),1,IF(MATCH(BE1660&\"/\"&BF1660,③読み替え表_省エネ住宅!$G$48:$G$57,0),1,0)),0)","v":1},1,1,1,"*"]
[null,1654,null,null,null,null,null,null,null,null,null,null,null,null,null,null,null,null,null,null,null,null,null,null,null,null,null,null,null,null,null,null,null,null,null,null,null,null,null,null,null,null,null,null,null,null,null,null,null,null,null,null,null,null,"未","未","未","未",0,0,0,0,{"$f":"IFERROR(IF(OR(BC1664=\"未\",BD1664=\"未\"),1,IF(MATCH(BC1664&\"/\"&BD1664,③読み替え表_省エネ住宅!$G$48:$G$57,0),1,0)),0)","v":1},{"$f":"IFERROR(IF(OR(BE1664=\"未\",BF1664=\"未\"),1,IF(MATCH(BE1664&\"/\"&BF1664,③読み替え表_省エネ住宅!$G$48:$G$57,0),1,0)),0)","v":1},1,1,1,"*"]
[null,1657,null,null,null,null,null,null,null,null,null,null,null,null,null,null,null,null,null,null,null,null,null,null,null,null,null,null,null,null,null,null,null,null,null,null,null,null,null,null,null,null,null,null,null,null,null,null,null,null,null,null,null,null,"未","未","未","未",0,0,0,0,{"$f":"IFERROR(IF(OR(BC1667=\"未\",BD1667=\"未\"),1,IF(MATCH(BC1667&\"/\"&BD1667,③読み替え表_省エネ住宅!$G$48:$G$57,0),1,0)),0)","v":1},{"$f":"IFERROR(IF(OR(BE1667=\"未\",BF1667=\"未\"),1,IF(MATCH(BE1667&\"/\"&BF1667,③読み替え表_省エネ住宅!$G$48:$G$57,0),1,0)),0)","v":1},1,1,1,"*"]
[null,1658,null,null,null,null,null,null,null,null,null,null,null,null,null,null,null,null,null,null,null,null,null,null,null,null,null,null,null,null,null,null,null,null,null,null,null,null,null,null,null,null,null,null,null,null,null,null,null,null,null,null,null,null,"未","未","未","未",0,0,0,0,{"$f":"IFERROR(IF(OR(BC1668=\"未\",BD1668=\"未\"),1,IF(MATCH(BC1668&\"/\"&BD1668,③読み替え表_省エネ住宅!$G$48:$G$57,0),1,0)),0)","v":1},{"$f":"IFERROR(IF(OR(BE1668=\"未\",BF1668=\"未\"),1,IF(MATCH(BE1668&\"/\"&BF1668,③読み替え表_省エネ住宅!$G$48:$G$57,0),1,0)),0)","v":1},1,1,1,"*"]
[null,1660,null,null,null,null,null,null,null,null,null,null,null,null,null,null,null,null,null,null,null,null,null,null,null,null,null,null,null,null,null,null,null,null,null,null,null,null,null,null,null,null,null,null,null,null,null,null,null,null,null,null,null,null,"未","未","未","未",0,0,0,0,{"$f":"IFERROR(IF(OR(BC1670=\"未\",BD1670=\"未\"),1,IF(MATCH(BC1670&\"/\"&BD1670,③読み替え表_省エネ住宅!$G$48:$G$57,0),1,0)),0)","v":1},{"$f":"IFERROR(IF(OR(BE1670=\"未\",BF1670=\"未\"),1,IF(MATCH(BE1670&\"/\"&BF1670,③読み替え表_省エネ住宅!$G$48:$G$57,0),1,0)),0)","v":1},1,1,1,"*"]
[null,1663,null,null,null,null,null,null,null,null,null,null,null,null,null,null,null,null,null,null,null,null,null,null,null,null,null,null,null,null,null,null,null,null,null,null,null,null,null,null,null,null,null,null,null,null,null,null,null,null,null,null,null,null,"未","未","未","未",0,0,0,0,{"$f":"IFERROR(IF(OR(BC1673=\"未\",BD1673=\"未\"),1,IF(MATCH(BC1673&\"/\"&BD1673,③読み替え表_省エネ住宅!$G$48:$G$57,0),1,0)),0)","v":1},{"$f":"IFERROR(IF(OR(BE1673=\"未\",BF1673=\"未\"),1,IF(MATCH(BE1673&\"/\"&BF1673,③読み替え表_省エネ住宅!$G$48:$G$57,0),1,0)),0)","v":1},1,1,1,"*"]
[null,{"$f":"ROW()-10","v":1666},null,null,null,null,null,null,null,null,null,null,null,null,null,null,null,null,null,null,null,null,null,null,null,null,null,null,null,null,null,null,null,null,null,null,null,null,null,null,null,null,null,null,null,null,null,null,null,null,null,null,null,null,{"$f":"IFERROR(IF(SUM($Q1676:$U1676)>1,\"複数回答\",INDEX($Q$10:$U$10,,MATCH(1,$Q1676:$U1676,0))),\"未\")","v":"未"},{"$f":"IFERROR(IF(SUM($AA1676:$AE1676)>1,\"複数回答\",INDEX($AA$10:$AE$10,,MATCH(1,$AA1676:$AE1676,0))),\"未\")","v":"未"},{"$f":"IFERROR(IF(SUM($V1676:$Z1676)>1,\"複数回答\",INDEX($V$10:$Z$10,,MATCH(1,$V1676:$Z1676,0))),\"未\")","v":"未"},{"$f":"IFERROR(IF(SUM($AF1676:$AJ1676)>1,\"複数回答\",INDEX($AF$10:$AJ$10,,MATCH(1,$AF1676:$AJ1676,0))),\"未\")","v":"未"},{"$f":"IF(OR(AA1676=1,AB1676=1,AC1676=1),1,0)","v":0},{"$f":"IF(OR(AF1676=1,AG1676=1,AH1676=1),1,0)","v":0},{"$f":"IF(BC1676=\"複数回答\",1,IF(BD1676=\"複数回答\",1,0))","v":0},{"$f":"IF(BE1676=\"複数回答\",1,IF(BF1676=\"複数回答\",1,0))","v":0},{"$f":"IFERROR(IF(OR(BC1676=\"未\",BD1676=\"未\"),1,IF(MATCH(BC1676&\"/\"&BD1676,③読み替え表_省エネ住宅!$G$48:$G$57,0),1,0)),0)","v":1},{"$f":"IFERROR(IF(OR(BE1676=\"未\",BF1676=\"未\"),1,IF(MATCH(BE1676&\"/\"&BF1676,③読み替え表_省エネ住宅!$G$48:$G$57,0),1,0)),0)","v":1},{"$f":"IF(BI1676+BK1676>0,1,0)","v":1},{"$f":"IF(BJ1676+BL1676>0,1,0)","v":1},{"$f":"IF(SUM(BI1676:BL1676)>0,1,0)","v":1},"*"]
[null,1669,null,null,null,null,null,null,null,null,null,null,null,null,null,null,null,null,null,null,null,null,null,null,null,null,null,null,null,null,null,null,null,null,null,null,null,null,null,null,null,null,null,null,null,null,null,null,null,null,null,null,null,null,"未","未","未","未",0,0,0,0,{"$f":"IFERROR(IF(OR(BC1679=\"未\",BD1679=\"未\"),1,IF(MATCH(BC1679&\"/\"&BD1679,③読み替え表_省エネ住宅!$G$48:$G$57,0),1,0)),0)","v":1},{"$f":"IFERROR(IF(OR(BE1679=\"未\",BF1679=\"未\"),1,IF(MATCH(BE1679&\"/\"&BF1679,③読み替え表_省エネ住宅!$G$48:$G$57,0),1,0)),0)","v":1},1,1,1,"*"]
[null,1672,null,null,null,null,null,null,null,null,null,null,null,null,null,null,null,null,null,null,null,null,null,null,null,null,null,null,null,null,null,null,null,null,null,null,null,null,null,null,null,null,null,null,null,null,null,null,null,null,null,null,null,null,"未","未","未","未",0,0,0,0,{"$f":"IFERROR(IF(OR(BC1682=\"未\",BD1682=\"未\"),1,IF(MATCH(BC1682&\"/\"&BD1682,③読み替え表_省エネ住宅!$G$48:$G$57,0),1,0)),0)","v":1},{"$f":"IFERROR(IF(OR(BE1682=\"未\",BF1682=\"未\"),1,IF(MATCH(BE1682&\"/\"&BF1682,③読み替え表_省エネ住宅!$G$48:$G$57,0),1,0)),0)","v":1},1,1,1,"*"]
[null,1676,null,null,null,null,null,null,null,null,null,null,null,null,null,null,null,null,null,null,null,null,null,null,null,null,null,null,null,null,null,null,null,null,null,null,null,null,null,null,null,null,null,null,null,null,null,null,null,null,null,null,null,null,"未","未","未","未",0,0,0,0,{"$f":"IFERROR(IF(OR(BC1686=\"未\",BD1686=\"未\"),1,IF(MATCH(BC1686&\"/\"&BD1686,③読み替え表_省エネ住宅!$G$48:$G$57,0),1,0)),0)","v":1},{"$f":"IFERROR(IF(OR(BE1686=\"未\",BF1686=\"未\"),1,IF(MATCH(BE1686&\"/\"&BF1686,③読み替え表_省エネ住宅!$G$48:$G$57,0),1,0)),0)","v":1},1,1,1,"*"]
[null,1679,null,null,null,null,null,null,null,null,null,null,null,null,null,null,null,null,null,null,null,null,null,null,null,null,null,null,null,null,null,null,null,null,null,null,null,null,null,null,null,null,null,null,null,null,null,null,null,null,null,null,null,null,"未","未","未","未",0,0,0,0,{"$f":"IFERROR(IF(OR(BC1689=\"未\",BD1689=\"未\"),1,IF(MATCH(BC1689&\"/\"&BD1689,③読み替え表_省エネ住宅!$G$48:$G$57,0),1,0)),0)","v":1},{"$f":"IFERROR(IF(OR(BE1689=\"未\",BF1689=\"未\"),1,IF(MATCH(BE1689&\"/\"&BF1689,③読み替え表_省エネ住宅!$G$48:$G$57,0),1,0)),0)","v":1},1,1,1,"*"]
[null,1680,null,null,null,null,null,null,null,null,null,null,null,null,null,null,null,null,null,null,null,null,null,null,null,null,null,null,null,null,null,null,null,null,null,null,null,null,null,null,null,null,null,null,null,null,null,null,null,null,null,null,null,null,"未","未","未","未",0,0,0,0,{"$f":"IFERROR(IF(OR(BC1690=\"未\",BD1690=\"未\"),1,IF(MATCH(BC1690&\"/\"&BD1690,③読み替え表_省エネ住宅!$G$48:$G$57,0),1,0)),0)","v":1},{"$f":"IFERROR(IF(OR(BE1690=\"未\",BF1690=\"未\"),1,IF(MATCH(BE1690&\"/\"&BF1690,③読み替え表_省エネ住宅!$G$48:$G$57,0),1,0)),0)","v":1},1,1,1,"*"]
[null,1682,null,null,null,null,null,null,null,null,null,null,null,null,null,null,null,null,null,null,null,null,null,null,null,null,null,null,null,null,null,null,null,null,null,null,null,null,null,null,null,null,null,null,null,null,null,null,null,null,null,null,null,null,"未","未","未","未",0,0,0,0,{"$f":"IFERROR(IF(OR(BC1692=\"未\",BD1692=\"未\"),1,IF(MATCH(BC1692&\"/\"&BD1692,③読み替え表_省エネ住宅!$G$48:$G$57,0),1,0)),0)","v":1},{"$f":"IFERROR(IF(OR(BE1692=\"未\",BF1692=\"未\"),1,IF(MATCH(BE1692&\"/\"&BF1692,③読み替え表_省エネ住宅!$G$48:$G$57,0),1,0)),0)","v":1},1,1,1,"*"]
[null,1685,null,null,null,null,null,null,null,null,null,null,null,null,null,null,null,null,null,null,null,null,null,null,null,null,null,null,null,null,null,null,null,null,null,null,null,null,null,null,null,null,null,null,null,null,null,null,null,null,null,null,null,null,"未","未","未","未",0,0,0,0,{"$f":"IFERROR(IF(OR(BC1695=\"未\",BD1695=\"未\"),1,IF(MATCH(BC1695&\"/\"&BD1695,③読み替え表_省エネ住宅!$G$48:$G$57,0),1,0)),0)","v":1},{"$f":"IFERROR(IF(OR(BE1695=\"未\",BF1695=\"未\"),1,IF(MATCH(BE1695&\"/\"&BF1695,③読み替え表_省エネ住宅!$G$48:$G$57,0),1,0)),0)","v":1},1,1,1,"*"]
[null,1689,null,null,null,null,null,null,null,null,null,null,null,null,null,null,null,null,null,null,null,null,null,null,null,null,null,null,null,null,null,null,null,null,null,null,null,null,null,null,null,null,null,null,null,null,null,null,null,null,null,null,null,null,"未","未","未","未",0,0,0,0,{"$f":"IFERROR(IF(OR(BC1699=\"未\",BD1699=\"未\"),1,IF(MATCH(BC1699&\"/\"&BD1699,③読み替え表_省エネ住宅!$G$48:$G$57,0),1,0)),0)","v":1},{"$f":"IFERROR(IF(OR(BE1699=\"未\",BF1699=\"未\"),1,IF(MATCH(BE1699&\"/\"&BF1699,③読み替え表_省エネ住宅!$G$48:$G$57,0),1,0)),0)","v":1},1,1,1,"*"]
[null,1692,null,null,null,null,null,null,null,null,null,null,null,null,null,null,null,null,null,null,null,null,null,null,null,null,null,null,null,null,null,null,null,null,null,null,null,null,null,null,null,null,null,null,null,null,null,null,null,null,null,null,null,null,"未","未","未","未",0,0,0,0,{"$f":"IFERROR(IF(OR(BC1702=\"未\",BD1702=\"未\"),1,IF(MATCH(BC1702&\"/\"&BD1702,③読み替え表_省エネ住宅!$G$48:$G$57,0),1,0)),0)","v":1},{"$f":"IFERROR(IF(OR(BE1702=\"未\",BF1702=\"未\"),1,IF(MATCH(BE1702&\"/\"&BF1702,③読み替え表_省エネ住宅!$G$48:$G$57,0),1,0)),0)","v":1},1,1,1,"*"]
[null,1695,null,null,null,null,null,null,null,null,null,null,null,null,null,null,null,null,null,null,null,null,null,null,null,null,null,null,null,null,null,null,null,null,null,null,null,null,null,null,null,null,null,null,null,null,null,null,null,null,null,null,null,null,"未","未","未","未",0,0,0,0,{"$f":"IFERROR(IF(OR(BC1705=\"未\",BD1705=\"未\"),1,IF(MATCH(BC1705&\"/\"&BD1705,③読み替え表_省エネ住宅!$G$48:$G$57,0),1,0)),0)","v":1},{"$f":"IFERROR(IF(OR(BE1705=\"未\",BF1705=\"未\"),1,IF(MATCH(BE1705&\"/\"&BF1705,③読み替え表_省エネ住宅!$G$48:$G$57,0),1,0)),0)","v":1},1,1,1,"*"]
[null,1698,null,null,null,null,null,null,null,null,null,null,null,null,null,null,null,null,null,null,null,null,null,null,null,null,null,null,null,null,null,null,null,null,null,null,null,null,null,null,null,null,null,null,null,null,null,null,null,null,null,null,null,null,"未","未","未","未",0,0,0,0,{"$f":"IFERROR(IF(OR(BC1708=\"未\",BD1708=\"未\"),1,IF(MATCH(BC1708&\"/\"&BD1708,③読み替え表_省エネ住宅!$G$48:$G$57,0),1,0)),0)","v":1},{"$f":"IFERROR(IF(OR(BE1708=\"未\",BF1708=\"未\"),1,IF(MATCH(BE1708&\"/\"&BF1708,③読み替え表_省エネ住宅!$G$48:$G$57,0),1,0)),0)","v":1},1,1,1,"*"]
[null,1701,null,null,null,null,null,null,null,null,null,null,null,null,null,null,null,null,null,null,null,null,null,null,null,null,null,null,null,null,null,null,null,null,null,null,null,null,null,null,null,null,null,null,null,null,null,null,null,null,null,null,null,null,"未","未","未","未",0,0,0,0,{"$f":"IFERROR(IF(OR(BC1711=\"未\",BD1711=\"未\"),1,IF(MATCH(BC1711&\"/\"&BD1711,③読み替え表_省エネ住宅!$G$48:$G$57,0),1,0)),0)","v":1},{"$f":"IFERROR(IF(OR(BE1711=\"未\",BF1711=\"未\"),1,IF(MATCH(BE1711&\"/\"&BF1711,③読み替え表_省エネ住宅!$G$48:$G$57,0),1,0)),0)","v":1},1,1,1,"*"]
[null,1704,null,null,null,null,null,null,null,null,null,null,null,null,null,null,null,null,null,null,null,null,null,null,null,null,null,null,null,null,null,null,null,null,null,null,null,null,null,null,null,null,null,null,null,null,null,null,null,null,null,null,null,null,"未","未","未","未",0,0,0,0,{"$f":"IFERROR(IF(OR(BC1714=\"未\",BD1714=\"未\"),1,IF(MATCH(BC1714&\"/\"&BD1714,③読み替え表_省エネ住宅!$G$48:$G$57,0),1,0)),0)","v":1},{"$f":"IFERROR(IF(OR(BE1714=\"未\",BF1714=\"未\"),1,IF(MATCH(BE1714&\"/\"&BF1714,③読み替え表_省エネ住宅!$G$48:$G$57,0),1,0)),0)","v":1},1,1,1,"*"]
[null,1706,null,null,null,null,null,null,null,null,null,null,null,null,null,null,null,null,null,null,null,null,null,null,null,null,null,null,null,null,null,null,null,null,null,null,null,null,null,null,null,null,null,null,null,null,null,null,null,null,null,null,null,null,"未","未","未","未",0,0,0,0,{"$f":"IFERROR(IF(OR(BC1716=\"未\",BD1716=\"未\"),1,IF(MATCH(BC1716&\"/\"&BD1716,③読み替え表_省エネ住宅!$G$48:$G$57,0),1,0)),0)","v":1},{"$f":"IFERROR(IF(OR(BE1716=\"未\",BF1716=\"未\"),1,IF(MATCH(BE1716&\"/\"&BF1716,③読み替え表_省エネ住宅!$G$48:$G$57,0),1,0)),0)","v":1},1,1,1,"*"]
[null,1707,null,null,null,null,null,null,null,null,null,null,null,null,null,null,null,null,null,null,null,null,null,null,null,null,null,null,null,null,null,null,null,null,null,null,null,null,null,null,null,null,null,null,null,null,null,null,null,null,null,null,null,null,"未","未","未","未",0,0,0,0,{"$f":"IFERROR(IF(OR(BC1717=\"未\",BD1717=\"未\"),1,IF(MATCH(BC1717&\"/\"&BD1717,③読み替え表_省エネ住宅!$G$48:$G$57,0),1,0)),0)","v":1},{"$f":"IFERROR(IF(OR(BE1717=\"未\",BF1717=\"未\"),1,IF(MATCH(BE1717&\"/\"&BF1717,③読み替え表_省エネ住宅!$G$48:$G$57,0),1,0)),0)","v":1},1,1,1,"*"]
[null,1711,null,null,null,null,null,null,null,null,null,null,null,null,null,null,null,null,null,null,null,null,null,null,null,null,null,null,null,null,null,null,null,null,null,null,null,null,null,null,null,null,null,null,null,null,null,null,null,null,null,null,null,null,"未","未","未","未",0,0,0,0,{"$f":"IFERROR(IF(OR(BC1721=\"未\",BD1721=\"未\"),1,IF(MATCH(BC1721&\"/\"&BD1721,③読み替え表_省エネ住宅!$G$48:$G$57,0),1,0)),0)","v":1},{"$f":"IFERROR(IF(OR(BE1721=\"未\",BF1721=\"未\"),1,IF(MATCH(BE1721&\"/\"&BF1721,③読み替え表_省エネ住宅!$G$48:$G$57,0),1,0)),0)","v":1},1,1,1,"*"]
[null,1714,null,null,null,null,null,null,null,null,null,null,null,null,null,null,null,null,null,null,null,null,null,null,null,null,null,null,null,null,null,null,null,null,null,null,null,null,null,null,null,null,null,null,null,null,null,null,null,null,null,null,null,null,"未","未","未","未",0,0,0,0,{"$f":"IFERROR(IF(OR(BC1724=\"未\",BD1724=\"未\"),1,IF(MATCH(BC1724&\"/\"&BD1724,③読み替え表_省エネ住宅!$G$48:$G$57,0),1,0)),0)","v":1},{"$f":"IFERROR(IF(OR(BE1724=\"未\",BF1724=\"未\"),1,IF(MATCH(BE1724&\"/\"&BF1724,③読み替え表_省エネ住宅!$G$48:$G$57,0),1,0)),0)","v":1},1,1,1,"*"]
[null,1717,null,null,null,null,null,null,null,null,null,null,null,null,null,null,null,null,null,null,null,null,null,null,null,null,null,null,null,null,null,null,null,null,null,null,null,null,null,null,null,null,null,null,null,null,null,null,null,null,null,null,null,null,"未","未","未","未",0,0,0,0,{"$f":"IFERROR(IF(OR(BC1727=\"未\",BD1727=\"未\"),1,IF(MATCH(BC1727&\"/\"&BD1727,③読み替え表_省エネ住宅!$G$48:$G$57,0),1,0)),0)","v":1},{"$f":"IFERROR(IF(OR(BE1727=\"未\",BF1727=\"未\"),1,IF(MATCH(BE1727&\"/\"&BF1727,③読み替え表_省エネ住宅!$G$48:$G$57,0),1,0)),0)","v":1},1,1,1,"*"]
[null,1720,null,null,null,null,null,null,null,null,null,null,null,null,null,null,null,null,null,null,null,null,null,null,null,null,null,null,null,null,null,null,null,null,null,null,null,null,null,null,null,null,null,null,null,null,null,null,null,null,null,null,null,null,"未","未","未","未",0,0,0,0,{"$f":"IFERROR(IF(OR(BC1730=\"未\",BD1730=\"未\"),1,IF(MATCH(BC1730&\"/\"&BD1730,③読み替え表_省エネ住宅!$G$48:$G$57,0),1,0)),0)","v":1},{"$f":"IFERROR(IF(OR(BE1730=\"未\",BF1730=\"未\"),1,IF(MATCH(BE1730&\"/\"&BF1730,③読み替え表_省エネ住宅!$G$48:$G$57,0),1,0)),0)","v":1},1,1,1,"*"]
[null,1723,null,null,null,null,null,null,null,null,null,null,null,null,null,null,null,null,null,null,null,null,null,null,null,null,null,null,null,null,null,null,null,null,null,null,null,null,null,null,null,null,null,null,null,null,null,null,null,null,null,null,null,null,"未","未","未","未",0,0,0,0,{"$f":"IFERROR(IF(OR(BC1733=\"未\",BD1733=\"未\"),1,IF(MATCH(BC1733&\"/\"&BD1733,③読み替え表_省エネ住宅!$G$48:$G$57,0),1,0)),0)","v":1},{"$f":"IFERROR(IF(OR(BE1733=\"未\",BF1733=\"未\"),1,IF(MATCH(BE1733&\"/\"&BF1733,③読み替え表_省エネ住宅!$G$48:$G$57,0),1,0)),0)","v":1},1,1,1,"*"]
[null,1726,null,null,null,null,null,null,null,null,null,null,null,null,null,null,null,null,null,null,null,null,null,null,null,null,null,null,null,null,null,null,null,null,null,null,null,null,null,null,null,null,null,null,null,null,null,null,null,null,null,null,null,null,"未","未","未","未",0,0,0,0,{"$f":"IFERROR(IF(OR(BC1736=\"未\",BD1736=\"未\"),1,IF(MATCH(BC1736&\"/\"&BD1736,③読み替え表_省エネ住宅!$G$48:$G$57,0),1,0)),0)","v":1},{"$f":"IFERROR(IF(OR(BE1736=\"未\",BF1736=\"未\"),1,IF(MATCH(BE1736&\"/\"&BF1736,③読み替え表_省エネ住宅!$G$48:$G$57,0),1,0)),0)","v":1},1,1,1,"*"]
[null,1727,null,null,null,null,null,null,null,null,null,null,null,null,null,null,null,null,null,null,null,null,null,null,null,null,null,null,null,null,null,null,null,null,null,null,null,null,null,null,null,null,null,null,null,null,null,null,null,null,null,null,null,null,"未","未","未","未",0,0,0,0,{"$f":"IFERROR(IF(OR(BC1737=\"未\",BD1737=\"未\"),1,IF(MATCH(BC1737&\"/\"&BD1737,③読み替え表_省エネ住宅!$G$48:$G$57,0),1,0)),0)","v":1},{"$f":"IFERROR(IF(OR(BE1737=\"未\",BF1737=\"未\"),1,IF(MATCH(BE1737&\"/\"&BF1737,③読み替え表_省エネ住宅!$G$48:$G$57,0),1,0)),0)","v":1},1,1,1,"*"]
[null,{"$f":"ROW()-10","v":1730},null,null,null,null,null,null,null,null,null,null,null,null,null,null,null,null,null,null,null,null,null,null,null,null,null,null,null,null,null,null,null,null,null,null,null,null,null,null,null,null,null,null,null,null,null,null,null,null,null,null,null,null,{"$f":"IFERROR(IF(SUM($Q1740:$U1740)>1,\"複数回答\",INDEX($Q$10:$U$10,,MATCH(1,$Q1740:$U1740,0))),\"未\")","v":"未"},{"$f":"IFERROR(IF(SUM($AA1740:$AE1740)>1,\"複数回答\",INDEX($AA$10:$AE$10,,MATCH(1,$AA1740:$AE1740,0))),\"未\")","v":"未"},{"$f":"IFERROR(IF(SUM($V1740:$Z1740)>1,\"複数回答\",INDEX($V$10:$Z$10,,MATCH(1,$V1740:$Z1740,0))),\"未\")","v":"未"},{"$f":"IFERROR(IF(SUM($AF1740:$AJ1740)>1,\"複数回答\",INDEX($AF$10:$AJ$10,,MATCH(1,$AF1740:$AJ1740,0))),\"未\")","v":"未"},{"$f":"IF(OR(AA1740=1,AB1740=1,AC1740=1),1,0)","v":0},{"$f":"IF(OR(AF1740=1,AG1740=1,AH1740=1),1,0)","v":0},{"$f":"IF(BC1740=\"複数回答\",1,IF(BD1740=\"複数回答\",1,0))","v":0},{"$f":"IF(BE1740=\"複数回答\",1,IF(BF1740=\"複数回答\",1,0))","v":0},{"$f":"IFERROR(IF(OR(BC1740=\"未\",BD1740=\"未\"),1,IF(MATCH(BC1740&\"/\"&BD1740,③読み替え表_省エネ住宅!$G$48:$G$57,0),1,0)),0)","v":1},{"$f":"IFERROR(IF(OR(BE1740=\"未\",BF1740=\"未\"),1,IF(MATCH(BE1740&\"/\"&BF1740,③読み替え表_省エネ住宅!$G$48:$G$57,0),1,0)),0)","v":1},{"$f":"IF(BI1740+BK1740>0,1,0)","v":1},{"$f":"IF(BJ1740+BL1740>0,1,0)","v":1},{"$f":"IF(SUM(BI1740:BL1740)>0,1,0)","v":1},"*"]
[null,1733,null,null,null,null,null,null,null,null,null,null,null,null,null,null,null,null,null,null,null,null,null,null,null,null,null,null,null,null,null,null,null,null,null,null,null,null,null,null,null,null,null,null,null,null,null,null,null,null,null,null,null,null,"未","未","未","未",0,0,0,0,{"$f":"IFERROR(IF(OR(BC1743=\"未\",BD1743=\"未\"),1,IF(MATCH(BC1743&\"/\"&BD1743,③読み替え表_省エネ住宅!$G$48:$G$57,0),1,0)),0)","v":1},{"$f":"IFERROR(IF(OR(BE1743=\"未\",BF1743=\"未\"),1,IF(MATCH(BE1743&\"/\"&BF1743,③読み替え表_省エネ住宅!$G$48:$G$57,0),1,0)),0)","v":1},1,1,1,"*"]
[null,1736,null,null,null,null,null,null,null,null,null,null,null,null,null,null,null,null,null,null,null,null,null,null,null,null,null,null,null,null,null,null,null,null,null,null,null,null,null,null,null,null,null,null,null,null,null,null,null,null,null,null,null,null,"未","未","未","未",0,0,0,0,{"$f":"IFERROR(IF(OR(BC1746=\"未\",BD1746=\"未\"),1,IF(MATCH(BC1746&\"/\"&BD1746,③読み替え表_省エネ住宅!$G$48:$G$57,0),1,0)),0)","v":1},{"$f":"IFERROR(IF(OR(BE1746=\"未\",BF1746=\"未\"),1,IF(MATCH(BE1746&\"/\"&BF1746,③読み替え表_省エネ住宅!$G$48:$G$57,0),1,0)),0)","v":1},1,1,1,"*"]
[null,1739,null,null,null,null,null,null,null,null,null,null,null,null,null,null,null,null,null,null,null,null,null,null,null,null,null,null,null,null,null,null,null,null,null,null,null,null,null,null,null,null,null,null,null,null,null,null,null,null,null,null,null,null,"未","未","未","未",0,0,0,0,{"$f":"IFERROR(IF(OR(BC1749=\"未\",BD1749=\"未\"),1,IF(MATCH(BC1749&\"/\"&BD1749,③読み替え表_省エネ住宅!$G$48:$G$57,0),1,0)),0)","v":1},{"$f":"IFERROR(IF(OR(BE1749=\"未\",BF1749=\"未\"),1,IF(MATCH(BE1749&\"/\"&BF1749,③読み替え表_省エネ住宅!$G$48:$G$57,0),1,0)),0)","v":1},1,1,1,"*"]
[null,1741,null,null,null,null,null,null,null,null,null,null,null,null,null,null,null,null,null,null,null,null,null,null,null,null,null,null,null,null,null,null,null,null,null,null,null,null,null,null,null,null,null,null,null,null,null,null,null,null,null,null,null,null,"未","未","未","未",0,0,0,0,{"$f":"IFERROR(IF(OR(BC1751=\"未\",BD1751=\"未\"),1,IF(MATCH(BC1751&\"/\"&BD1751,③読み替え表_省エネ住宅!$G$48:$G$57,0),1,0)),0)","v":1},{"$f":"IFERROR(IF(OR(BE1751=\"未\",BF1751=\"未\"),1,IF(MATCH(BE1751&\"/\"&BF1751,③読み替え表_省エネ住宅!$G$48:$G$57,0),1,0)),0)","v":1},1,1,1,"*"]
[null,1745,null,null,null,null,null,null,null,null,null,null,null,null,null,null,null,null,null,null,null,null,null,null,null,null,null,null,null,null,null,null,null,null,null,null,null,null,null,null,null,null,null,null,null,null,null,null,null,null,null,null,null,null,"未","未","未","未",0,0,0,0,{"$f":"IFERROR(IF(OR(BC1755=\"未\",BD1755=\"未\"),1,IF(MATCH(BC1755&\"/\"&BD1755,③読み替え表_省エネ住宅!$G$48:$G$57,0),1,0)),0)","v":1},{"$f":"IFERROR(IF(OR(BE1755=\"未\",BF1755=\"未\"),1,IF(MATCH(BE1755&\"/\"&BF1755,③読み替え表_省エネ住宅!$G$48:$G$57,0),1,0)),0)","v":1},1,1,1,"*"]
[null,1746,null,null,null,null,null,null,null,null,null,null,null,null,null,null,null,null,null,null,null,null,null,null,null,null,null,null,null,null,null,null,null,null,null,null,null,null,null,null,null,null,null,null,null,null,null,null,null,null,null,null,null,null,"未","未","未","未",0,0,0,0,{"$f":"IFERROR(IF(OR(BC1756=\"未\",BD1756=\"未\"),1,IF(MATCH(BC1756&\"/\"&BD1756,③読み替え表_省エネ住宅!$G$48:$G$57,0),1,0)),0)","v":1},{"$f":"IFERROR(IF(OR(BE1756=\"未\",BF1756=\"未\"),1,IF(MATCH(BE1756&\"/\"&BF1756,③読み替え表_省エネ住宅!$G$48:$G$57,0),1,0)),0)","v":1},1,1,1,"*"]
[null,1749,null,null,null,null,null,null,null,null,null,null,null,null,null,null,null,null,null,null,null,null,null,null,null,null,null,null,null,null,null,null,null,null,null,null,null,null,null,null,null,null,null,null,null,null,null,null,null,null,null,null,null,null,"未","未","未","未",0,0,0,0,{"$f":"IFERROR(IF(OR(BC1759=\"未\",BD1759=\"未\"),1,IF(MATCH(BC1759&\"/\"&BD1759,③読み替え表_省エネ住宅!$G$48:$G$57,0),1,0)),0)","v":1},{"$f":"IFERROR(IF(OR(BE1759=\"未\",BF1759=\"未\"),1,IF(MATCH(BE1759&\"/\"&BF1759,③読み替え表_省エネ住宅!$G$48:$G$57,0),1,0)),0)","v":1},1,1,1,"*"]
[null,1752,null,null,null,null,null,null,null,null,null,null,null,null,null,null,null,null,null,null,null,null,null,null,null,null,null,null,null,null,null,null,null,null,null,null,null,null,null,null,null,null,null,null,null,null,null,null,null,null,null,null,null,null,"未","未","未","未",0,0,0,0,{"$f":"IFERROR(IF(OR(BC1762=\"未\",BD1762=\"未\"),1,IF(MATCH(BC1762&\"/\"&BD1762,③読み替え表_省エネ住宅!$G$48:$G$57,0),1,0)),0)","v":1},{"$f":"IFERROR(IF(OR(BE1762=\"未\",BF1762=\"未\"),1,IF(MATCH(BE1762&\"/\"&BF1762,③読み替え表_省エネ住宅!$G$48:$G$57,0),1,0)),0)","v":1},1,1,1,"*"]
[null,1756,null,null,null,null,null,null,null,null,null,null,null,null,null,null,null,null,null,null,null,null,null,null,null,null,null,null,null,null,null,null,null,null,null,null,null,null,null,null,null,null,null,null,null,null,null,null,null,null,null,null,null,null,"未","未","未","未",0,0,0,0,{"$f":"IFERROR(IF(OR(BC1766=\"未\",BD1766=\"未\"),1,IF(MATCH(BC1766&\"/\"&BD1766,③読み替え表_省エネ住宅!$G$48:$G$57,0),1,0)),0)","v":1},{"$f":"IFERROR(IF(OR(BE1766=\"未\",BF1766=\"未\"),1,IF(MATCH(BE1766&\"/\"&BF1766,③読み替え表_省エネ住宅!$G$48:$G$57,0),1,0)),0)","v":1},1,1,1,"*"]
[null,1758,null,null,null,null,null,null,null,null,null,null,null,null,null,null,null,null,null,null,null,null,null,null,null,null,null,null,null,null,null,null,null,null,null,null,null,null,null,null,null,null,null,null,null,null,null,null,null,null,null,null,null,null,"未","未","未","未",0,0,0,0,{"$f":"IFERROR(IF(OR(BC1768=\"未\",BD1768=\"未\"),1,IF(MATCH(BC1768&\"/\"&BD1768,③読み替え表_省エネ住宅!$G$48:$G$57,0),1,0)),0)","v":1},{"$f":"IFERROR(IF(OR(BE1768=\"未\",BF1768=\"未\"),1,IF(MATCH(BE1768&\"/\"&BF1768,③読み替え表_省エネ住宅!$G$48:$G$57,0),1,0)),0)","v":1},1,1,1,"*"]
[null,1761,null,null,null,null,null,null,null,null,null,null,null,null,null,null,null,null,null,null,null,null,null,null,null,null,null,null,null,null,null,null,null,null,null,null,null,null,null,null,null,null,null,null,null,null,null,null,null,null,null,null,null,null,"未","未","未","未",0,0,0,0,{"$f":"IFERROR(IF(OR(BC1771=\"未\",BD1771=\"未\"),1,IF(MATCH(BC1771&\"/\"&BD1771,③読み替え表_省エネ住宅!$G$48:$G$57,0),1,0)),0)","v":1},{"$f":"IFERROR(IF(OR(BE1771=\"未\",BF1771=\"未\"),1,IF(MATCH(BE1771&\"/\"&BF1771,③読み替え表_省エネ住宅!$G$48:$G$57,0),1,0)),0)","v":1},1,1,1,"*"]
[null,1765,null,null,null,null,null,null,null,null,null,null,null,null,null,null,null,null,null,null,null,null,null,null,null,null,null,null,null,null,null,null,null,null,null,null,null,null,null,null,null,null,null,null,null,null,null,null,null,null,null,null,null,null,"未","未","未","未",0,0,0,0,{"$f":"IFERROR(IF(OR(BC1775=\"未\",BD1775=\"未\"),1,IF(MATCH(BC1775&\"/\"&BD1775,③読み替え表_省エネ住宅!$G$48:$G$57,0),1,0)),0)","v":1},{"$f":"IFERROR(IF(OR(BE1775=\"未\",BF1775=\"未\"),1,IF(MATCH(BE1775&\"/\"&BF1775,③読み替え表_省エネ住宅!$G$48:$G$57,0),1,0)),0)","v":1},1,1,1,"*"]
[null,1767,null,null,null,null,null,null,null,null,null,null,null,null,null,null,null,null,null,null,null,null,null,null,null,null,null,null,null,null,null,null,null,null,null,null,null,null,null,null,null,null,null,null,null,null,null,null,null,null,null,null,null,null,"未","未","未","未",0,0,0,0,{"$f":"IFERROR(IF(OR(BC1777=\"未\",BD1777=\"未\"),1,IF(MATCH(BC1777&\"/\"&BD1777,③読み替え表_省エネ住宅!$G$48:$G$57,0),1,0)),0)","v":1},{"$f":"IFERROR(IF(OR(BE1777=\"未\",BF1777=\"未\"),1,IF(MATCH(BE1777&\"/\"&BF1777,③読み替え表_省エネ住宅!$G$48:$G$57,0),1,0)),0)","v":1},1,1,1,"*"]
[null,1768,null,null,null,null,null,null,null,null,null,null,null,null,null,null,null,null,null,null,null,null,null,null,null,null,null,null,null,null,null,null,null,null,null,null,null,null,null,null,null,null,null,null,null,null,null,null,null,null,null,null,null,null,"未","未","未","未",0,0,0,0,{"$f":"IFERROR(IF(OR(BC1778=\"未\",BD1778=\"未\"),1,IF(MATCH(BC1778&\"/\"&BD1778,③読み替え表_省エネ住宅!$G$48:$G$57,0),1,0)),0)","v":1},{"$f":"IFERROR(IF(OR(BE1778=\"未\",BF1778=\"未\"),1,IF(MATCH(BE1778&\"/\"&BF1778,③読み替え表_省エネ住宅!$G$48:$G$57,0),1,0)),0)","v":1},1,1,1,"*"]
[null,1771,null,null,null,null,null,null,null,null,null,null,null,null,null,null,null,null,null,null,null,null,null,null,null,null,null,null,null,null,null,null,null,null,null,null,null,null,null,null,null,null,null,null,null,null,null,null,null,null,null,null,null,null,"未","未","未","未",0,0,0,0,{"$f":"IFERROR(IF(OR(BC1781=\"未\",BD1781=\"未\"),1,IF(MATCH(BC1781&\"/\"&BD1781,③読み替え表_省エネ住宅!$G$48:$G$57,0),1,0)),0)","v":1},{"$f":"IFERROR(IF(OR(BE1781=\"未\",BF1781=\"未\"),1,IF(MATCH(BE1781&\"/\"&BF1781,③読み替え表_省エネ住宅!$G$48:$G$57,0),1,0)),0)","v":1},1,1,1,"*"]
[null,1774,null,null,null,null,null,null,null,null,null,null,null,null,null,null,null,null,null,null,null,null,null,null,null,null,null,null,null,null,null,null,null,null,null,null,null,null,null,null,null,null,null,null,null,null,null,null,null,null,null,null,null,null,"未","未","未","未",0,0,0,0,{"$f":"IFERROR(IF(OR(BC1784=\"未\",BD1784=\"未\"),1,IF(MATCH(BC1784&\"/\"&BD1784,③読み替え表_省エネ住宅!$G$48:$G$57,0),1,0)),0)","v":1},{"$f":"IFERROR(IF(OR(BE1784=\"未\",BF1784=\"未\"),1,IF(MATCH(BE1784&\"/\"&BF1784,③読み替え表_省エネ住宅!$G$48:$G$57,0),1,0)),0)","v":1},1,1,1,"*"]
[null,1778,null,null,null,null,null,null,null,null,null,null,null,null,null,null,null,null,null,null,null,null,null,null,null,null,null,null,null,null,null,null,null,null,null,null,null,null,null,null,null,null,null,null,null,null,null,null,null,null,null,null,null,null,"未","未","未","未",0,0,0,0,{"$f":"IFERROR(IF(OR(BC1788=\"未\",BD1788=\"未\"),1,IF(MATCH(BC1788&\"/\"&BD1788,③読み替え表_省エネ住宅!$G$48:$G$57,0),1,0)),0)","v":1},{"$f":"IFERROR(IF(OR(BE1788=\"未\",BF1788=\"未\"),1,IF(MATCH(BE1788&\"/\"&BF1788,③読み替え表_省エネ住宅!$G$48:$G$57,0),1,0)),0)","v":1},1,1,1,"*"]
[null,1780,null,null,null,null,null,null,null,null,null,null,null,null,null,null,null,null,null,null,null,null,null,null,null,null,null,null,null,null,null,null,null,null,null,null,null,null,null,null,null,null,null,null,null,null,null,null,null,null,null,null,null,null,"未","未","未","未",0,0,0,0,{"$f":"IFERROR(IF(OR(BC1790=\"未\",BD1790=\"未\"),1,IF(MATCH(BC1790&\"/\"&BD1790,③読み替え表_省エネ住宅!$G$48:$G$57,0),1,0)),0)","v":1},{"$f":"IFERROR(IF(OR(BE1790=\"未\",BF1790=\"未\"),1,IF(MATCH(BE1790&\"/\"&BF1790,③読み替え表_省エネ住宅!$G$48:$G$57,0),1,0)),0)","v":1},1,1,1,"*"]
[null,1783,null,null,null,null,null,null,null,null,null,null,null,null,null,null,null,null,null,null,null,null,null,null,null,null,null,null,null,null,null,null,null,null,null,null,null,null,null,null,null,null,null,null,null,null,null,null,null,null,null,null,null,null,"未","未","未","未",0,0,0,0,{"$f":"IFERROR(IF(OR(BC1793=\"未\",BD1793=\"未\"),1,IF(MATCH(BC1793&\"/\"&BD1793,③読み替え表_省エネ住宅!$G$48:$G$57,0),1,0)),0)","v":1},{"$f":"IFERROR(IF(OR(BE1793=\"未\",BF1793=\"未\"),1,IF(MATCH(BE1793&\"/\"&BF1793,③読み替え表_省エネ住宅!$G$48:$G$57,0),1,0)),0)","v":1},1,1,1,"*"]
[null,1787,null,null,null,null,null,null,null,null,null,null,null,null,null,null,null,null,null,null,null,null,null,null,null,null,null,null,null,null,null,null,null,null,null,null,null,null,null,null,null,null,null,null,null,null,null,null,null,null,null,null,null,null,"未","未","未","未",0,0,0,0,{"$f":"IFERROR(IF(OR(BC1797=\"未\",BD1797=\"未\"),1,IF(MATCH(BC1797&\"/\"&BD1797,③読み替え表_省エネ住宅!$G$48:$G$57,0),1,0)),0)","v":1},{"$f":"IFERROR(IF(OR(BE1797=\"未\",BF1797=\"未\"),1,IF(MATCH(BE1797&\"/\"&BF1797,③読み替え表_省エネ住宅!$G$48:$G$57,0),1,0)),0)","v":1},1,1,1,"*"]
[null,1790,null,null,null,null,null,null,null,null,null,null,null,null,null,null,null,null,null,null,null,null,null,null,null,null,null,null,null,null,null,null,null,null,null,null,null,null,null,null,null,null,null,null,null,null,null,null,null,null,null,null,null,null,"未","未","未","未",0,0,0,0,{"$f":"IFERROR(IF(OR(BC1800=\"未\",BD1800=\"未\"),1,IF(MATCH(BC1800&\"/\"&BD1800,③読み替え表_省エネ住宅!$G$48:$G$57,0),1,0)),0)","v":1},{"$f":"IFERROR(IF(OR(BE1800=\"未\",BF1800=\"未\"),1,IF(MATCH(BE1800&\"/\"&BF1800,③読み替え表_省エネ住宅!$G$48:$G$57,0),1,0)),0)","v":1},1,1,1,"*"]
[null,1791,null,null,null,null,null,null,null,null,null,null,null,null,null,null,null,null,null,null,null,null,null,null,null,null,null,null,null,null,null,null,null,null,null,null,null,null,null,null,null,null,null,null,null,null,null,null,null,null,null,null,null,null,"未","未","未","未",0,0,0,0,{"$f":"IFERROR(IF(OR(BC1801=\"未\",BD1801=\"未\"),1,IF(MATCH(BC1801&\"/\"&BD1801,③読み替え表_省エネ住宅!$G$48:$G$57,0),1,0)),0)","v":1},{"$f":"IFERROR(IF(OR(BE1801=\"未\",BF1801=\"未\"),1,IF(MATCH(BE1801&\"/\"&BF1801,③読み替え表_省エネ住宅!$G$48:$G$57,0),1,0)),0)","v":1},1,1,1,"*"]
[null,1793,null,null,null,null,null,null,null,null,null,null,null,null,null,null,null,null,null,null,null,null,null,null,null,null,null,null,null,null,null,null,null,null,null,null,null,null,null,null,null,null,null,null,null,null,null,null,null,null,null,null,null,null,"未","未","未","未",0,0,0,0,{"$f":"IFERROR(IF(OR(BC1803=\"未\",BD1803=\"未\"),1,IF(MATCH(BC1803&\"/\"&BD1803,③読み替え表_省エネ住宅!$G$48:$G$57,0),1,0)),0)","v":1},{"$f":"IFERROR(IF(OR(BE1803=\"未\",BF1803=\"未\"),1,IF(MATCH(BE1803&\"/\"&BF1803,③読み替え表_省エネ住宅!$G$48:$G$57,0),1,0)),0)","v":1},1,1,1,"*"]
[null,1796,null,null,null,null,null,null,null,null,null,null,null,null,null,null,null,null,null,null,null,null,null,null,null,null,null,null,null,null,null,null,null,null,null,null,null,null,null,null,null,null,null,null,null,null,null,null,null,null,null,null,null,null,"未","未","未","未",0,0,0,0,{"$f":"IFERROR(IF(OR(BC1806=\"未\",BD1806=\"未\"),1,IF(MATCH(BC1806&\"/\"&BD1806,③読み替え表_省エネ住宅!$G$48:$G$57,0),1,0)),0)","v":1},{"$f":"IFERROR(IF(OR(BE1806=\"未\",BF1806=\"未\"),1,IF(MATCH(BE1806&\"/\"&BF1806,③読み替え表_省エネ住宅!$G$48:$G$57,0),1,0)),0)","v":1},1,1,1,"*"]
[null,1800,null,null,null,null,null,null,null,null,null,null,null,null,null,null,null,null,null,null,null,null,null,null,null,null,null,null,null,null,null,null,null,null,null,null,null,null,null,null,null,null,null,null,null,null,null,null,null,null,null,null,null,null,"未","未","未","未",0,0,0,0,{"$f":"IFERROR(IF(OR(BC1810=\"未\",BD1810=\"未\"),1,IF(MATCH(BC1810&\"/\"&BD1810,③読み替え表_省エネ住宅!$G$48:$G$57,0),1,0)),0)","v":1},{"$f":"IFERROR(IF(OR(BE1810=\"未\",BF1810=\"未\"),1,IF(MATCH(BE1810&\"/\"&BF1810,③読み替え表_省エネ住宅!$G$48:$G$57,0),1,0)),0)","v":1},1,1,1,"*"]
[null,1802,null,null,null,null,null,null,null,null,null,null,null,null,null,null,null,null,null,null,null,null,null,null,null,null,null,null,null,null,null,null,null,null,null,null,null,null,null,null,null,null,null,null,null,null,null,null,null,null,null,null,null,null,"未","未","未","未",0,0,0,0,{"$f":"IFERROR(IF(OR(BC1812=\"未\",BD1812=\"未\"),1,IF(MATCH(BC1812&\"/\"&BD1812,③読み替え表_省エネ住宅!$G$48:$G$57,0),1,0)),0)","v":1},{"$f":"IFERROR(IF(OR(BE1812=\"未\",BF1812=\"未\"),1,IF(MATCH(BE1812&\"/\"&BF1812,③読み替え表_省エネ住宅!$G$48:$G$57,0),1,0)),0)","v":1},1,1,1,"*"]
[null,1806,null,null,null,null,null,null,null,null,null,null,null,null,null,null,null,null,null,null,null,null,null,null,null,null,null,null,null,null,null,null,null,null,null,null,null,null,null,null,null,null,null,null,null,null,null,null,null,null,null,null,null,null,"未","未","未","未",0,0,0,0,{"$f":"IFERROR(IF(OR(BC1816=\"未\",BD1816=\"未\"),1,IF(MATCH(BC1816&\"/\"&BD1816,③読み替え表_省エネ住宅!$G$48:$G$57,0),1,0)),0)","v":1},{"$f":"IFERROR(IF(OR(BE1816=\"未\",BF1816=\"未\"),1,IF(MATCH(BE1816&\"/\"&BF1816,③読み替え表_省エネ住宅!$G$48:$G$57,0),1,0)),0)","v":1},1,1,1,"*"]
[null,1809,null,null,null,null,null,null,null,null,null,null,null,null,null,null,null,null,null,null,null,null,null,null,null,null,null,null,null,null,null,null,null,null,null,null,null,null,null,null,null,null,null,null,null,null,null,null,null,null,null,null,null,null,"未","未","未","未",0,0,0,0,{"$f":"IFERROR(IF(OR(BC1819=\"未\",BD1819=\"未\"),1,IF(MATCH(BC1819&\"/\"&BD1819,③読み替え表_省エネ住宅!$G$48:$G$57,0),1,0)),0)","v":1},{"$f":"IFERROR(IF(OR(BE1819=\"未\",BF1819=\"未\"),1,IF(MATCH(BE1819&\"/\"&BF1819,③読み替え表_省エネ住宅!$G$48:$G$57,0),1,0)),0)","v":1},1,1,1,"*"]
[null,1812,null,null,null,null,null,null,null,null,null,null,null,null,null,null,null,null,null,null,null,null,null,null,null,null,null,null,null,null,null,null,null,null,null,null,null,null,null,null,null,null,null,null,null,null,null,null,null,null,null,null,null,null,"未","未","未","未",0,0,0,0,{"$f":"IFERROR(IF(OR(BC1822=\"未\",BD1822=\"未\"),1,IF(MATCH(BC1822&\"/\"&BD1822,③読み替え表_省エネ住宅!$G$48:$G$57,0),1,0)),0)","v":1},{"$f":"IFERROR(IF(OR(BE1822=\"未\",BF1822=\"未\"),1,IF(MATCH(BE1822&\"/\"&BF1822,③読み替え表_省エネ住宅!$G$48:$G$57,0),1,0)),0)","v":1},1,1,1,"*"]
[null,1813,null,null,null,null,null,null,null,null,null,null,null,null,null,null,null,null,null,null,null,null,null,null,null,null,null,null,null,null,null,null,null,null,null,null,null,null,null,null,null,null,null,null,null,null,null,null,null,null,null,null,null,null,"未","未","未","未",0,0,0,0,{"$f":"IFERROR(IF(OR(BC1823=\"未\",BD1823=\"未\"),1,IF(MATCH(BC1823&\"/\"&BD1823,③読み替え表_省エネ住宅!$G$48:$G$57,0),1,0)),0)","v":1},{"$f":"IFERROR(IF(OR(BE1823=\"未\",BF1823=\"未\"),1,IF(MATCH(BE1823&\"/\"&BF1823,③読み替え表_省エネ住宅!$G$48:$G$57,0),1,0)),0)","v":1},1,1,1,"*"]
[null,1817,null,null,null,null,null,null,null,null,null,null,null,null,null,null,null,null,null,null,null,null,null,null,null,null,null,null,null,null,null,null,null,null,null,null,null,null,null,null,null,null,null,null,null,null,null,null,null,null,null,null,null,null,"未","未","未","未",0,0,0,0,{"$f":"IFERROR(IF(OR(BC1827=\"未\",BD1827=\"未\"),1,IF(MATCH(BC1827&\"/\"&BD1827,③読み替え表_省エネ住宅!$G$48:$G$57,0),1,0)),0)","v":1},{"$f":"IFERROR(IF(OR(BE1827=\"未\",BF1827=\"未\"),1,IF(MATCH(BE1827&\"/\"&BF1827,③読み替え表_省エネ住宅!$G$48:$G$57,0),1,0)),0)","v":1},1,1,1,"*"]
[null,1818,null,null,null,null,null,null,null,null,null,null,null,null,null,null,null,null,null,null,null,null,null,null,null,null,null,null,null,null,null,null,null,null,null,null,null,null,null,null,null,null,null,null,null,null,null,null,null,null,null,null,null,null,"未","未","未","未",0,0,0,0,{"$f":"IFERROR(IF(OR(BC1828=\"未\",BD1828=\"未\"),1,IF(MATCH(BC1828&\"/\"&BD1828,③読み替え表_省エネ住宅!$G$48:$G$57,0),1,0)),0)","v":1},{"$f":"IFERROR(IF(OR(BE1828=\"未\",BF1828=\"未\"),1,IF(MATCH(BE1828&\"/\"&BF1828,③読み替え表_省エネ住宅!$G$48:$G$57,0),1,0)),0)","v":1},1,1,1,"*"]
[null,1822,null,null,null,null,null,null,null,null,null,null,null,null,null,null,null,null,null,null,null,null,null,null,null,null,null,null,null,null,null,null,null,null,null,null,null,null,null,null,null,null,null,null,null,null,null,null,null,null,null,null,null,null,"未","未","未","未",0,0,0,0,{"$f":"IFERROR(IF(OR(BC1832=\"未\",BD1832=\"未\"),1,IF(MATCH(BC1832&\"/\"&BD1832,③読み替え表_省エネ住宅!$G$48:$G$57,0),1,0)),0)","v":1},{"$f":"IFERROR(IF(OR(BE1832=\"未\",BF1832=\"未\"),1,IF(MATCH(BE1832&\"/\"&BF1832,③読み替え表_省エネ住宅!$G$48:$G$57,0),1,0)),0)","v":1},1,1,1,"*"]
[null,1825,null,null,null,null,null,null,null,null,null,null,null,null,null,null,null,null,null,null,null,null,null,null,null,null,null,null,null,null,null,null,null,null,null,null,null,null,null,null,null,null,null,null,null,null,null,null,null,null,null,null,null,null,"未","未","未","未",0,0,0,0,{"$f":"IFERROR(IF(OR(BC1835=\"未\",BD1835=\"未\"),1,IF(MATCH(BC1835&\"/\"&BD1835,③読み替え表_省エネ住宅!$G$48:$G$57,0),1,0)),0)","v":1},{"$f":"IFERROR(IF(OR(BE1835=\"未\",BF1835=\"未\"),1,IF(MATCH(BE1835&\"/\"&BF1835,③読み替え表_省エネ住宅!$G$48:$G$57,0),1,0)),0)","v":1},1,1,1,"*"]
[null,1828,null,null,null,null,null,null,null,null,null,null,null,null,null,null,null,null,null,null,null,null,null,null,null,null,null,null,null,null,null,null,null,null,null,null,null,null,null,null,null,null,null,null,null,null,null,null,null,null,null,null,null,null,"未","未","未","未",0,0,0,0,{"$f":"IFERROR(IF(OR(BC1838=\"未\",BD1838=\"未\"),1,IF(MATCH(BC1838&\"/\"&BD1838,③読み替え表_省エネ住宅!$G$48:$G$57,0),1,0)),0)","v":1},{"$f":"IFERROR(IF(OR(BE1838=\"未\",BF1838=\"未\"),1,IF(MATCH(BE1838&\"/\"&BF1838,③読み替え表_省エネ住宅!$G$48:$G$57,0),1,0)),0)","v":1},1,1,1,"*"]
[null,1831,null,null,null,null,null,null,null,null,null,null,null,null,null,null,null,null,null,null,null,null,null,null,null,null,null,null,null,null,null,null,null,null,null,null,null,null,null,null,null,null,null,null,null,null,null,null,null,null,null,null,null,null,"未","未","未","未",0,0,0,0,{"$f":"IFERROR(IF(OR(BC1841=\"未\",BD1841=\"未\"),1,IF(MATCH(BC1841&\"/\"&BD1841,③読み替え表_省エネ住宅!$G$48:$G$57,0),1,0)),0)","v":1},{"$f":"IFERROR(IF(OR(BE1841=\"未\",BF1841=\"未\"),1,IF(MATCH(BE1841&\"/\"&BF1841,③読み替え表_省エネ住宅!$G$48:$G$57,0),1,0)),0)","v":1},1,1,1,"*"]
[null,1834,null,null,null,null,null,null,null,null,null,null,null,null,null,null,null,null,null,null,null,null,null,null,null,null,null,null,null,null,null,null,null,null,null,null,null,null,null,null,null,null,null,null,null,null,null,null,null,null,null,null,null,null,"未","未","未","未",0,0,0,0,{"$f":"IFERROR(IF(OR(BC1844=\"未\",BD1844=\"未\"),1,IF(MATCH(BC1844&\"/\"&BD1844,③読み替え表_省エネ住宅!$G$48:$G$57,0),1,0)),0)","v":1},{"$f":"IFERROR(IF(OR(BE1844=\"未\",BF1844=\"未\"),1,IF(MATCH(BE1844&\"/\"&BF1844,③読み替え表_省エネ住宅!$G$48:$G$57,0),1,0)),0)","v":1},1,1,1,"*"]
[null,1835,null,null,null,null,null,null,null,null,null,null,null,null,null,null,null,null,null,null,null,null,null,null,null,null,null,null,null,null,null,null,null,null,null,null,null,null,null,null,null,null,null,null,null,null,null,null,null,null,null,null,null,null,"未","未","未","未",0,0,0,0,{"$f":"IFERROR(IF(OR(BC1845=\"未\",BD1845=\"未\"),1,IF(MATCH(BC1845&\"/\"&BD1845,③読み替え表_省エネ住宅!$G$48:$G$57,0),1,0)),0)","v":1},{"$f":"IFERROR(IF(OR(BE1845=\"未\",BF1845=\"未\"),1,IF(MATCH(BE1845&\"/\"&BF1845,③読み替え表_省エネ住宅!$G$48:$G$57,0),1,0)),0)","v":1},1,1,1,"*"]
[null,1839,null,null,null,null,null,null,null,null,null,null,null,null,null,null,null,null,null,null,null,null,null,null,null,null,null,null,null,null,null,null,null,null,null,null,null,null,null,null,null,null,null,null,null,null,null,null,null,null,null,null,null,null,"未","未","未","未",0,0,0,0,{"$f":"IFERROR(IF(OR(BC1849=\"未\",BD1849=\"未\"),1,IF(MATCH(BC1849&\"/\"&BD1849,③読み替え表_省エネ住宅!$G$48:$G$57,0),1,0)),0)","v":1},{"$f":"IFERROR(IF(OR(BE1849=\"未\",BF1849=\"未\"),1,IF(MATCH(BE1849&\"/\"&BF1849,③読み替え表_省エネ住宅!$G$48:$G$57,0),1,0)),0)","v":1},1,1,1,"*"]
[null,1841,null,null,null,null,null,null,null,null,null,null,null,null,null,null,null,null,null,null,null,null,null,null,null,null,null,null,null,null,null,null,null,null,null,null,null,null,null,null,null,null,null,null,null,null,null,null,null,null,null,null,null,null,"未","未","未","未",0,0,0,0,{"$f":"IFERROR(IF(OR(BC1851=\"未\",BD1851=\"未\"),1,IF(MATCH(BC1851&\"/\"&BD1851,③読み替え表_省エネ住宅!$G$48:$G$57,0),1,0)),0)","v":1},{"$f":"IFERROR(IF(OR(BE1851=\"未\",BF1851=\"未\"),1,IF(MATCH(BE1851&\"/\"&BF1851,③読み替え表_省エネ住宅!$G$48:$G$57,0),1,0)),0)","v":1},1,1,1,"*"]
[null,1844,null,null,null,null,null,null,null,null,null,null,null,null,null,null,null,null,null,null,null,null,null,null,null,null,null,null,null,null,null,null,null,null,null,null,null,null,null,null,null,null,null,null,null,null,null,null,null,null,null,null,null,null,"未","未","未","未",0,0,0,0,{"$f":"IFERROR(IF(OR(BC1854=\"未\",BD1854=\"未\"),1,IF(MATCH(BC1854&\"/\"&BD1854,③読み替え表_省エネ住宅!$G$48:$G$57,0),1,0)),0)","v":1},{"$f":"IFERROR(IF(OR(BE1854=\"未\",BF1854=\"未\"),1,IF(MATCH(BE1854&\"/\"&BF1854,③読み替え表_省エネ住宅!$G$48:$G$57,0),1,0)),0)","v":1},1,1,1,"*"]
[null,1847,null,null,null,null,null,null,null,null,null,null,null,null,null,null,null,null,null,null,null,null,null,null,null,null,null,null,null,null,null,null,null,null,null,null,null,null,null,null,null,null,null,null,null,null,null,null,null,null,null,null,null,null,"未","未","未","未",0,0,0,0,{"$f":"IFERROR(IF(OR(BC1857=\"未\",BD1857=\"未\"),1,IF(MATCH(BC1857&\"/\"&BD1857,③読み替え表_省エネ住宅!$G$48:$G$57,0),1,0)),0)","v":1},{"$f":"IFERROR(IF(OR(BE1857=\"未\",BF1857=\"未\"),1,IF(MATCH(BE1857&\"/\"&BF1857,③読み替え表_省エネ住宅!$G$48:$G$57,0),1,0)),0)","v":1},1,1,1,"*"]
[null,1851,null,null,null,null,null,null,null,null,null,null,null,null,null,null,null,null,null,null,null,null,null,null,null,null,null,null,null,null,null,null,null,null,null,null,null,null,null,null,null,null,null,null,null,null,null,null,null,null,null,null,null,null,"未","未","未","未",0,0,0,0,{"$f":"IFERROR(IF(OR(BC1861=\"未\",BD1861=\"未\"),1,IF(MATCH(BC1861&\"/\"&BD1861,③読み替え表_省エネ住宅!$G$48:$G$57,0),1,0)),0)","v":1},{"$f":"IFERROR(IF(OR(BE1861=\"未\",BF1861=\"未\"),1,IF(MATCH(BE1861&\"/\"&BF1861,③読み替え表_省エネ住宅!$G$48:$G$57,0),1,0)),0)","v":1},1,1,1,"*"]
[null,1852,null,null,null,null,null,null,null,null,null,null,null,null,null,null,null,null,null,null,null,null,null,null,null,null,null,null,null,null,null,null,null,null,null,null,null,null,null,null,null,null,null,null,null,null,null,null,null,null,null,null,null,null,"未","未","未","未",0,0,0,0,{"$f":"IFERROR(IF(OR(BC1862=\"未\",BD1862=\"未\"),1,IF(MATCH(BC1862&\"/\"&BD1862,③読み替え表_省エネ住宅!$G$48:$G$57,0),1,0)),0)","v":1},{"$f":"IFERROR(IF(OR(BE1862=\"未\",BF1862=\"未\"),1,IF(MATCH(BE1862&\"/\"&BF1862,③読み替え表_省エネ住宅!$G$48:$G$57,0),1,0)),0)","v":1},1,1,1,"*"]
[null,1856,null,null,null,null,null,null,null,null,null,null,null,null,null,null,null,null,null,null,null,null,null,null,null,null,null,null,null,null,null,null,null,null,null,null,null,null,null,null,null,null,null,null,null,null,null,null,null,null,null,null,null,null,"未","未","未","未",0,0,0,0,{"$f":"IFERROR(IF(OR(BC1866=\"未\",BD1866=\"未\"),1,IF(MATCH(BC1866&\"/\"&BD1866,③読み替え表_省エネ住宅!$G$48:$G$57,0),1,0)),0)","v":1},{"$f":"IFERROR(IF(OR(BE1866=\"未\",BF1866=\"未\"),1,IF(MATCH(BE1866&\"/\"&BF1866,③読み替え表_省エネ住宅!$G$48:$G$57,0),1,0)),0)","v":1},1,1,1,"*"]
[null,1857,null,null,null,null,null,null,null,null,null,null,null,null,null,null,null,null,null,null,null,null,null,null,null,null,null,null,null,null,null,null,null,null,null,null,null,null,null,null,null,null,null,null,null,null,null,null,null,null,null,null,null,null,"未","未","未","未",0,0,0,0,{"$f":"IFERROR(IF(OR(BC1867=\"未\",BD1867=\"未\"),1,IF(MATCH(BC1867&\"/\"&BD1867,③読み替え表_省エネ住宅!$G$48:$G$57,0),1,0)),0)","v":1},{"$f":"IFERROR(IF(OR(BE1867=\"未\",BF1867=\"未\"),1,IF(MATCH(BE1867&\"/\"&BF1867,③読み替え表_省エネ住宅!$G$48:$G$57,0),1,0)),0)","v":1},1,1,1,"*"]
[null,1860,null,null,null,null,null,null,null,null,null,null,null,null,null,null,null,null,null,null,null,null,null,null,null,null,null,null,null,null,null,null,null,null,null,null,null,null,null,null,null,null,null,null,null,null,null,null,null,null,null,null,null,null,"未","未","未","未",0,0,0,0,{"$f":"IFERROR(IF(OR(BC1870=\"未\",BD1870=\"未\"),1,IF(MATCH(BC1870&\"/\"&BD1870,③読み替え表_省エネ住宅!$G$48:$G$57,0),1,0)),0)","v":1},{"$f":"IFERROR(IF(OR(BE1870=\"未\",BF1870=\"未\"),1,IF(MATCH(BE1870&\"/\"&BF1870,③読み替え表_省エネ住宅!$G$48:$G$57,0),1,0)),0)","v":1},1,1,1,"*"]
[null,1863,null,null,null,null,null,null,null,null,null,null,null,null,null,null,null,null,null,null,null,null,null,null,null,null,null,null,null,null,null,null,null,null,null,null,null,null,null,null,null,null,null,null,null,null,null,null,null,null,null,null,null,null,"未","未","未","未",0,0,0,0,{"$f":"IFERROR(IF(OR(BC1873=\"未\",BD1873=\"未\"),1,IF(MATCH(BC1873&\"/\"&BD1873,③読み替え表_省エネ住宅!$G$48:$G$57,0),1,0)),0)","v":1},{"$f":"IFERROR(IF(OR(BE1873=\"未\",BF1873=\"未\"),1,IF(MATCH(BE1873&\"/\"&BF1873,③読み替え表_省エネ住宅!$G$48:$G$57,0),1,0)),0)","v":1},1,1,1,"*"]
[null,1866,null,null,null,null,null,null,null,null,null,null,null,null,null,null,null,null,null,null,null,null,null,null,null,null,null,null,null,null,null,null,null,null,null,null,null,null,null,null,null,null,null,null,null,null,null,null,null,null,null,null,null,null,"未","未","未","未",0,0,0,0,{"$f":"IFERROR(IF(OR(BC1876=\"未\",BD1876=\"未\"),1,IF(MATCH(BC1876&\"/\"&BD1876,③読み替え表_省エネ住宅!$G$48:$G$57,0),1,0)),0)","v":1},{"$f":"IFERROR(IF(OR(BE1876=\"未\",BF1876=\"未\"),1,IF(MATCH(BE1876&\"/\"&BF1876,③読み替え表_省エネ住宅!$G$48:$G$57,0),1,0)),0)","v":1},1,1,1,"*"]
[null,1869,null,null,null,null,null,null,null,null,null,null,null,null,null,null,null,null,null,null,null,null,null,null,null,null,null,null,null,null,null,null,null,null,null,null,null,null,null,null,null,null,null,null,null,null,null,null,null,null,null,null,null,null,"未","未","未","未",0,0,0,0,{"$f":"IFERROR(IF(OR(BC1879=\"未\",BD1879=\"未\"),1,IF(MATCH(BC1879&\"/\"&BD1879,③読み替え表_省エネ住宅!$G$48:$G$57,0),1,0)),0)","v":1},{"$f":"IFERROR(IF(OR(BE1879=\"未\",BF1879=\"未\"),1,IF(MATCH(BE1879&\"/\"&BF1879,③読み替え表_省エネ住宅!$G$48:$G$57,0),1,0)),0)","v":1},1,1,1,"*"]
[null,1873,null,null,null,null,null,null,null,null,null,null,null,null,null,null,null,null,null,null,null,null,null,null,null,null,null,null,null,null,null,null,null,null,null,null,null,null,null,null,null,null,null,null,null,null,null,null,null,null,null,null,null,null,"未","未","未","未",0,0,0,0,{"$f":"IFERROR(IF(OR(BC1883=\"未\",BD1883=\"未\"),1,IF(MATCH(BC1883&\"/\"&BD1883,③読み替え表_省エネ住宅!$G$48:$G$57,0),1,0)),0)","v":1},{"$f":"IFERROR(IF(OR(BE1883=\"未\",BF1883=\"未\"),1,IF(MATCH(BE1883&\"/\"&BF1883,③読み替え表_省エネ住宅!$G$48:$G$57,0),1,0)),0)","v":1},1,1,1,"*"]
[null,1876,null,null,null,null,null,null,null,null,null,null,null,null,null,null,null,null,null,null,null,null,null,null,null,null,null,null,null,null,null,null,null,null,null,null,null,null,null,null,null,null,null,null,null,null,null,null,null,null,null,null,null,null,"未","未","未","未",0,0,0,0,{"$f":"IFERROR(IF(OR(BC1886=\"未\",BD1886=\"未\"),1,IF(MATCH(BC1886&\"/\"&BD1886,③読み替え表_省エネ住宅!$G$48:$G$57,0),1,0)),0)","v":1},{"$f":"IFERROR(IF(OR(BE1886=\"未\",BF1886=\"未\"),1,IF(MATCH(BE1886&\"/\"&BF1886,③読み替え表_省エネ住宅!$G$48:$G$57,0),1,0)),0)","v":1},1,1,1,"*"]
[null,1877,null,null,null,null,null,null,null,null,null,null,null,null,null,null,null,null,null,null,null,null,null,null,null,null,null,null,null,null,null,null,null,null,null,null,null,null,null,null,null,null,null,null,null,null,null,null,null,null,null,null,null,null,"未","未","未","未",0,0,0,0,{"$f":"IFERROR(IF(OR(BC1887=\"未\",BD1887=\"未\"),1,IF(MATCH(BC1887&\"/\"&BD1887,③読み替え表_省エネ住宅!$G$48:$G$57,0),1,0)),0)","v":1},{"$f":"IFERROR(IF(OR(BE1887=\"未\",BF1887=\"未\"),1,IF(MATCH(BE1887&\"/\"&BF1887,③読み替え表_省エネ住宅!$G$48:$G$57,0),1,0)),0)","v":1},1,1,1,"*"]
[null,1878,null,null,null,null,null,null,null,null,null,null,null,null,null,null,null,null,null,null,null,null,null,null,null,null,null,null,null,null,null,null,null,null,null,null,null,null,null,null,null,null,null,null,null,null,null,null,null,null,null,null,null,null,"未","未","未","未",0,0,0,0,{"$f":"IFERROR(IF(OR(BC1888=\"未\",BD1888=\"未\"),1,IF(MATCH(BC1888&\"/\"&BD1888,③読み替え表_省エネ住宅!$G$48:$G$57,0),1,0)),0)","v":1},{"$f":"IFERROR(IF(OR(BE1888=\"未\",BF1888=\"未\"),1,IF(MATCH(BE1888&\"/\"&BF1888,③読み替え表_省エネ住宅!$G$48:$G$57,0),1,0)),0)","v":1},1,1,1,"*"]
[null,1879,null,null,null,null,null,null,null,null,null,null,null,null,null,null,null,null,null,null,null,null,null,null,null,null,null,null,null,null,null,null,null,null,null,null,null,null,null,null,null,null,null,null,null,null,null,null,null,null,null,null,null,null,"未","未","未","未",0,0,0,0,{"$f":"IFERROR(IF(OR(BC1889=\"未\",BD1889=\"未\"),1,IF(MATCH(BC1889&\"/\"&BD1889,③読み替え表_省エネ住宅!$G$48:$G$57,0),1,0)),0)","v":1},{"$f":"IFERROR(IF(OR(BE1889=\"未\",BF1889=\"未\"),1,IF(MATCH(BE1889&\"/\"&BF1889,③読み替え表_省エネ住宅!$G$48:$G$57,0),1,0)),0)","v":1},1,1,1,"*"]
[null,1880,null,null,null,null,null,null,null,null,null,null,null,null,null,null,null,null,null,null,null,null,null,null,null,null,null,null,null,null,null,null,null,null,null,null,null,null,null,null,null,null,null,null,null,null,null,null,null,null,null,null,null,null,"未","未","未","未",0,0,0,0,{"$f":"IFERROR(IF(OR(BC1890=\"未\",BD1890=\"未\"),1,IF(MATCH(BC1890&\"/\"&BD1890,③読み替え表_省エネ住宅!$G$48:$G$57,0),1,0)),0)","v":1},{"$f":"IFERROR(IF(OR(BE1890=\"未\",BF1890=\"未\"),1,IF(MATCH(BE1890&\"/\"&BF1890,③読み替え表_省エネ住宅!$G$48:$G$57,0),1,0)),0)","v":1},1,1,1,"*"]
[null,1881,null,null,null,null,null,null,null,null,null,null,null,null,null,null,null,null,null,null,null,null,null,null,null,null,null,null,null,null,null,null,null,null,null,null,null,null,null,null,null,null,null,null,null,null,null,null,null,null,null,null,null,null,"未","未","未","未",0,0,0,0,{"$f":"IFERROR(IF(OR(BC1891=\"未\",BD1891=\"未\"),1,IF(MATCH(BC1891&\"/\"&BD1891,③読み替え表_省エネ住宅!$G$48:$G$57,0),1,0)),0)","v":1},{"$f":"IFERROR(IF(OR(BE1891=\"未\",BF1891=\"未\"),1,IF(MATCH(BE1891&\"/\"&BF1891,③読み替え表_省エネ住宅!$G$48:$G$57,0),1,0)),0)","v":1},1,1,1,"*"]
[null,1882,null,null,null,null,null,null,null,null,null,null,null,null,null,null,null,null,null,null,null,null,null,null,null,null,null,null,null,null,null,null,null,null,null,null,null,null,null,null,null,null,null,null,null,null,null,null,null,null,null,null,null,null,"未","未","未","未",0,0,0,0,{"$f":"IFERROR(IF(OR(BC1892=\"未\",BD1892=\"未\"),1,IF(MATCH(BC1892&\"/\"&BD1892,③読み替え表_省エネ住宅!$G$48:$G$57,0),1,0)),0)","v":1},{"$f":"IFERROR(IF(OR(BE1892=\"未\",BF1892=\"未\"),1,IF(MATCH(BE1892&\"/\"&BF1892,③読み替え表_省エネ住宅!$G$48:$G$57,0),1,0)),0)","v":1},1,1,1,"*"]
[null,1883,null,null,null,null,null,null,null,null,null,null,null,null,null,null,null,null,null,null,null,null,null,null,null,null,null,null,null,null,null,null,null,null,null,null,null,null,null,null,null,null,null,null,null,null,null,null,null,null,null,null,null,null,"未","未","未","未",0,0,0,0,{"$f":"IFERROR(IF(OR(BC1893=\"未\",BD1893=\"未\"),1,IF(MATCH(BC1893&\"/\"&BD1893,③読み替え表_省エネ住宅!$G$48:$G$57,0),1,0)),0)","v":1},{"$f":"IFERROR(IF(OR(BE1893=\"未\",BF1893=\"未\"),1,IF(MATCH(BE1893&\"/\"&BF1893,③読み替え表_省エネ住宅!$G$48:$G$57,0),1,0)),0)","v":1},1,1,1,"*"]
[null,1884,null,null,null,null,null,null,null,null,null,null,null,null,null,null,null,null,null,null,null,null,null,null,null,null,null,null,null,null,null,null,null,null,null,null,null,null,null,null,null,null,null,null,null,null,null,null,null,null,null,null,null,null,"未","未","未","未",0,0,0,0,{"$f":"IFERROR(IF(OR(BC1894=\"未\",BD1894=\"未\"),1,IF(MATCH(BC1894&\"/\"&BD1894,③読み替え表_省エネ住宅!$G$48:$G$57,0),1,0)),0)","v":1},{"$f":"IFERROR(IF(OR(BE1894=\"未\",BF1894=\"未\"),1,IF(MATCH(BE1894&\"/\"&BF1894,③読み替え表_省エネ住宅!$G$48:$G$57,0),1,0)),0)","v":1},1,1,1,"*"]
[null,1885,null,null,null,null,null,null,null,null,null,null,null,null,null,null,null,null,null,null,null,null,null,null,null,null,null,null,null,null,null,null,null,null,null,null,null,null,null,null,null,null,null,null,null,null,null,null,null,null,null,null,null,null,"未","未","未","未",0,0,0,0,{"$f":"IFERROR(IF(OR(BC1895=\"未\",BD1895=\"未\"),1,IF(MATCH(BC1895&\"/\"&BD1895,③読み替え表_省エネ住宅!$G$48:$G$57,0),1,0)),0)","v":1},{"$f":"IFERROR(IF(OR(BE1895=\"未\",BF1895=\"未\"),1,IF(MATCH(BE1895&\"/\"&BF1895,③読み替え表_省エネ住宅!$G$48:$G$57,0),1,0)),0)","v":1},1,1,1,"*"]
[null,1886,null,null,null,null,null,null,null,null,null,null,null,null,null,null,null,null,null,null,null,null,null,null,null,null,null,null,null,null,null,null,null,null,null,null,null,null,null,null,null,null,null,null,null,null,null,null,null,null,null,null,null,null,"未","未","未","未",0,0,0,0,{"$f":"IFERROR(IF(OR(BC1896=\"未\",BD1896=\"未\"),1,IF(MATCH(BC1896&\"/\"&BD1896,③読み替え表_省エネ住宅!$G$48:$G$57,0),1,0)),0)","v":1},{"$f":"IFERROR(IF(OR(BE1896=\"未\",BF1896=\"未\"),1,IF(MATCH(BE1896&\"/\"&BF1896,③読み替え表_省エネ住宅!$G$48:$G$57,0),1,0)),0)","v":1},1,1,1,"*"]
[null,1887,null,null,null,null,null,null,null,null,null,null,null,null,null,null,null,null,null,null,null,null,null,null,null,null,null,null,null,null,null,null,null,null,null,null,null,null,null,null,null,null,null,null,null,null,null,null,null,null,null,null,null,null,"未","未","未","未",0,0,0,0,{"$f":"IFERROR(IF(OR(BC1897=\"未\",BD1897=\"未\"),1,IF(MATCH(BC1897&\"/\"&BD1897,③読み替え表_省エネ住宅!$G$48:$G$57,0),1,0)),0)","v":1},{"$f":"IFERROR(IF(OR(BE1897=\"未\",BF1897=\"未\"),1,IF(MATCH(BE1897&\"/\"&BF1897,③読み替え表_省エネ住宅!$G$48:$G$57,0),1,0)),0)","v":1},1,1,1,"*"]
[null,1888,null,null,null,null,null,null,null,null,null,null,null,null,null,null,null,null,null,null,null,null,null,null,null,null,null,null,null,null,null,null,null,null,null,null,null,null,null,null,null,null,null,null,null,null,null,null,null,null,null,null,null,null,"未","未","未","未",0,0,0,0,{"$f":"IFERROR(IF(OR(BC1898=\"未\",BD1898=\"未\"),1,IF(MATCH(BC1898&\"/\"&BD1898,③読み替え表_省エネ住宅!$G$48:$G$57,0),1,0)),0)","v":1},{"$f":"IFERROR(IF(OR(BE1898=\"未\",BF1898=\"未\"),1,IF(MATCH(BE1898&\"/\"&BF1898,③読み替え表_省エネ住宅!$G$48:$G$57,0),1,0)),0)","v":1},1,1,1,"*"]
[null,1889,null,null,null,null,null,null,null,null,null,null,null,null,null,null,null,null,null,null,null,null,null,null,null,null,null,null,null,null,null,null,null,null,null,null,null,null,null,null,null,null,null,null,null,null,null,null,null,null,null,null,null,null,"未","未","未","未",0,0,0,0,{"$f":"IFERROR(IF(OR(BC1899=\"未\",BD1899=\"未\"),1,IF(MATCH(BC1899&\"/\"&BD1899,③読み替え表_省エネ住宅!$G$48:$G$57,0),1,0)),0)","v":1},{"$f":"IFERROR(IF(OR(BE1899=\"未\",BF1899=\"未\"),1,IF(MATCH(BE1899&\"/\"&BF1899,③読み替え表_省エネ住宅!$G$48:$G$57,0),1,0)),0)","v":1},1,1,1,"*"]
[null,1890,null,null,null,null,null,null,null,null,null,null,null,null,null,null,null,null,null,null,null,null,null,null,null,null,null,null,null,null,null,null,null,null,null,null,null,null,null,null,null,null,null,null,null,null,null,null,null,null,null,null,null,null,"未","未","未","未",0,0,0,0,{"$f":"IFERROR(IF(OR(BC1900=\"未\",BD1900=\"未\"),1,IF(MATCH(BC1900&\"/\"&BD1900,③読み替え表_省エネ住宅!$G$48:$G$57,0),1,0)),0)","v":1},{"$f":"IFERROR(IF(OR(BE1900=\"未\",BF1900=\"未\"),1,IF(MATCH(BE1900&\"/\"&BF1900,③読み替え表_省エネ住宅!$G$48:$G$57,0),1,0)),0)","v":1},1,1,1,"*"]
[null,1891,null,null,null,null,null,null,null,null,null,null,null,null,null,null,null,null,null,null,null,null,null,null,null,null,null,null,null,null,null,null,null,null,null,null,null,null,null,null,null,null,null,null,null,null,null,null,null,null,null,null,null,null,"未","未","未","未",0,0,0,0,{"$f":"IFERROR(IF(OR(BC1901=\"未\",BD1901=\"未\"),1,IF(MATCH(BC1901&\"/\"&BD1901,③読み替え表_省エネ住宅!$G$48:$G$57,0),1,0)),0)","v":1},{"$f":"IFERROR(IF(OR(BE1901=\"未\",BF1901=\"未\"),1,IF(MATCH(BE1901&\"/\"&BF1901,③読み替え表_省エネ住宅!$G$48:$G$57,0),1,0)),0)","v":1},1,1,1,"*"]
[null,1892,null,null,null,null,null,null,null,null,null,null,null,null,null,null,null,null,null,null,null,null,null,null,null,null,null,null,null,null,null,null,null,null,null,null,null,null,null,null,null,null,null,null,null,null,null,null,null,null,null,null,null,null,"未","未","未","未",0,0,0,0,{"$f":"IFERROR(IF(OR(BC1902=\"未\",BD1902=\"未\"),1,IF(MATCH(BC1902&\"/\"&BD1902,③読み替え表_省エネ住宅!$G$48:$G$57,0),1,0)),0)","v":1},{"$f":"IFERROR(IF(OR(BE1902=\"未\",BF1902=\"未\"),1,IF(MATCH(BE1902&\"/\"&BF1902,③読み替え表_省エネ住宅!$G$48:$G$57,0),1,0)),0)","v":1},1,1,1,"*"]
[null,1893,null,null,null,null,null,null,null,null,null,null,null,null,null,null,null,null,null,null,null,null,null,null,null,null,null,null,null,null,null,null,null,null,null,null,null,null,null,null,null,null,null,null,null,null,null,null,null,null,null,null,null,null,"未","未","未","未",0,0,0,0,{"$f":"IFERROR(IF(OR(BC1903=\"未\",BD1903=\"未\"),1,IF(MATCH(BC1903&\"/\"&BD1903,③読み替え表_省エネ住宅!$G$48:$G$57,0),1,0)),0)","v":1},{"$f":"IFERROR(IF(OR(BE1903=\"未\",BF1903=\"未\"),1,IF(MATCH(BE1903&\"/\"&BF1903,③読み替え表_省エネ住宅!$G$48:$G$57,0),1,0)),0)","v":1},1,1,1,"*"]
[null,1894,null,null,null,null,null,null,null,null,null,null,null,null,null,null,null,null,null,null,null,null,null,null,null,null,null,null,null,null,null,null,null,null,null,null,null,null,null,null,null,null,null,null,null,null,null,null,null,null,null,null,null,null,"未","未","未","未",0,0,0,0,{"$f":"IFERROR(IF(OR(BC1904=\"未\",BD1904=\"未\"),1,IF(MATCH(BC1904&\"/\"&BD1904,③読み替え表_省エネ住宅!$G$48:$G$57,0),1,0)),0)","v":1},{"$f":"IFERROR(IF(OR(BE1904=\"未\",BF1904=\"未\"),1,IF(MATCH(BE1904&\"/\"&BF1904,③読み替え表_省エネ住宅!$G$48:$G$57,0),1,0)),0)","v":1},1,1,1,"*"]
[null,1895,null,null,null,null,null,null,null,null,null,null,null,null,null,null,null,null,null,null,null,null,null,null,null,null,null,null,null,null,null,null,null,null,null,null,null,null,null,null,null,null,null,null,null,null,null,null,null,null,null,null,null,null,"未","未","未","未",0,0,0,0,{"$f":"IFERROR(IF(OR(BC1905=\"未\",BD1905=\"未\"),1,IF(MATCH(BC1905&\"/\"&BD1905,③読み替え表_省エネ住宅!$G$48:$G$57,0),1,0)),0)","v":1},{"$f":"IFERROR(IF(OR(BE1905=\"未\",BF1905=\"未\"),1,IF(MATCH(BE1905&\"/\"&BF1905,③読み替え表_省エネ住宅!$G$48:$G$57,0),1,0)),0)","v":1},1,1,1,"*"]
[null,1896,null,null,null,null,null,null,null,null,null,null,null,null,null,null,null,null,null,null,null,null,null,null,null,null,null,null,null,null,null,null,null,null,null,null,null,null,null,null,null,null,null,null,null,null,null,null,null,null,null,null,null,null,"未","未","未","未",0,0,0,0,{"$f":"IFERROR(IF(OR(BC1906=\"未\",BD1906=\"未\"),1,IF(MATCH(BC1906&\"/\"&BD1906,③読み替え表_省エネ住宅!$G$48:$G$57,0),1,0)),0)","v":1},{"$f":"IFERROR(IF(OR(BE1906=\"未\",BF1906=\"未\"),1,IF(MATCH(BE1906&\"/\"&BF1906,③読み替え表_省エネ住宅!$G$48:$G$57,0),1,0)),0)","v":1},1,1,1,"*"]
[null,1897,null,null,null,null,null,null,null,null,null,null,null,null,null,null,null,null,null,null,null,null,null,null,null,null,null,null,null,null,null,null,null,null,null,null,null,null,null,null,null,null,null,null,null,null,null,null,null,null,null,null,null,null,"未","未","未","未",0,0,0,0,{"$f":"IFERROR(IF(OR(BC1907=\"未\",BD1907=\"未\"),1,IF(MATCH(BC1907&\"/\"&BD1907,③読み替え表_省エネ住宅!$G$48:$G$57,0),1,0)),0)","v":1},{"$f":"IFERROR(IF(OR(BE1907=\"未\",BF1907=\"未\"),1,IF(MATCH(BE1907&\"/\"&BF1907,③読み替え表_省エネ住宅!$G$48:$G$57,0),1,0)),0)","v":1},1,1,1,"*"]
[null,1898,null,null,null,null,null,null,null,null,null,null,null,null,null,null,null,null,null,null,null,null,null,null,null,null,null,null,null,null,null,null,null,null,null,null,null,null,null,null,null,null,null,null,null,null,null,null,null,null,null,null,null,null,"未","未","未","未",0,0,0,0,{"$f":"IFERROR(IF(OR(BC1908=\"未\",BD1908=\"未\"),1,IF(MATCH(BC1908&\"/\"&BD1908,③読み替え表_省エネ住宅!$G$48:$G$57,0),1,0)),0)","v":1},{"$f":"IFERROR(IF(OR(BE1908=\"未\",BF1908=\"未\"),1,IF(MATCH(BE1908&\"/\"&BF1908,③読み替え表_省エネ住宅!$G$48:$G$57,0),1,0)),0)","v":1},1,1,1,"*"]
[null,1899,null,null,null,null,null,null,null,null,null,null,null,null,null,null,null,null,null,null,null,null,null,null,null,null,null,null,null,null,null,null,null,null,null,null,null,null,null,null,null,null,null,null,null,null,null,null,null,null,null,null,null,null,"未","未","未","未",0,0,0,0,{"$f":"IFERROR(IF(OR(BC1909=\"未\",BD1909=\"未\"),1,IF(MATCH(BC1909&\"/\"&BD1909,③読み替え表_省エネ住宅!$G$48:$G$57,0),1,0)),0)","v":1},{"$f":"IFERROR(IF(OR(BE1909=\"未\",BF1909=\"未\"),1,IF(MATCH(BE1909&\"/\"&BF1909,③読み替え表_省エネ住宅!$G$48:$G$57,0),1,0)),0)","v":1},1,1,1,"*"]
[null,1900,null,null,null,null,null,null,null,null,null,null,null,null,null,null,null,null,null,null,null,null,null,null,null,null,null,null,null,null,null,null,null,null,null,null,null,null,null,null,null,null,null,null,null,null,null,null,null,null,null,null,null,null,"未","未","未","未",0,0,0,0,{"$f":"IFERROR(IF(OR(BC1910=\"未\",BD1910=\"未\"),1,IF(MATCH(BC1910&\"/\"&BD1910,③読み替え表_省エネ住宅!$G$48:$G$57,0),1,0)),0)","v":1},{"$f":"IFERROR(IF(OR(BE1910=\"未\",BF1910=\"未\"),1,IF(MATCH(BE1910&\"/\"&BF1910,③読み替え表_省エネ住宅!$G$48:$G$57,0),1,0)),0)","v":1},1,1,1,"*"]
[null,1901,null,null,null,null,null,null,null,null,null,null,null,null,null,null,null,null,null,null,null,null,null,null,null,null,null,null,null,null,null,null,null,null,null,null,null,null,null,null,null,null,null,null,null,null,null,null,null,null,null,null,null,null,"未","未","未","未",0,0,0,0,{"$f":"IFERROR(IF(OR(BC1911=\"未\",BD1911=\"未\"),1,IF(MATCH(BC1911&\"/\"&BD1911,③読み替え表_省エネ住宅!$G$48:$G$57,0),1,0)),0)","v":1},{"$f":"IFERROR(IF(OR(BE1911=\"未\",BF1911=\"未\"),1,IF(MATCH(BE1911&\"/\"&BF1911,③読み替え表_省エネ住宅!$G$48:$G$57,0),1,0)),0)","v":1},1,1,1,"*"]
[null,1902,null,null,null,null,null,null,null,null,null,null,null,null,null,null,null,null,null,null,null,null,null,null,null,null,null,null,null,null,null,null,null,null,null,null,null,null,null,null,null,null,null,null,null,null,null,null,null,null,null,null,null,null,"未","未","未","未",0,0,0,0,{"$f":"IFERROR(IF(OR(BC1912=\"未\",BD1912=\"未\"),1,IF(MATCH(BC1912&\"/\"&BD1912,③読み替え表_省エネ住宅!$G$48:$G$57,0),1,0)),0)","v":1},{"$f":"IFERROR(IF(OR(BE1912=\"未\",BF1912=\"未\"),1,IF(MATCH(BE1912&\"/\"&BF1912,③読み替え表_省エネ住宅!$G$48:$G$57,0),1,0)),0)","v":1},1,1,1,"*"]
[null,1903,null,null,null,null,null,null,null,null,null,null,null,null,null,null,null,null,null,null,null,null,null,null,null,null,null,null,null,null,null,null,null,null,null,null,null,null,null,null,null,null,null,null,null,null,null,null,null,null,null,null,null,null,"未","未","未","未",0,0,0,0,{"$f":"IFERROR(IF(OR(BC1913=\"未\",BD1913=\"未\"),1,IF(MATCH(BC1913&\"/\"&BD1913,③読み替え表_省エネ住宅!$G$48:$G$57,0),1,0)),0)","v":1},{"$f":"IFERROR(IF(OR(BE1913=\"未\",BF1913=\"未\"),1,IF(MATCH(BE1913&\"/\"&BF1913,③読み替え表_省エネ住宅!$G$48:$G$57,0),1,0)),0)","v":1},1,1,1,"*"]
[null,1904,null,null,null,null,null,null,null,null,null,null,null,null,null,null,null,null,null,null,null,null,null,null,null,null,null,null,null,null,null,null,null,null,null,null,null,null,null,null,null,null,null,null,null,null,null,null,null,null,null,null,null,null,"未","未","未","未",0,0,0,0,{"$f":"IFERROR(IF(OR(BC1914=\"未\",BD1914=\"未\"),1,IF(MATCH(BC1914&\"/\"&BD1914,③読み替え表_省エネ住宅!$G$48:$G$57,0),1,0)),0)","v":1},{"$f":"IFERROR(IF(OR(BE1914=\"未\",BF1914=\"未\"),1,IF(MATCH(BE1914&\"/\"&BF1914,③読み替え表_省エネ住宅!$G$48:$G$57,0),1,0)),0)","v":1},1,1,1,"*"]
[null,1905,null,null,null,null,null,null,null,null,null,null,null,null,null,null,null,null,null,null,null,null,null,null,null,null,null,null,null,null,null,null,null,null,null,null,null,null,null,null,null,null,null,null,null,null,null,null,null,null,null,null,null,null,"未","未","未","未",0,0,0,0,{"$f":"IFERROR(IF(OR(BC1915=\"未\",BD1915=\"未\"),1,IF(MATCH(BC1915&\"/\"&BD1915,③読み替え表_省エネ住宅!$G$48:$G$57,0),1,0)),0)","v":1},{"$f":"IFERROR(IF(OR(BE1915=\"未\",BF1915=\"未\"),1,IF(MATCH(BE1915&\"/\"&BF1915,③読み替え表_省エネ住宅!$G$48:$G$57,0),1,0)),0)","v":1},1,1,1,"*"]
[null,1906,null,null,null,null,null,null,null,null,null,null,null,null,null,null,null,null,null,null,null,null,null,null,null,null,null,null,null,null,null,null,null,null,null,null,null,null,null,null,null,null,null,null,null,null,null,null,null,null,null,null,null,null,"未","未","未","未",0,0,0,0,{"$f":"IFERROR(IF(OR(BC1916=\"未\",BD1916=\"未\"),1,IF(MATCH(BC1916&\"/\"&BD1916,③読み替え表_省エネ住宅!$G$48:$G$57,0),1,0)),0)","v":1},{"$f":"IFERROR(IF(OR(BE1916=\"未\",BF1916=\"未\"),1,IF(MATCH(BE1916&\"/\"&BF1916,③読み替え表_省エネ住宅!$G$48:$G$57,0),1,0)),0)","v":1},1,1,1,"*"]
[null,1907,null,null,null,null,null,null,null,null,null,null,null,null,null,null,null,null,null,null,null,null,null,null,null,null,null,null,null,null,null,null,null,null,null,null,null,null,null,null,null,null,null,null,null,null,null,null,null,null,null,null,null,null,"未","未","未","未",0,0,0,0,{"$f":"IFERROR(IF(OR(BC1917=\"未\",BD1917=\"未\"),1,IF(MATCH(BC1917&\"/\"&BD1917,③読み替え表_省エネ住宅!$G$48:$G$57,0),1,0)),0)","v":1},{"$f":"IFERROR(IF(OR(BE1917=\"未\",BF1917=\"未\"),1,IF(MATCH(BE1917&\"/\"&BF1917,③読み替え表_省エネ住宅!$G$48:$G$57,0),1,0)),0)","v":1},1,1,1,"*"]
[null,1908,null,null,null,null,null,null,null,null,null,null,null,null,null,null,null,null,null,null,null,null,null,null,null,null,null,null,null,null,null,null,null,null,null,null,null,null,null,null,null,null,null,null,null,null,null,null,null,null,null,null,null,null,"未","未","未","未",0,0,0,0,{"$f":"IFERROR(IF(OR(BC1918=\"未\",BD1918=\"未\"),1,IF(MATCH(BC1918&\"/\"&BD1918,③読み替え表_省エネ住宅!$G$48:$G$57,0),1,0)),0)","v":1},{"$f":"IFERROR(IF(OR(BE1918=\"未\",BF1918=\"未\"),1,IF(MATCH(BE1918&\"/\"&BF1918,③読み替え表_省エネ住宅!$G$48:$G$57,0),1,0)),0)","v":1},1,1,1,"*"]
[null,1909,null,null,null,null,null,null,null,null,null,null,null,null,null,null,null,null,null,null,null,null,null,null,null,null,null,null,null,null,null,null,null,null,null,null,null,null,null,null,null,null,null,null,null,null,null,null,null,null,null,null,null,null,"未","未","未","未",0,0,0,0,{"$f":"IFERROR(IF(OR(BC1919=\"未\",BD1919=\"未\"),1,IF(MATCH(BC1919&\"/\"&BD1919,③読み替え表_省エネ住宅!$G$48:$G$57,0),1,0)),0)","v":1},{"$f":"IFERROR(IF(OR(BE1919=\"未\",BF1919=\"未\"),1,IF(MATCH(BE1919&\"/\"&BF1919,③読み替え表_省エネ住宅!$G$48:$G$57,0),1,0)),0)","v":1},1,1,1,"*"]
[null,1910,null,null,null,null,null,null,null,null,null,null,null,null,null,null,null,null,null,null,null,null,null,null,null,null,null,null,null,null,null,null,null,null,null,null,null,null,null,null,null,null,null,null,null,null,null,null,null,null,null,null,null,null,"未","未","未","未",0,0,0,0,{"$f":"IFERROR(IF(OR(BC1920=\"未\",BD1920=\"未\"),1,IF(MATCH(BC1920&\"/\"&BD1920,③読み替え表_省エネ住宅!$G$48:$G$57,0),1,0)),0)","v":1},{"$f":"IFERROR(IF(OR(BE1920=\"未\",BF1920=\"未\"),1,IF(MATCH(BE1920&\"/\"&BF1920,③読み替え表_省エネ住宅!$G$48:$G$57,0),1,0)),0)","v":1},1,1,1,"*"]
[null,1911,null,null,null,null,null,null,null,null,null,null,null,null,null,null,null,null,null,null,null,null,null,null,null,null,null,null,null,null,null,null,null,null,null,null,null,null,null,null,null,null,null,null,null,null,null,null,null,null,null,null,null,null,"未","未","未","未",0,0,0,0,{"$f":"IFERROR(IF(OR(BC1921=\"未\",BD1921=\"未\"),1,IF(MATCH(BC1921&\"/\"&BD1921,③読み替え表_省エネ住宅!$G$48:$G$57,0),1,0)),0)","v":1},{"$f":"IFERROR(IF(OR(BE1921=\"未\",BF1921=\"未\"),1,IF(MATCH(BE1921&\"/\"&BF1921,③読み替え表_省エネ住宅!$G$48:$G$57,0),1,0)),0)","v":1},1,1,1,"*"]
[null,1912,null,null,null,null,null,null,null,null,null,null,null,null,null,null,null,null,null,null,null,null,null,null,null,null,null,null,null,null,null,null,null,null,null,null,null,null,null,null,null,null,null,null,null,null,null,null,null,null,null,null,null,null,"未","未","未","未",0,0,0,0,{"$f":"IFERROR(IF(OR(BC1922=\"未\",BD1922=\"未\"),1,IF(MATCH(BC1922&\"/\"&BD1922,③読み替え表_省エネ住宅!$G$48:$G$57,0),1,0)),0)","v":1},{"$f":"IFERROR(IF(OR(BE1922=\"未\",BF1922=\"未\"),1,IF(MATCH(BE1922&\"/\"&BF1922,③読み替え表_省エネ住宅!$G$48:$G$57,0),1,0)),0)","v":1},1,1,1,"*"]
[null,1913,null,null,null,null,null,null,null,null,null,null,null,null,null,null,null,null,null,null,null,null,null,null,null,null,null,null,null,null,null,null,null,null,null,null,null,null,null,null,null,null,null,null,null,null,null,null,null,null,null,null,null,null,"未","未","未","未",0,0,0,0,{"$f":"IFERROR(IF(OR(BC1923=\"未\",BD1923=\"未\"),1,IF(MATCH(BC1923&\"/\"&BD1923,③読み替え表_省エネ住宅!$G$48:$G$57,0),1,0)),0)","v":1},{"$f":"IFERROR(IF(OR(BE1923=\"未\",BF1923=\"未\"),1,IF(MATCH(BE1923&\"/\"&BF1923,③読み替え表_省エネ住宅!$G$48:$G$57,0),1,0)),0)","v":1},1,1,1,"*"]
[null,1914,null,null,null,null,null,null,null,null,null,null,null,null,null,null,null,null,null,null,null,null,null,null,null,null,null,null,null,null,null,null,null,null,null,null,null,null,null,null,null,null,null,null,null,null,null,null,null,null,null,null,null,null,"未","未","未","未",0,0,0,0,{"$f":"IFERROR(IF(OR(BC1924=\"未\",BD1924=\"未\"),1,IF(MATCH(BC1924&\"/\"&BD1924,③読み替え表_省エネ住宅!$G$48:$G$57,0),1,0)),0)","v":1},{"$f":"IFERROR(IF(OR(BE1924=\"未\",BF1924=\"未\"),1,IF(MATCH(BE1924&\"/\"&BF1924,③読み替え表_省エネ住宅!$G$48:$G$57,0),1,0)),0)","v":1},1,1,1,"*"]
[null,1915,null,null,null,null,null,null,null,null,null,null,null,null,null,null,null,null,null,null,null,null,null,null,null,null,null,null,null,null,null,null,null,null,null,null,null,null,null,null,null,null,null,null,null,null,null,null,null,null,null,null,null,null,"未","未","未","未",0,0,0,0,{"$f":"IFERROR(IF(OR(BC1925=\"未\",BD1925=\"未\"),1,IF(MATCH(BC1925&\"/\"&BD1925,③読み替え表_省エネ住宅!$G$48:$G$57,0),1,0)),0)","v":1},{"$f":"IFERROR(IF(OR(BE1925=\"未\",BF1925=\"未\"),1,IF(MATCH(BE1925&\"/\"&BF1925,③読み替え表_省エネ住宅!$G$48:$G$57,0),1,0)),0)","v":1},1,1,1,"*"]
[null,1916,null,null,null,null,null,null,null,null,null,null,null,null,null,null,null,null,null,null,null,null,null,null,null,null,null,null,null,null,null,null,null,null,null,null,null,null,null,null,null,null,null,null,null,null,null,null,null,null,null,null,null,null,"未","未","未","未",0,0,0,0,{"$f":"IFERROR(IF(OR(BC1926=\"未\",BD1926=\"未\"),1,IF(MATCH(BC1926&\"/\"&BD1926,③読み替え表_省エネ住宅!$G$48:$G$57,0),1,0)),0)","v":1},{"$f":"IFERROR(IF(OR(BE1926=\"未\",BF1926=\"未\"),1,IF(MATCH(BE1926&\"/\"&BF1926,③読み替え表_省エネ住宅!$G$48:$G$57,0),1,0)),0)","v":1},1,1,1,"*"]
[null,1917,null,null,null,null,null,null,null,null,null,null,null,null,null,null,null,null,null,null,null,null,null,null,null,null,null,null,null,null,null,null,null,null,null,null,null,null,null,null,null,null,null,null,null,null,null,null,null,null,null,null,null,null,"未","未","未","未",0,0,0,0,{"$f":"IFERROR(IF(OR(BC1927=\"未\",BD1927=\"未\"),1,IF(MATCH(BC1927&\"/\"&BD1927,③読み替え表_省エネ住宅!$G$48:$G$57,0),1,0)),0)","v":1},{"$f":"IFERROR(IF(OR(BE1927=\"未\",BF1927=\"未\"),1,IF(MATCH(BE1927&\"/\"&BF1927,③読み替え表_省エネ住宅!$G$48:$G$57,0),1,0)),0)","v":1},1,1,1,"*"]
[null,1918,null,null,null,null,null,null,null,null,null,null,null,null,null,null,null,null,null,null,null,null,null,null,null,null,null,null,null,null,null,null,null,null,null,null,null,null,null,null,null,null,null,null,null,null,null,null,null,null,null,null,null,null,"未","未","未","未",0,0,0,0,{"$f":"IFERROR(IF(OR(BC1928=\"未\",BD1928=\"未\"),1,IF(MATCH(BC1928&\"/\"&BD1928,③読み替え表_省エネ住宅!$G$48:$G$57,0),1,0)),0)","v":1},{"$f":"IFERROR(IF(OR(BE1928=\"未\",BF1928=\"未\"),1,IF(MATCH(BE1928&\"/\"&BF1928,③読み替え表_省エネ住宅!$G$48:$G$57,0),1,0)),0)","v":1},1,1,1,"*"]
[null,1919,null,null,null,null,null,null,null,null,null,null,null,null,null,null,null,null,null,null,null,null,null,null,null,null,null,null,null,null,null,null,null,null,null,null,null,null,null,null,null,null,null,null,null,null,null,null,null,null,null,null,null,null,"未","未","未","未",0,0,0,0,{"$f":"IFERROR(IF(OR(BC1929=\"未\",BD1929=\"未\"),1,IF(MATCH(BC1929&\"/\"&BD1929,③読み替え表_省エネ住宅!$G$48:$G$57,0),1,0)),0)","v":1},{"$f":"IFERROR(IF(OR(BE1929=\"未\",BF1929=\"未\"),1,IF(MATCH(BE1929&\"/\"&BF1929,③読み替え表_省エネ住宅!$G$48:$G$57,0),1,0)),0)","v":1},1,1,1,"*"]
[null,1920,null,null,null,null,null,null,null,null,null,null,null,null,null,null,null,null,null,null,null,null,null,null,null,null,null,null,null,null,null,null,null,null,null,null,null,null,null,null,null,null,null,null,null,null,null,null,null,null,null,null,null,null,"未","未","未","未",0,0,0,0,{"$f":"IFERROR(IF(OR(BC1930=\"未\",BD1930=\"未\"),1,IF(MATCH(BC1930&\"/\"&BD1930,③読み替え表_省エネ住宅!$G$48:$G$57,0),1,0)),0)","v":1},{"$f":"IFERROR(IF(OR(BE1930=\"未\",BF1930=\"未\"),1,IF(MATCH(BE1930&\"/\"&BF1930,③読み替え表_省エネ住宅!$G$48:$G$57,0),1,0)),0)","v":1},1,1,1,"*"]
[null,1921,null,null,null,null,null,null,null,null,null,null,null,null,null,null,null,null,null,null,null,null,null,null,null,null,null,null,null,null,null,null,null,null,null,null,null,null,null,null,null,null,null,null,null,null,null,null,null,null,null,null,null,null,"未","未","未","未",0,0,0,0,{"$f":"IFERROR(IF(OR(BC1931=\"未\",BD1931=\"未\"),1,IF(MATCH(BC1931&\"/\"&BD1931,③読み替え表_省エネ住宅!$G$48:$G$57,0),1,0)),0)","v":1},{"$f":"IFERROR(IF(OR(BE1931=\"未\",BF1931=\"未\"),1,IF(MATCH(BE1931&\"/\"&BF1931,③読み替え表_省エネ住宅!$G$48:$G$57,0),1,0)),0)","v":1},1,1,1,"*"]
[null,{"$f":"ROW()-10","v":1922},null,null,null,null,null,null,null,null,null,null,null,null,null,null,null,null,null,null,null,null,null,null,null,null,null,null,null,null,null,null,null,null,null,null,null,null,null,null,null,null,null,null,null,null,null,null,null,null,null,null,null,null,{"$f":"IFERROR(IF(SUM($Q1932:$U1932)>1,\"複数回答\",INDEX($Q$10:$U$10,,MATCH(1,$Q1932:$U1932,0))),\"未\")","v":"未"},{"$f":"IFERROR(IF(SUM($AA1932:$AE1932)>1,\"複数回答\",INDEX($AA$10:$AE$10,,MATCH(1,$AA1932:$AE1932,0))),\"未\")","v":"未"},{"$f":"IFERROR(IF(SUM($V1932:$Z1932)>1,\"複数回答\",INDEX($V$10:$Z$10,,MATCH(1,$V1932:$Z1932,0))),\"未\")","v":"未"},{"$f":"IFERROR(IF(SUM($AF1932:$AJ1932)>1,\"複数回答\",INDEX($AF$10:$AJ$10,,MATCH(1,$AF1932:$AJ1932,0))),\"未\")","v":"未"},{"$f":"IF(OR(AA1932=1,AB1932=1,AC1932=1),1,0)","v":0},{"$f":"IF(OR(AF1932=1,AG1932=1,AH1932=1),1,0)","v":0},{"$f":"IF(BC1932=\"複数回答\",1,IF(BD1932=\"複数回答\",1,0))","v":0},{"$f":"IF(BE1932=\"複数回答\",1,IF(BF1932=\"複数回答\",1,0))","v":0},{"$f":"IFERROR(IF(OR(BC1932=\"未\",BD1932=\"未\"),1,IF(MATCH(BC1932&\"/\"&BD1932,③読み替え表_省エネ住宅!$G$48:$G$57,0),1,0)),0)","v":1},{"$f":"IFERROR(IF(OR(BE1932=\"未\",BF1932=\"未\"),1,IF(MATCH(BE1932&\"/\"&BF1932,③読み替え表_省エネ住宅!$G$48:$G$57,0),1,0)),0)","v":1},{"$f":"IF(BI1932+BK1932>0,1,0)","v":1},{"$f":"IF(BJ1932+BL1932>0,1,0)","v":1},{"$f":"IF(SUM(BI1932:BL1932)>0,1,0)","v":1},"*"]
[null,1923,null,null,null,null,null,null,null,null,null,null,null,null,null,null,null,null,null,null,null,null,null,null,null,null,null,null,null,null,null,null,null,null,null,null,null,null,null,null,null,null,null,null,null,null,null,null,null,null,null,null,null,null,"未","未","未","未",0,0,0,0,{"$f":"IFERROR(IF(OR(BC1933=\"未\",BD1933=\"未\"),1,IF(MATCH(BC1933&\"/\"&BD1933,③読み替え表_省エネ住宅!$G$48:$G$57,0),1,0)),0)","v":1},{"$f":"IFERROR(IF(OR(BE1933=\"未\",BF1933=\"未\"),1,IF(MATCH(BE1933&\"/\"&BF1933,③読み替え表_省エネ住宅!$G$48:$G$57,0),1,0)),0)","v":1},1,1,1,"*"]
[null,1924,null,null,null,null,null,null,null,null,null,null,null,null,null,null,null,null,null,null,null,null,null,null,null,null,null,null,null,null,null,null,null,null,null,null,null,null,null,null,null,null,null,null,null,null,null,null,null,null,null,null,null,null,"未","未","未","未",0,0,0,0,{"$f":"IFERROR(IF(OR(BC1934=\"未\",BD1934=\"未\"),1,IF(MATCH(BC1934&\"/\"&BD1934,③読み替え表_省エネ住宅!$G$48:$G$57,0),1,0)),0)","v":1},{"$f":"IFERROR(IF(OR(BE1934=\"未\",BF1934=\"未\"),1,IF(MATCH(BE1934&\"/\"&BF1934,③読み替え表_省エネ住宅!$G$48:$G$57,0),1,0)),0)","v":1},1,1,1,"*"]
[null,1925,null,null,null,null,null,null,null,null,null,null,null,null,null,null,null,null,null,null,null,null,null,null,null,null,null,null,null,null,null,null,null,null,null,null,null,null,null,null,null,null,null,null,null,null,null,null,null,null,null,null,null,null,"未","未","未","未",0,0,0,0,{"$f":"IFERROR(IF(OR(BC1935=\"未\",BD1935=\"未\"),1,IF(MATCH(BC1935&\"/\"&BD1935,③読み替え表_省エネ住宅!$G$48:$G$57,0),1,0)),0)","v":1},{"$f":"IFERROR(IF(OR(BE1935=\"未\",BF1935=\"未\"),1,IF(MATCH(BE1935&\"/\"&BF1935,③読み替え表_省エネ住宅!$G$48:$G$57,0),1,0)),0)","v":1},1,1,1,"*"]
[null,1926,null,null,null,null,null,null,null,null,null,null,null,null,null,null,null,null,null,null,null,null,null,null,null,null,null,null,null,null,null,null,null,null,null,null,null,null,null,null,null,null,null,null,null,null,null,null,null,null,null,null,null,null,"未","未","未","未",0,0,0,0,{"$f":"IFERROR(IF(OR(BC1936=\"未\",BD1936=\"未\"),1,IF(MATCH(BC1936&\"/\"&BD1936,③読み替え表_省エネ住宅!$G$48:$G$57,0),1,0)),0)","v":1},{"$f":"IFERROR(IF(OR(BE1936=\"未\",BF1936=\"未\"),1,IF(MATCH(BE1936&\"/\"&BF1936,③読み替え表_省エネ住宅!$G$48:$G$57,0),1,0)),0)","v":1},1,1,1,"*"]
[null,1927,null,null,null,null,null,null,null,null,null,null,null,null,null,null,null,null,null,null,null,null,null,null,null,null,null,null,null,null,null,null,null,null,null,null,null,null,null,null,null,null,null,null,null,null,null,null,null,null,null,null,null,null,"未","未","未","未",0,0,0,0,{"$f":"IFERROR(IF(OR(BC1937=\"未\",BD1937=\"未\"),1,IF(MATCH(BC1937&\"/\"&BD1937,③読み替え表_省エネ住宅!$G$48:$G$57,0),1,0)),0)","v":1},{"$f":"IFERROR(IF(OR(BE1937=\"未\",BF1937=\"未\"),1,IF(MATCH(BE1937&\"/\"&BF1937,③読み替え表_省エネ住宅!$G$48:$G$57,0),1,0)),0)","v":1},1,1,1,"*"]
[null,1928,null,null,null,null,null,null,null,null,null,null,null,null,null,null,null,null,null,null,null,null,null,null,null,null,null,null,null,null,null,null,null,null,null,null,null,null,null,null,null,null,null,null,null,null,null,null,null,null,null,null,null,null,"未","未","未","未",0,0,0,0,{"$f":"IFERROR(IF(OR(BC1938=\"未\",BD1938=\"未\"),1,IF(MATCH(BC1938&\"/\"&BD1938,③読み替え表_省エネ住宅!$G$48:$G$57,0),1,0)),0)","v":1},{"$f":"IFERROR(IF(OR(BE1938=\"未\",BF1938=\"未\"),1,IF(MATCH(BE1938&\"/\"&BF1938,③読み替え表_省エネ住宅!$G$48:$G$57,0),1,0)),0)","v":1},1,1,1,"*"]
[null,1929,null,null,null,null,null,null,null,null,null,null,null,null,null,null,null,null,null,null,null,null,null,null,null,null,null,null,null,null,null,null,null,null,null,null,null,null,null,null,null,null,null,null,null,null,null,null,null,null,null,null,null,null,"未","未","未","未",0,0,0,0,{"$f":"IFERROR(IF(OR(BC1939=\"未\",BD1939=\"未\"),1,IF(MATCH(BC1939&\"/\"&BD1939,③読み替え表_省エネ住宅!$G$48:$G$57,0),1,0)),0)","v":1},{"$f":"IFERROR(IF(OR(BE1939=\"未\",BF1939=\"未\"),1,IF(MATCH(BE1939&\"/\"&BF1939,③読み替え表_省エネ住宅!$G$48:$G$57,0),1,0)),0)","v":1},1,1,1,"*"]
[null,1930,null,null,null,null,null,null,null,null,null,null,null,null,null,null,null,null,null,null,null,null,null,null,null,null,null,null,null,null,null,null,null,null,null,null,null,null,null,null,null,null,null,null,null,null,null,null,null,null,null,null,null,null,"未","未","未","未",0,0,0,0,{"$f":"IFERROR(IF(OR(BC1940=\"未\",BD1940=\"未\"),1,IF(MATCH(BC1940&\"/\"&BD1940,③読み替え表_省エネ住宅!$G$48:$G$57,0),1,0)),0)","v":1},{"$f":"IFERROR(IF(OR(BE1940=\"未\",BF1940=\"未\"),1,IF(MATCH(BE1940&\"/\"&BF1940,③読み替え表_省エネ住宅!$G$48:$G$57,0),1,0)),0)","v":1},1,1,1,"*"]
[null,1931,null,null,null,null,null,null,null,null,null,null,null,null,null,null,null,null,null,null,null,null,null,null,null,null,null,null,null,null,null,null,null,null,null,null,null,null,null,null,null,null,null,null,null,null,null,null,null,null,null,null,null,null,"未","未","未","未",0,0,0,0,{"$f":"IFERROR(IF(OR(BC1941=\"未\",BD1941=\"未\"),1,IF(MATCH(BC1941&\"/\"&BD1941,③読み替え表_省エネ住宅!$G$48:$G$57,0),1,0)),0)","v":1},{"$f":"IFERROR(IF(OR(BE1941=\"未\",BF1941=\"未\"),1,IF(MATCH(BE1941&\"/\"&BF1941,③読み替え表_省エネ住宅!$G$48:$G$57,0),1,0)),0)","v":1},1,1,1,"*"]
[null,1932,null,null,null,null,null,null,null,null,null,null,null,null,null,null,null,null,null,null,null,null,null,null,null,null,null,null,null,null,null,null,null,null,null,null,null,null,null,null,null,null,null,null,null,null,null,null,null,null,null,null,null,null,"未","未","未","未",0,0,0,0,{"$f":"IFERROR(IF(OR(BC1942=\"未\",BD1942=\"未\"),1,IF(MATCH(BC1942&\"/\"&BD1942,③読み替え表_省エネ住宅!$G$48:$G$57,0),1,0)),0)","v":1},{"$f":"IFERROR(IF(OR(BE1942=\"未\",BF1942=\"未\"),1,IF(MATCH(BE1942&\"/\"&BF1942,③読み替え表_省エネ住宅!$G$48:$G$57,0),1,0)),0)","v":1},1,1,1,"*"]
[null,1933,null,null,null,null,null,null,null,null,null,null,null,null,null,null,null,null,null,null,null,null,null,null,null,null,null,null,null,null,null,null,null,null,null,null,null,null,null,null,null,null,null,null,null,null,null,null,null,null,null,null,null,null,"未","未","未","未",0,0,0,0,{"$f":"IFERROR(IF(OR(BC1943=\"未\",BD1943=\"未\"),1,IF(MATCH(BC1943&\"/\"&BD1943,③読み替え表_省エネ住宅!$G$48:$G$57,0),1,0)),0)","v":1},{"$f":"IFERROR(IF(OR(BE1943=\"未\",BF1943=\"未\"),1,IF(MATCH(BE1943&\"/\"&BF1943,③読み替え表_省エネ住宅!$G$48:$G$57,0),1,0)),0)","v":1},1,1,1,"*"]
[null,1934,null,null,null,null,null,null,null,null,null,null,null,null,null,null,null,null,null,null,null,null,null,null,null,null,null,null,null,null,null,null,null,null,null,null,null,null,null,null,null,null,null,null,null,null,null,null,null,null,null,null,null,null,"未","未","未","未",0,0,0,0,{"$f":"IFERROR(IF(OR(BC1944=\"未\",BD1944=\"未\"),1,IF(MATCH(BC1944&\"/\"&BD1944,③読み替え表_省エネ住宅!$G$48:$G$57,0),1,0)),0)","v":1},{"$f":"IFERROR(IF(OR(BE1944=\"未\",BF1944=\"未\"),1,IF(MATCH(BE1944&\"/\"&BF1944,③読み替え表_省エネ住宅!$G$48:$G$57,0),1,0)),0)","v":1},1,1,1,"*"]
[null,1935,null,null,null,null,null,null,null,null,null,null,null,null,null,null,null,null,null,null,null,null,null,null,null,null,null,null,null,null,null,null,null,null,null,null,null,null,null,null,null,null,null,null,null,null,null,null,null,null,null,null,null,null,"未","未","未","未",0,0,0,0,{"$f":"IFERROR(IF(OR(BC1945=\"未\",BD1945=\"未\"),1,IF(MATCH(BC1945&\"/\"&BD1945,③読み替え表_省エネ住宅!$G$48:$G$57,0),1,0)),0)","v":1},{"$f":"IFERROR(IF(OR(BE1945=\"未\",BF1945=\"未\"),1,IF(MATCH(BE1945&\"/\"&BF1945,③読み替え表_省エネ住宅!$G$48:$G$57,0),1,0)),0)","v":1},1,1,1,"*"]
[null,1936,null,null,null,null,null,null,null,null,null,null,null,null,null,null,null,null,null,null,null,null,null,null,null,null,null,null,null,null,null,null,null,null,null,null,null,null,null,null,null,null,null,null,null,null,null,null,null,null,null,null,null,null,"未","未","未","未",0,0,0,0,{"$f":"IFERROR(IF(OR(BC1946=\"未\",BD1946=\"未\"),1,IF(MATCH(BC1946&\"/\"&BD1946,③読み替え表_省エネ住宅!$G$48:$G$57,0),1,0)),0)","v":1},{"$f":"IFERROR(IF(OR(BE1946=\"未\",BF1946=\"未\"),1,IF(MATCH(BE1946&\"/\"&BF1946,③読み替え表_省エネ住宅!$G$48:$G$57,0),1,0)),0)","v":1},1,1,1,"*"]
[null,1937,null,null,null,null,null,null,null,null,null,null,null,null,null,null,null,null,null,null,null,null,null,null,null,null,null,null,null,null,null,null,null,null,null,null,null,null,null,null,null,null,null,null,null,null,null,null,null,null,null,null,null,null,"未","未","未","未",0,0,0,0,{"$f":"IFERROR(IF(OR(BC1947=\"未\",BD1947=\"未\"),1,IF(MATCH(BC1947&\"/\"&BD1947,③読み替え表_省エネ住宅!$G$48:$G$57,0),1,0)),0)","v":1},{"$f":"IFERROR(IF(OR(BE1947=\"未\",BF1947=\"未\"),1,IF(MATCH(BE1947&\"/\"&BF1947,③読み替え表_省エネ住宅!$G$48:$G$57,0),1,0)),0)","v":1},1,1,1,"*"]
[null,1938,null,null,null,null,null,null,null,null,null,null,null,null,null,null,null,null,null,null,null,null,null,null,null,null,null,null,null,null,null,null,null,null,null,null,null,null,null,null,null,null,null,null,null,null,null,null,null,null,null,null,null,null,"未","未","未","未",0,0,0,0,{"$f":"IFERROR(IF(OR(BC1948=\"未\",BD1948=\"未\"),1,IF(MATCH(BC1948&\"/\"&BD1948,③読み替え表_省エネ住宅!$G$48:$G$57,0),1,0)),0)","v":1},{"$f":"IFERROR(IF(OR(BE1948=\"未\",BF1948=\"未\"),1,IF(MATCH(BE1948&\"/\"&BF1948,③読み替え表_省エネ住宅!$G$48:$G$57,0),1,0)),0)","v":1},1,1,1,"*"]
[null,1939,null,null,null,null,null,null,null,null,null,null,null,null,null,null,null,null,null,null,null,null,null,null,null,null,null,null,null,null,null,null,null,null,null,null,null,null,null,null,null,null,null,null,null,null,null,null,null,null,null,null,null,null,"未","未","未","未",0,0,0,0,{"$f":"IFERROR(IF(OR(BC1949=\"未\",BD1949=\"未\"),1,IF(MATCH(BC1949&\"/\"&BD1949,③読み替え表_省エネ住宅!$G$48:$G$57,0),1,0)),0)","v":1},{"$f":"IFERROR(IF(OR(BE1949=\"未\",BF1949=\"未\"),1,IF(MATCH(BE1949&\"/\"&BF1949,③読み替え表_省エネ住宅!$G$48:$G$57,0),1,0)),0)","v":1},1,1,1,"*"]
[null,1940,null,null,null,null,null,null,null,null,null,null,null,null,null,null,null,null,null,null,null,null,null,null,null,null,null,null,null,null,null,null,null,null,null,null,null,null,null,null,null,null,null,null,null,null,null,null,null,null,null,null,null,null,"未","未","未","未",0,0,0,0,{"$f":"IFERROR(IF(OR(BC1950=\"未\",BD1950=\"未\"),1,IF(MATCH(BC1950&\"/\"&BD1950,③読み替え表_省エネ住宅!$G$48:$G$57,0),1,0)),0)","v":1},{"$f":"IFERROR(IF(OR(BE1950=\"未\",BF1950=\"未\"),1,IF(MATCH(BE1950&\"/\"&BF1950,③読み替え表_省エネ住宅!$G$48:$G$57,0),1,0)),0)","v":1},1,1,1,"*"]
[null,1941,null,null,null,null,null,null,null,null,null,null,null,null,null,null,null,null,null,null,null,null,null,null,null,null,null,null,null,null,null,null,null,null,null,null,null,null,null,null,null,null,null,null,null,null,null,null,null,null,null,null,null,null,"未","未","未","未",0,0,0,0,{"$f":"IFERROR(IF(OR(BC1951=\"未\",BD1951=\"未\"),1,IF(MATCH(BC1951&\"/\"&BD1951,③読み替え表_省エネ住宅!$G$48:$G$57,0),1,0)),0)","v":1},{"$f":"IFERROR(IF(OR(BE1951=\"未\",BF1951=\"未\"),1,IF(MATCH(BE1951&\"/\"&BF1951,③読み替え表_省エネ住宅!$G$48:$G$57,0),1,0)),0)","v":1},1,1,1,"*"]
[null,1942,null,null,null,null,null,null,null,null,null,null,null,null,null,null,null,null,null,null,null,null,null,null,null,null,null,null,null,null,null,null,null,null,null,null,null,null,null,null,null,null,null,null,null,null,null,null,null,null,null,null,null,null,"未","未","未","未",0,0,0,0,{"$f":"IFERROR(IF(OR(BC1952=\"未\",BD1952=\"未\"),1,IF(MATCH(BC1952&\"/\"&BD1952,③読み替え表_省エネ住宅!$G$48:$G$57,0),1,0)),0)","v":1},{"$f":"IFERROR(IF(OR(BE1952=\"未\",BF1952=\"未\"),1,IF(MATCH(BE1952&\"/\"&BF1952,③読み替え表_省エネ住宅!$G$48:$G$57,0),1,0)),0)","v":1},1,1,1,"*"]
[null,1943,null,null,null,null,null,null,null,null,null,null,null,null,null,null,null,null,null,null,null,null,null,null,null,null,null,null,null,null,null,null,null,null,null,null,null,null,null,null,null,null,null,null,null,null,null,null,null,null,null,null,null,null,"未","未","未","未",0,0,0,0,{"$f":"IFERROR(IF(OR(BC1953=\"未\",BD1953=\"未\"),1,IF(MATCH(BC1953&\"/\"&BD1953,③読み替え表_省エネ住宅!$G$48:$G$57,0),1,0)),0)","v":1},{"$f":"IFERROR(IF(OR(BE1953=\"未\",BF1953=\"未\"),1,IF(MATCH(BE1953&\"/\"&BF1953,③読み替え表_省エネ住宅!$G$48:$G$57,0),1,0)),0)","v":1},1,1,1,"*"]
[null,1944,null,null,null,null,null,null,null,null,null,null,null,null,null,null,null,null,null,null,null,null,null,null,null,null,null,null,null,null,null,null,null,null,null,null,null,null,null,null,null,null,null,null,null,null,null,null,null,null,null,null,null,null,"未","未","未","未",0,0,0,0,{"$f":"IFERROR(IF(OR(BC1954=\"未\",BD1954=\"未\"),1,IF(MATCH(BC1954&\"/\"&BD1954,③読み替え表_省エネ住宅!$G$48:$G$57,0),1,0)),0)","v":1},{"$f":"IFERROR(IF(OR(BE1954=\"未\",BF1954=\"未\"),1,IF(MATCH(BE1954&\"/\"&BF1954,③読み替え表_省エネ住宅!$G$48:$G$57,0),1,0)),0)","v":1},1,1,1,"*"]
[null,1945,null,null,null,null,null,null,null,null,null,null,null,null,null,null,null,null,null,null,null,null,null,null,null,null,null,null,null,null,null,null,null,null,null,null,null,null,null,null,null,null,null,null,null,null,null,null,null,null,null,null,null,null,"未","未","未","未",0,0,0,0,{"$f":"IFERROR(IF(OR(BC1955=\"未\",BD1955=\"未\"),1,IF(MATCH(BC1955&\"/\"&BD1955,③読み替え表_省エネ住宅!$G$48:$G$57,0),1,0)),0)","v":1},{"$f":"IFERROR(IF(OR(BE1955=\"未\",BF1955=\"未\"),1,IF(MATCH(BE1955&\"/\"&BF1955,③読み替え表_省エネ住宅!$G$48:$G$57,0),1,0)),0)","v":1},1,1,1,"*"]
[null,1946,null,null,null,null,null,null,null,null,null,null,null,null,null,null,null,null,null,null,null,null,null,null,null,null,null,null,null,null,null,null,null,null,null,null,null,null,null,null,null,null,null,null,null,null,null,null,null,null,null,null,null,null,"未","未","未","未",0,0,0,0,{"$f":"IFERROR(IF(OR(BC1956=\"未\",BD1956=\"未\"),1,IF(MATCH(BC1956&\"/\"&BD1956,③読み替え表_省エネ住宅!$G$48:$G$57,0),1,0)),0)","v":1},{"$f":"IFERROR(IF(OR(BE1956=\"未\",BF1956=\"未\"),1,IF(MATCH(BE1956&\"/\"&BF1956,③読み替え表_省エネ住宅!$G$48:$G$57,0),1,0)),0)","v":1},1,1,1,"*"]
[null,1947,null,null,null,null,null,null,null,null,null,null,null,null,null,null,null,null,null,null,null,null,null,null,null,null,null,null,null,null,null,null,null,null,null,null,null,null,null,null,null,null,null,null,null,null,null,null,null,null,null,null,null,null,"未","未","未","未",0,0,0,0,{"$f":"IFERROR(IF(OR(BC1957=\"未\",BD1957=\"未\"),1,IF(MATCH(BC1957&\"/\"&BD1957,③読み替え表_省エネ住宅!$G$48:$G$57,0),1,0)),0)","v":1},{"$f":"IFERROR(IF(OR(BE1957=\"未\",BF1957=\"未\"),1,IF(MATCH(BE1957&\"/\"&BF1957,③読み替え表_省エネ住宅!$G$48:$G$57,0),1,0)),0)","v":1},1,1,1,"*"]
[null,1948,null,null,null,null,null,null,null,null,null,null,null,null,null,null,null,null,null,null,null,null,null,null,null,null,null,null,null,null,null,null,null,null,null,null,null,null,null,null,null,null,null,null,null,null,null,null,null,null,null,null,null,null,"未","未","未","未",0,0,0,0,{"$f":"IFERROR(IF(OR(BC1958=\"未\",BD1958=\"未\"),1,IF(MATCH(BC1958&\"/\"&BD1958,③読み替え表_省エネ住宅!$G$48:$G$57,0),1,0)),0)","v":1},{"$f":"IFERROR(IF(OR(BE1958=\"未\",BF1958=\"未\"),1,IF(MATCH(BE1958&\"/\"&BF1958,③読み替え表_省エネ住宅!$G$48:$G$57,0),1,0)),0)","v":1},1,1,1,"*"]
[null,1949,null,null,null,null,null,null,null,null,null,null,null,null,null,null,null,null,null,null,null,null,null,null,null,null,null,null,null,null,null,null,null,null,null,null,null,null,null,null,null,null,null,null,null,null,null,null,null,null,null,null,null,null,"未","未","未","未",0,0,0,0,{"$f":"IFERROR(IF(OR(BC1959=\"未\",BD1959=\"未\"),1,IF(MATCH(BC1959&\"/\"&BD1959,③読み替え表_省エネ住宅!$G$48:$G$57,0),1,0)),0)","v":1},{"$f":"IFERROR(IF(OR(BE1959=\"未\",BF1959=\"未\"),1,IF(MATCH(BE1959&\"/\"&BF1959,③読み替え表_省エネ住宅!$G$48:$G$57,0),1,0)),0)","v":1},1,1,1,"*"]
[null,1950,null,null,null,null,null,null,null,null,null,null,null,null,null,null,null,null,null,null,null,null,null,null,null,null,null,null,null,null,null,null,null,null,null,null,null,null,null,null,null,null,null,null,null,null,null,null,null,null,null,null,null,null,"未","未","未","未",0,0,0,0,{"$f":"IFERROR(IF(OR(BC1960=\"未\",BD1960=\"未\"),1,IF(MATCH(BC1960&\"/\"&BD1960,③読み替え表_省エネ住宅!$G$48:$G$57,0),1,0)),0)","v":1},{"$f":"IFERROR(IF(OR(BE1960=\"未\",BF1960=\"未\"),1,IF(MATCH(BE1960&\"/\"&BF1960,③読み替え表_省エネ住宅!$G$48:$G$57,0),1,0)),0)","v":1},1,1,1,"*"]
[null,1951,null,null,null,null,null,null,null,null,null,null,null,null,null,null,null,null,null,null,null,null,null,null,null,null,null,null,null,null,null,null,null,null,null,null,null,null,null,null,null,null,null,null,null,null,null,null,null,null,null,null,null,null,"未","未","未","未",0,0,0,0,{"$f":"IFERROR(IF(OR(BC1961=\"未\",BD1961=\"未\"),1,IF(MATCH(BC1961&\"/\"&BD1961,③読み替え表_省エネ住宅!$G$48:$G$57,0),1,0)),0)","v":1},{"$f":"IFERROR(IF(OR(BE1961=\"未\",BF1961=\"未\"),1,IF(MATCH(BE1961&\"/\"&BF1961,③読み替え表_省エネ住宅!$G$48:$G$57,0),1,0)),0)","v":1},1,1,1,"*"]
[null,1952,null,null,null,null,null,null,null,null,null,null,null,null,null,null,null,null,null,null,null,null,null,null,null,null,null,null,null,null,null,null,null,null,null,null,null,null,null,null,null,null,null,null,null,null,null,null,null,null,null,null,null,null,"未","未","未","未",0,0,0,0,{"$f":"IFERROR(IF(OR(BC1962=\"未\",BD1962=\"未\"),1,IF(MATCH(BC1962&\"/\"&BD1962,③読み替え表_省エネ住宅!$G$48:$G$57,0),1,0)),0)","v":1},{"$f":"IFERROR(IF(OR(BE1962=\"未\",BF1962=\"未\"),1,IF(MATCH(BE1962&\"/\"&BF1962,③読み替え表_省エネ住宅!$G$48:$G$57,0),1,0)),0)","v":1},1,1,1,"*"]
[null,1953,null,null,null,null,null,null,null,null,null,null,null,null,null,null,null,null,null,null,null,null,null,null,null,null,null,null,null,null,null,null,null,null,null,null,null,null,null,null,null,null,null,null,null,null,null,null,null,null,null,null,null,null,"未","未","未","未",0,0,0,0,{"$f":"IFERROR(IF(OR(BC1963=\"未\",BD1963=\"未\"),1,IF(MATCH(BC1963&\"/\"&BD1963,③読み替え表_省エネ住宅!$G$48:$G$57,0),1,0)),0)","v":1},{"$f":"IFERROR(IF(OR(BE1963=\"未\",BF1963=\"未\"),1,IF(MATCH(BE1963&\"/\"&BF1963,③読み替え表_省エネ住宅!$G$48:$G$57,0),1,0)),0)","v":1},1,1,1,"*"]
[null,1954,null,null,null,null,null,null,null,null,null,null,null,null,null,null,null,null,null,null,null,null,null,null,null,null,null,null,null,null,null,null,null,null,null,null,null,null,null,null,null,null,null,null,null,null,null,null,null,null,null,null,null,null,"未","未","未","未",0,0,0,0,{"$f":"IFERROR(IF(OR(BC1964=\"未\",BD1964=\"未\"),1,IF(MATCH(BC1964&\"/\"&BD1964,③読み替え表_省エネ住宅!$G$48:$G$57,0),1,0)),0)","v":1},{"$f":"IFERROR(IF(OR(BE1964=\"未\",BF1964=\"未\"),1,IF(MATCH(BE1964&\"/\"&BF1964,③読み替え表_省エネ住宅!$G$48:$G$57,0),1,0)),0)","v":1},1,1,1,"*"]
[null,1955,null,null,null,null,null,null,null,null,null,null,null,null,null,null,null,null,null,null,null,null,null,null,null,null,null,null,null,null,null,null,null,null,null,null,null,null,null,null,null,null,null,null,null,null,null,null,null,null,null,null,null,null,"未","未","未","未",0,0,0,0,{"$f":"IFERROR(IF(OR(BC1965=\"未\",BD1965=\"未\"),1,IF(MATCH(BC1965&\"/\"&BD1965,③読み替え表_省エネ住宅!$G$48:$G$57,0),1,0)),0)","v":1},{"$f":"IFERROR(IF(OR(BE1965=\"未\",BF1965=\"未\"),1,IF(MATCH(BE1965&\"/\"&BF1965,③読み替え表_省エネ住宅!$G$48:$G$57,0),1,0)),0)","v":1},1,1,1,"*"]
[null,1956,null,null,null,null,null,null,null,null,null,null,null,null,null,null,null,null,null,null,null,null,null,null,null,null,null,null,null,null,null,null,null,null,null,null,null,null,null,null,null,null,null,null,null,null,null,null,null,null,null,null,null,null,"未","未","未","未",0,0,0,0,{"$f":"IFERROR(IF(OR(BC1966=\"未\",BD1966=\"未\"),1,IF(MATCH(BC1966&\"/\"&BD1966,③読み替え表_省エネ住宅!$G$48:$G$57,0),1,0)),0)","v":1},{"$f":"IFERROR(IF(OR(BE1966=\"未\",BF1966=\"未\"),1,IF(MATCH(BE1966&\"/\"&BF1966,③読み替え表_省エネ住宅!$G$48:$G$57,0),1,0)),0)","v":1},1,1,1,"*"]
[null,1957,null,null,null,null,null,null,null,null,null,null,null,null,null,null,null,null,null,null,null,null,null,null,null,null,null,null,null,null,null,null,null,null,null,null,null,null,null,null,null,null,null,null,null,null,null,null,null,null,null,null,null,null,"未","未","未","未",0,0,0,0,{"$f":"IFERROR(IF(OR(BC1967=\"未\",BD1967=\"未\"),1,IF(MATCH(BC1967&\"/\"&BD1967,③読み替え表_省エネ住宅!$G$48:$G$57,0),1,0)),0)","v":1},{"$f":"IFERROR(IF(OR(BE1967=\"未\",BF1967=\"未\"),1,IF(MATCH(BE1967&\"/\"&BF1967,③読み替え表_省エネ住宅!$G$48:$G$57,0),1,0)),0)","v":1},1,1,1,"*"]
[null,1958,null,null,null,null,null,null,null,null,null,null,null,null,null,null,null,null,null,null,null,null,null,null,null,null,null,null,null,null,null,null,null,null,null,null,null,null,null,null,null,null,null,null,null,null,null,null,null,null,null,null,null,null,"未","未","未","未",0,0,0,0,{"$f":"IFERROR(IF(OR(BC1968=\"未\",BD1968=\"未\"),1,IF(MATCH(BC1968&\"/\"&BD1968,③読み替え表_省エネ住宅!$G$48:$G$57,0),1,0)),0)","v":1},{"$f":"IFERROR(IF(OR(BE1968=\"未\",BF1968=\"未\"),1,IF(MATCH(BE1968&\"/\"&BF1968,③読み替え表_省エネ住宅!$G$48:$G$57,0),1,0)),0)","v":1},1,1,1,"*"]
[null,1959,null,null,null,null,null,null,null,null,null,null,null,null,null,null,null,null,null,null,null,null,null,null,null,null,null,null,null,null,null,null,null,null,null,null,null,null,null,null,null,null,null,null,null,null,null,null,null,null,null,null,null,null,"未","未","未","未",0,0,0,0,{"$f":"IFERROR(IF(OR(BC1969=\"未\",BD1969=\"未\"),1,IF(MATCH(BC1969&\"/\"&BD1969,③読み替え表_省エネ住宅!$G$48:$G$57,0),1,0)),0)","v":1},{"$f":"IFERROR(IF(OR(BE1969=\"未\",BF1969=\"未\"),1,IF(MATCH(BE1969&\"/\"&BF1969,③読み替え表_省エネ住宅!$G$48:$G$57,0),1,0)),0)","v":1},1,1,1,"*"]
[null,1960,null,null,null,null,null,null,null,null,null,null,null,null,null,null,null,null,null,null,null,null,null,null,null,null,null,null,null,null,null,null,null,null,null,null,null,null,null,null,null,null,null,null,null,null,null,null,null,null,null,null,null,null,"未","未","未","未",0,0,0,0,{"$f":"IFERROR(IF(OR(BC1970=\"未\",BD1970=\"未\"),1,IF(MATCH(BC1970&\"/\"&BD1970,③読み替え表_省エネ住宅!$G$48:$G$57,0),1,0)),0)","v":1},{"$f":"IFERROR(IF(OR(BE1970=\"未\",BF1970=\"未\"),1,IF(MATCH(BE1970&\"/\"&BF1970,③読み替え表_省エネ住宅!$G$48:$G$57,0),1,0)),0)","v":1},1,1,1,"*"]
[null,1961,null,null,null,null,null,null,null,null,null,null,null,null,null,null,null,null,null,null,null,null,null,null,null,null,null,null,null,null,null,null,null,null,null,null,null,null,null,null,null,null,null,null,null,null,null,null,null,null,null,null,null,null,"未","未","未","未",0,0,0,0,{"$f":"IFERROR(IF(OR(BC1971=\"未\",BD1971=\"未\"),1,IF(MATCH(BC1971&\"/\"&BD1971,③読み替え表_省エネ住宅!$G$48:$G$57,0),1,0)),0)","v":1},{"$f":"IFERROR(IF(OR(BE1971=\"未\",BF1971=\"未\"),1,IF(MATCH(BE1971&\"/\"&BF1971,③読み替え表_省エネ住宅!$G$48:$G$57,0),1,0)),0)","v":1},1,1,1,"*"]
[null,1962,null,null,null,null,null,null,null,null,null,null,null,null,null,null,null,null,null,null,null,null,null,null,null,null,null,null,null,null,null,null,null,null,null,null,null,null,null,null,null,null,null,null,null,null,null,null,null,null,null,null,null,null,"未","未","未","未",0,0,0,0,{"$f":"IFERROR(IF(OR(BC1972=\"未\",BD1972=\"未\"),1,IF(MATCH(BC1972&\"/\"&BD1972,③読み替え表_省エネ住宅!$G$48:$G$57,0),1,0)),0)","v":1},{"$f":"IFERROR(IF(OR(BE1972=\"未\",BF1972=\"未\"),1,IF(MATCH(BE1972&\"/\"&BF1972,③読み替え表_省エネ住宅!$G$48:$G$57,0),1,0)),0)","v":1},1,1,1,"*"]
[null,1963,null,null,null,null,null,null,null,null,null,null,null,null,null,null,null,null,null,null,null,null,null,null,null,null,null,null,null,null,null,null,null,null,null,null,null,null,null,null,null,null,null,null,null,null,null,null,null,null,null,null,null,null,"未","未","未","未",0,0,0,0,{"$f":"IFERROR(IF(OR(BC1973=\"未\",BD1973=\"未\"),1,IF(MATCH(BC1973&\"/\"&BD1973,③読み替え表_省エネ住宅!$G$48:$G$57,0),1,0)),0)","v":1},{"$f":"IFERROR(IF(OR(BE1973=\"未\",BF1973=\"未\"),1,IF(MATCH(BE1973&\"/\"&BF1973,③読み替え表_省エネ住宅!$G$48:$G$57,0),1,0)),0)","v":1},1,1,1,"*"]
[null,1964,null,null,null,null,null,null,null,null,null,null,null,null,null,null,null,null,null,null,null,null,null,null,null,null,null,null,null,null,null,null,null,null,null,null,null,null,null,null,null,null,null,null,null,null,null,null,null,null,null,null,null,null,"未","未","未","未",0,0,0,0,{"$f":"IFERROR(IF(OR(BC1974=\"未\",BD1974=\"未\"),1,IF(MATCH(BC1974&\"/\"&BD1974,③読み替え表_省エネ住宅!$G$48:$G$57,0),1,0)),0)","v":1},{"$f":"IFERROR(IF(OR(BE1974=\"未\",BF1974=\"未\"),1,IF(MATCH(BE1974&\"/\"&BF1974,③読み替え表_省エネ住宅!$G$48:$G$57,0),1,0)),0)","v":1},1,1,1,"*"]
[null,1965,null,null,null,null,null,null,null,null,null,null,null,null,null,null,null,null,null,null,null,null,null,null,null,null,null,null,null,null,null,null,null,null,null,null,null,null,null,null,null,null,null,null,null,null,null,null,null,null,null,null,null,null,"未","未","未","未",0,0,0,0,{"$f":"IFERROR(IF(OR(BC1975=\"未\",BD1975=\"未\"),1,IF(MATCH(BC1975&\"/\"&BD1975,③読み替え表_省エネ住宅!$G$48:$G$57,0),1,0)),0)","v":1},{"$f":"IFERROR(IF(OR(BE1975=\"未\",BF1975=\"未\"),1,IF(MATCH(BE1975&\"/\"&BF1975,③読み替え表_省エネ住宅!$G$48:$G$57,0),1,0)),0)","v":1},1,1,1,"*"]
[null,1966,null,null,null,null,null,null,null,null,null,null,null,null,null,null,null,null,null,null,null,null,null,null,null,null,null,null,null,null,null,null,null,null,null,null,null,null,null,null,null,null,null,null,null,null,null,null,null,null,null,null,null,null,"未","未","未","未",0,0,0,0,{"$f":"IFERROR(IF(OR(BC1976=\"未\",BD1976=\"未\"),1,IF(MATCH(BC1976&\"/\"&BD1976,③読み替え表_省エネ住宅!$G$48:$G$57,0),1,0)),0)","v":1},{"$f":"IFERROR(IF(OR(BE1976=\"未\",BF1976=\"未\"),1,IF(MATCH(BE1976&\"/\"&BF1976,③読み替え表_省エネ住宅!$G$48:$G$57,0),1,0)),0)","v":1},1,1,1,"*"]
[null,1967,null,null,null,null,null,null,null,null,null,null,null,null,null,null,null,null,null,null,null,null,null,null,null,null,null,null,null,null,null,null,null,null,null,null,null,null,null,null,null,null,null,null,null,null,null,null,null,null,null,null,null,null,"未","未","未","未",0,0,0,0,{"$f":"IFERROR(IF(OR(BC1977=\"未\",BD1977=\"未\"),1,IF(MATCH(BC1977&\"/\"&BD1977,③読み替え表_省エネ住宅!$G$48:$G$57,0),1,0)),0)","v":1},{"$f":"IFERROR(IF(OR(BE1977=\"未\",BF1977=\"未\"),1,IF(MATCH(BE1977&\"/\"&BF1977,③読み替え表_省エネ住宅!$G$48:$G$57,0),1,0)),0)","v":1},1,1,1,"*"]
[null,1968,null,null,null,null,null,null,null,null,null,null,null,null,null,null,null,null,null,null,null,null,null,null,null,null,null,null,null,null,null,null,null,null,null,null,null,null,null,null,null,null,null,null,null,null,null,null,null,null,null,null,null,null,"未","未","未","未",0,0,0,0,{"$f":"IFERROR(IF(OR(BC1978=\"未\",BD1978=\"未\"),1,IF(MATCH(BC1978&\"/\"&BD1978,③読み替え表_省エネ住宅!$G$48:$G$57,0),1,0)),0)","v":1},{"$f":"IFERROR(IF(OR(BE1978=\"未\",BF1978=\"未\"),1,IF(MATCH(BE1978&\"/\"&BF1978,③読み替え表_省エネ住宅!$G$48:$G$57,0),1,0)),0)","v":1},1,1,1,"*"]
[null,1969,null,null,null,null,null,null,null,null,null,null,null,null,null,null,null,null,null,null,null,null,null,null,null,null,null,null,null,null,null,null,null,null,null,null,null,null,null,null,null,null,null,null,null,null,null,null,null,null,null,null,null,null,"未","未","未","未",0,0,0,0,{"$f":"IFERROR(IF(OR(BC1979=\"未\",BD1979=\"未\"),1,IF(MATCH(BC1979&\"/\"&BD1979,③読み替え表_省エネ住宅!$G$48:$G$57,0),1,0)),0)","v":1},{"$f":"IFERROR(IF(OR(BE1979=\"未\",BF1979=\"未\"),1,IF(MATCH(BE1979&\"/\"&BF1979,③読み替え表_省エネ住宅!$G$48:$G$57,0),1,0)),0)","v":1},1,1,1,"*"]
[null,1970,null,null,null,null,null,null,null,null,null,null,null,null,null,null,null,null,null,null,null,null,null,null,null,null,null,null,null,null,null,null,null,null,null,null,null,null,null,null,null,null,null,null,null,null,null,null,null,null,null,null,null,null,"未","未","未","未",0,0,0,0,{"$f":"IFERROR(IF(OR(BC1980=\"未\",BD1980=\"未\"),1,IF(MATCH(BC1980&\"/\"&BD1980,③読み替え表_省エネ住宅!$G$48:$G$57,0),1,0)),0)","v":1},{"$f":"IFERROR(IF(OR(BE1980=\"未\",BF1980=\"未\"),1,IF(MATCH(BE1980&\"/\"&BF1980,③読み替え表_省エネ住宅!$G$48:$G$57,0),1,0)),0)","v":1},1,1,1,"*"]
[null,1971,null,null,null,null,null,null,null,null,null,null,null,null,null,null,null,null,null,null,null,null,null,null,null,null,null,null,null,null,null,null,null,null,null,null,null,null,null,null,null,null,null,null,null,null,null,null,null,null,null,null,null,null,"未","未","未","未",0,0,0,0,{"$f":"IFERROR(IF(OR(BC1981=\"未\",BD1981=\"未\"),1,IF(MATCH(BC1981&\"/\"&BD1981,③読み替え表_省エネ住宅!$G$48:$G$57,0),1,0)),0)","v":1},{"$f":"IFERROR(IF(OR(BE1981=\"未\",BF1981=\"未\"),1,IF(MATCH(BE1981&\"/\"&BF1981,③読み替え表_省エネ住宅!$G$48:$G$57,0),1,0)),0)","v":1},1,1,1,"*"]
[null,1972,null,null,null,null,null,null,null,null,null,null,null,null,null,null,null,null,null,null,null,null,null,null,null,null,null,null,null,null,null,null,null,null,null,null,null,null,null,null,null,null,null,null,null,null,null,null,null,null,null,null,null,null,"未","未","未","未",0,0,0,0,{"$f":"IFERROR(IF(OR(BC1982=\"未\",BD1982=\"未\"),1,IF(MATCH(BC1982&\"/\"&BD1982,③読み替え表_省エネ住宅!$G$48:$G$57,0),1,0)),0)","v":1},{"$f":"IFERROR(IF(OR(BE1982=\"未\",BF1982=\"未\"),1,IF(MATCH(BE1982&\"/\"&BF1982,③読み替え表_省エネ住宅!$G$48:$G$57,0),1,0)),0)","v":1},1,1,1,"*"]
[null,1973,null,null,null,null,null,null,null,null,null,null,null,null,null,null,null,null,null,null,null,null,null,null,null,null,null,null,null,null,null,null,null,null,null,null,null,null,null,null,null,null,null,null,null,null,null,null,null,null,null,null,null,null,"未","未","未","未",0,0,0,0,{"$f":"IFERROR(IF(OR(BC1983=\"未\",BD1983=\"未\"),1,IF(MATCH(BC1983&\"/\"&BD1983,③読み替え表_省エネ住宅!$G$48:$G$57,0),1,0)),0)","v":1},{"$f":"IFERROR(IF(OR(BE1983=\"未\",BF1983=\"未\"),1,IF(MATCH(BE1983&\"/\"&BF1983,③読み替え表_省エネ住宅!$G$48:$G$57,0),1,0)),0)","v":1},1,1,1,"*"]
[null,1974,null,null,null,null,null,null,null,null,null,null,null,null,null,null,null,null,null,null,null,null,null,null,null,null,null,null,null,null,null,null,null,null,null,null,null,null,null,null,null,null,null,null,null,null,null,null,null,null,null,null,null,null,"未","未","未","未",0,0,0,0,{"$f":"IFERROR(IF(OR(BC1984=\"未\",BD1984=\"未\"),1,IF(MATCH(BC1984&\"/\"&BD1984,③読み替え表_省エネ住宅!$G$48:$G$57,0),1,0)),0)","v":1},{"$f":"IFERROR(IF(OR(BE1984=\"未\",BF1984=\"未\"),1,IF(MATCH(BE1984&\"/\"&BF1984,③読み替え表_省エネ住宅!$G$48:$G$57,0),1,0)),0)","v":1},1,1,1,"*"]
[null,1975,null,null,null,null,null,null,null,null,null,null,null,null,null,null,null,null,null,null,null,null,null,null,null,null,null,null,null,null,null,null,null,null,null,null,null,null,null,null,null,null,null,null,null,null,null,null,null,null,null,null,null,null,"未","未","未","未",0,0,0,0,{"$f":"IFERROR(IF(OR(BC1985=\"未\",BD1985=\"未\"),1,IF(MATCH(BC1985&\"/\"&BD1985,③読み替え表_省エネ住宅!$G$48:$G$57,0),1,0)),0)","v":1},{"$f":"IFERROR(IF(OR(BE1985=\"未\",BF1985=\"未\"),1,IF(MATCH(BE1985&\"/\"&BF1985,③読み替え表_省エネ住宅!$G$48:$G$57,0),1,0)),0)","v":1},1,1,1,"*"]
[null,1976,null,null,null,null,null,null,null,null,null,null,null,null,null,null,null,null,null,null,null,null,null,null,null,null,null,null,null,null,null,null,null,null,null,null,null,null,null,null,null,null,null,null,null,null,null,null,null,null,null,null,null,null,"未","未","未","未",0,0,0,0,{"$f":"IFERROR(IF(OR(BC1986=\"未\",BD1986=\"未\"),1,IF(MATCH(BC1986&\"/\"&BD1986,③読み替え表_省エネ住宅!$G$48:$G$57,0),1,0)),0)","v":1},{"$f":"IFERROR(IF(OR(BE1986=\"未\",BF1986=\"未\"),1,IF(MATCH(BE1986&\"/\"&BF1986,③読み替え表_省エネ住宅!$G$48:$G$57,0),1,0)),0)","v":1},1,1,1,"*"]
[null,1977,null,null,null,null,null,null,null,null,null,null,null,null,null,null,null,null,null,null,null,null,null,null,null,null,null,null,null,null,null,null,null,null,null,null,null,null,null,null,null,null,null,null,null,null,null,null,null,null,null,null,null,null,"未","未","未","未",0,0,0,0,{"$f":"IFERROR(IF(OR(BC1987=\"未\",BD1987=\"未\"),1,IF(MATCH(BC1987&\"/\"&BD1987,③読み替え表_省エネ住宅!$G$48:$G$57,0),1,0)),0)","v":1},{"$f":"IFERROR(IF(OR(BE1987=\"未\",BF1987=\"未\"),1,IF(MATCH(BE1987&\"/\"&BF1987,③読み替え表_省エネ住宅!$G$48:$G$57,0),1,0)),0)","v":1},1,1,1,"*"]
[null,1978,null,null,null,null,null,null,null,null,null,null,null,null,null,null,null,null,null,null,null,null,null,null,null,null,null,null,null,null,null,null,null,null,null,null,null,null,null,null,null,null,null,null,null,null,null,null,null,null,null,null,null,null,"未","未","未","未",0,0,0,0,{"$f":"IFERROR(IF(OR(BC1988=\"未\",BD1988=\"未\"),1,IF(MATCH(BC1988&\"/\"&BD1988,③読み替え表_省エネ住宅!$G$48:$G$57,0),1,0)),0)","v":1},{"$f":"IFERROR(IF(OR(BE1988=\"未\",BF1988=\"未\"),1,IF(MATCH(BE1988&\"/\"&BF1988,③読み替え表_省エネ住宅!$G$48:$G$57,0),1,0)),0)","v":1},1,1,1,"*"]
[null,1979,null,null,null,null,null,null,null,null,null,null,null,null,null,null,null,null,null,null,null,null,null,null,null,null,null,null,null,null,null,null,null,null,null,null,null,null,null,null,null,null,null,null,null,null,null,null,null,null,null,null,null,null,"未","未","未","未",0,0,0,0,{"$f":"IFERROR(IF(OR(BC1989=\"未\",BD1989=\"未\"),1,IF(MATCH(BC1989&\"/\"&BD1989,③読み替え表_省エネ住宅!$G$48:$G$57,0),1,0)),0)","v":1},{"$f":"IFERROR(IF(OR(BE1989=\"未\",BF1989=\"未\"),1,IF(MATCH(BE1989&\"/\"&BF1989,③読み替え表_省エネ住宅!$G$48:$G$57,0),1,0)),0)","v":1},1,1,1,"*"]
[null,1980,null,null,null,null,null,null,null,null,null,null,null,null,null,null,null,null,null,null,null,null,null,null,null,null,null,null,null,null,null,null,null,null,null,null,null,null,null,null,null,null,null,null,null,null,null,null,null,null,null,null,null,null,"未","未","未","未",0,0,0,0,{"$f":"IFERROR(IF(OR(BC1990=\"未\",BD1990=\"未\"),1,IF(MATCH(BC1990&\"/\"&BD1990,③読み替え表_省エネ住宅!$G$48:$G$57,0),1,0)),0)","v":1},{"$f":"IFERROR(IF(OR(BE1990=\"未\",BF1990=\"未\"),1,IF(MATCH(BE1990&\"/\"&BF1990,③読み替え表_省エネ住宅!$G$48:$G$57,0),1,0)),0)","v":1},1,1,1,"*"]
[null,1981,null,null,null,null,null,null,null,null,null,null,null,null,null,null,null,null,null,null,null,null,null,null,null,null,null,null,null,null,null,null,null,null,null,null,null,null,null,null,null,null,null,null,null,null,null,null,null,null,null,null,null,null,"未","未","未","未",0,0,0,0,{"$f":"IFERROR(IF(OR(BC1991=\"未\",BD1991=\"未\"),1,IF(MATCH(BC1991&\"/\"&BD1991,③読み替え表_省エネ住宅!$G$48:$G$57,0),1,0)),0)","v":1},{"$f":"IFERROR(IF(OR(BE1991=\"未\",BF1991=\"未\"),1,IF(MATCH(BE1991&\"/\"&BF1991,③読み替え表_省エネ住宅!$G$48:$G$57,0),1,0)),0)","v":1},1,1,1,"*"]
[null,1982,null,null,null,null,null,null,null,null,null,null,null,null,null,null,null,null,null,null,null,null,null,null,null,null,null,null,null,null,null,null,null,null,null,null,null,null,null,null,null,null,null,null,null,null,null,null,null,null,null,null,null,null,"未","未","未","未",0,0,0,0,{"$f":"IFERROR(IF(OR(BC1992=\"未\",BD1992=\"未\"),1,IF(MATCH(BC1992&\"/\"&BD1992,③読み替え表_省エネ住宅!$G$48:$G$57,0),1,0)),0)","v":1},{"$f":"IFERROR(IF(OR(BE1992=\"未\",BF1992=\"未\"),1,IF(MATCH(BE1992&\"/\"&BF1992,③読み替え表_省エネ住宅!$G$48:$G$57,0),1,0)),0)","v":1},1,1,1,"*"]
[null,1983,null,null,null,null,null,null,null,null,null,null,null,null,null,null,null,null,null,null,null,null,null,null,null,null,null,null,null,null,null,null,null,null,null,null,null,null,null,null,null,null,null,null,null,null,null,null,null,null,null,null,null,null,"未","未","未","未",0,0,0,0,{"$f":"IFERROR(IF(OR(BC1993=\"未\",BD1993=\"未\"),1,IF(MATCH(BC1993&\"/\"&BD1993,③読み替え表_省エネ住宅!$G$48:$G$57,0),1,0)),0)","v":1},{"$f":"IFERROR(IF(OR(BE1993=\"未\",BF1993=\"未\"),1,IF(MATCH(BE1993&\"/\"&BF1993,③読み替え表_省エネ住宅!$G$48:$G$57,0),1,0)),0)","v":1},1,1,1,"*"]
[null,1984,null,null,null,null,null,null,null,null,null,null,null,null,null,null,null,null,null,null,null,null,null,null,null,null,null,null,null,null,null,null,null,null,null,null,null,null,null,null,null,null,null,null,null,null,null,null,null,null,null,null,null,null,"未","未","未","未",0,0,0,0,{"$f":"IFERROR(IF(OR(BC1994=\"未\",BD1994=\"未\"),1,IF(MATCH(BC1994&\"/\"&BD1994,③読み替え表_省エネ住宅!$G$48:$G$57,0),1,0)),0)","v":1},{"$f":"IFERROR(IF(OR(BE1994=\"未\",BF1994=\"未\"),1,IF(MATCH(BE1994&\"/\"&BF1994,③読み替え表_省エネ住宅!$G$48:$G$57,0),1,0)),0)","v":1},1,1,1,"*"]
[null,1985,null,null,null,null,null,null,null,null,null,null,null,null,null,null,null,null,null,null,null,null,null,null,null,null,null,null,null,null,null,null,null,null,null,null,null,null,null,null,null,null,null,null,null,null,null,null,null,null,null,null,null,null,"未","未","未","未",0,0,0,0,{"$f":"IFERROR(IF(OR(BC1995=\"未\",BD1995=\"未\"),1,IF(MATCH(BC1995&\"/\"&BD1995,③読み替え表_省エネ住宅!$G$48:$G$57,0),1,0)),0)","v":1},{"$f":"IFERROR(IF(OR(BE1995=\"未\",BF1995=\"未\"),1,IF(MATCH(BE1995&\"/\"&BF1995,③読み替え表_省エネ住宅!$G$48:$G$57,0),1,0)),0)","v":1},1,1,1,"*"]
[null,{"$f":"ROW()-10","v":1986},null,null,null,null,null,null,null,null,null,null,null,null,null,null,null,null,null,null,null,null,null,null,null,null,null,null,null,null,null,null,null,null,null,null,null,null,null,null,null,null,null,null,null,null,null,null,null,null,null,null,null,null,{"$f":"IFERROR(IF(SUM($Q1996:$U1996)>1,\"複数回答\",INDEX($Q$10:$U$10,,MATCH(1,$Q1996:$U1996,0))),\"未\")","v":"未"},{"$f":"IFERROR(IF(SUM($AA1996:$AE1996)>1,\"複数回答\",INDEX($AA$10:$AE$10,,MATCH(1,$AA1996:$AE1996,0))),\"未\")","v":"未"},{"$f":"IFERROR(IF(SUM($V1996:$Z1996)>1,\"複数回答\",INDEX($V$10:$Z$10,,MATCH(1,$V1996:$Z1996,0))),\"未\")","v":"未"},{"$f":"IFERROR(IF(SUM($AF1996:$AJ1996)>1,\"複数回答\",INDEX($AF$10:$AJ$10,,MATCH(1,$AF1996:$AJ1996,0))),\"未\")","v":"未"},{"$f":"IF(OR(AA1996=1,AB1996=1,AC1996=1),1,0)","v":0},{"$f":"IF(OR(AF1996=1,AG1996=1,AH1996=1),1,0)","v":0},{"$f":"IF(BC1996=\"複数回答\",1,IF(BD1996=\"複数回答\",1,0))","v":0},{"$f":"IF(BE1996=\"複数回答\",1,IF(BF1996=\"複数回答\",1,0))","v":0},{"$f":"IFERROR(IF(OR(BC1996=\"未\",BD1996=\"未\"),1,IF(MATCH(BC1996&\"/\"&BD1996,③読み替え表_省エネ住宅!$G$48:$G$57,0),1,0)),0)","v":1},{"$f":"IFERROR(IF(OR(BE1996=\"未\",BF1996=\"未\"),1,IF(MATCH(BE1996&\"/\"&BF1996,③読み替え表_省エネ住宅!$G$48:$G$57,0),1,0)),0)","v":1},{"$f":"IF(BI1996+BK1996>0,1,0)","v":1},{"$f":"IF(BJ1996+BL1996>0,1,0)","v":1},{"$f":"IF(SUM(BI1996:BL1996)>0,1,0)","v":1},"*"]
[null,1987,null,null,null,null,null,null,null,null,null,null,null,null,null,null,null,null,null,null,null,null,null,null,null,null,null,null,null,null,null,null,null,null,null,null,null,null,null,null,null,null,null,null,null,null,null,null,null,null,null,null,null,null,"未","未","未","未",0,0,0,0,{"$f":"IFERROR(IF(OR(BC1997=\"未\",BD1997=\"未\"),1,IF(MATCH(BC1997&\"/\"&BD1997,③読み替え表_省エネ住宅!$G$48:$G$57,0),1,0)),0)","v":1},{"$f":"IFERROR(IF(OR(BE1997=\"未\",BF1997=\"未\"),1,IF(MATCH(BE1997&\"/\"&BF1997,③読み替え表_省エネ住宅!$G$48:$G$57,0),1,0)),0)","v":1},1,1,1,"*"]
[null,1988,null,null,null,null,null,null,null,null,null,null,null,null,null,null,null,null,null,null,null,null,null,null,null,null,null,null,null,null,null,null,null,null,null,null,null,null,null,null,null,null,null,null,null,null,null,null,null,null,null,null,null,null,"未","未","未","未",0,0,0,0,{"$f":"IFERROR(IF(OR(BC1998=\"未\",BD1998=\"未\"),1,IF(MATCH(BC1998&\"/\"&BD1998,③読み替え表_省エネ住宅!$G$48:$G$57,0),1,0)),0)","v":1},{"$f":"IFERROR(IF(OR(BE1998=\"未\",BF1998=\"未\"),1,IF(MATCH(BE1998&\"/\"&BF1998,③読み替え表_省エネ住宅!$G$48:$G$57,0),1,0)),0)","v":1},1,1,1,"*"]
[null,1989,null,null,null,null,null,null,null,null,null,null,null,null,null,null,null,null,null,null,null,null,null,null,null,null,null,null,null,null,null,null,null,null,null,null,null,null,null,null,null,null,null,null,null,null,null,null,null,null,null,null,null,null,"未","未","未","未",0,0,0,0,{"$f":"IFERROR(IF(OR(BC1999=\"未\",BD1999=\"未\"),1,IF(MATCH(BC1999&\"/\"&BD1999,③読み替え表_省エネ住宅!$G$48:$G$57,0),1,0)),0)","v":1},{"$f":"IFERROR(IF(OR(BE1999=\"未\",BF1999=\"未\"),1,IF(MATCH(BE1999&\"/\"&BF1999,③読み替え表_省エネ住宅!$G$48:$G$57,0),1,0)),0)","v":1},1,1,1,"*"]
[null,1990,null,null,null,null,null,null,null,null,null,null,null,null,null,null,null,null,null,null,null,null,null,null,null,null,null,null,null,null,null,null,null,null,null,null,null,null,null,null,null,null,null,null,null,null,null,null,null,null,null,null,null,null,"未","未","未","未",0,0,0,0,{"$f":"IFERROR(IF(OR(BC2000=\"未\",BD2000=\"未\"),1,IF(MATCH(BC2000&\"/\"&BD2000,③読み替え表_省エネ住宅!$G$48:$G$57,0),1,0)),0)","v":1},{"$f":"IFERROR(IF(OR(BE2000=\"未\",BF2000=\"未\"),1,IF(MATCH(BE2000&\"/\"&BF2000,③読み替え表_省エネ住宅!$G$48:$G$57,0),1,0)),0)","v":1},1,1,1,"*"]
[null,1991,null,null,null,null,null,null,null,null,null,null,null,null,null,null,null,null,null,null,null,null,null,null,null,null,null,null,null,null,null,null,null,null,null,null,null,null,null,null,null,null,null,null,null,null,null,null,null,null,null,null,null,null,"未","未","未","未",0,0,0,0,{"$f":"IFERROR(IF(OR(BC2001=\"未\",BD2001=\"未\"),1,IF(MATCH(BC2001&\"/\"&BD2001,③読み替え表_省エネ住宅!$G$48:$G$57,0),1,0)),0)","v":1},{"$f":"IFERROR(IF(OR(BE2001=\"未\",BF2001=\"未\"),1,IF(MATCH(BE2001&\"/\"&BF2001,③読み替え表_省エネ住宅!$G$48:$G$57,0),1,0)),0)","v":1},1,1,1,"*"]
[null,1992,null,null,null,null,null,null,null,null,null,null,null,null,null,null,null,null,null,null,null,null,null,null,null,null,null,null,null,null,null,null,null,null,null,null,null,null,null,null,null,null,null,null,null,null,null,null,null,null,null,null,null,null,"未","未","未","未",0,0,0,0,{"$f":"IFERROR(IF(OR(BC2002=\"未\",BD2002=\"未\"),1,IF(MATCH(BC2002&\"/\"&BD2002,③読み替え表_省エネ住宅!$G$48:$G$57,0),1,0)),0)","v":1},{"$f":"IFERROR(IF(OR(BE2002=\"未\",BF2002=\"未\"),1,IF(MATCH(BE2002&\"/\"&BF2002,③読み替え表_省エネ住宅!$G$48:$G$57,0),1,0)),0)","v":1},1,1,1,"*"]
[null,1993,null,null,null,null,null,null,null,null,null,null,null,null,null,null,null,null,null,null,null,null,null,null,null,null,null,null,null,null,null,null,null,null,null,null,null,null,null,null,null,null,null,null,null,null,null,null,null,null,null,null,null,null,"未","未","未","未",0,0,0,0,{"$f":"IFERROR(IF(OR(BC2003=\"未\",BD2003=\"未\"),1,IF(MATCH(BC2003&\"/\"&BD2003,③読み替え表_省エネ住宅!$G$48:$G$57,0),1,0)),0)","v":1},{"$f":"IFERROR(IF(OR(BE2003=\"未\",BF2003=\"未\"),1,IF(MATCH(BE2003&\"/\"&BF2003,③読み替え表_省エネ住宅!$G$48:$G$57,0),1,0)),0)","v":1},1,1,1,"*"]
[null,1994,null,null,null,null,null,null,null,null,null,null,null,null,null,null,null,null,null,null,null,null,null,null,null,null,null,null,null,null,null,null,null,null,null,null,null,null,null,null,null,null,null,null,null,null,null,null,null,null,null,null,null,null,"未","未","未","未",0,0,0,0,{"$f":"IFERROR(IF(OR(BC2004=\"未\",BD2004=\"未\"),1,IF(MATCH(BC2004&\"/\"&BD2004,③読み替え表_省エネ住宅!$G$48:$G$57,0),1,0)),0)","v":1},{"$f":"IFERROR(IF(OR(BE2004=\"未\",BF2004=\"未\"),1,IF(MATCH(BE2004&\"/\"&BF2004,③読み替え表_省エネ住宅!$G$48:$G$57,0),1,0)),0)","v":1},1,1,1,"*"]
[null,1995,null,null,null,null,null,null,null,null,null,null,null,null,null,null,null,null,null,null,null,null,null,null,null,null,null,null,null,null,null,null,null,null,null,null,null,null,null,null,null,null,null,null,null,null,null,null,null,null,null,null,null,null,"未","未","未","未",0,0,0,0,{"$f":"IFERROR(IF(OR(BC2005=\"未\",BD2005=\"未\"),1,IF(MATCH(BC2005&\"/\"&BD2005,③読み替え表_省エネ住宅!$G$48:$G$57,0),1,0)),0)","v":1},{"$f":"IFERROR(IF(OR(BE2005=\"未\",BF2005=\"未\"),1,IF(MATCH(BE2005&\"/\"&BF2005,③読み替え表_省エネ住宅!$G$48:$G$57,0),1,0)),0)","v":1},1,1,1,"*"]
[null,1996,null,null,null,null,null,null,null,null,null,null,null,null,null,null,null,null,null,null,null,null,null,null,null,null,null,null,null,null,null,null,null,null,null,null,null,null,null,null,null,null,null,null,null,null,null,null,null,null,null,null,null,null,"未","未","未","未",0,0,0,0,{"$f":"IFERROR(IF(OR(BC2006=\"未\",BD2006=\"未\"),1,IF(MATCH(BC2006&\"/\"&BD2006,③読み替え表_省エネ住宅!$G$48:$G$57,0),1,0)),0)","v":1},{"$f":"IFERROR(IF(OR(BE2006=\"未\",BF2006=\"未\"),1,IF(MATCH(BE2006&\"/\"&BF2006,③読み替え表_省エネ住宅!$G$48:$G$57,0),1,0)),0)","v":1},1,1,1,"*"]
[null,1997,null,null,null,null,null,null,null,null,null,null,null,null,null,null,null,null,null,null,null,null,null,null,null,null,null,null,null,null,null,null,null,null,null,null,null,null,null,null,null,null,null,null,null,null,null,null,null,null,null,null,null,null,"未","未","未","未",0,0,0,0,{"$f":"IFERROR(IF(OR(BC2007=\"未\",BD2007=\"未\"),1,IF(MATCH(BC2007&\"/\"&BD2007,③読み替え表_省エネ住宅!$G$48:$G$57,0),1,0)),0)","v":1},{"$f":"IFERROR(IF(OR(BE2007=\"未\",BF2007=\"未\"),1,IF(MATCH(BE2007&\"/\"&BF2007,③読み替え表_省エネ住宅!$G$48:$G$57,0),1,0)),0)","v":1},1,1,1,"*"]
[null,1998,null,null,null,null,null,null,null,null,null,null,null,null,null,null,null,null,null,null,null,null,null,null,null,null,null,null,null,null,null,null,null,null,null,null,null,null,null,null,null,null,null,null,null,null,null,null,null,null,null,null,null,null,"未","未","未","未",0,0,0,0,{"$f":"IFERROR(IF(OR(BC2008=\"未\",BD2008=\"未\"),1,IF(MATCH(BC2008&\"/\"&BD2008,③読み替え表_省エネ住宅!$G$48:$G$57,0),1,0)),0)","v":1},{"$f":"IFERROR(IF(OR(BE2008=\"未\",BF2008=\"未\"),1,IF(MATCH(BE2008&\"/\"&BF2008,③読み替え表_省エネ住宅!$G$48:$G$57,0),1,0)),0)","v":1},1,1,1,"*"]
[null,1999,null,null,null,null,null,null,null,null,null,null,null,null,null,null,null,null,null,null,null,null,null,null,null,null,null,null,null,null,null,null,null,null,null,null,null,null,null,null,null,null,null,null,null,null,null,null,null,null,null,null,null,null,"未","未","未","未",0,0,0,0,{"$f":"IFERROR(IF(OR(BC2009=\"未\",BD2009=\"未\"),1,IF(MATCH(BC2009&\"/\"&BD2009,③読み替え表_省エネ住宅!$G$48:$G$57,0),1,0)),0)","v":1},{"$f":"IFERROR(IF(OR(BE2009=\"未\",BF2009=\"未\"),1,IF(MATCH(BE2009&\"/\"&BF2009,③読み替え表_省エネ住宅!$G$48:$G$57,0),1,0)),0)","v":1},1,1,1,"*"]
[null,2000,null,null,null,null,null,null,null,null,null,null,null,null,null,null,null,null,null,null,null,null,null,null,null,null,null,null,null,null,null,null,null,null,null,null,null,null,null,null,null,null,null,null,null,null,null,null,null,null,null,null,null,null,"未","未","未","未",0,0,0,0,{"$f":"IFERROR(IF(OR(BC2010=\"未\",BD2010=\"未\"),1,IF(MATCH(BC2010&\"/\"&BD2010,③読み替え表_省エネ住宅!$G$48:$G$57,0),1,0)),0)","v":1},{"$f":"IFERROR(IF(OR(BE2010=\"未\",BF2010=\"未\"),1,IF(MATCH(BE2010&\"/\"&BF2010,③読み替え表_省エネ住宅!$G$48:$G$57,0),1,0)),0)","v":1},1,1,1,"*"]
["*",null,null,null,null,null,null,null,null,null,null,null,null,null,null,null,null,null,null,null,null,null,null,null,null,null,null,null,null,null,null,null,null,null,null,null,null,null,null,null,null,null,null,null,null,null,null,null,null,null,null,null,null,null,null,null,null,null,null,null,null,null,null,null,null,null,null,"*"]

{"sheet":"集計結果⇒","index":3,"n_rows":0,"n_cols":0,"rows_kept":0,"cut":false,"hidden":false,"merged":[]}

{"sheet":"②単純集計表 ","index":4,"n_rows":201,"n_cols":12,"rows_kept":201,"cut":false,"hidden":false,"merged":[[1,1,1,3],[2,1,2,3],[3,1,3,3],[4,1,4,3],[37,4,37,5],[9,1,12,1],[15,1,22,1],[26,4,26,5],[27,4,27,5],[28,4,28,5],[29,4,29,5],[30,4,30,5],[25,1,42,1],[42,4,42,5],[31,4,31,5],[32,4,32,5],[34,4,34,5],[35,4,35,5],[36,4,36,5],[38,4,38,5],[4,4,4,5],[3,4,3,5],[2,4,2,5],[1,4,1,5],[143,4,143,6],[39,4,39,5],[40,4,40,5],[49,1,52,1],[53,1,56,1],[66,1,70,1],[71,1,75,1],[83,1,87,1],[120,1,125,1],[41,4,41,5],[136,3,136,6],[135,1,135,2],[137,4,137,6],[138,4,138,6],[88,1,92,1],[147,4,147,6],[147,8,147,10],[148,4,148,6],[148,8,148,10],[141,4,141,6],[141,8,141,10],[142,4,142,6],[142,8,142,10],[101,1,106,1],[107,1,112,1],[136,7,136,10],[137,8,137,10],[143,8,143,10],[144,4,144,6],[144,8,144,10],[145,4,145,6],[145,8,145,10],[146,8,146,10],[138,8,138,10],[139,4,139,6],[139,8,139,10],[140,4,140,6],[140,8,140,10],[146,4,146,6],[152,4,152,6],[152,8,152,10],[153,4,153,6],[153,8,153,10],[154,4,154,6],[154,8,154,10],[151,4,151,6],[151,8,151,10],[149,4,149,6],[149,8,149,10],[150,4,150,6],[150,8,150,10],[174,4,174,6],[174,8,174,10],[120,2,120,5],[121,2,121,5],[122,2,122,5],[123,2,123,5],[124,2,124,5],[125,2,125,5],[137,1,142,2],[155,1,161,2],[152,1,154,2],[151,1,151,2],[147,1,150,2],[143,1,146,2],[170,1,175,2],[175,4,175,6],[171,4,171,6],[171,8,171,10],[172,4,172,6],[172,8,172,10],[173,4,173,6],[173,8,173,10],[170,4,170,6],[170,8,170,10],[168,1,168,2],[169,3,169,6],[169,7,169,10],[126,1,131,1],[126,2,126,5],[127,2,127,5],[128,2,128,5],[129,2,129,5],[130,2,130,5],[131,2,131,5],[161,4,161,6],[161,8,161,10],[159,8,159,10],[155,4,155,6],[155,8,155,10],[156,4,156,6],[156,8,156,10],[157,4,157,6],[157,8,157,10],[158,4,158,6],[158,8,158,10],[159,4,159,6],[160,4,160,6],[160,8,160,10],[175,8,175,10],[176,1,179,2],[176,4,176,6],[176,8,176,10],[177,4,177,6],[177,8,177,10],[178,4,178,6],[178,8,178,10],[179,4,179,6],[179,8,179,10],[185,8,185,10],[186,4,186,6],[186,8,186,10],[187,4,187,6],[187,8,187,10],[180,1,183,2],[180,4,180,6],[180,8,180,10],[181,4,181,6],[181,8,181,10],[182,4,182,6],[182,8,182,10],[183,4,183,6],[183,8,183,10],[1,10,1,11],[2,10,2,11],[3,10,3,11],[4,10,4,11],[188,1,194,2],[188,4,188,6],[188,8,188,10],[189,4,189,6],[189,8,189,10],[190,4,190,6],[190,8,190,10],[191,4,191,6],[191,8,191,10],[192,4,192,6],[192,8,192,10],[193,4,193,6],[193,8,193,10],[194,4,194,6],[194,8,194,10],[184,1,184,2],[184,4,184,6],[184,8,184,10],[185,1,187,2],[185,4,185,6]]}
[]
[null,"都道府県",null,null,{"$f":"①会場アンケート集計結果_省エネ住宅!C11","v":0},null,null,"アンケート回収数",null,null,{"$f":"COUNTIFS(①会場アンケート集計結果_省エネ住宅!$G$11:$G$2010,\"<>\"&\"\")","v":0}]
[null,"事業者名",null,null,{"$f":"①会場アンケート集計結果_省エネ住宅!D11","v":0},null,null,"有効アンケート数（ZEH）",null,null,{"$f":"COUNTIFS(①会場アンケート集計結果_省エネ住宅!$G$11:$G$2010,\"<>\"&\"\",①会場アンケート集計結果_省エネ住宅!$BM$11:$BM$2010,0)","v":0}]
[null,"イベント名",null,null,{"$f":"①会場アンケート集計結果_省エネ住宅!E11","v":0},null,null,"有効アンケート数（断熱リフォーム）",null,null,{"$f":"COUNTIFS(①会場アンケート集計結果_省エネ住宅!$G$11:$G$2010,\"<>\"&\"\",①会場アンケート集計結果_省エネ住宅!$BN$11:$BN$2010,0)","v":0}]
[null,"回収日付",null,null,{"$f":"①会場アンケート集計結果_省エネ住宅!F11","v":"00:00:00"},null,null,"メールアドレス回収数",null,null,{"$f":"COUNTIFS(①会場アンケート集計結果_省エネ住宅!$AY$11:$AY$2010,1,①会場アンケート集計結果_省エネ住宅!$BO$11:$BO$2010,0)","v":0}]
[]
[null,"性別・年代"]
[null,"※来場者層の把握のため、「有効回答数」ではなく「アンケート回収数」で集計"]
[null,null,null,null,null,null,"アンケート\n回収者","ZEH\n有効\n回答者","リフォーム\n有効\n回答者","%"]
[null,"性別",1,"男性",null,null,{"$f":"COUNTIFS(①会場アンケート集計結果_省エネ住宅!$G:$G,'②単純集計表 '!D10)","v":0},{"$f":"COUNTIFS(①会場アンケート集計結果_省エネ住宅!$G:$G,'②単純集計表 '!D10,①会場アンケート集計結果_省エネ住宅!$BM:$BM,0)","v":0},{"$f":"COUNTIFS(①会場アンケート集計結果_省エネ住宅!$G:$G,'②単純集計表 '!D10,①会場アンケート集計結果_省エネ住宅!$BN:$BN,0)","v":0},{"$f":"G10/$K$2","v":{"$error":"#DIV/0!"}}]
[null,null,2,"女性",null,null,{"$f":"COUNTIFS(①会場アンケート集計結果_省エネ住宅!$G:$G,'②単純集計表 '!D11)","v":0},{"$f":"COUNTIFS(①会場アンケート集計結果_省エネ住宅!$G:$G,'②単純集計表 '!D11,①会場アンケート集計結果_省エネ住宅!$BM:$BM,0)","v":0},{"$f":"COUNTIFS(①会場アンケート集計結果_省エネ住宅!$G:$G,'②単純集計表 '!D11,①会場アンケート集計結果_省エネ住宅!$BN:$BN,0)","v":0},{"$f":"G11/$K$2","v":{"$error":"#DIV/0!"}}]
[null,null,3,"その他",null,null,{"$f":"COUNTIFS(①会場アンケート集計結果_省エネ住宅!$G:$G,'②単純集計表 '!D12)","v":0},{"$f":"COUNTIFS(①会場アンケート集計結果_省エネ住宅!$G:$G,'②単純集計表 '!D12,①会場アンケート集計結果_省エネ住宅!$BM:$BM,0)","v":0},{"$f":"COUNTIFS(①会場アンケート集計結果_省エネ住宅!$G:$G,'②単純集計表 '!D12,①会場アンケート集計結果_省エネ住宅!$BN:$BN,0)","v":0},{"$f":"G12/$K$2","v":{"$error":"#DIV/0!"}}]
[null,null,99,"未回答",null,null,{"$f":"COUNTIFS(①会場アンケート集計結果_省エネ住宅!$G:$G,'②単純集計表 '!D13)","v":0},{"$f":"COUNTIFS(①会場アンケート集計結果_省エネ住宅!$G:$G,'②単純集計表 '!D13,①会場アンケート集計結果_省エネ住宅!$BM:$BM,0)","v":0},{"$f":"COUNTIFS(①会場アンケート集計結果_省エネ住宅!$G:$G,'②単純集計表 '!D13,①会場アンケート集計結果_省エネ住宅!$BN:$BN,0)","v":0},{"$f":"G13/$K$2","v":{"$error":"#DIV/0!"}}]
[null,null,null,null,null,"検算用",{"$f":"SUM(G10:G13)","v":0},{"$f":"SUM(H10:H13)","v":0},{"$f":"SUM(I10:I13)","v":0}]
[]
[null,"年代",1,"10代",null,null,{"$f":"COUNTIFS(①会場アンケート集計結果_省エネ住宅!$H:$H,'②単純集計表 '!D16)","v":0},{"$f":"COUNTIFS(①会場アンケート集計結果_省エネ住宅!$H:$H,'②単純集計表 '!D16,①会場アンケート集計結果_省エネ住宅!$BM:$BM,0)","v":0},{"$f":"COUNTIFS(①会場アンケート集計結果_省エネ住宅!$H:$H,'②単純集計表 '!D16,①会場アンケート集計結果_省エネ住宅!$BN:$BN,0)","v":0},{"$f":"G16/$K$2","v":{"$error":"#DIV/0!"}}]
[null,null,2,"20代",null,null,{"$f":"COUNTIFS(①会場アンケート集計結果_省エネ住宅!$H:$H,'②単純集計表 '!D17)","v":0},{"$f":"COUNTIFS(①会場アンケート集計結果_省エネ住宅!$H:$H,'②単純集計表 '!D17,①会場アンケート集計結果_省エネ住宅!$BM:$BM,0)","v":0},{"$f":"COUNTIFS(①会場アンケート集計結果_省エネ住宅!$H:$H,'②単純集計表 '!D17,①会場アンケート集計結果_省エネ住宅!$BN:$BN,0)","v":0},{"$error":"#DIV/0!"}]
[null,null,3,"30代",null,null,{"$f":"COUNTIFS(①会場アンケート集計結果_省エネ住宅!$H:$H,'②単純集計表 '!D18)","v":0},{"$f":"COUNTIFS(①会場アンケート集計結果_省エネ住宅!$H:$H,'②単純集計表 '!D18,①会場アンケート集計結果_省エネ住宅!$BM:$BM,0)","v":0},{"$f":"COUNTIFS(①会場アンケート集計結果_省エネ住宅!$H:$H,'②単純集計表 '!D18,①会場アンケート集計結果_省エネ住宅!$BN:$BN,0)","v":0},{"$error":"#DIV/0!"}]
[null,null,4,"40代",null,null,{"$f":"COUNTIFS(①会場アンケート集計結果_省エネ住宅!$H:$H,'②単純集計表 '!D19)","v":0},{"$f":"COUNTIFS(①会場アンケート集計結果_省エネ住宅!$H:$H,'②単純集計表 '!D19,①会場アンケート集計結果_省エネ住宅!$BM:$BM,0)","v":0},{"$f":"COUNTIFS(①会場アンケート集計結果_省エネ住宅!$H:$H,'②単純集計表 '!D19,①会場アンケート集計結果_省エネ住宅!$BN:$BN,0)","v":0},{"$error":"#DIV/0!"}]
[null,null,5,"50代",null,null,{"$f":"COUNTIFS(①会場アンケート集計結果_省エネ住宅!$H:$H,'②単純集計表 '!D20)","v":0},{"$f":"COUNTIFS(①会場アンケート集計結果_省エネ住宅!$H:$H,'②単純集計表 '!D20,①会場アンケート集計結果_省エネ住宅!$BM:$BM,0)","v":0},{"$f":"COUNTIFS(①会場アンケート集計結果_省エネ住宅!$H:$H,'②単純集計表 '!D20,①会場アンケート集計結果_省エネ住宅!$BN:$BN,0)","v":0},{"$error":"#DIV/0!"}]
[null,null,6,"60代",null,null,{"$f":"COUNTIFS(①会場アンケート集計結果_省エネ住宅!$H:$H,'②単純集計表 '!D21)","v":0},{"$f":"COUNTIFS(①会場アンケート集計結果_省エネ住宅!$H:$H,'②単純集計表 '!D21,①会場アンケート集計結果_省エネ住宅!$BM:$BM,0)","v":0},{"$f":"COUNTIFS(①会場アンケート集計結果_省エネ住宅!$H:$H,'②単純集計表 '!D21,①会場アンケート集計結果_省エネ住宅!$BN:$BN,0)","v":0},{"$error":"#DIV/0!"}]
[null,null,7,"70代以上",null,null,{"$f":"COUNTIFS(①会場アンケート集計結果_省エネ住宅!$H:$H,'②単純集計表 '!D22)","v":0},{"$f":"COUNTIFS(①会場アンケート集計結果_省エネ住宅!$H:$H,'②単純集計表 '!D22,①会場アンケート集計結果_省エネ住宅!$BM:$BM,0)","v":0},{"$f":"COUNTIFS(①会場アンケート集計結果_省エネ住宅!$H:$H,'②単純集計表 '!D22,①会場アンケート集計結果_省エネ住宅!$BN:$BN,0)","v":0},{"$error":"#DIV/0!"}]
[null,null,99,"未回答",null,null,{"$f":"COUNTIFS(①会場アンケート集計結果_省エネ住宅!$H:$H,'②単純集計表 '!D23)","v":0},{"$f":"COUNTIFS(①会場アンケート集計結果_省エネ住宅!$H:$H,'②単純集計表 '!D23,①会場アンケート集計結果_省エネ住宅!$BM:$BM,0)","v":0},{"$f":"COUNTIFS(①会場アンケート集計結果_省エネ住宅!$H:$H,'②単純集計表 '!D23,①会場アンケート集計結果_省エネ住宅!$BN:$BN,0)","v":0},{"$error":"#DIV/0!"}]
[null,null,null,null,null,"検算用",{"$f":"SUM(G16:G23)","v":0},{"$f":"SUM(H16:H23)","v":0},{"$f":"SUM(I16:I23)","v":0}]
[]
[null,"性別・年代別",null,"男性",null,null,{"$f":"SUM(G27:G33)","v":0},{"$f":"SUM(H27:H33)","v":0},{"$f":"SUM(I27:I33)","v":0},{"$f":"G26/$K$2","v":{"$error":"#DIV/0!"}}]
[null,null,null,"男性","10代",null,{"$f":"COUNTIFS(①会場アンケート集計結果_省エネ住宅!$G:$G,'②単純集計表 '!D27,①会場アンケート集計結果_省エネ住宅!$H:$H,'②単純集計表 '!E27)","v":0},{"$f":"COUNTIFS(①会場アンケート集計結果_省エネ住宅!$G:$G,'②単純集計表 '!D27,①会場アンケート集計結果_省エネ住宅!$H:$H,'②単純集計表 '!E27,①会場アンケート集計結果_省エネ住宅!$BM:$BM,0)","v":0},{"$f":"COUNTIFS(①会場アンケート集計結果_省エネ住宅!$G:$G,'②単純集計表 '!D27,①会場アンケート集計結果_省エネ住宅!$H:$H,'②単純集計表 '!E27,①会場アンケート集計結果_省エネ住宅!$BN:$BN,0)","v":0},{"$error":"#DIV/0!"}]
[null,null,null,"男性","20代",null,{"$f":"COUNTIFS(①会場アンケート集計結果_省エネ住宅!$G:$G,'②単純集計表 '!D28,①会場アンケート集計結果_省エネ住宅!$H:$H,'②単純集計表 '!E28)","v":0},{"$f":"COUNTIFS(①会場アンケート集計結果_省エネ住宅!$G:$G,'②単純集計表 '!D28,①会場アンケート集計結果_省エネ住宅!$H:$H,'②単純集計表 '!E28,①会場アンケート集計結果_省エネ住宅!$BM:$BM,0)","v":0},{"$f":"COUNTIFS(①会場アンケート集計結果_省エネ住宅!$G:$G,'②単純集計表 '!D28,①会場アンケート集計結果_省エネ住宅!$H:$H,'②単純集計表 '!E28,①会場アンケート集計結果_省エネ住宅!$BN:$BN,0)","v":0},{"$error":"#DIV/0!"}]
[null,null,null,"男性","30代",null,{"$f":"COUNTIFS(①会場アンケート集計結果_省エネ住宅!$G:$G,'②単純集計表 '!D29,①会場アンケート集計結果_省エネ住宅!$H:$H,'②単純集計表 '!E29)","v":0},{"$f":"COUNTIFS(①会場アンケート集計結果_省エネ住宅!$G:$G,'②単純集計表 '!D29,①会場アンケート集計結果_省エネ住宅!$H:$H,'②単純集計表 '!E29,①会場アンケート集計結果_省エネ住宅!$BM:$BM,0)","v":0},{"$f":"COUNTIFS(①会場アンケート集計結果_省エネ住宅!$G:$G,'②単純集計表 '!D29,①会場アンケート集計結果_省エネ住宅!$H:$H,'②単純集計表 '!E29,①会場アンケート集計結果_省エネ住宅!$BN:$BN,0)","v":0},{"$error":"#DIV/0!"}]
[null,null,null,"男性","40代",null,{"$f":"COUNTIFS(①会場アンケート集計結果_省エネ住宅!$G:$G,'②単純集計表 '!D30,①会場アンケート集計結果_省エネ住宅!$H:$H,'②単純集計表 '!E30)","v":0},{"$f":"COUNTIFS(①会場アンケート集計結果_省エネ住宅!$G:$G,'②単純集計表 '!D30,①会場アンケート集計結果_省エネ住宅!$H:$H,'②単純集計表 '!E30,①会場アンケート集計結果_省エネ住宅!$BM:$BM,0)","v":0},{"$f":"COUNTIFS(①会場アンケート集計結果_省エネ住宅!$G:$G,'②単純集計表 '!D30,①会場アンケート集計結果_省エネ住宅!$H:$H,'②単純集計表 '!E30,①会場アンケート集計結果_省エネ住宅!$BN:$BN,0)","v":0},{"$error":"#DIV/0!"}]
[null,null,null,"男性","50代",null,{"$f":"COUNTIFS(①会場アンケート集計結果_省エネ住宅!$G:$G,'②単純集計表 '!D31,①会場アンケート集計結果_省エネ住宅!$H:$H,'②単純集計表 '!E31)","v":0},{"$f":"COUNTIFS(①会場アンケート集計結果_省エネ住宅!$G:$G,'②単純集計表 '!D31,①会場アンケート集計結果_省エネ住宅!$H:$H,'②単純集計表 '!E31,①会場アンケート集計結果_省エネ住宅!$BM:$BM,0)","v":0},{"$f":"COUNTIFS(①会場アンケート集計結果_省エネ住宅!$G:$G,'②単純集計表 '!D31,①会場アンケート集計結果_省エネ住宅!$H:$H,'②単純集計表 '!E31,①会場アンケート集計結果_省エネ住宅!$BN:$BN,0)","v":0},{"$error":"#DIV/0!"}]
[null,null,null,"男性","60代",null,{"$f":"COUNTIFS(①会場アンケート集計結果_省エネ住宅!$G:$G,'②単純集計表 '!D32,①会場アンケート集計結果_省エネ住宅!$H:$H,'②単純集計表 '!E32)","v":0},{"$f":"COUNTIFS(①会場アンケート集計結果_省エネ住宅!$G:$G,'②単純集計表 '!D32,①会場アンケート集計結果_省エネ住宅!$H:$H,'②単純集計表 '!E32,①会場アンケート集計結果_省エネ住宅!$BM:$BM,0)","v":0},{"$f":"COUNTIFS(①会場アンケート集計結果_省エネ住宅!$G:$G,'②単純集計表 '!D32,①会場アンケート集計結果_省エネ住宅!$H:$H,'②単純集計表 '!E32,①会場アンケート集計結果_省エネ住宅!$BN:$BN,0)","v":0},{"$error":"#DIV/0!"}]
[null,null,null,"男性","70代以上",null,{"$f":"COUNTIFS(①会場アンケート集計結果_省エネ住宅!$G:$G,'②単純集計表 '!D33,①会場アンケート集計結果_省エネ住宅!$H:$H,'②単純集計表 '!E33)","v":0},{"$f":"COUNTIFS(①会場アンケート集計結果_省エネ住宅!$G:$G,'②単純集計表 '!D33,①会場アンケート集計結果_省エネ住宅!$H:$H,'②単純集計表 '!E33,①会場アンケート集計結果_省エネ住宅!$BM:$BM,0)","v":0},{"$f":"COUNTIFS(①会場アンケート集計結果_省エネ住宅!$G:$G,'②単純集計表 '!D33,①会場アンケート集計結果_省エネ住宅!$H:$H,'②単純集計表 '!E33,①会場アンケート集計結果_省エネ住宅!$BN:$BN,0)","v":0},{"$error":"#DIV/0!"}]
[null,null,null,"女性",null,null,{"$f":"SUM(G35:G41)","v":0},{"$f":"SUM(H35:H41)","v":0},{"$f":"SUM(I35:I41)","v":0},{"$error":"#DIV/0!"}]
[null,null,null,"女性","10代",null,{"$f":"COUNTIFS(①会場アンケート集計結果_省エネ住宅!$G:$G,'②単純集計表 '!D35,①会場アンケート集計結果_省エネ住宅!$H:$H,'②単純集計表 '!E35)","v":0},{"$f":"COUNTIFS(①会場アンケート集計結果_省エネ住宅!$G:$G,'②単純集計表 '!D35,①会場アンケート集計結果_省エネ住宅!$H:$H,'②単純集計表 '!E35,①会場アンケート集計結果_省エネ住宅!$BM:$BM,0)","v":0},{"$f":"COUNTIFS(①会場アンケート集計結果_省エネ住宅!$G:$G,'②単純集計表 '!D35,①会場アンケート集計結果_省エネ住宅!$H:$H,'②単純集計表 '!E35,①会場アンケート集計結果_省エネ住宅!$BN:$BN,0)","v":0},{"$error":"#DIV/0!"}]
[null,null,null,"女性","20代",null,{"$f":"COUNTIFS(①会場アンケート集計結果_省エネ住宅!$G:$G,'②単純集計表 '!D36,①会場アンケート集計結果_省エネ住宅!$H:$H,'②単純集計表 '!E36)","v":0},{"$f":"COUNTIFS(①会場アンケート集計結果_省エネ住宅!$G:$G,'②単純集計表 '!D36,①会場アンケート集計結果_省エネ住宅!$H:$H,'②単純集計表 '!E36,①会場アンケート集計結果_省エネ住宅!$BM:$BM,0)","v":0},{"$f":"COUNTIFS(①会場アンケート集計結果_省エネ住宅!$G:$G,'②単純集計表 '!D36,①会場アンケート集計結果_省エネ住宅!$H:$H,'②単純集計表 '!E36,①会場アンケート集計結果_省エネ住宅!$BN:$BN,0)","v":0},{"$error":"#DIV/0!"}]
[null,null,null,"女性","30代",null,{"$f":"COUNTIFS(①会場アンケート集計結果_省エネ住宅!$G:$G,'②単純集計表 '!D37,①会場アンケート集計結果_省エネ住宅!$H:$H,'②単純集計表 '!E37)","v":0},{"$f":"COUNTIFS(①会場アンケート集計結果_省エネ住宅!$G:$G,'②単純集計表 '!D37,①会場アンケート集計結果_省エネ住宅!$H:$H,'②単純集計表 '!E37,①会場アンケート集計結果_省エネ住宅!$BM:$BM,0)","v":0},{"$f":"COUNTIFS(①会場アンケート集計結果_省エネ住宅!$G:$G,'②単純集計表 '!D37,①会場アンケート集計結果_省エネ住宅!$H:$H,'②単純集計表 '!E37,①会場アンケート集計結果_省エネ住宅!$BN:$BN,0)","v":0},{"$error":"#DIV/0!"}]
[null,null,null,"女性","40代",null,{"$f":"COUNTIFS(①会場アンケート集計結果_省エネ住宅!$G:$G,'②単純集計表 '!D38,①会場アンケート集計結果_省エネ住宅!$H:$H,'②単純集計表 '!E38)","v":0},{"$f":"COUNTIFS(①会場アンケート集計結果_省エネ住宅!$G:$G,'②単純集計表 '!D38,①会場アンケート集計結果_省エネ住宅!$H:$H,'②単純集計表 '!E38,①会場アンケート集計結果_省エネ住宅!$BM:$BM,0)","v":0},{"$f":"COUNTIFS(①会場アンケート集計結果_省エネ住宅!$G:$G,'②単純集計表 '!D38,①会場アンケート集計結果_省エネ住宅!$H:$H,'②単純集計表 '!E38,①会場アンケート集計結果_省エネ住宅!$BN:$BN,0)","v":0},{"$error":"#DIV/0!"}]
[null,null,null,"女性","50代",null,{"$f":"COUNTIFS(①会場アンケート集計結果_省エネ住宅!$G:$G,'②単純集計表 '!D39,①会場アンケート集計結果_省エネ住宅!$H:$H,'②単純集計表 '!E39)","v":0},{"$f":"COUNTIFS(①会場アンケート集計結果_省エネ住宅!$G:$G,'②単純集計表 '!D39,①会場アンケート集計結果_省エネ住宅!$H:$H,'②単純集計表 '!E39,①会場アンケート集計結果_省エネ住宅!$BM:$BM,0)","v":0},{"$f":"COUNTIFS(①会場アンケート集計結果_省エネ住宅!$G:$G,'②単純集計表 '!D39,①会場アンケート集計結果_省エネ住宅!$H:$H,'②単純集計表 '!E39,①会場アンケート集計結果_省エネ住宅!$BN:$BN,0)","v":0},{"$error":"#DIV/0!"}]
[null,null,null,"女性","60代",null,{"$f":"COUNTIFS(①会場アンケート集計結果_省エネ住宅!$G:$G,'②単純集計表 '!D40,①会場アンケート集計結果_省エネ住宅!$H:$H,'②単純集計表 '!E40)","v":0},{"$f":"COUNTIFS(①会場アンケート集計結果_省エネ住宅!$G:$G,'②単純集計表 '!D40,①会場アンケート集計結果_省エネ住宅!$H:$H,'②単純集計表 '!E40,①会場アンケート集計結果_省エネ住宅!$BM:$BM,0)","v":0},{"$f":"COUNTIFS(①会場アンケート集計結果_省エネ住宅!$G:$G,'②単純集計表 '!D40,①会場アンケート集計結果_省エネ住宅!$H:$H,'②単純集計表 '!E40,①会場アンケート集計結果_省エネ住宅!$BN:$BN,0)","v":0},{"$error":"#DIV/0!"}]
[null,null,null,"女性","70代以上",null,{"$f":"COUNTIFS(①会場アンケート集計結果_省エネ住宅!$G:$G,'②単純集計表 '!D41,①会場アンケート集計結果_省エネ住宅!$H:$H,'②単純集計表 '!E41)","v":0},{"$f":"COUNTIFS(①会場アンケート集計結果_省エネ住宅!$G:$G,'②単純集計表 '!D41,①会場アンケート集計結果_省エネ住宅!$H:$H,'②単純集計表 '!E41,①会場アンケート集計結果_省エネ住宅!$BM:$BM,0)","v":0},{"$f":"COUNTIFS(①会場アンケート集計結果_省エネ住宅!$G:$G,'②単純集計表 '!D41,①会場アンケート集計結果_省エネ住宅!$H:$H,'②単純集計表 '!E41,①会場アンケート集計結果_省エネ住宅!$BN:$BN,0)","v":0},{"$error":"#DIV/0!"}]
[null,null,null,"その他","その他",null,{"$f":"COUNTIFS(①会場アンケート集計結果_省エネ住宅!$G:$G,'②単純集計表 '!D42,①会場アンケート集計結果_省エネ住宅!$H:$H,\"<>\"&D43)","v":0},{"$f":"COUNTIFS(①会場アンケート集計結果_省エネ住宅!$G:$G,'②単純集計表 '!D42,①会場アンケート集計結果_省エネ住宅!$H:$H,\"<>\"&D43,①会場アンケート集計結果_省エネ住宅!$BM:$BM,0)","v":0},{"$f":"COUNTIFS(①会場アンケート集計結果_省エネ住宅!$G:$G,'②単純集計表 '!D42,①会場アンケート集計結果_省エネ住宅!$H:$H,\"<>\"&D43,①会場アンケート集計結果_省エネ住宅!$BM:$BM,0)","v":0},{"$error":"#DIV/0!"}]
[null,null,null,"未回答","未回答",null,{"$f":"COUNTIFS(①会場アンケート集計結果_省エネ住宅!$G:$G,'②単純集計表 '!D43,①会場アンケート集計結果_省エネ住宅!$H:$H,\"<>\")+COUNTIFS(①会場アンケート集計結果_省エネ住宅!$G:$G,\"<>\",①会場アンケート集計結果_省エネ住宅!$H:$H,E43)-COUNTIFS(①会場アンケート集計結果_省エネ住宅!$G:$G,D43,①会場アンケート集計結果_省エネ住宅!$H:$H,E43)","v":0},{"$f":"COUNTIFS(①会場アンケート集計結果_省エネ住宅!$G:$G,'②単純集計表 '!D43,①会場アンケート集計結果_省エネ住宅!$H:$H,\"<>\",①会場アンケート集計結果_省エネ住宅!$BM:$BM,0)+COUNTIFS(①会場アンケート集計結果_省エネ住宅!$G:$G,\"<>\",①会場アンケート集計結果_省エネ住宅!$H:$H,E43,①会場アンケート集計結果_省エネ住宅!$BM:$BM,0)-COUNTIFS(①会場アンケート集計結果_省エネ住宅!$G:$G,D43,①会場アンケート集計結果_省エネ住宅!$H:$H,E43,①会場アンケート集計結果_省エネ住宅!$BM:$BM,0)","v":0},{"$f":"COUNTIFS(①会場アンケート集計結果_省エネ住宅!$G:$G,'②単純集計表 '!D43,①会場アンケート集計結果_省エネ住宅!$H:$H,\"<>\",①会場アンケート集計結果_省エネ住宅!$BM:$BM,0)+COUNTIFS(①会場アンケート集計結果_省エネ住宅!$G:$G,\"<>\",①会場アンケート集計結果_省エネ住宅!$H:$H,E43,①会場アンケート集計結果_省エネ住宅!$BM:$BM,0)-COUNTIFS(①会場アンケート集計結果_省エネ住宅!$G:$G,D43,①会場アンケート集計結果_省エネ住宅!$H:$H,E43,①会場アンケート集計結果_省エネ住宅!$BM:$BM,0)","v":0},{"$error":"#DIV/0!"}]
[null,null,null,null,null,"検算用",{"$f":"SUM(G35:G43,G27:G33)","v":0},{"$f":"SUM(H35:H43,H27:H33)","v":0},0]
[]
[]
[null,"【設問2】住宅の購入／リフォームの実施意向・予定について、最も当てはまるものをお選びください。"]
[]
[null,null,null,null,null,null,"回答者数","%","検算用"]
[null,"住宅の購入",1,"今後3年以内に購入／実施を予定している",null,null,{"$f":"COUNTIFS(①会場アンケート集計結果_省エネ住宅!$BM:$BM,0,①会場アンケート集計結果_省エネ住宅!I:I,1)","v":0},{"$f":"G50/$K$3","v":{"$error":"#DIV/0!"}}]
[null,null,2,"予定はないが、いつか購入／実施したい",null,null,{"$f":"COUNTIFS(①会場アンケート集計結果_省エネ住宅!$BM:$BM,0,①会場アンケート集計結果_省エネ住宅!J:J,1)","v":0},{"$f":"G51/$K$3","v":{"$error":"#DIV/0!"}}]
[null,null,3,"予定はなく、購入／実施意向もない",null,null,{"$f":"COUNTIFS(①会場アンケート集計結果_省エネ住宅!$BM:$BM,0,①会場アンケート集計結果_省エネ住宅!K:K,1)","v":0},{"$f":"G52/$K$3","v":{"$error":"#DIV/0!"}}]
[null,null,99,"未回答",null,null,{"$f":"COUNTIFS(①会場アンケート集計結果_省エネ住宅!$BM:$BM,0,①会場アンケート集計結果_省エネ住宅!L:L,1)","v":0},{"$f":"G53/$K$3","v":{"$error":"#DIV/0!"}},{"$f":"SUM(G50:G53)","v":0}]
[null,"リフォーム",1,"今後3年以内に購入／実施を予定している",null,null,{"$f":"COUNTIFS(①会場アンケート集計結果_省エネ住宅!$BN:$BN,0,①会場アンケート集計結果_省エネ住宅!M:M,1)","v":0},{"$f":"G54/$K$4","v":{"$error":"#DIV/0!"}}]
[null,null,2,"予定はないが、いつか購入／実施したい",null,null,{"$f":"COUNTIFS(①会場アンケート集計結果_省エネ住宅!$BN:$BN,0,①会場アンケート集計結果_省エネ住宅!N:N,1)","v":0},{"$f":"G55/$K$4","v":{"$error":"#DIV/0!"}}]
[null,null,3,"予定はなく、購入／実施意向もない",null,null,{"$f":"COUNTIFS(①会場アンケート集計結果_省エネ住宅!$BN:$BN,0,①会場アンケート集計結果_省エネ住宅!O:O,1)","v":0},{"$f":"G56/$K$4","v":{"$error":"#DIV/0!"}}]
[null,null,99,"未回答",null,null,{"$f":"COUNTIFS(①会場アンケート集計結果_省エネ住宅!$BN:$BN,0,①会場アンケート集計結果_省エネ住宅!P:P,1)","v":0},{"$f":"G57/$K$4","v":{"$error":"#DIV/0!"}},{"$f":"SUM(G54:G57)","v":0}]
[]
[]
[]
[]
[]
[]
[null,"【設問3】イベント前、下記の省エネ住宅について興味がありましたか。最も当てはまるものをお選びください。"]
[]
[null,null,null,null,null,null,"回答者数","%","検算用"]
[null,"ZEH",1,"すでに購入／実施したことがある",null,null,{"$f":"COUNTIFS(①会場アンケート集計結果_省エネ住宅!$BM:$BM,0,①会場アンケート集計結果_省エネ住宅!Q:Q,1)","v":0},{"$f":"G67/$K$3","v":{"$error":"#DIV/0!"}}]
[null,null,2,"内容を知っていて、興味もあった",null,null,{"$f":"COUNTIFS(①会場アンケート集計結果_省エネ住宅!$BM:$BM,0,①会場アンケート集計結果_省エネ住宅!R:R,1)","v":0},{"$f":"G68/$K$3","v":{"$error":"#DIV/0!"}}]
[null,null,3,"内容は知っていたが、興味はなかった",null,null,{"$f":"COUNTIFS(①会場アンケート集計結果_省エネ住宅!$BM:$BM,0,①会場アンケート集計結果_省エネ住宅!S:S,1)","v":0},{"$f":"G69/$K$3","v":{"$error":"#DIV/0!"}}]
[null,null,4,"知らなかった",null,null,{"$f":"COUNTIFS(①会場アンケート集計結果_省エネ住宅!$BM:$BM,0,①会場アンケート集計結果_省エネ住宅!T:T,1)","v":0},{"$f":"G70/$K$3","v":{"$error":"#DIV/0!"}}]
[null,null,99,"未回答",null,null,{"$f":"COUNTIFS(①会場アンケート集計結果_省エネ住宅!$BM:$BM,0,①会場アンケート集計結果_省エネ住宅!U:U,1)","v":0},{"$f":"G71/$K$3","v":{"$error":"#DIV/0!"}},{"$f":"SUM(G67:G71)","v":0}]
[null,"断熱リフォーム",1,"すでに購入／実施したことがある",null,null,{"$f":"COUNTIFS(①会場アンケート集計結果_省エネ住宅!$BN:$BN,0,①会場アンケート集計結果_省エネ住宅!V:V,1)","v":0},{"$f":"G72/$K$4","v":{"$error":"#DIV/0!"}}]
[null,null,2,"内容を知っていて、興味もあった",null,null,{"$f":"COUNTIFS(①会場アンケート集計結果_省エネ住宅!$BN:$BN,0,①会場アンケート集計結果_省エネ住宅!W:W,1)","v":0},{"$f":"G73/$K$4","v":{"$error":"#DIV/0!"}}]
[null,null,3,"内容は知っていたが、興味はなかった",null,null,{"$f":"COUNTIFS(①会場アンケート集計結果_省エネ住宅!$BN:$BN,0,①会場アンケート集計結果_省エネ住宅!X:X,1)","v":0},{"$f":"G74/$K$4","v":{"$error":"#DIV/0!"}}]
[null,null,4,"知らなかった",null,null,{"$f":"COUNTIFS(①会場アンケート集計結果_省エネ住宅!$BN:$BN,0,①会場アンケート集計結果_省エネ住宅!Y:Y,1)","v":0},{"$f":"G75/$K$4","v":{"$error":"#DIV/0!"}}]
[null,null,99,"未回答",null,null,{"$f":"COUNTIFS(①会場アンケート集計結果_省エネ住宅!$BN:$BN,0,①会場アンケート集計結果_省エネ住宅!Z:Z,1)","v":0},{"$f":"G76/$K$4","v":{"$error":"#DIV/0!"}},{"$f":"SUM(G72:G76)","v":0}]
[]
[]
[]
[]
[null,"【設問4】今後、ZEHを購入／断熱リフォームを実施したいと思いますか。"]
[]
[null,null,null,null,null,null,null,"回答者数","%","検算用"]
[null,"ZEH",1,"すでに購入／実施したことがある",null,null,null,{"$f":"COUNTIFS(①会場アンケート集計結果_省エネ住宅!$BM:$BM,0,①会場アンケート集計結果_省エネ住宅!AA:AA,1)","v":0},{"$f":"H84/$K$3","v":{"$error":"#DIV/0!"}}]
[null,null,2,"機会があれば購入／実施したい",null,null,null,{"$f":"COUNTIFS(①会場アンケート集計結果_省エネ住宅!$BM:$BM,0,①会場アンケート集計結果_省エネ住宅!AB:AB,1)","v":0},{"$f":"H85/$K$3","v":{"$error":"#DIV/0!"}}]
[null,null,3,"興味はあるが、購入／実施対象には入らない",null,null,null,{"$f":"COUNTIFS(①会場アンケート集計結果_省エネ住宅!$BM:$BM,0,①会場アンケート集計結果_省エネ住宅!AC:AC,1)","v":0},{"$f":"H86/$K$3","v":{"$error":"#DIV/0!"}}]
[null,null,4,"興味がない",null,null,null,{"$f":"COUNTIFS(①会場アンケート集計結果_省エネ住宅!$BM:$BM,0,①会場アンケート集計結果_省エネ住宅!AD:AD,1)","v":0},{"$f":"H87/$K$3","v":{"$error":"#DIV/0!"}}]
[null,null,99,"未回答",null,null,null,{"$f":"COUNTIFS(①会場アンケート集計結果_省エネ住宅!$BM:$BM,0,①会場アンケート集計結果_省エネ住宅!AE:AE,1)","v":0},{"$f":"H88/$K$3","v":{"$error":"#DIV/0!"}},{"$f":"SUM(H84:H88)","v":0}]
[null,"断熱リフォーム",1,"すでに購入／実施したことがある",null,null,null,{"$f":"COUNTIFS(①会場アンケート集計結果_省エネ住宅!$BN:$BN,0,①会場アンケート集計結果_省エネ住宅!AF:AF,1)","v":0},{"$f":"H89/$K$4","v":{"$error":"#DIV/0!"}}]
[null,null,2,"機会があれば購入／実施したい",null,null,null,{"$f":"COUNTIFS(①会場アンケート集計結果_省エネ住宅!$BN:$BN,0,①会場アンケート集計結果_省エネ住宅!AG:AG,1)","v":0},{"$f":"H90/$K$4","v":{"$error":"#DIV/0!"}}]
[null,null,3,"興味はあるが、購入／実施対象には入らない",null,null,null,{"$f":"COUNTIFS(①会場アンケート集計結果_省エネ住宅!$BN:$BN,0,①会場アンケート集計結果_省エネ住宅!AH:AH,1)","v":0},{"$f":"H91/$K$4","v":{"$error":"#DIV/0!"}}]
[null,null,4,"興味がない",null,null,null,{"$f":"COUNTIFS(①会場アンケート集計結果_省エネ住宅!$BN:$BN,0,①会場アンケート集計結果_省エネ住宅!AI:AI,1)","v":0},{"$f":"H92/$K$4","v":{"$error":"#DIV/0!"}}]
[null,null,99,"未回答",null,null,null,{"$f":"COUNTIFS(①会場アンケート集計結果_省エネ住宅!$BN:$BN,0,①会場アンケート集計結果_省エネ住宅!AJ:AJ,1)","v":0},{"$f":"H93/$K$4","v":{"$error":"#DIV/0!"}},{"$f":"SUM(H89:H93)","v":0}]
[]
[]
[]
[]
[null,"【設問5】なぜZEH／断熱リフォームに興味を持ちましたか。（いくつでも）"]
[null,"※設問4で「既に購入・実施した」「機会があれば購入・実施したい」「興味はあるが、購入・実施対象には入らない」と回答した人対象"]
[]
[null,null,null,null,null,null,null,null,"回答者数","%"]
[null,"ZEH",1,"CO2削減に貢献するため",null,null,null,null,{"$f":"COUNTIFS(①会場アンケート集計結果_省エネ住宅!$BM:$BM,0,①会場アンケート集計結果_省エネ住宅!AK:AK,1,①会場アンケート集計結果_省エネ住宅!BG:BG,1)","v":0},{"$f":"I102/$K$107","v":{"$error":"#DIV/0!"}}]
[null,null,2,"光熱費が安くなるなど経済的メリットが期待できるため",null,null,null,null,{"$f":"COUNTIFS(①会場アンケート集計結果_省エネ住宅!$BM:$BM,0,①会場アンケート集計結果_省エネ住宅!AL:AL,1,①会場アンケート集計結果_省エネ住宅!BG:BG,1)","v":0},{"$f":"I103/$K$107","v":{"$error":"#DIV/0!"}}]
[null,null,3,"住環境が快適になるため",null,null,null,null,{"$f":"COUNTIFS(①会場アンケート集計結果_省エネ住宅!$BM:$BM,0,①会場アンケート集計結果_省エネ住宅!AM:AM,1,①会場アンケート集計結果_省エネ住宅!BG:BG,1)","v":0},{"$error":"#DIV/0!"}]
[null,null,4,"疾患のリスクの軽減が期待できるため",null,null,null,null,{"$f":"COUNTIFS(①会場アンケート集計結果_省エネ住宅!$BM:$BM,0,①会場アンケート集計結果_省エネ住宅!AN:AN,1,①会場アンケート集計結果_省エネ住宅!BG:BG,1)","v":0},{"$error":"#DIV/0!"}]
[null,null,5,"その他",null,null,null,null,{"$f":"COUNTIFS(①会場アンケート集計結果_省エネ住宅!$BM:$BM,0,①会場アンケート集計結果_省エネ住宅!AO:AO,1,①会場アンケート集計結果_省エネ住宅!BG:BG,1)","v":0},{"$error":"#DIV/0!"}]
[null,null,99,"未回答",null,null,null,null,{"$f":"COUNTIFS(①会場アンケート集計結果_省エネ住宅!$BM:$BM,0,①会場アンケート集計結果_省エネ住宅!AP:AP,1,①会場アンケート集計結果_省エネ住宅!BG:BG,1)","v":0},{"$error":"#DIV/0!"},{"$f":"COUNTIFS(①会場アンケート集計結果_省エネ住宅!$BM:$BM,0,①会場アンケート集計結果_省エネ住宅!BG:BG,1)","v":0}]
[null,"断熱リフォーム",1,"CO2削減に貢献するため",null,null,null,null,{"$f":"COUNTIFS(①会場アンケート集計結果_省エネ住宅!$BN:$BN,0,①会場アンケート集計結果_省エネ住宅!AQ:AQ,1,①会場アンケート集計結果_省エネ住宅!BH:BH,1)","v":0},{"$f":"I108/$K$113","v":{"$error":"#DIV/0!"}}]
[null,null,2,"光熱費が安くなるなど経済的メリットが期待できるため",null,null,null,null,{"$f":"COUNTIFS(①会場アンケート集計結果_省エネ住宅!$BN:$BN,0,①会場アンケート集計結果_省エネ住宅!AR:AR,1,①会場アンケート集計結果_省エネ住宅!BH:BH,1)","v":0},{"$f":"I109/$K$113","v":{"$error":"#DIV/0!"}}]
[null,null,3,"住環境が快適になるため",null,null,null,null,{"$f":"COUNTIFS(①会場アンケート集計結果_省エネ住宅!$BN:$BN,0,①会場アンケート集計結果_省エネ住宅!AS:AS,1,①会場アンケート集計結果_省エネ住宅!BH:BH,1)","v":0},{"$error":"#DIV/0!"}]
[null,null,4,"疾患のリスクの軽減が期待できるため",null,null,null,null,{"$f":"COUNTIFS(①会場アンケート集計結果_省エネ住宅!$BN:$BN,0,①会場アンケート集計結果_省エネ住宅!AT:AT,1,①会場アンケート集計結果_省エネ住宅!BH:BH,1)","v":0},{"$error":"#DIV/0!"}]
[null,null,5,"その他",null,null,null,null,{"$f":"COUNTIFS(①会場アンケート集計結果_省エネ住宅!$BN:$BN,0,①会場アンケート集計結果_省エネ住宅!AU:AU,1,①会場アンケート集計結果_省エネ住宅!BH:BH,1)","v":0},{"$error":"#DIV/0!"}]
[null,null,99,"未回答",null,null,null,null,{"$f":"COUNTIFS(①会場アンケート集計結果_省エネ住宅!$BN:$BN,0,①会場アンケート集計結果_省エネ住宅!AV:AV,1,①会場アンケート集計結果_省エネ住宅!BH:BH,1)","v":0},{"$error":"#DIV/0!"},{"$f":"COUNTIFS(①会場アンケート集計結果_省エネ住宅!$BN:$BN,0,①会場アンケート集計結果_省エネ住宅!BH:BH,1)","v":0}]
[]
[]
[]
[]
[null,"【設問3、4】行動変容・意識変容"]
[]
[null,null,null,null,null,null,"回答者数","%","検算用"]
[null,"ZEH","購入／実施済み",null,null,null,{"$f":"SUM(L138:L143)","v":0},{"$f":"G121/$K$3","v":{"$error":"#DIV/0!"}}]
[null,null,"意識変容",null,null,null,{"$f":"SUM(L144:L147)","v":0},{"$error":"#DIV/0!"}]
[null,null,"現状維持",null,null,null,{"$f":"SUM(L148:L151)","v":0},{"$error":"#DIV/0!"}]
[null,null,"マイナス変容",null,null,null,{"$f":"SUM(L152)","v":0},{"$error":"#DIV/0!"}]
[null,null,"＜無効回答＞回答に矛盾があるため除外",null,null,null,{"$f":"SUM(L153:L155)","v":0},{"$error":"#DIV/0!"}]
[null,null,"対象外（一部未回答など）",null,null,null,{"$f":"SUM(L156:L162)","v":0},{"$error":"#DIV/0!"},{"$f":"SUM(G121:G126)","v":0}]
[null,"断熱リフォーム","購入／実施済み",null,null,null,{"$f":"SUM(L171:L176)","v":0},{"$f":"G127/$K$4","v":{"$error":"#DIV/0!"}}]
[null,null,"意識変容",null,null,null,{"$f":"SUM(L177:L180)","v":0},{"$error":"#DIV/0!"}]
[null,null,"現状維持",null,null,null,{"$f":"SUM(L181:L184)","v":0},{"$error":"#DIV/0!"}]
[null,null,"マイナス変容",null,null,null,{"$f":"SUM(L185)","v":0},{"$error":"#DIV/0!"}]
[null,null,"＜無効回答＞回答に矛盾があるため除外",null,null,null,{"$f":"SUM(L186:L188)","v":0},{"$error":"#DIV/0!"}]
[null,null,"対象外（一部未回答など）",null,null,null,{"$f":"SUM(L189:L195)","v":0},{"$error":"#DIV/0!"},{"$f":"SUM(G127:G132)","v":0}]
[]
[]
[null,"変容定義"]
[null,"ZEH"]
[null,null,null,"イベント前",null,null,null,"今後",null,null,null,"回答者数"]
[null,"行動済み",null,1,"すでに購入したことがある",null,null,1,"すでに購入したことがある",null,null,{"$f":"COUNTIFS(①会場アンケート集計結果_省エネ住宅!Q$11:Q$2010,1,①会場アンケート集計結果_省エネ住宅!AA$11:AA$2010,1,①会場アンケート集計結果_省エネ住宅!$BI$11:$BI$2010,0)","v":0}]
[null,null,null,1,"すでに購入したことがある",null,null,99,"未回答",null,null,{"$f":"COUNTIFS(①会場アンケート集計結果_省エネ住宅!Q$11:Q$2010,1,①会場アンケート集計結果_省エネ住宅!AE$11:AE$2010,1,①会場アンケート集計結果_省エネ住宅!$BI$11:$BI$2010,0)","v":0}]
[null,null,null,2,"内容を知っていて、興味もあった",null,null,1,"すでに購入したことがある",null,null,{"$f":"COUNTIFS(①会場アンケート集計結果_省エネ住宅!R$11:R$2010,1,①会場アンケート集計結果_省エネ住宅!AA$11:AA$2010,1,①会場アンケート集計結果_省エネ住宅!$BI$11:$BI$2010,0)","v":0}]
[null,null,null,3,"内容は知っていたが、興味はなかった",null,null,1,"すでに購入したことがある",null,null,{"$f":"COUNTIFS(①会場アンケート集計結果_省エネ住宅!S$11:S$2010,1,①会場アンケート集計結果_省エネ住宅!AA$11:AA$2010,1,①会場アンケート集計結果_省エネ住宅!$BI$11:$BI$2010,0)","v":0}]
[null,null,null,4,"知らなかった",null,null,1,"すでに購入したことがある",null,null,{"$f":"COUNTIFS(①会場アンケート集計結果_省エネ住宅!T$11:T$2010,1,①会場アンケート集計結果_省エネ住宅!AA$11:AA$2010,1,①会場アンケート集計結果_省エネ住宅!$BI$11:$BI$2010,0)","v":0}]
[null,null,null,99,"未回答",null,null,1,"すでに購入したことがある",null,null,{"$f":"COUNTIFS(①会場アンケート集計結果_省エネ住宅!U$11:U$2010,1,①会場アンケート集計結果_省エネ住宅!AA$11:AA$2010,1,①会場アンケート集計結果_省エネ住宅!$BI$11:$BI$2010,0)","v":0}]
[null,"意識変容",null,3,"内容は知っていたが、興味はなかった",null,null,2,"機会があれば購入したい",null,null,{"$f":"COUNTIFS(①会場アンケート集計結果_省エネ住宅!S$11:S$2010,1,①会場アンケート集計結果_省エネ住宅!AB$11:AB$2010,1,①会場アンケート集計結果_省エネ住宅!$BI$11:$BI$2010,0)","v":0}]
[null,null,null,3,"内容は知っていたが、興味はなかった",null,null,3,"興味はあるが、購入対象には入らない",null,null,{"$f":"COUNTIFS(①会場アンケート集計結果_省エネ住宅!S$11:S$2010,1,①会場アンケート集計結果_省エネ住宅!AC$11:AC$2010,1,①会場アンケート集計結果_省エネ住宅!$BI$11:$BI$2010,0)","v":0}]
[null,null,null,4,"知らなかった",null,null,2,"機会があれば購入したい",null,null,{"$f":"COUNTIFS(①会場アンケート集計結果_省エネ住宅!T$11:T$2010,1,①会場アンケート集計結果_省エネ住宅!AB$11:AB$2010,1,①会場アンケート集計結果_省エネ住宅!$BI$11:$BI$2010,0)","v":0}]
[null,null,null,4,"知らなかった",null,null,3,"興味はあるが、購入対象には入らない",null,null,{"$f":"COUNTIFS(①会場アンケート集計結果_省エネ住宅!T$11:T$2010,1,①会場アンケート集計結果_省エネ住宅!AC$11:AC$2010,1,①会場アンケート集計結果_省エネ住宅!$BI$11:$BI$2010,0)","v":0}]
[null,"現状維持",null,2,"内容を知っていて、興味もあった",null,null,2,"機会があれば購入したい",null,null,{"$f":"COUNTIFS(①会場アンケート集計結果_省エネ住宅!R$11:R$2010,1,①会場アンケート集計結果_省エネ住宅!AB$11:AB$2010,1,①会場アンケート集計結果_省エネ住宅!$BI$11:$BI$2010,0)","v":0}]
[null,null,null,2,"内容を知っていて、興味もあった",null,null,3,"興味はあるが、購入対象には入らない",null,null,{"$f":"COUNTIFS(①会場アンケート集計結果_省エネ住宅!R$11:R$2010,1,①会場アンケート集計結果_省エネ住宅!AC$11:AC$2010,1,①会場アンケート集計結果_省エネ住宅!$BI$11:$BI$2010,0)","v":0}]
[null,null,null,3,"内容は知っていたが、興味はなかった",null,null,4,"興味がない",null,null,{"$f":"COUNTIFS(①会場アンケート集計結果_省エネ住宅!S$11:S$2010,1,①会場アンケート集計結果_省エネ住宅!AD$11:AD$2010,1,①会場アンケート集計結果_省エネ住宅!$BI$11:$BI$2010,0)","v":0}]
[null,null,null,4,"知らなかった",null,null,4,"興味がない",null,null,{"$f":"COUNTIFS(①会場アンケート集計結果_省エネ住宅!T$11:T$2010,1,①会場アンケート集計結果_省エネ住宅!AD$11:AD$2010,1,①会場アンケート集計結果_省エネ住宅!$BI$11:$BI$2010,0)","v":0}]
[null,"マイナス変容",null,2,"内容を知っていて、興味もあった",null,null,4,"興味がない",null,null,{"$f":"COUNTIFS(①会場アンケート集計結果_省エネ住宅!R$11:R$2010,1,①会場アンケート集計結果_省エネ住宅!AD$11:AD$2010,1,①会場アンケート集計結果_省エネ住宅!$BI$11:$BI$2010,0)","v":0}]
[null,"<無効回答>\n回答に矛盾があるため除外",null,1,"すでに購入したことがある",null,null,2,"機会があれば購入したい",null,null,{"$f":"COUNTIFS(①会場アンケート集計結果_省エネ住宅!Q$11:Q$2010,1,①会場アンケート集計結果_省エネ住宅!AB$11:AB$2010,1,①会場アンケート集計結果_省エネ住宅!$BI$11:$BI$2010,0)","v":0}]
[null,null,null,1,"すでに購入したことがある",null,null,3,"興味はあるが、購入対象には入らない",null,null,{"$f":"COUNTIFS(①会場アンケート集計結果_省エネ住宅!Q$11:Q$2010,1,①会場アンケート集計結果_省エネ住宅!AC$11:AC$2010,1,①会場アンケート集計結果_省エネ住宅!$BI$11:$BI$2010,0)","v":0}]
[null,null,null,1,"すでに購入したことがある",null,null,4,"興味がない",null,null,{"$f":"COUNTIFS(①会場アンケート集計結果_省エネ住宅!Q$11:Q$2010,1,①会場アンケート集計結果_省エネ住宅!AD$11:AD$2010,1,①会場アンケート集計結果_省エネ住宅!$BI$11:$BI$2010,0)","v":0}]
[null,"＜無効回答＞\n対象外（一部未回答など）",null,99,"未回答",null,null,2,"機会があれば購入したい",null,null,{"$f":"COUNTIFS(①会場アンケート集計結果_省エネ住宅!U$11:U$2010,1,①会場アンケート集計結果_省エネ住宅!AB$11:AB$2010,1,①会場アンケート集計結果_省エネ住宅!$BI$11:$BI$2010,0)","v":0}]
[null,null,null,99,"未回答",null,null,3,"興味はあるが、購入対象には入らない",null,null,{"$f":"COUNTIFS(①会場アンケート集計結果_省エネ住宅!U$11:U$2010,1,①会場アンケート集計結果_省エネ住宅!AC$11:AC$2010,1,①会場アンケート集計結果_省エネ住宅!$BI$11:$BI$2010,0)","v":0}]
[null,null,null,99,"未回答",null,null,4,"興味がない",null,null,{"$f":"COUNTIFS(①会場アンケート集計結果_省エネ住宅!U$11:U$2010,1,①会場アンケート集計結果_省エネ住宅!AD$11:AD$2010,1,①会場アンケート集計結果_省エネ住宅!$BI$11:$BI$2010,0)","v":0}]
[null,null,null,99,"未回答",null,null,99,"未回答",null,null,{"$f":"COUNTIFS(①会場アンケート集計結果_省エネ住宅!U$11:U$2010,1,①会場アンケート集計結果_省エネ住宅!AE$11:AE$2010,1,①会場アンケート集計結果_省エネ住宅!$BI$11:$BI$2010,0)","v":0}]
[null,null,null,2,"内容を知っていて、興味もあった",null,null,99,"未回答",null,null,{"$f":"COUNTIFS(①会場アンケート集計結果_省エネ住宅!R$11:R$2010,1,①会場アンケート集計結果_省エネ住宅!AE$11:AE$2010,1,①会場アンケート集計結果_省エネ住宅!$BI$11:$BI$2010,0)","v":0}]
[null,null,null,3,"内容は知っていたが、興味はなかった",null,null,99,"未回答",null,null,{"$f":"COUNTIFS(①会場アンケート集計結果_省エネ住宅!S$11:S$2010,1,①会場アンケート集計結果_省エネ住宅!AE$11:AE$2010,1,①会場アンケート集計結果_省エネ住宅!$BI$11:$BI$2010,0)","v":0}]
[null,null,null,4,"知らなかった",null,null,99,"未回答",null,null,{"$f":"COUNTIFS(①会場アンケート集計結果_省エネ住宅!T$11:T$2010,1,①会場アンケート集計結果_省エネ住宅!AE$11:AE$2010,1,①会場アンケート集計結果_省エネ住宅!$BI$11:$BI$2010,0)","v":0}]
[null,null,null,null,null,null,null,null,null,null,"＜検算用＞"]
[null,null,null,null,null,null,null,null,null,null,"有効回答⇒",{"$f":"SUM(L138:L152)","v":0}]
[null,null,null,null,null,null,null,null,null,null,"無効回答（矛盾）⇒",{"$f":"SUM(L153:L155)","v":0}]
[null,null,null,null,null,null,null,null,null,null,"無効回答（一部未回答）⇒",{"$f":"SUM(L156:L162)","v":0}]
[null,null,null,null,null,null,null,null,null,null,"無効回答（複数回答）⇒",{"$f":"COUNTIFS(①会場アンケート集計結果_省エネ住宅!$BI$11:$BI$2010,1)","v":0}]
[null,null,null,null,null,null,null,null,null,null,"アンケート回収数⇒",{"$f":"SUM(L164:L167)","v":0}]
[null,"断熱リフォーム"]
[null,null,null,"イベント前",null,null,null,"今後",null,null,null,"回答者数"]
[null,"行動済み",null,1,"すでに実施したことがある",null,null,1,"すでに実施したことがある",null,null,{"$f":"COUNTIFS(①会場アンケート集計結果_省エネ住宅!V$11:V$2010,1,①会場アンケート集計結果_省エネ住宅!AF$11:AF$2010,1,①会場アンケート集計結果_省エネ住宅!$BI$11:$BI$2010,0)","v":0}]
[null,null,null,1,"すでに実施したことがある",null,null,99,"未回答",null,null,{"$f":"COUNTIFS(①会場アンケート集計結果_省エネ住宅!V$11:V$2010,1,①会場アンケート集計結果_省エネ住宅!AJ$11:AJ$2010,1,①会場アンケート集計結果_省エネ住宅!$BI$11:$BI$2010,0)","v":0}]
[null,null,null,2,"内容を知っていて、興味もあった",null,null,1,"すでに実施したことがある",null,null,{"$f":"COUNTIFS(①会場アンケート集計結果_省エネ住宅!W$11:W$2010,1,①会場アンケート集計結果_省エネ住宅!AF$11:AF$2010,1,①会場アンケート集計結果_省エネ住宅!$BI$11:$BI$2010,0)","v":0}]
[null,null,null,3,"内容は知っていたが、興味はなかった",null,null,1,"すでに実施したことがある",null,null,{"$f":"COUNTIFS(①会場アンケート集計結果_省エネ住宅!X$11:X$2010,1,①会場アンケート集計結果_省エネ住宅!AF$11:AF$2010,1,①会場アンケート集計結果_省エネ住宅!$BI$11:$BI$2010,0)","v":0}]
[null,null,null,4,"知らなかった",null,null,1,"すでに実施したことがある",null,null,{"$f":"COUNTIFS(①会場アンケート集計結果_省エネ住宅!Y$11:Y$2010,1,①会場アンケート集計結果_省エネ住宅!AF$11:AF$2010,1,①会場アンケート集計結果_省エネ住宅!$BI$11:$BI$2010,0)","v":0}]
[null,null,null,99,"未回答",null,null,1,"すでに実施したことがある",null,null,{"$f":"COUNTIFS(①会場アンケート集計結果_省エネ住宅!Z$11:Z$2010,1,①会場アンケート集計結果_省エネ住宅!AF$11:AF$2010,1,①会場アンケート集計結果_省エネ住宅!$BI$11:$BI$2010,0)","v":0}]
[null,"意識変容",null,3,"内容は知っていたが、興味はなかった",null,null,2,"機会があれば実施したい",null,null,{"$f":"COUNTIFS(①会場アンケート集計結果_省エネ住宅!X$11:X$2010,1,①会場アンケート集計結果_省エネ住宅!AG$11:AG$2010,1,①会場アンケート集計結果_省エネ住宅!$BI$11:$BI$2010,0)","v":0}]
[null,null,null,3,"内容は知っていたが、興味はなかった",null,null,3,"興味はあるが、実施対象には入らない",null,null,{"$f":"COUNTIFS(①会場アンケート集計結果_省エネ住宅!X$11:X$2010,1,①会場アンケート集計結果_省エネ住宅!AH$11:AH$2010,1,①会場アンケート集計結果_省エネ住宅!$BI$11:$BI$2010,0)","v":0}]
[null,null,null,4,"知らなかった",null,null,2,"機会があれば実施したい",null,null,{"$f":"COUNTIFS(①会場アンケート集計結果_省エネ住宅!Y$11:Y$2010,1,①会場アンケート集計結果_省エネ住宅!AG$11:AG$2010,1,①会場アンケート集計結果_省エネ住宅!$BI$11:$BI$2010,0)","v":0}]
[null,null,null,4,"知らなかった",null,null,3,"興味はあるが、実施対象には入らない",null,null,{"$f":"COUNTIFS(①会場アンケート集計結果_省エネ住宅!Y$11:Y$2010,1,①会場アンケート集計結果_省エネ住宅!AH$11:AH$2010,1,①会場アンケート集計結果_省エネ住宅!$BI$11:$BI$2010,0)","v":0}]
[null,"現状維持",null,2,"内容を知っていて、興味もあった",null,null,2,"機会があれば実施したい",null,null,{"$f":"COUNTIFS(①会場アンケート集計結果_省エネ住宅!W$11:W$2010,1,①会場アンケート集計結果_省エネ住宅!AG$11:AG$2010,1,①会場アンケート集計結果_省エネ住宅!$BI$11:$BI$2010,0)","v":0}]
[null,null,null,2,"内容を知っていて、興味もあった",null,null,3,"興味はあるが、実施対象には入らない",null,null,{"$f":"COUNTIFS(①会場アンケート集計結果_省エネ住宅!W$11:W$2010,1,①会場アンケート集計結果_省エネ住宅!AH$11:AH$2010,1,①会場アンケート集計結果_省エネ住宅!$BI$11:$BI$2010,0)","v":0}]
[null,null,null,3,"内容は知っていたが、興味はなかった",null,null,4,"興味がない",null,null,{"$f":"COUNTIFS(①会場アンケート集計結果_省エネ住宅!X$11:X$2010,1,①会場アンケート集計結果_省エネ住宅!AI$11:AI$2010,1,①会場アンケート集計結果_省エネ住宅!$BI$11:$BI$2010,0)","v":0}]
[null,null,null,4,"知らなかった",null,null,4,"興味がない",null,null,{"$f":"COUNTIFS(①会場アンケート集計結果_省エネ住宅!Y$11:Y$2010,1,①会場アンケート集計結果_省エネ住宅!AI$11:AI$2010,1,①会場アンケート集計結果_省エネ住宅!$BI$11:$BI$2010,0)","v":0}]
[null,"マイナス変容",null,2,"内容を知っていて、興味もあった",null,null,4,"興味がない",null,null,{"$f":"COUNTIFS(①会場アンケート集計結果_省エネ住宅!W$11:W$2010,1,①会場アンケート集計結果_省エネ住宅!AI$11:AI$2010,1,①会場アンケート集計結果_省エネ住宅!$BI$11:$BI$2010,0)","v":0}]
[null,"<無効回答>\n回答に矛盾があるため除外",null,1,"すでに実施したことがある",null,null,2,"機会があれば実施したい",null,null,{"$f":"COUNTIFS(①会場アンケート集計結果_省エネ住宅!V$11:V$2010,1,①会場アンケート集計結果_省エネ住宅!AG$11:AG$2010,1,①会場アンケート集計結果_省エネ住宅!$BI$11:$BI$2010,0)","v":0}]
[null,null,null,1,"すでに実施したことがある",null,null,3,"興味はあるが、実施対象には入らない",null,null,{"$f":"COUNTIFS(①会場アンケート集計結果_省エネ住宅!V$11:V$2010,1,①会場アンケート集計結果_省エネ住宅!AH$11:AH$2010,1,①会場アンケート集計結果_省エネ住宅!$BI$11:$BI$2010,0)","v":0}]
[null,null,null,1,"すでに実施したことがある",null,null,4,"興味がない",null,null,{"$f":"COUNTIFS(①会場アンケート集計結果_省エネ住宅!V$11:V$2010,1,①会場アンケート集計結果_省エネ住宅!AI$11:AI$2010,1,①会場アンケート集計結果_省エネ住宅!$BI$11:$BI$2010,0)","v":0}]
[null,"＜無効回答＞\n対象外（一部未回答など）",null,99,"未回答",null,null,2,"機会があれば実施したい",null,null,{"$f":"COUNTIFS(①会場アンケート集計結果_省エネ住宅!Z$11:Z$2010,1,①会場アンケート集計結果_省エネ住宅!AG$11:AG$2010,1,①会場アンケート集計結果_省エネ住宅!$BI$11:$BI$2010,0)","v":0}]
[null,null,null,99,"未回答",null,null,3,"興味はあるが、実施対象には入らない",null,null,{"$f":"COUNTIFS(①会場アンケート集計結果_省エネ住宅!Z$11:Z$2010,1,①会場アンケート集計結果_省エネ住宅!AH$11:AH$2010,1,①会場アンケート集計結果_省エネ住宅!$BI$11:$BI$2010,0)","v":0}]
[null,null,null,99,"未回答",null,null,4,"興味がない",null,null,{"$f":"COUNTIFS(①会場アンケート集計結果_省エネ住宅!Z$11:Z$2010,1,①会場アンケート集計結果_省エネ住宅!AI$11:AI$2010,1,①会場アンケート集計結果_省エネ住宅!$BI$11:$BI$2010,0)","v":0}]
[null,null,null,99,"未回答",null,null,99,"未回答",null,null,{"$f":"COUNTIFS(①会場アンケート集計結果_省エネ住宅!Z$11:Z$2010,1,①会場アンケート集計結果_省エネ住宅!AJ$11:AJ$2010,1,①会場アンケート集計結果_省エネ住宅!$BI$11:$BI$2010,0)","v":0}]
[null,null,null,2,"内容を知っていて、興味もあった",null,null,99,"未回答",null,null,{"$f":"COUNTIFS(①会場アンケート集計結果_省エネ住宅!W$11:W$2010,1,①会場アンケート集計結果_省エネ住宅!AJ$11:AJ$2010,1,①会場アンケート集計結果_省エネ住宅!$BI$11:$BI$2010,0)","v":0}]
[null,null,null,3,"内容は知っていたが、興味はなかった",null,null,99,"未回答",null,null,{"$f":"COUNTIFS(①会場アンケート集計結果_省エネ住宅!X$11:X$2010,1,①会場アンケート集計結果_省エネ住宅!AJ$11:AJ$2010,1,①会場アンケート集計結果_省エネ住宅!$BI$11:$BI$2010,0)","v":0}]
[null,null,null,4,"知らなかった",null,null,99,"未回答",null,null,{"$f":"COUNTIFS(①会場アンケート集計結果_省エネ住宅!Y$11:Y$2010,1,①会場アンケート集計結果_省エネ住宅!AJ$11:AJ$2010,1,①会場アンケート集計結果_省エネ住宅!$BI$11:$BI$2010,0)","v":0}]
[null,null,null,null,null,null,null,null,null,null,"＜検算用＞"]
[null,null,null,null,null,null,null,null,null,null,"有効回答⇒",{"$f":"SUM(L171:L185)","v":0}]
[null,null,null,null,null,null,null,null,null,null,"無効回答（矛盾）⇒",{"$f":"SUM(L186:L188)","v":0}]
[null,null,null,null,null,null,null,null,null,null,"無効回答（一部未回答）⇒",{"$f":"SUM(L189:L195)","v":0}]
[null,null,null,null,null,null,null,null,null,null,"無効回答（複数回答）⇒",{"$f":"COUNTIFS(①会場アンケート集計結果_省エネ住宅!$BI$11:$BI$2010,1)","v":0}]
[null,null,null,null,null,null,null,null,null,null,"アンケート回収数⇒",{"$f":"SUM(L197:L200)","v":0}]

{"sheet":"参照⇒","index":5,"n_rows":0,"n_cols":0,"rows_kept":0,"cut":false,"hidden":false,"merged":[]}

{"sheet":"③読み替え表_省エネ住宅","index":6,"n_rows":64,"n_cols":7,"rows_kept":64,"cut":false,"hidden":false,"merged":[]}
[]
[]
[null,"◆","今後3年以内の稲の購入/リフォームの実施以降・予定"]
[null,null,"フラグ","読み替え"]
[null,null,1,"今後3年以内に購入・実施を予定している"]
[null,null,2,"予定はないが、いつか購入・実施したい"]
[null,null,3,"予定はなく、購入・実施意向もない"]
[null,null,99,"未回答"]
[]
[]
[]
[null,"◆","イベント前、下記の省エネ住宅について興味があったか"]
[null,null,"フラグ","読み替え"]
[null,null,1,"すでに購入した／実施したことがある"]
[null,null,2,"内容を知っていて、興味もあった"]
[null,null,3,"内容は知っていたが、興味はなかった"]
[null,null,4,"知らなかった"]
[null,null,99,"未回答"]
[]
[]
[]
[]
[null,"◆","今後、ZEHを購入/省エネリフォームを実施したいと思うか"]
[null,null,"フラグ","読み替え"]
[null,null,1,"すでに購入した/実施したことがある"]
[null,null,2,"機会があれば購入・実施したい"]
[null,null,3,"興味はあるが、購入・実施対象には入らない"]
[null,null,4,"興味がない"]
[null,null,99,"未回答"]
[]
[]
[]
[]
[]
[null,"◆","なぜ、ZEH/省エネリフォームに興味を持ったか"]
[null,null,"フラグ","読み替え"]
[null,null,1,"CO2削減に貢献するため"]
[null,null,2,"光熱費が安くなるほど経済的なメリットが期待できるため"]
[null,null,3,"住環境が快適になるため"]
[null,null,4,"疾患のリスクの軽減が期待できるため"]
[null,null,5,"その他"]
[null,null,99,"未回答"]
[]
[]
[]
[null,"◆","無効回答の定義：回答に矛盾があるため除外"]
[null,null,"Q2の回答","読み替え","Q3の回答","読み替え","エラー参照用フラグ"]
[null,null,1,"すでに購入した／実施したことがある",2,"機会があれば購入・実施したい","1/2"]
[null,null,1,"すでに購入した／実施したことがある",3,"興味はあるが、購入・実施対象には入らない","1/3"]
[null,null,1,"すでに購入した／実施したことがある",4,"興味がない","1/4"]
[null,null,99,"未回答",2,"機会があれば購入・実施したい","99/2"]
[null,null,99,"未回答",3,"興味はあるが、購入・実施対象には入らない","99/3"]
[null,null,99,"未回答",4,"興味がない","99/4"]
[null,null,99,"未回答",99,"未回答","99/99"]
[null,null,2,"内容を知っていて、興味もあった",99,"未回答","2/99"]
[null,null,3,"内容は知っていたが、興味はなかった",99,"未回答","3/99"]
[null,null,4,"知らなかった",99,"未回答","4/99"]
[]
[]
[]
[null,"◆","アンケート配布状況オプション"]
[null,null,"普及啓発活動の実施前"]
[null,null,"普及啓発活動の実施直後"]
[null,null,"普及啓発活動実施の数日後"]